{"text_format":"1","workbook":"xlsx","n_sheets":8,"sheets":["III Tool Overview","Notes ","Calculations","Baseline_Data_2012","Prevalence","LookUpData_Pop","Targeting","RII"],"not_rendered":{"charts":0,"images":1,"macros":1,"external_links":0,"defined_names":5,"comments":3,"pivot_tables":0},"unopened":[],"bounds":{"document_bytes":16777216,"sheet_cells":100000,"rows_first":2000,"rows_last":500,"rows_between":2000,"halvings":0,"cell_chars":16384,"cell_head_chars":4096},"cells_cut":0,"cells_raw":0,"read":"whole","date_system":"1900"}

{"sheet":"III Tool Overview","index":0,"n_rows":51,"n_cols":29,"rows_kept":51,"cut":false,"hidden":false,"merged":[[39,3,39,9],[1,2,1,9],[14,2,14,3],[9,8,9,9],[2,2,3,9]]}
[]
[null,null,"Informing Investment to tackle health Inequalities in Scotland (III) - Tobacco Tax"]
[null,null,"What is the nature of the intervention?  An increase of 10% on the price of tobacco products.  The model assumes that the tax affects 80% of all smokers (the total number of smokers, excluding those who can avoid the tax through purchasing untaxed or low-taxed tobacco) and that price elasticity does not vary between social groups."]
[null,null,null,null,null,null,null,null,null,null,null,null,null,null,null,null,null,null,null,null,null,null,null,null,"Geographies"]
[null,null,null,null,null,null,null,null,null,null,null,null,null,null,null,null,null,null,null,null,null,null,null,null,"Scotland",null,null,null,"Orkney Health Board"]
[null,null,null,null,null,null,"Geography","Orkney Health Board",null,null,null,null,null,null,null,null,null,null,null,null,null,null,null,null,"Ayrshire & Arran Health Board",null,null,null,"Shetland Health Board"]
[null,null,null,null,null,null,"Intervention","Tobacco taxation",null,null,null,null,null,null,null,null,null,null,null,null,null,null,null,null,"Borders Health Board",null,null,null,"Orkney Islands Local Authority"]
[null,null,null,null,null,null,"Number of people affected by tobacco tax",{"$f":"D22","v":2864.3681818181822},"This changes with the geography chosen.",null,null,null,null,null,null,null,null,null,null,null,null,null,null,null,"Dumfries & Galloway Health Board",null,null,null,"Shetland Islands Local Authority"]
[null,null,null,null,null,null,"Number treated at baseline",0,null,null,null,null,null,null,null,null,null,null,null,null,null,null,null,null,"Fife Health Board"]
[null,null,null,null,null,null,"Targeting strategy","No variation in price elasticity","We assume this is fixed.",null,null,null,null,null,null,null,null,null,null,null,null,null,null,null,"Forth Valley Health Board"]
[null,null,null,null,null,null,"Total direct cost of intervention (£m, 2012 prices)",{"$f":"(H8*D31)/1000000","v":0},null,null,null,null,null,null,null,null,null,null,null,null,null,null,null,null,"Grampian Health Board"]
[null,null,null,null,null,null,null,null,null,null,null,null,null,null,null,null,null,null,null,null,null,null,null,null,"Greater Glasgow & Clyde Health Board"]
[null,null,null,null,null,null,null,null,null,null,null,null,null,null,null,null,null,null,null,null,null,null,null,null,"Highland Health Board"]
[null,null,null,null,null,null,null,null,null,null,null,null,null,null,null,null,null,null,null,null,null,null,null,null,"Lanarkshire Health Board"]
[null,null,"Baseline Information: Tobacco Tax",null,null,null,"Model Outcomes (whole population)","2 years","10 years","20 years",null,null,null,null,null,null,null,null,null,null,null,null,null,null,"Lothian Health Board"]
[null,null,"Baseline year",{"$f":"Calculations!C1","v":2012},null,null,null,null,null,null,null,null,null,null,null,null,null,null,null,null,null,null,null,null,"Orkney Health Board"]
[null,null,"Age group","16+",null,null,"Years of life gained",{"$f":"Calculations!S86+Calculations!S107+Calculations!S129+Calculations!S150+Calculations!S172+Calculations!S193+Calculations!S215+Calculations!S236+Calculations!S258+Calculations!S279","v":5.1019029905897977},{"$f":"Calculations!Y86+Calculations!Y107+Calculations!Y129+Calculations!Y150+Calculations!Y172+Calculations!Y193+Calculations!Y215+Calculations!Y236+Calculations!Y258+Calculations!Y279","v":40.497136612949021},{"$f":"Calculations!AB86+Calculations!AB107+Calculations!AB129+Calculations!AB150+Calculations!AB172+Calculations!AB193+Calculations!AB215+Calculations!AB236+Calculations!AB258+Calculations!AB279","v":73.101949614106445},null,null,null,null,null,null,null,null,null,null,null,null,null,null,"Shetland Health Board"]
[null,null,"Number of smokers in population",{"$f":"HLOOKUP('III Tool Overview'!$H$6,Baseline_Data_2012!$B$2:$AV$281,Baseline_Data_2012!AW273,FALSE)","v":3580.4602272727275},null,null,"Continuous inpatient stays prevented",{"$f":"Calculations!AE86+Calculations!AE107+Calculations!AE129+Calculations!AE150+Calculations!AE172+Calculations!AE193+Calculations!AE215+Calculations!AE236+Calculations!AE258+Calculations!AE279","v":2.9555824227589444},{"$f":"Calculations!AK86+Calculations!AK107+Calculations!AK129+Calculations!AK150+Calculations!AK172+Calculations!AK193+Calculations!AK215+Calculations!AK236+Calculations!AK258+Calculations!AK279","v":23.970764630871692},{"$f":"Calculations!AN86+Calculations!AN107+Calculations!AN129+Calculations!AN150+Calculations!AN172+Calculations!AN193+Calculations!AN215+Calculations!AN236+Calculations!AN258+Calculations!AN279","v":44.044492872552169},null,null,null,null,null,null,null,null,null,null,null,null,null,null,"Tayside Health Board"]
[null,null,"Of which, Q1 only:",{"$f":"HLOOKUP('III Tool Overview'!$H$6,Baseline_Data_2012!$B$2:$AV$281,Baseline_Data_2012!AW274,FALSE)","v":0},null,null,null,null,null,null,null,null,null,null,null,null,null,null,null,null,null,null,null,null,"Western Isles Health Board"]
[null,null,"Of which, Q1 & Q2:",{"$f":"HLOOKUP('III Tool Overview'!$H$6,Baseline_Data_2012!$B$2:$AV$281,Baseline_Data_2012!AW275,FALSE)","v":983.68749999999989},null,null,"Model Outcomes (Quintiles 1 & 2)","2 years","10 years","20 years",null,null,null,null,null,null,null,null,null,null,null,null,null,null,"Aberdeen City Local Authority"]
[null,null,null,null,null,null,"Years of life gained",{"$f":"Calculations!S86+Calculations!S107+Calculations!S129+Calculations!S150","v":1.6991977834774374},{"$f":"Calculations!Y86+Calculations!Y107+Calculations!Y129+Calculations!Y150","v":12.65177137095305},{"$f":"Calculations!AB86+Calculations!AB107+Calculations!AB129+Calculations!AB150","v":21.728528589441318},null,null,null,null,null,null,null,null,null,null,null,null,null,null,"Aberdeenshire Local Authority"]
[null,null,"Number of smokers affected by tax",{"$f":"HLOOKUP('III Tool Overview'!$H$6,Baseline_Data_2012!$B$2:$AV$281,Baseline_Data_2012!AW278,FALSE)","v":2864.3681818181822},null,null,"Continuous inpatient stays prevented",{"$f":"Calculations!AE86+Calculations!AE107+Calculations!AE129+Calculations!AE150","v":0.94730313412065215},{"$f":"Calculations!AK86+Calculations!AK107+Calculations!AK129+Calculations!AK150","v":7.2188162078976603},{"$f":"Calculations!AN86+Calculations!AN107+Calculations!AN129+Calculations!AN150","v":12.63992906842487},null,null,null,null,null,null,null,null,null,null,null,null,null,null,"Angus Local Authority"]
[null,null,"Of which, Q1 only:",{"$f":"HLOOKUP('III Tool Overview'!$H$6,Baseline_Data_2012!$B$2:$AV$281,Baseline_Data_2012!AW279,FALSE)","v":0},null,null,null,null,null,null,null,null,null,null,null,null,null,null,null,null,null,null,null,null,"Argyll & Bute Local Authority"]
[null,null,"Of which, Q1 & Q2:",{"$f":"HLOOKUP('III Tool Overview'!$H$6,Baseline_Data_2012!$B$2:$AV$281,Baseline_Data_2012!AW280,FALSE)","v":786.94999999999993},null,null,"Model Outcomes (comparative health inequalities)","2 years","10 years","20 years",null,null,null,null,null,null,null,null,null,null,null,null,null,null,"Clackmannanshire Local Authority"]
[null,null,null,null,null,null,"RII: Years of life lost (without intervention)",{"$f":"RII!H20","v":-0.95537413735198251},{"$f":"RII!H39","v":-1.0610478779019779},{"$f":"RII!H58","v":-1.1547752530801172},null,null,null,null,null,null,null,null,null,null,null,null,null,null,"Dumfries & Galloway Local Authority"]
[null,null,"Annual continuous inpatient stays (2013)",{"$f":"HLOOKUP('III Tool Overview'!$H$6,Baseline_Data_2012!$B$2:$AW$287,Baseline_Data_2012!AW284,FALSE)","v":5624},null,null,"RII: Years of life lost (with intervention)",{"$f":"RII!S20","v":-0.95555099594891413},{"$f":"RII!S39","v":-1.0610362691115749},{"$f":"RII!S58","v":-1.1546614587738442},null,null,null,null,null,null,null,null,null,null,null,null,null,null,"Dundee City Local Authority"]
[null,null,"Of which, Q1 only:",{"$f":"HLOOKUP('III Tool Overview'!$H$6,Baseline_Data_2012!$B$2:$AW$287,Baseline_Data_2012!AW285,FALSE)","v":0},null,null,"RII: years of life lost (difference)",{"$f":"H26-H25","v":-1.7685859693161721E-4},{"$f":"I26-I25","v":1.1608790402961588E-5},1.1379430627300735E-4,null,null,null,null,null,null,null,null,null,null,null,null,null,null,"East Ayrshire Local Authority"]
[null,null,"Of which, Q1 & Q2:",{"$f":"HLOOKUP('III Tool Overview'!$H$6,Baseline_Data_2012!$B$2:$AW$287,Baseline_Data_2012!AW286,FALSE)","v":1342},null,null,"RII: continuous inpatient stays (without intervention)",{"$f":"RII!H77","v":-1.3060550131892963},{"$f":"RII!H96","v":-1.3951289799476108},{"$f":"RII!H115","v":-1.4952848630975044},null,null,null,null,null,null,null,null,null,null,null,null,null,null,"East Dunbartonshire Local Authority"]
[null,null,null,null,null,null,"RII: continuous inpatient stays (with intervention)",{"$f":"RII!S77","v":-1.3062730853064493},{"$f":"RII!S96","v":-1.395211967553474},{"$f":"RII!S115","v":-1.4953007643071361},null,null,null,null,null,null,null,null,null,null,null,null,null,null,"East Lothian Local Authority"]
[null,null,"Direct financial costs of intervention",null,null,null,"RII: continuous inpatient stays (difference)",{"$f":"H29-H28","v":-2.1807211715296759E-4},{"$f":"I29-I28","v":-8.2987605863227287E-5},-1.5901209631685731E-5,null,null,null,null,null,null,null,null,null,null,null,null,null,null,"East Renfrewshire Local Authority"]
[null,null,"Cost per intervention (£, 2012 prices)",0,null,null,null,null,null,null,null,null,null,null,null,null,null,null,null,null,null,null,null,null,"Edinburgh, City of Local Authority"]
[null,null,null,null,null,null,"Direct financial savings","2 years","10 years","20 years",null,null,null,null,null,null,null,null,null,null,null,null,null,null,"Eilean Siar Local Authority"]
[null,null,null,null,null,null,"Reduced continuous inpatient stays (£'000s) - all",{"$f":"SUM(H18*2445)/1000","v":7.2263990236456195},{"$f":"SUM(I18*2445)/1000","v":58.608519522481288},107.68878507339005,null,null,null,null,null,null,null,null,null,null,null,null,null,null,"Falkirk Local Authority"]
[null,null,null,null,null,null,"Reduced continuous inpatient stays (£'000s) - Q 1 & 2",{"$f":"(H22*2445)/1000","v":2.3161561629249947},{"$f":"(I22*2445)/1000","v":17.650005628309781},{"$f":"(J22*2445)/1000","v":30.904626572298806},null,null,null,null,null,null,null,null,null,null,null,null,null,null,"Fife Local Authority"]
[null,null,null,null,null,null,null,null,null,null,null,null,null,null,null,null,null,null,null,null,null,null,null,null,"Glasgow City Local Authority"]
[null,null,null,null,null,null,"How are costs and financial savings estimated?",null,null,null,null,null,null,null,null,null,null,null,null,null,null,null,null,null,"Highland Local Authority"]
[null,null,null,null,null,null,"Direct costs associated with introduction of a tobacco tax are assumed to be zero.",null,null,null,null,null,null,null,null,null,null,null,null,null,null,null,null,null,"Inverclyde Local Authority"]
[null,null,null,null,null,null,"Geue et al. (2012) estimated the cost of a continuous inpatient stay at £2113 in 2006/07 - this has been adjusted to 2012/13 prices.",null,null,null,null,null,null,null,null,null,null,null,null,null,null,null,null,null,"Midlothian Local Authority"]
[null,null,null,null,null,null,null,null,null,null,null,null,null,null,null,null,null,null,null,null,null,null,null,null,"Moray Local Authority"]
[null,null,null,null,null,null,null,null,null,null,null,null,null,null,null,null,null,null,null,null,null,null,null,null,"North Ayrshire Local Authority"]
[null,null,null,null,null,null,null,null,null,null,null,null,null,null,null,null,null,null,null,null,null,null,null,null,"North Lanarkshire Local Authority"]
[null,null,null,null,null,null,null,null,null,null,null,null,null,null,null,null,null,null,null,null,null,null,null,null,"Orkney Islands Local Authority"]
[null,null,null,null,null,null,null,null,null,null,null,null,null,null,null,null,null,null,null,null,null,null,null,null,"Perth & Kinross Local Authority"]
[null,null,null,null,null,null,null,null,null,null,null,null,null,null,null,null,null,null,null,null,null,null,null,null,"Renfrewshire Local Authority"]
[null,null,null,null,null,null,null,null,null,null,null,null,null,null,null,null,null,null,null,null,null,null,null,null,"Scottish Borders Local Authority"]
[null,null,null,null,null,null,null,null,null,null,null,null,null,null,null,null,null,null,null,null,null,null,null,null,"Shetland Islands Local Authority"]
[null,null,null,null,null,null,null,null,null,null,null,null,null,null,null,null,null,null,null,null,null,null,null,null,"South Ayrshire Local Authority"]
[null,null,null,null,null,null,null,null,null,null,null,null,null,null,null,null,null,null,null,null,null,null,null,null,"South Lanarkshire Local Authority"]
[null,null,null,null,null,null,null,null,null,null,null,null,null,null,null,null,null,null,null,null,null,null,null,null,"Stirling Local Authority"]
[null,null,null,null,null,null,null,null,null,null,null,null,null,null,null,null,null,null,null,null,null,null,null,null,"West Dunbartonshire Local Authority"]
[null,null,null,null,null,null,null,null,null,null,null,null,null,null,null,null,null,null,null,null,null,null,null,null,"West Lothian Local Authority"]

{"sheet":"Notes ","index":1,"n_rows":8,"n_cols":2,"rows_kept":8,"cut":false,"hidden":false,"merged":[]}
["Worksheet name","What it does"]
["III Tool Overview","• Gives the nature of the intervention (e.g. smoking cessation, changes in income distribution) and relevant baseline information (size of the target population, maximum number who might feasibly gain, hospitalisation data).  Where appropriate it also provides cost per intervention and historic statistics on service provision. \n• Allows users to modify inputs (e.g. the geography being targeted, and where appropriate, the number of interventions and targeting strategy).\n• Reports on key outcomes: years of life gained and hospitalisations prevented due to the intervention; and changes in the relative index of inequality (for years of life lost and hospitalisations).\n"]
["Calculations","Based on user inputs, the prevalence and population data in this workbook, and macros that run behind the scenes (incorporating assumptions about mortality, hospitalisations and the impact of interventions), this sheet calculates years of life lost and hospitalisations before and after the intervention, and the difference between the two scenarios."]
["Targeting","Provides the background information for allocating the total number of interventions by age group, sex and deprivation quintile.  For the tobacco tax model the interventions are assumed to affect 80% of smokers in each age group/sex/SIMD quintile."]
["Baseline_Data_2012","Provides baseline data on the size of the target population, maximum number who might feasibly gain, hospitalisation data and historic statistics on service provision where available.  \nThe size of the target population is calculated for Scotland by applying age/sex/SIMD decile prevalence rates (e.g. for smoking) to the age/sex/SIMD distribution of the total population.  Local estimates are derived by weighting national age/sex/SIMD decile prevalence rates by the difference between local and national prevalence rates (separately for men and women).\nThe number who might feasibly gain (as a proportion of the target population) varies between information – see commentary for more details.\n"]
["Prevalence","Provides national and local prevalence rates of the at risk population by age/sex/SIMD decile, used in the calculations and baseline data.  National estimates come from relevant national surveys (see commentary).  Local estimates are derived by weighting national age/sex/SIMD decile prevalence rates by the difference between local and national prevalence rates (separately for men and women).\nPlease note:\nFor nine local authority areas the sample size was not considered large enough to produce robust results for hazardous/harmful drinking and obesity. As a second-best solution, and for completeness, we used prevalence rates for ‘aggregate geographies’ for these local authorities.  These aggregate areas combined results from the relevant local authority with a second local authority defined as most similar to it according to the ONS 2001 Census classification.  The aggregate geographies were as follows:\n• Argyll & Bute Local Authority: Argyll & Bute & Perth & Kinross \n• Clackmannanshire Local Authority: Clackmannanshire & Falkirk \n• East Dunbartonshire Local Authority: East Renfrewshire & East Dunbartonshire\n• East Lothian Local Authority: East Lothian & Midlothian\n• East Renfrewshire Local Authority: East Renfrewshire & East Dunbartonshire\n• Inverclyde Local Authority: West Dunbartonshire & Inverclyde\n• Midlothian Local Authority: East Lothian & Midlothian\n• Stirling Local Authority: Stirling & Perth & Kinross \n• West Dunbartonshire Local Authority: West Dunbartonshire & Inverclyde\nUsers should note that the prevalence estimates shown are indicative only and included to inform modelling at a local level.  As such, they should not be considered as representative of the ‘true’ prevalence of obesity and/or hazardous or harmful drinking for individual local authorities within each aggregate geography.\n\nUsers should note that the prevalence estimates shown are indicative only and included to inform modelling at a local level.  As such, they should not be considered as representative of the ‘true’ prevalence of obesity and/or hazardous or harmful drinking for individual local authorities within each aggregate geography. \n"]
["LookUpData_Pop","Provides aggregate five-year population data by age/sex/SIMD quintile for 2007-2011, used to calculate the before and after impact of interventions.  Five years of data was used to improve robustness of results and avoid disclosure issues."]
["RII","Calculates the Relative Index of Inequality for the III Tool Overview page.  \nFor more information on measuring inequalities in health, please see:    \nhttp://www.scotpho.org.uk/downloads/scotphoreports/scotpho071009_measuringinequalities_rep.pdf\n\n"]

{"sheet":"Calculations","index":2,"n_rows":279,"n_cols":44,"rows_kept":279,"cut":false,"hidden":false,"merged":[]}
["USING Scotland AS EXAMPLE. NEED TO ADD LOOKUP FOR MORTALITY WHEN UPDATE","YEAR START",2012,"AGE GROUP","16+",null,null,null,"Cumulative incidence: years 2, 5, 10 and 20",null,null,null,null,null,null,null,"Years of life lost: years 2,5,10 and 20",null,null,null,null,null,null,null,null,null,null,null,"Hospitalisations: years 2,5,10 and 20",null,null,null,null,null,null,null,null,null,null,null,null,"LE Calculation"]
["Population Group","mid-age","Sex","SIMD","Prevalence exposure (smokers)","Population aged 16+ 2007-11","Number treated at base","Additional number treated under policy","Baseline-2","Policy-2","Baseline-5","Policy-5","Baseline-10","Policy-10","Baseline-20","Policy-20","Baseline-2","Policy-2","Diff YLL-2","Baseline-5","Policy-5","Diff YLL-5","Baseline-10","Policy-10","Diff YLL-10","Baseline-20","Policy-20","Diff YLL-20","Baseline-2","Policy-2","Diff hosp-2 years","Baseline-5","Policy-5","Diff hosp - 5 years","Baseline-10","Policy-10","Diff hosp - 10 years","Baseline-20","Policy-20","Diff hosp - 20 years",null,"Ax","Width of interval","LE"]
["All, by SIMD"]
["Total",null,null,null,null,{"$f":"SUM(F5:F9)","v":17012.8},{"$f":"SUM(G5:G9)","v":0},{"$f":"SUM(H5:H9)","v":2864.3681818181822},{"$f":"SUM(I5:I9)","v":172.79274611735809},{"$f":"SUM(J5:J9)","v":172.63690577227209},{"$f":"SUM(K5:K9)","v":710.64080622895665},{"$f":"SUM(L5:L9)","v":710.06417200261888},{"$f":"SUM(M5:M9)","v":1668.5172622681314},{"$f":"SUM(N5:N9)","v":1667.3471216314847},{"$f":"SUM(O5:O9)","v":3777.9751179958707},{"$f":"SUM(P5:P9)","v":3775.9349849817872},{"$f":"SUM(Q5:Q9)","v":4510.8956739765417},{"$f":"SUM(R5:R9)","v":4505.7937709859516},{"$f":"SUM(S5:S9)","v":5.1019029905897977},{"$f":"SUM(T5:T9)","v":18004.282557935399},{"$f":"SUM(U5:U9)","v":17984.854977275194},{"$f":"SUM(V5:V9)","v":19.427580660211788},{"$f":"SUM(W5:W9)","v":40167.09395139094},{"$f":"SUM(X5:X9)","v":40126.596814777986},{"$f":"SUM(Y5:Y9)","v":40.497136612949021},{"$f":"SUM(Z5:Z9)","v":81746.854365308027},{"$f":"SUM(AA5:AA9)","v":81673.752415693918},{"$f":"SUM(AB5:AB9)","v":73.101949614106445},{"$f":"SUM(AC5:AC9)","v":4122.5909014857589},{"$f":"SUM(AD5:AD9)","v":4119.6353190629998},{"$f":"SUM(AE5:AE9)","v":2.955582422758944},{"$f":"SUM(AF5:AF9)","v":16756.368779026532},{"$f":"SUM(AG5:AG9)","v":16745.017372629165},11.351406397370067,{"$f":"SUM(AI5:AI9)","v":38617.369573090647},{"$f":"SUM(AJ5:AJ9)","v":38593.398808459773},{"$f":"SUM(AK5:AK9)","v":23.970764630871692},{"$f":"SUM(AL5:AL9)","v":84583.478334979372},{"$f":"SUM(AM5:AM9)","v":84539.433842106824},{"$f":"SUM(AN5:AN9)","v":44.044492872552169}]
["Q 1","n/a","both",1,{"$f":"HLOOKUP('III Tool Overview'!$H$6,Prevalence!$B$2:$AV$268,Prevalence!AW3,FALSE)","v":0},{"$f":"F12+F19","v":0},{"$f":"G12+G19","v":0},{"$f":"H12+H19","v":0},{"$f":"I12+I19","v":0},0,0,0,0,0,0,0,0,0,{"$f":"S12+S19","v":0},0,0,0,0,0,0,0,0,0,0,0,0,0,0,{"$f":"AH12+AH19","v":0},0,0,0,0,0,0]
["Q 2","n/a","both",2,{"$f":"HLOOKUP('III Tool Overview'!$H$6,Prevalence!$B$2:$AV$268,Prevalence!AW4,FALSE)","v":0},{"$f":"F13+F20","v":3661.2},{"$f":"G13+G20","v":0},786.95,{"$f":"I13+I20","v":50.930146689002697},50.875177770722019,205.31162585219604,205.11940467184252,467.17964372122651,466.81502755082334,1001.0222664228361,1000.4467658133519,1302.43832307913,1300.7391252956527,1.6991977834774374,5135.1274696172113,5128.8348345003697,6.2926351168412644,11256.005503658449,11243.353732287498,12.65177137095305,22298.02161728713,22276.29308869769,21.728528589441318,1082.4210661766747,1081.4737630425543,0.94730313412065215,4353.3513125483769,4349.8126172462944,{"$f":"AH13+AH20","v":3.5386953020842533},9864.8875017126138,9857.6686855047155,7.2188162078976603,20941.801956390285,20929.162027321858,12.63992906842487]
["Q 3","n/a","both",3,{"$f":"HLOOKUP('III Tool Overview'!$H$6,Prevalence!$B$2:$AV$268,Prevalence!AW5,FALSE)","v":0},{"$f":"F14+F21","v":3573.5999999999995},0,507.74181818181819,{"$f":"I14+I21","v":40.946281591960883},40.91404670823281,167.69943267098131,167.58170692039999,390.87921861195252,390.64721992638817,872.07313380812593,871.69098560280781,1051.5656470726415,1050.5497278226917,1.0159192499497278,4185.0297588841604,4181.2052191491803,3.8245397349800214,9295.3655892929419,9287.5373833192007,7.8282059737389114,18778.076239356309,18764.344430781886,13.731808574425473,917.74365836117113,917.18143448733963,0.5622238738312495,3719.8891267343997,3717.7551331473715,{"$f":"AH14+AH21","v":2.1339935870281863},8532.6920523840763,8528.2750944260479,4.4169579580306362,18509.769686967276,18501.928888377312,7.8407985899685713]
["Q 4","n/a","both",4,{"$f":"HLOOKUP('III Tool Overview'!$H$6,Prevalence!$B$2:$AV$268,Prevalence!AW6,FALSE)","v":0},{"$f":"F15+F22","v":9249},0,1527.6181818181822,{"$f":"I15+I22","v":77.698818321604932},77.631293376960144,324.04033905530855,323.77828756016891,777.17561424063069,776.6131388139645,1823.4796244293293,1822.4217567725059,2072.4521397403687,2070.1111434140612,2.3409963263074198,8341.722854748039,8332.597707457142,9.1251472908995481,18833.398664722969,18813.801166221299,19.597498501664603,39011.627539214751,38974.83991873073,36.787620484023421,2020.8426422967236,2019.4303464251138,1.4122958716097251,8264.8229706026195,8259.2808686967019,{"$f":"AH15+AH22","v":5.5421019059177326},19234.662325200468,19222.637875663364,12.024449537106236,42879.635755199124,42856.713027521109,22.922727678007277]
["Q 5","n/a","both",5,{"$f":"HLOOKUP('III Tool Overview'!$H$6,Prevalence!$B$2:$AV$268,Prevalence!AW7,FALSE)","v":0},{"$f":"F16+F23","v":528.99999999999989},0,42.058181818181822,{"$f":"I16+I23","v":3.2174995147895937},3.2163879163571325,13.589408650470826,13.584772850207459,33.282785694321589,33.271735340308716,81.400093335579754,81.375476793121521,84.439564084401496,84.393774453546285,4.5789630855213037E-2,342.40247468599091,342.21721616849993,0.18525851749095534,782.32419371657738,781.90453294998497,0.41966076659245477,1659.128969449835,1658.2749774836188,0.85399196621622053,101.58353465118947,101.54977510799213,3.3759543197317443E-2,418.30536914113645,418.16875353879658,{"$f":"AH16+AH23","v":0.13661560233989523},985.12769379348617,984.81715286564895,0.31054092783716136,2252.2709364226948,2251.6298988865437,0.64103753615145109]
["Males, by SIMD"]
["Males",null,null,null,null,{"$f":"SUM(F12:F16)","v":8323.6},{"$f":"SUM(G12:G16)","v":0},{"$f":"SUM(H12:H16)","v":1963.6100000000004},{"$f":"SUM(I12:I16)","v":89.487315583010485},{"$f":"SUM(J12:J16)","v":89.377832190812072},{"$f":"SUM(K12:K16)","v":367.62037990181972},{"$f":"SUM(L12:L16)","v":367.21250054893119},{"$f":"SUM(M12:M16)","v":862.04494919254046},{"$f":"SUM(N12:N16)","v":861.21353706825482},{"$f":"SUM(O12:O16)","v":1946.0606327907515},{"$f":"SUM(P12:P16)","v":1944.6156568496358},{"$f":"SUM(Q12:Q16)","v":2617.0757090960374},{"$f":"SUM(R12:R16)","v":2613.3262686782095},{"$f":"SUM(S12:S16)","v":3.7494404178278207},{"$f":"SUM(T12:T16)","v":10445.190842544504},{"$f":"SUM(U12:U16)","v":10430.93198192909},{"$f":"SUM(V12:V16)","v":14.258860615413685},{"$f":"SUM(W12:W16)","v":23286.571437468545},{"$f":"SUM(X12:X16)","v":23256.973721447775},{"$f":"SUM(Y12:Y16)","v":29.597716020765386},{"$f":"SUM(Z12:Z16)","v":47199.722988851478},{"$f":"SUM(AA12:AA16)","v":47146.766338516485},{"$f":"SUM(AB12:AB16)","v":52.956650334993981},{"$f":"SUM(AC12:AC16)","v":2012.7879689523731},{"$f":"SUM(AD12:AD16)","v":2010.8444387494137},{"$f":"SUM(AE12:AE16)","v":1.9435302029594603},{"$f":"SUM(AF12:AF16)","v":8219.8008570532038},{"$f":"SUM(AG12:AG16)","v":8212.3396444367227},{"$f":"SUM(AH12:AH16)","v":7.4612126164803403},{"$f":"SUM(AI12:AI16)","v":19089.222471098637},{"$f":"SUM(AJ12:AJ16)","v":19073.494090463813},{"$f":"SUM(AK12:AK16)","v":15.728380634826159},{"$f":"SUM(AL12:AL16)","v":42391.783888003869},{"$f":"SUM(AM12:AM16)","v":42363.068793106984},{"$f":"SUM(AN12:AN16)","v":28.715094896880444},null,null,null,{"$f":"LE(#REF!,AQ25:AQ43,AP25:AP43,19)","v":{"$error":"#VALUE!"}}]
["Q 1","n/a","male",1,{"$f":"HLOOKUP('III Tool Overview'!$H$6,Prevalence!$B$2:$AV$268,Prevalence!AW10,FALSE)","v":0},{"$f":"F86","v":0},{"$f":"G86","v":0},{"$f":"H86","v":0},{"$f":"I86","v":0},{"$f":"J86","v":0},0,0,0,0,0,0,0,0,0,0,0,0,0,0,0,0,0,0,0,0,0,0,0,0,0,0,0,0,0,0,null,null,null,{"$f":"LE(#REF!,AQ66:AQ84,AP66:AP84,19)","v":{"$error":"#VALUE!"}}]
["Q 2","n/a","male",2,{"$f":"HLOOKUP('III Tool Overview'!$H$6,Prevalence!$B$2:$AV$268,Prevalence!AW11,FALSE)","v":0},{"$f":"F129","v":1777.6000000000001},{"$f":"G129","v":0},{"$f":"H129","v":504.05000000000013},{"$f":"I129","v":26.187835965363078},26.151335716420586,105.50286595187379,105.37457431274395,239.85242300355335,239.60932287634705,511.8857717392915,511.50938407526075,748.87755975470793,747.69592261294292,1.1816371417650888,2950.7182466574473,2946.3582190840139,4.3600275734333049,6454.6647761043814,6445.9741089432337,8.690667161149225,12708.682383641077,12693.964213134528,14.718170506549431,525.64323586543276,525.06174134637445,0.58149451905826233,2121.2286866307159,2119.0688857053269,2.1598009253890602,4832.6869525616748,4828.3220512391363,4.36490132253779,10355.842621263471,10348.329505033174,7.513116230297932,null,null,null,{"$f":"LE(#REF!,AQ109:AQ127,AP109:AP127,19)","v":{"$error":"#VALUE!"}}]
["Q 3","n/a","male",3,{"$f":"HLOOKUP('III Tool Overview'!$H$6,Prevalence!$B$2:$AV$268,Prevalence!AW12,FALSE)","v":0},{"$f":"F172","v":1742.8},{"$f":"G172","v":0},{"$f":"H172","v":336.06},20.293172862436073,20.270550450575605,83.168639141792241,83.086152452691948,194.33155019648629,194.17001803512247,436.14365708519222,435.88020678659717,598.48793293363565,597.75027889684418,0.73765403679145836,2387.1038427884673,2384.3390676710846,2.7647751173828183,5317.4925995930489,5311.8724259528817,5.6201736401666311,10763.008032617685,10753.230875060603,9.7771575570846796,441.82769108305513,441.46338494927261,0.3643061337825193,1801.4741726256625,1800.0981068691658,1.3760657564964447,4172.5416134487496,4169.714918795582,2.8266946531682322,9213.447197915888,9208.4923337734708,4.9548641424166959,null,null,null,{"$f":"LE(#REF!,AQ152:AQ170,AP152:AP170,19)","v":{"$error":"#VALUE!"}}]
["Q 4","n/a","male",4,{"$f":"HLOOKUP('III Tool Overview'!$H$6,Prevalence!$B$2:$AV$268,Prevalence!AW13,FALSE)","v":0},{"$f":"F215","v":4548.6000000000004},{"$f":"G215","v":0},{"$f":"H215","v":1097.5000000000002},41.237204740217436,41.187709046083114,171.49223282178949,171.29871018213993,409.6520807633849,409.23369847632534,953.82014204887616,953.03298584222341,1218.670548057059,1216.8756180103614,1.7949300466978135,4900.7237989734231,4893.7310987113042,6.9927002621207173,11043.980590260273,11029.009277310412,14.971312949857307,22743.062493748286,22715.22249159497,27.840002153317133,994.9132303595419,993.93693560776899,0.97629475177308578,4088.4884143841291,4084.6495978790635,3.8388165050660632,9588.7813959265914,9580.4400981801518,8.3412977464404747,21675.047044672203,21659.194804877439,15.852239794758532,null,null,null,{"$f":"LE(#REF!,AQ195:AQ213,AP195:AP213,19)","v":{"$error":"#VALUE!"}}]
["Q 5","n/a","male",5,{"$f":"HLOOKUP('III Tool Overview'!$H$6,Prevalence!$B$2:$AV$268,Prevalence!AW14,FALSE)","v":0},{"$f":"F258","v":254.59999999999997},{"$f":"G258","v":0},{"$f":"H258","v":26.000000000000004},1.7691020149939007,1.7682369777327696,7.456641986364196,7.4530636013553551,18.208895229115871,18.200497680459982,44.21106191739154,44.193080145554589,51.039668350634742,51.004449158061284,3.5219192573460067E-2,206.64495412516519,206.50359646268831,0.14135766247684423,470.43347151084265,470.1179092412504,0.31556226959222489,984.9700788444311,984.3487587263885,0.62132011804273013,50.403811644343257,50.382376845997662,2.1434798345592809E-2,208.6095834126956,208.52305398316679,8.6529429528772628E-2,495.21250916162126,495.01702224894166,0.19548691267966234,1147.4470241523102,1147.0521494229031,0.39487472940728452,null,null,null,{"$f":"LE(#REF!,AQ195:AQ213,AP195:AP213,19)","v":{"$error":"#VALUE!"}}]
["Females, by SIMD"]
["Females",null,null,null,null,{"$f":"SUM(F19:F23)","v":8689.1999999999989},{"$f":"SUM(G19:G23)","v":0},900.75818181818181,83.305430534347607,83.259073581460029,343.02042632713705,342.85167145368769,806.47231307559093,806.13358456322976,1831.9144852051197,1831.3193281321512,1893.8199648805039,1892.4675023077421,1.3524625727619775,7559.0917153908986,7553.9229953460999,5.1687200447981043,16880.522513922388,16869.623093330203,10.899420592183631,34547.131376456542,34526.986077177433,20.145299279112464,2109.802932533386,2108.7908803135861,1.0120522197994841,8536.5679219733302,8532.6777281924406,3.8901937808897267,19528.147101992006,19519.904717995963,8.2423839960455343,42191.694446975496,42176.36504899984,15.329397975671725,null,null,null,{"$f":"LE(#REF!,AQ45:AQ63,AP45:AP63,19)","v":{"$error":"#VALUE!"}}]
["Q 1","n/a","female",1,{"$f":"HLOOKUP('III Tool Overview'!$H$6,Prevalence!$B$2:$AV$268,Prevalence!AW17,FALSE)","v":0},{"$f":"F107","v":0},{"$f":"G107","v":0},{"$f":"H107","v":0},{"$f":"I107","v":0},0,0,{"$f":"L107","v":0},0,0,0,0,0,0,0,0,0,0,0,0,0,0,0,0,0,0,0,0,0,0,0,0,0,0,0,0,null,null,null,{"$f":"LE(#REF!,AQ87:AQ105,AP87:AP105,19)","v":{"$error":"#VALUE!"}}]
["Q 2","n/a","female",2,{"$f":"HLOOKUP('III Tool Overview'!$H$6,Prevalence!$B$2:$AV$268,Prevalence!AW18,FALSE)","v":0},{"$f":"F150","v":1883.6},{"$f":"G150","v":0},{"$f":"H150","v":282.89999999999998},24.742310723639619,24.723842054301436,99.808759900322258,99.744830359098572,227.32722071767316,227.20570467447629,489.13649468354453,488.93738173809123,553.56076332442206,553.04320268270976,0.51756064171234861,2184.4092229597636,2182.4766154163558,1.9326075434079595,4801.3407275540667,4797.3796233442636,3.9611042098038247,9589.3392336460511,9582.3288755631602,7.0103580828918872,556.77783031124204,556.41202169617975,0.36580861506238982,2232.1226259176615,2230.743731540967,1.3788943766951931,5032.200549150939,5029.3466342655802,2.8539148853598704,10585.959335126814,10580.832522288685,5.1268128381269378,null,null,null,{"$f":"LE(#REF!,AQ130:AQ148,AP130:AP148,19)","v":{"$error":"#VALUE!"}}]
["Q 3","n/a","female",3,{"$f":"HLOOKUP('III Tool Overview'!$H$6,Prevalence!$B$2:$AV$268,Prevalence!AW19,FALSE)","v":0},{"$f":"F193","v":1830.7999999999997},{"$f":"G193","v":0},{"$f":"H193","v":171.68181818181822},20.65310872952481,20.643496257657205,84.530793529189069,84.495554467708047,196.54766841546626,196.47720189126571,435.92947672293377,435.81077881621064,453.07771413900576,452.79944892584746,0.27826521315826946,1797.9259160956933,1796.8661514780961,1.0597646175972031,3977.8729896998925,3975.6649573663194,2.2080323335722802,8015.0682067386233,8011.1135557212829,3.9546510173407938,475.91596727811594,475.71804953806708,0.1979177400487302,1918.4149541087374,1917.6570262782059,0.75792783053174162,4360.1504389353267,4358.560175630465,1.590263304862404,9296.3224890513884,9293.4365546038389,2.8859344475518753,null,null,null,{"$f":"LE(#REF!,AQ173:AQ191,AP173:AP191,19)","v":{"$error":"#VALUE!"}}]
["Q 4","n/a","female",4,{"$f":"HLOOKUP('III Tool Overview'!$H$6,Prevalence!$B$2:$AV$268,Prevalence!AW20,FALSE)","v":0},{"$f":"F236","v":4700.3999999999996},{"$f":"G236","v":0},{"$f":"H236","v":430.11818181818188},36.461613581387489,36.44358433087703,152.54810623351909,152.47957737802895,367.52353347724579,367.3794403376391,869.65948238045314,869.38877093028248,853.78159168330956,853.23552540369985,0.5460662796096063,3440.9990557746164,3438.8666087458369,2.1324470287788309,7789.4180744626938,7784.7918889108869,4.6261855518072963,16268.565045466466,16259.617427135761,8.9476183307062911,1025.9294119371816,1025.4934108173447,0.43600111983663936,4176.3345562184904,4174.6312708176383,1.7032854008516694,9645.880929273877,9642.1977774832121,3.6831517906657609,21204.588710526918,21197.518222643674,7.0704878832487452,null,null,null,{"$f":"LE(#REF!,AQ216:AQ234,AP216:AP234,19)","v":{"$error":"#VALUE!"}}]
["Q 5","n/a","female",5,{"$f":"HLOOKUP('III Tool Overview'!$H$6,Prevalence!$B$2:$AV$268,Prevalence!AW21,FALSE)","v":0},{"$f":"F279","v":274.39999999999992},{"$f":"G279","v":0},{"$f":"H279","v":16.058181818181815},1.448397499795693,1.4481509386243632,6.1327666641066294,6.1317092488521041,15.073890465205718,15.071237659848734,37.189031418188222,37.182396647566932,33.399895733766762,33.389325295485008,1.057043828175297E-2,135.75752056082572,135.71361970581162,4.3900855014111118E-2,311.89072220573473,311.78662370873451,0.10409849700022988,674.15889060540394,673.92621875723046,0.2326718481734904,51.179723006846203,51.167398261994478,1.2324744851724634E-2,209.69578572844085,209.64569955562979,5.0086172811122598E-2,489.91518463186492,489.80013061670735,0.11505401515749902,1104.8239122703849,1104.5777494636407,0.24616280674416657,null,null,null,{"$f":"LE(#REF!,AQ259:AQ277,AP259:AP277,19)","v":{"$error":"#VALUE!"}}]
["age/sex breakdown: All"]
["Male <1",0.5,"male","all",null,{"$f":"F66+F109+F152+F195+F238","v":107.80000000000001},null,null,null,null,null,null,null,null,null,null,null,null,null,null,null,null,null,null,null,null,null,null,null,null,null,null,null,null,null,null,null,null,null,null,null,0.1,1]
["Male 1-4",2.5,"male","all",null,{"$f":"F67+F110+F153+F196+F239","v":415.40000000000003},null,null,null,null,null,null,null,null,null,null,null,null,null,null,null,null,null,null,null,null,null,null,null,null,null,null,null,null,null,null,null,null,null,null,null,0.5,4]
["Male 5-9",7.5,"male","all",null,488.20000000000005,null,null,null,null,null,null,null,null,null,null,null,null,null,null,null,null,null,null,null,null,null,null,null,null,null,null,null,null,null,null,null,null,null,null,null,0.5,5]
["Male 10-14",12.5,"male","all",null,648,null,null,null,null,null,null,null,null,null,null,null,null,null,null,null,null,null,null,null,null,null,null,null,null,null,null,null,null,null,null,null,null,null,null,null,0.5,5]
["Male 15-19",17.5,"male","all",0.23,633.79999999999995,{"$f":"G70+G113+G156+G199+G242","v":0},111.26,0.32329099134886075,0.32287589678028972,1.4131029897224239,1.4113023976849688,3.7052228480926797,3.7005684505302572,10.820044209042193,10.806928830303804,26.186570299257717,26.152947639203465,3.3622660054254405E-2,112.23981310268869,112.09678487490656,0.14302822778214397,283.88548258525782,283.52871666241856,0.35676592283921149,760.80738949686304,759.88303037626326,0.92435912059967862,42.407293626224273,42.371951095057383,3.5342531166890678E-2,179.17010114963935,179.02204735361454,0.14805379602483892,442.45384055666051,442.09387110604354,0.35996945061696017,1132.4221539445862,1131.5347325512846,0.88742139330157954,null,0.5,5]
["Male 20-24",22.5,"male","all",0.23,517.6,{"$f":"G71+G114+G157+G200+G243","v":0},128.72,0.35673059054625461,0.35608000975625304,1.5586973661487495,1.55587836267598,4.0838339242794,4.0765637630989398,11.897134761613612,11.876795646339104,27.468255472061607,27.418160751231486,5.0094720830121897E-2,117.56974113278115,117.35708992323808,0.21265120954306083,296.56589945393785,296.03767208243016,0.52822737150769861,789.08583685077224,787.73301207362329,1.3528247771491024,40.066382427475524,40.019009876899986,4.7372550575545347E-2,169.22591057942586,169.02768801827645,0.19822256114944725,417.62439392389797,417.14357694735082,0.48081697654713373,1066.7981087496305,1065.6210786307306,1.1770301188998076,null,0.5,5]
["Male 25-29",27.5,"male","all",0.28000000000000003,481,{"$f":"G72+G115+G158+G201+G244","v":0},156.16,0.51762383184766447,0.51647957286449808,2.2599018618923816,2.2549532227736182,5.9110926579716674,5.898381716369542,17.130945553810037,17.095832145531997,36.751292061184188,36.670049673379374,8.124238780481452E-2,156.90238216256691,156.5587662361871,0.34361592637979932,393.81746770619003,392.97007179340778,0.84739591278229831,1033.8498268218743,1031.7228537976468,2.1269730242275013,46.228940323238568,46.160363883432318,6.8576439806245393E-2,195.11823183100975,194.83185379914988,0.28637803185986455,480.83561478038098,480.14379257764818,0.69182220273282713,1223.0691496126103,1221.3961591767297,1.6729904358806778,null,0.5,5]
["Male 30-34",32.5,"male","all",0.28000000000000003,471,{"$f":"G73+G116+G159+G202+G245","v":0},146.37,0.68043985018647968,0.67905044663978686,2.9684957947608481,2.962497666129507,7.7521894606841206,7.7368406243177823,22.356476384841958,22.314571206735778,45.589469962494142,45.496379924865728,9.3090037628417721E-2,194.22707720599914,193.83457225531725,0.39250495068187075,485.49826463914314,484.53626490590494,0.96199973323823862,1260.2952960820089,1257.9221397800934,2.3731563019152411,52.207752109116662,52.135257630547436,7.2494478569234855E-2,220.20767198056802,219.90549469294814,0.30217728761988472,541.93262246644292,541.20542101692081,0.72720144952214394,1372.9868832926466,1371.2483869759803,1.7384963166662573,null,0.5,5]
["Male 35-39",37.5,"male","all",0.32,591.20000000000005,{"$f":"G74+G117+G160+G203+G246","v":0},162.14000000000001,1.2896287150798837,1.2872859821013085,5.6178157070596324,5.6077418645857184,14.625305104129611,14.599740676518884,41.775810473979689,41.707812886076546,78.667351619872917,78.524444908179802,{"$f":"S74+S117+S160+S203+S246","v":0.14290671169311686},333.87049989003049,333.27169934337002,0.59880054666048288,828.29911316526568,826.84971218990268,1.4494009753629626,2106.2335334655031,2102.7819279402183,3.4516055252848261,79.744432592892736,79.645779610148324,9.86529827444107E-2,335.91510364576607,335.50561394986255,0.40948969590343864,824.48327467756144,823.50630832530908,0.97696635225237216,2072.4582619825587,2070.1825458597182,2.2757161228403149,null,0.5,5]
["Male 40-44",42.5,"male","all",0.32,810.4,{"$f":"G75+G118+G161+G204+G247","v":0},208.76,2.3398759418935215,2.3358984519759809,10.178249771079466,10.161208255030306,26.418519623474783,26.375602407241555,74.773770104297071,74.662311182691724,133.37292868793074,133.14621176263091,0.22671692529984044,564.19893430988839,563.2540829171096,0.94485139277889196,1390.7188784762382,1388.4565098210437,2.2623686551943756,3474.0434925994909,3468.818140951656,5.225351647834934,124.98262228158971,124.83739408268782,0.14522819890189531,525.81556175417427,525.21503555011134,0.60052620406288248,1287.2857248604805,1285.8641578993693,1.421566961111111,3211.6821195709813,3208.4476695932308,3.2344499777512965,null,0.5,5]
["Male 45-49",47.5,"male","all",0.27,819.4,{"$f":"G76+G119+G162+G205+G248","v":0},236.71,3.6456622799074605,3.6384666820168676,15.807457142287483,15.776912580264707,40.756215992820245,40.680783376346348,113.0516641219921,112.86736982873073,185.92877627528048,185.56180078286027,0.36697549242021044,781.4325977404535,779.92211641532754,1.5104813251258875,1901.5972627966723,1898.0697936695144,3.5274691271577083,4585.0152108206103,4577.4220051510756,7.5932056695348251,155.67237152691035,155.46557848777644,0.20679303913391056,653.10864491729455,652.26180586285557,0.84683905443892371,1589.912750393175,1587.9477996318424,1.9649507613323465,3902.5518915903722,3898.3413342557615,4.2105573346114369,null,0.5,5]
["Male 50-54",52.5,"male","all",0.27,754.40000000000009,{"$f":"G77+G120+G163+G206+G249","v":0},218.07000000000002,4.5218534080082735,4.5130018092956226,19.544345264041613,19.507084905612544,50.060316359522211,49.969909921514684,136.1702860181002,135.96125182132306,212.52711017638885,212.11108503689428,0.41602513949456732,888.03663715142864,886.34283111450884,1.6938060369198169,2136.2595865644548,2132.3894993403765,3.8700872240783966,4990.8362847164735,4982.9964329847744,7.839851731699639,165.81168393659843,165.59268381039678,0.21900012620164233,693.72358580900027,692.83459602093626,0.88898978806390261,1679.3786009273715,1677.3528476083038,2.0257533190678387,4057.2284094343545,4053.1171166042932,4.1112928300616147,null,0.5,5]
["Male 55-59",57.5,"male","all",0.23,740.40000000000009,{"$f":"G78+G121+G164+G207+G250","v":0},172.98000000000002,6.8370094640655781,6.8258164032361899,29.354591484642501,29.308456385259859,74.170095012987233,74.062973720407882,194.00319806018658,193.78662807044557,280.31738802668872,279.85847253268383,0.45891549400492604,1157.816647883986,1155.9954080068958,1.8212398770899583,2722.5474845241347,2718.5924267256778,3.9550577984571333,5984.0341051800669,5977.0373993992362,6.9967057808295294,200.67322913257269,200.45599101652897,0.21723811604375598,834.76368186597017,833.90043410629812,0.86324775967202072,1997.7416880363012,1995.8586707196409,1.8830173166603572,4675.5297407024955,4672.1700745474882,3.3596661550075169,null,0.5,5]
["Male 60-64",62.5,"male","all",0.23,744.00000000000011,{"$f":"G79+G122+G165+G208+G251","v":0},163.70000000000002,9.258737882676142,9.2447360652073822,39.494304043116514,39.437599748191396,98.484247356890492,98.357340923662193,248.29923974400236,248.0698694694033,342.5733016590172,342.0552344126732,0.51806724634404766,1399.9844072241319,1397.9719079512245,2.01249927290743,3224.2884541871017,3220.0980397522708,4.1904144348315171,6712.0991149207057,6705.4351715674393,6.6639433532651111,233.24456211378163,233.00868515757205,0.23587695620957927,964.74619821278907,963.82574789244325,0.92045032034579322,2282.9848520162182,2281.0505726259521,1.9342793902661626,5184.055653424628,5180.9654223457819,3.0902310788448659,null,0.5,5]
["Male 65-69",67.5,"male","all",0.19,624.20000000000005,{"$f":"G80+G123+G166+G209+G252","v":0},116.43,11.990176850468025,11.973131140510475,50.465091962765598,50.399481552083778,122.54558008212462,122.41362497109461,288.03334210814097,287.86208212307235,371.69548236450879,371.16706535582477,0.52841700868402519,1486.6381893065452,1484.7003769815999,1.9378123249451349,3284.8645720339928,3281.2589706675608,3.6056013664316282,6165.2487909409838,6160.8369628750524,4.4118280659326388,241.73982047632663,241.51865855931439,0.22116191701227272,988.17590574682708,987.35784095057045,0.8180647962566745,2285.5801366437313,2284.0418086520817,1.5383279916497514,4894.6070362954379,4892.8531307750054,1.7539055204339462,null,0.5,5]
["Male 70-74",72.5,"male","all",0.19,469,0,93.49,{"$f":"I81+I124+I167+I210+I253","v":12.047461391003374},12.029371027855063,50.045407636302947,49.978578010881598,118.48565987155557,118.36229922229562,261.54206754457977,261.41872087896587,325.28145755709107,324.79301775208671,0.48843980500438455,1274.6350287320647,1272.926075565724,{"$f":"V81+V124+V167+V210+V253","v":1.7089531663406774},2709.7282071500313,2706.8180567250402,2.9101504249915706,4643.9971675894267,4640.9672169443065,3.0299506451203655,209.57537539946853,209.3709785449731,0.20439685449542022,846.91812397654746,846.19352828685896,0.72459568968838539,1916.7286850512789,1915.4812227613004,1.2474622899785999,3895.405403403161,3894.318538892212,1.0868645109492405,null,0.5,5]
["Male 75-79",77.5,"male","all",7.1830592194539439E-2,317,0,22.430000000000003,12.122021220891847,12.114225251086589,49.324079441752595,49.298906976173996,112.29281674295001,112.25770319342013,225.29319893129792,225.27811416809783,254.56244563872878,254.39873027281834,0.16371536591042002,961.16813179493852,960.67225060184091,{"$f":"V82+V125+V168+V211+V254","v":0.49588119309765943},1905.8311062352793,1905.17733439065,0.65377184462931837,2778.204099141265,2777.6816801025197,0.5224190387453973,171.43101839756739,171.36391504087206,6.7103356695341176E-2,679.12798711934715,678.92086578778901,0.20712133155808488,1480.5802492134196,1480.3134235117225,0.26682570169703013,2751.4842278221354,2751.3937223510547,9.0505471080405187E-2,null,0.5,5]
["Male 80-84",82.5,"male","all",7.1215670348945201E-2,212.2,0,14.97,10.951887072127912,10.945452608180339,43.438366295389969,43.419348142165177,94.444183216264932,94.422083799916251,171.68711822962979,171.68161603367449,186.18208022617452,186.07269433906578,0.10938588710872921,673.65445652449205,673.35416550349305,{"$f":"V83+V126+V169+V212+V255","v":0.300291020999083},1236.8736569199141,1236.5322545237757,0.34140239613824974,1541.0011301473089,1540.7169740568409,0.28415609046805912,133.49537391994355,133.44597171528346,4.940220466006906E-2,516.81760252693539,516.67818463315439,0.13941789378093006,1081.4548519523773,1081.3061109684049,0.14874098397220337,1845.157385230925,1845.1329504690898,2.4434761835379959E-2,null,0.5,5]
["Male 85-89",87.5,"male","all",7.1296330235196576E-2,105.60000000000001,0,7.76,8.5074478139315666,8.5023043086557291,31.984435319271196,31.972415988550026,63.50257351652958,63.493876544198436,97.400510018004439,97.399937570745422,93.581925953247236,93.525347395213018,5.6578558034221516E-2,305.58453274107205,305.46364224476713,{"$f":"V84+V127+V170+V213+V256","v":0.12089049630489512},467.15169468574629,467.04362708277921,0.10806760296712525,412.34823085057087,412.23018351032704,0.118047340243848,83.417522624648925,83.384222222083039,3.330040256589939E-2,307.48204060665836,307.40747133610074,7.4569270557589107E-2,592.38640514099495,592.33693155584649,4.9473585148433585E-2,870.76288665385687,870.76304295524733,-1.5630139040467839E-4,null,0.5,{"$f":"2/#REF!","v":{"$error":"#REF!"}}]
["Male 90+",95,"female","all",7.0932271103590905E-2,32.4,0,3.6600000000000006,4.0974682790276349,4.0936565346497042,14.166037821585778,14.160134490868025,24.807097422263265,24.805243757321808,31.825826527232824,31.825814987498241,16.38987311611054,16.374626138598817,1.5246977511722992E-2,37.231765641436738,37.210211993579847,2.1553647856892511E-2,18.644306345184766,18.614771115026809,2.9535230157955894E-2,-37.376520772442412,-37.418792994585687,4.2272222143275862E-2,32.089588064017633,32.067998015840288,2.1590048177347221E-2,109.48450533125077,109.4514361957531,3.306913549767998E-2,187.85878045834545,187.84757455607456,1.1205902270887691E-2,235.58457629349201,235.58288712338552,1.6891701065091524E-3]
["Female <1",0.5,"female","all",null,{"$f":"F87+F130+F173+F216+F259","v":100.2},null,null,null,null,null,null,null,null,null,null,null,null,null,null,null,null,null,null,null,null,null,null,null,null,null,null,null,null,null,null,null,null,null,null,null,0.1,1]
["Female 1-4",2.5,"female","all",null,{"$f":"F88+F131+F174+F217+F260","v":402.2},null,null,null,null,null,null,null,null,null,null,null,null,null,null,null,null,null,null,null,null,null,null,null,null,null,null,null,null,null,null,null,null,null,null,null,0.5,4]
["Female 5-9",7.5,"female","all",null,491.8,null,null,null,null,null,null,null,null,null,null,null,null,null,null,null,null,null,null,null,null,null,null,null,null,null,null,null,null,null,null,null,null,null,null,null,0.5,5]
["Female 10-14",12.5,"female","all",null,581.60000000000014,null,null,null,null,null,null,null,null,null,null,null,null,null,null,null,null,null,null,null,null,null,null,null,null,null,null,null,null,null,null,null,null,null,null,null,0.5,5]
["Female 15-19",17.5,"female","all",0.2,628.19999999999993,{"$f":"G91+G134+G177+G220+G263","v":0},44.803636363636365,0.13218058073612646,0.1320972645360253,0.5868846331351627,0.58651721839313098,1.5830768758574258,1.5820983313904449,4.9336985592753999,4.930743830075409,10.706627039626241,10.699878427418048,6.7486122081942268E-3,46.607754277152566,46.578573862436976,2.918041471558408E-2,121.18782354953512,121.11288524102339,7.4938308511735219E-2,345.50834815588763,345.30102166733514,0.20732648855246971,60.799093904025369,60.776471762390209,2.2622141635157966E-2,252.99371953701763,252.90028306910648,9.3436467911111265E-2,608.5741822226214,608.35237557464495,0.22180664797640759,1473.5784138179895,1473.0574393131903,0.52097450479932661,null,0.5,5]
["Female 20-24",22.5,"female","all",0.2,450.40000000000003,{"$f":"G92+G135+G178+G221+G264","v":0},48.038181818181819,0.13290991833810589,0.13278822805742013,0.59002268096769139,0.58948636852434189,1.5909491747808195,1.5895227126805556,4.9520224135747801,4.9477346212219269,10.234063712034155,10.22469356042135,9.3701516128028572E-3,44.496953897293132,44.45650445787971,4.044943941342094E-2,115.42804447734349,115.32450536477974,0.10353911256375481,327.01084914229261,326.72704797272644,0.28380116956611268,48.374729896545951,48.348525793228113,2.6204103317842287E-2,201.26462485904875,201.15646150803974,0.10816335100902519,483.99239165869312,483.73596014306452,0.25643151562862521,1170.8161763421442,1170.2163007325544,0.59987560958990116,null,0.5,5]
["Female 25-29",27.5,"female","all",0.26,468,{"$f":"G93+G136+G179+G222+G265","v":0},64.325454545454548,0.22639795809991256,0.22613457987578009,1.0046439183747387,1.0034845599516125,2.7065980766827629,2.7035226143498501,8.4001379691979228,8.3909756985257697,16.074255025093795,16.055555171180387,1.8699853913405784E-2,69.738346918158427,69.65786149300294,8.0485425155506274E-2,180.13751687357978,179.93271941805082,0.20479745552895956,504.41708019846556,503.8652464986306,0.55183369983503106,58.413990404681108,58.372881274290577,4.1109130390537985E-2,242.95185532985565,242.78237815363084,0.16947717622479797,583.83275465825341,583.43199789101413,0.40075676723933995,1409.3070307855708,1408.376982487641,0.93004829792926813,null,0.5,5]
["Female 30-34",32.5,"female","all",0.26,518.59999999999991,{"$f":"G94+G137+G180+G223+G266","v":0},60.801818181818184,0.34486634144928452,0.34453267785249742,1.5297819141182591,1.5283149774600719,4.1180242079110814,4.1141433312347822,12.745899427834351,12.734442737225098,23.106044877102065,23.083689416117323,2.2355460984736286E-2,100.07264650464074,99.976674548486585,9.597195615416787E-2,257.61059751223752,257.36766562134898,0.24293189088857048,714.54403363207746,713.89935593061421,0.64467770146319481,71.032420315543888,70.990855673573151,4.1564641970749827E-2,295.33990052609994,295.16876310507803,0.17113742102193896,709.25721816625548,708.8536066526575,0.40361151359792657,1708.5980313464213,1707.6689932404965,0.92903810592465419,null,0.5,5]
["Female 35-39",37.5,"female","all",0.27,658.00000000000011,{"$f":"G95+G138+G181+G224+G267","v":0},81.42,0.71341168425063473,0.71269370948709543,3.1618263978057812,3.1586782802292466,8.4950266575919251,8.4867467783045853,26.125496515445207,26.101531998242969,43.518112739288711,43.474316278712827,4.379646057589337E-2,187.86620375866505,187.67912514932794,0.18707860933710441,480.48983961773411,480.02110693277831,0.4687326849558282,1308.6035207811171,1307.3966017637897,1.2069190173275466,104.3054361092718,104.24066401205823,6.4772097213575908E-2,433.36019549921014,433.09423125254875,0.26596424666139384,1039.1038082065377,1038.4801168152003,0.62369139133734919,2491.367641862581,2489.956999217387,1.4106426451940592,null,0.5,5]
["Female 40-44",42.5,"female","all",0.27,795.6,{"$f":"G96+G139+G182+G225+G268","v":0},101.16545454545455,1.1787485569237008,1.1775264754079973,5.2199528895910827,5.2146086875708404,13.999879631026326,13.985905830162137,42.802382397909085,42.762727993870151,67.188667744650928,67.119009098255844,6.9658646395094559E-2,289.2774812440814,288.98126434448358,0.29621689959778053,735.90984992026472,735.17447886751506,0.73537105274969505,1973.8481565475061,1972.0059716766955,1.8421848708105983,137.89471681161891,137.80664217236523,8.8074639253692411E-2,572.51668897110278,572.15602970792168,0.36065926318109121,1370.7957263505023,1369.9547880353566,0.84093831514539374,3272.2428772051098,3270.3740247384844,1.8688524666257393,null,0.5,5]
["Female 45-49",47.5,"female","all",0.26,790.80000000000007,{"$f":"G97+G140+G183+G226+G269","v":0},107.06727272727272,1.9308069279846565,1.9286471579804172,8.5336273603130213,8.5242474357438365,22.789803656534371,22.765644762974073,68.704435378489009,68.639273094661192,98.471153327217479,98.361005057001279,0.11014827021620599,421.72520840969844,421.26152757818909,0.46368083150936812,1061.4443471953552,1060.3170634637327,1.1272837316225157,2760.4383028394777,2757.7859871292694,2.6523157102088533,159.74476680064299,159.63592351631664,0.10884328432637247,662.1223449695683,661.67976225866721,0.44258271090098233,1579.847538469669,1578.8305963777789,1.0169420918902574,3731.8936107422437,3729.7330445757138,2.1605661665296765,null,0.5,5]
["Female 50-54",52.5,"female","all",0.26,765.6,{"$f":"G98+G141+G184+G227+G270","v":0},91.99636363636364,2.6029751604439695,2.6004227069106953,11.481746828159791,11.470731564498458,30.532173246404401,30.50419380039602,90.772187060336805,90.700161774403838,122.33983254086655,122.21986722480267,0.1199653160638845,521.51025374853191,521.00973657710631,0.50051717142555674,1300.2259133977691,1299.0313305886341,1.1945828091350101,3289.7341933810285,3287.0735815915596,2.6606117894684331,171.10043911192142,170.9976158810199,0.10282323090149958,707.99574456639073,707.58034215377438,0.41540241261630939,1683.4451440182613,1682.5034649954107,0.94167902285069971,3935.5325340481218,3933.6128491950999,1.919684853021522,null,0.5,5]
["Female 55-59",57.5,"female","all",0.21,724.80000000000007,{"$f":"G99+G142+G185+G228+G271","v":0},77.689090909090908,4.0308680432892912,4.0271777118758116,17.704089211953132,17.688421449544506,46.645622444280846,46.60722395920461,134.63899278788566,134.55133587647654,165.26558977486096,165.11428618690829,0.15130358795266829,697.97088420413263,697.35276002341993,0.6181241807126856,1707.5664794519839,1706.1540345385099,1.4124449134739478,4090.0497839804511,4087.2803276778832,2.7694563025678036,187.93480560304323,187.83115891033677,0.10364669270643212,774.76527463997616,774.35350954313697,0.4117650968391473,1828.2050771468168,1827.3037287250963,0.90134842172069085,4179.127684201525,4177.4757627185954,1.6519214829298789,null,0.5,5]
["Female 60-64",62.5,"female","all",0.21,724.4,{"$f":"G100+G143+G186+G229+G272","v":0},76.739999999999995,5.6367369884043086,5.6316804960521658,24.645338207722826,24.624201551805339,64.308985438348898,64.25891613967957,180.11206040908161,180.01005263367409,208.55926857095943,208.37217835393014,0.18709021702929807,873.13360960832813,872.38399957153854,0.74961003678962257,2098.4139978975186,2096.7681746072458,1.6458232902730288,4776.5561021087788,4773.6713900144332,2.8847120943467388,208.58267172420545,208.46942939960877,0.11324232459668782,856.55063787353902,856.10784658079376,0.44279129274521267,2005.2891413727432,2004.3514761972986,0.93766517544456462,4481.3176191593848,4479.7624508428071,1.555168316577948,null,0.5,5]
["Female 65-69",67.5,"female","all",0.16,655.4,{"$f":"G101+G144+G187+G230+G273","v":0},58.641818181818181,8.3602179735158479,8.3537432087388783,36.201372188814197,36.175322951566713,92.558218117724536,92.501449850083375,243.82308072525683,243.7353483588266,259.1667571789913,258.96603947090523,0.20071770808607603,1065.6160911762167,1064.8477071313903,0.76838404482627531,2469.3712246647469,2467.8330642877299,1.5381603770170003,5076.1257353912888,5073.9975878607966,2.1281475304920576,219.39672155846191,219.29452906044071,0.10219249802117325,893.34649902103786,892.96214273541148,0.3843562856265379,2056.0701958097784,2055.3195187616911,0.75067704808699176,4382.5377239378231,4381.5568956247098,0.98082831311201346,null,0.5,5]
["Female 70-74",72.5,"female","all",0.16,505.2,0,49.499999999999993,8.9234486038740055,8.916047674175207,38.26642115773052,38.237698180722482,95.892388191232271,95.834512720164767,238.5268438305624,238.45783017885216,240.93311230459813,240.73328720273059,0.19982510186758873,973.64015103128895,972.90689201914608,{"$f":"V102+V145+V188+V231+V274","v":0.73325901214292344},2179.4529955303979,2178.10323292765,1.3497626027476599,4081.592449370723,4080.0313130085283,1.5611363621949295,186.75921349338248,186.66560870999751,9.3604783384989787E-2,754.04403637798362,753.70465586689431,0.33938051108921741,1706.7105578700989,1706.0965089222016,0.6140489478972313,3481.2562688756625,3480.6129506722518,0.64331820341067214,null,0.5,5]
["Female 75-79",77.5,"female","all",0.08,394.8,0,14.863636363636363,11.377983089693608,11.374114864642682,47.847854649231827,47.834253398947631,115.21635776883667,115.19420310883459,256.53604476523697,256.5226696703657,238.93764488356572,238.85641215749629,8.1232726069437433E-2,931.10931640944284,930.84248141407681,{"$f":"V103+V146+V189+V232+V275","v":0.2668349953660254},1938.8384018024367,1938.4391481281061,0.39925367433050951,3006.3447027801512,3005.9911406327856,0.3535621473657784,169.61287120850145,169.57856295582985,3.4308252671586104E-2,672.49399941603178,672.3813406287195,0.11265878731231282,1469.1658814068644,1468.9997821375689,0.16609926929561425,2739.1513792541464,2739.0504495294917,0.10092972465474759,null,0.5,5]
["Female 80-84",82.5,"female","all",0.08,292.19999999999993,0,11.509090909090908,11.637894376041203,11.633670745672553,47.945038018479281,47.931471561437036,110.88631335326095,110.86811686039903,223.17937915024416,223.17344553566275,197.84420439270045,197.77240267643342,7.1801716267032134E-2,742.03829866195326,741.82522222259672,{"$f":"V104+V147+V190+V233+V276","v":0.21307643935656984},1433.9679483433733,1433.6988387329677,0.26910961040550774,1857.1293735836405,1856.8958384188284,0.23353516481188308,138.67406116113656,138.64359451700298,3.0466644133568366E-2,539.76748463963588,539.67607307330729,9.1411566328474692E-2,1139.0082624250861,1138.8963517321515,0.11191069293448663,1962.5175745395691,1962.4735891165701,4.3985422999014645E-2,null,0.5,5]
["Female 85-89",87.5,"female","all",0.08,194.20000000000002,0,7.14,12.452956206248059,12.449099672092759,49.059202020212552,49.049168305185177,104.38743722221588,104.37879701829723,175.03677505771554,175.0360275252398,136.98251826872865,136.94009639302035,4.24218757083068E-2,466.77707186401784,466.67741135355521,{"$f":"V105+V148+V191+V234+V277","v":9.9660510462626917E-2},747.21796184457094,747.12147832577307,9.6483518797896295E-2,621.50282107807038,621.39412115567325,0.10869992239722137,106.70426802151239,106.68338667818114,2.0881343331261348E-2,398.84569271847585,398.79466185073841,5.1030867737480889E-2,782.87531607447033,782.83377144607516,4.1544628395172367E-2,1170.0166042485546,1170.0074196450375,9.1846035169567131E-3,null,0.5,{"$f":"2/#REF!","v":{"$error":"#REF!"}}]
["Female 90+",95,"female","all",0.08,123,0,5.0563636363636357,13.623028125054894,13.618696408102057,49.242624250527165,49.235064962107217,90.761459012901724,90.758586745074226,120.6250487570741,120.62502660482733,54.492112500219577,54.474785632408228,1.7326867811352287E-2,127.51144367729694,127.48525359946404,2.6190077832886516E-2,53.259571843542183,53.223366284360168,3.6205559182011626E-2,-186.27407651441351,-186.33045582211733,5.6379307703810611E-2,80.472726408890694,80.455029996946351,1.7696411944356782E-2,278.20922302835623,278.17924670467158,2.9976323684692829E-2,481.97390613535555,481.96067358875081,1.3232546604783124E-2,602.43327660866316,602.42889734980679,4.3792588563462687E-3]
["age/sex breakdown: Q1"]
["Male <1",0.5,"male",1,null,{"$f":"HLOOKUP('III Tool Overview'!$H$6,LookUpData_Pop!$B$1:$AV$269,LookUpData_Pop!BB67,FALSE)/5","v":0},null,null,null,null,null,null,null,null,null,null,null,null,null,null,null,null,null,null,null,null,null,null,null,null,null,null,null,null,null,null,null,null,null,null,null,0.1,1]
["Male 1-4",2.5,"male",1,null,{"$f":"HLOOKUP('III Tool Overview'!$H$6,LookUpData_Pop!$B$1:$AV$269,LookUpData_Pop!BB68,FALSE)/5","v":0},null,null,null,null,null,null,null,null,null,null,null,null,null,null,null,null,null,null,null,null,null,null,null,null,null,null,null,null,null,null,null,null,null,null,null,0.5,4]
["Male 5-9",7.5,"male",1,null,{"$f":"HLOOKUP('III Tool Overview'!$H$6,LookUpData_Pop!$B$1:$AV$269,LookUpData_Pop!BB69,FALSE)/5","v":0},null,null,null,null,null,null,null,null,null,null,null,null,null,null,null,null,null,null,null,null,null,null,null,null,null,null,null,null,null,null,null,null,null,null,null,0.5,5]
["Male 10-14",12.5,"male",1,null,{"$f":"HLOOKUP('III Tool Overview'!$H$6,LookUpData_Pop!$B$1:$AV$269,LookUpData_Pop!BB70,FALSE)/5","v":0},null,null,null,null,null,null,null,null,null,null,null,null,null,null,null,null,null,null,null,null,null,null,null,null,null,null,null,null,null,null,null,null,null,null,null,0.5,5]
["Male 15-19",17.5,"male",1,{"$f":"HLOOKUP('III Tool Overview'!$H$6,Prevalence!$B$2:$AV$268,Prevalence!AW66,FALSE)","v":0.47499999999999998},{"$f":"HLOOKUP('III Tool Overview'!$H$6,LookUpData_Pop!$B$1:$AV$269,LookUpData_Pop!BB71,FALSE)/5","v":0},{"$f":"'III Tool Overview'!$H$9/110","v":0},{"$f":"IF('III Tool Overview'!$H$10=\"Even distribution\",Targeting!C68,IF('III Tool Overview'!$H$10=\"Targetting to Q1\",Targeting!D68,IF('III Tool Overview'!$H$10=\"Targetting to Q1 & Q2\",Targeting!E68,IF('III Tool Overview'!$H$10=\"No variation in price elasticity\",Targeting!G68))))","v":0},{"$f":"IF('III Tool Overview'!$H$6=\"Orkney Health Board\",0,IF('III Tool Overview'!$H$6=\"Shetland Health Board\",0,IF('III Tool Overview'!$H$6=\"Western Isles Health Board\",0,IF('III Tool Overview'!$H$6=\"Orkney Islands Local Authority\",0,IF('III Tool Overview'!$H$6=\"Shetland Islands Local Authority\",0,IF('III Tool Overview'!$H$6=\"Eilean Siar Local Authority\",0,new_ci(2,B70,C70,D70,$C$1,G70,1,F70,E70*F70)))))))","v":0},{"$f":"IF('III Tool Overview'!$H$6=\"Orkney Health Board\",0,IF('III Tool Overview'!$H$6=\"Shetland Health Board\",0,IF('III Tool Overview'!$H$6=\"Western Isles Health Board\",0,IF('III Tool Overview'!$H$6=\"Orkney Islands Local Authority\",0,IF('III Tool Overview'!$H$6=\"Shetland Islands Local Authority\",0,IF('III Tool Overview'!$H$6=\"Eilean Siar Local Authority\",0,new_ci(2,B70,C70,D70,$C$1,G70+H70,1,F70,E70*F70)))))))","v":0},{"$f":"IF('III Tool Overview'!$H$6=\"Orkney Health Board\",0,IF('III Tool Overview'!$H$6=\"Shetland Health Board\",0,IF('III Tool Overview'!$H$6=\"Western Isles Health Board\",0,IF('III Tool Overview'!$H$6=\"Orkney Islands Local Authority\",0,IF('III Tool Overview'!$H$6=\"Shetland Islands Local Authority\",0,IF('III Tool Overview'!$H$6=\"Eilean Siar Local Authority\",0,new_ci(5,B70,C70,D70,$C$1,G70,1,F70,E70*F70)))))))","v":0},{"$f":"IF('III Tool Overview'!$H$6=\"Orkney Health Board\",0,IF('III Tool Overview'!$H$6=\"Shetland Health Board\",0,IF('III Tool Overview'!$H$6=\"Western Isles Health Board\",0,IF('III Tool Overview'!$H$6=\"Orkney Islands Local Authority\",0,IF('III Tool Overview'!$H$6=\"Shetland Islands Local Authority\",0,IF('III Tool Overview'!$H$6=\"Eilean Siar Local Authority\",0,new_ci(5,B70,C70,D70,$C$1,G70+H70,1,F70,E70*F70)))))))","v":0},{"$f":"IF('III Tool Overview'!$H$6=\"Orkney Health Board\",0,IF('III Tool Overview'!$H$6=\"Shetland Health Board\",0,IF('III Tool Overview'!$H$6=\"Western Isles Health Board\",0,IF('III Tool Overview'!$H$6=\"Orkney Islands Local Authority\",0,IF('III Tool Overview'!$H$6=\"Shetland Islands Local Authority\",0,IF('III Tool Overview'!$H$6=\"Eilean Siar Local Authority\",0,new_ci(10,B70,C70,D70,$C$1,G70,1,F70,E70*F70)))))))","v":0},{"$f":"IF('III Tool Overview'!$H$6=\"Orkney Health Board\",0,IF('III Tool Overview'!$H$6=\"Shetland Health Board\",0,IF('III Tool Overview'!$H$6=\"Western Isles Health Board\",0,IF('III Tool Overview'!$H$6=\"Orkney Islands Local Authority\",0,IF('III Tool Overview'!$H$6=\"Shetland Islands Local Authority\",0,IF('III Tool Overview'!$H$6=\"Eilean Siar Local Authority\",0,new_ci(10,B70,C70,D70,$C$1,G70+H70,1,F70,E70*F70)))))))","v":0},{"$f":"IF('III Tool Overview'!$H$6=\"Orkney Health Board\",0,IF('III Tool Overview'!$H$6=\"Shetland Health Board\",0,IF('III Tool Overview'!$H$6=\"Western Isles Health Board\",0,IF('III Tool Overview'!$H$6=\"Orkney Islands Local Authority\",0,IF('III Tool Overview'!$H$6=\"Shetland Islands Local Authority\",0,IF('III Tool Overview'!$H$6=\"Eilean Siar Local Authority\",0,new_ci(20,B70,C70,D70,$C$1,G70,1,F70,E70*F70)))))))","v":0},{"$f":"IF('III Tool Overview'!$H$6=\"Orkney Health Board\",0,IF('III Tool Overview'!$H$6=\"Shetland Health Board\",0,IF('III Tool Overview'!$H$6=\"Western Isles Health Board\",0,IF('III Tool Overview'!$H$6=\"Orkney Islands Local Authority\",0,IF('III Tool Overview'!$H$6=\"Shetland Islands Local Authority\",0,IF('III Tool Overview'!$H$6=\"Eilean Siar Local Authority\",0,new_ci(20,B70,C70,D70,$C$1,G70+H70,1,F70,E70*F70)))))))","v":0},{"$f":"IF('III Tool Overview'!$H$6=\"Orkney Health Board\",0,IF('III Tool Overview'!$H$6=\"Shetland Health Board\",0,IF('III Tool Overview'!$H$6=\"Western Isles Health Board\",0,IF('III Tool Overview'!$H$6=\"Orkney Islands Local Authority\",0,IF('III Tool Overview'!$H$6=\"Shetland Islands Local Authority\",0,IF('III Tool Overview'!$H$6=\"Eilean Siar Local Authority\",0,new_yll(2,B70,C70,D70,$C$1,G70,1,F70,E70*F70)))))))","v":0},{"$f":"IF('III Tool Overview'!$H$6=\"Orkney Health Board\",0,IF('III Tool Overview'!$H$6=\"Shetland Health Board\",0,IF('III Tool Overview'!$H$6=\"Western Isles Health Board\",0,IF('III Tool Overview'!$H$6=\"Orkney Islands Local Authority\",0,IF('III Tool Overview'!$H$6=\"Shetland Islands Local Authority\",0,IF('III Tool Overview'!$H$6=\"Eilean Siar Local Authority\",0,new_yll(2,B70,C70,D70,$C$1,G70+H70,1,F70,E70*F70)))))))","v":0},{"$f":"Q70-R70","v":0},{"$f":"IF('III Tool Overview'!$H$6=\"Orkney Health Board\",0,IF('III Tool Overview'!$H$6=\"Shetland Health Board\",0,IF('III Tool Overview'!$H$6=\"Western Isles Health Board\",0,IF('III Tool Overview'!$H$6=\"Orkney Islands Local Authority\",0,IF('III Tool Overview'!$H$6=\"Shetland Islands Local Authority\",0,IF('III Tool Overview'!$H$6=\"Eilean Siar Local Authority\",0,new_yll(5,B70,C70,D70,$C$1,G70,1,F70,E70*F70)))))))","v":0},{"$f":"IF('III Tool Overview'!$H$6=\"Orkney Health Board\",0,IF('III Tool Overview'!$H$6=\"Shetland Health Board\",0,IF('III Tool Overview'!$H$6=\"Western Isles Health Board\",0,IF('III Tool Overview'!$H$6=\"Orkney Islands Local Authority\",0,IF('III Tool Overview'!$H$6=\"Shetland Islands Local Authority\",0,IF('III Tool Overview'!$H$6=\"Eilean Siar Local Authority\",0,new_yll(5,B70,C70,D70,$C$1,G70+H70,1,F70,E70*F70)))))))","v":0},{"$f":"T70-U70","v":0},{"$f":"IF('III Tool Overview'!$H$6=\"Orkney Health Board\",0,IF('III Tool Overview'!$H$6=\"Shetland Health Board\",0,IF('III Tool Overview'!$H$6=\"Western Isles Health Board\",0,IF('III Tool Overview'!$H$6=\"Orkney Islands Local Authority\",0,IF('III Tool Overview'!$H$6=\"Shetland Islands Local Authority\",0,IF('III Tool Overview'!$H$6=\"Eilean Siar Local Authority\",0,new_yll(10,B70,C70,D70,$C$1,G70,1,F70,E70*F70)))))))","v":0},{"$f":"IF('III Tool Overview'!$H$6=\"Orkney Health Board\",0,IF('III Tool Overview'!$H$6=\"Shetland Health Board\",0,IF('III Tool Overview'!$H$6=\"Western Isles Health Board\",0,IF('III Tool Overview'!$H$6=\"Orkney Islands Local Authority\",0,IF('III Tool Overview'!$H$6=\"Shetland Islands Local Authority\",0,IF('III Tool Overview'!$H$6=\"Eilean Siar Local Authority\",0,new_yll(10,B70,C70,D70,$C$1,G70+H70,1,F70,E70*F70)))))))","v":0},{"$f":"W70-X70","v":0},{"$f":"IF('III Tool Overview'!$H$6=\"Orkney Health Board\",0,IF('III Tool Overview'!$H$6=\"Shetland Health Board\",0,IF('III Tool Overview'!$H$6=\"Western Isles Health Board\",0,IF('III Tool Overview'!$H$6=\"Orkney Islands Local Authority\",0,IF('III Tool Overview'!$H$6=\"Shetland Islands Local Authority\",0,IF('III Tool Overview'!$H$6=\"Eilean Siar Local Authority\",0,new_yll(20,B70,C70,D70,$C$1,G70,1,F70,E70*F70)))))))","v":0},{"$f":"IF('III Tool Overview'!$H$6=\"Orkney Health Board\",0,IF('III Tool Overview'!$H$6=\"Shetland Health Board\",0,IF('III Tool Overview'!$H$6=\"Western Isles Health Board\",0,IF('III Tool Overview'!$H$6=\"Orkney Islands Local Authority\",0,IF('III Tool Overview'!$H$6=\"Shetland Islands Local Authority\",0,IF('III Tool Overview'!$H$6=\"Eilean Siar Local Authority\",0,new_yll(20,B70,C70,D70,$C$1,G70+H70,1,F70,E70*F70)))))))","v":0},{"$f":"Z70-AA70","v":0},{"$f":"IF('III Tool Overview'!$H$6=\"Orkney Health Board\",0,IF('III Tool Overview'!$H$6=\"Shetland Health Board\",0,IF('III Tool Overview'!$H$6=\"Western Isles Health Board\",0,IF('III Tool Overview'!$H$6=\"Orkney Islands Local Authority\",0,IF('III Tool Overview'!$H$6=\"Shetland Islands Local Authority\",0,IF('III Tool Overview'!$H$6=\"Eilean Siar Local Authority\",0,hosp_count(2,B70,C70,D70,$C$1,G70,1,F70,E70*F70)))))))","v":0},{"$f":"IF('III Tool Overview'!$H$6=\"Orkney Health Board\",0,IF('III Tool Overview'!$H$6=\"Shetland Health Board\",0,IF('III Tool Overview'!$H$6=\"Western Isles Health Board\",0,IF('III Tool Overview'!$H$6=\"Orkney Islands Local Authority\",0,IF('III Tool Overview'!$H$6=\"Shetland Islands Local Authority\",0,IF('III Tool Overview'!$H$6=\"Eilean Siar Local Authority\",0,hosp_count(2,B70,C70,D70,$C$1,G70+H70,1,F70,E70*F70)))))))","v":0},{"$f":"AC70-AD70","v":0},{"$f":"IF('III Tool Overview'!$H$6=\"Orkney Health Board\",0,IF('III Tool Overview'!$H$6=\"Shetland Health Board\",0,IF('III Tool Overview'!$H$6=\"Western Isles Health Board\",0,IF('III Tool Overview'!$H$6=\"Orkney Islands Local Authority\",0,IF('III Tool Overview'!$H$6=\"Shetland Islands Local Authority\",0,IF('III Tool Overview'!$H$6=\"Eilean Siar Local Authority\",0,hosp_count(5,B70,C70,D70,$C$1,G70,1,F70,E70*F70)))))))","v":0},{"$f":"IF('III Tool Overview'!$H$6=\"Orkney Health Board\",0,IF('III Tool Overview'!$H$6=\"Shetland Health Board\",0,IF('III Tool Overview'!$H$6=\"Western Isles Health Board\",0,IF('III Tool Overview'!$H$6=\"Orkney Islands Local Authority\",0,IF('III Tool Overview'!$H$6=\"Shetland Islands Local Authority\",0,IF('III Tool Overview'!$H$6=\"Eilean Siar Local Authority\",0,hosp_count(5,B70,C70,D70,$C$1,G70+H70,1,F70,E70*F70)))))))","v":0},{"$f":"AF70-AG70","v":0},{"$f":"IF('III Tool Overview'!$H$6=\"Orkney Health Board\",0,IF('III Tool Overview'!$H$6=\"Shetland Health Board\",0,IF('III Tool Overview'!$H$6=\"Western Isles Health Board\",0,IF('III Tool Overview'!$H$6=\"Orkney Islands Local Authority\",0,IF('III Tool Overview'!$H$6=\"Shetland Islands Local Authority\",0,IF('III Tool Overview'!$H$6=\"Eilean Siar Local Authority\",0,hosp_count(10,B70,C70,D70,$C$1,G70,1,F70,E70*F70)))))))","v":0},{"$f":"IF('III Tool Overview'!$H$6=\"Orkney Health Board\",0,IF('III Tool Overview'!$H$6=\"Shetland Health Board\",0,IF('III Tool Overview'!$H$6=\"Western Isles Health Board\",0,IF('III Tool Overview'!$H$6=\"Orkney Islands Local Authority\",0,IF('III Tool Overview'!$H$6=\"Shetland Islands Local Authority\",0,IF('III Tool Overview'!$H$6=\"Eilean Siar Local Authority\",0,hosp_count(10,B70,C70,D70,$C$1,G70+H70,1,F70,E70*F70)))))))","v":0},{"$f":"AI70-AJ70","v":0},{"$f":"IF('III Tool Overview'!$H$6=\"Orkney Health Board\",0,IF('III Tool Overview'!$H$6=\"Shetland Health Board\",0,IF('III Tool Overview'!$H$6=\"Western Isles Health Board\",0,IF('III Tool Overview'!$H$6=\"Orkney Islands Local Authority\",0,IF('III Tool Overview'!$H$6=\"Shetland Islands Local Authority\",0,IF('III Tool Overview'!$H$6=\"Eilean Siar Local Authority\",0,hosp_count(20,B70,C70,D70,$C$1,G70,1,F70,E70*F70)))))))","v":0},{"$f":"IF('III Tool Overview'!$H$6=\"Orkney Health Board\",0,IF('III Tool Overview'!$H$6=\"Shetland Health Board\",0,IF('III Tool Overview'!$H$6=\"Western Isles Health Board\",0,IF('III Tool Overview'!$H$6=\"Orkney Islands Local Authority\",0,IF('III Tool Overview'!$H$6=\"Shetland Islands Local Authority\",0,IF('III Tool Overview'!$H$6=\"Eilean Siar Local Authority\",0,hosp_count(20,B70,C70,D70,$C$1,G70+H70,1,F70,E70*F70)))))))","v":0},{"$f":"AL70-AM70","v":0},null,0.5,5]
["Male 20-24",22.5,"male",1,{"$f":"HLOOKUP('III Tool Overview'!$H$6,Prevalence!$B$2:$AV$268,Prevalence!AW67,FALSE)","v":0.47499999999999998},{"$f":"HLOOKUP('III Tool Overview'!$H$6,LookUpData_Pop!$B$1:$AV$269,LookUpData_Pop!BB72,FALSE)/5","v":0},{"$f":"'III Tool Overview'!$H$9/110","v":0},{"$f":"IF('III Tool Overview'!$H$10=\"Even distribution\",Targeting!C69,IF('III Tool Overview'!$H$10=\"Targetting to Q1\",Targeting!D69,IF('III Tool Overview'!$H$10=\"Targetting to Q1 & Q2\",Targeting!E69,IF('III Tool Overview'!$H$10=\"No variation in price elasticity\",Targeting!G69))))","v":0},{"$f":"IF('III Tool Overview'!$H$6=\"Orkney Health Board\",0,IF('III Tool Overview'!$H$6=\"Shetland Health Board\",0,IF('III Tool Overview'!$H$6=\"Western Isles Health Board\",0,IF('III Tool Overview'!$H$6=\"Orkney Islands Local Authority\",0,IF('III Tool Overview'!$H$6=\"Shetland Islands Local Authority\",0,IF('III Tool Overview'!$H$6=\"Eilean Siar Local Authority\",0,new_ci(2,B71,C71,D71,$C$1,G71,1,F71,E71*F71)))))))","v":0},{"$f":"IF('III Tool Overview'!$H$6=\"Orkney Health Board\",0,IF('III Tool Overview'!$H$6=\"Shetland Health Board\",0,IF('III Tool Overview'!$H$6=\"Western Isles Health Board\",0,IF('III Tool Overview'!$H$6=\"Orkney Islands Local Authority\",0,IF('III Tool Overview'!$H$6=\"Shetland Islands Local Authority\",0,IF('III Tool Overview'!$H$6=\"Eilean Siar Local Authority\",0,new_ci(2,B71,C71,D71,$C$1,G71+H71,1,F71,E71*F71)))))))","v":0},{"$f":"IF('III Tool Overview'!$H$6=\"Orkney Health Board\",0,IF('III Tool Overview'!$H$6=\"Shetland Health Board\",0,IF('III Tool Overview'!$H$6=\"Western Isles Health Board\",0,IF('III Tool Overview'!$H$6=\"Orkney Islands Local Authority\",0,IF('III Tool Overview'!$H$6=\"Shetland Islands Local Authority\",0,IF('III Tool Overview'!$H$6=\"Eilean Siar Local Authority\",0,new_ci(5,B71,C71,D71,$C$1,G71,1,F71,E71*F71)))))))","v":0},{"$f":"IF('III Tool Overview'!$H$6=\"Orkney Health Board\",0,IF('III Tool Overview'!$H$6=\"Shetland Health Board\",0,IF('III Tool Overview'!$H$6=\"Western Isles Health Board\",0,IF('III Tool Overview'!$H$6=\"Orkney Islands Local Authority\",0,IF('III Tool Overview'!$H$6=\"Shetland Islands Local Authority\",0,IF('III Tool Overview'!$H$6=\"Eilean Siar Local Authority\",0,new_ci(5,B71,C71,D71,$C$1,G71+H71,1,F71,E71*F71)))))))","v":0},{"$f":"IF('III Tool Overview'!$H$6=\"Orkney Health Board\",0,IF('III Tool Overview'!$H$6=\"Shetland Health Board\",0,IF('III Tool Overview'!$H$6=\"Western Isles Health Board\",0,IF('III Tool Overview'!$H$6=\"Orkney Islands Local Authority\",0,IF('III Tool Overview'!$H$6=\"Shetland Islands Local Authority\",0,IF('III Tool Overview'!$H$6=\"Eilean Siar Local Authority\",0,new_ci(10,B71,C71,D71,$C$1,G71,1,F71,E71*F71)))))))","v":0},{"$f":"IF('III Tool Overview'!$H$6=\"Orkney Health Board\",0,IF('III Tool Overview'!$H$6=\"Shetland Health Board\",0,IF('III Tool Overview'!$H$6=\"Western Isles Health Board\",0,IF('III Tool Overview'!$H$6=\"Orkney Islands Local Authority\",0,IF('III Tool Overview'!$H$6=\"Shetland Islands Local Authority\",0,IF('III Tool Overview'!$H$6=\"Eilean Siar Local Authority\",0,new_ci(10,B71,C71,D71,$C$1,G71+H71,1,F71,E71*F71)))))))","v":0},{"$f":"IF('III Tool Overview'!$H$6=\"Orkney Health Board\",0,IF('III Tool Overview'!$H$6=\"Shetland Health Board\",0,IF('III Tool Overview'!$H$6=\"Western Isles Health Board\",0,IF('III Tool Overview'!$H$6=\"Orkney Islands Local Authority\",0,IF('III Tool Overview'!$H$6=\"Shetland Islands Local Authority\",0,IF('III Tool Overview'!$H$6=\"Eilean Siar Local Authority\",0,new_ci(20,B71,C71,D71,$C$1,G71,1,F71,E71*F71)))))))","v":0},{"$f":"IF('III Tool Overview'!$H$6=\"Orkney Health Board\",0,IF('III Tool Overview'!$H$6=\"Shetland Health Board\",0,IF('III Tool Overview'!$H$6=\"Western Isles Health Board\",0,IF('III Tool Overview'!$H$6=\"Orkney Islands Local Authority\",0,IF('III Tool Overview'!$H$6=\"Shetland Islands Local Authority\",0,IF('III Tool Overview'!$H$6=\"Eilean Siar Local Authority\",0,new_ci(20,B71,C71,D71,$C$1,G71+H71,1,F71,E71*F71)))))))","v":0},{"$f":"IF('III Tool Overview'!$H$6=\"Orkney Health Board\",0,IF('III Tool Overview'!$H$6=\"Shetland Health Board\",0,IF('III Tool Overview'!$H$6=\"Western Isles Health Board\",0,IF('III Tool Overview'!$H$6=\"Orkney Islands Local Authority\",0,IF('III Tool Overview'!$H$6=\"Shetland Islands Local Authority\",0,IF('III Tool Overview'!$H$6=\"Eilean Siar Local Authority\",0,new_yll(2,B71,C71,D71,$C$1,G71,1,F71,E71*F71)))))))","v":0},{"$f":"IF('III Tool Overview'!$H$6=\"Orkney Health Board\",0,IF('III Tool Overview'!$H$6=\"Shetland Health Board\",0,IF('III Tool Overview'!$H$6=\"Western Isles Health Board\",0,IF('III Tool Overview'!$H$6=\"Orkney Islands Local Authority\",0,IF('III Tool Overview'!$H$6=\"Shetland Islands Local Authority\",0,IF('III Tool Overview'!$H$6=\"Eilean Siar Local Authority\",0,new_yll(2,B71,C71,D71,$C$1,G71+H71,1,F71,E71*F71)))))))","v":0},0,{"$f":"IF('III Tool Overview'!$H$6=\"Orkney Health Board\",0,IF('III Tool Overview'!$H$6=\"Shetland Health Board\",0,IF('III Tool Overview'!$H$6=\"Western Isles Health Board\",0,IF('III Tool Overview'!$H$6=\"Orkney Islands Local Authority\",0,IF('III Tool Overview'!$H$6=\"Shetland Islands Local Authority\",0,IF('III Tool Overview'!$H$6=\"Eilean Siar Local Authority\",0,new_yll(5,B71,C71,D71,$C$1,G71,1,F71,E71*F71)))))))","v":0},{"$f":"IF('III Tool Overview'!$H$6=\"Orkney Health Board\",0,IF('III Tool Overview'!$H$6=\"Shetland Health Board\",0,IF('III Tool Overview'!$H$6=\"Western Isles Health Board\",0,IF('III Tool Overview'!$H$6=\"Orkney Islands Local Authority\",0,IF('III Tool Overview'!$H$6=\"Shetland Islands Local Authority\",0,IF('III Tool Overview'!$H$6=\"Eilean Siar Local Authority\",0,new_yll(5,B71,C71,D71,$C$1,G71+H71,1,F71,E71*F71)))))))","v":0},{"$f":"T71-U71","v":0},{"$f":"IF('III Tool Overview'!$H$6=\"Orkney Health Board\",0,IF('III Tool Overview'!$H$6=\"Shetland Health Board\",0,IF('III Tool Overview'!$H$6=\"Western Isles Health Board\",0,IF('III Tool Overview'!$H$6=\"Orkney Islands Local Authority\",0,IF('III Tool Overview'!$H$6=\"Shetland Islands Local Authority\",0,IF('III Tool Overview'!$H$6=\"Eilean Siar Local Authority\",0,new_yll(10,B71,C71,D71,$C$1,G71,1,F71,E71*F71)))))))","v":0},{"$f":"IF('III Tool Overview'!$H$6=\"Orkney Health Board\",0,IF('III Tool Overview'!$H$6=\"Shetland Health Board\",0,IF('III Tool Overview'!$H$6=\"Western Isles Health Board\",0,IF('III Tool Overview'!$H$6=\"Orkney Islands Local Authority\",0,IF('III Tool Overview'!$H$6=\"Shetland Islands Local Authority\",0,IF('III Tool Overview'!$H$6=\"Eilean Siar Local Authority\",0,new_yll(10,B71,C71,D71,$C$1,G71+H71,1,F71,E71*F71)))))))","v":0},{"$f":"W71-X71","v":0},{"$f":"IF('III Tool Overview'!$H$6=\"Orkney Health Board\",0,IF('III Tool Overview'!$H$6=\"Shetland Health Board\",0,IF('III Tool Overview'!$H$6=\"Western Isles Health Board\",0,IF('III Tool Overview'!$H$6=\"Orkney Islands Local Authority\",0,IF('III Tool Overview'!$H$6=\"Shetland Islands Local Authority\",0,IF('III Tool Overview'!$H$6=\"Eilean Siar Local Authority\",0,new_yll(20,B71,C71,D71,$C$1,G71,1,F71,E71*F71)))))))","v":0},{"$f":"IF('III Tool Overview'!$H$6=\"Orkney Health Board\",0,IF('III Tool Overview'!$H$6=\"Shetland Health Board\",0,IF('III Tool Overview'!$H$6=\"Western Isles Health Board\",0,IF('III Tool Overview'!$H$6=\"Orkney Islands Local Authority\",0,IF('III Tool Overview'!$H$6=\"Shetland Islands Local Authority\",0,IF('III Tool Overview'!$H$6=\"Eilean Siar Local Authority\",0,new_yll(20,B71,C71,D71,$C$1,G71+H71,1,F71,E71*F71)))))))","v":0},{"$f":"Z71-AA71","v":0},{"$f":"IF('III Tool Overview'!$H$6=\"Orkney Health Board\",0,IF('III Tool Overview'!$H$6=\"Shetland Health Board\",0,IF('III Tool Overview'!$H$6=\"Western Isles Health Board\",0,IF('III Tool Overview'!$H$6=\"Orkney Islands Local Authority\",0,IF('III Tool Overview'!$H$6=\"Shetland Islands Local Authority\",0,IF('III Tool Overview'!$H$6=\"Eilean Siar Local Authority\",0,hosp_count(2,B71,C71,D71,$C$1,G71,1,F71,E71*F71)))))))","v":0},{"$f":"IF('III Tool Overview'!$H$6=\"Orkney Health Board\",0,IF('III Tool Overview'!$H$6=\"Shetland Health Board\",0,IF('III Tool Overview'!$H$6=\"Western Isles Health Board\",0,IF('III Tool Overview'!$H$6=\"Orkney Islands Local Authority\",0,IF('III Tool Overview'!$H$6=\"Shetland Islands Local Authority\",0,IF('III Tool Overview'!$H$6=\"Eilean Siar Local Authority\",0,hosp_count(2,B71,C71,D71,$C$1,G71+H71,1,F71,E71*F71)))))))","v":0},{"$f":"AC71-AD71","v":0},{"$f":"IF('III Tool Overview'!$H$6=\"Orkney Health Board\",0,IF('III Tool Overview'!$H$6=\"Shetland Health Board\",0,IF('III Tool Overview'!$H$6=\"Western Isles Health Board\",0,IF('III Tool Overview'!$H$6=\"Orkney Islands Local Authority\",0,IF('III Tool Overview'!$H$6=\"Shetland Islands Local Authority\",0,IF('III Tool Overview'!$H$6=\"Eilean Siar Local Authority\",0,hosp_count(5,B71,C71,D71,$C$1,G71,1,F71,E71*F71)))))))","v":0},{"$f":"IF('III Tool Overview'!$H$6=\"Orkney Health Board\",0,IF('III Tool Overview'!$H$6=\"Shetland Health Board\",0,IF('III Tool Overview'!$H$6=\"Western Isles Health Board\",0,IF('III Tool Overview'!$H$6=\"Orkney Islands Local Authority\",0,IF('III Tool Overview'!$H$6=\"Shetland Islands Local Authority\",0,IF('III Tool Overview'!$H$6=\"Eilean Siar Local Authority\",0,hosp_count(5,B71,C71,D71,$C$1,G71+H71,1,F71,E71*F71)))))))","v":0},{"$f":"AF71-AG71","v":0},{"$f":"IF('III Tool Overview'!$H$6=\"Orkney Health Board\",0,IF('III Tool Overview'!$H$6=\"Shetland Health Board\",0,IF('III Tool Overview'!$H$6=\"Western Isles Health Board\",0,IF('III Tool Overview'!$H$6=\"Orkney Islands Local Authority\",0,IF('III Tool Overview'!$H$6=\"Shetland Islands Local Authority\",0,IF('III Tool Overview'!$H$6=\"Eilean Siar Local Authority\",0,hosp_count(10,B71,C71,D71,$C$1,G71,1,F71,E71*F71)))))))","v":0},{"$f":"IF('III Tool Overview'!$H$6=\"Orkney Health Board\",0,IF('III Tool Overview'!$H$6=\"Shetland Health Board\",0,IF('III Tool Overview'!$H$6=\"Western Isles Health Board\",0,IF('III Tool Overview'!$H$6=\"Orkney Islands Local Authority\",0,IF('III Tool Overview'!$H$6=\"Shetland Islands Local Authority\",0,IF('III Tool Overview'!$H$6=\"Eilean Siar Local Authority\",0,hosp_count(10,B71,C71,D71,$C$1,G71+H71,1,F71,E71*F71)))))))","v":0},{"$f":"AI71-AJ71","v":0},{"$f":"IF('III Tool Overview'!$H$6=\"Orkney Health Board\",0,IF('III Tool Overview'!$H$6=\"Shetland Health Board\",0,IF('III Tool Overview'!$H$6=\"Western Isles Health Board\",0,IF('III Tool Overview'!$H$6=\"Orkney Islands Local Authority\",0,IF('III Tool Overview'!$H$6=\"Shetland Islands Local Authority\",0,IF('III Tool Overview'!$H$6=\"Eilean Siar Local Authority\",0,hosp_count(20,B71,C71,D71,$C$1,G71,1,F71,E71*F71)))))))","v":0},{"$f":"IF('III Tool Overview'!$H$6=\"Orkney Health Board\",0,IF('III Tool Overview'!$H$6=\"Shetland Health Board\",0,IF('III Tool Overview'!$H$6=\"Western Isles Health Board\",0,IF('III Tool Overview'!$H$6=\"Orkney Islands Local Authority\",0,IF('III Tool Overview'!$H$6=\"Shetland Islands Local Authority\",0,IF('III Tool Overview'!$H$6=\"Eilean Siar Local Authority\",0,hosp_count(20,B71,C71,D71,$C$1,G71+H71,1,F71,E71*F71)))))))","v":0},{"$f":"AL71-AM71","v":0},null,0.5,5]
["Male 25-29",27.5,"male",1,{"$f":"HLOOKUP('III Tool Overview'!$H$6,Prevalence!$B$2:$AV$268,Prevalence!AW68,FALSE)","v":0.44999999999999996},{"$f":"HLOOKUP('III Tool Overview'!$H$6,LookUpData_Pop!$B$1:$AV$269,LookUpData_Pop!BB73,FALSE)/5","v":0},{"$f":"'III Tool Overview'!$H$9/110","v":0},{"$f":"IF('III Tool Overview'!$H$10=\"Even distribution\",Targeting!C70,IF('III Tool Overview'!$H$10=\"Targetting to Q1\",Targeting!D70,IF('III Tool Overview'!$H$10=\"Targetting to Q1 & Q2\",Targeting!E70,IF('III Tool Overview'!$H$10=\"No variation in price elasticity\",Targeting!G70))))","v":0},{"$f":"IF('III Tool Overview'!$H$6=\"Orkney Health Board\",0,IF('III Tool Overview'!$H$6=\"Shetland Health Board\",0,IF('III Tool Overview'!$H$6=\"Western Isles Health Board\",0,IF('III Tool Overview'!$H$6=\"Orkney Islands Local Authority\",0,IF('III Tool Overview'!$H$6=\"Shetland Islands Local Authority\",0,IF('III Tool Overview'!$H$6=\"Eilean Siar Local Authority\",0,new_ci(2,B72,C72,D72,$C$1,G72,1,F72,E72*F72)))))))","v":0},{"$f":"IF('III Tool Overview'!$H$6=\"Orkney Health Board\",0,IF('III Tool Overview'!$H$6=\"Shetland Health Board\",0,IF('III Tool Overview'!$H$6=\"Western Isles Health Board\",0,IF('III Tool Overview'!$H$6=\"Orkney Islands Local Authority\",0,IF('III Tool Overview'!$H$6=\"Shetland Islands Local Authority\",0,IF('III Tool Overview'!$H$6=\"Eilean Siar Local Authority\",0,new_ci(2,B72,C72,D72,$C$1,G72+H72,1,F72,E72*F72)))))))","v":0},{"$f":"IF('III Tool Overview'!$H$6=\"Orkney Health Board\",0,IF('III Tool Overview'!$H$6=\"Shetland Health Board\",0,IF('III Tool Overview'!$H$6=\"Western Isles Health Board\",0,IF('III Tool Overview'!$H$6=\"Orkney Islands Local Authority\",0,IF('III Tool Overview'!$H$6=\"Shetland Islands Local Authority\",0,IF('III Tool Overview'!$H$6=\"Eilean Siar Local Authority\",0,new_ci(5,B72,C72,D72,$C$1,G72,1,F72,E72*F72)))))))","v":0},{"$f":"IF('III Tool Overview'!$H$6=\"Orkney Health Board\",0,IF('III Tool Overview'!$H$6=\"Shetland Health Board\",0,IF('III Tool Overview'!$H$6=\"Western Isles Health Board\",0,IF('III Tool Overview'!$H$6=\"Orkney Islands Local Authority\",0,IF('III Tool Overview'!$H$6=\"Shetland Islands Local Authority\",0,IF('III Tool Overview'!$H$6=\"Eilean Siar Local Authority\",0,new_ci(5,B72,C72,D72,$C$1,G72+H72,1,F72,E72*F72)))))))","v":0},{"$f":"IF('III Tool Overview'!$H$6=\"Orkney Health Board\",0,IF('III Tool Overview'!$H$6=\"Shetland Health Board\",0,IF('III Tool Overview'!$H$6=\"Western Isles Health Board\",0,IF('III Tool Overview'!$H$6=\"Orkney Islands Local Authority\",0,IF('III Tool Overview'!$H$6=\"Shetland Islands Local Authority\",0,IF('III Tool Overview'!$H$6=\"Eilean Siar Local Authority\",0,new_ci(10,B72,C72,D72,$C$1,G72,1,F72,E72*F72)))))))","v":0},{"$f":"IF('III Tool Overview'!$H$6=\"Orkney Health Board\",0,IF('III Tool Overview'!$H$6=\"Shetland Health Board\",0,IF('III Tool Overview'!$H$6=\"Western Isles Health Board\",0,IF('III Tool Overview'!$H$6=\"Orkney Islands Local Authority\",0,IF('III Tool Overview'!$H$6=\"Shetland Islands Local Authority\",0,IF('III Tool Overview'!$H$6=\"Eilean Siar Local Authority\",0,new_ci(10,B72,C72,D72,$C$1,G72+H72,1,F72,E72*F72)))))))","v":0},{"$f":"IF('III Tool Overview'!$H$6=\"Orkney Health Board\",0,IF('III Tool Overview'!$H$6=\"Shetland Health Board\",0,IF('III Tool Overview'!$H$6=\"Western Isles Health Board\",0,IF('III Tool Overview'!$H$6=\"Orkney Islands Local Authority\",0,IF('III Tool Overview'!$H$6=\"Shetland Islands Local Authority\",0,IF('III Tool Overview'!$H$6=\"Eilean Siar Local Authority\",0,new_ci(20,B72,C72,D72,$C$1,G72,1,F72,E72*F72)))))))","v":0},{"$f":"IF('III Tool Overview'!$H$6=\"Orkney Health Board\",0,IF('III Tool Overview'!$H$6=\"Shetland Health Board\",0,IF('III Tool Overview'!$H$6=\"Western Isles Health Board\",0,IF('III Tool Overview'!$H$6=\"Orkney Islands Local Authority\",0,IF('III Tool Overview'!$H$6=\"Shetland Islands Local Authority\",0,IF('III Tool Overview'!$H$6=\"Eilean Siar Local Authority\",0,new_ci(20,B72,C72,D72,$C$1,G72+H72,1,F72,E72*F72)))))))","v":0},{"$f":"IF('III Tool Overview'!$H$6=\"Orkney Health Board\",0,IF('III Tool Overview'!$H$6=\"Shetland Health Board\",0,IF('III Tool Overview'!$H$6=\"Western Isles Health Board\",0,IF('III Tool Overview'!$H$6=\"Orkney Islands Local Authority\",0,IF('III Tool Overview'!$H$6=\"Shetland Islands Local Authority\",0,IF('III Tool Overview'!$H$6=\"Eilean Siar Local Authority\",0,new_yll(2,B72,C72,D72,$C$1,G72,1,F72,E72*F72)))))))","v":0},{"$f":"IF('III Tool Overview'!$H$6=\"Orkney Health Board\",0,IF('III Tool Overview'!$H$6=\"Shetland Health Board\",0,IF('III Tool Overview'!$H$6=\"Western Isles Health Board\",0,IF('III Tool Overview'!$H$6=\"Orkney Islands Local Authority\",0,IF('III Tool Overview'!$H$6=\"Shetland Islands Local Authority\",0,IF('III Tool Overview'!$H$6=\"Eilean Siar Local Authority\",0,new_yll(2,B72,C72,D72,$C$1,G72+H72,1,F72,E72*F72)))))))","v":0},0,{"$f":"IF('III Tool Overview'!$H$6=\"Orkney Health Board\",0,IF('III Tool Overview'!$H$6=\"Shetland Health Board\",0,IF('III Tool Overview'!$H$6=\"Western Isles Health Board\",0,IF('III Tool Overview'!$H$6=\"Orkney Islands Local Authority\",0,IF('III Tool Overview'!$H$6=\"Shetland Islands Local Authority\",0,IF('III Tool Overview'!$H$6=\"Eilean Siar Local Authority\",0,new_yll(5,B72,C72,D72,$C$1,G72,1,F72,E72*F72)))))))","v":0},{"$f":"IF('III Tool Overview'!$H$6=\"Orkney Health Board\",0,IF('III Tool Overview'!$H$6=\"Shetland Health Board\",0,IF('III Tool Overview'!$H$6=\"Western Isles Health Board\",0,IF('III Tool Overview'!$H$6=\"Orkney Islands Local Authority\",0,IF('III Tool Overview'!$H$6=\"Shetland Islands Local Authority\",0,IF('III Tool Overview'!$H$6=\"Eilean Siar Local Authority\",0,new_yll(5,B72,C72,D72,$C$1,G72+H72,1,F72,E72*F72)))))))","v":0},0,{"$f":"IF('III Tool Overview'!$H$6=\"Orkney Health Board\",0,IF('III Tool Overview'!$H$6=\"Shetland Health Board\",0,IF('III Tool Overview'!$H$6=\"Western Isles Health Board\",0,IF('III Tool Overview'!$H$6=\"Orkney Islands Local Authority\",0,IF('III Tool Overview'!$H$6=\"Shetland Islands Local Authority\",0,IF('III Tool Overview'!$H$6=\"Eilean Siar Local Authority\",0,new_yll(10,B72,C72,D72,$C$1,G72,1,F72,E72*F72)))))))","v":0},{"$f":"IF('III Tool Overview'!$H$6=\"Orkney Health Board\",0,IF('III Tool Overview'!$H$6=\"Shetland Health Board\",0,IF('III Tool Overview'!$H$6=\"Western Isles Health Board\",0,IF('III Tool Overview'!$H$6=\"Orkney Islands Local Authority\",0,IF('III Tool Overview'!$H$6=\"Shetland Islands Local Authority\",0,IF('III Tool Overview'!$H$6=\"Eilean Siar Local Authority\",0,new_yll(10,B72,C72,D72,$C$1,G72+H72,1,F72,E72*F72)))))))","v":0},0,{"$f":"IF('III Tool Overview'!$H$6=\"Orkney Health Board\",0,IF('III Tool Overview'!$H$6=\"Shetland Health Board\",0,IF('III Tool Overview'!$H$6=\"Western Isles Health Board\",0,IF('III Tool Overview'!$H$6=\"Orkney Islands Local Authority\",0,IF('III Tool Overview'!$H$6=\"Shetland Islands Local Authority\",0,IF('III Tool Overview'!$H$6=\"Eilean Siar Local Authority\",0,new_yll(20,B72,C72,D72,$C$1,G72,1,F72,E72*F72)))))))","v":0},{"$f":"IF('III Tool Overview'!$H$6=\"Orkney Health Board\",0,IF('III Tool Overview'!$H$6=\"Shetland Health Board\",0,IF('III Tool Overview'!$H$6=\"Western Isles Health Board\",0,IF('III Tool Overview'!$H$6=\"Orkney Islands Local Authority\",0,IF('III Tool Overview'!$H$6=\"Shetland Islands Local Authority\",0,IF('III Tool Overview'!$H$6=\"Eilean Siar Local Authority\",0,new_yll(20,B72,C72,D72,$C$1,G72+H72,1,F72,E72*F72)))))))","v":0},0,{"$f":"IF('III Tool Overview'!$H$6=\"Orkney Health Board\",0,IF('III Tool Overview'!$H$6=\"Shetland Health Board\",0,IF('III Tool Overview'!$H$6=\"Western Isles Health Board\",0,IF('III Tool Overview'!$H$6=\"Orkney Islands Local Authority\",0,IF('III Tool Overview'!$H$6=\"Shetland Islands Local Authority\",0,IF('III Tool Overview'!$H$6=\"Eilean Siar Local Authority\",0,hosp_count(2,B72,C72,D72,$C$1,G72,1,F72,E72*F72)))))))","v":0},{"$f":"IF('III Tool Overview'!$H$6=\"Orkney Health Board\",0,IF('III Tool Overview'!$H$6=\"Shetland Health Board\",0,IF('III Tool Overview'!$H$6=\"Western Isles Health Board\",0,IF('III Tool Overview'!$H$6=\"Orkney Islands Local Authority\",0,IF('III Tool Overview'!$H$6=\"Shetland Islands Local Authority\",0,IF('III Tool Overview'!$H$6=\"Eilean Siar Local Authority\",0,hosp_count(2,B72,C72,D72,$C$1,G72+H72,1,F72,E72*F72)))))))","v":0},0,{"$f":"IF('III Tool Overview'!$H$6=\"Orkney Health Board\",0,IF('III Tool Overview'!$H$6=\"Shetland Health Board\",0,IF('III Tool Overview'!$H$6=\"Western Isles Health Board\",0,IF('III Tool Overview'!$H$6=\"Orkney Islands Local Authority\",0,IF('III Tool Overview'!$H$6=\"Shetland Islands Local Authority\",0,IF('III Tool Overview'!$H$6=\"Eilean Siar Local Authority\",0,hosp_count(5,B72,C72,D72,$C$1,G72,1,F72,E72*F72)))))))","v":0},{"$f":"IF('III Tool Overview'!$H$6=\"Orkney Health Board\",0,IF('III Tool Overview'!$H$6=\"Shetland Health Board\",0,IF('III Tool Overview'!$H$6=\"Western Isles Health Board\",0,IF('III Tool Overview'!$H$6=\"Orkney Islands Local Authority\",0,IF('III Tool Overview'!$H$6=\"Shetland Islands Local Authority\",0,IF('III Tool Overview'!$H$6=\"Eilean Siar Local Authority\",0,hosp_count(5,B72,C72,D72,$C$1,G72+H72,1,F72,E72*F72)))))))","v":0},0,{"$f":"IF('III Tool Overview'!$H$6=\"Orkney Health Board\",0,IF('III Tool Overview'!$H$6=\"Shetland Health Board\",0,IF('III Tool Overview'!$H$6=\"Western Isles Health Board\",0,IF('III Tool Overview'!$H$6=\"Orkney Islands Local Authority\",0,IF('III Tool Overview'!$H$6=\"Shetland Islands Local Authority\",0,IF('III Tool Overview'!$H$6=\"Eilean Siar Local Authority\",0,hosp_count(10,B72,C72,D72,$C$1,G72,1,F72,E72*F72)))))))","v":0},{"$f":"IF('III Tool Overview'!$H$6=\"Orkney Health Board\",0,IF('III Tool Overview'!$H$6=\"Shetland Health Board\",0,IF('III Tool Overview'!$H$6=\"Western Isles Health Board\",0,IF('III Tool Overview'!$H$6=\"Orkney Islands Local Authority\",0,IF('III Tool Overview'!$H$6=\"Shetland Islands Local Authority\",0,IF('III Tool Overview'!$H$6=\"Eilean Siar Local Authority\",0,hosp_count(10,B72,C72,D72,$C$1,G72+H72,1,F72,E72*F72)))))))","v":0},0,{"$f":"IF('III Tool Overview'!$H$6=\"Orkney Health Board\",0,IF('III Tool Overview'!$H$6=\"Shetland Health Board\",0,IF('III Tool Overview'!$H$6=\"Western Isles Health Board\",0,IF('III Tool Overview'!$H$6=\"Orkney Islands Local Authority\",0,IF('III Tool Overview'!$H$6=\"Shetland Islands Local Authority\",0,IF('III Tool Overview'!$H$6=\"Eilean Siar Local Authority\",0,hosp_count(20,B72,C72,D72,$C$1,G72,1,F72,E72*F72)))))))","v":0},{"$f":"IF('III Tool Overview'!$H$6=\"Orkney Health Board\",0,IF('III Tool Overview'!$H$6=\"Shetland Health Board\",0,IF('III Tool Overview'!$H$6=\"Western Isles Health Board\",0,IF('III Tool Overview'!$H$6=\"Orkney Islands Local Authority\",0,IF('III Tool Overview'!$H$6=\"Shetland Islands Local Authority\",0,IF('III Tool Overview'!$H$6=\"Eilean Siar Local Authority\",0,hosp_count(20,B72,C72,D72,$C$1,G72+H72,1,F72,E72*F72)))))))","v":0},0,null,0.5,5]
["Male 30-34",32.5,"male",1,{"$f":"HLOOKUP('III Tool Overview'!$H$6,Prevalence!$B$2:$AV$268,Prevalence!AW69,FALSE)","v":0.44999999999999996},{"$f":"HLOOKUP('III Tool Overview'!$H$6,LookUpData_Pop!$B$1:$AV$269,LookUpData_Pop!BB74,FALSE)/5","v":0},{"$f":"'III Tool Overview'!$H$9/110","v":0},{"$f":"IF('III Tool Overview'!$H$10=\"Even distribution\",Targeting!C71,IF('III Tool Overview'!$H$10=\"Targetting to Q1\",Targeting!D71,IF('III Tool Overview'!$H$10=\"Targetting to Q1 & Q2\",Targeting!E71,IF('III Tool Overview'!$H$10=\"No variation in price elasticity\",Targeting!G71))))","v":0},{"$f":"IF('III Tool Overview'!$H$6=\"Orkney Health Board\",0,IF('III Tool Overview'!$H$6=\"Shetland Health Board\",0,IF('III Tool Overview'!$H$6=\"Western Isles Health Board\",0,IF('III Tool Overview'!$H$6=\"Orkney Islands Local Authority\",0,IF('III Tool Overview'!$H$6=\"Shetland Islands Local Authority\",0,IF('III Tool Overview'!$H$6=\"Eilean Siar Local Authority\",0,new_ci(2,B73,C73,D73,$C$1,G73,1,F73,E73*F73)))))))","v":0},{"$f":"IF('III Tool Overview'!$H$6=\"Orkney Health Board\",0,IF('III Tool Overview'!$H$6=\"Shetland Health Board\",0,IF('III Tool Overview'!$H$6=\"Western Isles Health Board\",0,IF('III Tool Overview'!$H$6=\"Orkney Islands Local Authority\",0,IF('III Tool Overview'!$H$6=\"Shetland Islands Local Authority\",0,IF('III Tool Overview'!$H$6=\"Eilean Siar Local Authority\",0,new_ci(2,B73,C73,D73,$C$1,G73+H73,1,F73,E73*F73)))))))","v":0},{"$f":"IF('III Tool Overview'!$H$6=\"Orkney Health Board\",0,IF('III Tool Overview'!$H$6=\"Shetland Health Board\",0,IF('III Tool Overview'!$H$6=\"Western Isles Health Board\",0,IF('III Tool Overview'!$H$6=\"Orkney Islands Local Authority\",0,IF('III Tool Overview'!$H$6=\"Shetland Islands Local Authority\",0,IF('III Tool Overview'!$H$6=\"Eilean Siar Local Authority\",0,new_ci(5,B73,C73,D73,$C$1,G73,1,F73,E73*F73)))))))","v":0},{"$f":"IF('III Tool Overview'!$H$6=\"Orkney Health Board\",0,IF('III Tool Overview'!$H$6=\"Shetland Health Board\",0,IF('III Tool Overview'!$H$6=\"Western Isles Health Board\",0,IF('III Tool Overview'!$H$6=\"Orkney Islands Local Authority\",0,IF('III Tool Overview'!$H$6=\"Shetland Islands Local Authority\",0,IF('III Tool Overview'!$H$6=\"Eilean Siar Local Authority\",0,new_ci(5,B73,C73,D73,$C$1,G73+H73,1,F73,E73*F73)))))))","v":0},{"$f":"IF('III Tool Overview'!$H$6=\"Orkney Health Board\",0,IF('III Tool Overview'!$H$6=\"Shetland Health Board\",0,IF('III Tool Overview'!$H$6=\"Western Isles Health Board\",0,IF('III Tool Overview'!$H$6=\"Orkney Islands Local Authority\",0,IF('III Tool Overview'!$H$6=\"Shetland Islands Local Authority\",0,IF('III Tool Overview'!$H$6=\"Eilean Siar Local Authority\",0,new_ci(10,B73,C73,D73,$C$1,G73,1,F73,E73*F73)))))))","v":0},{"$f":"IF('III Tool Overview'!$H$6=\"Orkney Health Board\",0,IF('III Tool Overview'!$H$6=\"Shetland Health Board\",0,IF('III Tool Overview'!$H$6=\"Western Isles Health Board\",0,IF('III Tool Overview'!$H$6=\"Orkney Islands Local Authority\",0,IF('III Tool Overview'!$H$6=\"Shetland Islands Local Authority\",0,IF('III Tool Overview'!$H$6=\"Eilean Siar Local Authority\",0,new_ci(10,B73,C73,D73,$C$1,G73+H73,1,F73,E73*F73)))))))","v":0},{"$f":"IF('III Tool Overview'!$H$6=\"Orkney Health Board\",0,IF('III Tool Overview'!$H$6=\"Shetland Health Board\",0,IF('III Tool Overview'!$H$6=\"Western Isles Health Board\",0,IF('III Tool Overview'!$H$6=\"Orkney Islands Local Authority\",0,IF('III Tool Overview'!$H$6=\"Shetland Islands Local Authority\",0,IF('III Tool Overview'!$H$6=\"Eilean Siar Local Authority\",0,new_ci(20,B73,C73,D73,$C$1,G73,1,F73,E73*F73)))))))","v":0},{"$f":"IF('III Tool Overview'!$H$6=\"Orkney Health Board\",0,IF('III Tool Overview'!$H$6=\"Shetland Health Board\",0,IF('III Tool Overview'!$H$6=\"Western Isles Health Board\",0,IF('III Tool Overview'!$H$6=\"Orkney Islands Local Authority\",0,IF('III Tool Overview'!$H$6=\"Shetland Islands Local Authority\",0,IF('III Tool Overview'!$H$6=\"Eilean Siar Local Authority\",0,new_ci(20,B73,C73,D73,$C$1,G73+H73,1,F73,E73*F73)))))))","v":0},{"$f":"IF('III Tool Overview'!$H$6=\"Orkney Health Board\",0,IF('III Tool Overview'!$H$6=\"Shetland Health Board\",0,IF('III Tool Overview'!$H$6=\"Western Isles Health Board\",0,IF('III Tool Overview'!$H$6=\"Orkney Islands Local Authority\",0,IF('III Tool Overview'!$H$6=\"Shetland Islands Local Authority\",0,IF('III Tool Overview'!$H$6=\"Eilean Siar Local Authority\",0,new_yll(2,B73,C73,D73,$C$1,G73,1,F73,E73*F73)))))))","v":0},{"$f":"IF('III Tool Overview'!$H$6=\"Orkney Health Board\",0,IF('III Tool Overview'!$H$6=\"Shetland Health Board\",0,IF('III Tool Overview'!$H$6=\"Western Isles Health Board\",0,IF('III Tool Overview'!$H$6=\"Orkney Islands Local Authority\",0,IF('III Tool Overview'!$H$6=\"Shetland Islands Local Authority\",0,IF('III Tool Overview'!$H$6=\"Eilean Siar Local Authority\",0,new_yll(2,B73,C73,D73,$C$1,G73+H73,1,F73,E73*F73)))))))","v":0},0,{"$f":"IF('III Tool Overview'!$H$6=\"Orkney Health Board\",0,IF('III Tool Overview'!$H$6=\"Shetland Health Board\",0,IF('III Tool Overview'!$H$6=\"Western Isles Health Board\",0,IF('III Tool Overview'!$H$6=\"Orkney Islands Local Authority\",0,IF('III Tool Overview'!$H$6=\"Shetland Islands Local Authority\",0,IF('III Tool Overview'!$H$6=\"Eilean Siar Local Authority\",0,new_yll(5,B73,C73,D73,$C$1,G73,1,F73,E73*F73)))))))","v":0},{"$f":"IF('III Tool Overview'!$H$6=\"Orkney Health Board\",0,IF('III Tool Overview'!$H$6=\"Shetland Health Board\",0,IF('III Tool Overview'!$H$6=\"Western Isles Health Board\",0,IF('III Tool Overview'!$H$6=\"Orkney Islands Local Authority\",0,IF('III Tool Overview'!$H$6=\"Shetland Islands Local Authority\",0,IF('III Tool Overview'!$H$6=\"Eilean Siar Local Authority\",0,new_yll(5,B73,C73,D73,$C$1,G73+H73,1,F73,E73*F73)))))))","v":0},0,{"$f":"IF('III Tool Overview'!$H$6=\"Orkney Health Board\",0,IF('III Tool Overview'!$H$6=\"Shetland Health Board\",0,IF('III Tool Overview'!$H$6=\"Western Isles Health Board\",0,IF('III Tool Overview'!$H$6=\"Orkney Islands Local Authority\",0,IF('III Tool Overview'!$H$6=\"Shetland Islands Local Authority\",0,IF('III Tool Overview'!$H$6=\"Eilean Siar Local Authority\",0,new_yll(10,B73,C73,D73,$C$1,G73,1,F73,E73*F73)))))))","v":0},{"$f":"IF('III Tool Overview'!$H$6=\"Orkney Health Board\",0,IF('III Tool Overview'!$H$6=\"Shetland Health Board\",0,IF('III Tool Overview'!$H$6=\"Western Isles Health Board\",0,IF('III Tool Overview'!$H$6=\"Orkney Islands Local Authority\",0,IF('III Tool Overview'!$H$6=\"Shetland Islands Local Authority\",0,IF('III Tool Overview'!$H$6=\"Eilean Siar Local Authority\",0,new_yll(10,B73,C73,D73,$C$1,G73+H73,1,F73,E73*F73)))))))","v":0},0,{"$f":"IF('III Tool Overview'!$H$6=\"Orkney Health Board\",0,IF('III Tool Overview'!$H$6=\"Shetland Health Board\",0,IF('III Tool Overview'!$H$6=\"Western Isles Health Board\",0,IF('III Tool Overview'!$H$6=\"Orkney Islands Local Authority\",0,IF('III Tool Overview'!$H$6=\"Shetland Islands Local Authority\",0,IF('III Tool Overview'!$H$6=\"Eilean Siar Local Authority\",0,new_yll(20,B73,C73,D73,$C$1,G73,1,F73,E73*F73)))))))","v":0},{"$f":"IF('III Tool Overview'!$H$6=\"Orkney Health Board\",0,IF('III Tool Overview'!$H$6=\"Shetland Health Board\",0,IF('III Tool Overview'!$H$6=\"Western Isles Health Board\",0,IF('III Tool Overview'!$H$6=\"Orkney Islands Local Authority\",0,IF('III Tool Overview'!$H$6=\"Shetland Islands Local Authority\",0,IF('III Tool Overview'!$H$6=\"Eilean Siar Local Authority\",0,new_yll(20,B73,C73,D73,$C$1,G73+H73,1,F73,E73*F73)))))))","v":0},0,{"$f":"IF('III Tool Overview'!$H$6=\"Orkney Health Board\",0,IF('III Tool Overview'!$H$6=\"Shetland Health Board\",0,IF('III Tool Overview'!$H$6=\"Western Isles Health Board\",0,IF('III Tool Overview'!$H$6=\"Orkney Islands Local Authority\",0,IF('III Tool Overview'!$H$6=\"Shetland Islands Local Authority\",0,IF('III Tool Overview'!$H$6=\"Eilean Siar Local Authority\",0,hosp_count(2,B73,C73,D73,$C$1,G73,1,F73,E73*F73)))))))","v":0},{"$f":"IF('III Tool Overview'!$H$6=\"Orkney Health Board\",0,IF('III Tool Overview'!$H$6=\"Shetland Health Board\",0,IF('III Tool Overview'!$H$6=\"Western Isles Health Board\",0,IF('III Tool Overview'!$H$6=\"Orkney Islands Local Authority\",0,IF('III Tool Overview'!$H$6=\"Shetland Islands Local Authority\",0,IF('III Tool Overview'!$H$6=\"Eilean Siar Local Authority\",0,hosp_count(2,B73,C73,D73,$C$1,G73+H73,1,F73,E73*F73)))))))","v":0},0,{"$f":"IF('III Tool Overview'!$H$6=\"Orkney Health Board\",0,IF('III Tool Overview'!$H$6=\"Shetland Health Board\",0,IF('III Tool Overview'!$H$6=\"Western Isles Health Board\",0,IF('III Tool Overview'!$H$6=\"Orkney Islands Local Authority\",0,IF('III Tool Overview'!$H$6=\"Shetland Islands Local Authority\",0,IF('III Tool Overview'!$H$6=\"Eilean Siar Local Authority\",0,hosp_count(5,B73,C73,D73,$C$1,G73,1,F73,E73*F73)))))))","v":0},{"$f":"IF('III Tool Overview'!$H$6=\"Orkney Health Board\",0,IF('III Tool Overview'!$H$6=\"Shetland Health Board\",0,IF('III Tool Overview'!$H$6=\"Western Isles Health Board\",0,IF('III Tool Overview'!$H$6=\"Orkney Islands Local Authority\",0,IF('III Tool Overview'!$H$6=\"Shetland Islands Local Authority\",0,IF('III Tool Overview'!$H$6=\"Eilean Siar Local Authority\",0,hosp_count(5,B73,C73,D73,$C$1,G73+H73,1,F73,E73*F73)))))))","v":0},0,{"$f":"IF('III Tool Overview'!$H$6=\"Orkney Health Board\",0,IF('III Tool Overview'!$H$6=\"Shetland Health Board\",0,IF('III Tool Overview'!$H$6=\"Western Isles Health Board\",0,IF('III Tool Overview'!$H$6=\"Orkney Islands Local Authority\",0,IF('III Tool Overview'!$H$6=\"Shetland Islands Local Authority\",0,IF('III Tool Overview'!$H$6=\"Eilean Siar Local Authority\",0,hosp_count(10,B73,C73,D73,$C$1,G73,1,F73,E73*F73)))))))","v":0},{"$f":"IF('III Tool Overview'!$H$6=\"Orkney Health Board\",0,IF('III Tool Overview'!$H$6=\"Shetland Health Board\",0,IF('III Tool Overview'!$H$6=\"Western Isles Health Board\",0,IF('III Tool Overview'!$H$6=\"Orkney Islands Local Authority\",0,IF('III Tool Overview'!$H$6=\"Shetland Islands Local Authority\",0,IF('III Tool Overview'!$H$6=\"Eilean Siar Local Authority\",0,hosp_count(10,B73,C73,D73,$C$1,G73+H73,1,F73,E73*F73)))))))","v":0},0,{"$f":"IF('III Tool Overview'!$H$6=\"Orkney Health Board\",0,IF('III Tool Overview'!$H$6=\"Shetland Health Board\",0,IF('III Tool Overview'!$H$6=\"Western Isles Health Board\",0,IF('III Tool Overview'!$H$6=\"Orkney Islands Local Authority\",0,IF('III Tool Overview'!$H$6=\"Shetland Islands Local Authority\",0,IF('III Tool Overview'!$H$6=\"Eilean Siar Local Authority\",0,hosp_count(20,B73,C73,D73,$C$1,G73,1,F73,E73*F73)))))))","v":0},{"$f":"IF('III Tool Overview'!$H$6=\"Orkney Health Board\",0,IF('III Tool Overview'!$H$6=\"Shetland Health Board\",0,IF('III Tool Overview'!$H$6=\"Western Isles Health Board\",0,IF('III Tool Overview'!$H$6=\"Orkney Islands Local Authority\",0,IF('III Tool Overview'!$H$6=\"Shetland Islands Local Authority\",0,IF('III Tool Overview'!$H$6=\"Eilean Siar Local Authority\",0,hosp_count(20,B73,C73,D73,$C$1,G73+H73,1,F73,E73*F73)))))))","v":0},0,null,0.5,5]
["Male 35-39",37.5,"male",1,{"$f":"HLOOKUP('III Tool Overview'!$H$6,Prevalence!$B$2:$AV$268,Prevalence!AW70,FALSE)","v":0.65},{"$f":"HLOOKUP('III Tool Overview'!$H$6,LookUpData_Pop!$B$1:$AV$269,LookUpData_Pop!BB75,FALSE)/5","v":0},{"$f":"'III Tool Overview'!$H$9/110","v":0},{"$f":"IF('III Tool Overview'!$H$10=\"Even distribution\",Targeting!C72,IF('III Tool Overview'!$H$10=\"Targetting to Q1\",Targeting!D72,IF('III Tool Overview'!$H$10=\"Targetting to Q1 & Q2\",Targeting!E72,IF('III Tool Overview'!$H$10=\"No variation in price elasticity\",Targeting!G72))))","v":0},{"$f":"IF('III Tool Overview'!$H$6=\"Orkney Health Board\",0,IF('III Tool Overview'!$H$6=\"Shetland Health Board\",0,IF('III Tool Overview'!$H$6=\"Western Isles Health Board\",0,IF('III Tool Overview'!$H$6=\"Orkney Islands Local Authority\",0,IF('III Tool Overview'!$H$6=\"Shetland Islands Local Authority\",0,IF('III Tool Overview'!$H$6=\"Eilean Siar Local Authority\",0,new_ci(2,B74,C74,D74,$C$1,G74,1,F74,E74*F74)))))))","v":0},{"$f":"IF('III Tool Overview'!$H$6=\"Orkney Health Board\",0,IF('III Tool Overview'!$H$6=\"Shetland Health Board\",0,IF('III Tool Overview'!$H$6=\"Western Isles Health Board\",0,IF('III Tool Overview'!$H$6=\"Orkney Islands Local Authority\",0,IF('III Tool Overview'!$H$6=\"Shetland Islands Local Authority\",0,IF('III Tool Overview'!$H$6=\"Eilean Siar Local Authority\",0,new_ci(2,B74,C74,D74,$C$1,G74+H74,1,F74,E74*F74)))))))","v":0},{"$f":"IF('III Tool Overview'!$H$6=\"Orkney Health Board\",0,IF('III Tool Overview'!$H$6=\"Shetland Health Board\",0,IF('III Tool Overview'!$H$6=\"Western Isles Health Board\",0,IF('III Tool Overview'!$H$6=\"Orkney Islands Local Authority\",0,IF('III Tool Overview'!$H$6=\"Shetland Islands Local Authority\",0,IF('III Tool Overview'!$H$6=\"Eilean Siar Local Authority\",0,new_ci(5,B74,C74,D74,$C$1,G74,1,F74,E74*F74)))))))","v":0},{"$f":"IF('III Tool Overview'!$H$6=\"Orkney Health Board\",0,IF('III Tool Overview'!$H$6=\"Shetland Health Board\",0,IF('III Tool Overview'!$H$6=\"Western Isles Health Board\",0,IF('III Tool Overview'!$H$6=\"Orkney Islands Local Authority\",0,IF('III Tool Overview'!$H$6=\"Shetland Islands Local Authority\",0,IF('III Tool Overview'!$H$6=\"Eilean Siar Local Authority\",0,new_ci(5,B74,C74,D74,$C$1,G74+H74,1,F74,E74*F74)))))))","v":0},{"$f":"IF('III Tool Overview'!$H$6=\"Orkney Health Board\",0,IF('III Tool Overview'!$H$6=\"Shetland Health Board\",0,IF('III Tool Overview'!$H$6=\"Western Isles Health Board\",0,IF('III Tool Overview'!$H$6=\"Orkney Islands Local Authority\",0,IF('III Tool Overview'!$H$6=\"Shetland Islands Local Authority\",0,IF('III Tool Overview'!$H$6=\"Eilean Siar Local Authority\",0,new_ci(10,B74,C74,D74,$C$1,G74,1,F74,E74*F74)))))))","v":0},{"$f":"IF('III Tool Overview'!$H$6=\"Orkney Health Board\",0,IF('III Tool Overview'!$H$6=\"Shetland Health Board\",0,IF('III Tool Overview'!$H$6=\"Western Isles Health Board\",0,IF('III Tool Overview'!$H$6=\"Orkney Islands Local Authority\",0,IF('III Tool Overview'!$H$6=\"Shetland Islands Local Authority\",0,IF('III Tool Overview'!$H$6=\"Eilean Siar Local Authority\",0,new_ci(10,B74,C74,D74,$C$1,G74+H74,1,F74,E74*F74)))))))","v":0},{"$f":"IF('III Tool Overview'!$H$6=\"Orkney Health Board\",0,IF('III Tool Overview'!$H$6=\"Shetland Health Board\",0,IF('III Tool Overview'!$H$6=\"Western Isles Health Board\",0,IF('III Tool Overview'!$H$6=\"Orkney Islands Local Authority\",0,IF('III Tool Overview'!$H$6=\"Shetland Islands Local Authority\",0,IF('III Tool Overview'!$H$6=\"Eilean Siar Local Authority\",0,new_ci(20,B74,C74,D74,$C$1,G74,1,F74,E74*F74)))))))","v":0},{"$f":"IF('III Tool Overview'!$H$6=\"Orkney Health Board\",0,IF('III Tool Overview'!$H$6=\"Shetland Health Board\",0,IF('III Tool Overview'!$H$6=\"Western Isles Health Board\",0,IF('III Tool Overview'!$H$6=\"Orkney Islands Local Authority\",0,IF('III Tool Overview'!$H$6=\"Shetland Islands Local Authority\",0,IF('III Tool Overview'!$H$6=\"Eilean Siar Local Authority\",0,new_ci(20,B74,C74,D74,$C$1,G74+H74,1,F74,E74*F74)))))))","v":0},{"$f":"IF('III Tool Overview'!$H$6=\"Orkney Health Board\",0,IF('III Tool Overview'!$H$6=\"Shetland Health Board\",0,IF('III Tool Overview'!$H$6=\"Western Isles Health Board\",0,IF('III Tool Overview'!$H$6=\"Orkney Islands Local Authority\",0,IF('III Tool Overview'!$H$6=\"Shetland Islands Local Authority\",0,IF('III Tool Overview'!$H$6=\"Eilean Siar Local Authority\",0,new_yll(2,B74,C74,D74,$C$1,G74,1,F74,E74*F74)))))))","v":0},{"$f":"IF('III Tool Overview'!$H$6=\"Orkney Health Board\",0,IF('III Tool Overview'!$H$6=\"Shetland Health Board\",0,IF('III Tool Overview'!$H$6=\"Western Isles Health Board\",0,IF('III Tool Overview'!$H$6=\"Orkney Islands Local Authority\",0,IF('III Tool Overview'!$H$6=\"Shetland Islands Local Authority\",0,IF('III Tool Overview'!$H$6=\"Eilean Siar Local Authority\",0,new_yll(2,B74,C74,D74,$C$1,G74+H74,1,F74,E74*F74)))))))","v":0},0,{"$f":"IF('III Tool Overview'!$H$6=\"Orkney Health Board\",0,IF('III Tool Overview'!$H$6=\"Shetland Health Board\",0,IF('III Tool Overview'!$H$6=\"Western Isles Health Board\",0,IF('III Tool Overview'!$H$6=\"Orkney Islands Local Authority\",0,IF('III Tool Overview'!$H$6=\"Shetland Islands Local Authority\",0,IF('III Tool Overview'!$H$6=\"Eilean Siar Local Authority\",0,new_yll(5,B74,C74,D74,$C$1,G74,1,F74,E74*F74)))))))","v":0},{"$f":"IF('III Tool Overview'!$H$6=\"Orkney Health Board\",0,IF('III Tool Overview'!$H$6=\"Shetland Health Board\",0,IF('III Tool Overview'!$H$6=\"Western Isles Health Board\",0,IF('III Tool Overview'!$H$6=\"Orkney Islands Local Authority\",0,IF('III Tool Overview'!$H$6=\"Shetland Islands Local Authority\",0,IF('III Tool Overview'!$H$6=\"Eilean Siar Local Authority\",0,new_yll(5,B74,C74,D74,$C$1,G74+H74,1,F74,E74*F74)))))))","v":0},0,{"$f":"IF('III Tool Overview'!$H$6=\"Orkney Health Board\",0,IF('III Tool Overview'!$H$6=\"Shetland Health Board\",0,IF('III Tool Overview'!$H$6=\"Western Isles Health Board\",0,IF('III Tool Overview'!$H$6=\"Orkney Islands Local Authority\",0,IF('III Tool Overview'!$H$6=\"Shetland Islands Local Authority\",0,IF('III Tool Overview'!$H$6=\"Eilean Siar Local Authority\",0,new_yll(10,B74,C74,D74,$C$1,G74,1,F74,E74*F74)))))))","v":0},{"$f":"IF('III Tool Overview'!$H$6=\"Orkney Health Board\",0,IF('III Tool Overview'!$H$6=\"Shetland Health Board\",0,IF('III Tool Overview'!$H$6=\"Western Isles Health Board\",0,IF('III Tool Overview'!$H$6=\"Orkney Islands Local Authority\",0,IF('III Tool Overview'!$H$6=\"Shetland Islands Local Authority\",0,IF('III Tool Overview'!$H$6=\"Eilean Siar Local Authority\",0,new_yll(10,B74,C74,D74,$C$1,G74+H74,1,F74,E74*F74)))))))","v":0},0,{"$f":"IF('III Tool Overview'!$H$6=\"Orkney Health Board\",0,IF('III Tool Overview'!$H$6=\"Shetland Health Board\",0,IF('III Tool Overview'!$H$6=\"Western Isles Health Board\",0,IF('III Tool Overview'!$H$6=\"Orkney Islands Local Authority\",0,IF('III Tool Overview'!$H$6=\"Shetland Islands Local Authority\",0,IF('III Tool Overview'!$H$6=\"Eilean Siar Local Authority\",0,new_yll(20,B74,C74,D74,$C$1,G74,1,F74,E74*F74)))))))","v":0},{"$f":"IF('III Tool Overview'!$H$6=\"Orkney Health Board\",0,IF('III Tool Overview'!$H$6=\"Shetland Health Board\",0,IF('III Tool Overview'!$H$6=\"Western Isles Health Board\",0,IF('III Tool Overview'!$H$6=\"Orkney Islands Local Authority\",0,IF('III Tool Overview'!$H$6=\"Shetland Islands Local Authority\",0,IF('III Tool Overview'!$H$6=\"Eilean Siar Local Authority\",0,new_yll(20,B74,C74,D74,$C$1,G74+H74,1,F74,E74*F74)))))))","v":0},0,{"$f":"IF('III Tool Overview'!$H$6=\"Orkney Health Board\",0,IF('III Tool Overview'!$H$6=\"Shetland Health Board\",0,IF('III Tool Overview'!$H$6=\"Western Isles Health Board\",0,IF('III Tool Overview'!$H$6=\"Orkney Islands Local Authority\",0,IF('III Tool Overview'!$H$6=\"Shetland Islands Local Authority\",0,IF('III Tool Overview'!$H$6=\"Eilean Siar Local Authority\",0,hosp_count(2,B74,C74,D74,$C$1,G74,1,F74,E74*F74)))))))","v":0},{"$f":"IF('III Tool Overview'!$H$6=\"Orkney Health Board\",0,IF('III Tool Overview'!$H$6=\"Shetland Health Board\",0,IF('III Tool Overview'!$H$6=\"Western Isles Health Board\",0,IF('III Tool Overview'!$H$6=\"Orkney Islands Local Authority\",0,IF('III Tool Overview'!$H$6=\"Shetland Islands Local Authority\",0,IF('III Tool Overview'!$H$6=\"Eilean Siar Local Authority\",0,hosp_count(2,B74,C74,D74,$C$1,G74+H74,1,F74,E74*F74)))))))","v":0},0,{"$f":"IF('III Tool Overview'!$H$6=\"Orkney Health Board\",0,IF('III Tool Overview'!$H$6=\"Shetland Health Board\",0,IF('III Tool Overview'!$H$6=\"Western Isles Health Board\",0,IF('III Tool Overview'!$H$6=\"Orkney Islands Local Authority\",0,IF('III Tool Overview'!$H$6=\"Shetland Islands Local Authority\",0,IF('III Tool Overview'!$H$6=\"Eilean Siar Local Authority\",0,hosp_count(5,B74,C74,D74,$C$1,G74,1,F74,E74*F74)))))))","v":0},{"$f":"IF('III Tool Overview'!$H$6=\"Orkney Health Board\",0,IF('III Tool Overview'!$H$6=\"Shetland Health Board\",0,IF('III Tool Overview'!$H$6=\"Western Isles Health Board\",0,IF('III Tool Overview'!$H$6=\"Orkney Islands Local Authority\",0,IF('III Tool Overview'!$H$6=\"Shetland Islands Local Authority\",0,IF('III Tool Overview'!$H$6=\"Eilean Siar Local Authority\",0,hosp_count(5,B74,C74,D74,$C$1,G74+H74,1,F74,E74*F74)))))))","v":0},0,{"$f":"IF('III Tool Overview'!$H$6=\"Orkney Health Board\",0,IF('III Tool Overview'!$H$6=\"Shetland Health Board\",0,IF('III Tool Overview'!$H$6=\"Western Isles Health Board\",0,IF('III Tool Overview'!$H$6=\"Orkney Islands Local Authority\",0,IF('III Tool Overview'!$H$6=\"Shetland Islands Local Authority\",0,IF('III Tool Overview'!$H$6=\"Eilean Siar Local Authority\",0,hosp_count(10,B74,C74,D74,$C$1,G74,1,F74,E74*F74)))))))","v":0},{"$f":"IF('III Tool Overview'!$H$6=\"Orkney Health Board\",0,IF('III Tool Overview'!$H$6=\"Shetland Health Board\",0,IF('III Tool Overview'!$H$6=\"Western Isles Health Board\",0,IF('III Tool Overview'!$H$6=\"Orkney Islands Local Authority\",0,IF('III Tool Overview'!$H$6=\"Shetland Islands Local Authority\",0,IF('III Tool Overview'!$H$6=\"Eilean Siar Local Authority\",0,hosp_count(10,B74,C74,D74,$C$1,G74+H74,1,F74,E74*F74)))))))","v":0},0,{"$f":"IF('III Tool Overview'!$H$6=\"Orkney Health Board\",0,IF('III Tool Overview'!$H$6=\"Shetland Health Board\",0,IF('III Tool Overview'!$H$6=\"Western Isles Health Board\",0,IF('III Tool Overview'!$H$6=\"Orkney Islands Local Authority\",0,IF('III Tool Overview'!$H$6=\"Shetland Islands Local Authority\",0,IF('III Tool Overview'!$H$6=\"Eilean Siar Local Authority\",0,hosp_count(20,B74,C74,D74,$C$1,G74,1,F74,E74*F74)))))))","v":0},{"$f":"IF('III Tool Overview'!$H$6=\"Orkney Health Board\",0,IF('III Tool Overview'!$H$6=\"Shetland Health Board\",0,IF('III Tool Overview'!$H$6=\"Western Isles Health Board\",0,IF('III Tool Overview'!$H$6=\"Orkney Islands Local Authority\",0,IF('III Tool Overview'!$H$6=\"Shetland Islands Local Authority\",0,IF('III Tool Overview'!$H$6=\"Eilean Siar Local Authority\",0,hosp_count(20,B74,C74,D74,$C$1,G74+H74,1,F74,E74*F74)))))))","v":0},0,null,0.5,5]
["Male 40-44",42.5,"male",1,{"$f":"HLOOKUP('III Tool Overview'!$H$6,Prevalence!$B$2:$AV$268,Prevalence!AW71,FALSE)","v":0.65},{"$f":"HLOOKUP('III Tool Overview'!$H$6,LookUpData_Pop!$B$1:$AV$269,LookUpData_Pop!BB76,FALSE)/5","v":0},{"$f":"'III Tool Overview'!$H$9/110","v":0},{"$f":"IF('III Tool Overview'!$H$10=\"Even distribution\",Targeting!C73,IF('III Tool Overview'!$H$10=\"Targetting to Q1\",Targeting!D73,IF('III Tool Overview'!$H$10=\"Targetting to Q1 & Q2\",Targeting!E73,IF('III Tool Overview'!$H$10=\"No variation in price elasticity\",Targeting!G73))))","v":0},{"$f":"IF('III Tool Overview'!$H$6=\"Orkney Health Board\",0,IF('III Tool Overview'!$H$6=\"Shetland Health Board\",0,IF('III Tool Overview'!$H$6=\"Western Isles Health Board\",0,IF('III Tool Overview'!$H$6=\"Orkney Islands Local Authority\",0,IF('III Tool Overview'!$H$6=\"Shetland Islands Local Authority\",0,IF('III Tool Overview'!$H$6=\"Eilean Siar Local Authority\",0,new_ci(2,B75,C75,D75,$C$1,G75,1,F75,E75*F75)))))))","v":0},{"$f":"IF('III Tool Overview'!$H$6=\"Orkney Health Board\",0,IF('III Tool Overview'!$H$6=\"Shetland Health Board\",0,IF('III Tool Overview'!$H$6=\"Western Isles Health Board\",0,IF('III Tool Overview'!$H$6=\"Orkney Islands Local Authority\",0,IF('III Tool Overview'!$H$6=\"Shetland Islands Local Authority\",0,IF('III Tool Overview'!$H$6=\"Eilean Siar Local Authority\",0,new_ci(2,B75,C75,D75,$C$1,G75+H75,1,F75,E75*F75)))))))","v":0},{"$f":"IF('III Tool Overview'!$H$6=\"Orkney Health Board\",0,IF('III Tool Overview'!$H$6=\"Shetland Health Board\",0,IF('III Tool Overview'!$H$6=\"Western Isles Health Board\",0,IF('III Tool Overview'!$H$6=\"Orkney Islands Local Authority\",0,IF('III Tool Overview'!$H$6=\"Shetland Islands Local Authority\",0,IF('III Tool Overview'!$H$6=\"Eilean Siar Local Authority\",0,new_ci(5,B75,C75,D75,$C$1,G75,1,F75,E75*F75)))))))","v":0},{"$f":"IF('III Tool Overview'!$H$6=\"Orkney Health Board\",0,IF('III Tool Overview'!$H$6=\"Shetland Health Board\",0,IF('III Tool Overview'!$H$6=\"Western Isles Health Board\",0,IF('III Tool Overview'!$H$6=\"Orkney Islands Local Authority\",0,IF('III Tool Overview'!$H$6=\"Shetland Islands Local Authority\",0,IF('III Tool Overview'!$H$6=\"Eilean Siar Local Authority\",0,new_ci(5,B75,C75,D75,$C$1,G75+H75,1,F75,E75*F75)))))))","v":0},{"$f":"IF('III Tool Overview'!$H$6=\"Orkney Health Board\",0,IF('III Tool Overview'!$H$6=\"Shetland Health Board\",0,IF('III Tool Overview'!$H$6=\"Western Isles Health Board\",0,IF('III Tool Overview'!$H$6=\"Orkney Islands Local Authority\",0,IF('III Tool Overview'!$H$6=\"Shetland Islands Local Authority\",0,IF('III Tool Overview'!$H$6=\"Eilean Siar Local Authority\",0,new_ci(10,B75,C75,D75,$C$1,G75,1,F75,E75*F75)))))))","v":0},{"$f":"IF('III Tool Overview'!$H$6=\"Orkney Health Board\",0,IF('III Tool Overview'!$H$6=\"Shetland Health Board\",0,IF('III Tool Overview'!$H$6=\"Western Isles Health Board\",0,IF('III Tool Overview'!$H$6=\"Orkney Islands Local Authority\",0,IF('III Tool Overview'!$H$6=\"Shetland Islands Local Authority\",0,IF('III Tool Overview'!$H$6=\"Eilean Siar Local Authority\",0,new_ci(10,B75,C75,D75,$C$1,G75+H75,1,F75,E75*F75)))))))","v":0},{"$f":"IF('III Tool Overview'!$H$6=\"Orkney Health Board\",0,IF('III Tool Overview'!$H$6=\"Shetland Health Board\",0,IF('III Tool Overview'!$H$6=\"Western Isles Health Board\",0,IF('III Tool Overview'!$H$6=\"Orkney Islands Local Authority\",0,IF('III Tool Overview'!$H$6=\"Shetland Islands Local Authority\",0,IF('III Tool Overview'!$H$6=\"Eilean Siar Local Authority\",0,new_ci(20,B75,C75,D75,$C$1,G75,1,F75,E75*F75)))))))","v":0},{"$f":"IF('III Tool Overview'!$H$6=\"Orkney Health Board\",0,IF('III Tool Overview'!$H$6=\"Shetland Health Board\",0,IF('III Tool Overview'!$H$6=\"Western Isles Health Board\",0,IF('III Tool Overview'!$H$6=\"Orkney Islands Local Authority\",0,IF('III Tool Overview'!$H$6=\"Shetland Islands Local Authority\",0,IF('III Tool Overview'!$H$6=\"Eilean Siar Local Authority\",0,new_ci(20,B75,C75,D75,$C$1,G75+H75,1,F75,E75*F75)))))))","v":0},{"$f":"IF('III Tool Overview'!$H$6=\"Orkney Health Board\",0,IF('III Tool Overview'!$H$6=\"Shetland Health Board\",0,IF('III Tool Overview'!$H$6=\"Western Isles Health Board\",0,IF('III Tool Overview'!$H$6=\"Orkney Islands Local Authority\",0,IF('III Tool Overview'!$H$6=\"Shetland Islands Local Authority\",0,IF('III Tool Overview'!$H$6=\"Eilean Siar Local Authority\",0,new_yll(2,B75,C75,D75,$C$1,G75,1,F75,E75*F75)))))))","v":0},{"$f":"IF('III Tool Overview'!$H$6=\"Orkney Health Board\",0,IF('III Tool Overview'!$H$6=\"Shetland Health Board\",0,IF('III Tool Overview'!$H$6=\"Western Isles Health Board\",0,IF('III Tool Overview'!$H$6=\"Orkney Islands Local Authority\",0,IF('III Tool Overview'!$H$6=\"Shetland Islands Local Authority\",0,IF('III Tool Overview'!$H$6=\"Eilean Siar Local Authority\",0,new_yll(2,B75,C75,D75,$C$1,G75+H75,1,F75,E75*F75)))))))","v":0},0,{"$f":"IF('III Tool Overview'!$H$6=\"Orkney Health Board\",0,IF('III Tool Overview'!$H$6=\"Shetland Health Board\",0,IF('III Tool Overview'!$H$6=\"Western Isles Health Board\",0,IF('III Tool Overview'!$H$6=\"Orkney Islands Local Authority\",0,IF('III Tool Overview'!$H$6=\"Shetland Islands Local Authority\",0,IF('III Tool Overview'!$H$6=\"Eilean Siar Local Authority\",0,new_yll(5,B75,C75,D75,$C$1,G75,1,F75,E75*F75)))))))","v":0},{"$f":"IF('III Tool Overview'!$H$6=\"Orkney Health Board\",0,IF('III Tool Overview'!$H$6=\"Shetland Health Board\",0,IF('III Tool Overview'!$H$6=\"Western Isles Health Board\",0,IF('III Tool Overview'!$H$6=\"Orkney Islands Local Authority\",0,IF('III Tool Overview'!$H$6=\"Shetland Islands Local Authority\",0,IF('III Tool Overview'!$H$6=\"Eilean Siar Local Authority\",0,new_yll(5,B75,C75,D75,$C$1,G75+H75,1,F75,E75*F75)))))))","v":0},0,{"$f":"IF('III Tool Overview'!$H$6=\"Orkney Health Board\",0,IF('III Tool Overview'!$H$6=\"Shetland Health Board\",0,IF('III Tool Overview'!$H$6=\"Western Isles Health Board\",0,IF('III Tool Overview'!$H$6=\"Orkney Islands Local Authority\",0,IF('III Tool Overview'!$H$6=\"Shetland Islands Local Authority\",0,IF('III Tool Overview'!$H$6=\"Eilean Siar Local Authority\",0,new_yll(10,B75,C75,D75,$C$1,G75,1,F75,E75*F75)))))))","v":0},{"$f":"IF('III Tool Overview'!$H$6=\"Orkney Health Board\",0,IF('III Tool Overview'!$H$6=\"Shetland Health Board\",0,IF('III Tool Overview'!$H$6=\"Western Isles Health Board\",0,IF('III Tool Overview'!$H$6=\"Orkney Islands Local Authority\",0,IF('III Tool Overview'!$H$6=\"Shetland Islands Local Authority\",0,IF('III Tool Overview'!$H$6=\"Eilean Siar Local Authority\",0,new_yll(10,B75,C75,D75,$C$1,G75+H75,1,F75,E75*F75)))))))","v":0},0,{"$f":"IF('III Tool Overview'!$H$6=\"Orkney Health Board\",0,IF('III Tool Overview'!$H$6=\"Shetland Health Board\",0,IF('III Tool Overview'!$H$6=\"Western Isles Health Board\",0,IF('III Tool Overview'!$H$6=\"Orkney Islands Local Authority\",0,IF('III Tool Overview'!$H$6=\"Shetland Islands Local Authority\",0,IF('III Tool Overview'!$H$6=\"Eilean Siar Local Authority\",0,new_yll(20,B75,C75,D75,$C$1,G75,1,F75,E75*F75)))))))","v":0},{"$f":"IF('III Tool Overview'!$H$6=\"Orkney Health Board\",0,IF('III Tool Overview'!$H$6=\"Shetland Health Board\",0,IF('III Tool Overview'!$H$6=\"Western Isles Health Board\",0,IF('III Tool Overview'!$H$6=\"Orkney Islands Local Authority\",0,IF('III Tool Overview'!$H$6=\"Shetland Islands Local Authority\",0,IF('III Tool Overview'!$H$6=\"Eilean Siar Local Authority\",0,new_yll(20,B75,C75,D75,$C$1,G75+H75,1,F75,E75*F75)))))))","v":0},0,{"$f":"IF('III Tool Overview'!$H$6=\"Orkney Health Board\",0,IF('III Tool Overview'!$H$6=\"Shetland Health Board\",0,IF('III Tool Overview'!$H$6=\"Western Isles Health Board\",0,IF('III Tool Overview'!$H$6=\"Orkney Islands Local Authority\",0,IF('III Tool Overview'!$H$6=\"Shetland Islands Local Authority\",0,IF('III Tool Overview'!$H$6=\"Eilean Siar Local Authority\",0,hosp_count(2,B75,C75,D75,$C$1,G75,1,F75,E75*F75)))))))","v":0},{"$f":"IF('III Tool Overview'!$H$6=\"Orkney Health Board\",0,IF('III Tool Overview'!$H$6=\"Shetland Health Board\",0,IF('III Tool Overview'!$H$6=\"Western Isles Health Board\",0,IF('III Tool Overview'!$H$6=\"Orkney Islands Local Authority\",0,IF('III Tool Overview'!$H$6=\"Shetland Islands Local Authority\",0,IF('III Tool Overview'!$H$6=\"Eilean Siar Local Authority\",0,hosp_count(2,B75,C75,D75,$C$1,G75+H75,1,F75,E75*F75)))))))","v":0},0,{"$f":"IF('III Tool Overview'!$H$6=\"Orkney Health Board\",0,IF('III Tool Overview'!$H$6=\"Shetland Health Board\",0,IF('III Tool Overview'!$H$6=\"Western Isles Health Board\",0,IF('III Tool Overview'!$H$6=\"Orkney Islands Local Authority\",0,IF('III Tool Overview'!$H$6=\"Shetland Islands Local Authority\",0,IF('III Tool Overview'!$H$6=\"Eilean Siar Local Authority\",0,hosp_count(5,B75,C75,D75,$C$1,G75,1,F75,E75*F75)))))))","v":0},{"$f":"IF('III Tool Overview'!$H$6=\"Orkney Health Board\",0,IF('III Tool Overview'!$H$6=\"Shetland Health Board\",0,IF('III Tool Overview'!$H$6=\"Western Isles Health Board\",0,IF('III Tool Overview'!$H$6=\"Orkney Islands Local Authority\",0,IF('III Tool Overview'!$H$6=\"Shetland Islands Local Authority\",0,IF('III Tool Overview'!$H$6=\"Eilean Siar Local Authority\",0,hosp_count(5,B75,C75,D75,$C$1,G75+H75,1,F75,E75*F75)))))))","v":0},0,{"$f":"IF('III Tool Overview'!$H$6=\"Orkney Health Board\",0,IF('III Tool Overview'!$H$6=\"Shetland Health Board\",0,IF('III Tool Overview'!$H$6=\"Western Isles Health Board\",0,IF('III Tool Overview'!$H$6=\"Orkney Islands Local Authority\",0,IF('III Tool Overview'!$H$6=\"Shetland Islands Local Authority\",0,IF('III Tool Overview'!$H$6=\"Eilean Siar Local Authority\",0,hosp_count(10,B75,C75,D75,$C$1,G75,1,F75,E75*F75)))))))","v":0},{"$f":"IF('III Tool Overview'!$H$6=\"Orkney Health Board\",0,IF('III Tool Overview'!$H$6=\"Shetland Health Board\",0,IF('III Tool Overview'!$H$6=\"Western Isles Health Board\",0,IF('III Tool Overview'!$H$6=\"Orkney Islands Local Authority\",0,IF('III Tool Overview'!$H$6=\"Shetland Islands Local Authority\",0,IF('III Tool Overview'!$H$6=\"Eilean Siar Local Authority\",0,hosp_count(10,B75,C75,D75,$C$1,G75+H75,1,F75,E75*F75)))))))","v":0},0,{"$f":"IF('III Tool Overview'!$H$6=\"Orkney Health Board\",0,IF('III Tool Overview'!$H$6=\"Shetland Health Board\",0,IF('III Tool Overview'!$H$6=\"Western Isles Health Board\",0,IF('III Tool Overview'!$H$6=\"Orkney Islands Local Authority\",0,IF('III Tool Overview'!$H$6=\"Shetland Islands Local Authority\",0,IF('III Tool Overview'!$H$6=\"Eilean Siar Local Authority\",0,hosp_count(20,B75,C75,D75,$C$1,G75,1,F75,E75*F75)))))))","v":0},{"$f":"IF('III Tool Overview'!$H$6=\"Orkney Health Board\",0,IF('III Tool Overview'!$H$6=\"Shetland Health Board\",0,IF('III Tool Overview'!$H$6=\"Western Isles Health Board\",0,IF('III Tool Overview'!$H$6=\"Orkney Islands Local Authority\",0,IF('III Tool Overview'!$H$6=\"Shetland Islands Local Authority\",0,IF('III Tool Overview'!$H$6=\"Eilean Siar Local Authority\",0,hosp_count(20,B75,C75,D75,$C$1,G75+H75,1,F75,E75*F75)))))))","v":0},0,null,0.5,5]
["Male 45-49",47.5,"male",1,{"$f":"HLOOKUP('III Tool Overview'!$H$6,Prevalence!$B$2:$AV$268,Prevalence!AW72,FALSE)","v":0.5625},{"$f":"HLOOKUP('III Tool Overview'!$H$6,LookUpData_Pop!$B$1:$AV$269,LookUpData_Pop!BB77,FALSE)/5","v":0},{"$f":"'III Tool Overview'!$H$9/110","v":0},{"$f":"IF('III Tool Overview'!$H$10=\"Even distribution\",Targeting!C74,IF('III Tool Overview'!$H$10=\"Targetting to Q1\",Targeting!D74,IF('III Tool Overview'!$H$10=\"Targetting to Q1 & Q2\",Targeting!E74,IF('III Tool Overview'!$H$10=\"No variation in price elasticity\",Targeting!G74))))","v":0},{"$f":"IF('III Tool Overview'!$H$6=\"Orkney Health Board\",0,IF('III Tool Overview'!$H$6=\"Shetland Health Board\",0,IF('III Tool Overview'!$H$6=\"Western Isles Health Board\",0,IF('III Tool Overview'!$H$6=\"Orkney Islands Local Authority\",0,IF('III Tool Overview'!$H$6=\"Shetland Islands Local Authority\",0,IF('III Tool Overview'!$H$6=\"Eilean Siar Local Authority\",0,new_ci(2,B76,C76,D76,$C$1,G76,1,F76,E76*F76)))))))","v":0},{"$f":"IF('III Tool Overview'!$H$6=\"Orkney Health Board\",0,IF('III Tool Overview'!$H$6=\"Shetland Health Board\",0,IF('III Tool Overview'!$H$6=\"Western Isles Health Board\",0,IF('III Tool Overview'!$H$6=\"Orkney Islands Local Authority\",0,IF('III Tool Overview'!$H$6=\"Shetland Islands Local Authority\",0,IF('III Tool Overview'!$H$6=\"Eilean Siar Local Authority\",0,new_ci(2,B76,C76,D76,$C$1,G76+H76,1,F76,E76*F76)))))))","v":0},{"$f":"IF('III Tool Overview'!$H$6=\"Orkney Health Board\",0,IF('III Tool Overview'!$H$6=\"Shetland Health Board\",0,IF('III Tool Overview'!$H$6=\"Western Isles Health Board\",0,IF('III Tool Overview'!$H$6=\"Orkney Islands Local Authority\",0,IF('III Tool Overview'!$H$6=\"Shetland Islands Local Authority\",0,IF('III Tool Overview'!$H$6=\"Eilean Siar Local Authority\",0,new_ci(5,B76,C76,D76,$C$1,G76,1,F76,E76*F76)))))))","v":0},{"$f":"IF('III Tool Overview'!$H$6=\"Orkney Health Board\",0,IF('III Tool Overview'!$H$6=\"Shetland Health Board\",0,IF('III Tool Overview'!$H$6=\"Western Isles Health Board\",0,IF('III Tool Overview'!$H$6=\"Orkney Islands Local Authority\",0,IF('III Tool Overview'!$H$6=\"Shetland Islands Local Authority\",0,IF('III Tool Overview'!$H$6=\"Eilean Siar Local Authority\",0,new_ci(5,B76,C76,D76,$C$1,G76+H76,1,F76,E76*F76)))))))","v":0},{"$f":"IF('III Tool Overview'!$H$6=\"Orkney Health Board\",0,IF('III Tool Overview'!$H$6=\"Shetland Health Board\",0,IF('III Tool Overview'!$H$6=\"Western Isles Health Board\",0,IF('III Tool Overview'!$H$6=\"Orkney Islands Local Authority\",0,IF('III Tool Overview'!$H$6=\"Shetland Islands Local Authority\",0,IF('III Tool Overview'!$H$6=\"Eilean Siar Local Authority\",0,new_ci(10,B76,C76,D76,$C$1,G76,1,F76,E76*F76)))))))","v":0},{"$f":"IF('III Tool Overview'!$H$6=\"Orkney Health Board\",0,IF('III Tool Overview'!$H$6=\"Shetland Health Board\",0,IF('III Tool Overview'!$H$6=\"Western Isles Health Board\",0,IF('III Tool Overview'!$H$6=\"Orkney Islands Local Authority\",0,IF('III Tool Overview'!$H$6=\"Shetland Islands Local Authority\",0,IF('III Tool Overview'!$H$6=\"Eilean Siar Local Authority\",0,new_ci(10,B76,C76,D76,$C$1,G76+H76,1,F76,E76*F76)))))))","v":0},{"$f":"IF('III Tool Overview'!$H$6=\"Orkney Health Board\",0,IF('III Tool Overview'!$H$6=\"Shetland Health Board\",0,IF('III Tool Overview'!$H$6=\"Western Isles Health Board\",0,IF('III Tool Overview'!$H$6=\"Orkney Islands Local Authority\",0,IF('III Tool Overview'!$H$6=\"Shetland Islands Local Authority\",0,IF('III Tool Overview'!$H$6=\"Eilean Siar Local Authority\",0,new_ci(20,B76,C76,D76,$C$1,G76,1,F76,E76*F76)))))))","v":0},{"$f":"IF('III Tool Overview'!$H$6=\"Orkney Health Board\",0,IF('III Tool Overview'!$H$6=\"Shetland Health Board\",0,IF('III Tool Overview'!$H$6=\"Western Isles Health Board\",0,IF('III Tool Overview'!$H$6=\"Orkney Islands Local Authority\",0,IF('III Tool Overview'!$H$6=\"Shetland Islands Local Authority\",0,IF('III Tool Overview'!$H$6=\"Eilean Siar Local Authority\",0,new_ci(20,B76,C76,D76,$C$1,G76+H76,1,F76,E76*F76)))))))","v":0},{"$f":"IF('III Tool Overview'!$H$6=\"Orkney Health Board\",0,IF('III Tool Overview'!$H$6=\"Shetland Health Board\",0,IF('III Tool Overview'!$H$6=\"Western Isles Health Board\",0,IF('III Tool Overview'!$H$6=\"Orkney Islands Local Authority\",0,IF('III Tool Overview'!$H$6=\"Shetland Islands Local Authority\",0,IF('III Tool Overview'!$H$6=\"Eilean Siar Local Authority\",0,new_yll(2,B76,C76,D76,$C$1,G76,1,F76,E76*F76)))))))","v":0},{"$f":"IF('III Tool Overview'!$H$6=\"Orkney Health Board\",0,IF('III Tool Overview'!$H$6=\"Shetland Health Board\",0,IF('III Tool Overview'!$H$6=\"Western Isles Health Board\",0,IF('III Tool Overview'!$H$6=\"Orkney Islands Local Authority\",0,IF('III Tool Overview'!$H$6=\"Shetland Islands Local Authority\",0,IF('III Tool Overview'!$H$6=\"Eilean Siar Local Authority\",0,new_yll(2,B76,C76,D76,$C$1,G76+H76,1,F76,E76*F76)))))))","v":0},0,{"$f":"IF('III Tool Overview'!$H$6=\"Orkney Health Board\",0,IF('III Tool Overview'!$H$6=\"Shetland Health Board\",0,IF('III Tool Overview'!$H$6=\"Western Isles Health Board\",0,IF('III Tool Overview'!$H$6=\"Orkney Islands Local Authority\",0,IF('III Tool Overview'!$H$6=\"Shetland Islands Local Authority\",0,IF('III Tool Overview'!$H$6=\"Eilean Siar Local Authority\",0,new_yll(5,B76,C76,D76,$C$1,G76,1,F76,E76*F76)))))))","v":0},{"$f":"IF('III Tool Overview'!$H$6=\"Orkney Health Board\",0,IF('III Tool Overview'!$H$6=\"Shetland Health Board\",0,IF('III Tool Overview'!$H$6=\"Western Isles Health Board\",0,IF('III Tool Overview'!$H$6=\"Orkney Islands Local Authority\",0,IF('III Tool Overview'!$H$6=\"Shetland Islands Local Authority\",0,IF('III Tool Overview'!$H$6=\"Eilean Siar Local Authority\",0,new_yll(5,B76,C76,D76,$C$1,G76+H76,1,F76,E76*F76)))))))","v":0},0,{"$f":"IF('III Tool Overview'!$H$6=\"Orkney Health Board\",0,IF('III Tool Overview'!$H$6=\"Shetland Health Board\",0,IF('III Tool Overview'!$H$6=\"Western Isles Health Board\",0,IF('III Tool Overview'!$H$6=\"Orkney Islands Local Authority\",0,IF('III Tool Overview'!$H$6=\"Shetland Islands Local Authority\",0,IF('III Tool Overview'!$H$6=\"Eilean Siar Local Authority\",0,new_yll(10,B76,C76,D76,$C$1,G76,1,F76,E76*F76)))))))","v":0},{"$f":"IF('III Tool Overview'!$H$6=\"Orkney Health Board\",0,IF('III Tool Overview'!$H$6=\"Shetland Health Board\",0,IF('III Tool Overview'!$H$6=\"Western Isles Health Board\",0,IF('III Tool Overview'!$H$6=\"Orkney Islands Local Authority\",0,IF('III Tool Overview'!$H$6=\"Shetland Islands Local Authority\",0,IF('III Tool Overview'!$H$6=\"Eilean Siar Local Authority\",0,new_yll(10,B76,C76,D76,$C$1,G76+H76,1,F76,E76*F76)))))))","v":0},0,{"$f":"IF('III Tool Overview'!$H$6=\"Orkney Health Board\",0,IF('III Tool Overview'!$H$6=\"Shetland Health Board\",0,IF('III Tool Overview'!$H$6=\"Western Isles Health Board\",0,IF('III Tool Overview'!$H$6=\"Orkney Islands Local Authority\",0,IF('III Tool Overview'!$H$6=\"Shetland Islands Local Authority\",0,IF('III Tool Overview'!$H$6=\"Eilean Siar Local Authority\",0,new_yll(20,B76,C76,D76,$C$1,G76,1,F76,E76*F76)))))))","v":0},{"$f":"IF('III Tool Overview'!$H$6=\"Orkney Health Board\",0,IF('III Tool Overview'!$H$6=\"Shetland Health Board\",0,IF('III Tool Overview'!$H$6=\"Western Isles Health Board\",0,IF('III Tool Overview'!$H$6=\"Orkney Islands Local Authority\",0,IF('III Tool Overview'!$H$6=\"Shetland Islands Local Authority\",0,IF('III Tool Overview'!$H$6=\"Eilean Siar Local Authority\",0,new_yll(20,B76,C76,D76,$C$1,G76+H76,1,F76,E76*F76)))))))","v":0},0,{"$f":"IF('III Tool Overview'!$H$6=\"Orkney Health Board\",0,IF('III Tool Overview'!$H$6=\"Shetland Health Board\",0,IF('III Tool Overview'!$H$6=\"Western Isles Health Board\",0,IF('III Tool Overview'!$H$6=\"Orkney Islands Local Authority\",0,IF('III Tool Overview'!$H$6=\"Shetland Islands Local Authority\",0,IF('III Tool Overview'!$H$6=\"Eilean Siar Local Authority\",0,hosp_count(2,B76,C76,D76,$C$1,G76,1,F76,E76*F76)))))))","v":0},{"$f":"IF('III Tool Overview'!$H$6=\"Orkney Health Board\",0,IF('III Tool Overview'!$H$6=\"Shetland Health Board\",0,IF('III Tool Overview'!$H$6=\"Western Isles Health Board\",0,IF('III Tool Overview'!$H$6=\"Orkney Islands Local Authority\",0,IF('III Tool Overview'!$H$6=\"Shetland Islands Local Authority\",0,IF('III Tool Overview'!$H$6=\"Eilean Siar Local Authority\",0,hosp_count(2,B76,C76,D76,$C$1,G76+H76,1,F76,E76*F76)))))))","v":0},0,{"$f":"IF('III Tool Overview'!$H$6=\"Orkney Health Board\",0,IF('III Tool Overview'!$H$6=\"Shetland Health Board\",0,IF('III Tool Overview'!$H$6=\"Western Isles Health Board\",0,IF('III Tool Overview'!$H$6=\"Orkney Islands Local Authority\",0,IF('III Tool Overview'!$H$6=\"Shetland Islands Local Authority\",0,IF('III Tool Overview'!$H$6=\"Eilean Siar Local Authority\",0,hosp_count(5,B76,C76,D76,$C$1,G76,1,F76,E76*F76)))))))","v":0},{"$f":"IF('III Tool Overview'!$H$6=\"Orkney Health Board\",0,IF('III Tool Overview'!$H$6=\"Shetland Health Board\",0,IF('III Tool Overview'!$H$6=\"Western Isles Health Board\",0,IF('III Tool Overview'!$H$6=\"Orkney Islands Local Authority\",0,IF('III Tool Overview'!$H$6=\"Shetland Islands Local Authority\",0,IF('III Tool Overview'!$H$6=\"Eilean Siar Local Authority\",0,hosp_count(5,B76,C76,D76,$C$1,G76+H76,1,F76,E76*F76)))))))","v":0},0,{"$f":"IF('III Tool Overview'!$H$6=\"Orkney Health Board\",0,IF('III Tool Overview'!$H$6=\"Shetland Health Board\",0,IF('III Tool Overview'!$H$6=\"Western Isles Health Board\",0,IF('III Tool Overview'!$H$6=\"Orkney Islands Local Authority\",0,IF('III Tool Overview'!$H$6=\"Shetland Islands Local Authority\",0,IF('III Tool Overview'!$H$6=\"Eilean Siar Local Authority\",0,hosp_count(10,B76,C76,D76,$C$1,G76,1,F76,E76*F76)))))))","v":0},{"$f":"IF('III Tool Overview'!$H$6=\"Orkney Health Board\",0,IF('III Tool Overview'!$H$6=\"Shetland Health Board\",0,IF('III Tool Overview'!$H$6=\"Western Isles Health Board\",0,IF('III Tool Overview'!$H$6=\"Orkney Islands Local Authority\",0,IF('III Tool Overview'!$H$6=\"Shetland Islands Local Authority\",0,IF('III Tool Overview'!$H$6=\"Eilean Siar Local Authority\",0,hosp_count(10,B76,C76,D76,$C$1,G76+H76,1,F76,E76*F76)))))))","v":0},0,{"$f":"IF('III Tool Overview'!$H$6=\"Orkney Health Board\",0,IF('III Tool Overview'!$H$6=\"Shetland Health Board\",0,IF('III Tool Overview'!$H$6=\"Western Isles Health Board\",0,IF('III Tool Overview'!$H$6=\"Orkney Islands Local Authority\",0,IF('III Tool Overview'!$H$6=\"Shetland Islands Local Authority\",0,IF('III Tool Overview'!$H$6=\"Eilean Siar Local Authority\",0,hosp_count(20,B76,C76,D76,$C$1,G76,1,F76,E76*F76)))))))","v":0},{"$f":"IF('III Tool Overview'!$H$6=\"Orkney Health Board\",0,IF('III Tool Overview'!$H$6=\"Shetland Health Board\",0,IF('III Tool Overview'!$H$6=\"Western Isles Health Board\",0,IF('III Tool Overview'!$H$6=\"Orkney Islands Local Authority\",0,IF('III Tool Overview'!$H$6=\"Shetland Islands Local Authority\",0,IF('III Tool Overview'!$H$6=\"Eilean Siar Local Authority\",0,hosp_count(20,B76,C76,D76,$C$1,G76+H76,1,F76,E76*F76)))))))","v":0},0,null,0.5,5]
["Male 50-54",52.5,"male",1,{"$f":"HLOOKUP('III Tool Overview'!$H$6,Prevalence!$B$2:$AV$268,Prevalence!AW73,FALSE)","v":0.5625},{"$f":"HLOOKUP('III Tool Overview'!$H$6,LookUpData_Pop!$B$1:$AV$269,LookUpData_Pop!BB78,FALSE)/5","v":0},{"$f":"'III Tool Overview'!$H$9/110","v":0},{"$f":"IF('III Tool Overview'!$H$10=\"Even distribution\",Targeting!C75,IF('III Tool Overview'!$H$10=\"Targetting to Q1\",Targeting!D75,IF('III Tool Overview'!$H$10=\"Targetting to Q1 & Q2\",Targeting!E75,IF('III Tool Overview'!$H$10=\"No variation in price elasticity\",Targeting!G75))))","v":0},{"$f":"IF('III Tool Overview'!$H$6=\"Orkney Health Board\",0,IF('III Tool Overview'!$H$6=\"Shetland Health Board\",0,IF('III Tool Overview'!$H$6=\"Western Isles Health Board\",0,IF('III Tool Overview'!$H$6=\"Orkney Islands Local Authority\",0,IF('III Tool Overview'!$H$6=\"Shetland Islands Local Authority\",0,IF('III Tool Overview'!$H$6=\"Eilean Siar Local Authority\",0,new_ci(2,B77,C77,D77,$C$1,G77,1,F77,E77*F77)))))))","v":0},{"$f":"IF('III Tool Overview'!$H$6=\"Orkney Health Board\",0,IF('III Tool Overview'!$H$6=\"Shetland Health Board\",0,IF('III Tool Overview'!$H$6=\"Western Isles Health Board\",0,IF('III Tool Overview'!$H$6=\"Orkney Islands Local Authority\",0,IF('III Tool Overview'!$H$6=\"Shetland Islands Local Authority\",0,IF('III Tool Overview'!$H$6=\"Eilean Siar Local Authority\",0,new_ci(2,B77,C77,D77,$C$1,G77+H77,1,F77,E77*F77)))))))","v":0},{"$f":"IF('III Tool Overview'!$H$6=\"Orkney Health Board\",0,IF('III Tool Overview'!$H$6=\"Shetland Health Board\",0,IF('III Tool Overview'!$H$6=\"Western Isles Health Board\",0,IF('III Tool Overview'!$H$6=\"Orkney Islands Local Authority\",0,IF('III Tool Overview'!$H$6=\"Shetland Islands Local Authority\",0,IF('III Tool Overview'!$H$6=\"Eilean Siar Local Authority\",0,new_ci(5,B77,C77,D77,$C$1,G77,1,F77,E77*F77)))))))","v":0},{"$f":"IF('III Tool Overview'!$H$6=\"Orkney Health Board\",0,IF('III Tool Overview'!$H$6=\"Shetland Health Board\",0,IF('III Tool Overview'!$H$6=\"Western Isles Health Board\",0,IF('III Tool Overview'!$H$6=\"Orkney Islands Local Authority\",0,IF('III Tool Overview'!$H$6=\"Shetland Islands Local Authority\",0,IF('III Tool Overview'!$H$6=\"Eilean Siar Local Authority\",0,new_ci(5,B77,C77,D77,$C$1,G77+H77,1,F77,E77*F77)))))))","v":0},{"$f":"IF('III Tool Overview'!$H$6=\"Orkney Health Board\",0,IF('III Tool Overview'!$H$6=\"Shetland Health Board\",0,IF('III Tool Overview'!$H$6=\"Western Isles Health Board\",0,IF('III Tool Overview'!$H$6=\"Orkney Islands Local Authority\",0,IF('III Tool Overview'!$H$6=\"Shetland Islands Local Authority\",0,IF('III Tool Overview'!$H$6=\"Eilean Siar Local Authority\",0,new_ci(10,B77,C77,D77,$C$1,G77,1,F77,E77*F77)))))))","v":0},{"$f":"IF('III Tool Overview'!$H$6=\"Orkney Health Board\",0,IF('III Tool Overview'!$H$6=\"Shetland Health Board\",0,IF('III Tool Overview'!$H$6=\"Western Isles Health Board\",0,IF('III Tool Overview'!$H$6=\"Orkney Islands Local Authority\",0,IF('III Tool Overview'!$H$6=\"Shetland Islands Local Authority\",0,IF('III Tool Overview'!$H$6=\"Eilean Siar Local Authority\",0,new_ci(10,B77,C77,D77,$C$1,G77+H77,1,F77,E77*F77)))))))","v":0},{"$f":"IF('III Tool Overview'!$H$6=\"Orkney Health Board\",0,IF('III Tool Overview'!$H$6=\"Shetland Health Board\",0,IF('III Tool Overview'!$H$6=\"Western Isles Health Board\",0,IF('III Tool Overview'!$H$6=\"Orkney Islands Local Authority\",0,IF('III Tool Overview'!$H$6=\"Shetland Islands Local Authority\",0,IF('III Tool Overview'!$H$6=\"Eilean Siar Local Authority\",0,new_ci(20,B77,C77,D77,$C$1,G77,1,F77,E77*F77)))))))","v":0},{"$f":"IF('III Tool Overview'!$H$6=\"Orkney Health Board\",0,IF('III Tool Overview'!$H$6=\"Shetland Health Board\",0,IF('III Tool Overview'!$H$6=\"Western Isles Health Board\",0,IF('III Tool Overview'!$H$6=\"Orkney Islands Local Authority\",0,IF('III Tool Overview'!$H$6=\"Shetland Islands Local Authority\",0,IF('III Tool Overview'!$H$6=\"Eilean Siar Local Authority\",0,new_ci(20,B77,C77,D77,$C$1,G77+H77,1,F77,E77*F77)))))))","v":0},{"$f":"IF('III Tool Overview'!$H$6=\"Orkney Health Board\",0,IF('III Tool Overview'!$H$6=\"Shetland Health Board\",0,IF('III Tool Overview'!$H$6=\"Western Isles Health Board\",0,IF('III Tool Overview'!$H$6=\"Orkney Islands Local Authority\",0,IF('III Tool Overview'!$H$6=\"Shetland Islands Local Authority\",0,IF('III Tool Overview'!$H$6=\"Eilean Siar Local Authority\",0,new_yll(2,B77,C77,D77,$C$1,G77,1,F77,E77*F77)))))))","v":0},{"$f":"IF('III Tool Overview'!$H$6=\"Orkney Health Board\",0,IF('III Tool Overview'!$H$6=\"Shetland Health Board\",0,IF('III Tool Overview'!$H$6=\"Western Isles Health Board\",0,IF('III Tool Overview'!$H$6=\"Orkney Islands Local Authority\",0,IF('III Tool Overview'!$H$6=\"Shetland Islands Local Authority\",0,IF('III Tool Overview'!$H$6=\"Eilean Siar Local Authority\",0,new_yll(2,B77,C77,D77,$C$1,G77+H77,1,F77,E77*F77)))))))","v":0},0,{"$f":"IF('III Tool Overview'!$H$6=\"Orkney Health Board\",0,IF('III Tool Overview'!$H$6=\"Shetland Health Board\",0,IF('III Tool Overview'!$H$6=\"Western Isles Health Board\",0,IF('III Tool Overview'!$H$6=\"Orkney Islands Local Authority\",0,IF('III Tool Overview'!$H$6=\"Shetland Islands Local Authority\",0,IF('III Tool Overview'!$H$6=\"Eilean Siar Local Authority\",0,new_yll(5,B77,C77,D77,$C$1,G77,1,F77,E77*F77)))))))","v":0},{"$f":"IF('III Tool Overview'!$H$6=\"Orkney Health Board\",0,IF('III Tool Overview'!$H$6=\"Shetland Health Board\",0,IF('III Tool Overview'!$H$6=\"Western Isles Health Board\",0,IF('III Tool Overview'!$H$6=\"Orkney Islands Local Authority\",0,IF('III Tool Overview'!$H$6=\"Shetland Islands Local Authority\",0,IF('III Tool Overview'!$H$6=\"Eilean Siar Local Authority\",0,new_yll(5,B77,C77,D77,$C$1,G77+H77,1,F77,E77*F77)))))))","v":0},0,{"$f":"IF('III Tool Overview'!$H$6=\"Orkney Health Board\",0,IF('III Tool Overview'!$H$6=\"Shetland Health Board\",0,IF('III Tool Overview'!$H$6=\"Western Isles Health Board\",0,IF('III Tool Overview'!$H$6=\"Orkney Islands Local Authority\",0,IF('III Tool Overview'!$H$6=\"Shetland Islands Local Authority\",0,IF('III Tool Overview'!$H$6=\"Eilean Siar Local Authority\",0,new_yll(10,B77,C77,D77,$C$1,G77,1,F77,E77*F77)))))))","v":0},{"$f":"IF('III Tool Overview'!$H$6=\"Orkney Health Board\",0,IF('III Tool Overview'!$H$6=\"Shetland Health Board\",0,IF('III Tool Overview'!$H$6=\"Western Isles Health Board\",0,IF('III Tool Overview'!$H$6=\"Orkney Islands Local Authority\",0,IF('III Tool Overview'!$H$6=\"Shetland Islands Local Authority\",0,IF('III Tool Overview'!$H$6=\"Eilean Siar Local Authority\",0,new_yll(10,B77,C77,D77,$C$1,G77+H77,1,F77,E77*F77)))))))","v":0},0,{"$f":"IF('III Tool Overview'!$H$6=\"Orkney Health Board\",0,IF('III Tool Overview'!$H$6=\"Shetland Health Board\",0,IF('III Tool Overview'!$H$6=\"Western Isles Health Board\",0,IF('III Tool Overview'!$H$6=\"Orkney Islands Local Authority\",0,IF('III Tool Overview'!$H$6=\"Shetland Islands Local Authority\",0,IF('III Tool Overview'!$H$6=\"Eilean Siar Local Authority\",0,new_yll(20,B77,C77,D77,$C$1,G77,1,F77,E77*F77)))))))","v":0},{"$f":"IF('III Tool Overview'!$H$6=\"Orkney Health Board\",0,IF('III Tool Overview'!$H$6=\"Shetland Health Board\",0,IF('III Tool Overview'!$H$6=\"Western Isles Health Board\",0,IF('III Tool Overview'!$H$6=\"Orkney Islands Local Authority\",0,IF('III Tool Overview'!$H$6=\"Shetland Islands Local Authority\",0,IF('III Tool Overview'!$H$6=\"Eilean Siar Local Authority\",0,new_yll(20,B77,C77,D77,$C$1,G77+H77,1,F77,E77*F77)))))))","v":0},0,{"$f":"IF('III Tool Overview'!$H$6=\"Orkney Health Board\",0,IF('III Tool Overview'!$H$6=\"Shetland Health Board\",0,IF('III Tool Overview'!$H$6=\"Western Isles Health Board\",0,IF('III Tool Overview'!$H$6=\"Orkney Islands Local Authority\",0,IF('III Tool Overview'!$H$6=\"Shetland Islands Local Authority\",0,IF('III Tool Overview'!$H$6=\"Eilean Siar Local Authority\",0,hosp_count(2,B77,C77,D77,$C$1,G77,1,F77,E77*F77)))))))","v":0},{"$f":"IF('III Tool Overview'!$H$6=\"Orkney Health Board\",0,IF('III Tool Overview'!$H$6=\"Shetland Health Board\",0,IF('III Tool Overview'!$H$6=\"Western Isles Health Board\",0,IF('III Tool Overview'!$H$6=\"Orkney Islands Local Authority\",0,IF('III Tool Overview'!$H$6=\"Shetland Islands Local Authority\",0,IF('III Tool Overview'!$H$6=\"Eilean Siar Local Authority\",0,hosp_count(2,B77,C77,D77,$C$1,G77+H77,1,F77,E77*F77)))))))","v":0},0,{"$f":"IF('III Tool Overview'!$H$6=\"Orkney Health Board\",0,IF('III Tool Overview'!$H$6=\"Shetland Health Board\",0,IF('III Tool Overview'!$H$6=\"Western Isles Health Board\",0,IF('III Tool Overview'!$H$6=\"Orkney Islands Local Authority\",0,IF('III Tool Overview'!$H$6=\"Shetland Islands Local Authority\",0,IF('III Tool Overview'!$H$6=\"Eilean Siar Local Authority\",0,hosp_count(5,B77,C77,D77,$C$1,G77,1,F77,E77*F77)))))))","v":0},{"$f":"IF('III Tool Overview'!$H$6=\"Orkney Health Board\",0,IF('III Tool Overview'!$H$6=\"Shetland Health Board\",0,IF('III Tool Overview'!$H$6=\"Western Isles Health Board\",0,IF('III Tool Overview'!$H$6=\"Orkney Islands Local Authority\",0,IF('III Tool Overview'!$H$6=\"Shetland Islands Local Authority\",0,IF('III Tool Overview'!$H$6=\"Eilean Siar Local Authority\",0,hosp_count(5,B77,C77,D77,$C$1,G77+H77,1,F77,E77*F77)))))))","v":0},0,{"$f":"IF('III Tool Overview'!$H$6=\"Orkney Health Board\",0,IF('III Tool Overview'!$H$6=\"Shetland Health Board\",0,IF('III Tool Overview'!$H$6=\"Western Isles Health Board\",0,IF('III Tool Overview'!$H$6=\"Orkney Islands Local Authority\",0,IF('III Tool Overview'!$H$6=\"Shetland Islands Local Authority\",0,IF('III Tool Overview'!$H$6=\"Eilean Siar Local Authority\",0,hosp_count(10,B77,C77,D77,$C$1,G77,1,F77,E77*F77)))))))","v":0},{"$f":"IF('III Tool Overview'!$H$6=\"Orkney Health Board\",0,IF('III Tool Overview'!$H$6=\"Shetland Health Board\",0,IF('III Tool Overview'!$H$6=\"Western Isles Health Board\",0,IF('III Tool Overview'!$H$6=\"Orkney Islands Local Authority\",0,IF('III Tool Overview'!$H$6=\"Shetland Islands Local Authority\",0,IF('III Tool Overview'!$H$6=\"Eilean Siar Local Authority\",0,hosp_count(10,B77,C77,D77,$C$1,G77+H77,1,F77,E77*F77)))))))","v":0},0,{"$f":"IF('III Tool Overview'!$H$6=\"Orkney Health Board\",0,IF('III Tool Overview'!$H$6=\"Shetland Health Board\",0,IF('III Tool Overview'!$H$6=\"Western Isles Health Board\",0,IF('III Tool Overview'!$H$6=\"Orkney Islands Local Authority\",0,IF('III Tool Overview'!$H$6=\"Shetland Islands Local Authority\",0,IF('III Tool Overview'!$H$6=\"Eilean Siar Local Authority\",0,hosp_count(20,B77,C77,D77,$C$1,G77,1,F77,E77*F77)))))))","v":0},{"$f":"IF('III Tool Overview'!$H$6=\"Orkney Health Board\",0,IF('III Tool Overview'!$H$6=\"Shetland Health Board\",0,IF('III Tool Overview'!$H$6=\"Western Isles Health Board\",0,IF('III Tool Overview'!$H$6=\"Orkney Islands Local Authority\",0,IF('III Tool Overview'!$H$6=\"Shetland Islands Local Authority\",0,IF('III Tool Overview'!$H$6=\"Eilean Siar Local Authority\",0,hosp_count(20,B77,C77,D77,$C$1,G77+H77,1,F77,E77*F77)))))))","v":0},0,null,0.5,5]
["Male 55-59",57.5,"male",1,{"$f":"HLOOKUP('III Tool Overview'!$H$6,Prevalence!$B$2:$AV$268,Prevalence!AW74,FALSE)","v":0.53749999999999998},{"$f":"HLOOKUP('III Tool Overview'!$H$6,LookUpData_Pop!$B$1:$AV$269,LookUpData_Pop!BB79,FALSE)/5","v":0},{"$f":"'III Tool Overview'!$H$9/110","v":0},{"$f":"IF('III Tool Overview'!$H$10=\"Even distribution\",Targeting!C76,IF('III Tool Overview'!$H$10=\"Targetting to Q1\",Targeting!D76,IF('III Tool Overview'!$H$10=\"Targetting to Q1 & Q2\",Targeting!E76,IF('III Tool Overview'!$H$10=\"No variation in price elasticity\",Targeting!G76))))","v":0},{"$f":"IF('III Tool Overview'!$H$6=\"Orkney Health Board\",0,IF('III Tool Overview'!$H$6=\"Shetland Health Board\",0,IF('III Tool Overview'!$H$6=\"Western Isles Health Board\",0,IF('III Tool Overview'!$H$6=\"Orkney Islands Local Authority\",0,IF('III Tool Overview'!$H$6=\"Shetland Islands Local Authority\",0,IF('III Tool Overview'!$H$6=\"Eilean Siar Local Authority\",0,new_ci(2,B78,C78,D78,$C$1,G78,1,F78,E78*F78)))))))","v":0},{"$f":"IF('III Tool Overview'!$H$6=\"Orkney Health Board\",0,IF('III Tool Overview'!$H$6=\"Shetland Health Board\",0,IF('III Tool Overview'!$H$6=\"Western Isles Health Board\",0,IF('III Tool Overview'!$H$6=\"Orkney Islands Local Authority\",0,IF('III Tool Overview'!$H$6=\"Shetland Islands Local Authority\",0,IF('III Tool Overview'!$H$6=\"Eilean Siar Local Authority\",0,new_ci(2,B78,C78,D78,$C$1,G78+H78,1,F78,E78*F78)))))))","v":0},{"$f":"IF('III Tool Overview'!$H$6=\"Orkney Health Board\",0,IF('III Tool Overview'!$H$6=\"Shetland Health Board\",0,IF('III Tool Overview'!$H$6=\"Western Isles Health Board\",0,IF('III Tool Overview'!$H$6=\"Orkney Islands Local Authority\",0,IF('III Tool Overview'!$H$6=\"Shetland Islands Local Authority\",0,IF('III Tool Overview'!$H$6=\"Eilean Siar Local Authority\",0,new_ci(5,B78,C78,D78,$C$1,G78,1,F78,E78*F78)))))))","v":0},{"$f":"IF('III Tool Overview'!$H$6=\"Orkney Health Board\",0,IF('III Tool Overview'!$H$6=\"Shetland Health Board\",0,IF('III Tool Overview'!$H$6=\"Western Isles Health Board\",0,IF('III Tool Overview'!$H$6=\"Orkney Islands Local Authority\",0,IF('III Tool Overview'!$H$6=\"Shetland Islands Local Authority\",0,IF('III Tool Overview'!$H$6=\"Eilean Siar Local Authority\",0,new_ci(5,B78,C78,D78,$C$1,G78+H78,1,F78,E78*F78)))))))","v":0},{"$f":"IF('III Tool Overview'!$H$6=\"Orkney Health Board\",0,IF('III Tool Overview'!$H$6=\"Shetland Health Board\",0,IF('III Tool Overview'!$H$6=\"Western Isles Health Board\",0,IF('III Tool Overview'!$H$6=\"Orkney Islands Local Authority\",0,IF('III Tool Overview'!$H$6=\"Shetland Islands Local Authority\",0,IF('III Tool Overview'!$H$6=\"Eilean Siar Local Authority\",0,new_ci(10,B78,C78,D78,$C$1,G78,1,F78,E78*F78)))))))","v":0},{"$f":"IF('III Tool Overview'!$H$6=\"Orkney Health Board\",0,IF('III Tool Overview'!$H$6=\"Shetland Health Board\",0,IF('III Tool Overview'!$H$6=\"Western Isles Health Board\",0,IF('III Tool Overview'!$H$6=\"Orkney Islands Local Authority\",0,IF('III Tool Overview'!$H$6=\"Shetland Islands Local Authority\",0,IF('III Tool Overview'!$H$6=\"Eilean Siar Local Authority\",0,new_ci(10,B78,C78,D78,$C$1,G78+H78,1,F78,E78*F78)))))))","v":0},{"$f":"IF('III Tool Overview'!$H$6=\"Orkney Health Board\",0,IF('III Tool Overview'!$H$6=\"Shetland Health Board\",0,IF('III Tool Overview'!$H$6=\"Western Isles Health Board\",0,IF('III Tool Overview'!$H$6=\"Orkney Islands Local Authority\",0,IF('III Tool Overview'!$H$6=\"Shetland Islands Local Authority\",0,IF('III Tool Overview'!$H$6=\"Eilean Siar Local Authority\",0,new_ci(20,B78,C78,D78,$C$1,G78,1,F78,E78*F78)))))))","v":0},{"$f":"IF('III Tool Overview'!$H$6=\"Orkney Health Board\",0,IF('III Tool Overview'!$H$6=\"Shetland Health Board\",0,IF('III Tool Overview'!$H$6=\"Western Isles Health Board\",0,IF('III Tool Overview'!$H$6=\"Orkney Islands Local Authority\",0,IF('III Tool Overview'!$H$6=\"Shetland Islands Local Authority\",0,IF('III Tool Overview'!$H$6=\"Eilean Siar Local Authority\",0,new_ci(20,B78,C78,D78,$C$1,G78+H78,1,F78,E78*F78)))))))","v":0},{"$f":"IF('III Tool Overview'!$H$6=\"Orkney Health Board\",0,IF('III Tool Overview'!$H$6=\"Shetland Health Board\",0,IF('III Tool Overview'!$H$6=\"Western Isles Health Board\",0,IF('III Tool Overview'!$H$6=\"Orkney Islands Local Authority\",0,IF('III Tool Overview'!$H$6=\"Shetland Islands Local Authority\",0,IF('III Tool Overview'!$H$6=\"Eilean Siar Local Authority\",0,new_yll(2,B78,C78,D78,$C$1,G78,1,F78,E78*F78)))))))","v":0},{"$f":"IF('III Tool Overview'!$H$6=\"Orkney Health Board\",0,IF('III Tool Overview'!$H$6=\"Shetland Health Board\",0,IF('III Tool Overview'!$H$6=\"Western Isles Health Board\",0,IF('III Tool Overview'!$H$6=\"Orkney Islands Local Authority\",0,IF('III Tool Overview'!$H$6=\"Shetland Islands Local Authority\",0,IF('III Tool Overview'!$H$6=\"Eilean Siar Local Authority\",0,new_yll(2,B78,C78,D78,$C$1,G78+H78,1,F78,E78*F78)))))))","v":0},0,{"$f":"IF('III Tool Overview'!$H$6=\"Orkney Health Board\",0,IF('III Tool Overview'!$H$6=\"Shetland Health Board\",0,IF('III Tool Overview'!$H$6=\"Western Isles Health Board\",0,IF('III Tool Overview'!$H$6=\"Orkney Islands Local Authority\",0,IF('III Tool Overview'!$H$6=\"Shetland Islands Local Authority\",0,IF('III Tool Overview'!$H$6=\"Eilean Siar Local Authority\",0,new_yll(5,B78,C78,D78,$C$1,G78,1,F78,E78*F78)))))))","v":0},{"$f":"IF('III Tool Overview'!$H$6=\"Orkney Health Board\",0,IF('III Tool Overview'!$H$6=\"Shetland Health Board\",0,IF('III Tool Overview'!$H$6=\"Western Isles Health Board\",0,IF('III Tool Overview'!$H$6=\"Orkney Islands Local Authority\",0,IF('III Tool Overview'!$H$6=\"Shetland Islands Local Authority\",0,IF('III Tool Overview'!$H$6=\"Eilean Siar Local Authority\",0,new_yll(5,B78,C78,D78,$C$1,G78+H78,1,F78,E78*F78)))))))","v":0},0,{"$f":"IF('III Tool Overview'!$H$6=\"Orkney Health Board\",0,IF('III Tool Overview'!$H$6=\"Shetland Health Board\",0,IF('III Tool Overview'!$H$6=\"Western Isles Health Board\",0,IF('III Tool Overview'!$H$6=\"Orkney Islands Local Authority\",0,IF('III Tool Overview'!$H$6=\"Shetland Islands Local Authority\",0,IF('III Tool Overview'!$H$6=\"Eilean Siar Local Authority\",0,new_yll(10,B78,C78,D78,$C$1,G78,1,F78,E78*F78)))))))","v":0},{"$f":"IF('III Tool Overview'!$H$6=\"Orkney Health Board\",0,IF('III Tool Overview'!$H$6=\"Shetland Health Board\",0,IF('III Tool Overview'!$H$6=\"Western Isles Health Board\",0,IF('III Tool Overview'!$H$6=\"Orkney Islands Local Authority\",0,IF('III Tool Overview'!$H$6=\"Shetland Islands Local Authority\",0,IF('III Tool Overview'!$H$6=\"Eilean Siar Local Authority\",0,new_yll(10,B78,C78,D78,$C$1,G78+H78,1,F78,E78*F78)))))))","v":0},0,{"$f":"IF('III Tool Overview'!$H$6=\"Orkney Health Board\",0,IF('III Tool Overview'!$H$6=\"Shetland Health Board\",0,IF('III Tool Overview'!$H$6=\"Western Isles Health Board\",0,IF('III Tool Overview'!$H$6=\"Orkney Islands Local Authority\",0,IF('III Tool Overview'!$H$6=\"Shetland Islands Local Authority\",0,IF('III Tool Overview'!$H$6=\"Eilean Siar Local Authority\",0,new_yll(20,B78,C78,D78,$C$1,G78,1,F78,E78*F78)))))))","v":0},{"$f":"IF('III Tool Overview'!$H$6=\"Orkney Health Board\",0,IF('III Tool Overview'!$H$6=\"Shetland Health Board\",0,IF('III Tool Overview'!$H$6=\"Western Isles Health Board\",0,IF('III Tool Overview'!$H$6=\"Orkney Islands Local Authority\",0,IF('III Tool Overview'!$H$6=\"Shetland Islands Local Authority\",0,IF('III Tool Overview'!$H$6=\"Eilean Siar Local Authority\",0,new_yll(20,B78,C78,D78,$C$1,G78+H78,1,F78,E78*F78)))))))","v":0},0,{"$f":"IF('III Tool Overview'!$H$6=\"Orkney Health Board\",0,IF('III Tool Overview'!$H$6=\"Shetland Health Board\",0,IF('III Tool Overview'!$H$6=\"Western Isles Health Board\",0,IF('III Tool Overview'!$H$6=\"Orkney Islands Local Authority\",0,IF('III Tool Overview'!$H$6=\"Shetland Islands Local Authority\",0,IF('III Tool Overview'!$H$6=\"Eilean Siar Local Authority\",0,hosp_count(2,B78,C78,D78,$C$1,G78,1,F78,E78*F78)))))))","v":0},{"$f":"IF('III Tool Overview'!$H$6=\"Orkney Health Board\",0,IF('III Tool Overview'!$H$6=\"Shetland Health Board\",0,IF('III Tool Overview'!$H$6=\"Western Isles Health Board\",0,IF('III Tool Overview'!$H$6=\"Orkney Islands Local Authority\",0,IF('III Tool Overview'!$H$6=\"Shetland Islands Local Authority\",0,IF('III Tool Overview'!$H$6=\"Eilean Siar Local Authority\",0,hosp_count(2,B78,C78,D78,$C$1,G78+H78,1,F78,E78*F78)))))))","v":0},0,{"$f":"IF('III Tool Overview'!$H$6=\"Orkney Health Board\",0,IF('III Tool Overview'!$H$6=\"Shetland Health Board\",0,IF('III Tool Overview'!$H$6=\"Western Isles Health Board\",0,IF('III Tool Overview'!$H$6=\"Orkney Islands Local Authority\",0,IF('III Tool Overview'!$H$6=\"Shetland Islands Local Authority\",0,IF('III Tool Overview'!$H$6=\"Eilean Siar Local Authority\",0,hosp_count(5,B78,C78,D78,$C$1,G78,1,F78,E78*F78)))))))","v":0},{"$f":"IF('III Tool Overview'!$H$6=\"Orkney Health Board\",0,IF('III Tool Overview'!$H$6=\"Shetland Health Board\",0,IF('III Tool Overview'!$H$6=\"Western Isles Health Board\",0,IF('III Tool Overview'!$H$6=\"Orkney Islands Local Authority\",0,IF('III Tool Overview'!$H$6=\"Shetland Islands Local Authority\",0,IF('III Tool Overview'!$H$6=\"Eilean Siar Local Authority\",0,hosp_count(5,B78,C78,D78,$C$1,G78+H78,1,F78,E78*F78)))))))","v":0},0,{"$f":"IF('III Tool Overview'!$H$6=\"Orkney Health Board\",0,IF('III Tool Overview'!$H$6=\"Shetland Health Board\",0,IF('III Tool Overview'!$H$6=\"Western Isles Health Board\",0,IF('III Tool Overview'!$H$6=\"Orkney Islands Local Authority\",0,IF('III Tool Overview'!$H$6=\"Shetland Islands Local Authority\",0,IF('III Tool Overview'!$H$6=\"Eilean Siar Local Authority\",0,hosp_count(10,B78,C78,D78,$C$1,G78,1,F78,E78*F78)))))))","v":0},{"$f":"IF('III Tool Overview'!$H$6=\"Orkney Health Board\",0,IF('III Tool Overview'!$H$6=\"Shetland Health Board\",0,IF('III Tool Overview'!$H$6=\"Western Isles Health Board\",0,IF('III Tool Overview'!$H$6=\"Orkney Islands Local Authority\",0,IF('III Tool Overview'!$H$6=\"Shetland Islands Local Authority\",0,IF('III Tool Overview'!$H$6=\"Eilean Siar Local Authority\",0,hosp_count(10,B78,C78,D78,$C$1,G78+H78,1,F78,E78*F78)))))))","v":0},0,{"$f":"IF('III Tool Overview'!$H$6=\"Orkney Health Board\",0,IF('III Tool Overview'!$H$6=\"Shetland Health Board\",0,IF('III Tool Overview'!$H$6=\"Western Isles Health Board\",0,IF('III Tool Overview'!$H$6=\"Orkney Islands Local Authority\",0,IF('III Tool Overview'!$H$6=\"Shetland Islands Local Authority\",0,IF('III Tool Overview'!$H$6=\"Eilean Siar Local Authority\",0,hosp_count(20,B78,C78,D78,$C$1,G78,1,F78,E78*F78)))))))","v":0},{"$f":"IF('III Tool Overview'!$H$6=\"Orkney Health Board\",0,IF('III Tool Overview'!$H$6=\"Shetland Health Board\",0,IF('III Tool Overview'!$H$6=\"Western Isles Health Board\",0,IF('III Tool Overview'!$H$6=\"Orkney Islands Local Authority\",0,IF('III Tool Overview'!$H$6=\"Shetland Islands Local Authority\",0,IF('III Tool Overview'!$H$6=\"Eilean Siar Local Authority\",0,hosp_count(20,B78,C78,D78,$C$1,G78+H78,1,F78,E78*F78)))))))","v":0},0,null,0.5,5]
["Male 60-64",62.5,"male",1,{"$f":"HLOOKUP('III Tool Overview'!$H$6,Prevalence!$B$2:$AV$268,Prevalence!AW75,FALSE)","v":0.53749999999999998},{"$f":"HLOOKUP('III Tool Overview'!$H$6,LookUpData_Pop!$B$1:$AV$269,LookUpData_Pop!BB80,FALSE)/5","v":0},{"$f":"'III Tool Overview'!$H$9/110","v":0},{"$f":"IF('III Tool Overview'!$H$10=\"Even distribution\",Targeting!C77,IF('III Tool Overview'!$H$10=\"Targetting to Q1\",Targeting!D77,IF('III Tool Overview'!$H$10=\"Targetting to Q1 & Q2\",Targeting!E77,IF('III Tool Overview'!$H$10=\"No variation in price elasticity\",Targeting!G77))))","v":0},{"$f":"IF('III Tool Overview'!$H$6=\"Orkney Health Board\",0,IF('III Tool Overview'!$H$6=\"Shetland Health Board\",0,IF('III Tool Overview'!$H$6=\"Western Isles Health Board\",0,IF('III Tool Overview'!$H$6=\"Orkney Islands Local Authority\",0,IF('III Tool Overview'!$H$6=\"Shetland Islands Local Authority\",0,IF('III Tool Overview'!$H$6=\"Eilean Siar Local Authority\",0,new_ci(2,B79,C79,D79,$C$1,G79,1,F79,E79*F79)))))))","v":0},{"$f":"IF('III Tool Overview'!$H$6=\"Orkney Health Board\",0,IF('III Tool Overview'!$H$6=\"Shetland Health Board\",0,IF('III Tool Overview'!$H$6=\"Western Isles Health Board\",0,IF('III Tool Overview'!$H$6=\"Orkney Islands Local Authority\",0,IF('III Tool Overview'!$H$6=\"Shetland Islands Local Authority\",0,IF('III Tool Overview'!$H$6=\"Eilean Siar Local Authority\",0,new_ci(2,B79,C79,D79,$C$1,G79+H79,1,F79,E79*F79)))))))","v":0},{"$f":"IF('III Tool Overview'!$H$6=\"Orkney Health Board\",0,IF('III Tool Overview'!$H$6=\"Shetland Health Board\",0,IF('III Tool Overview'!$H$6=\"Western Isles Health Board\",0,IF('III Tool Overview'!$H$6=\"Orkney Islands Local Authority\",0,IF('III Tool Overview'!$H$6=\"Shetland Islands Local Authority\",0,IF('III Tool Overview'!$H$6=\"Eilean Siar Local Authority\",0,new_ci(5,B79,C79,D79,$C$1,G79,1,F79,E79*F79)))))))","v":0},{"$f":"IF('III Tool Overview'!$H$6=\"Orkney Health Board\",0,IF('III Tool Overview'!$H$6=\"Shetland Health Board\",0,IF('III Tool Overview'!$H$6=\"Western Isles Health Board\",0,IF('III Tool Overview'!$H$6=\"Orkney Islands Local Authority\",0,IF('III Tool Overview'!$H$6=\"Shetland Islands Local Authority\",0,IF('III Tool Overview'!$H$6=\"Eilean Siar Local Authority\",0,new_ci(5,B79,C79,D79,$C$1,G79+H79,1,F79,E79*F79)))))))","v":0},{"$f":"IF('III Tool Overview'!$H$6=\"Orkney Health Board\",0,IF('III Tool Overview'!$H$6=\"Shetland Health Board\",0,IF('III Tool Overview'!$H$6=\"Western Isles Health Board\",0,IF('III Tool Overview'!$H$6=\"Orkney Islands Local Authority\",0,IF('III Tool Overview'!$H$6=\"Shetland Islands Local Authority\",0,IF('III Tool Overview'!$H$6=\"Eilean Siar Local Authority\",0,new_ci(10,B79,C79,D79,$C$1,G79,1,F79,E79*F79)))))))","v":0},{"$f":"IF('III Tool Overview'!$H$6=\"Orkney Health Board\",0,IF('III Tool Overview'!$H$6=\"Shetland Health Board\",0,IF('III Tool Overview'!$H$6=\"Western Isles Health Board\",0,IF('III Tool Overview'!$H$6=\"Orkney Islands Local Authority\",0,IF('III Tool Overview'!$H$6=\"Shetland Islands Local Authority\",0,IF('III Tool Overview'!$H$6=\"Eilean Siar Local Authority\",0,new_ci(10,B79,C79,D79,$C$1,G79+H79,1,F79,E79*F79)))))))","v":0},{"$f":"IF('III Tool Overview'!$H$6=\"Orkney Health Board\",0,IF('III Tool Overview'!$H$6=\"Shetland Health Board\",0,IF('III Tool Overview'!$H$6=\"Western Isles Health Board\",0,IF('III Tool Overview'!$H$6=\"Orkney Islands Local Authority\",0,IF('III Tool Overview'!$H$6=\"Shetland Islands Local Authority\",0,IF('III Tool Overview'!$H$6=\"Eilean Siar Local Authority\",0,new_ci(20,B79,C79,D79,$C$1,G79,1,F79,E79*F79)))))))","v":0},{"$f":"IF('III Tool Overview'!$H$6=\"Orkney Health Board\",0,IF('III Tool Overview'!$H$6=\"Shetland Health Board\",0,IF('III Tool Overview'!$H$6=\"Western Isles Health Board\",0,IF('III Tool Overview'!$H$6=\"Orkney Islands Local Authority\",0,IF('III Tool Overview'!$H$6=\"Shetland Islands Local Authority\",0,IF('III Tool Overview'!$H$6=\"Eilean Siar Local Authority\",0,new_ci(20,B79,C79,D79,$C$1,G79+H79,1,F79,E79*F79)))))))","v":0},{"$f":"IF('III Tool Overview'!$H$6=\"Orkney Health Board\",0,IF('III Tool Overview'!$H$6=\"Shetland Health Board\",0,IF('III Tool Overview'!$H$6=\"Western Isles Health Board\",0,IF('III Tool Overview'!$H$6=\"Orkney Islands Local Authority\",0,IF('III Tool Overview'!$H$6=\"Shetland Islands Local Authority\",0,IF('III Tool Overview'!$H$6=\"Eilean Siar Local Authority\",0,new_yll(2,B79,C79,D79,$C$1,G79,1,F79,E79*F79)))))))","v":0},{"$f":"IF('III Tool Overview'!$H$6=\"Orkney Health Board\",0,IF('III Tool Overview'!$H$6=\"Shetland Health Board\",0,IF('III Tool Overview'!$H$6=\"Western Isles Health Board\",0,IF('III Tool Overview'!$H$6=\"Orkney Islands Local Authority\",0,IF('III Tool Overview'!$H$6=\"Shetland Islands Local Authority\",0,IF('III Tool Overview'!$H$6=\"Eilean Siar Local Authority\",0,new_yll(2,B79,C79,D79,$C$1,G79+H79,1,F79,E79*F79)))))))","v":0},0,{"$f":"IF('III Tool Overview'!$H$6=\"Orkney Health Board\",0,IF('III Tool Overview'!$H$6=\"Shetland Health Board\",0,IF('III Tool Overview'!$H$6=\"Western Isles Health Board\",0,IF('III Tool Overview'!$H$6=\"Orkney Islands Local Authority\",0,IF('III Tool Overview'!$H$6=\"Shetland Islands Local Authority\",0,IF('III Tool Overview'!$H$6=\"Eilean Siar Local Authority\",0,new_yll(5,B79,C79,D79,$C$1,G79,1,F79,E79*F79)))))))","v":0},{"$f":"IF('III Tool Overview'!$H$6=\"Orkney Health Board\",0,IF('III Tool Overview'!$H$6=\"Shetland Health Board\",0,IF('III Tool Overview'!$H$6=\"Western Isles Health Board\",0,IF('III Tool Overview'!$H$6=\"Orkney Islands Local Authority\",0,IF('III Tool Overview'!$H$6=\"Shetland Islands Local Authority\",0,IF('III Tool Overview'!$H$6=\"Eilean Siar Local Authority\",0,new_yll(5,B79,C79,D79,$C$1,G79+H79,1,F79,E79*F79)))))))","v":0},0,{"$f":"IF('III Tool Overview'!$H$6=\"Orkney Health Board\",0,IF('III Tool Overview'!$H$6=\"Shetland Health Board\",0,IF('III Tool Overview'!$H$6=\"Western Isles Health Board\",0,IF('III Tool Overview'!$H$6=\"Orkney Islands Local Authority\",0,IF('III Tool Overview'!$H$6=\"Shetland Islands Local Authority\",0,IF('III Tool Overview'!$H$6=\"Eilean Siar Local Authority\",0,new_yll(10,B79,C79,D79,$C$1,G79,1,F79,E79*F79)))))))","v":0},{"$f":"IF('III Tool Overview'!$H$6=\"Orkney Health Board\",0,IF('III Tool Overview'!$H$6=\"Shetland Health Board\",0,IF('III Tool Overview'!$H$6=\"Western Isles Health Board\",0,IF('III Tool Overview'!$H$6=\"Orkney Islands Local Authority\",0,IF('III Tool Overview'!$H$6=\"Shetland Islands Local Authority\",0,IF('III Tool Overview'!$H$6=\"Eilean Siar Local Authority\",0,new_yll(10,B79,C79,D79,$C$1,G79+H79,1,F79,E79*F79)))))))","v":0},0,{"$f":"IF('III Tool Overview'!$H$6=\"Orkney Health Board\",0,IF('III Tool Overview'!$H$6=\"Shetland Health Board\",0,IF('III Tool Overview'!$H$6=\"Western Isles Health Board\",0,IF('III Tool Overview'!$H$6=\"Orkney Islands Local Authority\",0,IF('III Tool Overview'!$H$6=\"Shetland Islands Local Authority\",0,IF('III Tool Overview'!$H$6=\"Eilean Siar Local Authority\",0,new_yll(20,B79,C79,D79,$C$1,G79,1,F79,E79*F79)))))))","v":0},{"$f":"IF('III Tool Overview'!$H$6=\"Orkney Health Board\",0,IF('III Tool Overview'!$H$6=\"Shetland Health Board\",0,IF('III Tool Overview'!$H$6=\"Western Isles Health Board\",0,IF('III Tool Overview'!$H$6=\"Orkney Islands Local Authority\",0,IF('III Tool Overview'!$H$6=\"Shetland Islands Local Authority\",0,IF('III Tool Overview'!$H$6=\"Eilean Siar Local Authority\",0,new_yll(20,B79,C79,D79,$C$1,G79+H79,1,F79,E79*F79)))))))","v":0},0,{"$f":"IF('III Tool Overview'!$H$6=\"Orkney Health Board\",0,IF('III Tool Overview'!$H$6=\"Shetland Health Board\",0,IF('III Tool Overview'!$H$6=\"Western Isles Health Board\",0,IF('III Tool Overview'!$H$6=\"Orkney Islands Local Authority\",0,IF('III Tool Overview'!$H$6=\"Shetland Islands Local Authority\",0,IF('III Tool Overview'!$H$6=\"Eilean Siar Local Authority\",0,hosp_count(2,B79,C79,D79,$C$1,G79,1,F79,E79*F79)))))))","v":0},{"$f":"IF('III Tool Overview'!$H$6=\"Orkney Health Board\",0,IF('III Tool Overview'!$H$6=\"Shetland Health Board\",0,IF('III Tool Overview'!$H$6=\"Western Isles Health Board\",0,IF('III Tool Overview'!$H$6=\"Orkney Islands Local Authority\",0,IF('III Tool Overview'!$H$6=\"Shetland Islands Local Authority\",0,IF('III Tool Overview'!$H$6=\"Eilean Siar Local Authority\",0,hosp_count(2,B79,C79,D79,$C$1,G79+H79,1,F79,E79*F79)))))))","v":0},0,{"$f":"IF('III Tool Overview'!$H$6=\"Orkney Health Board\",0,IF('III Tool Overview'!$H$6=\"Shetland Health Board\",0,IF('III Tool Overview'!$H$6=\"Western Isles Health Board\",0,IF('III Tool Overview'!$H$6=\"Orkney Islands Local Authority\",0,IF('III Tool Overview'!$H$6=\"Shetland Islands Local Authority\",0,IF('III Tool Overview'!$H$6=\"Eilean Siar Local Authority\",0,hosp_count(5,B79,C79,D79,$C$1,G79,1,F79,E79*F79)))))))","v":0},{"$f":"IF('III Tool Overview'!$H$6=\"Orkney Health Board\",0,IF('III Tool Overview'!$H$6=\"Shetland Health Board\",0,IF('III Tool Overview'!$H$6=\"Western Isles Health Board\",0,IF('III Tool Overview'!$H$6=\"Orkney Islands Local Authority\",0,IF('III Tool Overview'!$H$6=\"Shetland Islands Local Authority\",0,IF('III Tool Overview'!$H$6=\"Eilean Siar Local Authority\",0,hosp_count(5,B79,C79,D79,$C$1,G79+H79,1,F79,E79*F79)))))))","v":0},0,{"$f":"IF('III Tool Overview'!$H$6=\"Orkney Health Board\",0,IF('III Tool Overview'!$H$6=\"Shetland Health Board\",0,IF('III Tool Overview'!$H$6=\"Western Isles Health Board\",0,IF('III Tool Overview'!$H$6=\"Orkney Islands Local Authority\",0,IF('III Tool Overview'!$H$6=\"Shetland Islands Local Authority\",0,IF('III Tool Overview'!$H$6=\"Eilean Siar Local Authority\",0,hosp_count(10,B79,C79,D79,$C$1,G79,1,F79,E79*F79)))))))","v":0},{"$f":"IF('III Tool Overview'!$H$6=\"Orkney Health Board\",0,IF('III Tool Overview'!$H$6=\"Shetland Health Board\",0,IF('III Tool Overview'!$H$6=\"Western Isles Health Board\",0,IF('III Tool Overview'!$H$6=\"Orkney Islands Local Authority\",0,IF('III Tool Overview'!$H$6=\"Shetland Islands Local Authority\",0,IF('III Tool Overview'!$H$6=\"Eilean Siar Local Authority\",0,hosp_count(10,B79,C79,D79,$C$1,G79+H79,1,F79,E79*F79)))))))","v":0},0,{"$f":"IF('III Tool Overview'!$H$6=\"Orkney Health Board\",0,IF('III Tool Overview'!$H$6=\"Shetland Health Board\",0,IF('III Tool Overview'!$H$6=\"Western Isles Health Board\",0,IF('III Tool Overview'!$H$6=\"Orkney Islands Local Authority\",0,IF('III Tool Overview'!$H$6=\"Shetland Islands Local Authority\",0,IF('III Tool Overview'!$H$6=\"Eilean Siar Local Authority\",0,hosp_count(20,B79,C79,D79,$C$1,G79,1,F79,E79*F79)))))))","v":0},{"$f":"IF('III Tool Overview'!$H$6=\"Orkney Health Board\",0,IF('III Tool Overview'!$H$6=\"Shetland Health Board\",0,IF('III Tool Overview'!$H$6=\"Western Isles Health Board\",0,IF('III Tool Overview'!$H$6=\"Orkney Islands Local Authority\",0,IF('III Tool Overview'!$H$6=\"Shetland Islands Local Authority\",0,IF('III Tool Overview'!$H$6=\"Eilean Siar Local Authority\",0,hosp_count(20,B79,C79,D79,$C$1,G79+H79,1,F79,E79*F79)))))))","v":0},0,null,0.5,5]
["Male 65-69",67.5,"male",1,{"$f":"HLOOKUP('III Tool Overview'!$H$6,Prevalence!$B$2:$AV$268,Prevalence!AW76,FALSE)","v":0.4375},{"$f":"HLOOKUP('III Tool Overview'!$H$6,LookUpData_Pop!$B$1:$AV$269,LookUpData_Pop!BB81,FALSE)/5","v":0},{"$f":"'III Tool Overview'!$H$9/110","v":0},{"$f":"IF('III Tool Overview'!$H$10=\"Even distribution\",Targeting!C78,IF('III Tool Overview'!$H$10=\"Targetting to Q1\",Targeting!D78,IF('III Tool Overview'!$H$10=\"Targetting to Q1 & Q2\",Targeting!E78,IF('III Tool Overview'!$H$10=\"No variation in price elasticity\",Targeting!G78))))","v":0},{"$f":"IF('III Tool Overview'!$H$6=\"Orkney Health Board\",0,IF('III Tool Overview'!$H$6=\"Shetland Health Board\",0,IF('III Tool Overview'!$H$6=\"Western Isles Health Board\",0,IF('III Tool Overview'!$H$6=\"Orkney Islands Local Authority\",0,IF('III Tool Overview'!$H$6=\"Shetland Islands Local Authority\",0,IF('III Tool Overview'!$H$6=\"Eilean Siar Local Authority\",0,new_ci(2,B80,C80,D80,$C$1,G80,1,F80,E80*F80)))))))","v":0},{"$f":"IF('III Tool Overview'!$H$6=\"Orkney Health Board\",0,IF('III Tool Overview'!$H$6=\"Shetland Health Board\",0,IF('III Tool Overview'!$H$6=\"Western Isles Health Board\",0,IF('III Tool Overview'!$H$6=\"Orkney Islands Local Authority\",0,IF('III Tool Overview'!$H$6=\"Shetland Islands Local Authority\",0,IF('III Tool Overview'!$H$6=\"Eilean Siar Local Authority\",0,new_ci(2,B80,C80,D80,$C$1,G80+H80,1,F80,E80*F80)))))))","v":0},{"$f":"IF('III Tool Overview'!$H$6=\"Orkney Health Board\",0,IF('III Tool Overview'!$H$6=\"Shetland Health Board\",0,IF('III Tool Overview'!$H$6=\"Western Isles Health Board\",0,IF('III Tool Overview'!$H$6=\"Orkney Islands Local Authority\",0,IF('III Tool Overview'!$H$6=\"Shetland Islands Local Authority\",0,IF('III Tool Overview'!$H$6=\"Eilean Siar Local Authority\",0,new_ci(5,B80,C80,D80,$C$1,G80,1,F80,E80*F80)))))))","v":0},{"$f":"IF('III Tool Overview'!$H$6=\"Orkney Health Board\",0,IF('III Tool Overview'!$H$6=\"Shetland Health Board\",0,IF('III Tool Overview'!$H$6=\"Western Isles Health Board\",0,IF('III Tool Overview'!$H$6=\"Orkney Islands Local Authority\",0,IF('III Tool Overview'!$H$6=\"Shetland Islands Local Authority\",0,IF('III Tool Overview'!$H$6=\"Eilean Siar Local Authority\",0,new_ci(5,B80,C80,D80,$C$1,G80+H80,1,F80,E80*F80)))))))","v":0},{"$f":"IF('III Tool Overview'!$H$6=\"Orkney Health Board\",0,IF('III Tool Overview'!$H$6=\"Shetland Health Board\",0,IF('III Tool Overview'!$H$6=\"Western Isles Health Board\",0,IF('III Tool Overview'!$H$6=\"Orkney Islands Local Authority\",0,IF('III Tool Overview'!$H$6=\"Shetland Islands Local Authority\",0,IF('III Tool Overview'!$H$6=\"Eilean Siar Local Authority\",0,new_ci(10,B80,C80,D80,$C$1,G80,1,F80,E80*F80)))))))","v":0},{"$f":"IF('III Tool Overview'!$H$6=\"Orkney Health Board\",0,IF('III Tool Overview'!$H$6=\"Shetland Health Board\",0,IF('III Tool Overview'!$H$6=\"Western Isles Health Board\",0,IF('III Tool Overview'!$H$6=\"Orkney Islands Local Authority\",0,IF('III Tool Overview'!$H$6=\"Shetland Islands Local Authority\",0,IF('III Tool Overview'!$H$6=\"Eilean Siar Local Authority\",0,new_ci(10,B80,C80,D80,$C$1,G80+H80,1,F80,E80*F80)))))))","v":0},{"$f":"IF('III Tool Overview'!$H$6=\"Orkney Health Board\",0,IF('III Tool Overview'!$H$6=\"Shetland Health Board\",0,IF('III Tool Overview'!$H$6=\"Western Isles Health Board\",0,IF('III Tool Overview'!$H$6=\"Orkney Islands Local Authority\",0,IF('III Tool Overview'!$H$6=\"Shetland Islands Local Authority\",0,IF('III Tool Overview'!$H$6=\"Eilean Siar Local Authority\",0,new_ci(20,B80,C80,D80,$C$1,G80,1,F80,E80*F80)))))))","v":0},{"$f":"IF('III Tool Overview'!$H$6=\"Orkney Health Board\",0,IF('III Tool Overview'!$H$6=\"Shetland Health Board\",0,IF('III Tool Overview'!$H$6=\"Western Isles Health Board\",0,IF('III Tool Overview'!$H$6=\"Orkney Islands Local Authority\",0,IF('III Tool Overview'!$H$6=\"Shetland Islands Local Authority\",0,IF('III Tool Overview'!$H$6=\"Eilean Siar Local Authority\",0,new_ci(20,B80,C80,D80,$C$1,G80+H80,1,F80,E80*F80)))))))","v":0},{"$f":"IF('III Tool Overview'!$H$6=\"Orkney Health Board\",0,IF('III Tool Overview'!$H$6=\"Shetland Health Board\",0,IF('III Tool Overview'!$H$6=\"Western Isles Health Board\",0,IF('III Tool Overview'!$H$6=\"Orkney Islands Local Authority\",0,IF('III Tool Overview'!$H$6=\"Shetland Islands Local Authority\",0,IF('III Tool Overview'!$H$6=\"Eilean Siar Local Authority\",0,new_yll(2,B80,C80,D80,$C$1,G80,1,F80,E80*F80)))))))","v":0},{"$f":"IF('III Tool Overview'!$H$6=\"Orkney Health Board\",0,IF('III Tool Overview'!$H$6=\"Shetland Health Board\",0,IF('III Tool Overview'!$H$6=\"Western Isles Health Board\",0,IF('III Tool Overview'!$H$6=\"Orkney Islands Local Authority\",0,IF('III Tool Overview'!$H$6=\"Shetland Islands Local Authority\",0,IF('III Tool Overview'!$H$6=\"Eilean Siar Local Authority\",0,new_yll(2,B80,C80,D80,$C$1,G80+H80,1,F80,E80*F80)))))))","v":0},0,{"$f":"IF('III Tool Overview'!$H$6=\"Orkney Health Board\",0,IF('III Tool Overview'!$H$6=\"Shetland Health Board\",0,IF('III Tool Overview'!$H$6=\"Western Isles Health Board\",0,IF('III Tool Overview'!$H$6=\"Orkney Islands Local Authority\",0,IF('III Tool Overview'!$H$6=\"Shetland Islands Local Authority\",0,IF('III Tool Overview'!$H$6=\"Eilean Siar Local Authority\",0,new_yll(5,B80,C80,D80,$C$1,G80,1,F80,E80*F80)))))))","v":0},{"$f":"IF('III Tool Overview'!$H$6=\"Orkney Health Board\",0,IF('III Tool Overview'!$H$6=\"Shetland Health Board\",0,IF('III Tool Overview'!$H$6=\"Western Isles Health Board\",0,IF('III Tool Overview'!$H$6=\"Orkney Islands Local Authority\",0,IF('III Tool Overview'!$H$6=\"Shetland Islands Local Authority\",0,IF('III Tool Overview'!$H$6=\"Eilean Siar Local Authority\",0,new_yll(5,B80,C80,D80,$C$1,G80+H80,1,F80,E80*F80)))))))","v":0},0,{"$f":"IF('III Tool Overview'!$H$6=\"Orkney Health Board\",0,IF('III Tool Overview'!$H$6=\"Shetland Health Board\",0,IF('III Tool Overview'!$H$6=\"Western Isles Health Board\",0,IF('III Tool Overview'!$H$6=\"Orkney Islands Local Authority\",0,IF('III Tool Overview'!$H$6=\"Shetland Islands Local Authority\",0,IF('III Tool Overview'!$H$6=\"Eilean Siar Local Authority\",0,new_yll(10,B80,C80,D80,$C$1,G80,1,F80,E80*F80)))))))","v":0},{"$f":"IF('III Tool Overview'!$H$6=\"Orkney Health Board\",0,IF('III Tool Overview'!$H$6=\"Shetland Health Board\",0,IF('III Tool Overview'!$H$6=\"Western Isles Health Board\",0,IF('III Tool Overview'!$H$6=\"Orkney Islands Local Authority\",0,IF('III Tool Overview'!$H$6=\"Shetland Islands Local Authority\",0,IF('III Tool Overview'!$H$6=\"Eilean Siar Local Authority\",0,new_yll(10,B80,C80,D80,$C$1,G80+H80,1,F80,E80*F80)))))))","v":0},0,{"$f":"IF('III Tool Overview'!$H$6=\"Orkney Health Board\",0,IF('III Tool Overview'!$H$6=\"Shetland Health Board\",0,IF('III Tool Overview'!$H$6=\"Western Isles Health Board\",0,IF('III Tool Overview'!$H$6=\"Orkney Islands Local Authority\",0,IF('III Tool Overview'!$H$6=\"Shetland Islands Local Authority\",0,IF('III Tool Overview'!$H$6=\"Eilean Siar Local Authority\",0,new_yll(20,B80,C80,D80,$C$1,G80,1,F80,E80*F80)))))))","v":0},{"$f":"IF('III Tool Overview'!$H$6=\"Orkney Health Board\",0,IF('III Tool Overview'!$H$6=\"Shetland Health Board\",0,IF('III Tool Overview'!$H$6=\"Western Isles Health Board\",0,IF('III Tool Overview'!$H$6=\"Orkney Islands Local Authority\",0,IF('III Tool Overview'!$H$6=\"Shetland Islands Local Authority\",0,IF('III Tool Overview'!$H$6=\"Eilean Siar Local Authority\",0,new_yll(20,B80,C80,D80,$C$1,G80+H80,1,F80,E80*F80)))))))","v":0},0,{"$f":"IF('III Tool Overview'!$H$6=\"Orkney Health Board\",0,IF('III Tool Overview'!$H$6=\"Shetland Health Board\",0,IF('III Tool Overview'!$H$6=\"Western Isles Health Board\",0,IF('III Tool Overview'!$H$6=\"Orkney Islands Local Authority\",0,IF('III Tool Overview'!$H$6=\"Shetland Islands Local Authority\",0,IF('III Tool Overview'!$H$6=\"Eilean Siar Local Authority\",0,hosp_count(2,B80,C80,D80,$C$1,G80,1,F80,E80*F80)))))))","v":0},{"$f":"IF('III Tool Overview'!$H$6=\"Orkney Health Board\",0,IF('III Tool Overview'!$H$6=\"Shetland Health Board\",0,IF('III Tool Overview'!$H$6=\"Western Isles Health Board\",0,IF('III Tool Overview'!$H$6=\"Orkney Islands Local Authority\",0,IF('III Tool Overview'!$H$6=\"Shetland Islands Local Authority\",0,IF('III Tool Overview'!$H$6=\"Eilean Siar Local Authority\",0,hosp_count(2,B80,C80,D80,$C$1,G80+H80,1,F80,E80*F80)))))))","v":0},0,{"$f":"IF('III Tool Overview'!$H$6=\"Orkney Health Board\",0,IF('III Tool Overview'!$H$6=\"Shetland Health Board\",0,IF('III Tool Overview'!$H$6=\"Western Isles Health Board\",0,IF('III Tool Overview'!$H$6=\"Orkney Islands Local Authority\",0,IF('III Tool Overview'!$H$6=\"Shetland Islands Local Authority\",0,IF('III Tool Overview'!$H$6=\"Eilean Siar Local Authority\",0,hosp_count(5,B80,C80,D80,$C$1,G80,1,F80,E80*F80)))))))","v":0},{"$f":"IF('III Tool Overview'!$H$6=\"Orkney Health Board\",0,IF('III Tool Overview'!$H$6=\"Shetland Health Board\",0,IF('III Tool Overview'!$H$6=\"Western Isles Health Board\",0,IF('III Tool Overview'!$H$6=\"Orkney Islands Local Authority\",0,IF('III Tool Overview'!$H$6=\"Shetland Islands Local Authority\",0,IF('III Tool Overview'!$H$6=\"Eilean Siar Local Authority\",0,hosp_count(5,B80,C80,D80,$C$1,G80+H80,1,F80,E80*F80)))))))","v":0},0,{"$f":"IF('III Tool Overview'!$H$6=\"Orkney Health Board\",0,IF('III Tool Overview'!$H$6=\"Shetland Health Board\",0,IF('III Tool Overview'!$H$6=\"Western Isles Health Board\",0,IF('III Tool Overview'!$H$6=\"Orkney Islands Local Authority\",0,IF('III Tool Overview'!$H$6=\"Shetland Islands Local Authority\",0,IF('III Tool Overview'!$H$6=\"Eilean Siar Local Authority\",0,hosp_count(10,B80,C80,D80,$C$1,G80,1,F80,E80*F80)))))))","v":0},{"$f":"IF('III Tool Overview'!$H$6=\"Orkney Health Board\",0,IF('III Tool Overview'!$H$6=\"Shetland Health Board\",0,IF('III Tool Overview'!$H$6=\"Western Isles Health Board\",0,IF('III Tool Overview'!$H$6=\"Orkney Islands Local Authority\",0,IF('III Tool Overview'!$H$6=\"Shetland Islands Local Authority\",0,IF('III Tool Overview'!$H$6=\"Eilean Siar Local Authority\",0,hosp_count(10,B80,C80,D80,$C$1,G80+H80,1,F80,E80*F80)))))))","v":0},0,{"$f":"IF('III Tool Overview'!$H$6=\"Orkney Health Board\",0,IF('III Tool Overview'!$H$6=\"Shetland Health Board\",0,IF('III Tool Overview'!$H$6=\"Western Isles Health Board\",0,IF('III Tool Overview'!$H$6=\"Orkney Islands Local Authority\",0,IF('III Tool Overview'!$H$6=\"Shetland Islands Local Authority\",0,IF('III Tool Overview'!$H$6=\"Eilean Siar Local Authority\",0,hosp_count(20,B80,C80,D80,$C$1,G80,1,F80,E80*F80)))))))","v":0},{"$f":"IF('III Tool Overview'!$H$6=\"Orkney Health Board\",0,IF('III Tool Overview'!$H$6=\"Shetland Health Board\",0,IF('III Tool Overview'!$H$6=\"Western Isles Health Board\",0,IF('III Tool Overview'!$H$6=\"Orkney Islands Local Authority\",0,IF('III Tool Overview'!$H$6=\"Shetland Islands Local Authority\",0,IF('III Tool Overview'!$H$6=\"Eilean Siar Local Authority\",0,hosp_count(20,B80,C80,D80,$C$1,G80+H80,1,F80,E80*F80)))))))","v":0},0,null,0.5,5]
["Male 70-74",72.5,"male",1,{"$f":"HLOOKUP('III Tool Overview'!$H$6,Prevalence!$B$2:$AV$268,Prevalence!AW77,FALSE)","v":0.4375},{"$f":"HLOOKUP('III Tool Overview'!$H$6,LookUpData_Pop!$B$1:$AV$269,LookUpData_Pop!BB82,FALSE)/5","v":0},{"$f":"'III Tool Overview'!$H$9/110","v":0},{"$f":"IF('III Tool Overview'!$H$10=\"Even distribution\",Targeting!C79,IF('III Tool Overview'!$H$10=\"Targetting to Q1\",Targeting!D79,IF('III Tool Overview'!$H$10=\"Targetting to Q1 & Q2\",Targeting!E79,IF('III Tool Overview'!$H$10=\"No variation in price elasticity\",Targeting!G79))))","v":0},{"$f":"IF('III Tool Overview'!$H$6=\"Orkney Health Board\",0,IF('III Tool Overview'!$H$6=\"Shetland Health Board\",0,IF('III Tool Overview'!$H$6=\"Western Isles Health Board\",0,IF('III Tool Overview'!$H$6=\"Orkney Islands Local Authority\",0,IF('III Tool Overview'!$H$6=\"Shetland Islands Local Authority\",0,IF('III Tool Overview'!$H$6=\"Eilean Siar Local Authority\",0,new_ci(2,B81,C81,D81,$C$1,G81,1,F81,E81*F81)))))))","v":0},{"$f":"IF('III Tool Overview'!$H$6=\"Orkney Health Board\",0,IF('III Tool Overview'!$H$6=\"Shetland Health Board\",0,IF('III Tool Overview'!$H$6=\"Western Isles Health Board\",0,IF('III Tool Overview'!$H$6=\"Orkney Islands Local Authority\",0,IF('III Tool Overview'!$H$6=\"Shetland Islands Local Authority\",0,IF('III Tool Overview'!$H$6=\"Eilean Siar Local Authority\",0,new_ci(2,B81,C81,D81,$C$1,G81+H81,1,F81,E81*F81)))))))","v":0},{"$f":"IF('III Tool Overview'!$H$6=\"Orkney Health Board\",0,IF('III Tool Overview'!$H$6=\"Shetland Health Board\",0,IF('III Tool Overview'!$H$6=\"Western Isles Health Board\",0,IF('III Tool Overview'!$H$6=\"Orkney Islands Local Authority\",0,IF('III Tool Overview'!$H$6=\"Shetland Islands Local Authority\",0,IF('III Tool Overview'!$H$6=\"Eilean Siar Local Authority\",0,new_ci(5,B81,C81,D81,$C$1,G81,1,F81,E81*F81)))))))","v":0},{"$f":"IF('III Tool Overview'!$H$6=\"Orkney Health Board\",0,IF('III Tool Overview'!$H$6=\"Shetland Health Board\",0,IF('III Tool Overview'!$H$6=\"Western Isles Health Board\",0,IF('III Tool Overview'!$H$6=\"Orkney Islands Local Authority\",0,IF('III Tool Overview'!$H$6=\"Shetland Islands Local Authority\",0,IF('III Tool Overview'!$H$6=\"Eilean Siar Local Authority\",0,new_ci(5,B81,C81,D81,$C$1,G81+H81,1,F81,E81*F81)))))))","v":0},{"$f":"IF('III Tool Overview'!$H$6=\"Orkney Health Board\",0,IF('III Tool Overview'!$H$6=\"Shetland Health Board\",0,IF('III Tool Overview'!$H$6=\"Western Isles Health Board\",0,IF('III Tool Overview'!$H$6=\"Orkney Islands Local Authority\",0,IF('III Tool Overview'!$H$6=\"Shetland Islands Local Authority\",0,IF('III Tool Overview'!$H$6=\"Eilean Siar Local Authority\",0,new_ci(10,B81,C81,D81,$C$1,G81,1,F81,E81*F81)))))))","v":0},{"$f":"IF('III Tool Overview'!$H$6=\"Orkney Health Board\",0,IF('III Tool Overview'!$H$6=\"Shetland Health Board\",0,IF('III Tool Overview'!$H$6=\"Western Isles Health Board\",0,IF('III Tool Overview'!$H$6=\"Orkney Islands Local Authority\",0,IF('III Tool Overview'!$H$6=\"Shetland Islands Local Authority\",0,IF('III Tool Overview'!$H$6=\"Eilean Siar Local Authority\",0,new_ci(10,B81,C81,D81,$C$1,G81+H81,1,F81,E81*F81)))))))","v":0},{"$f":"IF('III Tool Overview'!$H$6=\"Orkney Health Board\",0,IF('III Tool Overview'!$H$6=\"Shetland Health Board\",0,IF('III Tool Overview'!$H$6=\"Western Isles Health Board\",0,IF('III Tool Overview'!$H$6=\"Orkney Islands Local Authority\",0,IF('III Tool Overview'!$H$6=\"Shetland Islands Local Authority\",0,IF('III Tool Overview'!$H$6=\"Eilean Siar Local Authority\",0,new_ci(20,B81,C81,D81,$C$1,G81,1,F81,E81*F81)))))))","v":0},{"$f":"IF('III Tool Overview'!$H$6=\"Orkney Health Board\",0,IF('III Tool Overview'!$H$6=\"Shetland Health Board\",0,IF('III Tool Overview'!$H$6=\"Western Isles Health Board\",0,IF('III Tool Overview'!$H$6=\"Orkney Islands Local Authority\",0,IF('III Tool Overview'!$H$6=\"Shetland Islands Local Authority\",0,IF('III Tool Overview'!$H$6=\"Eilean Siar Local Authority\",0,new_ci(20,B81,C81,D81,$C$1,G81+H81,1,F81,E81*F81)))))))","v":0},{"$f":"IF('III Tool Overview'!$H$6=\"Orkney Health Board\",0,IF('III Tool Overview'!$H$6=\"Shetland Health Board\",0,IF('III Tool Overview'!$H$6=\"Western Isles Health Board\",0,IF('III Tool Overview'!$H$6=\"Orkney Islands Local Authority\",0,IF('III Tool Overview'!$H$6=\"Shetland Islands Local Authority\",0,IF('III Tool Overview'!$H$6=\"Eilean Siar Local Authority\",0,new_yll(2,B81,C81,D81,$C$1,G81,1,F81,E81*F81)))))))","v":0},{"$f":"IF('III Tool Overview'!$H$6=\"Orkney Health Board\",0,IF('III Tool Overview'!$H$6=\"Shetland Health Board\",0,IF('III Tool Overview'!$H$6=\"Western Isles Health Board\",0,IF('III Tool Overview'!$H$6=\"Orkney Islands Local Authority\",0,IF('III Tool Overview'!$H$6=\"Shetland Islands Local Authority\",0,IF('III Tool Overview'!$H$6=\"Eilean Siar Local Authority\",0,new_yll(2,B81,C81,D81,$C$1,G81+H81,1,F81,E81*F81)))))))","v":0},{"$f":"Q81-R81","v":0},{"$f":"IF('III Tool Overview'!$H$6=\"Orkney Health Board\",0,IF('III Tool Overview'!$H$6=\"Shetland Health Board\",0,IF('III Tool Overview'!$H$6=\"Western Isles Health Board\",0,IF('III Tool Overview'!$H$6=\"Orkney Islands Local Authority\",0,IF('III Tool Overview'!$H$6=\"Shetland Islands Local Authority\",0,IF('III Tool Overview'!$H$6=\"Eilean Siar Local Authority\",0,new_yll(5,B81,C81,D81,$C$1,G81,1,F81,E81*F81)))))))","v":0},{"$f":"IF('III Tool Overview'!$H$6=\"Orkney Health Board\",0,IF('III Tool Overview'!$H$6=\"Shetland Health Board\",0,IF('III Tool Overview'!$H$6=\"Western Isles Health Board\",0,IF('III Tool Overview'!$H$6=\"Orkney Islands Local Authority\",0,IF('III Tool Overview'!$H$6=\"Shetland Islands Local Authority\",0,IF('III Tool Overview'!$H$6=\"Eilean Siar Local Authority\",0,new_yll(5,B81,C81,D81,$C$1,G81+H81,1,F81,E81*F81)))))))","v":0},{"$f":"T81-U81","v":0},{"$f":"IF('III Tool Overview'!$H$6=\"Orkney Health Board\",0,IF('III Tool Overview'!$H$6=\"Shetland Health Board\",0,IF('III Tool Overview'!$H$6=\"Western Isles Health Board\",0,IF('III Tool Overview'!$H$6=\"Orkney Islands Local Authority\",0,IF('III Tool Overview'!$H$6=\"Shetland Islands Local Authority\",0,IF('III Tool Overview'!$H$6=\"Eilean Siar Local Authority\",0,new_yll(10,B81,C81,D81,$C$1,G81,1,F81,E81*F81)))))))","v":0},{"$f":"IF('III Tool Overview'!$H$6=\"Orkney Health Board\",0,IF('III Tool Overview'!$H$6=\"Shetland Health Board\",0,IF('III Tool Overview'!$H$6=\"Western Isles Health Board\",0,IF('III Tool Overview'!$H$6=\"Orkney Islands Local Authority\",0,IF('III Tool Overview'!$H$6=\"Shetland Islands Local Authority\",0,IF('III Tool Overview'!$H$6=\"Eilean Siar Local Authority\",0,new_yll(10,B81,C81,D81,$C$1,G81+H81,1,F81,E81*F81)))))))","v":0},{"$f":"W81-X81","v":0},{"$f":"IF('III Tool Overview'!$H$6=\"Orkney Health Board\",0,IF('III Tool Overview'!$H$6=\"Shetland Health Board\",0,IF('III Tool Overview'!$H$6=\"Western Isles Health Board\",0,IF('III Tool Overview'!$H$6=\"Orkney Islands Local Authority\",0,IF('III Tool Overview'!$H$6=\"Shetland Islands Local Authority\",0,IF('III Tool Overview'!$H$6=\"Eilean Siar Local Authority\",0,new_yll(20,B81,C81,D81,$C$1,G81,1,F81,E81*F81)))))))","v":0},{"$f":"IF('III Tool Overview'!$H$6=\"Orkney Health Board\",0,IF('III Tool Overview'!$H$6=\"Shetland Health Board\",0,IF('III Tool Overview'!$H$6=\"Western Isles Health Board\",0,IF('III Tool Overview'!$H$6=\"Orkney Islands Local Authority\",0,IF('III Tool Overview'!$H$6=\"Shetland Islands Local Authority\",0,IF('III Tool Overview'!$H$6=\"Eilean Siar Local Authority\",0,new_yll(20,B81,C81,D81,$C$1,G81+H81,1,F81,E81*F81)))))))","v":0},{"$f":"Z81-AA81","v":0},{"$f":"IF('III Tool Overview'!$H$6=\"Orkney Health Board\",0,IF('III Tool Overview'!$H$6=\"Shetland Health Board\",0,IF('III Tool Overview'!$H$6=\"Western Isles Health Board\",0,IF('III Tool Overview'!$H$6=\"Orkney Islands Local Authority\",0,IF('III Tool Overview'!$H$6=\"Shetland Islands Local Authority\",0,IF('III Tool Overview'!$H$6=\"Eilean Siar Local Authority\",0,hosp_count(2,B81,C81,D81,$C$1,G81,1,F81,E81*F81)))))))","v":0},{"$f":"IF('III Tool Overview'!$H$6=\"Orkney Health Board\",0,IF('III Tool Overview'!$H$6=\"Shetland Health Board\",0,IF('III Tool Overview'!$H$6=\"Western Isles Health Board\",0,IF('III Tool Overview'!$H$6=\"Orkney Islands Local Authority\",0,IF('III Tool Overview'!$H$6=\"Shetland Islands Local Authority\",0,IF('III Tool Overview'!$H$6=\"Eilean Siar Local Authority\",0,hosp_count(2,B81,C81,D81,$C$1,G81+H81,1,F81,E81*F81)))))))","v":0},{"$f":"AC81-AD81","v":0},{"$f":"IF('III Tool Overview'!$H$6=\"Orkney Health Board\",0,IF('III Tool Overview'!$H$6=\"Shetland Health Board\",0,IF('III Tool Overview'!$H$6=\"Western Isles Health Board\",0,IF('III Tool Overview'!$H$6=\"Orkney Islands Local Authority\",0,IF('III Tool Overview'!$H$6=\"Shetland Islands Local Authority\",0,IF('III Tool Overview'!$H$6=\"Eilean Siar Local Authority\",0,hosp_count(5,B81,C81,D81,$C$1,G81,1,F81,E81*F81)))))))","v":0},{"$f":"IF('III Tool Overview'!$H$6=\"Orkney Health Board\",0,IF('III Tool Overview'!$H$6=\"Shetland Health Board\",0,IF('III Tool Overview'!$H$6=\"Western Isles Health Board\",0,IF('III Tool Overview'!$H$6=\"Orkney Islands Local Authority\",0,IF('III Tool Overview'!$H$6=\"Shetland Islands Local Authority\",0,IF('III Tool Overview'!$H$6=\"Eilean Siar Local Authority\",0,hosp_count(5,B81,C81,D81,$C$1,G81+H81,1,F81,E81*F81)))))))","v":0},{"$f":"AF81-AG81","v":0},{"$f":"IF('III Tool Overview'!$H$6=\"Orkney Health Board\",0,IF('III Tool Overview'!$H$6=\"Shetland Health Board\",0,IF('III Tool Overview'!$H$6=\"Western Isles Health Board\",0,IF('III Tool Overview'!$H$6=\"Orkney Islands Local Authority\",0,IF('III Tool Overview'!$H$6=\"Shetland Islands Local Authority\",0,IF('III Tool Overview'!$H$6=\"Eilean Siar Local Authority\",0,hosp_count(10,B81,C81,D81,$C$1,G81,1,F81,E81*F81)))))))","v":0},{"$f":"IF('III Tool Overview'!$H$6=\"Orkney Health Board\",0,IF('III Tool Overview'!$H$6=\"Shetland Health Board\",0,IF('III Tool Overview'!$H$6=\"Western Isles Health Board\",0,IF('III Tool Overview'!$H$6=\"Orkney Islands Local Authority\",0,IF('III Tool Overview'!$H$6=\"Shetland Islands Local Authority\",0,IF('III Tool Overview'!$H$6=\"Eilean Siar Local Authority\",0,hosp_count(10,B81,C81,D81,$C$1,G81+H81,1,F81,E81*F81)))))))","v":0},{"$f":"AI81-AJ81","v":0},{"$f":"IF('III Tool Overview'!$H$6=\"Orkney Health Board\",0,IF('III Tool Overview'!$H$6=\"Shetland Health Board\",0,IF('III Tool Overview'!$H$6=\"Western Isles Health Board\",0,IF('III Tool Overview'!$H$6=\"Orkney Islands Local Authority\",0,IF('III Tool Overview'!$H$6=\"Shetland Islands Local Authority\",0,IF('III Tool Overview'!$H$6=\"Eilean Siar Local Authority\",0,hosp_count(20,B81,C81,D81,$C$1,G81,1,F81,E81*F81)))))))","v":0},{"$f":"IF('III Tool Overview'!$H$6=\"Orkney Health Board\",0,IF('III Tool Overview'!$H$6=\"Shetland Health Board\",0,IF('III Tool Overview'!$H$6=\"Western Isles Health Board\",0,IF('III Tool Overview'!$H$6=\"Orkney Islands Local Authority\",0,IF('III Tool Overview'!$H$6=\"Shetland Islands Local Authority\",0,IF('III Tool Overview'!$H$6=\"Eilean Siar Local Authority\",0,hosp_count(20,B81,C81,D81,$C$1,G81+H81,1,F81,E81*F81)))))))","v":0},{"$f":"AL81-AM81","v":0},null,0.5,5]
["Male 75-79",77.5,"male",1,{"$f":"HLOOKUP('III Tool Overview'!$H$6,Prevalence!$B$2:$AV$268,Prevalence!AW78,FALSE)","v":0.15},{"$f":"HLOOKUP('III Tool Overview'!$H$6,LookUpData_Pop!$B$1:$AV$269,LookUpData_Pop!BB83,FALSE)/5","v":0},{"$f":"'III Tool Overview'!$H$9/110","v":0},{"$f":"IF('III Tool Overview'!$H$10=\"Even distribution\",Targeting!C80,IF('III Tool Overview'!$H$10=\"Targetting to Q1\",Targeting!D80,IF('III Tool Overview'!$H$10=\"Targetting to Q1 & Q2\",Targeting!E80,IF('III Tool Overview'!$H$10=\"No variation in price elasticity\",Targeting!G80))))","v":0},{"$f":"IF('III Tool Overview'!$H$6=\"Orkney Health Board\",0,IF('III Tool Overview'!$H$6=\"Shetland Health Board\",0,IF('III Tool Overview'!$H$6=\"Western Isles Health Board\",0,IF('III Tool Overview'!$H$6=\"Orkney Islands Local Authority\",0,IF('III Tool Overview'!$H$6=\"Shetland Islands Local Authority\",0,IF('III Tool Overview'!$H$6=\"Eilean Siar Local Authority\",0,new_ci(2,B82,C82,D82,$C$1,G82,1,F82,E82*F82)))))))","v":0},{"$f":"IF('III Tool Overview'!$H$6=\"Orkney Health Board\",0,IF('III Tool Overview'!$H$6=\"Shetland Health Board\",0,IF('III Tool Overview'!$H$6=\"Western Isles Health Board\",0,IF('III Tool Overview'!$H$6=\"Orkney Islands Local Authority\",0,IF('III Tool Overview'!$H$6=\"Shetland Islands Local Authority\",0,IF('III Tool Overview'!$H$6=\"Eilean Siar Local Authority\",0,new_ci(2,B82,C82,D82,$C$1,G82+H82,1,F82,E82*F82)))))))","v":0},{"$f":"IF('III Tool Overview'!$H$6=\"Orkney Health Board\",0,IF('III Tool Overview'!$H$6=\"Shetland Health Board\",0,IF('III Tool Overview'!$H$6=\"Western Isles Health Board\",0,IF('III Tool Overview'!$H$6=\"Orkney Islands Local Authority\",0,IF('III Tool Overview'!$H$6=\"Shetland Islands Local Authority\",0,IF('III Tool Overview'!$H$6=\"Eilean Siar Local Authority\",0,new_ci(5,B82,C82,D82,$C$1,G82,1,F82,E82*F82)))))))","v":0},{"$f":"IF('III Tool Overview'!$H$6=\"Orkney Health Board\",0,IF('III Tool Overview'!$H$6=\"Shetland Health Board\",0,IF('III Tool Overview'!$H$6=\"Western Isles Health Board\",0,IF('III Tool Overview'!$H$6=\"Orkney Islands Local Authority\",0,IF('III Tool Overview'!$H$6=\"Shetland Islands Local Authority\",0,IF('III Tool Overview'!$H$6=\"Eilean Siar Local Authority\",0,new_ci(5,B82,C82,D82,$C$1,G82+H82,1,F82,E82*F82)))))))","v":0},{"$f":"IF('III Tool Overview'!$H$6=\"Orkney Health Board\",0,IF('III Tool Overview'!$H$6=\"Shetland Health Board\",0,IF('III Tool Overview'!$H$6=\"Western Isles Health Board\",0,IF('III Tool Overview'!$H$6=\"Orkney Islands Local Authority\",0,IF('III Tool Overview'!$H$6=\"Shetland Islands Local Authority\",0,IF('III Tool Overview'!$H$6=\"Eilean Siar Local Authority\",0,new_ci(10,B82,C82,D82,$C$1,G82,1,F82,E82*F82)))))))","v":0},{"$f":"IF('III Tool Overview'!$H$6=\"Orkney Health Board\",0,IF('III Tool Overview'!$H$6=\"Shetland Health Board\",0,IF('III Tool Overview'!$H$6=\"Western Isles Health Board\",0,IF('III Tool Overview'!$H$6=\"Orkney Islands Local Authority\",0,IF('III Tool Overview'!$H$6=\"Shetland Islands Local Authority\",0,IF('III Tool Overview'!$H$6=\"Eilean Siar Local Authority\",0,new_ci(10,B82,C82,D82,$C$1,G82+H82,1,F82,E82*F82)))))))","v":0},{"$f":"IF('III Tool Overview'!$H$6=\"Orkney Health Board\",0,IF('III Tool Overview'!$H$6=\"Shetland Health Board\",0,IF('III Tool Overview'!$H$6=\"Western Isles Health Board\",0,IF('III Tool Overview'!$H$6=\"Orkney Islands Local Authority\",0,IF('III Tool Overview'!$H$6=\"Shetland Islands Local Authority\",0,IF('III Tool Overview'!$H$6=\"Eilean Siar Local Authority\",0,new_ci(20,B82,C82,D82,$C$1,G82,1,F82,E82*F82)))))))","v":0},{"$f":"IF('III Tool Overview'!$H$6=\"Orkney Health Board\",0,IF('III Tool Overview'!$H$6=\"Shetland Health Board\",0,IF('III Tool Overview'!$H$6=\"Western Isles Health Board\",0,IF('III Tool Overview'!$H$6=\"Orkney Islands Local Authority\",0,IF('III Tool Overview'!$H$6=\"Shetland Islands Local Authority\",0,IF('III Tool Overview'!$H$6=\"Eilean Siar Local Authority\",0,new_ci(20,B82,C82,D82,$C$1,G82+H82,1,F82,E82*F82)))))))","v":0},{"$f":"IF('III Tool Overview'!$H$6=\"Orkney Health Board\",0,IF('III Tool Overview'!$H$6=\"Shetland Health Board\",0,IF('III Tool Overview'!$H$6=\"Western Isles Health Board\",0,IF('III Tool Overview'!$H$6=\"Orkney Islands Local Authority\",0,IF('III Tool Overview'!$H$6=\"Shetland Islands Local Authority\",0,IF('III Tool Overview'!$H$6=\"Eilean Siar Local Authority\",0,new_yll(2,B82,C82,D82,$C$1,G82,1,F82,E82*F82)))))))","v":0},{"$f":"IF('III Tool Overview'!$H$6=\"Orkney Health Board\",0,IF('III Tool Overview'!$H$6=\"Shetland Health Board\",0,IF('III Tool Overview'!$H$6=\"Western Isles Health Board\",0,IF('III Tool Overview'!$H$6=\"Orkney Islands Local Authority\",0,IF('III Tool Overview'!$H$6=\"Shetland Islands Local Authority\",0,IF('III Tool Overview'!$H$6=\"Eilean Siar Local Authority\",0,new_yll(2,B82,C82,D82,$C$1,G82+H82,1,F82,E82*F82)))))))","v":0},0,{"$f":"IF('III Tool Overview'!$H$6=\"Orkney Health Board\",0,IF('III Tool Overview'!$H$6=\"Shetland Health Board\",0,IF('III Tool Overview'!$H$6=\"Western Isles Health Board\",0,IF('III Tool Overview'!$H$6=\"Orkney Islands Local Authority\",0,IF('III Tool Overview'!$H$6=\"Shetland Islands Local Authority\",0,IF('III Tool Overview'!$H$6=\"Eilean Siar Local Authority\",0,new_yll(5,B82,C82,D82,$C$1,G82,1,F82,E82*F82)))))))","v":0},{"$f":"IF('III Tool Overview'!$H$6=\"Orkney Health Board\",0,IF('III Tool Overview'!$H$6=\"Shetland Health Board\",0,IF('III Tool Overview'!$H$6=\"Western Isles Health Board\",0,IF('III Tool Overview'!$H$6=\"Orkney Islands Local Authority\",0,IF('III Tool Overview'!$H$6=\"Shetland Islands Local Authority\",0,IF('III Tool Overview'!$H$6=\"Eilean Siar Local Authority\",0,new_yll(5,B82,C82,D82,$C$1,G82+H82,1,F82,E82*F82)))))))","v":0},0,{"$f":"IF('III Tool Overview'!$H$6=\"Orkney Health Board\",0,IF('III Tool Overview'!$H$6=\"Shetland Health Board\",0,IF('III Tool Overview'!$H$6=\"Western Isles Health Board\",0,IF('III Tool Overview'!$H$6=\"Orkney Islands Local Authority\",0,IF('III Tool Overview'!$H$6=\"Shetland Islands Local Authority\",0,IF('III Tool Overview'!$H$6=\"Eilean Siar Local Authority\",0,new_yll(10,B82,C82,D82,$C$1,G82,1,F82,E82*F82)))))))","v":0},{"$f":"IF('III Tool Overview'!$H$6=\"Orkney Health Board\",0,IF('III Tool Overview'!$H$6=\"Shetland Health Board\",0,IF('III Tool Overview'!$H$6=\"Western Isles Health Board\",0,IF('III Tool Overview'!$H$6=\"Orkney Islands Local Authority\",0,IF('III Tool Overview'!$H$6=\"Shetland Islands Local Authority\",0,IF('III Tool Overview'!$H$6=\"Eilean Siar Local Authority\",0,new_yll(10,B82,C82,D82,$C$1,G82+H82,1,F82,E82*F82)))))))","v":0},0,{"$f":"IF('III Tool Overview'!$H$6=\"Orkney Health Board\",0,IF('III Tool Overview'!$H$6=\"Shetland Health Board\",0,IF('III Tool Overview'!$H$6=\"Western Isles Health Board\",0,IF('III Tool Overview'!$H$6=\"Orkney Islands Local Authority\",0,IF('III Tool Overview'!$H$6=\"Shetland Islands Local Authority\",0,IF('III Tool Overview'!$H$6=\"Eilean Siar Local Authority\",0,new_yll(20,B82,C82,D82,$C$1,G82,1,F82,E82*F82)))))))","v":0},{"$f":"IF('III Tool Overview'!$H$6=\"Orkney Health Board\",0,IF('III Tool Overview'!$H$6=\"Shetland Health Board\",0,IF('III Tool Overview'!$H$6=\"Western Isles Health Board\",0,IF('III Tool Overview'!$H$6=\"Orkney Islands Local Authority\",0,IF('III Tool Overview'!$H$6=\"Shetland Islands Local Authority\",0,IF('III Tool Overview'!$H$6=\"Eilean Siar Local Authority\",0,new_yll(20,B82,C82,D82,$C$1,G82+H82,1,F82,E82*F82)))))))","v":0},0,{"$f":"IF('III Tool Overview'!$H$6=\"Orkney Health Board\",0,IF('III Tool Overview'!$H$6=\"Shetland Health Board\",0,IF('III Tool Overview'!$H$6=\"Western Isles Health Board\",0,IF('III Tool Overview'!$H$6=\"Orkney Islands Local Authority\",0,IF('III Tool Overview'!$H$6=\"Shetland Islands Local Authority\",0,IF('III Tool Overview'!$H$6=\"Eilean Siar Local Authority\",0,hosp_count(2,B82,C82,D82,$C$1,G82,1,F82,E82*F82)))))))","v":0},{"$f":"IF('III Tool Overview'!$H$6=\"Orkney Health Board\",0,IF('III Tool Overview'!$H$6=\"Shetland Health Board\",0,IF('III Tool Overview'!$H$6=\"Western Isles Health Board\",0,IF('III Tool Overview'!$H$6=\"Orkney Islands Local Authority\",0,IF('III Tool Overview'!$H$6=\"Shetland Islands Local Authority\",0,IF('III Tool Overview'!$H$6=\"Eilean Siar Local Authority\",0,hosp_count(2,B82,C82,D82,$C$1,G82+H82,1,F82,E82*F82)))))))","v":0},0,{"$f":"IF('III Tool Overview'!$H$6=\"Orkney Health Board\",0,IF('III Tool Overview'!$H$6=\"Shetland Health Board\",0,IF('III Tool Overview'!$H$6=\"Western Isles Health Board\",0,IF('III Tool Overview'!$H$6=\"Orkney Islands Local Authority\",0,IF('III Tool Overview'!$H$6=\"Shetland Islands Local Authority\",0,IF('III Tool Overview'!$H$6=\"Eilean Siar Local Authority\",0,hosp_count(5,B82,C82,D82,$C$1,G82,1,F82,E82*F82)))))))","v":0},{"$f":"IF('III Tool Overview'!$H$6=\"Orkney Health Board\",0,IF('III Tool Overview'!$H$6=\"Shetland Health Board\",0,IF('III Tool Overview'!$H$6=\"Western Isles Health Board\",0,IF('III Tool Overview'!$H$6=\"Orkney Islands Local Authority\",0,IF('III Tool Overview'!$H$6=\"Shetland Islands Local Authority\",0,IF('III Tool Overview'!$H$6=\"Eilean Siar Local Authority\",0,hosp_count(5,B82,C82,D82,$C$1,G82+H82,1,F82,E82*F82)))))))","v":0},0,{"$f":"IF('III Tool Overview'!$H$6=\"Orkney Health Board\",0,IF('III Tool Overview'!$H$6=\"Shetland Health Board\",0,IF('III Tool Overview'!$H$6=\"Western Isles Health Board\",0,IF('III Tool Overview'!$H$6=\"Orkney Islands Local Authority\",0,IF('III Tool Overview'!$H$6=\"Shetland Islands Local Authority\",0,IF('III Tool Overview'!$H$6=\"Eilean Siar Local Authority\",0,hosp_count(10,B82,C82,D82,$C$1,G82,1,F82,E82*F82)))))))","v":0},{"$f":"IF('III Tool Overview'!$H$6=\"Orkney Health Board\",0,IF('III Tool Overview'!$H$6=\"Shetland Health Board\",0,IF('III Tool Overview'!$H$6=\"Western Isles Health Board\",0,IF('III Tool Overview'!$H$6=\"Orkney Islands Local Authority\",0,IF('III Tool Overview'!$H$6=\"Shetland Islands Local Authority\",0,IF('III Tool Overview'!$H$6=\"Eilean Siar Local Authority\",0,hosp_count(10,B82,C82,D82,$C$1,G82+H82,1,F82,E82*F82)))))))","v":0},0,{"$f":"IF('III Tool Overview'!$H$6=\"Orkney Health Board\",0,IF('III Tool Overview'!$H$6=\"Shetland Health Board\",0,IF('III Tool Overview'!$H$6=\"Western Isles Health Board\",0,IF('III Tool Overview'!$H$6=\"Orkney Islands Local Authority\",0,IF('III Tool Overview'!$H$6=\"Shetland Islands Local Authority\",0,IF('III Tool Overview'!$H$6=\"Eilean Siar Local Authority\",0,hosp_count(20,B82,C82,D82,$C$1,G82,1,F82,E82*F82)))))))","v":0},{"$f":"IF('III Tool Overview'!$H$6=\"Orkney Health Board\",0,IF('III Tool Overview'!$H$6=\"Shetland Health Board\",0,IF('III Tool Overview'!$H$6=\"Western Isles Health Board\",0,IF('III Tool Overview'!$H$6=\"Orkney Islands Local Authority\",0,IF('III Tool Overview'!$H$6=\"Shetland Islands Local Authority\",0,IF('III Tool Overview'!$H$6=\"Eilean Siar Local Authority\",0,hosp_count(20,B82,C82,D82,$C$1,G82+H82,1,F82,E82*F82)))))))","v":0},0,null,0.5,5]
["Male 80-84",82.5,"male",1,{"$f":"HLOOKUP('III Tool Overview'!$H$6,Prevalence!$B$2:$AV$268,Prevalence!AW79,FALSE)","v":0.15},{"$f":"HLOOKUP('III Tool Overview'!$H$6,LookUpData_Pop!$B$1:$AV$269,LookUpData_Pop!BB84,FALSE)/5","v":0},{"$f":"'III Tool Overview'!$H$9/110","v":0},{"$f":"IF('III Tool Overview'!$H$10=\"Even distribution\",Targeting!C81,IF('III Tool Overview'!$H$10=\"Targetting to Q1\",Targeting!D81,IF('III Tool Overview'!$H$10=\"Targetting to Q1 & Q2\",Targeting!E81,IF('III Tool Overview'!$H$10=\"No variation in price elasticity\",Targeting!G81))))","v":0},{"$f":"IF('III Tool Overview'!$H$6=\"Orkney Health Board\",0,IF('III Tool Overview'!$H$6=\"Shetland Health Board\",0,IF('III Tool Overview'!$H$6=\"Western Isles Health Board\",0,IF('III Tool Overview'!$H$6=\"Orkney Islands Local Authority\",0,IF('III Tool Overview'!$H$6=\"Shetland Islands Local Authority\",0,IF('III Tool Overview'!$H$6=\"Eilean Siar Local Authority\",0,new_ci(2,B83,C83,D83,$C$1,G83,1,F83,E83*F83)))))))","v":0},{"$f":"IF('III Tool Overview'!$H$6=\"Orkney Health Board\",0,IF('III Tool Overview'!$H$6=\"Shetland Health Board\",0,IF('III Tool Overview'!$H$6=\"Western Isles Health Board\",0,IF('III Tool Overview'!$H$6=\"Orkney Islands Local Authority\",0,IF('III Tool Overview'!$H$6=\"Shetland Islands Local Authority\",0,IF('III Tool Overview'!$H$6=\"Eilean Siar Local Authority\",0,new_ci(2,B83,C83,D83,$C$1,G83+H83,1,F83,E83*F83)))))))","v":0},{"$f":"IF('III Tool Overview'!$H$6=\"Orkney Health Board\",0,IF('III Tool Overview'!$H$6=\"Shetland Health Board\",0,IF('III Tool Overview'!$H$6=\"Western Isles Health Board\",0,IF('III Tool Overview'!$H$6=\"Orkney Islands Local Authority\",0,IF('III Tool Overview'!$H$6=\"Shetland Islands Local Authority\",0,IF('III Tool Overview'!$H$6=\"Eilean Siar Local Authority\",0,new_ci(5,B83,C83,D83,$C$1,G83,1,F83,E83*F83)))))))","v":0},{"$f":"IF('III Tool Overview'!$H$6=\"Orkney Health Board\",0,IF('III Tool Overview'!$H$6=\"Shetland Health Board\",0,IF('III Tool Overview'!$H$6=\"Western Isles Health Board\",0,IF('III Tool Overview'!$H$6=\"Orkney Islands Local Authority\",0,IF('III Tool Overview'!$H$6=\"Shetland Islands Local Authority\",0,IF('III Tool Overview'!$H$6=\"Eilean Siar Local Authority\",0,new_ci(5,B83,C83,D83,$C$1,G83+H83,1,F83,E83*F83)))))))","v":0},{"$f":"IF('III Tool Overview'!$H$6=\"Orkney Health Board\",0,IF('III Tool Overview'!$H$6=\"Shetland Health Board\",0,IF('III Tool Overview'!$H$6=\"Western Isles Health Board\",0,IF('III Tool Overview'!$H$6=\"Orkney Islands Local Authority\",0,IF('III Tool Overview'!$H$6=\"Shetland Islands Local Authority\",0,IF('III Tool Overview'!$H$6=\"Eilean Siar Local Authority\",0,new_ci(10,B83,C83,D83,$C$1,G83,1,F83,E83*F83)))))))","v":0},{"$f":"IF('III Tool Overview'!$H$6=\"Orkney Health Board\",0,IF('III Tool Overview'!$H$6=\"Shetland Health Board\",0,IF('III Tool Overview'!$H$6=\"Western Isles Health Board\",0,IF('III Tool Overview'!$H$6=\"Orkney Islands Local Authority\",0,IF('III Tool Overview'!$H$6=\"Shetland Islands Local Authority\",0,IF('III Tool Overview'!$H$6=\"Eilean Siar Local Authority\",0,new_ci(10,B83,C83,D83,$C$1,G83+H83,1,F83,E83*F83)))))))","v":0},{"$f":"IF('III Tool Overview'!$H$6=\"Orkney Health Board\",0,IF('III Tool Overview'!$H$6=\"Shetland Health Board\",0,IF('III Tool Overview'!$H$6=\"Western Isles Health Board\",0,IF('III Tool Overview'!$H$6=\"Orkney Islands Local Authority\",0,IF('III Tool Overview'!$H$6=\"Shetland Islands Local Authority\",0,IF('III Tool Overview'!$H$6=\"Eilean Siar Local Authority\",0,new_ci(20,B83,C83,D83,$C$1,G83,1,F83,E83*F83)))))))","v":0},{"$f":"IF('III Tool Overview'!$H$6=\"Orkney Health Board\",0,IF('III Tool Overview'!$H$6=\"Shetland Health Board\",0,IF('III Tool Overview'!$H$6=\"Western Isles Health Board\",0,IF('III Tool Overview'!$H$6=\"Orkney Islands Local Authority\",0,IF('III Tool Overview'!$H$6=\"Shetland Islands Local Authority\",0,IF('III Tool Overview'!$H$6=\"Eilean Siar Local Authority\",0,new_ci(20,B83,C83,D83,$C$1,G83+H83,1,F83,E83*F83)))))))","v":0},{"$f":"IF('III Tool Overview'!$H$6=\"Orkney Health Board\",0,IF('III Tool Overview'!$H$6=\"Shetland Health Board\",0,IF('III Tool Overview'!$H$6=\"Western Isles Health Board\",0,IF('III Tool Overview'!$H$6=\"Orkney Islands Local Authority\",0,IF('III Tool Overview'!$H$6=\"Shetland Islands Local Authority\",0,IF('III Tool Overview'!$H$6=\"Eilean Siar Local Authority\",0,new_yll(2,B83,C83,D83,$C$1,G83,1,F83,E83*F83)))))))","v":0},{"$f":"IF('III Tool Overview'!$H$6=\"Orkney Health Board\",0,IF('III Tool Overview'!$H$6=\"Shetland Health Board\",0,IF('III Tool Overview'!$H$6=\"Western Isles Health Board\",0,IF('III Tool Overview'!$H$6=\"Orkney Islands Local Authority\",0,IF('III Tool Overview'!$H$6=\"Shetland Islands Local Authority\",0,IF('III Tool Overview'!$H$6=\"Eilean Siar Local Authority\",0,new_yll(2,B83,C83,D83,$C$1,G83+H83,1,F83,E83*F83)))))))","v":0},0,{"$f":"IF('III Tool Overview'!$H$6=\"Orkney Health Board\",0,IF('III Tool Overview'!$H$6=\"Shetland Health Board\",0,IF('III Tool Overview'!$H$6=\"Western Isles Health Board\",0,IF('III Tool Overview'!$H$6=\"Orkney Islands Local Authority\",0,IF('III Tool Overview'!$H$6=\"Shetland Islands Local Authority\",0,IF('III Tool Overview'!$H$6=\"Eilean Siar Local Authority\",0,new_yll(5,B83,C83,D83,$C$1,G83,1,F83,E83*F83)))))))","v":0},{"$f":"IF('III Tool Overview'!$H$6=\"Orkney Health Board\",0,IF('III Tool Overview'!$H$6=\"Shetland Health Board\",0,IF('III Tool Overview'!$H$6=\"Western Isles Health Board\",0,IF('III Tool Overview'!$H$6=\"Orkney Islands Local Authority\",0,IF('III Tool Overview'!$H$6=\"Shetland Islands Local Authority\",0,IF('III Tool Overview'!$H$6=\"Eilean Siar Local Authority\",0,new_yll(5,B83,C83,D83,$C$1,G83+H83,1,F83,E83*F83)))))))","v":0},0,{"$f":"IF('III Tool Overview'!$H$6=\"Orkney Health Board\",0,IF('III Tool Overview'!$H$6=\"Shetland Health Board\",0,IF('III Tool Overview'!$H$6=\"Western Isles Health Board\",0,IF('III Tool Overview'!$H$6=\"Orkney Islands Local Authority\",0,IF('III Tool Overview'!$H$6=\"Shetland Islands Local Authority\",0,IF('III Tool Overview'!$H$6=\"Eilean Siar Local Authority\",0,new_yll(10,B83,C83,D83,$C$1,G83,1,F83,E83*F83)))))))","v":0},{"$f":"IF('III Tool Overview'!$H$6=\"Orkney Health Board\",0,IF('III Tool Overview'!$H$6=\"Shetland Health Board\",0,IF('III Tool Overview'!$H$6=\"Western Isles Health Board\",0,IF('III Tool Overview'!$H$6=\"Orkney Islands Local Authority\",0,IF('III Tool Overview'!$H$6=\"Shetland Islands Local Authority\",0,IF('III Tool Overview'!$H$6=\"Eilean Siar Local Authority\",0,new_yll(10,B83,C83,D83,$C$1,G83+H83,1,F83,E83*F83)))))))","v":0},0,{"$f":"IF('III Tool Overview'!$H$6=\"Orkney Health Board\",0,IF('III Tool Overview'!$H$6=\"Shetland Health Board\",0,IF('III Tool Overview'!$H$6=\"Western Isles Health Board\",0,IF('III Tool Overview'!$H$6=\"Orkney Islands Local Authority\",0,IF('III Tool Overview'!$H$6=\"Shetland Islands Local Authority\",0,IF('III Tool Overview'!$H$6=\"Eilean Siar Local Authority\",0,new_yll(20,B83,C83,D83,$C$1,G83,1,F83,E83*F83)))))))","v":0},{"$f":"IF('III Tool Overview'!$H$6=\"Orkney Health Board\",0,IF('III Tool Overview'!$H$6=\"Shetland Health Board\",0,IF('III Tool Overview'!$H$6=\"Western Isles Health Board\",0,IF('III Tool Overview'!$H$6=\"Orkney Islands Local Authority\",0,IF('III Tool Overview'!$H$6=\"Shetland Islands Local Authority\",0,IF('III Tool Overview'!$H$6=\"Eilean Siar Local Authority\",0,new_yll(20,B83,C83,D83,$C$1,G83+H83,1,F83,E83*F83)))))))","v":0},0,{"$f":"IF('III Tool Overview'!$H$6=\"Orkney Health Board\",0,IF('III Tool Overview'!$H$6=\"Shetland Health Board\",0,IF('III Tool Overview'!$H$6=\"Western Isles Health Board\",0,IF('III Tool Overview'!$H$6=\"Orkney Islands Local Authority\",0,IF('III Tool Overview'!$H$6=\"Shetland Islands Local Authority\",0,IF('III Tool Overview'!$H$6=\"Eilean Siar Local Authority\",0,hosp_count(2,B83,C83,D83,$C$1,G83,1,F83,E83*F83)))))))","v":0},{"$f":"IF('III Tool Overview'!$H$6=\"Orkney Health Board\",0,IF('III Tool Overview'!$H$6=\"Shetland Health Board\",0,IF('III Tool Overview'!$H$6=\"Western Isles Health Board\",0,IF('III Tool Overview'!$H$6=\"Orkney Islands Local Authority\",0,IF('III Tool Overview'!$H$6=\"Shetland Islands Local Authority\",0,IF('III Tool Overview'!$H$6=\"Eilean Siar Local Authority\",0,hosp_count(2,B83,C83,D83,$C$1,G83+H83,1,F83,E83*F83)))))))","v":0},0,{"$f":"IF('III Tool Overview'!$H$6=\"Orkney Health Board\",0,IF('III Tool Overview'!$H$6=\"Shetland Health Board\",0,IF('III Tool Overview'!$H$6=\"Western Isles Health Board\",0,IF('III Tool Overview'!$H$6=\"Orkney Islands Local Authority\",0,IF('III Tool Overview'!$H$6=\"Shetland Islands Local Authority\",0,IF('III Tool Overview'!$H$6=\"Eilean Siar Local Authority\",0,hosp_count(5,B83,C83,D83,$C$1,G83,1,F83,E83*F83)))))))","v":0},{"$f":"IF('III Tool Overview'!$H$6=\"Orkney Health Board\",0,IF('III Tool Overview'!$H$6=\"Shetland Health Board\",0,IF('III Tool Overview'!$H$6=\"Western Isles Health Board\",0,IF('III Tool Overview'!$H$6=\"Orkney Islands Local Authority\",0,IF('III Tool Overview'!$H$6=\"Shetland Islands Local Authority\",0,IF('III Tool Overview'!$H$6=\"Eilean Siar Local Authority\",0,hosp_count(5,B83,C83,D83,$C$1,G83+H83,1,F83,E83*F83)))))))","v":0},0,{"$f":"IF('III Tool Overview'!$H$6=\"Orkney Health Board\",0,IF('III Tool Overview'!$H$6=\"Shetland Health Board\",0,IF('III Tool Overview'!$H$6=\"Western Isles Health Board\",0,IF('III Tool Overview'!$H$6=\"Orkney Islands Local Authority\",0,IF('III Tool Overview'!$H$6=\"Shetland Islands Local Authority\",0,IF('III Tool Overview'!$H$6=\"Eilean Siar Local Authority\",0,hosp_count(10,B83,C83,D83,$C$1,G83,1,F83,E83*F83)))))))","v":0},{"$f":"IF('III Tool Overview'!$H$6=\"Orkney Health Board\",0,IF('III Tool Overview'!$H$6=\"Shetland Health Board\",0,IF('III Tool Overview'!$H$6=\"Western Isles Health Board\",0,IF('III Tool Overview'!$H$6=\"Orkney Islands Local Authority\",0,IF('III Tool Overview'!$H$6=\"Shetland Islands Local Authority\",0,IF('III Tool Overview'!$H$6=\"Eilean Siar Local Authority\",0,hosp_count(10,B83,C83,D83,$C$1,G83+H83,1,F83,E83*F83)))))))","v":0},0,{"$f":"IF('III Tool Overview'!$H$6=\"Orkney Health Board\",0,IF('III Tool Overview'!$H$6=\"Shetland Health Board\",0,IF('III Tool Overview'!$H$6=\"Western Isles Health Board\",0,IF('III Tool Overview'!$H$6=\"Orkney Islands Local Authority\",0,IF('III Tool Overview'!$H$6=\"Shetland Islands Local Authority\",0,IF('III Tool Overview'!$H$6=\"Eilean Siar Local Authority\",0,hosp_count(20,B83,C83,D83,$C$1,G83,1,F83,E83*F83)))))))","v":0},{"$f":"IF('III Tool Overview'!$H$6=\"Orkney Health Board\",0,IF('III Tool Overview'!$H$6=\"Shetland Health Board\",0,IF('III Tool Overview'!$H$6=\"Western Isles Health Board\",0,IF('III Tool Overview'!$H$6=\"Orkney Islands Local Authority\",0,IF('III Tool Overview'!$H$6=\"Shetland Islands Local Authority\",0,IF('III Tool Overview'!$H$6=\"Eilean Siar Local Authority\",0,hosp_count(20,B83,C83,D83,$C$1,G83+H83,1,F83,E83*F83)))))))","v":0},0,null,0.5,5]
["Male 85-89",87.5,"male",1,{"$f":"HLOOKUP('III Tool Overview'!$H$6,Prevalence!$B$2:$AV$268,Prevalence!AW80,FALSE)","v":0.15},{"$f":"HLOOKUP('III Tool Overview'!$H$6,LookUpData_Pop!$B$1:$AV$269,LookUpData_Pop!BB85,FALSE)/5","v":0},{"$f":"'III Tool Overview'!$H$9/110","v":0},{"$f":"IF('III Tool Overview'!$H$10=\"Even distribution\",Targeting!C82,IF('III Tool Overview'!$H$10=\"Targetting to Q1\",Targeting!D82,IF('III Tool Overview'!$H$10=\"Targetting to Q1 & Q2\",Targeting!E82,IF('III Tool Overview'!$H$10=\"No variation in price elasticity\",Targeting!G82))))","v":0},{"$f":"IF('III Tool Overview'!$H$6=\"Orkney Health Board\",0,IF('III Tool Overview'!$H$6=\"Shetland Health Board\",0,IF('III Tool Overview'!$H$6=\"Western Isles Health Board\",0,IF('III Tool Overview'!$H$6=\"Orkney Islands Local Authority\",0,IF('III Tool Overview'!$H$6=\"Shetland Islands Local Authority\",0,IF('III Tool Overview'!$H$6=\"Eilean Siar Local Authority\",0,new_ci(2,B84,C84,D84,$C$1,G84,1,F84,E84*F84)))))))","v":0},{"$f":"IF('III Tool Overview'!$H$6=\"Orkney Health Board\",0,IF('III Tool Overview'!$H$6=\"Shetland Health Board\",0,IF('III Tool Overview'!$H$6=\"Western Isles Health Board\",0,IF('III Tool Overview'!$H$6=\"Orkney Islands Local Authority\",0,IF('III Tool Overview'!$H$6=\"Shetland Islands Local Authority\",0,IF('III Tool Overview'!$H$6=\"Eilean Siar Local Authority\",0,new_ci(2,B84,C84,D84,$C$1,G84+H84,1,F84,E84*F84)))))))","v":0},{"$f":"IF('III Tool Overview'!$H$6=\"Orkney Health Board\",0,IF('III Tool Overview'!$H$6=\"Shetland Health Board\",0,IF('III Tool Overview'!$H$6=\"Western Isles Health Board\",0,IF('III Tool Overview'!$H$6=\"Orkney Islands Local Authority\",0,IF('III Tool Overview'!$H$6=\"Shetland Islands Local Authority\",0,IF('III Tool Overview'!$H$6=\"Eilean Siar Local Authority\",0,new_ci(5,B84,C84,D84,$C$1,G84,1,F84,E84*F84)))))))","v":0},{"$f":"IF('III Tool Overview'!$H$6=\"Orkney Health Board\",0,IF('III Tool Overview'!$H$6=\"Shetland Health Board\",0,IF('III Tool Overview'!$H$6=\"Western Isles Health Board\",0,IF('III Tool Overview'!$H$6=\"Orkney Islands Local Authority\",0,IF('III Tool Overview'!$H$6=\"Shetland Islands Local Authority\",0,IF('III Tool Overview'!$H$6=\"Eilean Siar Local Authority\",0,new_ci(5,B84,C84,D84,$C$1,G84+H84,1,F84,E84*F84)))))))","v":0},{"$f":"IF('III Tool Overview'!$H$6=\"Orkney Health Board\",0,IF('III Tool Overview'!$H$6=\"Shetland Health Board\",0,IF('III Tool Overview'!$H$6=\"Western Isles Health Board\",0,IF('III Tool Overview'!$H$6=\"Orkney Islands Local Authority\",0,IF('III Tool Overview'!$H$6=\"Shetland Islands Local Authority\",0,IF('III Tool Overview'!$H$6=\"Eilean Siar Local Authority\",0,new_ci(10,B84,C84,D84,$C$1,G84,1,F84,E84*F84)))))))","v":0},{"$f":"IF('III Tool Overview'!$H$6=\"Orkney Health Board\",0,IF('III Tool Overview'!$H$6=\"Shetland Health Board\",0,IF('III Tool Overview'!$H$6=\"Western Isles Health Board\",0,IF('III Tool Overview'!$H$6=\"Orkney Islands Local Authority\",0,IF('III Tool Overview'!$H$6=\"Shetland Islands Local Authority\",0,IF('III Tool Overview'!$H$6=\"Eilean Siar Local Authority\",0,new_ci(10,B84,C84,D84,$C$1,G84+H84,1,F84,E84*F84)))))))","v":0},{"$f":"IF('III Tool Overview'!$H$6=\"Orkney Health Board\",0,IF('III Tool Overview'!$H$6=\"Shetland Health Board\",0,IF('III Tool Overview'!$H$6=\"Western Isles Health Board\",0,IF('III Tool Overview'!$H$6=\"Orkney Islands Local Authority\",0,IF('III Tool Overview'!$H$6=\"Shetland Islands Local Authority\",0,IF('III Tool Overview'!$H$6=\"Eilean Siar Local Authority\",0,new_ci(20,B84,C84,D84,$C$1,G84,1,F84,E84*F84)))))))","v":0},{"$f":"IF('III Tool Overview'!$H$6=\"Orkney Health Board\",0,IF('III Tool Overview'!$H$6=\"Shetland Health Board\",0,IF('III Tool Overview'!$H$6=\"Western Isles Health Board\",0,IF('III Tool Overview'!$H$6=\"Orkney Islands Local Authority\",0,IF('III Tool Overview'!$H$6=\"Shetland Islands Local Authority\",0,IF('III Tool Overview'!$H$6=\"Eilean Siar Local Authority\",0,new_ci(20,B84,C84,D84,$C$1,G84+H84,1,F84,E84*F84)))))))","v":0},{"$f":"IF('III Tool Overview'!$H$6=\"Orkney Health Board\",0,IF('III Tool Overview'!$H$6=\"Shetland Health Board\",0,IF('III Tool Overview'!$H$6=\"Western Isles Health Board\",0,IF('III Tool Overview'!$H$6=\"Orkney Islands Local Authority\",0,IF('III Tool Overview'!$H$6=\"Shetland Islands Local Authority\",0,IF('III Tool Overview'!$H$6=\"Eilean Siar Local Authority\",0,new_yll(2,B84,C84,D84,$C$1,G84,1,F84,E84*F84)))))))","v":0},{"$f":"IF('III Tool Overview'!$H$6=\"Orkney Health Board\",0,IF('III Tool Overview'!$H$6=\"Shetland Health Board\",0,IF('III Tool Overview'!$H$6=\"Western Isles Health Board\",0,IF('III Tool Overview'!$H$6=\"Orkney Islands Local Authority\",0,IF('III Tool Overview'!$H$6=\"Shetland Islands Local Authority\",0,IF('III Tool Overview'!$H$6=\"Eilean Siar Local Authority\",0,new_yll(2,B84,C84,D84,$C$1,G84+H84,1,F84,E84*F84)))))))","v":0},0,{"$f":"IF('III Tool Overview'!$H$6=\"Orkney Health Board\",0,IF('III Tool Overview'!$H$6=\"Shetland Health Board\",0,IF('III Tool Overview'!$H$6=\"Western Isles Health Board\",0,IF('III Tool Overview'!$H$6=\"Orkney Islands Local Authority\",0,IF('III Tool Overview'!$H$6=\"Shetland Islands Local Authority\",0,IF('III Tool Overview'!$H$6=\"Eilean Siar Local Authority\",0,new_yll(5,B84,C84,D84,$C$1,G84,1,F84,E84*F84)))))))","v":0},{"$f":"IF('III Tool Overview'!$H$6=\"Orkney Health Board\",0,IF('III Tool Overview'!$H$6=\"Shetland Health Board\",0,IF('III Tool Overview'!$H$6=\"Western Isles Health Board\",0,IF('III Tool Overview'!$H$6=\"Orkney Islands Local Authority\",0,IF('III Tool Overview'!$H$6=\"Shetland Islands Local Authority\",0,IF('III Tool Overview'!$H$6=\"Eilean Siar Local Authority\",0,new_yll(5,B84,C84,D84,$C$1,G84+H84,1,F84,E84*F84)))))))","v":0},0,{"$f":"IF('III Tool Overview'!$H$6=\"Orkney Health Board\",0,IF('III Tool Overview'!$H$6=\"Shetland Health Board\",0,IF('III Tool Overview'!$H$6=\"Western Isles Health Board\",0,IF('III Tool Overview'!$H$6=\"Orkney Islands Local Authority\",0,IF('III Tool Overview'!$H$6=\"Shetland Islands Local Authority\",0,IF('III Tool Overview'!$H$6=\"Eilean Siar Local Authority\",0,new_yll(10,B84,C84,D84,$C$1,G84,1,F84,E84*F84)))))))","v":0},{"$f":"IF('III Tool Overview'!$H$6=\"Orkney Health Board\",0,IF('III Tool Overview'!$H$6=\"Shetland Health Board\",0,IF('III Tool Overview'!$H$6=\"Western Isles Health Board\",0,IF('III Tool Overview'!$H$6=\"Orkney Islands Local Authority\",0,IF('III Tool Overview'!$H$6=\"Shetland Islands Local Authority\",0,IF('III Tool Overview'!$H$6=\"Eilean Siar Local Authority\",0,new_yll(10,B84,C84,D84,$C$1,G84+H84,1,F84,E84*F84)))))))","v":0},0,{"$f":"IF('III Tool Overview'!$H$6=\"Orkney Health Board\",0,IF('III Tool Overview'!$H$6=\"Shetland Health Board\",0,IF('III Tool Overview'!$H$6=\"Western Isles Health Board\",0,IF('III Tool Overview'!$H$6=\"Orkney Islands Local Authority\",0,IF('III Tool Overview'!$H$6=\"Shetland Islands Local Authority\",0,IF('III Tool Overview'!$H$6=\"Eilean Siar Local Authority\",0,new_yll(20,B84,C84,D84,$C$1,G84,1,F84,E84*F84)))))))","v":0},{"$f":"IF('III Tool Overview'!$H$6=\"Orkney Health Board\",0,IF('III Tool Overview'!$H$6=\"Shetland Health Board\",0,IF('III Tool Overview'!$H$6=\"Western Isles Health Board\",0,IF('III Tool Overview'!$H$6=\"Orkney Islands Local Authority\",0,IF('III Tool Overview'!$H$6=\"Shetland Islands Local Authority\",0,IF('III Tool Overview'!$H$6=\"Eilean Siar Local Authority\",0,new_yll(20,B84,C84,D84,$C$1,G84+H84,1,F84,E84*F84)))))))","v":0},0,{"$f":"IF('III Tool Overview'!$H$6=\"Orkney Health Board\",0,IF('III Tool Overview'!$H$6=\"Shetland Health Board\",0,IF('III Tool Overview'!$H$6=\"Western Isles Health Board\",0,IF('III Tool Overview'!$H$6=\"Orkney Islands Local Authority\",0,IF('III Tool Overview'!$H$6=\"Shetland Islands Local Authority\",0,IF('III Tool Overview'!$H$6=\"Eilean Siar Local Authority\",0,hosp_count(2,B84,C84,D84,$C$1,G84,1,F84,E84*F84)))))))","v":0},{"$f":"IF('III Tool Overview'!$H$6=\"Orkney Health Board\",0,IF('III Tool Overview'!$H$6=\"Shetland Health Board\",0,IF('III Tool Overview'!$H$6=\"Western Isles Health Board\",0,IF('III Tool Overview'!$H$6=\"Orkney Islands Local Authority\",0,IF('III Tool Overview'!$H$6=\"Shetland Islands Local Authority\",0,IF('III Tool Overview'!$H$6=\"Eilean Siar Local Authority\",0,hosp_count(2,B84,C84,D84,$C$1,G84+H84,1,F84,E84*F84)))))))","v":0},0,{"$f":"IF('III Tool Overview'!$H$6=\"Orkney Health Board\",0,IF('III Tool Overview'!$H$6=\"Shetland Health Board\",0,IF('III Tool Overview'!$H$6=\"Western Isles Health Board\",0,IF('III Tool Overview'!$H$6=\"Orkney Islands Local Authority\",0,IF('III Tool Overview'!$H$6=\"Shetland Islands Local Authority\",0,IF('III Tool Overview'!$H$6=\"Eilean Siar Local Authority\",0,hosp_count(5,B84,C84,D84,$C$1,G84,1,F84,E84*F84)))))))","v":0},{"$f":"IF('III Tool Overview'!$H$6=\"Orkney Health Board\",0,IF('III Tool Overview'!$H$6=\"Shetland Health Board\",0,IF('III Tool Overview'!$H$6=\"Western Isles Health Board\",0,IF('III Tool Overview'!$H$6=\"Orkney Islands Local Authority\",0,IF('III Tool Overview'!$H$6=\"Shetland Islands Local Authority\",0,IF('III Tool Overview'!$H$6=\"Eilean Siar Local Authority\",0,hosp_count(5,B84,C84,D84,$C$1,G84+H84,1,F84,E84*F84)))))))","v":0},0,{"$f":"IF('III Tool Overview'!$H$6=\"Orkney Health Board\",0,IF('III Tool Overview'!$H$6=\"Shetland Health Board\",0,IF('III Tool Overview'!$H$6=\"Western Isles Health Board\",0,IF('III Tool Overview'!$H$6=\"Orkney Islands Local Authority\",0,IF('III Tool Overview'!$H$6=\"Shetland Islands Local Authority\",0,IF('III Tool Overview'!$H$6=\"Eilean Siar Local Authority\",0,hosp_count(10,B84,C84,D84,$C$1,G84,1,F84,E84*F84)))))))","v":0},{"$f":"IF('III Tool Overview'!$H$6=\"Orkney Health Board\",0,IF('III Tool Overview'!$H$6=\"Shetland Health Board\",0,IF('III Tool Overview'!$H$6=\"Western Isles Health Board\",0,IF('III Tool Overview'!$H$6=\"Orkney Islands Local Authority\",0,IF('III Tool Overview'!$H$6=\"Shetland Islands Local Authority\",0,IF('III Tool Overview'!$H$6=\"Eilean Siar Local Authority\",0,hosp_count(10,B84,C84,D84,$C$1,G84+H84,1,F84,E84*F84)))))))","v":0},0,{"$f":"IF('III Tool Overview'!$H$6=\"Orkney Health Board\",0,IF('III Tool Overview'!$H$6=\"Shetland Health Board\",0,IF('III Tool Overview'!$H$6=\"Western Isles Health Board\",0,IF('III Tool Overview'!$H$6=\"Orkney Islands Local Authority\",0,IF('III Tool Overview'!$H$6=\"Shetland Islands Local Authority\",0,IF('III Tool Overview'!$H$6=\"Eilean Siar Local Authority\",0,hosp_count(20,B84,C84,D84,$C$1,G84,1,F84,E84*F84)))))))","v":0},{"$f":"IF('III Tool Overview'!$H$6=\"Orkney Health Board\",0,IF('III Tool Overview'!$H$6=\"Shetland Health Board\",0,IF('III Tool Overview'!$H$6=\"Western Isles Health Board\",0,IF('III Tool Overview'!$H$6=\"Orkney Islands Local Authority\",0,IF('III Tool Overview'!$H$6=\"Shetland Islands Local Authority\",0,IF('III Tool Overview'!$H$6=\"Eilean Siar Local Authority\",0,hosp_count(20,B84,C84,D84,$C$1,G84+H84,1,F84,E84*F84)))))))","v":0},0,null,0.5,{"$f":"2/#REF!","v":{"$error":"#REF!"}}]
["Male 90+",95,"male",1,{"$f":"HLOOKUP('III Tool Overview'!$H$6,Prevalence!$B$2:$AV$268,Prevalence!AW81,FALSE)","v":0.15},{"$f":"HLOOKUP('III Tool Overview'!$H$6,LookUpData_Pop!$B$1:$AV$269,LookUpData_Pop!BB86,FALSE)/5","v":0},{"$f":"'III Tool Overview'!$H$9/110","v":0},{"$f":"IF('III Tool Overview'!$H$10=\"Even distribution\",Targeting!C83,IF('III Tool Overview'!$H$10=\"Targetting to Q1\",Targeting!D83,IF('III Tool Overview'!$H$10=\"Targetting to Q1 & Q2\",Targeting!E83,IF('III Tool Overview'!$H$10=\"No variation in price elasticity\",Targeting!G83))))","v":0},{"$f":"IF('III Tool Overview'!$H$6=\"Orkney Health Board\",0,IF('III Tool Overview'!$H$6=\"Shetland Health Board\",0,IF('III Tool Overview'!$H$6=\"Western Isles Health Board\",0,IF('III Tool Overview'!$H$6=\"Orkney Islands Local Authority\",0,IF('III Tool Overview'!$H$6=\"Shetland Islands Local Authority\",0,IF('III Tool Overview'!$H$6=\"Eilean Siar Local Authority\",0,new_ci(2,B85,C85,D85,$C$1,G85,1,F85,E85*F85)))))))","v":0},{"$f":"IF('III Tool Overview'!$H$6=\"Orkney Health Board\",0,IF('III Tool Overview'!$H$6=\"Shetland Health Board\",0,IF('III Tool Overview'!$H$6=\"Western Isles Health Board\",0,IF('III Tool Overview'!$H$6=\"Orkney Islands Local Authority\",0,IF('III Tool Overview'!$H$6=\"Shetland Islands Local Authority\",0,IF('III Tool Overview'!$H$6=\"Eilean Siar Local Authority\",0,new_ci(2,B85,C85,D85,$C$1,G85+H85,1,F85,E85*F85)))))))","v":0},{"$f":"IF('III Tool Overview'!$H$6=\"Orkney Health Board\",0,IF('III Tool Overview'!$H$6=\"Shetland Health Board\",0,IF('III Tool Overview'!$H$6=\"Western Isles Health Board\",0,IF('III Tool Overview'!$H$6=\"Orkney Islands Local Authority\",0,IF('III Tool Overview'!$H$6=\"Shetland Islands Local Authority\",0,IF('III Tool Overview'!$H$6=\"Eilean Siar Local Authority\",0,new_ci(5,B85,C85,D85,$C$1,G85,1,F85,E85*F85)))))))","v":0},{"$f":"IF('III Tool Overview'!$H$6=\"Orkney Health Board\",0,IF('III Tool Overview'!$H$6=\"Shetland Health Board\",0,IF('III Tool Overview'!$H$6=\"Western Isles Health Board\",0,IF('III Tool Overview'!$H$6=\"Orkney Islands Local Authority\",0,IF('III Tool Overview'!$H$6=\"Shetland Islands Local Authority\",0,IF('III Tool Overview'!$H$6=\"Eilean Siar Local Authority\",0,new_ci(5,B85,C85,D85,$C$1,G85+H85,1,F85,E85*F85)))))))","v":0},{"$f":"IF('III Tool Overview'!$H$6=\"Orkney Health Board\",0,IF('III Tool Overview'!$H$6=\"Shetland Health Board\",0,IF('III Tool Overview'!$H$6=\"Western Isles Health Board\",0,IF('III Tool Overview'!$H$6=\"Orkney Islands Local Authority\",0,IF('III Tool Overview'!$H$6=\"Shetland Islands Local Authority\",0,IF('III Tool Overview'!$H$6=\"Eilean Siar Local Authority\",0,new_ci(10,B85,C85,D85,$C$1,G85,1,F85,E85*F85)))))))","v":0},{"$f":"IF('III Tool Overview'!$H$6=\"Orkney Health Board\",0,IF('III Tool Overview'!$H$6=\"Shetland Health Board\",0,IF('III Tool Overview'!$H$6=\"Western Isles Health Board\",0,IF('III Tool Overview'!$H$6=\"Orkney Islands Local Authority\",0,IF('III Tool Overview'!$H$6=\"Shetland Islands Local Authority\",0,IF('III Tool Overview'!$H$6=\"Eilean Siar Local Authority\",0,new_ci(10,B85,C85,D85,$C$1,G85+H85,1,F85,E85*F85)))))))","v":0},{"$f":"IF('III Tool Overview'!$H$6=\"Orkney Health Board\",0,IF('III Tool Overview'!$H$6=\"Shetland Health Board\",0,IF('III Tool Overview'!$H$6=\"Western Isles Health Board\",0,IF('III Tool Overview'!$H$6=\"Orkney Islands Local Authority\",0,IF('III Tool Overview'!$H$6=\"Shetland Islands Local Authority\",0,IF('III Tool Overview'!$H$6=\"Eilean Siar Local Authority\",0,new_ci(20,B85,C85,D85,$C$1,G85,1,F85,E85*F85)))))))","v":0},{"$f":"IF('III Tool Overview'!$H$6=\"Orkney Health Board\",0,IF('III Tool Overview'!$H$6=\"Shetland Health Board\",0,IF('III Tool Overview'!$H$6=\"Western Isles Health Board\",0,IF('III Tool Overview'!$H$6=\"Orkney Islands Local Authority\",0,IF('III Tool Overview'!$H$6=\"Shetland Islands Local Authority\",0,IF('III Tool Overview'!$H$6=\"Eilean Siar Local Authority\",0,new_ci(20,B85,C85,D85,$C$1,G85+H85,1,F85,E85*F85)))))))","v":0},{"$f":"IF('III Tool Overview'!$H$6=\"Orkney Health Board\",0,IF('III Tool Overview'!$H$6=\"Shetland Health Board\",0,IF('III Tool Overview'!$H$6=\"Western Isles Health Board\",0,IF('III Tool Overview'!$H$6=\"Orkney Islands Local Authority\",0,IF('III Tool Overview'!$H$6=\"Shetland Islands Local Authority\",0,IF('III Tool Overview'!$H$6=\"Eilean Siar Local Authority\",0,new_yll(2,B85,C85,D85,$C$1,G85,1,F85,E85*F85)))))))","v":0},{"$f":"IF('III Tool Overview'!$H$6=\"Orkney Health Board\",0,IF('III Tool Overview'!$H$6=\"Shetland Health Board\",0,IF('III Tool Overview'!$H$6=\"Western Isles Health Board\",0,IF('III Tool Overview'!$H$6=\"Orkney Islands Local Authority\",0,IF('III Tool Overview'!$H$6=\"Shetland Islands Local Authority\",0,IF('III Tool Overview'!$H$6=\"Eilean Siar Local Authority\",0,new_yll(2,B85,C85,D85,$C$1,G85+H85,1,F85,E85*F85)))))))","v":0},{"$f":"Q85-R85","v":0},{"$f":"IF('III Tool Overview'!$H$6=\"Orkney Health Board\",0,IF('III Tool Overview'!$H$6=\"Shetland Health Board\",0,IF('III Tool Overview'!$H$6=\"Western Isles Health Board\",0,IF('III Tool Overview'!$H$6=\"Orkney Islands Local Authority\",0,IF('III Tool Overview'!$H$6=\"Shetland Islands Local Authority\",0,IF('III Tool Overview'!$H$6=\"Eilean Siar Local Authority\",0,new_yll(5,B85,C85,D85,$C$1,G85,1,F85,E85*F85)))))))","v":0},{"$f":"IF('III Tool Overview'!$H$6=\"Orkney Health Board\",0,IF('III Tool Overview'!$H$6=\"Shetland Health Board\",0,IF('III Tool Overview'!$H$6=\"Western Isles Health Board\",0,IF('III Tool Overview'!$H$6=\"Orkney Islands Local Authority\",0,IF('III Tool Overview'!$H$6=\"Shetland Islands Local Authority\",0,IF('III Tool Overview'!$H$6=\"Eilean Siar Local Authority\",0,new_yll(5,B85,C85,D85,$C$1,G85+H85,1,F85,E85*F85)))))))","v":0},{"$f":"T85-U85","v":0},{"$f":"IF('III Tool Overview'!$H$6=\"Orkney Health Board\",0,IF('III Tool Overview'!$H$6=\"Shetland Health Board\",0,IF('III Tool Overview'!$H$6=\"Western Isles Health Board\",0,IF('III Tool Overview'!$H$6=\"Orkney Islands Local Authority\",0,IF('III Tool Overview'!$H$6=\"Shetland Islands Local Authority\",0,IF('III Tool Overview'!$H$6=\"Eilean Siar Local Authority\",0,new_yll(10,B85,C85,D85,$C$1,G85,1,F85,E85*F85)))))))","v":0},{"$f":"IF('III Tool Overview'!$H$6=\"Orkney Health Board\",0,IF('III Tool Overview'!$H$6=\"Shetland Health Board\",0,IF('III Tool Overview'!$H$6=\"Western Isles Health Board\",0,IF('III Tool Overview'!$H$6=\"Orkney Islands Local Authority\",0,IF('III Tool Overview'!$H$6=\"Shetland Islands Local Authority\",0,IF('III Tool Overview'!$H$6=\"Eilean Siar Local Authority\",0,new_yll(10,B85,C85,D85,$C$1,G85+H85,1,F85,E85*F85)))))))","v":0},{"$f":"W85-X85","v":0},{"$f":"IF('III Tool Overview'!$H$6=\"Orkney Health Board\",0,IF('III Tool Overview'!$H$6=\"Shetland Health Board\",0,IF('III Tool Overview'!$H$6=\"Western Isles Health Board\",0,IF('III Tool Overview'!$H$6=\"Orkney Islands Local Authority\",0,IF('III Tool Overview'!$H$6=\"Shetland Islands Local Authority\",0,IF('III Tool Overview'!$H$6=\"Eilean Siar Local Authority\",0,new_yll(20,B85,C85,D85,$C$1,G85,1,F85,E85*F85)))))))","v":0},{"$f":"IF('III Tool Overview'!$H$6=\"Orkney Health Board\",0,IF('III Tool Overview'!$H$6=\"Shetland Health Board\",0,IF('III Tool Overview'!$H$6=\"Western Isles Health Board\",0,IF('III Tool Overview'!$H$6=\"Orkney Islands Local Authority\",0,IF('III Tool Overview'!$H$6=\"Shetland Islands Local Authority\",0,IF('III Tool Overview'!$H$6=\"Eilean Siar Local Authority\",0,new_yll(20,B85,C85,D85,$C$1,G85+H85,1,F85,E85*F85)))))))","v":0},{"$f":"Z85-AA85","v":0},{"$f":"IF('III Tool Overview'!$H$6=\"Orkney Health Board\",0,IF('III Tool Overview'!$H$6=\"Shetland Health Board\",0,IF('III Tool Overview'!$H$6=\"Western Isles Health Board\",0,IF('III Tool Overview'!$H$6=\"Orkney Islands Local Authority\",0,IF('III Tool Overview'!$H$6=\"Shetland Islands Local Authority\",0,IF('III Tool Overview'!$H$6=\"Eilean Siar Local Authority\",0,hosp_count(2,B85,C85,D85,$C$1,G85,1,F85,E85*F85)))))))","v":0},{"$f":"IF('III Tool Overview'!$H$6=\"Orkney Health Board\",0,IF('III Tool Overview'!$H$6=\"Shetland Health Board\",0,IF('III Tool Overview'!$H$6=\"Western Isles Health Board\",0,IF('III Tool Overview'!$H$6=\"Orkney Islands Local Authority\",0,IF('III Tool Overview'!$H$6=\"Shetland Islands Local Authority\",0,IF('III Tool Overview'!$H$6=\"Eilean Siar Local Authority\",0,hosp_count(2,B85,C85,D85,$C$1,G85+H85,1,F85,E85*F85)))))))","v":0},{"$f":"AC85-AD85","v":0},{"$f":"IF('III Tool Overview'!$H$6=\"Orkney Health Board\",0,IF('III Tool Overview'!$H$6=\"Shetland Health Board\",0,IF('III Tool Overview'!$H$6=\"Western Isles Health Board\",0,IF('III Tool Overview'!$H$6=\"Orkney Islands Local Authority\",0,IF('III Tool Overview'!$H$6=\"Shetland Islands Local Authority\",0,IF('III Tool Overview'!$H$6=\"Eilean Siar Local Authority\",0,hosp_count(5,B85,C85,D85,$C$1,G85,1,F85,E85*F85)))))))","v":0},{"$f":"IF('III Tool Overview'!$H$6=\"Orkney Health Board\",0,IF('III Tool Overview'!$H$6=\"Shetland Health Board\",0,IF('III Tool Overview'!$H$6=\"Western Isles Health Board\",0,IF('III Tool Overview'!$H$6=\"Orkney Islands Local Authority\",0,IF('III Tool Overview'!$H$6=\"Shetland Islands Local Authority\",0,IF('III Tool Overview'!$H$6=\"Eilean Siar Local Authority\",0,hosp_count(5,B85,C85,D85,$C$1,G85+H85,1,F85,E85*F85)))))))","v":0},{"$f":"AF85-AG85","v":0},{"$f":"IF('III Tool Overview'!$H$6=\"Orkney Health Board\",0,IF('III Tool Overview'!$H$6=\"Shetland Health Board\",0,IF('III Tool Overview'!$H$6=\"Western Isles Health Board\",0,IF('III Tool Overview'!$H$6=\"Orkney Islands Local Authority\",0,IF('III Tool Overview'!$H$6=\"Shetland Islands Local Authority\",0,IF('III Tool Overview'!$H$6=\"Eilean Siar Local Authority\",0,hosp_count(10,B85,C85,D85,$C$1,G85,1,F85,E85*F85)))))))","v":0},{"$f":"IF('III Tool Overview'!$H$6=\"Orkney Health Board\",0,IF('III Tool Overview'!$H$6=\"Shetland Health Board\",0,IF('III Tool Overview'!$H$6=\"Western Isles Health Board\",0,IF('III Tool Overview'!$H$6=\"Orkney Islands Local Authority\",0,IF('III Tool Overview'!$H$6=\"Shetland Islands Local Authority\",0,IF('III Tool Overview'!$H$6=\"Eilean Siar Local Authority\",0,hosp_count(10,B85,C85,D85,$C$1,G85+H85,1,F85,E85*F85)))))))","v":0},{"$f":"AI85-AJ85","v":0},{"$f":"IF('III Tool Overview'!$H$6=\"Orkney Health Board\",0,IF('III Tool Overview'!$H$6=\"Shetland Health Board\",0,IF('III Tool Overview'!$H$6=\"Western Isles Health Board\",0,IF('III Tool Overview'!$H$6=\"Orkney Islands Local Authority\",0,IF('III Tool Overview'!$H$6=\"Shetland Islands Local Authority\",0,IF('III Tool Overview'!$H$6=\"Eilean Siar Local Authority\",0,hosp_count(20,B85,C85,D85,$C$1,G85,1,F85,E85*F85)))))))","v":0},{"$f":"IF('III Tool Overview'!$H$6=\"Orkney Health Board\",0,IF('III Tool Overview'!$H$6=\"Shetland Health Board\",0,IF('III Tool Overview'!$H$6=\"Western Isles Health Board\",0,IF('III Tool Overview'!$H$6=\"Orkney Islands Local Authority\",0,IF('III Tool Overview'!$H$6=\"Shetland Islands Local Authority\",0,IF('III Tool Overview'!$H$6=\"Eilean Siar Local Authority\",0,hosp_count(20,B85,C85,D85,$C$1,G85+H85,1,F85,E85*F85)))))))","v":0},{"$f":"AL85-AM85","v":0}]
["TOTAL",null,null,null,null,{"$f":"SUM(F70:F85)","v":0},{"$f":"SUM(G70:G85)","v":0},0,0,0,0,0,0,0,0,0,0,0,0,0,0,0,0,0,0,0,0,0,0,0,0,0,0,0,0,0,0,0,0,0]
["Female <1",0.5,"female",1,null,{"$f":"HLOOKUP('III Tool Overview'!$H$6,LookUpData_Pop!$B$1:$AV$269,LookUpData_Pop!BB87,FALSE)/5","v":0},null,null,null,null,null,null,null,null,null,null,null,null,null,null,null,null,null,null,null,null,null,null,null,null,null,null,null,null,null,null,null,null,null,null,null,0.1,1]
["Female 1-4",2.5,"female",1,null,{"$f":"HLOOKUP('III Tool Overview'!$H$6,LookUpData_Pop!$B$1:$AV$269,LookUpData_Pop!BB88,FALSE)/5","v":0},null,null,null,null,null,null,null,null,null,null,null,null,null,null,null,null,null,null,null,null,null,null,null,null,null,null,null,null,null,null,null,null,null,null,null,0.5,4]
["Female 5-9",7.5,"female",1,null,{"$f":"HLOOKUP('III Tool Overview'!$H$6,LookUpData_Pop!$B$1:$AV$269,LookUpData_Pop!BB89,FALSE)/5","v":0},null,null,null,null,null,null,null,null,null,null,null,null,null,null,null,null,null,null,null,null,null,null,null,null,null,null,null,null,null,null,null,null,null,null,null,0.5,5]
["Female 10-14",12.5,"female",1,null,{"$f":"HLOOKUP('III Tool Overview'!$H$6,LookUpData_Pop!$B$1:$AV$269,LookUpData_Pop!BB90,FALSE)/5","v":0},null,null,null,null,null,null,null,null,null,null,null,null,null,null,null,null,null,null,null,null,null,null,null,null,null,null,null,null,null,null,null,null,null,null,null,0.5,5]
["Female 15-19",17.5,"female",1,{"$f":"HLOOKUP('III Tool Overview'!$H$6,Prevalence!$B$2:$AV$268,Prevalence!AW86,FALSE)","v":0.17045454545454544},{"$f":"HLOOKUP('III Tool Overview'!$H$6,LookUpData_Pop!$B$1:$AV$269,LookUpData_Pop!BB91,FALSE)/5","v":0},{"$f":"'III Tool Overview'!$H$9/110","v":0},{"$f":"IF('III Tool Overview'!$H$10=\"Even distribution\",Targeting!C89,IF('III Tool Overview'!$H$10=\"Targetting to Q1\",Targeting!D89,IF('III Tool Overview'!$H$10=\"Targetting to Q1 & Q2\",Targeting!E89,IF('III Tool Overview'!$H$10=\"No variation in price elasticity\",Targeting!G89))))","v":0},{"$f":"IF('III Tool Overview'!$H$6=\"Orkney Health Board\",0,IF('III Tool Overview'!$H$6=\"Shetland Health Board\",0,IF('III Tool Overview'!$H$6=\"Western Isles Health Board\",0,IF('III Tool Overview'!$H$6=\"Orkney Islands Local Authority\",0,IF('III Tool Overview'!$H$6=\"Shetland Islands Local Authority\",0,IF('III Tool Overview'!$H$6=\"Eilean Siar Local Authority\",0,new_ci(2,B91,C91,D91,$C$1,G91,1,F91,E91*F91)))))))","v":0},{"$f":"IF('III Tool Overview'!$H$6=\"Orkney Health Board\",0,IF('III Tool Overview'!$H$6=\"Shetland Health Board\",0,IF('III Tool Overview'!$H$6=\"Western Isles Health Board\",0,IF('III Tool Overview'!$H$6=\"Orkney Islands Local Authority\",0,IF('III Tool Overview'!$H$6=\"Shetland Islands Local Authority\",0,IF('III Tool Overview'!$H$6=\"Eilean Siar Local Authority\",0,new_ci(2,B91,C91,D91,$C$1,G91+H91,1,F91,E91*F91)))))))","v":0},{"$f":"IF('III Tool Overview'!$H$6=\"Orkney Health Board\",0,IF('III Tool Overview'!$H$6=\"Shetland Health Board\",0,IF('III Tool Overview'!$H$6=\"Western Isles Health Board\",0,IF('III Tool Overview'!$H$6=\"Orkney Islands Local Authority\",0,IF('III Tool Overview'!$H$6=\"Shetland Islands Local Authority\",0,IF('III Tool Overview'!$H$6=\"Eilean Siar Local Authority\",0,new_ci(5,B91,C91,D91,$C$1,G91,1,F91,E91*F91)))))))","v":0},{"$f":"IF('III Tool Overview'!$H$6=\"Orkney Health Board\",0,IF('III Tool Overview'!$H$6=\"Shetland Health Board\",0,IF('III Tool Overview'!$H$6=\"Western Isles Health Board\",0,IF('III Tool Overview'!$H$6=\"Orkney Islands Local Authority\",0,IF('III Tool Overview'!$H$6=\"Shetland Islands Local Authority\",0,IF('III Tool Overview'!$H$6=\"Eilean Siar Local Authority\",0,new_ci(5,B91,C91,D91,$C$1,G91+H91,1,F91,E91*F91)))))))","v":0},{"$f":"IF('III Tool Overview'!$H$6=\"Orkney Health Board\",0,IF('III Tool Overview'!$H$6=\"Shetland Health Board\",0,IF('III Tool Overview'!$H$6=\"Western Isles Health Board\",0,IF('III Tool Overview'!$H$6=\"Orkney Islands Local Authority\",0,IF('III Tool Overview'!$H$6=\"Shetland Islands Local Authority\",0,IF('III Tool Overview'!$H$6=\"Eilean Siar Local Authority\",0,new_ci(10,B91,C91,D91,$C$1,G91,1,F91,E91*F91)))))))","v":0},{"$f":"IF('III Tool Overview'!$H$6=\"Orkney Health Board\",0,IF('III Tool Overview'!$H$6=\"Shetland Health Board\",0,IF('III Tool Overview'!$H$6=\"Western Isles Health Board\",0,IF('III Tool Overview'!$H$6=\"Orkney Islands Local Authority\",0,IF('III Tool Overview'!$H$6=\"Shetland Islands Local Authority\",0,IF('III Tool Overview'!$H$6=\"Eilean Siar Local Authority\",0,new_ci(10,B91,C91,D91,$C$1,G91+H91,1,F91,E91*F91)))))))","v":0},{"$f":"IF('III Tool Overview'!$H$6=\"Orkney Health Board\",0,IF('III Tool Overview'!$H$6=\"Shetland Health Board\",0,IF('III Tool Overview'!$H$6=\"Western Isles Health Board\",0,IF('III Tool Overview'!$H$6=\"Orkney Islands Local Authority\",0,IF('III Tool Overview'!$H$6=\"Shetland Islands Local Authority\",0,IF('III Tool Overview'!$H$6=\"Eilean Siar Local Authority\",0,new_ci(20,B91,C91,D91,$C$1,G91,1,F91,E91*F91)))))))","v":0},{"$f":"IF('III Tool Overview'!$H$6=\"Orkney Health Board\",0,IF('III Tool Overview'!$H$6=\"Shetland Health Board\",0,IF('III Tool Overview'!$H$6=\"Western Isles Health Board\",0,IF('III Tool Overview'!$H$6=\"Orkney Islands Local Authority\",0,IF('III Tool Overview'!$H$6=\"Shetland Islands Local Authority\",0,IF('III Tool Overview'!$H$6=\"Eilean Siar Local Authority\",0,new_ci(20,B91,C91,D91,$C$1,G91+H91,1,F91,E91*F91)))))))","v":0},{"$f":"IF('III Tool Overview'!$H$6=\"Orkney Health Board\",0,IF('III Tool Overview'!$H$6=\"Shetland Health Board\",0,IF('III Tool Overview'!$H$6=\"Western Isles Health Board\",0,IF('III Tool Overview'!$H$6=\"Orkney Islands Local Authority\",0,IF('III Tool Overview'!$H$6=\"Shetland Islands Local Authority\",0,IF('III Tool Overview'!$H$6=\"Eilean Siar Local Authority\",0,new_yll(2,B91,C91,D91,$C$1,G91,1,F91,E91*F91)))))))","v":0},{"$f":"IF('III Tool Overview'!$H$6=\"Orkney Health Board\",0,IF('III Tool Overview'!$H$6=\"Shetland Health Board\",0,IF('III Tool Overview'!$H$6=\"Western Isles Health Board\",0,IF('III Tool Overview'!$H$6=\"Orkney Islands Local Authority\",0,IF('III Tool Overview'!$H$6=\"Shetland Islands Local Authority\",0,IF('III Tool Overview'!$H$6=\"Eilean Siar Local Authority\",0,new_yll(2,B91,C91,D91,$C$1,G91+H91,1,F91,E91*F91)))))))","v":0},{"$f":"Q91-R91","v":0},{"$f":"IF('III Tool Overview'!$H$6=\"Orkney Health Board\",0,IF('III Tool Overview'!$H$6=\"Shetland Health Board\",0,IF('III Tool Overview'!$H$6=\"Western Isles Health Board\",0,IF('III Tool Overview'!$H$6=\"Orkney Islands Local Authority\",0,IF('III Tool Overview'!$H$6=\"Shetland Islands Local Authority\",0,IF('III Tool Overview'!$H$6=\"Eilean Siar Local Authority\",0,new_yll(5,B91,C91,D91,$C$1,G91,1,F91,E91*F91)))))))","v":0},{"$f":"IF('III Tool Overview'!$H$6=\"Orkney Health Board\",0,IF('III Tool Overview'!$H$6=\"Shetland Health Board\",0,IF('III Tool Overview'!$H$6=\"Western Isles Health Board\",0,IF('III Tool Overview'!$H$6=\"Orkney Islands Local Authority\",0,IF('III Tool Overview'!$H$6=\"Shetland Islands Local Authority\",0,IF('III Tool Overview'!$H$6=\"Eilean Siar Local Authority\",0,new_yll(5,B91,C91,D91,$C$1,G91+H91,1,F91,E91*F91)))))))","v":0},{"$f":"T91-U91","v":0},{"$f":"IF('III Tool Overview'!$H$6=\"Orkney Health Board\",0,IF('III Tool Overview'!$H$6=\"Shetland Health Board\",0,IF('III Tool Overview'!$H$6=\"Western Isles Health Board\",0,IF('III Tool Overview'!$H$6=\"Orkney Islands Local Authority\",0,IF('III Tool Overview'!$H$6=\"Shetland Islands Local Authority\",0,IF('III Tool Overview'!$H$6=\"Eilean Siar Local Authority\",0,new_yll(10,B91,C91,D91,$C$1,G91,1,F91,E91*F91)))))))","v":0},{"$f":"IF('III Tool Overview'!$H$6=\"Orkney Health Board\",0,IF('III Tool Overview'!$H$6=\"Shetland Health Board\",0,IF('III Tool Overview'!$H$6=\"Western Isles Health Board\",0,IF('III Tool Overview'!$H$6=\"Orkney Islands Local Authority\",0,IF('III Tool Overview'!$H$6=\"Shetland Islands Local Authority\",0,IF('III Tool Overview'!$H$6=\"Eilean Siar Local Authority\",0,new_yll(10,B91,C91,D91,$C$1,G91+H91,1,F91,E91*F91)))))))","v":0},{"$f":"W91-X91","v":0},{"$f":"IF('III Tool Overview'!$H$6=\"Orkney Health Board\",0,IF('III Tool Overview'!$H$6=\"Shetland Health Board\",0,IF('III Tool Overview'!$H$6=\"Western Isles Health Board\",0,IF('III Tool Overview'!$H$6=\"Orkney Islands Local Authority\",0,IF('III Tool Overview'!$H$6=\"Shetland Islands Local Authority\",0,IF('III Tool Overview'!$H$6=\"Eilean Siar Local Authority\",0,new_yll(20,B91,C91,D91,$C$1,G91,1,F91,E91*F91)))))))","v":0},{"$f":"IF('III Tool Overview'!$H$6=\"Orkney Health Board\",0,IF('III Tool Overview'!$H$6=\"Shetland Health Board\",0,IF('III Tool Overview'!$H$6=\"Western Isles Health Board\",0,IF('III Tool Overview'!$H$6=\"Orkney Islands Local Authority\",0,IF('III Tool Overview'!$H$6=\"Shetland Islands Local Authority\",0,IF('III Tool Overview'!$H$6=\"Eilean Siar Local Authority\",0,new_yll(20,B91,C91,D91,$C$1,G91+H91,1,F91,E91*F91)))))))","v":0},{"$f":"Z91-AA91","v":0},{"$f":"IF('III Tool Overview'!$H$6=\"Orkney Health Board\",0,IF('III Tool Overview'!$H$6=\"Shetland Health Board\",0,IF('III Tool Overview'!$H$6=\"Western Isles Health Board\",0,IF('III Tool Overview'!$H$6=\"Orkney Islands Local Authority\",0,IF('III Tool Overview'!$H$6=\"Shetland Islands Local Authority\",0,IF('III Tool Overview'!$H$6=\"Eilean Siar Local Authority\",0,hosp_count(2,B91,C91,D91,$C$1,G91,1,F91,E91*F91)))))))","v":0},{"$f":"IF('III Tool Overview'!$H$6=\"Orkney Health Board\",0,IF('III Tool Overview'!$H$6=\"Shetland Health Board\",0,IF('III Tool Overview'!$H$6=\"Western Isles Health Board\",0,IF('III Tool Overview'!$H$6=\"Orkney Islands Local Authority\",0,IF('III Tool Overview'!$H$6=\"Shetland Islands Local Authority\",0,IF('III Tool Overview'!$H$6=\"Eilean Siar Local Authority\",0,hosp_count(2,B91,C91,D91,$C$1,G91+H91,1,F91,E91*F91)))))))","v":0},{"$f":"AC91-AD91","v":0},{"$f":"IF('III Tool Overview'!$H$6=\"Orkney Health Board\",0,IF('III Tool Overview'!$H$6=\"Shetland Health Board\",0,IF('III Tool Overview'!$H$6=\"Western Isles Health Board\",0,IF('III Tool Overview'!$H$6=\"Orkney Islands Local Authority\",0,IF('III Tool Overview'!$H$6=\"Shetland Islands Local Authority\",0,IF('III Tool Overview'!$H$6=\"Eilean Siar Local Authority\",0,hosp_count(5,B91,C91,D91,$C$1,G91,1,F91,E91*F91)))))))","v":0},{"$f":"IF('III Tool Overview'!$H$6=\"Orkney Health Board\",0,IF('III Tool Overview'!$H$6=\"Shetland Health Board\",0,IF('III Tool Overview'!$H$6=\"Western Isles Health Board\",0,IF('III Tool Overview'!$H$6=\"Orkney Islands Local Authority\",0,IF('III Tool Overview'!$H$6=\"Shetland Islands Local Authority\",0,IF('III Tool Overview'!$H$6=\"Eilean Siar Local Authority\",0,hosp_count(5,B91,C91,D91,$C$1,G91+H91,1,F91,E91*F91)))))))","v":0},{"$f":"AF91-AG91","v":0},{"$f":"IF('III Tool Overview'!$H$6=\"Orkney Health Board\",0,IF('III Tool Overview'!$H$6=\"Shetland Health Board\",0,IF('III Tool Overview'!$H$6=\"Western Isles Health Board\",0,IF('III Tool Overview'!$H$6=\"Orkney Islands Local Authority\",0,IF('III Tool Overview'!$H$6=\"Shetland Islands Local Authority\",0,IF('III Tool Overview'!$H$6=\"Eilean Siar Local Authority\",0,hosp_count(10,B91,C91,D91,$C$1,G91,1,F91,E91*F91)))))))","v":0},{"$f":"IF('III Tool Overview'!$H$6=\"Orkney Health Board\",0,IF('III Tool Overview'!$H$6=\"Shetland Health Board\",0,IF('III Tool Overview'!$H$6=\"Western Isles Health Board\",0,IF('III Tool Overview'!$H$6=\"Orkney Islands Local Authority\",0,IF('III Tool Overview'!$H$6=\"Shetland Islands Local Authority\",0,IF('III Tool Overview'!$H$6=\"Eilean Siar Local Authority\",0,hosp_count(10,B91,C91,D91,$C$1,G91+H91,1,F91,E91*F91)))))))","v":0},{"$f":"AI91-AJ91","v":0},{"$f":"IF('III Tool Overview'!$H$6=\"Orkney Health Board\",0,IF('III Tool Overview'!$H$6=\"Shetland Health Board\",0,IF('III Tool Overview'!$H$6=\"Western Isles Health Board\",0,IF('III Tool Overview'!$H$6=\"Orkney Islands Local Authority\",0,IF('III Tool Overview'!$H$6=\"Shetland Islands Local Authority\",0,IF('III Tool Overview'!$H$6=\"Eilean Siar Local Authority\",0,hosp_count(20,B91,C91,D91,$C$1,G91,1,F91,E91*F91)))))))","v":0},{"$f":"IF('III Tool Overview'!$H$6=\"Orkney Health Board\",0,IF('III Tool Overview'!$H$6=\"Shetland Health Board\",0,IF('III Tool Overview'!$H$6=\"Western Isles Health Board\",0,IF('III Tool Overview'!$H$6=\"Orkney Islands Local Authority\",0,IF('III Tool Overview'!$H$6=\"Shetland Islands Local Authority\",0,IF('III Tool Overview'!$H$6=\"Eilean Siar Local Authority\",0,hosp_count(20,B91,C91,D91,$C$1,G91+H91,1,F91,E91*F91)))))))","v":0},{"$f":"AL91-AM91","v":0},null,0.5,5]
["Female 20-24",22.5,"female",1,{"$f":"HLOOKUP('III Tool Overview'!$H$6,Prevalence!$B$2:$AV$268,Prevalence!AW87,FALSE)","v":0.17045454545454544},{"$f":"HLOOKUP('III Tool Overview'!$H$6,LookUpData_Pop!$B$1:$AV$269,LookUpData_Pop!BB92,FALSE)/5","v":0},{"$f":"'III Tool Overview'!$H$9/110","v":0},{"$f":"IF('III Tool Overview'!$H$10=\"Even distribution\",Targeting!C90,IF('III Tool Overview'!$H$10=\"Targetting to Q1\",Targeting!D90,IF('III Tool Overview'!$H$10=\"Targetting to Q1 & Q2\",Targeting!E90,IF('III Tool Overview'!$H$10=\"No variation in price elasticity\",Targeting!G90))))","v":0},{"$f":"IF('III Tool Overview'!$H$6=\"Orkney Health Board\",0,IF('III Tool Overview'!$H$6=\"Shetland Health Board\",0,IF('III Tool Overview'!$H$6=\"Western Isles Health Board\",0,IF('III Tool Overview'!$H$6=\"Orkney Islands Local Authority\",0,IF('III Tool Overview'!$H$6=\"Shetland Islands Local Authority\",0,IF('III Tool Overview'!$H$6=\"Eilean Siar Local Authority\",0,new_ci(2,B92,C92,D92,$C$1,G92,1,F92,E92*F92)))))))","v":0},{"$f":"IF('III Tool Overview'!$H$6=\"Orkney Health Board\",0,IF('III Tool Overview'!$H$6=\"Shetland Health Board\",0,IF('III Tool Overview'!$H$6=\"Western Isles Health Board\",0,IF('III Tool Overview'!$H$6=\"Orkney Islands Local Authority\",0,IF('III Tool Overview'!$H$6=\"Shetland Islands Local Authority\",0,IF('III Tool Overview'!$H$6=\"Eilean Siar Local Authority\",0,new_ci(2,B92,C92,D92,$C$1,G92+H92,1,F92,E92*F92)))))))","v":0},{"$f":"IF('III Tool Overview'!$H$6=\"Orkney Health Board\",0,IF('III Tool Overview'!$H$6=\"Shetland Health Board\",0,IF('III Tool Overview'!$H$6=\"Western Isles Health Board\",0,IF('III Tool Overview'!$H$6=\"Orkney Islands Local Authority\",0,IF('III Tool Overview'!$H$6=\"Shetland Islands Local Authority\",0,IF('III Tool Overview'!$H$6=\"Eilean Siar Local Authority\",0,new_ci(5,B92,C92,D92,$C$1,G92,1,F92,E92*F92)))))))","v":0},{"$f":"IF('III Tool Overview'!$H$6=\"Orkney Health Board\",0,IF('III Tool Overview'!$H$6=\"Shetland Health Board\",0,IF('III Tool Overview'!$H$6=\"Western Isles Health Board\",0,IF('III Tool Overview'!$H$6=\"Orkney Islands Local Authority\",0,IF('III Tool Overview'!$H$6=\"Shetland Islands Local Authority\",0,IF('III Tool Overview'!$H$6=\"Eilean Siar Local Authority\",0,new_ci(5,B92,C92,D92,$C$1,G92+H92,1,F92,E92*F92)))))))","v":0},{"$f":"IF('III Tool Overview'!$H$6=\"Orkney Health Board\",0,IF('III Tool Overview'!$H$6=\"Shetland Health Board\",0,IF('III Tool Overview'!$H$6=\"Western Isles Health Board\",0,IF('III Tool Overview'!$H$6=\"Orkney Islands Local Authority\",0,IF('III Tool Overview'!$H$6=\"Shetland Islands Local Authority\",0,IF('III Tool Overview'!$H$6=\"Eilean Siar Local Authority\",0,new_ci(10,B92,C92,D92,$C$1,G92,1,F92,E92*F92)))))))","v":0},{"$f":"IF('III Tool Overview'!$H$6=\"Orkney Health Board\",0,IF('III Tool Overview'!$H$6=\"Shetland Health Board\",0,IF('III Tool Overview'!$H$6=\"Western Isles Health Board\",0,IF('III Tool Overview'!$H$6=\"Orkney Islands Local Authority\",0,IF('III Tool Overview'!$H$6=\"Shetland Islands Local Authority\",0,IF('III Tool Overview'!$H$6=\"Eilean Siar Local Authority\",0,new_ci(10,B92,C92,D92,$C$1,G92+H92,1,F92,E92*F92)))))))","v":0},{"$f":"IF('III Tool Overview'!$H$6=\"Orkney Health Board\",0,IF('III Tool Overview'!$H$6=\"Shetland Health Board\",0,IF('III Tool Overview'!$H$6=\"Western Isles Health Board\",0,IF('III Tool Overview'!$H$6=\"Orkney Islands Local Authority\",0,IF('III Tool Overview'!$H$6=\"Shetland Islands Local Authority\",0,IF('III Tool Overview'!$H$6=\"Eilean Siar Local Authority\",0,new_ci(20,B92,C92,D92,$C$1,G92,1,F92,E92*F92)))))))","v":0},{"$f":"IF('III Tool Overview'!$H$6=\"Orkney Health Board\",0,IF('III Tool Overview'!$H$6=\"Shetland Health Board\",0,IF('III Tool Overview'!$H$6=\"Western Isles Health Board\",0,IF('III Tool Overview'!$H$6=\"Orkney Islands Local Authority\",0,IF('III Tool Overview'!$H$6=\"Shetland Islands Local Authority\",0,IF('III Tool Overview'!$H$6=\"Eilean Siar Local Authority\",0,new_ci(20,B92,C92,D92,$C$1,G92+H92,1,F92,E92*F92)))))))","v":0},{"$f":"IF('III Tool Overview'!$H$6=\"Orkney Health Board\",0,IF('III Tool Overview'!$H$6=\"Shetland Health Board\",0,IF('III Tool Overview'!$H$6=\"Western Isles Health Board\",0,IF('III Tool Overview'!$H$6=\"Orkney Islands Local Authority\",0,IF('III Tool Overview'!$H$6=\"Shetland Islands Local Authority\",0,IF('III Tool Overview'!$H$6=\"Eilean Siar Local Authority\",0,new_yll(2,B92,C92,D92,$C$1,G92,1,F92,E92*F92)))))))","v":0},{"$f":"IF('III Tool Overview'!$H$6=\"Orkney Health Board\",0,IF('III Tool Overview'!$H$6=\"Shetland Health Board\",0,IF('III Tool Overview'!$H$6=\"Western Isles Health Board\",0,IF('III Tool Overview'!$H$6=\"Orkney Islands Local Authority\",0,IF('III Tool Overview'!$H$6=\"Shetland Islands Local Authority\",0,IF('III Tool Overview'!$H$6=\"Eilean Siar Local Authority\",0,new_yll(2,B92,C92,D92,$C$1,G92+H92,1,F92,E92*F92)))))))","v":0},{"$f":"Q92-R92","v":0},{"$f":"IF('III Tool Overview'!$H$6=\"Orkney Health Board\",0,IF('III Tool Overview'!$H$6=\"Shetland Health Board\",0,IF('III Tool Overview'!$H$6=\"Western Isles Health Board\",0,IF('III Tool Overview'!$H$6=\"Orkney Islands Local Authority\",0,IF('III Tool Overview'!$H$6=\"Shetland Islands Local Authority\",0,IF('III Tool Overview'!$H$6=\"Eilean Siar Local Authority\",0,new_yll(5,B92,C92,D92,$C$1,G92,1,F92,E92*F92)))))))","v":0},{"$f":"IF('III Tool Overview'!$H$6=\"Orkney Health Board\",0,IF('III Tool Overview'!$H$6=\"Shetland Health Board\",0,IF('III Tool Overview'!$H$6=\"Western Isles Health Board\",0,IF('III Tool Overview'!$H$6=\"Orkney Islands Local Authority\",0,IF('III Tool Overview'!$H$6=\"Shetland Islands Local Authority\",0,IF('III Tool Overview'!$H$6=\"Eilean Siar Local Authority\",0,new_yll(5,B92,C92,D92,$C$1,G92+H92,1,F92,E92*F92)))))))","v":0},{"$f":"T92-U92","v":0},{"$f":"IF('III Tool Overview'!$H$6=\"Orkney Health Board\",0,IF('III Tool Overview'!$H$6=\"Shetland Health Board\",0,IF('III Tool Overview'!$H$6=\"Western Isles Health Board\",0,IF('III Tool Overview'!$H$6=\"Orkney Islands Local Authority\",0,IF('III Tool Overview'!$H$6=\"Shetland Islands Local Authority\",0,IF('III Tool Overview'!$H$6=\"Eilean Siar Local Authority\",0,new_yll(10,B92,C92,D92,$C$1,G92,1,F92,E92*F92)))))))","v":0},{"$f":"IF('III Tool Overview'!$H$6=\"Orkney Health Board\",0,IF('III Tool Overview'!$H$6=\"Shetland Health Board\",0,IF('III Tool Overview'!$H$6=\"Western Isles Health Board\",0,IF('III Tool Overview'!$H$6=\"Orkney Islands Local Authority\",0,IF('III Tool Overview'!$H$6=\"Shetland Islands Local Authority\",0,IF('III Tool Overview'!$H$6=\"Eilean Siar Local Authority\",0,new_yll(10,B92,C92,D92,$C$1,G92+H92,1,F92,E92*F92)))))))","v":0},{"$f":"W92-X92","v":0},{"$f":"IF('III Tool Overview'!$H$6=\"Orkney Health Board\",0,IF('III Tool Overview'!$H$6=\"Shetland Health Board\",0,IF('III Tool Overview'!$H$6=\"Western Isles Health Board\",0,IF('III Tool Overview'!$H$6=\"Orkney Islands Local Authority\",0,IF('III Tool Overview'!$H$6=\"Shetland Islands Local Authority\",0,IF('III Tool Overview'!$H$6=\"Eilean Siar Local Authority\",0,new_yll(20,B92,C92,D92,$C$1,G92,1,F92,E92*F92)))))))","v":0},{"$f":"IF('III Tool Overview'!$H$6=\"Orkney Health Board\",0,IF('III Tool Overview'!$H$6=\"Shetland Health Board\",0,IF('III Tool Overview'!$H$6=\"Western Isles Health Board\",0,IF('III Tool Overview'!$H$6=\"Orkney Islands Local Authority\",0,IF('III Tool Overview'!$H$6=\"Shetland Islands Local Authority\",0,IF('III Tool Overview'!$H$6=\"Eilean Siar Local Authority\",0,new_yll(20,B92,C92,D92,$C$1,G92+H92,1,F92,E92*F92)))))))","v":0},{"$f":"Z92-AA92","v":0},{"$f":"IF('III Tool Overview'!$H$6=\"Orkney Health Board\",0,IF('III Tool Overview'!$H$6=\"Shetland Health Board\",0,IF('III Tool Overview'!$H$6=\"Western Isles Health Board\",0,IF('III Tool Overview'!$H$6=\"Orkney Islands Local Authority\",0,IF('III Tool Overview'!$H$6=\"Shetland Islands Local Authority\",0,IF('III Tool Overview'!$H$6=\"Eilean Siar Local Authority\",0,hosp_count(2,B92,C92,D92,$C$1,G92,1,F92,E92*F92)))))))","v":0},{"$f":"IF('III Tool Overview'!$H$6=\"Orkney Health Board\",0,IF('III Tool Overview'!$H$6=\"Shetland Health Board\",0,IF('III Tool Overview'!$H$6=\"Western Isles Health Board\",0,IF('III Tool Overview'!$H$6=\"Orkney Islands Local Authority\",0,IF('III Tool Overview'!$H$6=\"Shetland Islands Local Authority\",0,IF('III Tool Overview'!$H$6=\"Eilean Siar Local Authority\",0,hosp_count(2,B92,C92,D92,$C$1,G92+H92,1,F92,E92*F92)))))))","v":0},{"$f":"AC92-AD92","v":0},{"$f":"IF('III Tool Overview'!$H$6=\"Orkney Health Board\",0,IF('III Tool Overview'!$H$6=\"Shetland Health Board\",0,IF('III Tool Overview'!$H$6=\"Western Isles Health Board\",0,IF('III Tool Overview'!$H$6=\"Orkney Islands Local Authority\",0,IF('III Tool Overview'!$H$6=\"Shetland Islands Local Authority\",0,IF('III Tool Overview'!$H$6=\"Eilean Siar Local Authority\",0,hosp_count(5,B92,C92,D92,$C$1,G92,1,F92,E92*F92)))))))","v":0},{"$f":"IF('III Tool Overview'!$H$6=\"Orkney Health Board\",0,IF('III Tool Overview'!$H$6=\"Shetland Health Board\",0,IF('III Tool Overview'!$H$6=\"Western Isles Health Board\",0,IF('III Tool Overview'!$H$6=\"Orkney Islands Local Authority\",0,IF('III Tool Overview'!$H$6=\"Shetland Islands Local Authority\",0,IF('III Tool Overview'!$H$6=\"Eilean Siar Local Authority\",0,hosp_count(5,B92,C92,D92,$C$1,G92+H92,1,F92,E92*F92)))))))","v":0},{"$f":"AF92-AG92","v":0},{"$f":"IF('III Tool Overview'!$H$6=\"Orkney Health Board\",0,IF('III Tool Overview'!$H$6=\"Shetland Health Board\",0,IF('III Tool Overview'!$H$6=\"Western Isles Health Board\",0,IF('III Tool Overview'!$H$6=\"Orkney Islands Local Authority\",0,IF('III Tool Overview'!$H$6=\"Shetland Islands Local Authority\",0,IF('III Tool Overview'!$H$6=\"Eilean Siar Local Authority\",0,hosp_count(10,B92,C92,D92,$C$1,G92,1,F92,E92*F92)))))))","v":0},{"$f":"IF('III Tool Overview'!$H$6=\"Orkney Health Board\",0,IF('III Tool Overview'!$H$6=\"Shetland Health Board\",0,IF('III Tool Overview'!$H$6=\"Western Isles Health Board\",0,IF('III Tool Overview'!$H$6=\"Orkney Islands Local Authority\",0,IF('III Tool Overview'!$H$6=\"Shetland Islands Local Authority\",0,IF('III Tool Overview'!$H$6=\"Eilean Siar Local Authority\",0,hosp_count(10,B92,C92,D92,$C$1,G92+H92,1,F92,E92*F92)))))))","v":0},{"$f":"AI92-AJ92","v":0},{"$f":"IF('III Tool Overview'!$H$6=\"Orkney Health Board\",0,IF('III Tool Overview'!$H$6=\"Shetland Health Board\",0,IF('III Tool Overview'!$H$6=\"Western Isles Health Board\",0,IF('III Tool Overview'!$H$6=\"Orkney Islands Local Authority\",0,IF('III Tool Overview'!$H$6=\"Shetland Islands Local Authority\",0,IF('III Tool Overview'!$H$6=\"Eilean Siar Local Authority\",0,hosp_count(20,B92,C92,D92,$C$1,G92,1,F92,E92*F92)))))))","v":0},{"$f":"IF('III Tool Overview'!$H$6=\"Orkney Health Board\",0,IF('III Tool Overview'!$H$6=\"Shetland Health Board\",0,IF('III Tool Overview'!$H$6=\"Western Isles Health Board\",0,IF('III Tool Overview'!$H$6=\"Orkney Islands Local Authority\",0,IF('III Tool Overview'!$H$6=\"Shetland Islands Local Authority\",0,IF('III Tool Overview'!$H$6=\"Eilean Siar Local Authority\",0,hosp_count(20,B92,C92,D92,$C$1,G92+H92,1,F92,E92*F92)))))))","v":0},{"$f":"AL92-AM92","v":0},null,0.5,5]
["Female 25-29",27.5,"female",1,{"$f":"HLOOKUP('III Tool Overview'!$H$6,Prevalence!$B$2:$AV$268,Prevalence!AW88,FALSE)","v":0.24545454545454543},{"$f":"HLOOKUP('III Tool Overview'!$H$6,LookUpData_Pop!$B$1:$AV$269,LookUpData_Pop!BB93,FALSE)/5","v":0},{"$f":"'III Tool Overview'!$H$9/110","v":0},{"$f":"IF('III Tool Overview'!$H$10=\"Even distribution\",Targeting!C91,IF('III Tool Overview'!$H$10=\"Targetting to Q1\",Targeting!D91,IF('III Tool Overview'!$H$10=\"Targetting to Q1 & Q2\",Targeting!E91,IF('III Tool Overview'!$H$10=\"No variation in price elasticity\",Targeting!G91))))","v":0},{"$f":"IF('III Tool Overview'!$H$6=\"Orkney Health Board\",0,IF('III Tool Overview'!$H$6=\"Shetland Health Board\",0,IF('III Tool Overview'!$H$6=\"Western Isles Health Board\",0,IF('III Tool Overview'!$H$6=\"Orkney Islands Local Authority\",0,IF('III Tool Overview'!$H$6=\"Shetland Islands Local Authority\",0,IF('III Tool Overview'!$H$6=\"Eilean Siar Local Authority\",0,new_ci(2,B93,C93,D93,$C$1,G93,1,F93,E93*F93)))))))","v":0},{"$f":"IF('III Tool Overview'!$H$6=\"Orkney Health Board\",0,IF('III Tool Overview'!$H$6=\"Shetland Health Board\",0,IF('III Tool Overview'!$H$6=\"Western Isles Health Board\",0,IF('III Tool Overview'!$H$6=\"Orkney Islands Local Authority\",0,IF('III Tool Overview'!$H$6=\"Shetland Islands Local Authority\",0,IF('III Tool Overview'!$H$6=\"Eilean Siar Local Authority\",0,new_ci(2,B93,C93,D93,$C$1,G93+H93,1,F93,E93*F93)))))))","v":0},{"$f":"IF('III Tool Overview'!$H$6=\"Orkney Health Board\",0,IF('III Tool Overview'!$H$6=\"Shetland Health Board\",0,IF('III Tool Overview'!$H$6=\"Western Isles Health Board\",0,IF('III Tool Overview'!$H$6=\"Orkney Islands Local Authority\",0,IF('III Tool Overview'!$H$6=\"Shetland Islands Local Authority\",0,IF('III Tool Overview'!$H$6=\"Eilean Siar Local Authority\",0,new_ci(5,B93,C93,D93,$C$1,G93,1,F93,E93*F93)))))))","v":0},{"$f":"IF('III Tool Overview'!$H$6=\"Orkney Health Board\",0,IF('III Tool Overview'!$H$6=\"Shetland Health Board\",0,IF('III Tool Overview'!$H$6=\"Western Isles Health Board\",0,IF('III Tool Overview'!$H$6=\"Orkney Islands Local Authority\",0,IF('III Tool Overview'!$H$6=\"Shetland Islands Local Authority\",0,IF('III Tool Overview'!$H$6=\"Eilean Siar Local Authority\",0,new_ci(5,B93,C93,D93,$C$1,G93+H93,1,F93,E93*F93)))))))","v":0},{"$f":"IF('III Tool Overview'!$H$6=\"Orkney Health Board\",0,IF('III Tool Overview'!$H$6=\"Shetland Health Board\",0,IF('III Tool Overview'!$H$6=\"Western Isles Health Board\",0,IF('III Tool Overview'!$H$6=\"Orkney Islands Local Authority\",0,IF('III Tool Overview'!$H$6=\"Shetland Islands Local Authority\",0,IF('III Tool Overview'!$H$6=\"Eilean Siar Local Authority\",0,new_ci(10,B93,C93,D93,$C$1,G93,1,F93,E93*F93)))))))","v":0},{"$f":"IF('III Tool Overview'!$H$6=\"Orkney Health Board\",0,IF('III Tool Overview'!$H$6=\"Shetland Health Board\",0,IF('III Tool Overview'!$H$6=\"Western Isles Health Board\",0,IF('III Tool Overview'!$H$6=\"Orkney Islands Local Authority\",0,IF('III Tool Overview'!$H$6=\"Shetland Islands Local Authority\",0,IF('III Tool Overview'!$H$6=\"Eilean Siar Local Authority\",0,new_ci(10,B93,C93,D93,$C$1,G93+H93,1,F93,E93*F93)))))))","v":0},{"$f":"IF('III Tool Overview'!$H$6=\"Orkney Health Board\",0,IF('III Tool Overview'!$H$6=\"Shetland Health Board\",0,IF('III Tool Overview'!$H$6=\"Western Isles Health Board\",0,IF('III Tool Overview'!$H$6=\"Orkney Islands Local Authority\",0,IF('III Tool Overview'!$H$6=\"Shetland Islands Local Authority\",0,IF('III Tool Overview'!$H$6=\"Eilean Siar Local Authority\",0,new_ci(20,B93,C93,D93,$C$1,G93,1,F93,E93*F93)))))))","v":0},{"$f":"IF('III Tool Overview'!$H$6=\"Orkney Health Board\",0,IF('III Tool Overview'!$H$6=\"Shetland Health Board\",0,IF('III Tool Overview'!$H$6=\"Western Isles Health Board\",0,IF('III Tool Overview'!$H$6=\"Orkney Islands Local Authority\",0,IF('III Tool Overview'!$H$6=\"Shetland Islands Local Authority\",0,IF('III Tool Overview'!$H$6=\"Eilean Siar Local Authority\",0,new_ci(20,B93,C93,D93,$C$1,G93+H93,1,F93,E93*F93)))))))","v":0},{"$f":"IF('III Tool Overview'!$H$6=\"Orkney Health Board\",0,IF('III Tool Overview'!$H$6=\"Shetland Health Board\",0,IF('III Tool Overview'!$H$6=\"Western Isles Health Board\",0,IF('III Tool Overview'!$H$6=\"Orkney Islands Local Authority\",0,IF('III Tool Overview'!$H$6=\"Shetland Islands Local Authority\",0,IF('III Tool Overview'!$H$6=\"Eilean Siar Local Authority\",0,new_yll(2,B93,C93,D93,$C$1,G93,1,F93,E93*F93)))))))","v":0},{"$f":"IF('III Tool Overview'!$H$6=\"Orkney Health Board\",0,IF('III Tool Overview'!$H$6=\"Shetland Health Board\",0,IF('III Tool Overview'!$H$6=\"Western Isles Health Board\",0,IF('III Tool Overview'!$H$6=\"Orkney Islands Local Authority\",0,IF('III Tool Overview'!$H$6=\"Shetland Islands Local Authority\",0,IF('III Tool Overview'!$H$6=\"Eilean Siar Local Authority\",0,new_yll(2,B93,C93,D93,$C$1,G93+H93,1,F93,E93*F93)))))))","v":0},0,{"$f":"IF('III Tool Overview'!$H$6=\"Orkney Health Board\",0,IF('III Tool Overview'!$H$6=\"Shetland Health Board\",0,IF('III Tool Overview'!$H$6=\"Western Isles Health Board\",0,IF('III Tool Overview'!$H$6=\"Orkney Islands Local Authority\",0,IF('III Tool Overview'!$H$6=\"Shetland Islands Local Authority\",0,IF('III Tool Overview'!$H$6=\"Eilean Siar Local Authority\",0,new_yll(5,B93,C93,D93,$C$1,G93,1,F93,E93*F93)))))))","v":0},{"$f":"IF('III Tool Overview'!$H$6=\"Orkney Health Board\",0,IF('III Tool Overview'!$H$6=\"Shetland Health Board\",0,IF('III Tool Overview'!$H$6=\"Western Isles Health Board\",0,IF('III Tool Overview'!$H$6=\"Orkney Islands Local Authority\",0,IF('III Tool Overview'!$H$6=\"Shetland Islands Local Authority\",0,IF('III Tool Overview'!$H$6=\"Eilean Siar Local Authority\",0,new_yll(5,B93,C93,D93,$C$1,G93+H93,1,F93,E93*F93)))))))","v":0},0,{"$f":"IF('III Tool Overview'!$H$6=\"Orkney Health Board\",0,IF('III Tool Overview'!$H$6=\"Shetland Health Board\",0,IF('III Tool Overview'!$H$6=\"Western Isles Health Board\",0,IF('III Tool Overview'!$H$6=\"Orkney Islands Local Authority\",0,IF('III Tool Overview'!$H$6=\"Shetland Islands Local Authority\",0,IF('III Tool Overview'!$H$6=\"Eilean Siar Local Authority\",0,new_yll(10,B93,C93,D93,$C$1,G93,1,F93,E93*F93)))))))","v":0},{"$f":"IF('III Tool Overview'!$H$6=\"Orkney Health Board\",0,IF('III Tool Overview'!$H$6=\"Shetland Health Board\",0,IF('III Tool Overview'!$H$6=\"Western Isles Health Board\",0,IF('III Tool Overview'!$H$6=\"Orkney Islands Local Authority\",0,IF('III Tool Overview'!$H$6=\"Shetland Islands Local Authority\",0,IF('III Tool Overview'!$H$6=\"Eilean Siar Local Authority\",0,new_yll(10,B93,C93,D93,$C$1,G93+H93,1,F93,E93*F93)))))))","v":0},0,{"$f":"IF('III Tool Overview'!$H$6=\"Orkney Health Board\",0,IF('III Tool Overview'!$H$6=\"Shetland Health Board\",0,IF('III Tool Overview'!$H$6=\"Western Isles Health Board\",0,IF('III Tool Overview'!$H$6=\"Orkney Islands Local Authority\",0,IF('III Tool Overview'!$H$6=\"Shetland Islands Local Authority\",0,IF('III Tool Overview'!$H$6=\"Eilean Siar Local Authority\",0,new_yll(20,B93,C93,D93,$C$1,G93,1,F93,E93*F93)))))))","v":0},{"$f":"IF('III Tool Overview'!$H$6=\"Orkney Health Board\",0,IF('III Tool Overview'!$H$6=\"Shetland Health Board\",0,IF('III Tool Overview'!$H$6=\"Western Isles Health Board\",0,IF('III Tool Overview'!$H$6=\"Orkney Islands Local Authority\",0,IF('III Tool Overview'!$H$6=\"Shetland Islands Local Authority\",0,IF('III Tool Overview'!$H$6=\"Eilean Siar Local Authority\",0,new_yll(20,B93,C93,D93,$C$1,G93+H93,1,F93,E93*F93)))))))","v":0},0,{"$f":"IF('III Tool Overview'!$H$6=\"Orkney Health Board\",0,IF('III Tool Overview'!$H$6=\"Shetland Health Board\",0,IF('III Tool Overview'!$H$6=\"Western Isles Health Board\",0,IF('III Tool Overview'!$H$6=\"Orkney Islands Local Authority\",0,IF('III Tool Overview'!$H$6=\"Shetland Islands Local Authority\",0,IF('III Tool Overview'!$H$6=\"Eilean Siar Local Authority\",0,hosp_count(2,B93,C93,D93,$C$1,G93,1,F93,E93*F93)))))))","v":0},{"$f":"IF('III Tool Overview'!$H$6=\"Orkney Health Board\",0,IF('III Tool Overview'!$H$6=\"Shetland Health Board\",0,IF('III Tool Overview'!$H$6=\"Western Isles Health Board\",0,IF('III Tool Overview'!$H$6=\"Orkney Islands Local Authority\",0,IF('III Tool Overview'!$H$6=\"Shetland Islands Local Authority\",0,IF('III Tool Overview'!$H$6=\"Eilean Siar Local Authority\",0,hosp_count(2,B93,C93,D93,$C$1,G93+H93,1,F93,E93*F93)))))))","v":0},0,{"$f":"IF('III Tool Overview'!$H$6=\"Orkney Health Board\",0,IF('III Tool Overview'!$H$6=\"Shetland Health Board\",0,IF('III Tool Overview'!$H$6=\"Western Isles Health Board\",0,IF('III Tool Overview'!$H$6=\"Orkney Islands Local Authority\",0,IF('III Tool Overview'!$H$6=\"Shetland Islands Local Authority\",0,IF('III Tool Overview'!$H$6=\"Eilean Siar Local Authority\",0,hosp_count(5,B93,C93,D93,$C$1,G93,1,F93,E93*F93)))))))","v":0},{"$f":"IF('III Tool Overview'!$H$6=\"Orkney Health Board\",0,IF('III Tool Overview'!$H$6=\"Shetland Health Board\",0,IF('III Tool Overview'!$H$6=\"Western Isles Health Board\",0,IF('III Tool Overview'!$H$6=\"Orkney Islands Local Authority\",0,IF('III Tool Overview'!$H$6=\"Shetland Islands Local Authority\",0,IF('III Tool Overview'!$H$6=\"Eilean Siar Local Authority\",0,hosp_count(5,B93,C93,D93,$C$1,G93+H93,1,F93,E93*F93)))))))","v":0},0,{"$f":"IF('III Tool Overview'!$H$6=\"Orkney Health Board\",0,IF('III Tool Overview'!$H$6=\"Shetland Health Board\",0,IF('III Tool Overview'!$H$6=\"Western Isles Health Board\",0,IF('III Tool Overview'!$H$6=\"Orkney Islands Local Authority\",0,IF('III Tool Overview'!$H$6=\"Shetland Islands Local Authority\",0,IF('III Tool Overview'!$H$6=\"Eilean Siar Local Authority\",0,hosp_count(10,B93,C93,D93,$C$1,G93,1,F93,E93*F93)))))))","v":0},{"$f":"IF('III Tool Overview'!$H$6=\"Orkney Health Board\",0,IF('III Tool Overview'!$H$6=\"Shetland Health Board\",0,IF('III Tool Overview'!$H$6=\"Western Isles Health Board\",0,IF('III Tool Overview'!$H$6=\"Orkney Islands Local Authority\",0,IF('III Tool Overview'!$H$6=\"Shetland Islands Local Authority\",0,IF('III Tool Overview'!$H$6=\"Eilean Siar Local Authority\",0,hosp_count(10,B93,C93,D93,$C$1,G93+H93,1,F93,E93*F93)))))))","v":0},0,{"$f":"IF('III Tool Overview'!$H$6=\"Orkney Health Board\",0,IF('III Tool Overview'!$H$6=\"Shetland Health Board\",0,IF('III Tool Overview'!$H$6=\"Western Isles Health Board\",0,IF('III Tool Overview'!$H$6=\"Orkney Islands Local Authority\",0,IF('III Tool Overview'!$H$6=\"Shetland Islands Local Authority\",0,IF('III Tool Overview'!$H$6=\"Eilean Siar Local Authority\",0,hosp_count(20,B93,C93,D93,$C$1,G93,1,F93,E93*F93)))))))","v":0},{"$f":"IF('III Tool Overview'!$H$6=\"Orkney Health Board\",0,IF('III Tool Overview'!$H$6=\"Shetland Health Board\",0,IF('III Tool Overview'!$H$6=\"Western Isles Health Board\",0,IF('III Tool Overview'!$H$6=\"Orkney Islands Local Authority\",0,IF('III Tool Overview'!$H$6=\"Shetland Islands Local Authority\",0,IF('III Tool Overview'!$H$6=\"Eilean Siar Local Authority\",0,hosp_count(20,B93,C93,D93,$C$1,G93+H93,1,F93,E93*F93)))))))","v":0},0,null,0.5,5]
["Female 30-34",32.5,"female",1,{"$f":"HLOOKUP('III Tool Overview'!$H$6,Prevalence!$B$2:$AV$268,Prevalence!AW89,FALSE)","v":0.24545454545454543},{"$f":"HLOOKUP('III Tool Overview'!$H$6,LookUpData_Pop!$B$1:$AV$269,LookUpData_Pop!BB94,FALSE)/5","v":0},{"$f":"'III Tool Overview'!$H$9/110","v":0},{"$f":"IF('III Tool Overview'!$H$10=\"Even distribution\",Targeting!C92,IF('III Tool Overview'!$H$10=\"Targetting to Q1\",Targeting!D92,IF('III Tool Overview'!$H$10=\"Targetting to Q1 & Q2\",Targeting!E92,IF('III Tool Overview'!$H$10=\"No variation in price elasticity\",Targeting!G92))))","v":0},{"$f":"IF('III Tool Overview'!$H$6=\"Orkney Health Board\",0,IF('III Tool Overview'!$H$6=\"Shetland Health Board\",0,IF('III Tool Overview'!$H$6=\"Western Isles Health Board\",0,IF('III Tool Overview'!$H$6=\"Orkney Islands Local Authority\",0,IF('III Tool Overview'!$H$6=\"Shetland Islands Local Authority\",0,IF('III Tool Overview'!$H$6=\"Eilean Siar Local Authority\",0,new_ci(2,B94,C94,D94,$C$1,G94,1,F94,E94*F94)))))))","v":0},{"$f":"IF('III Tool Overview'!$H$6=\"Orkney Health Board\",0,IF('III Tool Overview'!$H$6=\"Shetland Health Board\",0,IF('III Tool Overview'!$H$6=\"Western Isles Health Board\",0,IF('III Tool Overview'!$H$6=\"Orkney Islands Local Authority\",0,IF('III Tool Overview'!$H$6=\"Shetland Islands Local Authority\",0,IF('III Tool Overview'!$H$6=\"Eilean Siar Local Authority\",0,new_ci(2,B94,C94,D94,$C$1,G94+H94,1,F94,E94*F94)))))))","v":0},{"$f":"IF('III Tool Overview'!$H$6=\"Orkney Health Board\",0,IF('III Tool Overview'!$H$6=\"Shetland Health Board\",0,IF('III Tool Overview'!$H$6=\"Western Isles Health Board\",0,IF('III Tool Overview'!$H$6=\"Orkney Islands Local Authority\",0,IF('III Tool Overview'!$H$6=\"Shetland Islands Local Authority\",0,IF('III Tool Overview'!$H$6=\"Eilean Siar Local Authority\",0,new_ci(5,B94,C94,D94,$C$1,G94,1,F94,E94*F94)))))))","v":0},{"$f":"IF('III Tool Overview'!$H$6=\"Orkney Health Board\",0,IF('III Tool Overview'!$H$6=\"Shetland Health Board\",0,IF('III Tool Overview'!$H$6=\"Western Isles Health Board\",0,IF('III Tool Overview'!$H$6=\"Orkney Islands Local Authority\",0,IF('III Tool Overview'!$H$6=\"Shetland Islands Local Authority\",0,IF('III Tool Overview'!$H$6=\"Eilean Siar Local Authority\",0,new_ci(5,B94,C94,D94,$C$1,G94+H94,1,F94,E94*F94)))))))","v":0},{"$f":"IF('III Tool Overview'!$H$6=\"Orkney Health Board\",0,IF('III Tool Overview'!$H$6=\"Shetland Health Board\",0,IF('III Tool Overview'!$H$6=\"Western Isles Health Board\",0,IF('III Tool Overview'!$H$6=\"Orkney Islands Local Authority\",0,IF('III Tool Overview'!$H$6=\"Shetland Islands Local Authority\",0,IF('III Tool Overview'!$H$6=\"Eilean Siar Local Authority\",0,new_ci(10,B94,C94,D94,$C$1,G94,1,F94,E94*F94)))))))","v":0},{"$f":"IF('III Tool Overview'!$H$6=\"Orkney Health Board\",0,IF('III Tool Overview'!$H$6=\"Shetland Health Board\",0,IF('III Tool Overview'!$H$6=\"Western Isles Health Board\",0,IF('III Tool Overview'!$H$6=\"Orkney Islands Local Authority\",0,IF('III Tool Overview'!$H$6=\"Shetland Islands Local Authority\",0,IF('III Tool Overview'!$H$6=\"Eilean Siar Local Authority\",0,new_ci(10,B94,C94,D94,$C$1,G94+H94,1,F94,E94*F94)))))))","v":0},{"$f":"IF('III Tool Overview'!$H$6=\"Orkney Health Board\",0,IF('III Tool Overview'!$H$6=\"Shetland Health Board\",0,IF('III Tool Overview'!$H$6=\"Western Isles Health Board\",0,IF('III Tool Overview'!$H$6=\"Orkney Islands Local Authority\",0,IF('III Tool Overview'!$H$6=\"Shetland Islands Local Authority\",0,IF('III Tool Overview'!$H$6=\"Eilean Siar Local Authority\",0,new_ci(20,B94,C94,D94,$C$1,G94,1,F94,E94*F94)))))))","v":0},{"$f":"IF('III Tool Overview'!$H$6=\"Orkney Health Board\",0,IF('III Tool Overview'!$H$6=\"Shetland Health Board\",0,IF('III Tool Overview'!$H$6=\"Western Isles Health Board\",0,IF('III Tool Overview'!$H$6=\"Orkney Islands Local Authority\",0,IF('III Tool Overview'!$H$6=\"Shetland Islands Local Authority\",0,IF('III Tool Overview'!$H$6=\"Eilean Siar Local Authority\",0,new_ci(20,B94,C94,D94,$C$1,G94+H94,1,F94,E94*F94)))))))","v":0},{"$f":"IF('III Tool Overview'!$H$6=\"Orkney Health Board\",0,IF('III Tool Overview'!$H$6=\"Shetland Health Board\",0,IF('III Tool Overview'!$H$6=\"Western Isles Health Board\",0,IF('III Tool Overview'!$H$6=\"Orkney Islands Local Authority\",0,IF('III Tool Overview'!$H$6=\"Shetland Islands Local Authority\",0,IF('III Tool Overview'!$H$6=\"Eilean Siar Local Authority\",0,new_yll(2,B94,C94,D94,$C$1,G94,1,F94,E94*F94)))))))","v":0},{"$f":"IF('III Tool Overview'!$H$6=\"Orkney Health Board\",0,IF('III Tool Overview'!$H$6=\"Shetland Health Board\",0,IF('III Tool Overview'!$H$6=\"Western Isles Health Board\",0,IF('III Tool Overview'!$H$6=\"Orkney Islands Local Authority\",0,IF('III Tool Overview'!$H$6=\"Shetland Islands Local Authority\",0,IF('III Tool Overview'!$H$6=\"Eilean Siar Local Authority\",0,new_yll(2,B94,C94,D94,$C$1,G94+H94,1,F94,E94*F94)))))))","v":0},0,{"$f":"IF('III Tool Overview'!$H$6=\"Orkney Health Board\",0,IF('III Tool Overview'!$H$6=\"Shetland Health Board\",0,IF('III Tool Overview'!$H$6=\"Western Isles Health Board\",0,IF('III Tool Overview'!$H$6=\"Orkney Islands Local Authority\",0,IF('III Tool Overview'!$H$6=\"Shetland Islands Local Authority\",0,IF('III Tool Overview'!$H$6=\"Eilean Siar Local Authority\",0,new_yll(5,B94,C94,D94,$C$1,G94,1,F94,E94*F94)))))))","v":0},{"$f":"IF('III Tool Overview'!$H$6=\"Orkney Health Board\",0,IF('III Tool Overview'!$H$6=\"Shetland Health Board\",0,IF('III Tool Overview'!$H$6=\"Western Isles Health Board\",0,IF('III Tool Overview'!$H$6=\"Orkney Islands Local Authority\",0,IF('III Tool Overview'!$H$6=\"Shetland Islands Local Authority\",0,IF('III Tool Overview'!$H$6=\"Eilean Siar Local Authority\",0,new_yll(5,B94,C94,D94,$C$1,G94+H94,1,F94,E94*F94)))))))","v":0},0,{"$f":"IF('III Tool Overview'!$H$6=\"Orkney Health Board\",0,IF('III Tool Overview'!$H$6=\"Shetland Health Board\",0,IF('III Tool Overview'!$H$6=\"Western Isles Health Board\",0,IF('III Tool Overview'!$H$6=\"Orkney Islands Local Authority\",0,IF('III Tool Overview'!$H$6=\"Shetland Islands Local Authority\",0,IF('III Tool Overview'!$H$6=\"Eilean Siar Local Authority\",0,new_yll(10,B94,C94,D94,$C$1,G94,1,F94,E94*F94)))))))","v":0},{"$f":"IF('III Tool Overview'!$H$6=\"Orkney Health Board\",0,IF('III Tool Overview'!$H$6=\"Shetland Health Board\",0,IF('III Tool Overview'!$H$6=\"Western Isles Health Board\",0,IF('III Tool Overview'!$H$6=\"Orkney Islands Local Authority\",0,IF('III Tool Overview'!$H$6=\"Shetland Islands Local Authority\",0,IF('III Tool Overview'!$H$6=\"Eilean Siar Local Authority\",0,new_yll(10,B94,C94,D94,$C$1,G94+H94,1,F94,E94*F94)))))))","v":0},0,{"$f":"IF('III Tool Overview'!$H$6=\"Orkney Health Board\",0,IF('III Tool Overview'!$H$6=\"Shetland Health Board\",0,IF('III Tool Overview'!$H$6=\"Western Isles Health Board\",0,IF('III Tool Overview'!$H$6=\"Orkney Islands Local Authority\",0,IF('III Tool Overview'!$H$6=\"Shetland Islands Local Authority\",0,IF('III Tool Overview'!$H$6=\"Eilean Siar Local Authority\",0,new_yll(20,B94,C94,D94,$C$1,G94,1,F94,E94*F94)))))))","v":0},{"$f":"IF('III Tool Overview'!$H$6=\"Orkney Health Board\",0,IF('III Tool Overview'!$H$6=\"Shetland Health Board\",0,IF('III Tool Overview'!$H$6=\"Western Isles Health Board\",0,IF('III Tool Overview'!$H$6=\"Orkney Islands Local Authority\",0,IF('III Tool Overview'!$H$6=\"Shetland Islands Local Authority\",0,IF('III Tool Overview'!$H$6=\"Eilean Siar Local Authority\",0,new_yll(20,B94,C94,D94,$C$1,G94+H94,1,F94,E94*F94)))))))","v":0},0,{"$f":"IF('III Tool Overview'!$H$6=\"Orkney Health Board\",0,IF('III Tool Overview'!$H$6=\"Shetland Health Board\",0,IF('III Tool Overview'!$H$6=\"Western Isles Health Board\",0,IF('III Tool Overview'!$H$6=\"Orkney Islands Local Authority\",0,IF('III Tool Overview'!$H$6=\"Shetland Islands Local Authority\",0,IF('III Tool Overview'!$H$6=\"Eilean Siar Local Authority\",0,hosp_count(2,B94,C94,D94,$C$1,G94,1,F94,E94*F94)))))))","v":0},{"$f":"IF('III Tool Overview'!$H$6=\"Orkney Health Board\",0,IF('III Tool Overview'!$H$6=\"Shetland Health Board\",0,IF('III Tool Overview'!$H$6=\"Western Isles Health Board\",0,IF('III Tool Overview'!$H$6=\"Orkney Islands Local Authority\",0,IF('III Tool Overview'!$H$6=\"Shetland Islands Local Authority\",0,IF('III Tool Overview'!$H$6=\"Eilean Siar Local Authority\",0,hosp_count(2,B94,C94,D94,$C$1,G94+H94,1,F94,E94*F94)))))))","v":0},0,{"$f":"IF('III Tool Overview'!$H$6=\"Orkney Health Board\",0,IF('III Tool Overview'!$H$6=\"Shetland Health Board\",0,IF('III Tool Overview'!$H$6=\"Western Isles Health Board\",0,IF('III Tool Overview'!$H$6=\"Orkney Islands Local Authority\",0,IF('III Tool Overview'!$H$6=\"Shetland Islands Local Authority\",0,IF('III Tool Overview'!$H$6=\"Eilean Siar Local Authority\",0,hosp_count(5,B94,C94,D94,$C$1,G94,1,F94,E94*F94)))))))","v":0},{"$f":"IF('III Tool Overview'!$H$6=\"Orkney Health Board\",0,IF('III Tool Overview'!$H$6=\"Shetland Health Board\",0,IF('III Tool Overview'!$H$6=\"Western Isles Health Board\",0,IF('III Tool Overview'!$H$6=\"Orkney Islands Local Authority\",0,IF('III Tool Overview'!$H$6=\"Shetland Islands Local Authority\",0,IF('III Tool Overview'!$H$6=\"Eilean Siar Local Authority\",0,hosp_count(5,B94,C94,D94,$C$1,G94+H94,1,F94,E94*F94)))))))","v":0},0,{"$f":"IF('III Tool Overview'!$H$6=\"Orkney Health Board\",0,IF('III Tool Overview'!$H$6=\"Shetland Health Board\",0,IF('III Tool Overview'!$H$6=\"Western Isles Health Board\",0,IF('III Tool Overview'!$H$6=\"Orkney Islands Local Authority\",0,IF('III Tool Overview'!$H$6=\"Shetland Islands Local Authority\",0,IF('III Tool Overview'!$H$6=\"Eilean Siar Local Authority\",0,hosp_count(10,B94,C94,D94,$C$1,G94,1,F94,E94*F94)))))))","v":0},{"$f":"IF('III Tool Overview'!$H$6=\"Orkney Health Board\",0,IF('III Tool Overview'!$H$6=\"Shetland Health Board\",0,IF('III Tool Overview'!$H$6=\"Western Isles Health Board\",0,IF('III Tool Overview'!$H$6=\"Orkney Islands Local Authority\",0,IF('III Tool Overview'!$H$6=\"Shetland Islands Local Authority\",0,IF('III Tool Overview'!$H$6=\"Eilean Siar Local Authority\",0,hosp_count(10,B94,C94,D94,$C$1,G94+H94,1,F94,E94*F94)))))))","v":0},0,{"$f":"IF('III Tool Overview'!$H$6=\"Orkney Health Board\",0,IF('III Tool Overview'!$H$6=\"Shetland Health Board\",0,IF('III Tool Overview'!$H$6=\"Western Isles Health Board\",0,IF('III Tool Overview'!$H$6=\"Orkney Islands Local Authority\",0,IF('III Tool Overview'!$H$6=\"Shetland Islands Local Authority\",0,IF('III Tool Overview'!$H$6=\"Eilean Siar Local Authority\",0,hosp_count(20,B94,C94,D94,$C$1,G94,1,F94,E94*F94)))))))","v":0},{"$f":"IF('III Tool Overview'!$H$6=\"Orkney Health Board\",0,IF('III Tool Overview'!$H$6=\"Shetland Health Board\",0,IF('III Tool Overview'!$H$6=\"Western Isles Health Board\",0,IF('III Tool Overview'!$H$6=\"Orkney Islands Local Authority\",0,IF('III Tool Overview'!$H$6=\"Shetland Islands Local Authority\",0,IF('III Tool Overview'!$H$6=\"Eilean Siar Local Authority\",0,hosp_count(20,B94,C94,D94,$C$1,G94+H94,1,F94,E94*F94)))))))","v":0},0,null,0.5,5]
["Female 35-39",37.5,"female",1,{"$f":"HLOOKUP('III Tool Overview'!$H$6,Prevalence!$B$2:$AV$268,Prevalence!AW90,FALSE)","v":0.25909090909090909},{"$f":"HLOOKUP('III Tool Overview'!$H$6,LookUpData_Pop!$B$1:$AV$269,LookUpData_Pop!BB95,FALSE)/5","v":0},{"$f":"'III Tool Overview'!$H$9/110","v":0},{"$f":"IF('III Tool Overview'!$H$10=\"Even distribution\",Targeting!C93,IF('III Tool Overview'!$H$10=\"Targetting to Q1\",Targeting!D93,IF('III Tool Overview'!$H$10=\"Targetting to Q1 & Q2\",Targeting!E93,IF('III Tool Overview'!$H$10=\"No variation in price elasticity\",Targeting!G93))))","v":0},{"$f":"IF('III Tool Overview'!$H$6=\"Orkney Health Board\",0,IF('III Tool Overview'!$H$6=\"Shetland Health Board\",0,IF('III Tool Overview'!$H$6=\"Western Isles Health Board\",0,IF('III Tool Overview'!$H$6=\"Orkney Islands Local Authority\",0,IF('III Tool Overview'!$H$6=\"Shetland Islands Local Authority\",0,IF('III Tool Overview'!$H$6=\"Eilean Siar Local Authority\",0,new_ci(2,B95,C95,D95,$C$1,G95,1,F95,E95*F95)))))))","v":0},{"$f":"IF('III Tool Overview'!$H$6=\"Orkney Health Board\",0,IF('III Tool Overview'!$H$6=\"Shetland Health Board\",0,IF('III Tool Overview'!$H$6=\"Western Isles Health Board\",0,IF('III Tool Overview'!$H$6=\"Orkney Islands Local Authority\",0,IF('III Tool Overview'!$H$6=\"Shetland Islands Local Authority\",0,IF('III Tool Overview'!$H$6=\"Eilean Siar Local Authority\",0,new_ci(2,B95,C95,D95,$C$1,G95+H95,1,F95,E95*F95)))))))","v":0},{"$f":"IF('III Tool Overview'!$H$6=\"Orkney Health Board\",0,IF('III Tool Overview'!$H$6=\"Shetland Health Board\",0,IF('III Tool Overview'!$H$6=\"Western Isles Health Board\",0,IF('III Tool Overview'!$H$6=\"Orkney Islands Local Authority\",0,IF('III Tool Overview'!$H$6=\"Shetland Islands Local Authority\",0,IF('III Tool Overview'!$H$6=\"Eilean Siar Local Authority\",0,new_ci(5,B95,C95,D95,$C$1,G95,1,F95,E95*F95)))))))","v":0},{"$f":"IF('III Tool Overview'!$H$6=\"Orkney Health Board\",0,IF('III Tool Overview'!$H$6=\"Shetland Health Board\",0,IF('III Tool Overview'!$H$6=\"Western Isles Health Board\",0,IF('III Tool Overview'!$H$6=\"Orkney Islands Local Authority\",0,IF('III Tool Overview'!$H$6=\"Shetland Islands Local Authority\",0,IF('III Tool Overview'!$H$6=\"Eilean Siar Local Authority\",0,new_ci(5,B95,C95,D95,$C$1,G95+H95,1,F95,E95*F95)))))))","v":0},{"$f":"IF('III Tool Overview'!$H$6=\"Orkney Health Board\",0,IF('III Tool Overview'!$H$6=\"Shetland Health Board\",0,IF('III Tool Overview'!$H$6=\"Western Isles Health Board\",0,IF('III Tool Overview'!$H$6=\"Orkney Islands Local Authority\",0,IF('III Tool Overview'!$H$6=\"Shetland Islands Local Authority\",0,IF('III Tool Overview'!$H$6=\"Eilean Siar Local Authority\",0,new_ci(10,B95,C95,D95,$C$1,G95,1,F95,E95*F95)))))))","v":0},{"$f":"IF('III Tool Overview'!$H$6=\"Orkney Health Board\",0,IF('III Tool Overview'!$H$6=\"Shetland Health Board\",0,IF('III Tool Overview'!$H$6=\"Western Isles Health Board\",0,IF('III Tool Overview'!$H$6=\"Orkney Islands Local Authority\",0,IF('III Tool Overview'!$H$6=\"Shetland Islands Local Authority\",0,IF('III Tool Overview'!$H$6=\"Eilean Siar Local Authority\",0,new_ci(10,B95,C95,D95,$C$1,G95+H95,1,F95,E95*F95)))))))","v":0},{"$f":"IF('III Tool Overview'!$H$6=\"Orkney Health Board\",0,IF('III Tool Overview'!$H$6=\"Shetland Health Board\",0,IF('III Tool Overview'!$H$6=\"Western Isles Health Board\",0,IF('III Tool Overview'!$H$6=\"Orkney Islands Local Authority\",0,IF('III Tool Overview'!$H$6=\"Shetland Islands Local Authority\",0,IF('III Tool Overview'!$H$6=\"Eilean Siar Local Authority\",0,new_ci(20,B95,C95,D95,$C$1,G95,1,F95,E95*F95)))))))","v":0},{"$f":"IF('III Tool Overview'!$H$6=\"Orkney Health Board\",0,IF('III Tool Overview'!$H$6=\"Shetland Health Board\",0,IF('III Tool Overview'!$H$6=\"Western Isles Health Board\",0,IF('III Tool Overview'!$H$6=\"Orkney Islands Local Authority\",0,IF('III Tool Overview'!$H$6=\"Shetland Islands Local Authority\",0,IF('III Tool Overview'!$H$6=\"Eilean Siar Local Authority\",0,new_ci(20,B95,C95,D95,$C$1,G95+H95,1,F95,E95*F95)))))))","v":0},{"$f":"IF('III Tool Overview'!$H$6=\"Orkney Health Board\",0,IF('III Tool Overview'!$H$6=\"Shetland Health Board\",0,IF('III Tool Overview'!$H$6=\"Western Isles Health Board\",0,IF('III Tool Overview'!$H$6=\"Orkney Islands Local Authority\",0,IF('III Tool Overview'!$H$6=\"Shetland Islands Local Authority\",0,IF('III Tool Overview'!$H$6=\"Eilean Siar Local Authority\",0,new_yll(2,B95,C95,D95,$C$1,G95,1,F95,E95*F95)))))))","v":0},{"$f":"IF('III Tool Overview'!$H$6=\"Orkney Health Board\",0,IF('III Tool Overview'!$H$6=\"Shetland Health Board\",0,IF('III Tool Overview'!$H$6=\"Western Isles Health Board\",0,IF('III Tool Overview'!$H$6=\"Orkney Islands Local Authority\",0,IF('III Tool Overview'!$H$6=\"Shetland Islands Local Authority\",0,IF('III Tool Overview'!$H$6=\"Eilean Siar Local Authority\",0,new_yll(2,B95,C95,D95,$C$1,G95+H95,1,F95,E95*F95)))))))","v":0},0,{"$f":"IF('III Tool Overview'!$H$6=\"Orkney Health Board\",0,IF('III Tool Overview'!$H$6=\"Shetland Health Board\",0,IF('III Tool Overview'!$H$6=\"Western Isles Health Board\",0,IF('III Tool Overview'!$H$6=\"Orkney Islands Local Authority\",0,IF('III Tool Overview'!$H$6=\"Shetland Islands Local Authority\",0,IF('III Tool Overview'!$H$6=\"Eilean Siar Local Authority\",0,new_yll(5,B95,C95,D95,$C$1,G95,1,F95,E95*F95)))))))","v":0},{"$f":"IF('III Tool Overview'!$H$6=\"Orkney Health Board\",0,IF('III Tool Overview'!$H$6=\"Shetland Health Board\",0,IF('III Tool Overview'!$H$6=\"Western Isles Health Board\",0,IF('III Tool Overview'!$H$6=\"Orkney Islands Local Authority\",0,IF('III Tool Overview'!$H$6=\"Shetland Islands Local Authority\",0,IF('III Tool Overview'!$H$6=\"Eilean Siar Local Authority\",0,new_yll(5,B95,C95,D95,$C$1,G95+H95,1,F95,E95*F95)))))))","v":0},0,{"$f":"IF('III Tool Overview'!$H$6=\"Orkney Health Board\",0,IF('III Tool Overview'!$H$6=\"Shetland Health Board\",0,IF('III Tool Overview'!$H$6=\"Western Isles Health Board\",0,IF('III Tool Overview'!$H$6=\"Orkney Islands Local Authority\",0,IF('III Tool Overview'!$H$6=\"Shetland Islands Local Authority\",0,IF('III Tool Overview'!$H$6=\"Eilean Siar Local Authority\",0,new_yll(10,B95,C95,D95,$C$1,G95,1,F95,E95*F95)))))))","v":0},{"$f":"IF('III Tool Overview'!$H$6=\"Orkney Health Board\",0,IF('III Tool Overview'!$H$6=\"Shetland Health Board\",0,IF('III Tool Overview'!$H$6=\"Western Isles Health Board\",0,IF('III Tool Overview'!$H$6=\"Orkney Islands Local Authority\",0,IF('III Tool Overview'!$H$6=\"Shetland Islands Local Authority\",0,IF('III Tool Overview'!$H$6=\"Eilean Siar Local Authority\",0,new_yll(10,B95,C95,D95,$C$1,G95+H95,1,F95,E95*F95)))))))","v":0},0,{"$f":"IF('III Tool Overview'!$H$6=\"Orkney Health Board\",0,IF('III Tool Overview'!$H$6=\"Shetland Health Board\",0,IF('III Tool Overview'!$H$6=\"Western Isles Health Board\",0,IF('III Tool Overview'!$H$6=\"Orkney Islands Local Authority\",0,IF('III Tool Overview'!$H$6=\"Shetland Islands Local Authority\",0,IF('III Tool Overview'!$H$6=\"Eilean Siar Local Authority\",0,new_yll(20,B95,C95,D95,$C$1,G95,1,F95,E95*F95)))))))","v":0},{"$f":"IF('III Tool Overview'!$H$6=\"Orkney Health Board\",0,IF('III Tool Overview'!$H$6=\"Shetland Health Board\",0,IF('III Tool Overview'!$H$6=\"Western Isles Health Board\",0,IF('III Tool Overview'!$H$6=\"Orkney Islands Local Authority\",0,IF('III Tool Overview'!$H$6=\"Shetland Islands Local Authority\",0,IF('III Tool Overview'!$H$6=\"Eilean Siar Local Authority\",0,new_yll(20,B95,C95,D95,$C$1,G95+H95,1,F95,E95*F95)))))))","v":0},0,{"$f":"IF('III Tool Overview'!$H$6=\"Orkney Health Board\",0,IF('III Tool Overview'!$H$6=\"Shetland Health Board\",0,IF('III Tool Overview'!$H$6=\"Western Isles Health Board\",0,IF('III Tool Overview'!$H$6=\"Orkney Islands Local Authority\",0,IF('III Tool Overview'!$H$6=\"Shetland Islands Local Authority\",0,IF('III Tool Overview'!$H$6=\"Eilean Siar Local Authority\",0,hosp_count(2,B95,C95,D95,$C$1,G95,1,F95,E95*F95)))))))","v":0},{"$f":"IF('III Tool Overview'!$H$6=\"Orkney Health Board\",0,IF('III Tool Overview'!$H$6=\"Shetland Health Board\",0,IF('III Tool Overview'!$H$6=\"Western Isles Health Board\",0,IF('III Tool Overview'!$H$6=\"Orkney Islands Local Authority\",0,IF('III Tool Overview'!$H$6=\"Shetland Islands Local Authority\",0,IF('III Tool Overview'!$H$6=\"Eilean Siar Local Authority\",0,hosp_count(2,B95,C95,D95,$C$1,G95+H95,1,F95,E95*F95)))))))","v":0},0,{"$f":"IF('III Tool Overview'!$H$6=\"Orkney Health Board\",0,IF('III Tool Overview'!$H$6=\"Shetland Health Board\",0,IF('III Tool Overview'!$H$6=\"Western Isles Health Board\",0,IF('III Tool Overview'!$H$6=\"Orkney Islands Local Authority\",0,IF('III Tool Overview'!$H$6=\"Shetland Islands Local Authority\",0,IF('III Tool Overview'!$H$6=\"Eilean Siar Local Authority\",0,hosp_count(5,B95,C95,D95,$C$1,G95,1,F95,E95*F95)))))))","v":0},{"$f":"IF('III Tool Overview'!$H$6=\"Orkney Health Board\",0,IF('III Tool Overview'!$H$6=\"Shetland Health Board\",0,IF('III Tool Overview'!$H$6=\"Western Isles Health Board\",0,IF('III Tool Overview'!$H$6=\"Orkney Islands Local Authority\",0,IF('III Tool Overview'!$H$6=\"Shetland Islands Local Authority\",0,IF('III Tool Overview'!$H$6=\"Eilean Siar Local Authority\",0,hosp_count(5,B95,C95,D95,$C$1,G95+H95,1,F95,E95*F95)))))))","v":0},0,{"$f":"IF('III Tool Overview'!$H$6=\"Orkney Health Board\",0,IF('III Tool Overview'!$H$6=\"Shetland Health Board\",0,IF('III Tool Overview'!$H$6=\"Western Isles Health Board\",0,IF('III Tool Overview'!$H$6=\"Orkney Islands Local Authority\",0,IF('III Tool Overview'!$H$6=\"Shetland Islands Local Authority\",0,IF('III Tool Overview'!$H$6=\"Eilean Siar Local Authority\",0,hosp_count(10,B95,C95,D95,$C$1,G95,1,F95,E95*F95)))))))","v":0},{"$f":"IF('III Tool Overview'!$H$6=\"Orkney Health Board\",0,IF('III Tool Overview'!$H$6=\"Shetland Health Board\",0,IF('III Tool Overview'!$H$6=\"Western Isles Health Board\",0,IF('III Tool Overview'!$H$6=\"Orkney Islands Local Authority\",0,IF('III Tool Overview'!$H$6=\"Shetland Islands Local Authority\",0,IF('III Tool Overview'!$H$6=\"Eilean Siar Local Authority\",0,hosp_count(10,B95,C95,D95,$C$1,G95+H95,1,F95,E95*F95)))))))","v":0},0,{"$f":"IF('III Tool Overview'!$H$6=\"Orkney Health Board\",0,IF('III Tool Overview'!$H$6=\"Shetland Health Board\",0,IF('III Tool Overview'!$H$6=\"Western Isles Health Board\",0,IF('III Tool Overview'!$H$6=\"Orkney Islands Local Authority\",0,IF('III Tool Overview'!$H$6=\"Shetland Islands Local Authority\",0,IF('III Tool Overview'!$H$6=\"Eilean Siar Local Authority\",0,hosp_count(20,B95,C95,D95,$C$1,G95,1,F95,E95*F95)))))))","v":0},{"$f":"IF('III Tool Overview'!$H$6=\"Orkney Health Board\",0,IF('III Tool Overview'!$H$6=\"Shetland Health Board\",0,IF('III Tool Overview'!$H$6=\"Western Isles Health Board\",0,IF('III Tool Overview'!$H$6=\"Orkney Islands Local Authority\",0,IF('III Tool Overview'!$H$6=\"Shetland Islands Local Authority\",0,IF('III Tool Overview'!$H$6=\"Eilean Siar Local Authority\",0,hosp_count(20,B95,C95,D95,$C$1,G95+H95,1,F95,E95*F95)))))))","v":0},0,null,0.5,5]
["Female 40-44",42.5,"female",1,{"$f":"HLOOKUP('III Tool Overview'!$H$6,Prevalence!$B$2:$AV$268,Prevalence!AW91,FALSE)","v":0.25909090909090909},{"$f":"HLOOKUP('III Tool Overview'!$H$6,LookUpData_Pop!$B$1:$AV$269,LookUpData_Pop!BB96,FALSE)/5","v":0},{"$f":"'III Tool Overview'!$H$9/110","v":0},{"$f":"IF('III Tool Overview'!$H$10=\"Even distribution\",Targeting!C94,IF('III Tool Overview'!$H$10=\"Targetting to Q1\",Targeting!D94,IF('III Tool Overview'!$H$10=\"Targetting to Q1 & Q2\",Targeting!E94,IF('III Tool Overview'!$H$10=\"No variation in price elasticity\",Targeting!G94))))","v":0},{"$f":"IF('III Tool Overview'!$H$6=\"Orkney Health Board\",0,IF('III Tool Overview'!$H$6=\"Shetland Health Board\",0,IF('III Tool Overview'!$H$6=\"Western Isles Health Board\",0,IF('III Tool Overview'!$H$6=\"Orkney Islands Local Authority\",0,IF('III Tool Overview'!$H$6=\"Shetland Islands Local Authority\",0,IF('III Tool Overview'!$H$6=\"Eilean Siar Local Authority\",0,new_ci(2,B96,C96,D96,$C$1,G96,1,F96,E96*F96)))))))","v":0},{"$f":"IF('III Tool Overview'!$H$6=\"Orkney Health Board\",0,IF('III Tool Overview'!$H$6=\"Shetland Health Board\",0,IF('III Tool Overview'!$H$6=\"Western Isles Health Board\",0,IF('III Tool Overview'!$H$6=\"Orkney Islands Local Authority\",0,IF('III Tool Overview'!$H$6=\"Shetland Islands Local Authority\",0,IF('III Tool Overview'!$H$6=\"Eilean Siar Local Authority\",0,new_ci(2,B96,C96,D96,$C$1,G96+H96,1,F96,E96*F96)))))))","v":0},{"$f":"IF('III Tool Overview'!$H$6=\"Orkney Health Board\",0,IF('III Tool Overview'!$H$6=\"Shetland Health Board\",0,IF('III Tool Overview'!$H$6=\"Western Isles Health Board\",0,IF('III Tool Overview'!$H$6=\"Orkney Islands Local Authority\",0,IF('III Tool Overview'!$H$6=\"Shetland Islands Local Authority\",0,IF('III Tool Overview'!$H$6=\"Eilean Siar Local Authority\",0,new_ci(5,B96,C96,D96,$C$1,G96,1,F96,E96*F96)))))))","v":0},{"$f":"IF('III Tool Overview'!$H$6=\"Orkney Health Board\",0,IF('III Tool Overview'!$H$6=\"Shetland Health Board\",0,IF('III Tool Overview'!$H$6=\"Western Isles Health Board\",0,IF('III Tool Overview'!$H$6=\"Orkney Islands Local Authority\",0,IF('III Tool Overview'!$H$6=\"Shetland Islands Local Authority\",0,IF('III Tool Overview'!$H$6=\"Eilean Siar Local Authority\",0,new_ci(5,B96,C96,D96,$C$1,G96+H96,1,F96,E96*F96)))))))","v":0},{"$f":"IF('III Tool Overview'!$H$6=\"Orkney Health Board\",0,IF('III Tool Overview'!$H$6=\"Shetland Health Board\",0,IF('III Tool Overview'!$H$6=\"Western Isles Health Board\",0,IF('III Tool Overview'!$H$6=\"Orkney Islands Local Authority\",0,IF('III Tool Overview'!$H$6=\"Shetland Islands Local Authority\",0,IF('III Tool Overview'!$H$6=\"Eilean Siar Local Authority\",0,new_ci(10,B96,C96,D96,$C$1,G96,1,F96,E96*F96)))))))","v":0},{"$f":"IF('III Tool Overview'!$H$6=\"Orkney Health Board\",0,IF('III Tool Overview'!$H$6=\"Shetland Health Board\",0,IF('III Tool Overview'!$H$6=\"Western Isles Health Board\",0,IF('III Tool Overview'!$H$6=\"Orkney Islands Local Authority\",0,IF('III Tool Overview'!$H$6=\"Shetland Islands Local Authority\",0,IF('III Tool Overview'!$H$6=\"Eilean Siar Local Authority\",0,new_ci(10,B96,C96,D96,$C$1,G96+H96,1,F96,E96*F96)))))))","v":0},{"$f":"IF('III Tool Overview'!$H$6=\"Orkney Health Board\",0,IF('III Tool Overview'!$H$6=\"Shetland Health Board\",0,IF('III Tool Overview'!$H$6=\"Western Isles Health Board\",0,IF('III Tool Overview'!$H$6=\"Orkney Islands Local Authority\",0,IF('III Tool Overview'!$H$6=\"Shetland Islands Local Authority\",0,IF('III Tool Overview'!$H$6=\"Eilean Siar Local Authority\",0,new_ci(20,B96,C96,D96,$C$1,G96,1,F96,E96*F96)))))))","v":0},{"$f":"IF('III Tool Overview'!$H$6=\"Orkney Health Board\",0,IF('III Tool Overview'!$H$6=\"Shetland Health Board\",0,IF('III Tool Overview'!$H$6=\"Western Isles Health Board\",0,IF('III Tool Overview'!$H$6=\"Orkney Islands Local Authority\",0,IF('III Tool Overview'!$H$6=\"Shetland Islands Local Authority\",0,IF('III Tool Overview'!$H$6=\"Eilean Siar Local Authority\",0,new_ci(20,B96,C96,D96,$C$1,G96+H96,1,F96,E96*F96)))))))","v":0},{"$f":"IF('III Tool Overview'!$H$6=\"Orkney Health Board\",0,IF('III Tool Overview'!$H$6=\"Shetland Health Board\",0,IF('III Tool Overview'!$H$6=\"Western Isles Health Board\",0,IF('III Tool Overview'!$H$6=\"Orkney Islands Local Authority\",0,IF('III Tool Overview'!$H$6=\"Shetland Islands Local Authority\",0,IF('III Tool Overview'!$H$6=\"Eilean Siar Local Authority\",0,new_yll(2,B96,C96,D96,$C$1,G96,1,F96,E96*F96)))))))","v":0},{"$f":"IF('III Tool Overview'!$H$6=\"Orkney Health Board\",0,IF('III Tool Overview'!$H$6=\"Shetland Health Board\",0,IF('III Tool Overview'!$H$6=\"Western Isles Health Board\",0,IF('III Tool Overview'!$H$6=\"Orkney Islands Local Authority\",0,IF('III Tool Overview'!$H$6=\"Shetland Islands Local Authority\",0,IF('III Tool Overview'!$H$6=\"Eilean Siar Local Authority\",0,new_yll(2,B96,C96,D96,$C$1,G96+H96,1,F96,E96*F96)))))))","v":0},0,{"$f":"IF('III Tool Overview'!$H$6=\"Orkney Health Board\",0,IF('III Tool Overview'!$H$6=\"Shetland Health Board\",0,IF('III Tool Overview'!$H$6=\"Western Isles Health Board\",0,IF('III Tool Overview'!$H$6=\"Orkney Islands Local Authority\",0,IF('III Tool Overview'!$H$6=\"Shetland Islands Local Authority\",0,IF('III Tool Overview'!$H$6=\"Eilean Siar Local Authority\",0,new_yll(5,B96,C96,D96,$C$1,G96,1,F96,E96*F96)))))))","v":0},{"$f":"IF('III Tool Overview'!$H$6=\"Orkney Health Board\",0,IF('III Tool Overview'!$H$6=\"Shetland Health Board\",0,IF('III Tool Overview'!$H$6=\"Western Isles Health Board\",0,IF('III Tool Overview'!$H$6=\"Orkney Islands Local Authority\",0,IF('III Tool Overview'!$H$6=\"Shetland Islands Local Authority\",0,IF('III Tool Overview'!$H$6=\"Eilean Siar Local Authority\",0,new_yll(5,B96,C96,D96,$C$1,G96+H96,1,F96,E96*F96)))))))","v":0},0,{"$f":"IF('III Tool Overview'!$H$6=\"Orkney Health Board\",0,IF('III Tool Overview'!$H$6=\"Shetland Health Board\",0,IF('III Tool Overview'!$H$6=\"Western Isles Health Board\",0,IF('III Tool Overview'!$H$6=\"Orkney Islands Local Authority\",0,IF('III Tool Overview'!$H$6=\"Shetland Islands Local Authority\",0,IF('III Tool Overview'!$H$6=\"Eilean Siar Local Authority\",0,new_yll(10,B96,C96,D96,$C$1,G96,1,F96,E96*F96)))))))","v":0},{"$f":"IF('III Tool Overview'!$H$6=\"Orkney Health Board\",0,IF('III Tool Overview'!$H$6=\"Shetland Health Board\",0,IF('III Tool Overview'!$H$6=\"Western Isles Health Board\",0,IF('III Tool Overview'!$H$6=\"Orkney Islands Local Authority\",0,IF('III Tool Overview'!$H$6=\"Shetland Islands Local Authority\",0,IF('III Tool Overview'!$H$6=\"Eilean Siar Local Authority\",0,new_yll(10,B96,C96,D96,$C$1,G96+H96,1,F96,E96*F96)))))))","v":0},0,{"$f":"IF('III Tool Overview'!$H$6=\"Orkney Health Board\",0,IF('III Tool Overview'!$H$6=\"Shetland Health Board\",0,IF('III Tool Overview'!$H$6=\"Western Isles Health Board\",0,IF('III Tool Overview'!$H$6=\"Orkney Islands Local Authority\",0,IF('III Tool Overview'!$H$6=\"Shetland Islands Local Authority\",0,IF('III Tool Overview'!$H$6=\"Eilean Siar Local Authority\",0,new_yll(20,B96,C96,D96,$C$1,G96,1,F96,E96*F96)))))))","v":0},{"$f":"IF('III Tool Overview'!$H$6=\"Orkney Health Board\",0,IF('III Tool Overview'!$H$6=\"Shetland Health Board\",0,IF('III Tool Overview'!$H$6=\"Western Isles Health Board\",0,IF('III Tool Overview'!$H$6=\"Orkney Islands Local Authority\",0,IF('III Tool Overview'!$H$6=\"Shetland Islands Local Authority\",0,IF('III Tool Overview'!$H$6=\"Eilean Siar Local Authority\",0,new_yll(20,B96,C96,D96,$C$1,G96+H96,1,F96,E96*F96)))))))","v":0},0,{"$f":"IF('III Tool Overview'!$H$6=\"Orkney Health Board\",0,IF('III Tool Overview'!$H$6=\"Shetland Health Board\",0,IF('III Tool Overview'!$H$6=\"Western Isles Health Board\",0,IF('III Tool Overview'!$H$6=\"Orkney Islands Local Authority\",0,IF('III Tool Overview'!$H$6=\"Shetland Islands Local Authority\",0,IF('III Tool Overview'!$H$6=\"Eilean Siar Local Authority\",0,hosp_count(2,B96,C96,D96,$C$1,G96,1,F96,E96*F96)))))))","v":0},{"$f":"IF('III Tool Overview'!$H$6=\"Orkney Health Board\",0,IF('III Tool Overview'!$H$6=\"Shetland Health Board\",0,IF('III Tool Overview'!$H$6=\"Western Isles Health Board\",0,IF('III Tool Overview'!$H$6=\"Orkney Islands Local Authority\",0,IF('III Tool Overview'!$H$6=\"Shetland Islands Local Authority\",0,IF('III Tool Overview'!$H$6=\"Eilean Siar Local Authority\",0,hosp_count(2,B96,C96,D96,$C$1,G96+H96,1,F96,E96*F96)))))))","v":0},0,{"$f":"IF('III Tool Overview'!$H$6=\"Orkney Health Board\",0,IF('III Tool Overview'!$H$6=\"Shetland Health Board\",0,IF('III Tool Overview'!$H$6=\"Western Isles Health Board\",0,IF('III Tool Overview'!$H$6=\"Orkney Islands Local Authority\",0,IF('III Tool Overview'!$H$6=\"Shetland Islands Local Authority\",0,IF('III Tool Overview'!$H$6=\"Eilean Siar Local Authority\",0,hosp_count(5,B96,C96,D96,$C$1,G96,1,F96,E96*F96)))))))","v":0},{"$f":"IF('III Tool Overview'!$H$6=\"Orkney Health Board\",0,IF('III Tool Overview'!$H$6=\"Shetland Health Board\",0,IF('III Tool Overview'!$H$6=\"Western Isles Health Board\",0,IF('III Tool Overview'!$H$6=\"Orkney Islands Local Authority\",0,IF('III Tool Overview'!$H$6=\"Shetland Islands Local Authority\",0,IF('III Tool Overview'!$H$6=\"Eilean Siar Local Authority\",0,hosp_count(5,B96,C96,D96,$C$1,G96+H96,1,F96,E96*F96)))))))","v":0},0,{"$f":"IF('III Tool Overview'!$H$6=\"Orkney Health Board\",0,IF('III Tool Overview'!$H$6=\"Shetland Health Board\",0,IF('III Tool Overview'!$H$6=\"Western Isles Health Board\",0,IF('III Tool Overview'!$H$6=\"Orkney Islands Local Authority\",0,IF('III Tool Overview'!$H$6=\"Shetland Islands Local Authority\",0,IF('III Tool Overview'!$H$6=\"Eilean Siar Local Authority\",0,hosp_count(10,B96,C96,D96,$C$1,G96,1,F96,E96*F96)))))))","v":0},{"$f":"IF('III Tool Overview'!$H$6=\"Orkney Health Board\",0,IF('III Tool Overview'!$H$6=\"Shetland Health Board\",0,IF('III Tool Overview'!$H$6=\"Western Isles Health Board\",0,IF('III Tool Overview'!$H$6=\"Orkney Islands Local Authority\",0,IF('III Tool Overview'!$H$6=\"Shetland Islands Local Authority\",0,IF('III Tool Overview'!$H$6=\"Eilean Siar Local Authority\",0,hosp_count(10,B96,C96,D96,$C$1,G96+H96,1,F96,E96*F96)))))))","v":0},0,{"$f":"IF('III Tool Overview'!$H$6=\"Orkney Health Board\",0,IF('III Tool Overview'!$H$6=\"Shetland Health Board\",0,IF('III Tool Overview'!$H$6=\"Western Isles Health Board\",0,IF('III Tool Overview'!$H$6=\"Orkney Islands Local Authority\",0,IF('III Tool Overview'!$H$6=\"Shetland Islands Local Authority\",0,IF('III Tool Overview'!$H$6=\"Eilean Siar Local Authority\",0,hosp_count(20,B96,C96,D96,$C$1,G96,1,F96,E96*F96)))))))","v":0},{"$f":"IF('III Tool Overview'!$H$6=\"Orkney Health Board\",0,IF('III Tool Overview'!$H$6=\"Shetland Health Board\",0,IF('III Tool Overview'!$H$6=\"Western Isles Health Board\",0,IF('III Tool Overview'!$H$6=\"Orkney Islands Local Authority\",0,IF('III Tool Overview'!$H$6=\"Shetland Islands Local Authority\",0,IF('III Tool Overview'!$H$6=\"Eilean Siar Local Authority\",0,hosp_count(20,B96,C96,D96,$C$1,G96+H96,1,F96,E96*F96)))))))","v":0},0,null,0.5,5]
["Female 45-49",47.5,"female",1,{"$f":"HLOOKUP('III Tool Overview'!$H$6,Prevalence!$B$2:$AV$268,Prevalence!AW92,FALSE)","v":0.32727272727272722},{"$f":"HLOOKUP('III Tool Overview'!$H$6,LookUpData_Pop!$B$1:$AV$269,LookUpData_Pop!BB97,FALSE)/5","v":0},{"$f":"'III Tool Overview'!$H$9/110","v":0},{"$f":"IF('III Tool Overview'!$H$10=\"Even distribution\",Targeting!C95,IF('III Tool Overview'!$H$10=\"Targetting to Q1\",Targeting!D95,IF('III Tool Overview'!$H$10=\"Targetting to Q1 & Q2\",Targeting!E95,IF('III Tool Overview'!$H$10=\"No variation in price elasticity\",Targeting!G95))))","v":0},{"$f":"IF('III Tool Overview'!$H$6=\"Orkney Health Board\",0,IF('III Tool Overview'!$H$6=\"Shetland Health Board\",0,IF('III Tool Overview'!$H$6=\"Western Isles Health Board\",0,IF('III Tool Overview'!$H$6=\"Orkney Islands Local Authority\",0,IF('III Tool Overview'!$H$6=\"Shetland Islands Local Authority\",0,IF('III Tool Overview'!$H$6=\"Eilean Siar Local Authority\",0,new_ci(2,B97,C97,D97,$C$1,G97,1,F97,E97*F97)))))))","v":0},{"$f":"IF('III Tool Overview'!$H$6=\"Orkney Health Board\",0,IF('III Tool Overview'!$H$6=\"Shetland Health Board\",0,IF('III Tool Overview'!$H$6=\"Western Isles Health Board\",0,IF('III Tool Overview'!$H$6=\"Orkney Islands Local Authority\",0,IF('III Tool Overview'!$H$6=\"Shetland Islands Local Authority\",0,IF('III Tool Overview'!$H$6=\"Eilean Siar Local Authority\",0,new_ci(2,B97,C97,D97,$C$1,G97+H97,1,F97,E97*F97)))))))","v":0},{"$f":"IF('III Tool Overview'!$H$6=\"Orkney Health Board\",0,IF('III Tool Overview'!$H$6=\"Shetland Health Board\",0,IF('III Tool Overview'!$H$6=\"Western Isles Health Board\",0,IF('III Tool Overview'!$H$6=\"Orkney Islands Local Authority\",0,IF('III Tool Overview'!$H$6=\"Shetland Islands Local Authority\",0,IF('III Tool Overview'!$H$6=\"Eilean Siar Local Authority\",0,new_ci(5,B97,C97,D97,$C$1,G97,1,F97,E97*F97)))))))","v":0},{"$f":"IF('III Tool Overview'!$H$6=\"Orkney Health Board\",0,IF('III Tool Overview'!$H$6=\"Shetland Health Board\",0,IF('III Tool Overview'!$H$6=\"Western Isles Health Board\",0,IF('III Tool Overview'!$H$6=\"Orkney Islands Local Authority\",0,IF('III Tool Overview'!$H$6=\"Shetland Islands Local Authority\",0,IF('III Tool Overview'!$H$6=\"Eilean Siar Local Authority\",0,new_ci(5,B97,C97,D97,$C$1,G97+H97,1,F97,E97*F97)))))))","v":0},{"$f":"IF('III Tool Overview'!$H$6=\"Orkney Health Board\",0,IF('III Tool Overview'!$H$6=\"Shetland Health Board\",0,IF('III Tool Overview'!$H$6=\"Western Isles Health Board\",0,IF('III Tool Overview'!$H$6=\"Orkney Islands Local Authority\",0,IF('III Tool Overview'!$H$6=\"Shetland Islands Local Authority\",0,IF('III Tool Overview'!$H$6=\"Eilean Siar Local Authority\",0,new_ci(10,B97,C97,D97,$C$1,G97,1,F97,E97*F97)))))))","v":0},{"$f":"IF('III Tool Overview'!$H$6=\"Orkney Health Board\",0,IF('III Tool Overview'!$H$6=\"Shetland Health Board\",0,IF('III Tool Overview'!$H$6=\"Western Isles Health Board\",0,IF('III Tool Overview'!$H$6=\"Orkney Islands Local Authority\",0,IF('III Tool Overview'!$H$6=\"Shetland Islands Local Authority\",0,IF('III Tool Overview'!$H$6=\"Eilean Siar Local Authority\",0,new_ci(10,B97,C97,D97,$C$1,G97+H97,1,F97,E97*F97)))))))","v":0},{"$f":"IF('III Tool Overview'!$H$6=\"Orkney Health Board\",0,IF('III Tool Overview'!$H$6=\"Shetland Health Board\",0,IF('III Tool Overview'!$H$6=\"Western Isles Health Board\",0,IF('III Tool Overview'!$H$6=\"Orkney Islands Local Authority\",0,IF('III Tool Overview'!$H$6=\"Shetland Islands Local Authority\",0,IF('III Tool Overview'!$H$6=\"Eilean Siar Local Authority\",0,new_ci(20,B97,C97,D97,$C$1,G97,1,F97,E97*F97)))))))","v":0},{"$f":"IF('III Tool Overview'!$H$6=\"Orkney Health Board\",0,IF('III Tool Overview'!$H$6=\"Shetland Health Board\",0,IF('III Tool Overview'!$H$6=\"Western Isles Health Board\",0,IF('III Tool Overview'!$H$6=\"Orkney Islands Local Authority\",0,IF('III Tool Overview'!$H$6=\"Shetland Islands Local Authority\",0,IF('III Tool Overview'!$H$6=\"Eilean Siar Local Authority\",0,new_ci(20,B97,C97,D97,$C$1,G97+H97,1,F97,E97*F97)))))))","v":0},{"$f":"IF('III Tool Overview'!$H$6=\"Orkney Health Board\",0,IF('III Tool Overview'!$H$6=\"Shetland Health Board\",0,IF('III Tool Overview'!$H$6=\"Western Isles Health Board\",0,IF('III Tool Overview'!$H$6=\"Orkney Islands Local Authority\",0,IF('III Tool Overview'!$H$6=\"Shetland Islands Local Authority\",0,IF('III Tool Overview'!$H$6=\"Eilean Siar Local Authority\",0,new_yll(2,B97,C97,D97,$C$1,G97,1,F97,E97*F97)))))))","v":0},{"$f":"IF('III Tool Overview'!$H$6=\"Orkney Health Board\",0,IF('III Tool Overview'!$H$6=\"Shetland Health Board\",0,IF('III Tool Overview'!$H$6=\"Western Isles Health Board\",0,IF('III Tool Overview'!$H$6=\"Orkney Islands Local Authority\",0,IF('III Tool Overview'!$H$6=\"Shetland Islands Local Authority\",0,IF('III Tool Overview'!$H$6=\"Eilean Siar Local Authority\",0,new_yll(2,B97,C97,D97,$C$1,G97+H97,1,F97,E97*F97)))))))","v":0},0,{"$f":"IF('III Tool Overview'!$H$6=\"Orkney Health Board\",0,IF('III Tool Overview'!$H$6=\"Shetland Health Board\",0,IF('III Tool Overview'!$H$6=\"Western Isles Health Board\",0,IF('III Tool Overview'!$H$6=\"Orkney Islands Local Authority\",0,IF('III Tool Overview'!$H$6=\"Shetland Islands Local Authority\",0,IF('III Tool Overview'!$H$6=\"Eilean Siar Local Authority\",0,new_yll(5,B97,C97,D97,$C$1,G97,1,F97,E97*F97)))))))","v":0},{"$f":"IF('III Tool Overview'!$H$6=\"Orkney Health Board\",0,IF('III Tool Overview'!$H$6=\"Shetland Health Board\",0,IF('III Tool Overview'!$H$6=\"Western Isles Health Board\",0,IF('III Tool Overview'!$H$6=\"Orkney Islands Local Authority\",0,IF('III Tool Overview'!$H$6=\"Shetland Islands Local Authority\",0,IF('III Tool Overview'!$H$6=\"Eilean Siar Local Authority\",0,new_yll(5,B97,C97,D97,$C$1,G97+H97,1,F97,E97*F97)))))))","v":0},0,{"$f":"IF('III Tool Overview'!$H$6=\"Orkney Health Board\",0,IF('III Tool Overview'!$H$6=\"Shetland Health Board\",0,IF('III Tool Overview'!$H$6=\"Western Isles Health Board\",0,IF('III Tool Overview'!$H$6=\"Orkney Islands Local Authority\",0,IF('III Tool Overview'!$H$6=\"Shetland Islands Local Authority\",0,IF('III Tool Overview'!$H$6=\"Eilean Siar Local Authority\",0,new_yll(10,B97,C97,D97,$C$1,G97,1,F97,E97*F97)))))))","v":0},{"$f":"IF('III Tool Overview'!$H$6=\"Orkney Health Board\",0,IF('III Tool Overview'!$H$6=\"Shetland Health Board\",0,IF('III Tool Overview'!$H$6=\"Western Isles Health Board\",0,IF('III Tool Overview'!$H$6=\"Orkney Islands Local Authority\",0,IF('III Tool Overview'!$H$6=\"Shetland Islands Local Authority\",0,IF('III Tool Overview'!$H$6=\"Eilean Siar Local Authority\",0,new_yll(10,B97,C97,D97,$C$1,G97+H97,1,F97,E97*F97)))))))","v":0},0,{"$f":"IF('III Tool Overview'!$H$6=\"Orkney Health Board\",0,IF('III Tool Overview'!$H$6=\"Shetland Health Board\",0,IF('III Tool Overview'!$H$6=\"Western Isles Health Board\",0,IF('III Tool Overview'!$H$6=\"Orkney Islands Local Authority\",0,IF('III Tool Overview'!$H$6=\"Shetland Islands Local Authority\",0,IF('III Tool Overview'!$H$6=\"Eilean Siar Local Authority\",0,new_yll(20,B97,C97,D97,$C$1,G97,1,F97,E97*F97)))))))","v":0},{"$f":"IF('III Tool Overview'!$H$6=\"Orkney Health Board\",0,IF('III Tool Overview'!$H$6=\"Shetland Health Board\",0,IF('III Tool Overview'!$H$6=\"Western Isles Health Board\",0,IF('III Tool Overview'!$H$6=\"Orkney Islands Local Authority\",0,IF('III Tool Overview'!$H$6=\"Shetland Islands Local Authority\",0,IF('III Tool Overview'!$H$6=\"Eilean Siar Local Authority\",0,new_yll(20,B97,C97,D97,$C$1,G97+H97,1,F97,E97*F97)))))))","v":0},0,{"$f":"IF('III Tool Overview'!$H$6=\"Orkney Health Board\",0,IF('III Tool Overview'!$H$6=\"Shetland Health Board\",0,IF('III Tool Overview'!$H$6=\"Western Isles Health Board\",0,IF('III Tool Overview'!$H$6=\"Orkney Islands Local Authority\",0,IF('III Tool Overview'!$H$6=\"Shetland Islands Local Authority\",0,IF('III Tool Overview'!$H$6=\"Eilean Siar Local Authority\",0,hosp_count(2,B97,C97,D97,$C$1,G97,1,F97,E97*F97)))))))","v":0},{"$f":"IF('III Tool Overview'!$H$6=\"Orkney Health Board\",0,IF('III Tool Overview'!$H$6=\"Shetland Health Board\",0,IF('III Tool Overview'!$H$6=\"Western Isles Health Board\",0,IF('III Tool Overview'!$H$6=\"Orkney Islands Local Authority\",0,IF('III Tool Overview'!$H$6=\"Shetland Islands Local Authority\",0,IF('III Tool Overview'!$H$6=\"Eilean Siar Local Authority\",0,hosp_count(2,B97,C97,D97,$C$1,G97+H97,1,F97,E97*F97)))))))","v":0},0,{"$f":"IF('III Tool Overview'!$H$6=\"Orkney Health Board\",0,IF('III Tool Overview'!$H$6=\"Shetland Health Board\",0,IF('III Tool Overview'!$H$6=\"Western Isles Health Board\",0,IF('III Tool Overview'!$H$6=\"Orkney Islands Local Authority\",0,IF('III Tool Overview'!$H$6=\"Shetland Islands Local Authority\",0,IF('III Tool Overview'!$H$6=\"Eilean Siar Local Authority\",0,hosp_count(5,B97,C97,D97,$C$1,G97,1,F97,E97*F97)))))))","v":0},{"$f":"IF('III Tool Overview'!$H$6=\"Orkney Health Board\",0,IF('III Tool Overview'!$H$6=\"Shetland Health Board\",0,IF('III Tool Overview'!$H$6=\"Western Isles Health Board\",0,IF('III Tool Overview'!$H$6=\"Orkney Islands Local Authority\",0,IF('III Tool Overview'!$H$6=\"Shetland Islands Local Authority\",0,IF('III Tool Overview'!$H$6=\"Eilean Siar Local Authority\",0,hosp_count(5,B97,C97,D97,$C$1,G97+H97,1,F97,E97*F97)))))))","v":0},0,{"$f":"IF('III Tool Overview'!$H$6=\"Orkney Health Board\",0,IF('III Tool Overview'!$H$6=\"Shetland Health Board\",0,IF('III Tool Overview'!$H$6=\"Western Isles Health Board\",0,IF('III Tool Overview'!$H$6=\"Orkney Islands Local Authority\",0,IF('III Tool Overview'!$H$6=\"Shetland Islands Local Authority\",0,IF('III Tool Overview'!$H$6=\"Eilean Siar Local Authority\",0,hosp_count(10,B97,C97,D97,$C$1,G97,1,F97,E97*F97)))))))","v":0},{"$f":"IF('III Tool Overview'!$H$6=\"Orkney Health Board\",0,IF('III Tool Overview'!$H$6=\"Shetland Health Board\",0,IF('III Tool Overview'!$H$6=\"Western Isles Health Board\",0,IF('III Tool Overview'!$H$6=\"Orkney Islands Local Authority\",0,IF('III Tool Overview'!$H$6=\"Shetland Islands Local Authority\",0,IF('III Tool Overview'!$H$6=\"Eilean Siar Local Authority\",0,hosp_count(10,B97,C97,D97,$C$1,G97+H97,1,F97,E97*F97)))))))","v":0},0,{"$f":"IF('III Tool Overview'!$H$6=\"Orkney Health Board\",0,IF('III Tool Overview'!$H$6=\"Shetland Health Board\",0,IF('III Tool Overview'!$H$6=\"Western Isles Health Board\",0,IF('III Tool Overview'!$H$6=\"Orkney Islands Local Authority\",0,IF('III Tool Overview'!$H$6=\"Shetland Islands Local Authority\",0,IF('III Tool Overview'!$H$6=\"Eilean Siar Local Authority\",0,hosp_count(20,B97,C97,D97,$C$1,G97,1,F97,E97*F97)))))))","v":0},{"$f":"IF('III Tool Overview'!$H$6=\"Orkney Health Board\",0,IF('III Tool Overview'!$H$6=\"Shetland Health Board\",0,IF('III Tool Overview'!$H$6=\"Western Isles Health Board\",0,IF('III Tool Overview'!$H$6=\"Orkney Islands Local Authority\",0,IF('III Tool Overview'!$H$6=\"Shetland Islands Local Authority\",0,IF('III Tool Overview'!$H$6=\"Eilean Siar Local Authority\",0,hosp_count(20,B97,C97,D97,$C$1,G97+H97,1,F97,E97*F97)))))))","v":0},0,null,0.5,5]
["Female 50-54",52.5,"female",1,{"$f":"HLOOKUP('III Tool Overview'!$H$6,Prevalence!$B$2:$AV$268,Prevalence!AW93,FALSE)","v":0.32727272727272722},{"$f":"HLOOKUP('III Tool Overview'!$H$6,LookUpData_Pop!$B$1:$AV$269,LookUpData_Pop!BB98,FALSE)/5","v":0},{"$f":"'III Tool Overview'!$H$9/110","v":0},{"$f":"IF('III Tool Overview'!$H$10=\"Even distribution\",Targeting!C96,IF('III Tool Overview'!$H$10=\"Targetting to Q1\",Targeting!D96,IF('III Tool Overview'!$H$10=\"Targetting to Q1 & Q2\",Targeting!E96,IF('III Tool Overview'!$H$10=\"No variation in price elasticity\",Targeting!G96))))","v":0},{"$f":"IF('III Tool Overview'!$H$6=\"Orkney Health Board\",0,IF('III Tool Overview'!$H$6=\"Shetland Health Board\",0,IF('III Tool Overview'!$H$6=\"Western Isles Health Board\",0,IF('III Tool Overview'!$H$6=\"Orkney Islands Local Authority\",0,IF('III Tool Overview'!$H$6=\"Shetland Islands Local Authority\",0,IF('III Tool Overview'!$H$6=\"Eilean Siar Local Authority\",0,new_ci(2,B98,C98,D98,$C$1,G98,1,F98,E98*F98)))))))","v":0},{"$f":"IF('III Tool Overview'!$H$6=\"Orkney Health Board\",0,IF('III Tool Overview'!$H$6=\"Shetland Health Board\",0,IF('III Tool Overview'!$H$6=\"Western Isles Health Board\",0,IF('III Tool Overview'!$H$6=\"Orkney Islands Local Authority\",0,IF('III Tool Overview'!$H$6=\"Shetland Islands Local Authority\",0,IF('III Tool Overview'!$H$6=\"Eilean Siar Local Authority\",0,new_ci(2,B98,C98,D98,$C$1,G98+H98,1,F98,E98*F98)))))))","v":0},{"$f":"IF('III Tool Overview'!$H$6=\"Orkney Health Board\",0,IF('III Tool Overview'!$H$6=\"Shetland Health Board\",0,IF('III Tool Overview'!$H$6=\"Western Isles Health Board\",0,IF('III Tool Overview'!$H$6=\"Orkney Islands Local Authority\",0,IF('III Tool Overview'!$H$6=\"Shetland Islands Local Authority\",0,IF('III Tool Overview'!$H$6=\"Eilean Siar Local Authority\",0,new_ci(5,B98,C98,D98,$C$1,G98,1,F98,E98*F98)))))))","v":0},{"$f":"IF('III Tool Overview'!$H$6=\"Orkney Health Board\",0,IF('III Tool Overview'!$H$6=\"Shetland Health Board\",0,IF('III Tool Overview'!$H$6=\"Western Isles Health Board\",0,IF('III Tool Overview'!$H$6=\"Orkney Islands Local Authority\",0,IF('III Tool Overview'!$H$6=\"Shetland Islands Local Authority\",0,IF('III Tool Overview'!$H$6=\"Eilean Siar Local Authority\",0,new_ci(5,B98,C98,D98,$C$1,G98+H98,1,F98,E98*F98)))))))","v":0},{"$f":"IF('III Tool Overview'!$H$6=\"Orkney Health Board\",0,IF('III Tool Overview'!$H$6=\"Shetland Health Board\",0,IF('III Tool Overview'!$H$6=\"Western Isles Health Board\",0,IF('III Tool Overview'!$H$6=\"Orkney Islands Local Authority\",0,IF('III Tool Overview'!$H$6=\"Shetland Islands Local Authority\",0,IF('III Tool Overview'!$H$6=\"Eilean Siar Local Authority\",0,new_ci(10,B98,C98,D98,$C$1,G98,1,F98,E98*F98)))))))","v":0},{"$f":"IF('III Tool Overview'!$H$6=\"Orkney Health Board\",0,IF('III Tool Overview'!$H$6=\"Shetland Health Board\",0,IF('III Tool Overview'!$H$6=\"Western Isles Health Board\",0,IF('III Tool Overview'!$H$6=\"Orkney Islands Local Authority\",0,IF('III Tool Overview'!$H$6=\"Shetland Islands Local Authority\",0,IF('III Tool Overview'!$H$6=\"Eilean Siar Local Authority\",0,new_ci(10,B98,C98,D98,$C$1,G98+H98,1,F98,E98*F98)))))))","v":0},{"$f":"IF('III Tool Overview'!$H$6=\"Orkney Health Board\",0,IF('III Tool Overview'!$H$6=\"Shetland Health Board\",0,IF('III Tool Overview'!$H$6=\"Western Isles Health Board\",0,IF('III Tool Overview'!$H$6=\"Orkney Islands Local Authority\",0,IF('III Tool Overview'!$H$6=\"Shetland Islands Local Authority\",0,IF('III Tool Overview'!$H$6=\"Eilean Siar Local Authority\",0,new_ci(20,B98,C98,D98,$C$1,G98,1,F98,E98*F98)))))))","v":0},{"$f":"IF('III Tool Overview'!$H$6=\"Orkney Health Board\",0,IF('III Tool Overview'!$H$6=\"Shetland Health Board\",0,IF('III Tool Overview'!$H$6=\"Western Isles Health Board\",0,IF('III Tool Overview'!$H$6=\"Orkney Islands Local Authority\",0,IF('III Tool Overview'!$H$6=\"Shetland Islands Local Authority\",0,IF('III Tool Overview'!$H$6=\"Eilean Siar Local Authority\",0,new_ci(20,B98,C98,D98,$C$1,G98+H98,1,F98,E98*F98)))))))","v":0},{"$f":"IF('III Tool Overview'!$H$6=\"Orkney Health Board\",0,IF('III Tool Overview'!$H$6=\"Shetland Health Board\",0,IF('III Tool Overview'!$H$6=\"Western Isles Health Board\",0,IF('III Tool Overview'!$H$6=\"Orkney Islands Local Authority\",0,IF('III Tool Overview'!$H$6=\"Shetland Islands Local Authority\",0,IF('III Tool Overview'!$H$6=\"Eilean Siar Local Authority\",0,new_yll(2,B98,C98,D98,$C$1,G98,1,F98,E98*F98)))))))","v":0},{"$f":"IF('III Tool Overview'!$H$6=\"Orkney Health Board\",0,IF('III Tool Overview'!$H$6=\"Shetland Health Board\",0,IF('III Tool Overview'!$H$6=\"Western Isles Health Board\",0,IF('III Tool Overview'!$H$6=\"Orkney Islands Local Authority\",0,IF('III Tool Overview'!$H$6=\"Shetland Islands Local Authority\",0,IF('III Tool Overview'!$H$6=\"Eilean Siar Local Authority\",0,new_yll(2,B98,C98,D98,$C$1,G98+H98,1,F98,E98*F98)))))))","v":0},0,{"$f":"IF('III Tool Overview'!$H$6=\"Orkney Health Board\",0,IF('III Tool Overview'!$H$6=\"Shetland Health Board\",0,IF('III Tool Overview'!$H$6=\"Western Isles Health Board\",0,IF('III Tool Overview'!$H$6=\"Orkney Islands Local Authority\",0,IF('III Tool Overview'!$H$6=\"Shetland Islands Local Authority\",0,IF('III Tool Overview'!$H$6=\"Eilean Siar Local Authority\",0,new_yll(5,B98,C98,D98,$C$1,G98,1,F98,E98*F98)))))))","v":0},{"$f":"IF('III Tool Overview'!$H$6=\"Orkney Health Board\",0,IF('III Tool Overview'!$H$6=\"Shetland Health Board\",0,IF('III Tool Overview'!$H$6=\"Western Isles Health Board\",0,IF('III Tool Overview'!$H$6=\"Orkney Islands Local Authority\",0,IF('III Tool Overview'!$H$6=\"Shetland Islands Local Authority\",0,IF('III Tool Overview'!$H$6=\"Eilean Siar Local Authority\",0,new_yll(5,B98,C98,D98,$C$1,G98+H98,1,F98,E98*F98)))))))","v":0},0,{"$f":"IF('III Tool Overview'!$H$6=\"Orkney Health Board\",0,IF('III Tool Overview'!$H$6=\"Shetland Health Board\",0,IF('III Tool Overview'!$H$6=\"Western Isles Health Board\",0,IF('III Tool Overview'!$H$6=\"Orkney Islands Local Authority\",0,IF('III Tool Overview'!$H$6=\"Shetland Islands Local Authority\",0,IF('III Tool Overview'!$H$6=\"Eilean Siar Local Authority\",0,new_yll(10,B98,C98,D98,$C$1,G98,1,F98,E98*F98)))))))","v":0},{"$f":"IF('III Tool Overview'!$H$6=\"Orkney Health Board\",0,IF('III Tool Overview'!$H$6=\"Shetland Health Board\",0,IF('III Tool Overview'!$H$6=\"Western Isles Health Board\",0,IF('III Tool Overview'!$H$6=\"Orkney Islands Local Authority\",0,IF('III Tool Overview'!$H$6=\"Shetland Islands Local Authority\",0,IF('III Tool Overview'!$H$6=\"Eilean Siar Local Authority\",0,new_yll(10,B98,C98,D98,$C$1,G98+H98,1,F98,E98*F98)))))))","v":0},0,{"$f":"IF('III Tool Overview'!$H$6=\"Orkney Health Board\",0,IF('III Tool Overview'!$H$6=\"Shetland Health Board\",0,IF('III Tool Overview'!$H$6=\"Western Isles Health Board\",0,IF('III Tool Overview'!$H$6=\"Orkney Islands Local Authority\",0,IF('III Tool Overview'!$H$6=\"Shetland Islands Local Authority\",0,IF('III Tool Overview'!$H$6=\"Eilean Siar Local Authority\",0,new_yll(20,B98,C98,D98,$C$1,G98,1,F98,E98*F98)))))))","v":0},{"$f":"IF('III Tool Overview'!$H$6=\"Orkney Health Board\",0,IF('III Tool Overview'!$H$6=\"Shetland Health Board\",0,IF('III Tool Overview'!$H$6=\"Western Isles Health Board\",0,IF('III Tool Overview'!$H$6=\"Orkney Islands Local Authority\",0,IF('III Tool Overview'!$H$6=\"Shetland Islands Local Authority\",0,IF('III Tool Overview'!$H$6=\"Eilean Siar Local Authority\",0,new_yll(20,B98,C98,D98,$C$1,G98+H98,1,F98,E98*F98)))))))","v":0},0,{"$f":"IF('III Tool Overview'!$H$6=\"Orkney Health Board\",0,IF('III Tool Overview'!$H$6=\"Shetland Health Board\",0,IF('III Tool Overview'!$H$6=\"Western Isles Health Board\",0,IF('III Tool Overview'!$H$6=\"Orkney Islands Local Authority\",0,IF('III Tool Overview'!$H$6=\"Shetland Islands Local Authority\",0,IF('III Tool Overview'!$H$6=\"Eilean Siar Local Authority\",0,hosp_count(2,B98,C98,D98,$C$1,G98,1,F98,E98*F98)))))))","v":0},{"$f":"IF('III Tool Overview'!$H$6=\"Orkney Health Board\",0,IF('III Tool Overview'!$H$6=\"Shetland Health Board\",0,IF('III Tool Overview'!$H$6=\"Western Isles Health Board\",0,IF('III Tool Overview'!$H$6=\"Orkney Islands Local Authority\",0,IF('III Tool Overview'!$H$6=\"Shetland Islands Local Authority\",0,IF('III Tool Overview'!$H$6=\"Eilean Siar Local Authority\",0,hosp_count(2,B98,C98,D98,$C$1,G98+H98,1,F98,E98*F98)))))))","v":0},0,{"$f":"IF('III Tool Overview'!$H$6=\"Orkney Health Board\",0,IF('III Tool Overview'!$H$6=\"Shetland Health Board\",0,IF('III Tool Overview'!$H$6=\"Western Isles Health Board\",0,IF('III Tool Overview'!$H$6=\"Orkney Islands Local Authority\",0,IF('III Tool Overview'!$H$6=\"Shetland Islands Local Authority\",0,IF('III Tool Overview'!$H$6=\"Eilean Siar Local Authority\",0,hosp_count(5,B98,C98,D98,$C$1,G98,1,F98,E98*F98)))))))","v":0},{"$f":"IF('III Tool Overview'!$H$6=\"Orkney Health Board\",0,IF('III Tool Overview'!$H$6=\"Shetland Health Board\",0,IF('III Tool Overview'!$H$6=\"Western Isles Health Board\",0,IF('III Tool Overview'!$H$6=\"Orkney Islands Local Authority\",0,IF('III Tool Overview'!$H$6=\"Shetland Islands Local Authority\",0,IF('III Tool Overview'!$H$6=\"Eilean Siar Local Authority\",0,hosp_count(5,B98,C98,D98,$C$1,G98+H98,1,F98,E98*F98)))))))","v":0},0,{"$f":"IF('III Tool Overview'!$H$6=\"Orkney Health Board\",0,IF('III Tool Overview'!$H$6=\"Shetland Health Board\",0,IF('III Tool Overview'!$H$6=\"Western Isles Health Board\",0,IF('III Tool Overview'!$H$6=\"Orkney Islands Local Authority\",0,IF('III Tool Overview'!$H$6=\"Shetland Islands Local Authority\",0,IF('III Tool Overview'!$H$6=\"Eilean Siar Local Authority\",0,hosp_count(10,B98,C98,D98,$C$1,G98,1,F98,E98*F98)))))))","v":0},{"$f":"IF('III Tool Overview'!$H$6=\"Orkney Health Board\",0,IF('III Tool Overview'!$H$6=\"Shetland Health Board\",0,IF('III Tool Overview'!$H$6=\"Western Isles Health Board\",0,IF('III Tool Overview'!$H$6=\"Orkney Islands Local Authority\",0,IF('III Tool Overview'!$H$6=\"Shetland Islands Local Authority\",0,IF('III Tool Overview'!$H$6=\"Eilean Siar Local Authority\",0,hosp_count(10,B98,C98,D98,$C$1,G98+H98,1,F98,E98*F98)))))))","v":0},0,{"$f":"IF('III Tool Overview'!$H$6=\"Orkney Health Board\",0,IF('III Tool Overview'!$H$6=\"Shetland Health Board\",0,IF('III Tool Overview'!$H$6=\"Western Isles Health Board\",0,IF('III Tool Overview'!$H$6=\"Orkney Islands Local Authority\",0,IF('III Tool Overview'!$H$6=\"Shetland Islands Local Authority\",0,IF('III Tool Overview'!$H$6=\"Eilean Siar Local Authority\",0,hosp_count(20,B98,C98,D98,$C$1,G98,1,F98,E98*F98)))))))","v":0},{"$f":"IF('III Tool Overview'!$H$6=\"Orkney Health Board\",0,IF('III Tool Overview'!$H$6=\"Shetland Health Board\",0,IF('III Tool Overview'!$H$6=\"Western Isles Health Board\",0,IF('III Tool Overview'!$H$6=\"Orkney Islands Local Authority\",0,IF('III Tool Overview'!$H$6=\"Shetland Islands Local Authority\",0,IF('III Tool Overview'!$H$6=\"Eilean Siar Local Authority\",0,hosp_count(20,B98,C98,D98,$C$1,G98+H98,1,F98,E98*F98)))))))","v":0},0,null,0.5,5]
["Female 55-59",57.5,"female",1,{"$f":"HLOOKUP('III Tool Overview'!$H$6,Prevalence!$B$2:$AV$268,Prevalence!AW94,FALSE)","v":0.23863636363636359},{"$f":"HLOOKUP('III Tool Overview'!$H$6,LookUpData_Pop!$B$1:$AV$269,LookUpData_Pop!BB99,FALSE)/5","v":0},{"$f":"'III Tool Overview'!$H$9/110","v":0},{"$f":"IF('III Tool Overview'!$H$10=\"Even distribution\",Targeting!C97,IF('III Tool Overview'!$H$10=\"Targetting to Q1\",Targeting!D97,IF('III Tool Overview'!$H$10=\"Targetting to Q1 & Q2\",Targeting!E97,IF('III Tool Overview'!$H$10=\"No variation in price elasticity\",Targeting!G97))))","v":0},{"$f":"IF('III Tool Overview'!$H$6=\"Orkney Health Board\",0,IF('III Tool Overview'!$H$6=\"Shetland Health Board\",0,IF('III Tool Overview'!$H$6=\"Western Isles Health Board\",0,IF('III Tool Overview'!$H$6=\"Orkney Islands Local Authority\",0,IF('III Tool Overview'!$H$6=\"Shetland Islands Local Authority\",0,IF('III Tool Overview'!$H$6=\"Eilean Siar Local Authority\",0,new_ci(2,B99,C99,D99,$C$1,G99,1,F99,E99*F99)))))))","v":0},{"$f":"IF('III Tool Overview'!$H$6=\"Orkney Health Board\",0,IF('III Tool Overview'!$H$6=\"Shetland Health Board\",0,IF('III Tool Overview'!$H$6=\"Western Isles Health Board\",0,IF('III Tool Overview'!$H$6=\"Orkney Islands Local Authority\",0,IF('III Tool Overview'!$H$6=\"Shetland Islands Local Authority\",0,IF('III Tool Overview'!$H$6=\"Eilean Siar Local Authority\",0,new_ci(2,B99,C99,D99,$C$1,G99+H99,1,F99,E99*F99)))))))","v":0},{"$f":"IF('III Tool Overview'!$H$6=\"Orkney Health Board\",0,IF('III Tool Overview'!$H$6=\"Shetland Health Board\",0,IF('III Tool Overview'!$H$6=\"Western Isles Health Board\",0,IF('III Tool Overview'!$H$6=\"Orkney Islands Local Authority\",0,IF('III Tool Overview'!$H$6=\"Shetland Islands Local Authority\",0,IF('III Tool Overview'!$H$6=\"Eilean Siar Local Authority\",0,new_ci(5,B99,C99,D99,$C$1,G99,1,F99,E99*F99)))))))","v":0},{"$f":"IF('III Tool Overview'!$H$6=\"Orkney Health Board\",0,IF('III Tool Overview'!$H$6=\"Shetland Health Board\",0,IF('III Tool Overview'!$H$6=\"Western Isles Health Board\",0,IF('III Tool Overview'!$H$6=\"Orkney Islands Local Authority\",0,IF('III Tool Overview'!$H$6=\"Shetland Islands Local Authority\",0,IF('III Tool Overview'!$H$6=\"Eilean Siar Local Authority\",0,new_ci(5,B99,C99,D99,$C$1,G99+H99,1,F99,E99*F99)))))))","v":0},{"$f":"IF('III Tool Overview'!$H$6=\"Orkney Health Board\",0,IF('III Tool Overview'!$H$6=\"Shetland Health Board\",0,IF('III Tool Overview'!$H$6=\"Western Isles Health Board\",0,IF('III Tool Overview'!$H$6=\"Orkney Islands Local Authority\",0,IF('III Tool Overview'!$H$6=\"Shetland Islands Local Authority\",0,IF('III Tool Overview'!$H$6=\"Eilean Siar Local Authority\",0,new_ci(10,B99,C99,D99,$C$1,G99,1,F99,E99*F99)))))))","v":0},{"$f":"IF('III Tool Overview'!$H$6=\"Orkney Health Board\",0,IF('III Tool Overview'!$H$6=\"Shetland Health Board\",0,IF('III Tool Overview'!$H$6=\"Western Isles Health Board\",0,IF('III Tool Overview'!$H$6=\"Orkney Islands Local Authority\",0,IF('III Tool Overview'!$H$6=\"Shetland Islands Local Authority\",0,IF('III Tool Overview'!$H$6=\"Eilean Siar Local Authority\",0,new_ci(10,B99,C99,D99,$C$1,G99+H99,1,F99,E99*F99)))))))","v":0},{"$f":"IF('III Tool Overview'!$H$6=\"Orkney Health Board\",0,IF('III Tool Overview'!$H$6=\"Shetland Health Board\",0,IF('III Tool Overview'!$H$6=\"Western Isles Health Board\",0,IF('III Tool Overview'!$H$6=\"Orkney Islands Local Authority\",0,IF('III Tool Overview'!$H$6=\"Shetland Islands Local Authority\",0,IF('III Tool Overview'!$H$6=\"Eilean Siar Local Authority\",0,new_ci(20,B99,C99,D99,$C$1,G99,1,F99,E99*F99)))))))","v":0},{"$f":"IF('III Tool Overview'!$H$6=\"Orkney Health Board\",0,IF('III Tool Overview'!$H$6=\"Shetland Health Board\",0,IF('III Tool Overview'!$H$6=\"Western Isles Health Board\",0,IF('III Tool Overview'!$H$6=\"Orkney Islands Local Authority\",0,IF('III Tool Overview'!$H$6=\"Shetland Islands Local Authority\",0,IF('III Tool Overview'!$H$6=\"Eilean Siar Local Authority\",0,new_ci(20,B99,C99,D99,$C$1,G99+H99,1,F99,E99*F99)))))))","v":0},{"$f":"IF('III Tool Overview'!$H$6=\"Orkney Health Board\",0,IF('III Tool Overview'!$H$6=\"Shetland Health Board\",0,IF('III Tool Overview'!$H$6=\"Western Isles Health Board\",0,IF('III Tool Overview'!$H$6=\"Orkney Islands Local Authority\",0,IF('III Tool Overview'!$H$6=\"Shetland Islands Local Authority\",0,IF('III Tool Overview'!$H$6=\"Eilean Siar Local Authority\",0,new_yll(2,B99,C99,D99,$C$1,G99,1,F99,E99*F99)))))))","v":0},{"$f":"IF('III Tool Overview'!$H$6=\"Orkney Health Board\",0,IF('III Tool Overview'!$H$6=\"Shetland Health Board\",0,IF('III Tool Overview'!$H$6=\"Western Isles Health Board\",0,IF('III Tool Overview'!$H$6=\"Orkney Islands Local Authority\",0,IF('III Tool Overview'!$H$6=\"Shetland Islands Local Authority\",0,IF('III Tool Overview'!$H$6=\"Eilean Siar Local Authority\",0,new_yll(2,B99,C99,D99,$C$1,G99+H99,1,F99,E99*F99)))))))","v":0},0,{"$f":"IF('III Tool Overview'!$H$6=\"Orkney Health Board\",0,IF('III Tool Overview'!$H$6=\"Shetland Health Board\",0,IF('III Tool Overview'!$H$6=\"Western Isles Health Board\",0,IF('III Tool Overview'!$H$6=\"Orkney Islands Local Authority\",0,IF('III Tool Overview'!$H$6=\"Shetland Islands Local Authority\",0,IF('III Tool Overview'!$H$6=\"Eilean Siar Local Authority\",0,new_yll(5,B99,C99,D99,$C$1,G99,1,F99,E99*F99)))))))","v":0},{"$f":"IF('III Tool Overview'!$H$6=\"Orkney Health Board\",0,IF('III Tool Overview'!$H$6=\"Shetland Health Board\",0,IF('III Tool Overview'!$H$6=\"Western Isles Health Board\",0,IF('III Tool Overview'!$H$6=\"Orkney Islands Local Authority\",0,IF('III Tool Overview'!$H$6=\"Shetland Islands Local Authority\",0,IF('III Tool Overview'!$H$6=\"Eilean Siar Local Authority\",0,new_yll(5,B99,C99,D99,$C$1,G99+H99,1,F99,E99*F99)))))))","v":0},0,{"$f":"IF('III Tool Overview'!$H$6=\"Orkney Health Board\",0,IF('III Tool Overview'!$H$6=\"Shetland Health Board\",0,IF('III Tool Overview'!$H$6=\"Western Isles Health Board\",0,IF('III Tool Overview'!$H$6=\"Orkney Islands Local Authority\",0,IF('III Tool Overview'!$H$6=\"Shetland Islands Local Authority\",0,IF('III Tool Overview'!$H$6=\"Eilean Siar Local Authority\",0,new_yll(10,B99,C99,D99,$C$1,G99,1,F99,E99*F99)))))))","v":0},{"$f":"IF('III Tool Overview'!$H$6=\"Orkney Health Board\",0,IF('III Tool Overview'!$H$6=\"Shetland Health Board\",0,IF('III Tool Overview'!$H$6=\"Western Isles Health Board\",0,IF('III Tool Overview'!$H$6=\"Orkney Islands Local Authority\",0,IF('III Tool Overview'!$H$6=\"Shetland Islands Local Authority\",0,IF('III Tool Overview'!$H$6=\"Eilean Siar Local Authority\",0,new_yll(10,B99,C99,D99,$C$1,G99+H99,1,F99,E99*F99)))))))","v":0},0,{"$f":"IF('III Tool Overview'!$H$6=\"Orkney Health Board\",0,IF('III Tool Overview'!$H$6=\"Shetland Health Board\",0,IF('III Tool Overview'!$H$6=\"Western Isles Health Board\",0,IF('III Tool Overview'!$H$6=\"Orkney Islands Local Authority\",0,IF('III Tool Overview'!$H$6=\"Shetland Islands Local Authority\",0,IF('III Tool Overview'!$H$6=\"Eilean Siar Local Authority\",0,new_yll(20,B99,C99,D99,$C$1,G99,1,F99,E99*F99)))))))","v":0},{"$f":"IF('III Tool Overview'!$H$6=\"Orkney Health Board\",0,IF('III Tool Overview'!$H$6=\"Shetland Health Board\",0,IF('III Tool Overview'!$H$6=\"Western Isles Health Board\",0,IF('III Tool Overview'!$H$6=\"Orkney Islands Local Authority\",0,IF('III Tool Overview'!$H$6=\"Shetland Islands Local Authority\",0,IF('III Tool Overview'!$H$6=\"Eilean Siar Local Authority\",0,new_yll(20,B99,C99,D99,$C$1,G99+H99,1,F99,E99*F99)))))))","v":0},0,{"$f":"IF('III Tool Overview'!$H$6=\"Orkney Health Board\",0,IF('III Tool Overview'!$H$6=\"Shetland Health Board\",0,IF('III Tool Overview'!$H$6=\"Western Isles Health Board\",0,IF('III Tool Overview'!$H$6=\"Orkney Islands Local Authority\",0,IF('III Tool Overview'!$H$6=\"Shetland Islands Local Authority\",0,IF('III Tool Overview'!$H$6=\"Eilean Siar Local Authority\",0,hosp_count(2,B99,C99,D99,$C$1,G99,1,F99,E99*F99)))))))","v":0},{"$f":"IF('III Tool Overview'!$H$6=\"Orkney Health Board\",0,IF('III Tool Overview'!$H$6=\"Shetland Health Board\",0,IF('III Tool Overview'!$H$6=\"Western Isles Health Board\",0,IF('III Tool Overview'!$H$6=\"Orkney Islands Local Authority\",0,IF('III Tool Overview'!$H$6=\"Shetland Islands Local Authority\",0,IF('III Tool Overview'!$H$6=\"Eilean Siar Local Authority\",0,hosp_count(2,B99,C99,D99,$C$1,G99+H99,1,F99,E99*F99)))))))","v":0},0,{"$f":"IF('III Tool Overview'!$H$6=\"Orkney Health Board\",0,IF('III Tool Overview'!$H$6=\"Shetland Health Board\",0,IF('III Tool Overview'!$H$6=\"Western Isles Health Board\",0,IF('III Tool Overview'!$H$6=\"Orkney Islands Local Authority\",0,IF('III Tool Overview'!$H$6=\"Shetland Islands Local Authority\",0,IF('III Tool Overview'!$H$6=\"Eilean Siar Local Authority\",0,hosp_count(5,B99,C99,D99,$C$1,G99,1,F99,E99*F99)))))))","v":0},{"$f":"IF('III Tool Overview'!$H$6=\"Orkney Health Board\",0,IF('III Tool Overview'!$H$6=\"Shetland Health Board\",0,IF('III Tool Overview'!$H$6=\"Western Isles Health Board\",0,IF('III Tool Overview'!$H$6=\"Orkney Islands Local Authority\",0,IF('III Tool Overview'!$H$6=\"Shetland Islands Local Authority\",0,IF('III Tool Overview'!$H$6=\"Eilean Siar Local Authority\",0,hosp_count(5,B99,C99,D99,$C$1,G99+H99,1,F99,E99*F99)))))))","v":0},0,{"$f":"IF('III Tool Overview'!$H$6=\"Orkney Health Board\",0,IF('III Tool Overview'!$H$6=\"Shetland Health Board\",0,IF('III Tool Overview'!$H$6=\"Western Isles Health Board\",0,IF('III Tool Overview'!$H$6=\"Orkney Islands Local Authority\",0,IF('III Tool Overview'!$H$6=\"Shetland Islands Local Authority\",0,IF('III Tool Overview'!$H$6=\"Eilean Siar Local Authority\",0,hosp_count(10,B99,C99,D99,$C$1,G99,1,F99,E99*F99)))))))","v":0},{"$f":"IF('III Tool Overview'!$H$6=\"Orkney Health Board\",0,IF('III Tool Overview'!$H$6=\"Shetland Health Board\",0,IF('III Tool Overview'!$H$6=\"Western Isles Health Board\",0,IF('III Tool Overview'!$H$6=\"Orkney Islands Local Authority\",0,IF('III Tool Overview'!$H$6=\"Shetland Islands Local Authority\",0,IF('III Tool Overview'!$H$6=\"Eilean Siar Local Authority\",0,hosp_count(10,B99,C99,D99,$C$1,G99+H99,1,F99,E99*F99)))))))","v":0},0,{"$f":"IF('III Tool Overview'!$H$6=\"Orkney Health Board\",0,IF('III Tool Overview'!$H$6=\"Shetland Health Board\",0,IF('III Tool Overview'!$H$6=\"Western Isles Health Board\",0,IF('III Tool Overview'!$H$6=\"Orkney Islands Local Authority\",0,IF('III Tool Overview'!$H$6=\"Shetland Islands Local Authority\",0,IF('III Tool Overview'!$H$6=\"Eilean Siar Local Authority\",0,hosp_count(20,B99,C99,D99,$C$1,G99,1,F99,E99*F99)))))))","v":0},{"$f":"IF('III Tool Overview'!$H$6=\"Orkney Health Board\",0,IF('III Tool Overview'!$H$6=\"Shetland Health Board\",0,IF('III Tool Overview'!$H$6=\"Western Isles Health Board\",0,IF('III Tool Overview'!$H$6=\"Orkney Islands Local Authority\",0,IF('III Tool Overview'!$H$6=\"Shetland Islands Local Authority\",0,IF('III Tool Overview'!$H$6=\"Eilean Siar Local Authority\",0,hosp_count(20,B99,C99,D99,$C$1,G99+H99,1,F99,E99*F99)))))))","v":0},0,null,0.5,5]
["Female 60-64",62.5,"female",1,{"$f":"HLOOKUP('III Tool Overview'!$H$6,Prevalence!$B$2:$AV$268,Prevalence!AW95,FALSE)","v":0.23863636363636359},{"$f":"HLOOKUP('III Tool Overview'!$H$6,LookUpData_Pop!$B$1:$AV$269,LookUpData_Pop!BB100,FALSE)/5","v":0},{"$f":"'III Tool Overview'!$H$9/110","v":0},{"$f":"IF('III Tool Overview'!$H$10=\"Even distribution\",Targeting!C98,IF('III Tool Overview'!$H$10=\"Targetting to Q1\",Targeting!D98,IF('III Tool Overview'!$H$10=\"Targetting to Q1 & Q2\",Targeting!E98,IF('III Tool Overview'!$H$10=\"No variation in price elasticity\",Targeting!G98))))","v":0},{"$f":"IF('III Tool Overview'!$H$6=\"Orkney Health Board\",0,IF('III Tool Overview'!$H$6=\"Shetland Health Board\",0,IF('III Tool Overview'!$H$6=\"Western Isles Health Board\",0,IF('III Tool Overview'!$H$6=\"Orkney Islands Local Authority\",0,IF('III Tool Overview'!$H$6=\"Shetland Islands Local Authority\",0,IF('III Tool Overview'!$H$6=\"Eilean Siar Local Authority\",0,new_ci(2,B100,C100,D100,$C$1,G100,1,F100,E100*F100)))))))","v":0},{"$f":"IF('III Tool Overview'!$H$6=\"Orkney Health Board\",0,IF('III Tool Overview'!$H$6=\"Shetland Health Board\",0,IF('III Tool Overview'!$H$6=\"Western Isles Health Board\",0,IF('III Tool Overview'!$H$6=\"Orkney Islands Local Authority\",0,IF('III Tool Overview'!$H$6=\"Shetland Islands Local Authority\",0,IF('III Tool Overview'!$H$6=\"Eilean Siar Local Authority\",0,new_ci(2,B100,C100,D100,$C$1,G100+H100,1,F100,E100*F100)))))))","v":0},{"$f":"IF('III Tool Overview'!$H$6=\"Orkney Health Board\",0,IF('III Tool Overview'!$H$6=\"Shetland Health Board\",0,IF('III Tool Overview'!$H$6=\"Western Isles Health Board\",0,IF('III Tool Overview'!$H$6=\"Orkney Islands Local Authority\",0,IF('III Tool Overview'!$H$6=\"Shetland Islands Local Authority\",0,IF('III Tool Overview'!$H$6=\"Eilean Siar Local Authority\",0,new_ci(5,B100,C100,D100,$C$1,G100,1,F100,E100*F100)))))))","v":0},{"$f":"IF('III Tool Overview'!$H$6=\"Orkney Health Board\",0,IF('III Tool Overview'!$H$6=\"Shetland Health Board\",0,IF('III Tool Overview'!$H$6=\"Western Isles Health Board\",0,IF('III Tool Overview'!$H$6=\"Orkney Islands Local Authority\",0,IF('III Tool Overview'!$H$6=\"Shetland Islands Local Authority\",0,IF('III Tool Overview'!$H$6=\"Eilean Siar Local Authority\",0,new_ci(5,B100,C100,D100,$C$1,G100+H100,1,F100,E100*F100)))))))","v":0},{"$f":"IF('III Tool Overview'!$H$6=\"Orkney Health Board\",0,IF('III Tool Overview'!$H$6=\"Shetland Health Board\",0,IF('III Tool Overview'!$H$6=\"Western Isles Health Board\",0,IF('III Tool Overview'!$H$6=\"Orkney Islands Local Authority\",0,IF('III Tool Overview'!$H$6=\"Shetland Islands Local Authority\",0,IF('III Tool Overview'!$H$6=\"Eilean Siar Local Authority\",0,new_ci(10,B100,C100,D100,$C$1,G100,1,F100,E100*F100)))))))","v":0},{"$f":"IF('III Tool Overview'!$H$6=\"Orkney Health Board\",0,IF('III Tool Overview'!$H$6=\"Shetland Health Board\",0,IF('III Tool Overview'!$H$6=\"Western Isles Health Board\",0,IF('III Tool Overview'!$H$6=\"Orkney Islands Local Authority\",0,IF('III Tool Overview'!$H$6=\"Shetland Islands Local Authority\",0,IF('III Tool Overview'!$H$6=\"Eilean Siar Local Authority\",0,new_ci(10,B100,C100,D100,$C$1,G100+H100,1,F100,E100*F100)))))))","v":0},{"$f":"IF('III Tool Overview'!$H$6=\"Orkney Health Board\",0,IF('III Tool Overview'!$H$6=\"Shetland Health Board\",0,IF('III Tool Overview'!$H$6=\"Western Isles Health Board\",0,IF('III Tool Overview'!$H$6=\"Orkney Islands Local Authority\",0,IF('III Tool Overview'!$H$6=\"Shetland Islands Local Authority\",0,IF('III Tool Overview'!$H$6=\"Eilean Siar Local Authority\",0,new_ci(20,B100,C100,D100,$C$1,G100,1,F100,E100*F100)))))))","v":0},{"$f":"IF('III Tool Overview'!$H$6=\"Orkney Health Board\",0,IF('III Tool Overview'!$H$6=\"Shetland Health Board\",0,IF('III Tool Overview'!$H$6=\"Western Isles Health Board\",0,IF('III Tool Overview'!$H$6=\"Orkney Islands Local Authority\",0,IF('III Tool Overview'!$H$6=\"Shetland Islands Local Authority\",0,IF('III Tool Overview'!$H$6=\"Eilean Siar Local Authority\",0,new_ci(20,B100,C100,D100,$C$1,G100+H100,1,F100,E100*F100)))))))","v":0},{"$f":"IF('III Tool Overview'!$H$6=\"Orkney Health Board\",0,IF('III Tool Overview'!$H$6=\"Shetland Health Board\",0,IF('III Tool Overview'!$H$6=\"Western Isles Health Board\",0,IF('III Tool Overview'!$H$6=\"Orkney Islands Local Authority\",0,IF('III Tool Overview'!$H$6=\"Shetland Islands Local Authority\",0,IF('III Tool Overview'!$H$6=\"Eilean Siar Local Authority\",0,new_yll(2,B100,C100,D100,$C$1,G100,1,F100,E100*F100)))))))","v":0},{"$f":"IF('III Tool Overview'!$H$6=\"Orkney Health Board\",0,IF('III Tool Overview'!$H$6=\"Shetland Health Board\",0,IF('III Tool Overview'!$H$6=\"Western Isles Health Board\",0,IF('III Tool Overview'!$H$6=\"Orkney Islands Local Authority\",0,IF('III Tool Overview'!$H$6=\"Shetland Islands Local Authority\",0,IF('III Tool Overview'!$H$6=\"Eilean Siar Local Authority\",0,new_yll(2,B100,C100,D100,$C$1,G100+H100,1,F100,E100*F100)))))))","v":0},0,{"$f":"IF('III Tool Overview'!$H$6=\"Orkney Health Board\",0,IF('III Tool Overview'!$H$6=\"Shetland Health Board\",0,IF('III Tool Overview'!$H$6=\"Western Isles Health Board\",0,IF('III Tool Overview'!$H$6=\"Orkney Islands Local Authority\",0,IF('III Tool Overview'!$H$6=\"Shetland Islands Local Authority\",0,IF('III Tool Overview'!$H$6=\"Eilean Siar Local Authority\",0,new_yll(5,B100,C100,D100,$C$1,G100,1,F100,E100*F100)))))))","v":0},{"$f":"IF('III Tool Overview'!$H$6=\"Orkney Health Board\",0,IF('III Tool Overview'!$H$6=\"Shetland Health Board\",0,IF('III Tool Overview'!$H$6=\"Western Isles Health Board\",0,IF('III Tool Overview'!$H$6=\"Orkney Islands Local Authority\",0,IF('III Tool Overview'!$H$6=\"Shetland Islands Local Authority\",0,IF('III Tool Overview'!$H$6=\"Eilean Siar Local Authority\",0,new_yll(5,B100,C100,D100,$C$1,G100+H100,1,F100,E100*F100)))))))","v":0},0,{"$f":"IF('III Tool Overview'!$H$6=\"Orkney Health Board\",0,IF('III Tool Overview'!$H$6=\"Shetland Health Board\",0,IF('III Tool Overview'!$H$6=\"Western Isles Health Board\",0,IF('III Tool Overview'!$H$6=\"Orkney Islands Local Authority\",0,IF('III Tool Overview'!$H$6=\"Shetland Islands Local Authority\",0,IF('III Tool Overview'!$H$6=\"Eilean Siar Local Authority\",0,new_yll(10,B100,C100,D100,$C$1,G100,1,F100,E100*F100)))))))","v":0},{"$f":"IF('III Tool Overview'!$H$6=\"Orkney Health Board\",0,IF('III Tool Overview'!$H$6=\"Shetland Health Board\",0,IF('III Tool Overview'!$H$6=\"Western Isles Health Board\",0,IF('III Tool Overview'!$H$6=\"Orkney Islands Local Authority\",0,IF('III Tool Overview'!$H$6=\"Shetland Islands Local Authority\",0,IF('III Tool Overview'!$H$6=\"Eilean Siar Local Authority\",0,new_yll(10,B100,C100,D100,$C$1,G100+H100,1,F100,E100*F100)))))))","v":0},0,{"$f":"IF('III Tool Overview'!$H$6=\"Orkney Health Board\",0,IF('III Tool Overview'!$H$6=\"Shetland Health Board\",0,IF('III Tool Overview'!$H$6=\"Western Isles Health Board\",0,IF('III Tool Overview'!$H$6=\"Orkney Islands Local Authority\",0,IF('III Tool Overview'!$H$6=\"Shetland Islands Local Authority\",0,IF('III Tool Overview'!$H$6=\"Eilean Siar Local Authority\",0,new_yll(20,B100,C100,D100,$C$1,G100,1,F100,E100*F100)))))))","v":0},{"$f":"IF('III Tool Overview'!$H$6=\"Orkney Health Board\",0,IF('III Tool Overview'!$H$6=\"Shetland Health Board\",0,IF('III Tool Overview'!$H$6=\"Western Isles Health Board\",0,IF('III Tool Overview'!$H$6=\"Orkney Islands Local Authority\",0,IF('III Tool Overview'!$H$6=\"Shetland Islands Local Authority\",0,IF('III Tool Overview'!$H$6=\"Eilean Siar Local Authority\",0,new_yll(20,B100,C100,D100,$C$1,G100+H100,1,F100,E100*F100)))))))","v":0},0,{"$f":"IF('III Tool Overview'!$H$6=\"Orkney Health Board\",0,IF('III Tool Overview'!$H$6=\"Shetland Health Board\",0,IF('III Tool Overview'!$H$6=\"Western Isles Health Board\",0,IF('III Tool Overview'!$H$6=\"Orkney Islands Local Authority\",0,IF('III Tool Overview'!$H$6=\"Shetland Islands Local Authority\",0,IF('III Tool Overview'!$H$6=\"Eilean Siar Local Authority\",0,hosp_count(2,B100,C100,D100,$C$1,G100,1,F100,E100*F100)))))))","v":0},{"$f":"IF('III Tool Overview'!$H$6=\"Orkney Health Board\",0,IF('III Tool Overview'!$H$6=\"Shetland Health Board\",0,IF('III Tool Overview'!$H$6=\"Western Isles Health Board\",0,IF('III Tool Overview'!$H$6=\"Orkney Islands Local Authority\",0,IF('III Tool Overview'!$H$6=\"Shetland Islands Local Authority\",0,IF('III Tool Overview'!$H$6=\"Eilean Siar Local Authority\",0,hosp_count(2,B100,C100,D100,$C$1,G100+H100,1,F100,E100*F100)))))))","v":0},0,{"$f":"IF('III Tool Overview'!$H$6=\"Orkney Health Board\",0,IF('III Tool Overview'!$H$6=\"Shetland Health Board\",0,IF('III Tool Overview'!$H$6=\"Western Isles Health Board\",0,IF('III Tool Overview'!$H$6=\"Orkney Islands Local Authority\",0,IF('III Tool Overview'!$H$6=\"Shetland Islands Local Authority\",0,IF('III Tool Overview'!$H$6=\"Eilean Siar Local Authority\",0,hosp_count(5,B100,C100,D100,$C$1,G100,1,F100,E100*F100)))))))","v":0},{"$f":"IF('III Tool Overview'!$H$6=\"Orkney Health Board\",0,IF('III Tool Overview'!$H$6=\"Shetland Health Board\",0,IF('III Tool Overview'!$H$6=\"Western Isles Health Board\",0,IF('III Tool Overview'!$H$6=\"Orkney Islands Local Authority\",0,IF('III Tool Overview'!$H$6=\"Shetland Islands Local Authority\",0,IF('III Tool Overview'!$H$6=\"Eilean Siar Local Authority\",0,hosp_count(5,B100,C100,D100,$C$1,G100+H100,1,F100,E100*F100)))))))","v":0},0,{"$f":"IF('III Tool Overview'!$H$6=\"Orkney Health Board\",0,IF('III Tool Overview'!$H$6=\"Shetland Health Board\",0,IF('III Tool Overview'!$H$6=\"Western Isles Health Board\",0,IF('III Tool Overview'!$H$6=\"Orkney Islands Local Authority\",0,IF('III Tool Overview'!$H$6=\"Shetland Islands Local Authority\",0,IF('III Tool Overview'!$H$6=\"Eilean Siar Local Authority\",0,hosp_count(10,B100,C100,D100,$C$1,G100,1,F100,E100*F100)))))))","v":0},{"$f":"IF('III Tool Overview'!$H$6=\"Orkney Health Board\",0,IF('III Tool Overview'!$H$6=\"Shetland Health Board\",0,IF('III Tool Overview'!$H$6=\"Western Isles Health Board\",0,IF('III Tool Overview'!$H$6=\"Orkney Islands Local Authority\",0,IF('III Tool Overview'!$H$6=\"Shetland Islands Local Authority\",0,IF('III Tool Overview'!$H$6=\"Eilean Siar Local Authority\",0,hosp_count(10,B100,C100,D100,$C$1,G100+H100,1,F100,E100*F100)))))))","v":0},0,{"$f":"IF('III Tool Overview'!$H$6=\"Orkney Health Board\",0,IF('III Tool Overview'!$H$6=\"Shetland Health Board\",0,IF('III Tool Overview'!$H$6=\"Western Isles Health Board\",0,IF('III Tool Overview'!$H$6=\"Orkney Islands Local Authority\",0,IF('III Tool Overview'!$H$6=\"Shetland Islands Local Authority\",0,IF('III Tool Overview'!$H$6=\"Eilean Siar Local Authority\",0,hosp_count(20,B100,C100,D100,$C$1,G100,1,F100,E100*F100)))))))","v":0},{"$f":"IF('III Tool Overview'!$H$6=\"Orkney Health Board\",0,IF('III Tool Overview'!$H$6=\"Shetland Health Board\",0,IF('III Tool Overview'!$H$6=\"Western Isles Health Board\",0,IF('III Tool Overview'!$H$6=\"Orkney Islands Local Authority\",0,IF('III Tool Overview'!$H$6=\"Shetland Islands Local Authority\",0,IF('III Tool Overview'!$H$6=\"Eilean Siar Local Authority\",0,hosp_count(20,B100,C100,D100,$C$1,G100+H100,1,F100,E100*F100)))))))","v":0},0,null,0.5,5]
["Female 65-69",67.5,"female",1,{"$f":"HLOOKUP('III Tool Overview'!$H$6,Prevalence!$B$2:$AV$268,Prevalence!AW96,FALSE)","v":0.14318181818181816},{"$f":"HLOOKUP('III Tool Overview'!$H$6,LookUpData_Pop!$B$1:$AV$269,LookUpData_Pop!BB101,FALSE)/5","v":0},{"$f":"'III Tool Overview'!$H$9/110","v":0},{"$f":"IF('III Tool Overview'!$H$10=\"Even distribution\",Targeting!C99,IF('III Tool Overview'!$H$10=\"Targetting to Q1\",Targeting!D99,IF('III Tool Overview'!$H$10=\"Targetting to Q1 & Q2\",Targeting!E99,IF('III Tool Overview'!$H$10=\"No variation in price elasticity\",Targeting!G99))))","v":0},{"$f":"IF('III Tool Overview'!$H$6=\"Orkney Health Board\",0,IF('III Tool Overview'!$H$6=\"Shetland Health Board\",0,IF('III Tool Overview'!$H$6=\"Western Isles Health Board\",0,IF('III Tool Overview'!$H$6=\"Orkney Islands Local Authority\",0,IF('III Tool Overview'!$H$6=\"Shetland Islands Local Authority\",0,IF('III Tool Overview'!$H$6=\"Eilean Siar Local Authority\",0,new_ci(2,B101,C101,D101,$C$1,G101,1,F101,E101*F101)))))))","v":0},{"$f":"IF('III Tool Overview'!$H$6=\"Orkney Health Board\",0,IF('III Tool Overview'!$H$6=\"Shetland Health Board\",0,IF('III Tool Overview'!$H$6=\"Western Isles Health Board\",0,IF('III Tool Overview'!$H$6=\"Orkney Islands Local Authority\",0,IF('III Tool Overview'!$H$6=\"Shetland Islands Local Authority\",0,IF('III Tool Overview'!$H$6=\"Eilean Siar Local Authority\",0,new_ci(2,B101,C101,D101,$C$1,G101+H101,1,F101,E101*F101)))))))","v":0},{"$f":"IF('III Tool Overview'!$H$6=\"Orkney Health Board\",0,IF('III Tool Overview'!$H$6=\"Shetland Health Board\",0,IF('III Tool Overview'!$H$6=\"Western Isles Health Board\",0,IF('III Tool Overview'!$H$6=\"Orkney Islands Local Authority\",0,IF('III Tool Overview'!$H$6=\"Shetland Islands Local Authority\",0,IF('III Tool Overview'!$H$6=\"Eilean Siar Local Authority\",0,new_ci(5,B101,C101,D101,$C$1,G101,1,F101,E101*F101)))))))","v":0},{"$f":"IF('III Tool Overview'!$H$6=\"Orkney Health Board\",0,IF('III Tool Overview'!$H$6=\"Shetland Health Board\",0,IF('III Tool Overview'!$H$6=\"Western Isles Health Board\",0,IF('III Tool Overview'!$H$6=\"Orkney Islands Local Authority\",0,IF('III Tool Overview'!$H$6=\"Shetland Islands Local Authority\",0,IF('III Tool Overview'!$H$6=\"Eilean Siar Local Authority\",0,new_ci(5,B101,C101,D101,$C$1,G101+H101,1,F101,E101*F101)))))))","v":0},{"$f":"IF('III Tool Overview'!$H$6=\"Orkney Health Board\",0,IF('III Tool Overview'!$H$6=\"Shetland Health Board\",0,IF('III Tool Overview'!$H$6=\"Western Isles Health Board\",0,IF('III Tool Overview'!$H$6=\"Orkney Islands Local Authority\",0,IF('III Tool Overview'!$H$6=\"Shetland Islands Local Authority\",0,IF('III Tool Overview'!$H$6=\"Eilean Siar Local Authority\",0,new_ci(10,B101,C101,D101,$C$1,G101,1,F101,E101*F101)))))))","v":0},{"$f":"IF('III Tool Overview'!$H$6=\"Orkney Health Board\",0,IF('III Tool Overview'!$H$6=\"Shetland Health Board\",0,IF('III Tool Overview'!$H$6=\"Western Isles Health Board\",0,IF('III Tool Overview'!$H$6=\"Orkney Islands Local Authority\",0,IF('III Tool Overview'!$H$6=\"Shetland Islands Local Authority\",0,IF('III Tool Overview'!$H$6=\"Eilean Siar Local Authority\",0,new_ci(10,B101,C101,D101,$C$1,G101+H101,1,F101,E101*F101)))))))","v":0},{"$f":"IF('III Tool Overview'!$H$6=\"Orkney Health Board\",0,IF('III Tool Overview'!$H$6=\"Shetland Health Board\",0,IF('III Tool Overview'!$H$6=\"Western Isles Health Board\",0,IF('III Tool Overview'!$H$6=\"Orkney Islands Local Authority\",0,IF('III Tool Overview'!$H$6=\"Shetland Islands Local Authority\",0,IF('III Tool Overview'!$H$6=\"Eilean Siar Local Authority\",0,new_ci(20,B101,C101,D101,$C$1,G101,1,F101,E101*F101)))))))","v":0},{"$f":"IF('III Tool Overview'!$H$6=\"Orkney Health Board\",0,IF('III Tool Overview'!$H$6=\"Shetland Health Board\",0,IF('III Tool Overview'!$H$6=\"Western Isles Health Board\",0,IF('III Tool Overview'!$H$6=\"Orkney Islands Local Authority\",0,IF('III Tool Overview'!$H$6=\"Shetland Islands Local Authority\",0,IF('III Tool Overview'!$H$6=\"Eilean Siar Local Authority\",0,new_ci(20,B101,C101,D101,$C$1,G101+H101,1,F101,E101*F101)))))))","v":0},{"$f":"IF('III Tool Overview'!$H$6=\"Orkney Health Board\",0,IF('III Tool Overview'!$H$6=\"Shetland Health Board\",0,IF('III Tool Overview'!$H$6=\"Western Isles Health Board\",0,IF('III Tool Overview'!$H$6=\"Orkney Islands Local Authority\",0,IF('III Tool Overview'!$H$6=\"Shetland Islands Local Authority\",0,IF('III Tool Overview'!$H$6=\"Eilean Siar Local Authority\",0,new_yll(2,B101,C101,D101,$C$1,G101,1,F101,E101*F101)))))))","v":0},{"$f":"IF('III Tool Overview'!$H$6=\"Orkney Health Board\",0,IF('III Tool Overview'!$H$6=\"Shetland Health Board\",0,IF('III Tool Overview'!$H$6=\"Western Isles Health Board\",0,IF('III Tool Overview'!$H$6=\"Orkney Islands Local Authority\",0,IF('III Tool Overview'!$H$6=\"Shetland Islands Local Authority\",0,IF('III Tool Overview'!$H$6=\"Eilean Siar Local Authority\",0,new_yll(2,B101,C101,D101,$C$1,G101+H101,1,F101,E101*F101)))))))","v":0},0,{"$f":"IF('III Tool Overview'!$H$6=\"Orkney Health Board\",0,IF('III Tool Overview'!$H$6=\"Shetland Health Board\",0,IF('III Tool Overview'!$H$6=\"Western Isles Health Board\",0,IF('III Tool Overview'!$H$6=\"Orkney Islands Local Authority\",0,IF('III Tool Overview'!$H$6=\"Shetland Islands Local Authority\",0,IF('III Tool Overview'!$H$6=\"Eilean Siar Local Authority\",0,new_yll(5,B101,C101,D101,$C$1,G101,1,F101,E101*F101)))))))","v":0},{"$f":"IF('III Tool Overview'!$H$6=\"Orkney Health Board\",0,IF('III Tool Overview'!$H$6=\"Shetland Health Board\",0,IF('III Tool Overview'!$H$6=\"Western Isles Health Board\",0,IF('III Tool Overview'!$H$6=\"Orkney Islands Local Authority\",0,IF('III Tool Overview'!$H$6=\"Shetland Islands Local Authority\",0,IF('III Tool Overview'!$H$6=\"Eilean Siar Local Authority\",0,new_yll(5,B101,C101,D101,$C$1,G101+H101,1,F101,E101*F101)))))))","v":0},0,{"$f":"IF('III Tool Overview'!$H$6=\"Orkney Health Board\",0,IF('III Tool Overview'!$H$6=\"Shetland Health Board\",0,IF('III Tool Overview'!$H$6=\"Western Isles Health Board\",0,IF('III Tool Overview'!$H$6=\"Orkney Islands Local Authority\",0,IF('III Tool Overview'!$H$6=\"Shetland Islands Local Authority\",0,IF('III Tool Overview'!$H$6=\"Eilean Siar Local Authority\",0,new_yll(10,B101,C101,D101,$C$1,G101,1,F101,E101*F101)))))))","v":0},{"$f":"IF('III Tool Overview'!$H$6=\"Orkney Health Board\",0,IF('III Tool Overview'!$H$6=\"Shetland Health Board\",0,IF('III Tool Overview'!$H$6=\"Western Isles Health Board\",0,IF('III Tool Overview'!$H$6=\"Orkney Islands Local Authority\",0,IF('III Tool Overview'!$H$6=\"Shetland Islands Local Authority\",0,IF('III Tool Overview'!$H$6=\"Eilean Siar Local Authority\",0,new_yll(10,B101,C101,D101,$C$1,G101+H101,1,F101,E101*F101)))))))","v":0},0,{"$f":"IF('III Tool Overview'!$H$6=\"Orkney Health Board\",0,IF('III Tool Overview'!$H$6=\"Shetland Health Board\",0,IF('III Tool Overview'!$H$6=\"Western Isles Health Board\",0,IF('III Tool Overview'!$H$6=\"Orkney Islands Local Authority\",0,IF('III Tool Overview'!$H$6=\"Shetland Islands Local Authority\",0,IF('III Tool Overview'!$H$6=\"Eilean Siar Local Authority\",0,new_yll(20,B101,C101,D101,$C$1,G101,1,F101,E101*F101)))))))","v":0},{"$f":"IF('III Tool Overview'!$H$6=\"Orkney Health Board\",0,IF('III Tool Overview'!$H$6=\"Shetland Health Board\",0,IF('III Tool Overview'!$H$6=\"Western Isles Health Board\",0,IF('III Tool Overview'!$H$6=\"Orkney Islands Local Authority\",0,IF('III Tool Overview'!$H$6=\"Shetland Islands Local Authority\",0,IF('III Tool Overview'!$H$6=\"Eilean Siar Local Authority\",0,new_yll(20,B101,C101,D101,$C$1,G101+H101,1,F101,E101*F101)))))))","v":0},0,{"$f":"IF('III Tool Overview'!$H$6=\"Orkney Health Board\",0,IF('III Tool Overview'!$H$6=\"Shetland Health Board\",0,IF('III Tool Overview'!$H$6=\"Western Isles Health Board\",0,IF('III Tool Overview'!$H$6=\"Orkney Islands Local Authority\",0,IF('III Tool Overview'!$H$6=\"Shetland Islands Local Authority\",0,IF('III Tool Overview'!$H$6=\"Eilean Siar Local Authority\",0,hosp_count(2,B101,C101,D101,$C$1,G101,1,F101,E101*F101)))))))","v":0},{"$f":"IF('III Tool Overview'!$H$6=\"Orkney Health Board\",0,IF('III Tool Overview'!$H$6=\"Shetland Health Board\",0,IF('III Tool Overview'!$H$6=\"Western Isles Health Board\",0,IF('III Tool Overview'!$H$6=\"Orkney Islands Local Authority\",0,IF('III Tool Overview'!$H$6=\"Shetland Islands Local Authority\",0,IF('III Tool Overview'!$H$6=\"Eilean Siar Local Authority\",0,hosp_count(2,B101,C101,D101,$C$1,G101+H101,1,F101,E101*F101)))))))","v":0},0,{"$f":"IF('III Tool Overview'!$H$6=\"Orkney Health Board\",0,IF('III Tool Overview'!$H$6=\"Shetland Health Board\",0,IF('III Tool Overview'!$H$6=\"Western Isles Health Board\",0,IF('III Tool Overview'!$H$6=\"Orkney Islands Local Authority\",0,IF('III Tool Overview'!$H$6=\"Shetland Islands Local Authority\",0,IF('III Tool Overview'!$H$6=\"Eilean Siar Local Authority\",0,hosp_count(5,B101,C101,D101,$C$1,G101,1,F101,E101*F101)))))))","v":0},{"$f":"IF('III Tool Overview'!$H$6=\"Orkney Health Board\",0,IF('III Tool Overview'!$H$6=\"Shetland Health Board\",0,IF('III Tool Overview'!$H$6=\"Western Isles Health Board\",0,IF('III Tool Overview'!$H$6=\"Orkney Islands Local Authority\",0,IF('III Tool Overview'!$H$6=\"Shetland Islands Local Authority\",0,IF('III Tool Overview'!$H$6=\"Eilean Siar Local Authority\",0,hosp_count(5,B101,C101,D101,$C$1,G101+H101,1,F101,E101*F101)))))))","v":0},0,{"$f":"IF('III Tool Overview'!$H$6=\"Orkney Health Board\",0,IF('III Tool Overview'!$H$6=\"Shetland Health Board\",0,IF('III Tool Overview'!$H$6=\"Western Isles Health Board\",0,IF('III Tool Overview'!$H$6=\"Orkney Islands Local Authority\",0,IF('III Tool Overview'!$H$6=\"Shetland Islands Local Authority\",0,IF('III Tool Overview'!$H$6=\"Eilean Siar Local Authority\",0,hosp_count(10,B101,C101,D101,$C$1,G101,1,F101,E101*F101)))))))","v":0},{"$f":"IF('III Tool Overview'!$H$6=\"Orkney Health Board\",0,IF('III Tool Overview'!$H$6=\"Shetland Health Board\",0,IF('III Tool Overview'!$H$6=\"Western Isles Health Board\",0,IF('III Tool Overview'!$H$6=\"Orkney Islands Local Authority\",0,IF('III Tool Overview'!$H$6=\"Shetland Islands Local Authority\",0,IF('III Tool Overview'!$H$6=\"Eilean Siar Local Authority\",0,hosp_count(10,B101,C101,D101,$C$1,G101+H101,1,F101,E101*F101)))))))","v":0},0,{"$f":"IF('III Tool Overview'!$H$6=\"Orkney Health Board\",0,IF('III Tool Overview'!$H$6=\"Shetland Health Board\",0,IF('III Tool Overview'!$H$6=\"Western Isles Health Board\",0,IF('III Tool Overview'!$H$6=\"Orkney Islands Local Authority\",0,IF('III Tool Overview'!$H$6=\"Shetland Islands Local Authority\",0,IF('III Tool Overview'!$H$6=\"Eilean Siar Local Authority\",0,hosp_count(20,B101,C101,D101,$C$1,G101,1,F101,E101*F101)))))))","v":0},{"$f":"IF('III Tool Overview'!$H$6=\"Orkney Health Board\",0,IF('III Tool Overview'!$H$6=\"Shetland Health Board\",0,IF('III Tool Overview'!$H$6=\"Western Isles Health Board\",0,IF('III Tool Overview'!$H$6=\"Orkney Islands Local Authority\",0,IF('III Tool Overview'!$H$6=\"Shetland Islands Local Authority\",0,IF('III Tool Overview'!$H$6=\"Eilean Siar Local Authority\",0,hosp_count(20,B101,C101,D101,$C$1,G101+H101,1,F101,E101*F101)))))))","v":0},0,null,0.5,5]
["Female 70-74",72.5,"female",1,{"$f":"HLOOKUP('III Tool Overview'!$H$6,Prevalence!$B$2:$AV$268,Prevalence!AW97,FALSE)","v":0.14318181818181816},{"$f":"HLOOKUP('III Tool Overview'!$H$6,LookUpData_Pop!$B$1:$AV$269,LookUpData_Pop!BB102,FALSE)/5","v":0},{"$f":"'III Tool Overview'!$H$9/110","v":0},{"$f":"IF('III Tool Overview'!$H$10=\"Even distribution\",Targeting!C100,IF('III Tool Overview'!$H$10=\"Targetting to Q1\",Targeting!D100,IF('III Tool Overview'!$H$10=\"Targetting to Q1 & Q2\",Targeting!E100,IF('III Tool Overview'!$H$10=\"No variation in price elasticity\",Targeting!G100))))","v":0},{"$f":"IF('III Tool Overview'!$H$6=\"Orkney Health Board\",0,IF('III Tool Overview'!$H$6=\"Shetland Health Board\",0,IF('III Tool Overview'!$H$6=\"Western Isles Health Board\",0,IF('III Tool Overview'!$H$6=\"Orkney Islands Local Authority\",0,IF('III Tool Overview'!$H$6=\"Shetland Islands Local Authority\",0,IF('III Tool Overview'!$H$6=\"Eilean Siar Local Authority\",0,new_ci(2,B102,C102,D102,$C$1,G102,1,F102,E102*F102)))))))","v":0},{"$f":"IF('III Tool Overview'!$H$6=\"Orkney Health Board\",0,IF('III Tool Overview'!$H$6=\"Shetland Health Board\",0,IF('III Tool Overview'!$H$6=\"Western Isles Health Board\",0,IF('III Tool Overview'!$H$6=\"Orkney Islands Local Authority\",0,IF('III Tool Overview'!$H$6=\"Shetland Islands Local Authority\",0,IF('III Tool Overview'!$H$6=\"Eilean Siar Local Authority\",0,new_ci(2,B102,C102,D102,$C$1,G102+H102,1,F102,E102*F102)))))))","v":0},{"$f":"IF('III Tool Overview'!$H$6=\"Orkney Health Board\",0,IF('III Tool Overview'!$H$6=\"Shetland Health Board\",0,IF('III Tool Overview'!$H$6=\"Western Isles Health Board\",0,IF('III Tool Overview'!$H$6=\"Orkney Islands Local Authority\",0,IF('III Tool Overview'!$H$6=\"Shetland Islands Local Authority\",0,IF('III Tool Overview'!$H$6=\"Eilean Siar Local Authority\",0,new_ci(5,B102,C102,D102,$C$1,G102,1,F102,E102*F102)))))))","v":0},{"$f":"IF('III Tool Overview'!$H$6=\"Orkney Health Board\",0,IF('III Tool Overview'!$H$6=\"Shetland Health Board\",0,IF('III Tool Overview'!$H$6=\"Western Isles Health Board\",0,IF('III Tool Overview'!$H$6=\"Orkney Islands Local Authority\",0,IF('III Tool Overview'!$H$6=\"Shetland Islands Local Authority\",0,IF('III Tool Overview'!$H$6=\"Eilean Siar Local Authority\",0,new_ci(5,B102,C102,D102,$C$1,G102+H102,1,F102,E102*F102)))))))","v":0},{"$f":"IF('III Tool Overview'!$H$6=\"Orkney Health Board\",0,IF('III Tool Overview'!$H$6=\"Shetland Health Board\",0,IF('III Tool Overview'!$H$6=\"Western Isles Health Board\",0,IF('III Tool Overview'!$H$6=\"Orkney Islands Local Authority\",0,IF('III Tool Overview'!$H$6=\"Shetland Islands Local Authority\",0,IF('III Tool Overview'!$H$6=\"Eilean Siar Local Authority\",0,new_ci(10,B102,C102,D102,$C$1,G102,1,F102,E102*F102)))))))","v":0},{"$f":"IF('III Tool Overview'!$H$6=\"Orkney Health Board\",0,IF('III Tool Overview'!$H$6=\"Shetland Health Board\",0,IF('III Tool Overview'!$H$6=\"Western Isles Health Board\",0,IF('III Tool Overview'!$H$6=\"Orkney Islands Local Authority\",0,IF('III Tool Overview'!$H$6=\"Shetland Islands Local Authority\",0,IF('III Tool Overview'!$H$6=\"Eilean Siar Local Authority\",0,new_ci(10,B102,C102,D102,$C$1,G102+H102,1,F102,E102*F102)))))))","v":0},{"$f":"IF('III Tool Overview'!$H$6=\"Orkney Health Board\",0,IF('III Tool Overview'!$H$6=\"Shetland Health Board\",0,IF('III Tool Overview'!$H$6=\"Western Isles Health Board\",0,IF('III Tool Overview'!$H$6=\"Orkney Islands Local Authority\",0,IF('III Tool Overview'!$H$6=\"Shetland Islands Local Authority\",0,IF('III Tool Overview'!$H$6=\"Eilean Siar Local Authority\",0,new_ci(20,B102,C102,D102,$C$1,G102,1,F102,E102*F102)))))))","v":0},{"$f":"IF('III Tool Overview'!$H$6=\"Orkney Health Board\",0,IF('III Tool Overview'!$H$6=\"Shetland Health Board\",0,IF('III Tool Overview'!$H$6=\"Western Isles Health Board\",0,IF('III Tool Overview'!$H$6=\"Orkney Islands Local Authority\",0,IF('III Tool Overview'!$H$6=\"Shetland Islands Local Authority\",0,IF('III Tool Overview'!$H$6=\"Eilean Siar Local Authority\",0,new_ci(20,B102,C102,D102,$C$1,G102+H102,1,F102,E102*F102)))))))","v":0},{"$f":"IF('III Tool Overview'!$H$6=\"Orkney Health Board\",0,IF('III Tool Overview'!$H$6=\"Shetland Health Board\",0,IF('III Tool Overview'!$H$6=\"Western Isles Health Board\",0,IF('III Tool Overview'!$H$6=\"Orkney Islands Local Authority\",0,IF('III Tool Overview'!$H$6=\"Shetland Islands Local Authority\",0,IF('III Tool Overview'!$H$6=\"Eilean Siar Local Authority\",0,new_yll(2,B102,C102,D102,$C$1,G102,1,F102,E102*F102)))))))","v":0},{"$f":"IF('III Tool Overview'!$H$6=\"Orkney Health Board\",0,IF('III Tool Overview'!$H$6=\"Shetland Health Board\",0,IF('III Tool Overview'!$H$6=\"Western Isles Health Board\",0,IF('III Tool Overview'!$H$6=\"Orkney Islands Local Authority\",0,IF('III Tool Overview'!$H$6=\"Shetland Islands Local Authority\",0,IF('III Tool Overview'!$H$6=\"Eilean Siar Local Authority\",0,new_yll(2,B102,C102,D102,$C$1,G102+H102,1,F102,E102*F102)))))))","v":0},{"$f":"Q102-R102","v":0},{"$f":"IF('III Tool Overview'!$H$6=\"Orkney Health Board\",0,IF('III Tool Overview'!$H$6=\"Shetland Health Board\",0,IF('III Tool Overview'!$H$6=\"Western Isles Health Board\",0,IF('III Tool Overview'!$H$6=\"Orkney Islands Local Authority\",0,IF('III Tool Overview'!$H$6=\"Shetland Islands Local Authority\",0,IF('III Tool Overview'!$H$6=\"Eilean Siar Local Authority\",0,new_yll(5,B102,C102,D102,$C$1,G102,1,F102,E102*F102)))))))","v":0},{"$f":"IF('III Tool Overview'!$H$6=\"Orkney Health Board\",0,IF('III Tool Overview'!$H$6=\"Shetland Health Board\",0,IF('III Tool Overview'!$H$6=\"Western Isles Health Board\",0,IF('III Tool Overview'!$H$6=\"Orkney Islands Local Authority\",0,IF('III Tool Overview'!$H$6=\"Shetland Islands Local Authority\",0,IF('III Tool Overview'!$H$6=\"Eilean Siar Local Authority\",0,new_yll(5,B102,C102,D102,$C$1,G102+H102,1,F102,E102*F102)))))))","v":0},{"$f":"T102-U102","v":0},{"$f":"IF('III Tool Overview'!$H$6=\"Orkney Health Board\",0,IF('III Tool Overview'!$H$6=\"Shetland Health Board\",0,IF('III Tool Overview'!$H$6=\"Western Isles Health Board\",0,IF('III Tool Overview'!$H$6=\"Orkney Islands Local Authority\",0,IF('III Tool Overview'!$H$6=\"Shetland Islands Local Authority\",0,IF('III Tool Overview'!$H$6=\"Eilean Siar Local Authority\",0,new_yll(10,B102,C102,D102,$C$1,G102,1,F102,E102*F102)))))))","v":0},{"$f":"IF('III Tool Overview'!$H$6=\"Orkney Health Board\",0,IF('III Tool Overview'!$H$6=\"Shetland Health Board\",0,IF('III Tool Overview'!$H$6=\"Western Isles Health Board\",0,IF('III Tool Overview'!$H$6=\"Orkney Islands Local Authority\",0,IF('III Tool Overview'!$H$6=\"Shetland Islands Local Authority\",0,IF('III Tool Overview'!$H$6=\"Eilean Siar Local Authority\",0,new_yll(10,B102,C102,D102,$C$1,G102+H102,1,F102,E102*F102)))))))","v":0},{"$f":"W102-X102","v":0},{"$f":"IF('III Tool Overview'!$H$6=\"Orkney Health Board\",0,IF('III Tool Overview'!$H$6=\"Shetland Health Board\",0,IF('III Tool Overview'!$H$6=\"Western Isles Health Board\",0,IF('III Tool Overview'!$H$6=\"Orkney Islands Local Authority\",0,IF('III Tool Overview'!$H$6=\"Shetland Islands Local Authority\",0,IF('III Tool Overview'!$H$6=\"Eilean Siar Local Authority\",0,new_yll(20,B102,C102,D102,$C$1,G102,1,F102,E102*F102)))))))","v":0},{"$f":"IF('III Tool Overview'!$H$6=\"Orkney Health Board\",0,IF('III Tool Overview'!$H$6=\"Shetland Health Board\",0,IF('III Tool Overview'!$H$6=\"Western Isles Health Board\",0,IF('III Tool Overview'!$H$6=\"Orkney Islands Local Authority\",0,IF('III Tool Overview'!$H$6=\"Shetland Islands Local Authority\",0,IF('III Tool Overview'!$H$6=\"Eilean Siar Local Authority\",0,new_yll(20,B102,C102,D102,$C$1,G102+H102,1,F102,E102*F102)))))))","v":0},{"$f":"Z102-AA102","v":0},{"$f":"IF('III Tool Overview'!$H$6=\"Orkney Health Board\",0,IF('III Tool Overview'!$H$6=\"Shetland Health Board\",0,IF('III Tool Overview'!$H$6=\"Western Isles Health Board\",0,IF('III Tool Overview'!$H$6=\"Orkney Islands Local Authority\",0,IF('III Tool Overview'!$H$6=\"Shetland Islands Local Authority\",0,IF('III Tool Overview'!$H$6=\"Eilean Siar Local Authority\",0,hosp_count(2,B102,C102,D102,$C$1,G102,1,F102,E102*F102)))))))","v":0},{"$f":"IF('III Tool Overview'!$H$6=\"Orkney Health Board\",0,IF('III Tool Overview'!$H$6=\"Shetland Health Board\",0,IF('III Tool Overview'!$H$6=\"Western Isles Health Board\",0,IF('III Tool Overview'!$H$6=\"Orkney Islands Local Authority\",0,IF('III Tool Overview'!$H$6=\"Shetland Islands Local Authority\",0,IF('III Tool Overview'!$H$6=\"Eilean Siar Local Authority\",0,hosp_count(2,B102,C102,D102,$C$1,G102+H102,1,F102,E102*F102)))))))","v":0},{"$f":"AC102-AD102","v":0},{"$f":"IF('III Tool Overview'!$H$6=\"Orkney Health Board\",0,IF('III Tool Overview'!$H$6=\"Shetland Health Board\",0,IF('III Tool Overview'!$H$6=\"Western Isles Health Board\",0,IF('III Tool Overview'!$H$6=\"Orkney Islands Local Authority\",0,IF('III Tool Overview'!$H$6=\"Shetland Islands Local Authority\",0,IF('III Tool Overview'!$H$6=\"Eilean Siar Local Authority\",0,hosp_count(5,B102,C102,D102,$C$1,G102,1,F102,E102*F102)))))))","v":0},{"$f":"IF('III Tool Overview'!$H$6=\"Orkney Health Board\",0,IF('III Tool Overview'!$H$6=\"Shetland Health Board\",0,IF('III Tool Overview'!$H$6=\"Western Isles Health Board\",0,IF('III Tool Overview'!$H$6=\"Orkney Islands Local Authority\",0,IF('III Tool Overview'!$H$6=\"Shetland Islands Local Authority\",0,IF('III Tool Overview'!$H$6=\"Eilean Siar Local Authority\",0,hosp_count(5,B102,C102,D102,$C$1,G102+H102,1,F102,E102*F102)))))))","v":0},{"$f":"AF102-AG102","v":0},{"$f":"IF('III Tool Overview'!$H$6=\"Orkney Health Board\",0,IF('III Tool Overview'!$H$6=\"Shetland Health Board\",0,IF('III Tool Overview'!$H$6=\"Western Isles Health Board\",0,IF('III Tool Overview'!$H$6=\"Orkney Islands Local Authority\",0,IF('III Tool Overview'!$H$6=\"Shetland Islands Local Authority\",0,IF('III Tool Overview'!$H$6=\"Eilean Siar Local Authority\",0,hosp_count(10,B102,C102,D102,$C$1,G102,1,F102,E102*F102)))))))","v":0},{"$f":"IF('III Tool Overview'!$H$6=\"Orkney Health Board\",0,IF('III Tool Overview'!$H$6=\"Shetland Health Board\",0,IF('III Tool Overview'!$H$6=\"Western Isles Health Board\",0,IF('III Tool Overview'!$H$6=\"Orkney Islands Local Authority\",0,IF('III Tool Overview'!$H$6=\"Shetland Islands Local Authority\",0,IF('III Tool Overview'!$H$6=\"Eilean Siar Local Authority\",0,hosp_count(10,B102,C102,D102,$C$1,G102+H102,1,F102,E102*F102)))))))","v":0},{"$f":"AI102-AJ102","v":0},{"$f":"IF('III Tool Overview'!$H$6=\"Orkney Health Board\",0,IF('III Tool Overview'!$H$6=\"Shetland Health Board\",0,IF('III Tool Overview'!$H$6=\"Western Isles Health Board\",0,IF('III Tool Overview'!$H$6=\"Orkney Islands Local Authority\",0,IF('III Tool Overview'!$H$6=\"Shetland Islands Local Authority\",0,IF('III Tool Overview'!$H$6=\"Eilean Siar Local Authority\",0,hosp_count(20,B102,C102,D102,$C$1,G102,1,F102,E102*F102)))))))","v":0},{"$f":"IF('III Tool Overview'!$H$6=\"Orkney Health Board\",0,IF('III Tool Overview'!$H$6=\"Shetland Health Board\",0,IF('III Tool Overview'!$H$6=\"Western Isles Health Board\",0,IF('III Tool Overview'!$H$6=\"Orkney Islands Local Authority\",0,IF('III Tool Overview'!$H$6=\"Shetland Islands Local Authority\",0,IF('III Tool Overview'!$H$6=\"Eilean Siar Local Authority\",0,hosp_count(20,B102,C102,D102,$C$1,G102+H102,1,F102,E102*F102)))))))","v":0},{"$f":"AL102-AM102","v":0},null,0.5,5]
["Female 75-79",77.5,"female",1,{"$f":"HLOOKUP('III Tool Overview'!$H$6,Prevalence!$B$2:$AV$268,Prevalence!AW98,FALSE)","v":9.5454545454545459E-2},{"$f":"HLOOKUP('III Tool Overview'!$H$6,LookUpData_Pop!$B$1:$AV$269,LookUpData_Pop!BB103,FALSE)/5","v":0},{"$f":"'III Tool Overview'!$H$9/110","v":0},{"$f":"IF('III Tool Overview'!$H$10=\"Even distribution\",Targeting!C101,IF('III Tool Overview'!$H$10=\"Targetting to Q1\",Targeting!D101,IF('III Tool Overview'!$H$10=\"Targetting to Q1 & Q2\",Targeting!E101,IF('III Tool Overview'!$H$10=\"No variation in price elasticity\",Targeting!G101))))","v":0},{"$f":"IF('III Tool Overview'!$H$6=\"Orkney Health Board\",0,IF('III Tool Overview'!$H$6=\"Shetland Health Board\",0,IF('III Tool Overview'!$H$6=\"Western Isles Health Board\",0,IF('III Tool Overview'!$H$6=\"Orkney Islands Local Authority\",0,IF('III Tool Overview'!$H$6=\"Shetland Islands Local Authority\",0,IF('III Tool Overview'!$H$6=\"Eilean Siar Local Authority\",0,new_ci(2,B103,C103,D103,$C$1,G103,1,F103,E103*F103)))))))","v":0},{"$f":"IF('III Tool Overview'!$H$6=\"Orkney Health Board\",0,IF('III Tool Overview'!$H$6=\"Shetland Health Board\",0,IF('III Tool Overview'!$H$6=\"Western Isles Health Board\",0,IF('III Tool Overview'!$H$6=\"Orkney Islands Local Authority\",0,IF('III Tool Overview'!$H$6=\"Shetland Islands Local Authority\",0,IF('III Tool Overview'!$H$6=\"Eilean Siar Local Authority\",0,new_ci(2,B103,C103,D103,$C$1,G103+H103,1,F103,E103*F103)))))))","v":0},{"$f":"IF('III Tool Overview'!$H$6=\"Orkney Health Board\",0,IF('III Tool Overview'!$H$6=\"Shetland Health Board\",0,IF('III Tool Overview'!$H$6=\"Western Isles Health Board\",0,IF('III Tool Overview'!$H$6=\"Orkney Islands Local Authority\",0,IF('III Tool Overview'!$H$6=\"Shetland Islands Local Authority\",0,IF('III Tool Overview'!$H$6=\"Eilean Siar Local Authority\",0,new_ci(5,B103,C103,D103,$C$1,G103,1,F103,E103*F103)))))))","v":0},{"$f":"IF('III Tool Overview'!$H$6=\"Orkney Health Board\",0,IF('III Tool Overview'!$H$6=\"Shetland Health Board\",0,IF('III Tool Overview'!$H$6=\"Western Isles Health Board\",0,IF('III Tool Overview'!$H$6=\"Orkney Islands Local Authority\",0,IF('III Tool Overview'!$H$6=\"Shetland Islands Local Authority\",0,IF('III Tool Overview'!$H$6=\"Eilean Siar Local Authority\",0,new_ci(5,B103,C103,D103,$C$1,G103+H103,1,F103,E103*F103)))))))","v":0},{"$f":"IF('III Tool Overview'!$H$6=\"Orkney Health Board\",0,IF('III Tool Overview'!$H$6=\"Shetland Health Board\",0,IF('III Tool Overview'!$H$6=\"Western Isles Health Board\",0,IF('III Tool Overview'!$H$6=\"Orkney Islands Local Authority\",0,IF('III Tool Overview'!$H$6=\"Shetland Islands Local Authority\",0,IF('III Tool Overview'!$H$6=\"Eilean Siar Local Authority\",0,new_ci(10,B103,C103,D103,$C$1,G103,1,F103,E103*F103)))))))","v":0},{"$f":"IF('III Tool Overview'!$H$6=\"Orkney Health Board\",0,IF('III Tool Overview'!$H$6=\"Shetland Health Board\",0,IF('III Tool Overview'!$H$6=\"Western Isles Health Board\",0,IF('III Tool Overview'!$H$6=\"Orkney Islands Local Authority\",0,IF('III Tool Overview'!$H$6=\"Shetland Islands Local Authority\",0,IF('III Tool Overview'!$H$6=\"Eilean Siar Local Authority\",0,new_ci(10,B103,C103,D103,$C$1,G103+H103,1,F103,E103*F103)))))))","v":0},{"$f":"IF('III Tool Overview'!$H$6=\"Orkney Health Board\",0,IF('III Tool Overview'!$H$6=\"Shetland Health Board\",0,IF('III Tool Overview'!$H$6=\"Western Isles Health Board\",0,IF('III Tool Overview'!$H$6=\"Orkney Islands Local Authority\",0,IF('III Tool Overview'!$H$6=\"Shetland Islands Local Authority\",0,IF('III Tool Overview'!$H$6=\"Eilean Siar Local Authority\",0,new_ci(20,B103,C103,D103,$C$1,G103,1,F103,E103*F103)))))))","v":0},{"$f":"IF('III Tool Overview'!$H$6=\"Orkney Health Board\",0,IF('III Tool Overview'!$H$6=\"Shetland Health Board\",0,IF('III Tool Overview'!$H$6=\"Western Isles Health Board\",0,IF('III Tool Overview'!$H$6=\"Orkney Islands Local Authority\",0,IF('III Tool Overview'!$H$6=\"Shetland Islands Local Authority\",0,IF('III Tool Overview'!$H$6=\"Eilean Siar Local Authority\",0,new_ci(20,B103,C103,D103,$C$1,G103+H103,1,F103,E103*F103)))))))","v":0},{"$f":"IF('III Tool Overview'!$H$6=\"Orkney Health Board\",0,IF('III Tool Overview'!$H$6=\"Shetland Health Board\",0,IF('III Tool Overview'!$H$6=\"Western Isles Health Board\",0,IF('III Tool Overview'!$H$6=\"Orkney Islands Local Authority\",0,IF('III Tool Overview'!$H$6=\"Shetland Islands Local Authority\",0,IF('III Tool Overview'!$H$6=\"Eilean Siar Local Authority\",0,new_yll(2,B103,C103,D103,$C$1,G103,1,F103,E103*F103)))))))","v":0},{"$f":"IF('III Tool Overview'!$H$6=\"Orkney Health Board\",0,IF('III Tool Overview'!$H$6=\"Shetland Health Board\",0,IF('III Tool Overview'!$H$6=\"Western Isles Health Board\",0,IF('III Tool Overview'!$H$6=\"Orkney Islands Local Authority\",0,IF('III Tool Overview'!$H$6=\"Shetland Islands Local Authority\",0,IF('III Tool Overview'!$H$6=\"Eilean Siar Local Authority\",0,new_yll(2,B103,C103,D103,$C$1,G103+H103,1,F103,E103*F103)))))))","v":0},0,{"$f":"IF('III Tool Overview'!$H$6=\"Orkney Health Board\",0,IF('III Tool Overview'!$H$6=\"Shetland Health Board\",0,IF('III Tool Overview'!$H$6=\"Western Isles Health Board\",0,IF('III Tool Overview'!$H$6=\"Orkney Islands Local Authority\",0,IF('III Tool Overview'!$H$6=\"Shetland Islands Local Authority\",0,IF('III Tool Overview'!$H$6=\"Eilean Siar Local Authority\",0,new_yll(5,B103,C103,D103,$C$1,G103,1,F103,E103*F103)))))))","v":0},{"$f":"IF('III Tool Overview'!$H$6=\"Orkney Health Board\",0,IF('III Tool Overview'!$H$6=\"Shetland Health Board\",0,IF('III Tool Overview'!$H$6=\"Western Isles Health Board\",0,IF('III Tool Overview'!$H$6=\"Orkney Islands Local Authority\",0,IF('III Tool Overview'!$H$6=\"Shetland Islands Local Authority\",0,IF('III Tool Overview'!$H$6=\"Eilean Siar Local Authority\",0,new_yll(5,B103,C103,D103,$C$1,G103+H103,1,F103,E103*F103)))))))","v":0},0,{"$f":"IF('III Tool Overview'!$H$6=\"Orkney Health Board\",0,IF('III Tool Overview'!$H$6=\"Shetland Health Board\",0,IF('III Tool Overview'!$H$6=\"Western Isles Health Board\",0,IF('III Tool Overview'!$H$6=\"Orkney Islands Local Authority\",0,IF('III Tool Overview'!$H$6=\"Shetland Islands Local Authority\",0,IF('III Tool Overview'!$H$6=\"Eilean Siar Local Authority\",0,new_yll(10,B103,C103,D103,$C$1,G103,1,F103,E103*F103)))))))","v":0},{"$f":"IF('III Tool Overview'!$H$6=\"Orkney Health Board\",0,IF('III Tool Overview'!$H$6=\"Shetland Health Board\",0,IF('III Tool Overview'!$H$6=\"Western Isles Health Board\",0,IF('III Tool Overview'!$H$6=\"Orkney Islands Local Authority\",0,IF('III Tool Overview'!$H$6=\"Shetland Islands Local Authority\",0,IF('III Tool Overview'!$H$6=\"Eilean Siar Local Authority\",0,new_yll(10,B103,C103,D103,$C$1,G103+H103,1,F103,E103*F103)))))))","v":0},0,{"$f":"IF('III Tool Overview'!$H$6=\"Orkney Health Board\",0,IF('III Tool Overview'!$H$6=\"Shetland Health Board\",0,IF('III Tool Overview'!$H$6=\"Western Isles Health Board\",0,IF('III Tool Overview'!$H$6=\"Orkney Islands Local Authority\",0,IF('III Tool Overview'!$H$6=\"Shetland Islands Local Authority\",0,IF('III Tool Overview'!$H$6=\"Eilean Siar Local Authority\",0,new_yll(20,B103,C103,D103,$C$1,G103,1,F103,E103*F103)))))))","v":0},{"$f":"IF('III Tool Overview'!$H$6=\"Orkney Health Board\",0,IF('III Tool Overview'!$H$6=\"Shetland Health Board\",0,IF('III Tool Overview'!$H$6=\"Western Isles Health Board\",0,IF('III Tool Overview'!$H$6=\"Orkney Islands Local Authority\",0,IF('III Tool Overview'!$H$6=\"Shetland Islands Local Authority\",0,IF('III Tool Overview'!$H$6=\"Eilean Siar Local Authority\",0,new_yll(20,B103,C103,D103,$C$1,G103+H103,1,F103,E103*F103)))))))","v":0},0,{"$f":"IF('III Tool Overview'!$H$6=\"Orkney Health Board\",0,IF('III Tool Overview'!$H$6=\"Shetland Health Board\",0,IF('III Tool Overview'!$H$6=\"Western Isles Health Board\",0,IF('III Tool Overview'!$H$6=\"Orkney Islands Local Authority\",0,IF('III Tool Overview'!$H$6=\"Shetland Islands Local Authority\",0,IF('III Tool Overview'!$H$6=\"Eilean Siar Local Authority\",0,hosp_count(2,B103,C103,D103,$C$1,G103,1,F103,E103*F103)))))))","v":0},{"$f":"IF('III Tool Overview'!$H$6=\"Orkney Health Board\",0,IF('III Tool Overview'!$H$6=\"Shetland Health Board\",0,IF('III Tool Overview'!$H$6=\"Western Isles Health Board\",0,IF('III Tool Overview'!$H$6=\"Orkney Islands Local Authority\",0,IF('III Tool Overview'!$H$6=\"Shetland Islands Local Authority\",0,IF('III Tool Overview'!$H$6=\"Eilean Siar Local Authority\",0,hosp_count(2,B103,C103,D103,$C$1,G103+H103,1,F103,E103*F103)))))))","v":0},0,{"$f":"IF('III Tool Overview'!$H$6=\"Orkney Health Board\",0,IF('III Tool Overview'!$H$6=\"Shetland Health Board\",0,IF('III Tool Overview'!$H$6=\"Western Isles Health Board\",0,IF('III Tool Overview'!$H$6=\"Orkney Islands Local Authority\",0,IF('III Tool Overview'!$H$6=\"Shetland Islands Local Authority\",0,IF('III Tool Overview'!$H$6=\"Eilean Siar Local Authority\",0,hosp_count(5,B103,C103,D103,$C$1,G103,1,F103,E103*F103)))))))","v":0},{"$f":"IF('III Tool Overview'!$H$6=\"Orkney Health Board\",0,IF('III Tool Overview'!$H$6=\"Shetland Health Board\",0,IF('III Tool Overview'!$H$6=\"Western Isles Health Board\",0,IF('III Tool Overview'!$H$6=\"Orkney Islands Local Authority\",0,IF('III Tool Overview'!$H$6=\"Shetland Islands Local Authority\",0,IF('III Tool Overview'!$H$6=\"Eilean Siar Local Authority\",0,hosp_count(5,B103,C103,D103,$C$1,G103+H103,1,F103,E103*F103)))))))","v":0},0,{"$f":"IF('III Tool Overview'!$H$6=\"Orkney Health Board\",0,IF('III Tool Overview'!$H$6=\"Shetland Health Board\",0,IF('III Tool Overview'!$H$6=\"Western Isles Health Board\",0,IF('III Tool Overview'!$H$6=\"Orkney Islands Local Authority\",0,IF('III Tool Overview'!$H$6=\"Shetland Islands Local Authority\",0,IF('III Tool Overview'!$H$6=\"Eilean Siar Local Authority\",0,hosp_count(10,B103,C103,D103,$C$1,G103,1,F103,E103*F103)))))))","v":0},{"$f":"IF('III Tool Overview'!$H$6=\"Orkney Health Board\",0,IF('III Tool Overview'!$H$6=\"Shetland Health Board\",0,IF('III Tool Overview'!$H$6=\"Western Isles Health Board\",0,IF('III Tool Overview'!$H$6=\"Orkney Islands Local Authority\",0,IF('III Tool Overview'!$H$6=\"Shetland Islands Local Authority\",0,IF('III Tool Overview'!$H$6=\"Eilean Siar Local Authority\",0,hosp_count(10,B103,C103,D103,$C$1,G103+H103,1,F103,E103*F103)))))))","v":0},0,{"$f":"IF('III Tool Overview'!$H$6=\"Orkney Health Board\",0,IF('III Tool Overview'!$H$6=\"Shetland Health Board\",0,IF('III Tool Overview'!$H$6=\"Western Isles Health Board\",0,IF('III Tool Overview'!$H$6=\"Orkney Islands Local Authority\",0,IF('III Tool Overview'!$H$6=\"Shetland Islands Local Authority\",0,IF('III Tool Overview'!$H$6=\"Eilean Siar Local Authority\",0,hosp_count(20,B103,C103,D103,$C$1,G103,1,F103,E103*F103)))))))","v":0},{"$f":"IF('III Tool Overview'!$H$6=\"Orkney Health Board\",0,IF('III Tool Overview'!$H$6=\"Shetland Health Board\",0,IF('III Tool Overview'!$H$6=\"Western Isles Health Board\",0,IF('III Tool Overview'!$H$6=\"Orkney Islands Local Authority\",0,IF('III Tool Overview'!$H$6=\"Shetland Islands Local Authority\",0,IF('III Tool Overview'!$H$6=\"Eilean Siar Local Authority\",0,hosp_count(20,B103,C103,D103,$C$1,G103+H103,1,F103,E103*F103)))))))","v":0},0,null,0.5,5]
["Female 80-84",82.5,"female",1,{"$f":"HLOOKUP('III Tool Overview'!$H$6,Prevalence!$B$2:$AV$268,Prevalence!AW99,FALSE)","v":9.5454545454545459E-2},{"$f":"HLOOKUP('III Tool Overview'!$H$6,LookUpData_Pop!$B$1:$AV$269,LookUpData_Pop!BB104,FALSE)/5","v":0},{"$f":"'III Tool Overview'!$H$9/110","v":0},{"$f":"IF('III Tool Overview'!$H$10=\"Even distribution\",Targeting!C102,IF('III Tool Overview'!$H$10=\"Targetting to Q1\",Targeting!D102,IF('III Tool Overview'!$H$10=\"Targetting to Q1 & Q2\",Targeting!E102,IF('III Tool Overview'!$H$10=\"No variation in price elasticity\",Targeting!G102))))","v":0},{"$f":"IF('III Tool Overview'!$H$6=\"Orkney Health Board\",0,IF('III Tool Overview'!$H$6=\"Shetland Health Board\",0,IF('III Tool Overview'!$H$6=\"Western Isles Health Board\",0,IF('III Tool Overview'!$H$6=\"Orkney Islands Local Authority\",0,IF('III Tool Overview'!$H$6=\"Shetland Islands Local Authority\",0,IF('III Tool Overview'!$H$6=\"Eilean Siar Local Authority\",0,new_ci(2,B104,C104,D104,$C$1,G104,1,F104,E104*F104)))))))","v":0},{"$f":"IF('III Tool Overview'!$H$6=\"Orkney Health Board\",0,IF('III Tool Overview'!$H$6=\"Shetland Health Board\",0,IF('III Tool Overview'!$H$6=\"Western Isles Health Board\",0,IF('III Tool Overview'!$H$6=\"Orkney Islands Local Authority\",0,IF('III Tool Overview'!$H$6=\"Shetland Islands Local Authority\",0,IF('III Tool Overview'!$H$6=\"Eilean Siar Local Authority\",0,new_ci(2,B104,C104,D104,$C$1,G104+H104,1,F104,E104*F104)))))))","v":0},{"$f":"IF('III Tool Overview'!$H$6=\"Orkney Health Board\",0,IF('III Tool Overview'!$H$6=\"Shetland Health Board\",0,IF('III Tool Overview'!$H$6=\"Western Isles Health Board\",0,IF('III Tool Overview'!$H$6=\"Orkney Islands Local Authority\",0,IF('III Tool Overview'!$H$6=\"Shetland Islands Local Authority\",0,IF('III Tool Overview'!$H$6=\"Eilean Siar Local Authority\",0,new_ci(5,B104,C104,D104,$C$1,G104,1,F104,E104*F104)))))))","v":0},{"$f":"IF('III Tool Overview'!$H$6=\"Orkney Health Board\",0,IF('III Tool Overview'!$H$6=\"Shetland Health Board\",0,IF('III Tool Overview'!$H$6=\"Western Isles Health Board\",0,IF('III Tool Overview'!$H$6=\"Orkney Islands Local Authority\",0,IF('III Tool Overview'!$H$6=\"Shetland Islands Local Authority\",0,IF('III Tool Overview'!$H$6=\"Eilean Siar Local Authority\",0,new_ci(5,B104,C104,D104,$C$1,G104+H104,1,F104,E104*F104)))))))","v":0},{"$f":"IF('III Tool Overview'!$H$6=\"Orkney Health Board\",0,IF('III Tool Overview'!$H$6=\"Shetland Health Board\",0,IF('III Tool Overview'!$H$6=\"Western Isles Health Board\",0,IF('III Tool Overview'!$H$6=\"Orkney Islands Local Authority\",0,IF('III Tool Overview'!$H$6=\"Shetland Islands Local Authority\",0,IF('III Tool Overview'!$H$6=\"Eilean Siar Local Authority\",0,new_ci(10,B104,C104,D104,$C$1,G104,1,F104,E104*F104)))))))","v":0},{"$f":"IF('III Tool Overview'!$H$6=\"Orkney Health Board\",0,IF('III Tool Overview'!$H$6=\"Shetland Health Board\",0,IF('III Tool Overview'!$H$6=\"Western Isles Health Board\",0,IF('III Tool Overview'!$H$6=\"Orkney Islands Local Authority\",0,IF('III Tool Overview'!$H$6=\"Shetland Islands Local Authority\",0,IF('III Tool Overview'!$H$6=\"Eilean Siar Local Authority\",0,new_ci(10,B104,C104,D104,$C$1,G104+H104,1,F104,E104*F104)))))))","v":0},{"$f":"IF('III Tool Overview'!$H$6=\"Orkney Health Board\",0,IF('III Tool Overview'!$H$6=\"Shetland Health Board\",0,IF('III Tool Overview'!$H$6=\"Western Isles Health Board\",0,IF('III Tool Overview'!$H$6=\"Orkney Islands Local Authority\",0,IF('III Tool Overview'!$H$6=\"Shetland Islands Local Authority\",0,IF('III Tool Overview'!$H$6=\"Eilean Siar Local Authority\",0,new_ci(20,B104,C104,D104,$C$1,G104,1,F104,E104*F104)))))))","v":0},{"$f":"IF('III Tool Overview'!$H$6=\"Orkney Health Board\",0,IF('III Tool Overview'!$H$6=\"Shetland Health Board\",0,IF('III Tool Overview'!$H$6=\"Western Isles Health Board\",0,IF('III Tool Overview'!$H$6=\"Orkney Islands Local Authority\",0,IF('III Tool Overview'!$H$6=\"Shetland Islands Local Authority\",0,IF('III Tool Overview'!$H$6=\"Eilean Siar Local Authority\",0,new_ci(20,B104,C104,D104,$C$1,G104+H104,1,F104,E104*F104)))))))","v":0},{"$f":"IF('III Tool Overview'!$H$6=\"Orkney Health Board\",0,IF('III Tool Overview'!$H$6=\"Shetland Health Board\",0,IF('III Tool Overview'!$H$6=\"Western Isles Health Board\",0,IF('III Tool Overview'!$H$6=\"Orkney Islands Local Authority\",0,IF('III Tool Overview'!$H$6=\"Shetland Islands Local Authority\",0,IF('III Tool Overview'!$H$6=\"Eilean Siar Local Authority\",0,new_yll(2,B104,C104,D104,$C$1,G104,1,F104,E104*F104)))))))","v":0},{"$f":"IF('III Tool Overview'!$H$6=\"Orkney Health Board\",0,IF('III Tool Overview'!$H$6=\"Shetland Health Board\",0,IF('III Tool Overview'!$H$6=\"Western Isles Health Board\",0,IF('III Tool Overview'!$H$6=\"Orkney Islands Local Authority\",0,IF('III Tool Overview'!$H$6=\"Shetland Islands Local Authority\",0,IF('III Tool Overview'!$H$6=\"Eilean Siar Local Authority\",0,new_yll(2,B104,C104,D104,$C$1,G104+H104,1,F104,E104*F104)))))))","v":0},0,{"$f":"IF('III Tool Overview'!$H$6=\"Orkney Health Board\",0,IF('III Tool Overview'!$H$6=\"Shetland Health Board\",0,IF('III Tool Overview'!$H$6=\"Western Isles Health Board\",0,IF('III Tool Overview'!$H$6=\"Orkney Islands Local Authority\",0,IF('III Tool Overview'!$H$6=\"Shetland Islands Local Authority\",0,IF('III Tool Overview'!$H$6=\"Eilean Siar Local Authority\",0,new_yll(5,B104,C104,D104,$C$1,G104,1,F104,E104*F104)))))))","v":0},{"$f":"IF('III Tool Overview'!$H$6=\"Orkney Health Board\",0,IF('III Tool Overview'!$H$6=\"Shetland Health Board\",0,IF('III Tool Overview'!$H$6=\"Western Isles Health Board\",0,IF('III Tool Overview'!$H$6=\"Orkney Islands Local Authority\",0,IF('III Tool Overview'!$H$6=\"Shetland Islands Local Authority\",0,IF('III Tool Overview'!$H$6=\"Eilean Siar Local Authority\",0,new_yll(5,B104,C104,D104,$C$1,G104+H104,1,F104,E104*F104)))))))","v":0},0,{"$f":"IF('III Tool Overview'!$H$6=\"Orkney Health Board\",0,IF('III Tool Overview'!$H$6=\"Shetland Health Board\",0,IF('III Tool Overview'!$H$6=\"Western Isles Health Board\",0,IF('III Tool Overview'!$H$6=\"Orkney Islands Local Authority\",0,IF('III Tool Overview'!$H$6=\"Shetland Islands Local Authority\",0,IF('III Tool Overview'!$H$6=\"Eilean Siar Local Authority\",0,new_yll(10,B104,C104,D104,$C$1,G104,1,F104,E104*F104)))))))","v":0},{"$f":"IF('III Tool Overview'!$H$6=\"Orkney Health Board\",0,IF('III Tool Overview'!$H$6=\"Shetland Health Board\",0,IF('III Tool Overview'!$H$6=\"Western Isles Health Board\",0,IF('III Tool Overview'!$H$6=\"Orkney Islands Local Authority\",0,IF('III Tool Overview'!$H$6=\"Shetland Islands Local Authority\",0,IF('III Tool Overview'!$H$6=\"Eilean Siar Local Authority\",0,new_yll(10,B104,C104,D104,$C$1,G104+H104,1,F104,E104*F104)))))))","v":0},0,{"$f":"IF('III Tool Overview'!$H$6=\"Orkney Health Board\",0,IF('III Tool Overview'!$H$6=\"Shetland Health Board\",0,IF('III Tool Overview'!$H$6=\"Western Isles Health Board\",0,IF('III Tool Overview'!$H$6=\"Orkney Islands Local Authority\",0,IF('III Tool Overview'!$H$6=\"Shetland Islands Local Authority\",0,IF('III Tool Overview'!$H$6=\"Eilean Siar Local Authority\",0,new_yll(20,B104,C104,D104,$C$1,G104,1,F104,E104*F104)))))))","v":0},{"$f":"IF('III Tool Overview'!$H$6=\"Orkney Health Board\",0,IF('III Tool Overview'!$H$6=\"Shetland Health Board\",0,IF('III Tool Overview'!$H$6=\"Western Isles Health Board\",0,IF('III Tool Overview'!$H$6=\"Orkney Islands Local Authority\",0,IF('III Tool Overview'!$H$6=\"Shetland Islands Local Authority\",0,IF('III Tool Overview'!$H$6=\"Eilean Siar Local Authority\",0,new_yll(20,B104,C104,D104,$C$1,G104+H104,1,F104,E104*F104)))))))","v":0},0,{"$f":"IF('III Tool Overview'!$H$6=\"Orkney Health Board\",0,IF('III Tool Overview'!$H$6=\"Shetland Health Board\",0,IF('III Tool Overview'!$H$6=\"Western Isles Health Board\",0,IF('III Tool Overview'!$H$6=\"Orkney Islands Local Authority\",0,IF('III Tool Overview'!$H$6=\"Shetland Islands Local Authority\",0,IF('III Tool Overview'!$H$6=\"Eilean Siar Local Authority\",0,hosp_count(2,B104,C104,D104,$C$1,G104,1,F104,E104*F104)))))))","v":0},{"$f":"IF('III Tool Overview'!$H$6=\"Orkney Health Board\",0,IF('III Tool Overview'!$H$6=\"Shetland Health Board\",0,IF('III Tool Overview'!$H$6=\"Western Isles Health Board\",0,IF('III Tool Overview'!$H$6=\"Orkney Islands Local Authority\",0,IF('III Tool Overview'!$H$6=\"Shetland Islands Local Authority\",0,IF('III Tool Overview'!$H$6=\"Eilean Siar Local Authority\",0,hosp_count(2,B104,C104,D104,$C$1,G104+H104,1,F104,E104*F104)))))))","v":0},0,{"$f":"IF('III Tool Overview'!$H$6=\"Orkney Health Board\",0,IF('III Tool Overview'!$H$6=\"Shetland Health Board\",0,IF('III Tool Overview'!$H$6=\"Western Isles Health Board\",0,IF('III Tool Overview'!$H$6=\"Orkney Islands Local Authority\",0,IF('III Tool Overview'!$H$6=\"Shetland Islands Local Authority\",0,IF('III Tool Overview'!$H$6=\"Eilean Siar Local Authority\",0,hosp_count(5,B104,C104,D104,$C$1,G104,1,F104,E104*F104)))))))","v":0},{"$f":"IF('III Tool Overview'!$H$6=\"Orkney Health Board\",0,IF('III Tool Overview'!$H$6=\"Shetland Health Board\",0,IF('III Tool Overview'!$H$6=\"Western Isles Health Board\",0,IF('III Tool Overview'!$H$6=\"Orkney Islands Local Authority\",0,IF('III Tool Overview'!$H$6=\"Shetland Islands Local Authority\",0,IF('III Tool Overview'!$H$6=\"Eilean Siar Local Authority\",0,hosp_count(5,B104,C104,D104,$C$1,G104+H104,1,F104,E104*F104)))))))","v":0},0,{"$f":"IF('III Tool Overview'!$H$6=\"Orkney Health Board\",0,IF('III Tool Overview'!$H$6=\"Shetland Health Board\",0,IF('III Tool Overview'!$H$6=\"Western Isles Health Board\",0,IF('III Tool Overview'!$H$6=\"Orkney Islands Local Authority\",0,IF('III Tool Overview'!$H$6=\"Shetland Islands Local Authority\",0,IF('III Tool Overview'!$H$6=\"Eilean Siar Local Authority\",0,hosp_count(10,B104,C104,D104,$C$1,G104,1,F104,E104*F104)))))))","v":0},{"$f":"IF('III Tool Overview'!$H$6=\"Orkney Health Board\",0,IF('III Tool Overview'!$H$6=\"Shetland Health Board\",0,IF('III Tool Overview'!$H$6=\"Western Isles Health Board\",0,IF('III Tool Overview'!$H$6=\"Orkney Islands Local Authority\",0,IF('III Tool Overview'!$H$6=\"Shetland Islands Local Authority\",0,IF('III Tool Overview'!$H$6=\"Eilean Siar Local Authority\",0,hosp_count(10,B104,C104,D104,$C$1,G104+H104,1,F104,E104*F104)))))))","v":0},0,{"$f":"IF('III Tool Overview'!$H$6=\"Orkney Health Board\",0,IF('III Tool Overview'!$H$6=\"Shetland Health Board\",0,IF('III Tool Overview'!$H$6=\"Western Isles Health Board\",0,IF('III Tool Overview'!$H$6=\"Orkney Islands Local Authority\",0,IF('III Tool Overview'!$H$6=\"Shetland Islands Local Authority\",0,IF('III Tool Overview'!$H$6=\"Eilean Siar Local Authority\",0,hosp_count(20,B104,C104,D104,$C$1,G104,1,F104,E104*F104)))))))","v":0},{"$f":"IF('III Tool Overview'!$H$6=\"Orkney Health Board\",0,IF('III Tool Overview'!$H$6=\"Shetland Health Board\",0,IF('III Tool Overview'!$H$6=\"Western Isles Health Board\",0,IF('III Tool Overview'!$H$6=\"Orkney Islands Local Authority\",0,IF('III Tool Overview'!$H$6=\"Shetland Islands Local Authority\",0,IF('III Tool Overview'!$H$6=\"Eilean Siar Local Authority\",0,hosp_count(20,B104,C104,D104,$C$1,G104+H104,1,F104,E104*F104)))))))","v":0},0,null,0.5,5]
["Female 85-89",87.5,"female",1,{"$f":"HLOOKUP('III Tool Overview'!$H$6,Prevalence!$B$2:$AV$268,Prevalence!AW100,FALSE)","v":9.5454545454545459E-2},{"$f":"HLOOKUP('III Tool Overview'!$H$6,LookUpData_Pop!$B$1:$AV$269,LookUpData_Pop!BB105,FALSE)/5","v":0},{"$f":"'III Tool Overview'!$H$9/110","v":0},{"$f":"IF('III Tool Overview'!$H$10=\"Even distribution\",Targeting!C103,IF('III Tool Overview'!$H$10=\"Targetting to Q1\",Targeting!D103,IF('III Tool Overview'!$H$10=\"Targetting to Q1 & Q2\",Targeting!E103,IF('III Tool Overview'!$H$10=\"No variation in price elasticity\",Targeting!G103))))","v":0},{"$f":"IF('III Tool Overview'!$H$6=\"Orkney Health Board\",0,IF('III Tool Overview'!$H$6=\"Shetland Health Board\",0,IF('III Tool Overview'!$H$6=\"Western Isles Health Board\",0,IF('III Tool Overview'!$H$6=\"Orkney Islands Local Authority\",0,IF('III Tool Overview'!$H$6=\"Shetland Islands Local Authority\",0,IF('III Tool Overview'!$H$6=\"Eilean Siar Local Authority\",0,new_ci(2,B105,C105,D105,$C$1,G105,1,F105,E105*F105)))))))","v":0},{"$f":"IF('III Tool Overview'!$H$6=\"Orkney Health Board\",0,IF('III Tool Overview'!$H$6=\"Shetland Health Board\",0,IF('III Tool Overview'!$H$6=\"Western Isles Health Board\",0,IF('III Tool Overview'!$H$6=\"Orkney Islands Local Authority\",0,IF('III Tool Overview'!$H$6=\"Shetland Islands Local Authority\",0,IF('III Tool Overview'!$H$6=\"Eilean Siar Local Authority\",0,new_ci(2,B105,C105,D105,$C$1,G105+H105,1,F105,E105*F105)))))))","v":0},{"$f":"IF('III Tool Overview'!$H$6=\"Orkney Health Board\",0,IF('III Tool Overview'!$H$6=\"Shetland Health Board\",0,IF('III Tool Overview'!$H$6=\"Western Isles Health Board\",0,IF('III Tool Overview'!$H$6=\"Orkney Islands Local Authority\",0,IF('III Tool Overview'!$H$6=\"Shetland Islands Local Authority\",0,IF('III Tool Overview'!$H$6=\"Eilean Siar Local Authority\",0,new_ci(5,B105,C105,D105,$C$1,G105,1,F105,E105*F105)))))))","v":0},{"$f":"IF('III Tool Overview'!$H$6=\"Orkney Health Board\",0,IF('III Tool Overview'!$H$6=\"Shetland Health Board\",0,IF('III Tool Overview'!$H$6=\"Western Isles Health Board\",0,IF('III Tool Overview'!$H$6=\"Orkney Islands Local Authority\",0,IF('III Tool Overview'!$H$6=\"Shetland Islands Local Authority\",0,IF('III Tool Overview'!$H$6=\"Eilean Siar Local Authority\",0,new_ci(5,B105,C105,D105,$C$1,G105+H105,1,F105,E105*F105)))))))","v":0},{"$f":"IF('III Tool Overview'!$H$6=\"Orkney Health Board\",0,IF('III Tool Overview'!$H$6=\"Shetland Health Board\",0,IF('III Tool Overview'!$H$6=\"Western Isles Health Board\",0,IF('III Tool Overview'!$H$6=\"Orkney Islands Local Authority\",0,IF('III Tool Overview'!$H$6=\"Shetland Islands Local Authority\",0,IF('III Tool Overview'!$H$6=\"Eilean Siar Local Authority\",0,new_ci(10,B105,C105,D105,$C$1,G105,1,F105,E105*F105)))))))","v":0},{"$f":"IF('III Tool Overview'!$H$6=\"Orkney Health Board\",0,IF('III Tool Overview'!$H$6=\"Shetland Health Board\",0,IF('III Tool Overview'!$H$6=\"Western Isles Health Board\",0,IF('III Tool Overview'!$H$6=\"Orkney Islands Local Authority\",0,IF('III Tool Overview'!$H$6=\"Shetland Islands Local Authority\",0,IF('III Tool Overview'!$H$6=\"Eilean Siar Local Authority\",0,new_ci(10,B105,C105,D105,$C$1,G105+H105,1,F105,E105*F105)))))))","v":0},{"$f":"IF('III Tool Overview'!$H$6=\"Orkney Health Board\",0,IF('III Tool Overview'!$H$6=\"Shetland Health Board\",0,IF('III Tool Overview'!$H$6=\"Western Isles Health Board\",0,IF('III Tool Overview'!$H$6=\"Orkney Islands Local Authority\",0,IF('III Tool Overview'!$H$6=\"Shetland Islands Local Authority\",0,IF('III Tool Overview'!$H$6=\"Eilean Siar Local Authority\",0,new_ci(20,B105,C105,D105,$C$1,G105,1,F105,E105*F105)))))))","v":0},{"$f":"IF('III Tool Overview'!$H$6=\"Orkney Health Board\",0,IF('III Tool Overview'!$H$6=\"Shetland Health Board\",0,IF('III Tool Overview'!$H$6=\"Western Isles Health Board\",0,IF('III Tool Overview'!$H$6=\"Orkney Islands Local Authority\",0,IF('III Tool Overview'!$H$6=\"Shetland Islands Local Authority\",0,IF('III Tool Overview'!$H$6=\"Eilean Siar Local Authority\",0,new_ci(20,B105,C105,D105,$C$1,G105+H105,1,F105,E105*F105)))))))","v":0},{"$f":"IF('III Tool Overview'!$H$6=\"Orkney Health Board\",0,IF('III Tool Overview'!$H$6=\"Shetland Health Board\",0,IF('III Tool Overview'!$H$6=\"Western Isles Health Board\",0,IF('III Tool Overview'!$H$6=\"Orkney Islands Local Authority\",0,IF('III Tool Overview'!$H$6=\"Shetland Islands Local Authority\",0,IF('III Tool Overview'!$H$6=\"Eilean Siar Local Authority\",0,new_yll(2,B105,C105,D105,$C$1,G105,1,F105,E105*F105)))))))","v":0},{"$f":"IF('III Tool Overview'!$H$6=\"Orkney Health Board\",0,IF('III Tool Overview'!$H$6=\"Shetland Health Board\",0,IF('III Tool Overview'!$H$6=\"Western Isles Health Board\",0,IF('III Tool Overview'!$H$6=\"Orkney Islands Local Authority\",0,IF('III Tool Overview'!$H$6=\"Shetland Islands Local Authority\",0,IF('III Tool Overview'!$H$6=\"Eilean Siar Local Authority\",0,new_yll(2,B105,C105,D105,$C$1,G105+H105,1,F105,E105*F105)))))))","v":0},0,{"$f":"IF('III Tool Overview'!$H$6=\"Orkney Health Board\",0,IF('III Tool Overview'!$H$6=\"Shetland Health Board\",0,IF('III Tool Overview'!$H$6=\"Western Isles Health Board\",0,IF('III Tool Overview'!$H$6=\"Orkney Islands Local Authority\",0,IF('III Tool Overview'!$H$6=\"Shetland Islands Local Authority\",0,IF('III Tool Overview'!$H$6=\"Eilean Siar Local Authority\",0,new_yll(5,B105,C105,D105,$C$1,G105,1,F105,E105*F105)))))))","v":0},{"$f":"IF('III Tool Overview'!$H$6=\"Orkney Health Board\",0,IF('III Tool Overview'!$H$6=\"Shetland Health Board\",0,IF('III Tool Overview'!$H$6=\"Western Isles Health Board\",0,IF('III Tool Overview'!$H$6=\"Orkney Islands Local Authority\",0,IF('III Tool Overview'!$H$6=\"Shetland Islands Local Authority\",0,IF('III Tool Overview'!$H$6=\"Eilean Siar Local Authority\",0,new_yll(5,B105,C105,D105,$C$1,G105+H105,1,F105,E105*F105)))))))","v":0},0,{"$f":"IF('III Tool Overview'!$H$6=\"Orkney Health Board\",0,IF('III Tool Overview'!$H$6=\"Shetland Health Board\",0,IF('III Tool Overview'!$H$6=\"Western Isles Health Board\",0,IF('III Tool Overview'!$H$6=\"Orkney Islands Local Authority\",0,IF('III Tool Overview'!$H$6=\"Shetland Islands Local Authority\",0,IF('III Tool Overview'!$H$6=\"Eilean Siar Local Authority\",0,new_yll(10,B105,C105,D105,$C$1,G105,1,F105,E105*F105)))))))","v":0},{"$f":"IF('III Tool Overview'!$H$6=\"Orkney Health Board\",0,IF('III Tool Overview'!$H$6=\"Shetland Health Board\",0,IF('III Tool Overview'!$H$6=\"Western Isles Health Board\",0,IF('III Tool Overview'!$H$6=\"Orkney Islands Local Authority\",0,IF('III Tool Overview'!$H$6=\"Shetland Islands Local Authority\",0,IF('III Tool Overview'!$H$6=\"Eilean Siar Local Authority\",0,new_yll(10,B105,C105,D105,$C$1,G105+H105,1,F105,E105*F105)))))))","v":0},0,{"$f":"IF('III Tool Overview'!$H$6=\"Orkney Health Board\",0,IF('III Tool Overview'!$H$6=\"Shetland Health Board\",0,IF('III Tool Overview'!$H$6=\"Western Isles Health Board\",0,IF('III Tool Overview'!$H$6=\"Orkney Islands Local Authority\",0,IF('III Tool Overview'!$H$6=\"Shetland Islands Local Authority\",0,IF('III Tool Overview'!$H$6=\"Eilean Siar Local Authority\",0,new_yll(20,B105,C105,D105,$C$1,G105,1,F105,E105*F105)))))))","v":0},{"$f":"IF('III Tool Overview'!$H$6=\"Orkney Health Board\",0,IF('III Tool Overview'!$H$6=\"Shetland Health Board\",0,IF('III Tool Overview'!$H$6=\"Western Isles Health Board\",0,IF('III Tool Overview'!$H$6=\"Orkney Islands Local Authority\",0,IF('III Tool Overview'!$H$6=\"Shetland Islands Local Authority\",0,IF('III Tool Overview'!$H$6=\"Eilean Siar Local Authority\",0,new_yll(20,B105,C105,D105,$C$1,G105+H105,1,F105,E105*F105)))))))","v":0},0,{"$f":"IF('III Tool Overview'!$H$6=\"Orkney Health Board\",0,IF('III Tool Overview'!$H$6=\"Shetland Health Board\",0,IF('III Tool Overview'!$H$6=\"Western Isles Health Board\",0,IF('III Tool Overview'!$H$6=\"Orkney Islands Local Authority\",0,IF('III Tool Overview'!$H$6=\"Shetland Islands Local Authority\",0,IF('III Tool Overview'!$H$6=\"Eilean Siar Local Authority\",0,hosp_count(2,B105,C105,D105,$C$1,G105,1,F105,E105*F105)))))))","v":0},{"$f":"IF('III Tool Overview'!$H$6=\"Orkney Health Board\",0,IF('III Tool Overview'!$H$6=\"Shetland Health Board\",0,IF('III Tool Overview'!$H$6=\"Western Isles Health Board\",0,IF('III Tool Overview'!$H$6=\"Orkney Islands Local Authority\",0,IF('III Tool Overview'!$H$6=\"Shetland Islands Local Authority\",0,IF('III Tool Overview'!$H$6=\"Eilean Siar Local Authority\",0,hosp_count(2,B105,C105,D105,$C$1,G105+H105,1,F105,E105*F105)))))))","v":0},0,{"$f":"IF('III Tool Overview'!$H$6=\"Orkney Health Board\",0,IF('III Tool Overview'!$H$6=\"Shetland Health Board\",0,IF('III Tool Overview'!$H$6=\"Western Isles Health Board\",0,IF('III Tool Overview'!$H$6=\"Orkney Islands Local Authority\",0,IF('III Tool Overview'!$H$6=\"Shetland Islands Local Authority\",0,IF('III Tool Overview'!$H$6=\"Eilean Siar Local Authority\",0,hosp_count(5,B105,C105,D105,$C$1,G105,1,F105,E105*F105)))))))","v":0},{"$f":"IF('III Tool Overview'!$H$6=\"Orkney Health Board\",0,IF('III Tool Overview'!$H$6=\"Shetland Health Board\",0,IF('III Tool Overview'!$H$6=\"Western Isles Health Board\",0,IF('III Tool Overview'!$H$6=\"Orkney Islands Local Authority\",0,IF('III Tool Overview'!$H$6=\"Shetland Islands Local Authority\",0,IF('III Tool Overview'!$H$6=\"Eilean Siar Local Authority\",0,hosp_count(5,B105,C105,D105,$C$1,G105+H105,1,F105,E105*F105)))))))","v":0},0,{"$f":"IF('III Tool Overview'!$H$6=\"Orkney Health Board\",0,IF('III Tool Overview'!$H$6=\"Shetland Health Board\",0,IF('III Tool Overview'!$H$6=\"Western Isles Health Board\",0,IF('III Tool Overview'!$H$6=\"Orkney Islands Local Authority\",0,IF('III Tool Overview'!$H$6=\"Shetland Islands Local Authority\",0,IF('III Tool Overview'!$H$6=\"Eilean Siar Local Authority\",0,hosp_count(10,B105,C105,D105,$C$1,G105,1,F105,E105*F105)))))))","v":0},{"$f":"IF('III Tool Overview'!$H$6=\"Orkney Health Board\",0,IF('III Tool Overview'!$H$6=\"Shetland Health Board\",0,IF('III Tool Overview'!$H$6=\"Western Isles Health Board\",0,IF('III Tool Overview'!$H$6=\"Orkney Islands Local Authority\",0,IF('III Tool Overview'!$H$6=\"Shetland Islands Local Authority\",0,IF('III Tool Overview'!$H$6=\"Eilean Siar Local Authority\",0,hosp_count(10,B105,C105,D105,$C$1,G105+H105,1,F105,E105*F105)))))))","v":0},0,{"$f":"IF('III Tool Overview'!$H$6=\"Orkney Health Board\",0,IF('III Tool Overview'!$H$6=\"Shetland Health Board\",0,IF('III Tool Overview'!$H$6=\"Western Isles Health Board\",0,IF('III Tool Overview'!$H$6=\"Orkney Islands Local Authority\",0,IF('III Tool Overview'!$H$6=\"Shetland Islands Local Authority\",0,IF('III Tool Overview'!$H$6=\"Eilean Siar Local Authority\",0,hosp_count(20,B105,C105,D105,$C$1,G105,1,F105,E105*F105)))))))","v":0},{"$f":"IF('III Tool Overview'!$H$6=\"Orkney Health Board\",0,IF('III Tool Overview'!$H$6=\"Shetland Health Board\",0,IF('III Tool Overview'!$H$6=\"Western Isles Health Board\",0,IF('III Tool Overview'!$H$6=\"Orkney Islands Local Authority\",0,IF('III Tool Overview'!$H$6=\"Shetland Islands Local Authority\",0,IF('III Tool Overview'!$H$6=\"Eilean Siar Local Authority\",0,hosp_count(20,B105,C105,D105,$C$1,G105+H105,1,F105,E105*F105)))))))","v":0},0,null,0.5,{"$f":"2/#REF!","v":{"$error":"#REF!"}}]
["Female 90+",95,"male",1,{"$f":"HLOOKUP('III Tool Overview'!$H$6,Prevalence!$B$2:$AV$268,Prevalence!AW101,FALSE)","v":9.5454545454545459E-2},{"$f":"HLOOKUP('III Tool Overview'!$H$6,LookUpData_Pop!$B$1:$AV$269,LookUpData_Pop!BB106,FALSE)/5","v":0},{"$f":"'III Tool Overview'!$H$9/110","v":0},{"$f":"IF('III Tool Overview'!$H$10=\"Even distribution\",Targeting!C104,IF('III Tool Overview'!$H$10=\"Targetting to Q1\",Targeting!D104,IF('III Tool Overview'!$H$10=\"Targetting to Q1 & Q2\",Targeting!E104,IF('III Tool Overview'!$H$10=\"No variation in price elasticity\",Targeting!G104))))","v":0},{"$f":"IF('III Tool Overview'!$H$6=\"Orkney Health Board\",0,IF('III Tool Overview'!$H$6=\"Shetland Health Board\",0,IF('III Tool Overview'!$H$6=\"Western Isles Health Board\",0,IF('III Tool Overview'!$H$6=\"Orkney Islands Local Authority\",0,IF('III Tool Overview'!$H$6=\"Shetland Islands Local Authority\",0,IF('III Tool Overview'!$H$6=\"Eilean Siar Local Authority\",0,new_ci(2,B106,C106,D106,$C$1,G106,1,F106,E106*F106)))))))","v":0},{"$f":"IF('III Tool Overview'!$H$6=\"Orkney Health Board\",0,IF('III Tool Overview'!$H$6=\"Shetland Health Board\",0,IF('III Tool Overview'!$H$6=\"Western Isles Health Board\",0,IF('III Tool Overview'!$H$6=\"Orkney Islands Local Authority\",0,IF('III Tool Overview'!$H$6=\"Shetland Islands Local Authority\",0,IF('III Tool Overview'!$H$6=\"Eilean Siar Local Authority\",0,new_ci(2,B106,C106,D106,$C$1,G106+H106,1,F106,E106*F106)))))))","v":0},{"$f":"IF('III Tool Overview'!$H$6=\"Orkney Health Board\",0,IF('III Tool Overview'!$H$6=\"Shetland Health Board\",0,IF('III Tool Overview'!$H$6=\"Western Isles Health Board\",0,IF('III Tool Overview'!$H$6=\"Orkney Islands Local Authority\",0,IF('III Tool Overview'!$H$6=\"Shetland Islands Local Authority\",0,IF('III Tool Overview'!$H$6=\"Eilean Siar Local Authority\",0,new_ci(5,B106,C106,D106,$C$1,G106,1,F106,E106*F106)))))))","v":0},{"$f":"IF('III Tool Overview'!$H$6=\"Orkney Health Board\",0,IF('III Tool Overview'!$H$6=\"Shetland Health Board\",0,IF('III Tool Overview'!$H$6=\"Western Isles Health Board\",0,IF('III Tool Overview'!$H$6=\"Orkney Islands Local Authority\",0,IF('III Tool Overview'!$H$6=\"Shetland Islands Local Authority\",0,IF('III Tool Overview'!$H$6=\"Eilean Siar Local Authority\",0,new_ci(5,B106,C106,D106,$C$1,G106+H106,1,F106,E106*F106)))))))","v":0},{"$f":"IF('III Tool Overview'!$H$6=\"Orkney Health Board\",0,IF('III Tool Overview'!$H$6=\"Shetland Health Board\",0,IF('III Tool Overview'!$H$6=\"Western Isles Health Board\",0,IF('III Tool Overview'!$H$6=\"Orkney Islands Local Authority\",0,IF('III Tool Overview'!$H$6=\"Shetland Islands Local Authority\",0,IF('III Tool Overview'!$H$6=\"Eilean Siar Local Authority\",0,new_ci(10,B106,C106,D106,$C$1,G106,1,F106,E106*F106)))))))","v":0},{"$f":"IF('III Tool Overview'!$H$6=\"Orkney Health Board\",0,IF('III Tool Overview'!$H$6=\"Shetland Health Board\",0,IF('III Tool Overview'!$H$6=\"Western Isles Health Board\",0,IF('III Tool Overview'!$H$6=\"Orkney Islands Local Authority\",0,IF('III Tool Overview'!$H$6=\"Shetland Islands Local Authority\",0,IF('III Tool Overview'!$H$6=\"Eilean Siar Local Authority\",0,new_ci(10,B106,C106,D106,$C$1,G106+H106,1,F106,E106*F106)))))))","v":0},{"$f":"IF('III Tool Overview'!$H$6=\"Orkney Health Board\",0,IF('III Tool Overview'!$H$6=\"Shetland Health Board\",0,IF('III Tool Overview'!$H$6=\"Western Isles Health Board\",0,IF('III Tool Overview'!$H$6=\"Orkney Islands Local Authority\",0,IF('III Tool Overview'!$H$6=\"Shetland Islands Local Authority\",0,IF('III Tool Overview'!$H$6=\"Eilean Siar Local Authority\",0,new_ci(20,B106,C106,D106,$C$1,G106,1,F106,E106*F106)))))))","v":0},{"$f":"IF('III Tool Overview'!$H$6=\"Orkney Health Board\",0,IF('III Tool Overview'!$H$6=\"Shetland Health Board\",0,IF('III Tool Overview'!$H$6=\"Western Isles Health Board\",0,IF('III Tool Overview'!$H$6=\"Orkney Islands Local Authority\",0,IF('III Tool Overview'!$H$6=\"Shetland Islands Local Authority\",0,IF('III Tool Overview'!$H$6=\"Eilean Siar Local Authority\",0,new_ci(20,B106,C106,D106,$C$1,G106+H106,1,F106,E106*F106)))))))","v":0},{"$f":"IF('III Tool Overview'!$H$6=\"Orkney Health Board\",0,IF('III Tool Overview'!$H$6=\"Shetland Health Board\",0,IF('III Tool Overview'!$H$6=\"Western Isles Health Board\",0,IF('III Tool Overview'!$H$6=\"Orkney Islands Local Authority\",0,IF('III Tool Overview'!$H$6=\"Shetland Islands Local Authority\",0,IF('III Tool Overview'!$H$6=\"Eilean Siar Local Authority\",0,new_yll(2,B106,C106,D106,$C$1,G106,1,F106,E106*F106)))))))","v":0},{"$f":"IF('III Tool Overview'!$H$6=\"Orkney Health Board\",0,IF('III Tool Overview'!$H$6=\"Shetland Health Board\",0,IF('III Tool Overview'!$H$6=\"Western Isles Health Board\",0,IF('III Tool Overview'!$H$6=\"Orkney Islands Local Authority\",0,IF('III Tool Overview'!$H$6=\"Shetland Islands Local Authority\",0,IF('III Tool Overview'!$H$6=\"Eilean Siar Local Authority\",0,new_yll(2,B106,C106,D106,$C$1,G106+H106,1,F106,E106*F106)))))))","v":0},{"$f":"Q106-R106","v":0},{"$f":"IF('III Tool Overview'!$H$6=\"Orkney Health Board\",0,IF('III Tool Overview'!$H$6=\"Shetland Health Board\",0,IF('III Tool Overview'!$H$6=\"Western Isles Health Board\",0,IF('III Tool Overview'!$H$6=\"Orkney Islands Local Authority\",0,IF('III Tool Overview'!$H$6=\"Shetland Islands Local Authority\",0,IF('III Tool Overview'!$H$6=\"Eilean Siar Local Authority\",0,new_yll(5,B106,C106,D106,$C$1,G106,1,F106,E106*F106)))))))","v":0},{"$f":"IF('III Tool Overview'!$H$6=\"Orkney Health Board\",0,IF('III Tool Overview'!$H$6=\"Shetland Health Board\",0,IF('III Tool Overview'!$H$6=\"Western Isles Health Board\",0,IF('III Tool Overview'!$H$6=\"Orkney Islands Local Authority\",0,IF('III Tool Overview'!$H$6=\"Shetland Islands Local Authority\",0,IF('III Tool Overview'!$H$6=\"Eilean Siar Local Authority\",0,new_yll(5,B106,C106,D106,$C$1,G106+H106,1,F106,E106*F106)))))))","v":0},{"$f":"T106-U106","v":0},{"$f":"IF('III Tool Overview'!$H$6=\"Orkney Health Board\",0,IF('III Tool Overview'!$H$6=\"Shetland Health Board\",0,IF('III Tool Overview'!$H$6=\"Western Isles Health Board\",0,IF('III Tool Overview'!$H$6=\"Orkney Islands Local Authority\",0,IF('III Tool Overview'!$H$6=\"Shetland Islands Local Authority\",0,IF('III Tool Overview'!$H$6=\"Eilean Siar Local Authority\",0,new_yll(10,B106,C106,D106,$C$1,G106,1,F106,E106*F106)))))))","v":0},{"$f":"IF('III Tool Overview'!$H$6=\"Orkney Health Board\",0,IF('III Tool Overview'!$H$6=\"Shetland Health Board\",0,IF('III Tool Overview'!$H$6=\"Western Isles Health Board\",0,IF('III Tool Overview'!$H$6=\"Orkney Islands Local Authority\",0,IF('III Tool Overview'!$H$6=\"Shetland Islands Local Authority\",0,IF('III Tool Overview'!$H$6=\"Eilean Siar Local Authority\",0,new_yll(10,B106,C106,D106,$C$1,G106+H106,1,F106,E106*F106)))))))","v":0},{"$f":"W106-X106","v":0},{"$f":"IF('III Tool Overview'!$H$6=\"Orkney Health Board\",0,IF('III Tool Overview'!$H$6=\"Shetland Health Board\",0,IF('III Tool Overview'!$H$6=\"Western Isles Health Board\",0,IF('III Tool Overview'!$H$6=\"Orkney Islands Local Authority\",0,IF('III Tool Overview'!$H$6=\"Shetland Islands Local Authority\",0,IF('III Tool Overview'!$H$6=\"Eilean Siar Local Authority\",0,new_yll(20,B106,C106,D106,$C$1,G106,1,F106,E106*F106)))))))","v":0},{"$f":"IF('III Tool Overview'!$H$6=\"Orkney Health Board\",0,IF('III Tool Overview'!$H$6=\"Shetland Health Board\",0,IF('III Tool Overview'!$H$6=\"Western Isles Health Board\",0,IF('III Tool Overview'!$H$6=\"Orkney Islands Local Authority\",0,IF('III Tool Overview'!$H$6=\"Shetland Islands Local Authority\",0,IF('III Tool Overview'!$H$6=\"Eilean Siar Local Authority\",0,new_yll(20,B106,C106,D106,$C$1,G106+H106,1,F106,E106*F106)))))))","v":0},{"$f":"Z106-AA106","v":0},{"$f":"IF('III Tool Overview'!$H$6=\"Orkney Health Board\",0,IF('III Tool Overview'!$H$6=\"Shetland Health Board\",0,IF('III Tool Overview'!$H$6=\"Western Isles Health Board\",0,IF('III Tool Overview'!$H$6=\"Orkney Islands Local Authority\",0,IF('III Tool Overview'!$H$6=\"Shetland Islands Local Authority\",0,IF('III Tool Overview'!$H$6=\"Eilean Siar Local Authority\",0,hosp_count(2,B106,C106,D106,$C$1,G106,1,F106,E106*F106)))))))","v":0},{"$f":"IF('III Tool Overview'!$H$6=\"Orkney Health Board\",0,IF('III Tool Overview'!$H$6=\"Shetland Health Board\",0,IF('III Tool Overview'!$H$6=\"Western Isles Health Board\",0,IF('III Tool Overview'!$H$6=\"Orkney Islands Local Authority\",0,IF('III Tool Overview'!$H$6=\"Shetland Islands Local Authority\",0,IF('III Tool Overview'!$H$6=\"Eilean Siar Local Authority\",0,hosp_count(2,B106,C106,D106,$C$1,G106+H106,1,F106,E106*F106)))))))","v":0},{"$f":"AC106-AD106","v":0},{"$f":"IF('III Tool Overview'!$H$6=\"Orkney Health Board\",0,IF('III Tool Overview'!$H$6=\"Shetland Health Board\",0,IF('III Tool Overview'!$H$6=\"Western Isles Health Board\",0,IF('III Tool Overview'!$H$6=\"Orkney Islands Local Authority\",0,IF('III Tool Overview'!$H$6=\"Shetland Islands Local Authority\",0,IF('III Tool Overview'!$H$6=\"Eilean Siar Local Authority\",0,hosp_count(5,B106,C106,D106,$C$1,G106,1,F106,E106*F106)))))))","v":0},{"$f":"IF('III Tool Overview'!$H$6=\"Orkney Health Board\",0,IF('III Tool Overview'!$H$6=\"Shetland Health Board\",0,IF('III Tool Overview'!$H$6=\"Western Isles Health Board\",0,IF('III Tool Overview'!$H$6=\"Orkney Islands Local Authority\",0,IF('III Tool Overview'!$H$6=\"Shetland Islands Local Authority\",0,IF('III Tool Overview'!$H$6=\"Eilean Siar Local Authority\",0,hosp_count(5,B106,C106,D106,$C$1,G106+H106,1,F106,E106*F106)))))))","v":0},{"$f":"AF106-AG106","v":0},{"$f":"IF('III Tool Overview'!$H$6=\"Orkney Health Board\",0,IF('III Tool Overview'!$H$6=\"Shetland Health Board\",0,IF('III Tool Overview'!$H$6=\"Western Isles Health Board\",0,IF('III Tool Overview'!$H$6=\"Orkney Islands Local Authority\",0,IF('III Tool Overview'!$H$6=\"Shetland Islands Local Authority\",0,IF('III Tool Overview'!$H$6=\"Eilean Siar Local Authority\",0,hosp_count(10,B106,C106,D106,$C$1,G106,1,F106,E106*F106)))))))","v":0},{"$f":"IF('III Tool Overview'!$H$6=\"Orkney Health Board\",0,IF('III Tool Overview'!$H$6=\"Shetland Health Board\",0,IF('III Tool Overview'!$H$6=\"Western Isles Health Board\",0,IF('III Tool Overview'!$H$6=\"Orkney Islands Local Authority\",0,IF('III Tool Overview'!$H$6=\"Shetland Islands Local Authority\",0,IF('III Tool Overview'!$H$6=\"Eilean Siar Local Authority\",0,hosp_count(10,B106,C106,D106,$C$1,G106+H106,1,F106,E106*F106)))))))","v":0},{"$f":"AI106-AJ106","v":0},{"$f":"IF('III Tool Overview'!$H$6=\"Orkney Health Board\",0,IF('III Tool Overview'!$H$6=\"Shetland Health Board\",0,IF('III Tool Overview'!$H$6=\"Western Isles Health Board\",0,IF('III Tool Overview'!$H$6=\"Orkney Islands Local Authority\",0,IF('III Tool Overview'!$H$6=\"Shetland Islands Local Authority\",0,IF('III Tool Overview'!$H$6=\"Eilean Siar Local Authority\",0,hosp_count(20,B106,C106,D106,$C$1,G106,1,F106,E106*F106)))))))","v":0},{"$f":"IF('III Tool Overview'!$H$6=\"Orkney Health Board\",0,IF('III Tool Overview'!$H$6=\"Shetland Health Board\",0,IF('III Tool Overview'!$H$6=\"Western Isles Health Board\",0,IF('III Tool Overview'!$H$6=\"Orkney Islands Local Authority\",0,IF('III Tool Overview'!$H$6=\"Shetland Islands Local Authority\",0,IF('III Tool Overview'!$H$6=\"Eilean Siar Local Authority\",0,hosp_count(20,B106,C106,D106,$C$1,G106+H106,1,F106,E106*F106)))))))","v":0},{"$f":"AL106-AM106","v":0}]
["TOTAL",null,null,null,null,{"$f":"SUM(F91:F106)","v":0},{"$f":"SUM(G91:G106)","v":0},{"$f":"SUM(H91:H106)","v":0},{"$f":"SUM(I91:I106)","v":0},{"$f":"SUM(J91:J106)","v":0},{"$f":"SUM(K91:K106)","v":0},{"$f":"SUM(L91:L106)","v":0},{"$f":"SUM(M91:M106)","v":0},{"$f":"SUM(N91:N106)","v":0},{"$f":"SUM(O91:O106)","v":0},{"$f":"SUM(P91:P106)","v":0},{"$f":"SUM(Q91:Q106)","v":0},{"$f":"SUM(R91:R106)","v":0},{"$f":"SUM(S91:S106)","v":0},{"$f":"SUM(T91:T106)","v":0},{"$f":"SUM(U91:U106)","v":0},{"$f":"SUM(V91:V106)","v":0},{"$f":"SUM(W91:W106)","v":0},{"$f":"SUM(X91:X106)","v":0},{"$f":"SUM(Y91:Y106)","v":0},{"$f":"SUM(Z91:Z106)","v":0},{"$f":"SUM(AA91:AA106)","v":0},{"$f":"SUM(AB91:AB106)","v":0},{"$f":"SUM(AC91:AC106)","v":0},{"$f":"SUM(AD91:AD106)","v":0},{"$f":"SUM(AE91:AE106)","v":0},{"$f":"SUM(AF91:AF106)","v":0},{"$f":"SUM(AG91:AG106)","v":0},{"$f":"SUM(AH91:AH106)","v":0},{"$f":"SUM(AI91:AI106)","v":0},{"$f":"SUM(AJ91:AJ106)","v":0},{"$f":"SUM(AK91:AK106)","v":0},{"$f":"SUM(AL91:AL106)","v":0},{"$f":"SUM(AM91:AM106)","v":0},{"$f":"SUM(AN91:AN106)","v":0}]
["age/sex breakdown: Q2"]
["Male <1",0.5,"male",2,null,{"$f":"HLOOKUP('III Tool Overview'!$H$6,LookUpData_Pop!$B$1:$AV$269,LookUpData_Pop!BB108,FALSE)/5","v":23.8},null,null,null,null,null,null,null,null,null,null,null,null,null,null,null,null,null,null,null,null,null,null,null,null,null,null,null,null,null,null,null,null,null,null,null,0.1,1]
["Male 1-4",2.5,"male",2,null,{"$f":"HLOOKUP('III Tool Overview'!$H$6,LookUpData_Pop!$B$1:$AV$269,LookUpData_Pop!BB109,FALSE)/5","v":94.2},null,null,null,null,null,null,null,null,null,null,null,null,null,null,null,null,null,null,null,null,null,null,null,null,null,null,null,null,null,null,null,null,null,null,null,0.5,4]
["Male 5-9",7.5,"male",2,null,{"$f":"HLOOKUP('III Tool Overview'!$H$6,LookUpData_Pop!$B$1:$AV$269,LookUpData_Pop!BB110,FALSE)/5","v":90.4},null,null,null,null,null,null,null,null,null,null,null,null,null,null,null,null,null,null,null,null,null,null,null,null,null,null,null,null,null,null,null,null,null,null,null,0.5,5]
["Male 10-14",12.5,"male",2,null,{"$f":"HLOOKUP('III Tool Overview'!$H$6,LookUpData_Pop!$B$1:$AV$269,LookUpData_Pop!BB111,FALSE)/5","v":145.80000000000001},null,null,null,null,null,null,null,null,null,null,null,null,null,null,null,null,null,null,null,null,null,null,null,null,null,null,null,null,null,null,null,null,null,null,null,0.5,5]
["Male 15-19",17.5,"male",2,{"$f":"HLOOKUP('III Tool Overview'!$H$6,Prevalence!$B$2:$AV$268,Prevalence!AW107,FALSE)","v":0.32500000000000001},{"$f":"HLOOKUP('III Tool Overview'!$H$6,LookUpData_Pop!$B$1:$AV$269,LookUpData_Pop!BB112,FALSE)/5","v":134.6},{"$f":"'III Tool Overview'!$H$9/110","v":0},{"$f":"IF('III Tool Overview'!$H$10=\"Even distribution\",Targeting!C111,IF('III Tool Overview'!$H$10=\"Targetting to Q1\",Targeting!D111,IF('III Tool Overview'!$H$10=\"Targetting to Q1 & Q2\",Targeting!E111,IF('III Tool Overview'!$H$10=\"No variation in price elasticity\",Targeting!G111))))","v":27.82},{"$f":"new_ci(2,B113,C113,D113,$C$1,G113,1,F113,E113*F113)","v":9.1718710620380117E-2},{"$f":"new_ci(2,B113,C113,D113,$C$1,G113+H113,1,F113,E113*F113)","v":9.1588675069783909E-2},{"$f":"new_ci(5,B113,C113,D113,$C$1,G113,1,F113,E113*F113)","v":0.40078114996236291},{"$f":"new_ci(5,B113,C113,D113,$C$1,G113+H113,1,F113,E113*F113)","v":0.40021745846258316},{"$f":"new_ci(10,B113,C113,D113,$C$1,G113,1,F113,E113*F113)","v":1.0502001739054405},{"$f":"new_ci(10,B113,C113,D113,$C$1,G113+H113,1,F113,E113*F113)","v":1.0487451180310052},{"$f":"new_ci(20,B113,C113,D113,$C$1,G113,1,F113,E113*F113)","v":3.0607424419321614},{"$f":"new_ci(20,B113,C113,D113,$C$1,G113+H113,1,F113,E113*F113)","v":3.0566603477956766},{"$f":"new_yll(2,B113,C113,D113,$C$1,G113,1,F113,E113*F113)","v":7.4292155602507899},{"$f":"new_yll(2,B113,C113,D113,$C$1,G113+H113,1,F113,E113*F113)","v":7.4186826806524966},{"$f":"Q113-R113","v":1.0532879598293299E-2},{"$f":"new_yll(5,B113,C113,D113,$C$1,G113,1,F113,E113*F113)","v":31.833305664595439},{"$f":"new_yll(5,B113,C113,D113,$C$1,G113+H113,1,F113,E113*F113)","v":31.788529089097853},{"$f":"T113-U113","v":4.477657549758618E-2},{"$f":"new_yll(10,B113,C113,D113,$C$1,G113,1,F113,E113*F113)","v":80.465456213161829},{"$f":"new_yll(10,B113,C113,D113,$C$1,G113+H113,1,F113,E113*F113)","v":80.353919282550038},{"$f":"W113-X113","v":0.11153693061179126},{"$f":"new_yll(20,B113,C113,D113,$C$1,G113,1,F113,E113*F113)","v":215.24299099491952},{"$f":"new_yll(20,B113,C113,D113,$C$1,G113+H113,1,F113,E113*F113)","v":214.95520309884552},{"$f":"Z113-AA113","v":0.28778789607400768},{"$f":"hosp_count(2,B113,C113,D113,$C$1,G113,1,F113,E113*F113)","v":10.894537227893366},{"$f":"hosp_count(2,B113,C113,D113,$C$1,G113+H113,1,F113,E113*F113)","v":10.88420710056411},{"$f":"AC113-AD113","v":1.03301273292562E-2},{"$f":"hosp_count(5,B113,C113,D113,$C$1,G113,1,F113,E113*F113)","v":46.016312709577235},{"$f":"hosp_count(5,B113,C113,D113,$C$1,G113+H113,1,F113,E113*F113)","v":45.973070301517168},{"$f":"AF113-AG113","v":4.324240806006685E-2},{"$f":"hosp_count(10,B113,C113,D113,$C$1,G113,1,F113,E113*F113)","v":113.57012068580124},{"$f":"hosp_count(10,B113,C113,D113,$C$1,G113+H113,1,F113,E113*F113)","v":113.46514180448352},{"$f":"AI113-AJ113","v":0.10497888131772015},{"$f":"hosp_count(20,B113,C113,D113,$C$1,G113,1,F113,E113*F113)","v":290.1739052370699},{"$f":"hosp_count(20,B113,C113,D113,$C$1,G113+H113,1,F113,E113*F113)","v":289.91627271784614},{"$f":"AL113-AM113","v":0.25763251922376185},null,0.5,5]
["Male 20-24",22.5,"male",2,{"$f":"HLOOKUP('III Tool Overview'!$H$6,Prevalence!$B$2:$AV$268,Prevalence!AW108,FALSE)","v":0.32500000000000001},{"$f":"HLOOKUP('III Tool Overview'!$H$6,LookUpData_Pop!$B$1:$AV$269,LookUpData_Pop!BB113,FALSE)/5","v":106.8},{"$f":"'III Tool Overview'!$H$9/110","v":0},{"$f":"IF('III Tool Overview'!$H$10=\"Even distribution\",Targeting!C112,IF('III Tool Overview'!$H$10=\"Targetting to Q1\",Targeting!D112,IF('III Tool Overview'!$H$10=\"Targetting to Q1 & Q2\",Targeting!E112,IF('III Tool Overview'!$H$10=\"No variation in price elasticity\",Targeting!G112))))","v":38.22},9.7207182970072414E-2,9.6971687864426837E-2,0.42457107517518466,0.42355148527257114,1.11147564815073,1.1088506246748988,3.2297080060276633,3.2224034321395179,7.4849530886955762,7.466819965560866,1.8133123134710161E-2,32.024767174706575,31.947853855017602,{"$f":"T114-U114","v":7.6913319688973303E-2},80.716952959715371,80.526216105933727,{"$f":"W114-X114","v":0.19073685378164384},214.25093664096499,213.76489620464159,{"$f":"Z114-AA114","v":0.48604043632340677},{"$f":"hosp_count(2,B114,C114,D114,$C$1,G114,1,F114,E114*F114)","v":9.9391380703637786},{"$f":"hosp_count(2,B114,C114,D114,$C$1,G114+H114,1,F114,E114*F114)","v":9.9230246933189896},{"$f":"AC114-AD114","v":1.611337704478899E-2},{"$f":"hosp_count(5,B114,C114,D114,$C$1,G114,1,F114,E114*F114)","v":41.964092180554545},{"$f":"hosp_count(5,B114,C114,D114,$C$1,G114+H114,1,F114,E114*F114)","v":41.896728540672648},{"$f":"AF114-AG114","v":6.7363639881897086E-2},{"$f":"hosp_count(10,B114,C114,D114,$C$1,G114,1,F114,E114*F114)","v":103.48411460980901},{"$f":"hosp_count(10,B114,C114,D114,$C$1,G114+H114,1,F114,E114*F114)","v":103.32101440169095},{"$f":"AI114-AJ114","v":0.1631002081180668},{"$f":"hosp_count(20,B114,C114,D114,$C$1,G114,1,F114,E114*F114)","v":263.75931246461448},{"$f":"hosp_count(20,B114,C114,D114,$C$1,G114+H114,1,F114,E114*F114)","v":263.36224652868287},{"$f":"AL114-AM114","v":0.39706593593160733},null,0.5,5]
["Male 25-29",27.5,"male",2,{"$f":"HLOOKUP('III Tool Overview'!$H$6,Prevalence!$B$2:$AV$268,Prevalence!AW109,FALSE)","v":0.375},{"$f":"HLOOKUP('III Tool Overview'!$H$6,LookUpData_Pop!$B$1:$AV$269,LookUpData_Pop!BB114,FALSE)/5","v":115.8},{"$f":"'III Tool Overview'!$H$9/110","v":0},{"$f":"IF('III Tool Overview'!$H$10=\"Even distribution\",Targeting!C113,IF('III Tool Overview'!$H$10=\"Targetting to Q1\",Targeting!D113,IF('III Tool Overview'!$H$10=\"Targetting to Q1 & Q2\",Targeting!E113,IF('III Tool Overview'!$H$10=\"No variation in price elasticity\",Targeting!G113))))","v":46.800000000000004},0.16269311584935808,0.16226061648442769,0.70990118905786692,0.70803312625748582,1.8546303933997659,1.8498450894973013,5.3550085136924901,5.3419012610157157,11.551211225304424,11.520503770394367,3.0707454910057663E-2,49.287947798230398,49.158234203831697,0.12971359439870156,123.56717008514309,123.24811861439088,0.31905147075221407,323.2663460242955,322.47184011095146,0.79450591334403953,13.28637927793322,13.262275426525935,2.4103851407284438E-2,56.047933444070829,55.947418448835258,0.10051499523557084,137.97023224930257,137.72812551476966,0.24210673453291065,349.81285121499235,349.23255252334627,0.58029869164607817,null,0.5,5]
["Male 30-34",32.5,"male",2,{"$f":"HLOOKUP('III Tool Overview'!$H$6,Prevalence!$B$2:$AV$268,Prevalence!AW110,FALSE)","v":0.375},{"$f":"HLOOKUP('III Tool Overview'!$H$6,LookUpData_Pop!$B$1:$AV$269,LookUpData_Pop!BB115,FALSE)/5","v":116},{"$f":"'III Tool Overview'!$H$9/110","v":0},{"$f":"IF('III Tool Overview'!$H$10=\"Even distribution\",Targeting!C114,IF('III Tool Overview'!$H$10=\"Targetting to Q1\",Targeting!D114,IF('III Tool Overview'!$H$10=\"Targetting to Q1 & Q2\",Targeting!E114,IF('III Tool Overview'!$H$10=\"No variation in price elasticity\",Targeting!G114))))","v":36},0.21765636876207406,0.21721715608377101,0.9488466236080475,0.94695408805046322,2.4740424114398998,2.4692187788093038,7.1005205901839039,7.0875152333416764,14.582976707058961,14.553549457612657,2.9427249446303705E-2,62.083092133038832,61.959245667107446,0.12384646593138626,154.95164333170879,154.64927193367006,0.30237139803872992,400.43580185940414,399.6984855888835,0.73731627052063686,15.302761839399311,15.281607626326901,2.1154213072410499E-2,64.500734521125707,64.412741582449073,8.7992938676634935E-2,158.5106368345609,158.29978744084573,0.21084939371516498,399.89622142391835,399.39864995045684,0.49757147346150532,null,0.5,5]
["Male 35-39",37.5,"male",2,{"$f":"HLOOKUP('III Tool Overview'!$H$6,Prevalence!$B$2:$AV$268,Prevalence!AW111,FALSE)","v":0.51249999999999996},{"$f":"HLOOKUP('III Tool Overview'!$H$6,LookUpData_Pop!$B$1:$AV$269,LookUpData_Pop!BB116,FALSE)/5","v":125},{"$f":"'III Tool Overview'!$H$9/110","v":0},{"$f":"IF('III Tool Overview'!$H$10=\"Even distribution\",Targeting!C115,IF('III Tool Overview'!$H$10=\"Targetting to Q1\",Targeting!D115,IF('III Tool Overview'!$H$10=\"Targetting to Q1 & Q2\",Targeting!E115,IF('III Tool Overview'!$H$10=\"No variation in price elasticity\",Targeting!G115))))","v":51.25},0.36194125580878789,0.36107958765804538,1.5748520731208835,1.5711530873994175,4.0900154877903985,4.0806618514444786,11.595619795065803,11.571017490902904,22.078416604336063,22.025854847140767,5.2561757195295655E-2,93.595972522367632,93.376095556535333,0.21987696583229877,231.66029274306254,231.12989765685563,0.53039508620690867,585.0319572919168,583.78174153054169,1.2502157613751024,20.330237797078844,20.295303592822883,3.4934204255961276E-2,85.542143828784589,85.397404411812602,0.14473941697198711,209.47301611620617,209.12900015310973,0.34401596309643878,522.96233115053849,522.17010952085957,0.79222162967892018,null,0.5,5]
["Male 40-44",42.5,"male",2,{"$f":"HLOOKUP('III Tool Overview'!$H$6,Prevalence!$B$2:$AV$268,Prevalence!AW112,FALSE)","v":0.51249999999999996},{"$f":"HLOOKUP('III Tool Overview'!$H$6,LookUpData_Pop!$B$1:$AV$269,LookUpData_Pop!BB117,FALSE)/5","v":157.19999999999999},{"$f":"'III Tool Overview'!$H$9/110","v":0},{"$f":"IF('III Tool Overview'!$H$10=\"Even distribution\",Targeting!C116,IF('III Tool Overview'!$H$10=\"Targetting to Q1\",Targeting!D116,IF('III Tool Overview'!$H$10=\"Targetting to Q1 & Q2\",Targeting!E116,IF('III Tool Overview'!$H$10=\"No variation in price elasticity\",Targeting!G116))))","v":53.709999999999994},{"$f":"new_ci(2,B118,C118,D118,$C$1,G118,1,F118,E118*F118)","v":0.60773098928050751},0.60651684362609182,2.6393648273525874,2.6341759605111723,6.8278457895703095,6.8148478430505204,19.127722597845626,19.094530135133446,34.640666388988926,34.571460086687232,6.9206302301694222E-2,146.30821609531742,146.02051332154892,0.28770277376850117,359.48486543049296,358.79951134851052,0.68535408198243886,889.62224581450675,888.06325758682044,1.5589882276863136,29.396710185082132,29.354237875852938,4.2472309229193428E-2,123.48257492375991,123.30743055233985,0.17514437142006045,301.34680385423593,300.93454352121734,0.41226033301859388,744.86184496363546,743.93978047118935,0.92206449244611122,null,0.5,5]
["Male 45-49",47.5,"male",2,{"$f":"HLOOKUP('III Tool Overview'!$H$6,Prevalence!$B$2:$AV$268,Prevalence!AW113,FALSE)","v":0.46250000000000002},{"$f":"HLOOKUP('III Tool Overview'!$H$6,LookUpData_Pop!$B$1:$AV$269,LookUpData_Pop!BB118,FALSE)/5","v":146.6},{"$f":"'III Tool Overview'!$H$9/110","v":0},{"$f":"IF('III Tool Overview'!$H$10=\"Even distribution\",Targeting!C117,IF('III Tool Overview'!$H$10=\"Targetting to Q1\",Targeting!D117,IF('III Tool Overview'!$H$10=\"Targetting to Q1 & Q2\",Targeting!E117,IF('III Tool Overview'!$H$10=\"No variation in price elasticity\",Targeting!G117))))","v":62.160000000000004},0.87400197606090524,0.87176830858761556,3.7799874696851621,3.7705447827896621,9.6941708631309638,9.6710540531861682,26.459297728274212,26.404361446508702,44.574100779106168,44.460183737968393,0.11391704113777479,186.86935552282165,186.40236619120512,0.46698933161653144,452.43350811643404,451.35198605733211,1.0815220591019283,1075.1744820079273,1072.9027326551698,2.2717493527575243,33.798760587882427,33.737344691005859,6.1415896876567899E-2,141.45215256106417,141.20177538541964,0.25037717564453033,342.63780114851153,342.06222651230166,0.57557463620986482,829.0107328595634,827.81186702577588,1.1988658337875222,null,0.5,5]
["Male 50-54",52.5,"male",2,{"$f":"HLOOKUP('III Tool Overview'!$H$6,Prevalence!$B$2:$AV$268,Prevalence!AW114,FALSE)","v":0.46250000000000002},{"$f":"HLOOKUP('III Tool Overview'!$H$6,LookUpData_Pop!$B$1:$AV$269,LookUpData_Pop!BB119,FALSE)/5","v":152.4},{"$f":"'III Tool Overview'!$H$9/110","v":0},{"$f":"IF('III Tool Overview'!$H$10=\"Even distribution\",Targeting!C118,IF('III Tool Overview'!$H$10=\"Targetting to Q1\",Targeting!D118,IF('III Tool Overview'!$H$10=\"Targetting to Q1 & Q2\",Targeting!E118,IF('III Tool Overview'!$H$10=\"No variation in price elasticity\",Targeting!G118))))","v":53.280000000000008},1.2123550938883108,1.2098024603216884,5.2229176488713254,5.2122318867809945,13.287103583433801,13.2614794997006,35.411609970996111,35.354538664083861,56.980689412750607,56.860715635119355,0.11997377763125172,237.32769321240735,236.84188349015847,0.48580972224888797,567.22928895155587,566.13161314895149,1.0976758026043854,1301.4507111704552,1299.2979785514067,2.1527326190484928,40.39852559450221,40.338046726051282,6.0478868450928758E-2,168.48635066262062,168.24232544194794,0.24402522067268251,405.27747867721962,404.72834557384965,0.54913310336996801,961.40951916250708,960.33703423492034,1.0724849275867427,null,0.5,5]
["Male 55-59",57.5,"male",2,{"$f":"HLOOKUP('III Tool Overview'!$H$6,Prevalence!$B$2:$AV$268,Prevalence!AW115,FALSE)","v":0.21250000000000002},{"$f":"HLOOKUP('III Tool Overview'!$H$6,LookUpData_Pop!$B$1:$AV$269,LookUpData_Pop!BB120,FALSE)/5","v":156.19999999999999},{"$f":"'III Tool Overview'!$H$9/110","v":0},{"$f":"IF('III Tool Overview'!$H$10=\"Even distribution\",Targeting!C119,IF('III Tool Overview'!$H$10=\"Targetting to Q1\",Targeting!D119,IF('III Tool Overview'!$H$10=\"Targetting to Q1 & Q2\",Targeting!E119,IF('III Tool Overview'!$H$10=\"No variation in price elasticity\",Targeting!G119))))","v":27.540000000000006},1.9137030936824306,1.9111310940282231,8.17465898221187,8.1642707824200347,20.440910032911916,20.417812010549358,51.898516730000935,51.857913226828337,78.461826840979654,78.356374855157142,0.10545198582251203,322.46254585024133,322.05228006429542,0.41026578594591001,750.84265725054308,749.98715918437358,0.85549806616950264,1608.67109830357,1607.3208553739789,1.3502429295911043,51.048406877012475,51.004436965830365,4.3969911182109911E-2,211.34119576989002,211.17032814158131,0.17086762830871294,500.98940057745637,500.63372728347406,0.3556732939823064,1142.2486590071053,1141.7003393308121,0.54831967629320388,null,0.5,5]
["Male 60-64",62.5,"male",2,{"$f":"HLOOKUP('III Tool Overview'!$H$6,Prevalence!$B$2:$AV$268,Prevalence!AW116,FALSE)","v":0.21250000000000002},{"$f":"HLOOKUP('III Tool Overview'!$H$6,LookUpData_Pop!$B$1:$AV$269,LookUpData_Pop!BB121,FALSE)/5","v":167},{"$f":"'III Tool Overview'!$H$9/110","v":0},{"$f":"IF('III Tool Overview'!$H$10=\"Even distribution\",Targeting!C120,IF('III Tool Overview'!$H$10=\"Targetting to Q1\",Targeting!D120,IF('III Tool Overview'!$H$10=\"Targetting to Q1 & Q2\",Targeting!E120,IF('III Tool Overview'!$H$10=\"No variation in price elasticity\",Targeting!G120))))","v":25.500000000000004},2.7267087411368682,2.7235365709328745,11.555323638823435,11.542829677584653,28.436890202462074,28.410546342036035,69.120141290942257,69.080927255631309,100.88822342206413,100.77085312451635,0.1173702975477795,409.67223996864141,409.22851587084602,0.44372409779538202,931.93031753664241,931.05605953724421,0.87425799939819626,1881.7569529646212,1880.5591720741679,1.1977808904532594,62.752549992753003,62.705568370770372,4.6981621982631339E-2,257.97380797705017,257.79598330545019,0.1778246715999785,603.14378775681166,602.79339178482689,0.35039597198476713,1326.0728269097372,1325.6162085962253,0.45661831351185356,null,0.5,5]
["Male 65-69",67.5,"male",2,{"$f":"HLOOKUP('III Tool Overview'!$H$6,Prevalence!$B$2:$AV$268,Prevalence!AW117,FALSE)","v":0.27500000000000002},{"$f":"HLOOKUP('III Tool Overview'!$H$6,LookUpData_Pop!$B$1:$AV$269,LookUpData_Pop!BB122,FALSE)/5","v":138.80000000000001},{"$f":"'III Tool Overview'!$H$9/110","v":0},{"$f":"IF('III Tool Overview'!$H$10=\"Even distribution\",Targeting!C121,IF('III Tool Overview'!$H$10=\"Targetting to Q1\",Targeting!D121,IF('III Tool Overview'!$H$10=\"Targetting to Q1 & Q2\",Targeting!E121,IF('III Tool Overview'!$H$10=\"No variation in price elasticity\",Targeting!G121))))","v":36.520000000000003},3.4806413489079926,3.4741792746387006,14.495073513368851,14.470738468576972,34.465970588917344,34.419294144517146,76.656504256344959,76.604855405816494,107.89988181614777,107.69955751379972,0.20032430234805076,427.13377260044069,426.4145600226293,0.71921257781139047,925.71297864316591,924.43080259679209,1.2821760463738201,1664.5196544054222,1663.1045376063639,1.4151167990582962,64.302075166681135,64.222055389470938,8.0019777210196708E-2,260.30442569983916,260.01540315073424,0.28902254910491365,590.85050992473714,590.33415391345932,0.51635601127782138,1207.1881861224997,1206.6920167766561,0.49616934584355477,null,0.5,5]
["Male 70-74",72.5,"male",2,{"$f":"HLOOKUP('III Tool Overview'!$H$6,Prevalence!$B$2:$AV$268,Prevalence!AW118,FALSE)","v":0.27500000000000002},{"$f":"HLOOKUP('III Tool Overview'!$H$6,LookUpData_Pop!$B$1:$AV$269,LookUpData_Pop!BB123,FALSE)/5","v":115.8},{"$f":"'III Tool Overview'!$H$9/110","v":0},{"$f":"IF('III Tool Overview'!$H$10=\"Even distribution\",Targeting!C122,IF('III Tool Overview'!$H$10=\"Targetting to Q1\",Targeting!D122,IF('III Tool Overview'!$H$10=\"Targetting to Q1 & Q2\",Targeting!E122,IF('III Tool Overview'!$H$10=\"No variation in price elasticity\",Targeting!G122))))","v":28.6},{"$f":"new_ci(2,B124,C124,D124,$C$1,G124,1,F124,E124*F124)","v":3.859990147760592},{"$f":"new_ci(2,B124,C124,D124,$C$1,G124+H124,1,F124,E124*F124)","v":3.8533356987738192},{"$f":"new_ci(5,B124,C124,D124,$C$1,G124,1,F124,E124*F124)","v":15.817491830683595},{"$f":"new_ci(5,B124,C124,D124,$C$1,G124+H124,1,F124,E124*F124)","v":15.793607823854515},{"$f":"new_ci(10,B124,C124,D124,$C$1,G124,1,F124,E124*F124)","v":36.469419293809437},{"$f":"new_ci(10,B124,C124,D124,$C$1,G124+H124,1,F124,E124*F124)","v":36.428024699270324},{"$f":"new_ci(20,B124,C124,D124,$C$1,G124,1,F124,E124*F124)","v":75.383336823350049},{"$f":"new_ci(20,B124,C124,D124,$C$1,G124+H124,1,F124,E124*F124)","v":75.34999619800783},{"$f":"new_yll(2,B124,C124,D124,$C$1,G124,1,F124,E124*F124)","v":104.21973398953598},{"$f":"new_yll(2,B124,C124,D124,$C$1,G124+H124,1,F124,E124*F124)","v":104.04006386689312},{"$f":"Q124-R124","v":0.17967012264286097},{"$f":"new_yll(5,B124,C124,D124,$C$1,G124,1,F124,E124*F124)","v":403.04437909862042},{"$f":"new_yll(5,B124,C124,D124,$C$1,G124+H124,1,F124,E124*F124)","v":402.43298966302518},{"$f":"T124-U124","v":0.6113894355952425},{"$f":"new_yll(10,B124,C124,D124,$C$1,G124,1,F124,E124*F124)","v":836.55832919944658},{"$f":"new_yll(10,B124,C124,D124,$C$1,G124+H124,1,F124,E124*F124)","v":835.57312721059702},{"$f":"W124-X124","v":0.98520198884955335},{"$f":"new_yll(20,B124,C124,D124,$C$1,G124,1,F124,E124*F124)","v":1367.8589900187267},{"$f":"new_yll(20,B124,C124,D124,$C$1,G124+H124,1,F124,E124*F124)","v":1366.9424159063435},{"$f":"Z124-AA124","v":0.91657411238315945},{"$f":"hosp_count(2,B124,C124,D124,$C$1,G124,1,F124,E124*F124)","v":61.681911753681277},{"$f":"hosp_count(2,B124,C124,D124,$C$1,G124+H124,1,F124,E124*F124)","v":61.609883827023815},{"$f":"AC124-AD124","v":7.202792665746216E-2},{"$f":"hosp_count(5,B124,C124,D124,$C$1,G124,1,F124,E124*F124)","v":246.14550623304345},{"$f":"hosp_count(5,B124,C124,D124,$C$1,G124+H124,1,F124,E124*F124)","v":245.89800856157464},{"$f":"AF124-AG124","v":0.24749767146880686},{"$f":"hosp_count(10,B124,C124,D124,$C$1,G124,1,F124,E124*F124)","v":543.95568394694953},{"$f":"hosp_count(10,B124,C124,D124,$C$1,G124+H124,1,F124,E124*F124)","v":543.55762261437587},{"$f":"AI124-AJ124","v":0.39806133257366128},{"$f":"hosp_count(20,B124,C124,D124,$C$1,G124,1,F124,E124*F124)","v":1044.9780324703765},{"$f":"hosp_count(20,B124,C124,D124,$C$1,G124+H124,1,F124,E124*F124)","v":1044.7046742804625},{"$f":"AL124-AM124","v":0.27335818991400629},null,0.5,5]
["Male 75-79",77.5,"male",2,{"$f":"HLOOKUP('III Tool Overview'!$H$6,Prevalence!$B$2:$AV$268,Prevalence!AW119,FALSE)","v":0.11249999999999999},{"$f":"HLOOKUP('III Tool Overview'!$H$6,LookUpData_Pop!$B$1:$AV$269,LookUpData_Pop!BB124,FALSE)/5","v":58.2},{"$f":"'III Tool Overview'!$H$9/110","v":0},{"$f":"IF('III Tool Overview'!$H$10=\"Even distribution\",Targeting!C123,IF('III Tool Overview'!$H$10=\"Targetting to Q1\",Targeting!D123,IF('III Tool Overview'!$H$10=\"Targetting to Q1 & Q2\",Targeting!E123,IF('III Tool Overview'!$H$10=\"No variation in price elasticity\",Targeting!G123))))","v":7.56},2.9671709117283669,2.9639989845495682,11.798345224648832,11.78860306174969,25.740941510786126,25.728787742915372,47.010937697697187,47.007442727959472,62.310589146295705,62.24397867554093,6.6610470754774553E-2,230.14106069393563,229.94865106817417,0.19240962576145648,439.83510940890471,439.60284754443614,0.232261864468569,608.49645147994534,608.32635420796282,0.17009727198251312,38.22019217122822,38.193824144233545,2.6368026994674665E-2,148.26480432553308,148.18758109286702,7.7223232666057129E-2,311.15725442952385,311.06893232689589,8.8322102627955701E-2,533.17020140578916,533.15257202850864,1.7629377280513836E-2,null,0.5,5]
["Male 80-84",82.5,"male",2,{"$f":"HLOOKUP('III Tool Overview'!$H$6,Prevalence!$B$2:$AV$268,Prevalence!AW120,FALSE)","v":0.11249999999999999},{"$f":"HLOOKUP('III Tool Overview'!$H$6,LookUpData_Pop!$B$1:$AV$269,LookUpData_Pop!BB125,FALSE)/5","v":49.4},{"$f":"'III Tool Overview'!$H$9/110","v":0},{"$f":"IF('III Tool Overview'!$H$10=\"Even distribution\",Targeting!C124,IF('III Tool Overview'!$H$10=\"Targetting to Q1\",Targeting!D124,IF('III Tool Overview'!$H$10=\"Targetting to Q1 & Q2\",Targeting!E124,IF('III Tool Overview'!$H$10=\"No variation in price elasticity\",Targeting!G124))))","v":4.4099999999999993},3.3317298783768714,3.3296856545461866,12.851396268850417,12.845807446581695,26.591807215241818,26.586353069476353,43.781673716898453,43.780947018524998,56.639407932406812,56.604656127285175,3.4751805121636892E-2,199.60941617540954,199.52069461771708,8.8721557692451825E-2,351.96241990057604,351.87302724255682,8.9392658019221471E-2,423.9475091389823,423.87734795355357,7.0161185428730732E-2,37.300149652772262,37.284999740766622,1.5149912005639976E-2,140.74142521191678,140.70195917977935,3.9466032137426055E-2,281.57304725775941,281.53798434543381,3.5062912325599882E-2,440.52820616172079,440.52647635380828,1.7298079125112054E-3,null,0.5,5]
["Male 85-89",87.5,"male",2,{"$f":"HLOOKUP('III Tool Overview'!$H$6,Prevalence!$B$2:$AV$268,Prevalence!AW121,FALSE)","v":0.11249999999999999},{"$f":"HLOOKUP('III Tool Overview'!$H$6,LookUpData_Pop!$B$1:$AV$269,LookUpData_Pop!BB126,FALSE)/5","v":30.8},{"$f":"'III Tool Overview'!$H$9/110","v":0},{"$f":"IF('III Tool Overview'!$H$10=\"Even distribution\",Targeting!C125,IF('III Tool Overview'!$H$10=\"Targetting to Q1\",Targeting!D125,IF('III Tool Overview'!$H$10=\"Targetting to Q1 & Q2\",Targeting!E125,IF('III Tool Overview'!$H$10=\"No variation in price elasticity\",Targeting!G125))))","v":2.88},3.1436168912383149,3.1413736936561252,11.413145992304306,11.408475009322535,21.378872337242264,21.376306175458978,29.729417100723854,29.729360581537637,34.579785803621462,34.555110630217378,2.4675173404084205E-2,109.39457365111681,109.34688555205963,4.7688099057182853E-2,161.07710276981152,161.03880836755104,3.829440226047609E-2,150.45182307031496,150.4120049800496,3.9818090265356432E-2,28.671799913668593,28.657624623383743,1.4175290284850206E-2,102.20440765927496,102.17606421570939,2.8343443565574944E-2,186.34520694524662,186.33081492681504,1.439201843157889E-2,250.67264102789289,250.67295157118375,-3.1054329085122845E-4,null,0.5,{"$f":"2/#REF!","v":{"$error":"#REF!"}}]
["Male 90+",95,"male",2,{"$f":"HLOOKUP('III Tool Overview'!$H$6,Prevalence!$B$2:$AV$268,Prevalence!AW122,FALSE)","v":0.11249999999999999},{"$f":"HLOOKUP('III Tool Overview'!$H$6,LookUpData_Pop!$B$1:$AV$269,LookUpData_Pop!BB127,FALSE)/5","v":7},{"$f":"'III Tool Overview'!$H$9/110","v":0},{"$f":"IF('III Tool Overview'!$H$10=\"Even distribution\",Targeting!C126,IF('III Tool Overview'!$H$10=\"Targetting to Q1\",Targeting!D126,IF('III Tool Overview'!$H$10=\"Targetting to Q1 & Q2\",Targeting!E126,IF('III Tool Overview'!$H$10=\"No variation in price elasticity\",Targeting!G126))))","v":1.8},{"$f":"new_ci(2,B128,C128,D128,$C$1,G128,1,F128,E128*F128)","v":1.1389702592912423},{"$f":"new_ci(2,B128,C128,D128,$C$1,G128+H128,1,F128,E128*F128)","v":1.1368894095992401},{"$f":"new_ci(5,B128,C128,D128,$C$1,G128,1,F128,E128*F128)","v":3.6962084441490703},{"$f":"new_ci(5,B128,C128,D128,$C$1,G128+H128,1,F128,E128*F128)","v":3.6933801671295128},{"$f":"new_ci(10,B128,C128,D128,$C$1,G128,1,F128,E128*F128)","v":5.9381274713610628},{"$f":"new_ci(10,B128,C128,D128,$C$1,G128+H128,1,F128,E128*F128)","v":5.9374958337292236},{"$f":"new_ci(20,B128,C128,D128,$C$1,G128,1,F128,E128*F128)","v":6.9650144793157835},{"$f":"new_ci(20,B128,C128,D128,$C$1,G128+H128,1,F128,E128*F128)","v":6.965013650033133},{"$f":"new_yll(2,B128,C128,D128,$C$1,G128,1,F128,E128*F128)","v":4.5558810371649692},{"$f":"new_yll(2,B128,C128,D128,$C$1,G128+H128,1,F128,E128*F128)","v":4.5475576383969605},{"$f":"Q128-R128","v":8.323398768008694E-3},{"$f":"new_yll(5,B128,C128,D128,$C$1,G128,1,F128,E128*F128)","v":9.9299084955559156},{"$f":"new_yll(5,B128,C128,D128,$C$1,G128+H128,1,F128,E128*F128)","v":9.9189208507644935},{"$f":"T128-U128","v":1.0987644791422113E-2},{"$f":"new_yll(10,B128,C128,D128,$C$1,G128,1,F128,E128*F128)","v":6.2366835640181302},{"$f":"new_yll(10,B128,C128,D128,$C$1,G128+H128,1,F128,E128*F128)","v":6.2217431114882835},{"$f":"W128-X128","v":1.494045252984666E-2},{"$f":"new_yll(20,B128,C128,D128,$C$1,G128,1,F128,E128*F128)","v":-1.4955675448957182},{"$f":"new_yll(20,B128,C128,D128,$C$1,G128+H128,1,F128,E128*F128)","v":-1.5146102951532043},{"$f":"Z128-AA128","v":1.9042750257486141E-2},{"$f":"hosp_count(2,B128,C128,D128,$C$1,G128,1,F128,E128*F128)","v":8.3190997575005614},{"$f":"hosp_count(2,B128,C128,D128,$C$1,G128+H128,1,F128,E128*F128)","v":8.3073005524262555},{"$f":"AC128-AD128","v":1.1799205074305874E-2},{"$f":"hosp_count(5,B128,C128,D128,$C$1,G128,1,F128,E128*F128)","v":26.760818922610557},{"$f":"hosp_count(5,B128,C128,D128,$C$1,G128+H128,1,F128,E128*F128)","v":26.744663392636397},{"$f":"AF128-AG128","v":1.6155529974160032E-2},{"$f":"hosp_count(10,B128,C128,D128,$C$1,G128,1,F128,E128*F128)","v":42.401857547542541},{"$f":"hosp_count(10,B128,C128,D128,$C$1,G128+H128,1,F128,E128*F128)","v":42.39723912158717},{"$f":"AI128-AJ128","v":4.6184259553712081E-3},{"$f":"hosp_count(20,B128,C128,D128,$C$1,G128,1,F128,E128*F128)","v":49.097149681511134},{"$f":"hosp_count(20,B128,C128,D128,$C$1,G128+H128,1,F128,E128*F128)","v":49.095753122440243},{"$f":"AL128-AM128","v":1.3965590708906461E-3}]
["TOTAL",null,null,null,null,{"$f":"SUM(F113:F128)","v":1777.6000000000001},{"$f":"SUM(G113:G128)","v":0},{"$f":"SUM(H113:H128)","v":504.05000000000013},{"$f":"SUM(I113:I128)","v":26.187835965363078},{"$f":"SUM(J113:J128)","v":26.151335716420586},{"$f":"SUM(K113:K128)","v":105.50286595187379},{"$f":"SUM(L113:L128)","v":105.37457431274395},{"$f":"SUM(M113:M128)","v":239.85242300355335},{"$f":"SUM(N113:N128)","v":239.60932287634705},{"$f":"SUM(O113:O128)","v":511.8857717392915},{"$f":"SUM(P113:P128)","v":511.50938407526075},{"$f":"SUM(Q113:Q128)","v":748.87755975470793},{"$f":"SUM(R113:R128)","v":747.69592261294292},{"$f":"SUM(S113:S128)","v":1.1816371417650888},{"$f":"SUM(T113:T128)","v":2950.7182466574473},{"$f":"SUM(U113:U128)","v":2946.3582190840139},{"$f":"SUM(V113:V128)","v":4.3600275734333049},{"$f":"SUM(W113:W128)","v":6454.6647761043814},{"$f":"SUM(X113:X128)","v":6445.9741089432337},{"$f":"SUM(Y113:Y128)","v":8.690667161149225},{"$f":"SUM(Z113:Z128)","v":12708.682383641077},{"$f":"SUM(AA113:AA128)","v":12693.964213134528},{"$f":"SUM(AB113:AB128)","v":14.718170506549431},{"$f":"SUM(AC113:AC128)","v":525.64323586543276},{"$f":"SUM(AD113:AD128)","v":525.06174134637445},{"$f":"SUM(AE113:AE128)","v":0.58149451905826233},{"$f":"SUM(AF113:AF128)","v":2121.2286866307159},{"$f":"SUM(AG113:AG128)","v":2119.0688857053269},{"$f":"SUM(AH113:AH128)","v":2.1598009253890602},{"$f":"SUM(AI113:AI128)","v":4832.6869525616748},{"$f":"SUM(AJ113:AJ128)","v":4828.3220512391363},{"$f":"SUM(AK113:AK128)","v":4.36490132253779},{"$f":"SUM(AL113:AL128)","v":10355.842621263471},{"$f":"SUM(AM113:AM128)","v":10348.329505033174},{"$f":"SUM(AN113:AN128)","v":7.513116230297932}]
["Female <1",0.5,"female",2,null,{"$f":"HLOOKUP('III Tool Overview'!$H$6,LookUpData_Pop!$B$1:$AV$269,LookUpData_Pop!BB128,FALSE)/5","v":22.8},null,null,null,null,null,null,null,null,null,null,null,null,null,null,null,null,null,null,null,null,null,null,null,null,null,null,null,null,null,null,null,null,null,null,null,0.1,1]
["Female 1-4",2.5,"female",2,null,{"$f":"HLOOKUP('III Tool Overview'!$H$6,LookUpData_Pop!$B$1:$AV$269,LookUpData_Pop!BB129,FALSE)/5","v":83},null,null,null,null,null,null,null,null,null,null,null,null,null,null,null,null,null,null,null,null,null,null,null,null,null,null,null,null,null,null,null,null,null,null,null,0.5,4]
["Female 5-9",7.5,"female",2,null,{"$f":"HLOOKUP('III Tool Overview'!$H$6,LookUpData_Pop!$B$1:$AV$269,LookUpData_Pop!BB130,FALSE)/5","v":117},null,null,null,null,null,null,null,null,null,null,null,null,null,null,null,null,null,null,null,null,null,null,null,null,null,null,null,null,null,null,null,null,null,null,null,0.5,5]
["Female 10-14",12.5,"female",2,null,{"$f":"HLOOKUP('III Tool Overview'!$H$6,LookUpData_Pop!$B$1:$AV$269,LookUpData_Pop!BB131,FALSE)/5","v":117.8},null,null,null,null,null,null,null,null,null,null,null,null,null,null,null,null,null,null,null,null,null,null,null,null,null,null,null,null,null,null,null,null,null,null,null,0.5,5]
["Female 15-19",17.5,"female",2,{"$f":"HLOOKUP('III Tool Overview'!$H$6,Prevalence!$B$2:$AV$268,Prevalence!AW127,FALSE)","v":0.17727272727272728},{"$f":"HLOOKUP('III Tool Overview'!$H$6,LookUpData_Pop!$B$1:$AV$269,LookUpData_Pop!BB132,FALSE)/5","v":136.6},{"$f":"'III Tool Overview'!$H$9/110","v":0},{"$f":"IF('III Tool Overview'!$H$10=\"Even distribution\",Targeting!C132,IF('III Tool Overview'!$H$10=\"Targetting to Q1\",Targeting!D132,IF('III Tool Overview'!$H$10=\"Targetting to Q1 & Q2\",Targeting!E132,IF('III Tool Overview'!$H$10=\"No variation in price elasticity\",Targeting!G132))))","v":16.025454545454547},{"$f":"new_ci(2,B134,C134,D134,$C$1,G134,1,F134,E134*F134)","v":3.8177259443295773E-2},{"$f":"new_ci(2,B134,C134,D134,$C$1,G134+H134,1,F134,E134*F134)","v":3.8141986676595428E-2},{"$f":"new_ci(5,B134,C134,D134,$C$1,G134,1,F134,E134*F134)","v":0.16948571782231125},{"$f":"new_ci(5,B134,C134,D134,$C$1,G134+H134,1,F134,E134*F134)","v":0.16933020766623974},{"$f":"new_ci(10,B134,C134,D134,$C$1,G134,1,F134,E134*F134)","v":0.45704401025556135},{"$f":"new_ci(10,B134,C134,D134,$C$1,G134+H134,1,F134,E134*F134)","v":0.4566300620947919},{"$f":"new_ci(20,B134,C134,D134,$C$1,G134,1,F134,E134*F134)","v":1.4230154234658432},{"$f":"new_ci(20,B134,C134,D134,$C$1,G134+H134,1,F134,E134*F134)","v":1.421767802933747},{"$f":"new_yll(2,B134,C134,D134,$C$1,G134,1,F134,E134*F134)","v":3.0923580149069578},{"$f":"new_yll(2,B134,C134,D134,$C$1,G134+H134,1,F134,E134*F134)","v":3.0895009208042299},{"$f":"Q134-R134","v":2.8570941027279417E-3},{"$f":"new_yll(5,B134,C134,D134,$C$1,G134,1,F134,E134*F134)","v":13.459815940214719},{"$f":"new_yll(5,B134,C134,D134,$C$1,G134+H134,1,F134,E134*F134)","v":13.447465150225982},{"$f":"T134-U134","v":1.2350789988737176E-2},{"$f":"new_yll(10,B134,C134,D134,$C$1,G134,1,F134,E134*F134)","v":34.987972679863894},{"$f":"new_yll(10,B134,C134,D134,$C$1,G134+H134,1,F134,E134*F134)","v":34.95627141831968},{"$f":"W134-X134","v":3.1701261544213821E-2},{"$f":"new_yll(20,B134,C134,D134,$C$1,G134,1,F134,E134*F134)","v":99.66023855757993},{"$f":"new_yll(20,B134,C134,D134,$C$1,G134+H134,1,F134,E134*F134)","v":99.572685503005715},{"$f":"Z134-AA134","v":8.7553054574215139E-2},{"$f":"hosp_count(2,B134,C134,D134,$C$1,G134,1,F134,E134*F134)","v":15.936643511970466},{"$f":"hosp_count(2,B134,C134,D134,$C$1,G134+H134,1,F134,E134*F134)","v":15.92752210740187},{"$f":"AC134-AD134","v":9.1214045685958922E-3},{"$f":"hosp_count(5,B134,C134,D134,$C$1,G134,1,F134,E134*F134)","v":66.307015816417234},{"$f":"hosp_count(5,B134,C134,D134,$C$1,G134+H134,1,F134,E134*F134)","v":66.269351716424538},{"$f":"AF134-AG134","v":3.7664099992696265E-2},{"$f":"hosp_count(10,B134,C134,D134,$C$1,G134,1,F134,E134*F134)","v":159.46270813334709},{"$f":"hosp_count(10,B134,C134,D134,$C$1,G134+H134,1,F134,E134*F134)","v":159.3733483633647},{"$f":"AI134-AJ134","v":8.9359769982394255E-2},{"$f":"hosp_count(20,B134,C134,D134,$C$1,G134,1,F134,E134*F134)","v":385.83117501924465},{"$f":"hosp_count(20,B134,C134,D134,$C$1,G134+H134,1,F134,E134*F134)","v":385.62165299864955},{"$f":"AL134-AM134","v":0.20952202059510228},null,0.5,5]
["Female 20-24",22.5,"female",2,{"$f":"HLOOKUP('III Tool Overview'!$H$6,Prevalence!$B$2:$AV$268,Prevalence!AW128,FALSE)","v":0.17727272727272728},{"$f":"HLOOKUP('III Tool Overview'!$H$6,LookUpData_Pop!$B$1:$AV$269,LookUpData_Pop!BB133,FALSE)/5","v":98.2},{"$f":"'III Tool Overview'!$H$9/110","v":0},{"$f":"IF('III Tool Overview'!$H$10=\"Even distribution\",Targeting!C133,IF('III Tool Overview'!$H$10=\"Targetting to Q1\",Targeting!D133,IF('III Tool Overview'!$H$10=\"Targetting to Q1 & Q2\",Targeting!E133,IF('III Tool Overview'!$H$10=\"No variation in price elasticity\",Targeting!G133))))","v":17.443636363636365},{"$f":"new_ci(2,B135,C135,D135,$C$1,G135,1,F135,E135*F135)","v":3.8085626611431583E-2},3.803348699527645E-2,0.16904258976651249,0.16881287754696889,0.45563445565894128,0.45502392619653625,1.4163808116719836,1.4145501911147453,2.9325932490802318,2.9285784986362868,4.0147504439449477E-3,12.748483506397733,12.731158225135305,{"$f":"T135-U135","v":1.7325281262428049E-2},33.05802846956697,33.013712403907839,{"$f":"W135-X135","v":4.4316065659131709E-2},93.539966833142827,93.418780650006568,{"$f":"Z135-AA135","v":0.12118618313625973},{"$f":"hosp_count(2,B135,C135,D135,$C$1,G135,1,F135,E135*F135)","v":12.643631874104043},{"$f":"hosp_count(2,B135,C135,D135,$C$1,G135+H135,1,F135,E135*F135)","v":12.632923120506934},{"$f":"AC135-AD135","v":1.0708753597109322E-2},{"$f":"hosp_count(5,B135,C135,D135,$C$1,G135,1,F135,E135*F135)","v":52.596106483785874},{"$f":"hosp_count(5,B135,C135,D135,$C$1,G135+H135,1,F135,E135*F135)","v":52.551919757112749},{"$f":"AF135-AG135","v":4.4186726673125065E-2},{"$f":"hosp_count(10,B135,C135,D135,$C$1,G135,1,F135,E135*F135)","v":126.4401250404994},{"$f":"hosp_count(10,B135,C135,D135,$C$1,G135+H135,1,F135,E135*F135)","v":126.33544748106323},{"$f":"AI135-AJ135","v":0.10467755943616908},{"$f":"hosp_count(20,B135,C135,D135,$C$1,G135,1,F135,E135*F135)","v":305.56522482162285},{"$f":"hosp_count(20,B135,C135,D135,$C$1,G135+H135,1,F135,E135*F135)","v":305.32092490015737},{"$f":"AL135-AM135","v":0.24429992146548329},null,0.5,5]
["Female 25-29",27.5,"female",2,{"$f":"HLOOKUP('III Tool Overview'!$H$6,Prevalence!$B$2:$AV$268,Prevalence!AW129,FALSE)","v":0.21136363636363634},{"$f":"HLOOKUP('III Tool Overview'!$H$6,LookUpData_Pop!$B$1:$AV$269,LookUpData_Pop!BB134,FALSE)/5","v":111},{"$f":"'III Tool Overview'!$H$9/110","v":0},{"$f":"IF('III Tool Overview'!$H$10=\"Even distribution\",Targeting!C134,IF('III Tool Overview'!$H$10=\"Targetting to Q1\",Targeting!D134,IF('III Tool Overview'!$H$10=\"Targetting to Q1 & Q2\",Targeting!E134,IF('III Tool Overview'!$H$10=\"No variation in price elasticity\",Targeting!G134))))","v":20.629090909090905},7.0370943050271251E-2,7.0269296129097492E-2,0.31218411568521931,0.31173693069999431,0.84053289712121138,0.83934810456706443,2.6032614703154962,2.5997465481605841,4.9963369565692588,4.9891200251659216,7.2169314033372345E-3,21.670638508094363,21.639593656481988,3.1044851612374913E-2,55.942836027366184,55.863936299441107,7.889972792507649E-2,156.34623880154751,156.13447129601522,0.2117675055322934,16.569317806450979,16.554226587142281,1.509121930869739E-2,68.89688641285349,68.834708888562787,6.2177524290703445E-2,165.4788040281716,165.33196130091113,0.14684272726046288,398.80946217388436,398.47001489664967,0.33944727723468304,null,0.5,5]
["Female 30-34",32.5,"female",2,{"$f":"HLOOKUP('III Tool Overview'!$H$6,Prevalence!$B$2:$AV$268,Prevalence!AW130,FALSE)","v":0.21136363636363634},{"$f":"HLOOKUP('III Tool Overview'!$H$6,LookUpData_Pop!$B$1:$AV$269,LookUpData_Pop!BB135,FALSE)/5","v":116.6},{"$f":"'III Tool Overview'!$H$9/110","v":0},{"$f":"IF('III Tool Overview'!$H$10=\"Even distribution\",Targeting!C135,IF('III Tool Overview'!$H$10=\"Targetting to Q1\",Targeting!D135,IF('III Tool Overview'!$H$10=\"Targetting to Q1 & Q2\",Targeting!E135,IF('III Tool Overview'!$H$10=\"No variation in price elasticity\",Targeting!G135))))","v":17.416363636363634},0.10257205160597486,0.10245872628691503,0.45481131555731324,0.45431348949538708,1.2232192925090355,1.2219046018613797,3.7747676524885998,3.7709098702677792,6.8723274576003162,6.8647346612233076,7.5927963770086038E-3,29.752214451542564,29.719644660650335,3.2569790892228667E-2,76.523272406344589,76.440970963274609,8.2301443069979996E-2,211.66606422540283,211.44887610846118,0.21718811694165652,19.208541747396367,19.195104739330283,1.3437008066084388E-2,79.836952650201539,79.781675161376782,5.5277488824756915E-2,191.58494176972829,191.45480990636037,0.1301318633679216,460.47019279015922,460.17232109955074,0.29787169060847418,null,0.5,5]
["Female 35-39",37.5,"female",2,{"$f":"HLOOKUP('III Tool Overview'!$H$6,Prevalence!$B$2:$AV$268,Prevalence!AW131,FALSE)","v":0.25909090909090909},{"$f":"HLOOKUP('III Tool Overview'!$H$6,LookUpData_Pop!$B$1:$AV$269,LookUpData_Pop!BB136,FALSE)/5","v":145.4},{"$f":"'III Tool Overview'!$H$9/110","v":0},{"$f":"IF('III Tool Overview'!$H$10=\"Even distribution\",Targeting!C136,IF('III Tool Overview'!$H$10=\"Targetting to Q1\",Targeting!D136,IF('III Tool Overview'!$H$10=\"Targetting to Q1 & Q2\",Targeting!E136,IF('III Tool Overview'!$H$10=\"No variation in price elasticity\",Targeting!G136))))","v":26.945454545454545},0.20904264467741884,0.20876180590959281,0.92585316245051252,0.92462319951514182,2.4838972556800982,2.4806706089412058,7.6017082868099317,7.5924502993695908,12.75160132532255,12.734470160485161,1.7131164837389079E-2,55.011905848861602,54.93881346363672,7.309238522488215E-2,140.50095948326427,140.31827593831383,0.18268354495043582,380.92867623733594,380.46203914813015,0.46663708920578983,27.770362334851605,27.746151782464068,2.4210552387536666E-2,115.3096342873153,115.21034740907056,9.9286878244740251E-2,276.14670457580189,275.91448810928256,0.2322164665193327,659.6004188364667,659.07947601276226,0.52094282370444489,null,0.5,5]
["Female 40-44",42.5,"female",2,{"$f":"HLOOKUP('III Tool Overview'!$H$6,Prevalence!$B$2:$AV$268,Prevalence!AW132,FALSE)","v":0.25909090909090909},{"$f":"HLOOKUP('III Tool Overview'!$H$6,LookUpData_Pop!$B$1:$AV$269,LookUpData_Pop!BB137,FALSE)/5","v":144.80000000000001},{"$f":"'III Tool Overview'!$H$9/110","v":0},{"$f":"IF('III Tool Overview'!$H$10=\"Even distribution\",Targeting!C137,IF('III Tool Overview'!$H$10=\"Targetting to Q1\",Targeting!D137,IF('III Tool Overview'!$H$10=\"Targetting to Q1 & Q2\",Targeting!E137,IF('III Tool Overview'!$H$10=\"No variation in price elasticity\",Targeting!G137))))","v":29.018181818181819},0.2888147311788829,0.28839694395594428,1.2777257267583266,1.2759019284971611,3.4195035130882063,3.4147530548988803,10.380198469960131,10.366893054117648,16.462439677196326,16.438625805488826,2.3813871707499601E-2,70.809559469362995,70.708467902407733,0.10109156695526167,179.76486470046896,179.51482815412774,0.25003654634122086,479.01913051570898,478.40017889424405,0.61895162146493021,30.52108004144322,30.492396162613765,2.8683878829454557E-2,126.60844592449064,126.49120854348941,0.11723738100123171,302.59677631410636,302.32449172595852,0.27228458814784062,718.3808778651221,717.78310906536251,0.59776879975959218,null,0.5,5]
["Female 45-49",47.5,"female",2,{"$f":"HLOOKUP('III Tool Overview'!$H$6,Prevalence!$B$2:$AV$268,Prevalence!AW133,FALSE)","v":0.21818181818181817},{"$f":"HLOOKUP('III Tool Overview'!$H$6,LookUpData_Pop!$B$1:$AV$269,LookUpData_Pop!BB138,FALSE)/5","v":157.6},{"$f":"'III Tool Overview'!$H$9/110","v":0},{"$f":"IF('III Tool Overview'!$H$10=\"Even distribution\",Targeting!C138,IF('III Tool Overview'!$H$10=\"Targetting to Q1\",Targeting!D138,IF('III Tool Overview'!$H$10=\"Targetting to Q1 & Q2\",Targeting!E138,IF('III Tool Overview'!$H$10=\"No variation in price elasticity\",Targeting!G138))))","v":30.894545454545455},0.51353846141650705,0.51277618086157206,2.2662134398945097,2.2629133114806437,6.0319390071426051,6.0234982947798752,17.985671802725122,17.963440981676637,26.190461532241859,26.151585223940174,3.8876308301684759E-2,111.99730792057539,111.83416306307208,0.16314485750331187,280.98726870550263,280.59327184622958,0.39399685927304517,723.5337404237963,722.62621013767352,0.90753028612277831,38.513132469330792,38.47680773598303,3.6324733347761651E-2,159.41473475921842,159.2675337805199,0.14720097869852111,379.2997244524708,378.96390757296621,0.33581687950459127,888.41575468621124,887.71797757435183,0.69777711185940916,null,0.5,5]
["Female 50-54",52.5,"female",2,{"$f":"HLOOKUP('III Tool Overview'!$H$6,Prevalence!$B$2:$AV$268,Prevalence!AW134,FALSE)","v":0.21818181818181817},{"$f":"HLOOKUP('III Tool Overview'!$H$6,LookUpData_Pop!$B$1:$AV$269,LookUpData_Pop!BB139,FALSE)/5","v":160.6},{"$f":"'III Tool Overview'!$H$9/110","v":0},{"$f":"IF('III Tool Overview'!$H$10=\"Even distribution\",Targeting!C139,IF('III Tool Overview'!$H$10=\"Targetting to Q1\",Targeting!D139,IF('III Tool Overview'!$H$10=\"Targetting to Q1 & Q2\",Targeting!E139,IF('III Tool Overview'!$H$10=\"No variation in price elasticity\",Targeting!G139))))","v":26.181818181818183},0.72571113641691376,0.72482779367596017,3.1944221431797879,3.190627187505882,8.4561054712037684,8.4465614687271753,24.770824252011021,24.747079393123045,34.108423411594949,34.066906302770128,4.151710882482007E-2,145.09864636495328,144.92619516586825,0.1724511990850317,360.19732909372522,359.78961440475894,0.40771468896627994,899.41840658997819,898.53701404579954,0.88139254417865232,43.312411787924916,43.278823917959571,3.3587869965344908E-2,178.88882865561885,178.75379284276255,0.13503581285630162,423.72749279855771,423.42448587302556,0.30300692553214503,979.34101494630499,978.74259001517919,0.59842493112580541,null,0.5,5]
["Female 55-59",57.5,"female",2,{"$f":"HLOOKUP('III Tool Overview'!$H$6,Prevalence!$B$2:$AV$268,Prevalence!AW135,FALSE)","v":0.1977272727272727},{"$f":"HLOOKUP('III Tool Overview'!$H$6,LookUpData_Pop!$B$1:$AV$269,LookUpData_Pop!BB140,FALSE)/5","v":147},{"$f":"'III Tool Overview'!$H$9/110","v":0},{"$f":"IF('III Tool Overview'!$H$10=\"Even distribution\",Targeting!C140,IF('III Tool Overview'!$H$10=\"Targetting to Q1\",Targeting!D140,IF('III Tool Overview'!$H$10=\"Targetting to Q1 & Q2\",Targeting!E140,IF('III Tool Overview'!$H$10=\"No variation in price elasticity\",Targeting!G140))))","v":25.150909090909089},1.0841756519840535,1.0827655220456558,4.74538839498973,4.7394414190098537,12.410139241648102,12.395778392267413,34.982780030484122,34.951631138248089,44.451201731346195,44.393386403871887,5.7815327474308731E-2,187.09679169433662,186.86213867462772,0.23465301970890096,454.51995738913752,453.99117017013651,0.52878721900100345,1066.6046546248383,1065.6111643760396,0.9934902487987074,45.96269184434594,45.924884140844995,3.7807703500945422E-2,188.90600940130818,188.75687827628181,0.14913112502637205,442.99550653945403,442.67394264032794,0.32156389912609029,994.53345047881112,993.97111852149828,0.56233195731283558,null,0.5,5]
["Female 60-64",62.5,"female",2,{"$f":"HLOOKUP('III Tool Overview'!$H$6,Prevalence!$B$2:$AV$268,Prevalence!AW136,FALSE)","v":0.1977272727272727},{"$f":"HLOOKUP('III Tool Overview'!$H$6,LookUpData_Pop!$B$1:$AV$269,LookUpData_Pop!BB141,FALSE)/5","v":164},{"$f":"'III Tool Overview'!$H$9/110","v":0},{"$f":"IF('III Tool Overview'!$H$10=\"Even distribution\",Targeting!C141,IF('III Tool Overview'!$H$10=\"Targetting to Q1\",Targeting!D141,IF('III Tool Overview'!$H$10=\"Targetting to Q1 & Q2\",Targeting!E141,IF('III Tool Overview'!$H$10=\"No variation in price elasticity\",Targeting!G141))))","v":24.518181818181816},1.675817772662795,1.6738667745337483,7.2936611449668263,7.2855803264967101,18.846800355082948,18.828044267133627,51.204042708438486,51.168453044505853,62.005257588523413,61.933070657748686,7.2186930774726932E-2,258.4265059045714,258.13985781477442,0.28664808979698364,615.41559264192813,614.79806066308458,0.61753197884354449,1365.4493633821,1364.426331677005,1.0230317050950362,56.590843221478153,56.549075910928266,4.1767310549886361E-2,231.45150264059825,231.28978088884469,0.16172175175356074,537.42038153344674,537.08494631182293,0.33543522162381123,1173.3387568688681,1172.8172513757031,0.52150549316502293,null,0.5,5]
["Female 65-69",67.5,"female",2,{"$f":"HLOOKUP('III Tool Overview'!$H$6,Prevalence!$B$2:$AV$268,Prevalence!AW137,FALSE)","v":0.1568181818181818},{"$f":"HLOOKUP('III Tool Overview'!$H$6,LookUpData_Pop!$B$1:$AV$269,LookUpData_Pop!BB142,FALSE)/5","v":147.4},{"$f":"'III Tool Overview'!$H$9/110","v":0},{"$f":"IF('III Tool Overview'!$H$10=\"Even distribution\",Targeting!C142,IF('III Tool Overview'!$H$10=\"Targetting to Q1\",Targeting!D142,IF('III Tool Overview'!$H$10=\"Targetting to Q1 & Q2\",Targeting!E142,IF('III Tool Overview'!$H$10=\"No variation in price elasticity\",Targeting!G142))))","v":19.57090909090909},2.4534523637444128,2.4508295605973851,10.547303207037826,10.536919188653336,26.560798805513031,26.538968762110716,66.905925864241922,66.876276412127936,76.057023276076791,75.975716378518939,8.1306897557851698E-2,310.53054083793722,310.22409523110605,0.30644560683117561,709.60097645603992,709.00725096188285,0.59372549415706999,1408.1516719762831,1407.3994511434155,0.75222083286757879,58.968637719073214,58.929170544953017,3.9467174120197512E-2,238.57486848986181,238.4289565695131,0.14591192034870915,542.11404868012073,541.83935973016855,0.27468894995217852,1116.4751334108007,1116.1552638375633,0.31986957323738352,null,0.5,5]
["Female 70-74",72.5,"female",2,{"$f":"HLOOKUP('III Tool Overview'!$H$6,Prevalence!$B$2:$AV$268,Prevalence!AW138,FALSE)","v":0.1568181818181818},{"$f":"HLOOKUP('III Tool Overview'!$H$6,LookUpData_Pop!$B$1:$AV$269,LookUpData_Pop!BB143,FALSE)/5","v":117.6},{"$f":"'III Tool Overview'!$H$9/110","v":0},{"$f":"IF('III Tool Overview'!$H$10=\"Even distribution\",Targeting!C143,IF('III Tool Overview'!$H$10=\"Targetting to Q1\",Targeting!D143,IF('III Tool Overview'!$H$10=\"Targetting to Q1 & Q2\",Targeting!E143,IF('III Tool Overview'!$H$10=\"No variation in price elasticity\",Targeting!G143))))","v":15.305454545454545},{"$f":"new_ci(2,B145,C145,D145,$C$1,G145,1,F145,E145*F145)","v":2.7064699202529017},{"$f":"new_ci(2,B145,C145,D145,$C$1,G145+H145,1,F145,E145*F145)","v":2.7037652725290182},{"$f":"new_ci(5,B145,C145,D145,$C$1,G145,1,F145,E145*F145)","v":11.491950290789614},{"$f":"new_ci(5,B145,C145,D145,$C$1,G145+H145,1,F145,E145*F145)","v":11.4816917739983},{"$f":"new_ci(10,B145,C145,D145,$C$1,G145,1,F145,E145*F145)","v":28.217016094959646},{"$f":"new_ci(10,B145,C145,D145,$C$1,G145+H145,1,F145,E145*F145)","v":28.197386545357016},{"$f":"new_ci(20,B145,C145,D145,$C$1,G145,1,F145,E145*F145)","v":66.288893610756446},{"$f":"new_ci(20,B145,C145,D145,$C$1,G145+H145,1,F145,E145*F145)","v":66.269490940643792},{"$f":"new_yll(2,B145,C145,D145,$C$1,G145,1,F145,E145*F145)","v":73.07468784682834},{"$f":"new_yll(2,B145,C145,D145,$C$1,G145+H145,1,F145,E145*F145)","v":73.001662358283497},{"$f":"Q145-R145","v":7.3025488544843142E-2},{"$f":"new_yll(5,B145,C145,D145,$C$1,G145,1,F145,E145*F145)","v":292.49124545880613},{"$f":"new_yll(5,B145,C145,D145,$C$1,G145+H145,1,F145,E145*F145)","v":292.229149756862},{"$f":"T145-U145","v":0.26209570194413345},{"$f":"new_yll(10,B145,C145,D145,$C$1,G145,1,F145,E145*F145)","v":642.74604651962557},{"$f":"new_yll(10,B145,C145,D145,$C$1,G145+H145,1,F145,E145*F145)","v":642.28513970624351},{"$f":"W145-X145","v":0.46090681338205286},{"$f":"new_yll(20,B145,C145,D145,$C$1,G145,1,F145,E145*F145)","v":1154.5862614446762},{"$f":"new_yll(20,B145,C145,D145,$C$1,G145+H145,1,F145,E145*F145)","v":1154.1064126237106},{"$f":"Z145-AA145","v":0.47984882096557158},{"$f":"hosp_count(2,B145,C145,D145,$C$1,G145,1,F145,E145*F145)","v":51.921248784023668},{"$f":"hosp_count(2,B145,C145,D145,$C$1,G145+H145,1,F145,E145*F145)","v":51.888534777431815},{"$f":"AC145-AD145","v":3.2714006591852751E-2},{"$f":"hosp_count(5,B145,C145,D145,$C$1,G145,1,F145,E145*F145)","v":207.79810469507424},{"$f":"hosp_count(5,B145,C145,D145,$C$1,G145+H145,1,F145,E145*F145)","v":207.68233398942584},{"$f":"AF145-AG145","v":0.11577070564840142},{"$f":"hosp_count(10,B145,C145,D145,$C$1,G145,1,F145,E145*F145)","v":462.29909583111663},{"$f":"hosp_count(10,B145,C145,D145,$C$1,G145+H145,1,F145,E145*F145)","v":462.10027753381769},{"$f":"AI145-AJ145","v":0.19881829729894207},{"$f":"hosp_count(20,B145,C145,D145,$C$1,G145,1,F145,E145*F145)","v":902.36498997137278},{"$f":"hosp_count(20,B145,C145,D145,$C$1,G145+H145,1,F145,E145*F145)","v":902.18762268605383},{"$f":"AL145-AM145","v":0.17736728531895096},null,0.5,5]
["Female 75-79",77.5,"female",2,{"$f":"HLOOKUP('III Tool Overview'!$H$6,Prevalence!$B$2:$AV$268,Prevalence!AW139,FALSE)","v":6.8181818181818177E-2},{"$f":"HLOOKUP('III Tool Overview'!$H$6,LookUpData_Pop!$B$1:$AV$269,LookUpData_Pop!BB144,FALSE)/5","v":96},{"$f":"'III Tool Overview'!$H$9/110","v":0},{"$f":"IF('III Tool Overview'!$H$10=\"Even distribution\",Targeting!C144,IF('III Tool Overview'!$H$10=\"Targetting to Q1\",Targeting!D144,IF('III Tool Overview'!$H$10=\"Targetting to Q1 & Q2\",Targeting!E144,IF('III Tool Overview'!$H$10=\"No variation in price elasticity\",Targeting!G144))))","v":4.8000000000000007},3.5854953654911919,3.5839392758457875,14.856595623743324,14.85136008627277,34.729757961683845,34.722056014386581,71.590155408402993,71.587022831473561,75.295402675315032,75.262724792761531,3.2677882553500126E-2,289.28882289553633,289.18588813205065,0.10293476348567765,587.07251463679336,586.93073363587769,0.14178100091567103,871.59712096462295,871.48441644057277,0.11270452405017295,49.139454945894585,49.126304790567836,1.3150155326748347E-2,192.21563181576525,192.17439880460725,4.1233011157999044E-2,409.22121397255535,409.16632173554302,5.489223701232504E-2,717.89651574981474,717.87170647398966,2.4809275825077748E-2,null,0.5,5]
["Female 80-84",82.5,"female",2,{"$f":"HLOOKUP('III Tool Overview'!$H$6,Prevalence!$B$2:$AV$268,Prevalence!AW140,FALSE)","v":6.8181818181818177E-2},{"$f":"HLOOKUP('III Tool Overview'!$H$6,LookUpData_Pop!$B$1:$AV$269,LookUpData_Pop!BB145,FALSE)/5","v":68.8},{"$f":"'III Tool Overview'!$H$9/110","v":0},{"$f":"IF('III Tool Overview'!$H$10=\"Even distribution\",Targeting!C145,IF('III Tool Overview'!$H$10=\"Targetting to Q1\",Targeting!D145,IF('III Tool Overview'!$H$10=\"Targetting to Q1 & Q2\",Targeting!E145,IF('III Tool Overview'!$H$10=\"No variation in price elasticity\",Targeting!G145))))","v":3.9272727272727268},3.5377973028236727,3.5361214223464508,14.284486877531682,14.279413464909885,31.776737809611774,31.770818020055721,58.344366411655365,58.343265550568283,60.142554148002432,60.114064179889667,2.8489968112765496E-2,221.32035622603507,221.24036303738981,7.9993188645261171E-2,414.2287142315875,414.13734741116048,9.1366820427026596E-2,520.18993911655468,520.115732639165,7.4206477389680003E-2,38.86527423025418,38.853662744915603,1.1611485338576699E-2,148.51958600315677,148.48680741962252,3.2778583534252448E-2,302.93840747623665,302.90339972710922,3.5007749127430543E-2,485.57230205242138,485.5624249789999,9.8770734214781442E-3,null,0.5,5]
["Female 85-89",87.5,"female",2,{"$f":"HLOOKUP('III Tool Overview'!$H$6,Prevalence!$B$2:$AV$268,Prevalence!AW141,FALSE)","v":6.8181818181818177E-2},{"$f":"HLOOKUP('III Tool Overview'!$H$6,LookUpData_Pop!$B$1:$AV$269,LookUpData_Pop!BB146,FALSE)/5","v":42},{"$f":"'III Tool Overview'!$H$9/110","v":0},{"$f":"IF('III Tool Overview'!$H$10=\"Even distribution\",Targeting!C146,IF('III Tool Overview'!$H$10=\"Targetting to Q1\",Targeting!D146,IF('III Tool Overview'!$H$10=\"Targetting to Q1 & Q2\",Targeting!E146,IF('III Tool Overview'!$H$10=\"No variation in price elasticity\",Targeting!G146))))","v":3},3.4681337806711254,3.4662148984959673,13.232374062106381,13.227807656179282,26.589388942818303,26.586246624103246,40.003385256579591,40.003287048775277,38.149471587382379,38.128363883455641,2.1107703926737997E-2,126.26547189010121,126.2196214853078,4.5850404793412736E-2,194.71117621931131,194.67087955131231,4.0296667999001556E-2,175.33902612422645,175.29589644353501,4.3129680691436079E-2,27.507041513977505,27.496938719254516,1.0102794722989472E-2,99.843500622106816,99.820898050169433,2.2602571937383686E-2,186.38358273105226,186.36853457525993,1.5048155792328544E-2,255.96860074967569,255.96562127517234,2.979474503348456E-3,null,0.5,{"$f":"2/#REF!","v":{"$error":"#REF!"}}]
["Female 90+",95,"female",2,{"$f":"HLOOKUP('III Tool Overview'!$H$6,Prevalence!$B$2:$AV$268,Prevalence!AW142,FALSE)","v":6.8181818181818177E-2},{"$f":"HLOOKUP('III Tool Overview'!$H$6,LookUpData_Pop!$B$1:$AV$269,LookUpData_Pop!BB147,FALSE)/5","v":30},{"$f":"'III Tool Overview'!$H$9/110","v":0},{"$f":"IF('III Tool Overview'!$H$10=\"Even distribution\",Targeting!C147,IF('III Tool Overview'!$H$10=\"Targetting to Q1\",Targeting!D147,IF('III Tool Overview'!$H$10=\"Targetting to Q1 & Q2\",Targeting!E147,IF('III Tool Overview'!$H$10=\"No variation in price elasticity\",Targeting!G147))))","v":2.0727272727272728},{"$f":"new_ci(2,B149,C149,D149,$C$1,G149,1,F149,E149*F149)","v":4.24465571160877},{"$f":"new_ci(2,B149,C149,D149,$C$1,G149+H149,1,F149,E149*F149)","v":4.2426731074164694},{"$f":"new_ci(5,B149,C149,D149,$C$1,G149,1,F149,E149*F149)","v":14.58726208804236},{"$f":"new_ci(5,B149,C149,D149,$C$1,G149+H149,1,F149,E149*F149)","v":14.584357311171019},{"$f":"new_ci(10,B149,C149,D149,$C$1,G149,1,F149,E149*F149)","v":24.828705603696079},{"$f":"new_ci(10,B149,C149,D149,$C$1,G149+H149,1,F149,E149*F149)","v":24.828015926995054},{"$f":"new_ci(20,B149,C149,D149,$C$1,G149,1,F149,E149*F149)","v":29.861117223537484},{"$f":"new_ci(20,B149,C149,D149,$C$1,G149+H149,1,F149,E149*F149)","v":29.861116630984657},{"$f":"new_yll(2,B149,C149,D149,$C$1,G149,1,F149,E149*F149)","v":16.97862284643508},{"$f":"new_yll(2,B149,C149,D149,$C$1,G149+H149,1,F149,E149*F149)","v":16.970692429665878},{"$f":"Q149-R149","v":7.9304167692022531E-3},{"$f":"new_yll(5,B149,C149,D149,$C$1,G149,1,F149,E149*F149)","v":38.440916042437209},{"$f":"new_yll(5,B149,C149,D149,$C$1,G149+H149,1,F149,E149*F149)","v":38.429999996759051},{"$f":"T149-U149","v":1.0916045678158071E-2},{"$f":"new_yll(10,B149,C149,D149,$C$1,G149,1,F149,E149*F149)","v":21.083217893540887},{"$f":"new_yll(10,B149,C149,D149,$C$1,G149+H149,1,F149,E149*F149)","v":21.068159816191816},{"$f":"W149-X149","v":1.5058077349070942E-2},{"$f":"new_yll(20,B149,C149,D149,$C$1,G149,1,F149,E149*F149)","v":-16.691266171744058},{"$f":"new_yll(20,B149,C149,D149,$C$1,G149+H149,1,F149,E149*F149)","v":-16.710785563621187},{"$f":"Z149-AA149","v":1.9519391877128811E-2},{"$f":"hosp_count(2,B149,C149,D149,$C$1,G149,1,F149,E149*F149)","v":23.347516478722493},{"$f":"hosp_count(2,B149,C149,D149,$C$1,G149+H149,1,F149,E149*F149)","v":23.339493913881885},{"$f":"AC149-AD149","v":8.0225648406084815E-3},{"$f":"hosp_count(5,B149,C149,D149,$C$1,G149,1,F149,E149*F149)","v":76.954817259889381},{"$f":"hosp_count(5,B149,C149,D149,$C$1,G149+H149,1,F149,E149*F149)","v":76.943139443182943},{"$f":"AF149-AG149","v":1.1677816706438193E-2},{"$f":"hosp_count(10,B149,C149,D149,$C$1,G149,1,F149,E149*F149)","v":124.09103527427435},{"$f":"hosp_count(10,B149,C149,D149,$C$1,G149+H149,1,F149,E149*F149)","v":124.08691167859844},{"$f":"AI149-AJ149","v":4.1235956759066994E-3},{"$f":"hosp_count(20,B149,C149,D149,$C$1,G149,1,F149,E149*F149)","v":143.39546470603239},{"$f":"hosp_count(20,B149,C149,D149,$C$1,G149+H149,1,F149,E149*F149)","v":143.39344657704254},{"$f":"AL149-AM149","v":2.0181289898459909E-3}]
["TOTAL",null,null,null,null,{"$f":"SUM(F134:F149)","v":1883.6},{"$f":"SUM(G134:G149)","v":0},{"$f":"SUM(H134:H149)","v":282.89999999999998},{"$f":"SUM(I134:I149)","v":24.742310723639619},{"$f":"SUM(J134:J149)","v":24.723842054301436},{"$f":"SUM(K134:K149)","v":99.808759900322258},{"$f":"SUM(L134:L149)","v":99.744830359098572},{"$f":"SUM(M134:M149)","v":227.32722071767316},{"$f":"SUM(N134:N149)","v":227.20570467447629},{"$f":"SUM(O134:O149)","v":489.13649468354453},{"$f":"SUM(P134:P149)","v":488.93738173809123},{"$f":"SUM(Q134:Q149)","v":553.56076332442206},{"$f":"SUM(R134:R149)","v":553.04320268270976},{"$f":"SUM(S134:S149)","v":0.51756064171234861},{"$f":"SUM(T134:T149)","v":2184.4092229597636},{"$f":"SUM(U134:U149)","v":2182.4766154163558},{"$f":"SUM(V134:V149)","v":1.9326075434079595},{"$f":"SUM(W134:W149)","v":4801.3407275540667},{"$f":"SUM(X134:X149)","v":4797.3796233442636},{"$f":"SUM(Y134:Y149)","v":3.9611042098038247},{"$f":"SUM(Z134:Z149)","v":9589.3392336460511},{"$f":"SUM(AA134:AA149)","v":9582.3288755631602},{"$f":"SUM(AB134:AB149)","v":7.0103580828918872},{"$f":"SUM(AC134:AC149)","v":556.77783031124204},{"$f":"SUM(AD134:AD149)","v":556.41202169617975},{"$f":"SUM(AE134:AE149)","v":0.36580861506238982},{"$f":"SUM(AF134:AF149)","v":2232.1226259176615},{"$f":"SUM(AG134:AG149)","v":2230.743731540967},{"$f":"SUM(AH134:AH149)","v":1.3788943766951931},{"$f":"SUM(AI134:AI149)","v":5032.200549150939},{"$f":"SUM(AJ134:AJ149)","v":5029.3466342655802},{"$f":"SUM(AK134:AK149)","v":2.8539148853598704},{"$f":"SUM(AL134:AL149)","v":10585.959335126814},{"$f":"SUM(AM134:AM149)","v":10580.832522288685},{"$f":"SUM(AN134:AN149)","v":5.1268128381269378}]
["age/sex breakdown: Q3"]
["Male <1",0.5,"male",3,null,{"$f":"HLOOKUP('III Tool Overview'!$H$6,LookUpData_Pop!$B$1:$AV$269,LookUpData_Pop!BB149,FALSE)/5","v":17.8},null,null,null,null,null,null,null,null,null,null,null,null,null,null,null,null,null,null,null,null,null,null,null,null,null,null,null,null,null,null,null,null,null,null,null,0.1,1]
["Male 1-4",2.5,"male",3,null,{"$f":"HLOOKUP('III Tool Overview'!$H$6,LookUpData_Pop!$B$1:$AV$269,LookUpData_Pop!BB150,FALSE)/5","v":74.400000000000006},null,null,null,null,null,null,null,null,null,null,null,null,null,null,null,null,null,null,null,null,null,null,null,null,null,null,null,null,null,null,null,null,null,null,null,0.5,4]
["Male 5-9",7.5,"male",3,null,{"$f":"HLOOKUP('III Tool Overview'!$H$6,LookUpData_Pop!$B$1:$AV$269,LookUpData_Pop!BB151,FALSE)/5","v":84},null,null,null,null,null,null,null,null,null,null,null,null,null,null,null,null,null,null,null,null,null,null,null,null,null,null,null,null,null,null,null,null,null,null,null,0.5,5]
["Male 10-14",12.5,"male",3,null,{"$f":"HLOOKUP('III Tool Overview'!$H$6,LookUpData_Pop!$B$1:$AV$269,LookUpData_Pop!BB152,FALSE)/5","v":111.8},null,null,null,null,null,null,null,null,null,null,null,null,null,null,null,null,null,null,null,null,null,null,null,null,null,null,null,null,null,null,null,null,null,null,null,0.5,5]
["Male 15-19",17.5,"male",3,{"$f":"HLOOKUP('III Tool Overview'!$H$6,Prevalence!$B$2:$AV$268,Prevalence!AW148,FALSE)","v":0.27500000000000002},{"$f":"HLOOKUP('III Tool Overview'!$H$6,LookUpData_Pop!$B$1:$AV$269,LookUpData_Pop!BB153,FALSE)/5","v":112.4},{"$f":"'III Tool Overview'!$H$9/110","v":0},{"$f":"IF('III Tool Overview'!$H$10=\"Even distribution\",Targeting!C154,IF('III Tool Overview'!$H$10=\"Targetting to Q1\",Targeting!D154,IF('III Tool Overview'!$H$10=\"Targetting to Q1 & Q2\",Targeting!E154,IF('III Tool Overview'!$H$10=\"No variation in price elasticity\",Targeting!G154))))","v":17.820000000000004},{"$f":"new_ci(2,B156,C156,D156,$C$1,G156,1,F156,E156*F156)","v":6.2746344939733856E-2},{"$f":"new_ci(2,B156,C156,D156,$C$1,G156+H156,1,F156,E156*F156)","v":6.2674564522058107E-2},{"$f":"new_ci(5,B156,C156,D156,$C$1,G156,1,F156,E156*F156)","v":0.27424849536800322},{"$f":"new_ci(5,B156,C156,D156,$C$1,G156+H156,1,F156,E156*F156)","v":0.27393717205224222},{"$f":"new_ci(10,B156,C156,D156,$C$1,G156,1,F156,E156*F156)","v":0.7190073100186537},{"$f":"new_ci(10,B156,C156,D156,$C$1,G156+H156,1,F156,E156*F156)","v":0.71820280765095579},{"$f":"new_ci(20,B156,C156,D156,$C$1,G156,1,F156,E156*F156)","v":2.0988761579235464},{"$f":"new_ci(20,B156,C156,D156,$C$1,G156+H156,1,F156,E156*F156)","v":2.0966113751652982},{"$f":"new_yll(2,B156,C156,D156,$C$1,G156,1,F156,E156*F156)","v":5.0824539401184428},{"$f":"new_yll(2,B156,C156,D156,$C$1,G156+H156,1,F156,E156*F156)","v":5.0766397262867065},{"$f":"Q156-R156","v":5.8142138317363035E-3},{"$f":"new_yll(5,B156,C156,D156,$C$1,G156,1,F156,E156*F156)","v":21.782996494023166},{"$f":"new_yll(5,B156,C156,D156,$C$1,G156+H156,1,F156,E156*F156)","v":21.758266801278538},{"$f":"T156-U156","v":2.4729692744628551E-2},{"$f":"new_yll(10,B156,C156,D156,$C$1,G156,1,F156,E156*F156)","v":55.088855609510553},{"$f":"new_yll(10,B156,C156,D156,$C$1,G156+H156,1,F156,E156*F156)","v":55.027188815730845},{"$f":"W156-X156","v":6.1666793779707518E-2},{"$f":"new_yll(20,B156,C156,D156,$C$1,G156,1,F156,E156*F156)","v":147.58529860284054},{"$f":"new_yll(20,B156,C156,D156,$C$1,G156+H156,1,F156,E156*F156)","v":147.42566851913509},{"$f":"Z156-AA156","v":0.1596300837054514},{"$f":"hosp_count(2,B156,C156,D156,$C$1,G156,1,F156,E156*F156)","v":7.8756828878751879},{"$f":"hosp_count(2,B156,C156,D156,$C$1,G156+H156,1,F156,E156*F156)","v":7.8698004916876521},{"$f":"AC156-AD156","v":5.8823961875358322E-3},{"$f":"hosp_count(5,B156,C156,D156,$C$1,G156,1,F156,E156*F156)","v":33.272528357805236},{"$f":"hosp_count(5,B156,C156,D156,$C$1,G156+H156,1,F156,E156*F156)","v":33.247890824971186},{"$f":"AF156-AG156","v":2.4637532834049125E-2},{"$f":"hosp_count(10,B156,C156,D156,$C$1,G156,1,F156,E156*F156)","v":82.154615882520687},{"$f":"hosp_count(10,B156,C156,D156,$C$1,G156+H156,1,F156,E156*F156)","v":82.094736058338697},{"$f":"AI156-AJ156","v":5.9879824181990671E-2},{"$f":"hosp_count(20,B156,C156,D156,$C$1,G156,1,F156,E156*F156)","v":210.1861152428088},{"$f":"hosp_count(20,B156,C156,D156,$C$1,G156+H156,1,F156,E156*F156)","v":210.03866234790695},{"$f":"AL156-AM156","v":0.14745289490184632},null,0.5,5]
["Male 20-24",22.5,"male",3,{"$f":"HLOOKUP('III Tool Overview'!$H$6,Prevalence!$B$2:$AV$268,Prevalence!AW149,FALSE)","v":0.27500000000000002},{"$f":"HLOOKUP('III Tool Overview'!$H$6,LookUpData_Pop!$B$1:$AV$269,LookUpData_Pop!BB154,FALSE)/5","v":121},{"$f":"'III Tool Overview'!$H$9/110","v":0},{"$f":"IF('III Tool Overview'!$H$10=\"Even distribution\",Targeting!C155,IF('III Tool Overview'!$H$10=\"Targetting to Q1\",Targeting!D155,IF('III Tool Overview'!$H$10=\"Targetting to Q1 & Q2\",Targeting!E155,IF('III Tool Overview'!$H$10=\"No variation in price elasticity\",Targeting!G155))))","v":20.900000000000006},9.0226132896024991E-2,9.0113971211745025E-2,0.3942091280598452,0.39372318704225184,1.0327036689203619,1.031450774242374,3.0072580251218413,3.0037559211413689,6.9474122329939245,6.9387757833043668,8.6364496895576792E-3,29.734505997110386,29.697849040755116,{"$f":"T157-U157","v":3.6656956355269443E-2},74.994727498442131,74.903695239567213,{"$f":"W157-X157","v":9.103225887491817E-2},199.4642577023495,199.23130620789627,{"$f":"Z157-AA157","v":0.23295149445323204},{"$f":"hosp_count(2,B157,C157,D157,$C$1,G157,1,F157,E157*F157)","v":9.7481235249373537},{"$f":"hosp_count(2,B157,C157,D157,$C$1,G157+H157,1,F157,E157*F157)","v":9.7402217936587316},{"$f":"AC157-AD157","v":7.9017312786220373E-3},{"$f":"hosp_count(5,B157,C157,D157,$C$1,G157,1,F157,E157*F157)","v":41.169589941027802},{"$f":"hosp_count(5,B157,C157,D157,$C$1,G157+H157,1,F157,E157*F157)","v":41.136532222846391},{"$f":"AF157-AG157","v":3.3057718181410678E-2},{"$f":"hosp_count(10,B157,C157,D157,$C$1,G157,1,F157,E157*F157)","v":101.58543607118929},{"$f":"hosp_count(10,B157,C157,D157,$C$1,G157+H157,1,F157,E157*F157)","v":101.50527875694007},{"$f":"AI157-AJ157","v":8.0157314249220235E-2},{"$f":"hosp_count(20,B157,C157,D157,$C$1,G157,1,F157,E157*F157)","v":259.37977132951568},{"$f":"hosp_count(20,B157,C157,D157,$C$1,G157+H157,1,F157,E157*F157)","v":259.18376232136535},{"$f":"AL157-AM157","v":0.19600900815032674},null,0.5,5]
["Male 25-29",27.5,"male",3,{"$f":"HLOOKUP('III Tool Overview'!$H$6,Prevalence!$B$2:$AV$268,Prevalence!AW150,FALSE)","v":0.32500000000000001},{"$f":"HLOOKUP('III Tool Overview'!$H$6,LookUpData_Pop!$B$1:$AV$269,LookUpData_Pop!BB155,FALSE)/5","v":96.4},{"$f":"'III Tool Overview'!$H$9/110","v":0},{"$f":"IF('III Tool Overview'!$H$10=\"Even distribution\",Targeting!C156,IF('III Tool Overview'!$H$10=\"Targetting to Q1\",Targeting!D156,IF('III Tool Overview'!$H$10=\"Targetting to Q1 & Q2\",Targeting!E156,IF('III Tool Overview'!$H$10=\"No variation in price elasticity\",Targeting!G156))))","v":26},0.11096326587606697,0.11075841690122179,0.48442142613017269,0.4835357051372382,1.2668804010215475,1.264606457626392,3.6697976386995896,3.6635256704692241,7.8783918772007553,7.8638475999867472,1.4544277214008083E-2,33.632849592626627,33.571348108824992,6.1501483801635004E-2,84.404417889893438,84.252819049362742,0.15159884053069561,221.47984466713706,221.09987695923823,0.37996770789882817,9.5748791853666191,9.5630802943556326,1.1798891010986523E-2,40.409120726937694,40.359863745000695,4.9256981936999011E-2,99.563578890303049,99.444663951600106,0.11891493870294312,253.11762403875409,252.830637671609,0.28698636714509007,null,0.5,5]
["Male 30-34",32.5,"male",3,{"$f":"HLOOKUP('III Tool Overview'!$H$6,Prevalence!$B$2:$AV$268,Prevalence!AW151,FALSE)","v":0.32500000000000001},{"$f":"HLOOKUP('III Tool Overview'!$H$6,LookUpData_Pop!$B$1:$AV$269,LookUpData_Pop!BB156,FALSE)/5","v":99.8},{"$f":"'III Tool Overview'!$H$9/110","v":0},{"$f":"IF('III Tool Overview'!$H$10=\"Even distribution\",Targeting!C157,IF('III Tool Overview'!$H$10=\"Targetting to Q1\",Targeting!D157,IF('III Tool Overview'!$H$10=\"Targetting to Q1 & Q2\",Targeting!E157,IF('III Tool Overview'!$H$10=\"No variation in price elasticity\",Targeting!G157))))","v":21.580000000000002},0.15342869379954138,0.15319708704871104,0.66929489628902283,0.66829558904628628,1.7475508103371973,1.7449966376893151,5.0369835213983709,5.0300361018808619,10.279722484569273,10.264204832263641,1.5517652305632623E-2,43.791648386060267,43.726255367174723,6.5393018885544052E-2,109.44501690181936,109.28492497754407,0.16009192427529229,283.96136069505332,283.56779022038558,0.3935704746677402,11.397262573887463,11.385778782355139,1.1483791532324261E-2,48.067671383465438,48.019836306544519,4.7835076920918596E-2,118.2697359571813,118.15478103154447,0.11495492563682319,299.44581716854191,299.17217391049485,0.27364325804705913,null,0.5,5]
["Male 35-39",37.5,"male",3,{"$f":"HLOOKUP('III Tool Overview'!$H$6,Prevalence!$B$2:$AV$268,Prevalence!AW152,FALSE)","v":0.375},{"$f":"HLOOKUP('III Tool Overview'!$H$6,LookUpData_Pop!$B$1:$AV$269,LookUpData_Pop!BB157,FALSE)/5","v":117.2},{"$f":"'III Tool Overview'!$H$9/110","v":0},{"$f":"IF('III Tool Overview'!$H$10=\"Even distribution\",Targeting!C158,IF('III Tool Overview'!$H$10=\"Targetting to Q1\",Targeting!D158,IF('III Tool Overview'!$H$10=\"Targetting to Q1 & Q2\",Targeting!E158,IF('III Tool Overview'!$H$10=\"No variation in price elasticity\",Targeting!G158))))","v":27.3},0.27806793685157477,0.27765021669865514,1.2110121491213568,1.2092169117909866,3.1511168876122064,3.1465663598980682,8.9866102003530628,8.9745509137552979,16.962144147946059,16.936663218617962,2.5480929328097091E-2,71.971490104322783,71.864778376517052,0.10671172780573102,178.46625494221172,178.20824536289325,0.25800957931846824,453.14984320888095,452.53748260001476,0.61236060886619725,16.501303025623962,16.484341296125159,1.6961729498802924E-2,69.492162042817057,69.42180190042194,7.0360142395117009E-2,170.47457544611325,170.3069302482798,0.16764519783345122,427.84393881433971,427.45499853761942,0.38894027672029097,null,0.5,5]
["Male 40-44",42.5,"male",3,{"$f":"HLOOKUP('III Tool Overview'!$H$6,Prevalence!$B$2:$AV$268,Prevalence!AW153,FALSE)","v":0.375},{"$f":"HLOOKUP('III Tool Overview'!$H$6,LookUpData_Pop!$B$1:$AV$269,LookUpData_Pop!BB158,FALSE)/5","v":153.6},{"$f":"'III Tool Overview'!$H$9/110","v":0},{"$f":"IF('III Tool Overview'!$H$10=\"Even distribution\",Targeting!C159,IF('III Tool Overview'!$H$10=\"Targetting to Q1\",Targeting!D159,IF('III Tool Overview'!$H$10=\"Targetting to Q1 & Q2\",Targeting!E159,IF('III Tool Overview'!$H$10=\"No variation in price elasticity\",Targeting!G159))))","v":30.900000000000002},0.4866136062820634,0.4859748783399559,2.115918976090891,2.1131851483909587,5.4876537300678816,5.480783799647349,15.493573162659882,15.475854249255802,27.736975558077614,27.700568065377485,3.640749270012833E-2,117.28989914361748,117.1383222546568,0.15157688896067611,288.89058094667683,288.52839788401752,0.36218306265931233,720.0246959543033,719.1933806928339,0.83131526146939905,24.865407862419119,24.843037626661065,2.2370235758053525E-2,104.57040554210711,104.47801031261454,9.2395229492566955E-2,255.80057123935498,255.58237629313979,0.21819494621519198,636.69203287481855,636.19919429231652,0.49283858250203139,null,0.5,5]
["Male 45-49",47.5,"male",3,{"$f":"HLOOKUP('III Tool Overview'!$H$6,Prevalence!$B$2:$AV$268,Prevalence!AW154,FALSE)","v":0.32500000000000001},{"$f":"HLOOKUP('III Tool Overview'!$H$6,LookUpData_Pop!$B$1:$AV$269,LookUpData_Pop!BB159,FALSE)/5","v":182.2},{"$f":"'III Tool Overview'!$H$9/110","v":0},{"$f":"IF('III Tool Overview'!$H$10=\"Even distribution\",Targeting!C160,IF('III Tool Overview'!$H$10=\"Targetting to Q1\",Targeting!D160,IF('III Tool Overview'!$H$10=\"Targetting to Q1 & Q2\",Targeting!E160,IF('III Tool Overview'!$H$10=\"No variation in price elasticity\",Targeting!G160))))","v":38.740000000000009},0.89034179253923873,0.88904491339072345,3.8581760628284809,3.8526813285776962,9.9350250468721431,9.9215097332760891,27.452603826615658,27.420007351841836,45.407431419501172,45.341290582926895,6.6140836574277273E-2,190.72860522919402,190.45687256408061,0.27173266511340444,463.57687706291381,462.94472191743438,0.6321551454794303,1113.8987011083373,1112.5533931809789,1.3453079273583626,36.364143227274681,36.328615504829074,3.5527722445607424E-2,152.46887748163505,152.32369884478172,0.14517863685333054,370.70370071056897,370.3683350740103,0.33536563655866303,906.60450728230978,905.89567513235329,0.70883214995649269,null,0.5,5]
["Male 50-54",52.5,"male",3,{"$f":"HLOOKUP('III Tool Overview'!$H$6,Prevalence!$B$2:$AV$268,Prevalence!AW155,FALSE)","v":0.32500000000000001},{"$f":"HLOOKUP('III Tool Overview'!$H$6,LookUpData_Pop!$B$1:$AV$269,LookUpData_Pop!BB160,FALSE)/5","v":170.8},{"$f":"'III Tool Overview'!$H$9/110","v":0},{"$f":"IF('III Tool Overview'!$H$10=\"Even distribution\",Targeting!C161,IF('III Tool Overview'!$H$10=\"Targetting to Q1\",Targeting!D161,IF('III Tool Overview'!$H$10=\"Targetting to Q1 & Q2\",Targeting!E161,IF('III Tool Overview'!$H$10=\"No variation in price elasticity\",Targeting!G161))))","v":45.240000000000009},1.1139074496932844,1.111920853023562,4.81136122552717,4.80301789767522,12.306707583983014,12.286562784089787,33.334755398168397,33.28891265613359,52.353650135584367,52.260280092107415,9.3370043476951992E-2,218.6164535555551,218.23716113275356,0.37929242280154085,525.21397076186599,524.35136791163382,0.86260285023217875,1222.4566197698716,1220.7331227945815,1.7234969752901179,39.19463252300001,39.14758387696358,4.7048646036429886E-2,163.867363675028,163.67687716629558,0.19048650873241968,396.12515942433379,395.69346193453919,0.4316974897946011,953.01383158717908,952.15249865978467,0.86133292739441458,null,0.5,5]
["Male 55-59",57.5,"male",3,{"$f":"HLOOKUP('III Tool Overview'!$H$6,Prevalence!$B$2:$AV$268,Prevalence!AW156,FALSE)","v":0.26250000000000001},{"$f":"HLOOKUP('III Tool Overview'!$H$6,LookUpData_Pop!$B$1:$AV$269,LookUpData_Pop!BB161,FALSE)/5","v":156.4},{"$f":"'III Tool Overview'!$H$9/110","v":0},{"$f":"IF('III Tool Overview'!$H$10=\"Even distribution\",Targeting!C162,IF('III Tool Overview'!$H$10=\"Targetting to Q1\",Targeting!D162,IF('III Tool Overview'!$H$10=\"Targetting to Q1 & Q2\",Targeting!E162,IF('III Tool Overview'!$H$10=\"No variation in price elasticity\",Targeting!G162))))","v":32.550000000000004},1.5716383374061453,1.5692640468126775,6.7414786982621759,6.7317304026389095,16.999937653543242,16.977498878261972,44.193163339332784,44.149199871904337,64.437171833651959,64.339825919319779,9.7345914332180428E-2,265.90553321386744,265.52067511771889,0.38485809614854816,624.09605122874223,623.26706409308326,0.82898713565896287,1364.5200142825513,1363.0907105821029,1.4293037004483722,44.248249550426607,44.204433019300247,4.3816531126360303E-2,183.86968576495366,183.69645779785637,0.17322796709729005,439.08512820441547,438.71142114555045,0.37370705886502265,1021.2326691330469,1020.5903616228744,0.64230751017248622,null,0.5,5]
["Male 60-64",62.5,"male",3,{"$f":"HLOOKUP('III Tool Overview'!$H$6,Prevalence!$B$2:$AV$268,Prevalence!AW157,FALSE)","v":0.26250000000000001},{"$f":"HLOOKUP('III Tool Overview'!$H$6,LookUpData_Pop!$B$1:$AV$269,LookUpData_Pop!BB162,FALSE)/5","v":158.80000000000001},{"$f":"'III Tool Overview'!$H$9/110","v":0},{"$f":"IF('III Tool Overview'!$H$10=\"Even distribution\",Targeting!C163,IF('III Tool Overview'!$H$10=\"Targetting to Q1\",Targeting!D163,IF('III Tool Overview'!$H$10=\"Targetting to Q1 & Q2\",Targeting!E163,IF('III Tool Overview'!$H$10=\"No variation in price elasticity\",Targeting!G163))))","v":27.930000000000003},2.1275264365066571,2.1248564958774523,9.0658535523911574,9.0551009934821582,22.55717914786991,22.533416804061552,56.480949087131897,56.43997077678717,78.718478150746307,78.619690347465735,9.8787803280572462E-2,321.37187269891194,320.99020073514646,0.38167196376548418,738.62562175427354,737.8401692534851,0.78545250078843765,1528.8484143316421,1527.6439247547708,1.2044895768713104,51.656334750724547,51.613634349407086,4.2700401317461001E-2,213.40518341854832,213.23975265004023,0.16543076850808802,503.77243503435324,503.43024803223034,0.34218700212289832,1135.9149177731595,1135.3974642996982,0.51745347346127346,null,0.5,5]
["Male 65-69",67.5,"male",3,{"$f":"HLOOKUP('III Tool Overview'!$H$6,Prevalence!$B$2:$AV$268,Prevalence!AW158,FALSE)","v":0.17500000000000002},{"$f":"HLOOKUP('III Tool Overview'!$H$6,LookUpData_Pop!$B$1:$AV$269,LookUpData_Pop!BB163,FALSE)/5","v":144},{"$f":"'III Tool Overview'!$H$9/110","v":0},{"$f":"IF('III Tool Overview'!$H$10=\"Even distribution\",Targeting!C164,IF('III Tool Overview'!$H$10=\"Targetting to Q1\",Targeting!D164,IF('III Tool Overview'!$H$10=\"Targetting to Q1 & Q2\",Targeting!E164,IF('III Tool Overview'!$H$10=\"No variation in price elasticity\",Targeting!G164))))","v":17.080000000000002},2.9666977782152406,2.9640011024324968,12.473071910062748,12.462775757573349,30.217828052460149,30.197496423262287,70.47748699058657,70.452843237672738,91.967631124672465,91.884034175407407,8.3596949265057674E-2,367.45216279026391,367.14799042054415,0.30417236971976536,810.17633556978399,809.61965669030042,0.5566788794835702,1511.5931746142962,1510.9416830335256,0.65149158077065294,57.75055964601318,57.717211650961382,3.3347995051798307E-2,235.71634678842429,235.59415553242872,0.12219125599557401,543.50065666351179,543.27567953391417,0.22497712959761884,1153.2051096191669,1152.9675295654954,0.23758005367153601,null,0.5,5]
["Male 70-74",72.5,"male",3,{"$f":"HLOOKUP('III Tool Overview'!$H$6,Prevalence!$B$2:$AV$268,Prevalence!AW159,FALSE)","v":0.17500000000000002},{"$f":"HLOOKUP('III Tool Overview'!$H$6,LookUpData_Pop!$B$1:$AV$269,LookUpData_Pop!BB164,FALSE)/5","v":95.2},{"$f":"'III Tool Overview'!$H$9/110","v":0},{"$f":"IF('III Tool Overview'!$H$10=\"Even distribution\",Targeting!C165,IF('III Tool Overview'!$H$10=\"Targetting to Q1\",Targeting!D165,IF('III Tool Overview'!$H$10=\"Targetting to Q1 & Q2\",Targeting!E165,IF('III Tool Overview'!$H$10=\"No variation in price elasticity\",Targeting!G165))))","v":15.820000000000002},{"$f":"new_ci(2,B167,C167,D167,$C$1,G167,1,F167,E167*F167)","v":2.6095539580518237},{"$f":"new_ci(2,B167,C167,D167,$C$1,G167+H167,1,F167,E167*F167)","v":2.6062234789183831},{"$f":"new_ci(5,B167,C167,D167,$C$1,G167,1,F167,E167*F167)","v":10.827987832201423},{"$f":"new_ci(5,B167,C167,D167,$C$1,G167+H167,1,F167,E167*F167)","v":10.81580675223146},{"$f":"new_ci(10,B167,C167,D167,$C$1,G167,1,F167,E167*F167)","v":25.570026060452154},{"$f":"new_ci(10,B167,C167,D167,$C$1,G167+H167,1,F167,E167*F167)","v":25.548057988670088},{"$f":"new_ci(20,B167,C167,D167,$C$1,G167,1,F167,E167*F167)","v":55.933298300736482},{"$f":"new_ci(20,B167,C167,D167,$C$1,G167+H167,1,F167,E167*F167)","v":55.91325709511883},{"$f":"new_yll(2,B167,C167,D167,$C$1,G167,1,F167,E167*F167)","v":70.457956867399233},{"$f":"new_yll(2,B167,C167,D167,$C$1,G167+H167,1,F167,E167*F167)","v":70.368033930796344},{"$f":"Q167-R167","v":8.9922936602889081E-2},{"$f":"new_yll(5,B167,C167,D167,$C$1,G167,1,F167,E167*F167)","v":275.79447545809711},{"$f":"new_yll(5,B167,C167,D167,$C$1,G167+H167,1,F167,E167*F167)","v":275.48287153746395},{"$f":"T167-U167","v":0.31160392063316067},{"$f":"new_yll(10,B167,C167,D167,$C$1,G167,1,F167,E167*F167)","v":584.94990357174368},{"$f":"new_yll(10,B167,C167,D167,$C$1,G167+H167,1,F167,E167*F167)","v":584.42998738506321},{"$f":"W167-X167","v":0.51991618668046158},{"$f":"new_yll(20,B167,C167,D167,$C$1,G167,1,F167,E167*F167)","v":996.1665307407967},{"$f":"new_yll(20,B167,C167,D167,$C$1,G167+H167,1,F167,E167*F167)","v":995.65076643645762},{"$f":"Z167-AA167","v":0.51576430433908627},{"$f":"hosp_count(2,B167,C167,D167,$C$1,G167,1,F167,E167*F167)","v":43.897965933234794},{"$f":"hosp_count(2,B167,C167,D167,$C$1,G167+H167,1,F167,E167*F167)","v":43.861963794721575},{"$f":"AC167-AD167","v":3.600213851321854E-2},{"$f":"hosp_count(5,B167,C167,D167,$C$1,G167,1,F167,E167*F167)","v":177.08823794223014},{"$f":"hosp_count(5,B167,C167,D167,$C$1,G167+H167,1,F167,E167*F167)","v":176.96208939455238},{"$f":"AF167-AG167","v":0.12614854767775796},{"$f":"hosp_count(10,B167,C167,D167,$C$1,G167,1,F167,E167*F167)","v":399.31393404538164},{"$f":"hosp_count(10,B167,C167,D167,$C$1,G167+H167,1,F167,E167*F167)","v":399.10250279654247},{"$f":"AI167-AJ167","v":0.21143124883917608},{"$f":"hosp_count(20,B167,C167,D167,$C$1,G167,1,F167,E167*F167)","v":802.58662228789717},{"$f":"hosp_count(20,B167,C167,D167,$C$1,G167+H167,1,F167,E167*F167)","v":802.42073877122937},{"$f":"AL167-AM167","v":0.16588351666780454},null,0.5,5]
["Male 75-79",77.5,"male",3,{"$f":"HLOOKUP('III Tool Overview'!$H$6,Prevalence!$B$2:$AV$268,Prevalence!AW160,FALSE)","v":0.125},{"$f":"HLOOKUP('III Tool Overview'!$H$6,LookUpData_Pop!$B$1:$AV$269,LookUpData_Pop!BB165,FALSE)/5","v":65.599999999999994},{"$f":"'III Tool Overview'!$H$9/110","v":0},{"$f":"IF('III Tool Overview'!$H$10=\"Even distribution\",Targeting!C166,IF('III Tool Overview'!$H$10=\"Targetting to Q1\",Targeting!D166,IF('III Tool Overview'!$H$10=\"Targetting to Q1 & Q2\",Targeting!E166,IF('III Tool Overview'!$H$10=\"No variation in price elasticity\",Targeting!G166))))","v":6.9},2.754119586925762,2.7518071116043887,11.134713715654085,11.127145620163828,25.037231358288807,25.026436045316892,48.789086045985883,48.784362454611724,57.836511325441002,57.787949343692162,4.8561981748839855E-2,217.04012444899968,216.89113656969954,0.14898787930013668,425.76119144431556,425.56117689255615,0.20001455175940919,610.6323431057848,610.47139190817211,0.16095119761268961,37.293393492919812,37.27343683864104,1.9956654278772135E-2,146.8755885937654,146.81323297025739,6.2355623508011604E-2,316.71978117686302,316.63784210988558,8.1939066977440689E-2,574.36446306424659,574.33631681292843,2.8146251318162285E-2,null,0.5,5]
["Male 80-84",82.5,"male",3,{"$f":"HLOOKUP('III Tool Overview'!$H$6,Prevalence!$B$2:$AV$268,Prevalence!AW161,FALSE)","v":0.125},{"$f":"HLOOKUP('III Tool Overview'!$H$6,LookUpData_Pop!$B$1:$AV$269,LookUpData_Pop!BB166,FALSE)/5","v":39.6},{"$f":"'III Tool Overview'!$H$9/110","v":0},{"$f":"IF('III Tool Overview'!$H$10=\"Even distribution\",Targeting!C167,IF('III Tool Overview'!$H$10=\"Targetting to Q1\",Targeting!D167,IF('III Tool Overview'!$H$10=\"Targetting to Q1 & Q2\",Targeting!E167,IF('III Tool Overview'!$H$10=\"No variation in price elasticity\",Targeting!G167))))","v":4.7},2.2030648250027571,2.200928866924678,8.6823280974156898,8.6759639285464587,18.647079271032936,18.639632323109328,33.002053755369595,33.000301646867911,37.452102025046869,37.415790737719526,3.6311287327343678E-2,134.69561981656182,134.59518215989547,0.10043765666634386,244.84423106588403,244.72943126787214,0.11479979801188733,302.30002186607879,302.20485749575744,9.5164370321356273E-2,25.884333916678258,25.867978605582209,1.6355311096049263E-2,99.613483099357495,99.567034137233676,4.644896212381866E-2,206.16848891579386,206.11876670751406,4.9722208279803226E-2,343.84738507994047,343.83998753254002,7.3975474004441821E-3,null,0.5,5]
["Male 85-89",87.5,"male",3,{"$f":"HLOOKUP('III Tool Overview'!$H$6,Prevalence!$B$2:$AV$268,Prevalence!AW162,FALSE)","v":0.125},{"$f":"HLOOKUP('III Tool Overview'!$H$6,LookUpData_Pop!$B$1:$AV$269,LookUpData_Pop!BB167,FALSE)/5","v":22.8},{"$f":"'III Tool Overview'!$H$9/110","v":0},{"$f":"IF('III Tool Overview'!$H$10=\"Even distribution\",Targeting!C168,IF('III Tool Overview'!$H$10=\"Targetting to Q1\",Targeting!D168,IF('III Tool Overview'!$H$10=\"Targetting to Q1 & Q2\",Targeting!E168,IF('III Tool Overview'!$H$10=\"No variation in price elasticity\",Targeting!G168))))","v":2},1.924684705840797,1.9234495362994881,7.1921451770491496,7.189139879441818,14.125448701260424,14.123155439310169,21.275908155887304,21.275766779232271,21.171531764248765,21.157944899294371,1.3586864954394429E-2,68.7536950775077,68.723611287518054,3.0083789989646448E-2,104.3704414841599,104.34288201788495,2.7559466274951205E-2,93.200445861539734,93.170137234055829,3.0308627483904615E-2,18.373727464382974,18.36568268304632,8.0447813366539833E-3,67.360238344998038,67.341558776342978,1.8679568655059597E-2,128.57578581893893,128.56282884174522,1.2956977193709918E-2,186.0802214491782,186.08041350489333,-1.920557151322555E-4,null,0.5,{"$f":"2/#REF!","v":{"$error":"#REF!"}}]
["Male 90+",95,"male",3,{"$f":"HLOOKUP('III Tool Overview'!$H$6,Prevalence!$B$2:$AV$268,Prevalence!AW163,FALSE)","v":0.125},{"$f":"HLOOKUP('III Tool Overview'!$H$6,LookUpData_Pop!$B$1:$AV$269,LookUpData_Pop!BB168,FALSE)/5","v":7},{"$f":"'III Tool Overview'!$H$9/110","v":0},{"$f":"IF('III Tool Overview'!$H$10=\"Even distribution\",Targeting!C169,IF('III Tool Overview'!$H$10=\"Targetting to Q1\",Targeting!D169,IF('III Tool Overview'!$H$10=\"Targetting to Q1 & Q2\",Targeting!E169,IF('III Tool Overview'!$H$10=\"No variation in price elasticity\",Targeting!G169))))","v":0.60000000000000009},{"$f":"new_ci(2,B171,C171,D171,$C$1,G171,1,F171,E171*F171)","v":0.94959201160936046},{"$f":"new_ci(2,B171,C171,D171,$C$1,G171+H171,1,F171,E171*F171)","v":0.94868491056941262},{"$f":"new_ci(5,B171,C171,D171,$C$1,G171,1,F171,E171*F171)","v":3.2324177993408689},{"$f":"new_ci(5,B171,C171,D171,$C$1,G171+H171,1,F171,E171*F171)","v":3.2308961789010699},{"$f":"new_ci(10,B171,C171,D171,$C$1,G171,1,F171,E171*F171)","v":5.5301745127456776},{"$f":"new_ci(10,B171,C171,D171,$C$1,G171+H171,1,F171,E171*F171)","v":5.52964477900984},{"$f":"new_ci(20,B171,C171,D171,$C$1,G171,1,F171,E171*F171)","v":6.9112534792213349},{"$f":"new_ci(20,B171,C171,D171,$C$1,G171+H171,1,F171,E171*F171)","v":6.911250684758933},{"$f":"new_yll(2,B171,C171,D171,$C$1,G171,1,F171,E171*F171)","v":3.7983680464374419},{"$f":"new_yll(2,B171,C171,D171,$C$1,G171+H171,1,F171,E171*F171)","v":3.7947396422776505},{"$f":"Q171-R171","v":3.6284041597913763E-3},{"$f":"new_yll(5,B171,C171,D171,$C$1,G171,1,F171,E171*F171)","v":8.5419107817483244},{"$f":"new_yll(5,B171,C171,D171,$C$1,G171+H171,1,F171,E171*F171)","v":8.5365461970570209},{"$f":"T171-U171","v":5.36458469130352E-3},{"$f":"new_yll(10,B171,C171,D171,$C$1,G171,1,F171,E171*F171)","v":4.5881218608115111},{"$f":"new_yll(10,B171,C171,D171,$C$1,G171+H171,1,F171,E171*F171)","v":4.5806971944525632},{"$f":"W171-X171","v":7.4246663589478956E-3},{"$f":"new_yll(20,B171,C171,D171,$C$1,G171,1,F171,E171*F171)","v":-6.2735338937767189},{"$f":"new_yll(20,B171,C171,D171,$C$1,G171+H171,1,F171,E171*F171)","v":-6.2846175593046976},{"$f":"Z171-AA171","v":1.1083665527978681E-2},{"$f":"hosp_count(2,B171,C171,D171,$C$1,G171,1,F171,E171*F171)","v":7.2016915182906232},{"$f":"hosp_count(2,B171,C171,D171,$C$1,G171+H171,1,F171,E171*F171)","v":7.1965843409767798},{"$f":"AC171-AD171","v":5.1071773138433585E-3},{"$f":"hosp_count(5,B171,C171,D171,$C$1,G171,1,F171,E171*F171)","v":24.227689522561747},{"$f":"hosp_count(5,B171,C171,D171,$C$1,G171+H171,1,F171,E171*F171)","v":24.219314286977713},{"$f":"AF171-AG171","v":8.3752355840331916E-3},{"$f":"hosp_count(10,B171,C171,D171,$C$1,G171,1,F171,E171*F171)","v":40.728029967926673},{"$f":"hosp_count(10,B171,C171,D171,$C$1,G171+H171,1,F171,E171*F171)","v":40.725066279806995},{"$f":"AI171-AJ171","v":2.9636881196779541E-3},{"$f":"hosp_count(20,B171,C171,D171,$C$1,G171,1,F171,E171*F171)","v":49.932171170984702},{"$f":"hosp_count(20,B171,C171,D171,$C$1,G171+H171,1,F171,E171*F171)","v":49.931918790362133},{"$f":"AL171-AM171","v":2.5238062256960347E-4}]
["TOTAL",null,null,null,null,{"$f":"SUM(F156:F171)","v":1742.8},{"$f":"SUM(G156:G171)","v":0},{"$f":"SUM(H156:H171)","v":336.06},{"$f":"SUM(I156:I171)","v":20.293172862436073},{"$f":"SUM(J156:J171)","v":20.270550450575605},{"$f":"SUM(K156:K171)","v":83.168639141792241},{"$f":"SUM(L156:L171)","v":83.086152452691948},{"$f":"SUM(M156:M171)","v":194.33155019648629},{"$f":"SUM(N156:N171)","v":194.17001803512247},{"$f":"SUM(O156:O171)","v":436.14365708519222},{"$f":"SUM(P156:P171)","v":435.88020678659717},{"$f":"SUM(Q156:Q171)","v":598.48793293363565},{"$f":"SUM(R156:R171)","v":597.75027889684418},{"$f":"SUM(S156:S171)","v":0.73765403679145836},{"$f":"SUM(T156:T171)","v":2387.1038427884673},{"$f":"SUM(U156:U171)","v":2384.3390676710846},{"$f":"SUM(V156:V171)","v":2.7647751173828183},{"$f":"SUM(W156:W171)","v":5317.4925995930489},{"$f":"SUM(X156:X171)","v":5311.8724259528817},{"$f":"SUM(Y156:Y171)","v":5.6201736401666311},{"$f":"SUM(Z156:Z171)","v":10763.008032617685},{"$f":"SUM(AA156:AA171)","v":10753.230875060603},{"$f":"SUM(AB156:AB171)","v":9.7771575570846796},{"$f":"SUM(AC156:AC171)","v":441.82769108305513},{"$f":"SUM(AD156:AD171)","v":441.46338494927261},{"$f":"SUM(AE156:AE171)","v":0.3643061337825193},{"$f":"SUM(AF156:AF171)","v":1801.4741726256625},{"$f":"SUM(AG156:AG171)","v":1800.0981068691658},{"$f":"SUM(AH156:AH171)","v":1.3760657564964447},{"$f":"SUM(AI156:AI171)","v":4172.5416134487496},{"$f":"SUM(AJ156:AJ171)","v":4169.714918795582},{"$f":"SUM(AK156:AK171)","v":2.8266946531682322},{"$f":"SUM(AL156:AL171)","v":9213.447197915888},{"$f":"SUM(AM156:AM171)","v":9208.4923337734708},{"$f":"SUM(AN156:AN171)","v":4.9548641424166959}]
["Female <1",0.5,"female",3,null,{"$f":"HLOOKUP('III Tool Overview'!$H$6,LookUpData_Pop!$B$1:$AV$269,LookUpData_Pop!BB169,FALSE)/5","v":18.399999999999999},null,null,null,null,null,null,null,null,null,null,null,null,null,null,null,null,null,null,null,null,null,null,null,null,null,null,null,null,null,null,null,null,null,null,null,0.1,1]
["Female 1-4",2.5,"female",3,null,{"$f":"HLOOKUP('III Tool Overview'!$H$6,LookUpData_Pop!$B$1:$AV$269,LookUpData_Pop!BB170,FALSE)/5","v":81.2},null,null,null,null,null,null,null,null,null,null,null,null,null,null,null,null,null,null,null,null,null,null,null,null,null,null,null,null,null,null,null,null,null,null,null,0.5,4]
["Female 5-9",7.5,"female",3,null,{"$f":"HLOOKUP('III Tool Overview'!$H$6,LookUpData_Pop!$B$1:$AV$269,LookUpData_Pop!BB171,FALSE)/5","v":82.2},null,null,null,null,null,null,null,null,null,null,null,null,null,null,null,null,null,null,null,null,null,null,null,null,null,null,null,null,null,null,null,null,null,null,null,0.5,5]
["Female 10-14",12.5,"female",3,null,{"$f":"HLOOKUP('III Tool Overview'!$H$6,LookUpData_Pop!$B$1:$AV$269,LookUpData_Pop!BB172,FALSE)/5","v":110},null,null,null,null,null,null,null,null,null,null,null,null,null,null,null,null,null,null,null,null,null,null,null,null,null,null,null,null,null,null,null,null,null,null,null,0.5,5]
["Female 15-19",17.5,"female",3,{"$f":"HLOOKUP('III Tool Overview'!$H$6,Prevalence!$B$2:$AV$268,Prevalence!AW168,FALSE)","v":0.13636363636363635},{"$f":"HLOOKUP('III Tool Overview'!$H$6,LookUpData_Pop!$B$1:$AV$269,LookUpData_Pop!BB173,FALSE)/5","v":123.6},{"$f":"'III Tool Overview'!$H$9/110","v":0},{"$f":"IF('III Tool Overview'!$H$10=\"Even distribution\",Targeting!C175,IF('III Tool Overview'!$H$10=\"Targetting to Q1\",Targeting!D175,IF('III Tool Overview'!$H$10=\"Targetting to Q1 & Q2\",Targeting!E175,IF('III Tool Overview'!$H$10=\"No variation in price elasticity\",Targeting!G175))))","v":7.8545454545454536},{"$f":"new_ci(2,B177,C177,D177,$C$1,G177,1,F177,E177*F177)","v":2.8298521885869652E-2},{"$f":"new_ci(2,B177,C177,D177,$C$1,G177+H177,1,F177,E177*F177)","v":2.828347745399604E-2},{"$f":"new_ci(5,B177,C177,D177,$C$1,G177,1,F177,E177*F177)","v":0.12564313257886373},{"$f":"new_ci(5,B177,C177,D177,$C$1,G177+H177,1,F177,E177*F177)","v":0.12557678748700962},{"$f":"new_ci(10,B177,C177,D177,$C$1,G177,1,F177,E177*F177)","v":0.33889558506402601},{"$f":"new_ci(10,B177,C177,D177,$C$1,G177+H177,1,F177,E177*F177)","v":0.33871888137587408},{"$f":"new_ci(20,B177,C177,D177,$C$1,G177,1,F177,E177*F177)","v":1.0559949196692966},{"$f":"new_ci(20,B177,C177,D177,$C$1,G177+H177,1,F177,E177*F177)","v":1.0554613081299851},{"$f":"new_yll(2,B177,C177,D177,$C$1,G177,1,F177,E177*F177)","v":2.2921802727554419},{"$f":"new_yll(2,B177,C177,D177,$C$1,G177+H177,1,F177,E177*F177)","v":2.2909616737736793},{"$f":"Q177-R177","v":1.2185989817625753E-3},{"$f":"new_yll(5,B177,C177,D177,$C$1,G177,1,F177,E177*F177)","v":9.9780183288584894},{"$f":"new_yll(5,B177,C177,D177,$C$1,G177+H177,1,F177,E177*F177)","v":9.9727491417342851},{"$f":"T177-U177","v":5.269187124204322E-3},{"$f":"new_yll(10,B177,C177,D177,$C$1,G177,1,F177,E177*F177)","v":25.943201173600457},{"$f":"new_yll(10,B177,C177,D177,$C$1,G177+H177,1,F177,E177*F177)","v":25.929668969441376},{"$f":"W177-X177","v":1.3532204159080408E-2},{"$f":"new_yll(20,B177,C177,D177,$C$1,G177,1,F177,E177*F177)","v":73.952432750158422},{"$f":"new_yll(20,B177,C177,D177,$C$1,G177+H177,1,F177,E177*F177)","v":73.914990702838026},{"$f":"Z177-AA177","v":3.744204732039691E-2},{"$f":"hosp_count(2,B177,C177,D177,$C$1,G177,1,F177,E177*F177)","v":12.483110413089019},{"$f":"hosp_count(2,B177,C177,D177,$C$1,G177+H177,1,F177,E177*F177)","v":12.479089192579147},{"$f":"AC177-AD177","v":4.0212205098715259E-3},{"$f":"hosp_count(5,B177,C177,D177,$C$1,G177,1,F177,E177*F177)","v":51.942724238753691},{"$f":"hosp_count(5,B177,C177,D177,$C$1,G177+H177,1,F177,E177*F177)","v":51.926115322153031},{"$f":"AF177-AG177","v":1.6608916600659995E-2},{"$f":"hosp_count(10,B177,C177,D177,$C$1,G177,1,F177,E177*F177)","v":124.94134287365191},{"$f":"hosp_count(10,B177,C177,D177,$C$1,G177+H177,1,F177,E177*F177)","v":124.90191522571136},{"$f":"AI177-AJ177","v":3.9427647940541988E-2},{"$f":"hosp_count(20,B177,C177,D177,$C$1,G177,1,F177,E177*F177)","v":302.48009830859121},{"$f":"hosp_count(20,B177,C177,D177,$C$1,G177+H177,1,F177,E177*F177)","v":302.38749074925499},{"$f":"AL177-AM177","v":9.2607559336215672E-2},null,0.5,5]
["Female 20-24",22.5,"female",3,{"$f":"HLOOKUP('III Tool Overview'!$H$6,Prevalence!$B$2:$AV$268,Prevalence!AW169,FALSE)","v":0.13636363636363635},{"$f":"HLOOKUP('III Tool Overview'!$H$6,LookUpData_Pop!$B$1:$AV$269,LookUpData_Pop!BB174,FALSE)/5","v":100.8},{"$f":"'III Tool Overview'!$H$9/110","v":0},{"$f":"IF('III Tool Overview'!$H$10=\"Even distribution\",Targeting!C176,IF('III Tool Overview'!$H$10=\"Targetting to Q1\",Targeting!D176,IF('III Tool Overview'!$H$10=\"Targetting to Q1 & Q2\",Targeting!E176,IF('III Tool Overview'!$H$10=\"No variation in price elasticity\",Targeting!G176))))","v":10.254545454545454},3.2026280577816729E-2,3.2000224931865912E-2,0.14216929241530096,0.14205445584130316,0.38332490013803205,0.38301943727369919,1.1929005043624605,1.1919820631989584,2.466023604491888,2.4640173197536752,2.006284738212738E-3,10.72179514737959,10.713134014824231,{"$f":"T178-U178","v":8.6611325553587193E-3},27.811403678786448,27.789231852864731,{"$f":"W178-X178","v":2.2171825921716959E-2},78.775240516949381,78.714451713567513,{"$f":"Z178-AA178","v":6.0788803381868206E-2},{"$f":"hosp_count(2,B178,C178,D178,$C$1,G178,1,F178,E178*F178)","v":11.235155029110679},{"$f":"hosp_count(2,B178,C178,D178,$C$1,G178+H178,1,F178,E178*F178)","v":11.229611351124429},{"$f":"AC178-AD178","v":5.5436779862496621E-3},{"$f":"hosp_count(5,B178,C178,D178,$C$1,G178,1,F178,E178*F178)","v":46.742840754170743},{"$f":"hosp_count(5,B178,C178,D178,$C$1,G178+H178,1,F178,E178*F178)","v":46.719957469275712},{"$f":"AF178-AG178","v":2.2883284895030442E-2},{"$f":"hosp_count(10,B178,C178,D178,$C$1,G178,1,F178,E178*F178)","v":112.39820958341423},{"$f":"hosp_count(10,B178,C178,D178,$C$1,G178+H178,1,F178,E178*F178)","v":112.34395588150281},{"$f":"AI178-AJ178","v":5.4253701911420649E-2},{"$f":"hosp_count(20,B178,C178,D178,$C$1,G178,1,F178,E178*F178)","v":271.84835293044688},{"$f":"hosp_count(20,B178,C178,D178,$C$1,G178+H178,1,F178,E178*F178)","v":271.72141867978786},{"$f":"AL178-AM178","v":0.1269342506590192},null,0.5,5]
["Female 25-29",27.5,"female",3,{"$f":"HLOOKUP('III Tool Overview'!$H$6,Prevalence!$B$2:$AV$268,Prevalence!AW170,FALSE)","v":0.1977272727272727},{"$f":"HLOOKUP('III Tool Overview'!$H$6,LookUpData_Pop!$B$1:$AV$269,LookUpData_Pop!BB175,FALSE)/5","v":97},{"$f":"'III Tool Overview'!$H$9/110","v":0},{"$f":"IF('III Tool Overview'!$H$10=\"Even distribution\",Targeting!C177,IF('III Tool Overview'!$H$10=\"Targetting to Q1\",Targeting!D177,IF('III Tool Overview'!$H$10=\"Targetting to Q1 & Q2\",Targeting!E177,IF('III Tool Overview'!$H$10=\"No variation in price elasticity\",Targeting!G177))))","v":15.976363636363637},5.0378958728929502E-2,5.031477376994975E-2,0.22354639996629022,0.2232638354545583,0.60218904488483682,0.60143930270616908,1.8682651492703339,1.8660298059129001,3.5769060697539947,3.5723489376664324,4.5571320875623655E-3,15.517702256601861,15.498085979144562,1.9616277457298992E-2,40.07881545749715,40.028889949665455,4.9925507831694915E-2,112.18981864987187,112.05519431199659,0.13462433787528028,12.534631357847204,12.524624462322151,1.0006895525052073E-2,52.13068004314583,52.089421925575031,4.1258117570798447E-2,125.26126757661089,125.16368863454694,9.7578942063947238E-2,302.27029464358907,302.04371773566663,0.22657690792243557,null,0.5,5]
["Female 30-34",32.5,"female",3,{"$f":"HLOOKUP('III Tool Overview'!$H$6,Prevalence!$B$2:$AV$268,Prevalence!AW171,FALSE)","v":0.1977272727272727},{"$f":"HLOOKUP('III Tool Overview'!$H$6,LookUpData_Pop!$B$1:$AV$269,LookUpData_Pop!BB176,FALSE)/5","v":99},{"$f":"'III Tool Overview'!$H$9/110","v":0},{"$f":"IF('III Tool Overview'!$H$10=\"Even distribution\",Targeting!C178,IF('III Tool Overview'!$H$10=\"Targetting to Q1\",Targeting!D178,IF('III Tool Overview'!$H$10=\"Targetting to Q1 & Q2\",Targeting!E178,IF('III Tool Overview'!$H$10=\"No variation in price elasticity\",Targeting!G178))))","v":15.818181818181817},7.1348394062138332E-2,7.1259903780726552E-2,0.31646583769628567,0.31607675153342729,0.85174003149472932,0.85071043213218489,2.634640813996961,2.6315989290313548,4.7803424021632681,4.7744135533086789,5.9288488545892193E-3,20.702039936340555,20.676584638558289,2.5455297782265518E-2,53.28252967969064,53.218080257239521,6.4449422451119176E-2,147.70699590927927,147.53583758269926,0.17115832658001295,14.118521596246888,14.107509851259785,1.1011744987103E-2,58.697476540411827,58.652133097309751,4.5343443102076719E-2,140.93782814234279,140.83087082206652,0.10695732027627969,339.34151352195767,339.09518507731121,0.24632844464645132,null,0.5,5]
["Female 35-39",37.5,"female",3,{"$f":"HLOOKUP('III Tool Overview'!$H$6,Prevalence!$B$2:$AV$268,Prevalence!AW172,FALSE)","v":0.1568181818181818},{"$f":"HLOOKUP('III Tool Overview'!$H$6,LookUpData_Pop!$B$1:$AV$269,LookUpData_Pop!BB177,FALSE)/5","v":117.2},{"$f":"'III Tool Overview'!$H$9/110","v":0},{"$f":"IF('III Tool Overview'!$H$10=\"Even distribution\",Targeting!C179,IF('III Tool Overview'!$H$10=\"Targetting to Q1\",Targeting!D179,IF('III Tool Overview'!$H$10=\"Targetting to Q1 & Q2\",Targeting!E179,IF('III Tool Overview'!$H$10=\"No variation in price elasticity\",Targeting!G179))))","v":10.914545454545454},0.13805416191919784,0.13794967903899102,0.61180084406437441,0.6113429148122661,1.6434443025429948,1.6422410519881652,5.0509999216649568,5.0475287218065823,8.4213038770710682,8.4149304213784522,6.3734556926160479E-3,36.351406170420979,36.324193312751802,2.7212857669177026E-2,92.956085535351477,92.887965518906981,6.8120016444495946E-2,253.01461125143879,252.83973866002663,0.17487259141216782,19.377731496269575,19.368749695549798,8.9818007197770555E-3,80.500398281007278,80.463536255925845,3.6862025081433103E-2,192.97899927855258,192.89264856157209,8.6350716980490461E-2,462.36638539821308,462.17172460544163,0.19466079277145809,null,0.5,5]
["Female 40-44",42.5,"female",3,{"$f":"HLOOKUP('III Tool Overview'!$H$6,Prevalence!$B$2:$AV$268,Prevalence!AW173,FALSE)","v":0.1568181818181818},{"$f":"HLOOKUP('III Tool Overview'!$H$6,LookUpData_Pop!$B$1:$AV$269,LookUpData_Pop!BB178,FALSE)/5","v":162},{"$f":"'III Tool Overview'!$H$9/110","v":0},{"$f":"IF('III Tool Overview'!$H$10=\"Even distribution\",Targeting!C180,IF('III Tool Overview'!$H$10=\"Targetting to Q1\",Targeting!D180,IF('III Tool Overview'!$H$10=\"Targetting to Q1 & Q2\",Targeting!E180,IF('III Tool Overview'!$H$10=\"No variation in price elasticity\",Targeting!G180))))","v":13.925454545454546},0.26475593354385862,0.26457169191145991,1.1722359512747951,1.1714308518416203,3.1427220866736376,3.1406203719284935,9.5959432255619674,9.5900122280379083,15.091088211999942,15.080586438953215,1.0501773046726726E-2,64.962717919117736,64.918092614409048,4.4625304708688418E-2,165.20139252420677,165.09078163757187,0.11061088663490182,442.57620494333418,442.30051617138918,0.27568877194499919,29.560007027909478,29.547395759118114,1.2611268791363983E-2,122.70433477504335,122.65273577687286,5.1598998170490518E-2,293.67523749825631,293.55513662885909,0.12010086939721987,700.15628781999442,699.89084060180835,0.26544721818606831,null,0.5,5]
["Female 45-49",47.5,"female",3,{"$f":"HLOOKUP('III Tool Overview'!$H$6,Prevalence!$B$2:$AV$268,Prevalence!AW174,FALSE)","v":0.15},{"$f":"HLOOKUP('III Tool Overview'!$H$6,LookUpData_Pop!$B$1:$AV$269,LookUpData_Pop!BB179,FALSE)/5","v":162},{"$f":"'III Tool Overview'!$H$9/110","v":0},{"$f":"IF('III Tool Overview'!$H$10=\"Even distribution\",Targeting!C181,IF('III Tool Overview'!$H$10=\"Targetting to Q1\",Targeting!D181,IF('III Tool Overview'!$H$10=\"Targetting to Q1 & Q2\",Targeting!E181,IF('III Tool Overview'!$H$10=\"No variation in price elasticity\",Targeting!G181))))","v":18.96},0.43258648503170849,0.43217582284131506,1.9114421461082867,1.9096599470238118,5.101922966563686,5.09734028013375,15.352713446924316,15.34042442226383,22.061910736617133,22.040966964907067,2.0943771710065562E-2,94.462358743443829,94.374257647096726,8.8101096347102725E-2,237.63058256183433,237.41673051795223,0.213852043882099,616.97552477863678,616.4749639456943,0.5005608329424831,34.270925059956816,34.251022999650594,1.9902060306222324E-2,142.00819773721898,141.92734495629847,8.0852780920508849E-2,338.63536266040609,338.44994131520201,0.18542134520407672,798.46021271355846,798.06868608665707,0.3915266269013955,null,0.5,5]
["Female 50-54",52.5,"female",3,{"$f":"HLOOKUP('III Tool Overview'!$H$6,Prevalence!$B$2:$AV$268,Prevalence!AW175,FALSE)","v":0.15},{"$f":"HLOOKUP('III Tool Overview'!$H$6,LookUpData_Pop!$B$1:$AV$269,LookUpData_Pop!BB180,FALSE)/5","v":152.4},{"$f":"'III Tool Overview'!$H$9/110","v":0},{"$f":"IF('III Tool Overview'!$H$10=\"Even distribution\",Targeting!C182,IF('III Tool Overview'!$H$10=\"Targetting to Q1\",Targeting!D182,IF('III Tool Overview'!$H$10=\"Targetting to Q1 & Q2\",Targeting!E182,IF('III Tool Overview'!$H$10=\"No variation in price elasticity\",Targeting!G182))))","v":15.479999999999999},0.5644261158240903,0.56397839089940049,2.4889129084953519,2.4869829033788098,6.6139609061915081,6.6090709301375927,19.617495418384941,19.605020551477175,26.528027443732245,26.506984372271823,2.1043071460422169E-2,113.04906999764953,112.96137165123075,8.7698346418775941E-2,281.66908790515043,281.46028003404604,0.20880787110439769,711.18066001694206,710.7192506072563,0.46140940968575705,35.580330346816822,35.563013478093083,1.7316868723739276E-2,147.1730658723306,147.103202310857,6.9863561473596292E-2,349.67234212023033,349.51442886386047,0.15791325636985221,815.52262942346465,815.20371249198843,0.31891693147622391,null,0.5,5]
["Female 55-59",57.5,"female",3,{"$f":"HLOOKUP('III Tool Overview'!$H$6,Prevalence!$B$2:$AV$268,Prevalence!AW176,FALSE)","v":0.15},{"$f":"HLOOKUP('III Tool Overview'!$H$6,LookUpData_Pop!$B$1:$AV$269,LookUpData_Pop!BB181,FALSE)/5","v":157.6},{"$f":"'III Tool Overview'!$H$9/110","v":0},{"$f":"IF('III Tool Overview'!$H$10=\"Even distribution\",Targeting!C183,IF('III Tool Overview'!$H$10=\"Targetting to Q1\",Targeting!D183,IF('III Tool Overview'!$H$10=\"Targetting to Q1 & Q2\",Targeting!E183,IF('III Tool Overview'!$H$10=\"No variation in price elasticity\",Targeting!G183))))","v":14.64},0.952963633969521,0.9522359785147535,4.1828856232766789,4.1797967311167481,11.005503771203017,10.997936885564995,31.618989010400334,31.601761507497585,39.07150899275036,39.041675119104895,2.9833873645465303E-2,164.90938277753719,164.78751948414461,0.12186329339257895,402.91715192034474,402.63880388775874,0.2783480325859955,961.21059550872837,960.66602677617652,0.54456873255185201,42.658199057492183,42.638135645533552,2.006341195863115E-2,175.74333605205811,175.66366233587561,7.9673716182497856E-2,414.13354500709841,413.95931423228132,0.17423077481709015,942.78618918803636,942.4681635764814,0.31802561155495823,null,0.5,5]
["Female 60-64",62.5,"female",3,{"$f":"HLOOKUP('III Tool Overview'!$H$6,Prevalence!$B$2:$AV$268,Prevalence!AW177,FALSE)","v":0.15},{"$f":"HLOOKUP('III Tool Overview'!$H$6,LookUpData_Pop!$B$1:$AV$269,LookUpData_Pop!BB182,FALSE)/5","v":158.6},{"$f":"'III Tool Overview'!$H$9/110","v":0},{"$f":"IF('III Tool Overview'!$H$10=\"Even distribution\",Targeting!C184,IF('III Tool Overview'!$H$10=\"Targetting to Q1\",Targeting!D184,IF('III Tool Overview'!$H$10=\"Targetting to Q1 & Q2\",Targeting!E184,IF('III Tool Overview'!$H$10=\"No variation in price elasticity\",Targeting!G184))))","v":15.719999999999999},1.3291150240119021,1.3280415922040327,5.807310704164566,5.8028237585411109,15.130757458883455,15.120131583131148,42.160633318038592,42.13905484151131,49.177255888440378,49.137538911549214,3.9716976891163824E-2,205.74427051067883,205.58514116408759,0.15912934659124289,493.77371530212685,493.42442481976502,0.34929048236182325,1119.1396527220418,1118.5289544223388,0.61069829970301726,47.376577344956431,47.352948163044161,2.3629181912269814E-2,194.40546938185182,194.31311297672835,9.2356405123467766E-2,454.40956290027475,454.21419145939581,0.19537144087894376,1010.6648718687817,1010.3424870046764,0.32238486410528822,null,0.5,5]
["Female 65-69",67.5,"female",3,{"$f":"HLOOKUP('III Tool Overview'!$H$6,Prevalence!$B$2:$AV$268,Prevalence!AW178,FALSE)","v":0.11590909090909091},{"$f":"HLOOKUP('III Tool Overview'!$H$6,LookUpData_Pop!$B$1:$AV$269,LookUpData_Pop!BB183,FALSE)/5","v":152.4},{"$f":"'III Tool Overview'!$H$9/110","v":0},{"$f":"IF('III Tool Overview'!$H$10=\"Even distribution\",Targeting!C185,IF('III Tool Overview'!$H$10=\"Targetting to Q1\",Targeting!D185,IF('III Tool Overview'!$H$10=\"Targetting to Q1 & Q2\",Targeting!E185,IF('III Tool Overview'!$H$10=\"No variation in price elasticity\",Targeting!G185))))","v":12.332727272727274},2.0818943557264875,2.0805449697293072,9.0067510381607256,9.001322357828748,22.980810203123909,22.968989337049727,60.106022831978379,60.087944017359511,64.53872502752111,64.496894061608529,4.1830965912581064E-2,265.12762889338529,264.96749678782663,0.16013210555865953,613.2228860094915,612.90256538009749,0.3203206293940184,1253.5307409675302,1253.0905791899249,0.44016177760522623,52.779680981976171,52.758800470586856,2.0880511389314904E-2,214.67627941476869,214.59780770262924,7.8471712139446481E-2,492.96745775797814,492.81456194865933,0.15289580931880664,1043.6421119362553,1043.4450059673504,0.19710596890490706,null,0.5,5]
["Female 70-74",72.5,"female",3,{"$f":"HLOOKUP('III Tool Overview'!$H$6,Prevalence!$B$2:$AV$268,Prevalence!AW179,FALSE)","v":0.11590909090909091},{"$f":"HLOOKUP('III Tool Overview'!$H$6,LookUpData_Pop!$B$1:$AV$269,LookUpData_Pop!BB184,FALSE)/5","v":112},{"$f":"'III Tool Overview'!$H$9/110","v":0},{"$f":"IF('III Tool Overview'!$H$10=\"Even distribution\",Targeting!C186,IF('III Tool Overview'!$H$10=\"Targetting to Q1\",Targeting!D186,IF('III Tool Overview'!$H$10=\"Targetting to Q1 & Q2\",Targeting!E186,IF('III Tool Overview'!$H$10=\"No variation in price elasticity\",Targeting!G186))))","v":11.776363636363637},{"$f":"new_ci(2,B188,C188,D188,$C$1,G188,1,F188,E188*F188)","v":2.1169967111885946},{"$f":"new_ci(2,B188,C188,D188,$C$1,G188+H188,1,F188,E188*F188)","v":2.1151396162547393},{"$f":"new_ci(5,B188,C188,D188,$C$1,G188,1,F188,E188*F188)","v":9.0672522752673252},{"$f":"new_ci(5,B188,C188,D188,$C$1,G188+H188,1,F188,E188*F188)","v":9.0600487296993855},{"$f":"new_ci(10,B188,C188,D188,$C$1,G188,1,F188,E188*F188)","v":22.658972976310466},{"$f":"new_ci(10,B188,C188,D188,$C$1,G188+H188,1,F188,E188*F188)","v":22.644494027459316},{"$f":"new_ci(20,B188,C188,D188,$C$1,G188,1,F188,E188*F188)","v":55.821433846026345},{"$f":"new_ci(20,B188,C188,D188,$C$1,G188+H188,1,F188,E188*F188)","v":55.804535443741372},{"$f":"new_yll(2,B188,C188,D188,$C$1,G188,1,F188,E188*F188)","v":57.158911202092057},{"$f":"new_yll(2,B188,C188,D188,$C$1,G188+H188,1,F188,E188*F188)","v":57.108769638877959},{"$f":"Q188-R188","v":5.0141563214097573E-2},{"$f":"new_yll(5,B188,C188,D188,$C$1,G188,1,F188,E188*F188)","v":230.71378543777695},{"$f":"new_yll(5,B188,C188,D188,$C$1,G188+H188,1,F188,E188*F188)","v":230.52988484150899},{"$f":"T188-U188","v":0.18390059626796074},{"$f":"new_yll(10,B188,C188,D188,$C$1,G188,1,F188,E188*F188)","v":515.15143572790635},{"$f":"new_yll(10,B188,C188,D188,$C$1,G188+H188,1,F188,E188*F188)","v":514.81364811311164},{"$f":"W188-X188","v":0.33778761479470631},{"$f":"new_yll(20,B188,C188,D188,$C$1,G188,1,F188,E188*F188)","v":958.07681714367686},{"$f":"new_yll(20,B188,C188,D188,$C$1,G188+H188,1,F188,E188*F188)","v":957.69067733757447},{"$f":"Z188-AA188","v":0.38613980610239196},{"$f":"hosp_count(2,B188,C188,D188,$C$1,G188,1,F188,E188*F188)","v":42.806923126030469},{"$f":"hosp_count(2,B188,C188,D188,$C$1,G188+H188,1,F188,E188*F188)","v":42.783856220761216},{"$f":"AC188-AD188","v":2.3066905269253368E-2},{"$f":"hosp_count(5,B188,C188,D188,$C$1,G188,1,F188,E188*F188)","v":172.58000164524069},{"$f":"hosp_count(5,B188,C188,D188,$C$1,G188+H188,1,F188,E188*F188)","v":172.49648529154047},{"$f":"AF188-AG188","v":8.3516353700218815E-2},{"$f":"hosp_count(10,B188,C188,D188,$C$1,G188,1,F188,E188*F188)","v":389.42441912665817},{"$f":"hosp_count(10,B188,C188,D188,$C$1,G188+H188,1,F188,E188*F188)","v":389.27394165460282},{"$f":"AI188-AJ188","v":0.15047747205534279},{"$f":"hosp_count(20,B188,C188,D188,$C$1,G188,1,F188,E188*F188)","v":787.16098663541061},{"$f":"hosp_count(20,B188,C188,D188,$C$1,G188+H188,1,F188,E188*F188)","v":787.00685328953728},{"$f":"AL188-AM188","v":0.15413334587333338},null,0.5,5]
["Female 75-79",77.5,"female",3,{"$f":"HLOOKUP('III Tool Overview'!$H$6,Prevalence!$B$2:$AV$268,Prevalence!AW180,FALSE)","v":5.4545454545454543E-2},{"$f":"HLOOKUP('III Tool Overview'!$H$6,LookUpData_Pop!$B$1:$AV$269,LookUpData_Pop!BB185,FALSE)/5","v":84.8},{"$f":"'III Tool Overview'!$H$9/110","v":0},{"$f":"IF('III Tool Overview'!$H$10=\"Even distribution\",Targeting!C187,IF('III Tool Overview'!$H$10=\"Targetting to Q1\",Targeting!D187,IF('III Tool Overview'!$H$10=\"Targetting to Q1 & Q2\",Targeting!E187,IF('III Tool Overview'!$H$10=\"No variation in price elasticity\",Targeting!G187))))","v":3.1854545454545455},2.604721414017904,2.6039336253234828,10.933243320191423,10.930469312611065,26.214881907474336,26.210372462655272,57.536005163514936,57.533435232087342,54.699149694375983,54.682606131793136,1.6543562582846505E-2,212.77575969571581,212.72134123833888,5.4418457376925744E-2,441.4264941941301,441.34519039573132,8.1303798398778326E-2,679.10171198190415,679.03076210435461,7.0949877549537632E-2,37.576224049252666,37.569345652528291,6.8783967243746247E-3,148.65558897266121,148.63301175746375,2.2577215197458145E-2,323.26656472771441,323.23347016816888,3.3094559545531865E-2,594.88533034675868,594.86623044346209,1.9099903296591947E-2,null,0.5,5]
["Female 80-84",82.5,"female",3,{"$f":"HLOOKUP('III Tool Overview'!$H$6,Prevalence!$B$2:$AV$268,Prevalence!AW181,FALSE)","v":5.4545454545454543E-2},{"$f":"HLOOKUP('III Tool Overview'!$H$6,LookUpData_Pop!$B$1:$AV$269,LookUpData_Pop!BB186,FALSE)/5","v":69.8},{"$f":"'III Tool Overview'!$H$9/110","v":0},{"$f":"IF('III Tool Overview'!$H$10=\"Even distribution\",Targeting!C188,IF('III Tool Overview'!$H$10=\"Targetting to Q1\",Targeting!D188,IF('III Tool Overview'!$H$10=\"Targetting to Q1 & Q2\",Targeting!E188,IF('III Tool Overview'!$H$10=\"No variation in price elasticity\",Targeting!G188))))","v":2.5745454545454542},2.9563387747973495,2.9552711480121774,12.149384690376982,12.145943621215169,27.939266292737514,27.934659375148438,55.208410611795266,55.207047591540586,50.257759171554945,50.239609516207018,1.8149655347926341E-2,188.05977795388782,188.00574250573118,5.4035448156639632E-2,361.73084969922945,361.66267153380903,6.81781654204201E-2,465.85637277089774,465.79775031548724,5.8622455410500152E-2,34.133977923138417,34.126380534346509,7.5973887919076333E-3,132.47097833338361,132.44815673940141,2.2821593982200739E-2,277.83353698396439,277.80577558047548,2.7761403488909764E-2,470.93230520530858,470.92213484883791,1.0170356470666775E-2,null,0.5,5]
["Female 85-89",87.5,"female",3,{"$f":"HLOOKUP('III Tool Overview'!$H$6,Prevalence!$B$2:$AV$268,Prevalence!AW182,FALSE)","v":5.4545454545454543E-2},{"$f":"HLOOKUP('III Tool Overview'!$H$6,LookUpData_Pop!$B$1:$AV$269,LookUpData_Pop!BB187,FALSE)/5","v":52},{"$f":"'III Tool Overview'!$H$9/110","v":0},{"$f":"IF('III Tool Overview'!$H$10=\"Even distribution\",Targeting!C189,IF('III Tool Overview'!$H$10=\"Targetting to Q1\",Targeting!D189,IF('III Tool Overview'!$H$10=\"Targetting to Q1 & Q2\",Targeting!E189,IF('III Tool Overview'!$H$10=\"No variation in price elasticity\",Targeting!G189))))","v":1.3963636363636365},3.5485436695325951,3.5479949161042383,13.914229453393794,13.912781046580495,29.306493187147268,29.305242169509778,47.868110849986593,47.868026614629223,39.03398036485855,39.027944077146621,6.0362877119288783E-3,132.44508138995241,132.43071703474865,1.4364355203753121E-2,210.63010323723276,210.61615470793814,1.3948529294623313E-2,179.26914531553155,179.25347431149223,1.5671004039319314E-2,29.481944113763049,29.479008629121729,2.9354846413198743E-3,109.63529673100793,109.6280472601017,7.2494709062311813E-3,213.02902509056787,213.02314994714749,5.8751434203827557E-3,311.44465997336505,311.44347074934308,1.1892240219708583E-3,null,0.5,{"$f":"2/#REF!","v":{"$error":"#REF!"}}]
["Female 90+",95,"female",3,{"$f":"HLOOKUP('III Tool Overview'!$H$6,Prevalence!$B$2:$AV$268,Prevalence!AW183,FALSE)","v":5.4545454545454543E-2},{"$f":"HLOOKUP('III Tool Overview'!$H$6,LookUpData_Pop!$B$1:$AV$269,LookUpData_Pop!BB188,FALSE)/5","v":29.6},{"$f":"'III Tool Overview'!$H$9/110","v":0},{"$f":"IF('III Tool Overview'!$H$10=\"Even distribution\",Targeting!C190,IF('III Tool Overview'!$H$10=\"Targetting to Q1\",Targeting!D190,IF('III Tool Overview'!$H$10=\"Targetting to Q1 & Q2\",Targeting!E190,IF('III Tool Overview'!$H$10=\"No variation in price elasticity\",Targeting!G190))))","v":0.87272727272727268},{"$f":"new_ci(2,B192,C192,D192,$C$1,G192,1,F192,E192*F192)","v":3.4806602947068477},{"$f":"new_ci(2,B192,C192,D192,$C$1,G192+H192,1,F192,E192*F192)","v":3.479800446886772},{"$f":"new_ci(5,B192,C192,D192,$C$1,G192,1,F192,E192*F192)","v":12.477519911758028},{"$f":"new_ci(5,B192,C192,D192,$C$1,G192+H192,1,F192,E192*F192)","v":12.475980462742527},{"$f":"new_ci(10,B192,C192,D192,$C$1,G192,1,F192,E192*F192)","v":22.632782795032831},{"$f":"new_ci(10,B192,C192,D192,$C$1,G192+H192,1,F192,E192*F192)","v":22.632215363071104},{"$f":"new_ci(20,B192,C192,D192,$C$1,G192,1,F192,E192*F192)","v":29.240917691358117},{"$f":"new_ci(20,B192,C192,D192,$C$1,G192+H192,1,F192,E192*F192)","v":29.240915537985039},{"$f":"new_yll(2,B192,C192,D192,$C$1,G192,1,F192,E192*F192)","v":13.922641178827391},{"$f":"new_yll(2,B192,C192,D192,$C$1,G192+H192,1,F192,E192*F192)","v":13.919201787547088},{"$f":"Q192-R192","v":3.4393912803025728E-3},{"$f":"new_yll(5,B192,C192,D192,$C$1,G192,1,F192,E192*F192)","v":32.405120936946567},{"$f":"new_yll(5,B192,C192,D192,$C$1,G192+H192,1,F192,E192*F192)","v":32.399839421959996},{"$f":"T192-U192","v":5.2815149865708122E-3},{"$f":"new_yll(10,B192,C192,D192,$C$1,G192,1,F192,E192*F192)","v":14.447255093312865},{"$f":"new_yll(10,B192,C192,D192,$C$1,G192+H192,1,F192,E192*F192)","v":14.439869790420456},{"$f":"W192-X192","v":7.3853028924091291E-3},{"$f":"new_yll(20,B192,C192,D192,$C$1,G192,1,F192,E192*F192)","v":-37.488318488297473},{"$f":"new_yll(20,B192,C192,D192,$C$1,G192+H192,1,F192,E192*F192)","v":-37.499612431533457},{"$f":"Z192-AA192","v":1.1293943235983761E-2},{"$f":"hosp_count(2,B192,C192,D192,$C$1,G192,1,F192,E192*F192)","v":19.942028354259968},{"$f":"hosp_count(2,B192,C192,D192,$C$1,G192+H192,1,F192,E192*F192)","v":19.938557432447688},{"$f":"AC192-AD192","v":3.4709218122799257E-3},{"$f":"hosp_count(5,B192,C192,D192,$C$1,G192,1,F192,E192*F192)","v":68.348285335683073},{"$f":"hosp_count(5,B192,C192,D192,$C$1,G192+H192,1,F192,E192*F192)","v":68.342295100197447},{"$f":"AF192-AG192","v":5.9902354856262718E-3},{"$f":"hosp_count(10,B192,C192,D192,$C$1,G192,1,F192,E192*F192)","v":116.58573760760542},{"$f":"hosp_count(10,B192,C192,D192,$C$1,G192+H192,1,F192,E192*F192)","v":116.58318470641186},{"$f":"AI192-AJ192","v":2.5529011935674362E-3},{"$f":"hosp_count(20,B192,C192,D192,$C$1,G192,1,F192,E192*F192)","v":142.36025913765721},{"$f":"hosp_count(20,B192,C192,D192,$C$1,G192+H192,1,F192,E192*F192)","v":142.35943269623232},{"$f":"AL192-AM192","v":8.264414248912999E-4}]
["TOTAL",null,null,null,null,{"$f":"SUM(F177:F192)","v":1830.7999999999997},{"$f":"SUM(G177:G192)","v":0},{"$f":"SUM(H177:H192)","v":171.68181818181822},{"$f":"SUM(I177:I192)","v":20.65310872952481},{"$f":"SUM(J177:J192)","v":20.643496257657205},{"$f":"SUM(K177:K192)","v":84.530793529189069},{"$f":"SUM(L177:L192)","v":84.495554467708047},{"$f":"SUM(M177:M192)","v":196.54766841546626},{"$f":"SUM(N177:N192)","v":196.47720189126571},{"$f":"SUM(O177:O192)","v":435.92947672293377},{"$f":"SUM(P177:P192)","v":435.81077881621064},{"$f":"SUM(Q177:Q192)","v":453.07771413900576},{"$f":"SUM(R177:R192)","v":452.79944892584746},{"$f":"SUM(S177:S192)","v":0.27826521315826946},{"$f":"SUM(T177:T192)","v":1797.9259160956933},{"$f":"SUM(U177:U192)","v":1796.8661514780961},{"$f":"SUM(V177:V192)","v":1.0597646175972031},{"$f":"SUM(W177:W192)","v":3977.8729896998925},{"$f":"SUM(X177:X192)","v":3975.6649573663194},{"$f":"SUM(Y177:Y192)","v":2.2080323335722802},{"$f":"SUM(Z177:Z192)","v":8015.0682067386233},{"$f":"SUM(AA177:AA192)","v":8011.1135557212829},{"$f":"SUM(AB177:AB192)","v":3.9546510173407938},{"$f":"SUM(AC177:AC192)","v":475.91596727811594},{"$f":"SUM(AD177:AD192)","v":475.71804953806708},{"$f":"SUM(AE177:AE192)","v":0.1979177400487302},{"$f":"SUM(AF177:AF192)","v":1918.4149541087374},{"$f":"SUM(AG177:AG192)","v":1917.6570262782059},{"$f":"SUM(AH177:AH192)","v":0.75792783053174162},{"$f":"SUM(AI177:AI192)","v":4360.1504389353267},{"$f":"SUM(AJ177:AJ192)","v":4358.560175630465},{"$f":"SUM(AK177:AK192)","v":1.590263304862404},{"$f":"SUM(AL177:AL192)","v":9296.3224890513884},{"$f":"SUM(AM177:AM192)","v":9293.4365546038389},{"$f":"SUM(AN177:AN192)","v":2.8859344475518753}]
["age/sex breakdown: Q4"]
["Male <1",0.5,"male",4,null,{"$f":"HLOOKUP('III Tool Overview'!$H$6,LookUpData_Pop!$B$1:$AV$269,LookUpData_Pop!BB190,FALSE)/5","v":62.2},null,null,null,null,null,null,null,null,null,null,null,null,null,null,null,null,null,null,null,null,null,null,null,null,null,null,null,null,null,null,null,null,null,null,null,0.1,1]
["Male 1-4",2.5,"male",4,null,{"$f":"HLOOKUP('III Tool Overview'!$H$6,LookUpData_Pop!$B$1:$AV$269,LookUpData_Pop!BB191,FALSE)/5","v":234.2},null,null,null,null,null,null,null,null,null,null,null,null,null,null,null,null,null,null,null,null,null,null,null,null,null,null,null,null,null,null,null,null,null,null,null,0.5,4]
["Male 5-9",7.5,"male",4,null,{"$f":"HLOOKUP('III Tool Overview'!$H$6,LookUpData_Pop!$B$1:$AV$269,LookUpData_Pop!BB192,FALSE)/5","v":301.2},null,null,null,null,null,null,null,null,null,null,null,null,null,null,null,null,null,null,null,null,null,null,null,null,null,null,null,null,null,null,null,null,null,null,null,0.5,5]
["Male 10-14",12.5,"male",4,null,{"$f":"HLOOKUP('III Tool Overview'!$H$6,LookUpData_Pop!$B$1:$AV$269,LookUpData_Pop!BB193,FALSE)/5","v":371.2},null,null,null,null,null,null,null,null,null,null,null,null,null,null,null,null,null,null,null,null,null,null,null,null,null,null,null,null,null,null,null,null,null,null,null,0.5,5]
["Male 15-19",17.5,"male",4,{"$f":"HLOOKUP('III Tool Overview'!$H$6,Prevalence!$B$2:$AV$268,Prevalence!AW189,FALSE)","v":0.25},{"$f":"HLOOKUP('III Tool Overview'!$H$6,LookUpData_Pop!$B$1:$AV$269,LookUpData_Pop!BB194,FALSE)/5","v":362.4},{"$f":"'III Tool Overview'!$H$9/110","v":0},{"$f":"IF('III Tool Overview'!$H$10=\"Even distribution\",Targeting!C197,IF('III Tool Overview'!$H$10=\"Targetting to Q1\",Targeting!D197,IF('III Tool Overview'!$H$10=\"Targetting to Q1 & Q2\",Targeting!E197,IF('III Tool Overview'!$H$10=\"No variation in price elasticity\",Targeting!G197))))","v":64},{"$f":"IF('III Tool Overview'!$H$6=\"Western Isles Health Board\",0,IF('III Tool Overview'!$H$6=\"Eilean Siar Local Authority\",0,new_ci(2,B199,C199,D199,$C$1,G199,1,F199,E199*F199)))","v":0.16094213667020224},{"$f":"IF('III Tool Overview'!$H$6=\"Western Isles Health Board\",0,IF('III Tool Overview'!$H$6=\"Eilean Siar Local Authority\",0,new_ci(2,B199,C199,D199,$C$1,G199+H199,1,F199,E199*F199)))","v":0.16073425021951376},{"$f":"IF('III Tool Overview'!$H$6=\"Western Isles Health Board\",0,IF('III Tool Overview'!$H$6=\"Eilean Siar Local Authority\",0,new_ci(5,B199,C199,D199,$C$1,G199,1,F199,E199*F199)))","v":0.70359827400405439},{"$f":"IF('III Tool Overview'!$H$6=\"Western Isles Health Board\",0,IF('III Tool Overview'!$H$6=\"Eilean Siar Local Authority\",0,new_ci(5,B199,C199,D199,$C$1,G199+H199,1,F199,E199*F199)))","v":0.70269610739287802},{"$f":"IF('III Tool Overview'!$H$6=\"Western Isles Health Board\",0,IF('III Tool Overview'!$H$6=\"Eilean Siar Local Authority\",0,new_ci(10,B199,C199,D199,$C$1,G199,1,F199,E199*F199)))","v":1.8455370108066926},{"$f":"IF('III Tool Overview'!$H$6=\"Western Isles Health Board\",0,IF('III Tool Overview'!$H$6=\"Eilean Siar Local Authority\",0,new_ci(10,B199,C199,D199,$C$1,G199+H199,1,F199,E199*F199)))","v":1.8432027987208297},{"$f":"IF('III Tool Overview'!$H$6=\"Western Isles Health Board\",0,IF('III Tool Overview'!$H$6=\"Eilean Siar Local Authority\",0,new_ci(20,B199,C199,D199,$C$1,G199,1,F199,E199*F199)))","v":5.3954513693434336},{"$f":"IF('III Tool Overview'!$H$6=\"Western Isles Health Board\",0,IF('III Tool Overview'!$H$6=\"Eilean Siar Local Authority\",0,new_ci(20,B199,C199,D199,$C$1,G199+H199,1,F199,E199*F199)))","v":5.3888547017360295},{"$f":"IF('III Tool Overview'!$H$6=\"Western Isles Health Board\",0,IF('III Tool Overview'!$H$6=\"Eilean Siar Local Authority\",0,new_yll(2,B199,C199,D199,$C$1,G199,1,F199,E199*F199)))","v":13.036313070286381},{"$f":"IF('III Tool Overview'!$H$6=\"Western Isles Health Board\",0,IF('III Tool Overview'!$H$6=\"Eilean Siar Local Authority\",0,new_yll(2,B199,C199,D199,$C$1,G199+H199,1,F199,E199*F199)))","v":13.019474267780614},{"$f":"Q199-R199","v":1.6838802505766637E-2},{"$f":"IF('III Tool Overview'!$H$6=\"Western Isles Health Board\",0,IF('III Tool Overview'!$H$6=\"Eilean Siar Local Authority\",0,new_yll(5,B199,C199,D199,$C$1,G199,1,F199,E199*F199)))","v":55.885240411548288},{"$f":"IF('III Tool Overview'!$H$6=\"Western Isles Health Board\",0,IF('III Tool Overview'!$H$6=\"Eilean Siar Local Authority\",0,new_yll(5,B199,C199,D199,$C$1,G199+H199,1,F199,E199*F199)))","v":55.813578033700843},{"$f":"T199-U199","v":7.1662377847445669E-2},{"$f":"IF('III Tool Overview'!$H$6=\"Western Isles Health Board\",0,IF('III Tool Overview'!$H$6=\"Eilean Siar Local Authority\",0,new_yll(10,B199,C199,D199,$C$1,G199,1,F199,E199*F199)))","v":141.39912875444847},{"$f":"IF('III Tool Overview'!$H$6=\"Western Isles Health Board\",0,IF('III Tool Overview'!$H$6=\"Eilean Siar Local Authority\",0,new_yll(10,B199,C199,D199,$C$1,G199+H199,1,F199,E199*F199)))","v":141.22021344585707},{"$f":"W199-X199","v":0.17891530859139948},{"$f":"IF('III Tool Overview'!$H$6=\"Western Isles Health Board\",0,IF('III Tool Overview'!$H$6=\"Eilean Siar Local Authority\",0,new_yll(20,B199,C199,D199,$C$1,G199,1,F199,E199*F199)))","v":379.3510373969666},{"$f":"IF('III Tool Overview'!$H$6=\"Western Isles Health Board\",0,IF('III Tool Overview'!$H$6=\"Eilean Siar Local Authority\",0,new_yll(20,B199,C199,D199,$C$1,G199+H199,1,F199,E199*F199)))","v":378.88620221981739},{"$f":"Z199-AA199","v":0.46483517714921163},{"$f":"IF('III Tool Overview'!$H$6=\"Western Isles Health Board\",0,IF('III Tool Overview'!$H$6=\"Eilean Siar Local Authority\",0,hosp_count(2,B199,C199,D199,$C$1,G199,1,F199,E199*F199)))","v":22.310059410710743},{"$f":"IF('III Tool Overview'!$H$6=\"Western Isles Health Board\",0,IF('III Tool Overview'!$H$6=\"Eilean Siar Local Authority\",0,hosp_count(2,B199,C199,D199,$C$1,G199+H199,1,F199,E199*F199)))","v":22.29147461468537},{"$f":"AC199-AD199","v":1.8584796025372441E-2},{"$f":"IF('III Tool Overview'!$H$6=\"Western Isles Health Board\",0,IF('III Tool Overview'!$H$6=\"Eilean Siar Local Authority\",0,hosp_count(5,B199,C199,D199,$C$1,G199,1,F199,E199*F199)))","v":94.272618049896479},{"$f":"IF('III Tool Overview'!$H$6=\"Western Isles Health Board\",0,IF('III Tool Overview'!$H$6=\"Eilean Siar Local Authority\",0,hosp_count(5,B199,C199,D199,$C$1,G199+H199,1,F199,E199*F199)))","v":94.194730202800301},{"$f":"AF199-AG199","v":7.7887847096178575E-2},{"$f":"IF('III Tool Overview'!$H$6=\"Western Isles Health Board\",0,IF('III Tool Overview'!$H$6=\"Eilean Siar Local Authority\",0,hosp_count(10,B199,C199,D199,$C$1,G199,1,F199,E199*F199)))","v":232.8684855592216},{"$f":"IF('III Tool Overview'!$H$6=\"Western Isles Health Board\",0,IF('III Tool Overview'!$H$6=\"Eilean Siar Local Authority\",0,hosp_count(10,B199,C199,D199,$C$1,G199+H199,1,F199,E199*F199)))","v":232.6789431748833},{"$f":"AI199-AJ199","v":0.18954238433829573},{"$f":"IF('III Tool Overview'!$H$6=\"Western Isles Health Board\",0,IF('III Tool Overview'!$H$6=\"Eilean Siar Local Authority\",0,hosp_count(20,B199,C199,D199,$C$1,G199,1,F199,E199*F199)))","v":596.50843916379847},{"$f":"IF('III Tool Overview'!$H$6=\"Western Isles Health Board\",0,IF('III Tool Overview'!$H$6=\"Eilean Siar Local Authority\",0,hosp_count(20,B199,C199,D199,$C$1,G199+H199,1,F199,E199*F199)))","v":596.03990700947872},{"$f":"AL199-AM199","v":0.46853215431974604},null,0.5,5]
["Male 20-24",22.5,"male",4,{"$f":"HLOOKUP('III Tool Overview'!$H$6,Prevalence!$B$2:$AV$268,Prevalence!AW190,FALSE)","v":0.25},{"$f":"HLOOKUP('III Tool Overview'!$H$6,LookUpData_Pop!$B$1:$AV$269,LookUpData_Pop!BB195,FALSE)/5","v":273.60000000000002},{"$f":"'III Tool Overview'!$H$9/110","v":0},{"$f":"IF('III Tool Overview'!$H$10=\"Even distribution\",Targeting!C198,IF('III Tool Overview'!$H$10=\"Targetting to Q1\",Targeting!D198,IF('III Tool Overview'!$H$10=\"Targetting to Q1 & Q2\",Targeting!E198,IF('III Tool Overview'!$H$10=\"No variation in price elasticity\",Targeting!G198))))","v":67.8},{"$f":"IF('III Tool Overview'!$H$6=\"Western Isles Health Board\",0,IF('III Tool Overview'!$H$6=\"Eilean Siar Local Authority\",0,new_ci(2,B200,C200,D200,$C$1,G200,1,F200,E200*F200)))","v":0.162305187906441},{"$f":"IF('III Tool Overview'!$H$6=\"Western Isles Health Board\",0,IF('III Tool Overview'!$H$6=\"Eilean Siar Local Authority\",0,new_ci(2,B200,C200,D200,$C$1,G200+H200,1,F200,E200*F200)))","v":0.1620094617299408},{"$f":"IF('III Tool Overview'!$H$6=\"Western Isles Health Board\",0,IF('III Tool Overview'!$H$6=\"Eilean Siar Local Authority\",0,new_ci(5,B200,C200,D200,$C$1,G200,1,F200,E200*F200)))","v":0.709347794978756},{"$f":"IF('III Tool Overview'!$H$6=\"Western Isles Health Board\",0,IF('III Tool Overview'!$H$6=\"Eilean Siar Local Authority\",0,new_ci(5,B200,C200,D200,$C$1,G200+H200,1,F200,E200*F200)))","v":0.7080655501915879},{"$f":"IF('III Tool Overview'!$H$6=\"Western Isles Health Board\",0,IF('III Tool Overview'!$H$6=\"Eilean Siar Local Authority\",0,new_ci(10,B200,C200,D200,$C$1,G200,1,F200,E200*F200)))","v":1.8594616192923625},{"$f":"IF('III Tool Overview'!$H$6=\"Western Isles Health Board\",0,IF('III Tool Overview'!$H$6=\"Eilean Siar Local Authority\",0,new_ci(10,B200,C200,D200,$C$1,G200+H200,1,F200,E200*F200)))","v":1.8561501256919339},{"$f":"IF('III Tool Overview'!$H$6=\"Western Isles Health Board\",0,IF('III Tool Overview'!$H$6=\"Eilean Siar Local Authority\",0,new_ci(20,B200,C200,D200,$C$1,G200,1,F200,E200*F200)))","v":5.4256359500820324},{"$f":"new_ci(20,B200,C200,D200,$C$1,G200+H200,1,F200,E200*F200)","v":5.4163312975049811},{"$f":"IF('III Tool Overview'!$H$6=\"Western Isles Health Board\",0,IF('III Tool Overview'!$H$6=\"Eilean Siar Local Authority\",0,new_yll(2,B200,C200,D200,$C$1,G200,1,F200,E200*F200)))","v":12.497499468795956},{"$f":"IF('III Tool Overview'!$H$6=\"Western Isles Health Board\",0,IF('III Tool Overview'!$H$6=\"Eilean Siar Local Authority\",0,new_yll(2,B200,C200,D200,$C$1,G200+H200,1,F200,E200*F200)))","v":12.474728553205441},2.2770915590514917E-2,{"$f":"IF('III Tool Overview'!$H$6=\"Western Isles Health Board\",0,IF('III Tool Overview'!$H$6=\"Eilean Siar Local Authority\",0,new_yll(5,B200,C200,D200,$C$1,G200,1,F200,E200*F200)))","v":53.504690174131703},{"$f":"IF('III Tool Overview'!$H$6=\"Western Isles Health Board\",0,IF('III Tool Overview'!$H$6=\"Eilean Siar Local Authority\",0,new_yll(5,B200,C200,D200,$C$1,G200+H200,1,F200,E200*F200)))","v":53.407964871710682},{"$f":"T200-U200","v":9.6725302421020842E-2},{"$f":"IF('III Tool Overview'!$H$6=\"Western Isles Health Board\",0,IF('III Tool Overview'!$H$6=\"Eilean Siar Local Authority\",0,new_yll(10,B200,C200,D200,$C$1,G200,1,F200,E200*F200)))","v":135.03088407323537},{"$f":"IF('III Tool Overview'!$H$6=\"Western Isles Health Board\",0,IF('III Tool Overview'!$H$6=\"Eilean Siar Local Authority\",0,new_yll(10,B200,C200,D200,$C$1,G200+H200,1,F200,E200*F200)))","v":134.79029230321072},{"$f":"W200-X200","v":0.24059177002465049},{"$f":"IF('III Tool Overview'!$H$6=\"Western Isles Health Board\",0,IF('III Tool Overview'!$H$6=\"Eilean Siar Local Authority\",0,new_yll(20,B200,C200,D200,$C$1,G200,1,F200,E200*F200)))","v":359.81931477038904},{"$f":"IF('III Tool Overview'!$H$6=\"Western Isles Health Board\",0,IF('III Tool Overview'!$H$6=\"Eilean Siar Local Authority\",0,new_yll(20,B200,C200,D200,$C$1,G200+H200,1,F200,E200*F200)))","v":359.20062366977328},{"$f":"Z200-AA200","v":0.61869110061576293},{"$f":"IF('III Tool Overview'!$H$6=\"Western Isles Health Board\",0,IF('III Tool Overview'!$H$6=\"Eilean Siar Local Authority\",0,hosp_count(2,B200,C200,D200,$C$1,G200,1,F200,E200*F200)))","v":19.366109113984447},{"$f":"IF('III Tool Overview'!$H$6=\"Western Isles Health Board\",0,IF('III Tool Overview'!$H$6=\"Eilean Siar Local Authority\",0,hosp_count(2,B200,C200,D200,$C$1,G200+H200,1,F200,E200*F200)))","v":19.343378388718211},{"$f":"AC200-AD200","v":2.2730725266235652E-2},{"$f":"IF('III Tool Overview'!$H$6=\"Western Isles Health Board\",0,IF('III Tool Overview'!$H$6=\"Eilean Siar Local Authority\",0,hosp_count(5,B200,C200,D200,$C$1,G200,1,F200,E200*F200)))","v":81.811512841005154},{"$f":"IF('III Tool Overview'!$H$6=\"Western Isles Health Board\",0,IF('III Tool Overview'!$H$6=\"Eilean Siar Local Authority\",0,hosp_count(5,B200,C200,D200,$C$1,G200+H200,1,F200,E200*F200)))","v":81.716337402856055},{"$f":"AF200-AG200","v":9.5175438149098568E-2},{"$f":"IF('III Tool Overview'!$H$6=\"Western Isles Health Board\",0,IF('III Tool Overview'!$H$6=\"Eilean Siar Local Authority\",0,hosp_count(10,B200,C200,D200,$C$1,G200,1,F200,E200*F200)))","v":201.97993710057818},{"$f":"IF('III Tool Overview'!$H$6=\"Western Isles Health Board\",0,IF('III Tool Overview'!$H$6=\"Eilean Siar Local Authority\",0,hosp_count(10,B200,C200,D200,$C$1,G200+H200,1,F200,E200*F200)))","v":201.74876366431656},{"$f":"AI200-AJ200","v":0.23117343626162778},{"$f":"IF('III Tool Overview'!$H$6=\"Western Isles Health Board\",0,IF('III Tool Overview'!$H$6=\"Eilean Siar Local Authority\",0,hosp_count(20,B200,C200,D200,$C$1,G200,1,F200,E200*F200)))","v":516.56418109464107},{"$f":"IF('III Tool Overview'!$H$6=\"Western Isles Health Board\",0,IF('III Tool Overview'!$H$6=\"Eilean Siar Local Authority\",0,hosp_count(20,B200,C200,D200,$C$1,G200+H200,1,F200,E200*F200)))","v":515.9959830105704},{"$f":"AL200-AM200","v":0.56819808407067285},null,0.5,5]
["Male 25-29",27.5,"male",4,{"$f":"HLOOKUP('III Tool Overview'!$H$6,Prevalence!$B$2:$AV$268,Prevalence!AW191,FALSE)","v":0.35000000000000003},{"$f":"HLOOKUP('III Tool Overview'!$H$6,LookUpData_Pop!$B$1:$AV$269,LookUpData_Pop!BB196,FALSE)/5","v":260},{"$f":"'III Tool Overview'!$H$9/110","v":0},{"$f":"IF('III Tool Overview'!$H$10=\"Even distribution\",Targeting!C199,IF('III Tool Overview'!$H$10=\"Targetting to Q1\",Targeting!D199,IF('III Tool Overview'!$H$10=\"Targetting to Q1 & Q2\",Targeting!E199,IF('III Tool Overview'!$H$10=\"No variation in price elasticity\",Targeting!G199))))","v":82.320000000000007},{"$f":"IF('III Tool Overview'!$H$6=\"Western Isles Health Board\",0,IF('III Tool Overview'!$H$6=\"Eilean Siar Local Authority\",0,new_ci(2,B201,C201,D201,$C$1,G201,1,F201,E201*F201)))","v":0.23810368117985992},{"$f":"IF('III Tool Overview'!$H$6=\"Western Isles Health Board\",0,IF('III Tool Overview'!$H$6=\"Eilean Siar Local Authority\",0,new_ci(2,B201,C201,D201,$C$1,G201+H201,1,F201,E201*F201)))","v":0.2376023853089525},{"$f":"IF('III Tool Overview'!$H$6=\"Western Isles Health Board\",0,IF('III Tool Overview'!$H$6=\"Eilean Siar Local Authority\",0,new_ci(5,B201,C201,D201,$C$1,G201,1,F201,E201*F201)))","v":1.0399541701359087},{"$f":"IF('III Tool Overview'!$H$6=\"Western Isles Health Board\",0,IF('III Tool Overview'!$H$6=\"Eilean Siar Local Authority\",0,new_ci(5,B201,C201,D201,$C$1,G201+H201,1,F201,E201*F201)))","v":1.0377836355496552},{"$f":"IF('III Tool Overview'!$H$6=\"Western Isles Health Board\",0,IF('III Tool Overview'!$H$6=\"Eilean Siar Local Authority\",0,new_ci(10,B201,C201,D201,$C$1,G201,1,F201,E201*F201)))","v":2.7224216427740533},{"$f":"IF('III Tool Overview'!$H$6=\"Western Isles Health Board\",0,IF('III Tool Overview'!$H$6=\"Eilean Siar Local Authority\",0,new_ci(10,B201,C201,D201,$C$1,G201+H201,1,F201,E201*F201)))","v":2.7168326255147415},{"$f":"IF('III Tool Overview'!$H$6=\"Western Isles Health Board\",0,IF('III Tool Overview'!$H$6=\"Eilean Siar Local Authority\",0,new_ci(20,B201,C201,D201,$C$1,G201,1,F201,E201*F201)))","v":7.9102895521628032},7.8947303086681515,{"$f":"IF('III Tool Overview'!$H$6=\"Western Isles Health Board\",0,IF('III Tool Overview'!$H$6=\"Eilean Siar Local Authority\",0,new_yll(2,B201,C201,D201,$C$1,G201,1,F201,E201*F201)))","v":16.905361363770055},{"$f":"IF('III Tool Overview'!$H$6=\"Western Isles Health Board\",0,IF('III Tool Overview'!$H$6=\"Eilean Siar Local Authority\",0,new_yll(2,B201,C201,D201,$C$1,G201+H201,1,F201,E201*F201)))","v":16.869769356935628},3.5592006834427536E-2,{"$f":"IF('III Tool Overview'!$H$6=\"Western Isles Health Board\",0,IF('III Tool Overview'!$H$6=\"Eilean Siar Local Authority\",0,new_yll(5,B201,C201,D201,$C$1,G201,1,F201,E201*F201)))","v":72.202484948840635},{"$f":"IF('III Tool Overview'!$H$6=\"Western Isles Health Board\",0,IF('III Tool Overview'!$H$6=\"Eilean Siar Local Authority\",0,new_yll(5,B201,C201,D201,$C$1,G201+H201,1,F201,E201*F201)))","v":72.051772815274745},0.15071213356588942,{"$f":"IF('III Tool Overview'!$H$6=\"Western Isles Health Board\",0,IF('III Tool Overview'!$H$6=\"Eilean Siar Local Authority\",0,new_yll(10,B201,C201,D201,$C$1,G201,1,F201,E201*F201)))","v":181.37175232800644},{"$f":"IF('III Tool Overview'!$H$6=\"Western Isles Health Board\",0,IF('III Tool Overview'!$H$6=\"Eilean Siar Local Authority\",0,new_yll(10,B201,C201,D201,$C$1,G201+H201,1,F201,E201*F201)))","v":180.99918469409096},0.3725676339154802,{"$f":"IF('III Tool Overview'!$H$6=\"Western Isles Health Board\",0,IF('III Tool Overview'!$H$6=\"Eilean Siar Local Authority\",0,new_yll(20,B201,C201,D201,$C$1,G201,1,F201,E201*F201)))","v":477.28976710724646},{"$f":"IF('III Tool Overview'!$H$6=\"Western Isles Health Board\",0,IF('III Tool Overview'!$H$6=\"Eilean Siar Local Authority\",0,new_yll(20,B201,C201,D201,$C$1,G201+H201,1,F201,E201*F201)))","v":476.34785609172508},0.94191101552138434,{"$f":"IF('III Tool Overview'!$H$6=\"Western Isles Health Board\",0,IF('III Tool Overview'!$H$6=\"Eilean Siar Local Authority\",0,hosp_count(2,B201,C201,D201,$C$1,G201,1,F201,E201*F201)))","v":22.689255455755632},{"$f":"IF('III Tool Overview'!$H$6=\"Western Isles Health Board\",0,IF('III Tool Overview'!$H$6=\"Eilean Siar Local Authority\",0,hosp_count(2,B201,C201,D201,$C$1,G201+H201,1,F201,E201*F201)))","v":22.656969954399813},3.228550135581898E-2,{"$f":"IF('III Tool Overview'!$H$6=\"Western Isles Health Board\",0,IF('III Tool Overview'!$H$6=\"Eilean Siar Local Authority\",0,hosp_count(5,B201,C201,D201,$C$1,G201,1,F201,E201*F201)))","v":95.795465659209526},{"$f":"IF('III Tool Overview'!$H$6=\"Western Isles Health Board\",0,IF('III Tool Overview'!$H$6=\"Eilean Siar Local Authority\",0,hosp_count(5,B201,C201,D201,$C$1,G201+H201,1,F201,E201*F201)))","v":95.660483290668481},0.13498236854104562,{"$f":"IF('III Tool Overview'!$H$6=\"Western Isles Health Board\",0,IF('III Tool Overview'!$H$6=\"Eilean Siar Local Authority\",0,hosp_count(10,B201,C201,D201,$C$1,G201,1,F201,E201*F201)))","v":236.22821722024469},{"$f":"IF('III Tool Overview'!$H$6=\"Western Isles Health Board\",0,IF('III Tool Overview'!$H$6=\"Eilean Siar Local Authority\",0,hosp_count(10,B201,C201,D201,$C$1,G201+H201,1,F201,E201*F201)))","v":235.90135189577379},0.32686532447090144,{"$f":"IF('III Tool Overview'!$H$6=\"Western Isles Health Board\",0,IF('III Tool Overview'!$H$6=\"Eilean Siar Local Authority\",0,hosp_count(20,B201,C201,D201,$C$1,G201,1,F201,E201*F201)))","v":602.05873514486689},{"$f":"IF('III Tool Overview'!$H$6=\"Western Isles Health Board\",0,IF('III Tool Overview'!$H$6=\"Eilean Siar Local Authority\",0,hosp_count(20,B201,C201,D201,$C$1,G201+H201,1,F201,E201*F201)))","v":601.26263891803546},0.79609622683142334,null,0.5,5]
["Male 30-34",32.5,"male",4,{"$f":"HLOOKUP('III Tool Overview'!$H$6,Prevalence!$B$2:$AV$268,Prevalence!AW192,FALSE)","v":0.35000000000000003},{"$f":"HLOOKUP('III Tool Overview'!$H$6,LookUpData_Pop!$B$1:$AV$269,LookUpData_Pop!BB197,FALSE)/5","v":246.8},{"$f":"'III Tool Overview'!$H$9/110","v":0},{"$f":"IF('III Tool Overview'!$H$10=\"Even distribution\",Targeting!C200,IF('III Tool Overview'!$H$10=\"Targetting to Q1\",Targeting!D200,IF('III Tool Overview'!$H$10=\"Targetting to Q1 & Q2\",Targeting!E200,IF('III Tool Overview'!$H$10=\"No variation in price elasticity\",Targeting!G200))))","v":87.360000000000014},{"$f":"IF('III Tool Overview'!$H$6=\"Western Isles Health Board\",0,IF('III Tool Overview'!$H$6=\"Eilean Siar Local Authority\",0,new_ci(2,B202,C202,D202,$C$1,G202,1,F202,E202*F202)))","v":0.30187841620027589},{"$f":"IF('III Tool Overview'!$H$6=\"Western Isles Health Board\",0,IF('III Tool Overview'!$H$6=\"Eilean Siar Local Authority\",0,new_ci(2,B202,C202,D202,$C$1,G202+H202,1,F202,E202*F202)))","v":0.30116728483339139},{"$f":"IF('III Tool Overview'!$H$6=\"Western Isles Health Board\",0,IF('III Tool Overview'!$H$6=\"Eilean Siar Local Authority\",0,new_ci(5,B202,C202,D202,$C$1,G202,1,F202,E202*F202)))","v":1.3176960464367569},{"$f":"IF('III Tool Overview'!$H$6=\"Western Isles Health Board\",0,IF('III Tool Overview'!$H$6=\"Eilean Siar Local Authority\",0,new_ci(5,B202,C202,D202,$C$1,G202+H202,1,F202,E202*F202)))","v":1.3146219955452059},{"$f":"IF('III Tool Overview'!$H$6=\"Western Isles Health Board\",0,IF('III Tool Overview'!$H$6=\"Eilean Siar Local Authority\",0,new_ci(10,B202,C202,D202,$C$1,G202,1,F202,E202*F202)))","v":3.4450803321885246},{"$f":"IF('III Tool Overview'!$H$6=\"Western Isles Health Board\",0,IF('III Tool Overview'!$H$6=\"Eilean Siar Local Authority\",0,new_ci(10,B202,C202,D202,$C$1,G202+H202,1,F202,E202*F202)))","v":3.4371921182022538},{"$f":"IF('III Tool Overview'!$H$6=\"Western Isles Health Board\",0,IF('III Tool Overview'!$H$6=\"Eilean Siar Local Authority\",0,new_ci(20,B202,C202,D202,$C$1,G202,1,F202,E202*F202)))","v":9.9702945351230845},9.9485710708128821,{"$f":"IF('III Tool Overview'!$H$6=\"Western Isles Health Board\",0,IF('III Tool Overview'!$H$6=\"Eilean Siar Local Authority\",0,new_yll(2,B202,C202,D202,$C$1,G202,1,F202,E202*F202)))","v":20.225853885418484},{"$f":"IF('III Tool Overview'!$H$6=\"Western Isles Health Board\",0,IF('III Tool Overview'!$H$6=\"Eilean Siar Local Authority\",0,new_yll(2,B202,C202,D202,$C$1,G202+H202,1,F202,E202*F202)))","v":20.178208083837223},4.7645801581261082E-2,{"$f":"IF('III Tool Overview'!$H$6=\"Western Isles Health Board\",0,IF('III Tool Overview'!$H$6=\"Eilean Siar Local Authority\",0,new_yll(5,B202,C202,D202,$C$1,G202,1,F202,E202*F202)))","v":86.215560210562103},{"$f":"IF('III Tool Overview'!$H$6=\"Western Isles Health Board\",0,IF('III Tool Overview'!$H$6=\"Eilean Siar Local Authority\",0,new_yll(5,B202,C202,D202,$C$1,G202+H202,1,F202,E202*F202)))","v":86.014404081714474},0.20115612884762868,{"$f":"IF('III Tool Overview'!$H$6=\"Western Isles Health Board\",0,IF('III Tool Overview'!$H$6=\"Eilean Siar Local Authority\",0,new_yll(10,B202,C202,D202,$C$1,G202,1,F202,E202*F202)))","v":215.74652488487547},{"$f":"IF('III Tool Overview'!$H$6=\"Western Isles Health Board\",0,IF('III Tool Overview'!$H$6=\"Eilean Siar Local Authority\",0,new_yll(10,B202,C202,D202,$C$1,G202+H202,1,F202,E202*F202)))","v":215.25217829784467},0.49434658703080459,{"$f":"IF('III Tool Overview'!$H$6=\"Western Isles Health Board\",0,IF('III Tool Overview'!$H$6=\"Eilean Siar Local Authority\",0,new_yll(20,B202,C202,D202,$C$1,G202,1,F202,E202*F202)))","v":561.88910497845063},{"$f":"IF('III Tool Overview'!$H$6=\"Western Isles Health Board\",0,IF('III Tool Overview'!$H$6=\"Eilean Siar Local Authority\",0,new_yll(20,B202,C202,D202,$C$1,G202+H202,1,F202,E202*F202)))","v":560.65978665061118},1.2293183278394508,{"$f":"IF('III Tool Overview'!$H$6=\"Western Isles Health Board\",0,IF('III Tool Overview'!$H$6=\"Eilean Siar Local Authority\",0,hosp_count(2,B202,C202,D202,$C$1,G202,1,F202,E202*F202)))","v":24.763144724336577},{"$f":"IF('III Tool Overview'!$H$6=\"Western Isles Health Board\",0,IF('III Tool Overview'!$H$6=\"Eilean Siar Local Authority\",0,hosp_count(2,B202,C202,D202,$C$1,G202+H202,1,F202,E202*F202)))","v":24.723733406655189},3.9411317681388169E-2,{"$f":"IF('III Tool Overview'!$H$6=\"Western Isles Health Board\",0,IF('III Tool Overview'!$H$6=\"Eilean Siar Local Authority\",0,hosp_count(5,B202,C202,D202,$C$1,G202,1,F202,E202*F202)))","v":104.49530710054029},{"$f":"IF('III Tool Overview'!$H$6=\"Western Isles Health Board\",0,IF('III Tool Overview'!$H$6=\"Eilean Siar Local Authority\",0,hosp_count(5,B202,C202,D202,$C$1,G202+H202,1,F202,E202*F202)))","v":104.33081689238608},0.16449020815420567,{"$f":"IF('III Tool Overview'!$H$6=\"Western Isles Health Board\",0,IF('III Tool Overview'!$H$6=\"Eilean Siar Local Authority\",0,hosp_count(10,B202,C202,D202,$C$1,G202,1,F202,E202*F202)))","v":257.39793026270723},{"$f":"IF('III Tool Overview'!$H$6=\"Western Isles Health Board\",0,IF('III Tool Overview'!$H$6=\"Eilean Siar Local Authority\",0,hosp_count(10,B202,C202,D202,$C$1,G202+H202,1,F202,E202*F202)))","v":257.00102453905976},0.39690572364747823,{"$f":"IF('III Tool Overview'!$H$6=\"Western Isles Health Board\",0,IF('III Tool Overview'!$H$6=\"Eilean Siar Local Authority\",0,hosp_count(20,B202,C202,D202,$C$1,G202,1,F202,E202*F202)))","v":653.87113130389514},{"$f":"IF('III Tool Overview'!$H$6=\"Western Isles Health Board\",0,IF('III Tool Overview'!$H$6=\"Eilean Siar Local Authority\",0,hosp_count(20,B202,C202,D202,$C$1,G202+H202,1,F202,E202*F202)))","v":652.91471312857595},0.95641817531918605,null,0.5,5]
["Male 35-39",37.5,"male",4,{"$f":"HLOOKUP('III Tool Overview'!$H$6,Prevalence!$B$2:$AV$268,Prevalence!AW193,FALSE)","v":0.32500000000000001},{"$f":"HLOOKUP('III Tool Overview'!$H$6,LookUpData_Pop!$B$1:$AV$269,LookUpData_Pop!BB198,FALSE)/5","v":331},{"$f":"'III Tool Overview'!$H$9/110","v":0},{"$f":"IF('III Tool Overview'!$H$10=\"Even distribution\",Targeting!C201,IF('III Tool Overview'!$H$10=\"Targetting to Q1\",Targeting!D201,IF('III Tool Overview'!$H$10=\"Targetting to Q1 & Q2\",Targeting!E201,IF('III Tool Overview'!$H$10=\"No variation in price elasticity\",Targeting!G201))))","v":81.38000000000001},{"$f":"IF('III Tool Overview'!$H$6=\"Western Isles Health Board\",0,IF('III Tool Overview'!$H$6=\"Eilean Siar Local Authority\",0,new_ci(2,B203,C203,D203,$C$1,G203,1,F203,E203*F203)))","v":0.62488991832397545},{"$f":"IF('III Tool Overview'!$H$6=\"Western Isles Health Board\",0,IF('III Tool Overview'!$H$6=\"Eilean Siar Local Authority\",0,new_ci(2,B203,C203,D203,$C$1,G203+H203,1,F203,E203*F203)))","v":0.6238484217837369},{"$f":"IF('III Tool Overview'!$H$6=\"Western Isles Health Board\",0,IF('III Tool Overview'!$H$6=\"Eilean Siar Local Authority\",0,new_ci(5,B203,C203,D203,$C$1,G203,1,F203,E203*F203)))","v":2.7240334102432335},{"$f":"IF('III Tool Overview'!$H$6=\"Western Isles Health Board\",0,IF('III Tool Overview'!$H$6=\"Eilean Siar Local Authority\",0,new_ci(5,B203,C203,D203,$C$1,G203+H203,1,F203,E203*F203)))","v":2.7195480286072193},{"$f":"IF('III Tool Overview'!$H$6=\"Western Isles Health Board\",0,IF('III Tool Overview'!$H$6=\"Eilean Siar Local Authority\",0,new_ci(10,B203,C203,D203,$C$1,G203,1,F203,E203*F203)))","v":7.1021684243940157},{"$f":"IF('III Tool Overview'!$H$6=\"Western Isles Health Board\",0,IF('III Tool Overview'!$H$6=\"Eilean Siar Local Authority\",0,new_ci(10,B203,C203,D203,$C$1,G203+H203,1,F203,E203*F203)))","v":7.0907488668682674},{"$f":"IF('III Tool Overview'!$H$6=\"Western Isles Health Board\",0,IF('III Tool Overview'!$H$6=\"Eilean Siar Local Authority\",0,new_ci(20,B203,C203,D203,$C$1,G203,1,F203,E203*F203)))","v":20.378726851466574},20.348044216271877,{"$f":"IF('III Tool Overview'!$H$6=\"Western Isles Health Board\",0,IF('III Tool Overview'!$H$6=\"Eilean Siar Local Authority\",0,new_yll(2,B203,C203,D203,$C$1,G203,1,F203,E203*F203)))","v":38.118285017762503},{"$f":"IF('III Tool Overview'!$H$6=\"Western Isles Health Board\",0,IF('III Tool Overview'!$H$6=\"Eilean Siar Local Authority\",0,new_yll(2,B203,C203,D203,$C$1,G203+H203,1,F203,E203*F203)))","v":38.054753728807952},6.3531288954550291E-2,{"$f":"IF('III Tool Overview'!$H$6=\"Western Isles Health Board\",0,IF('III Tool Overview'!$H$6=\"Eilean Siar Local Authority\",0,new_yll(5,B203,C203,D203,$C$1,G203,1,F203,E203*F203)))","v":161.88955056868139},{"$f":"IF('III Tool Overview'!$H$6=\"Western Isles Health Board\",0,IF('III Tool Overview'!$H$6=\"Eilean Siar Local Authority\",0,new_yll(5,B203,C203,D203,$C$1,G203+H203,1,F203,E203*F203)))","v":161.62294007861598},0.26661049006540338,{"$f":"IF('III Tool Overview'!$H$6=\"Western Isles Health Board\",0,IF('III Tool Overview'!$H$6=\"Eilean Siar Local Authority\",0,new_yll(10,B203,C203,D203,$C$1,G203,1,F203,E203*F203)))","v":402.20386156647066},{"$f":"IF('III Tool Overview'!$H$6=\"Western Isles Health Board\",0,IF('III Tool Overview'!$H$6=\"Eilean Siar Local Authority\",0,new_yll(10,B203,C203,D203,$C$1,G203+H203,1,F203,E203*F203)))","v":401.55650852231895},0.64735304415171413,{"$f":"IF('III Tool Overview'!$H$6=\"Western Isles Health Board\",0,IF('III Tool Overview'!$H$6=\"Eilean Siar Local Authority\",0,new_yll(20,B203,C203,D203,$C$1,G203,1,F203,E203*F203)))","v":1027.0127284983428},{"$f":"IF('III Tool Overview'!$H$6=\"Western Isles Health Board\",0,IF('III Tool Overview'!$H$6=\"Eilean Siar Local Authority\",0,new_yll(20,B203,C203,D203,$C$1,G203+H203,1,F203,E203*F203)))","v":1025.4567987460644},1.5559297522784163,{"$f":"IF('III Tool Overview'!$H$6=\"Western Isles Health Board\",0,IF('III Tool Overview'!$H$6=\"Eilean Siar Local Authority\",0,hosp_count(2,B203,C203,D203,$C$1,G203,1,F203,E203*F203)))","v":40.945789524357991},{"$f":"IF('III Tool Overview'!$H$6=\"Western Isles Health Board\",0,IF('III Tool Overview'!$H$6=\"Eilean Siar Local Authority\",0,hosp_count(2,B203,C203,D203,$C$1,G203+H203,1,F203,E203*F203)))","v":40.900105111301372},4.5684413056619633E-2,{"$f":"IF('III Tool Overview'!$H$6=\"Western Isles Health Board\",0,IF('III Tool Overview'!$H$6=\"Eilean Siar Local Authority\",0,hosp_count(5,B203,C203,D203,$C$1,G203,1,F203,E203*F203)))","v":172.58188939597878},{"$f":"IF('III Tool Overview'!$H$6=\"Western Isles Health Board\",0,IF('III Tool Overview'!$H$6=\"Eilean Siar Local Authority\",0,hosp_count(5,B203,C203,D203,$C$1,G203+H203,1,F203,E203*F203)))","v":172.39196577567216},0.18992362030661525,{"$f":"IF('III Tool Overview'!$H$6=\"Western Isles Health Board\",0,IF('III Tool Overview'!$H$6=\"Eilean Siar Local Authority\",0,hosp_count(10,B203,C203,D203,$C$1,G203,1,F203,E203*F203)))","v":424.10273925101916},{"$f":"IF('III Tool Overview'!$H$6=\"Western Isles Health Board\",0,IF('III Tool Overview'!$H$6=\"Eilean Siar Local Authority\",0,hosp_count(10,B203,C203,D203,$C$1,G203+H203,1,F203,E203*F203)))","v":423.64816041762015},0.45457883339901173,{"$f":"IF('III Tool Overview'!$H$6=\"Western Isles Health Board\",0,IF('III Tool Overview'!$H$6=\"Eilean Siar Local Authority\",0,hosp_count(20,B203,C203,D203,$C$1,G203,1,F203,E203*F203)))","v":1069.8159820465391},{"$f":"IF('III Tool Overview'!$H$6=\"Western Isles Health Board\",0,IF('III Tool Overview'!$H$6=\"Eilean Siar Local Authority\",0,hosp_count(20,B203,C203,D203,$C$1,G203+H203,1,F203,E203*F203)))","v":1068.7469087605486},1.0690732859904983,null,0.5,5]
["Male 40-44",42.5,"male",4,{"$f":"HLOOKUP('III Tool Overview'!$H$6,Prevalence!$B$2:$AV$268,Prevalence!AW194,FALSE)","v":0.32500000000000001},{"$f":"HLOOKUP('III Tool Overview'!$H$6,LookUpData_Pop!$B$1:$AV$269,LookUpData_Pop!BB199,FALSE)/5","v":479.2},{"$f":"'III Tool Overview'!$H$9/110","v":0},{"$f":"IF('III Tool Overview'!$H$10=\"Even distribution\",Targeting!C202,IF('III Tool Overview'!$H$10=\"Targetting to Q1\",Targeting!D202,IF('III Tool Overview'!$H$10=\"Targetting to Q1 & Q2\",Targeting!E202,IF('III Tool Overview'!$H$10=\"No variation in price elasticity\",Targeting!G202))))","v":122.2},{"$f":"IF('III Tool Overview'!$H$6=\"Western Isles Health Board\",0,IF('III Tool Overview'!$H$6=\"Eilean Siar Local Authority\",0,new_ci(2,B204,C204,D204,$C$1,G204,1,F204,E204*F204)))","v":1.2080999872371132},{"$f":"IF('III Tool Overview'!$H$6=\"Western Isles Health Board\",0,IF('III Tool Overview'!$H$6=\"Eilean Siar Local Authority\",0,new_ci(2,B204,C204,D204,$C$1,G204+H204,1,F204,E204*F204)))","v":1.2060051423242415},{"$f":"IF('III Tool Overview'!$H$6=\"Western Isles Health Board\",0,IF('III Tool Overview'!$H$6=\"Eilean Siar Local Authority\",0,new_ci(5,B204,C204,D204,$C$1,G204,1,F204,E204*F204)))","v":5.2597601883167862},{"$f":"IF('III Tool Overview'!$H$6=\"Western Isles Health Board\",0,IF('III Tool Overview'!$H$6=\"Eilean Siar Local Authority\",0,new_ci(5,B204,C204,D204,$C$1,G204+H204,1,F204,E204*F204)))","v":5.2507693752737232},{"$f":"IF('III Tool Overview'!$H$6=\"Western Isles Health Board\",0,IF('III Tool Overview'!$H$6=\"Eilean Siar Local Authority\",0,new_ci(10,B204,C204,D204,$C$1,G204,1,F204,E204*F204)))","v":13.677318055533593},{"$f":"IF('III Tool Overview'!$H$6=\"Western Isles Health Board\",0,IF('III Tool Overview'!$H$6=\"Eilean Siar Local Authority\",0,new_ci(10,B204,C204,D204,$C$1,G204+H204,1,F204,E204*F204)))","v":13.654593509251603},{"$f":"IF('III Tool Overview'!$H$6=\"Western Isles Health Board\",0,IF('III Tool Overview'!$H$6=\"Eilean Siar Local Authority\",0,new_ci(20,B204,C204,D204,$C$1,G204,1,F204,E204*F204)))","v":38.92929992963748},38.869615775398572,{"$f":"IF('III Tool Overview'!$H$6=\"Western Isles Health Board\",0,IF('III Tool Overview'!$H$6=\"Eilean Siar Local Authority\",0,new_yll(2,B204,C204,D204,$C$1,G204,1,F204,E204*F204)))","v":68.861699272515452},{"$f":"IF('III Tool Overview'!$H$6=\"Western Isles Health Board\",0,IF('III Tool Overview'!$H$6=\"Eilean Siar Local Authority\",0,new_yll(2,B204,C204,D204,$C$1,G204+H204,1,F204,E204*F204)))","v":68.742293112481761},0.11940616003369087,{"$f":"IF('III Tool Overview'!$H$6=\"Western Isles Health Board\",0,IF('III Tool Overview'!$H$6=\"Eilean Siar Local Authority\",0,new_yll(5,B204,C204,D204,$C$1,G204,1,F204,E204*F204)))","v":291.55433575757468},{"$f":"IF('III Tool Overview'!$H$6=\"Western Isles Health Board\",0,IF('III Tool Overview'!$H$6=\"Eilean Siar Local Authority\",0,new_yll(5,B204,C204,D204,$C$1,G204+H204,1,F204,E204*F204)))","v":291.0558609690413},0.49847478853337179,{"$f":"IF('III Tool Overview'!$H$6=\"Western Isles Health Board\",0,IF('III Tool Overview'!$H$6=\"Eilean Siar Local Authority\",0,new_yll(10,B204,C204,D204,$C$1,G204,1,F204,E204*F204)))","v":719.93869782558068},{"$f":"IF('III Tool Overview'!$H$6=\"Western Isles Health Board\",0,IF('III Tool Overview'!$H$6=\"Eilean Siar Local Authority\",0,new_yll(10,B204,C204,D204,$C$1,G204+H204,1,F204,E204*F204)))","v":718.74098174360495},1.1977160819757273,{"$f":"IF('III Tool Overview'!$H$6=\"Western Isles Health Board\",0,IF('III Tool Overview'!$H$6=\"Eilean Siar Local Authority\",0,new_yll(20,B204,C204,D204,$C$1,G204,1,F204,E204*F204)))","v":1807.653636805748},{"$f":"IF('III Tool Overview'!$H$6=\"Western Isles Health Board\",0,IF('III Tool Overview'!$H$6=\"Eilean Siar Local Authority\",0,new_yll(20,B204,C204,D204,$C$1,G204+H204,1,F204,E204*F204)))","v":1804.8589640134949},2.7946727922530954,{"$f":"IF('III Tool Overview'!$H$6=\"Western Isles Health Board\",0,IF('III Tool Overview'!$H$6=\"Eilean Siar Local Authority\",0,hosp_count(2,B204,C204,D204,$C$1,G204,1,F204,E204*F204)))","v":68.15721071092797},{"$f":"IF('III Tool Overview'!$H$6=\"Western Isles Health Board\",0,IF('III Tool Overview'!$H$6=\"Eilean Siar Local Authority\",0,hosp_count(2,B204,C204,D204,$C$1,G204+H204,1,F204,E204*F204)))","v":68.078070030957448},7.9140679970521433E-2,{"$f":"IF('III Tool Overview'!$H$6=\"Western Isles Health Board\",0,IF('III Tool Overview'!$H$6=\"Eilean Siar Local Authority\",0,hosp_count(5,B204,C204,D204,$C$1,G204,1,F204,E204*F204)))","v":286.95685448391049},{"$f":"IF('III Tool Overview'!$H$6=\"Western Isles Health Board\",0,IF('III Tool Overview'!$H$6=\"Eilean Siar Local Authority\",0,hosp_count(5,B204,C204,D204,$C$1,G204+H204,1,F204,E204*F204)))","v":286.62903478874824},0.32781969516224763,{"$f":"IF('III Tool Overview'!$H$6=\"Western Isles Health Board\",0,IF('III Tool Overview'!$H$6=\"Eilean Siar Local Authority\",0,hosp_count(10,B204,C204,D204,$C$1,G204,1,F204,E204*F204)))","v":703.57565481101142},{"$f":"IF('III Tool Overview'!$H$6=\"Western Isles Health Board\",0,IF('III Tool Overview'!$H$6=\"Eilean Siar Local Authority\",0,hosp_count(10,B204,C204,D204,$C$1,G204+H204,1,F204,E204*F204)))","v":702.79686667723911},0.77878813377230927,{"$f":"IF('III Tool Overview'!$H$6=\"Western Isles Health Board\",0,IF('III Tool Overview'!$H$6=\"Eilean Siar Local Authority\",0,hosp_count(20,B204,C204,D204,$C$1,G204,1,F204,E204*F204)))","v":1763.0581302570788},{"$f":"IF('III Tool Overview'!$H$6=\"Western Isles Health Board\",0,IF('III Tool Overview'!$H$6=\"Eilean Siar Local Authority\",0,hosp_count(20,B204,C204,D204,$C$1,G204+H204,1,F204,E204*F204)))","v":1761.2672615387471},1.7908687183316943,null,0.5,5]
["Male 45-49",47.5,"male",4,{"$f":"HLOOKUP('III Tool Overview'!$H$6,Prevalence!$B$2:$AV$268,Prevalence!AW195,FALSE)","v":0.3},{"$f":"HLOOKUP('III Tool Overview'!$H$6,LookUpData_Pop!$B$1:$AV$269,LookUpData_Pop!BB200,FALSE)/5","v":465.2},{"$f":"'III Tool Overview'!$H$9/110","v":0},{"$f":"IF('III Tool Overview'!$H$10=\"Even distribution\",Targeting!C203,IF('III Tool Overview'!$H$10=\"Targetting to Q1\",Targeting!D203,IF('III Tool Overview'!$H$10=\"Targetting to Q1 & Q2\",Targeting!E203,IF('III Tool Overview'!$H$10=\"No variation in price elasticity\",Targeting!G203))))","v":131.52000000000001},{"$f":"IF('III Tool Overview'!$H$6=\"Western Isles Health Board\",0,IF('III Tool Overview'!$H$6=\"Eilean Siar Local Authority\",0,new_ci(2,B205,C205,D205,$C$1,G205,1,F205,E205*F205)))","v":1.8093967207125652},{"$f":"IF('III Tool Overview'!$H$6=\"Western Isles Health Board\",0,IF('III Tool Overview'!$H$6=\"Eilean Siar Local Authority\",0,new_ci(2,B205,C205,D205,$C$1,G205+H205,1,F205,E205*F205)))","v":1.8058263480263932},{"$f":"IF('III Tool Overview'!$H$6=\"Western Isles Health Board\",0,IF('III Tool Overview'!$H$6=\"Eilean Siar Local Authority\",0,new_ci(5,B205,C205,D205,$C$1,G205,1,F205,E205*F205)))","v":7.8562820079983071},{"$f":"IF('III Tool Overview'!$H$6=\"Western Isles Health Board\",0,IF('III Tool Overview'!$H$6=\"Eilean Siar Local Authority\",0,new_ci(5,B205,C205,D205,$C$1,G205+H205,1,F205,E205*F205)))","v":7.8410791088353715},{"$f":"IF('III Tool Overview'!$H$6=\"Western Isles Health Board\",0,IF('III Tool Overview'!$H$6=\"Eilean Siar Local Authority\",0,new_ci(10,B205,C205,D205,$C$1,G205,1,F205,E205*F205)))","v":20.313711157214208},{"$f":"IF('III Tool Overview'!$H$6=\"Western Isles Health Board\",0,IF('III Tool Overview'!$H$6=\"Eilean Siar Local Authority\",0,new_ci(10,B205,C205,D205,$C$1,G205+H205,1,F205,E205*F205)))","v":20.275921250092825},{"$f":"IF('III Tool Overview'!$H$6=\"Western Isles Health Board\",0,IF('III Tool Overview'!$H$6=\"Eilean Siar Local Authority\",0,new_ci(20,B205,C205,D205,$C$1,G205,1,F205,E205*F205)))","v":56.83034534595906},56.736148363857403,{"$f":"IF('III Tool Overview'!$H$6=\"Western Isles Health Board\",0,IF('III Tool Overview'!$H$6=\"Eilean Siar Local Authority\",0,new_yll(2,B205,C205,D205,$C$1,G205,1,F205,E205*F205)))","v":92.279232756340818},{"$f":"IF('III Tool Overview'!$H$6=\"Western Isles Health Board\",0,IF('III Tool Overview'!$H$6=\"Eilean Siar Local Authority\",0,new_yll(2,B205,C205,D205,$C$1,G205+H205,1,F205,E205*F205)))","v":92.09714374934606},0.18208900699475805,{"$f":"IF('III Tool Overview'!$H$6=\"Western Isles Health Board\",0,IF('III Tool Overview'!$H$6=\"Eilean Siar Local Authority\",0,new_yll(5,B205,C205,D205,$C$1,G205,1,F205,E205*F205)))","v":388.36203141565272},{"$f":"IF('III Tool Overview'!$H$6=\"Western Isles Health Board\",0,IF('III Tool Overview'!$H$6=\"Eilean Siar Local Authority\",0,new_yll(5,B205,C205,D205,$C$1,G205+H205,1,F205,E205*F205)))","v":387.61026060553519},0.75177081011753444,{"$f":"IF('III Tool Overview'!$H$6=\"Western Isles Health Board\",0,IF('III Tool Overview'!$H$6=\"Eilean Siar Local Authority\",0,new_yll(10,B205,C205,D205,$C$1,G205,1,F205,E205*F205)))","v":947.65472983529708},{"$f":"IF('III Tool Overview'!$H$6=\"Western Isles Health Board\",0,IF('III Tool Overview'!$H$6=\"Eilean Siar Local Authority\",0,new_yll(10,B205,C205,D205,$C$1,G205+H205,1,F205,E205*F205)))","v":945.88816544019892},1.7665643950981575,{"$f":"IF('III Tool Overview'!$H$6=\"Western Isles Health Board\",0,IF('III Tool Overview'!$H$6=\"Eilean Siar Local Authority\",0,new_yll(20,B205,C205,D205,$C$1,G205,1,F205,E205*F205)))","v":2302.536665433538},{"$f":"IF('III Tool Overview'!$H$6=\"Western Isles Health Board\",0,IF('III Tool Overview'!$H$6=\"Eilean Siar Local Authority\",0,new_yll(20,B205,C205,D205,$C$1,G205+H205,1,F205,E205*F205)))","v":2298.6656656865339},3.8709997470041344,{"$f":"IF('III Tool Overview'!$H$6=\"Western Isles Health Board\",0,IF('III Tool Overview'!$H$6=\"Eilean Siar Local Authority\",0,hosp_count(2,B205,C205,D205,$C$1,G205,1,F205,E205*F205)))","v":81.574669142584753},{"$f":"IF('III Tool Overview'!$H$6=\"Western Isles Health Board\",0,IF('III Tool Overview'!$H$6=\"Eilean Siar Local Authority\",0,hosp_count(2,B205,C205,D205,$C$1,G205+H205,1,F205,E205*F205)))","v":81.467933065059654},0.10673607752509895,{"$f":"IF('III Tool Overview'!$H$6=\"Western Isles Health Board\",0,IF('III Tool Overview'!$H$6=\"Eilean Siar Local Authority\",0,hosp_count(5,B205,C205,D205,$C$1,G205,1,F205,E205*F205)))","v":342.62787979907864},{"$f":"IF('III Tool Overview'!$H$6=\"Western Isles Health Board\",0,IF('III Tool Overview'!$H$6=\"Eilean Siar Local Authority\",0,hosp_count(5,B205,C205,D205,$C$1,G205+H205,1,F205,E205*F205)))","v":342.18942230405059},0.43845749502804665,{"$f":"IF('III Tool Overview'!$H$6=\"Western Isles Health Board\",0,IF('III Tool Overview'!$H$6=\"Eilean Siar Local Authority\",0,hosp_count(10,B205,C205,D205,$C$1,G205,1,F205,E205*F205)))","v":836.00240117817225},{"$f":"IF('III Tool Overview'!$H$6=\"Western Isles Health Board\",0,IF('III Tool Overview'!$H$6=\"Eilean Siar Local Authority\",0,hosp_count(10,B205,C205,D205,$C$1,G205+H205,1,F205,E205*F205)))","v":834.97851811892679},1.0238830592454633,{"$f":"IF('III Tool Overview'!$H$6=\"Western Isles Health Board\",0,IF('III Tool Overview'!$H$6=\"Eilean Siar Local Authority\",0,hosp_count(20,B205,C205,D205,$C$1,G205,1,F205,E205*F205)))","v":2065.5209831203433},{"$f":"IF('III Tool Overview'!$H$6=\"Western Isles Health Board\",0,IF('III Tool Overview'!$H$6=\"Eilean Siar Local Authority\",0,hosp_count(20,B205,C205,D205,$C$1,G205+H205,1,F205,E205*F205)))","v":2063.285090092143},2.2358930282002802,null,0.5,5]
["Male 50-54",52.5,"male",4,{"$f":"HLOOKUP('III Tool Overview'!$H$6,Prevalence!$B$2:$AV$268,Prevalence!AW196,FALSE)","v":0.3},{"$f":"HLOOKUP('III Tool Overview'!$H$6,LookUpData_Pop!$B$1:$AV$269,LookUpData_Pop!BB201,FALSE)/5","v":400.6},{"$f":"'III Tool Overview'!$H$9/110","v":0},{"$f":"IF('III Tool Overview'!$H$10=\"Even distribution\",Targeting!C204,IF('III Tool Overview'!$H$10=\"Targetting to Q1\",Targeting!D204,IF('III Tool Overview'!$H$10=\"Targetting to Q1 & Q2\",Targeting!E204,IF('III Tool Overview'!$H$10=\"No variation in price elasticity\",Targeting!G204))))","v":115.92000000000002},{"$f":"IF('III Tool Overview'!$H$6=\"Western Isles Health Board\",0,IF('III Tool Overview'!$H$6=\"Eilean Siar Local Authority\",0,new_ci(2,B206,C206,D206,$C$1,G206,1,F206,E206*F206)))","v":2.0799046365131146},{"$f":"IF('III Tool Overview'!$H$6=\"Western Isles Health Board\",0,IF('III Tool Overview'!$H$6=\"Eilean Siar Local Authority\",0,new_ci(2,B206,C206,D206,$C$1,G206+H206,1,F206,E206*F206)))","v":2.0757167907275744},{"$f":"IF('III Tool Overview'!$H$6=\"Western Isles Health Board\",0,IF('III Tool Overview'!$H$6=\"Eilean Siar Local Authority\",0,new_ci(5,B206,C206,D206,$C$1,G206,1,F206,E206*F206)))","v":9.0075182435744523},{"$f":"IF('III Tool Overview'!$H$6=\"Western Isles Health Board\",0,IF('III Tool Overview'!$H$6=\"Eilean Siar Local Authority\",0,new_ci(5,B206,C206,D206,$C$1,G206+H206,1,F206,E206*F206)))","v":8.9898154656634937},{"$f":"IF('III Tool Overview'!$H$6=\"Western Isles Health Board\",0,IF('III Tool Overview'!$H$6=\"Eilean Siar Local Authority\",0,new_ci(10,B206,C206,D206,$C$1,G206,1,F206,E206*F206)))","v":23.165750781691187},{"$f":"IF('III Tool Overview'!$H$6=\"Western Isles Health Board\",0,IF('III Tool Overview'!$H$6=\"Eilean Siar Local Authority\",0,new_ci(10,B206,C206,D206,$C$1,G206+H206,1,F206,E206*F206)))","v":23.122417839762214},{"$f":"IF('III Tool Overview'!$H$6=\"Western Isles Health Board\",0,IF('III Tool Overview'!$H$6=\"Eilean Siar Local Authority\",0,new_ci(20,B206,C206,D206,$C$1,G206,1,F206,E206*F206)))","v":63.7734493038664},63.670511362077093,{"$f":"IF('III Tool Overview'!$H$6=\"Western Isles Health Board\",0,IF('III Tool Overview'!$H$6=\"Eilean Siar Local Authority\",0,new_yll(2,B206,C206,D206,$C$1,G206,1,F206,E206*F206)))","v":97.755517916116389},{"$f":"IF('III Tool Overview'!$H$6=\"Western Isles Health Board\",0,IF('III Tool Overview'!$H$6=\"Eilean Siar Local Authority\",0,new_yll(2,B206,C206,D206,$C$1,G206+H206,1,F206,E206*F206)))","v":97.558689164195997},0.19682875192039262,{"$f":"IF('III Tool Overview'!$H$6=\"Western Isles Health Board\",0,IF('III Tool Overview'!$H$6=\"Eilean Siar Local Authority\",0,new_yll(5,B206,C206,D206,$C$1,G206,1,F206,E206*F206)))","v":409.26026403614094},{"$f":"IF('III Tool Overview'!$H$6=\"Western Isles Health Board\",0,IF('III Tool Overview'!$H$6=\"Eilean Siar Local Authority\",0,new_yll(5,B206,C206,D206,$C$1,G206+H206,1,F206,E206*F206)))","v":408.45558103271355},0.8046830034273853,{"$f":"IF('III Tool Overview'!$H$6=\"Western Isles Health Board\",0,IF('III Tool Overview'!$H$6=\"Eilean Siar Local Authority\",0,new_yll(10,B206,C206,D206,$C$1,G206,1,F206,E206*F206)))","v":988.34106410201321},{"$f":"IF('III Tool Overview'!$H$6=\"Western Isles Health Board\",0,IF('III Tool Overview'!$H$6=\"Eilean Siar Local Authority\",0,new_yll(10,B206,C206,D206,$C$1,G206+H206,1,F206,E206*F206)))","v":986.48704627956317},1.8540178224500323,{"$f":"IF('III Tool Overview'!$H$6=\"Western Isles Health Board\",0,IF('III Tool Overview'!$H$6=\"Eilean Siar Local Authority\",0,new_yll(20,B206,C206,D206,$C$1,G206,1,F206,E206*F206)))","v":2333.6831009513771},{"$f":"IF('III Tool Overview'!$H$6=\"Western Isles Health Board\",0,IF('III Tool Overview'!$H$6=\"Eilean Siar Local Authority\",0,new_yll(20,B206,C206,D206,$C$1,G206+H206,1,F206,E206*F206)))","v":2329.8378901518126},3.8452107995644838,{"$f":"IF('III Tool Overview'!$H$6=\"Western Isles Health Board\",0,IF('III Tool Overview'!$H$6=\"Eilean Siar Local Authority\",0,hosp_count(2,B206,C206,D206,$C$1,G206,1,F206,E206*F206)))","v":80.768181260423319},{"$f":"IF('III Tool Overview'!$H$6=\"Western Isles Health Board\",0,IF('III Tool Overview'!$H$6=\"Eilean Siar Local Authority\",0,hosp_count(2,B206,C206,D206,$C$1,G206+H206,1,F206,E206*F206)))","v":80.660266322823972},0.10791493759934667,{"$f":"IF('III Tool Overview'!$H$6=\"Western Isles Health Board\",0,IF('III Tool Overview'!$H$6=\"Eilean Siar Local Authority\",0,hosp_count(5,B206,C206,D206,$C$1,G206,1,F206,E206*F206)))","v":338.4694069290116},{"$f":"IF('III Tool Overview'!$H$6=\"Western Isles Health Board\",0,IF('III Tool Overview'!$H$6=\"Eilean Siar Local Authority\",0,hosp_count(5,B206,C206,D206,$C$1,G206+H206,1,F206,E206*F206)))","v":338.02949292908363},0.43991399992796687,{"$f":"IF('III Tool Overview'!$H$6=\"Western Isles Health Board\",0,IF('III Tool Overview'!$H$6=\"Eilean Siar Local Authority\",0,hosp_count(10,B206,C206,D206,$C$1,G206,1,F206,E206*F206)))","v":822.05963624333435},{"$f":"IF('III Tool Overview'!$H$6=\"Western Isles Health Board\",0,IF('III Tool Overview'!$H$6=\"Eilean Siar Local Authority\",0,hosp_count(10,B206,C206,D206,$C$1,G206+H206,1,F206,E206*F206)))","v":821.04848189369568},1.011154349638673,{"$f":"IF('III Tool Overview'!$H$6=\"Western Isles Health Board\",0,IF('III Tool Overview'!$H$6=\"Eilean Siar Local Authority\",0,hosp_count(20,B206,C206,D206,$C$1,G206,1,F206,E206*F206)))","v":2004.3696642500986},{"$f":"IF('III Tool Overview'!$H$6=\"Western Isles Health Board\",0,IF('III Tool Overview'!$H$6=\"Eilean Siar Local Authority\",0,hosp_count(20,B206,C206,D206,$C$1,G206+H206,1,F206,E206*F206)))","v":2002.2643649873457},2.1052992627528511,null,0.5,5]
["Male 55-59",57.5,"male",4,{"$f":"HLOOKUP('III Tool Overview'!$H$6,Prevalence!$B$2:$AV$268,Prevalence!AW197,FALSE)","v":0.3},{"$f":"HLOOKUP('III Tool Overview'!$H$6,LookUpData_Pop!$B$1:$AV$269,LookUpData_Pop!BB202,FALSE)/5","v":394.6},{"$f":"'III Tool Overview'!$H$9/110","v":0},{"$f":"IF('III Tool Overview'!$H$10=\"Even distribution\",Targeting!C205,IF('III Tool Overview'!$H$10=\"Targetting to Q1\",Targeting!D205,IF('III Tool Overview'!$H$10=\"Targetting to Q1 & Q2\",Targeting!E205,IF('III Tool Overview'!$H$10=\"No variation in price elasticity\",Targeting!G205))))","v":109.92000000000002},{"$f":"IF('III Tool Overview'!$H$6=\"Western Isles Health Board\",0,IF('III Tool Overview'!$H$6=\"Eilean Siar Local Authority\",0,new_ci(2,B207,C207,D207,$C$1,G207,1,F207,E207*F207)))","v":3.1580985603709442},{"$f":"IF('III Tool Overview'!$H$6=\"Western Isles Health Board\",0,IF('III Tool Overview'!$H$6=\"Eilean Siar Local Authority\",0,new_ci(2,B207,C207,D207,$C$1,G207+H207,1,F207,E207*F207)))","v":3.151992404081887},{"$f":"IF('III Tool Overview'!$H$6=\"Western Isles Health Board\",0,IF('III Tool Overview'!$H$6=\"Eilean Siar Local Authority\",0,new_ci(5,B207,C207,D207,$C$1,G207,1,F207,E207*F207)))","v":13.600948177245346},{"$f":"IF('III Tool Overview'!$H$6=\"Western Isles Health Board\",0,IF('III Tool Overview'!$H$6=\"Eilean Siar Local Authority\",0,new_ci(5,B207,C207,D207,$C$1,G207+H207,1,F207,E207*F207)))","v":13.575538825208357},{"$f":"IF('III Tool Overview'!$H$6=\"Western Isles Health Board\",0,IF('III Tool Overview'!$H$6=\"Eilean Siar Local Authority\",0,new_ci(10,B207,C207,D207,$C$1,G207,1,F207,E207*F207)))","v":34.579521839543105},{"$f":"IF('III Tool Overview'!$H$6=\"Western Isles Health Board\",0,IF('III Tool Overview'!$H$6=\"Eilean Siar Local Authority\",0,new_ci(10,B207,C207,D207,$C$1,G207+H207,1,F207,E207*F207)))","v":34.519353474152233},{"$f":"IF('III Tool Overview'!$H$6=\"Western Isles Health Board\",0,IF('III Tool Overview'!$H$6=\"Eilean Siar Local Authority\",0,new_ci(20,B207,C207,D207,$C$1,G207,1,F207,E207*F207)))","v":92.027190865376241},91.89836382193063,{"$f":"IF('III Tool Overview'!$H$6=\"Western Isles Health Board\",0,IF('III Tool Overview'!$H$6=\"Eilean Siar Local Authority\",0,new_yll(2,B207,C207,D207,$C$1,G207,1,F207,E207*F207)))","v":129.48204097520872},{"$f":"IF('III Tool Overview'!$H$6=\"Western Isles Health Board\",0,IF('III Tool Overview'!$H$6=\"Eilean Siar Local Authority\",0,new_yll(2,B207,C207,D207,$C$1,G207+H207,1,F207,E207*F207)))","v":129.23168856735737},0.25035240785135215,{"$f":"IF('III Tool Overview'!$H$6=\"Western Isles Health Board\",0,IF('III Tool Overview'!$H$6=\"Eilean Siar Local Authority\",0,new_yll(5,B207,C207,D207,$C$1,G207,1,F207,E207*F207)))","v":536.42054953298725},{"$f":"IF('III Tool Overview'!$H$6=\"Western Isles Health Board\",0,IF('III Tool Overview'!$H$6=\"Eilean Siar Local Authority\",0,new_yll(5,B207,C207,D207,$C$1,G207+H207,1,F207,E207*F207)))","v":535.41768683464795},1.0028626983392996,{"$f":"IF('III Tool Overview'!$H$6=\"Western Isles Health Board\",0,IF('III Tool Overview'!$H$6=\"Eilean Siar Local Authority\",0,new_yll(10,B207,C207,D207,$C$1,G207,1,F207,E207*F207)))","v":1268.7813875079357},{"$f":"IF('III Tool Overview'!$H$6=\"Western Isles Health Board\",0,IF('III Tool Overview'!$H$6=\"Eilean Siar Local Authority\",0,new_yll(10,B207,C207,D207,$C$1,G207+H207,1,F207,E207*F207)))","v":1266.5629738044613},2.2184137034744253,{"$f":"IF('III Tool Overview'!$H$6=\"Western Isles Health Board\",0,IF('III Tool Overview'!$H$6=\"Eilean Siar Local Authority\",0,new_yll(20,B207,C207,D207,$C$1,G207,1,F207,E207*F207)))","v":2830.6593924036611},{"$f":"IF('III Tool Overview'!$H$6=\"Western Isles Health Board\",0,IF('III Tool Overview'!$H$6=\"Eilean Siar Local Authority\",0,new_yll(20,B207,C207,D207,$C$1,G207+H207,1,F207,E207*F207)))","v":2826.5428476355987},4.1165447680623402,{"$f":"IF('III Tool Overview'!$H$6=\"Western Isles Health Board\",0,IF('III Tool Overview'!$H$6=\"Eilean Siar Local Authority\",0,hosp_count(2,B207,C207,D207,$C$1,G207,1,F207,E207*F207)))","v":98.08600695629265},{"$f":"IF('III Tool Overview'!$H$6=\"Western Isles Health Board\",0,IF('III Tool Overview'!$H$6=\"Eilean Siar Local Authority\",0,hosp_count(2,B207,C207,D207,$C$1,G207+H207,1,F207,E207*F207)))","v":97.959813377391001},0.12619357890164906,{"$f":"IF('III Tool Overview'!$H$6=\"Western Isles Health Board\",0,IF('III Tool Overview'!$H$6=\"Eilean Siar Local Authority\",0,hosp_count(5,B207,C207,D207,$C$1,G207,1,F207,E207*F207)))","v":409.02877884872737},{"$f":"IF('III Tool Overview'!$H$6=\"Western Isles Health Board\",0,IF('III Tool Overview'!$H$6=\"Eilean Siar Local Authority\",0,hosp_count(5,B207,C207,D207,$C$1,G207+H207,1,F207,E207*F207)))","v":408.52278719958173},0.50599164914564199,{"$f":"IF('III Tool Overview'!$H$6=\"Western Isles Health Board\",0,IF('III Tool Overview'!$H$6=\"Eilean Siar Local Authority\",0,hosp_count(10,B207,C207,D207,$C$1,G207,1,F207,E207*F207)))","v":983.66915086302708},{"$f":"IF('III Tool Overview'!$H$6=\"Western Isles Health Board\",0,IF('III Tool Overview'!$H$6=\"Eilean Siar Local Authority\",0,hosp_count(10,B207,C207,D207,$C$1,G207+H207,1,F207,E207*F207)))","v":982.54519667106115},1.1239541919659359,{"$f":"IF('III Tool Overview'!$H$6=\"Western Isles Health Board\",0,IF('III Tool Overview'!$H$6=\"Eilean Siar Local Authority\",0,hosp_count(20,B207,C207,D207,$C$1,G207,1,F207,E207*F207)))","v":2332.5800730092978},{"$f":"IF('III Tool Overview'!$H$6=\"Western Isles Health Board\",0,IF('III Tool Overview'!$H$6=\"Eilean Siar Local Authority\",0,hosp_count(20,B207,C207,D207,$C$1,G207+H207,1,F207,E207*F207)))","v":2330.4694060020629},2.1106670072349516,null,0.5,5]
["Male 60-64",62.5,"male",4,{"$f":"HLOOKUP('III Tool Overview'!$H$6,Prevalence!$B$2:$AV$268,Prevalence!AW198,FALSE)","v":0.3},{"$f":"HLOOKUP('III Tool Overview'!$H$6,LookUpData_Pop!$B$1:$AV$269,LookUpData_Pop!BB203,FALSE)/5","v":397.6},{"$f":"'III Tool Overview'!$H$9/110","v":0},{"$f":"IF('III Tool Overview'!$H$10=\"Even distribution\",Targeting!C206,IF('III Tool Overview'!$H$10=\"Targetting to Q1\",Targeting!D206,IF('III Tool Overview'!$H$10=\"Targetting to Q1 & Q2\",Targeting!E206,IF('III Tool Overview'!$H$10=\"No variation in price elasticity\",Targeting!G206))))","v":107.52000000000001},{"$f":"IF('III Tool Overview'!$H$6=\"Western Isles Health Board\",0,IF('III Tool Overview'!$H$6=\"Eilean Siar Local Authority\",0,new_ci(2,B208,C208,D208,$C$1,G208,1,F208,E208*F208)))","v":4.2442315848070518},{"$f":"IF('III Tool Overview'!$H$6=\"Western Isles Health Board\",0,IF('III Tool Overview'!$H$6=\"Eilean Siar Local Authority\",0,new_ci(2,B208,C208,D208,$C$1,G208+H208,1,F208,E208*F208)))","v":4.2362600059701432},{"$f":"IF('III Tool Overview'!$H$6=\"Western Isles Health Board\",0,IF('III Tool Overview'!$H$6=\"Eilean Siar Local Authority\",0,new_ci(5,B208,C208,D208,$C$1,G208,1,F208,E208*F208)))","v":18.182267084001609},{"$f":"IF('III Tool Overview'!$H$6=\"Western Isles Health Board\",0,IF('III Tool Overview'!$H$6=\"Eilean Siar Local Authority\",0,new_ci(5,B208,C208,D208,$C$1,G208+H208,1,F208,E208*F208)))","v":18.149587580177069},{"$f":"IF('III Tool Overview'!$H$6=\"Western Isles Health Board\",0,IF('III Tool Overview'!$H$6=\"Eilean Siar Local Authority\",0,new_ci(10,B208,C208,D208,$C$1,G208,1,F208,E208*F208)))","v":45.730420244761696},{"$f":"IF('III Tool Overview'!$H$6=\"Western Isles Health Board\",0,IF('III Tool Overview'!$H$6=\"Eilean Siar Local Authority\",0,new_ci(10,B208,C208,D208,$C$1,G208+H208,1,F208,E208*F208)))","v":45.655440257502988},{"$f":"IF('III Tool Overview'!$H$6=\"Western Isles Health Board\",0,IF('III Tool Overview'!$H$6=\"Eilean Siar Local Authority\",0,new_ci(20,B208,C208,D208,$C$1,G208,1,F208,E208*F208)))","v":117.98863543956779},117.84320659295017,{"$f":"IF('III Tool Overview'!$H$6=\"Western Isles Health Board\",0,IF('III Tool Overview'!$H$6=\"Eilean Siar Local Authority\",0,new_yll(2,B208,C208,D208,$C$1,G208,1,F208,E208*F208)))","v":157.03656863786091},{"$f":"IF('III Tool Overview'!$H$6=\"Western Isles Health Board\",0,IF('III Tool Overview'!$H$6=\"Eilean Siar Local Authority\",0,new_yll(2,B208,C208,D208,$C$1,G208+H208,1,F208,E208*F208)))","v":156.7416202208953},0.29494841696561025,{"$f":"IF('III Tool Overview'!$H$6=\"Western Isles Health Board\",0,IF('III Tool Overview'!$H$6=\"Eilean Siar Local Authority\",0,new_yll(5,B208,C208,D208,$C$1,G208,1,F208,E208*F208)))","v":644.45677478858283},{"$f":"IF('III Tool Overview'!$H$6=\"Western Isles Health Board\",0,IF('III Tool Overview'!$H$6=\"Eilean Siar Local Authority\",0,new_yll(5,B208,C208,D208,$C$1,G208+H208,1,F208,E208*F208)))","v":643.29727931172647},1.1594954768563639,{"$f":"IF('III Tool Overview'!$H$6=\"Western Isles Health Board\",0,IF('III Tool Overview'!$H$6=\"Eilean Siar Local Authority\",0,new_yll(10,B208,C208,D208,$C$1,G208,1,F208,E208*F208)))","v":1496.211055000289},{"$f":"IF('III Tool Overview'!$H$6=\"Western Isles Health Board\",0,IF('III Tool Overview'!$H$6=\"Eilean Siar Local Authority\",0,new_yll(10,B208,C208,D208,$C$1,G208+H208,1,F208,E208*F208)))","v":1493.7402412832282},2.4708137170607642,{"$f":"IF('III Tool Overview'!$H$6=\"Western Isles Health Board\",0,IF('III Tool Overview'!$H$6=\"Eilean Siar Local Authority\",0,new_yll(20,B208,C208,D208,$C$1,G208,1,F208,E208*F208)))","v":3175.6025374154256},{"$f":"IF('III Tool Overview'!$H$6=\"Western Isles Health Board\",0,IF('III Tool Overview'!$H$6=\"Eilean Siar Local Authority\",0,new_yll(20,B208,C208,D208,$C$1,G208+H208,1,F208,E208*F208)))","v":3171.4465591423377},4.1559782730878396,{"$f":"IF('III Tool Overview'!$H$6=\"Western Isles Health Board\",0,IF('III Tool Overview'!$H$6=\"Eilean Siar Local Authority\",0,hosp_count(2,B208,C208,D208,$C$1,G208,1,F208,E208*F208)))","v":113.63447069541817},{"$f":"IF('III Tool Overview'!$H$6=\"Western Isles Health Board\",0,IF('III Tool Overview'!$H$6=\"Eilean Siar Local Authority\",0,hosp_count(2,B208,C208,D208,$C$1,G208+H208,1,F208,E208*F208)))","v":113.49203084837288},0.14243984704529566,{"$f":"IF('III Tool Overview'!$H$6=\"Western Isles Health Board\",0,IF('III Tool Overview'!$H$6=\"Eilean Siar Local Authority\",0,hosp_count(5,B208,C208,D208,$C$1,G208,1,F208,E208*F208)))","v":471.66312581358716},{"$f":"IF('III Tool Overview'!$H$6=\"Western Isles Health Board\",0,IF('III Tool Overview'!$H$6=\"Eilean Siar Local Authority\",0,hosp_count(5,B208,C208,D208,$C$1,G208+H208,1,F208,E208*F208)))","v":471.10089495092677},0.56223086266038536,{"$f":"IF('III Tool Overview'!$H$6=\"Western Isles Health Board\",0,IF('III Tool Overview'!$H$6=\"Eilean Siar Local Authority\",0,hosp_count(10,B208,C208,D208,$C$1,G208,1,F208,E208*F208)))","v":1123.8030075311829},{"$f":"IF('III Tool Overview'!$H$6=\"Western Isles Health Board\",0,IF('III Tool Overview'!$H$6=\"Eilean Siar Local Authority\",0,hosp_count(10,B208,C208,D208,$C$1,G208+H208,1,F208,E208*F208)))","v":1122.5941288610509},1.2088786701319805,{"$f":"IF('III Tool Overview'!$H$6=\"Western Isles Health Board\",0,IF('III Tool Overview'!$H$6=\"Eilean Siar Local Authority\",0,hosp_count(20,B208,C208,D208,$C$1,G208,1,F208,E208*F208)))","v":2597.6768550815132},{"$f":"IF('III Tool Overview'!$H$6=\"Western Isles Health Board\",0,IF('III Tool Overview'!$H$6=\"Eilean Siar Local Authority\",0,hosp_count(20,B208,C208,D208,$C$1,G208+H208,1,F208,E208*F208)))","v":2595.6199875615039},2.0568675200092912,null,0.5,5]
["Male 65-69",67.5,"male",4,{"$f":"HLOOKUP('III Tool Overview'!$H$6,Prevalence!$B$2:$AV$268,Prevalence!AW199,FALSE)","v":0.1875},{"$f":"HLOOKUP('III Tool Overview'!$H$6,LookUpData_Pop!$B$1:$AV$269,LookUpData_Pop!BB204,FALSE)/5","v":326.60000000000002},{"$f":"'III Tool Overview'!$H$9/110","v":0},{"$f":"IF('III Tool Overview'!$H$10=\"Even distribution\",Targeting!C207,IF('III Tool Overview'!$H$10=\"Targetting to Q1\",Targeting!D207,IF('III Tool Overview'!$H$10=\"Targetting to Q1 & Q2\",Targeting!E207,IF('III Tool Overview'!$H$10=\"No variation in price elasticity\",Targeting!G207))))","v":61.5},{"$f":"IF('III Tool Overview'!$H$6=\"Western Isles Health Board\",0,IF('III Tool Overview'!$H$6=\"Eilean Siar Local Authority\",0,new_ci(2,B209,C209,D209,$C$1,G209,1,F209,E209*F209)))","v":5.3654168437772514},{"$f":"IF('III Tool Overview'!$H$6=\"Western Isles Health Board\",0,IF('III Tool Overview'!$H$6=\"Eilean Siar Local Authority\",0,new_ci(2,B209,C209,D209,$C$1,G209+H209,1,F209,E209*F209)))","v":5.357634474507682},{"$f":"IF('III Tool Overview'!$H$6=\"Western Isles Health Board\",0,IF('III Tool Overview'!$H$6=\"Eilean Siar Local Authority\",0,new_ci(5,B209,C209,D209,$C$1,G209,1,F209,E209*F209)))","v":22.737456422792118},{"$f":"IF('III Tool Overview'!$H$6=\"Western Isles Health Board\",0,IF('III Tool Overview'!$H$6=\"Eilean Siar Local Authority\",0,new_ci(5,B209,C209,D209,$C$1,G209+H209,1,F209,E209*F209)))","v":22.706895201287736},{"$f":"IF('III Tool Overview'!$H$6=\"Western Isles Health Board\",0,IF('III Tool Overview'!$H$6=\"Eilean Siar Local Authority\",0,new_ci(10,B209,C209,D209,$C$1,G209,1,F209,E209*F209)))","v":55.954613726960872},{"$f":"IF('III Tool Overview'!$H$6=\"Western Isles Health Board\",0,IF('III Tool Overview'!$H$6=\"Eilean Siar Local Authority\",0,new_ci(10,B209,C209,D209,$C$1,G209+H209,1,F209,E209*F209)))","v":55.890575571516479},{"$f":"IF('III Tool Overview'!$H$6=\"Western Isles Health Board\",0,IF('III Tool Overview'!$H$6=\"Eilean Siar Local Authority\",0,new_ci(20,B209,C209,D209,$C$1,G209,1,F209,E209*F209)))","v":136.00301714471766},135.90953955112502,{"$f":"IF('III Tool Overview'!$H$6=\"Western Isles Health Board\",0,IF('III Tool Overview'!$H$6=\"Eilean Siar Local Authority\",0,new_yll(2,B209,C209,D209,$C$1,G209,1,F209,E209*F209)))","v":166.3279221570948},{"$f":"IF('III Tool Overview'!$H$6=\"Western Isles Health Board\",0,IF('III Tool Overview'!$H$6=\"Eilean Siar Local Authority\",0,new_yll(2,B209,C209,D209,$C$1,G209+H209,1,F209,E209*F209)))","v":166.08666870973815},0.24125344735665522,{"$f":"IF('III Tool Overview'!$H$6=\"Western Isles Health Board\",0,IF('III Tool Overview'!$H$6=\"Eilean Siar Local Authority\",0,new_yll(5,B209,C209,D209,$C$1,G209,1,F209,E209*F209)))","v":669.68916428692023},{"$f":"IF('III Tool Overview'!$H$6=\"Western Isles Health Board\",0,IF('III Tool Overview'!$H$6=\"Eilean Siar Local Authority\",0,new_yll(5,B209,C209,D209,$C$1,G209+H209,1,F209,E209*F209)))","v":668.78706871520205},0.90209557171817778,{"$f":"IF('III Tool Overview'!$H$6=\"Western Isles Health Board\",0,IF('III Tool Overview'!$H$6=\"Eilean Siar Local Authority\",0,new_yll(10,B209,C209,D209,$C$1,G209,1,F209,E209*F209)))","v":1498.0119639040047},{"$f":"IF('III Tool Overview'!$H$6=\"Western Isles Health Board\",0,IF('III Tool Overview'!$H$6=\"Eilean Siar Local Authority\",0,new_yll(10,B209,C209,D209,$C$1,G209+H209,1,F209,E209*F209)))","v":1496.2698476204182},1.7421162835864834,{"$f":"IF('III Tool Overview'!$H$6=\"Western Isles Health Board\",0,IF('III Tool Overview'!$H$6=\"Eilean Siar Local Authority\",0,new_yll(20,B209,C209,D209,$C$1,G209,1,F209,E209*F209)))","v":2886.6065612354937},{"$f":"IF('III Tool Overview'!$H$6=\"Western Isles Health Board\",0,IF('III Tool Overview'!$H$6=\"Eilean Siar Local Authority\",0,new_yll(20,B209,C209,D209,$C$1,G209+H209,1,F209,E209*F209)))","v":2884.2967587790058},2.309802456487887,{"$f":"IF('III Tool Overview'!$H$6=\"Western Isles Health Board\",0,IF('III Tool Overview'!$H$6=\"Eilean Siar Local Authority\",0,hosp_count(2,B209,C209,D209,$C$1,G209,1,F209,E209*F209)))","v":115.08017495559093},{"$f":"IF('III Tool Overview'!$H$6=\"Western Isles Health Board\",0,IF('III Tool Overview'!$H$6=\"Eilean Siar Local Authority\",0,hosp_count(2,B209,C209,D209,$C$1,G209+H209,1,F209,E209*F209)))","v":114.97398451670968},0.10619043888125645,{"$f":"IF('III Tool Overview'!$H$6=\"Western Isles Health Board\",0,IF('III Tool Overview'!$H$6=\"Eilean Siar Local Authority\",0,hosp_count(5,B209,C209,D209,$C$1,G209,1,F209,E209*F209)))","v":473.05851363335768},{"$f":"IF('III Tool Overview'!$H$6=\"Western Isles Health Board\",0,IF('III Tool Overview'!$H$6=\"Eilean Siar Local Authority\",0,hosp_count(5,B209,C209,D209,$C$1,G209+H209,1,F209,E209*F209)))","v":472.6578259640591},0.40068766929857702,{"$f":"IF('III Tool Overview'!$H$6=\"Western Isles Health Board\",0,IF('III Tool Overview'!$H$6=\"Eilean Siar Local Authority\",0,hosp_count(10,B209,C209,D209,$C$1,G209,1,F209,E209*F209)))","v":1105.8544681650094},{"$f":"IF('III Tool Overview'!$H$6=\"Western Isles Health Board\",0,IF('III Tool Overview'!$H$6=\"Eilean Siar Local Authority\",0,hosp_count(10,B209,C209,D209,$C$1,G209+H209,1,F209,E209*F209)))","v":1105.0700102518617},0.78445791314766211,{"$f":"IF('III Tool Overview'!$H$6=\"Western Isles Health Board\",0,IF('III Tool Overview'!$H$6=\"Eilean Siar Local Authority\",0,hosp_count(20,B209,C209,D209,$C$1,G209,1,F209,E209*F209)))","v":2430.2015918640059},{"$f":"IF('III Tool Overview'!$H$6=\"Western Isles Health Board\",0,IF('III Tool Overview'!$H$6=\"Eilean Siar Local Authority\",0,hosp_count(20,B209,C209,D209,$C$1,G209+H209,1,F209,E209*F209)))","v":2429.1994481633228},1.0021437006830638,null,0.5,5]
["Male 70-74",72.5,"male",4,{"$f":"HLOOKUP('III Tool Overview'!$H$6,Prevalence!$B$2:$AV$268,Prevalence!AW200,FALSE)","v":0.1875},{"$f":"HLOOKUP('III Tool Overview'!$H$6,LookUpData_Pop!$B$1:$AV$269,LookUpData_Pop!BB205,FALSE)/5","v":246.8},{"$f":"'III Tool Overview'!$H$9/110","v":0},{"$f":"IF('III Tool Overview'!$H$10=\"Even distribution\",Targeting!C208,IF('III Tool Overview'!$H$10=\"Targetting to Q1\",Targeting!D208,IF('III Tool Overview'!$H$10=\"Targetting to Q1 & Q2\",Targeting!E208,IF('III Tool Overview'!$H$10=\"No variation in price elasticity\",Targeting!G208))))","v":48.300000000000004},{"$f":"IF('III Tool Overview'!$H$6=\"Western Isles Health Board\",0,IF('III Tool Overview'!$H$6=\"Eilean Siar Local Authority\",0,new_ci(2,B210,C210,D210,$C$1,G210,1,F210,E210*F210)))","v":5.3989747131520716},{"$f":"IF('III Tool Overview'!$H$6=\"Western Isles Health Board\",0,IF('III Tool Overview'!$H$6=\"Eilean Siar Local Authority\",0,new_ci(2,B210,C210,D210,$C$1,G210+H210,1,F210,E210*F210)))","v":5.3910045043453074},{"$f":"IF('III Tool Overview'!$H$6=\"Western Isles Health Board\",0,IF('III Tool Overview'!$H$6=\"Eilean Siar Local Authority\",0,new_ci(5,B210,C210,D210,$C$1,G210,1,F210,E210*F210)))","v":22.639858434915507},{"$f":"IF('III Tool Overview'!$H$6=\"Western Isles Health Board\",0,IF('III Tool Overview'!$H$6=\"Eilean Siar Local Authority\",0,new_ci(5,B210,C210,D210,$C$1,G210+H210,1,F210,E210*F210)))","v":22.609620593927531},{"$f":"IF('III Tool Overview'!$H$6=\"Western Isles Health Board\",0,IF('III Tool Overview'!$H$6=\"Eilean Siar Local Authority\",0,new_ci(10,B210,C210,D210,$C$1,G210,1,F210,E210*F210)))","v":54.567280638047109},{"$f":"IF('III Tool Overview'!$H$6=\"Western Isles Health Board\",0,IF('III Tool Overview'!$H$6=\"Eilean Siar Local Authority\",0,new_ci(10,B210,C210,D210,$C$1,G210+H210,1,F210,E210*F210)))","v":54.508367382389757},{"$f":"IF('III Tool Overview'!$H$6=\"Western Isles Health Board\",0,IF('III Tool Overview'!$H$6=\"Eilean Siar Local Authority\",0,new_ci(20,B210,C210,D210,$C$1,G210,1,F210,E210*F210)))","v":125.60635306882094},{"$f":"new_ci(20,B210,C210,D210,$C$1,G210+H210,1,F210,E210*F210)","v":125.53788814571341},{"$f":"IF('III Tool Overview'!$H$6=\"Western Isles Health Board\",0,IF('III Tool Overview'!$H$6=\"Eilean Siar Local Authority\",0,new_yll(2,B210,C210,D210,$C$1,G210,1,F210,E210*F210)))","v":145.77231725510592},{"$f":"IF('III Tool Overview'!$H$6=\"Western Isles Health Board\",0,IF('III Tool Overview'!$H$6=\"Eilean Siar Local Authority\",0,new_yll(2,B210,C210,D210,$C$1,G210+H210,1,F210,E210*F210)))","v":145.5571216173233},{"$f":"Q210-R210","v":0.21519563778261386},{"$f":"IF('III Tool Overview'!$H$6=\"Western Isles Health Board\",0,IF('III Tool Overview'!$H$6=\"Eilean Siar Local Authority\",0,new_yll(5,B210,C210,D210,$C$1,G210,1,F210,E210*F210)))","v":576.45146369945417},{"$f":"IF('III Tool Overview'!$H$6=\"Western Isles Health Board\",0,IF('III Tool Overview'!$H$6=\"Eilean Siar Local Authority\",0,new_yll(5,B210,C210,D210,$C$1,G210+H210,1,F210,E210*F210)))","v":575.67894773938156},{"$f":"T210-U210","v":0.77251596007261014},{"$f":"IF('III Tool Overview'!$H$6=\"Western Isles Health Board\",0,IF('III Tool Overview'!$H$6=\"Eilean Siar Local Authority\",0,new_yll(10,B210,C210,D210,$C$1,G210,1,F210,E210*F210)))","v":1245.4541610258354},{"$f":"IF('III Tool Overview'!$H$6=\"Western Isles Health Board\",0,IF('III Tool Overview'!$H$6=\"Eilean Siar Local Authority\",0,new_yll(10,B210,C210,D210,$C$1,G210+H210,1,F210,E210*F210)))","v":1244.0743536375471},{"$f":"W210-X210","v":1.3798073882883273},{"$f":"IF('III Tool Overview'!$H$6=\"Western Isles Health Board\",0,IF('III Tool Overview'!$H$6=\"Eilean Siar Local Authority\",0,new_yll(20,B210,C210,D210,$C$1,G210,1,F210,E210*F210)))","v":2200.685210207098},{"$f":"IF('III Tool Overview'!$H$6=\"Western Isles Health Board\",0,IF('III Tool Overview'!$H$6=\"Eilean Siar Local Authority\",0,new_yll(20,B210,C210,D210,$C$1,G210+H210,1,F210,E210*F210)))","v":2199.1193697963654},{"$f":"Z210-AA210","v":1.5658404107325623},{"$f":"IF('III Tool Overview'!$H$6=\"Western Isles Health Board\",0,IF('III Tool Overview'!$H$6=\"Eilean Siar Local Authority\",0,hosp_count(2,B210,C210,D210,$C$1,G210,1,F210,E210*F210)))","v":99.986929552337813},{"$f":"IF('III Tool Overview'!$H$6=\"Western Isles Health Board\",0,IF('III Tool Overview'!$H$6=\"Eilean Siar Local Authority\",0,hosp_count(2,B210,C210,D210,$C$1,G210+H210,1,F210,E210*F210)))","v":99.892386767587197},{"$f":"AC210-AD210","v":9.4542784750615283E-2},{"$f":"IF('III Tool Overview'!$H$6=\"Western Isles Health Board\",0,IF('III Tool Overview'!$H$6=\"Eilean Siar Local Authority\",0,hosp_count(5,B210,C210,D210,$C$1,G210,1,F210,E210*F210)))","v":407.1821582368604},{"$f":"IF('III Tool Overview'!$H$6=\"Western Isles Health Board\",0,IF('III Tool Overview'!$H$6=\"Eilean Siar Local Authority\",0,hosp_count(5,B210,C210,D210,$C$1,G210+H210,1,F210,E210*F210)))","v":406.83803258844449},{"$f":"AF210-AG210","v":0.3441256484159112},{"$f":"IF('III Tool Overview'!$H$6=\"Western Isles Health Board\",0,IF('III Tool Overview'!$H$6=\"Eilean Siar Local Authority\",0,hosp_count(10,B210,C210,D210,$C$1,G210,1,F210,E210*F210)))","v":934.77634421221046},{"$f":"IF('III Tool Overview'!$H$6=\"Western Isles Health Board\",0,IF('III Tool Overview'!$H$6=\"Eilean Siar Local Authority\",0,hosp_count(10,B210,C210,D210,$C$1,G210+H210,1,F210,E210*F210)))","v":934.15149725896674},{"$f":"AI210-AJ210","v":0.62484695324371842},{"$f":"IF('III Tool Overview'!$H$6=\"Western Isles Health Board\",0,IF('III Tool Overview'!$H$6=\"Eilean Siar Local Authority\",0,hosp_count(20,B210,C210,D210,$C$1,G210,1,F210,E210*F210)))","v":1962.3107865283723},{"$f":"IF('III Tool Overview'!$H$6=\"Western Isles Health Board\",0,IF('III Tool Overview'!$H$6=\"Eilean Siar Local Authority\",0,hosp_count(20,B210,C210,D210,$C$1,G210+H210,1,F210,E210*F210)))","v":1961.6790276743902},{"$f":"AL210-AM210","v":0.63175885398209175},null,0.5,5]
["Male 75-79",77.5,"male",4,{"$f":"HLOOKUP('III Tool Overview'!$H$6,Prevalence!$B$2:$AV$268,Prevalence!AW201,FALSE)","v":0.05},{"$f":"HLOOKUP('III Tool Overview'!$H$6,LookUpData_Pop!$B$1:$AV$269,LookUpData_Pop!BB206,FALSE)/5","v":183.2},{"$f":"'III Tool Overview'!$H$9/110","v":0},{"$f":"IF('III Tool Overview'!$H$10=\"Even distribution\",Targeting!C209,IF('III Tool Overview'!$H$10=\"Targetting to Q1\",Targeting!D209,IF('III Tool Overview'!$H$10=\"Targetting to Q1 & Q2\",Targeting!E209,IF('III Tool Overview'!$H$10=\"No variation in price elasticity\",Targeting!G209))))","v":7.8800000000000017},{"$f":"IF('III Tool Overview'!$H$6=\"Western Isles Health Board\",0,IF('III Tool Overview'!$H$6=\"Eilean Siar Local Authority\",0,new_ci(2,B211,C211,D211,$C$1,G211,1,F211,E211*F211)))","v":6.1549076787559258},{"$f":"IF('III Tool Overview'!$H$6=\"Western Isles Health Board\",0,IF('III Tool Overview'!$H$6=\"Eilean Siar Local Authority\",0,new_ci(2,B211,C211,D211,$C$1,G211+H211,1,F211,E211*F211)))","v":6.1525961114508405},{"$f":"IF('III Tool Overview'!$H$6=\"Western Isles Health Board\",0,IF('III Tool Overview'!$H$6=\"Eilean Siar Local Authority\",0,new_ci(5,B211,C211,D211,$C$1,G211,1,F211,E211*F211)))","v":25.35916426943044},{"$f":"IF('III Tool Overview'!$H$6=\"Western Isles Health Board\",0,IF('III Tool Overview'!$H$6=\"Eilean Siar Local Authority\",0,new_ci(5,B211,C211,D211,$C$1,G211+H211,1,F211,E211*F211)))","v":25.351302062241235},{"$f":"IF('III Tool Overview'!$H$6=\"Western Isles Health Board\",0,IF('III Tool Overview'!$H$6=\"Eilean Siar Local Authority\",0,new_ci(10,B211,C211,D211,$C$1,G211,1,F211,E211*F211)))","v":59.025828897555314},{"$f":"IF('III Tool Overview'!$H$6=\"Western Isles Health Board\",0,IF('III Tool Overview'!$H$6=\"Eilean Siar Local Authority\",0,new_ci(10,B211,C211,D211,$C$1,G211+H211,1,F211,E211*F211)))","v":59.013664428868104},{"$f":"IF('III Tool Overview'!$H$6=\"Western Isles Health Board\",0,IF('III Tool Overview'!$H$6=\"Eilean Siar Local Authority\",0,new_ci(20,B211,C211,D211,$C$1,G211,1,F211,E211*F211)))","v":123.80357965252929},123.79671345044108,{"$f":"IF('III Tool Overview'!$H$6=\"Western Isles Health Board\",0,IF('III Tool Overview'!$H$6=\"Eilean Siar Local Authority\",0,new_yll(2,B211,C211,D211,$C$1,G211,1,F211,E211*F211)))","v":129.25306125387445},{"$f":"IF('III Tool Overview'!$H$6=\"Western Isles Health Board\",0,IF('III Tool Overview'!$H$6=\"Eilean Siar Local Authority\",0,new_yll(2,B211,C211,D211,$C$1,G211+H211,1,F211,E211*F211)))","v":129.20451834046764},4.854291340680561E-2,{"$f":"IF('III Tool Overview'!$H$6=\"Western Isles Health Board\",0,IF('III Tool Overview'!$H$6=\"Eilean Siar Local Authority\",0,new_yll(5,B211,C211,D211,$C$1,G211,1,F211,E211*F211)))","v":493.90596480347574},{"$f":"IF('III Tool Overview'!$H$6=\"Western Isles Health Board\",0,IF('III Tool Overview'!$H$6=\"Eilean Siar Local Authority\",0,new_yll(5,B211,C211,D211,$C$1,G211+H211,1,F211,E211*F211)))","v":493.75148111543967},0.15448368803606627,{"$f":"IF('III Tool Overview'!$H$6=\"Western Isles Health Board\",0,IF('III Tool Overview'!$H$6=\"Eilean Siar Local Authority\",0,new_yll(10,B211,C211,D211,$C$1,G211,1,F211,E211*F211)))","v":998.36635807507741},{"$f":"IF('III Tool Overview'!$H$6=\"Western Isles Health Board\",0,IF('III Tool Overview'!$H$6=\"Eilean Siar Local Authority\",0,new_yll(10,B211,C211,D211,$C$1,G211+H211,1,F211,E211*F211)))","v":998.14486264667607},0.22149542840134018,{"$f":"IF('III Tool Overview'!$H$6=\"Western Isles Health Board\",0,IF('III Tool Overview'!$H$6=\"Eilean Siar Local Authority\",0,new_yll(20,B211,C211,D211,$C$1,G211,1,F211,E211*F211)))","v":1493.2844560433005},{"$f":"IF('III Tool Overview'!$H$6=\"Western Isles Health Board\",0,IF('III Tool Overview'!$H$6=\"Eilean Siar Local Authority\",0,new_yll(20,B211,C211,D211,$C$1,G211+H211,1,F211,E211*F211)))","v":1493.0930854741503},0.19137056915019457,{"$f":"IF('III Tool Overview'!$H$6=\"Western Isles Health Board\",0,IF('III Tool Overview'!$H$6=\"Eilean Siar Local Authority\",0,hosp_count(2,B211,C211,D211,$C$1,G211,1,F211,E211*F211)))","v":91.504860118714561},{"$f":"IF('III Tool Overview'!$H$6=\"Western Isles Health Board\",0,IF('III Tool Overview'!$H$6=\"Eilean Siar Local Authority\",0,hosp_count(2,B211,C211,D211,$C$1,G211+H211,1,F211,E211*F211)))","v":91.484081443292666},2.0778675421894377E-2,{"$f":"IF('III Tool Overview'!$H$6=\"Western Isles Health Board\",0,IF('III Tool Overview'!$H$6=\"Eilean Siar Local Authority\",0,hosp_count(5,B211,C211,D211,$C$1,G211,1,F211,E211*F211)))","v":366.05245911238046},{"$f":"IF('III Tool Overview'!$H$6=\"Western Isles Health Board\",0,IF('III Tool Overview'!$H$6=\"Eilean Siar Local Authority\",0,hosp_count(5,B211,C211,D211,$C$1,G211+H211,1,F211,E211*F211)))","v":365.98491663699645},6.7542475384016143E-2,{"$f":"IF('III Tool Overview'!$H$6=\"Western Isles Health Board\",0,IF('III Tool Overview'!$H$6=\"Eilean Siar Local Authority\",0,hosp_count(10,B211,C211,D211,$C$1,G211,1,F211,E211*F211)))","v":811.72389324649214},{"$f":"IF('III Tool Overview'!$H$6=\"Western Isles Health Board\",0,IF('III Tool Overview'!$H$6=\"Eilean Siar Local Authority\",0,hosp_count(10,B211,C211,D211,$C$1,G211+H211,1,F211,E211*F211)))","v":811.62732871440051},9.6564532091633737E-2,{"$f":"IF('III Tool Overview'!$H$6=\"Western Isles Health Board\",0,IF('III Tool Overview'!$H$6=\"Eilean Siar Local Authority\",0,hosp_count(20,B211,C211,D211,$C$1,G211,1,F211,E211*F211)))","v":1559.5034794958497},{"$f":"IF('III Tool Overview'!$H$6=\"Western Isles Health Board\",0,IF('III Tool Overview'!$H$6=\"Eilean Siar Local Authority\",0,hosp_count(20,B211,C211,D211,$C$1,G211+H211,1,F211,E211*F211)))","v":1559.4587496533679},4.4729842481729065E-2,null,0.5,5]
["Male 80-84",82.5,"male",4,{"$f":"HLOOKUP('III Tool Overview'!$H$6,Prevalence!$B$2:$AV$268,Prevalence!AW202,FALSE)","v":0.05},{"$f":"HLOOKUP('III Tool Overview'!$H$6,LookUpData_Pop!$B$1:$AV$269,LookUpData_Pop!BB207,FALSE)/5","v":116.6},{"$f":"'III Tool Overview'!$H$9/110","v":0},{"$f":"IF('III Tool Overview'!$H$10=\"Even distribution\",Targeting!C210,IF('III Tool Overview'!$H$10=\"Targetting to Q1\",Targeting!D210,IF('III Tool Overview'!$H$10=\"Targetting to Q1 & Q2\",Targeting!E210,IF('III Tool Overview'!$H$10=\"No variation in price elasticity\",Targeting!G210))))","v":5.7600000000000007},{"$f":"IF('III Tool Overview'!$H$6=\"Western Isles Health Board\",0,IF('III Tool Overview'!$H$6=\"Eilean Siar Local Authority\",0,new_ci(2,B212,C212,D212,$C$1,G212,1,F212,E212*F212)))","v":5.2012520146236358},{"$f":"IF('III Tool Overview'!$H$6=\"Western Isles Health Board\",0,IF('III Tool Overview'!$H$6=\"Eilean Siar Local Authority\",0,new_ci(2,B212,C212,D212,$C$1,G212+H212,1,F212,E212*F212)))","v":5.1989977325848269},{"$f":"IF('III Tool Overview'!$H$6=\"Western Isles Health Board\",0,IF('III Tool Overview'!$H$6=\"Eilean Siar Local Authority\",0,new_ci(5,B212,C212,D212,$C$1,G212,1,F212,E212*F212)))","v":21.011005840710293},{"$f":"IF('III Tool Overview'!$H$6=\"Western Isles Health Board\",0,IF('III Tool Overview'!$H$6=\"Eilean Siar Local Authority\",0,new_ci(5,B212,C212,D212,$C$1,G212+H212,1,F212,E212*F212)))","v":21.003940678623454},{"$f":"IF('III Tool Overview'!$H$6=\"Western Isles Health Board\",0,IF('III Tool Overview'!$H$6=\"Eilean Siar Local Authority\",0,new_ci(10,B212,C212,D212,$C$1,G212,1,F212,E212*F212)))","v":47.108311085336055},{"$f":"IF('III Tool Overview'!$H$6=\"Western Isles Health Board\",0,IF('III Tool Overview'!$H$6=\"Eilean Siar Local Authority\",0,new_ci(10,B212,C212,D212,$C$1,G212+H212,1,F212,E212*F212)))","v":47.099112762676441},{"$f":"IF('III Tool Overview'!$H$6=\"Western Isles Health Board\",0,IF('III Tool Overview'!$H$6=\"Eilean Siar Local Authority\",0,new_ci(20,B212,C212,D212,$C$1,G212,1,F212,E212*F212)))","v":90.447751896631189},90.444728507551034,{"$f":"IF('III Tool Overview'!$H$6=\"Western Isles Health Board\",0,IF('III Tool Overview'!$H$6=\"Eilean Siar Local Authority\",0,new_yll(2,B212,C212,D212,$C$1,G212,1,F212,E212*F212)))","v":88.421284248601808},{"$f":"IF('III Tool Overview'!$H$6=\"Western Isles Health Board\",0,IF('III Tool Overview'!$H$6=\"Eilean Siar Local Authority\",0,new_yll(2,B212,C212,D212,$C$1,G212+H212,1,F212,E212*F212)))","v":88.382961453942059},3.8322794659748638E-2,{"$f":"IF('III Tool Overview'!$H$6=\"Western Isles Health Board\",0,IF('III Tool Overview'!$H$6=\"Eilean Siar Local Authority\",0,new_yll(5,B212,C212,D212,$C$1,G212,1,F212,E212*F212)))","v":325.52269079762334},{"$f":"IF('III Tool Overview'!$H$6=\"Western Isles Health Board\",0,IF('III Tool Overview'!$H$6=\"Eilean Siar Local Authority\",0,new_yll(5,B212,C212,D212,$C$1,G212+H212,1,F212,E212*F212)))","v":325.41155899098305},0.11113180664028732,{"$f":"IF('III Tool Overview'!$H$6=\"Western Isles Health Board\",0,IF('III Tool Overview'!$H$6=\"Eilean Siar Local Authority\",0,new_yll(10,B212,C212,D212,$C$1,G212,1,F212,E212*F212)))","v":613.03012080654764},{"$f":"IF('III Tool Overview'!$H$6=\"Western Isles Health Board\",0,IF('III Tool Overview'!$H$6=\"Eilean Siar Local Authority\",0,new_yll(10,B212,C212,D212,$C$1,G212+H212,1,F212,E212*F212)))","v":612.8929108664405},0.13720994010714094,{"$f":"IF('III Tool Overview'!$H$6=\"Western Isles Health Board\",0,IF('III Tool Overview'!$H$6=\"Eilean Siar Local Authority\",0,new_yll(20,B212,C212,D212,$C$1,G212,1,F212,E212*F212)))","v":779.16699170204004},{"$f":"IF('III Tool Overview'!$H$6=\"Western Isles Health Board\",0,IF('III Tool Overview'!$H$6=\"Eilean Siar Local Authority\",0,new_yll(20,B212,C212,D212,$C$1,G212+H212,1,F212,E212*F212)))","v":779.04816116732206},0.11883053471797211,{"$f":"IF('III Tool Overview'!$H$6=\"Western Isles Health Board\",0,IF('III Tool Overview'!$H$6=\"Eilean Siar Local Authority\",0,hosp_count(2,B212,C212,D212,$C$1,G212,1,F212,E212*F212)))","v":66.962396200715318},{"$f":"IF('III Tool Overview'!$H$6=\"Western Isles Health Board\",0,IF('III Tool Overview'!$H$6=\"Eilean Siar Local Authority\",0,hosp_count(2,B212,C212,D212,$C$1,G212+H212,1,F212,E212*F212)))","v":66.944499219156938},1.7896981558379821E-2,{"$f":"IF('III Tool Overview'!$H$6=\"Western Isles Health Board\",0,IF('III Tool Overview'!$H$6=\"Eilean Siar Local Authority\",0,hosp_count(5,B212,C212,D212,$C$1,G212,1,F212,E212*F212)))","v":263.02987544041974},{"$f":"IF('III Tool Overview'!$H$6=\"Western Isles Health Board\",0,IF('III Tool Overview'!$H$6=\"Eilean Siar Local Authority\",0,hosp_count(5,B212,C212,D212,$C$1,G212+H212,1,F212,E212*F212)))","v":262.97637254090006},5.3502899519685343E-2,{"$f":"IF('III Tool Overview'!$H$6=\"Western Isles Health Board\",0,IF('III Tool Overview'!$H$6=\"Eilean Siar Local Authority\",0,hosp_count(10,B212,C212,D212,$C$1,G212,1,F212,E212*F212)))","v":563.79404129177419},{"$f":"IF('III Tool Overview'!$H$6=\"Western Isles Health Board\",0,IF('III Tool Overview'!$H$6=\"Eilean Siar Local Authority\",0,hosp_count(10,B212,C212,D212,$C$1,G212+H212,1,F212,E212*F212)))","v":563.73008542840739},6.3955863366800259E-2,{"$f":"IF('III Tool Overview'!$H$6=\"Western Isles Health Board\",0,IF('III Tool Overview'!$H$6=\"Eilean Siar Local Authority\",0,hosp_count(20,B212,C212,D212,$C$1,G212,1,F212,E212*F212)))","v":1002.9582564004344},{"$f":"IF('III Tool Overview'!$H$6=\"Western Isles Health Board\",0,IF('III Tool Overview'!$H$6=\"Eilean Siar Local Authority\",0,hosp_count(20,B212,C212,D212,$C$1,G212+H212,1,F212,E212*F212)))","v":1002.942948993912},1.5307406522424571E-2,null,0.5,5]
["Male 85-89",87.5,"male",4,{"$f":"HLOOKUP('III Tool Overview'!$H$6,Prevalence!$B$2:$AV$268,Prevalence!AW203,FALSE)","v":0.05},{"$f":"HLOOKUP('III Tool Overview'!$H$6,LookUpData_Pop!$B$1:$AV$269,LookUpData_Pop!BB208,FALSE)/5","v":46.6},{"$f":"'III Tool Overview'!$H$9/110","v":0},{"$f":"IF('III Tool Overview'!$H$10=\"Even distribution\",Targeting!C211,IF('III Tool Overview'!$H$10=\"Targetting to Q1\",Targeting!D211,IF('III Tool Overview'!$H$10=\"Targetting to Q1 & Q2\",Targeting!E211,IF('III Tool Overview'!$H$10=\"No variation in price elasticity\",Targeting!G211))))","v":2.8800000000000003},{"$f":"IF('III Tool Overview'!$H$6=\"Western Isles Health Board\",0,IF('III Tool Overview'!$H$6=\"Eilean Siar Local Authority\",0,new_ci(2,B213,C213,D213,$C$1,G213,1,F213,E213*F213)))","v":3.168911448336925},{"$f":"IF('III Tool Overview'!$H$6=\"Western Isles Health Board\",0,IF('III Tool Overview'!$H$6=\"Eilean Siar Local Authority\",0,new_ci(2,B213,C213,D213,$C$1,G213+H213,1,F213,E213*F213)))","v":3.1672463101845842},{"$f":"IF('III Tool Overview'!$H$6=\"Western Isles Health Board\",0,IF('III Tool Overview'!$H$6=\"Eilean Siar Local Authority\",0,new_ci(5,B213,C213,D213,$C$1,G213,1,F213,E213*F213)))","v":12.2926886616241},{"$f":"IF('III Tool Overview'!$H$6=\"Western Isles Health Board\",0,IF('III Tool Overview'!$H$6=\"Eilean Siar Local Authority\",0,new_ci(5,B213,C213,D213,$C$1,G213+H213,1,F213,E213*F213)))","v":12.28834561149203},{"$f":"IF('III Tool Overview'!$H$6=\"Western Isles Health Board\",0,IF('III Tool Overview'!$H$6=\"Eilean Siar Local Authority\",0,new_ci(10,B213,C213,D213,$C$1,G213,1,F213,E213*F213)))","v":25.590655582432348},{"$f":"IF('III Tool Overview'!$H$6=\"Western Isles Health Board\",0,IF('III Tool Overview'!$H$6=\"Eilean Siar Local Authority\",0,new_ci(10,B213,C213,D213,$C$1,G213+H213,1,F213,E213*F213)))","v":25.586818033834742},{"$f":"IF('III Tool Overview'!$H$6=\"Western Isles Health Board\",0,IF('III Tool Overview'!$H$6=\"Eilean Siar Local Authority\",0,new_ci(20,B213,C213,D213,$C$1,G213,1,F213,E213*F213)))","v":41.946931566368498},41.946557014950727,{"$f":"IF('III Tool Overview'!$H$6=\"Western Isles Health Board\",0,IF('III Tool Overview'!$H$6=\"Eilean Siar Local Authority\",0,new_yll(2,B213,C213,D213,$C$1,G213,1,F213,E213*F213)))","v":34.858025931706173},{"$f":"IF('III Tool Overview'!$H$6=\"Western Isles Health Board\",0,IF('III Tool Overview'!$H$6=\"Eilean Siar Local Authority\",0,new_yll(2,B213,C213,D213,$C$1,G213+H213,1,F213,E213*F213)))","v":34.83970941203043},1.8316519675742882E-2,{"$f":"IF('III Tool Overview'!$H$6=\"Western Isles Health Board\",0,IF('III Tool Overview'!$H$6=\"Eilean Siar Local Authority\",0,new_yll(5,B213,C213,D213,$C$1,G213,1,F213,E213*F213)))","v":117.11806345982976},{"$f":"IF('III Tool Overview'!$H$6=\"Western Isles Health Board\",0,IF('III Tool Overview'!$H$6=\"Eilean Siar Local Authority\",0,new_yll(5,B213,C213,D213,$C$1,G213+H213,1,F213,E213*F213)))","v":117.07494485257169},4.3118607258065822E-2,{"$f":"IF('III Tool Overview'!$H$6=\"Western Isles Health Board\",0,IF('III Tool Overview'!$H$6=\"Eilean Siar Local Authority\",0,new_yll(10,B213,C213,D213,$C$1,G213,1,F213,E213*F213)))","v":184.74175266289899},{"$f":"IF('III Tool Overview'!$H$6=\"Western Isles Health Board\",0,IF('III Tool Overview'!$H$6=\"Eilean Siar Local Authority\",0,new_yll(10,B213,C213,D213,$C$1,G213+H213,1,F213,E213*F213)))","v":184.69953892846729},4.2213734431697958E-2,{"$f":"IF('III Tool Overview'!$H$6=\"Western Isles Health Board\",0,IF('III Tool Overview'!$H$6=\"Eilean Siar Local Authority\",0,new_yll(20,B213,C213,D213,$C$1,G213,1,F213,E213*F213)))","v":155.92581979671354},{"$f":"IF('III Tool Overview'!$H$6=\"Western Isles Health Board\",0,IF('III Tool Overview'!$H$6=\"Eilean Siar Local Authority\",0,new_yll(20,B213,C213,D213,$C$1,G213+H213,1,F213,E213*F213)))","v":155.87789917421895},4.7920622494586951E-2,{"$f":"IF('III Tool Overview'!$H$6=\"Western Isles Health Board\",0,IF('III Tool Overview'!$H$6=\"Eilean Siar Local Authority\",0,hosp_count(2,B213,C213,D213,$C$1,G213,1,F213,E213*F213)))","v":32.994303721112317},{"$f":"IF('III Tool Overview'!$H$6=\"Western Isles Health Board\",0,IF('III Tool Overview'!$H$6=\"Eilean Siar Local Authority\",0,hosp_count(2,B213,C213,D213,$C$1,G213+H213,1,F213,E213*F213)))","v":32.983223390167922},1.10803309443952E-2,{"$f":"IF('III Tool Overview'!$H$6=\"Western Isles Health Board\",0,IF('III Tool Overview'!$H$6=\"Eilean Siar Local Authority\",0,hosp_count(5,B213,C213,D213,$C$1,G213,1,F213,E213*F213)))","v":124.74207772572373},{"$f":"IF('III Tool Overview'!$H$6=\"Western Isles Health Board\",0,IF('III Tool Overview'!$H$6=\"Eilean Siar Local Authority\",0,hosp_count(5,B213,C213,D213,$C$1,G213+H213,1,F213,E213*F213)))","v":124.71453146738678},2.7546258336954565E-2,{"$f":"IF('III Tool Overview'!$H$6=\"Western Isles Health Board\",0,IF('III Tool Overview'!$H$6=\"Eilean Siar Local Authority\",0,hosp_count(10,B213,C213,D213,$C$1,G213,1,F213,E213*F213)))","v":249.637313609676},{"$f":"IF('III Tool Overview'!$H$6=\"Western Isles Health Board\",0,IF('III Tool Overview'!$H$6=\"Eilean Siar Local Authority\",0,hosp_count(10,B213,C213,D213,$C$1,G213+H213,1,F213,E213*F213)))","v":249.61518902015285},2.2124589523144778E-2,{"$f":"IF('III Tool Overview'!$H$6=\"Western Isles Health Board\",0,IF('III Tool Overview'!$H$6=\"Eilean Siar Local Authority\",0,hosp_count(20,B213,C213,D213,$C$1,G213,1,F213,E213*F213)))","v":386.40753630137885},{"$f":"IF('III Tool Overview'!$H$6=\"Western Isles Health Board\",0,IF('III Tool Overview'!$H$6=\"Eilean Siar Local Authority\",0,hosp_count(20,B213,C213,D213,$C$1,G213+H213,1,F213,E213*F213)))","v":386.40719000376328},3.4629761557880556E-4,null,0.5,{"$f":"2/#REF!","v":{"$error":"#REF!"}}]
["Male 90+",95,"male",4,{"$f":"HLOOKUP('III Tool Overview'!$H$6,Prevalence!$B$2:$AV$268,Prevalence!AW204,FALSE)","v":0.05},{"$f":"HLOOKUP('III Tool Overview'!$H$6,LookUpData_Pop!$B$1:$AV$269,LookUpData_Pop!BB209,FALSE)/5","v":17.8},{"$f":"'III Tool Overview'!$H$9/110","v":0},{"$f":"IF('III Tool Overview'!$H$10=\"Even distribution\",Targeting!C212,IF('III Tool Overview'!$H$10=\"Targetting to Q1\",Targeting!D212,IF('III Tool Overview'!$H$10=\"Targetting to Q1 & Q2\",Targeting!E212,IF('III Tool Overview'!$H$10=\"No variation in price elasticity\",Targeting!G212))))","v":1.2400000000000002},{"$f":"IF('III Tool Overview'!$H$6=\"Western Isles Health Board\",0,IF('III Tool Overview'!$H$6=\"Eilean Siar Local Authority\",0,new_ci(2,B214,C214,D214,$C$1,G214,1,F214,E214*F214)))","v":1.9598912116500786},{"$f":"IF('III Tool Overview'!$H$6=\"Western Isles Health Board\",0,IF('III Tool Overview'!$H$6=\"Eilean Siar Local Authority\",0,new_ci(2,B214,C214,D214,$C$1,G214+H214,1,F214,E214*F214)))","v":1.9590674180040979},{"$f":"IF('III Tool Overview'!$H$6=\"Western Isles Health Board\",0,IF('III Tool Overview'!$H$6=\"Eilean Siar Local Authority\",0,new_ci(5,B214,C214,D214,$C$1,G214,1,F214,E214*F214)))","v":7.0506537953818036},{"$f":"IF('III Tool Overview'!$H$6=\"Western Isles Health Board\",0,IF('III Tool Overview'!$H$6=\"Eilean Siar Local Authority\",0,new_ci(5,B214,C214,D214,$C$1,G214+H214,1,F214,E214*F214)))","v":7.049100362123407},{"$f":"IF('III Tool Overview'!$H$6=\"Western Isles Health Board\",0,IF('III Tool Overview'!$H$6=\"Eilean Siar Local Authority\",0,new_ci(10,B214,C214,D214,$C$1,G214,1,F214,E214*F214)))","v":12.963999724853768},{"$f":"IF('III Tool Overview'!$H$6=\"Western Isles Health Board\",0,IF('III Tool Overview'!$H$6=\"Eilean Siar Local Authority\",0,new_ci(10,B214,C214,D214,$C$1,G214+H214,1,F214,E214*F214)))","v":12.963307431279986},{"$f":"IF('III Tool Overview'!$H$6=\"Western Isles Health Board\",0,IF('III Tool Overview'!$H$6=\"Eilean Siar Local Authority\",0,new_ci(20,B214,C214,D214,$C$1,G214,1,F214,E214*F214)))","v":17.383189577223799},{"$f":"new_ci(20,B214,C214,D214,$C$1,G214+H214,1,F214,E214*F214)","v":17.383181661234268},{"$f":"IF('III Tool Overview'!$H$6=\"Western Isles Health Board\",0,IF('III Tool Overview'!$H$6=\"Eilean Siar Local Authority\",0,new_yll(2,B214,C214,D214,$C$1,G214,1,F214,E214*F214)))","v":7.8395648466003145},{"$f":"IF('III Tool Overview'!$H$6=\"Western Isles Health Board\",0,IF('III Tool Overview'!$H$6=\"Eilean Siar Local Authority\",0,new_yll(2,B214,C214,D214,$C$1,G214+H214,1,F214,E214*F214)))","v":7.8362696720163916},{"$f":"Q214-R214","v":3.2951745839229218E-3},{"$f":"IF('III Tool Overview'!$H$6=\"Western Isles Health Board\",0,IF('III Tool Overview'!$H$6=\"Eilean Siar Local Authority\",0,new_yll(5,B214,C214,D214,$C$1,G214,1,F214,E214*F214)))","v":18.284970081418102},{"$f":"IF('III Tool Overview'!$H$6=\"Western Isles Health Board\",0,IF('III Tool Overview'!$H$6=\"Eilean Siar Local Authority\",0,new_yll(5,B214,C214,D214,$C$1,G214+H214,1,F214,E214*F214)))","v":18.279768663043935},{"$f":"T214-U214","v":5.2014183741668774E-3},{"$f":"IF('III Tool Overview'!$H$6=\"Western Isles Health Board\",0,IF('III Tool Overview'!$H$6=\"Eilean Siar Local Authority\",0,new_yll(10,B214,C214,D214,$C$1,G214,1,F214,E214*F214)))","v":7.6971479077549088},{"$f":"IF('III Tool Overview'!$H$6=\"Western Isles Health Board\",0,IF('III Tool Overview'!$H$6=\"Eilean Siar Local Authority\",0,new_yll(10,B214,C214,D214,$C$1,G214+H214,1,F214,E214*F214)))","v":7.6899777964857474},{"$f":"W214-X214","v":7.1701112691613389E-3},{"$f":"IF('III Tool Overview'!$H$6=\"Western Isles Health Board\",0,IF('III Tool Overview'!$H$6=\"Eilean Siar Local Authority\",0,new_yll(20,B214,C214,D214,$C$1,G214,1,F214,E214*F214)))","v":-28.103830997503245},{"$f":"IF('III Tool Overview'!$H$6=\"Western Isles Health Board\",0,IF('III Tool Overview'!$H$6=\"Eilean Siar Local Authority\",0,new_yll(20,B214,C214,D214,$C$1,G214+H214,1,F214,E214*F214)))","v":-28.115976803861056},{"$f":"Z214-AA214","v":1.214580635781104E-2},{"$f":"IF('III Tool Overview'!$H$6=\"Western Isles Health Board\",0,IF('III Tool Overview'!$H$6=\"Eilean Siar Local Authority\",0,hosp_count(2,B214,C214,D214,$C$1,G214,1,F214,E214*F214)))","v":16.089668816278785},{"$f":"IF('III Tool Overview'!$H$6=\"Western Isles Health Board\",0,IF('III Tool Overview'!$H$6=\"Eilean Siar Local Authority\",0,hosp_count(2,B214,C214,D214,$C$1,G214+H214,1,F214,E214*F214)))","v":16.084985150489587},{"$f":"AC214-AD214","v":4.6836657891979883E-3},{"$f":"IF('III Tool Overview'!$H$6=\"Western Isles Health Board\",0,IF('III Tool Overview'!$H$6=\"Eilean Siar Local Authority\",0,hosp_count(5,B214,C214,D214,$C$1,G214,1,F214,E214*F214)))","v":56.720491314441958},{"$f":"IF('III Tool Overview'!$H$6=\"Western Isles Health Board\",0,IF('III Tool Overview'!$H$6=\"Eilean Siar Local Authority\",0,hosp_count(5,B214,C214,D214,$C$1,G214+H214,1,F214,E214*F214)))","v":56.711952944502471},{"$f":"AF214-AG214","v":8.5383699394867563E-3},{"$f":"IF('III Tool Overview'!$H$6=\"Western Isles Health Board\",0,IF('III Tool Overview'!$H$6=\"Eilean Siar Local Authority\",0,hosp_count(10,B214,C214,D214,$C$1,G214,1,F214,E214*F214)))","v":101.30817538093143},{"$f":"IF('III Tool Overview'!$H$6=\"Western Isles Health Board\",0,IF('III Tool Overview'!$H$6=\"Eilean Siar Local Authority\",0,hosp_count(10,B214,C214,D214,$C$1,G214+H214,1,F214,E214*F214)))","v":101.30455159273559},{"$f":"AI214-AJ214","v":3.6237881958385287E-3},{"$f":"IF('III Tool Overview'!$H$6=\"Western Isles Health Board\",0,IF('III Tool Overview'!$H$6=\"Eilean Siar Local Authority\",0,hosp_count(20,B214,C214,D214,$C$1,G214,1,F214,E214*F214)))","v":131.64121961008883},{"$f":"IF('III Tool Overview'!$H$6=\"Western Isles Health Board\",0,IF('III Tool Overview'!$H$6=\"Eilean Siar Local Authority\",0,hosp_count(20,B214,C214,D214,$C$1,G214+H214,1,F214,E214*F214)))","v":131.64117937967578},{"$f":"AL214-AM214","v":4.0230413048902847E-5}]
["TOTAL",null,null,null,null,{"$f":"SUM(F199:F214)","v":4548.6000000000004},{"$f":"SUM(G199:G214)","v":0},{"$f":"SUM(H199:H214)","v":1097.5000000000002},{"$f":"SUM(I199:I214)","v":41.237204740217436},{"$f":"SUM(J199:J214)","v":41.187709046083114},{"$f":"SUM(K199:K214)","v":171.49223282178949},{"$f":"SUM(L199:L214)","v":171.29871018213993},{"$f":"SUM(M199:M214)","v":409.6520807633849},{"$f":"SUM(N199:N214)","v":409.23369847632534},{"$f":"SUM(O199:O214)","v":953.82014204887616},{"$f":"SUM(P199:P214)","v":953.03298584222341},{"$f":"SUM(Q199:Q214)","v":1218.670548057059},{"$f":"SUM(R199:R214)","v":1216.8756180103614},{"$f":"SUM(S199:S214)","v":1.7949300466978135},{"$f":"SUM(T199:T214)","v":4900.7237989734231},{"$f":"SUM(U199:U214)","v":4893.7310987113042},{"$f":"SUM(V199:V214)","v":6.9927002621207173},{"$f":"SUM(W199:W214)","v":11043.980590260273},{"$f":"SUM(X199:X214)","v":11029.009277310412},{"$f":"SUM(Y199:Y214)","v":14.971312949857307},{"$f":"SUM(Z199:Z214)","v":22743.062493748286},{"$f":"SUM(AA199:AA214)","v":22715.22249159497},{"$f":"SUM(AB199:AB214)","v":27.840002153317133},{"$f":"SUM(AC199:AC214)","v":994.9132303595419},{"$f":"SUM(AD199:AD214)","v":993.93693560776899},{"$f":"SUM(AE199:AE214)","v":0.97629475177308578},{"$f":"SUM(AF199:AF214)","v":4088.4884143841291},{"$f":"SUM(AG199:AG214)","v":4084.6495978790635},{"$f":"SUM(AH199:AH214)","v":3.8388165050660632},{"$f":"SUM(AI199:AI214)","v":9588.7813959265914},{"$f":"SUM(AJ199:AJ214)","v":9580.4400981801518},{"$f":"SUM(AK199:AK214)","v":8.3412977464404747},{"$f":"SUM(AL199:AL214)","v":21675.047044672203},{"$f":"SUM(AM199:AM214)","v":21659.194804877439},{"$f":"SUM(AN199:AN214)","v":15.852239794758532}]
["Female <1",0.5,"female",4,null,{"$f":"HLOOKUP('III Tool Overview'!$H$6,LookUpData_Pop!$B$1:$AV$269,LookUpData_Pop!BB210,FALSE)/5","v":56.2},null,null,null,null,null,null,null,null,null,null,null,null,null,null,null,null,null,null,null,null,null,null,null,null,null,null,null,null,null,null,null,null,null,null,null,0.1,1]
["Female 1-4",2.5,"female",4,null,{"$f":"HLOOKUP('III Tool Overview'!$H$6,LookUpData_Pop!$B$1:$AV$269,LookUpData_Pop!BB211,FALSE)/5","v":228.8},null,null,null,null,null,null,null,null,null,null,null,null,null,null,null,null,null,null,null,null,null,null,null,null,null,null,null,null,null,null,null,null,null,null,null,0.5,4]
["Female 5-9",7.5,"female",4,null,{"$f":"HLOOKUP('III Tool Overview'!$H$6,LookUpData_Pop!$B$1:$AV$269,LookUpData_Pop!BB212,FALSE)/5","v":278},null,null,null,null,null,null,null,null,null,null,null,null,null,null,null,null,null,null,null,null,null,null,null,null,null,null,null,null,null,null,null,null,null,null,null,0.5,5]
["Female 10-14",12.5,"female",4,null,{"$f":"HLOOKUP('III Tool Overview'!$H$6,LookUpData_Pop!$B$1:$AV$269,LookUpData_Pop!BB213,FALSE)/5","v":335.6},null,null,null,null,null,null,null,null,null,null,null,null,null,null,null,null,null,null,null,null,null,null,null,null,null,null,null,null,null,null,null,null,null,null,null,0.5,5]
["Female 15-19",17.5,"female",4,{"$f":"HLOOKUP('III Tool Overview'!$H$6,Prevalence!$B$2:$AV$268,Prevalence!AW209,FALSE)","v":8.1818181818181804E-2},{"$f":"HLOOKUP('III Tool Overview'!$H$6,LookUpData_Pop!$B$1:$AV$269,LookUpData_Pop!BB214,FALSE)/5","v":341.4},{"$f":"'III Tool Overview'!$H$9/110","v":0},{"$f":"IF('III Tool Overview'!$H$10=\"Even distribution\",Targeting!C218,IF('III Tool Overview'!$H$10=\"Targetting to Q1\",Targeting!D218,IF('III Tool Overview'!$H$10=\"Targetting to Q1 & Q2\",Targeting!E218,IF('III Tool Overview'!$H$10=\"No variation in price elasticity\",Targeting!G218))))","v":19.963636363636361},{"$f":"IF('III Tool Overview'!$H$6=\"Western Isles Health Board\",0,IF('III Tool Overview'!$H$6=\"Eilean Siar Local Authority\",0,new_ci(2,B220,C220,D220,$C$1,G220,1,F220,E220*F220)))","v":6.2180179426022317E-2},{"$f":"IF('III Tool Overview'!$H$6=\"Western Isles Health Board\",0,IF('III Tool Overview'!$H$6=\"Eilean Siar Local Authority\",0,new_ci(2,B220,C220,D220,$C$1,G220+H220,1,F220,E220*F220)))","v":6.2148347581082383E-2},{"$f":"IF('III Tool Overview'!$H$6=\"Western Isles Health Board\",0,IF('III Tool Overview'!$H$6=\"Eilean Siar Local Authority\",0,new_ci(5,B220,C220,D220,$C$1,G220,1,F220,E220*F220)))","v":0.27610363819150496},{"$f":"IF('III Tool Overview'!$H$6=\"Western Isles Health Board\",0,IF('III Tool Overview'!$H$6=\"Eilean Siar Local Authority\",0,new_ci(5,B220,C220,D220,$C$1,G220+H220,1,F220,E220*F220)))","v":0.27596322876102475},{"$f":"IF('III Tool Overview'!$H$6=\"Western Isles Health Board\",0,IF('III Tool Overview'!$H$6=\"Eilean Siar Local Authority\",0,new_ci(10,B220,C220,D220,$C$1,G220,1,F220,E220*F220)))","v":0.74490050547112674},{"$f":"IF('III Tool Overview'!$H$6=\"Western Isles Health Board\",0,IF('III Tool Overview'!$H$6=\"Eilean Siar Local Authority\",0,new_ci(10,B220,C220,D220,$C$1,G220+H220,1,F220,E220*F220)))","v":0.74452634691170483},{"$f":"IF('III Tool Overview'!$H$6=\"Western Isles Health Board\",0,IF('III Tool Overview'!$H$6=\"Eilean Siar Local Authority\",0,new_ci(20,B220,C220,D220,$C$1,G220,1,F220,E220*F220)))","v":2.32288493548532},{"$f":"IF('III Tool Overview'!$H$6=\"Western Isles Health Board\",0,IF('III Tool Overview'!$H$6=\"Eilean Siar Local Authority\",0,new_ci(20,B220,C220,D220,$C$1,G220+H220,1,F220,E220*F220)))","v":2.3217530902096231},{"$f":"IF('III Tool Overview'!$H$6=\"Western Isles Health Board\",0,IF('III Tool Overview'!$H$6=\"Eilean Siar Local Authority\",0,new_yll(2,B220,C220,D220,$C$1,G220,1,F220,E220*F220)))","v":5.0365945335078077},{"$f":"IF('III Tool Overview'!$H$6=\"Western Isles Health Board\",0,IF('III Tool Overview'!$H$6=\"Eilean Siar Local Authority\",0,new_yll(2,B220,C220,D220,$C$1,G220+H220,1,F220,E220*F220)))","v":5.0340161540676727},{"$f":"Q220-R220","v":2.578379440135059E-3},{"$f":"IF('III Tool Overview'!$H$6=\"Western Isles Health Board\",0,IF('III Tool Overview'!$H$6=\"Eilean Siar Local Authority\",0,new_yll(5,B220,C220,D220,$C$1,G220,1,F220,E220*F220)))","v":21.926898867843342},{"$f":"IF('III Tool Overview'!$H$6=\"Western Isles Health Board\",0,IF('III Tool Overview'!$H$6=\"Eilean Siar Local Authority\",0,new_yll(5,B220,C220,D220,$C$1,G220+H220,1,F220,E220*F220)))","v":21.915747450546462},{"$f":"T220-U220","v":1.1151417296879629E-2},{"$f":"IF('III Tool Overview'!$H$6=\"Western Isles Health Board\",0,IF('III Tool Overview'!$H$6=\"Eilean Siar Local Authority\",0,new_yll(10,B220,C220,D220,$C$1,G220,1,F220,E220*F220)))","v":57.0233747106073},{"$f":"IF('III Tool Overview'!$H$6=\"Western Isles Health Board\",0,IF('III Tool Overview'!$H$6=\"Eilean Siar Local Authority\",0,new_yll(10,B220,C220,D220,$C$1,G220+H220,1,F220,E220*F220)))","v":56.994721599520695},{"$f":"W220-X220","v":2.8653111086605065E-2},{"$f":"IF('III Tool Overview'!$H$6=\"Western Isles Health Board\",0,IF('III Tool Overview'!$H$6=\"Eilean Siar Local Authority\",0,new_yll(20,B220,C220,D220,$C$1,G220,1,F220,E220*F220)))","v":162.66620984234498},{"$f":"IF('III Tool Overview'!$H$6=\"Western Isles Health Board\",0,IF('III Tool Overview'!$H$6=\"Eilean Siar Local Authority\",0,new_yll(20,B220,C220,D220,$C$1,G220+H220,1,F220,E220*F220)))","v":162.58680024705896},{"$f":"Z220-AA220","v":7.9409595286023205E-2},{"$f":"IF('III Tool Overview'!$H$6=\"Western Isles Health Board\",0,IF('III Tool Overview'!$H$6=\"Eilean Siar Local Authority\",0,hosp_count(2,B220,C220,D220,$C$1,G220,1,F220,E220*F220)))","v":30.294130075454728},{"$f":"IF('III Tool Overview'!$H$6=\"Western Isles Health Board\",0,IF('III Tool Overview'!$H$6=\"Eilean Siar Local Authority\",0,hosp_count(2,B220,C220,D220,$C$1,G220+H220,1,F220,E220*F220)))","v":30.28505288295538},{"$f":"AC220-AD220","v":9.077192499347575E-3},{"$f":"IF('III Tool Overview'!$H$6=\"Western Isles Health Board\",0,IF('III Tool Overview'!$H$6=\"Eilean Siar Local Authority\",0,hosp_count(5,B220,C220,D220,$C$1,G220,1,F220,E220*F220)))","v":126.06586845887314},{"$f":"IF('III Tool Overview'!$H$6=\"Western Isles Health Board\",0,IF('III Tool Overview'!$H$6=\"Eilean Siar Local Authority\",0,hosp_count(5,B220,C220,D220,$C$1,G220+H220,1,F220,E220*F220)))","v":126.02836772393196},{"$f":"AF220-AG220","v":3.7500734941176006E-2},{"$f":"IF('III Tool Overview'!$H$6=\"Western Isles Health Board\",0,IF('III Tool Overview'!$H$6=\"Eilean Siar Local Authority\",0,hosp_count(10,B220,C220,D220,$C$1,G220,1,F220,E220*F220)))","v":303.28872510164842},{"$f":"IF('III Tool Overview'!$H$6=\"Western Isles Health Board\",0,IF('III Tool Overview'!$H$6=\"Eilean Siar Local Authority\",0,hosp_count(10,B220,C220,D220,$C$1,G220+H220,1,F220,E220*F220)))","v":303.19965787522096},{"$f":"AI220-AJ220","v":8.90672264274599E-2},{"$f":"IF('III Tool Overview'!$H$6=\"Western Isles Health Board\",0,IF('III Tool Overview'!$H$6=\"Eilean Siar Local Authority\",0,hosp_count(20,B220,C220,D220,$C$1,G220,1,F220,E220*F220)))","v":734.65865736790749},{"$f":"IF('III Tool Overview'!$H$6=\"Western Isles Health Board\",0,IF('III Tool Overview'!$H$6=\"Eilean Siar Local Authority\",0,hosp_count(20,B220,C220,D220,$C$1,G220+H220,1,F220,E220*F220)))","v":734.44913063449815},{"$f":"AL220-AM220","v":0.2095267334093478},null,0.5,5]
["Female 20-24",22.5,"female",4,{"$f":"HLOOKUP('III Tool Overview'!$H$6,Prevalence!$B$2:$AV$268,Prevalence!AW210,FALSE)","v":8.1818181818181804E-2},{"$f":"HLOOKUP('III Tool Overview'!$H$6,LookUpData_Pop!$B$1:$AV$269,LookUpData_Pop!BB215,FALSE)/5","v":240.6},{"$f":"'III Tool Overview'!$H$9/110","v":0},{"$f":"IF('III Tool Overview'!$H$10=\"Even distribution\",Targeting!C219,IF('III Tool Overview'!$H$10=\"Targetting to Q1\",Targeting!D219,IF('III Tool Overview'!$H$10=\"Targetting to Q1 & Q2\",Targeting!E219,IF('III Tool Overview'!$H$10=\"No variation in price elasticity\",Targeting!G219))))","v":19.439999999999998},{"$f":"IF('III Tool Overview'!$H$6=\"Western Isles Health Board\",0,IF('III Tool Overview'!$H$6=\"Eilean Siar Local Authority\",0,new_ci(2,B221,C221,D221,$C$1,G221,1,F221,E221*F221)))","v":6.081207943405309E-2},{"$f":"IF('III Tool Overview'!$H$6=\"Western Isles Health Board\",0,IF('III Tool Overview'!$H$6=\"Eilean Siar Local Authority\",0,new_ci(2,B221,C221,D221,$C$1,G221+H221,1,F221,E221*F221)))","v":6.077017198713186E-2},{"$f":"IF('III Tool Overview'!$H$6=\"Western Isles Health Board\",0,IF('III Tool Overview'!$H$6=\"Eilean Siar Local Authority\",0,new_ci(5,B221,C221,D221,$C$1,G221,1,F221,E221*F221)))","v":0.26999256090371204},{"$f":"IF('III Tool Overview'!$H$6=\"Western Isles Health Board\",0,IF('III Tool Overview'!$H$6=\"Eilean Siar Local Authority\",0,new_ci(5,B221,C221,D221,$C$1,G221+H221,1,F221,E221*F221)))","v":0.26980780001347948},{"$f":"IF('III Tool Overview'!$H$6=\"Western Isles Health Board\",0,IF('III Tool Overview'!$H$6=\"Eilean Siar Local Authority\",0,new_ci(10,B221,C221,D221,$C$1,G221,1,F221,E221*F221)))","v":0.72819939837287506},{"$f":"IF('III Tool Overview'!$H$6=\"Western Isles Health Board\",0,IF('III Tool Overview'!$H$6=\"Eilean Siar Local Authority\",0,new_ci(10,B221,C221,D221,$C$1,G221+H221,1,F221,E221*F221)))","v":0.72770758946215486},{"$f":"IF('III Tool Overview'!$H$6=\"Western Isles Health Board\",0,IF('III Tool Overview'!$H$6=\"Eilean Siar Local Authority\",0,new_ci(20,B221,C221,D221,$C$1,G221,1,F221,E221*F221)))","v":2.2685568126153566},{"$f":"IF('III Tool Overview'!$H$6=\"Western Isles Health Board\",0,IF('III Tool Overview'!$H$6=\"Eilean Siar Local Authority\",0,new_ci(20,B221,C221,D221,$C$1,G221+H221,1,F221,E221*F221)))","v":2.2670745332324831},{"$f":"IF('III Tool Overview'!$H$6=\"Western Isles Health Board\",0,IF('III Tool Overview'!$H$6=\"Eilean Siar Local Authority\",0,new_yll(2,B221,C221,D221,$C$1,G221,1,F221,E221*F221)))","v":4.6825301164220878},{"$f":"IF('III Tool Overview'!$H$6=\"Western Isles Health Board\",0,IF('III Tool Overview'!$H$6=\"Eilean Siar Local Authority\",0,new_yll(2,B221,C221,D221,$C$1,G221+H221,1,F221,E221*F221)))","v":4.6793032430091532},3.2268734129345944E-3,{"$f":"IF('III Tool Overview'!$H$6=\"Western Isles Health Board\",0,IF('III Tool Overview'!$H$6=\"Eilean Siar Local Authority\",0,new_yll(5,B221,C221,D221,$C$1,G221,1,F221,E221*F221)))","v":20.361643688035674},{"$f":"IF('III Tool Overview'!$H$6=\"Western Isles Health Board\",0,IF('III Tool Overview'!$H$6=\"Eilean Siar Local Authority\",0,new_yll(5,B221,C221,D221,$C$1,G221+H221,1,F221,E221*F221)))","v":20.34770881555259},{"$f":"T221-U221","v":1.3934872483083893E-2},{"$f":"IF('III Tool Overview'!$H$6=\"Western Isles Health Board\",0,IF('III Tool Overview'!$H$6=\"Eilean Siar Local Authority\",0,new_yll(10,B221,C221,D221,$C$1,G221,1,F221,E221*F221)))","v":52.832576936263052},{"$f":"IF('III Tool Overview'!$H$6=\"Western Isles Health Board\",0,IF('III Tool Overview'!$H$6=\"Eilean Siar Local Authority\",0,new_yll(10,B221,C221,D221,$C$1,G221+H221,1,F221,E221*F221)))","v":52.796880122814244},{"$f":"W221-X221","v":3.5696813448808484E-2},{"$f":"IF('III Tool Overview'!$H$6=\"Western Isles Health Board\",0,IF('III Tool Overview'!$H$6=\"Eilean Siar Local Authority\",0,new_yll(20,B221,C221,D221,$C$1,G221,1,F221,E221*F221)))","v":149.79741184941633},{"$f":"IF('III Tool Overview'!$H$6=\"Western Isles Health Board\",0,IF('III Tool Overview'!$H$6=\"Eilean Siar Local Authority\",0,new_yll(20,B221,C221,D221,$C$1,G221+H221,1,F221,E221*F221)))","v":149.69932044149471},{"$f":"Z221-AA221","v":9.809140792162907E-2},{"$f":"IF('III Tool Overview'!$H$6=\"Western Isles Health Board\",0,IF('III Tool Overview'!$H$6=\"Eilean Siar Local Authority\",0,hosp_count(2,B221,C221,D221,$C$1,G221,1,F221,E221*F221)))","v":23.561600514563633},{"$f":"IF('III Tool Overview'!$H$6=\"Western Isles Health Board\",0,IF('III Tool Overview'!$H$6=\"Eilean Siar Local Authority\",0,hosp_count(2,B221,C221,D221,$C$1,G221+H221,1,F221,E221*F221)))","v":23.552089016366018},{"$f":"AC221-AD221","v":9.511498197614543E-3},{"$f":"IF('III Tool Overview'!$H$6=\"Western Isles Health Board\",0,IF('III Tool Overview'!$H$6=\"Eilean Siar Local Authority\",0,hosp_count(5,B221,C221,D221,$C$1,G221,1,F221,E221*F221)))","v":98.037524868652199},{"$f":"IF('III Tool Overview'!$H$6=\"Western Isles Health Board\",0,IF('III Tool Overview'!$H$6=\"Eilean Siar Local Authority\",0,hosp_count(5,B221,C221,D221,$C$1,G221+H221,1,F221,E221*F221)))","v":97.998250030533725},{"$f":"AF221-AG221","v":3.9274838118473099E-2},{"$f":"IF('III Tool Overview'!$H$6=\"Western Isles Health Board\",0,IF('III Tool Overview'!$H$6=\"Eilean Siar Local Authority\",0,hosp_count(10,B221,C221,D221,$C$1,G221,1,F221,E221*F221)))","v":235.80003697437709},{"$f":"IF('III Tool Overview'!$H$6=\"Western Isles Health Board\",0,IF('III Tool Overview'!$H$6=\"Eilean Siar Local Authority\",0,hosp_count(10,B221,C221,D221,$C$1,G221+H221,1,F221,E221*F221)))","v":235.70685583553441},{"$f":"AI221-AJ221","v":9.3181138842680866E-2},{"$f":"IF('III Tool Overview'!$H$6=\"Western Isles Health Board\",0,IF('III Tool Overview'!$H$6=\"Eilean Siar Local Authority\",0,hosp_count(20,B221,C221,D221,$C$1,G221,1,F221,E221*F221)))","v":570.74488894348667},{"$f":"IF('III Tool Overview'!$H$6=\"Western Isles Health Board\",0,IF('III Tool Overview'!$H$6=\"Eilean Siar Local Authority\",0,hosp_count(20,B221,C221,D221,$C$1,G221+H221,1,F221,E221*F221)))","v":570.52640825518722},{"$f":"AL221-AM221","v":0.21848068829945078},null,0.5,5]
["Female 25-29",27.5,"female",4,{"$f":"HLOOKUP('III Tool Overview'!$H$6,Prevalence!$B$2:$AV$268,Prevalence!AW211,FALSE)","v":9.5454545454545459E-2},{"$f":"HLOOKUP('III Tool Overview'!$H$6,LookUpData_Pop!$B$1:$AV$269,LookUpData_Pop!BB216,FALSE)/5","v":244.2},{"$f":"'III Tool Overview'!$H$9/110","v":0},{"$f":"IF('III Tool Overview'!$H$10=\"Even distribution\",Targeting!C220,IF('III Tool Overview'!$H$10=\"Targetting to Q1\",Targeting!D220,IF('III Tool Overview'!$H$10=\"Targetting to Q1 & Q2\",Targeting!E220,IF('III Tool Overview'!$H$10=\"No variation in price elasticity\",Targeting!G220))))","v":26.116363636363641},{"$f":"IF('III Tool Overview'!$H$6=\"Western Isles Health Board\",0,IF('III Tool Overview'!$H$6=\"Eilean Siar Local Authority\",0,new_ci(2,B222,C222,D222,$C$1,G222,1,F222,E222*F222)))","v":0.10089851109538928},{"$f":"IF('III Tool Overview'!$H$6=\"Western Isles Health Board\",0,IF('III Tool Overview'!$H$6=\"Eilean Siar Local Authority\",0,new_ci(2,B222,C222,D222,$C$1,G222+H222,1,F222,E222*F222)))","v":0.10080596159454669},{"$f":"IF('III Tool Overview'!$H$6=\"Western Isles Health Board\",0,IF('III Tool Overview'!$H$6=\"Eilean Siar Local Authority\",0,new_ci(5,B222,C222,D222,$C$1,G222,1,F222,E222*F222)))","v":0.44782870009005471},{"$f":"IF('III Tool Overview'!$H$6=\"Western Isles Health Board\",0,IF('III Tool Overview'!$H$6=\"Eilean Siar Local Authority\",0,new_ci(5,B222,C222,D222,$C$1,G222+H222,1,F222,E222*F222)))","v":0.4474211159517103},{"$f":"IF('III Tool Overview'!$H$6=\"Western Isles Health Board\",0,IF('III Tool Overview'!$H$6=\"Eilean Siar Local Authority\",0,new_ci(10,B222,C222,D222,$C$1,G222,1,F222,E222*F222)))","v":1.2070217307024733},{"$f":"IF('III Tool Overview'!$H$6=\"Western Isles Health Board\",0,IF('III Tool Overview'!$H$6=\"Eilean Siar Local Authority\",0,new_ci(10,B222,C222,D222,$C$1,G222+H222,1,F222,E222*F222)))","v":1.2059393997124075},{"$f":"IF('III Tool Overview'!$H$6=\"Western Isles Health Board\",0,IF('III Tool Overview'!$H$6=\"Eilean Siar Local Authority\",0,new_ci(20,B222,C222,D222,$C$1,G222,1,F222,E222*F222)))","v":3.751632874130733},{"$f":"IF('III Tool Overview'!$H$6=\"Western Isles Health Board\",0,IF('III Tool Overview'!$H$6=\"Eilean Siar Local Authority\",0,new_ci(20,B222,C222,D222,$C$1,G222+H222,1,F222,E222*F222)))","v":3.7483971657054891},{"$f":"IF('III Tool Overview'!$H$6=\"Western Isles Health Board\",0,IF('III Tool Overview'!$H$6=\"Eilean Siar Local Authority\",0,new_yll(2,B222,C222,D222,$C$1,G222,1,F222,E222*F222)))","v":7.1637942877726388},{"$f":"IF('III Tool Overview'!$H$6=\"Western Isles Health Board\",0,IF('III Tool Overview'!$H$6=\"Eilean Siar Local Authority\",0,new_yll(2,B222,C222,D222,$C$1,G222+H222,1,F222,E222*F222)))","v":7.1572232732128152},6.5710145598236736E-3,{"$f":"IF('III Tool Overview'!$H$6=\"Western Isles Health Board\",0,IF('III Tool Overview'!$H$6=\"Eilean Siar Local Authority\",0,new_yll(5,B222,C222,D222,$C$1,G222,1,F222,E222*F222)))","v":31.08639762295369},{"$f":"IF('III Tool Overview'!$H$6=\"Western Isles Health Board\",0,IF('III Tool Overview'!$H$6=\"Eilean Siar Local Authority\",0,new_yll(5,B222,C222,D222,$C$1,G222+H222,1,F222,E222*F222)))","v":31.058102316426837},2.8295306526853636E-2,{"$f":"IF('III Tool Overview'!$H$6=\"Western Isles Health Board\",0,IF('III Tool Overview'!$H$6=\"Eilean Siar Local Authority\",0,new_yll(10,B222,C222,D222,$C$1,G222,1,F222,E222*F222)))","v":80.332040240901904},{"$f":"IF('III Tool Overview'!$H$6=\"Western Isles Health Board\",0,IF('III Tool Overview'!$H$6=\"Eilean Siar Local Authority\",0,new_yll(10,B222,C222,D222,$C$1,G222+H222,1,F222,E222*F222)))","v":80.259969612590808},7.2070628311095675E-2,{"$f":"IF('III Tool Overview'!$H$6=\"Western Isles Health Board\",0,IF('III Tool Overview'!$H$6=\"Eilean Siar Local Authority\",0,new_yll(20,B222,C222,D222,$C$1,G222,1,F222,E222*F222)))","v":225.25602918383828},{"$f":"IF('III Tool Overview'!$H$6=\"Western Isles Health Board\",0,IF('III Tool Overview'!$H$6=\"Eilean Siar Local Authority\",0,new_yll(20,B222,C222,D222,$C$1,G222+H222,1,F222,E222*F222)))","v":225.06119757308764},0.19483161075064004,{"$f":"IF('III Tool Overview'!$H$6=\"Western Isles Health Board\",0,IF('III Tool Overview'!$H$6=\"Eilean Siar Local Authority\",0,hosp_count(2,B222,C222,D222,$C$1,G222,1,F222,E222*F222)))","v":27.725291388781493},{"$f":"IF('III Tool Overview'!$H$6=\"Western Isles Health Board\",0,IF('III Tool Overview'!$H$6=\"Eilean Siar Local Authority\",0,hosp_count(2,B222,C222,D222,$C$1,G222+H222,1,F222,E222*F222)))","v":27.710284093947021},1.5007294834472162E-2,{"$f":"IF('III Tool Overview'!$H$6=\"Western Isles Health Board\",0,IF('III Tool Overview'!$H$6=\"Eilean Siar Local Authority\",0,hosp_count(5,B222,C222,D222,$C$1,G222,1,F222,E222*F222)))","v":115.33087710042663},{"$f":"IF('III Tool Overview'!$H$6=\"Western Isles Health Board\",0,IF('III Tool Overview'!$H$6=\"Eilean Siar Local Authority\",0,hosp_count(5,B222,C222,D222,$C$1,G222+H222,1,F222,E222*F222)))","v":115.26897911182948},6.1897988597152676E-2,{"$f":"IF('III Tool Overview'!$H$6=\"Western Isles Health Board\",0,IF('III Tool Overview'!$H$6=\"Eilean Siar Local Authority\",0,hosp_count(10,B222,C222,D222,$C$1,G222,1,F222,E222*F222)))","v":277.23709045386516},{"$f":"IF('III Tool Overview'!$H$6=\"Western Isles Health Board\",0,IF('III Tool Overview'!$H$6=\"Eilean Siar Local Authority\",0,hosp_count(10,B222,C222,D222,$C$1,G222+H222,1,F222,E222*F222)))","v":277.09058107239872},0.14650938146644421,{"$f":"IF('III Tool Overview'!$H$6=\"Western Isles Health Board\",0,IF('III Tool Overview'!$H$6=\"Eilean Siar Local Authority\",0,hosp_count(20,B222,C222,D222,$C$1,G222,1,F222,E222*F222)))","v":669.87102582689511},{"$f":"IF('III Tool Overview'!$H$6=\"Western Isles Health Board\",0,IF('III Tool Overview'!$H$6=\"Eilean Siar Local Authority\",0,hosp_count(20,B222,C222,D222,$C$1,G222+H222,1,F222,E222*F222)))","v":669.53000364761863},0.34102217927647871,null,0.5,5]
["Female 30-34",32.5,"female",4,{"$f":"HLOOKUP('III Tool Overview'!$H$6,Prevalence!$B$2:$AV$268,Prevalence!AW212,FALSE)","v":9.5454545454545459E-2},{"$f":"HLOOKUP('III Tool Overview'!$H$6,LookUpData_Pop!$B$1:$AV$269,LookUpData_Pop!BB217,FALSE)/5","v":285.2},{"$f":"'III Tool Overview'!$H$9/110","v":0},{"$f":"IF('III Tool Overview'!$H$10=\"Even distribution\",Targeting!C221,IF('III Tool Overview'!$H$10=\"Targetting to Q1\",Targeting!D221,IF('III Tool Overview'!$H$10=\"Targetting to Q1 & Q2\",Targeting!E221,IF('III Tool Overview'!$H$10=\"No variation in price elasticity\",Targeting!G221))))","v":26.421818181818185},{"$f":"IF('III Tool Overview'!$H$6=\"Western Isles Health Board\",0,IF('III Tool Overview'!$H$6=\"Eilean Siar Local Authority\",0,new_ci(2,B223,C223,D223,$C$1,G223,1,F223,E223*F223)))","v":0.16352066763064041},{"$f":"IF('III Tool Overview'!$H$6=\"Western Isles Health Board\",0,IF('III Tool Overview'!$H$6=\"Eilean Siar Local Authority\",0,new_ci(2,B223,C223,D223,$C$1,G223+H223,1,F223,E223*F223)))","v":0.16339234087178164},{"$f":"IF('III Tool Overview'!$H$6=\"Western Isles Health Board\",0,IF('III Tool Overview'!$H$6=\"Eilean Siar Local Authority\",0,new_ci(5,B223,C223,D223,$C$1,G223,1,F223,E223*F223)))","v":0.72554914015397098},{"$f":"IF('III Tool Overview'!$H$6=\"Western Isles Health Board\",0,IF('III Tool Overview'!$H$6=\"Eilean Siar Local Authority\",0,new_ci(5,B223,C223,D223,$C$1,G223+H223,1,F223,E223*F223)))","v":0.72498462358467075},{"$f":"IF('III Tool Overview'!$H$6=\"Western Isles Health Board\",0,IF('III Tool Overview'!$H$6=\"Eilean Siar Local Authority\",0,new_ci(10,B223,C223,D223,$C$1,G223,1,F223,E223*F223)))","v":1.9542437518781752},{"$f":"IF('III Tool Overview'!$H$6=\"Western Isles Health Board\",0,IF('III Tool Overview'!$H$6=\"Eilean Siar Local Authority\",0,new_ci(10,B223,C223,D223,$C$1,G223+H223,1,F223,E223*F223)))","v":1.9527483488189112},{"$f":"IF('III Tool Overview'!$H$6=\"Western Isles Health Board\",0,IF('III Tool Overview'!$H$6=\"Eilean Siar Local Authority\",0,new_ci(20,B223,C223,D223,$C$1,G223,1,F223,E223*F223)))","v":6.0604543755361115},{"$f":"IF('III Tool Overview'!$H$6=\"Western Isles Health Board\",0,IF('III Tool Overview'!$H$6=\"Eilean Siar Local Authority\",0,new_ci(20,B223,C223,D223,$C$1,G223+H223,1,F223,E223*F223)))","v":6.0560205018665982},{"$f":"IF('III Tool Overview'!$H$6=\"Western Isles Health Board\",0,IF('III Tool Overview'!$H$6=\"Eilean Siar Local Authority\",0,new_yll(2,B223,C223,D223,$C$1,G223,1,F223,E223*F223)))","v":10.955884731252908},{"$f":"IF('III Tool Overview'!$H$6=\"Western Isles Health Board\",0,IF('III Tool Overview'!$H$6=\"Eilean Siar Local Authority\",0,new_yll(2,B223,C223,D223,$C$1,G223+H223,1,F223,E223*F223)))","v":10.94728683840937},8.5978928435377355E-3,{"$f":"IF('III Tool Overview'!$H$6=\"Western Isles Health Board\",0,IF('III Tool Overview'!$H$6=\"Eilean Siar Local Authority\",0,new_yll(5,B223,C223,D223,$C$1,G223,1,F223,E223*F223)))","v":47.462572620932129},{"$f":"IF('III Tool Overview'!$H$6=\"Western Isles Health Board\",0,IF('III Tool Overview'!$H$6=\"Eilean Siar Local Authority\",0,new_yll(5,B223,C223,D223,$C$1,G223+H223,1,F223,E223*F223)))","v":47.425640308566557},3.6932312365571818E-2,{"$f":"IF('III Tool Overview'!$H$6=\"Western Isles Health Board\",0,IF('III Tool Overview'!$H$6=\"Eilean Siar Local Authority\",0,new_yll(10,B223,C223,D223,$C$1,G223,1,F223,E223*F223)))","v":122.24867673563925},{"$f":"IF('III Tool Overview'!$H$6=\"Western Isles Health Board\",0,IF('III Tool Overview'!$H$6=\"Eilean Siar Local Authority\",0,new_yll(10,B223,C223,D223,$C$1,G223+H223,1,F223,E223*F223)))","v":122.1550733174182},9.3603418221050561E-2,{"$f":"IF('III Tool Overview'!$H$6=\"Western Isles Health Board\",0,IF('III Tool Overview'!$H$6=\"Eilean Siar Local Authority\",0,new_yll(20,B223,C223,D223,$C$1,G223,1,F223,E223*F223)))","v":339.70114117364608},{"$f":"IF('III Tool Overview'!$H$6=\"Western Isles Health Board\",0,IF('III Tool Overview'!$H$6=\"Eilean Siar Local Authority\",0,new_yll(20,B223,C223,D223,$C$1,G223+H223,1,F223,E223*F223)))","v":339.45173239971558},0.24940877393049732,{"$f":"IF('III Tool Overview'!$H$6=\"Western Isles Health Board\",0,IF('III Tool Overview'!$H$6=\"Eilean Siar Local Authority\",0,hosp_count(2,B223,C223,D223,$C$1,G223,1,F223,E223*F223)))","v":35.735032137350416},{"$f":"IF('III Tool Overview'!$H$6=\"Western Isles Health Board\",0,IF('III Tool Overview'!$H$6=\"Eilean Siar Local Authority\",0,hosp_count(2,B223,C223,D223,$C$1,G223+H223,1,F223,E223*F223)))","v":35.71847397482356},1.6558162526855824E-2,{"$f":"IF('III Tool Overview'!$H$6=\"Western Isles Health Board\",0,IF('III Tool Overview'!$H$6=\"Eilean Siar Local Authority\",0,hosp_count(5,B223,C223,D223,$C$1,G223,1,F223,E223*F223)))","v":148.60946058018894},{"$f":"IF('III Tool Overview'!$H$6=\"Western Isles Health Board\",0,IF('III Tool Overview'!$H$6=\"Eilean Siar Local Authority\",0,hosp_count(5,B223,C223,D223,$C$1,G223+H223,1,F223,E223*F223)))","v":148.54124452225128},6.821605793766139E-2,{"$f":"IF('III Tool Overview'!$H$6=\"Western Isles Health Board\",0,IF('III Tool Overview'!$H$6=\"Eilean Siar Local Authority\",0,hosp_count(10,B223,C223,D223,$C$1,G223,1,F223,E223*F223)))","v":357.03299304305466},{"$f":"IF('III Tool Overview'!$H$6=\"Western Isles Health Board\",0,IF('III Tool Overview'!$H$6=\"Eilean Siar Local Authority\",0,hosp_count(10,B223,C223,D223,$C$1,G223+H223,1,F223,E223*F223)))","v":356.87191608040331},0.16107696265135019,{"$f":"IF('III Tool Overview'!$H$6=\"Western Isles Health Board\",0,IF('III Tool Overview'!$H$6=\"Eilean Siar Local Authority\",0,hosp_count(20,B223,C223,D223,$C$1,G223,1,F223,E223*F223)))","v":861.18625433224383},{"$f":"IF('III Tool Overview'!$H$6=\"Western Isles Health Board\",0,IF('III Tool Overview'!$H$6=\"Eilean Siar Local Authority\",0,hosp_count(20,B223,C223,D223,$C$1,G223+H223,1,F223,E223*F223)))","v":860.81409387647705},0.3721604557667888,null,0.5,5]
["Female 35-39",37.5,"female",4,{"$f":"HLOOKUP('III Tool Overview'!$H$6,Prevalence!$B$2:$AV$268,Prevalence!AW213,FALSE)","v":0.14318181818181816},{"$f":"HLOOKUP('III Tool Overview'!$H$6,LookUpData_Pop!$B$1:$AV$269,LookUpData_Pop!BB218,FALSE)/5","v":378.8},{"$f":"'III Tool Overview'!$H$9/110","v":0},{"$f":"IF('III Tool Overview'!$H$10=\"Even distribution\",Targeting!C222,IF('III Tool Overview'!$H$10=\"Targetting to Q1\",Targeting!D222,IF('III Tool Overview'!$H$10=\"Targetting to Q1 & Q2\",Targeting!E222,IF('III Tool Overview'!$H$10=\"No variation in price elasticity\",Targeting!G222))))","v":41.923636363636362},{"$f":"IF('III Tool Overview'!$H$6=\"Western Isles Health Board\",0,IF('III Tool Overview'!$H$6=\"Eilean Siar Local Authority\",0,new_ci(2,B224,C224,D224,$C$1,G224,1,F224,E224*F224)))","v":0.35499565664820593},{"$f":"IF('III Tool Overview'!$H$6=\"Western Isles Health Board\",0,IF('III Tool Overview'!$H$6=\"Eilean Siar Local Authority\",0,new_ci(2,B224,C224,D224,$C$1,G224+H224,1,F224,E224*F224)))","v":0.35467440822715329},{"$f":"IF('III Tool Overview'!$H$6=\"Western Isles Health Board\",0,IF('III Tool Overview'!$H$6=\"Eilean Siar Local Authority\",0,new_ci(5,B224,C224,D224,$C$1,G224,1,F224,E224*F224)))","v":1.5739599501201003},{"$f":"IF('III Tool Overview'!$H$6=\"Western Isles Health Board\",0,IF('III Tool Overview'!$H$6=\"Eilean Siar Local Authority\",0,new_ci(5,B224,C224,D224,$C$1,G224+H224,1,F224,E224*F224)))","v":1.5725498634768105},{"$f":"IF('III Tool Overview'!$H$6=\"Western Isles Health Board\",0,IF('III Tool Overview'!$H$6=\"Eilean Siar Local Authority\",0,new_ci(10,B224,C224,D224,$C$1,G224,1,F224,E224*F224)))","v":4.2325071965702241},{"$f":"IF('III Tool Overview'!$H$6=\"Western Isles Health Board\",0,IF('III Tool Overview'!$H$6=\"Eilean Siar Local Authority\",0,new_ci(10,B224,C224,D224,$C$1,G224+H224,1,F224,E224*F224)))","v":4.2287898511934161},{"$f":"IF('III Tool Overview'!$H$6=\"Western Isles Health Board\",0,IF('III Tool Overview'!$H$6=\"Eilean Siar Local Authority\",0,new_ci(20,B224,C224,D224,$C$1,G224,1,F224,E224*F224)))","v":13.054281466714489},{"$f":"IF('III Tool Overview'!$H$6=\"Western Isles Health Board\",0,IF('III Tool Overview'!$H$6=\"Eilean Siar Local Authority\",0,new_ci(20,B224,C224,D224,$C$1,G224+H224,1,F224,E224*F224)))","v":13.043437599544518},{"$f":"IF('III Tool Overview'!$H$6=\"Western Isles Health Board\",0,IF('III Tool Overview'!$H$6=\"Eilean Siar Local Authority\",0,new_yll(2,B224,C224,D224,$C$1,G224,1,F224,E224*F224)))","v":21.654735055540563},{"$f":"IF('III Tool Overview'!$H$6=\"Western Isles Health Board\",0,IF('III Tool Overview'!$H$6=\"Eilean Siar Local Authority\",0,new_yll(2,B224,C224,D224,$C$1,G224+H224,1,F224,E224*F224)))","v":21.635138901856351},1.959615368421197E-2,{"$f":"IF('III Tool Overview'!$H$6=\"Western Isles Health Board\",0,IF('III Tool Overview'!$H$6=\"Eilean Siar Local Authority\",0,new_yll(5,B224,C224,D224,$C$1,G224,1,F224,E224*F224)))","v":93.519456624029729},{"$f":"IF('III Tool Overview'!$H$6=\"Western Isles Health Board\",0,IF('III Tool Overview'!$H$6=\"Eilean Siar Local Authority\",0,new_yll(5,B224,C224,D224,$C$1,G224+H224,1,F224,E224*F224)))","v":93.435662672580136},8.3793951449592896E-2,{"$f":"IF('III Tool Overview'!$H$6=\"Western Isles Health Board\",0,IF('III Tool Overview'!$H$6=\"Eilean Siar Local Authority\",0,new_yll(10,B224,C224,D224,$C$1,G224,1,F224,E224*F224)))","v":239.38758439500646},{"$f":"IF('III Tool Overview'!$H$6=\"Western Isles Health Board\",0,IF('III Tool Overview'!$H$6=\"Eilean Siar Local Authority\",0,new_yll(10,B224,C224,D224,$C$1,G224+H224,1,F224,E224*F224)))","v":239.17716214900724},0.21042224599921155,{"$f":"IF('III Tool Overview'!$H$6=\"Western Isles Health Board\",0,IF('III Tool Overview'!$H$6=\"Eilean Siar Local Authority\",0,new_yll(20,B224,C224,D224,$C$1,G224,1,F224,E224*F224)))","v":653.7099790629419},{"$f":"IF('III Tool Overview'!$H$6=\"Western Isles Health Board\",0,IF('III Tool Overview'!$H$6=\"Eilean Siar Local Authority\",0,new_yll(20,B224,C224,D224,$C$1,G224+H224,1,F224,E224*F224)))","v":653.1642493187511},0.54572974419079401,{"$f":"IF('III Tool Overview'!$H$6=\"Western Isles Health Board\",0,IF('III Tool Overview'!$H$6=\"Eilean Siar Local Authority\",0,hosp_count(2,B224,C224,D224,$C$1,G224,1,F224,E224*F224)))","v":55.027010668608},{"$f":"IF('III Tool Overview'!$H$6=\"Western Isles Health Board\",0,IF('III Tool Overview'!$H$6=\"Eilean Siar Local Authority\",0,hosp_count(2,B224,C224,D224,$C$1,G224+H224,1,F224,E224*F224)))","v":54.996719004654409},3.0291663953590842E-2,{"$f":"IF('III Tool Overview'!$H$6=\"Western Isles Health Board\",0,IF('III Tool Overview'!$H$6=\"Eilean Siar Local Authority\",0,hosp_count(5,B224,C224,D224,$C$1,G224,1,F224,E224*F224)))","v":228.69256692773155},{"$f":"IF('III Tool Overview'!$H$6=\"Western Isles Health Board\",0,IF('III Tool Overview'!$H$6=\"Eilean Siar Local Authority\",0,hosp_count(5,B224,C224,D224,$C$1,G224+H224,1,F224,E224*F224)))","v":228.56805479480025},0.12451213293130081,{"$f":"IF('III Tool Overview'!$H$6=\"Western Isles Health Board\",0,IF('III Tool Overview'!$H$6=\"Eilean Siar Local Authority\",0,hosp_count(10,B224,C224,D224,$C$1,G224,1,F224,E224*F224)))","v":548.70632191157506},{"$f":"IF('III Tool Overview'!$H$6=\"Western Isles Health Board\",0,IF('III Tool Overview'!$H$6=\"Eilean Siar Local Authority\",0,hosp_count(10,B224,C224,D224,$C$1,G224+H224,1,F224,E224*F224)))","v":548.41370331038127},0.29261860119379435,{"$f":"IF('III Tool Overview'!$H$6=\"Western Isles Health Board\",0,IF('III Tool Overview'!$H$6=\"Eilean Siar Local Authority\",0,hosp_count(20,B224,C224,D224,$C$1,G224,1,F224,E224*F224)))","v":1318.1550554647524},{"$f":"IF('III Tool Overview'!$H$6=\"Western Isles Health Board\",0,IF('III Tool Overview'!$H$6=\"Eilean Siar Local Authority\",0,hosp_count(20,B224,C224,D224,$C$1,G224+H224,1,F224,E224*F224)))","v":1317.4887908752901},0.66626458946234379,null,0.5,5]
["Female 40-44",42.5,"female",4,{"$f":"HLOOKUP('III Tool Overview'!$H$6,Prevalence!$B$2:$AV$268,Prevalence!AW214,FALSE)","v":0.14318181818181816},{"$f":"HLOOKUP('III Tool Overview'!$H$6,LookUpData_Pop!$B$1:$AV$269,LookUpData_Pop!BB219,FALSE)/5","v":459.4},{"$f":"'III Tool Overview'!$H$9/110","v":0},{"$f":"IF('III Tool Overview'!$H$10=\"Even distribution\",Targeting!C223,IF('III Tool Overview'!$H$10=\"Targetting to Q1\",Targeting!D223,IF('III Tool Overview'!$H$10=\"Targetting to Q1 & Q2\",Targeting!E223,IF('III Tool Overview'!$H$10=\"No variation in price elasticity\",Targeting!G223))))","v":56.585454545454539},{"$f":"IF('III Tool Overview'!$H$6=\"Western Isles Health Board\",0,IF('III Tool Overview'!$H$6=\"Eilean Siar Local Authority\",0,new_ci(2,B225,C225,D225,$C$1,G225,1,F225,E225*F225)))","v":0.5973605082355985},{"$f":"IF('III Tool Overview'!$H$6=\"Western Isles Health Board\",0,IF('III Tool Overview'!$H$6=\"Eilean Siar Local Authority\",0,new_ci(2,B225,C225,D225,$C$1,G225+H225,1,F225,E225*F225)))","v":0.59675660199390046},{"$f":"IF('III Tool Overview'!$H$6=\"Western Isles Health Board\",0,IF('III Tool Overview'!$H$6=\"Eilean Siar Local Authority\",0,new_ci(5,B225,C225,D225,$C$1,G225,1,F225,E225*F225)))","v":2.6466531103709059},{"$f":"IF('III Tool Overview'!$H$6=\"Western Isles Health Board\",0,IF('III Tool Overview'!$H$6=\"Eilean Siar Local Authority\",0,new_ci(5,B225,C225,D225,$C$1,G225+H225,1,F225,E225*F225)))","v":2.644008654690011},{"$f":"IF('III Tool Overview'!$H$6=\"Western Isles Health Board\",0,IF('III Tool Overview'!$H$6=\"Eilean Siar Local Authority\",0,new_ci(10,B225,C225,D225,$C$1,G225,1,F225,E225*F225)))","v":7.105970575686154},{"$f":"IF('III Tool Overview'!$H$6=\"Western Isles Health Board\",0,IF('III Tool Overview'!$H$6=\"Eilean Siar Local Authority\",0,new_ci(10,B225,C225,D225,$C$1,G225+H225,1,F225,E225*F225)))","v":7.0990355817576862},{"$f":"IF('III Tool Overview'!$H$6=\"Western Isles Health Board\",0,IF('III Tool Overview'!$H$6=\"Eilean Siar Local Authority\",0,new_ci(20,B225,C225,D225,$C$1,G225,1,F225,E225*F225)))","v":21.803056988002769},{"$f":"IF('III Tool Overview'!$H$6=\"Western Isles Health Board\",0,IF('III Tool Overview'!$H$6=\"Eilean Siar Local Authority\",0,new_ci(20,B225,C225,D225,$C$1,G225+H225,1,F225,E225*F225)))","v":21.783182040823839},{"$f":"IF('III Tool Overview'!$H$6=\"Western Isles Health Board\",0,IF('III Tool Overview'!$H$6=\"Eilean Siar Local Authority\",0,new_yll(2,B225,C225,D225,$C$1,G225,1,F225,E225*F225)))","v":34.049548969429111},{"$f":"IF('III Tool Overview'!$H$6=\"Western Isles Health Board\",0,IF('III Tool Overview'!$H$6=\"Eilean Siar Local Authority\",0,new_yll(2,B225,C225,D225,$C$1,G225+H225,1,F225,E225*F225)))","v":34.015126313652324},3.4422655776786826E-2,{"$f":"IF('III Tool Overview'!$H$6=\"Western Isles Health Board\",0,IF('III Tool Overview'!$H$6=\"Eilean Siar Local Authority\",0,new_yll(5,B225,C225,D225,$C$1,G225,1,F225,E225*F225)))","v":146.67021954753091},{"$f":"IF('III Tool Overview'!$H$6=\"Western Isles Health Board\",0,IF('III Tool Overview'!$H$6=\"Eilean Siar Local Authority\",0,new_yll(5,B225,C225,D225,$C$1,G225+H225,1,F225,E225*F225)))","v":146.523646303036},0.14657324449490261,{"$f":"IF('III Tool Overview'!$H$6=\"Western Isles Health Board\",0,IF('III Tool Overview'!$H$6=\"Eilean Siar Local Authority\",0,new_yll(10,B225,C225,D225,$C$1,G225,1,F225,E225*F225)))","v":373.51058720548178},{"$f":"IF('III Tool Overview'!$H$6=\"Western Isles Health Board\",0,IF('III Tool Overview'!$H$6=\"Eilean Siar Local Authority\",0,new_yll(10,B225,C225,D225,$C$1,G225+H225,1,F225,E225*F225)))","v":373.14568189738736},0.36490530809442134,{"$f":"IF('III Tool Overview'!$H$6=\"Western Isles Health Board\",0,IF('III Tool Overview'!$H$6=\"Eilean Siar Local Authority\",0,new_yll(20,B225,C225,D225,$C$1,G225,1,F225,E225*F225)))","v":1005.1090907648065},{"$f":"IF('III Tool Overview'!$H$6=\"Western Isles Health Board\",0,IF('III Tool Overview'!$H$6=\"Eilean Siar Local Authority\",0,new_yll(20,B225,C225,D225,$C$1,G225+H225,1,F225,E225*F225)))","v":1004.1867098416399},0.92238092316665643,{"$f":"IF('III Tool Overview'!$H$6=\"Western Isles Health Board\",0,IF('III Tool Overview'!$H$6=\"Eilean Siar Local Authority\",0,hosp_count(2,B225,C225,D225,$C$1,G225,1,F225,E225*F225)))","v":73.64972629993332},{"$f":"IF('III Tool Overview'!$H$6=\"Western Isles Health Board\",0,IF('III Tool Overview'!$H$6=\"Eilean Siar Local Authority\",0,hosp_count(2,B225,C225,D225,$C$1,G225+H225,1,F225,E225*F225)))","v":73.604381286511227},4.5345013422092961E-2,{"$f":"IF('III Tool Overview'!$H$6=\"Western Isles Health Board\",0,IF('III Tool Overview'!$H$6=\"Eilean Siar Local Authority\",0,hosp_count(5,B225,C225,D225,$C$1,G225,1,F225,E225*F225)))","v":305.89863339619006},{"$f":"IF('III Tool Overview'!$H$6=\"Western Isles Health Board\",0,IF('III Tool Overview'!$H$6=\"Eilean Siar Local Authority\",0,hosp_count(5,B225,C225,D225,$C$1,G225+H225,1,F225,E225*F225)))","v":305.71270475691892},0.18592863927113967,{"$f":"IF('III Tool Overview'!$H$6=\"Western Isles Health Board\",0,IF('III Tool Overview'!$H$6=\"Eilean Siar Local Authority\",0,hosp_count(10,B225,C225,D225,$C$1,G225,1,F225,E225*F225)))","v":733.00251288743573},{"$f":"IF('III Tool Overview'!$H$6=\"Western Isles Health Board\",0,IF('III Tool Overview'!$H$6=\"Eilean Siar Local Authority\",0,hosp_count(10,B225,C225,D225,$C$1,G225+H225,1,F225,E225*F225)))","v":732.56780195412057},0.43471093331515931,{"$f":"IF('III Tool Overview'!$H$6=\"Western Isles Health Board\",0,IF('III Tool Overview'!$H$6=\"Eilean Siar Local Authority\",0,hosp_count(20,B225,C225,D225,$C$1,G225,1,F225,E225*F225)))","v":1753.9572640736687},{"$f":"IF('III Tool Overview'!$H$6=\"Western Isles Health Board\",0,IF('III Tool Overview'!$H$6=\"Eilean Siar Local Authority\",0,hosp_count(20,B225,C225,D225,$C$1,G225+H225,1,F225,E225*F225)))","v":1752.9830723130733},0.97419176059543133,null,0.5,5]
["Female 45-49",47.5,"female",4,{"$f":"HLOOKUP('III Tool Overview'!$H$6,Prevalence!$B$2:$AV$268,Prevalence!AW215,FALSE)","v":0.13636363636363635},{"$f":"HLOOKUP('III Tool Overview'!$H$6,LookUpData_Pop!$B$1:$AV$269,LookUpData_Pop!BB220,FALSE)/5","v":442.6},{"$f":"'III Tool Overview'!$H$9/110","v":0},{"$f":"IF('III Tool Overview'!$H$10=\"Even distribution\",Targeting!C224,IF('III Tool Overview'!$H$10=\"Targetting to Q1\",Targeting!D224,IF('III Tool Overview'!$H$10=\"Targetting to Q1 & Q2\",Targeting!E224,IF('III Tool Overview'!$H$10=\"No variation in price elasticity\",Targeting!G224))))","v":54.872727272727268},{"$f":"IF('III Tool Overview'!$H$6=\"Western Isles Health Board\",0,IF('III Tool Overview'!$H$6=\"Eilean Siar Local Authority\",0,new_ci(2,B226,C226,D226,$C$1,G226,1,F226,E226*F226)))","v":0.94045547455866418},{"$f":"IF('III Tool Overview'!$H$6=\"Western Isles Health Board\",0,IF('III Tool Overview'!$H$6=\"Eilean Siar Local Authority\",0,new_ci(2,B226,C226,D226,$C$1,G226+H226,1,F226,E226*F226)))","v":0.93949599717311383},{"$f":"IF('III Tool Overview'!$H$6=\"Western Isles Health Board\",0,IF('III Tool Overview'!$H$6=\"Eilean Siar Local Authority\",0,new_ci(5,B226,C226,D226,$C$1,G226,1,F226,E226*F226)))","v":4.1600896125235289},{"$f":"IF('III Tool Overview'!$H$6=\"Western Isles Health Board\",0,IF('III Tool Overview'!$H$6=\"Eilean Siar Local Authority\",0,new_ci(5,B226,C226,D226,$C$1,G226+H226,1,F226,E226*F226)))","v":4.155911478972671},{"$f":"IF('III Tool Overview'!$H$6=\"Western Isles Health Board\",0,IF('III Tool Overview'!$H$6=\"Eilean Siar Local Authority\",0,new_ci(10,B226,C226,D226,$C$1,G226,1,F226,E226*F226)))","v":11.130412270943795},{"$f":"IF('III Tool Overview'!$H$6=\"Western Isles Health Board\",0,IF('III Tool Overview'!$H$6=\"Eilean Siar Local Authority\",0,new_ci(10,B226,C226,D226,$C$1,G226+H226,1,F226,E226*F226)))","v":11.119588349876238},{"$f":"IF('III Tool Overview'!$H$6=\"Western Isles Health Board\",0,IF('III Tool Overview'!$H$6=\"Eilean Siar Local Authority\",0,new_ci(20,B226,C226,D226,$C$1,G226,1,F226,E226*F226)))","v":33.757605008181329},{"$f":"IF('III Tool Overview'!$H$6=\"Western Isles Health Board\",0,IF('III Tool Overview'!$H$6=\"Eilean Siar Local Authority\",0,new_ci(20,B226,C226,D226,$C$1,G226+H226,1,F226,E226*F226)))","v":33.727839102477148},{"$f":"IF('III Tool Overview'!$H$6=\"Western Isles Health Board\",0,IF('III Tool Overview'!$H$6=\"Eilean Siar Local Authority\",0,new_yll(2,B226,C226,D226,$C$1,G226,1,F226,E226*F226)))","v":47.963229202491874},{"$f":"IF('III Tool Overview'!$H$6=\"Western Isles Health Board\",0,IF('III Tool Overview'!$H$6=\"Eilean Siar Local Authority\",0,new_yll(2,B226,C226,D226,$C$1,G226+H226,1,F226,E226*F226)))","v":47.914295855828804},4.8933346663069699E-2,{"$f":"IF('III Tool Overview'!$H$6=\"Western Isles Health Board\",0,IF('III Tool Overview'!$H$6=\"Eilean Siar Local Authority\",0,new_yll(5,B226,C226,D226,$C$1,G226,1,F226,E226*F226)))","v":205.58553142542638},{"$f":"IF('III Tool Overview'!$H$6=\"Western Isles Health Board\",0,IF('III Tool Overview'!$H$6=\"Eilean Siar Local Authority\",0,new_yll(5,B226,C226,D226,$C$1,G226+H226,1,F226,E226*F226)))","v":205.37900146887614},0.20652995655024142,{"$f":"IF('III Tool Overview'!$H$6=\"Western Isles Health Board\",0,IF('III Tool Overview'!$H$6=\"Eilean Siar Local Authority\",0,new_yll(10,B226,C226,D226,$C$1,G226,1,F226,E226*F226)))","v":518.35539449807391},{"$f":"IF('III Tool Overview'!$H$6=\"Western Isles Health Board\",0,IF('III Tool Overview'!$H$6=\"Eilean Siar Local Authority\",0,new_yll(10,B226,C226,D226,$C$1,G226+H226,1,F226,E226*F226)))","v":517.85048868535841},0.50490581271549217,{"$f":"IF('III Tool Overview'!$H$6=\"Western Isles Health Board\",0,IF('III Tool Overview'!$H$6=\"Eilean Siar Local Authority\",0,new_yll(20,B226,C226,D226,$C$1,G226,1,F226,E226*F226)))","v":1355.4133221564525},{"$f":"IF('III Tool Overview'!$H$6=\"Western Isles Health Board\",0,IF('III Tool Overview'!$H$6=\"Eilean Siar Local Authority\",0,new_yll(20,B226,C226,D226,$C$1,G226+H226,1,F226,E226*F226)))","v":1354.2045949979431},1.2087271585094186,{"$f":"IF('III Tool Overview'!$H$6=\"Western Isles Health Board\",0,IF('III Tool Overview'!$H$6=\"Eilean Siar Local Authority\",0,hosp_count(2,B226,C226,D226,$C$1,G226,1,F226,E226*F226)))","v":82.264573471697631},{"$f":"IF('III Tool Overview'!$H$6=\"Western Isles Health Board\",0,IF('III Tool Overview'!$H$6=\"Eilean Siar Local Authority\",0,hosp_count(2,B226,C226,D226,$C$1,G226+H226,1,F226,E226*F226)))","v":82.213646864292059},5.0926607405571644E-2,{"$f":"IF('III Tool Overview'!$H$6=\"Western Isles Health Board\",0,IF('III Tool Overview'!$H$6=\"Eilean Siar Local Authority\",0,hosp_count(5,B226,C226,D226,$C$1,G226,1,F226,E226*F226)))","v":341.20131502018006},{"$f":"IF('III Tool Overview'!$H$6=\"Western Isles Health Board\",0,IF('III Tool Overview'!$H$6=\"Eilean Siar Local Authority\",0,hosp_count(5,B226,C226,D226,$C$1,G226+H226,1,F226,E226*F226)))","v":340.99369723899002},0.20761778119003793,{"$f":"IF('III Tool Overview'!$H$6=\"Western Isles Health Board\",0,IF('III Tool Overview'!$H$6=\"Eilean Siar Local Authority\",0,hosp_count(10,B226,C226,D226,$C$1,G226,1,F226,E226*F226)))","v":815.22518641954628},{"$f":"IF('III Tool Overview'!$H$6=\"Western Isles Health Board\",0,IF('III Tool Overview'!$H$6=\"Eilean Siar Local Authority\",0,hosp_count(10,B226,C226,D226,$C$1,G226+H226,1,F226,E226*F226)))","v":814.74555436906905},0.47963205047722113,{"$f":"IF('III Tool Overview'!$H$6=\"Western Isles Health Board\",0,IF('III Tool Overview'!$H$6=\"Eilean Siar Local Authority\",0,hosp_count(20,B226,C226,D226,$C$1,G226,1,F226,E226*F226)))","v":1933.5560912275068},{"$f":"IF('III Tool Overview'!$H$6=\"Western Isles Health Board\",0,IF('III Tool Overview'!$H$6=\"Eilean Siar Local Authority\",0,hosp_count(20,B226,C226,D226,$C$1,G226+H226,1,F226,E226*F226)))","v":1932.5202521930344},1.0358390344724739,null,0.5,5]
["Female 50-54",52.5,"female",4,{"$f":"HLOOKUP('III Tool Overview'!$H$6,Prevalence!$B$2:$AV$268,Prevalence!AW216,FALSE)","v":0.13636363636363635},{"$f":"HLOOKUP('III Tool Overview'!$H$6,LookUpData_Pop!$B$1:$AV$269,LookUpData_Pop!BB221,FALSE)/5","v":426.2},{"$f":"'III Tool Overview'!$H$9/110","v":0},{"$f":"IF('III Tool Overview'!$H$10=\"Even distribution\",Targeting!C225,IF('III Tool Overview'!$H$10=\"Targetting to Q1\",Targeting!D225,IF('III Tool Overview'!$H$10=\"Targetting to Q1 & Q2\",Targeting!E225,IF('III Tool Overview'!$H$10=\"No variation in price elasticity\",Targeting!G225))))","v":48.654545454545456},{"$f":"IF('III Tool Overview'!$H$6=\"Western Isles Health Board\",0,IF('III Tool Overview'!$H$6=\"Eilean Siar Local Authority\",0,new_ci(2,B227,C227,D227,$C$1,G227,1,F227,E227*F227)))","v":1.2562010846067884},{"$f":"IF('III Tool Overview'!$H$6=\"Western Isles Health Board\",0,IF('III Tool Overview'!$H$6=\"Eilean Siar Local Authority\",0,new_ci(2,B227,C227,D227,$C$1,G227+H227,1,F227,E227*F227)))","v":1.2550173523674248},{"$f":"IF('III Tool Overview'!$H$6=\"Western Isles Health Board\",0,IF('III Tool Overview'!$H$6=\"Eilean Siar Local Authority\",0,new_ci(5,B227,C227,D227,$C$1,G227,1,F227,E227*F227)))","v":5.547849592354634},{"$f":"IF('III Tool Overview'!$H$6=\"Western Isles Health Board\",0,IF('III Tool Overview'!$H$6=\"Eilean Siar Local Authority\",0,new_ci(5,B227,C227,D227,$C$1,G227+H227,1,F227,E227*F227)))","v":5.542723071219787},{"$f":"IF('III Tool Overview'!$H$6=\"Western Isles Health Board\",0,IF('III Tool Overview'!$H$6=\"Eilean Siar Local Authority\",0,new_ci(10,B227,C227,D227,$C$1,G227,1,F227,E227*F227)))","v":14.791548120435305},{"$f":"IF('III Tool Overview'!$H$6=\"Western Isles Health Board\",0,IF('III Tool Overview'!$H$6=\"Eilean Siar Local Authority\",0,new_ci(10,B227,C227,D227,$C$1,G227+H227,1,F227,E227*F227)))","v":14.778425901130143},{"$f":"IF('III Tool Overview'!$H$6=\"Western Isles Health Board\",0,IF('III Tool Overview'!$H$6=\"Eilean Siar Local Authority\",0,new_ci(20,B227,C227,D227,$C$1,G227,1,F227,E227*F227)))","v":44.348418014412026},{"$f":"IF('III Tool Overview'!$H$6=\"Western Isles Health Board\",0,IF('III Tool Overview'!$H$6=\"Eilean Siar Local Authority\",0,new_ci(20,B227,C227,D227,$C$1,G227+H227,1,F227,E227*F227)))","v":44.313766722499864},{"$f":"IF('III Tool Overview'!$H$6=\"Western Isles Health Board\",0,IF('III Tool Overview'!$H$6=\"Eilean Siar Local Authority\",0,new_yll(2,B227,C227,D227,$C$1,G227,1,F227,E227*F227)))","v":59.041450976519052},{"$f":"IF('III Tool Overview'!$H$6=\"Western Isles Health Board\",0,IF('III Tool Overview'!$H$6=\"Eilean Siar Local Authority\",0,new_yll(2,B227,C227,D227,$C$1,G227+H227,1,F227,E227*F227)))","v":58.985815561268964},5.5635415250087306E-2,{"$f":"IF('III Tool Overview'!$H$6=\"Western Isles Health Board\",0,IF('III Tool Overview'!$H$6=\"Eilean Siar Local Authority\",0,new_yll(5,B227,C227,D227,$C$1,G227,1,F227,E227*F227)))","v":251.98239446081737},{"$f":"IF('III Tool Overview'!$H$6=\"Western Isles Health Board\",0,IF('III Tool Overview'!$H$6=\"Eilean Siar Local Authority\",0,new_yll(5,B227,C227,D227,$C$1,G227+H227,1,F227,E227*F227)))","v":251.74946777822834},0.23292668258903859,{"$f":"IF('III Tool Overview'!$H$6=\"Western Isles Health Board\",0,IF('III Tool Overview'!$H$6=\"Eilean Siar Local Authority\",0,new_yll(10,B227,C227,D227,$C$1,G227,1,F227,E227*F227)))","v":629.81348854879639},{"$f":"IF('III Tool Overview'!$H$6=\"Western Isles Health Board\",0,IF('III Tool Overview'!$H$6=\"Eilean Siar Local Authority\",0,new_yll(10,B227,C227,D227,$C$1,G227+H227,1,F227,E227*F227)))","v":629.2534811746583},0.5600073741380811,{"$f":"IF('III Tool Overview'!$H$6=\"Western Isles Health Board\",0,IF('III Tool Overview'!$H$6=\"Eilean Siar Local Authority\",0,new_yll(20,B227,C227,D227,$C$1,G227,1,F227,E227*F227)))","v":1605.5585123215076},{"$f":"IF('III Tool Overview'!$H$6=\"Western Isles Health Board\",0,IF('III Tool Overview'!$H$6=\"Eilean Siar Local Authority\",0,new_yll(20,B227,C227,D227,$C$1,G227+H227,1,F227,E227*F227)))","v":1604.2830049677498},1.2755073537578028,{"$f":"IF('III Tool Overview'!$H$6=\"Western Isles Health Board\",0,IF('III Tool Overview'!$H$6=\"Eilean Siar Local Authority\",0,hosp_count(2,B227,C227,D227,$C$1,G227,1,F227,E227*F227)))","v":87.423679726393118},{"$f":"IF('III Tool Overview'!$H$6=\"Western Isles Health Board\",0,IF('III Tool Overview'!$H$6=\"Eilean Siar Local Authority\",0,hosp_count(2,B227,C227,D227,$C$1,G227+H227,1,F227,E227*F227)))","v":87.373620762890042},5.005896350307637E-2,{"$f":"IF('III Tool Overview'!$H$6=\"Western Isles Health Board\",0,IF('III Tool Overview'!$H$6=\"Eilean Siar Local Authority\",0,hosp_count(5,B227,C227,D227,$C$1,G227,1,F227,E227*F227)))","v":362.0908729529354},{"$f":"IF('III Tool Overview'!$H$6=\"Western Isles Health Board\",0,IF('III Tool Overview'!$H$6=\"Eilean Siar Local Authority\",0,hosp_count(5,B227,C227,D227,$C$1,G227+H227,1,F227,E227*F227)))","v":361.88794204700861},0.20293090592679164,{"$f":"IF('III Tool Overview'!$H$6=\"Western Isles Health Board\",0,IF('III Tool Overview'!$H$6=\"Eilean Siar Local Authority\",0,hosp_count(10,B227,C227,D227,$C$1,G227,1,F227,E227*F227)))","v":862.6313356704627},{"$f":"IF('III Tool Overview'!$H$6=\"Western Isles Health Board\",0,IF('III Tool Overview'!$H$6=\"Eilean Siar Local Authority\",0,hosp_count(10,B227,C227,D227,$C$1,G227+H227,1,F227,E227*F227)))","v":862.16802736838235},0.46330830208034968,{"$f":"IF('III Tool Overview'!$H$6=\"Western Isles Health Board\",0,IF('III Tool Overview'!$H$6=\"Eilean Siar Local Authority\",0,hosp_count(20,B227,C227,D227,$C$1,G227,1,F227,E227*F227)))","v":2028.1888554011637},{"$f":"IF('III Tool Overview'!$H$6=\"Western Isles Health Board\",0,IF('III Tool Overview'!$H$6=\"Eilean Siar Local Authority\",0,hosp_count(20,B227,C227,D227,$C$1,G227+H227,1,F227,E227*F227)))","v":2027.2239192637139},0.96493613744974027,null,0.5,5]
["Female 55-59",57.5,"female",4,{"$f":"HLOOKUP('III Tool Overview'!$H$6,Prevalence!$B$2:$AV$268,Prevalence!AW217,FALSE)","v":9.5454545454545459E-2},{"$f":"HLOOKUP('III Tool Overview'!$H$6,LookUpData_Pop!$B$1:$AV$269,LookUpData_Pop!BB222,FALSE)/5","v":398},{"$f":"'III Tool Overview'!$H$9/110","v":0},{"$f":"IF('III Tool Overview'!$H$10=\"Even distribution\",Targeting!C226,IF('III Tool Overview'!$H$10=\"Targetting to Q1\",Targeting!D226,IF('III Tool Overview'!$H$10=\"Targetting to Q1 & Q2\",Targeting!E226,IF('III Tool Overview'!$H$10=\"No variation in price elasticity\",Targeting!G226))))","v":36.807272727272725},{"$f":"IF('III Tool Overview'!$H$6=\"Western Isles Health Board\",0,IF('III Tool Overview'!$H$6=\"Eilean Siar Local Authority\",0,new_ci(2,B228,C228,D228,$C$1,G228,1,F228,E228*F228)))","v":1.9159253143699322},{"$f":"IF('III Tool Overview'!$H$6=\"Western Isles Health Board\",0,IF('III Tool Overview'!$H$6=\"Eilean Siar Local Authority\",0,new_ci(2,B228,C228,D228,$C$1,G228+H228,1,F228,E228*F228)))","v":1.9144029634518416},{"$f":"IF('III Tool Overview'!$H$6=\"Western Isles Health Board\",0,IF('III Tool Overview'!$H$6=\"Eilean Siar Local Authority\",0,new_ci(5,B228,C228,D228,$C$1,G228,1,F228,E228*F228)))","v":8.4325157374629711},{"$f":"IF('III Tool Overview'!$H$6=\"Western Isles Health Board\",0,IF('III Tool Overview'!$H$6=\"Eilean Siar Local Authority\",0,new_ci(5,B228,C228,D228,$C$1,G228+H228,1,F228,E228*F228)))","v":8.4260139680589461},{"$f":"IF('III Tool Overview'!$H$6=\"Western Isles Health Board\",0,IF('III Tool Overview'!$H$6=\"Eilean Siar Local Authority\",0,new_ci(10,B228,C228,D228,$C$1,G228,1,F228,E228*F228)))","v":22.316472424592686},{"$f":"IF('III Tool Overview'!$H$6=\"Western Isles Health Board\",0,IF('III Tool Overview'!$H$6=\"Eilean Siar Local Authority\",0,new_ci(10,B228,C228,D228,$C$1,G228+H228,1,F228,E228*F228)))","v":22.300331161192844},{"$f":"IF('III Tool Overview'!$H$6=\"Western Isles Health Board\",0,IF('III Tool Overview'!$H$6=\"Eilean Siar Local Authority\",0,new_ci(20,B228,C228,D228,$C$1,G228,1,F228,E228*F228)))","v":65.315875400785899},{"$f":"IF('III Tool Overview'!$H$6=\"Western Isles Health Board\",0,IF('III Tool Overview'!$H$6=\"Eilean Siar Local Authority\",0,new_ci(20,B228,C228,D228,$C$1,G228+H228,1,F228,E228*F228)))","v":65.277433673391698},{"$f":"IF('III Tool Overview'!$H$6=\"Western Isles Health Board\",0,IF('III Tool Overview'!$H$6=\"Eilean Siar Local Authority\",0,new_yll(2,B228,C228,D228,$C$1,G228,1,F228,E228*F228)))","v":78.552937889167225},{"$f":"IF('III Tool Overview'!$H$6=\"Western Isles Health Board\",0,IF('III Tool Overview'!$H$6=\"Eilean Siar Local Authority\",0,new_yll(2,B228,C228,D228,$C$1,G228+H228,1,F228,E228*F228)))","v":78.490521501525507},6.2416387641718529E-2,{"$f":"IF('III Tool Overview'!$H$6=\"Western Isles Health Board\",0,IF('III Tool Overview'!$H$6=\"Eilean Siar Local Authority\",0,new_yll(5,B228,C228,D228,$C$1,G228,1,F228,E228*F228)))","v":332.43165348676723},{"$f":"IF('III Tool Overview'!$H$6=\"Western Isles Health Board\",0,IF('III Tool Overview'!$H$6=\"Eilean Siar Local Authority\",0,new_yll(5,B228,C228,D228,$C$1,G228+H228,1,F228,E228*F228)))","v":332.1751777009361},0.25647578583112818,{"$f":"IF('III Tool Overview'!$H$6=\"Western Isles Health Board\",0,IF('III Tool Overview'!$H$6=\"Eilean Siar Local Authority\",0,new_yll(10,B228,C228,D228,$C$1,G228,1,F228,E228*F228)))","v":816.70974268264081},{"$f":"IF('III Tool Overview'!$H$6=\"Western Isles Health Board\",0,IF('III Tool Overview'!$H$6=\"Eilean Siar Local Authority\",0,new_yll(10,B228,C228,D228,$C$1,G228+H228,1,F228,E228*F228)))","v":816.11652608190786},0.59321660073294424,{"$f":"IF('III Tool Overview'!$H$6=\"Western Isles Health Board\",0,IF('III Tool Overview'!$H$6=\"Eilean Siar Local Authority\",0,new_yll(20,B228,C228,D228,$C$1,G228,1,F228,E228*F228)))","v":1979.9612831668915},{"$f":"IF('III Tool Overview'!$H$6=\"Western Isles Health Board\",0,IF('III Tool Overview'!$H$6=\"Eilean Siar Local Authority\",0,new_yll(20,B228,C228,D228,$C$1,G228+H228,1,F228,E228*F228)))","v":1978.7558867161522},1.205396450739272,{"$f":"IF('III Tool Overview'!$H$6=\"Western Isles Health Board\",0,IF('III Tool Overview'!$H$6=\"Eilean Siar Local Authority\",0,hosp_count(2,B228,C228,D228,$C$1,G228,1,F228,E228*F228)))","v":94.649865975059825},{"$f":"IF('III Tool Overview'!$H$6=\"Western Isles Health Board\",0,IF('III Tool Overview'!$H$6=\"Eilean Siar Local Authority\",0,hosp_count(2,B228,C228,D228,$C$1,G228+H228,1,F228,E228*F228)))","v":94.605160662552038},4.4705312507787198E-2,{"$f":"IF('III Tool Overview'!$H$6=\"Western Isles Health Board\",0,IF('III Tool Overview'!$H$6=\"Eilean Siar Local Authority\",0,hosp_count(5,B228,C228,D228,$C$1,G228,1,F228,E228*F228)))","v":390.81507810126652},{"$f":"IF('III Tool Overview'!$H$6=\"Western Isles Health Board\",0,IF('III Tool Overview'!$H$6=\"Eilean Siar Local Authority\",0,hosp_count(5,B228,C228,D228,$C$1,G228+H228,1,F228,E228*F228)))","v":390.63643448100044},0.1786436202660866,{"$f":"IF('III Tool Overview'!$H$6=\"Western Isles Health Board\",0,IF('III Tool Overview'!$H$6=\"Eilean Siar Local Authority\",0,hosp_count(10,B228,C228,D228,$C$1,G228,1,F228,E228*F228)))","v":925.17643878031674},{"$f":"IF('III Tool Overview'!$H$6=\"Western Isles Health Board\",0,IF('III Tool Overview'!$H$6=\"Eilean Siar Local Authority\",0,hosp_count(10,B228,C228,D228,$C$1,G228+H228,1,F228,E228*F228)))","v":924.78063599626319},0.39580278405355784,{"$f":"IF('III Tool Overview'!$H$6=\"Western Isles Health Board\",0,IF('III Tool Overview'!$H$6=\"Eilean Siar Local Authority\",0,hosp_count(20,B228,C228,D228,$C$1,G228,1,F228,E228*F228)))","v":2134.4698427684189},{"$f":"IF('III Tool Overview'!$H$6=\"Western Isles Health Board\",0,IF('III Tool Overview'!$H$6=\"Eilean Siar Local Authority\",0,hosp_count(20,B228,C228,D228,$C$1,G228+H228,1,F228,E228*F228)))","v":2133.717934686314},0.75190808210481919,null,0.5,5]
["Female 60-64",62.5,"female",4,{"$f":"HLOOKUP('III Tool Overview'!$H$6,Prevalence!$B$2:$AV$268,Prevalence!AW218,FALSE)","v":9.5454545454545459E-2},{"$f":"HLOOKUP('III Tool Overview'!$H$6,LookUpData_Pop!$B$1:$AV$269,LookUpData_Pop!BB223,FALSE)/5","v":374.4},{"$f":"'III Tool Overview'!$H$9/110","v":0},{"$f":"IF('III Tool Overview'!$H$10=\"Even distribution\",Targeting!C227,IF('III Tool Overview'!$H$10=\"Targetting to Q1\",Targeting!D227,IF('III Tool Overview'!$H$10=\"Targetting to Q1 & Q2\",Targeting!E227,IF('III Tool Overview'!$H$10=\"No variation in price elasticity\",Targeting!G227))))","v":35.356363636363639},{"$f":"IF('III Tool Overview'!$H$6=\"Western Isles Health Board\",0,IF('III Tool Overview'!$H$6=\"Eilean Siar Local Authority\",0,new_ci(2,B229,C229,D229,$C$1,G229,1,F229,E229*F229)))","v":2.4986336316811011},{"$f":"IF('III Tool Overview'!$H$6=\"Western Isles Health Board\",0,IF('III Tool Overview'!$H$6=\"Eilean Siar Local Authority\",0,new_ci(2,B229,C229,D229,$C$1,G229+H229,1,F229,E229*F229)))","v":2.4966441798175856},{"$f":"IF('III Tool Overview'!$H$6=\"Western Isles Health Board\",0,IF('III Tool Overview'!$H$6=\"Eilean Siar Local Authority\",0,new_ci(5,B229,C229,D229,$C$1,G229,1,F229,E229*F229)))","v":10.958203826202832},{"$f":"IF('III Tool Overview'!$H$6=\"Western Isles Health Board\",0,IF('III Tool Overview'!$H$6=\"Eilean Siar Local Authority\",0,new_ci(5,B229,C229,D229,$C$1,G229+H229,1,F229,E229*F229)))","v":10.949816698982193},{"$f":"IF('III Tool Overview'!$H$6=\"Western Isles Health Board\",0,IF('III Tool Overview'!$H$6=\"Eilean Siar Local Authority\",0,new_ci(10,B229,C229,D229,$C$1,G229,1,F229,E229*F229)))","v":28.779929869749967},{"$f":"IF('III Tool Overview'!$H$6=\"Western Isles Health Board\",0,IF('III Tool Overview'!$H$6=\"Eilean Siar Local Authority\",0,new_ci(10,B229,C229,D229,$C$1,G229+H229,1,F229,E229*F229)))","v":28.759692588423128},{"$f":"IF('III Tool Overview'!$H$6=\"Western Isles Health Board\",0,IF('III Tool Overview'!$H$6=\"Eilean Siar Local Authority\",0,new_ci(20,B229,C229,D229,$C$1,G229,1,F229,E229*F229)))","v":82.204565850190917},{"$f":"IF('III Tool Overview'!$H$6=\"Western Isles Health Board\",0,IF('III Tool Overview'!$H$6=\"Eilean Siar Local Authority\",0,new_ci(20,B229,C229,D229,$C$1,G229+H229,1,F229,E229*F229)))","v":82.160788503311096},{"$f":"IF('III Tool Overview'!$H$6=\"Western Isles Health Board\",0,IF('III Tool Overview'!$H$6=\"Eilean Siar Local Authority\",0,new_yll(2,B229,C229,D229,$C$1,G229,1,F229,E229*F229)))","v":92.449444372200745},{"$f":"IF('III Tool Overview'!$H$6=\"Western Isles Health Board\",0,IF('III Tool Overview'!$H$6=\"Eilean Siar Local Authority\",0,new_yll(2,B229,C229,D229,$C$1,G229+H229,1,F229,E229*F229)))","v":92.375834653250664},7.360971895008106E-2,{"$f":"IF('III Tool Overview'!$H$6=\"Western Isles Health Board\",0,IF('III Tool Overview'!$H$6=\"Eilean Siar Local Authority\",0,new_yll(5,B229,C229,D229,$C$1,G229,1,F229,E229*F229)))","v":388.19946907379676},{"$f":"IF('III Tool Overview'!$H$6=\"Western Isles Health Board\",0,IF('III Tool Overview'!$H$6=\"Eilean Siar Local Authority\",0,new_yll(5,B229,C229,D229,$C$1,G229+H229,1,F229,E229*F229)))","v":387.9020796782836},0.29738939551316435,{"$f":"IF('III Tool Overview'!$H$6=\"Western Isles Health Board\",0,IF('III Tool Overview'!$H$6=\"Eilean Siar Local Authority\",0,new_yll(10,B229,C229,D229,$C$1,G229,1,F229,E229*F229)))","v":938.65149136114417},{"$f":"IF('III Tool Overview'!$H$6=\"Western Isles Health Board\",0,IF('III Tool Overview'!$H$6=\"Eilean Siar Local Authority\",0,new_yll(10,B229,C229,D229,$C$1,G229+H229,1,F229,E229*F229)))","v":937.98723346966801},0.66425789147615433,{"$f":"IF('III Tool Overview'!$H$6=\"Western Isles Health Board\",0,IF('III Tool Overview'!$H$6=\"Eilean Siar Local Authority\",0,new_yll(20,B229,C229,D229,$C$1,G229,1,F229,E229*F229)))","v":2172.4376089526536},{"$f":"IF('III Tool Overview'!$H$6=\"Western Isles Health Board\",0,IF('III Tool Overview'!$H$6=\"Eilean Siar Local Authority\",0,new_yll(20,B229,C229,D229,$C$1,G229+H229,1,F229,E229*F229)))","v":2171.2157400921465},1.2218688605071293,{"$f":"IF('III Tool Overview'!$H$6=\"Western Isles Health Board\",0,IF('III Tool Overview'!$H$6=\"Eilean Siar Local Authority\",0,hosp_count(2,B229,C229,D229,$C$1,G229,1,F229,E229*F229)))","v":98.2623095511168},{"$f":"IF('III Tool Overview'!$H$6=\"Western Isles Health Board\",0,IF('III Tool Overview'!$H$6=\"Eilean Siar Local Authority\",0,hosp_count(2,B229,C229,D229,$C$1,G229+H229,1,F229,E229*F229)))","v":98.21565498714078},4.6654563976019858E-2,{"$f":"IF('III Tool Overview'!$H$6=\"Western Isles Health Board\",0,IF('III Tool Overview'!$H$6=\"Eilean Siar Local Authority\",0,hosp_count(5,B229,C229,D229,$C$1,G229,1,F229,E229*F229)))","v":404.46219569305083},{"$f":"IF('III Tool Overview'!$H$6=\"Western Isles Health Board\",0,IF('III Tool Overview'!$H$6=\"Eilean Siar Local Authority\",0,hosp_count(5,B229,C229,D229,$C$1,G229+H229,1,F229,E229*F229)))","v":404.27823697773511},0.18395871531572539,{"$f":"IF('III Tool Overview'!$H$6=\"Western Isles Health Board\",0,IF('III Tool Overview'!$H$6=\"Eilean Siar Local Authority\",0,hosp_count(10,B229,C229,D229,$C$1,G229,1,F229,E229*F229)))","v":951.3628397676008},{"$f":"IF('III Tool Overview'!$H$6=\"Western Isles Health Board\",0,IF('III Tool Overview'!$H$6=\"Eilean Siar Local Authority\",0,hosp_count(10,B229,C229,D229,$C$1,G229+H229,1,F229,E229*F229)))","v":950.9664877942372},0.39635197336360761,{"$f":"IF('III Tool Overview'!$H$6=\"Western Isles Health Board\",0,IF('III Tool Overview'!$H$6=\"Eilean Siar Local Authority\",0,hosp_count(20,B229,C229,D229,$C$1,G229,1,F229,E229*F229)))","v":2154.0684193578031},{"$f":"IF('III Tool Overview'!$H$6=\"Western Isles Health Board\",0,IF('III Tool Overview'!$H$6=\"Eilean Siar Local Authority\",0,hosp_count(20,B229,C229,D229,$C$1,G229+H229,1,F229,E229*F229)))","v":2153.3769427195239},0.69147663827925498,null,0.5,5]
["Female 65-69",67.5,"female",4,{"$f":"HLOOKUP('III Tool Overview'!$H$6,Prevalence!$B$2:$AV$268,Prevalence!AW219,FALSE)","v":8.1818181818181804E-2},{"$f":"HLOOKUP('III Tool Overview'!$H$6,LookUpData_Pop!$B$1:$AV$269,LookUpData_Pop!BB224,FALSE)/5","v":340},{"$f":"'III Tool Overview'!$H$9/110","v":0},{"$f":"IF('III Tool Overview'!$H$10=\"Even distribution\",Targeting!C228,IF('III Tool Overview'!$H$10=\"Targetting to Q1\",Targeting!D228,IF('III Tool Overview'!$H$10=\"Targetting to Q1 & Q2\",Targeting!E228,IF('III Tool Overview'!$H$10=\"No variation in price elasticity\",Targeting!G228))))","v":25.919999999999995},{"$f":"IF('III Tool Overview'!$H$6=\"Western Isles Health Board\",0,IF('III Tool Overview'!$H$6=\"Eilean Siar Local Authority\",0,new_ci(2,B230,C230,D230,$C$1,G230,1,F230,E230*F230)))","v":3.7011200783495766},{"$f":"IF('III Tool Overview'!$H$6=\"Western Isles Health Board\",0,IF('III Tool Overview'!$H$6=\"Eilean Siar Local Authority\",0,new_ci(2,B230,C230,D230,$C$1,G230+H230,1,F230,E230*F230)))","v":3.6986874308106201},{"$f":"IF('III Tool Overview'!$H$6=\"Western Isles Health Board\",0,IF('III Tool Overview'!$H$6=\"Eilean Siar Local Authority\",0,new_ci(5,B230,C230,D230,$C$1,G230,1,F230,E230*F230)))","v":16.105677968657705},{"$f":"IF('III Tool Overview'!$H$6=\"Western Isles Health Board\",0,IF('III Tool Overview'!$H$6=\"Eilean Siar Local Authority\",0,new_ci(5,B230,C230,D230,$C$1,G230+H230,1,F230,E230*F230)))","v":16.09573303779122},{"$f":"IF('III Tool Overview'!$H$6=\"Western Isles Health Board\",0,IF('III Tool Overview'!$H$6=\"Eilean Siar Local Authority\",0,new_ci(10,B230,C230,D230,$C$1,G230,1,F230,E230*F230)))","v":41.60024477190305},{"$f":"IF('III Tool Overview'!$H$6=\"Western Isles Health Board\",0,IF('III Tool Overview'!$H$6=\"Eilean Siar Local Authority\",0,new_ci(10,B230,C230,D230,$C$1,G230+H230,1,F230,E230*F230)))","v":41.577814411167665},{"$f":"IF('III Tool Overview'!$H$6=\"Western Isles Health Board\",0,IF('III Tool Overview'!$H$6=\"Eilean Siar Local Authority\",0,new_ci(20,B230,C230,D230,$C$1,G230,1,F230,E230*F230)))","v":112.82145522091579},{"$f":"IF('III Tool Overview'!$H$6=\"Western Isles Health Board\",0,IF('III Tool Overview'!$H$6=\"Eilean Siar Local Authority\",0,new_ci(20,B230,C230,D230,$C$1,G230+H230,1,F230,E230*F230)))","v":112.78282195843906},{"$f":"IF('III Tool Overview'!$H$6=\"Western Isles Health Board\",0,IF('III Tool Overview'!$H$6=\"Eilean Siar Local Authority\",0,new_yll(2,B230,C230,D230,$C$1,G230,1,F230,E230*F230)))","v":114.73472242883687},{"$f":"IF('III Tool Overview'!$H$6=\"Western Isles Health Board\",0,IF('III Tool Overview'!$H$6=\"Eilean Siar Local Authority\",0,new_yll(2,B230,C230,D230,$C$1,G230+H230,1,F230,E230*F230)))","v":114.65931035512922},7.5412073707653349E-2,{"$f":"IF('III Tool Overview'!$H$6=\"Western Isles Health Board\",0,IF('III Tool Overview'!$H$6=\"Eilean Siar Local Authority\",0,new_yll(5,B230,C230,D230,$C$1,G230,1,F230,E230*F230)))","v":474.01902873757956},{"$f":"IF('III Tool Overview'!$H$6=\"Western Isles Health Board\",0,IF('III Tool Overview'!$H$6=\"Eilean Siar Local Authority\",0,new_yll(5,B230,C230,D230,$C$1,G230+H230,1,F230,E230*F230)))","v":473.72581519252373},0.29321354505583486,{"$f":"IF('III Tool Overview'!$H$6=\"Western Isles Health Board\",0,IF('III Tool Overview'!$H$6=\"Eilean Siar Local Authority\",0,new_yll(10,B230,C230,D230,$C$1,G230,1,F230,E230*F230)))","v":1108.8364906303664},{"$f":"IF('III Tool Overview'!$H$6=\"Western Isles Health Board\",0,IF('III Tool Overview'!$H$6=\"Eilean Siar Local Authority\",0,new_yll(10,B230,C230,D230,$C$1,G230+H230,1,F230,E230*F230)))","v":1108.2308464573728},0.60564417299360684,{"$f":"IF('III Tool Overview'!$H$6=\"Western Isles Health Board\",0,IF('III Tool Overview'!$H$6=\"Eilean Siar Local Authority\",0,new_yll(20,B230,C230,D230,$C$1,G230,1,F230,E230*F230)))","v":2332.6823076836799},{"$f":"IF('III Tool Overview'!$H$6=\"Western Isles Health Board\",0,IF('III Tool Overview'!$H$6=\"Eilean Siar Local Authority\",0,new_yll(20,B230,C230,D230,$C$1,G230+H230,1,F230,E230*F230)))","v":2331.7772681548954},0.90503952878452765,{"$f":"IF('III Tool Overview'!$H$6=\"Western Isles Health Board\",0,IF('III Tool Overview'!$H$6=\"Eilean Siar Local Authority\",0,hosp_count(2,B230,C230,D230,$C$1,G230,1,F230,E230*F230)))","v":103.45496517579767},{"$f":"IF('III Tool Overview'!$H$6=\"Western Isles Health Board\",0,IF('III Tool Overview'!$H$6=\"Eilean Siar Local Authority\",0,hosp_count(2,B230,C230,D230,$C$1,G230+H230,1,F230,E230*F230)))","v":103.41450766019331},4.0457515604359173E-2,{"$f":"IF('III Tool Overview'!$H$6=\"Western Isles Health Board\",0,IF('III Tool Overview'!$H$6=\"Eilean Siar Local Authority\",0,hosp_count(5,B230,C230,D230,$C$1,G230,1,F230,E230*F230)))","v":422.86822079550484},{"$f":"IF('III Tool Overview'!$H$6=\"Western Isles Health Board\",0,IF('III Tool Overview'!$H$6=\"Eilean Siar Local Authority\",0,hosp_count(5,B230,C230,D230,$C$1,G230+H230,1,F230,E230*F230)))","v":422.71365730704468},0.15456348846015544,{"$f":"IF('III Tool Overview'!$H$6=\"Western Isles Health Board\",0,IF('III Tool Overview'!$H$6=\"Eilean Siar Local Authority\",0,hosp_count(10,B230,C230,D230,$C$1,G230,1,F230,E230*F230)))","v":980.6294669723917},{"$f":"IF('III Tool Overview'!$H$6=\"Western Isles Health Board\",0,IF('III Tool Overview'!$H$6=\"Eilean Siar Local Authority\",0,hosp_count(10,B230,C230,D230,$C$1,G230+H230,1,F230,E230*F230)))","v":980.31775910611418},0.31170786627751568,{"$f":"IF('III Tool Overview'!$H$6=\"Western Isles Health Board\",0,IF('III Tool Overview'!$H$6=\"Eilean Siar Local Authority\",0,hosp_count(20,B230,C230,D230,$C$1,G230,1,F230,E230*F230)))","v":2132.1058468477154},{"$f":"IF('III Tool Overview'!$H$6=\"Western Isles Health Board\",0,IF('III Tool Overview'!$H$6=\"Eilean Siar Local Authority\",0,hosp_count(20,B230,C230,D230,$C$1,G230+H230,1,F230,E230*F230)))","v":2131.6604919678743},0.44535487984103383,null,0.5,5]
["Female 70-74",72.5,"female",4,{"$f":"HLOOKUP('III Tool Overview'!$H$6,Prevalence!$B$2:$AV$268,Prevalence!AW220,FALSE)","v":8.1818181818181804E-2},{"$f":"HLOOKUP('III Tool Overview'!$H$6,LookUpData_Pop!$B$1:$AV$269,LookUpData_Pop!BB225,FALSE)/5","v":262.39999999999998},{"$f":"'III Tool Overview'!$H$9/110","v":0},{"$f":"IF('III Tool Overview'!$H$10=\"Even distribution\",Targeting!C229,IF('III Tool Overview'!$H$10=\"Targetting to Q1\",Targeting!D229,IF('III Tool Overview'!$H$10=\"Targetting to Q1 & Q2\",Targeting!E229,IF('III Tool Overview'!$H$10=\"No variation in price elasticity\",Targeting!G229))))","v":21.992727272727269},{"$f":"IF('III Tool Overview'!$H$6=\"Western Isles Health Board\",0,IF('III Tool Overview'!$H$6=\"Eilean Siar Local Authority\",0,new_ci(2,B231,C231,D231,$C$1,G231,1,F231,E231*F231)))","v":3.9549144725876637},{"$f":"IF('III Tool Overview'!$H$6=\"Western Isles Health Board\",0,IF('III Tool Overview'!$H$6=\"Eilean Siar Local Authority\",0,new_ci(2,B231,C231,D231,$C$1,G231+H231,1,F231,E231*F231)))","v":3.952075285546603},{"$f":"IF('III Tool Overview'!$H$6=\"Western Isles Health Board\",0,IF('III Tool Overview'!$H$6=\"Eilean Siar Local Authority\",0,new_ci(5,B231,C231,D231,$C$1,G231,1,F231,E231*F231)))","v":17.076002589459883},{"$f":"IF('III Tool Overview'!$H$6=\"Western Isles Health Board\",0,IF('III Tool Overview'!$H$6=\"Eilean Siar Local Authority\",0,new_ci(5,B231,C231,D231,$C$1,G231+H231,1,F231,E231*F231)))","v":17.064741674811103},{"$f":"IF('III Tool Overview'!$H$6=\"Western Isles Health Board\",0,IF('III Tool Overview'!$H$6=\"Eilean Siar Local Authority\",0,new_ci(10,B231,C231,D231,$C$1,G231,1,F231,E231*F231)))","v":43.386315358831148},{"$f":"IF('III Tool Overview'!$H$6=\"Western Isles Health Board\",0,IF('III Tool Overview'!$H$6=\"Eilean Siar Local Authority\",0,new_ci(10,B231,C231,D231,$C$1,G231+H231,1,F231,E231*F231)))","v":43.362548386217426},{"$f":"IF('III Tool Overview'!$H$6=\"Western Isles Health Board\",0,IF('III Tool Overview'!$H$6=\"Eilean Siar Local Authority\",0,new_ci(20,B231,C231,D231,$C$1,G231,1,F231,E231*F231)))","v":111.99874256898437},{"$f":"IF('III Tool Overview'!$H$6=\"Western Isles Health Board\",0,IF('III Tool Overview'!$H$6=\"Eilean Siar Local Authority\",0,new_ci(20,B231,C231,D231,$C$1,G231+H231,1,F231,E231*F231)))","v":111.96602998967174},{"$f":"IF('III Tool Overview'!$H$6=\"Western Isles Health Board\",0,IF('III Tool Overview'!$H$6=\"Eilean Siar Local Authority\",0,new_yll(2,B231,C231,D231,$C$1,G231,1,F231,E231*F231)))","v":106.78269075986692},{"$f":"IF('III Tool Overview'!$H$6=\"Western Isles Health Board\",0,IF('III Tool Overview'!$H$6=\"Eilean Siar Local Authority\",0,new_yll(2,B231,C231,D231,$C$1,G231+H231,1,F231,E231*F231)))","v":106.70603270975828},{"$f":"Q231-R231","v":7.6658050108648013E-2},{"$f":"IF('III Tool Overview'!$H$6=\"Western Isles Health Board\",0,IF('III Tool Overview'!$H$6=\"Eilean Siar Local Authority\",0,new_yll(5,B231,C231,D231,$C$1,G231,1,F231,E231*F231)))","v":434.3821184419279},{"$f":"IF('III Tool Overview'!$H$6=\"Western Isles Health Board\",0,IF('III Tool Overview'!$H$6=\"Eilean Siar Local Authority\",0,new_yll(5,B231,C231,D231,$C$1,G231+H231,1,F231,E231*F231)))","v":434.09485572799707},{"$f":"T231-U231","v":0.28726271393082925},{"$f":"IF('III Tool Overview'!$H$6=\"Western Isles Health Board\",0,IF('III Tool Overview'!$H$6=\"Eilean Siar Local Authority\",0,new_yll(10,B231,C231,D231,$C$1,G231,1,F231,E231*F231)))","v":984.62590171236877},{"$f":"IF('III Tool Overview'!$H$6=\"Western Isles Health Board\",0,IF('III Tool Overview'!$H$6=\"Eilean Siar Local Authority\",0,new_yll(10,B231,C231,D231,$C$1,G231+H231,1,F231,E231*F231)))","v":984.07483353779787},{"$f":"W231-X231","v":0.55106817457090074},{"$f":"IF('III Tool Overview'!$H$6=\"Western Isles Health Board\",0,IF('III Tool Overview'!$H$6=\"Eilean Siar Local Authority\",0,new_yll(20,B231,C231,D231,$C$1,G231,1,F231,E231*F231)))","v":1895.2438158881193},{"$f":"IF('III Tool Overview'!$H$6=\"Western Isles Health Board\",0,IF('III Tool Overview'!$H$6=\"Eilean Siar Local Authority\",0,new_yll(20,B231,C231,D231,$C$1,G231+H231,1,F231,E231*F231)))","v":1894.5486681529924},{"$f":"Z231-AA231","v":0.69514773512696593},{"$f":"IF('III Tool Overview'!$H$6=\"Western Isles Health Board\",0,IF('III Tool Overview'!$H$6=\"Eilean Siar Local Authority\",0,hosp_count(2,B231,C231,D231,$C$1,G231,1,F231,E231*F231)))","v":88.115122380238304},{"$f":"IF('III Tool Overview'!$H$6=\"Western Isles Health Board\",0,IF('III Tool Overview'!$H$6=\"Eilean Siar Local Authority\",0,hosp_count(2,B231,C231,D231,$C$1,G231+H231,1,F231,E231*F231)))","v":88.077298508714421},{"$f":"AC231-AD231","v":3.7823871523883668E-2},{"$f":"IF('III Tool Overview'!$H$6=\"Western Isles Health Board\",0,IF('III Tool Overview'!$H$6=\"Eilean Siar Local Authority\",0,hosp_count(5,B231,C231,D231,$C$1,G231,1,F231,E231*F231)))","v":357.66180056447013},{"$f":"IF('III Tool Overview'!$H$6=\"Western Isles Health Board\",0,IF('III Tool Overview'!$H$6=\"Eilean Siar Local Authority\",0,hosp_count(5,B231,C231,D231,$C$1,G231+H231,1,F231,E231*F231)))","v":357.52170711272953},{"$f":"AF231-AG231","v":0.14009345174059717},{"$f":"IF('III Tool Overview'!$H$6=\"Western Isles Health Board\",0,IF('III Tool Overview'!$H$6=\"Eilean Siar Local Authority\",0,hosp_count(10,B231,C231,D231,$C$1,G231,1,F231,E231*F231)))","v":817.88341902607056},{"$f":"IF('III Tool Overview'!$H$6=\"Western Isles Health Board\",0,IF('III Tool Overview'!$H$6=\"Eilean Siar Local Authority\",0,hosp_count(10,B231,C231,D231,$C$1,G231+H231,1,F231,E231*F231)))","v":817.61866584752761},{"$f":"AI231-AJ231","v":0.26475317854294644},{"$f":"IF('III Tool Overview'!$H$6=\"Western Isles Health Board\",0,IF('III Tool Overview'!$H$6=\"Eilean Siar Local Authority\",0,hosp_count(20,B231,C231,D231,$C$1,G231,1,F231,E231*F231)))","v":1711.1246356303036},{"$f":"IF('III Tool Overview'!$H$6=\"Western Isles Health Board\",0,IF('III Tool Overview'!$H$6=\"Eilean Siar Local Authority\",0,hosp_count(20,B231,C231,D231,$C$1,G231+H231,1,F231,E231*F231)))","v":1710.8128180580852},{"$f":"AL231-AM231","v":0.3118175722183878},null,0.5,5]
["Female 75-79",77.5,"female",4,{"$f":"HLOOKUP('III Tool Overview'!$H$6,Prevalence!$B$2:$AV$268,Prevalence!AW221,FALSE)","v":3.4090909090909088E-2},{"$f":"HLOOKUP('III Tool Overview'!$H$6,LookUpData_Pop!$B$1:$AV$269,LookUpData_Pop!BB226,FALSE)/5","v":204.8},{"$f":"'III Tool Overview'!$H$9/110","v":0},{"$f":"IF('III Tool Overview'!$H$10=\"Even distribution\",Targeting!C230,IF('III Tool Overview'!$H$10=\"Targetting to Q1\",Targeting!D230,IF('III Tool Overview'!$H$10=\"Targetting to Q1 & Q2\",Targeting!E230,IF('III Tool Overview'!$H$10=\"No variation in price elasticity\",Targeting!G230))))","v":6.5727272727272723},{"$f":"IF('III Tool Overview'!$H$6=\"Western Isles Health Board\",0,IF('III Tool Overview'!$H$6=\"Eilean Siar Local Authority\",0,new_ci(2,B232,C232,D232,$C$1,G232,1,F232,E232*F232)))","v":5.0229610236946662},{"$f":"IF('III Tool Overview'!$H$6=\"Western Isles Health Board\",0,IF('III Tool Overview'!$H$6=\"Eilean Siar Local Authority\",0,new_ci(2,B232,C232,D232,$C$1,G232+H232,1,F232,E232*F232)))","v":5.0214366769835665},{"$f":"IF('III Tool Overview'!$H$6=\"Western Isles Health Board\",0,IF('III Tool Overview'!$H$6=\"Eilean Siar Local Authority\",0,new_ci(5,B232,C232,D232,$C$1,G232,1,F232,E232*F232)))","v":21.348206414210956},{"$f":"IF('III Tool Overview'!$H$6=\"Western Isles Health Board\",0,IF('III Tool Overview'!$H$6=\"Eilean Siar Local Authority\",0,new_ci(5,B232,C232,D232,$C$1,G232+H232,1,F232,E232*F232)))","v":21.342614708977674},{"$f":"IF('III Tool Overview'!$H$6=\"Western Isles Health Board\",0,IF('III Tool Overview'!$H$6=\"Eilean Siar Local Authority\",0,new_ci(10,B232,C232,D232,$C$1,G232,1,F232,E232*F232)))","v":52.478674910718524},{"$f":"IF('III Tool Overview'!$H$6=\"Western Isles Health Board\",0,IF('III Tool Overview'!$H$6=\"Eilean Siar Local Authority\",0,new_ci(10,B232,C232,D232,$C$1,G232+H232,1,F232,E232*F232)))","v":52.468731642832765},{"$f":"IF('III Tool Overview'!$H$6=\"Western Isles Health Board\",0,IF('III Tool Overview'!$H$6=\"Eilean Siar Local Authority\",0,new_ci(20,B232,C232,D232,$C$1,G232,1,F232,E232*F232)))","v":122.88130046397927},{"$f":"IF('III Tool Overview'!$H$6=\"Western Isles Health Board\",0,IF('III Tool Overview'!$H$6=\"Eilean Siar Local Authority\",0,new_ci(20,B232,C232,D232,$C$1,G232+H232,1,F232,E232*F232)))","v":122.87362787746505},{"$f":"IF('III Tool Overview'!$H$6=\"Western Isles Health Board\",0,IF('III Tool Overview'!$H$6=\"Eilean Siar Local Authority\",0,new_yll(2,B232,C232,D232,$C$1,G232,1,F232,E232*F232)))","v":105.48218149758799},{"$f":"IF('III Tool Overview'!$H$6=\"Western Isles Health Board\",0,IF('III Tool Overview'!$H$6=\"Eilean Siar Local Authority\",0,new_yll(2,B232,C232,D232,$C$1,G232+H232,1,F232,E232*F232)))","v":105.4501702166549},3.2011280933090802E-2,{"$f":"IF('III Tool Overview'!$H$6=\"Western Isles Health Board\",0,IF('III Tool Overview'!$H$6=\"Eilean Siar Local Authority\",0,new_yll(5,B232,C232,D232,$C$1,G232,1,F232,E232*F232)))","v":415.24588942356814},{"$f":"IF('III Tool Overview'!$H$6=\"Western Isles Health Board\",0,IF('III Tool Overview'!$H$6=\"Eilean Siar Local Authority\",0,new_yll(5,B232,C232,D232,$C$1,G232+H232,1,F232,E232*F232)))","v":415.13640764906472},0.109481774503422,{"$f":"IF('III Tool Overview'!$H$6=\"Western Isles Health Board\",0,IF('III Tool Overview'!$H$6=\"Eilean Siar Local Authority\",0,new_yll(10,B232,C232,D232,$C$1,G232,1,F232,E232*F232)))","v":880.38001569475682},{"$f":"IF('III Tool Overview'!$H$6=\"Western Isles Health Board\",0,IF('III Tool Overview'!$H$6=\"Eilean Siar Local Authority\",0,new_yll(10,B232,C232,D232,$C$1,G232+H232,1,F232,E232*F232)))","v":880.20384681974076},0.17616887501606016,{"$f":"IF('III Tool Overview'!$H$6=\"Western Isles Health Board\",0,IF('III Tool Overview'!$H$6=\"Eilean Siar Local Authority\",0,new_yll(20,B232,C232,D232,$C$1,G232,1,F232,E232*F232)))","v":1405.6654536074752},{"$f":"IF('III Tool Overview'!$H$6=\"Western Isles Health Board\",0,IF('III Tool Overview'!$H$6=\"Eilean Siar Local Authority\",0,new_yll(20,B232,C232,D232,$C$1,G232+H232,1,F232,E232*F232)))","v":1405.4955458617092},0.16990774576606782,{"$f":"IF('III Tool Overview'!$H$6=\"Western Isles Health Board\",0,IF('III Tool Overview'!$H$6=\"Eilean Siar Local Authority\",0,hosp_count(2,B232,C232,D232,$C$1,G232,1,F232,E232*F232)))","v":79.732955880681217},{"$f":"IF('III Tool Overview'!$H$6=\"Western Isles Health Board\",0,IF('III Tool Overview'!$H$6=\"Eilean Siar Local Authority\",0,hosp_count(2,B232,C232,D232,$C$1,G232+H232,1,F232,E232*F232)))","v":79.718676180060754},1.4279700620463132E-2,{"$f":"IF('III Tool Overview'!$H$6=\"Western Isles Health Board\",0,IF('III Tool Overview'!$H$6=\"Eilean Siar Local Authority\",0,hosp_count(5,B232,C232,D232,$C$1,G232,1,F232,E232*F232)))","v":318.82516445106057},{"$f":"IF('III Tool Overview'!$H$6=\"Western Isles Health Board\",0,IF('III Tool Overview'!$H$6=\"Eilean Siar Local Authority\",0,hosp_count(5,B232,C232,D232,$C$1,G232+H232,1,F232,E232*F232)))","v":318.77631589010372},4.8848560956855636E-2,{"$f":"IF('III Tool Overview'!$H$6=\"Western Isles Health Board\",0,IF('III Tool Overview'!$H$6=\"Eilean Siar Local Authority\",0,hosp_count(10,B232,C232,D232,$C$1,G232,1,F232,E232*F232)))","v":707.63390691712232},{"$f":"IF('III Tool Overview'!$H$6=\"Western Isles Health Board\",0,IF('III Tool Overview'!$H$6=\"Eilean Siar Local Authority\",0,hosp_count(10,B232,C232,D232,$C$1,G232+H232,1,F232,E232*F232)))","v":707.55579444438456},7.8112472737757344E-2,{"$f":"IF('III Tool Overview'!$H$6=\"Western Isles Health Board\",0,IF('III Tool Overview'!$H$6=\"Eilean Siar Local Authority\",0,hosp_count(20,B232,C232,D232,$C$1,G232,1,F232,E232*F232)))","v":1366.9947263650301},{"$f":"IF('III Tool Overview'!$H$6=\"Western Isles Health Board\",0,IF('III Tool Overview'!$H$6=\"Eilean Siar Local Authority\",0,hosp_count(20,B232,C232,D232,$C$1,G232+H232,1,F232,E232*F232)))","v":1366.9377058194971},5.7020545533077893E-2,null,0.5,5]
["Female 80-84",82.5,"female",4,{"$f":"HLOOKUP('III Tool Overview'!$H$6,Prevalence!$B$2:$AV$268,Prevalence!AW222,FALSE)","v":3.4090909090909088E-2},{"$f":"HLOOKUP('III Tool Overview'!$H$6,LookUpData_Pop!$B$1:$AV$269,LookUpData_Pop!BB227,FALSE)/5","v":147.19999999999999},{"$f":"'III Tool Overview'!$H$9/110","v":0},{"$f":"IF('III Tool Overview'!$H$10=\"Even distribution\",Targeting!C231,IF('III Tool Overview'!$H$10=\"Targetting to Q1\",Targeting!D231,IF('III Tool Overview'!$H$10=\"Targetting to Q1 & Q2\",Targeting!E231,IF('III Tool Overview'!$H$10=\"No variation in price elasticity\",Targeting!G231))))","v":4.8545454545454545},{"$f":"IF('III Tool Overview'!$H$6=\"Western Isles Health Board\",0,IF('III Tool Overview'!$H$6=\"Eilean Siar Local Authority\",0,new_ci(2,B233,C233,D233,$C$1,G233,1,F233,E233*F233)))","v":4.9852071718051816},{"$f":"IF('III Tool Overview'!$H$6=\"Western Isles Health Board\",0,IF('III Tool Overview'!$H$6=\"Eilean Siar Local Authority\",0,new_ci(2,B233,C233,D233,$C$1,G233+H233,1,F233,E233*F233)))","v":4.9837270486989267},{"$f":"IF('III Tool Overview'!$H$6=\"Western Isles Health Board\",0,IF('III Tool Overview'!$H$6=\"Eilean Siar Local Authority\",0,new_ci(5,B233,C233,D233,$C$1,G233,1,F233,E233*F233)))","v":20.836322449784952},{"$f":"IF('III Tool Overview'!$H$6=\"Western Isles Health Board\",0,IF('III Tool Overview'!$H$6=\"Eilean Siar Local Authority\",0,new_ci(5,B233,C233,D233,$C$1,G233+H233,1,F233,E233*F233)))","v":20.831270474526317},{"$f":"IF('III Tool Overview'!$H$6=\"Western Isles Health Board\",0,IF('III Tool Overview'!$H$6=\"Eilean Siar Local Authority\",0,new_ci(10,B233,C233,D233,$C$1,G233,1,F233,E233*F233)))","v":49.507519224801825},{"$f":"IF('III Tool Overview'!$H$6=\"Western Isles Health Board\",0,IF('III Tool Overview'!$H$6=\"Eilean Siar Local Authority\",0,new_ci(10,B233,C233,D233,$C$1,G233+H233,1,F233,E233*F233)))","v":49.499849439085047},{"$f":"IF('III Tool Overview'!$H$6=\"Western Isles Health Board\",0,IF('III Tool Overview'!$H$6=\"Eilean Siar Local Authority\",0,new_ci(20,B233,C233,D233,$C$1,G233,1,F233,E233*F233)))","v":105.72522027674768},{"$f":"IF('III Tool Overview'!$H$6=\"Western Isles Health Board\",0,IF('III Tool Overview'!$H$6=\"Eilean Siar Local Authority\",0,new_ci(20,B233,C233,D233,$C$1,G233+H233,1,F233,E233*F233)))","v":105.72175054350804},{"$f":"IF('III Tool Overview'!$H$6=\"Western Isles Health Board\",0,IF('III Tool Overview'!$H$6=\"Eilean Siar Local Authority\",0,new_yll(2,B233,C233,D233,$C$1,G233,1,F233,E233*F233)))","v":84.748521920688091},{"$f":"IF('III Tool Overview'!$H$6=\"Western Isles Health Board\",0,IF('III Tool Overview'!$H$6=\"Eilean Siar Local Authority\",0,new_yll(2,B233,C233,D233,$C$1,G233+H233,1,F233,E233*F233)))","v":84.723359827881751},2.5162092806340297E-2,{"$f":"IF('III Tool Overview'!$H$6=\"Western Isles Health Board\",0,IF('III Tool Overview'!$H$6=\"Eilean Siar Local Authority\",0,new_yll(5,B233,C233,D233,$C$1,G233,1,F233,E233*F233)))","v":322.23187760527691},{"$f":"IF('III Tool Overview'!$H$6=\"Western Isles Health Board\",0,IF('III Tool Overview'!$H$6=\"Eilean Siar Local Authority\",0,new_yll(5,B233,C233,D233,$C$1,G233+H233,1,F233,E233*F233)))","v":322.15282980272224},7.9047802554669033E-2,{"$f":"IF('III Tool Overview'!$H$6=\"Western Isles Health Board\",0,IF('III Tool Overview'!$H$6=\"Eilean Siar Local Authority\",0,new_yll(10,B233,C233,D233,$C$1,G233,1,F233,E233*F233)))","v":636.77408136580925},{"$f":"IF('III Tool Overview'!$H$6=\"Western Isles Health Board\",0,IF('III Tool Overview'!$H$6=\"Eilean Siar Local Authority\",0,new_yll(10,B233,C233,D233,$C$1,G233+H233,1,F233,E233*F233)))","v":636.66451674125119},0.10956462455806104,{"$f":"IF('III Tool Overview'!$H$6=\"Western Isles Health Board\",0,IF('III Tool Overview'!$H$6=\"Eilean Siar Local Authority\",0,new_yll(20,B233,C233,D233,$C$1,G233,1,F233,E233*F233)))","v":842.09496508757013},{"$f":"IF('III Tool Overview'!$H$6=\"Western Isles Health Board\",0,IF('III Tool Overview'!$H$6=\"Eilean Siar Local Authority\",0,new_yll(20,B233,C233,D233,$C$1,G233+H233,1,F233,E233*F233)))","v":841.99425885555843},0.10070623201170292,{"$f":"IF('III Tool Overview'!$H$6=\"Western Isles Health Board\",0,IF('III Tool Overview'!$H$6=\"Eilean Siar Local Authority\",0,hosp_count(2,B233,C233,D233,$C$1,G233,1,F233,E233*F233)))","v":63.245541978773112},{"$f":"IF('III Tool Overview'!$H$6=\"Western Isles Health Board\",0,IF('III Tool Overview'!$H$6=\"Eilean Siar Local Authority\",0,hosp_count(2,B233,C233,D233,$C$1,G233+H233,1,F233,E233*F233)))","v":63.234284208770028},1.1257770003084033E-2,{"$f":"IF('III Tool Overview'!$H$6=\"Western Isles Health Board\",0,IF('III Tool Overview'!$H$6=\"Eilean Siar Local Authority\",0,hosp_count(5,B233,C233,D233,$C$1,G233,1,F233,E233*F233)))","v":249.05978078815116},{"$f":"IF('III Tool Overview'!$H$6=\"Western Isles Health Board\",0,IF('III Tool Overview'!$H$6=\"Eilean Siar Local Authority\",0,hosp_count(5,B233,C233,D233,$C$1,G233+H233,1,F233,E233*F233)))","v":249.02396939933914},3.5811388812021505E-2,{"$f":"IF('III Tool Overview'!$H$6=\"Western Isles Health Board\",0,IF('III Tool Overview'!$H$6=\"Eilean Siar Local Authority\",0,hosp_count(10,B233,C233,D233,$C$1,G233,1,F233,E233*F233)))","v":536.6636559705945},{"$f":"IF('III Tool Overview'!$H$6=\"Western Isles Health Board\",0,IF('III Tool Overview'!$H$6=\"Eilean Siar Local Authority\",0,hosp_count(10,B233,C233,D233,$C$1,G233+H233,1,F233,E233*F233)))","v":536.61451443027636},4.9141540318146326E-2,{"$f":"IF('III Tool Overview'!$H$6=\"Western Isles Health Board\",0,IF('III Tool Overview'!$H$6=\"Eilean Siar Local Authority\",0,hosp_count(20,B233,C233,D233,$C$1,G233,1,F233,E233*F233)))","v":964.41465963823237},{"$f":"IF('III Tool Overview'!$H$6=\"Western Isles Health Board\",0,IF('III Tool Overview'!$H$6=\"Eilean Siar Local Authority\",0,hosp_count(20,B233,C233,D233,$C$1,G233+H233,1,F233,E233*F233)))","v":964.3907216451255},2.3937993106869726E-2,null,0.5,5]
["Female 85-89",87.5,"female",4,{"$f":"HLOOKUP('III Tool Overview'!$H$6,Prevalence!$B$2:$AV$268,Prevalence!AW223,FALSE)","v":3.4090909090909088E-2},{"$f":"HLOOKUP('III Tool Overview'!$H$6,LookUpData_Pop!$B$1:$AV$269,LookUpData_Pop!BB228,FALSE)/5","v":96.8},{"$f":"'III Tool Overview'!$H$9/110","v":0},{"$f":"IF('III Tool Overview'!$H$10=\"Even distribution\",Targeting!C232,IF('III Tool Overview'!$H$10=\"Targetting to Q1\",Targeting!D232,IF('III Tool Overview'!$H$10=\"Targetting to Q1 & Q2\",Targeting!E232,IF('III Tool Overview'!$H$10=\"No variation in price elasticity\",Targeting!G232))))","v":2.5909090909090908},{"$f":"IF('III Tool Overview'!$H$6=\"Western Isles Health Board\",0,IF('III Tool Overview'!$H$6=\"Eilean Siar Local Authority\",0,new_ci(2,B234,C234,D234,$C$1,G234,1,F234,E234*F234)))","v":5.2996591475670973},{"$f":"IF('III Tool Overview'!$H$6=\"Western Isles Health Board\",0,IF('III Tool Overview'!$H$6=\"Eilean Siar Local Authority\",0,new_ci(2,B234,C234,D234,$C$1,G234+H234,1,F234,E234*F234)))","v":5.298270249015312},{"$f":"IF('III Tool Overview'!$H$6=\"Western Isles Health Board\",0,IF('III Tool Overview'!$H$6=\"Eilean Siar Local Authority\",0,new_ci(5,B234,C234,D234,$C$1,G234,1,F234,E234*F234)))","v":21.346358582780855},{"$f":"IF('III Tool Overview'!$H$6=\"Western Isles Health Board\",0,IF('III Tool Overview'!$H$6=\"Eilean Siar Local Authority\",0,new_ci(5,B234,C234,D234,$C$1,G234+H234,1,F234,E234*F234)))","v":21.342339680493875},{"$f":"IF('III Tool Overview'!$H$6=\"Western Isles Health Board\",0,IF('III Tool Overview'!$H$6=\"Eilean Siar Local Authority\",0,new_ci(10,B234,C234,D234,$C$1,G234,1,F234,E234*F234)))","v":47.170632938442232},{"$f":"IF('III Tool Overview'!$H$6=\"Western Isles Health Board\",0,IF('III Tool Overview'!$H$6=\"Eilean Siar Local Authority\",0,new_ci(10,B234,C234,D234,$C$1,G234+H234,1,F234,E234*F234)))","v":47.166386070876136},{"$f":"IF('III Tool Overview'!$H$6=\"Western Isles Health Board\",0,IF('III Tool Overview'!$H$6=\"Eilean Siar Local Authority\",0,new_ci(20,B234,C234,D234,$C$1,G234,1,F234,E234*F234)))","v":84.495855663232888},{"$f":"IF('III Tool Overview'!$H$6=\"Western Isles Health Board\",0,IF('III Tool Overview'!$H$6=\"Eilean Siar Local Authority\",0,new_ci(20,B234,C234,D234,$C$1,G234+H234,1,F234,E234*F234)))","v":84.495290573918851},{"$f":"IF('III Tool Overview'!$H$6=\"Western Isles Health Board\",0,IF('III Tool Overview'!$H$6=\"Eilean Siar Local Authority\",0,new_yll(2,B234,C234,D234,$C$1,G234,1,F234,E234*F234)))","v":58.296250623238073},{"$f":"IF('III Tool Overview'!$H$6=\"Western Isles Health Board\",0,IF('III Tool Overview'!$H$6=\"Eilean Siar Local Authority\",0,new_yll(2,B234,C234,D234,$C$1,G234+H234,1,F234,E234*F234)))","v":58.280972739168433},1.5277884069639924E-2,{"$f":"IF('III Tool Overview'!$H$6=\"Western Isles Health Board\",0,IF('III Tool Overview'!$H$6=\"Eilean Siar Local Authority\",0,new_yll(5,B234,C234,D234,$C$1,G234,1,F234,E234*F234)))","v":202.70310702981402},{"$f":"IF('III Tool Overview'!$H$6=\"Western Isles Health Board\",0,IF('III Tool Overview'!$H$6=\"Eilean Siar Local Authority\",0,new_yll(5,B234,C234,D234,$C$1,G234+H234,1,F234,E234*F234)))","v":202.66366127934856},3.944575046546106E-2,{"$f":"IF('III Tool Overview'!$H$6=\"Western Isles Health Board\",0,IF('III Tool Overview'!$H$6=\"Eilean Siar Local Authority\",0,new_yll(10,B234,C234,D234,$C$1,G234,1,F234,E234*F234)))","v":332.74907571699794},{"$f":"IF('III Tool Overview'!$H$6=\"Western Isles Health Board\",0,IF('III Tool Overview'!$H$6=\"Eilean Siar Local Authority\",0,new_yll(10,B234,C234,D234,$C$1,G234+H234,1,F234,E234*F234)))","v":332.70683739549366},4.2238321504271426E-2,{"$f":"IF('III Tool Overview'!$H$6=\"Western Isles Health Board\",0,IF('III Tool Overview'!$H$6=\"Eilean Siar Local Authority\",0,new_yll(20,B234,C234,D234,$C$1,G234,1,F234,E234*F234)))","v":260.74958361851816},{"$f":"IF('III Tool Overview'!$H$6=\"Western Isles Health Board\",0,IF('III Tool Overview'!$H$6=\"Eilean Siar Local Authority\",0,new_yll(20,B234,C234,D234,$C$1,G234+H234,1,F234,E234*F234)))","v":260.69968438085169},4.9899237666465979E-2,{"$f":"IF('III Tool Overview'!$H$6=\"Western Isles Health Board\",0,IF('III Tool Overview'!$H$6=\"Eilean Siar Local Authority\",0,hosp_count(2,B234,C234,D234,$C$1,G234,1,F234,E234*F234)))","v":48.219062264565729},{"$f":"IF('III Tool Overview'!$H$6=\"Western Isles Health Board\",0,IF('III Tool Overview'!$H$6=\"Eilean Siar Local Authority\",0,hosp_count(2,B234,C234,D234,$C$1,G234+H234,1,F234,E234*F234)))","v":48.211219200598777},7.8430639669520019E-3,{"$f":"IF('III Tool Overview'!$H$6=\"Western Isles Health Board\",0,IF('III Tool Overview'!$H$6=\"Eilean Siar Local Authority\",0,hosp_count(5,B234,C234,D234,$C$1,G234,1,F234,E234*F234)))","v":183.52876557372386},{"$f":"IF('III Tool Overview'!$H$6=\"Western Isles Health Board\",0,IF('III Tool Overview'!$H$6=\"Eilean Siar Local Authority\",0,hosp_count(5,B234,C234,D234,$C$1,G234+H234,1,F234,E234*F234)))","v":183.50758674882999},2.1178824893866022E-2,{"$f":"IF('III Tool Overview'!$H$6=\"Western Isles Health Board\",0,IF('III Tool Overview'!$H$6=\"Eilean Siar Local Authority\",0,hosp_count(10,B234,C234,D234,$C$1,G234,1,F234,E234*F234)))","v":371.11304023468557},{"$f":"IF('III Tool Overview'!$H$6=\"Western Isles Health Board\",0,IF('III Tool Overview'!$H$6=\"Eilean Siar Local Authority\",0,hosp_count(10,B234,C234,D234,$C$1,G234+H234,1,F234,E234*F234)))","v":371.09241890550311},2.0621329182461068E-2,{"$f":"IF('III Tool Overview'!$H$6=\"Western Isles Health Board\",0,IF('III Tool Overview'!$H$6=\"Eilean Siar Local Authority\",0,hosp_count(20,B234,C234,D234,$C$1,G234,1,F234,E234*F234)))","v":581.42159871643673},{"$f":"IF('III Tool Overview'!$H$6=\"Western Isles Health Board\",0,IF('III Tool Overview'!$H$6=\"Eilean Siar Local Authority\",0,hosp_count(20,B234,C234,D234,$C$1,G234+H234,1,F234,E234*F234)))","v":581.4165828114451},5.0159049916373988E-3,null,0.5,{"$f":"2/#REF!","v":{"$error":"#REF!"}}]
["Female 90+",95,"female",4,{"$f":"HLOOKUP('III Tool Overview'!$H$6,Prevalence!$B$2:$AV$268,Prevalence!AW224,FALSE)","v":3.4090909090909088E-2},{"$f":"HLOOKUP('III Tool Overview'!$H$6,LookUpData_Pop!$B$1:$AV$269,LookUpData_Pop!BB229,FALSE)/5","v":58.4},{"$f":"'III Tool Overview'!$H$9/110","v":0},{"$f":"IF('III Tool Overview'!$H$10=\"Even distribution\",Targeting!C233,IF('III Tool Overview'!$H$10=\"Targetting to Q1\",Targeting!D233,IF('III Tool Overview'!$H$10=\"Targetting to Q1 & Q2\",Targeting!E233,IF('III Tool Overview'!$H$10=\"No variation in price elasticity\",Targeting!G233))))","v":2.0454545454545454},{"$f":"IF('III Tool Overview'!$H$6=\"Western Isles Health Board\",0,IF('III Tool Overview'!$H$6=\"Eilean Siar Local Authority\",0,new_ci(2,B235,C235,D235,$C$1,G235,1,F235,E235*F235)))","v":5.5467685796969048},{"$f":"IF('III Tool Overview'!$H$6=\"Western Isles Health Board\",0,IF('III Tool Overview'!$H$6=\"Eilean Siar Local Authority\",0,new_ci(2,B235,C235,D235,$C$1,G235+H235,1,F235,E235*F235)))","v":5.545279314756443},{"$f":"IF('III Tool Overview'!$H$6=\"Western Isles Health Board\",0,IF('III Tool Overview'!$H$6=\"Eilean Siar Local Authority\",0,new_ci(5,B235,C235,D235,$C$1,G235,1,F235,E235*F235)))","v":20.796792360250535},{"$f":"IF('III Tool Overview'!$H$6=\"Western Isles Health Board\",0,IF('III Tool Overview'!$H$6=\"Eilean Siar Local Authority\",0,new_ci(5,B235,C235,D235,$C$1,G235+H235,1,F235,E235*F235)))","v":20.79367729771743},{"$f":"IF('III Tool Overview'!$H$6=\"Western Isles Health Board\",0,IF('III Tool Overview'!$H$6=\"Eilean Siar Local Authority\",0,new_ci(10,B235,C235,D235,$C$1,G235,1,F235,E235*F235)))","v":40.388940428146192},{"$f":"IF('III Tool Overview'!$H$6=\"Western Isles Health Board\",0,IF('III Tool Overview'!$H$6=\"Eilean Siar Local Authority\",0,new_ci(10,B235,C235,D235,$C$1,G235+H235,1,F235,E235*F235)))","v":40.387325268981449},{"$f":"IF('III Tool Overview'!$H$6=\"Western Isles Health Board\",0,IF('III Tool Overview'!$H$6=\"Eilean Siar Local Authority\",0,new_ci(20,B235,C235,D235,$C$1,G235,1,F235,E235*F235)))","v":56.849576460538294},{"$f":"IF('III Tool Overview'!$H$6=\"Western Isles Health Board\",0,IF('III Tool Overview'!$H$6=\"Eilean Siar Local Authority\",0,new_ci(20,B235,C235,D235,$C$1,G235+H235,1,F235,E235*F235)))","v":56.849557054217406},{"$f":"IF('III Tool Overview'!$H$6=\"Western Isles Health Board\",0,IF('III Tool Overview'!$H$6=\"Eilean Siar Local Authority\",0,new_yll(2,B235,C235,D235,$C$1,G235,1,F235,E235*F235)))","v":22.187074318787619},{"$f":"IF('III Tool Overview'!$H$6=\"Western Isles Health Board\",0,IF('III Tool Overview'!$H$6=\"Eilean Siar Local Authority\",0,new_yll(2,B235,C235,D235,$C$1,G235+H235,1,F235,E235*F235)))","v":22.181117259025772},{"$f":"Q235-R235","v":5.9570597618474608E-3},{"$f":"IF('III Tool Overview'!$H$6=\"Western Isles Health Board\",0,IF('III Tool Overview'!$H$6=\"Eilean Siar Local Authority\",0,new_yll(5,B235,C235,D235,$C$1,G235,1,F235,E235*F235)))","v":53.190797118316127},{"$f":"IF('III Tool Overview'!$H$6=\"Western Isles Health Board\",0,IF('III Tool Overview'!$H$6=\"Eilean Siar Local Authority\",0,new_yll(5,B235,C235,D235,$C$1,G235+H235,1,F235,E235*F235)))","v":53.180804601147969},{"$f":"T235-U235","v":9.992517168157633E-3},{"$f":"IF('III Tool Overview'!$H$6=\"Western Isles Health Board\",0,IF('III Tool Overview'!$H$6=\"Eilean Siar Local Authority\",0,new_yll(10,B235,C235,D235,$C$1,G235,1,F235,E235*F235)))","v":17.187552027840987},{"$f":"IF('III Tool Overview'!$H$6=\"Western Isles Health Board\",0,IF('III Tool Overview'!$H$6=\"Eilean Siar Local Authority\",0,new_yll(10,B235,C235,D235,$C$1,G235+H235,1,F235,E235*F235)))","v":17.173789848900455},{"$f":"W235-X235","v":1.3762178940531555E-2},{"$f":"IF('III Tool Overview'!$H$6=\"Western Isles Health Board\",0,IF('III Tool Overview'!$H$6=\"Eilean Siar Local Authority\",0,new_yll(20,B235,C235,D235,$C$1,G235,1,F235,E235*F235)))","v":-117.48166889339605},{"$f":"IF('III Tool Overview'!$H$6=\"Western Isles Health Board\",0,IF('III Tool Overview'!$H$6=\"Eilean Siar Local Authority\",0,new_yll(20,B235,C235,D235,$C$1,G235+H235,1,F235,E235*F235)))","v":-117.50723486598675},{"$f":"Z235-AA235","v":2.5565972590698038E-2},{"$f":"IF('III Tool Overview'!$H$6=\"Western Isles Health Board\",0,IF('III Tool Overview'!$H$6=\"Eilean Siar Local Authority\",0,hosp_count(2,B235,C235,D235,$C$1,G235,1,F235,E235*F235)))","v":34.56854444816647},{"$f":"IF('III Tool Overview'!$H$6=\"Western Isles Health Board\",0,IF('III Tool Overview'!$H$6=\"Eilean Siar Local Authority\",0,hosp_count(2,B235,C235,D235,$C$1,G235+H235,1,F235,E235*F235)))","v":34.562341522875002},{"$f":"AC235-AD235","v":6.2029252914683752E-3},{"$f":"IF('III Tool Overview'!$H$6=\"Western Isles Health Board\",0,IF('III Tool Overview'!$H$6=\"Eilean Siar Local Authority\",0,hosp_count(5,B235,C235,D235,$C$1,G235,1,F235,E235*F235)))","v":123.18643094608395},{"$f":"IF('III Tool Overview'!$H$6=\"Western Isles Health Board\",0,IF('III Tool Overview'!$H$6=\"Eilean Siar Local Authority\",0,hosp_count(5,B235,C235,D235,$C$1,G235+H235,1,F235,E235*F235)))","v":123.17412267459132},{"$f":"AF235-AG235","v":1.2308271492628364E-2},{"$f":"IF('III Tool Overview'!$H$6=\"Western Isles Health Board\",0,IF('III Tool Overview'!$H$6=\"Eilean Siar Local Authority\",0,hosp_count(10,B235,C235,D235,$C$1,G235,1,F235,E235*F235)))","v":222.49395914312831},{"$f":"IF('III Tool Overview'!$H$6=\"Western Isles Health Board\",0,IF('III Tool Overview'!$H$6=\"Eilean Siar Local Authority\",0,hosp_count(10,B235,C235,D235,$C$1,G235+H235,1,F235,E235*F235)))","v":222.487403093393},{"$f":"AI235-AJ235","v":6.5560497353089886E-3},{"$f":"IF('III Tool Overview'!$H$6=\"Western Isles Health Board\",0,IF('III Tool Overview'!$H$6=\"Eilean Siar Local Authority\",0,hosp_count(20,B235,C235,D235,$C$1,G235,1,F235,E235*F235)))","v":289.67088856535742},{"$f":"IF('III Tool Overview'!$H$6=\"Western Isles Health Board\",0,IF('III Tool Overview'!$H$6=\"Eilean Siar Local Authority\",0,hosp_count(20,B235,C235,D235,$C$1,G235+H235,1,F235,E235*F235)))","v":289.66935387691581},{"$f":"AL235-AM235","v":1.5346884416089779E-3}]
["TOTAL",null,null,null,null,{"$f":"SUM(F220:F235)","v":4700.3999999999996},{"$f":"SUM(G220:G235)","v":0},{"$f":"SUM(H220:H235)","v":430.11818181818188},{"$f":"SUM(I220:I235)","v":36.461613581387489},{"$f":"SUM(J220:J235)","v":36.44358433087703},{"$f":"SUM(K220:K235)","v":152.54810623351909},{"$f":"SUM(L220:L235)","v":152.47957737802895},{"$f":"SUM(M220:M235)","v":367.52353347724579},{"$f":"SUM(N220:N235)","v":367.3794403376391},{"$f":"SUM(O220:O235)","v":869.65948238045314},{"$f":"SUM(P220:P235)","v":869.38877093028248},{"$f":"SUM(Q220:Q235)","v":853.78159168330956},{"$f":"SUM(R220:R235)","v":853.23552540369985},{"$f":"SUM(S220:S235)","v":0.5460662796096063},{"$f":"SUM(T220:T235)","v":3440.9990557746164},{"$f":"SUM(U220:U235)","v":3438.8666087458369},{"$f":"SUM(V220:V235)","v":2.1324470287788309},{"$f":"SUM(W220:W235)","v":7789.4180744626938},{"$f":"SUM(X220:X235)","v":7784.7918889108869},{"$f":"SUM(Y220:Y235)","v":4.6261855518072963},{"$f":"SUM(Z220:Z235)","v":16268.565045466466},{"$f":"SUM(AA220:AA235)","v":16259.617427135761},{"$f":"SUM(AB220:AB235)","v":8.9476183307062911},{"$f":"SUM(AC220:AC235)","v":1025.9294119371816},{"$f":"SUM(AD220:AD235)","v":1025.4934108173447},{"$f":"SUM(AE220:AE235)","v":0.43600111983663936},{"$f":"SUM(AF220:AF235)","v":4176.3345562184904},{"$f":"SUM(AG220:AG235)","v":4174.6312708176383},{"$f":"SUM(AH220:AH235)","v":1.7032854008516694},{"$f":"SUM(AI220:AI235)","v":9645.880929273877},{"$f":"SUM(AJ220:AJ235)","v":9642.1977774832121},{"$f":"SUM(AK220:AK235)","v":3.6831517906657609},{"$f":"SUM(AL220:AL235)","v":21204.588710526918},{"$f":"SUM(AM220:AM235)","v":21197.518222643674},{"$f":"SUM(AN220:AN235)","v":7.0704878832487452}]
["age/sex breakdown: Q5"]
["Male <1",0.5,"male",5,null,{"$f":"HLOOKUP('III Tool Overview'!$H$6,LookUpData_Pop!$B$1:$AV$269,LookUpData_Pop!BB231,FALSE)/5","v":4},null,null,null,null,null,null,null,null,null,null,null,null,null,null,null,null,null,null,null,null,null,null,null,null,null,null,null,null,null,null,null,null,null,null,null,0.1,1]
["Male 1-4",2.5,"male",5,null,{"$f":"HLOOKUP('III Tool Overview'!$H$6,LookUpData_Pop!$B$1:$AV$269,LookUpData_Pop!BB232,FALSE)/5","v":12.6},null,null,null,null,null,null,null,null,null,null,null,null,null,null,null,null,null,null,null,null,null,null,null,null,null,null,null,null,null,null,null,null,null,null,null,0.5,4]
["Male 5-9",7.5,"male",5,null,{"$f":"HLOOKUP('III Tool Overview'!$H$6,LookUpData_Pop!$B$1:$AV$269,LookUpData_Pop!BB233,FALSE)/5","v":12.6},null,null,null,null,null,null,null,null,null,null,null,null,null,null,null,null,null,null,null,null,null,null,null,null,null,null,null,null,null,null,null,null,null,null,null,0.5,5]
["Male 10-14",12.5,"male",5,null,{"$f":"HLOOKUP('III Tool Overview'!$H$6,LookUpData_Pop!$B$1:$AV$269,LookUpData_Pop!BB234,FALSE)/5","v":19.2},null,null,null,null,null,null,null,null,null,null,null,null,null,null,null,null,null,null,null,null,null,null,null,null,null,null,null,null,null,null,null,null,null,null,null,0.5,5]
["Male 15-19",17.5,"male",5,{"$f":"HLOOKUP('III Tool Overview'!$H$6,Prevalence!$B$2:$AV$268,Prevalence!AW230,FALSE)","v":0.11249999999999999},{"$f":"HLOOKUP('III Tool Overview'!$H$6,LookUpData_Pop!$B$1:$AV$269,LookUpData_Pop!BB235,FALSE)/5","v":24.4},{"$f":"'III Tool Overview'!$H$9/110","v":0},{"$f":"IF('III Tool Overview'!$H$10=\"Even distribution\",Targeting!C240,IF('III Tool Overview'!$H$10=\"Targetting to Q1\",Targeting!D240,IF('III Tool Overview'!$H$10=\"Targetting to Q1 & Q2\",Targeting!E240,IF('III Tool Overview'!$H$10=\"No variation in price elasticity\",Targeting!G240))))","v":1.62},{"$f":"IF('III Tool Overview'!$H$6=\"Western Isles Health Board\",0,IF('III Tool Overview'!$H$6=\"Eilean Siar Local Authority\",0,new_ci(2,B242,C242,D242,$C$1,G242,1,F242,E242*F242)))","v":7.8837991185445096E-3},{"$f":"IF('III Tool Overview'!$H$6=\"Western Isles Health Board\",0,IF('III Tool Overview'!$H$6=\"Eilean Siar Local Authority\",0,new_ci(2,B242,C242,D242,$C$1,G242+H242,1,F242,E242*F242)))","v":7.878406968933915E-3},{"$f":"IF('III Tool Overview'!$H$6=\"Western Isles Health Board\",0,IF('III Tool Overview'!$H$6=\"Eilean Siar Local Authority\",0,new_ci(5,B242,C242,D242,$C$1,G242,1,F242,E242*F242)))","v":3.4475070388003529E-2},{"$f":"IF('III Tool Overview'!$H$6=\"Western Isles Health Board\",0,IF('III Tool Overview'!$H$6=\"Eilean Siar Local Authority\",0,new_ci(5,B242,C242,D242,$C$1,G242+H242,1,F242,E242*F242)))","v":3.4451659777265345E-2},{"$f":"IF('III Tool Overview'!$H$6=\"Western Isles Health Board\",0,IF('III Tool Overview'!$H$6=\"Eilean Siar Local Authority\",0,new_ci(10,B242,C242,D242,$C$1,G242,1,F242,E242*F242)))","v":9.0478353361892583E-2},{"$f":"IF('III Tool Overview'!$H$6=\"Western Isles Health Board\",0,IF('III Tool Overview'!$H$6=\"Eilean Siar Local Authority\",0,new_ci(10,B242,C242,D242,$C$1,G242+H242,1,F242,E242*F242)))","v":9.041772612746668E-2},{"$f":"IF('III Tool Overview'!$H$6=\"Western Isles Health Board\",0,IF('III Tool Overview'!$H$6=\"Eilean Siar Local Authority\",0,new_ci(20,B242,C242,D242,$C$1,G242,1,F242,E242*F242)))","v":0.26497423984305069},{"$f":"IF('III Tool Overview'!$H$6=\"Western Isles Health Board\",0,IF('III Tool Overview'!$H$6=\"Eilean Siar Local Authority\",0,new_ci(20,B242,C242,D242,$C$1,G242+H242,1,F242,E242*F242)))","v":0.26480240560679957},{"$f":"IF('III Tool Overview'!$H$6=\"Western Isles Health Board\",0,IF('III Tool Overview'!$H$6=\"Eilean Siar Local Authority\",0,new_yll(2,B242,C242,D242,$C$1,G242,1,F242,E242*F242)))","v":0.63858772860210533},{"$f":"IF('III Tool Overview'!$H$6=\"Western Isles Health Board\",0,IF('III Tool Overview'!$H$6=\"Eilean Siar Local Authority\",0,new_yll(2,B242,C242,D242,$C$1,G242+H242,1,F242,E242*F242)))","v":0.63815096448364717},{"$f":"Q242-R242","v":4.367641184581661E-4},{"$f":"IF('III Tool Overview'!$H$6=\"Western Isles Health Board\",0,IF('III Tool Overview'!$H$6=\"Eilean Siar Local Authority\",0,new_yll(5,B242,C242,D242,$C$1,G242,1,F242,E242*F242)))","v":2.7382705325218026},{"$f":"IF('III Tool Overview'!$H$6=\"Western Isles Health Board\",0,IF('III Tool Overview'!$H$6=\"Eilean Siar Local Authority\",0,new_yll(5,B242,C242,D242,$C$1,G242+H242,1,F242,E242*F242)))","v":2.7364109508293191},{"$f":"T242-U242","v":1.8595816924835695E-3},{"$f":"IF('III Tool Overview'!$H$6=\"Western Isles Health Board\",0,IF('III Tool Overview'!$H$6=\"Eilean Siar Local Authority\",0,new_yll(10,B242,C242,D242,$C$1,G242,1,F242,E242*F242)))","v":6.9320420081369321},{"$f":"IF('III Tool Overview'!$H$6=\"Western Isles Health Board\",0,IF('III Tool Overview'!$H$6=\"Eilean Siar Local Authority\",0,new_yll(10,B242,C242,D242,$C$1,G242+H242,1,F242,E242*F242)))","v":6.9273951182806188},{"$f":"W242-X242","v":4.6468898563132299E-3},{"$f":"IF('III Tool Overview'!$H$6=\"Western Isles Health Board\",0,IF('III Tool Overview'!$H$6=\"Eilean Siar Local Authority\",0,new_yll(20,B242,C242,D242,$C$1,G242,1,F242,E242*F242)))","v":18.628062502136299},{"$f":"IF('III Tool Overview'!$H$6=\"Western Isles Health Board\",0,IF('III Tool Overview'!$H$6=\"Eilean Siar Local Authority\",0,new_yll(20,B242,C242,D242,$C$1,G242+H242,1,F242,E242*F242)))","v":18.615956538465291},{"$f":"Z242-AA242","v":1.2105963671007913E-2},{"$f":"IF('III Tool Overview'!$H$6=\"Western Isles Health Board\",0,IF('III Tool Overview'!$H$6=\"Eilean Siar Local Authority\",0,hosp_count(2,B242,C242,D242,$C$1,G242,1,F242,E242*F242)))","v":1.3270140997449758},{"$f":"IF('III Tool Overview'!$H$6=\"Western Isles Health Board\",0,IF('III Tool Overview'!$H$6=\"Eilean Siar Local Authority\",0,hosp_count(2,B242,C242,D242,$C$1,G242+H242,1,F242,E242*F242)))","v":1.3264688881202495},{"$f":"AC242-AD242","v":5.452116247262051E-4},{"$f":"IF('III Tool Overview'!$H$6=\"Western Isles Health Board\",0,IF('III Tool Overview'!$H$6=\"Eilean Siar Local Authority\",0,hosp_count(5,B242,C242,D242,$C$1,G242,1,F242,E242*F242)))","v":5.6086420323603923},{"$f":"IF('III Tool Overview'!$H$6=\"Western Isles Health Board\",0,IF('III Tool Overview'!$H$6=\"Eilean Siar Local Authority\",0,hosp_count(5,B242,C242,D242,$C$1,G242+H242,1,F242,E242*F242)))","v":5.6063560243258479},{"$f":"AF242-AG242","v":2.2860080345443734E-3},{"$f":"IF('III Tool Overview'!$H$6=\"Western Isles Health Board\",0,IF('III Tool Overview'!$H$6=\"Eilean Siar Local Authority\",0,hosp_count(10,B242,C242,D242,$C$1,G242,1,F242,E242*F242)))","v":13.860618429116965},{"$f":"IF('III Tool Overview'!$H$6=\"Western Isles Health Board\",0,IF('III Tool Overview'!$H$6=\"Eilean Siar Local Authority\",0,hosp_count(10,B242,C242,D242,$C$1,G242+H242,1,F242,E242*F242)))","v":13.855050068338011},{"$f":"AI242-AJ242","v":5.5683607789536183E-3},{"$f":"IF('III Tool Overview'!$H$6=\"Western Isles Health Board\",0,IF('III Tool Overview'!$H$6=\"Eilean Siar Local Authority\",0,hosp_count(20,B242,C242,D242,$C$1,G242,1,F242,E242*F242)))","v":35.553694300909001},{"$f":"IF('III Tool Overview'!$H$6=\"Western Isles Health Board\",0,IF('III Tool Overview'!$H$6=\"Eilean Siar Local Authority\",0,hosp_count(20,B242,C242,D242,$C$1,G242+H242,1,F242,E242*F242)))","v":35.539890476052776},{"$f":"AL242-AM242","v":1.3803824856225333E-2},null,0.5,5]
["Male 20-24",22.5,"male",5,{"$f":"HLOOKUP('III Tool Overview'!$H$6,Prevalence!$B$2:$AV$268,Prevalence!AW231,FALSE)","v":0.11249999999999999},{"$f":"HLOOKUP('III Tool Overview'!$H$6,LookUpData_Pop!$B$1:$AV$269,LookUpData_Pop!BB236,FALSE)/5","v":16.2},{"$f":"'III Tool Overview'!$H$9/110","v":0},{"$f":"IF('III Tool Overview'!$H$10=\"Even distribution\",Targeting!C241,IF('III Tool Overview'!$H$10=\"Targetting to Q1\",Targeting!D241,IF('III Tool Overview'!$H$10=\"Targetting to Q1 & Q2\",Targeting!E241,IF('III Tool Overview'!$H$10=\"No variation in price elasticity\",Targeting!G241))))","v":1.8},{"$f":"IF('III Tool Overview'!$H$6=\"Western Isles Health Board\",0,IF('III Tool Overview'!$H$6=\"Eilean Siar Local Authority\",0,new_ci(2,B243,C243,D243,$C$1,G243,1,F243,E243*F243)))","v":6.9920867737162324E-3},{"$f":"IF('III Tool Overview'!$H$6=\"Western Isles Health Board\",0,IF('III Tool Overview'!$H$6=\"Eilean Siar Local Authority\",0,new_ci(2,B243,C243,D243,$C$1,G243+H243,1,F243,E243*F243)))","v":6.9848889501403994E-3},{"$f":"IF('III Tool Overview'!$H$6=\"Western Isles Health Board\",0,IF('III Tool Overview'!$H$6=\"Eilean Siar Local Authority\",0,new_ci(5,B243,C243,D243,$C$1,G243,1,F243,E243*F243)))","v":3.0569367934963742E-2},{"$f":"IF('III Tool Overview'!$H$6=\"Western Isles Health Board\",0,IF('III Tool Overview'!$H$6=\"Eilean Siar Local Authority\",0,new_ci(5,B243,C243,D243,$C$1,G243+H243,1,F243,E243*F243)))","v":3.0538140169569083E-2},{"$f":"IF('III Tool Overview'!$H$6=\"Western Isles Health Board\",0,IF('III Tool Overview'!$H$6=\"Eilean Siar Local Authority\",0,new_ci(10,B243,C243,D243,$C$1,G243,1,F243,E243*F243)))","v":8.019298791594609E-2},{"$f":"IF('III Tool Overview'!$H$6=\"Western Isles Health Board\",0,IF('III Tool Overview'!$H$6=\"Eilean Siar Local Authority\",0,new_ci(10,B243,C243,D243,$C$1,G243+H243,1,F243,E243*F243)))","v":8.0112238489733589E-2},{"$f":"IF('III Tool Overview'!$H$6=\"Western Isles Health Board\",0,IF('III Tool Overview'!$H$6=\"Eilean Siar Local Authority\",0,new_ci(20,B243,C243,D243,$C$1,G243,1,F243,E243*F243)))","v":0.23453278038207526},{"$f":"IF('III Tool Overview'!$H$6=\"Western Isles Health Board\",0,IF('III Tool Overview'!$H$6=\"Eilean Siar Local Authority\",0,new_ci(20,B243,C243,D243,$C$1,G243+H243,1,F243,E243*F243)))","v":0.23430499555323825},{"$f":"IF('III Tool Overview'!$H$6=\"Western Isles Health Board\",0,IF('III Tool Overview'!$H$6=\"Eilean Siar Local Authority\",0,new_yll(2,B243,C243,D243,$C$1,G243,1,F243,E243*F243)))","v":0.53839068157614989},{"$f":"IF('III Tool Overview'!$H$6=\"Western Isles Health Board\",0,IF('III Tool Overview'!$H$6=\"Eilean Siar Local Authority\",0,new_yll(2,B243,C243,D243,$C$1,G243+H243,1,F243,E243*F243)))","v":0.53783644916081075},5.5423241533913981E-4,{"$f":"IF('III Tool Overview'!$H$6=\"Western Isles Health Board\",0,IF('III Tool Overview'!$H$6=\"Eilean Siar Local Authority\",0,new_yll(5,B243,C243,D243,$C$1,G243,1,F243,E243*F243)))","v":2.3057777868324774},{"$f":"IF('III Tool Overview'!$H$6=\"Western Isles Health Board\",0,IF('III Tool Overview'!$H$6=\"Eilean Siar Local Authority\",0,new_yll(5,B243,C243,D243,$C$1,G243+H243,1,F243,E243*F243)))","v":2.3034221557546801},{"$f":"T243-U243","v":2.3556310777972378E-3},{"$f":"IF('III Tool Overview'!$H$6=\"Western Isles Health Board\",0,IF('III Tool Overview'!$H$6=\"Eilean Siar Local Authority\",0,new_yll(10,B243,C243,D243,$C$1,G243,1,F243,E243*F243)))","v":5.8233349225449818},{"$f":"IF('III Tool Overview'!$H$6=\"Western Isles Health Board\",0,IF('III Tool Overview'!$H$6=\"Eilean Siar Local Authority\",0,new_yll(10,B243,C243,D243,$C$1,G243+H243,1,F243,E243*F243)))","v":5.8174684337184956},{"$f":"W243-X243","v":5.8664888264861048E-3},{"$f":"IF('III Tool Overview'!$H$6=\"Western Isles Health Board\",0,IF('III Tool Overview'!$H$6=\"Eilean Siar Local Authority\",0,new_yll(20,B243,C243,D243,$C$1,G243,1,F243,E243*F243)))","v":15.551327737068778},{"$f":"IF('III Tool Overview'!$H$6=\"Western Isles Health Board\",0,IF('III Tool Overview'!$H$6=\"Eilean Siar Local Authority\",0,new_yll(20,B243,C243,D243,$C$1,G243+H243,1,F243,E243*F243)))","v":15.536185991312077},{"$f":"Z243-AA243","v":1.5141745756700686E-2},{"$f":"IF('III Tool Overview'!$H$6=\"Western Isles Health Board\",0,IF('III Tool Overview'!$H$6=\"Eilean Siar Local Authority\",0,hosp_count(2,B243,C243,D243,$C$1,G243,1,F243,E243*F243)))","v":1.0130117181899483},{"$f":"IF('III Tool Overview'!$H$6=\"Western Isles Health Board\",0,IF('III Tool Overview'!$H$6=\"Eilean Siar Local Authority\",0,hosp_count(2,B243,C243,D243,$C$1,G243+H243,1,F243,E243*F243)))","v":1.0123850012040496},{"$f":"AC243-AD243","v":6.2671698589866764E-4},{"$f":"IF('III Tool Overview'!$H$6=\"Western Isles Health Board\",0,IF('III Tool Overview'!$H$6=\"Eilean Siar Local Authority\",0,hosp_count(5,B243,C243,D243,$C$1,G243,1,F243,E243*F243)))","v":4.2807156168383695},{"$f":"IF('III Tool Overview'!$H$6=\"Western Isles Health Board\",0,IF('III Tool Overview'!$H$6=\"Eilean Siar Local Authority\",0,hosp_count(5,B243,C243,D243,$C$1,G243+H243,1,F243,E243*F243)))","v":4.2780898519013286},{"$f":"AF243-AG243","v":2.6257649370409197E-3},{"$f":"IF('III Tool Overview'!$H$6=\"Western Isles Health Board\",0,IF('III Tool Overview'!$H$6=\"Eilean Siar Local Authority\",0,hosp_count(10,B243,C243,D243,$C$1,G243,1,F243,E243*F243)))","v":10.574906142321487},{"$f":"IF('III Tool Overview'!$H$6=\"Western Isles Health Board\",0,IF('III Tool Overview'!$H$6=\"Eilean Siar Local Authority\",0,hosp_count(10,B243,C243,D243,$C$1,G243+H243,1,F243,E243*F243)))","v":10.568520124403268},{"$f":"AI243-AJ243","v":6.3860179182189114E-3},{"$f":"IF('III Tool Overview'!$H$6=\"Western Isles Health Board\",0,IF('III Tool Overview'!$H$6=\"Eilean Siar Local Authority\",0,hosp_count(20,B243,C243,D243,$C$1,G243,1,F243,E243*F243)))","v":27.094843860859374},{"$f":"IF('III Tool Overview'!$H$6=\"Western Isles Health Board\",0,IF('III Tool Overview'!$H$6=\"Eilean Siar Local Authority\",0,hosp_count(20,B243,C243,D243,$C$1,G243+H243,1,F243,E243*F243)))","v":27.079086770112173},{"$f":"AL243-AM243","v":1.5757090747200664E-2},null,0.5,5]
["Male 25-29",27.5,"male",5,{"$f":"HLOOKUP('III Tool Overview'!$H$6,Prevalence!$B$2:$AV$268,Prevalence!AW232,FALSE)","v":0.16250000000000001},{"$f":"HLOOKUP('III Tool Overview'!$H$6,LookUpData_Pop!$B$1:$AV$269,LookUpData_Pop!BB237,FALSE)/5","v":8.8000000000000007},{"$f":"'III Tool Overview'!$H$9/110","v":0},{"$f":"IF('III Tool Overview'!$H$10=\"Even distribution\",Targeting!C242,IF('III Tool Overview'!$H$10=\"Targetting to Q1\",Targeting!D242,IF('III Tool Overview'!$H$10=\"Targetting to Q1 & Q2\",Targeting!E242,IF('III Tool Overview'!$H$10=\"No variation in price elasticity\",Targeting!G242))))","v":1.04},{"$f":"IF('III Tool Overview'!$H$6=\"Western Isles Health Board\",0,IF('III Tool Overview'!$H$6=\"Eilean Siar Local Authority\",0,new_ci(2,B244,C244,D244,$C$1,G244,1,F244,E244*F244)))","v":5.8637689423795443E-3},{"$f":"IF('III Tool Overview'!$H$6=\"Western Isles Health Board\",0,IF('III Tool Overview'!$H$6=\"Eilean Siar Local Authority\",0,new_ci(2,B244,C244,D244,$C$1,G244+H244,1,F244,E244*F244)))","v":5.8581541698961466E-3},{"$f":"IF('III Tool Overview'!$H$6=\"Western Isles Health Board\",0,IF('III Tool Overview'!$H$6=\"Eilean Siar Local Authority\",0,new_ci(5,B244,C244,D244,$C$1,G244,1,F244,E244*F244)))","v":2.5625076568433339E-2},{"$f":"IF('III Tool Overview'!$H$6=\"Western Isles Health Board\",0,IF('III Tool Overview'!$H$6=\"Eilean Siar Local Authority\",0,new_ci(5,B244,C244,D244,$C$1,G244+H244,1,F244,E244*F244)))","v":2.5600755829238889E-2},{"$f":"IF('III Tool Overview'!$H$6=\"Western Isles Health Board\",0,IF('III Tool Overview'!$H$6=\"Eilean Siar Local Authority\",0,new_ci(10,B244,C244,D244,$C$1,G244,1,F244,E244*F244)))","v":6.7160220776300628E-2},{"$f":"IF('III Tool Overview'!$H$6=\"Western Isles Health Board\",0,IF('III Tool Overview'!$H$6=\"Eilean Siar Local Authority\",0,new_ci(10,B244,C244,D244,$C$1,G244+H244,1,F244,E244*F244)))","v":6.7097543731106823E-2},{"$f":"IF('III Tool Overview'!$H$6=\"Western Isles Health Board\",0,IF('III Tool Overview'!$H$6=\"Eilean Siar Local Authority\",0,new_ci(20,B244,C244,D244,$C$1,G244,1,F244,E244*F244)))","v":0.19584984925515381},{"$f":"IF('III Tool Overview'!$H$6=\"Western Isles Health Board\",0,IF('III Tool Overview'!$H$6=\"Eilean Siar Local Authority\",0,new_ci(20,B244,C244,D244,$C$1,G244+H244,1,F244,E244*F244)))","v":0.1956749053789052},{"$f":"IF('III Tool Overview'!$H$6=\"Western Isles Health Board\",0,IF('III Tool Overview'!$H$6=\"Eilean Siar Local Authority\",0,new_yll(2,B244,C244,D244,$C$1,G244,1,F244,E244*F244)))","v":0.41632759490894766},{"$f":"IF('III Tool Overview'!$H$6=\"Western Isles Health Board\",0,IF('III Tool Overview'!$H$6=\"Eilean Siar Local Authority\",0,new_yll(2,B244,C244,D244,$C$1,G244+H244,1,F244,E244*F244)))","v":0.41592894606262643},3.9864884632123676E-4,{"$f":"IF('III Tool Overview'!$H$6=\"Western Isles Health Board\",0,IF('III Tool Overview'!$H$6=\"Eilean Siar Local Authority\",0,new_yll(5,B244,C244,D244,$C$1,G244,1,F244,E244*F244)))","v":1.7790998228692634},{"$f":"IF('III Tool Overview'!$H$6=\"Western Isles Health Board\",0,IF('III Tool Overview'!$H$6=\"Eilean Siar Local Authority\",0,new_yll(5,B244,C244,D244,$C$1,G244+H244,1,F244,E244*F244)))","v":1.77741110825569},1.6887146135733389E-3,{"$f":"IF('III Tool Overview'!$H$6=\"Western Isles Health Board\",0,IF('III Tool Overview'!$H$6=\"Eilean Siar Local Authority\",0,new_yll(10,B244,C244,D244,$C$1,G244,1,F244,E244*F244)))","v":4.4741274031470857},{"$f":"IF('III Tool Overview'!$H$6=\"Western Isles Health Board\",0,IF('III Tool Overview'!$H$6=\"Eilean Siar Local Authority\",0,new_yll(10,B244,C244,D244,$C$1,G244+H244,1,F244,E244*F244)))","v":4.4699494355631773},4.1779675839084263E-3,{"$f":"IF('III Tool Overview'!$H$6=\"Western Isles Health Board\",0,IF('III Tool Overview'!$H$6=\"Eilean Siar Local Authority\",0,new_yll(20,B244,C244,D244,$C$1,G244,1,F244,E244*F244)))","v":11.813869023195341},{"$f":"IF('III Tool Overview'!$H$6=\"Western Isles Health Board\",0,IF('III Tool Overview'!$H$6=\"Eilean Siar Local Authority\",0,new_yll(20,B244,C244,D244,$C$1,G244+H244,1,F244,E244*F244)))","v":11.803280635732092},1.0588387463249305E-2,{"$f":"IF('III Tool Overview'!$H$6=\"Western Isles Health Board\",0,IF('III Tool Overview'!$H$6=\"Eilean Siar Local Authority\",0,hosp_count(2,B244,C244,D244,$C$1,G244,1,F244,E244*F244)))","v":0.67842640418309508},{"$f":"IF('III Tool Overview'!$H$6=\"Western Isles Health Board\",0,IF('III Tool Overview'!$H$6=\"Eilean Siar Local Authority\",0,hosp_count(2,B244,C244,D244,$C$1,G244+H244,1,F244,E244*F244)))","v":0.67803820815093963},3.8819603215545229E-4,{"$f":"IF('III Tool Overview'!$H$6=\"Western Isles Health Board\",0,IF('III Tool Overview'!$H$6=\"Eilean Siar Local Authority\",0,hosp_count(5,B244,C244,D244,$C$1,G244,1,F244,E244*F244)))","v":2.8657120007917052},{"$f":"IF('III Tool Overview'!$H$6=\"Western Isles Health Board\",0,IF('III Tool Overview'!$H$6=\"Eilean Siar Local Authority\",0,hosp_count(5,B244,C244,D244,$C$1,G244+H244,1,F244,E244*F244)))","v":2.8640883146454561},1.6236861462490815E-3,{"$f":"IF('III Tool Overview'!$H$6=\"Western Isles Health Board\",0,IF('III Tool Overview'!$H$6=\"Eilean Siar Local Authority\",0,hosp_count(10,B244,C244,D244,$C$1,G244,1,F244,E244*F244)))","v":7.0735864205306846},{"$f":"IF('III Tool Overview'!$H$6=\"Western Isles Health Board\",0,IF('III Tool Overview'!$H$6=\"Eilean Siar Local Authority\",0,hosp_count(10,B244,C244,D244,$C$1,G244+H244,1,F244,E244*F244)))","v":7.0696512155046127},3.9352050260719196E-3,{"$f":"IF('III Tool Overview'!$H$6=\"Western Isles Health Board\",0,IF('III Tool Overview'!$H$6=\"Eilean Siar Local Authority\",0,hosp_count(20,B244,C244,D244,$C$1,G244,1,F244,E244*F244)))","v":18.079939213996965},{"$f":"IF('III Tool Overview'!$H$6=\"Western Isles Health Board\",0,IF('III Tool Overview'!$H$6=\"Eilean Siar Local Authority\",0,hosp_count(20,B244,C244,D244,$C$1,G244+H244,1,F244,E244*F244)))","v":18.070330063738879},9.6091502580861743E-3,null,0.5,5]
["Male 30-34",32.5,"male",5,{"$f":"HLOOKUP('III Tool Overview'!$H$6,Prevalence!$B$2:$AV$268,Prevalence!AW233,FALSE)","v":0.16250000000000001},{"$f":"HLOOKUP('III Tool Overview'!$H$6,LookUpData_Pop!$B$1:$AV$269,LookUpData_Pop!BB238,FALSE)/5","v":8.4},{"$f":"'III Tool Overview'!$H$9/110","v":0},{"$f":"IF('III Tool Overview'!$H$10=\"Even distribution\",Targeting!C243,IF('III Tool Overview'!$H$10=\"Targetting to Q1\",Targeting!D243,IF('III Tool Overview'!$H$10=\"Targetting to Q1 & Q2\",Targeting!E243,IF('III Tool Overview'!$H$10=\"No variation in price elasticity\",Targeting!G243))))","v":1.4300000000000002},{"$f":"IF('III Tool Overview'!$H$6=\"Western Isles Health Board\",0,IF('III Tool Overview'!$H$6=\"Eilean Siar Local Authority\",0,new_ci(2,B245,C245,D245,$C$1,G245,1,F245,E245*F245)))","v":7.4763714245883687E-3},{"$f":"IF('III Tool Overview'!$H$6=\"Western Isles Health Board\",0,IF('III Tool Overview'!$H$6=\"Eilean Siar Local Authority\",0,new_ci(2,B245,C245,D245,$C$1,G245+H245,1,F245,E245*F245)))","v":7.4689186739134387E-3},{"$f":"IF('III Tool Overview'!$H$6=\"Western Isles Health Board\",0,IF('III Tool Overview'!$H$6=\"Eilean Siar Local Authority\",0,new_ci(5,B245,C245,D245,$C$1,G245,1,F245,E245*F245)))","v":3.2658228427020708E-2},{"$f":"IF('III Tool Overview'!$H$6=\"Western Isles Health Board\",0,IF('III Tool Overview'!$H$6=\"Eilean Siar Local Authority\",0,new_ci(5,B245,C245,D245,$C$1,G245+H245,1,F245,E245*F245)))","v":3.2625993487551574E-2},{"$f":"IF('III Tool Overview'!$H$6=\"Western Isles Health Board\",0,IF('III Tool Overview'!$H$6=\"Eilean Siar Local Authority\",0,new_ci(10,B245,C245,D245,$C$1,G245,1,F245,E245*F245)))","v":8.551590671849936E-2},{"$f":"IF('III Tool Overview'!$H$6=\"Western Isles Health Board\",0,IF('III Tool Overview'!$H$6=\"Eilean Siar Local Authority\",0,new_ci(10,B245,C245,D245,$C$1,G245+H245,1,F245,E245*F245)))","v":8.5433089616909388E-2},{"$f":"IF('III Tool Overview'!$H$6=\"Western Isles Health Board\",0,IF('III Tool Overview'!$H$6=\"Eilean Siar Local Authority\",0,new_ci(20,B245,C245,D245,$C$1,G245,1,F245,E245*F245)))","v":0.2486777381365986},{"$f":"IF('III Tool Overview'!$H$6=\"Western Isles Health Board\",0,IF('III Tool Overview'!$H$6=\"Eilean Siar Local Authority\",0,new_ci(20,B245,C245,D245,$C$1,G245+H245,1,F245,E245*F245)))","v":0.2484488007003583},{"$f":"IF('III Tool Overview'!$H$6=\"Western Isles Health Board\",0,IF('III Tool Overview'!$H$6=\"Eilean Siar Local Authority\",0,new_yll(2,B245,C245,D245,$C$1,G245,1,F245,E245*F245)))","v":0.50091688544742075},{"$f":"IF('III Tool Overview'!$H$6=\"Western Isles Health Board\",0,IF('III Tool Overview'!$H$6=\"Eilean Siar Local Authority\",0,new_yll(2,B245,C245,D245,$C$1,G245+H245,1,F245,E245*F245)))","v":0.50041755115220043},4.9933429522031059E-4,{"$f":"IF('III Tool Overview'!$H$6=\"Western Isles Health Board\",0,IF('III Tool Overview'!$H$6=\"Eilean Siar Local Authority\",0,new_yll(5,B245,C245,D245,$C$1,G245,1,F245,E245*F245)))","v":2.1367764763379204},{"$f":"IF('III Tool Overview'!$H$6=\"Western Isles Health Board\",0,IF('III Tool Overview'!$H$6=\"Eilean Siar Local Authority\",0,new_yll(5,B245,C245,D245,$C$1,G245+H245,1,F245,E245*F245)))","v":2.1346671393206087},2.109337017311752E-3,{"$f":"IF('III Tool Overview'!$H$6=\"Western Isles Health Board\",0,IF('III Tool Overview'!$H$6=\"Eilean Siar Local Authority\",0,new_yll(10,B245,C245,D245,$C$1,G245,1,F245,E245*F245)))","v":5.3550795207395288},{"$f":"IF('III Tool Overview'!$H$6=\"Western Isles Health Board\",0,IF('III Tool Overview'!$H$6=\"Eilean Siar Local Authority\",0,new_yll(10,B245,C245,D245,$C$1,G245+H245,1,F245,E245*F245)))","v":5.3498896968461169},5.1898238934118268E-3,{"$f":"IF('III Tool Overview'!$H$6=\"Western Isles Health Board\",0,IF('III Tool Overview'!$H$6=\"Eilean Siar Local Authority\",0,new_yll(20,B245,C245,D245,$C$1,G245,1,F245,E245*F245)))","v":14.009028549100837},{"$f":"IF('III Tool Overview'!$H$6=\"Western Isles Health Board\",0,IF('III Tool Overview'!$H$6=\"Eilean Siar Local Authority\",0,new_yll(20,B245,C245,D245,$C$1,G245+H245,1,F245,E245*F245)))","v":13.996077320213423},1.295122888741318E-2,{"$f":"IF('III Tool Overview'!$H$6=\"Western Isles Health Board\",0,IF('III Tool Overview'!$H$6=\"Eilean Siar Local Authority\",0,hosp_count(2,B245,C245,D245,$C$1,G245,1,F245,E245*F245)))","v":0.74458297149331176},{"$f":"IF('III Tool Overview'!$H$6=\"Western Isles Health Board\",0,IF('III Tool Overview'!$H$6=\"Eilean Siar Local Authority\",0,hosp_count(2,B245,C245,D245,$C$1,G245+H245,1,F245,E245*F245)))","v":0.74413781521019984},4.451562831119249E-4,{"$f":"IF('III Tool Overview'!$H$6=\"Western Isles Health Board\",0,IF('III Tool Overview'!$H$6=\"Eilean Siar Local Authority\",0,hosp_count(5,B245,C245,D245,$C$1,G245,1,F245,E245*F245)))","v":3.1439589754366004},{"$f":"IF('III Tool Overview'!$H$6=\"Western Isles Health Board\",0,IF('III Tool Overview'!$H$6=\"Eilean Siar Local Authority\",0,hosp_count(5,B245,C245,D245,$C$1,G245+H245,1,F245,E245*F245)))","v":3.1420999115684749},1.8590638681255101E-3,{"$f":"IF('III Tool Overview'!$H$6=\"Western Isles Health Board\",0,IF('III Tool Overview'!$H$6=\"Eilean Siar Local Authority\",0,hosp_count(10,B245,C245,D245,$C$1,G245,1,F245,E245*F245)))","v":7.7543194119934711},{"$f":"IF('III Tool Overview'!$H$6=\"Western Isles Health Board\",0,IF('III Tool Overview'!$H$6=\"Eilean Siar Local Authority\",0,hosp_count(10,B245,C245,D245,$C$1,G245+H245,1,F245,E245*F245)))","v":7.7498280054707935},4.4914065226775435E-3,{"$f":"IF('III Tool Overview'!$H$6=\"Western Isles Health Board\",0,IF('III Tool Overview'!$H$6=\"Eilean Siar Local Authority\",0,hosp_count(20,B245,C245,D245,$C$1,G245,1,F245,E245*F245)))","v":19.773713396291107},{"$f":"IF('III Tool Overview'!$H$6=\"Western Isles Health Board\",0,IF('III Tool Overview'!$H$6=\"Eilean Siar Local Authority\",0,hosp_count(20,B245,C245,D245,$C$1,G245+H245,1,F245,E245*F245)))","v":19.762849986452601},1.0863409838506755E-2,null,0.5,5]
["Male 35-39",37.5,"male",5,{"$f":"HLOOKUP('III Tool Overview'!$H$6,Prevalence!$B$2:$AV$268,Prevalence!AW234,FALSE)","v":0.16250000000000001},{"$f":"HLOOKUP('III Tool Overview'!$H$6,LookUpData_Pop!$B$1:$AV$269,LookUpData_Pop!BB239,FALSE)/5","v":18},{"$f":"'III Tool Overview'!$H$9/110","v":0},{"$f":"IF('III Tool Overview'!$H$10=\"Even distribution\",Targeting!C244,IF('III Tool Overview'!$H$10=\"Targetting to Q1\",Targeting!D244,IF('III Tool Overview'!$H$10=\"Targetting to Q1 & Q2\",Targeting!E244,IF('III Tool Overview'!$H$10=\"No variation in price elasticity\",Targeting!G244))))","v":2.2100000000000004},{"$f":"IF('III Tool Overview'!$H$6=\"Western Isles Health Board\",0,IF('III Tool Overview'!$H$6=\"Eilean Siar Local Authority\",0,new_ci(2,B246,C246,D246,$C$1,G246,1,F246,E246*F246)))","v":2.4729604095545921E-2},{"$f":"IF('III Tool Overview'!$H$6=\"Western Isles Health Board\",0,IF('III Tool Overview'!$H$6=\"Eilean Siar Local Authority\",0,new_ci(2,B246,C246,D246,$C$1,G246+H246,1,F246,E246*F246)))","v":2.4707755960870936E-2},{"$f":"IF('III Tool Overview'!$H$6=\"Western Isles Health Board\",0,IF('III Tool Overview'!$H$6=\"Eilean Siar Local Authority\",0,new_ci(5,B246,C246,D246,$C$1,G246,1,F246,E246*F246)))","v":0.10791807457415781},{"$f":"IF('III Tool Overview'!$H$6=\"Western Isles Health Board\",0,IF('III Tool Overview'!$H$6=\"Eilean Siar Local Authority\",0,new_ci(5,B246,C246,D246,$C$1,G246+H246,1,F246,E246*F246)))","v":0.10782383678809537},{"$f":"IF('III Tool Overview'!$H$6=\"Western Isles Health Board\",0,IF('III Tool Overview'!$H$6=\"Eilean Siar Local Authority\",0,new_ci(10,B246,C246,D246,$C$1,G246,1,F246,E246*F246)))","v":0.28200430433298962},{"$f":"IF('III Tool Overview'!$H$6=\"Western Isles Health Board\",0,IF('III Tool Overview'!$H$6=\"Eilean Siar Local Authority\",0,new_ci(10,B246,C246,D246,$C$1,G246+H246,1,F246,E246*F246)))","v":0.28176359830806974},{"$f":"IF('III Tool Overview'!$H$6=\"Western Isles Health Board\",0,IF('III Tool Overview'!$H$6=\"Eilean Siar Local Authority\",0,new_ci(20,B246,C246,D246,$C$1,G246,1,F246,E246*F246)))","v":0.81485362709425013},{"$f":"IF('III Tool Overview'!$H$6=\"Western Isles Health Board\",0,IF('III Tool Overview'!$H$6=\"Eilean Siar Local Authority\",0,new_ci(20,B246,C246,D246,$C$1,G246+H246,1,F246,E246*F246)))","v":0.81420026514646793},{"$f":"IF('III Tool Overview'!$H$6=\"Western Isles Health Board\",0,IF('III Tool Overview'!$H$6=\"Eilean Siar Local Authority\",0,new_yll(2,B246,C246,D246,$C$1,G246,1,F246,E246*F246)))","v":1.508505849828301},{"$f":"IF('III Tool Overview'!$H$6=\"Western Isles Health Board\",0,IF('III Tool Overview'!$H$6=\"Eilean Siar Local Authority\",0,new_yll(2,B246,C246,D246,$C$1,G246+H246,1,F246,E246*F246)))","v":1.5071731136131272},1.3327362151738242E-3,{"$f":"IF('III Tool Overview'!$H$6=\"Western Isles Health Board\",0,IF('III Tool Overview'!$H$6=\"Eilean Siar Local Authority\",0,new_yll(5,B246,C246,D246,$C$1,G246,1,F246,E246*F246)))","v":6.4134866946586726},{"$f":"IF('III Tool Overview'!$H$6=\"Western Isles Health Board\",0,IF('III Tool Overview'!$H$6=\"Eilean Siar Local Authority\",0,new_yll(5,B246,C246,D246,$C$1,G246+H246,1,F246,E246*F246)))","v":6.4078853317016229},5.6013629570497159E-3,{"$f":"IF('III Tool Overview'!$H$6=\"Western Isles Health Board\",0,IF('III Tool Overview'!$H$6=\"Eilean Siar Local Authority\",0,new_yll(10,B246,C246,D246,$C$1,G246,1,F246,E246*F246)))","v":15.968703913520777},{"$f":"IF('III Tool Overview'!$H$6=\"Western Isles Health Board\",0,IF('III Tool Overview'!$H$6=\"Eilean Siar Local Authority\",0,new_yll(10,B246,C246,D246,$C$1,G246+H246,1,F246,E246*F246)))","v":15.955060647834905},1.3643265685871597E-2,{"$f":"IF('III Tool Overview'!$H$6=\"Western Isles Health Board\",0,IF('III Tool Overview'!$H$6=\"Eilean Siar Local Authority\",0,new_yll(20,B246,C246,D246,$C$1,G246,1,F246,E246*F246)))","v":41.039004466362641},{"$f":"IF('III Tool Overview'!$H$6=\"Western Isles Health Board\",0,IF('III Tool Overview'!$H$6=\"Eilean Siar Local Authority\",0,new_yll(20,B246,C246,D246,$C$1,G246+H246,1,F246,E246*F246)))","v":41.005905063597531},3.3099402765110142E-2,{"$f":"IF('III Tool Overview'!$H$6=\"Western Isles Health Board\",0,IF('III Tool Overview'!$H$6=\"Eilean Siar Local Authority\",0,hosp_count(2,B246,C246,D246,$C$1,G246,1,F246,E246*F246)))","v":1.9671022458319343},{"$f":"IF('III Tool Overview'!$H$6=\"Western Isles Health Board\",0,IF('III Tool Overview'!$H$6=\"Eilean Siar Local Authority\",0,hosp_count(2,B246,C246,D246,$C$1,G246+H246,1,F246,E246*F246)))","v":1.9660296098989074},1.0726359330268664E-3,{"$f":"IF('III Tool Overview'!$H$6=\"Western Isles Health Board\",0,IF('III Tool Overview'!$H$6=\"Eilean Siar Local Authority\",0,hosp_count(5,B246,C246,D246,$C$1,G246,1,F246,E246*F246)))","v":8.2989083781856046},{"$f":"IF('III Tool Overview'!$H$6=\"Western Isles Health Board\",0,IF('III Tool Overview'!$H$6=\"Eilean Siar Local Authority\",0,hosp_count(5,B246,C246,D246,$C$1,G246+H246,1,F246,E246*F246)))","v":8.2944418619558853},4.4665162297192751E-3,{"$f":"IF('III Tool Overview'!$H$6=\"Western Isles Health Board\",0,IF('III Tool Overview'!$H$6=\"Eilean Siar Local Authority\",0,hosp_count(10,B246,C246,D246,$C$1,G246,1,F246,E246*F246)))","v":20.432943864222807},{"$f":"IF('III Tool Overview'!$H$6=\"Western Isles Health Board\",0,IF('III Tool Overview'!$H$6=\"Eilean Siar Local Authority\",0,hosp_count(10,B246,C246,D246,$C$1,G246+H246,1,F246,E246*F246)))","v":20.422217506299337},1.0726357923470431E-2,{"$f":"IF('III Tool Overview'!$H$6=\"Western Isles Health Board\",0,IF('III Tool Overview'!$H$6=\"Eilean Siar Local Authority\",0,hosp_count(20,B246,C246,D246,$C$1,G246,1,F246,E246*F246)))","v":51.836009971141095},{"$f":"IF('III Tool Overview'!$H$6=\"Western Isles Health Board\",0,IF('III Tool Overview'!$H$6=\"Eilean Siar Local Authority\",0,hosp_count(20,B246,C246,D246,$C$1,G246+H246,1,F246,E246*F246)))","v":51.81052904069049},2.5480930450605399E-2,null,0.5,5]
["Male 40-44",42.5,"male",5,{"$f":"HLOOKUP('III Tool Overview'!$H$6,Prevalence!$B$2:$AV$268,Prevalence!AW235,FALSE)","v":0.16250000000000001},{"$f":"HLOOKUP('III Tool Overview'!$H$6,LookUpData_Pop!$B$1:$AV$269,LookUpData_Pop!BB240,FALSE)/5","v":20.399999999999999},{"$f":"'III Tool Overview'!$H$9/110","v":0},{"$f":"IF('III Tool Overview'!$H$10=\"Even distribution\",Targeting!C245,IF('III Tool Overview'!$H$10=\"Targetting to Q1\",Targeting!D245,IF('III Tool Overview'!$H$10=\"Targetting to Q1 & Q2\",Targeting!E245,IF('III Tool Overview'!$H$10=\"No variation in price elasticity\",Targeting!G245))))","v":1.9500000000000002},{"$f":"IF('III Tool Overview'!$H$6=\"Western Isles Health Board\",0,IF('III Tool Overview'!$H$6=\"Eilean Siar Local Authority\",0,new_ci(2,B247,C247,D247,$C$1,G247,1,F247,E247*F247)))","v":3.7431359093837616E-2},{"$f":"IF('III Tool Overview'!$H$6=\"Western Isles Health Board\",0,IF('III Tool Overview'!$H$6=\"Eilean Siar Local Authority\",0,new_ci(2,B247,C247,D247,$C$1,G247+H247,1,F247,E247*F247)))","v":3.7401587685691531E-2},{"$f":"IF('III Tool Overview'!$H$6=\"Western Isles Health Board\",0,IF('III Tool Overview'!$H$6=\"Eilean Siar Local Authority\",0,new_ci(5,B247,C247,D247,$C$1,G247,1,F247,E247*F247)))","v":0.16320577931920016},{"$f":"IF('III Tool Overview'!$H$6=\"Western Isles Health Board\",0,IF('III Tool Overview'!$H$6=\"Eilean Siar Local Authority\",0,new_ci(5,B247,C247,D247,$C$1,G247+H247,1,F247,E247*F247)))","v":0.16307777085445091},{"$f":"IF('III Tool Overview'!$H$6=\"Western Isles Health Board\",0,IF('III Tool Overview'!$H$6=\"Eilean Siar Local Authority\",0,new_ci(10,B247,C247,D247,$C$1,G247,1,F247,E247*F247)))","v":0.42570204830299879},{"$f":"IF('III Tool Overview'!$H$6=\"Western Isles Health Board\",0,IF('III Tool Overview'!$H$6=\"Eilean Siar Local Authority\",0,new_ci(10,B247,C247,D247,$C$1,G247+H247,1,F247,E247*F247)))","v":0.42537725529208031},{"$f":"IF('III Tool Overview'!$H$6=\"Western Isles Health Board\",0,IF('III Tool Overview'!$H$6=\"Eilean Siar Local Authority\",0,new_ci(20,B247,C247,D247,$C$1,G247,1,F247,E247*F247)))","v":1.2231744141540875},{"$f":"IF('III Tool Overview'!$H$6=\"Western Isles Health Board\",0,IF('III Tool Overview'!$H$6=\"Eilean Siar Local Authority\",0,new_ci(20,B247,C247,D247,$C$1,G247+H247,1,F247,E247*F247)))","v":1.2223110229039096},{"$f":"IF('III Tool Overview'!$H$6=\"Western Isles Health Board\",0,IF('III Tool Overview'!$H$6=\"Eilean Siar Local Authority\",0,new_yll(2,B247,C247,D247,$C$1,G247,1,F247,E247*F247)))","v":2.1335874683487441},{"$f":"IF('III Tool Overview'!$H$6=\"Western Isles Health Board\",0,IF('III Tool Overview'!$H$6=\"Eilean Siar Local Authority\",0,new_yll(2,B247,C247,D247,$C$1,G247+H247,1,F247,E247*F247)))","v":2.1318904980844171},1.6969702643270246E-3,{"$f":"IF('III Tool Overview'!$H$6=\"Western Isles Health Board\",0,IF('III Tool Overview'!$H$6=\"Eilean Siar Local Authority\",0,new_yll(5,B247,C247,D247,$C$1,G247,1,F247,E247*F247)))","v":9.0464833133788609},{"$f":"IF('III Tool Overview'!$H$6=\"Western Isles Health Board\",0,IF('III Tool Overview'!$H$6=\"Eilean Siar Local Authority\",0,new_yll(5,B247,C247,D247,$C$1,G247+H247,1,F247,E247*F247)))","v":9.039386371862518},7.0969415163428806E-3,{"$f":"IF('III Tool Overview'!$H$6=\"Western Isles Health Board\",0,IF('III Tool Overview'!$H$6=\"Eilean Siar Local Authority\",0,new_yll(10,B247,C247,D247,$C$1,G247,1,F247,E247*F247)))","v":22.404734273487776},{"$f":"IF('III Tool Overview'!$H$6=\"Western Isles Health Board\",0,IF('III Tool Overview'!$H$6=\"Eilean Siar Local Authority\",0,new_yll(10,B247,C247,D247,$C$1,G247+H247,1,F247,E247*F247)))","v":22.387618844910879},1.7115428576897074E-2,{"$f":"IF('III Tool Overview'!$H$6=\"Western Isles Health Board\",0,IF('III Tool Overview'!$H$6=\"Eilean Siar Local Authority\",0,new_yll(20,B247,C247,D247,$C$1,G247,1,F247,E247*F247)))","v":56.742914024933022},{"$f":"IF('III Tool Overview'!$H$6=\"Western Isles Health Board\",0,IF('III Tool Overview'!$H$6=\"Eilean Siar Local Authority\",0,new_yll(20,B247,C247,D247,$C$1,G247+H247,1,F247,E247*F247)))","v":56.702538658506896},4.0375366426125936E-2,{"$f":"IF('III Tool Overview'!$H$6=\"Western Isles Health Board\",0,IF('III Tool Overview'!$H$6=\"Eilean Siar Local Authority\",0,hosp_count(2,B247,C247,D247,$C$1,G247,1,F247,E247*F247)))","v":2.563293523160501},{"$f":"IF('III Tool Overview'!$H$6=\"Western Isles Health Board\",0,IF('III Tool Overview'!$H$6=\"Eilean Siar Local Authority\",0,hosp_count(2,B247,C247,D247,$C$1,G247+H247,1,F247,E247*F247)))","v":2.562048549216374},1.2449739441269259E-3,{"$f":"IF('III Tool Overview'!$H$6=\"Western Isles Health Board\",0,IF('III Tool Overview'!$H$6=\"Eilean Siar Local Authority\",0,hosp_count(5,B247,C247,D247,$C$1,G247,1,F247,E247*F247)))","v":10.805726804396672},{"$f":"IF('III Tool Overview'!$H$6=\"Western Isles Health Board\",0,IF('III Tool Overview'!$H$6=\"Eilean Siar Local Authority\",0,hosp_count(5,B247,C247,D247,$C$1,G247+H247,1,F247,E247*F247)))","v":10.800559896408664},5.166907988007452E-3,{"$f":"IF('III Tool Overview'!$H$6=\"Western Isles Health Board\",0,IF('III Tool Overview'!$H$6=\"Eilean Siar Local Authority\",0,hosp_count(10,B247,C247,D247,$C$1,G247,1,F247,E247*F247)))","v":26.562694955878118},{"$f":"IF('III Tool Overview'!$H$6=\"Western Isles Health Board\",0,IF('III Tool Overview'!$H$6=\"Eilean Siar Local Authority\",0,hosp_count(10,B247,C247,D247,$C$1,G247+H247,1,F247,E247*F247)))","v":26.550371407773103},1.2323548105015902E-2,{"$f":"IF('III Tool Overview'!$H$6=\"Western Isles Health Board\",0,IF('III Tool Overview'!$H$6=\"Eilean Siar Local Authority\",0,hosp_count(20,B247,C247,D247,$C$1,G247,1,F247,E247*F247)))","v":67.070111475448996},{"$f":"IF('III Tool Overview'!$H$6=\"Western Isles Health Board\",0,IF('III Tool Overview'!$H$6=\"Eilean Siar Local Authority\",0,hosp_count(20,B247,C247,D247,$C$1,G247+H247,1,F247,E247*F247)))","v":67.041433290977537},2.8678184471459645E-2,null,0.5,5]
["Male 45-49",47.5,"male",5,{"$f":"HLOOKUP('III Tool Overview'!$H$6,Prevalence!$B$2:$AV$268,Prevalence!AW236,FALSE)","v":0.13750000000000001},{"$f":"HLOOKUP('III Tool Overview'!$H$6,LookUpData_Pop!$B$1:$AV$269,LookUpData_Pop!BB241,FALSE)/5","v":25.4},{"$f":"'III Tool Overview'!$H$9/110","v":0},{"$f":"IF('III Tool Overview'!$H$10=\"Even distribution\",Targeting!C246,IF('III Tool Overview'!$H$10=\"Targetting to Q1\",Targeting!D246,IF('III Tool Overview'!$H$10=\"Targetting to Q1 & Q2\",Targeting!E246,IF('III Tool Overview'!$H$10=\"No variation in price elasticity\",Targeting!G246))))","v":4.2900000000000009},{"$f":"IF('III Tool Overview'!$H$6=\"Western Isles Health Board\",0,IF('III Tool Overview'!$H$6=\"Eilean Siar Local Authority\",0,new_ci(2,B248,C248,D248,$C$1,G248,1,F248,E248*F248)))","v":7.1921790594751164E-2},{"$f":"IF('III Tool Overview'!$H$6=\"Western Isles Health Board\",0,IF('III Tool Overview'!$H$6=\"Eilean Siar Local Authority\",0,new_ci(2,B248,C248,D248,$C$1,G248+H248,1,F248,E248*F248)))","v":7.1827112012135472E-2},{"$f":"IF('III Tool Overview'!$H$6=\"Western Isles Health Board\",0,IF('III Tool Overview'!$H$6=\"Eilean Siar Local Authority\",0,new_ci(5,B248,C248,D248,$C$1,G248,1,F248,E248*F248)))","v":0.31301160177553167},{"$f":"IF('III Tool Overview'!$H$6=\"Western Isles Health Board\",0,IF('III Tool Overview'!$H$6=\"Eilean Siar Local Authority\",0,new_ci(5,B248,C248,D248,$C$1,G248+H248,1,F248,E248*F248)))","v":0.31260736006197576},{"$f":"IF('III Tool Overview'!$H$6=\"Western Isles Health Board\",0,IF('III Tool Overview'!$H$6=\"Eilean Siar Local Authority\",0,new_ci(10,B248,C248,D248,$C$1,G248,1,F248,E248*F248)))","v":0.81330892560293544},{"$f":"IF('III Tool Overview'!$H$6=\"Western Isles Health Board\",0,IF('III Tool Overview'!$H$6=\"Eilean Siar Local Authority\",0,new_ci(10,B248,C248,D248,$C$1,G248+H248,1,F248,E248*F248)))","v":0.81229833979126209},{"$f":"IF('III Tool Overview'!$H$6=\"Western Isles Health Board\",0,IF('III Tool Overview'!$H$6=\"Eilean Siar Local Authority\",0,new_ci(20,B248,C248,D248,$C$1,G248,1,F248,E248*F248)))","v":2.3094172211431734},{"$f":"IF('III Tool Overview'!$H$6=\"Western Isles Health Board\",0,IF('III Tool Overview'!$H$6=\"Eilean Siar Local Authority\",0,new_ci(20,B248,C248,D248,$C$1,G248+H248,1,F248,E248*F248)))","v":2.3068526665228073},{"$f":"IF('III Tool Overview'!$H$6=\"Western Isles Health Board\",0,IF('III Tool Overview'!$H$6=\"Eilean Siar Local Authority\",0,new_yll(2,B248,C248,D248,$C$1,G248,1,F248,E248*F248)))","v":3.6680113203323095},{"$f":"IF('III Tool Overview'!$H$6=\"Western Isles Health Board\",0,IF('III Tool Overview'!$H$6=\"Eilean Siar Local Authority\",0,new_yll(2,B248,C248,D248,$C$1,G248+H248,1,F248,E248*F248)))","v":3.6631827126189092},4.8286077134003236E-3,{"$f":"IF('III Tool Overview'!$H$6=\"Western Isles Health Board\",0,IF('III Tool Overview'!$H$6=\"Eilean Siar Local Authority\",0,new_yll(5,B248,C248,D248,$C$1,G248,1,F248,E248*F248)))","v":15.472605572785085},{"$f":"IF('III Tool Overview'!$H$6=\"Western Isles Health Board\",0,IF('III Tool Overview'!$H$6=\"Eilean Siar Local Authority\",0,new_yll(5,B248,C248,D248,$C$1,G248+H248,1,F248,E248*F248)))","v":15.452617054506668},1.9988518278417189E-2,{"$f":"IF('III Tool Overview'!$H$6=\"Western Isles Health Board\",0,IF('III Tool Overview'!$H$6=\"Eilean Siar Local Authority\",0,new_yll(10,B248,C248,D248,$C$1,G248,1,F248,E248*F248)))","v":37.932147782027322},{"$f":"IF('III Tool Overview'!$H$6=\"Western Isles Health Board\",0,IF('III Tool Overview'!$H$6=\"Eilean Siar Local Authority\",0,new_yll(10,B248,C248,D248,$C$1,G248+H248,1,F248,E248*F248)))","v":37.884920254549129},4.7227527478192144E-2,{"$f":"IF('III Tool Overview'!$H$6=\"Western Isles Health Board\",0,IF('III Tool Overview'!$H$6=\"Eilean Siar Local Authority\",0,new_yll(20,B248,C248,D248,$C$1,G248,1,F248,E248*F248)))","v":93.405362270808169},{"$f":"IF('III Tool Overview'!$H$6=\"Western Isles Health Board\",0,IF('III Tool Overview'!$H$6=\"Eilean Siar Local Authority\",0,new_yll(20,B248,C248,D248,$C$1,G248+H248,1,F248,E248*F248)))","v":93.300213628393365},0.10514864241480382,{"$f":"IF('III Tool Overview'!$H$6=\"Western Isles Health Board\",0,IF('III Tool Overview'!$H$6=\"Eilean Siar Local Authority\",0,hosp_count(2,B248,C248,D248,$C$1,G248,1,F248,E248*F248)))","v":3.9347985691684935},{"$f":"IF('III Tool Overview'!$H$6=\"Western Isles Health Board\",0,IF('III Tool Overview'!$H$6=\"Eilean Siar Local Authority\",0,hosp_count(2,B248,C248,D248,$C$1,G248+H248,1,F248,E248*F248)))","v":3.9316852268818572},3.1133422866362892E-3,{"$f":"IF('III Tool Overview'!$H$6=\"Western Isles Health Board\",0,IF('III Tool Overview'!$H$6=\"Eilean Siar Local Authority\",0,hosp_count(5,B248,C248,D248,$C$1,G248,1,F248,E248*F248)))","v":16.559735075516695},{"$f":"IF('III Tool Overview'!$H$6=\"Western Isles Health Board\",0,IF('III Tool Overview'!$H$6=\"Eilean Siar Local Authority\",0,hosp_count(5,B248,C248,D248,$C$1,G248+H248,1,F248,E248*F248)))","v":16.546909328603679},1.2825746913016189E-2,{"$f":"IF('III Tool Overview'!$H$6=\"Western Isles Health Board\",0,IF('III Tool Overview'!$H$6=\"Eilean Siar Local Authority\",0,hosp_count(10,B248,C248,D248,$C$1,G248,1,F248,E248*F248)))","v":40.568847355922031},{"$f":"IF('III Tool Overview'!$H$6=\"Western Isles Health Board\",0,IF('III Tool Overview'!$H$6=\"Eilean Siar Local Authority\",0,hosp_count(10,B248,C248,D248,$C$1,G248+H248,1,F248,E248*F248)))","v":40.538719926603676},3.0127429318355325E-2,{"$f":"IF('III Tool Overview'!$H$6=\"Western Isles Health Board\",0,IF('III Tool Overview'!$H$6=\"Eilean Siar Local Authority\",0,hosp_count(20,B248,C248,D248,$C$1,G248,1,F248,E248*F248)))","v":101.41566832815599},{"$f":"IF('III Tool Overview'!$H$6=\"Western Isles Health Board\",0,IF('III Tool Overview'!$H$6=\"Eilean Siar Local Authority\",0,hosp_count(20,B248,C248,D248,$C$1,G248+H248,1,F248,E248*F248)))","v":101.34870200548885},6.6966322667141753E-2,null,0.5,5]
["Male 50-54",52.5,"male",5,{"$f":"HLOOKUP('III Tool Overview'!$H$6,Prevalence!$B$2:$AV$268,Prevalence!AW237,FALSE)","v":0.13750000000000001},{"$f":"HLOOKUP('III Tool Overview'!$H$6,LookUpData_Pop!$B$1:$AV$269,LookUpData_Pop!BB242,FALSE)/5","v":30.6},{"$f":"'III Tool Overview'!$H$9/110","v":0},{"$f":"IF('III Tool Overview'!$H$10=\"Even distribution\",Targeting!C247,IF('III Tool Overview'!$H$10=\"Targetting to Q1\",Targeting!D247,IF('III Tool Overview'!$H$10=\"Targetting to Q1 & Q2\",Targeting!E247,IF('III Tool Overview'!$H$10=\"No variation in price elasticity\",Targeting!G247))))","v":3.6300000000000008},{"$f":"IF('III Tool Overview'!$H$6=\"Western Isles Health Board\",0,IF('III Tool Overview'!$H$6=\"Eilean Siar Local Authority\",0,new_ci(2,B249,C249,D249,$C$1,G249,1,F249,E249*F249)))","v":0.11568622791356349},{"$f":"IF('III Tool Overview'!$H$6=\"Western Isles Health Board\",0,IF('III Tool Overview'!$H$6=\"Eilean Siar Local Authority\",0,new_ci(2,B249,C249,D249,$C$1,G249+H249,1,F249,E249*F249)))","v":0.11556170522279814},{"$f":"IF('III Tool Overview'!$H$6=\"Western Isles Health Board\",0,IF('III Tool Overview'!$H$6=\"Eilean Siar Local Authority\",0,new_ci(5,B249,C249,D249,$C$1,G249,1,F249,E249*F249)))","v":0.50254814606866605},{"$f":"IF('III Tool Overview'!$H$6=\"Western Isles Health Board\",0,IF('III Tool Overview'!$H$6=\"Eilean Siar Local Authority\",0,new_ci(5,B249,C249,D249,$C$1,G249+H249,1,F249,E249*F249)))","v":0.50201965549283845},{"$f":"IF('III Tool Overview'!$H$6=\"Western Isles Health Board\",0,IF('III Tool Overview'!$H$6=\"Eilean Siar Local Authority\",0,new_ci(10,B249,C249,D249,$C$1,G249,1,F249,E249*F249)))","v":1.3007544104142061},{"$f":"IF('III Tool Overview'!$H$6=\"Western Isles Health Board\",0,IF('III Tool Overview'!$H$6=\"Eilean Siar Local Authority\",0,new_ci(10,B249,C249,D249,$C$1,G249+H249,1,F249,E249*F249)))","v":1.2994497979620823},{"$f":"IF('III Tool Overview'!$H$6=\"Western Isles Health Board\",0,IF('III Tool Overview'!$H$6=\"Eilean Siar Local Authority\",0,new_ci(20,B249,C249,D249,$C$1,G249,1,F249,E249*F249)))","v":3.6504713450692798},{"$f":"IF('III Tool Overview'!$H$6=\"Western Isles Health Board\",0,IF('III Tool Overview'!$H$6=\"Eilean Siar Local Authority\",0,new_ci(20,B249,C249,D249,$C$1,G249+H249,1,F249,E249*F249)))","v":3.6472891390285112},{"$f":"IF('III Tool Overview'!$H$6=\"Western Isles Health Board\",0,IF('III Tool Overview'!$H$6=\"Eilean Siar Local Authority\",0,new_yll(2,B249,C249,D249,$C$1,G249,1,F249,E249*F249)))","v":5.4372527119374841},{"$f":"IF('III Tool Overview'!$H$6=\"Western Isles Health Board\",0,IF('III Tool Overview'!$H$6=\"Eilean Siar Local Authority\",0,new_yll(2,B249,C249,D249,$C$1,G249+H249,1,F249,E249*F249)))","v":5.4314001454715131},5.8525664659709875E-3,{"$f":"IF('III Tool Overview'!$H$6=\"Western Isles Health Board\",0,IF('III Tool Overview'!$H$6=\"Eilean Siar Local Authority\",0,new_yll(5,B249,C249,D249,$C$1,G249,1,F249,E249*F249)))","v":22.832226347325182},{"$f":"IF('III Tool Overview'!$H$6=\"Western Isles Health Board\",0,IF('III Tool Overview'!$H$6=\"Eilean Siar Local Authority\",0,new_yll(5,B249,C249,D249,$C$1,G249+H249,1,F249,E249*F249)))","v":22.80820545888318},2.4020888442002786E-2,{"$f":"IF('III Tool Overview'!$H$6=\"Western Isles Health Board\",0,IF('III Tool Overview'!$H$6=\"Eilean Siar Local Authority\",0,new_yll(10,B249,C249,D249,$C$1,G249,1,F249,E249*F249)))","v":55.475262749019628},{"$f":"IF('III Tool Overview'!$H$6=\"Western Isles Health Board\",0,IF('III Tool Overview'!$H$6=\"Eilean Siar Local Authority\",0,new_yll(10,B249,C249,D249,$C$1,G249+H249,1,F249,E249*F249)))","v":55.419472000227827},5.5790748791800127E-2,{"$f":"IF('III Tool Overview'!$H$6=\"Western Isles Health Board\",0,IF('III Tool Overview'!$H$6=\"Eilean Siar Local Authority\",0,new_yll(20,B249,C249,D249,$C$1,G249,1,F249,E249*F249)))","v":133.24585282477028},{"$f":"IF('III Tool Overview'!$H$6=\"Western Isles Health Board\",0,IF('III Tool Overview'!$H$6=\"Eilean Siar Local Authority\",0,new_yll(20,B249,C249,D249,$C$1,G249+H249,1,F249,E249*F249)))","v":133.12744148697374},0.11841133779654456,{"$f":"IF('III Tool Overview'!$H$6=\"Western Isles Health Board\",0,IF('III Tool Overview'!$H$6=\"Eilean Siar Local Authority\",0,hosp_count(2,B249,C249,D249,$C$1,G249,1,F249,E249*F249)))","v":5.4503445586728887},{"$f":"IF('III Tool Overview'!$H$6=\"Western Isles Health Board\",0,IF('III Tool Overview'!$H$6=\"Eilean Siar Local Authority\",0,hosp_count(2,B249,C249,D249,$C$1,G249+H249,1,F249,E249*F249)))","v":5.4467868845579517},3.557674114937015E-3,{"$f":"IF('III Tool Overview'!$H$6=\"Western Isles Health Board\",0,IF('III Tool Overview'!$H$6=\"Eilean Siar Local Authority\",0,hosp_count(5,B249,C249,D249,$C$1,G249,1,F249,E249*F249)))","v":22.900464542339996},{"$f":"IF('III Tool Overview'!$H$6=\"Western Isles Health Board\",0,IF('III Tool Overview'!$H$6=\"Eilean Siar Local Authority\",0,hosp_count(5,B249,C249,D249,$C$1,G249+H249,1,F249,E249*F249)))","v":22.885900483609163},1.4564058730833551E-2,{"$f":"IF('III Tool Overview'!$H$6=\"Western Isles Health Board\",0,IF('III Tool Overview'!$H$6=\"Eilean Siar Local Authority\",0,hosp_count(10,B249,C249,D249,$C$1,G249,1,F249,E249*F249)))","v":55.916326582483848},{"$f":"IF('III Tool Overview'!$H$6=\"Western Isles Health Board\",0,IF('III Tool Overview'!$H$6=\"Eilean Siar Local Authority\",0,hosp_count(10,B249,C249,D249,$C$1,G249+H249,1,F249,E249*F249)))","v":55.882558206219251},3.3768376264596611E-2,{"$f":"IF('III Tool Overview'!$H$6=\"Western Isles Health Board\",0,IF('III Tool Overview'!$H$6=\"Eilean Siar Local Authority\",0,hosp_count(20,B249,C249,D249,$C$1,G249,1,F249,E249*F249)))","v":138.43539443456999},{"$f":"IF('III Tool Overview'!$H$6=\"Western Isles Health Board\",0,IF('III Tool Overview'!$H$6=\"Eilean Siar Local Authority\",0,hosp_count(20,B249,C249,D249,$C$1,G249+H249,1,F249,E249*F249)))","v":138.36321872224238},7.2175712327606334E-2,null,0.5,5]
["Male 55-59",57.5,"male",5,{"$f":"HLOOKUP('III Tool Overview'!$H$6,Prevalence!$B$2:$AV$268,Prevalence!AW238,FALSE)","v":0.13750000000000001},{"$f":"HLOOKUP('III Tool Overview'!$H$6,LookUpData_Pop!$B$1:$AV$269,LookUpData_Pop!BB243,FALSE)/5","v":33.200000000000003},{"$f":"'III Tool Overview'!$H$9/110","v":0},{"$f":"IF('III Tool Overview'!$H$10=\"Even distribution\",Targeting!C248,IF('III Tool Overview'!$H$10=\"Targetting to Q1\",Targeting!D248,IF('III Tool Overview'!$H$10=\"Targetting to Q1 & Q2\",Targeting!E248,IF('III Tool Overview'!$H$10=\"No variation in price elasticity\",Targeting!G248))))","v":2.9700000000000006},{"$f":"IF('III Tool Overview'!$H$6=\"Western Isles Health Board\",0,IF('III Tool Overview'!$H$6=\"Eilean Siar Local Authority\",0,new_ci(2,B250,C250,D250,$C$1,G250,1,F250,E250*F250)))","v":0.19356947260605833},{"$f":"IF('III Tool Overview'!$H$6=\"Western Isles Health Board\",0,IF('III Tool Overview'!$H$6=\"Eilean Siar Local Authority\",0,new_ci(2,B250,C250,D250,$C$1,G250+H250,1,F250,E250*F250)))","v":0.19342885831340267},{"$f":"IF('III Tool Overview'!$H$6=\"Western Isles Health Board\",0,IF('III Tool Overview'!$H$6=\"Eilean Siar Local Authority\",0,new_ci(5,B250,C250,D250,$C$1,G250,1,F250,E250*F250)))","v":0.83750562692310759},{"$f":"IF('III Tool Overview'!$H$6=\"Western Isles Health Board\",0,IF('III Tool Overview'!$H$6=\"Eilean Siar Local Authority\",0,new_ci(5,B250,C250,D250,$C$1,G250+H250,1,F250,E250*F250)))","v":0.83691637499255778},{"$f":"IF('III Tool Overview'!$H$6=\"Western Isles Health Board\",0,IF('III Tool Overview'!$H$6=\"Eilean Siar Local Authority\",0,new_ci(10,B250,C250,D250,$C$1,G250,1,F250,E250*F250)))","v":2.149725486988971},{"$f":"IF('III Tool Overview'!$H$6=\"Western Isles Health Board\",0,IF('III Tool Overview'!$H$6=\"Eilean Siar Local Authority\",0,new_ci(10,B250,C250,D250,$C$1,G250+H250,1,F250,E250*F250)))","v":2.1483093574443135},{"$f":"IF('III Tool Overview'!$H$6=\"Western Isles Health Board\",0,IF('III Tool Overview'!$H$6=\"Eilean Siar Local Authority\",0,new_ci(20,B250,C250,D250,$C$1,G250,1,F250,E250*F250)))","v":5.8843271254766298},{"$f":"IF('III Tool Overview'!$H$6=\"Western Isles Health Board\",0,IF('III Tool Overview'!$H$6=\"Eilean Siar Local Authority\",0,new_ci(20,B250,C250,D250,$C$1,G250+H250,1,F250,E250*F250)))","v":5.8811511497822604},{"$f":"IF('III Tool Overview'!$H$6=\"Western Isles Health Board\",0,IF('III Tool Overview'!$H$6=\"Eilean Siar Local Authority\",0,new_yll(2,B250,C250,D250,$C$1,G250,1,F250,E250*F250)))","v":7.9363483768483913},{"$f":"IF('III Tool Overview'!$H$6=\"Western Isles Health Board\",0,IF('III Tool Overview'!$H$6=\"Eilean Siar Local Authority\",0,new_yll(2,B250,C250,D250,$C$1,G250+H250,1,F250,E250*F250)))","v":7.9305831908495099},5.765185998881428E-3,{"$f":"IF('III Tool Overview'!$H$6=\"Western Isles Health Board\",0,IF('III Tool Overview'!$H$6=\"Eilean Siar Local Authority\",0,new_yll(5,B250,C250,D250,$C$1,G250,1,F250,E250*F250)))","v":33.028019286889922},{"$f":"IF('III Tool Overview'!$H$6=\"Western Isles Health Board\",0,IF('III Tool Overview'!$H$6=\"Eilean Siar Local Authority\",0,new_yll(5,B250,C250,D250,$C$1,G250+H250,1,F250,E250*F250)))","v":33.004765990233722},2.3253296656200462E-2,{"$f":"IF('III Tool Overview'!$H$6=\"Western Isles Health Board\",0,IF('III Tool Overview'!$H$6=\"Eilean Siar Local Authority\",0,new_yll(10,B250,C250,D250,$C$1,G250,1,F250,E250*F250)))","v":78.827388536914128},{"$f":"IF('III Tool Overview'!$H$6=\"Western Isles Health Board\",0,IF('III Tool Overview'!$H$6=\"Eilean Siar Local Authority\",0,new_yll(10,B250,C250,D250,$C$1,G250+H250,1,F250,E250*F250)))","v":78.775229643759886},5.2158893154242492E-2,{"$f":"IF('III Tool Overview'!$H$6=\"Western Isles Health Board\",0,IF('III Tool Overview'!$H$6=\"Eilean Siar Local Authority\",0,new_yll(20,B250,C250,D250,$C$1,G250,1,F250,E250*F250)))","v":180.18360019028384},{"$f":"IF('III Tool Overview'!$H$6=\"Western Isles Health Board\",0,IF('III Tool Overview'!$H$6=\"Eilean Siar Local Authority\",0,new_yll(20,B250,C250,D250,$C$1,G250+H250,1,F250,E250*F250)))","v":180.08298580755613},0.10061438272771284,{"$f":"IF('III Tool Overview'!$H$6=\"Western Isles Health Board\",0,IF('III Tool Overview'!$H$6=\"Eilean Siar Local Authority\",0,hosp_count(2,B250,C250,D250,$C$1,G250,1,F250,E250*F250)))","v":7.2905657488409812},{"$f":"IF('III Tool Overview'!$H$6=\"Western Isles Health Board\",0,IF('III Tool Overview'!$H$6=\"Eilean Siar Local Authority\",0,hosp_count(2,B250,C250,D250,$C$1,G250+H250,1,F250,E250*F250)))","v":7.2873076540073445},3.2580948336367044E-3,{"$f":"IF('III Tool Overview'!$H$6=\"Western Isles Health Board\",0,IF('III Tool Overview'!$H$6=\"Eilean Siar Local Authority\",0,hosp_count(5,B250,C250,D250,$C$1,G250,1,F250,E250*F250)))","v":30.524021482399096},{"$f":"IF('III Tool Overview'!$H$6=\"Western Isles Health Board\",0,IF('III Tool Overview'!$H$6=\"Eilean Siar Local Authority\",0,hosp_count(5,B250,C250,D250,$C$1,G250+H250,1,F250,E250*F250)))","v":30.51086096727872},1.3160515120375749E-2,{"$f":"IF('III Tool Overview'!$H$6=\"Western Isles Health Board\",0,IF('III Tool Overview'!$H$6=\"Eilean Siar Local Authority\",0,hosp_count(10,B250,C250,D250,$C$1,G250,1,F250,E250*F250)))","v":73.998008391402436},{"$f":"IF('III Tool Overview'!$H$6=\"Western Isles Health Board\",0,IF('III Tool Overview'!$H$6=\"Eilean Siar Local Authority\",0,hosp_count(10,B250,C250,D250,$C$1,G250+H250,1,F250,E250*F250)))","v":73.968325619555344},2.9682771847092226E-2,{"$f":"IF('III Tool Overview'!$H$6=\"Western Isles Health Board\",0,IF('III Tool Overview'!$H$6=\"Eilean Siar Local Authority\",0,hosp_count(20,B250,C250,D250,$C$1,G250,1,F250,E250*F250)))","v":179.4683395530451},{"$f":"IF('III Tool Overview'!$H$6=\"Western Isles Health Board\",0,IF('III Tool Overview'!$H$6=\"Eilean Siar Local Authority\",0,hosp_count(20,B250,C250,D250,$C$1,G250+H250,1,F250,E250*F250)))","v":179.40996759173822},5.8371961306875164E-2,null,0.5,5]
["Male 60-64",62.5,"male",5,{"$f":"HLOOKUP('III Tool Overview'!$H$6,Prevalence!$B$2:$AV$268,Prevalence!AW239,FALSE)","v":0.13750000000000001},{"$f":"HLOOKUP('III Tool Overview'!$H$6,LookUpData_Pop!$B$1:$AV$269,LookUpData_Pop!BB244,FALSE)/5","v":20.6},{"$f":"'III Tool Overview'!$H$9/110","v":0},{"$f":"IF('III Tool Overview'!$H$10=\"Even distribution\",Targeting!C249,IF('III Tool Overview'!$H$10=\"Targetting to Q1\",Targeting!D249,IF('III Tool Overview'!$H$10=\"Targetting to Q1 & Q2\",Targeting!E249,IF('III Tool Overview'!$H$10=\"No variation in price elasticity\",Targeting!G249))))","v":2.7500000000000004},{"$f":"IF('III Tool Overview'!$H$6=\"Western Isles Health Board\",0,IF('III Tool Overview'!$H$6=\"Eilean Siar Local Authority\",0,new_ci(2,B251,C251,D251,$C$1,G251,1,F251,E251*F251)))","v":0.16027112022556428},{"$f":"IF('III Tool Overview'!$H$6=\"Western Isles Health Board\",0,IF('III Tool Overview'!$H$6=\"Eilean Siar Local Authority\",0,new_ci(2,B251,C251,D251,$C$1,G251+H251,1,F251,E251*F251)))","v":0.16008299242691332},{"$f":"IF('III Tool Overview'!$H$6=\"Western Isles Health Board\",0,IF('III Tool Overview'!$H$6=\"Eilean Siar Local Authority\",0,new_ci(5,B251,C251,D251,$C$1,G251,1,F251,E251*F251)))","v":0.69085976790031378},{"$f":"IF('III Tool Overview'!$H$6=\"Western Isles Health Board\",0,IF('III Tool Overview'!$H$6=\"Eilean Siar Local Authority\",0,new_ci(5,B251,C251,D251,$C$1,G251+H251,1,F251,E251*F251)))","v":0.69008149694751009},{"$f":"IF('III Tool Overview'!$H$6=\"Western Isles Health Board\",0,IF('III Tool Overview'!$H$6=\"Eilean Siar Local Authority\",0,new_ci(10,B251,C251,D251,$C$1,G251,1,F251,E251*F251)))","v":1.7597577617968247},{"$f":"IF('III Tool Overview'!$H$6=\"Western Isles Health Board\",0,IF('III Tool Overview'!$H$6=\"Eilean Siar Local Authority\",0,new_ci(10,B251,C251,D251,$C$1,G251+H251,1,F251,E251*F251)))","v":1.757937520061617},{"$f":"IF('III Tool Overview'!$H$6=\"Western Isles Health Board\",0,IF('III Tool Overview'!$H$6=\"Eilean Siar Local Authority\",0,new_ci(20,B251,C251,D251,$C$1,G251,1,F251,E251*F251)))","v":4.7095139263604029},{"$f":"IF('III Tool Overview'!$H$6=\"Western Isles Health Board\",0,IF('III Tool Overview'!$H$6=\"Eilean Siar Local Authority\",0,new_ci(20,B251,C251,D251,$C$1,G251+H251,1,F251,E251*F251)))","v":4.70576484403467},{"$f":"IF('III Tool Overview'!$H$6=\"Western Isles Health Board\",0,IF('III Tool Overview'!$H$6=\"Eilean Siar Local Authority\",0,new_yll(2,B251,C251,D251,$C$1,G251,1,F251,E251*F251)))","v":5.9300314483458783},{"$f":"IF('III Tool Overview'!$H$6=\"Western Isles Health Board\",0,IF('III Tool Overview'!$H$6=\"Eilean Siar Local Authority\",0,new_yll(2,B251,C251,D251,$C$1,G251+H251,1,F251,E251*F251)))","v":5.9230707197957928},6.9607285500854488E-3,{"$f":"IF('III Tool Overview'!$H$6=\"Western Isles Health Board\",0,IF('III Tool Overview'!$H$6=\"Eilean Siar Local Authority\",0,new_yll(5,B251,C251,D251,$C$1,G251,1,F251,E251*F251)))","v":24.483519767995698},{"$f":"IF('III Tool Overview'!$H$6=\"Western Isles Health Board\",0,IF('III Tool Overview'!$H$6=\"Eilean Siar Local Authority\",0,new_yll(5,B251,C251,D251,$C$1,G251+H251,1,F251,E251*F251)))","v":24.455912033505498},2.7607734490199931E-2,{"$f":"IF('III Tool Overview'!$H$6=\"Western Isles Health Board\",0,IF('III Tool Overview'!$H$6=\"Eilean Siar Local Authority\",0,new_yll(10,B251,C251,D251,$C$1,G251,1,F251,E251*F251)))","v":57.52145989589696},{"$f":"IF('III Tool Overview'!$H$6=\"Western Isles Health Board\",0,IF('III Tool Overview'!$H$6=\"Eilean Siar Local Authority\",0,new_yll(10,B251,C251,D251,$C$1,G251+H251,1,F251,E251*F251)))","v":57.461569678312841},5.9890217584118943E-2,{"$f":"IF('III Tool Overview'!$H$6=\"Western Isles Health Board\",0,IF('III Tool Overview'!$H$6=\"Eilean Siar Local Authority\",0,new_yll(20,B251,C251,D251,$C$1,G251,1,F251,E251*F251)))","v":125.89121020901625},{"$f":"IF('III Tool Overview'!$H$6=\"Western Isles Health Board\",0,IF('III Tool Overview'!$H$6=\"Eilean Siar Local Authority\",0,new_yll(20,B251,C251,D251,$C$1,G251+H251,1,F251,E251*F251)))","v":125.78551559616355},0.10569461285270165,{"$f":"IF('III Tool Overview'!$H$6=\"Western Isles Health Board\",0,IF('III Tool Overview'!$H$6=\"Eilean Siar Local Authority\",0,hosp_count(2,B251,C251,D251,$C$1,G251,1,F251,E251*F251)))","v":5.2012066748858885},{"$f":"IF('III Tool Overview'!$H$6=\"Western Isles Health Board\",0,IF('III Tool Overview'!$H$6=\"Eilean Siar Local Authority\",0,hosp_count(2,B251,C251,D251,$C$1,G251+H251,1,F251,E251*F251)))","v":5.1974515890216972},3.7550858641912654E-3,{"$f":"IF('III Tool Overview'!$H$6=\"Western Isles Health Board\",0,IF('III Tool Overview'!$H$6=\"Eilean Siar Local Authority\",0,hosp_count(5,B251,C251,D251,$C$1,G251,1,F251,E251*F251)))","v":21.704081003603442},{"$f":"IF('III Tool Overview'!$H$6=\"Western Isles Health Board\",0,IF('III Tool Overview'!$H$6=\"Eilean Siar Local Authority\",0,hosp_count(5,B251,C251,D251,$C$1,G251+H251,1,F251,E251*F251)))","v":21.6891169860261},1.4964017577341338E-2,{"$f":"IF('III Tool Overview'!$H$6=\"Western Isles Health Board\",0,IF('III Tool Overview'!$H$6=\"Eilean Siar Local Authority\",0,hosp_count(10,B251,C251,D251,$C$1,G251,1,F251,E251*F251)))","v":52.265621693870479},{"$f":"IF('III Tool Overview'!$H$6=\"Western Isles Health Board\",0,IF('III Tool Overview'!$H$6=\"Eilean Siar Local Authority\",0,hosp_count(10,B251,C251,D251,$C$1,G251+H251,1,F251,E251*F251)))","v":52.232803947843962},3.2817746026516659E-2,{"$f":"IF('III Tool Overview'!$H$6=\"Western Isles Health Board\",0,IF('III Tool Overview'!$H$6=\"Eilean Siar Local Authority\",0,hosp_count(20,B251,C251,D251,$C$1,G251,1,F251,E251*F251)))","v":124.39105366021762},{"$f":"IF('III Tool Overview'!$H$6=\"Western Isles Health Board\",0,IF('III Tool Overview'!$H$6=\"Eilean Siar Local Authority\",0,hosp_count(20,B251,C251,D251,$C$1,G251+H251,1,F251,E251*F251)))","v":124.33176188835517},5.9291771862447717E-2,null,0.5,5]
["Male 65-69",67.5,"male",5,{"$f":"HLOOKUP('III Tool Overview'!$H$6,Prevalence!$B$2:$AV$268,Prevalence!AW240,FALSE)","v":8.7500000000000008E-2},{"$f":"HLOOKUP('III Tool Overview'!$H$6,LookUpData_Pop!$B$1:$AV$269,LookUpData_Pop!BB245,FALSE)/5","v":14.8},{"$f":"'III Tool Overview'!$H$9/110","v":0},{"$f":"IF('III Tool Overview'!$H$10=\"Even distribution\",Targeting!C250,IF('III Tool Overview'!$H$10=\"Targetting to Q1\",Targeting!D250,IF('III Tool Overview'!$H$10=\"Targetting to Q1 & Q2\",Targeting!E250,IF('III Tool Overview'!$H$10=\"No variation in price elasticity\",Targeting!G250))))","v":1.33},{"$f":"IF('III Tool Overview'!$H$6=\"Western Isles Health Board\",0,IF('III Tool Overview'!$H$6=\"Eilean Siar Local Authority\",0,new_ci(2,B252,C252,D252,$C$1,G252,1,F252,E252*F252)))","v":0.17742087956754057},{"$f":"IF('III Tool Overview'!$H$6=\"Western Isles Health Board\",0,IF('III Tool Overview'!$H$6=\"Eilean Siar Local Authority\",0,new_ci(2,B252,C252,D252,$C$1,G252+H252,1,F252,E252*F252)))","v":0.17731628893159665},{"$f":"IF('III Tool Overview'!$H$6=\"Western Isles Health Board\",0,IF('III Tool Overview'!$H$6=\"Eilean Siar Local Authority\",0,new_ci(5,B252,C252,D252,$C$1,G252,1,F252,E252*F252)))","v":0.7594901165418807},{"$f":"IF('III Tool Overview'!$H$6=\"Western Isles Health Board\",0,IF('III Tool Overview'!$H$6=\"Eilean Siar Local Authority\",0,new_ci(5,B252,C252,D252,$C$1,G252+H252,1,F252,E252*F252)))","v":0.75907212464572138},{"$f":"IF('III Tool Overview'!$H$6=\"Western Isles Health Board\",0,IF('III Tool Overview'!$H$6=\"Eilean Siar Local Authority\",0,new_ci(10,B252,C252,D252,$C$1,G252,1,F252,E252*F252)))","v":1.9071677137862499},{"$f":"IF('III Tool Overview'!$H$6=\"Western Isles Health Board\",0,IF('III Tool Overview'!$H$6=\"Eilean Siar Local Authority\",0,new_ci(10,B252,C252,D252,$C$1,G252+H252,1,F252,E252*F252)))","v":1.9062588317986986},{"$f":"IF('III Tool Overview'!$H$6=\"Western Isles Health Board\",0,IF('III Tool Overview'!$H$6=\"Eilean Siar Local Authority\",0,new_ci(20,B252,C252,D252,$C$1,G252,1,F252,E252*F252)))","v":4.8963337164917711},{"$f":"IF('III Tool Overview'!$H$6=\"Western Isles Health Board\",0,IF('III Tool Overview'!$H$6=\"Eilean Siar Local Authority\",0,new_ci(20,B252,C252,D252,$C$1,G252+H252,1,F252,E252*F252)))","v":4.8948439284581111},{"$f":"IF('III Tool Overview'!$H$6=\"Western Isles Health Board\",0,IF('III Tool Overview'!$H$6=\"Eilean Siar Local Authority\",0,new_yll(2,B252,C252,D252,$C$1,G252,1,F252,E252*F252)))","v":5.5000472665937581},{"$f":"IF('III Tool Overview'!$H$6=\"Western Isles Health Board\",0,IF('III Tool Overview'!$H$6=\"Eilean Siar Local Authority\",0,new_yll(2,B252,C252,D252,$C$1,G252+H252,1,F252,E252*F252)))","v":5.4968049568794966},3.2423097142615376E-3,{"$f":"IF('III Tool Overview'!$H$6=\"Western Isles Health Board\",0,IF('III Tool Overview'!$H$6=\"Eilean Siar Local Authority\",0,new_yll(5,B252,C252,D252,$C$1,G252,1,F252,E252*F252)))","v":22.363089628920221},{"$f":"IF('III Tool Overview'!$H$6=\"Western Isles Health Board\",0,IF('III Tool Overview'!$H$6=\"Eilean Siar Local Authority\",0,new_yll(5,B252,C252,D252,$C$1,G252+H252,1,F252,E252*F252)))","v":22.35075782322442},1.2331805695801279E-2,{"$f":"IF('III Tool Overview'!$H$6=\"Western Isles Health Board\",0,IF('III Tool Overview'!$H$6=\"Eilean Siar Local Authority\",0,new_yll(10,B252,C252,D252,$C$1,G252,1,F252,E252*F252)))","v":50.963293917037774},{"$f":"IF('III Tool Overview'!$H$6=\"Western Isles Health Board\",0,IF('III Tool Overview'!$H$6=\"Eilean Siar Local Authority\",0,new_yll(10,B252,C252,D252,$C$1,G252+H252,1,F252,E252*F252)))","v":50.938663760050019},2.4630156987754503E-2,{"$f":"IF('III Tool Overview'!$H$6=\"Western Isles Health Board\",0,IF('III Tool Overview'!$H$6=\"Eilean Siar Local Authority\",0,new_yll(20,B252,C252,D252,$C$1,G252,1,F252,E252*F252)))","v":102.52940068577223},{"$f":"IF('III Tool Overview'!$H$6=\"Western Isles Health Board\",0,IF('III Tool Overview'!$H$6=\"Eilean Siar Local Authority\",0,new_yll(20,B252,C252,D252,$C$1,G252+H252,1,F252,E252*F252)))","v":102.49398345615643},3.5417229615802626E-2,{"$f":"IF('III Tool Overview'!$H$6=\"Western Isles Health Board\",0,IF('III Tool Overview'!$H$6=\"Eilean Siar Local Authority\",0,hosp_count(2,B252,C252,D252,$C$1,G252,1,F252,E252*F252)))","v":4.6070107080413845},{"$f":"IF('III Tool Overview'!$H$6=\"Western Isles Health Board\",0,IF('III Tool Overview'!$H$6=\"Eilean Siar Local Authority\",0,hosp_count(2,B252,C252,D252,$C$1,G252+H252,1,F252,E252*F252)))","v":4.6054070021723632},1.6037058690212547E-3,{"$f":"IF('III Tool Overview'!$H$6=\"Western Isles Health Board\",0,IF('III Tool Overview'!$H$6=\"Eilean Siar Local Authority\",0,hosp_count(5,B252,C252,D252,$C$1,G252,1,F252,E252*F252)))","v":19.09661962520595},{"$f":"IF('III Tool Overview'!$H$6=\"Western Isles Health Board\",0,IF('III Tool Overview'!$H$6=\"Eilean Siar Local Authority\",0,hosp_count(5,B252,C252,D252,$C$1,G252+H252,1,F252,E252*F252)))","v":19.09045630334834},6.1633218576098159E-3,{"$f":"IF('III Tool Overview'!$H$6=\"Western Isles Health Board\",0,IF('III Tool Overview'!$H$6=\"Eilean Siar Local Authority\",0,hosp_count(10,B252,C252,D252,$C$1,G252,1,F252,E252*F252)))","v":45.374501890473219},{"$f":"IF('III Tool Overview'!$H$6=\"Western Isles Health Board\",0,IF('III Tool Overview'!$H$6=\"Eilean Siar Local Authority\",0,hosp_count(10,B252,C252,D252,$C$1,G252+H252,1,F252,E252*F252)))","v":45.36196495284657},1.2536937626649092E-2,{"$f":"IF('III Tool Overview'!$H$6=\"Western Isles Health Board\",0,IF('III Tool Overview'!$H$6=\"Eilean Siar Local Authority\",0,hosp_count(20,B252,C252,D252,$C$1,G252,1,F252,E252*F252)))","v":104.01214868976635},{"$f":"IF('III Tool Overview'!$H$6=\"Western Isles Health Board\",0,IF('III Tool Overview'!$H$6=\"Eilean Siar Local Authority\",0,hosp_count(20,B252,C252,D252,$C$1,G252+H252,1,F252,E252*F252)))","v":103.99413626953056},1.8012420235791637E-2,null,0.5,5]
["Male 70-74",72.5,"male",5,{"$f":"HLOOKUP('III Tool Overview'!$H$6,Prevalence!$B$2:$AV$268,Prevalence!AW241,FALSE)","v":8.7500000000000008E-2},{"$f":"HLOOKUP('III Tool Overview'!$H$6,LookUpData_Pop!$B$1:$AV$269,LookUpData_Pop!BB246,FALSE)/5","v":11.2},{"$f":"'III Tool Overview'!$H$9/110","v":0},{"$f":"IF('III Tool Overview'!$H$10=\"Even distribution\",Targeting!C251,IF('III Tool Overview'!$H$10=\"Targetting to Q1\",Targeting!D251,IF('III Tool Overview'!$H$10=\"Targetting to Q1 & Q2\",Targeting!E251,IF('III Tool Overview'!$H$10=\"No variation in price elasticity\",Targeting!G251))))","v":0.77000000000000013},{"$f":"IF('III Tool Overview'!$H$6=\"Western Isles Health Board\",0,IF('III Tool Overview'!$H$6=\"Eilean Siar Local Authority\",0,new_ci(2,B253,C253,D253,$C$1,G253,1,F253,E253*F253)))","v":0.17894257203888703},{"$f":"IF('III Tool Overview'!$H$6=\"Western Isles Health Board\",0,IF('III Tool Overview'!$H$6=\"Eilean Siar Local Authority\",0,new_ci(2,B253,C253,D253,$C$1,G253+H253,1,F253,E253*F253)))","v":0.17880734581755292},{"$f":"IF('III Tool Overview'!$H$6=\"Western Isles Health Board\",0,IF('III Tool Overview'!$H$6=\"Eilean Siar Local Authority\",0,new_ci(5,B253,C253,D253,$C$1,G253,1,F253,E253*F253)))","v":0.76006953850242986},{"$f":"IF('III Tool Overview'!$H$6=\"Western Isles Health Board\",0,IF('III Tool Overview'!$H$6=\"Eilean Siar Local Authority\",0,new_ci(5,B253,C253,D253,$C$1,G253+H253,1,F253,E253*F253)))","v":0.75954284086809287},{"$f":"IF('III Tool Overview'!$H$6=\"Western Isles Health Board\",0,IF('III Tool Overview'!$H$6=\"Eilean Siar Local Authority\",0,new_ci(10,B253,C253,D253,$C$1,G253,1,F253,E253*F253)))","v":1.8789338792468668},{"$f":"IF('III Tool Overview'!$H$6=\"Western Isles Health Board\",0,IF('III Tool Overview'!$H$6=\"Eilean Siar Local Authority\",0,new_ci(10,B253,C253,D253,$C$1,G253+H253,1,F253,E253*F253)))","v":1.8778491519654521},{"$f":"IF('III Tool Overview'!$H$6=\"Western Isles Health Board\",0,IF('III Tool Overview'!$H$6=\"Eilean Siar Local Authority\",0,new_ci(20,B253,C253,D253,$C$1,G253,1,F253,E253*F253)))","v":4.6190793516722684},{"$f":"IF('III Tool Overview'!$H$6=\"Western Isles Health Board\",0,IF('III Tool Overview'!$H$6=\"Eilean Siar Local Authority\",0,new_ci(20,B253,C253,D253,$C$1,G253+H253,1,F253,E253*F253)))","v":4.6175794401257537},{"$f":"IF('III Tool Overview'!$H$6=\"Western Isles Health Board\",0,IF('III Tool Overview'!$H$6=\"Eilean Siar Local Authority\",0,new_yll(2,B253,C253,D253,$C$1,G253,1,F253,E253*F253)))","v":4.8314494450499499},{"$f":"IF('III Tool Overview'!$H$6=\"Western Isles Health Board\",0,IF('III Tool Overview'!$H$6=\"Eilean Siar Local Authority\",0,new_yll(2,B253,C253,D253,$C$1,G253+H253,1,F253,E253*F253)))","v":4.8277983370739292},{"$f":"Q253-R253","v":3.65110797602064E-3},{"$f":"IF('III Tool Overview'!$H$6=\"Western Isles Health Board\",0,IF('III Tool Overview'!$H$6=\"Eilean Siar Local Authority\",0,new_yll(5,B253,C253,D253,$C$1,G253,1,F253,E253*F253)))","v":19.344710475892935},{"$f":"IF('III Tool Overview'!$H$6=\"Western Isles Health Board\",0,IF('III Tool Overview'!$H$6=\"Eilean Siar Local Authority\",0,new_yll(5,B253,C253,D253,$C$1,G253+H253,1,F253,E253*F253)))","v":19.331266625853271},{"$f":"T253-U253","v":1.3443850039664085E-2},{"$f":"IF('III Tool Overview'!$H$6=\"Western Isles Health Board\",0,IF('III Tool Overview'!$H$6=\"Eilean Siar Local Authority\",0,new_yll(10,B253,C253,D253,$C$1,G253,1,F253,E253*F253)))","v":42.765813353005797},{"$f":"IF('III Tool Overview'!$H$6=\"Western Isles Health Board\",0,IF('III Tool Overview'!$H$6=\"Eilean Siar Local Authority\",0,new_yll(10,B253,C253,D253,$C$1,G253+H253,1,F253,E253*F253)))","v":42.740588491832568},{"$f":"W253-X253","v":2.5224861173228419E-2},{"$f":"IF('III Tool Overview'!$H$6=\"Western Isles Health Board\",0,IF('III Tool Overview'!$H$6=\"Eilean Siar Local Authority\",0,new_yll(20,B253,C253,D253,$C$1,G253,1,F253,E253*F253)))","v":79.286436622805553},{"$f":"IF('III Tool Overview'!$H$6=\"Western Isles Health Board\",0,IF('III Tool Overview'!$H$6=\"Eilean Siar Local Authority\",0,new_yll(20,B253,C253,D253,$C$1,G253+H253,1,F253,E253*F253)))","v":79.254664805139996},{"$f":"Z253-AA253","v":3.1771817665557478E-2},{"$f":"IF('III Tool Overview'!$H$6=\"Western Isles Health Board\",0,IF('III Tool Overview'!$H$6=\"Eilean Siar Local Authority\",0,hosp_count(2,B253,C253,D253,$C$1,G253,1,F253,E253*F253)))","v":4.008568160214641},{"$f":"IF('III Tool Overview'!$H$6=\"Western Isles Health Board\",0,IF('III Tool Overview'!$H$6=\"Eilean Siar Local Authority\",0,hosp_count(2,B253,C253,D253,$C$1,G253+H253,1,F253,E253*F253)))","v":4.0067441556405168},{"$f":"AC253-AD253","v":1.8240045741242383E-3},{"$f":"IF('III Tool Overview'!$H$6=\"Western Isles Health Board\",0,IF('III Tool Overview'!$H$6=\"Eilean Siar Local Authority\",0,hosp_count(5,B253,C253,D253,$C$1,G253,1,F253,E253*F253)))","v":16.502221564413379},{"$f":"IF('III Tool Overview'!$H$6=\"Western Isles Health Board\",0,IF('III Tool Overview'!$H$6=\"Eilean Siar Local Authority\",0,hosp_count(5,B253,C253,D253,$C$1,G253+H253,1,F253,E253*F253)))","v":16.495397742287469},{"$f":"AF253-AG253","v":6.8238221259093734E-3},{"$f":"IF('III Tool Overview'!$H$6=\"Western Isles Health Board\",0,IF('III Tool Overview'!$H$6=\"Eilean Siar Local Authority\",0,hosp_count(10,B253,C253,D253,$C$1,G253,1,F253,E253*F253)))","v":38.682722846737256},{"$f":"IF('III Tool Overview'!$H$6=\"Western Isles Health Board\",0,IF('III Tool Overview'!$H$6=\"Eilean Siar Local Authority\",0,hosp_count(10,B253,C253,D253,$C$1,G253+H253,1,F253,E253*F253)))","v":38.669600091415212},{"$f":"AI253-AJ253","v":1.31227553220441E-2},{"$f":"IF('III Tool Overview'!$H$6=\"Western Isles Health Board\",0,IF('III Tool Overview'!$H$6=\"Eilean Siar Local Authority\",0,hosp_count(20,B253,C253,D253,$C$1,G253,1,F253,E253*F253)))","v":85.529962116515094},{"$f":"IF('III Tool Overview'!$H$6=\"Western Isles Health Board\",0,IF('III Tool Overview'!$H$6=\"Eilean Siar Local Authority\",0,hosp_count(20,B253,C253,D253,$C$1,G253+H253,1,F253,E253*F253)))","v":85.514098166129756},{"$f":"AL253-AM253","v":1.5863950385337944E-2},null,0.5,5]
["Male 75-79",77.5,"male",5,{"$f":"HLOOKUP('III Tool Overview'!$H$6,Prevalence!$B$2:$AV$268,Prevalence!AW242,FALSE)","v":1.2500000000000001E-2},{"$f":"HLOOKUP('III Tool Overview'!$H$6,LookUpData_Pop!$B$1:$AV$269,LookUpData_Pop!BB247,FALSE)/5","v":10},{"$f":"'III Tool Overview'!$H$9/110","v":0},{"$f":"IF('III Tool Overview'!$H$10=\"Even distribution\",Targeting!C252,IF('III Tool Overview'!$H$10=\"Targetting to Q1\",Targeting!D252,IF('III Tool Overview'!$H$10=\"Targetting to Q1 & Q2\",Targeting!E252,IF('III Tool Overview'!$H$10=\"No variation in price elasticity\",Targeting!G252))))","v":9.0000000000000011E-2},{"$f":"IF('III Tool Overview'!$H$6=\"Western Isles Health Board\",0,IF('III Tool Overview'!$H$6=\"Eilean Siar Local Authority\",0,new_ci(2,B254,C254,D254,$C$1,G254,1,F254,E254*F254)))","v":0.24582304348179207},{"$f":"IF('III Tool Overview'!$H$6=\"Western Isles Health Board\",0,IF('III Tool Overview'!$H$6=\"Eilean Siar Local Authority\",0,new_ci(2,B254,C254,D254,$C$1,G254+H254,1,F254,E254*F254)))","v":0.24582304348179207},{"$f":"IF('III Tool Overview'!$H$6=\"Western Isles Health Board\",0,IF('III Tool Overview'!$H$6=\"Eilean Siar Local Authority\",0,new_ci(5,B254,C254,D254,$C$1,G254,1,F254,E254*F254)))","v":1.0318562320192382},{"$f":"IF('III Tool Overview'!$H$6=\"Western Isles Health Board\",0,IF('III Tool Overview'!$H$6=\"Eilean Siar Local Authority\",0,new_ci(5,B254,C254,D254,$C$1,G254+H254,1,F254,E254*F254)))","v":1.0318562320192382},{"$f":"IF('III Tool Overview'!$H$6=\"Western Isles Health Board\",0,IF('III Tool Overview'!$H$6=\"Eilean Siar Local Authority\",0,new_ci(10,B254,C254,D254,$C$1,G254,1,F254,E254*F254)))","v":2.4888149763197633},{"$f":"IF('III Tool Overview'!$H$6=\"Western Isles Health Board\",0,IF('III Tool Overview'!$H$6=\"Eilean Siar Local Authority\",0,new_ci(10,B254,C254,D254,$C$1,G254+H254,1,F254,E254*F254)))","v":2.4888149763197633},{"$f":"IF('III Tool Overview'!$H$6=\"Western Isles Health Board\",0,IF('III Tool Overview'!$H$6=\"Eilean Siar Local Authority\",0,new_ci(20,B254,C254,D254,$C$1,G254,1,F254,E254*F254)))","v":5.6895955350855711},{"$f":"IF('III Tool Overview'!$H$6=\"Western Isles Health Board\",0,IF('III Tool Overview'!$H$6=\"Eilean Siar Local Authority\",0,new_ci(20,B254,C254,D254,$C$1,G254+H254,1,F254,E254*F254)))","v":5.6895955350855711},{"$f":"IF('III Tool Overview'!$H$6=\"Western Isles Health Board\",0,IF('III Tool Overview'!$H$6=\"Eilean Siar Local Authority\",0,new_yll(2,B254,C254,D254,$C$1,G254,1,F254,E254*F254)))","v":5.1622839131176335},{"$f":"IF('III Tool Overview'!$H$6=\"Western Isles Health Board\",0,IF('III Tool Overview'!$H$6=\"Eilean Siar Local Authority\",0,new_yll(2,B254,C254,D254,$C$1,G254+H254,1,F254,E254*F254)))","v":5.1622839131176335},0,{"$f":"IF('III Tool Overview'!$H$6=\"Western Isles Health Board\",0,IF('III Tool Overview'!$H$6=\"Eilean Siar Local Authority\",0,new_yll(5,B254,C254,D254,$C$1,G254,1,F254,E254*F254)))","v":20.080981848527518},{"$f":"IF('III Tool Overview'!$H$6=\"Western Isles Health Board\",0,IF('III Tool Overview'!$H$6=\"Eilean Siar Local Authority\",0,new_yll(5,B254,C254,D254,$C$1,G254+H254,1,F254,E254*F254)))","v":20.080981848527518},0,{"$f":"IF('III Tool Overview'!$H$6=\"Western Isles Health Board\",0,IF('III Tool Overview'!$H$6=\"Eilean Siar Local Authority\",0,new_yll(10,B254,C254,D254,$C$1,G254,1,F254,E254*F254)))","v":41.868447306981523},{"$f":"IF('III Tool Overview'!$H$6=\"Western Isles Health Board\",0,IF('III Tool Overview'!$H$6=\"Eilean Siar Local Authority\",0,new_yll(10,B254,C254,D254,$C$1,G254+H254,1,F254,E254*F254)))","v":41.868447306981523},0,{"$f":"IF('III Tool Overview'!$H$6=\"Western Isles Health Board\",0,IF('III Tool Overview'!$H$6=\"Eilean Siar Local Authority\",0,new_yll(20,B254,C254,D254,$C$1,G254,1,F254,E254*F254)))","v":65.790848512234319},{"$f":"IF('III Tool Overview'!$H$6=\"Western Isles Health Board\",0,IF('III Tool Overview'!$H$6=\"Eilean Siar Local Authority\",0,new_yll(20,B254,C254,D254,$C$1,G254+H254,1,F254,E254*F254)))","v":65.790848512234319},0,{"$f":"IF('III Tool Overview'!$H$6=\"Western Isles Health Board\",0,IF('III Tool Overview'!$H$6=\"Eilean Siar Local Authority\",0,hosp_count(2,B254,C254,D254,$C$1,G254,1,F254,E254*F254)))","v":4.4125726147048097},{"$f":"IF('III Tool Overview'!$H$6=\"Western Isles Health Board\",0,IF('III Tool Overview'!$H$6=\"Eilean Siar Local Authority\",0,hosp_count(2,B254,C254,D254,$C$1,G254+H254,1,F254,E254*F254)))","v":4.4125726147048097},0,{"$f":"IF('III Tool Overview'!$H$6=\"Western Isles Health Board\",0,IF('III Tool Overview'!$H$6=\"Eilean Siar Local Authority\",0,hosp_count(5,B254,C254,D254,$C$1,G254,1,F254,E254*F254)))","v":17.935135087668176},{"$f":"IF('III Tool Overview'!$H$6=\"Western Isles Health Board\",0,IF('III Tool Overview'!$H$6=\"Eilean Siar Local Authority\",0,hosp_count(5,B254,C254,D254,$C$1,G254+H254,1,F254,E254*F254)))","v":17.935135087668176},0,{"$f":"IF('III Tool Overview'!$H$6=\"Western Isles Health Board\",0,IF('III Tool Overview'!$H$6=\"Eilean Siar Local Authority\",0,hosp_count(10,B254,C254,D254,$C$1,G254,1,F254,E254*F254)))","v":40.979320360540683},{"$f":"IF('III Tool Overview'!$H$6=\"Western Isles Health Board\",0,IF('III Tool Overview'!$H$6=\"Eilean Siar Local Authority\",0,hosp_count(10,B254,C254,D254,$C$1,G254+H254,1,F254,E254*F254)))","v":40.979320360540683},0,{"$f":"IF('III Tool Overview'!$H$6=\"Western Isles Health Board\",0,IF('III Tool Overview'!$H$6=\"Eilean Siar Local Authority\",0,hosp_count(20,B254,C254,D254,$C$1,G254,1,F254,E254*F254)))","v":84.446083856249885},{"$f":"IF('III Tool Overview'!$H$6=\"Western Isles Health Board\",0,IF('III Tool Overview'!$H$6=\"Eilean Siar Local Authority\",0,hosp_count(20,B254,C254,D254,$C$1,G254+H254,1,F254,E254*F254)))","v":84.446083856249885},0,null,0.5,5]
["Male 80-84",82.5,"male",5,{"$f":"HLOOKUP('III Tool Overview'!$H$6,Prevalence!$B$2:$AV$268,Prevalence!AW243,FALSE)","v":1.2500000000000001E-2},{"$f":"HLOOKUP('III Tool Overview'!$H$6,LookUpData_Pop!$B$1:$AV$269,LookUpData_Pop!BB248,FALSE)/5","v":6.6},{"$f":"'III Tool Overview'!$H$9/110","v":0},{"$f":"IF('III Tool Overview'!$H$10=\"Even distribution\",Targeting!C253,IF('III Tool Overview'!$H$10=\"Targetting to Q1\",Targeting!D253,IF('III Tool Overview'!$H$10=\"Targetting to Q1 & Q2\",Targeting!E253,IF('III Tool Overview'!$H$10=\"No variation in price elasticity\",Targeting!G253))))","v":0.1},{"$f":"IF('III Tool Overview'!$H$6=\"Western Isles Health Board\",0,IF('III Tool Overview'!$H$6=\"Eilean Siar Local Authority\",0,new_ci(2,B255,C255,D255,$C$1,G255,1,F255,E255*F255)))","v":0.21584035412464747},{"$f":"IF('III Tool Overview'!$H$6=\"Western Isles Health Board\",0,IF('III Tool Overview'!$H$6=\"Eilean Siar Local Authority\",0,new_ci(2,B255,C255,D255,$C$1,G255+H255,1,F255,E255*F255)))","v":0.21584035412464747},{"$f":"IF('III Tool Overview'!$H$6=\"Western Isles Health Board\",0,IF('III Tool Overview'!$H$6=\"Eilean Siar Local Authority\",0,new_ci(5,B255,C255,D255,$C$1,G255,1,F255,E255*F255)))","v":0.89363608841357112},{"$f":"IF('III Tool Overview'!$H$6=\"Western Isles Health Board\",0,IF('III Tool Overview'!$H$6=\"Eilean Siar Local Authority\",0,new_ci(5,B255,C255,D255,$C$1,G255+H255,1,F255,E255*F255)))","v":0.89363608841357112},{"$f":"IF('III Tool Overview'!$H$6=\"Western Isles Health Board\",0,IF('III Tool Overview'!$H$6=\"Eilean Siar Local Authority\",0,new_ci(10,B255,C255,D255,$C$1,G255,1,F255,E255*F255)))","v":2.0969856446541213},{"$f":"IF('III Tool Overview'!$H$6=\"Western Isles Health Board\",0,IF('III Tool Overview'!$H$6=\"Eilean Siar Local Authority\",0,new_ci(10,B255,C255,D255,$C$1,G255+H255,1,F255,E255*F255)))","v":2.0969856446541213},{"$f":"IF('III Tool Overview'!$H$6=\"Western Isles Health Board\",0,IF('III Tool Overview'!$H$6=\"Eilean Siar Local Authority\",0,new_ci(20,B255,C255,D255,$C$1,G255,1,F255,E255*F255)))","v":4.4556388607305371},{"$f":"IF('III Tool Overview'!$H$6=\"Western Isles Health Board\",0,IF('III Tool Overview'!$H$6=\"Eilean Siar Local Authority\",0,new_ci(20,B255,C255,D255,$C$1,G255+H255,1,F255,E255*F255)))","v":4.4556388607305371},{"$f":"IF('III Tool Overview'!$H$6=\"Western Isles Health Board\",0,IF('III Tool Overview'!$H$6=\"Eilean Siar Local Authority\",0,new_yll(2,B255,C255,D255,$C$1,G255,1,F255,E255*F255)))","v":3.669286020119007},{"$f":"IF('III Tool Overview'!$H$6=\"Western Isles Health Board\",0,IF('III Tool Overview'!$H$6=\"Eilean Siar Local Authority\",0,new_yll(2,B255,C255,D255,$C$1,G255+H255,1,F255,E255*F255)))","v":3.669286020119007},0,{"$f":"IF('III Tool Overview'!$H$6=\"Western Isles Health Board\",0,IF('III Tool Overview'!$H$6=\"Eilean Siar Local Authority\",0,new_yll(5,B255,C255,D255,$C$1,G255,1,F255,E255*F255)))","v":13.826729734897427},{"$f":"IF('III Tool Overview'!$H$6=\"Western Isles Health Board\",0,IF('III Tool Overview'!$H$6=\"Eilean Siar Local Authority\",0,new_yll(5,B255,C255,D255,$C$1,G255+H255,1,F255,E255*F255)))","v":13.826729734897427},0,{"$f":"IF('III Tool Overview'!$H$6=\"Western Isles Health Board\",0,IF('III Tool Overview'!$H$6=\"Eilean Siar Local Authority\",0,new_yll(10,B255,C255,D255,$C$1,G255,1,F255,E255*F255)))","v":27.036885146906293},{"$f":"IF('III Tool Overview'!$H$6=\"Western Isles Health Board\",0,IF('III Tool Overview'!$H$6=\"Eilean Siar Local Authority\",0,new_yll(10,B255,C255,D255,$C$1,G255+H255,1,F255,E255*F255)))","v":27.036885146906293},0,{"$f":"IF('III Tool Overview'!$H$6=\"Western Isles Health Board\",0,IF('III Tool Overview'!$H$6=\"Eilean Siar Local Authority\",0,new_yll(20,B255,C255,D255,$C$1,G255,1,F255,E255*F255)))","v":35.586607440207665},{"$f":"IF('III Tool Overview'!$H$6=\"Western Isles Health Board\",0,IF('III Tool Overview'!$H$6=\"Eilean Siar Local Authority\",0,new_yll(20,B255,C255,D255,$C$1,G255+H255,1,F255,E255*F255)))","v":35.586607440207665},0,{"$f":"IF('III Tool Overview'!$H$6=\"Western Isles Health Board\",0,IF('III Tool Overview'!$H$6=\"Eilean Siar Local Authority\",0,hosp_count(2,B255,C255,D255,$C$1,G255,1,F255,E255*F255)))","v":3.3484941497776952},{"$f":"IF('III Tool Overview'!$H$6=\"Western Isles Health Board\",0,IF('III Tool Overview'!$H$6=\"Eilean Siar Local Authority\",0,hosp_count(2,B255,C255,D255,$C$1,G255+H255,1,F255,E255*F255)))","v":3.3484941497776952},0,{"$f":"IF('III Tool Overview'!$H$6=\"Western Isles Health Board\",0,IF('III Tool Overview'!$H$6=\"Eilean Siar Local Authority\",0,hosp_count(5,B255,C255,D255,$C$1,G255,1,F255,E255*F255)))","v":13.43281877524133},{"$f":"IF('III Tool Overview'!$H$6=\"Western Isles Health Board\",0,IF('III Tool Overview'!$H$6=\"Eilean Siar Local Authority\",0,hosp_count(5,B255,C255,D255,$C$1,G255+H255,1,F255,E255*F255)))","v":13.43281877524133},0,{"$f":"IF('III Tool Overview'!$H$6=\"Western Isles Health Board\",0,IF('III Tool Overview'!$H$6=\"Eilean Siar Local Authority\",0,hosp_count(10,B255,C255,D255,$C$1,G255,1,F255,E255*F255)))","v":29.919274487049694},{"$f":"IF('III Tool Overview'!$H$6=\"Western Isles Health Board\",0,IF('III Tool Overview'!$H$6=\"Eilean Siar Local Authority\",0,hosp_count(10,B255,C255,D255,$C$1,G255+H255,1,F255,E255*F255)))","v":29.919274487049694},0,{"$f":"IF('III Tool Overview'!$H$6=\"Western Isles Health Board\",0,IF('III Tool Overview'!$H$6=\"Eilean Siar Local Authority\",0,hosp_count(20,B255,C255,D255,$C$1,G255,1,F255,E255*F255)))","v":57.823537588829318},{"$f":"IF('III Tool Overview'!$H$6=\"Western Isles Health Board\",0,IF('III Tool Overview'!$H$6=\"Eilean Siar Local Authority\",0,hosp_count(20,B255,C255,D255,$C$1,G255+H255,1,F255,E255*F255)))","v":57.823537588829318},0,null,0.5,5]
["Male 85-89",87.5,"male",5,{"$f":"HLOOKUP('III Tool Overview'!$H$6,Prevalence!$B$2:$AV$268,Prevalence!AW244,FALSE)","v":1.2500000000000001E-2},{"$f":"HLOOKUP('III Tool Overview'!$H$6,LookUpData_Pop!$B$1:$AV$269,LookUpData_Pop!BB249,FALSE)/5","v":5.4},{"$f":"'III Tool Overview'!$H$9/110","v":0},{"$f":"IF('III Tool Overview'!$H$10=\"Even distribution\",Targeting!C254,IF('III Tool Overview'!$H$10=\"Targetting to Q1\",Targeting!D254,IF('III Tool Overview'!$H$10=\"Targetting to Q1 & Q2\",Targeting!E254,IF('III Tool Overview'!$H$10=\"No variation in price elasticity\",Targeting!G254))))","v":0},{"$f":"IF('III Tool Overview'!$H$6=\"Western Isles Health Board\",0,IF('III Tool Overview'!$H$6=\"Eilean Siar Local Authority\",0,new_ci(2,B256,C256,D256,$C$1,G256,1,F256,E256*F256)))","v":0.27023476851553119},{"$f":"IF('III Tool Overview'!$H$6=\"Western Isles Health Board\",0,IF('III Tool Overview'!$H$6=\"Eilean Siar Local Authority\",0,new_ci(2,B256,C256,D256,$C$1,G256+H256,1,F256,E256*F256)))","v":0.27023476851553119},{"$f":"IF('III Tool Overview'!$H$6=\"Western Isles Health Board\",0,IF('III Tool Overview'!$H$6=\"Eilean Siar Local Authority\",0,new_ci(5,B256,C256,D256,$C$1,G256,1,F256,E256*F256)))","v":1.0864554882936426},{"$f":"IF('III Tool Overview'!$H$6=\"Western Isles Health Board\",0,IF('III Tool Overview'!$H$6=\"Eilean Siar Local Authority\",0,new_ci(5,B256,C256,D256,$C$1,G256+H256,1,F256,E256*F256)))","v":1.0864554882936426},{"$f":"IF('III Tool Overview'!$H$6=\"Western Isles Health Board\",0,IF('III Tool Overview'!$H$6=\"Eilean Siar Local Authority\",0,new_ci(10,B256,C256,D256,$C$1,G256,1,F256,E256*F256)))","v":2.4075968955945473},{"$f":"IF('III Tool Overview'!$H$6=\"Western Isles Health Board\",0,IF('III Tool Overview'!$H$6=\"Eilean Siar Local Authority\",0,new_ci(10,B256,C256,D256,$C$1,G256+H256,1,F256,E256*F256)))","v":2.4075968955945473},{"$f":"IF('III Tool Overview'!$H$6=\"Western Isles Health Board\",0,IF('III Tool Overview'!$H$6=\"Eilean Siar Local Authority\",0,new_ci(20,B256,C256,D256,$C$1,G256,1,F256,E256*F256)))","v":4.4482531950247859},{"$f":"IF('III Tool Overview'!$H$6=\"Western Isles Health Board\",0,IF('III Tool Overview'!$H$6=\"Eilean Siar Local Authority\",0,new_ci(20,B256,C256,D256,$C$1,G256+H256,1,F256,E256*F256)))","v":4.4482531950247859},{"$f":"IF('III Tool Overview'!$H$6=\"Western Isles Health Board\",0,IF('III Tool Overview'!$H$6=\"Eilean Siar Local Authority\",0,new_yll(2,B256,C256,D256,$C$1,G256,1,F256,E256*F256)))","v":2.9725824536708432},{"$f":"IF('III Tool Overview'!$H$6=\"Western Isles Health Board\",0,IF('III Tool Overview'!$H$6=\"Eilean Siar Local Authority\",0,new_yll(2,B256,C256,D256,$C$1,G256+H256,1,F256,E256*F256)))","v":2.9725824536708432},0,{"$f":"IF('III Tool Overview'!$H$6=\"Western Isles Health Board\",0,IF('III Tool Overview'!$H$6=\"Eilean Siar Local Authority\",0,new_yll(5,B256,C256,D256,$C$1,G256,1,F256,E256*F256)))","v":10.318200552617766},{"$f":"IF('III Tool Overview'!$H$6=\"Western Isles Health Board\",0,IF('III Tool Overview'!$H$6=\"Eilean Siar Local Authority\",0,new_yll(5,B256,C256,D256,$C$1,G256+H256,1,F256,E256*F256)))","v":10.318200552617766},0,{"$f":"IF('III Tool Overview'!$H$6=\"Western Isles Health Board\",0,IF('III Tool Overview'!$H$6=\"Eilean Siar Local Authority\",0,new_yll(10,B256,C256,D256,$C$1,G256,1,F256,E256*F256)))","v":16.96239776887591},{"$f":"IF('III Tool Overview'!$H$6=\"Western Isles Health Board\",0,IF('III Tool Overview'!$H$6=\"Eilean Siar Local Authority\",0,new_yll(10,B256,C256,D256,$C$1,G256+H256,1,F256,E256*F256)))","v":16.96239776887591},0,{"$f":"IF('III Tool Overview'!$H$6=\"Western Isles Health Board\",0,IF('III Tool Overview'!$H$6=\"Eilean Siar Local Authority\",0,new_yll(20,B256,C256,D256,$C$1,G256,1,F256,E256*F256)))","v":12.770142122002671},{"$f":"IF('III Tool Overview'!$H$6=\"Western Isles Health Board\",0,IF('III Tool Overview'!$H$6=\"Eilean Siar Local Authority\",0,new_yll(20,B256,C256,D256,$C$1,G256+H256,1,F256,E256*F256)))","v":12.770142122002671},0,{"$f":"IF('III Tool Overview'!$H$6=\"Western Isles Health Board\",0,IF('III Tool Overview'!$H$6=\"Eilean Siar Local Authority\",0,hosp_count(2,B256,C256,D256,$C$1,G256,1,F256,E256*F256)))","v":3.3776915254850457},{"$f":"IF('III Tool Overview'!$H$6=\"Western Isles Health Board\",0,IF('III Tool Overview'!$H$6=\"Eilean Siar Local Authority\",0,hosp_count(2,B256,C256,D256,$C$1,G256+H256,1,F256,E256*F256)))","v":3.3776915254850457},0,{"$f":"IF('III Tool Overview'!$H$6=\"Western Isles Health Board\",0,IF('III Tool Overview'!$H$6=\"Eilean Siar Local Authority\",0,hosp_count(5,B256,C256,D256,$C$1,G256,1,F256,E256*F256)))","v":13.175316876661608},{"$f":"IF('III Tool Overview'!$H$6=\"Western Isles Health Board\",0,IF('III Tool Overview'!$H$6=\"Eilean Siar Local Authority\",0,hosp_count(5,B256,C256,D256,$C$1,G256+H256,1,F256,E256*F256)))","v":13.175316876661608},0,{"$f":"IF('III Tool Overview'!$H$6=\"Western Isles Health Board\",0,IF('III Tool Overview'!$H$6=\"Eilean Siar Local Authority\",0,hosp_count(10,B256,C256,D256,$C$1,G256,1,F256,E256*F256)))","v":27.828098767133401},{"$f":"IF('III Tool Overview'!$H$6=\"Western Isles Health Board\",0,IF('III Tool Overview'!$H$6=\"Eilean Siar Local Authority\",0,hosp_count(10,B256,C256,D256,$C$1,G256+H256,1,F256,E256*F256)))","v":27.828098767133401},0,{"$f":"IF('III Tool Overview'!$H$6=\"Western Isles Health Board\",0,IF('III Tool Overview'!$H$6=\"Eilean Siar Local Authority\",0,hosp_count(20,B256,C256,D256,$C$1,G256,1,F256,E256*F256)))","v":47.602487875406922},{"$f":"IF('III Tool Overview'!$H$6=\"Western Isles Health Board\",0,IF('III Tool Overview'!$H$6=\"Eilean Siar Local Authority\",0,hosp_count(20,B256,C256,D256,$C$1,G256+H256,1,F256,E256*F256)))","v":47.602487875406922},0,null,0.5,{"$f":"2/#REF!","v":{"$error":"#REF!"}}]
["Male 90+",95,"male",5,{"$f":"HLOOKUP('III Tool Overview'!$H$6,Prevalence!$B$2:$AV$268,Prevalence!AW245,FALSE)","v":1.2500000000000001E-2},{"$f":"HLOOKUP('III Tool Overview'!$H$6,LookUpData_Pop!$B$1:$AV$269,LookUpData_Pop!BB250,FALSE)/5","v":0.6},{"$f":"'III Tool Overview'!$H$9/110","v":0},{"$f":"IF('III Tool Overview'!$H$10=\"Even distribution\",Targeting!C255,IF('III Tool Overview'!$H$10=\"Targetting to Q1\",Targeting!D255,IF('III Tool Overview'!$H$10=\"Targetting to Q1 & Q2\",Targeting!E255,IF('III Tool Overview'!$H$10=\"No variation in price elasticity\",Targeting!G255))))","v":2.0000000000000004E-2},{"$f":"IF('III Tool Overview'!$H$6=\"Western Isles Health Board\",0,IF('III Tool Overview'!$H$6=\"Eilean Siar Local Authority\",0,new_ci(2,B257,C257,D257,$C$1,G257,1,F257,E257*F257)))","v":4.9014796476953212E-2},{"$f":"IF('III Tool Overview'!$H$6=\"Western Isles Health Board\",0,IF('III Tool Overview'!$H$6=\"Eilean Siar Local Authority\",0,new_ci(2,B257,C257,D257,$C$1,G257+H257,1,F257,E257*F257)))","v":4.9014796476953212E-2},{"$f":"IF('III Tool Overview'!$H$6=\"Western Isles Health Board\",0,IF('III Tool Overview'!$H$6=\"Eilean Siar Local Authority\",0,new_ci(5,B257,C257,D257,$C$1,G257,1,F257,E257*F257)))","v":0.18675778271403531},{"$f":"IF('III Tool Overview'!$H$6=\"Western Isles Health Board\",0,IF('III Tool Overview'!$H$6=\"Eilean Siar Local Authority\",0,new_ci(5,B257,C257,D257,$C$1,G257+H257,1,F257,E257*F257)))","v":0.18675778271403531},{"$f":"IF('III Tool Overview'!$H$6=\"Western Isles Health Board\",0,IF('III Tool Overview'!$H$6=\"Eilean Siar Local Authority\",0,new_ci(10,B257,C257,D257,$C$1,G257,1,F257,E257*F257)))","v":0.37479571330275696},{"$f":"IF('III Tool Overview'!$H$6=\"Western Isles Health Board\",0,IF('III Tool Overview'!$H$6=\"Eilean Siar Local Authority\",0,new_ci(10,B257,C257,D257,$C$1,G257+H257,1,F257,E257*F257)))","v":0.37479571330275696},{"$f":"IF('III Tool Overview'!$H$6=\"Western Isles Health Board\",0,IF('III Tool Overview'!$H$6=\"Eilean Siar Local Authority\",0,new_ci(20,B257,C257,D257,$C$1,G257,1,F257,E257*F257)))","v":0.56636899147190711},{"$f":"IF('III Tool Overview'!$H$6=\"Western Isles Health Board\",0,IF('III Tool Overview'!$H$6=\"Eilean Siar Local Authority\",0,new_ci(20,B257,C257,D257,$C$1,G257+H257,1,F257,E257*F257)))","v":0.56636899147190711},{"$f":"IF('III Tool Overview'!$H$6=\"Western Isles Health Board\",0,IF('III Tool Overview'!$H$6=\"Eilean Siar Local Authority\",0,new_yll(2,B257,C257,D257,$C$1,G257,1,F257,E257*F257)))","v":0.19605918590781285},{"$f":"IF('III Tool Overview'!$H$6=\"Western Isles Health Board\",0,IF('III Tool Overview'!$H$6=\"Eilean Siar Local Authority\",0,new_yll(2,B257,C257,D257,$C$1,G257+H257,1,F257,E257*F257)))","v":0.19605918590781285},{"$f":"Q257-R257","v":0},{"$f":"IF('III Tool Overview'!$H$6=\"Western Isles Health Board\",0,IF('III Tool Overview'!$H$6=\"Eilean Siar Local Authority\",0,new_yll(5,B257,C257,D257,$C$1,G257,1,F257,E257*F257)))","v":0.47497628271439596},{"$f":"IF('III Tool Overview'!$H$6=\"Western Isles Health Board\",0,IF('III Tool Overview'!$H$6=\"Eilean Siar Local Authority\",0,new_yll(5,B257,C257,D257,$C$1,G257+H257,1,F257,E257*F257)))","v":0.47497628271439596},{"$f":"T257-U257","v":0},{"$f":"IF('III Tool Overview'!$H$6=\"Western Isles Health Board\",0,IF('III Tool Overview'!$H$6=\"Eilean Siar Local Authority\",0,new_yll(10,B257,C257,D257,$C$1,G257,1,F257,E257*F257)))","v":0.12235301260021303},{"$f":"IF('III Tool Overview'!$H$6=\"Western Isles Health Board\",0,IF('III Tool Overview'!$H$6=\"Eilean Siar Local Authority\",0,new_yll(10,B257,C257,D257,$C$1,G257+H257,1,F257,E257*F257)))","v":0.12235301260021303},{"$f":"W257-X257","v":0},{"$f":"IF('III Tool Overview'!$H$6=\"Western Isles Health Board\",0,IF('III Tool Overview'!$H$6=\"Eilean Siar Local Authority\",0,new_yll(20,B257,C257,D257,$C$1,G257,1,F257,E257*F257)))","v":-1.5035883362667335},{"$f":"IF('III Tool Overview'!$H$6=\"Western Isles Health Board\",0,IF('III Tool Overview'!$H$6=\"Eilean Siar Local Authority\",0,new_yll(20,B257,C257,D257,$C$1,G257+H257,1,F257,E257*F257)))","v":-1.5035883362667335},{"$f":"Z257-AA257","v":0},{"$f":"IF('III Tool Overview'!$H$6=\"Western Isles Health Board\",0,IF('III Tool Overview'!$H$6=\"Eilean Siar Local Authority\",0,hosp_count(2,B257,C257,D257,$C$1,G257,1,F257,E257*F257)))","v":0.47912797194766377},{"$f":"IF('III Tool Overview'!$H$6=\"Western Isles Health Board\",0,IF('III Tool Overview'!$H$6=\"Eilean Siar Local Authority\",0,hosp_count(2,B257,C257,D257,$C$1,G257+H257,1,F257,E257*F257)))","v":0.47912797194766377},{"$f":"AC257-AD257","v":0},{"$f":"IF('III Tool Overview'!$H$6=\"Western Isles Health Board\",0,IF('III Tool Overview'!$H$6=\"Eilean Siar Local Authority\",0,hosp_count(5,B257,C257,D257,$C$1,G257,1,F257,E257*F257)))","v":1.775505571636522},{"$f":"IF('III Tool Overview'!$H$6=\"Western Isles Health Board\",0,IF('III Tool Overview'!$H$6=\"Eilean Siar Local Authority\",0,hosp_count(5,B257,C257,D257,$C$1,G257+H257,1,F257,E257*F257)))","v":1.775505571636522},{"$f":"AF257-AG257","v":0},{"$f":"IF('III Tool Overview'!$H$6=\"Western Isles Health Board\",0,IF('III Tool Overview'!$H$6=\"Eilean Siar Local Authority\",0,hosp_count(10,B257,C257,D257,$C$1,G257,1,F257,E257*F257)))","v":3.4207175619448003},{"$f":"IF('III Tool Overview'!$H$6=\"Western Isles Health Board\",0,IF('III Tool Overview'!$H$6=\"Eilean Siar Local Authority\",0,hosp_count(10,B257,C257,D257,$C$1,G257+H257,1,F257,E257*F257)))","v":3.4207175619448003},{"$f":"AI257-AJ257","v":0},{"$f":"IF('III Tool Overview'!$H$6=\"Western Isles Health Board\",0,IF('III Tool Overview'!$H$6=\"Eilean Siar Local Authority\",0,hosp_count(20,B257,C257,D257,$C$1,G257,1,F257,E257*F257)))","v":4.9140358309073457},{"$f":"IF('III Tool Overview'!$H$6=\"Western Isles Health Board\",0,IF('III Tool Overview'!$H$6=\"Eilean Siar Local Authority\",0,hosp_count(20,B257,C257,D257,$C$1,G257+H257,1,F257,E257*F257)))","v":4.9140358309073457},{"$f":"AL257-AM257","v":0}]
["TOTAL",null,null,null,null,{"$f":"SUM(F242:F257)","v":254.59999999999997},{"$f":"SUM(G242:G257)","v":0},{"$f":"SUM(H242:H257)","v":26.000000000000004},{"$f":"SUM(I242:I257)","v":1.7691020149939007},{"$f":"SUM(J242:J257)","v":1.7682369777327696},{"$f":"SUM(K242:K257)","v":7.456641986364196},{"$f":"SUM(L242:L257)","v":7.4530636013553551},{"$f":"SUM(M242:M257)","v":18.208895229115871},{"$f":"SUM(N242:N257)","v":18.200497680459982},{"$f":"SUM(O242:O257)","v":44.21106191739154},{"$f":"SUM(P242:P257)","v":44.193080145554589},{"$f":"SUM(Q242:Q257)","v":51.039668350634742},{"$f":"SUM(R242:R257)","v":51.004449158061284},{"$f":"SUM(S242:S257)","v":3.5219192573460067E-2},{"$f":"SUM(T242:T257)","v":206.64495412516519},{"$f":"SUM(U242:U257)","v":206.50359646268831},{"$f":"SUM(V242:V257)","v":0.14135766247684423},{"$f":"SUM(W242:W257)","v":470.43347151084265},{"$f":"SUM(X242:X257)","v":470.1179092412504},{"$f":"SUM(Y242:Y257)","v":0.31556226959222489},{"$f":"SUM(Z242:Z257)","v":984.9700788444311},{"$f":"SUM(AA242:AA257)","v":984.3487587263885},{"$f":"SUM(AB242:AB257)","v":0.62132011804273013},{"$f":"SUM(AC242:AC257)","v":50.403811644343257},{"$f":"SUM(AD242:AD257)","v":50.382376845997662},{"$f":"SUM(AE242:AE257)","v":2.1434798345592809E-2},{"$f":"SUM(AF242:AF257)","v":208.6095834126956},{"$f":"SUM(AG242:AG257)","v":208.52305398316679},{"$f":"SUM(AH242:AH257)","v":8.6529429528772628E-2},{"$f":"SUM(AI242:AI257)","v":495.21250916162126},{"$f":"SUM(AJ242:AJ257)","v":495.01702224894166},{"$f":"SUM(AK242:AK257)","v":0.19548691267966234},{"$f":"SUM(AL242:AL257)","v":1147.4470241523102},{"$f":"SUM(AM242:AM257)","v":1147.0521494229031},{"$f":"SUM(AN242:AN257)","v":0.39487472940728452}]
["Female <1",0.5,"female",5,null,{"$f":"HLOOKUP('III Tool Overview'!$H$6,LookUpData_Pop!$B$1:$AV$269,LookUpData_Pop!BB251,FALSE)/5","v":2.8},null,null,null,null,null,null,null,null,null,null,null,null,null,null,null,null,null,null,null,null,null,null,null,null,null,null,null,null,null,null,null,null,null,null,null,0.1,1]
["Female 1-4",2.5,"female",5,null,{"$f":"HLOOKUP('III Tool Overview'!$H$6,LookUpData_Pop!$B$1:$AV$269,LookUpData_Pop!BB252,FALSE)/5","v":9.1999999999999993},null,null,null,null,null,null,null,null,null,null,null,null,null,null,null,null,null,null,null,null,null,null,null,null,null,null,null,null,null,null,null,null,null,null,null,0.5,4]
["Female 5-9",7.5,"female",5,null,{"$f":"HLOOKUP('III Tool Overview'!$H$6,LookUpData_Pop!$B$1:$AV$269,LookUpData_Pop!BB253,FALSE)/5","v":14.6},null,null,null,null,null,null,null,null,null,null,null,null,null,null,null,null,null,null,null,null,null,null,null,null,null,null,null,null,null,null,null,null,null,null,null,0.5,5]
["Female 10-14",12.5,"female",5,null,{"$f":"HLOOKUP('III Tool Overview'!$H$6,LookUpData_Pop!$B$1:$AV$269,LookUpData_Pop!BB254,FALSE)/5","v":18.2},null,null,null,null,null,null,null,null,null,null,null,null,null,null,null,null,null,null,null,null,null,null,null,null,null,null,null,null,null,null,null,null,null,null,null,0.5,5]
["Female 15-19",17.5,"female",5,{"$f":"HLOOKUP('III Tool Overview'!$H$6,Prevalence!$B$2:$AV$268,Prevalence!AW250,FALSE)","v":7.4999999999999997E-2},{"$f":"HLOOKUP('III Tool Overview'!$H$6,LookUpData_Pop!$B$1:$AV$269,LookUpData_Pop!BB255,FALSE)/5","v":26.6},{"$f":"'III Tool Overview'!$H$9/110","v":0},{"$f":"IF('III Tool Overview'!$H$10=\"Even distribution\",Targeting!C261,IF('III Tool Overview'!$H$10=\"Targetting to Q1\",Targeting!D261,IF('III Tool Overview'!$H$10=\"Targetting to Q1 & Q2\",Targeting!E261,IF('III Tool Overview'!$H$10=\"No variation in price elasticity\",Targeting!G261))))","v":0.96},{"$f":"IF('III Tool Overview'!$H$6=\"Western Isles Health Board\",0,IF('III Tool Overview'!$H$6=\"Eilean Siar Local Authority\",0,new_ci(2,B263,C263,D263,$C$1,G263,1,F263,E263*F263)))","v":3.5246199809386928E-3},{"$f":"IF('III Tool Overview'!$H$6=\"Western Isles Health Board\",0,IF('III Tool Overview'!$H$6=\"Eilean Siar Local Authority\",0,new_ci(2,B263,C263,D263,$C$1,G263+H263,1,F263,E263*F263)))","v":3.5234528243514255E-3},{"$f":"IF('III Tool Overview'!$H$6=\"Western Isles Health Board\",0,IF('III Tool Overview'!$H$6=\"Eilean Siar Local Authority\",0,new_ci(5,B263,C263,D263,$C$1,G263,1,F263,E263*F263)))","v":1.565214454248276E-2},{"$f":"IF('III Tool Overview'!$H$6=\"Western Isles Health Board\",0,IF('III Tool Overview'!$H$6=\"Eilean Siar Local Authority\",0,new_ci(5,B263,C263,D263,$C$1,G263+H263,1,F263,E263*F263)))","v":1.5646994478856868E-2},{"$f":"IF('III Tool Overview'!$H$6=\"Western Isles Health Board\",0,IF('III Tool Overview'!$H$6=\"Eilean Siar Local Authority\",0,new_ci(10,B263,C263,D263,$C$1,G263,1,F263,E263*F263)))","v":4.223677506671155E-2},{"$f":"IF('III Tool Overview'!$H$6=\"Western Isles Health Board\",0,IF('III Tool Overview'!$H$6=\"Eilean Siar Local Authority\",0,new_ci(10,B263,C263,D263,$C$1,G263+H263,1,F263,E263*F263)))","v":4.2223041008073857E-2},{"$f":"IF('III Tool Overview'!$H$6=\"Western Isles Health Board\",0,IF('III Tool Overview'!$H$6=\"Eilean Siar Local Authority\",0,new_ci(20,B263,C263,D263,$C$1,G263,1,F263,E263*F263)))","v":0.13180328065493985},{"$f":"IF('III Tool Overview'!$H$6=\"Western Isles Health Board\",0,IF('III Tool Overview'!$H$6=\"Eilean Siar Local Authority\",0,new_ci(20,B263,C263,D263,$C$1,G263+H263,1,F263,E263*F263)))","v":0.131761628802054},{"$f":"IF('III Tool Overview'!$H$6=\"Western Isles Health Board\",0,IF('III Tool Overview'!$H$6=\"Eilean Siar Local Authority\",0,new_yll(2,B263,C263,D263,$C$1,G263,1,F263,E263*F263)))","v":0.28549421845603412},{"$f":"IF('III Tool Overview'!$H$6=\"Western Isles Health Board\",0,IF('III Tool Overview'!$H$6=\"Eilean Siar Local Authority\",0,new_yll(2,B263,C263,D263,$C$1,G263+H263,1,F263,E263*F263)))","v":0.28539967877246547},{"$f":"Q263-R263","v":9.4539683568650723E-5},{"$f":"IF('III Tool Overview'!$H$6=\"Western Isles Health Board\",0,IF('III Tool Overview'!$H$6=\"Eilean Siar Local Authority\",0,new_yll(5,B263,C263,D263,$C$1,G263,1,F263,E263*F263)))","v":1.2430211402360141},{"$f":"IF('III Tool Overview'!$H$6=\"Western Isles Health Board\",0,IF('III Tool Overview'!$H$6=\"Eilean Siar Local Authority\",0,new_yll(5,B263,C263,D263,$C$1,G263+H263,1,F263,E263*F263)))","v":1.2426121199302511},{"$f":"T263-U263","v":4.0902030576295267E-4},{"$f":"IF('III Tool Overview'!$H$6=\"Western Isles Health Board\",0,IF('III Tool Overview'!$H$6=\"Eilean Siar Local Authority\",0,new_yll(10,B263,C263,D263,$C$1,G263,1,F263,E263*F263)))","v":3.2332749854634821},{"$f":"IF('III Tool Overview'!$H$6=\"Western Isles Health Board\",0,IF('III Tool Overview'!$H$6=\"Eilean Siar Local Authority\",0,new_yll(10,B263,C263,D263,$C$1,G263+H263,1,F263,E263*F263)))","v":3.2322232537416462},{"$f":"W263-X263","v":1.0517317218359246E-3},{"$f":"IF('III Tool Overview'!$H$6=\"Western Isles Health Board\",0,IF('III Tool Overview'!$H$6=\"Eilean Siar Local Authority\",0,new_yll(20,B263,C263,D263,$C$1,G263,1,F263,E263*F263)))","v":9.2294670058042989},{"$f":"IF('III Tool Overview'!$H$6=\"Western Isles Health Board\",0,IF('III Tool Overview'!$H$6=\"Eilean Siar Local Authority\",0,new_yll(20,B263,C263,D263,$C$1,G263+H263,1,F263,E263*F263)))","v":9.2265452144324644},{"$f":"Z263-AA263","v":2.921791371834459E-3},{"$f":"IF('III Tool Overview'!$H$6=\"Western Isles Health Board\",0,IF('III Tool Overview'!$H$6=\"Eilean Siar Local Authority\",0,hosp_count(2,B263,C263,D263,$C$1,G263,1,F263,E263*F263)))","v":2.0852099035111564},{"$f":"IF('III Tool Overview'!$H$6=\"Western Isles Health Board\",0,IF('III Tool Overview'!$H$6=\"Eilean Siar Local Authority\",0,hosp_count(2,B263,C263,D263,$C$1,G263+H263,1,F263,E263*F263)))","v":2.0848075794538135},{"$f":"AC263-AD263","v":4.0232405734297316E-4},{"$f":"IF('III Tool Overview'!$H$6=\"Western Isles Health Board\",0,IF('III Tool Overview'!$H$6=\"Eilean Siar Local Authority\",0,hosp_count(5,B263,C263,D263,$C$1,G263,1,F263,E263*F263)))","v":8.6781110229735567},{"$f":"IF('III Tool Overview'!$H$6=\"Western Isles Health Board\",0,IF('III Tool Overview'!$H$6=\"Eilean Siar Local Authority\",0,hosp_count(5,B263,C263,D263,$C$1,G263+H263,1,F263,E263*F263)))","v":8.6764483065969777},{"$f":"AF263-AG263","v":1.6627163765789987E-3},{"$f":"IF('III Tool Overview'!$H$6=\"Western Isles Health Board\",0,IF('III Tool Overview'!$H$6=\"Eilean Siar Local Authority\",0,hosp_count(10,B263,C263,D263,$C$1,G263,1,F263,E263*F263)))","v":20.881406113973924},{"$f":"IF('III Tool Overview'!$H$6=\"Western Isles Health Board\",0,IF('III Tool Overview'!$H$6=\"Eilean Siar Local Authority\",0,hosp_count(10,B263,C263,D263,$C$1,G263+H263,1,F263,E263*F263)))","v":20.877454110347912},{"$f":"AI263-AJ263","v":3.9520036260114466E-3},{"$f":"IF('III Tool Overview'!$H$6=\"Western Isles Health Board\",0,IF('III Tool Overview'!$H$6=\"Eilean Siar Local Authority\",0,hosp_count(20,B263,C263,D263,$C$1,G263,1,F263,E263*F263)))","v":50.60848312224639},{"$f":"IF('III Tool Overview'!$H$6=\"Western Isles Health Board\",0,IF('III Tool Overview'!$H$6=\"Eilean Siar Local Authority\",0,hosp_count(20,B263,C263,D263,$C$1,G263+H263,1,F263,E263*F263)))","v":50.59916493078773},{"$f":"AL263-AM263","v":9.3181914586608627E-3},null,0.5,5]
["Female 20-24",22.5,"female",5,{"$f":"HLOOKUP('III Tool Overview'!$H$6,Prevalence!$B$2:$AV$268,Prevalence!AW251,FALSE)","v":7.4999999999999997E-2},{"$f":"HLOOKUP('III Tool Overview'!$H$6,LookUpData_Pop!$B$1:$AV$269,LookUpData_Pop!BB256,FALSE)/5","v":10.8},{"$f":"'III Tool Overview'!$H$9/110","v":0},{"$f":"IF('III Tool Overview'!$H$10=\"Even distribution\",Targeting!C262,IF('III Tool Overview'!$H$10=\"Targetting to Q1\",Targeting!D262,IF('III Tool Overview'!$H$10=\"Targetting to Q1 & Q2\",Targeting!E262,IF('III Tool Overview'!$H$10=\"No variation in price elasticity\",Targeting!G262))))","v":0.9},{"$f":"IF('III Tool Overview'!$H$6=\"Western Isles Health Board\",0,IF('III Tool Overview'!$H$6=\"Eilean Siar Local Authority\",0,new_ci(2,B264,C264,D264,$C$1,G264,1,F264,E264*F264)))","v":1.985931714804501E-3},{"$f":"IF('III Tool Overview'!$H$6=\"Western Isles Health Board\",0,IF('III Tool Overview'!$H$6=\"Eilean Siar Local Authority\",0,new_ci(2,B264,C264,D264,$C$1,G264+H264,1,F264,E264*F264)))","v":1.9843441431459221E-3},{"$f":"IF('III Tool Overview'!$H$6=\"Western Isles Health Board\",0,IF('III Tool Overview'!$H$6=\"Eilean Siar Local Authority\",0,new_ci(5,B264,C264,D264,$C$1,G264,1,F264,E264*F264)))","v":8.818237882166003E-3},{"$f":"IF('III Tool Overview'!$H$6=\"Western Isles Health Board\",0,IF('III Tool Overview'!$H$6=\"Eilean Siar Local Authority\",0,new_ci(5,B264,C264,D264,$C$1,G264+H264,1,F264,E264*F264)))","v":8.8112351225904557E-3},{"$f":"IF('III Tool Overview'!$H$6=\"Western Isles Health Board\",0,IF('III Tool Overview'!$H$6=\"Eilean Siar Local Authority\",0,new_ci(10,B264,C264,D264,$C$1,G264,1,F264,E264*F264)))","v":2.3790420610971232E-2},{"$f":"IF('III Tool Overview'!$H$6=\"Western Isles Health Board\",0,IF('III Tool Overview'!$H$6=\"Eilean Siar Local Authority\",0,new_ci(10,B264,C264,D264,$C$1,G264+H264,1,F264,E264*F264)))","v":2.3771759748165346E-2},{"$f":"IF('III Tool Overview'!$H$6=\"Western Isles Health Board\",0,IF('III Tool Overview'!$H$6=\"Eilean Siar Local Authority\",0,new_ci(20,B264,C264,D264,$C$1,G264,1,F264,E264*F264)))","v":7.4184284924979249E-2},{"$f":"IF('III Tool Overview'!$H$6=\"Western Isles Health Board\",0,IF('III Tool Overview'!$H$6=\"Eilean Siar Local Authority\",0,new_ci(20,B264,C264,D264,$C$1,G264+H264,1,F264,E264*F264)))","v":7.4127833675739996E-2},{"$f":"IF('III Tool Overview'!$H$6=\"Western Isles Health Board\",0,IF('III Tool Overview'!$H$6=\"Eilean Siar Local Authority\",0,new_yll(2,B264,C264,D264,$C$1,G264,1,F264,E264*F264)))","v":0.15291674203994657},{"$f":"IF('III Tool Overview'!$H$6=\"Western Isles Health Board\",0,IF('III Tool Overview'!$H$6=\"Eilean Siar Local Authority\",0,new_yll(2,B264,C264,D264,$C$1,G264+H264,1,F264,E264*F264)))","v":0.15279449902223599},1.2224301771057711E-4,{"$f":"IF('III Tool Overview'!$H$6=\"Western Isles Health Board\",0,IF('III Tool Overview'!$H$6=\"Eilean Siar Local Authority\",0,new_yll(5,B264,C264,D264,$C$1,G264,1,F264,E264*F264)))","v":0.66503155548013093},{"$f":"IF('III Tool Overview'!$H$6=\"Western Isles Health Board\",0,IF('III Tool Overview'!$H$6=\"Eilean Siar Local Authority\",0,new_yll(5,B264,C264,D264,$C$1,G264+H264,1,F264,E264*F264)))","v":0.66450340236758065},{"$f":"T264-U264","v":5.2815311255027808E-4},{"$f":"IF('III Tool Overview'!$H$6=\"Western Isles Health Board\",0,IF('III Tool Overview'!$H$6=\"Eilean Siar Local Authority\",0,new_yll(10,B264,C264,D264,$C$1,G264,1,F264,E264*F264)))","v":1.7260353927270242},{"$f":"IF('III Tool Overview'!$H$6=\"Western Isles Health Board\",0,IF('III Tool Overview'!$H$6=\"Eilean Siar Local Authority\",0,new_yll(10,B264,C264,D264,$C$1,G264+H264,1,F264,E264*F264)))","v":1.7246809851929266},{"$f":"W264-X264","v":1.3544075340976569E-3},{"$f":"IF('III Tool Overview'!$H$6=\"Western Isles Health Board\",0,IF('III Tool Overview'!$H$6=\"Eilean Siar Local Authority\",0,new_yll(20,B264,C264,D264,$C$1,G264,1,F264,E264*F264)))","v":4.898229942784063},{"$f":"IF('III Tool Overview'!$H$6=\"Western Isles Health Board\",0,IF('III Tool Overview'!$H$6=\"Eilean Siar Local Authority\",0,new_yll(20,B264,C264,D264,$C$1,G264+H264,1,F264,E264*F264)))","v":4.8944951676577073},{"$f":"Z264-AA264","v":3.7347751263556717E-3},{"$f":"IF('III Tool Overview'!$H$6=\"Western Isles Health Board\",0,IF('III Tool Overview'!$H$6=\"Eilean Siar Local Authority\",0,hosp_count(2,B264,C264,D264,$C$1,G264,1,F264,E264*F264)))","v":0.93434247876759791},{"$f":"IF('III Tool Overview'!$H$6=\"Western Isles Health Board\",0,IF('III Tool Overview'!$H$6=\"Eilean Siar Local Authority\",0,hosp_count(2,B264,C264,D264,$C$1,G264+H264,1,F264,E264*F264)))","v":0.93390230523072915},{"$f":"AC264-AD264","v":4.4017353686875982E-4},{"$f":"IF('III Tool Overview'!$H$6=\"Western Isles Health Board\",0,IF('III Tool Overview'!$H$6=\"Eilean Siar Local Authority\",0,hosp_count(5,B264,C264,D264,$C$1,G264,1,F264,E264*F264)))","v":3.8881527524399377},{"$f":"IF('III Tool Overview'!$H$6=\"Western Isles Health Board\",0,IF('III Tool Overview'!$H$6=\"Eilean Siar Local Authority\",0,hosp_count(5,B264,C264,D264,$C$1,G264+H264,1,F264,E264*F264)))","v":3.8863342511175412},{"$f":"AF264-AG264","v":1.8185013223965818E-3},{"$f":"IF('III Tool Overview'!$H$6=\"Western Isles Health Board\",0,IF('III Tool Overview'!$H$6=\"Eilean Siar Local Authority\",0,hosp_count(10,B264,C264,D264,$C$1,G264,1,F264,E264*F264)))","v":9.3540200604024051},{"$f":"IF('III Tool Overview'!$H$6=\"Western Isles Health Board\",0,IF('III Tool Overview'!$H$6=\"Eilean Siar Local Authority\",0,hosp_count(10,B264,C264,D264,$C$1,G264+H264,1,F264,E264*F264)))","v":9.3497009449640505},{"$f":"AI264-AJ264","v":4.3191154383546149E-3},{"$f":"IF('III Tool Overview'!$H$6=\"Western Isles Health Board\",0,IF('III Tool Overview'!$H$6=\"Eilean Siar Local Authority\",0,hosp_count(20,B264,C264,D264,$C$1,G264,1,F264,E264*F264)))","v":22.657709646587925},{"$f":"IF('III Tool Overview'!$H$6=\"Western Isles Health Board\",0,IF('III Tool Overview'!$H$6=\"Eilean Siar Local Authority\",0,hosp_count(20,B264,C264,D264,$C$1,G264+H264,1,F264,E264*F264)))","v":22.647548897421977},{"$f":"AL264-AM264","v":1.0160749165947891E-2},null,0.5,5]
["Female 25-29",27.5,"female",5,{"$f":"HLOOKUP('III Tool Overview'!$H$6,Prevalence!$B$2:$AV$268,Prevalence!AW252,FALSE)","v":9.5454545454545459E-2},{"$f":"HLOOKUP('III Tool Overview'!$H$6,LookUpData_Pop!$B$1:$AV$269,LookUpData_Pop!BB257,FALSE)/5","v":15.8},{"$f":"'III Tool Overview'!$H$9/110","v":0},{"$f":"IF('III Tool Overview'!$H$10=\"Even distribution\",Targeting!C263,IF('III Tool Overview'!$H$10=\"Targetting to Q1\",Targeting!D263,IF('III Tool Overview'!$H$10=\"Targetting to Q1 & Q2\",Targeting!E263,IF('III Tool Overview'!$H$10=\"No variation in price elasticity\",Targeting!G263))))","v":1.603636363636364},{"$f":"IF('III Tool Overview'!$H$6=\"Western Isles Health Board\",0,IF('III Tool Overview'!$H$6=\"Eilean Siar Local Authority\",0,new_ci(2,B265,C265,D265,$C$1,G265,1,F265,E265*F265)))","v":4.7495452253225375E-3},{"$f":"IF('III Tool Overview'!$H$6=\"Western Isles Health Board\",0,IF('III Tool Overview'!$H$6=\"Eilean Siar Local Authority\",0,new_ci(2,B265,C265,D265,$C$1,G265+H265,1,F265,E265*F265)))","v":4.7445483821861641E-3},{"$f":"IF('III Tool Overview'!$H$6=\"Western Isles Health Board\",0,IF('III Tool Overview'!$H$6=\"Eilean Siar Local Authority\",0,new_ci(5,B265,C265,D265,$C$1,G265,1,F265,E265*F265)))","v":2.1084702633174367E-2},{"$f":"IF('III Tool Overview'!$H$6=\"Western Isles Health Board\",0,IF('III Tool Overview'!$H$6=\"Eilean Siar Local Authority\",0,new_ci(5,B265,C265,D265,$C$1,G265+H265,1,F265,E265*F265)))","v":2.1062677845349497E-2},{"$f":"IF('III Tool Overview'!$H$6=\"Western Isles Health Board\",0,IF('III Tool Overview'!$H$6=\"Eilean Siar Local Authority\",0,new_ci(10,B265,C265,D265,$C$1,G265,1,F265,E265*F265)))","v":5.6854403974241331E-2},{"$f":"IF('III Tool Overview'!$H$6=\"Western Isles Health Board\",0,IF('III Tool Overview'!$H$6=\"Eilean Siar Local Authority\",0,new_ci(10,B265,C265,D265,$C$1,G265+H265,1,F265,E265*F265)))","v":5.6795807364208951E-2},{"$f":"IF('III Tool Overview'!$H$6=\"Western Isles Health Board\",0,IF('III Tool Overview'!$H$6=\"Eilean Siar Local Authority\",0,new_ci(20,B265,C265,D265,$C$1,G265,1,F265,E265*F265)))","v":0.17697847548135906},{"$f":"IF('III Tool Overview'!$H$6=\"Western Isles Health Board\",0,IF('III Tool Overview'!$H$6=\"Eilean Siar Local Authority\",0,new_ci(20,B265,C265,D265,$C$1,G265+H265,1,F265,E265*F265)))","v":0.17680217874679552},{"$f":"IF('III Tool Overview'!$H$6=\"Western Isles Health Board\",0,IF('III Tool Overview'!$H$6=\"Eilean Siar Local Authority\",0,new_yll(2,B265,C265,D265,$C$1,G265,1,F265,E265*F265)))","v":0.33721771099790016},{"$f":"IF('III Tool Overview'!$H$6=\"Western Isles Health Board\",0,IF('III Tool Overview'!$H$6=\"Eilean Siar Local Authority\",0,new_yll(2,B265,C265,D265,$C$1,G265+H265,1,F265,E265*F265)))","v":0.33686293513521764},3.5477586268251038E-4,{"$f":"IF('III Tool Overview'!$H$6=\"Western Isles Health Board\",0,IF('III Tool Overview'!$H$6=\"Eilean Siar Local Authority\",0,new_yll(5,B265,C265,D265,$C$1,G265,1,F265,E265*F265)))","v":1.4636085305085174},{"$f":"IF('III Tool Overview'!$H$6=\"Western Isles Health Board\",0,IF('III Tool Overview'!$H$6=\"Eilean Siar Local Authority\",0,new_yll(5,B265,C265,D265,$C$1,G265+H265,1,F265,E265*F265)))","v":1.4620795409495386},1.5289895589787328E-3,{"$f":"IF('III Tool Overview'!$H$6=\"Western Isles Health Board\",0,IF('III Tool Overview'!$H$6=\"Eilean Siar Local Authority\",0,new_yll(10,B265,C265,D265,$C$1,G265,1,F265,E265*F265)))","v":3.7838251478145475},{"$f":"IF('III Tool Overview'!$H$6=\"Western Isles Health Board\",0,IF('III Tool Overview'!$H$6=\"Eilean Siar Local Authority\",0,new_yll(10,B265,C265,D265,$C$1,G265+H265,1,F265,E265*F265)))","v":3.779923556353455},3.9015914610924796E-3,{"$f":"IF('III Tool Overview'!$H$6=\"Western Isles Health Board\",0,IF('III Tool Overview'!$H$6=\"Eilean Siar Local Authority\",0,new_yll(20,B265,C265,D265,$C$1,G265,1,F265,E265*F265)))","v":10.624993563207925},{"$f":"IF('III Tool Overview'!$H$6=\"Western Isles Health Board\",0,IF('III Tool Overview'!$H$6=\"Eilean Siar Local Authority\",0,new_yll(20,B265,C265,D265,$C$1,G265+H265,1,F265,E265*F265)))","v":10.614383317531107},1.0610245676817343E-2,{"$f":"IF('III Tool Overview'!$H$6=\"Western Isles Health Board\",0,IF('III Tool Overview'!$H$6=\"Eilean Siar Local Authority\",0,hosp_count(2,B265,C265,D265,$C$1,G265,1,F265,E265*F265)))","v":1.5847498516014342},{"$f":"IF('III Tool Overview'!$H$6=\"Western Isles Health Board\",0,IF('III Tool Overview'!$H$6=\"Eilean Siar Local Authority\",0,hosp_count(2,B265,C265,D265,$C$1,G265+H265,1,F265,E265*F265)))","v":1.5837461308791179},1.0037207223163591E-3,{"$f":"IF('III Tool Overview'!$H$6=\"Western Isles Health Board\",0,IF('III Tool Overview'!$H$6=\"Eilean Siar Local Authority\",0,hosp_count(5,B265,C265,D265,$C$1,G265,1,F265,E265*F265)))","v":6.5934117734296995},{"$f":"IF('III Tool Overview'!$H$6=\"Western Isles Health Board\",0,IF('III Tool Overview'!$H$6=\"Eilean Siar Local Authority\",0,hosp_count(5,B265,C265,D265,$C$1,G265+H265,1,F265,E265*F265)))","v":6.5892682276635561},4.1435457661433972E-3,{"$f":"IF('III Tool Overview'!$H$6=\"Western Isles Health Board\",0,IF('III Tool Overview'!$H$6=\"Eilean Siar Local Authority\",0,hosp_count(10,B265,C265,D265,$C$1,G265,1,F265,E265*F265)))","v":15.855592599605806},{"$f":"IF('III Tool Overview'!$H$6=\"Western Isles Health Board\",0,IF('III Tool Overview'!$H$6=\"Eilean Siar Local Authority\",0,hosp_count(10,B265,C265,D265,$C$1,G265+H265,1,F265,E265*F265)))","v":15.845766883157321},9.8257164484856219E-3,{"$f":"IF('III Tool Overview'!$H$6=\"Western Isles Health Board\",0,IF('III Tool Overview'!$H$6=\"Eilean Siar Local Authority\",0,hosp_count(20,B265,C265,D265,$C$1,G265,1,F265,E265*F265)))","v":38.356248141201995},{"$f":"IF('III Tool Overview'!$H$6=\"Western Isles Health Board\",0,IF('III Tool Overview'!$H$6=\"Eilean Siar Local Authority\",0,hosp_count(20,B265,C265,D265,$C$1,G265+H265,1,F265,E265*F265)))","v":38.333246207706324},2.3001933495670812E-2,null,0.5,5]
["Female 30-34",32.5,"female",5,{"$f":"HLOOKUP('III Tool Overview'!$H$6,Prevalence!$B$2:$AV$268,Prevalence!AW253,FALSE)","v":9.5454545454545459E-2},{"$f":"HLOOKUP('III Tool Overview'!$H$6,LookUpData_Pop!$B$1:$AV$269,LookUpData_Pop!BB258,FALSE)/5","v":17.8},{"$f":"'III Tool Overview'!$H$9/110","v":0},{"$f":"IF('III Tool Overview'!$H$10=\"Even distribution\",Targeting!C264,IF('III Tool Overview'!$H$10=\"Targetting to Q1\",Targeting!D264,IF('III Tool Overview'!$H$10=\"Targetting to Q1 & Q2\",Targeting!E264,IF('III Tool Overview'!$H$10=\"No variation in price elasticity\",Targeting!G264))))","v":1.1454545454545455},{"$f":"IF('III Tool Overview'!$H$6=\"Western Isles Health Board\",0,IF('III Tool Overview'!$H$6=\"Eilean Siar Local Authority\",0,new_ci(2,B266,C266,D266,$C$1,G266,1,F266,E266*F266)))","v":7.4252281505309053E-3},{"$f":"IF('III Tool Overview'!$H$6=\"Western Isles Health Board\",0,IF('III Tool Overview'!$H$6=\"Eilean Siar Local Authority\",0,new_ci(2,B266,C266,D266,$C$1,G266+H266,1,F266,E266*F266)))","v":7.421706913074178E-3},{"$f":"IF('III Tool Overview'!$H$6=\"Western Isles Health Board\",0,IF('III Tool Overview'!$H$6=\"Eilean Siar Local Authority\",0,new_ci(5,B266,C266,D266,$C$1,G266,1,F266,E266*F266)))","v":3.295562071068929E-2},{"$f":"IF('III Tool Overview'!$H$6=\"Western Isles Health Board\",0,IF('III Tool Overview'!$H$6=\"Eilean Siar Local Authority\",0,new_ci(5,B266,C266,D266,$C$1,G266+H266,1,F266,E266*F266)))","v":3.2940112846586642E-2},{"$f":"IF('III Tool Overview'!$H$6=\"Western Isles Health Board\",0,IF('III Tool Overview'!$H$6=\"Eilean Siar Local Authority\",0,new_ci(10,B266,C266,D266,$C$1,G266,1,F266,E266*F266)))","v":8.8821132029141867E-2},{"$f":"IF('III Tool Overview'!$H$6=\"Western Isles Health Board\",0,IF('III Tool Overview'!$H$6=\"Eilean Siar Local Authority\",0,new_ci(10,B266,C266,D266,$C$1,G266+H266,1,F266,E266*F266)))","v":8.8779948422307062E-2},{"$f":"IF('III Tool Overview'!$H$6=\"Western Isles Health Board\",0,IF('III Tool Overview'!$H$6=\"Eilean Siar Local Authority\",0,new_ci(20,B266,C266,D266,$C$1,G266,1,F266,E266*F266)))","v":0.27603658581267732},{"$f":"IF('III Tool Overview'!$H$6=\"Western Isles Health Board\",0,IF('III Tool Overview'!$H$6=\"Eilean Siar Local Authority\",0,new_ci(20,B266,C266,D266,$C$1,G266+H266,1,F266,E266*F266)))","v":0.27591343605936514},{"$f":"IF('III Tool Overview'!$H$6=\"Western Isles Health Board\",0,IF('III Tool Overview'!$H$6=\"Eilean Siar Local Authority\",0,new_yll(2,B266,C266,D266,$C$1,G266,1,F266,E266*F266)))","v":0.49749028608557067},{"$f":"IF('III Tool Overview'!$H$6=\"Western Isles Health Board\",0,IF('III Tool Overview'!$H$6=\"Eilean Siar Local Authority\",0,new_yll(2,B266,C266,D266,$C$1,G266+H266,1,F266,E266*F266)))","v":0.49725436317596994},2.3592290960072759E-4,{"$f":"IF('III Tool Overview'!$H$6=\"Western Isles Health Board\",0,IF('III Tool Overview'!$H$6=\"Eilean Siar Local Authority\",0,new_yll(5,B266,C266,D266,$C$1,G266,1,F266,E266*F266)))","v":2.1558194958255017},{"$f":"IF('III Tool Overview'!$H$6=\"Western Isles Health Board\",0,IF('III Tool Overview'!$H$6=\"Eilean Siar Local Authority\",0,new_yll(5,B266,C266,D266,$C$1,G266+H266,1,F266,E266*F266)))","v":2.1548049407113998},1.0145551141018672E-3,{"$f":"IF('III Tool Overview'!$H$6=\"Western Isles Health Board\",0,IF('III Tool Overview'!$H$6=\"Eilean Siar Local Authority\",0,new_yll(10,B266,C266,D266,$C$1,G266,1,F266,E266*F266)))","v":5.5561186905630429},{"$f":"IF('III Tool Overview'!$H$6=\"Western Isles Health Board\",0,IF('III Tool Overview'!$H$6=\"Eilean Siar Local Authority\",0,new_yll(10,B266,C266,D266,$C$1,G266+H266,1,F266,E266*F266)))","v":5.5535410834166221},2.5776071464207462E-3,{"$f":"IF('III Tool Overview'!$H$6=\"Western Isles Health Board\",0,IF('III Tool Overview'!$H$6=\"Eilean Siar Local Authority\",0,new_yll(20,B266,C266,D266,$C$1,G266,1,F266,E266*F266)))","v":15.46983232374931},{"$f":"IF('III Tool Overview'!$H$6=\"Western Isles Health Board\",0,IF('III Tool Overview'!$H$6=\"Eilean Siar Local Authority\",0,new_yll(20,B266,C266,D266,$C$1,G266+H266,1,F266,E266*F266)))","v":15.462909839738282},6.9224840110280184E-3,{"$f":"IF('III Tool Overview'!$H$6=\"Western Isles Health Board\",0,IF('III Tool Overview'!$H$6=\"Eilean Siar Local Authority\",0,hosp_count(2,B266,C266,D266,$C$1,G266,1,F266,E266*F266)))","v":1.9703248345502264},{"$f":"IF('III Tool Overview'!$H$6=\"Western Isles Health Board\",0,IF('III Tool Overview'!$H$6=\"Eilean Siar Local Authority\",0,hosp_count(2,B266,C266,D266,$C$1,G266+H266,1,F266,E266*F266)))","v":1.9697671081595198},5.5772639070661434E-4,{"$f":"IF('III Tool Overview'!$H$6=\"Western Isles Health Board\",0,IF('III Tool Overview'!$H$6=\"Eilean Siar Local Authority\",0,hosp_count(5,B266,C266,D266,$C$1,G266,1,F266,E266*F266)))","v":8.1960107552976744},{"$f":"IF('III Tool Overview'!$H$6=\"Western Isles Health Board\",0,IF('III Tool Overview'!$H$6=\"Eilean Siar Local Authority\",0,hosp_count(5,B266,C266,D266,$C$1,G266+H266,1,F266,E266*F266)))","v":8.1937103241402305},2.3004311574439384E-3,{"$f":"IF('III Tool Overview'!$H$6=\"Western Isles Health Board\",0,IF('III Tool Overview'!$H$6=\"Eilean Siar Local Authority\",0,hosp_count(10,B266,C266,D266,$C$1,G266,1,F266,E266*F266)))","v":19.70145521112962},{"$f":"IF('III Tool Overview'!$H$6=\"Western Isles Health Board\",0,IF('III Tool Overview'!$H$6=\"Eilean Siar Local Authority\",0,hosp_count(10,B266,C266,D266,$C$1,G266+H266,1,F266,E266*F266)))","v":19.696009843827245},5.4453673023751037E-3,{"$f":"IF('III Tool Overview'!$H$6=\"Western Isles Health Board\",0,IF('III Tool Overview'!$H$6=\"Eilean Siar Local Authority\",0,hosp_count(20,B266,C266,D266,$C$1,G266,1,F266,E266*F266)))","v":47.600070702060478},{"$f":"IF('III Tool Overview'!$H$6=\"Western Isles Health Board\",0,IF('III Tool Overview'!$H$6=\"Eilean Siar Local Authority\",0,hosp_count(20,B266,C266,D266,$C$1,G266+H266,1,F266,E266*F266)))","v":47.587393187157538},1.267751490293989E-2,null,0.5,5]
["Female 35-39",37.5,"female",5,{"$f":"HLOOKUP('III Tool Overview'!$H$6,Prevalence!$B$2:$AV$268,Prevalence!AW254,FALSE)","v":0.10227272727272727},{"$f":"HLOOKUP('III Tool Overview'!$H$6,LookUpData_Pop!$B$1:$AV$269,LookUpData_Pop!BB259,FALSE)/5","v":16.600000000000001},{"$f":"'III Tool Overview'!$H$9/110","v":0},{"$f":"IF('III Tool Overview'!$H$10=\"Even distribution\",Targeting!C265,IF('III Tool Overview'!$H$10=\"Targetting to Q1\",Targeting!D265,IF('III Tool Overview'!$H$10=\"Targetting to Q1 & Q2\",Targeting!E265,IF('III Tool Overview'!$H$10=\"No variation in price elasticity\",Targeting!G265))))","v":1.6363636363636365},{"$f":"IF('III Tool Overview'!$H$6=\"Western Isles Health Board\",0,IF('III Tool Overview'!$H$6=\"Eilean Siar Local Authority\",0,new_ci(2,B267,C267,D267,$C$1,G267,1,F267,E267*F267)))","v":1.1319221005812043E-2},{"$f":"IF('III Tool Overview'!$H$6=\"Western Isles Health Board\",0,IF('III Tool Overview'!$H$6=\"Eilean Siar Local Authority\",0,new_ci(2,B267,C267,D267,$C$1,G267+H267,1,F267,E267*F267)))","v":1.1307816311358333E-2},{"$f":"IF('III Tool Overview'!$H$6=\"Western Isles Health Board\",0,IF('III Tool Overview'!$H$6=\"Eilean Siar Local Authority\",0,new_ci(5,B267,C267,D267,$C$1,G267,1,F267,E267*F267)))","v":5.0212441170793667E-2},{"$f":"IF('III Tool Overview'!$H$6=\"Western Isles Health Board\",0,IF('III Tool Overview'!$H$6=\"Eilean Siar Local Authority\",0,new_ci(5,B267,C267,D267,$C$1,G267+H267,1,F267,E267*F267)))","v":5.0162302425027797E-2},{"$f":"IF('III Tool Overview'!$H$6=\"Western Isles Health Board\",0,IF('III Tool Overview'!$H$6=\"Eilean Siar Local Authority\",0,new_ci(10,B267,C267,D267,$C$1,G267,1,F267,E267*F267)))","v":0.13517790279860836},{"$f":"IF('III Tool Overview'!$H$6=\"Western Isles Health Board\",0,IF('III Tool Overview'!$H$6=\"Eilean Siar Local Authority\",0,new_ci(10,B267,C267,D267,$C$1,G267+H267,1,F267,E267*F267)))","v":0.13504526618179841},{"$f":"IF('III Tool Overview'!$H$6=\"Western Isles Health Board\",0,IF('III Tool Overview'!$H$6=\"Eilean Siar Local Authority\",0,new_ci(20,B267,C267,D267,$C$1,G267,1,F267,E267*F267)))","v":0.4185068402558289},{"$f":"IF('III Tool Overview'!$H$6=\"Western Isles Health Board\",0,IF('III Tool Overview'!$H$6=\"Eilean Siar Local Authority\",0,new_ci(20,B267,C267,D267,$C$1,G267+H267,1,F267,E267*F267)))","v":0.41811537752227584},{"$f":"IF('III Tool Overview'!$H$6=\"Western Isles Health Board\",0,IF('III Tool Overview'!$H$6=\"Eilean Siar Local Authority\",0,new_yll(2,B267,C267,D267,$C$1,G267,1,F267,E267*F267)))","v":0.69047248135453465},{"$f":"IF('III Tool Overview'!$H$6=\"Western Isles Health Board\",0,IF('III Tool Overview'!$H$6=\"Eilean Siar Local Authority\",0,new_yll(2,B267,C267,D267,$C$1,G267+H267,1,F267,E267*F267)))","v":0.68977679499285838},6.9568636167627318E-4,{"$f":"IF('III Tool Overview'!$H$6=\"Western Isles Health Board\",0,IF('III Tool Overview'!$H$6=\"Eilean Siar Local Authority\",0,new_yll(5,B267,C267,D267,$C$1,G267,1,F267,E267*F267)))","v":2.9834351153527425},{"$f":"IF('III Tool Overview'!$H$6=\"Western Isles Health Board\",0,IF('III Tool Overview'!$H$6=\"Eilean Siar Local Authority\",0,new_yll(5,B267,C267,D267,$C$1,G267+H267,1,F267,E267*F267)))","v":2.9804557003592902},2.979414993452334E-3,{"$f":"IF('III Tool Overview'!$H$6=\"Western Isles Health Board\",0,IF('III Tool Overview'!$H$6=\"Eilean Siar Local Authority\",0,new_yll(10,B267,C267,D267,$C$1,G267,1,F267,E267*F267)))","v":7.6452102041119181},{"$f":"IF('III Tool Overview'!$H$6=\"Western Isles Health Board\",0,IF('III Tool Overview'!$H$6=\"Eilean Siar Local Authority\",0,new_yll(10,B267,C267,D267,$C$1,G267+H267,1,F267,E267*F267)))","v":7.6377033265502332},7.5068775616848882E-3,{"$f":"IF('III Tool Overview'!$H$6=\"Western Isles Health Board\",0,IF('III Tool Overview'!$H$6=\"Eilean Siar Local Authority\",0,new_yll(20,B267,C267,D267,$C$1,G267,1,F267,E267*F267)))","v":20.950254229400606},{"$f":"IF('III Tool Overview'!$H$6=\"Western Isles Health Board\",0,IF('III Tool Overview'!$H$6=\"Eilean Siar Local Authority\",0,new_yll(20,B267,C267,D267,$C$1,G267+H267,1,F267,E267*F267)))","v":20.930574636881811},1.9679592518794919E-2,{"$f":"IF('III Tool Overview'!$H$6=\"Western Isles Health Board\",0,IF('III Tool Overview'!$H$6=\"Eilean Siar Local Authority\",0,hosp_count(2,B267,C267,D267,$C$1,G267,1,F267,E267*F267)))","v":2.1303316095426252},{"$f":"IF('III Tool Overview'!$H$6=\"Western Isles Health Board\",0,IF('III Tool Overview'!$H$6=\"Eilean Siar Local Authority\",0,hosp_count(2,B267,C267,D267,$C$1,G267+H267,1,F267,E267*F267)))","v":2.1290435293899539},1.2880801526713448E-3,{"$f":"IF('III Tool Overview'!$H$6=\"Western Isles Health Board\",0,IF('III Tool Overview'!$H$6=\"Eilean Siar Local Authority\",0,hosp_count(5,B267,C267,D267,$C$1,G267,1,F267,E267*F267)))","v":8.857596003156015},{"$f":"IF('III Tool Overview'!$H$6=\"Western Isles Health Board\",0,IF('III Tool Overview'!$H$6=\"Eilean Siar Local Authority\",0,hosp_count(5,B267,C267,D267,$C$1,G267+H267,1,F267,E267*F267)))","v":8.8522927927520954},5.3032104039196781E-3,{"$f":"IF('III Tool Overview'!$H$6=\"Western Isles Health Board\",0,IF('III Tool Overview'!$H$6=\"Eilean Siar Local Authority\",0,hosp_count(10,B267,C267,D267,$C$1,G267,1,F267,E267*F267)))","v":21.271782440608128},{"$f":"IF('III Tool Overview'!$H$6=\"Western Isles Health Board\",0,IF('III Tool Overview'!$H$6=\"Eilean Siar Local Authority\",0,hosp_count(10,B267,C267,D267,$C$1,G267+H267,1,F267,E267*F267)))","v":21.259276833964396},1.2505606643731682E-2,{"$f":"IF('III Tool Overview'!$H$6=\"Western Isles Health Board\",0,IF('III Tool Overview'!$H$6=\"Eilean Siar Local Authority\",0,hosp_count(20,B267,C267,D267,$C$1,G267,1,F267,E267*F267)))","v":51.245782163148874},{"$f":"IF('III Tool Overview'!$H$6=\"Western Isles Health Board\",0,IF('III Tool Overview'!$H$6=\"Eilean Siar Local Authority\",0,hosp_count(20,B267,C267,D267,$C$1,G267+H267,1,F267,E267*F267)))","v":51.217007723893062},2.8774439255812467E-2,null,0.5,5]
["Female 40-44",42.5,"female",5,{"$f":"HLOOKUP('III Tool Overview'!$H$6,Prevalence!$B$2:$AV$268,Prevalence!AW255,FALSE)","v":0.10227272727272727},{"$f":"HLOOKUP('III Tool Overview'!$H$6,LookUpData_Pop!$B$1:$AV$269,LookUpData_Pop!BB260,FALSE)/5","v":29.4},{"$f":"'III Tool Overview'!$H$9/110","v":0},{"$f":"IF('III Tool Overview'!$H$10=\"Even distribution\",Targeting!C266,IF('III Tool Overview'!$H$10=\"Targetting to Q1\",Targeting!D266,IF('III Tool Overview'!$H$10=\"Targetting to Q1 & Q2\",Targeting!E266,IF('III Tool Overview'!$H$10=\"No variation in price elasticity\",Targeting!G266))))","v":1.6363636363636365},{"$f":"IF('III Tool Overview'!$H$6=\"Western Isles Health Board\",0,IF('III Tool Overview'!$H$6=\"Eilean Siar Local Authority\",0,new_ci(2,B268,C268,D268,$C$1,G268,1,F268,E268*F268)))","v":2.7817383965360751E-2},{"$f":"IF('III Tool Overview'!$H$6=\"Western Isles Health Board\",0,IF('III Tool Overview'!$H$6=\"Eilean Siar Local Authority\",0,new_ci(2,B268,C268,D268,$C$1,G268+H268,1,F268,E268*F268)))","v":2.7801237546692656E-2},{"$f":"IF('III Tool Overview'!$H$6=\"Western Isles Health Board\",0,IF('III Tool Overview'!$H$6=\"Eilean Siar Local Authority\",0,new_ci(5,B268,C268,D268,$C$1,G268,1,F268,E268*F268)))","v":0.12333810118705546},{"$f":"IF('III Tool Overview'!$H$6=\"Western Isles Health Board\",0,IF('III Tool Overview'!$H$6=\"Eilean Siar Local Authority\",0,new_ci(5,B268,C268,D268,$C$1,G268+H268,1,F268,E268*F268)))","v":0.12326725254204807},{"$f":"IF('III Tool Overview'!$H$6=\"Western Isles Health Board\",0,IF('III Tool Overview'!$H$6=\"Eilean Siar Local Authority\",0,new_ci(10,B268,C268,D268,$C$1,G268,1,F268,E268*F268)))","v":0.33168345557832873},{"$f":"IF('III Tool Overview'!$H$6=\"Western Isles Health Board\",0,IF('III Tool Overview'!$H$6=\"Eilean Siar Local Authority\",0,new_ci(10,B268,C268,D268,$C$1,G268+H268,1,F268,E268*F268)))","v":0.33149682157707833},{"$f":"IF('III Tool Overview'!$H$6=\"Western Isles Health Board\",0,IF('III Tool Overview'!$H$6=\"Eilean Siar Local Authority\",0,new_ci(20,B268,C268,D268,$C$1,G268,1,F268,E268*F268)))","v":1.0231837143842202},{"$f":"IF('III Tool Overview'!$H$6=\"Western Isles Health Board\",0,IF('III Tool Overview'!$H$6=\"Eilean Siar Local Authority\",0,new_ci(20,B268,C268,D268,$C$1,G268+H268,1,F268,E268*F268)))","v":1.0226406708907616},{"$f":"IF('III Tool Overview'!$H$6=\"Western Isles Health Board\",0,IF('III Tool Overview'!$H$6=\"Eilean Siar Local Authority\",0,new_yll(2,B268,C268,D268,$C$1,G268,1,F268,E268*F268)))","v":1.5855908860255628},{"$f":"IF('III Tool Overview'!$H$6=\"Western Isles Health Board\",0,IF('III Tool Overview'!$H$6=\"Eilean Siar Local Authority\",0,new_yll(2,B268,C268,D268,$C$1,G268+H268,1,F268,E268*F268)))","v":1.5846705401614813},9.2034586408140662E-4,{"$f":"IF('III Tool Overview'!$H$6=\"Western Isles Health Board\",0,IF('III Tool Overview'!$H$6=\"Eilean Siar Local Authority\",0,new_yll(5,B268,C268,D268,$C$1,G268,1,F268,E268*F268)))","v":6.8349843080697399},{"$f":"IF('III Tool Overview'!$H$6=\"Western Isles Health Board\",0,IF('III Tool Overview'!$H$6=\"Eilean Siar Local Authority\",0,new_yll(5,B268,C268,D268,$C$1,G268+H268,1,F268,E268*F268)))","v":6.8310575246308121},3.9267834389278278E-3,{"$f":"IF('III Tool Overview'!$H$6=\"Western Isles Health Board\",0,IF('III Tool Overview'!$H$6=\"Eilean Siar Local Authority\",0,new_yll(10,B268,C268,D268,$C$1,G268,1,F268,E268*F268)))","v":17.433005490107192},{"$f":"IF('III Tool Overview'!$H$6=\"Western Isles Health Board\",0,IF('III Tool Overview'!$H$6=\"Eilean Siar Local Authority\",0,new_yll(10,B268,C268,D268,$C$1,G268+H268,1,F268,E268*F268)))","v":17.423187178428041},9.8183116791510372E-3,{"$f":"IF('III Tool Overview'!$H$6=\"Western Isles Health Board\",0,IF('III Tool Overview'!$H$6=\"Eilean Siar Local Authority\",0,new_yll(20,B268,C268,D268,$C$1,G268,1,F268,E268*F268)))","v":47.143730323656413},{"$f":"IF('III Tool Overview'!$H$6=\"Western Isles Health Board\",0,IF('III Tool Overview'!$H$6=\"Eilean Siar Local Authority\",0,new_yll(20,B268,C268,D268,$C$1,G268+H268,1,F268,E268*F268)))","v":47.118566769422401},2.5163554234012508E-2,{"$f":"IF('III Tool Overview'!$H$6=\"Western Isles Health Board\",0,IF('III Tool Overview'!$H$6=\"Eilean Siar Local Authority\",0,hosp_count(2,B268,C268,D268,$C$1,G268,1,F268,E268*F268)))","v":4.1639034423328933},{"$f":"IF('III Tool Overview'!$H$6=\"Western Isles Health Board\",0,IF('III Tool Overview'!$H$6=\"Eilean Siar Local Authority\",0,hosp_count(2,B268,C268,D268,$C$1,G268+H268,1,F268,E268*F268)))","v":4.1624689641221124},1.4344782107809095E-3,{"$f":"IF('III Tool Overview'!$H$6=\"Western Isles Health Board\",0,IF('III Tool Overview'!$H$6=\"Eilean Siar Local Authority\",0,hosp_count(5,B268,C268,D268,$C$1,G268,1,F268,E268*F268)))","v":17.305274875378693},{"$f":"IF('III Tool Overview'!$H$6=\"Western Isles Health Board\",0,IF('III Tool Overview'!$H$6=\"Eilean Siar Local Authority\",0,hosp_count(5,B268,C268,D268,$C$1,G268+H268,1,F268,E268*F268)))","v":17.299380630640464},5.8942447382293039E-3,{"$f":"IF('III Tool Overview'!$H$6=\"Western Isles Health Board\",0,IF('III Tool Overview'!$H$6=\"Eilean Siar Local Authority\",0,hosp_count(10,B268,C268,D268,$C$1,G268,1,F268,E268*F268)))","v":41.521199650703657},{"$f":"IF('III Tool Overview'!$H$6=\"Western Isles Health Board\",0,IF('III Tool Overview'!$H$6=\"Eilean Siar Local Authority\",0,hosp_count(10,B268,C268,D268,$C$1,G268+H268,1,F268,E268*F268)))","v":41.507357726418483},1.3841924285173945E-2,{"$f":"IF('III Tool Overview'!$H$6=\"Western Isles Health Board\",0,IF('III Tool Overview'!$H$6=\"Eilean Siar Local Authority\",0,hosp_count(20,B268,C268,D268,$C$1,G268,1,F268,E268*F268)))","v":99.74844744632459},{"$f":"IF('III Tool Overview'!$H$6=\"Western Isles Health Board\",0,IF('III Tool Overview'!$H$6=\"Eilean Siar Local Authority\",0,hosp_count(20,B268,C268,D268,$C$1,G268+H268,1,F268,E268*F268)))","v":99.717002758239943},3.144468808464751E-2,null,0.5,5]
["Female 45-49",47.5,"female",5,{"$f":"HLOOKUP('III Tool Overview'!$H$6,Prevalence!$B$2:$AV$268,Prevalence!AW256,FALSE)","v":7.4999999999999997E-2},{"$f":"HLOOKUP('III Tool Overview'!$H$6,LookUpData_Pop!$B$1:$AV$269,LookUpData_Pop!BB261,FALSE)/5","v":28.6},{"$f":"'III Tool Overview'!$H$9/110","v":0},{"$f":"IF('III Tool Overview'!$H$10=\"Even distribution\",Targeting!C267,IF('III Tool Overview'!$H$10=\"Targetting to Q1\",Targeting!D267,IF('III Tool Overview'!$H$10=\"Targetting to Q1 & Q2\",Targeting!E267,IF('III Tool Overview'!$H$10=\"No variation in price elasticity\",Targeting!G267))))","v":2.34},{"$f":"IF('III Tool Overview'!$H$6=\"Western Isles Health Board\",0,IF('III Tool Overview'!$H$6=\"Eilean Siar Local Authority\",0,new_ci(2,B269,C269,D269,$C$1,G269,1,F269,E269*F269)))","v":4.4226506977776817E-2},{"$f":"IF('III Tool Overview'!$H$6=\"Western Isles Health Board\",0,IF('III Tool Overview'!$H$6=\"Eilean Siar Local Authority\",0,new_ci(2,B269,C269,D269,$C$1,G269+H269,1,F269,E269*F269)))","v":4.4199157104416312E-2},{"$f":"IF('III Tool Overview'!$H$6=\"Western Isles Health Board\",0,IF('III Tool Overview'!$H$6=\"Eilean Siar Local Authority\",0,new_ci(5,B269,C269,D269,$C$1,G269,1,F269,E269*F269)))","v":0.19588216178669771},{"$f":"IF('III Tool Overview'!$H$6=\"Western Isles Health Board\",0,IF('III Tool Overview'!$H$6=\"Eilean Siar Local Authority\",0,new_ci(5,B269,C269,D269,$C$1,G269+H269,1,F269,E269*F269)))","v":0.19576269826671111},{"$f":"IF('III Tool Overview'!$H$6=\"Western Isles Health Board\",0,IF('III Tool Overview'!$H$6=\"Eilean Siar Local Authority\",0,new_ci(10,B269,C269,D269,$C$1,G269,1,F269,E269*F269)))","v":0.52552941188428259},{"$f":"IF('III Tool Overview'!$H$6=\"Western Isles Health Board\",0,IF('III Tool Overview'!$H$6=\"Eilean Siar Local Authority\",0,new_ci(10,B269,C269,D269,$C$1,G269+H269,1,F269,E269*F269)))","v":0.52521783818420742},{"$f":"IF('III Tool Overview'!$H$6=\"Western Isles Health Board\",0,IF('III Tool Overview'!$H$6=\"Eilean Siar Local Authority\",0,new_ci(20,B269,C269,D269,$C$1,G269,1,F269,E269*F269)))","v":1.6084451206582462},{"$f":"IF('III Tool Overview'!$H$6=\"Western Isles Health Board\",0,IF('III Tool Overview'!$H$6=\"Eilean Siar Local Authority\",0,new_ci(20,B269,C269,D269,$C$1,G269+H269,1,F269,E269*F269)))","v":1.6075685882435873},{"$f":"IF('III Tool Overview'!$H$6=\"Western Isles Health Board\",0,IF('III Tool Overview'!$H$6=\"Eilean Siar Local Authority\",0,new_yll(2,B269,C269,D269,$C$1,G269,1,F269,E269*F269)))","v":2.2555518558666177},{"$f":"IF('III Tool Overview'!$H$6=\"Western Isles Health Board\",0,IF('III Tool Overview'!$H$6=\"Eilean Siar Local Authority\",0,new_yll(2,B269,C269,D269,$C$1,G269+H269,1,F269,E269*F269)))","v":2.2541570123252317},1.3948435413859706E-3,{"$f":"IF('III Tool Overview'!$H$6=\"Western Isles Health Board\",0,IF('III Tool Overview'!$H$6=\"Eilean Siar Local Authority\",0,new_yll(5,B269,C269,D269,$C$1,G269,1,F269,E269*F269)))","v":9.6800103202528476},{"$f":"IF('III Tool Overview'!$H$6=\"Western Isles Health Board\",0,IF('III Tool Overview'!$H$6=\"Eilean Siar Local Authority\",0,new_yll(5,B269,C269,D269,$C$1,G269+H269,1,F269,E269*F269)))","v":9.6741053991441355},5.9049211087121023E-3,{"$f":"IF('III Tool Overview'!$H$6=\"Western Isles Health Board\",0,IF('III Tool Overview'!$H$6=\"Eilean Siar Local Authority\",0,new_yll(10,B269,C269,D269,$C$1,G269,1,F269,E269*F269)))","v":24.471101429944362},{"$f":"IF('III Tool Overview'!$H$6=\"Western Isles Health Board\",0,IF('III Tool Overview'!$H$6=\"Eilean Siar Local Authority\",0,new_yll(10,B269,C269,D269,$C$1,G269+H269,1,F269,E269*F269)))","v":24.456572414192483},1.4529015751879371E-2,{"$f":"IF('III Tool Overview'!$H$6=\"Western Isles Health Board\",0,IF('III Tool Overview'!$H$6=\"Eilean Siar Local Authority\",0,new_yll(20,B269,C269,D269,$C$1,G269,1,F269,E269*F269)))","v":64.51571548059222},{"$f":"IF('III Tool Overview'!$H$6=\"Western Isles Health Board\",0,IF('III Tool Overview'!$H$6=\"Eilean Siar Local Authority\",0,new_yll(20,B269,C269,D269,$C$1,G269+H269,1,F269,E269*F269)))","v":64.480218047958047},3.5497432634173265E-2,{"$f":"IF('III Tool Overview'!$H$6=\"Western Isles Health Board\",0,IF('III Tool Overview'!$H$6=\"Eilean Siar Local Authority\",0,hosp_count(2,B269,C269,D269,$C$1,G269,1,F269,E269*F269)))","v":4.696135799657764},{"$f":"IF('III Tool Overview'!$H$6=\"Western Isles Health Board\",0,IF('III Tool Overview'!$H$6=\"Eilean Siar Local Authority\",0,hosp_count(2,B269,C269,D269,$C$1,G269+H269,1,F269,E269*F269)))","v":4.6944459163909471},1.6898832668168495E-3,{"$f":"IF('III Tool Overview'!$H$6=\"Western Isles Health Board\",0,IF('III Tool Overview'!$H$6=\"Eilean Siar Local Authority\",0,hosp_count(5,B269,C269,D269,$C$1,G269,1,F269,E269*F269)))","v":19.498097452950798},{"$f":"IF('III Tool Overview'!$H$6=\"Western Isles Health Board\",0,IF('III Tool Overview'!$H$6=\"Eilean Siar Local Authority\",0,hosp_count(5,B269,C269,D269,$C$1,G269+H269,1,F269,E269*F269)))","v":19.491186282858884},6.9111700919144425E-3,{"$f":"IF('III Tool Overview'!$H$6=\"Western Isles Health Board\",0,IF('III Tool Overview'!$H$6=\"Eilean Siar Local Authority\",0,hosp_count(10,B269,C269,D269,$C$1,G269,1,F269,E269*F269)))","v":46.687264937245899},{"$f":"IF('III Tool Overview'!$H$6=\"Western Isles Health Board\",0,IF('III Tool Overview'!$H$6=\"Eilean Siar Local Authority\",0,hosp_count(10,B269,C269,D269,$C$1,G269+H269,1,F269,E269*F269)))","v":46.671193120541531},1.6071816704368302E-2,{"$f":"IF('III Tool Overview'!$H$6=\"Western Isles Health Board\",0,IF('III Tool Overview'!$H$6=\"Eilean Siar Local Authority\",0,hosp_count(20,B269,C269,D269,$C$1,G269,1,F269,E269*F269)))","v":111.4615521149672},{"$f":"IF('III Tool Overview'!$H$6=\"Western Isles Health Board\",0,IF('III Tool Overview'!$H$6=\"Eilean Siar Local Authority\",0,hosp_count(20,B269,C269,D269,$C$1,G269+H269,1,F269,E269*F269)))","v":111.42612872167081},3.5423393296397876E-2,null,0.5,5]
["Female 50-54",52.5,"female",5,{"$f":"HLOOKUP('III Tool Overview'!$H$6,Prevalence!$B$2:$AV$268,Prevalence!AW257,FALSE)","v":7.4999999999999997E-2},{"$f":"HLOOKUP('III Tool Overview'!$H$6,LookUpData_Pop!$B$1:$AV$269,LookUpData_Pop!BB262,FALSE)/5","v":26.4},{"$f":"'III Tool Overview'!$H$9/110","v":0},{"$f":"IF('III Tool Overview'!$H$10=\"Even distribution\",Targeting!C268,IF('III Tool Overview'!$H$10=\"Targetting to Q1\",Targeting!D268,IF('III Tool Overview'!$H$10=\"Targetting to Q1 & Q2\",Targeting!E268,IF('III Tool Overview'!$H$10=\"No variation in price elasticity\",Targeting!G268))))","v":1.6800000000000002},{"$f":"IF('III Tool Overview'!$H$6=\"Western Isles Health Board\",0,IF('III Tool Overview'!$H$6=\"Eilean Siar Local Authority\",0,new_ci(2,B270,C270,D270,$C$1,G270,1,F270,E270*F270)))","v":5.6636823596176764E-2},{"$f":"IF('III Tool Overview'!$H$6=\"Western Isles Health Board\",0,IF('III Tool Overview'!$H$6=\"Eilean Siar Local Authority\",0,new_ci(2,B270,C270,D270,$C$1,G270+H270,1,F270,E270*F270)))","v":5.6599169967909632E-2},{"$f":"IF('III Tool Overview'!$H$6=\"Western Isles Health Board\",0,IF('III Tool Overview'!$H$6=\"Eilean Siar Local Authority\",0,new_ci(5,B270,C270,D270,$C$1,G270,1,F270,E270*F270)))","v":0.25056218413001674},{"$f":"IF('III Tool Overview'!$H$6=\"Western Isles Health Board\",0,IF('III Tool Overview'!$H$6=\"Eilean Siar Local Authority\",0,new_ci(5,B270,C270,D270,$C$1,G270+H270,1,F270,E270*F270)))","v":0.25039840239398004},{"$f":"IF('III Tool Overview'!$H$6=\"Western Isles Health Board\",0,IF('III Tool Overview'!$H$6=\"Eilean Siar Local Authority\",0,new_ci(10,B270,C270,D270,$C$1,G270,1,F270,E270*F270)))","v":0.67055874857382125},{"$f":"IF('III Tool Overview'!$H$6=\"Western Isles Health Board\",0,IF('III Tool Overview'!$H$6=\"Eilean Siar Local Authority\",0,new_ci(10,B270,C270,D270,$C$1,G270+H270,1,F270,E270*F270)))","v":0.67013550040110859},{"$f":"IF('III Tool Overview'!$H$6=\"Western Isles Health Board\",0,IF('III Tool Overview'!$H$6=\"Eilean Siar Local Authority\",0,new_ci(20,B270,C270,D270,$C$1,G270,1,F270,E270*F270)))","v":2.035449375528819},{"$f":"IF('III Tool Overview'!$H$6=\"Western Isles Health Board\",0,IF('III Tool Overview'!$H$6=\"Eilean Siar Local Authority\",0,new_ci(20,B270,C270,D270,$C$1,G270+H270,1,F270,E270*F270)))","v":2.0342951073037496},{"$f":"IF('III Tool Overview'!$H$6=\"Western Isles Health Board\",0,IF('III Tool Overview'!$H$6=\"Eilean Siar Local Authority\",0,new_yll(2,B270,C270,D270,$C$1,G270,1,F270,E270*F270)))","v":2.6619307090203077},{"$f":"IF('III Tool Overview'!$H$6=\"Western Isles Health Board\",0,IF('III Tool Overview'!$H$6=\"Eilean Siar Local Authority\",0,new_yll(2,B270,C270,D270,$C$1,G270+H270,1,F270,E270*F270)))","v":2.6601609884917528},1.7697205285549522E-3,{"$f":"IF('III Tool Overview'!$H$6=\"Western Isles Health Board\",0,IF('III Tool Overview'!$H$6=\"Eilean Siar Local Authority\",0,new_yll(5,B270,C270,D270,$C$1,G270,1,F270,E270*F270)))","v":11.380142925111677},{"$f":"IF('III Tool Overview'!$H$6=\"Western Isles Health Board\",0,IF('III Tool Overview'!$H$6=\"Eilean Siar Local Authority\",0,new_yll(5,B270,C270,D270,$C$1,G270+H270,1,F270,E270*F270)))","v":11.372701981778967},7.4409433327105035E-3,{"$f":"IF('III Tool Overview'!$H$6=\"Western Isles Health Board\",0,IF('III Tool Overview'!$H$6=\"Eilean Siar Local Authority\",0,new_yll(10,B270,C270,D270,$C$1,G270,1,F270,E270*F270)))","v":28.546007850097038},{"$f":"IF('III Tool Overview'!$H$6=\"Western Isles Health Board\",0,IF('III Tool Overview'!$H$6=\"Eilean Siar Local Authority\",0,new_yll(10,B270,C270,D270,$C$1,G270+H270,1,F270,E270*F270)))","v":28.527954975170786},1.8052874926251405E-2,{"$f":"IF('III Tool Overview'!$H$6=\"Western Isles Health Board\",0,IF('III Tool Overview'!$H$6=\"Eilean Siar Local Authority\",0,new_yll(20,B270,C270,D270,$C$1,G270,1,F270,E270*F270)))","v":73.57661445260041},{"$f":"IF('III Tool Overview'!$H$6=\"Western Isles Health Board\",0,IF('III Tool Overview'!$H$6=\"Eilean Siar Local Authority\",0,new_yll(20,B270,C270,D270,$C$1,G270+H270,1,F270,E270*F270)))","v":73.534311970754189},4.2302481846220985E-2,{"$f":"IF('III Tool Overview'!$H$6=\"Western Isles Health Board\",0,IF('III Tool Overview'!$H$6=\"Eilean Siar Local Authority\",0,hosp_count(2,B270,C270,D270,$C$1,G270,1,F270,E270*F270)))","v":4.7840172507865564},{"$f":"IF('III Tool Overview'!$H$6=\"Western Isles Health Board\",0,IF('III Tool Overview'!$H$6=\"Eilean Siar Local Authority\",0,hosp_count(2,B270,C270,D270,$C$1,G270+H270,1,F270,E270*F270)))","v":4.7821577220772173},1.8595287093390311E-3,{"$f":"IF('III Tool Overview'!$H$6=\"Western Isles Health Board\",0,IF('III Tool Overview'!$H$6=\"Eilean Siar Local Authority\",0,hosp_count(5,B270,C270,D270,$C$1,G270,1,F270,E270*F270)))","v":19.842977085505872},{"$f":"IF('III Tool Overview'!$H$6=\"Western Isles Health Board\",0,IF('III Tool Overview'!$H$6=\"Eilean Siar Local Authority\",0,hosp_count(5,B270,C270,D270,$C$1,G270+H270,1,F270,E270*F270)))","v":19.835404953146252},7.5721323596198431E-3,{"$f":"IF('III Tool Overview'!$H$6=\"Western Isles Health Board\",0,IF('III Tool Overview'!$H$6=\"Eilean Siar Local Authority\",0,hosp_count(10,B270,C270,D270,$C$1,G270,1,F270,E270*F270)))","v":47.413973429010625},{"$f":"IF('III Tool Overview'!$H$6=\"Western Isles Health Board\",0,IF('III Tool Overview'!$H$6=\"Eilean Siar Local Authority\",0,hosp_count(10,B270,C270,D270,$C$1,G270+H270,1,F270,E270*F270)))","v":47.396522890142272},1.7450538868352794E-2,{"$f":"IF('III Tool Overview'!$H$6=\"Western Isles Health Board\",0,IF('III Tool Overview'!$H$6=\"Eilean Siar Local Authority\",0,hosp_count(20,B270,C270,D270,$C$1,G270,1,F270,E270*F270)))","v":112.48003427718814},{"$f":"IF('III Tool Overview'!$H$6=\"Western Isles Health Board\",0,IF('III Tool Overview'!$H$6=\"Eilean Siar Local Authority\",0,hosp_count(20,B270,C270,D270,$C$1,G270+H270,1,F270,E270*F270)))","v":112.44262742421839},3.7406852969752435E-2,null,0.5,5]
["Female 55-59",57.5,"female",5,{"$f":"HLOOKUP('III Tool Overview'!$H$6,Prevalence!$B$2:$AV$268,Prevalence!AW258,FALSE)","v":6.8181818181818177E-2},{"$f":"HLOOKUP('III Tool Overview'!$H$6,LookUpData_Pop!$B$1:$AV$269,LookUpData_Pop!BB263,FALSE)/5","v":22.2},{"$f":"'III Tool Overview'!$H$9/110","v":0},{"$f":"IF('III Tool Overview'!$H$10=\"Even distribution\",Targeting!C269,IF('III Tool Overview'!$H$10=\"Targetting to Q1\",Targeting!D269,IF('III Tool Overview'!$H$10=\"Targetting to Q1 & Q2\",Targeting!E269,IF('III Tool Overview'!$H$10=\"No variation in price elasticity\",Targeting!G269))))","v":1.0909090909090908},{"$f":"IF('III Tool Overview'!$H$6=\"Western Isles Health Board\",0,IF('III Tool Overview'!$H$6=\"Eilean Siar Local Authority\",0,new_ci(2,B271,C271,D271,$C$1,G271,1,F271,E271*F271)))","v":7.7803442965784467E-2},{"$f":"IF('III Tool Overview'!$H$6=\"Western Isles Health Board\",0,IF('III Tool Overview'!$H$6=\"Eilean Siar Local Authority\",0,new_ci(2,B271,C271,D271,$C$1,G271+H271,1,F271,E271*F271)))","v":7.7773247863560671E-2},{"$f":"IF('III Tool Overview'!$H$6=\"Western Isles Health Board\",0,IF('III Tool Overview'!$H$6=\"Eilean Siar Local Authority\",0,new_ci(5,B271,C271,D271,$C$1,G271,1,F271,E271*F271)))","v":0.34329945622375241},{"$f":"IF('III Tool Overview'!$H$6=\"Western Isles Health Board\",0,IF('III Tool Overview'!$H$6=\"Eilean Siar Local Authority\",0,new_ci(5,B271,C271,D271,$C$1,G271+H271,1,F271,E271*F271)))","v":0.34316933135895805},{"$f":"IF('III Tool Overview'!$H$6=\"Western Isles Health Board\",0,IF('III Tool Overview'!$H$6=\"Eilean Siar Local Authority\",0,new_ci(10,B271,C271,D271,$C$1,G271,1,F271,E271*F271)))","v":0.91350700683703367},{"$f":"IF('III Tool Overview'!$H$6=\"Western Isles Health Board\",0,IF('III Tool Overview'!$H$6=\"Eilean Siar Local Authority\",0,new_ci(10,B271,C271,D271,$C$1,G271+H271,1,F271,E271*F271)))","v":0.91317752017935705},{"$f":"IF('III Tool Overview'!$H$6=\"Western Isles Health Board\",0,IF('III Tool Overview'!$H$6=\"Eilean Siar Local Authority\",0,new_ci(20,B271,C271,D271,$C$1,G271,1,F271,E271*F271)))","v":2.7213483462152972},{"$f":"IF('III Tool Overview'!$H$6=\"Western Isles Health Board\",0,IF('III Tool Overview'!$H$6=\"Eilean Siar Local Authority\",0,new_ci(20,B271,C271,D271,$C$1,G271+H271,1,F271,E271*F271)))","v":2.7205095573391787},{"$f":"IF('III Tool Overview'!$H$6=\"Western Isles Health Board\",0,IF('III Tool Overview'!$H$6=\"Eilean Siar Local Authority\",0,new_yll(2,B271,C271,D271,$C$1,G271,1,F271,E271*F271)))","v":3.1899411615971633},{"$f":"IF('III Tool Overview'!$H$6=\"Western Isles Health Board\",0,IF('III Tool Overview'!$H$6=\"Eilean Siar Local Authority\",0,new_yll(2,B271,C271,D271,$C$1,G271+H271,1,F271,E271*F271)))","v":3.1887031624059876},1.2379991911757315E-3,{"$f":"IF('III Tool Overview'!$H$6=\"Western Isles Health Board\",0,IF('III Tool Overview'!$H$6=\"Eilean Siar Local Authority\",0,new_yll(5,B271,C271,D271,$C$1,G271,1,F271,E271*F271)))","v":13.53305624549162},{"$f":"IF('III Tool Overview'!$H$6=\"Western Isles Health Board\",0,IF('III Tool Overview'!$H$6=\"Eilean Siar Local Authority\",0,new_yll(5,B271,C271,D271,$C$1,G271+H271,1,F271,E271*F271)))","v":13.527924163711543},5.1320817800775131E-3,{"$f":"IF('III Tool Overview'!$H$6=\"Western Isles Health Board\",0,IF('III Tool Overview'!$H$6=\"Eilean Siar Local Authority\",0,new_yll(10,B271,C271,D271,$C$1,G271,1,F271,E271*F271)))","v":33.419627459860649},{"$f":"IF('III Tool Overview'!$H$6=\"Western Isles Health Board\",0,IF('III Tool Overview'!$H$6=\"Eilean Siar Local Authority\",0,new_yll(10,B271,C271,D271,$C$1,G271+H271,1,F271,E271*F271)))","v":33.407534398706645},1.2093061154004658E-2,{"$f":"IF('III Tool Overview'!$H$6=\"Western Isles Health Board\",0,IF('III Tool Overview'!$H$6=\"Eilean Siar Local Authority\",0,new_yll(20,B271,C271,D271,$C$1,G271,1,F271,E271*F271)))","v":82.273250679992827},{"$f":"IF('III Tool Overview'!$H$6=\"Western Isles Health Board\",0,IF('III Tool Overview'!$H$6=\"Eilean Siar Local Authority\",0,new_yll(20,B271,C271,D271,$C$1,G271+H271,1,F271,E271*F271)))","v":82.247249809514855},2.6000870477972171E-2,{"$f":"IF('III Tool Overview'!$H$6=\"Western Isles Health Board\",0,IF('III Tool Overview'!$H$6=\"Eilean Siar Local Authority\",0,hosp_count(2,B271,C271,D271,$C$1,G271,1,F271,E271*F271)))","v":4.6640487261452739},{"$f":"IF('III Tool Overview'!$H$6=\"Western Isles Health Board\",0,IF('III Tool Overview'!$H$6=\"Eilean Siar Local Authority\",0,hosp_count(2,B271,C271,D271,$C$1,G271+H271,1,F271,E271*F271)))","v":4.6629784614062055},1.0702647390683495E-3,{"$f":"IF('III Tool Overview'!$H$6=\"Western Isles Health Board\",0,IF('III Tool Overview'!$H$6=\"Eilean Siar Local Authority\",0,hosp_count(5,B271,C271,D271,$C$1,G271,1,F271,E271*F271)))","v":19.300851085343275},{"$f":"IF('III Tool Overview'!$H$6=\"Western Isles Health Board\",0,IF('III Tool Overview'!$H$6=\"Eilean Siar Local Authority\",0,hosp_count(5,B271,C271,D271,$C$1,G271+H271,1,F271,E271*F271)))","v":19.296534449979085},4.3166353641908017E-3,{"$f":"IF('III Tool Overview'!$H$6=\"Western Isles Health Board\",0,IF('III Tool Overview'!$H$6=\"Eilean Siar Local Authority\",0,hosp_count(10,B271,C271,D271,$C$1,G271,1,F271,E271*F271)))","v":45.899586819947679},{"$f":"IF('III Tool Overview'!$H$6=\"Western Isles Health Board\",0,IF('III Tool Overview'!$H$6=\"Eilean Siar Local Authority\",0,hosp_count(10,B271,C271,D271,$C$1,G271+H271,1,F271,E271*F271)))","v":45.889835856223726},9.7509637239525659E-3,{"$f":"IF('III Tool Overview'!$H$6=\"Western Isles Health Board\",0,IF('III Tool Overview'!$H$6=\"Eilean Siar Local Authority\",0,hosp_count(20,B271,C271,D271,$C$1,G271,1,F271,E271*F271)))","v":107.33820176625922},{"$f":"IF('III Tool Overview'!$H$6=\"Western Isles Health Board\",0,IF('III Tool Overview'!$H$6=\"Eilean Siar Local Authority\",0,hosp_count(20,B271,C271,D271,$C$1,G271+H271,1,F271,E271*F271)))","v":107.31854593430195},1.9655831957265946E-2,null,0.5,5]
["Female 60-64",62.5,"female",5,{"$f":"HLOOKUP('III Tool Overview'!$H$6,Prevalence!$B$2:$AV$268,Prevalence!AW259,FALSE)","v":6.8181818181818177E-2},{"$f":"HLOOKUP('III Tool Overview'!$H$6,LookUpData_Pop!$B$1:$AV$269,LookUpData_Pop!BB264,FALSE)/5","v":27.4},{"$f":"'III Tool Overview'!$H$9/110","v":0},{"$f":"IF('III Tool Overview'!$H$10=\"Even distribution\",Targeting!C270,IF('III Tool Overview'!$H$10=\"Targetting to Q1\",Targeting!D270,IF('III Tool Overview'!$H$10=\"Targetting to Q1 & Q2\",Targeting!E270,IF('III Tool Overview'!$H$10=\"No variation in price elasticity\",Targeting!G270))))","v":1.1454545454545453},{"$f":"IF('III Tool Overview'!$H$6=\"Western Isles Health Board\",0,IF('III Tool Overview'!$H$6=\"Eilean Siar Local Authority\",0,new_ci(2,B272,C272,D272,$C$1,G272,1,F272,E272*F272)))","v":0.13317056004851077},{"$f":"IF('III Tool Overview'!$H$6=\"Western Isles Health Board\",0,IF('III Tool Overview'!$H$6=\"Eilean Siar Local Authority\",0,new_ci(2,B272,C272,D272,$C$1,G272+H272,1,F272,E272*F272)))","v":0.13312794949679926},{"$f":"IF('III Tool Overview'!$H$6=\"Western Isles Health Board\",0,IF('III Tool Overview'!$H$6=\"Eilean Siar Local Authority\",0,new_ci(5,B272,C272,D272,$C$1,G272,1,F272,E272*F272)))","v":0.58616253238860394},{"$f":"IF('III Tool Overview'!$H$6=\"Western Isles Health Board\",0,IF('III Tool Overview'!$H$6=\"Eilean Siar Local Authority\",0,new_ci(5,B272,C272,D272,$C$1,G272+H272,1,F272,E272*F272)))","v":0.58598076778532604},{"$f":"IF('III Tool Overview'!$H$6=\"Western Isles Health Board\",0,IF('III Tool Overview'!$H$6=\"Eilean Siar Local Authority\",0,new_ci(10,B272,C272,D272,$C$1,G272,1,F272,E272*F272)))","v":1.5514977546325306},{"$f":"IF('III Tool Overview'!$H$6=\"Western Isles Health Board\",0,IF('III Tool Overview'!$H$6=\"Eilean Siar Local Authority\",0,new_ci(10,B272,C272,D272,$C$1,G272+H272,1,F272,E272*F272)))","v":1.5510477009916617},{"$f":"IF('III Tool Overview'!$H$6=\"Western Isles Health Board\",0,IF('III Tool Overview'!$H$6=\"Eilean Siar Local Authority\",0,new_ci(20,B272,C272,D272,$C$1,G272,1,F272,E272*F272)))","v":4.5428185324135999},{"$f":"IF('III Tool Overview'!$H$6=\"Western Isles Health Board\",0,IF('III Tool Overview'!$H$6=\"Eilean Siar Local Authority\",0,new_ci(20,B272,C272,D272,$C$1,G272+H272,1,F272,E272*F272)))","v":4.5417562443458301},{"$f":"IF('III Tool Overview'!$H$6=\"Western Isles Health Board\",0,IF('III Tool Overview'!$H$6=\"Eilean Siar Local Authority\",0,new_yll(2,B272,C272,D272,$C$1,G272,1,F272,E272*F272)))","v":4.9273107217948988},{"$f":"IF('III Tool Overview'!$H$6=\"Western Isles Health Board\",0,IF('III Tool Overview'!$H$6=\"Eilean Siar Local Authority\",0,new_yll(2,B272,C272,D272,$C$1,G272+H272,1,F272,E272*F272)))","v":4.9257341313815726},1.5765904133262509E-3,{"$f":"IF('III Tool Overview'!$H$6=\"Western Isles Health Board\",0,IF('III Tool Overview'!$H$6=\"Eilean Siar Local Authority\",0,new_yll(5,B272,C272,D272,$C$1,G272,1,F272,E272*F272)))","v":20.763364119281135},{"$f":"IF('III Tool Overview'!$H$6=\"Western Isles Health Board\",0,IF('III Tool Overview'!$H$6=\"Eilean Siar Local Authority\",0,new_yll(5,B272,C272,D272,$C$1,G272+H272,1,F272,E272*F272)))","v":20.756920914392904},6.4432048882316906E-3,{"$f":"IF('III Tool Overview'!$H$6=\"Western Isles Health Board\",0,IF('III Tool Overview'!$H$6=\"Eilean Siar Local Authority\",0,new_yll(10,B272,C272,D272,$C$1,G272,1,F272,E272*F272)))","v":50.573198592319585},{"$f":"IF('III Tool Overview'!$H$6=\"Western Isles Health Board\",0,IF('III Tool Overview'!$H$6=\"Eilean Siar Local Authority\",0,new_yll(10,B272,C272,D272,$C$1,G272+H272,1,F272,E272*F272)))","v":50.558455654728078},1.4742937591506688E-2,{"$f":"IF('III Tool Overview'!$H$6=\"Western Isles Health Board\",0,IF('III Tool Overview'!$H$6=\"Eilean Siar Local Authority\",0,new_yll(20,B272,C272,D272,$C$1,G272,1,F272,E272*F272)))","v":119.52947705198395},{"$f":"IF('III Tool Overview'!$H$6=\"Western Isles Health Board\",0,IF('III Tool Overview'!$H$6=\"Eilean Siar Local Authority\",0,new_yll(20,B272,C272,D272,$C$1,G272+H272,1,F272,E272*F272)))","v":119.50036382294239},2.911322904155611E-2,{"$f":"IF('III Tool Overview'!$H$6=\"Western Isles Health Board\",0,IF('III Tool Overview'!$H$6=\"Eilean Siar Local Authority\",0,hosp_count(2,B272,C272,D272,$C$1,G272,1,F272,E272*F272)))","v":6.3529416066540705},{"$f":"IF('III Tool Overview'!$H$6=\"Western Isles Health Board\",0,IF('III Tool Overview'!$H$6=\"Eilean Siar Local Authority\",0,hosp_count(2,B272,C272,D272,$C$1,G272+H272,1,F272,E272*F272)))","v":6.3517503384955587},1.1912681585117824E-3,{"$f":"IF('III Tool Overview'!$H$6=\"Western Isles Health Board\",0,IF('III Tool Overview'!$H$6=\"Eilean Siar Local Authority\",0,hosp_count(5,B272,C272,D272,$C$1,G272,1,F272,E272*F272)))","v":26.231470158038075},{"$f":"IF('III Tool Overview'!$H$6=\"Western Isles Health Board\",0,IF('III Tool Overview'!$H$6=\"Eilean Siar Local Authority\",0,hosp_count(5,B272,C272,D272,$C$1,G272+H272,1,F272,E272*F272)))","v":26.226715737485616},4.7544205524587824E-3,{"$f":"IF('III Tool Overview'!$H$6=\"Western Isles Health Board\",0,IF('III Tool Overview'!$H$6=\"Eilean Siar Local Authority\",0,hosp_count(10,B272,C272,D272,$C$1,G272,1,F272,E272*F272)))","v":62.096357171420806},{"$f":"IF('III Tool Overview'!$H$6=\"Western Isles Health Board\",0,IF('III Tool Overview'!$H$6=\"Eilean Siar Local Authority\",0,hosp_count(10,B272,C272,D272,$C$1,G272+H272,1,F272,E272*F272)))","v":62.085850631842604},1.0506539578202023E-2,{"$f":"IF('III Tool Overview'!$H$6=\"Western Isles Health Board\",0,IF('III Tool Overview'!$H$6=\"Eilean Siar Local Authority\",0,hosp_count(20,B272,C272,D272,$C$1,G272,1,F272,E272*F272)))","v":143.24557106393124},{"$f":"IF('III Tool Overview'!$H$6=\"Western Isles Health Board\",0,IF('III Tool Overview'!$H$6=\"Eilean Siar Local Authority\",0,hosp_count(20,B272,C272,D272,$C$1,G272+H272,1,F272,E272*F272)))","v":143.22576974290286},1.9801321028381835E-2,null,0.5,5]
["Female 65-69",67.5,"female",5,{"$f":"HLOOKUP('III Tool Overview'!$H$6,Prevalence!$B$2:$AV$268,Prevalence!AW260,FALSE)","v":4.0909090909090902E-2},{"$f":"HLOOKUP('III Tool Overview'!$H$6,LookUpData_Pop!$B$1:$AV$269,LookUpData_Pop!BB265,FALSE)/5","v":15.6},{"$f":"'III Tool Overview'!$H$9/110","v":0},{"$f":"IF('III Tool Overview'!$H$10=\"Even distribution\",Targeting!C271,IF('III Tool Overview'!$H$10=\"Targetting to Q1\",Targeting!D271,IF('III Tool Overview'!$H$10=\"Targetting to Q1 & Q2\",Targeting!E271,IF('III Tool Overview'!$H$10=\"No variation in price elasticity\",Targeting!G271))))","v":0.81818181818181801},{"$f":"IF('III Tool Overview'!$H$6=\"Western Isles Health Board\",0,IF('III Tool Overview'!$H$6=\"Eilean Siar Local Authority\",0,new_ci(2,B273,C273,D273,$C$1,G273,1,F273,E273*F273)))","v":0.12375117569537183},{"$f":"IF('III Tool Overview'!$H$6=\"Western Isles Health Board\",0,IF('III Tool Overview'!$H$6=\"Eilean Siar Local Authority\",0,new_ci(2,B273,C273,D273,$C$1,G273+H273,1,F273,E273*F273)))","v":0.12368124760156571},{"$f":"IF('III Tool Overview'!$H$6=\"Western Isles Health Board\",0,IF('III Tool Overview'!$H$6=\"Eilean Siar Local Authority\",0,new_ci(5,B273,C273,D273,$C$1,G273,1,F273,E273*F273)))","v":0.54163997495793681},{"$f":"IF('III Tool Overview'!$H$6=\"Western Isles Health Board\",0,IF('III Tool Overview'!$H$6=\"Eilean Siar Local Authority\",0,new_ci(5,B273,C273,D273,$C$1,G273+H273,1,F273,E273*F273)))","v":0.54134836729340818},{"$f":"IF('III Tool Overview'!$H$6=\"Western Isles Health Board\",0,IF('III Tool Overview'!$H$6=\"Eilean Siar Local Authority\",0,new_ci(10,B273,C273,D273,$C$1,G273,1,F273,E273*F273)))","v":1.41636433718454},{"$f":"IF('III Tool Overview'!$H$6=\"Western Isles Health Board\",0,IF('III Tool Overview'!$H$6=\"Eilean Siar Local Authority\",0,new_ci(10,B273,C273,D273,$C$1,G273+H273,1,F273,E273*F273)))","v":1.4156773397552613},{"$f":"IF('III Tool Overview'!$H$6=\"Western Isles Health Board\",0,IF('III Tool Overview'!$H$6=\"Eilean Siar Local Authority\",0,new_ci(20,B273,C273,D273,$C$1,G273,1,F273,E273*F273)))","v":3.9896768081207354},{"$f":"IF('III Tool Overview'!$H$6=\"Western Isles Health Board\",0,IF('III Tool Overview'!$H$6=\"Eilean Siar Local Authority\",0,new_ci(20,B273,C273,D273,$C$1,G273+H273,1,F273,E273*F273)))","v":3.9883059709000737},{"$f":"IF('III Tool Overview'!$H$6=\"Western Isles Health Board\",0,IF('III Tool Overview'!$H$6=\"Eilean Siar Local Authority\",0,new_yll(2,B273,C273,D273,$C$1,G273,1,F273,E273*F273)))","v":3.8362864465565267},{"$f":"IF('III Tool Overview'!$H$6=\"Western Isles Health Board\",0,IF('III Tool Overview'!$H$6=\"Eilean Siar Local Authority\",0,new_yll(2,B273,C273,D273,$C$1,G273+H273,1,F273,E273*F273)))","v":3.8341186756485368},2.1677709079899188E-3,{"$f":"IF('III Tool Overview'!$H$6=\"Western Isles Health Board\",0,IF('III Tool Overview'!$H$6=\"Eilean Siar Local Authority\",0,new_yll(5,B273,C273,D273,$C$1,G273,1,F273,E273*F273)))","v":15.938892707314626},{"$f":"IF('III Tool Overview'!$H$6=\"Western Isles Health Board\",0,IF('III Tool Overview'!$H$6=\"Eilean Siar Local Authority\",0,new_yll(5,B273,C273,D273,$C$1,G273+H273,1,F273,E273*F273)))","v":15.93029991993402},8.5927873806053157E-3,{"$f":"IF('III Tool Overview'!$H$6=\"Western Isles Health Board\",0,IF('III Tool Overview'!$H$6=\"Eilean Siar Local Authority\",0,new_yll(10,B273,C273,D273,$C$1,G273,1,F273,E273*F273)))","v":37.710871568849271},{"$f":"IF('III Tool Overview'!$H$6=\"Western Isles Health Board\",0,IF('III Tool Overview'!$H$6=\"Eilean Siar Local Authority\",0,new_yll(10,B273,C273,D273,$C$1,G273+H273,1,F273,E273*F273)))","v":37.692401488376966},1.8470080472305028E-2,{"$f":"IF('III Tool Overview'!$H$6=\"Western Isles Health Board\",0,IF('III Tool Overview'!$H$6=\"Eilean Siar Local Authority\",0,new_yll(20,B273,C273,D273,$C$1,G273,1,F273,E273*F273)))","v":81.761014763796112},{"$f":"IF('III Tool Overview'!$H$6=\"Western Isles Health Board\",0,IF('III Tool Overview'!$H$6=\"Eilean Siar Local Authority\",0,new_yll(20,B273,C273,D273,$C$1,G273+H273,1,F273,E273*F273)))","v":81.730289372561387},3.0725391234724952E-2,{"$f":"IF('III Tool Overview'!$H$6=\"Western Isles Health Board\",0,IF('III Tool Overview'!$H$6=\"Eilean Siar Local Authority\",0,hosp_count(2,B273,C273,D273,$C$1,G273,1,F273,E273*F273)))","v":4.1934376816148431},{"$f":"IF('III Tool Overview'!$H$6=\"Western Isles Health Board\",0,IF('III Tool Overview'!$H$6=\"Eilean Siar Local Authority\",0,hosp_count(2,B273,C273,D273,$C$1,G273+H273,1,F273,E273*F273)))","v":4.1920503847075414},1.3872969073016606E-3,{"$f":"IF('III Tool Overview'!$H$6=\"Western Isles Health Board\",0,IF('III Tool Overview'!$H$6=\"Eilean Siar Local Authority\",0,hosp_count(5,B273,C273,D273,$C$1,G273,1,F273,E273*F273)))","v":17.22713032090261},{"$f":"IF('III Tool Overview'!$H$6=\"Western Isles Health Board\",0,IF('III Tool Overview'!$H$6=\"Eilean Siar Local Authority\",0,hosp_count(5,B273,C273,D273,$C$1,G273+H273,1,F273,E273*F273)))","v":17.221721156224383},5.4091646782268299E-3,{"$f":"IF('III Tool Overview'!$H$6=\"Western Isles Health Board\",0,IF('III Tool Overview'!$H$6=\"Eilean Siar Local Authority\",0,hosp_count(10,B273,C273,D273,$C$1,G273,1,F273,E273*F273)))","v":40.359222399287823},{"$f":"IF('III Tool Overview'!$H$6=\"Western Isles Health Board\",0,IF('III Tool Overview'!$H$6=\"Eilean Siar Local Authority\",0,hosp_count(10,B273,C273,D273,$C$1,G273+H273,1,F273,E273*F273)))","v":40.347837976749332},1.1384422538490924E-2,{"$f":"IF('III Tool Overview'!$H$6=\"Western Isles Health Board\",0,IF('III Tool Overview'!$H$6=\"Eilean Siar Local Authority\",0,hosp_count(20,B273,C273,D273,$C$1,G273,1,F273,E273*F273)))","v":90.31463174305064},{"$f":"IF('III Tool Overview'!$H$6=\"Western Isles Health Board\",0,IF('III Tool Overview'!$H$6=\"Eilean Siar Local Authority\",0,hosp_count(20,B273,C273,D273,$C$1,G273+H273,1,F273,E273*F273)))","v":90.296133851921951},1.8497891128689048E-2,null,0.5,5]
["Female 70-74",72.5,"female",5,{"$f":"HLOOKUP('III Tool Overview'!$H$6,Prevalence!$B$2:$AV$268,Prevalence!AW261,FALSE)","v":4.0909090909090902E-2},{"$f":"HLOOKUP('III Tool Overview'!$H$6,LookUpData_Pop!$B$1:$AV$269,LookUpData_Pop!BB266,FALSE)/5","v":13.2},{"$f":"'III Tool Overview'!$H$9/110","v":0},{"$f":"IF('III Tool Overview'!$H$10=\"Even distribution\",Targeting!C272,IF('III Tool Overview'!$H$10=\"Targetting to Q1\",Targeting!D272,IF('III Tool Overview'!$H$10=\"Targetting to Q1 & Q2\",Targeting!E272,IF('III Tool Overview'!$H$10=\"No variation in price elasticity\",Targeting!G272))))","v":0.42545454545454542},{"$f":"IF('III Tool Overview'!$H$6=\"Western Isles Health Board\",0,IF('III Tool Overview'!$H$6=\"Eilean Siar Local Authority\",0,new_ci(2,B274,C274,D274,$C$1,G274,1,F274,E274*F274)))","v":0.14506749984484557},{"$f":"IF('III Tool Overview'!$H$6=\"Western Isles Health Board\",0,IF('III Tool Overview'!$H$6=\"Eilean Siar Local Authority\",0,new_ci(2,B274,C274,D274,$C$1,G274+H274,1,F274,E274*F274)))","v":0.14506749984484557},{"$f":"IF('III Tool Overview'!$H$6=\"Western Isles Health Board\",0,IF('III Tool Overview'!$H$6=\"Eilean Siar Local Authority\",0,new_ci(5,B274,C274,D274,$C$1,G274,1,F274,E274*F274)))","v":0.63121600221369756},{"$f":"IF('III Tool Overview'!$H$6=\"Western Isles Health Board\",0,IF('III Tool Overview'!$H$6=\"Eilean Siar Local Authority\",0,new_ci(5,B274,C274,D274,$C$1,G274+H274,1,F274,E274*F274)))","v":0.63121600221369756},{"$f":"IF('III Tool Overview'!$H$6=\"Western Isles Health Board\",0,IF('III Tool Overview'!$H$6=\"Eilean Siar Local Authority\",0,new_ci(10,B274,C274,D274,$C$1,G274,1,F274,E274*F274)))","v":1.6300837611310086},{"$f":"IF('III Tool Overview'!$H$6=\"Western Isles Health Board\",0,IF('III Tool Overview'!$H$6=\"Eilean Siar Local Authority\",0,new_ci(10,B274,C274,D274,$C$1,G274+H274,1,F274,E274*F274)))","v":1.6300837611310086},{"$f":"IF('III Tool Overview'!$H$6=\"Western Isles Health Board\",0,IF('III Tool Overview'!$H$6=\"Eilean Siar Local Authority\",0,new_ci(20,B274,C274,D274,$C$1,G274,1,F274,E274*F274)))","v":4.4177738047952406},{"$f":"IF('III Tool Overview'!$H$6=\"Western Isles Health Board\",0,IF('III Tool Overview'!$H$6=\"Eilean Siar Local Authority\",0,new_ci(20,B274,C274,D274,$C$1,G274+H274,1,F274,E274*F274)))","v":4.4177738047952406},{"$f":"IF('III Tool Overview'!$H$6=\"Western Isles Health Board\",0,IF('III Tool Overview'!$H$6=\"Eilean Siar Local Authority\",0,new_yll(2,B274,C274,D274,$C$1,G274,1,F274,E274*F274)))","v":3.9168224958108304},{"$f":"IF('III Tool Overview'!$H$6=\"Western Isles Health Board\",0,IF('III Tool Overview'!$H$6=\"Eilean Siar Local Authority\",0,new_yll(2,B274,C274,D274,$C$1,G274+H274,1,F274,E274*F274)))","v":3.9168224958108304},{"$f":"Q274-R274","v":0},{"$f":"IF('III Tool Overview'!$H$6=\"Western Isles Health Board\",0,IF('III Tool Overview'!$H$6=\"Eilean Siar Local Authority\",0,new_yll(5,B274,C274,D274,$C$1,G274,1,F274,E274*F274)))","v":16.053001692777954},{"$f":"IF('III Tool Overview'!$H$6=\"Western Isles Health Board\",0,IF('III Tool Overview'!$H$6=\"Eilean Siar Local Authority\",0,new_yll(5,B274,C274,D274,$C$1,G274+H274,1,F274,E274*F274)))","v":16.053001692777954},{"$f":"T274-U274","v":0},{"$f":"IF('III Tool Overview'!$H$6=\"Western Isles Health Board\",0,IF('III Tool Overview'!$H$6=\"Eilean Siar Local Authority\",0,new_yll(10,B274,C274,D274,$C$1,G274,1,F274,E274*F274)))","v":36.929611570496796},{"$f":"IF('III Tool Overview'!$H$6=\"Western Isles Health Board\",0,IF('III Tool Overview'!$H$6=\"Eilean Siar Local Authority\",0,new_yll(10,B274,C274,D274,$C$1,G274+H274,1,F274,E274*F274)))","v":36.929611570496796},{"$f":"W274-X274","v":0},{"$f":"IF('III Tool Overview'!$H$6=\"Western Isles Health Board\",0,IF('III Tool Overview'!$H$6=\"Eilean Siar Local Authority\",0,new_yll(20,B274,C274,D274,$C$1,G274,1,F274,E274*F274)))","v":73.685554894250984},{"$f":"IF('III Tool Overview'!$H$6=\"Western Isles Health Board\",0,IF('III Tool Overview'!$H$6=\"Eilean Siar Local Authority\",0,new_yll(20,B274,C274,D274,$C$1,G274+H274,1,F274,E274*F274)))","v":73.685554894250984},{"$f":"Z274-AA274","v":0},{"$f":"IF('III Tool Overview'!$H$6=\"Western Isles Health Board\",0,IF('III Tool Overview'!$H$6=\"Eilean Siar Local Authority\",0,hosp_count(2,B274,C274,D274,$C$1,G274,1,F274,E274*F274)))","v":3.9159192030900485},{"$f":"IF('III Tool Overview'!$H$6=\"Western Isles Health Board\",0,IF('III Tool Overview'!$H$6=\"Eilean Siar Local Authority\",0,hosp_count(2,B274,C274,D274,$C$1,G274+H274,1,F274,E274*F274)))","v":3.9159192030900485},{"$f":"AC274-AD274","v":0},{"$f":"IF('III Tool Overview'!$H$6=\"Western Isles Health Board\",0,IF('III Tool Overview'!$H$6=\"Eilean Siar Local Authority\",0,hosp_count(5,B274,C274,D274,$C$1,G274,1,F274,E274*F274)))","v":16.004129473198535},{"$f":"IF('III Tool Overview'!$H$6=\"Western Isles Health Board\",0,IF('III Tool Overview'!$H$6=\"Eilean Siar Local Authority\",0,hosp_count(5,B274,C274,D274,$C$1,G274+H274,1,F274,E274*F274)))","v":16.004129473198535},{"$f":"AF274-AG274","v":0},{"$f":"IF('III Tool Overview'!$H$6=\"Western Isles Health Board\",0,IF('III Tool Overview'!$H$6=\"Eilean Siar Local Authority\",0,hosp_count(10,B274,C274,D274,$C$1,G274,1,F274,E274*F274)))","v":37.103623886253402},{"$f":"IF('III Tool Overview'!$H$6=\"Western Isles Health Board\",0,IF('III Tool Overview'!$H$6=\"Eilean Siar Local Authority\",0,hosp_count(10,B274,C274,D274,$C$1,G274+H274,1,F274,E274*F274)))","v":37.103623886253402},{"$f":"AI274-AJ274","v":0},{"$f":"IF('III Tool Overview'!$H$6=\"Western Isles Health Board\",0,IF('III Tool Overview'!$H$6=\"Eilean Siar Local Authority\",0,hosp_count(20,B274,C274,D274,$C$1,G274,1,F274,E274*F274)))","v":80.605656638575596},{"$f":"IF('III Tool Overview'!$H$6=\"Western Isles Health Board\",0,IF('III Tool Overview'!$H$6=\"Eilean Siar Local Authority\",0,hosp_count(20,B274,C274,D274,$C$1,G274+H274,1,F274,E274*F274)))","v":80.605656638575596},{"$f":"AL274-AM274","v":0},null,0.5,5]
["Female 75-79",77.5,"female",5,{"$f":"HLOOKUP('III Tool Overview'!$H$6,Prevalence!$B$2:$AV$268,Prevalence!AW262,FALSE)","v":2.7272727272727271E-2},{"$f":"HLOOKUP('III Tool Overview'!$H$6,LookUpData_Pop!$B$1:$AV$269,LookUpData_Pop!BB267,FALSE)/5","v":9.1999999999999993},{"$f":"'III Tool Overview'!$H$9/110","v":0},{"$f":"IF('III Tool Overview'!$H$10=\"Even distribution\",Targeting!C273,IF('III Tool Overview'!$H$10=\"Targetting to Q1\",Targeting!D273,IF('III Tool Overview'!$H$10=\"Targetting to Q1 & Q2\",Targeting!E273,IF('III Tool Overview'!$H$10=\"No variation in price elasticity\",Targeting!G273))))","v":0.30545454545454542},{"$f":"IF('III Tool Overview'!$H$6=\"Western Isles Health Board\",0,IF('III Tool Overview'!$H$6=\"Eilean Siar Local Authority\",0,new_ci(2,B275,C275,D275,$C$1,G275,1,F275,E275*F275)))","v":0.16480528648984427},{"$f":"IF('III Tool Overview'!$H$6=\"Western Isles Health Board\",0,IF('III Tool Overview'!$H$6=\"Eilean Siar Local Authority\",0,new_ci(2,B275,C275,D275,$C$1,G275+H275,1,F275,E275*F275)))","v":0.16480528648984427},{"$f":"IF('III Tool Overview'!$H$6=\"Western Isles Health Board\",0,IF('III Tool Overview'!$H$6=\"Eilean Siar Local Authority\",0,new_ci(5,B275,C275,D275,$C$1,G275,1,F275,E275*F275)))","v":0.70980929108612634},{"$f":"IF('III Tool Overview'!$H$6=\"Western Isles Health Board\",0,IF('III Tool Overview'!$H$6=\"Eilean Siar Local Authority\",0,new_ci(5,B275,C275,D275,$C$1,G275+H275,1,F275,E275*F275)))","v":0.70980929108612634},{"$f":"IF('III Tool Overview'!$H$6=\"Western Isles Health Board\",0,IF('III Tool Overview'!$H$6=\"Eilean Siar Local Authority\",0,new_ci(10,B275,C275,D275,$C$1,G275,1,F275,E275*F275)))","v":1.7930429889599704},{"$f":"IF('III Tool Overview'!$H$6=\"Western Isles Health Board\",0,IF('III Tool Overview'!$H$6=\"Eilean Siar Local Authority\",0,new_ci(10,B275,C275,D275,$C$1,G275+H275,1,F275,E275*F275)))","v":1.7930429889599704},{"$f":"IF('III Tool Overview'!$H$6=\"Western Isles Health Board\",0,IF('III Tool Overview'!$H$6=\"Eilean Siar Local Authority\",0,new_ci(20,B275,C275,D275,$C$1,G275,1,F275,E275*F275)))","v":4.5285837293397515},{"$f":"IF('III Tool Overview'!$H$6=\"Western Isles Health Board\",0,IF('III Tool Overview'!$H$6=\"Eilean Siar Local Authority\",0,new_ci(20,B275,C275,D275,$C$1,G275+H275,1,F275,E275*F275)))","v":4.5285837293397515},{"$f":"IF('III Tool Overview'!$H$6=\"Western Isles Health Board\",0,IF('III Tool Overview'!$H$6=\"Eilean Siar Local Authority\",0,new_yll(2,B275,C275,D275,$C$1,G275,1,F275,E275*F275)))","v":3.4609110162867296},{"$f":"IF('III Tool Overview'!$H$6=\"Western Isles Health Board\",0,IF('III Tool Overview'!$H$6=\"Eilean Siar Local Authority\",0,new_yll(2,B275,C275,D275,$C$1,G275+H275,1,F275,E275*F275)))","v":3.4609110162867296},0,{"$f":"IF('III Tool Overview'!$H$6=\"Western Isles Health Board\",0,IF('III Tool Overview'!$H$6=\"Eilean Siar Local Authority\",0,new_yll(5,B275,C275,D275,$C$1,G275,1,F275,E275*F275)))","v":13.798844394622495},{"$f":"IF('III Tool Overview'!$H$6=\"Western Isles Health Board\",0,IF('III Tool Overview'!$H$6=\"Eilean Siar Local Authority\",0,new_yll(5,B275,C275,D275,$C$1,G275+H275,1,F275,E275*F275)))","v":13.798844394622495},0,{"$f":"IF('III Tool Overview'!$H$6=\"Western Isles Health Board\",0,IF('III Tool Overview'!$H$6=\"Eilean Siar Local Authority\",0,new_yll(10,B275,C275,D275,$C$1,G275,1,F275,E275*F275)))","v":29.959377276756378},{"$f":"IF('III Tool Overview'!$H$6=\"Western Isles Health Board\",0,IF('III Tool Overview'!$H$6=\"Eilean Siar Local Authority\",0,new_yll(10,B275,C275,D275,$C$1,G275+H275,1,F275,E275*F275)))","v":29.959377276756378},0,{"$f":"IF('III Tool Overview'!$H$6=\"Western Isles Health Board\",0,IF('III Tool Overview'!$H$6=\"Eilean Siar Local Authority\",0,new_yll(20,B275,C275,D275,$C$1,G275,1,F275,E275*F275)))","v":49.98041622614884},{"$f":"IF('III Tool Overview'!$H$6=\"Western Isles Health Board\",0,IF('III Tool Overview'!$H$6=\"Eilean Siar Local Authority\",0,new_yll(20,B275,C275,D275,$C$1,G275+H275,1,F275,E275*F275)))","v":49.98041622614884},0,{"$f":"IF('III Tool Overview'!$H$6=\"Western Isles Health Board\",0,IF('III Tool Overview'!$H$6=\"Eilean Siar Local Authority\",0,hosp_count(2,B275,C275,D275,$C$1,G275,1,F275,E275*F275)))","v":3.1642363326729779},{"$f":"IF('III Tool Overview'!$H$6=\"Western Isles Health Board\",0,IF('III Tool Overview'!$H$6=\"Eilean Siar Local Authority\",0,hosp_count(2,B275,C275,D275,$C$1,G275+H275,1,F275,E275*F275)))","v":3.1642363326729779},0,{"$f":"IF('III Tool Overview'!$H$6=\"Western Isles Health Board\",0,IF('III Tool Overview'!$H$6=\"Eilean Siar Local Authority\",0,hosp_count(5,B275,C275,D275,$C$1,G275,1,F275,E275*F275)))","v":12.797614176544762},{"$f":"IF('III Tool Overview'!$H$6=\"Western Isles Health Board\",0,IF('III Tool Overview'!$H$6=\"Eilean Siar Local Authority\",0,hosp_count(5,B275,C275,D275,$C$1,G275+H275,1,F275,E275*F275)))","v":12.797614176544762},0,{"$f":"IF('III Tool Overview'!$H$6=\"Western Isles Health Board\",0,IF('III Tool Overview'!$H$6=\"Eilean Siar Local Authority\",0,hosp_count(10,B275,C275,D275,$C$1,G275,1,F275,E275*F275)))","v":29.044195789472482},{"$f":"IF('III Tool Overview'!$H$6=\"Western Isles Health Board\",0,IF('III Tool Overview'!$H$6=\"Eilean Siar Local Authority\",0,hosp_count(10,B275,C275,D275,$C$1,G275+H275,1,F275,E275*F275)))","v":29.044195789472482},0,{"$f":"IF('III Tool Overview'!$H$6=\"Western Isles Health Board\",0,IF('III Tool Overview'!$H$6=\"Eilean Siar Local Authority\",0,hosp_count(20,B275,C275,D275,$C$1,G275,1,F275,E275*F275)))","v":59.374806792542515},{"$f":"IF('III Tool Overview'!$H$6=\"Western Isles Health Board\",0,IF('III Tool Overview'!$H$6=\"Eilean Siar Local Authority\",0,hosp_count(20,B275,C275,D275,$C$1,G275+H275,1,F275,E275*F275)))","v":59.374806792542515},0,null,0.5,5]
["Female 80-84",82.5,"female",5,{"$f":"HLOOKUP('III Tool Overview'!$H$6,Prevalence!$B$2:$AV$268,Prevalence!AW263,FALSE)","v":2.7272727272727271E-2},{"$f":"HLOOKUP('III Tool Overview'!$H$6,LookUpData_Pop!$B$1:$AV$269,LookUpData_Pop!BB268,FALSE)/5","v":6.4},{"$f":"'III Tool Overview'!$H$9/110","v":0},{"$f":"IF('III Tool Overview'!$H$10=\"Even distribution\",Targeting!C274,IF('III Tool Overview'!$H$10=\"Targetting to Q1\",Targeting!D274,IF('III Tool Overview'!$H$10=\"Targetting to Q1 & Q2\",Targeting!E274,IF('III Tool Overview'!$H$10=\"No variation in price elasticity\",Targeting!G274))))","v":0.15272727272727271},{"$f":"IF('III Tool Overview'!$H$6=\"Western Isles Health Board\",0,IF('III Tool Overview'!$H$6=\"Eilean Siar Local Authority\",0,new_ci(2,B276,C276,D276,$C$1,G276,1,F276,E276*F276)))","v":0.15855112661499932},{"$f":"IF('III Tool Overview'!$H$6=\"Western Isles Health Board\",0,IF('III Tool Overview'!$H$6=\"Eilean Siar Local Authority\",0,new_ci(2,B276,C276,D276,$C$1,G276+H276,1,F276,E276*F276)))","v":0.15855112661499932},{"$f":"IF('III Tool Overview'!$H$6=\"Western Isles Health Board\",0,IF('III Tool Overview'!$H$6=\"Eilean Siar Local Authority\",0,new_ci(5,B276,C276,D276,$C$1,G276,1,F276,E276*F276)))","v":0.67484400078566797},{"$f":"IF('III Tool Overview'!$H$6=\"Western Isles Health Board\",0,IF('III Tool Overview'!$H$6=\"Eilean Siar Local Authority\",0,new_ci(5,B276,C276,D276,$C$1,G276+H276,1,F276,E276*F276)))","v":0.67484400078566797},{"$f":"IF('III Tool Overview'!$H$6=\"Western Isles Health Board\",0,IF('III Tool Overview'!$H$6=\"Eilean Siar Local Authority\",0,new_ci(10,B276,C276,D276,$C$1,G276,1,F276,E276*F276)))","v":1.6627900261098256},{"$f":"IF('III Tool Overview'!$H$6=\"Western Isles Health Board\",0,IF('III Tool Overview'!$H$6=\"Eilean Siar Local Authority\",0,new_ci(10,B276,C276,D276,$C$1,G276+H276,1,F276,E276*F276)))","v":1.6627900261098256},{"$f":"IF('III Tool Overview'!$H$6=\"Western Isles Health Board\",0,IF('III Tool Overview'!$H$6=\"Eilean Siar Local Authority\",0,new_ci(20,B276,C276,D276,$C$1,G276,1,F276,E276*F276)))","v":3.901381850045853},{"$f":"IF('III Tool Overview'!$H$6=\"Western Isles Health Board\",0,IF('III Tool Overview'!$H$6=\"Eilean Siar Local Authority\",0,new_ci(20,B276,C276,D276,$C$1,G276+H276,1,F276,E276*F276)))","v":3.901381850045853},{"$f":"IF('III Tool Overview'!$H$6=\"Western Isles Health Board\",0,IF('III Tool Overview'!$H$6=\"Eilean Siar Local Authority\",0,new_yll(2,B276,C276,D276,$C$1,G276,1,F276,E276*F276)))","v":2.6953691524549885},{"$f":"IF('III Tool Overview'!$H$6=\"Western Isles Health Board\",0,IF('III Tool Overview'!$H$6=\"Eilean Siar Local Authority\",0,new_yll(2,B276,C276,D276,$C$1,G276+H276,1,F276,E276*F276)))","v":2.6953691524549885},0,{"$f":"IF('III Tool Overview'!$H$6=\"Western Isles Health Board\",0,IF('III Tool Overview'!$H$6=\"Eilean Siar Local Authority\",0,new_yll(5,B276,C276,D276,$C$1,G276,1,F276,E276*F276)))","v":10.426286876753487},{"$f":"IF('III Tool Overview'!$H$6=\"Western Isles Health Board\",0,IF('III Tool Overview'!$H$6=\"Eilean Siar Local Authority\",0,new_yll(5,B276,C276,D276,$C$1,G276+H276,1,F276,E276*F276)))","v":10.426286876753487},0,{"$f":"IF('III Tool Overview'!$H$6=\"Western Isles Health Board\",0,IF('III Tool Overview'!$H$6=\"Eilean Siar Local Authority\",0,new_yll(10,B276,C276,D276,$C$1,G276,1,F276,E276*F276)))","v":21.23430304674709},{"$f":"IF('III Tool Overview'!$H$6=\"Western Isles Health Board\",0,IF('III Tool Overview'!$H$6=\"Eilean Siar Local Authority\",0,new_yll(10,B276,C276,D276,$C$1,G276+H276,1,F276,E276*F276)))","v":21.23430304674709},0,{"$f":"IF('III Tool Overview'!$H$6=\"Western Isles Health Board\",0,IF('III Tool Overview'!$H$6=\"Eilean Siar Local Authority\",0,new_yll(20,B276,C276,D276,$C$1,G276,1,F276,E276*F276)))","v":28.988096608617685},{"$f":"IF('III Tool Overview'!$H$6=\"Western Isles Health Board\",0,IF('III Tool Overview'!$H$6=\"Eilean Siar Local Authority\",0,new_yll(20,B276,C276,D276,$C$1,G276+H276,1,F276,E276*F276)))","v":28.988096608617685},0,{"$f":"IF('III Tool Overview'!$H$6=\"Western Isles Health Board\",0,IF('III Tool Overview'!$H$6=\"Eilean Siar Local Authority\",0,hosp_count(2,B276,C276,D276,$C$1,G276,1,F276,E276*F276)))","v":2.4292670289708571},{"$f":"IF('III Tool Overview'!$H$6=\"Western Isles Health Board\",0,IF('III Tool Overview'!$H$6=\"Eilean Siar Local Authority\",0,hosp_count(2,B276,C276,D276,$C$1,G276+H276,1,F276,E276*F276)))","v":2.4292670289708571},0,{"$f":"IF('III Tool Overview'!$H$6=\"Western Isles Health Board\",0,IF('III Tool Overview'!$H$6=\"Eilean Siar Local Authority\",0,hosp_count(5,B276,C276,D276,$C$1,G276,1,F276,E276*F276)))","v":9.717139514944293},{"$f":"IF('III Tool Overview'!$H$6=\"Western Isles Health Board\",0,IF('III Tool Overview'!$H$6=\"Eilean Siar Local Authority\",0,hosp_count(5,B276,C276,D276,$C$1,G276+H276,1,F276,E276*F276)))","v":9.717139514944293},0,{"$f":"IF('III Tool Overview'!$H$6=\"Western Isles Health Board\",0,IF('III Tool Overview'!$H$6=\"Eilean Siar Local Authority\",0,hosp_count(10,B276,C276,D276,$C$1,G276,1,F276,E276*F276)))","v":21.57266199429047},{"$f":"IF('III Tool Overview'!$H$6=\"Western Isles Health Board\",0,IF('III Tool Overview'!$H$6=\"Eilean Siar Local Authority\",0,hosp_count(10,B276,C276,D276,$C$1,G276+H276,1,F276,E276*F276)))","v":21.57266199429047},0,{"$f":"IF('III Tool Overview'!$H$6=\"Western Isles Health Board\",0,IF('III Tool Overview'!$H$6=\"Eilean Siar Local Authority\",0,hosp_count(20,B276,C276,D276,$C$1,G276,1,F276,E276*F276)))","v":41.598307643606795},{"$f":"IF('III Tool Overview'!$H$6=\"Western Isles Health Board\",0,IF('III Tool Overview'!$H$6=\"Eilean Siar Local Authority\",0,hosp_count(20,B276,C276,D276,$C$1,G276+H276,1,F276,E276*F276)))","v":41.598307643606795},0,null,0.5,5]
["Female 85-89",87.5,"female",5,{"$f":"HLOOKUP('III Tool Overview'!$H$6,Prevalence!$B$2:$AV$268,Prevalence!AW264,FALSE)","v":2.7272727272727271E-2},{"$f":"HLOOKUP('III Tool Overview'!$H$6,LookUpData_Pop!$B$1:$AV$269,LookUpData_Pop!BB269,FALSE)/5","v":3.4},{"$f":"'III Tool Overview'!$H$9/110","v":0},{"$f":"IF('III Tool Overview'!$H$10=\"Even distribution\",Targeting!C275,IF('III Tool Overview'!$H$10=\"Targetting to Q1\",Targeting!D275,IF('III Tool Overview'!$H$10=\"Targetting to Q1 & Q2\",Targeting!E275,IF('III Tool Overview'!$H$10=\"No variation in price elasticity\",Targeting!G275))))","v":0.15272727272727271},{"$f":"IF('III Tool Overview'!$H$6=\"Western Isles Health Board\",0,IF('III Tool Overview'!$H$6=\"Eilean Siar Local Authority\",0,new_ci(2,B277,C277,D277,$C$1,G277,1,F277,E277*F277)))","v":0.13661960847724167},{"$f":"IF('III Tool Overview'!$H$6=\"Western Isles Health Board\",0,IF('III Tool Overview'!$H$6=\"Eilean Siar Local Authority\",0,new_ci(2,B277,C277,D277,$C$1,G277+H277,1,F277,E277*F277)))","v":0.13661960847724167},{"$f":"IF('III Tool Overview'!$H$6=\"Western Isles Health Board\",0,IF('III Tool Overview'!$H$6=\"Eilean Siar Local Authority\",0,new_ci(5,B277,C277,D277,$C$1,G277,1,F277,E277*F277)))","v":0.56623992193152861},{"$f":"IF('III Tool Overview'!$H$6=\"Western Isles Health Board\",0,IF('III Tool Overview'!$H$6=\"Eilean Siar Local Authority\",0,new_ci(5,B277,C277,D277,$C$1,G277+H277,1,F277,E277*F277)))","v":0.56623992193152861},{"$f":"IF('III Tool Overview'!$H$6=\"Western Isles Health Board\",0,IF('III Tool Overview'!$H$6=\"Eilean Siar Local Authority\",0,new_ci(10,B277,C277,D277,$C$1,G277,1,F277,E277*F277)))","v":1.3209221538080782},{"$f":"IF('III Tool Overview'!$H$6=\"Western Isles Health Board\",0,IF('III Tool Overview'!$H$6=\"Eilean Siar Local Authority\",0,new_ci(10,B277,C277,D277,$C$1,G277+H277,1,F277,E277*F277)))","v":1.3209221538080782},{"$f":"IF('III Tool Overview'!$H$6=\"Western Isles Health Board\",0,IF('III Tool Overview'!$H$6=\"Eilean Siar Local Authority\",0,new_ci(20,B277,C277,D277,$C$1,G277,1,F277,E277*F277)))","v":2.6694232879164672},{"$f":"IF('III Tool Overview'!$H$6=\"Western Isles Health Board\",0,IF('III Tool Overview'!$H$6=\"Eilean Siar Local Authority\",0,new_ci(20,B277,C277,D277,$C$1,G277+H277,1,F277,E277*F277)))","v":2.6694232879164672},{"$f":"IF('III Tool Overview'!$H$6=\"Western Isles Health Board\",0,IF('III Tool Overview'!$H$6=\"Eilean Siar Local Authority\",0,new_yll(2,B277,C277,D277,$C$1,G277,1,F277,E277*F277)))","v":1.5028156932496584},{"$f":"IF('III Tool Overview'!$H$6=\"Western Isles Health Board\",0,IF('III Tool Overview'!$H$6=\"Eilean Siar Local Authority\",0,new_yll(2,B277,C277,D277,$C$1,G277+H277,1,F277,E277*F277)))","v":1.5028156932496584},0,{"$f":"IF('III Tool Overview'!$H$6=\"Western Isles Health Board\",0,IF('III Tool Overview'!$H$6=\"Eilean Siar Local Authority\",0,new_yll(5,B277,C277,D277,$C$1,G277,1,F277,E277*F277)))","v":5.3634115541502068},{"$f":"IF('III Tool Overview'!$H$6=\"Western Isles Health Board\",0,IF('III Tool Overview'!$H$6=\"Eilean Siar Local Authority\",0,new_yll(5,B277,C277,D277,$C$1,G277+H277,1,F277,E277*F277)))","v":5.3634115541502068},0,{"$f":"IF('III Tool Overview'!$H$6=\"Western Isles Health Board\",0,IF('III Tool Overview'!$H$6=\"Eilean Siar Local Authority\",0,new_yll(10,B277,C277,D277,$C$1,G277,1,F277,E277*F277)))","v":9.1276066710289001},{"$f":"IF('III Tool Overview'!$H$6=\"Western Isles Health Board\",0,IF('III Tool Overview'!$H$6=\"Eilean Siar Local Authority\",0,new_yll(10,B277,C277,D277,$C$1,G277+H277,1,F277,E277*F277)))","v":9.1276066710289001},0,{"$f":"IF('III Tool Overview'!$H$6=\"Western Isles Health Board\",0,IF('III Tool Overview'!$H$6=\"Eilean Siar Local Authority\",0,new_yll(20,B277,C277,D277,$C$1,G277,1,F277,E277*F277)))","v":6.1450660197943172},{"$f":"IF('III Tool Overview'!$H$6=\"Western Isles Health Board\",0,IF('III Tool Overview'!$H$6=\"Eilean Siar Local Authority\",0,new_yll(20,B277,C277,D277,$C$1,G277+H277,1,F277,E277*F277)))","v":6.1450660197943172},0,{"$f":"IF('III Tool Overview'!$H$6=\"Western Isles Health Board\",0,IF('III Tool Overview'!$H$6=\"Eilean Siar Local Authority\",0,hosp_count(2,B277,C277,D277,$C$1,G277,1,F277,E277*F277)))","v":1.4962201292061093},{"$f":"IF('III Tool Overview'!$H$6=\"Western Isles Health Board\",0,IF('III Tool Overview'!$H$6=\"Eilean Siar Local Authority\",0,hosp_count(2,B277,C277,D277,$C$1,G277+H277,1,F277,E277*F277)))","v":1.4962201292061093},0,{"$f":"IF('III Tool Overview'!$H$6=\"Western Isles Health Board\",0,IF('III Tool Overview'!$H$6=\"Eilean Siar Local Authority\",0,hosp_count(5,B277,C277,D277,$C$1,G277,1,F277,E277*F277)))","v":5.8381297916372539},{"$f":"IF('III Tool Overview'!$H$6=\"Western Isles Health Board\",0,IF('III Tool Overview'!$H$6=\"Eilean Siar Local Authority\",0,hosp_count(5,B277,C277,D277,$C$1,G277+H277,1,F277,E277*F277)))","v":5.8381297916372539},0,{"$f":"IF('III Tool Overview'!$H$6=\"Western Isles Health Board\",0,IF('III Tool Overview'!$H$6=\"Eilean Siar Local Authority\",0,hosp_count(10,B277,C277,D277,$C$1,G277,1,F277,E277*F277)))","v":12.349668018164662},{"$f":"IF('III Tool Overview'!$H$6=\"Western Isles Health Board\",0,IF('III Tool Overview'!$H$6=\"Eilean Siar Local Authority\",0,hosp_count(10,B277,C277,D277,$C$1,G277+H277,1,F277,E277*F277)))","v":12.349668018164662},0,{"$f":"IF('III Tool Overview'!$H$6=\"Western Isles Health Board\",0,IF('III Tool Overview'!$H$6=\"Eilean Siar Local Authority\",0,hosp_count(20,B277,C277,D277,$C$1,G277,1,F277,E277*F277)))","v":21.18174480907706},{"$f":"IF('III Tool Overview'!$H$6=\"Western Isles Health Board\",0,IF('III Tool Overview'!$H$6=\"Eilean Siar Local Authority\",0,hosp_count(20,B277,C277,D277,$C$1,G277+H277,1,F277,E277*F277)))","v":21.18174480907706},0,null,0.5,{"$f":"2/#REF!","v":{"$error":"#REF!"}}]
["Female 90+",95,"female",5,{"$f":"HLOOKUP('III Tool Overview'!$H$6,Prevalence!$B$2:$AV$268,Prevalence!AW265,FALSE)","v":2.7272727272727271E-2},{"$f":"HLOOKUP('III Tool Overview'!$H$6,LookUpData_Pop!$B$1:$AV$269,LookUpData_Pop!BB270,FALSE)/5","v":5},{"$f":"'III Tool Overview'!$H$9/110","v":0},{"$f":"IF('III Tool Overview'!$H$10=\"Even distribution\",Targeting!C276,IF('III Tool Overview'!$H$10=\"Targetting to Q1\",Targeting!D276,IF('III Tool Overview'!$H$10=\"Targetting to Q1 & Q2\",Targeting!E276,IF('III Tool Overview'!$H$10=\"No variation in price elasticity\",Targeting!G276))))","v":6.545454545454546E-2},{"$f":"IF('III Tool Overview'!$H$6=\"Western Isles Health Board\",0,IF('III Tool Overview'!$H$6=\"Eilean Siar Local Authority\",0,new_ci(2,B278,C278,D278,$C$1,G278,1,F278,E278*F278)))","v":0.35094353904237208},{"$f":"IF('III Tool Overview'!$H$6=\"Western Isles Health Board\",0,IF('III Tool Overview'!$H$6=\"Eilean Siar Local Authority\",0,new_ci(2,B278,C278,D278,$C$1,G278+H278,1,F278,E278*F278)))","v":0.35094353904237208},{"$f":"IF('III Tool Overview'!$H$6=\"Western Isles Health Board\",0,IF('III Tool Overview'!$H$6=\"Eilean Siar Local Authority\",0,new_ci(5,B278,C278,D278,$C$1,G278,1,F278,E278*F278)))","v":1.3810498904762407},{"$f":"IF('III Tool Overview'!$H$6=\"Western Isles Health Board\",0,IF('III Tool Overview'!$H$6=\"Eilean Siar Local Authority\",0,new_ci(5,B278,C278,D278,$C$1,G278+H278,1,F278,E278*F278)))","v":1.3810498904762407},{"$f":"IF('III Tool Overview'!$H$6=\"Western Isles Health Board\",0,IF('III Tool Overview'!$H$6=\"Eilean Siar Local Authority\",0,new_ci(10,B278,C278,D278,$C$1,G278,1,F278,E278*F278)))","v":2.9110301860266237},{"$f":"IF('III Tool Overview'!$H$6=\"Western Isles Health Board\",0,IF('III Tool Overview'!$H$6=\"Eilean Siar Local Authority\",0,new_ci(10,B278,C278,D278,$C$1,G278+H278,1,F278,E278*F278)))","v":2.9110301860266237},{"$f":"IF('III Tool Overview'!$H$6=\"Western Isles Health Board\",0,IF('III Tool Overview'!$H$6=\"Eilean Siar Local Authority\",0,new_ci(20,B278,C278,D278,$C$1,G278,1,F278,E278*F278)))","v":4.6734373816402162},{"$f":"IF('III Tool Overview'!$H$6=\"Western Isles Health Board\",0,IF('III Tool Overview'!$H$6=\"Eilean Siar Local Authority\",0,new_ci(20,B278,C278,D278,$C$1,G278+H278,1,F278,E278*F278)))","v":4.6734373816402162},{"$f":"IF('III Tool Overview'!$H$6=\"Western Isles Health Board\",0,IF('III Tool Overview'!$H$6=\"Eilean Siar Local Authority\",0,new_yll(2,B278,C278,D278,$C$1,G278,1,F278,E278*F278)))","v":1.4037741561694883},{"$f":"IF('III Tool Overview'!$H$6=\"Western Isles Health Board\",0,IF('III Tool Overview'!$H$6=\"Eilean Siar Local Authority\",0,new_yll(2,B278,C278,D278,$C$1,G278+H278,1,F278,E278*F278)))","v":1.4037741561694883},0,{"$f":"IF('III Tool Overview'!$H$6=\"Western Isles Health Board\",0,IF('III Tool Overview'!$H$6=\"Eilean Siar Local Authority\",0,new_yll(5,B278,C278,D278,$C$1,G278,1,F278,E278*F278)))","v":3.4746095795970362},{"$f":"IF('III Tool Overview'!$H$6=\"Western Isles Health Board\",0,IF('III Tool Overview'!$H$6=\"Eilean Siar Local Authority\",0,new_yll(5,B278,C278,D278,$C$1,G278+H278,1,F278,E278*F278)))","v":3.4746095795970362},0,{"$f":"IF('III Tool Overview'!$H$6=\"Western Isles Health Board\",0,IF('III Tool Overview'!$H$6=\"Eilean Siar Local Authority\",0,new_yll(10,B278,C278,D278,$C$1,G278,1,F278,E278*F278)))","v":0.54154682884744743},{"$f":"IF('III Tool Overview'!$H$6=\"Western Isles Health Board\",0,IF('III Tool Overview'!$H$6=\"Eilean Siar Local Authority\",0,new_yll(10,B278,C278,D278,$C$1,G278+H278,1,F278,E278*F278)))","v":0.54154682884744743},0,{"$f":"IF('III Tool Overview'!$H$6=\"Western Isles Health Board\",0,IF('III Tool Overview'!$H$6=\"Eilean Siar Local Authority\",0,new_yll(20,B278,C278,D278,$C$1,G278,1,F278,E278*F278)))","v":-14.612822960975926},{"$f":"IF('III Tool Overview'!$H$6=\"Western Isles Health Board\",0,IF('III Tool Overview'!$H$6=\"Eilean Siar Local Authority\",0,new_yll(20,B278,C278,D278,$C$1,G278+H278,1,F278,E278*F278)))","v":-14.612822960975926},0,{"$f":"IF('III Tool Overview'!$H$6=\"Western Isles Health Board\",0,IF('III Tool Overview'!$H$6=\"Eilean Siar Local Authority\",0,hosp_count(2,B278,C278,D278,$C$1,G278,1,F278,E278*F278)))","v":2.6146371277417728},{"$f":"IF('III Tool Overview'!$H$6=\"Western Isles Health Board\",0,IF('III Tool Overview'!$H$6=\"Eilean Siar Local Authority\",0,hosp_count(2,B278,C278,D278,$C$1,G278+H278,1,F278,E278*F278)))","v":2.6146371277417728},0,{"$f":"IF('III Tool Overview'!$H$6=\"Western Isles Health Board\",0,IF('III Tool Overview'!$H$6=\"Eilean Siar Local Authority\",0,hosp_count(5,B278,C278,D278,$C$1,G278,1,F278,E278*F278)))","v":9.719689486699842},{"$f":"IF('III Tool Overview'!$H$6=\"Western Isles Health Board\",0,IF('III Tool Overview'!$H$6=\"Eilean Siar Local Authority\",0,hosp_count(5,B278,C278,D278,$C$1,G278+H278,1,F278,E278*F278)))","v":9.719689486699842},0,{"$f":"IF('III Tool Overview'!$H$6=\"Western Isles Health Board\",0,IF('III Tool Overview'!$H$6=\"Eilean Siar Local Authority\",0,hosp_count(10,B278,C278,D278,$C$1,G278,1,F278,E278*F278)))","v":18.803174110347467},{"$f":"IF('III Tool Overview'!$H$6=\"Western Isles Health Board\",0,IF('III Tool Overview'!$H$6=\"Eilean Siar Local Authority\",0,hosp_count(10,B278,C278,D278,$C$1,G278+H278,1,F278,E278*F278)))","v":18.803174110347467},0,{"$f":"IF('III Tool Overview'!$H$6=\"Western Isles Health Board\",0,IF('III Tool Overview'!$H$6=\"Eilean Siar Local Authority\",0,hosp_count(20,B278,C278,D278,$C$1,G278,1,F278,E278*F278)))","v":27.006664199616136},{"$f":"IF('III Tool Overview'!$H$6=\"Western Isles Health Board\",0,IF('III Tool Overview'!$H$6=\"Eilean Siar Local Authority\",0,hosp_count(20,B278,C278,D278,$C$1,G278+H278,1,F278,E278*F278)))","v":27.006664199616136},0]
["TOTAL",null,null,null,null,{"$f":"SUM(F263:F278)","v":274.39999999999992},{"$f":"SUM(G263:G278)","v":0},{"$f":"SUM(H263:H278)","v":16.058181818181815},{"$f":"SUM(I263:I278)","v":1.448397499795693},{"$f":"SUM(J263:J278)","v":1.4481509386243632},{"$f":"SUM(K263:K278)","v":6.1327666641066294},{"$f":"SUM(L263:L278)","v":6.1317092488521041},{"$f":"SUM(M263:M278)","v":15.073890465205718},{"$f":"SUM(N263:N278)","v":15.071237659848734},{"$f":"SUM(O263:O278)","v":37.189031418188222},{"$f":"SUM(P263:P278)","v":37.182396647566932},{"$f":"SUM(Q263:Q278)","v":33.399895733766762},{"$f":"SUM(R263:R278)","v":33.389325295485008},{"$f":"SUM(S263:S278)","v":1.057043828175297E-2},{"$f":"SUM(T263:T278)","v":135.75752056082572},{"$f":"SUM(U263:U278)","v":135.71361970581162},{"$f":"SUM(V263:V278)","v":4.3900855014111118E-2},{"$f":"SUM(W263:W278)","v":311.89072220573473},{"$f":"SUM(X263:X278)","v":311.78662370873451},{"$f":"SUM(Y263:Y278)","v":0.10409849700022988},{"$f":"SUM(Z263:Z278)","v":674.15889060540394},{"$f":"SUM(AA263:AA278)","v":673.92621875723046},{"$f":"SUM(AB263:AB278)","v":0.2326718481734904},{"$f":"SUM(AC263:AC278)","v":51.179723006846203},{"$f":"SUM(AD263:AD278)","v":51.167398261994478},{"$f":"SUM(AE263:AE278)","v":1.2324744851724634E-2},{"$f":"SUM(AF263:AF278)","v":209.69578572844085},{"$f":"SUM(AG263:AG278)","v":209.64569955562979},{"$f":"SUM(AH263:AH278)","v":5.0086172811122598E-2},{"$f":"SUM(AI263:AI278)","v":489.91518463186492},{"$f":"SUM(AJ263:AJ278)","v":489.80013061670735},{"$f":"SUM(AK263:AK278)","v":0.11505401515749902},{"$f":"SUM(AL263:AL278)","v":1104.8239122703849},{"$f":"SUM(AM263:AM278)","v":1104.5777494636407},{"$f":"SUM(AN263:AN278)","v":0.24616280674416657}]

{"sheet":"Baseline_Data_2012","index":3,"n_rows":286,"n_cols":96,"rows_kept":286,"cut":false,"hidden":false,"merged":[]}
[null,"Estimated number of smokers in the population (2012)",null,null,null,null,null,null,null,null,null,null,null,null,null,null,null,null,null,null,null,null,null,null,null,null,null,null,null,null,null,null,null,null,null,null,null,null,null,null,null,null,null,null,null,null,null,null,null,"Mid-year population estimates (2012)"]
["Smoking prevalence (2012)","Scotland","Ayrshire & Arran Health Board","Borders Health Board","Dumfries & Galloway Health Board","Fife Health Board","Forth Valley Health Board","Grampian Health Board","Greater Glasgow & Clyde Health Board","Highland Health Board","Lanarkshire Health Board","Lothian Health Board","Orkney Health Board","Shetland Health Board","Tayside Health Board","Western Isles Health Board","Aberdeen City Local Authority","Aberdeenshire Local Authority","Angus Local Authority","Argyll & Bute Local Authority","Clackmannanshire Local Authority","Dumfries & Galloway Local Authority","Dundee City Local Authority","East Ayrshire Local Authority","East Dunbartonshire Local Authority","East Lothian Local Authority","East Renfrewshire Local Authority","Edinburgh, City of Local Authority","Eilean Siar Local Authority","Falkirk Local Authority","Fife Local Authority","Glasgow City Local Authority","Highland Local Authority","Inverclyde Local Authority","Midlothian Local Authority","Moray Local Authority","North Ayrshire Local Authority","North Lanarkshire Local Authority","Orkney Islands Local Authority","Perth & Kinross Local Authority","Renfrewshire Local Authority","Scottish Borders Local Authority","Shetland Islands Local Authority","South Ayrshire Local Authority","South Lanarkshire Local Authority","Stirling Local Authority","West Dunbartonshire Local Authority","West Lothian Local Authority",1,"Scotland","Ayrshire & Arran Health Board","Borders Health Board","Dumfries & Galloway Health Board","Fife Health Board","Forth Valley Health Board","Grampian Health Board","Greater Glasgow & Clyde Health Board","Highland Health Board","Lanarkshire Health Board","Lothian Health Board","Orkney Health Board","Shetland Health Board","Tayside Health Board","Western Isles Health Board","Aberdeen City Local Authority","Aberdeenshire Local Authority","Angus Local Authority","Argyll & Bute Local Authority","Clackmannanshire Local Authority","Dumfries & Galloway Local Authority","Dundee City Local Authority","East Ayrshire Local Authority","East Dunbartonshire Local Authority","East Lothian Local Authority","East Renfrewshire Local Authority","Edinburgh, City of Local Authority","Eilean Siar Local Authority","Falkirk Local Authority","Fife Local Authority","Glasgow City Local Authority","Highland Local Authority","Inverclyde Local Authority","Midlothian Local Authority","Moray Local Authority","North Ayrshire Local Authority","North Lanarkshire Local Authority","Orkney Islands Local Authority","Perth & Kinross Local Authority","Renfrewshire Local Authority","Scottish Borders Local Authority","Shetland Islands Local Authority","South Ayrshire Local Authority","South Lanarkshire Local Authority","Stirling Local Authority","West Dunbartonshire Local Authority","West Lothian Local Authority"]
["All, by SIMD",null,null,null,null,null,null,null,null,null,null,null,null,null,null,null,null,null,null,null,null,null,null,null,null,null,null,null,null,null,null,null,null,null,null,null,null,null,null,null,null,null,null,null,null,null,null,null,2]
["Total",null,null,null,null,null,null,null,null,null,null,null,null,null,null,null,null,null,null,null,null,null,null,null,null,null,null,null,null,null,null,null,null,null,null,null,null,null,null,null,null,null,null,null,null,null,null,null,3]
["Q 1",{"$f":"B12+B19","v":298435.01},{"$f":"C12+C19","v":35989.092121212125},1122.0215151515149,3493.9778787878786,18603.576818181817,9910.8462121212142,10345.377500000001,134907.75374999997,6832.2179545454546,41028.973636363633,24161.381249999999,0,0,21743.193787878787,0,8413.784583333334,1445.7354545454546,2355.144772727273,2204.0450757575754,3731.0696969696974,3493.9778787878786,19066.251818181823,14920.211590909094,432.72454545454536,1103.1128409090907,1100.7249999999999,13712.082954545454,0,4815.7069696969693,18603.576818181817,100218.95223484849,4505.8793181818182,12220.612499999999,1989.3619696969695,326.15363636363634,19471.803484848482,30908.995833333334,0,2320.6144696969695,16428.205037878786,1122.0215151515149,0,3961.4745833333327,17573.472727272725,1840.2696969696972,11867.733030303028,7242.7746212121219,4,{"$f":"AX12+AX19","v":827297},{"$f":"AY12+AY19","v":82725},4335,9141,52803,34197,27635,351807,20764,110989,76000,0,0,56901,0,22977,3748,6325,5685,10688,9141,43732,29485,2988,3179,5379,47723,0,16797,52803,232647,15079,28142,4661,910,38576,83651,0,6844,39023,4335,0,14664,46602,6712,24364,20437]
["Q 2",{"$f":"B13+B20","v":241046.72},27328.364924242429,2456.7106060606061,7668.1001515151511,16925.98909090909,13448.251666666665,16082.467424242426,53732.321249999994,12338.370227272728,37851.282272727272,33156.188522727265,983.6875,112.5289393939394,16576.25621212121,2087.4554545454544,9777.7150378787865,3761.752840909091,4570.6379545454547,3675.1840909090906,2132.4000000000005,7668.1001515151511,8629.4300000000021,11995.224469696968,1587.6042424242423,4366.8435606060602,1037.6949999999999,13045.832045454546,2087.4554545454544,8291.3720454545473,16925.98909090909,32172.371780303027,8402.8845454545426,3259.5646590909087,6161.6584848484845,2341.4236363636364,9935.4726515151506,23211.578333333331,983.6875,3838.0855303030307,7196.4201136363627,2456.7106060606061,112.5289393939394,5283.6824242424245,17684.721818181817,3183.4151515151516,8466.5921212121193,11304.513257575758,5,{"$f":"AX13+AX20","v":863977},82274,12880,26392,62528,58559,56784,179761,48954,132049,134916,3794,535,56356,8195,34958,13091,16220,12550,7726,26392,25539,30776,14363,16734,6662,58331,8195,35950,62528,94740,36404,9711,18506,8735,25755,80554,3794,14597,22157,12880,535,25743,61050,14883,22573,41345]
["Q 3",196268.21000000002,13242.595871212121,4652.9627272727275,10639.590378787878,12780.062727272727,8475.5801515151506,22841.584015151515,35800.171249999999,16437.298181818183,23211.869545454545,26360.291250000002,634.67727272727279,1239.7437121212122,13839.748333333333,2924.6258333333335,7103.999545454546,9300.522272727274,5182.7606818181812,6008.6443939393921,2201.7806060606063,10639.590378787878,4460.6518181818183,3951.0056060606066,667.64787878787888,3599.5935984848479,651.19499999999994,12201.786136363637,2924.6258333333335,4454.431590909091,12780.062727272727,18419.886174242423,10309.09409090909,2496.6367045454544,4477.6133333333337,6317.5928409090911,5162.5076515151522,11946.009583333333,634.67727272727279,4055.063712121213,8165.6461742424235,4652.9627272727275,1239.7437121212122,3361.4971212121213,14348.193636363636,2034.6931818181824,4864.3757575757572,7003.6649242424246,6,903408,51437,31058,48110,60500,47823,103426,151211,85706,104049,134256,3090,7387,61106,14249,32158,41875,23515,26883,10426,48110,16832,12987,7807,17808,5512,67108,14249,25104,60500,67130,58823,9542,17485,29393,17532,53096,3090,20759,32129,31058,7387,20918,63363,12293,16681,31855]
["Q 4",165800.52000000002,10701.220946969697,5177.6368181818179,6121.4235984848492,10803.52227272727,7612.7034848484845,24240.622348484845,27509.305,13907.34147727273,12036.298636363637,21409.147727272732,1909.5227272727273,1434.4559848484851,20127.985454545451,95.076931818181833,4767.3801893939399,14635.065681818181,6934.3263636363645,3890.5383333333334,1254.5484848484848,6121.4235984848492,3443.2127272727271,4086.6694696969698,1086.6451515151514,4992.6095833333311,1264.4375000000002,9129.6586363636361,95.076931818181833,3653.5856060606066,10803.52227272727,13306.14674242424,9577.6279545454563,2547.2190909090905,3508.8962121212126,4991.0956818181821,5176.7140909090904,6300.6187499999996,1909.5227272727273,8981.3017424242425,4159.7825757575756,5177.6368181818179,1434.4559848484851,1699.9097727272729,8763.1809090909082,2761.2007575757575,1667.8636363636363,4509.3962878787879,7,917261,48937,40469,33582,61592,53156,128620,140726,85540,63569,133577,10526,9657,106768,542,25785,75272,36598,20561,7406,33582,16371,15713,15864,29640,12519,63866,542,25417,61592,59563,64979,11818,16067,27563,20258,32583,10526,53799,19622,40469,9657,12966,45446,20333,6880,24004]
["Q 5",90874.12,5113.4968181818185,401.33696969696973,937.91371212121203,6411.1740909090913,4349.2612121212123,17083.962878787883,19826.182500000003,2156.3189772727274,6316.5777272727282,20014.397954545457,52.572727272727278,104.09386363636365,6405.331212121212,0,8042.9705681818195,8040.0194318181802,1308.1543181818183,759.81954545454539,568.969696969697,937.91371212121203,2680.0327272727277,1780.1348484848486,1795.5187878787874,1380.3842045454546,2401.8262500000001,14067.833181818183,0,2187.1900757575759,6411.1740909090913,5692.4038636363648,1380.7474999999999,963.60272727272718,1458.7560606060606,970.56363636363653,1472.9192424242424,2559.8529166666667,52.572727272727278,2388.3703409090908,3740.7088257575761,401.33696969696973,104.09386363636365,1449.1925757575755,4562.6163636363635,1559.7272727272725,563.65151515151524,2380.019772727273,8,886986,43830,5836,8989,64423,51853,159632,184037,23896,59157,221615,548,1227,61943,0,76189,73798,13574,7152,5868,8989,21600,12197,46372,14719,43101,172191,0,25109,64423,44737,16744,8064,11586,9645,11269,23545,548,26769,30979,5836,1227,20364,42467,20876,3929,23119]
["Males, by SIMD",null,null,null,null,null,null,null,null,null,null,null,null,null,null,null,null,null,null,null,null,null,null,null,null,null,null,null,null,null,null,null,null,null,null,null,null,null,null,null,null,null,null,null,null,null,null,null,9]
["Males",null,null,null,null,null,null,null,null,null,null,null,null,null,null,null,null,null,null,null,null,null,null,null,null,null,null,null,null,null,null,null,null,null,null,null,null,null,null,null,null,null,null,null,null,null,null,null,10]
["Q 1",{"$f":"SUM(B70:B85)","v":155352.40000000002},{"$f":"SUM(C70:C85)","v":19732.171666666669},681.33333333333314,1801.0833333333337,9967.6799999999985,4292.7066666666678,5887.6025,73628.853749999995,3456.4775000000004,20950.349999999999,12827.596249999999,0,0,11569.133333333331,0,4667.489583333333,868.1400000000001,1463.1875000000002,1169.2741666666666,1349.8733333333332,1801.0833333333337,8201.3500000000022,7759.3525000000018,187.76999999999995,493.64375000000001,609.42499999999995,6984.8774999999996,0,1848.1633333333334,9967.6799999999985,56030.730416666673,2153.1975000000002,7144.8574999999992,1001.8983333333333,205.01999999999995,11167.376666666663,16458.395833333332,0,1361.7708333333333,8788.5345833333304,681.33333333333314,0,2174.114583333333,8747.7999999999975,1038.3083333333336,5951.746666666666,4669.7491666666674,11,{"$f":"SUM(AX70:AX85)","v":389751},{"$f":"SUM(AY70:AY85)","v":38718},2046,4358,25042,16176,13494,164181,9910,52452,36388,0,0,26986,0,11107,1926,2966,2724,5029,4358,20740,13866,1387,1536,2429,23004,0,8015,25042,108784,7186,13126,2167,461,17841,39545,0,3280,18316,2046,0,7011,21879,3132,11167,9681]
["Q 2",{"$f":"SUM(B111:B126)","v":115217.12000000001},{"$f":"SUM(C111:C126)","v":13571.205833333337},1379.1583333333333,3500.9583333333335,8260.1099999999988,5219.0866666666661,8330.508333333335,27537.941249999996,5532.2225000000008,17540.16,15993.661249999996,630.06250000000011,62.351666666666659,8297.5316666666658,1376.0899999999997,5065.114583333333,1948.48875,2672.1125000000002,1713.075,689.98,3500.9583333333335,3422.5500000000006,5670.5058333333327,615.71333333333337,1667.1708333333331,537.39999999999986,6096.9975000000004,1376.0899999999997,2802.4325000000003,8260.1099999999988,17320.255416666667,3555.93,1783.0587499999997,2796.4766666666665,1232.0999999999999,5207.0608333333321,11232.208333333332,630.06250000000011,2186.479166666667,3507.6587499999996,1379.1583333333333,62.351666666666659,2545.4933333333333,7993.38,1657.9083333333333,3901.5466666666666,6822.5641666666661,12,{"$f":"SUM(AX111:AX126)","v":412002},{"$f":"SUM(AY111:AY126)","v":38362},6115,12480,29849,27868,27456,86156,23198,62560,64366,1891,248,27465,3988,17185,6278,7724,5910,3682,12480,12408,14563,6641,7718,3073,28166,3988,17184,29849,46398,17288,4637,8705,3993,11940,38177,1891,7333,10445,6115,248,11859,28820,7002,10525,19777]
["Q 3",{"$f":"SUM(B152:B167)","v":99225.260000000009},{"$f":"SUM(C152:C167)","v":7084.6754166666669},2758,5206.8958333333339,6553.619999999999,3569.0733333333333,12349.945833333331,19097.021250000002,7935.3050000000003,11400.92,13518.95125,420.07500000000005,764.39916666666682,7055.208333333333,1998.5958333333335,3834.5,5099.3099999999995,3143.2624999999994,2960.2516666666661,832.59333333333325,5206.8958333333339,1816.5500000000002,2092.0483333333336,310.34333333333336,1473.6954166666665,359.09999999999997,6030.9525000000003,1998.5958333333335,1612.5725000000002,6553.619999999999,10136.057083333333,4752.2849999999999,1411.94625,2160.6083333333331,3584.3737499999993,2873.0058333333341,6143.2395833333321,420.07500000000005,2272.229166666667,4187.6120833333325,2758,764.39916666666682,1736.6316666666669,6831.3499999999995,1116.9250000000004,2402.4666666666662,4465.395833333333,13,{"$f":"SUM(AX152:AX167)","v":437404},{"$f":"SUM(AY152:AY167)","v":24815},15125,23237,29045,23314,50486,72881,41654,49706,65600,1541,3760,29222,7018,15973,20369,11321,12802,5348,23237,7973,6549,3991,8233,2589,33405,7018,12111,29045,32782,28852,4530,8264,14144,8270,25493,1541,9928,15277,15125,3760,9996,29980,5855,7945,15698]
["Q 4",{"$f":"SUM(B193:B208)","v":95762.660000000018},{"$f":"SUM(C193:C208)","v":6399.0845833333342},3353.4,3446.8854166666674,6290.4599999999991,3681.6466666666661,15006.149166666666,16608.915000000001,7737.8087500000011,6802.91,12530.560000000001,1371.875,980.05416666666679,11765.519999999999,68.858750000000015,2974.447916666667,9149.5125000000007,4692.95,2209.4583333333335,518.60666666666668,3446.8854166666674,1642.9799999999996,2344.3708333333329,528.11333333333323,2449.3295833333327,778.16250000000014,5213.1449999999986,68.858750000000015,1575.8283333333336,6290.4599999999991,8350.4958333333325,5102.7825000000003,1594.12,1980.9416666666671,3221.3925000000004,3256.6949999999993,3693.46875,1371.875,5690.7708333333339,2415.9416666666666,3353.4,980.05416666666679,983.5825000000001,4855.2499999999991,1702.6166666666668,949.8,3115.0108333333337,14,{"$f":"SUM(AX193:AX208)","v":443284},{"$f":"SUM(AY193:AY208)","v":23284},19398,16220,29583,25530,63356,67114,41524,30739,64627,5161,4856,51650,242,12658,37207,17867,9875,3582,16220,7672,7561,7525,14290,5806,30920,242,12279,29583,28650,31649,5489,7825,13491,9671,15774,5161,26111,9332,19398,4856,6052,21945,9669,3332,11592]
["Q 5",{"$f":"SUM(B234:B249)","v":42636.01},{"$f":"SUM(C234:C249)","v":2549.44},222.75833333333338,427.97916666666669,3058.1899999999996,1667.8666666666666,8763.0183333333334,9799.3125000000018,982.58124999999995,2907.57,9394.8575000000019,32.5,60.197500000000012,2995.936666666667,0,4037.46875,4191.3112499999988,741.16249999999991,382.005,179.83333333333337,427.97916666666669,977.56000000000006,835.69166666666661,700.12333333333311,539.71875,1240.10625,6212.8950000000004,0,747.94416666666666,3058.1899999999996,2879.0475000000006,577.74750000000006,514.58000000000004,668.20833333333337,548.28000000000009,787.70833333333337,1242.0729166666667,32.5,1244.7812499999998,1818.8679166666666,222.75833333333338,60.197500000000012,701.70166666666637,2033.54,791.55,265.53333333333336,1448.3325000000002,15,{"$f":"SUM(AX234:AX249)","v":426819},{"$f":"SUM(AY234:AY249)","v":20830},2777,4282,30901,25128,78762,87772,11577,28631,106120,264,617,29158,0,37451,36381,6379,3628,2795,4282,10122,5844,22159,7055,20355,81978,0,12451,30901,21308,7949,3830,5593,4930,5390,11501,264,12657,14977,2777,617,9596,20344,9882,1929,11494]
["Females, by SIMD",null,null,null,null,null,null,null,null,null,null,null,null,null,null,null,null,null,null,null,null,null,null,null,null,null,null,null,null,null,null,null,null,null,null,null,null,null,null,null,null,null,null,null,null,null,null,null,16]
["Females",null,null,null,null,null,null,null,null,null,null,null,null,null,null,null,null,null,null,null,null,null,null,null,null,null,null,null,null,null,null,null,null,null,null,null,null,null,null,null,null,null,null,null,null,null,null,null,17]
["Q 1",{"$f":"SUM(B90:B105)","v":143082.60999999999},{"$f":"SUM(C90:C105)","v":16256.920454545456},440.68818181818182,1692.8945454545451,8635.8968181818182,5618.1395454545454,4457.7750000000005,61278.899999999994,3375.7404545454542,20078.623636363634,11333.785,0,0,10174.060454545455,0,3746.2950000000001,577.59545454545457,891.95727272727277,1034.7709090909091,2381.1963636363639,1692.8945454545451,10864.901818181819,7160.8590909090908,244.95454545454541,609.46909090909071,491.30000000000007,6727.2054545454557,0,2967.5436363636359,8635.8968181818182,44188.221818181824,2352.6818181818176,5075.7549999999992,987.46363636363617,121.13363636363638,8304.4268181818188,14450.6,0,958.84363636363639,7639.6704545454559,440.68818181818182,0,1787.36,8825.6727272727276,801.96136363636356,5915.9863636363625,2573.0254545454541,18,{"$f":"SUM(AX90:AX105)","v":437546},{"$f":"SUM(AY90:AY105)","v":44007},2289,4783,27761,18021,14141,187626,10854,58537,39612,0,0,29915,0,11870,1822,3359,2961,5659,4783,22992,15619,1601,1643,2950,24719,0,8782,27761,123863,7893,15016,2494,449,20735,44106,0,3564,20707,2289,0,7653,24723,3580,13197,10756]
["Q 2",{"$f":"SUM(B131:B146)","v":125829.59999999999},{"$f":"SUM(C131:C146)","v":13757.159090909092},1077.5522727272728,4167.1418181818181,8665.8790909090894,8229.1649999999991,7751.9590909090921,26194.38,6806.1477272727279,20311.122272727273,17162.527272727268,353.62499999999994,50.177272727272729,8278.7245454545464,711.36545454545455,4712.6004545454534,1813.2640909090908,1898.525454545455,1962.1090909090906,1442.4200000000003,4167.1418181818181,5206.880000000001,6324.7186363636356,971.89090909090908,2699.6727272727271,500.29500000000007,6948.8345454545461,711.36545454545455,5488.9395454545465,8665.8790909090894,14852.11636363636,4846.9545454545432,1476.505909090909,3365.181818181818,1109.3236363636363,4728.4118181818185,11979.37,353.62499999999994,1651.6063636363638,3688.7613636363635,1077.5522727272728,50.177272727272729,2738.1890909090912,9691.3418181818179,1525.5068181818181,4565.0454545454531,4481.9490909090919,2200,451975,43912,6765,13912,32679,30691,29328,93605,25756,69489,70550,1903,287,28891,4207,17773,6813,{"$f":"SUM(BO131:BO146)","v":8496},6640,4044,13912,13131,16213,7722,9016,3589,30165,4207,18766,32679,48342,19116,5074,9801,4742,13815,42377,1903,7264,11712,6765,287,13884,32230,7881,12048,21568]
["Q 3",{"$f":"SUM(B172:B187)","v":97042.95},{"$f":"SUM(C172:C187)","v":6157.920454545455},1894.9627272727273,5432.6945454545448,6226.442727272728,4906.5068181818178,10491.638181818182,16703.149999999998,8501.9931818181831,11810.949545454545,12841.340000000002,214.60227272727272,475.34454545454531,6784.54,926.03,3269.4995454545456,4201.2122727272736,2039.4981818181823,3048.3927272727265,1369.1872727272728,5432.6945454545448,2644.1018181818181,1858.9572727272728,357.30454545454546,2125.8981818181815,292.09499999999997,6170.8336363636372,926.03,2841.8590909090908,6226.442727272728,8283.8290909090902,5556.8090909090906,1084.6904545454545,2317.0050000000006,2733.2190909090918,2289.5018181818182,5802.77,214.60227272727272,1782.8345454545458,3978.0340909090905,1894.9627272727273,475.34454545454531,1624.8654545454544,7516.8436363636365,917.76818181818192,2461.909090909091,2538.2690909090916,20,{"$f":"SUM(AX172:AX187)","v":466004},{"$f":"SUM(AY172:AY187)","v":26622},15933,24873,31455,24509,52940,78330,44052,54343,68656,1549,3627,31884,7231,16185,21506,12194,14081,5078,24873,8859,6438,3816,9575,2923,33703,7231,12993,31455,34348,29971,5012,9221,15249,9262,27603,1549,10831,16852,15933,3627,10922,33383,6438,8736,16157]
["Q 4",{"$f":"SUM(B213:B228)","v":70037.86},{"$f":"SUM(C213:C228)","v":4302.136363636364},1824.2368181818183,2674.5381818181818,4513.0622727272721,3931.0568181818185,9234.4731818181808,10900.39,6169.5327272727282,5233.3886363636366,8878.5877272727303,537.64772727272725,454.40181818181816,8362.4654545454541,26.218181818181815,1792.9322727272729,5485.5531818181817,2241.3763636363642,1681.08,735.94181818181812,2674.5381818181818,1800.2327272727275,1742.2986363636367,558.53181818181815,2543.2799999999988,486.27500000000003,3916.513636363637,26.218181818181815,2077.7572727272727,4513.0622727272721,4955.6509090909085,4474.8454545454551,953.09909090909082,1527.9545454545457,1769.703181818182,1920.0190909090911,2607.1499999999996,537.64772727272725,3290.5309090909095,1743.840909090909,1824.2368181818183,454.40181818181816,716.32727272727288,3907.9309090909101,1058.5840909090907,718.06363636363631,1394.3854545454546,21,{"$f":"SUM(AX213:AX228)","v":473977},{"$f":"SUM(AY213:AY228)","v":25653},21071,17362,32009,27626,65264,73612,44016,32830,68950,5365,4801,55118,300,13127,38065,18731,10686,3824,17362,8699,8152,8339,15350,6713,32946,300,13138,32009,30913,33330,6329,8242,14072,10587,16809,5365,27688,10290,21071,4801,6914,23501,10664,3548,12412]
["Q 5",{"$f":"SUM(B254:B269)","v":48238.109999999993},{"$f":"SUM(C254:C269)","v":2564.0568181818185},178.57863636363638,509.9345454545454,3352.9840909090913,2681.394545454546,8320.9445454545476,10026.870000000001,1173.7377272727274,3409.0077272727276,10619.540454545453,20.072727272727274,43.896363636363638,3409.3945454545451,0,4005.5018181818195,3848.7081818181819,566.9918181818183,377.8145454545454,389.13636363636357,509.9345454545454,1702.4727272727275,944.44318181818187,1095.3954545454544,840.66545454545462,1161.7199999999998,7854.9381818181819,0,1439.245909090909,3352.9840909090913,2813.3563636363642,802.99999999999989,449.0227272727272,790.54772727272734,422.28363636363639,685.21090909090913,1317.78,20.072727272727274,1143.5890909090911,1921.8409090909092,178.57863636363638,43.896363636363638,747.49090909090921,2529.0763636363636,768.17727272727268,298.11818181818182,931.68727272727278,22,{"$f":"SUM(AX254:AX269)","v":460167},{"$f":"SUM(AY254:AY269)","v":23000},3059,4707,33522,26725,80870,96265,12319,30526,115495,284,610,32785,0,38738,37417,7195,3524,3073,4707,11478,6353,24213,7664,22746,90213,0,12658,33522,23429,8795,4234,5993,4715,5879,12044,284,14112,16002,3059,610,10768,22123,10994,2000,11625]
["age/sex breakdown: All",null,null,null,null,null,null,null,null,null,null,null,null,null,null,null,null,null,null,null,null,null,null,null,null,null,null,null,null,null,null,null,null,null,null,null,null,null,null,null,null,null,null,null,null,null,null,null,23]
["Male <1",null,null,null,null,null,null,null,null,null,null,null,null,null,null,null,null,null,null,null,null,null,null,null,null,null,null,null,null,null,null,null,null,null,null,null,null,null,null,null,null,null,null,null,null,null,null,null,24]
["Male 1-4",null,null,null,null,null,null,null,null,null,null,null,null,null,null,null,null,null,null,null,null,null,null,null,null,null,null,null,null,null,null,null,null,null,null,null,null,null,null,null,null,null,null,null,null,null,null,null,25]
["Male 5-9",null,null,null,null,null,null,null,null,null,null,null,null,null,null,null,null,null,null,null,null,null,null,null,null,null,null,null,null,null,null,null,null,null,null,null,null,null,null,null,null,null,null,null,null,null,null,null,26]
["Male 10-14",null,null,null,null,null,null,null,null,null,null,null,null,null,null,null,null,null,null,null,null,null,null,null,null,null,null,null,null,null,null,null,null,null,null,null,null,null,null,null,null,null,null,null,null,null,null,null,27]
["Male 15-19 (16+)",{"$f":"B70+B111+B152+B193+B234","v":29796.17},{"$f":"C70+C111+C152+C193+C234","v":3078.0804166666667},471.5916666666667,867.37500000000023,2003.6399999999999,1105.1333333333334,2757.4841666666666,8648.4487500000014,1494.0800000000002,3663.71,3523.5287499999995,139.07500000000002,114.51916666666668,2541.8899999999994,180.39416666666668,1021.8020833333334,1219.33125,771.01250000000005,506.20916666666665,216.34666666666666,867.37500000000023,1026.54,1166.7666666666667,156.12,414.59583333333336,241.54374999999999,1502.25,180.39416666666668,494.03083333333336,2003.6399999999999,5438.95,930.1875,754.77875000000006,533.29500000000007,540.66374999999994,1543.9558333333337,2417.3020833333335,139.07500000000002,732.30208333333337,1187.3566666666666,{"$f":"AP70+AP111+AP152+AP193+AP234","v":471.5916666666667},{"$f":"AQ70+AQ111+AQ152+AQ193+AQ234","v":114.51916666666668},462.57083333333333,1788.51,405.22500000000002,859.86666666666656,1260.3883333333333,28,{"$f":"AX70+AX111+AX152+AX193+AX234","v":131719},{"$f":"AY70+AY111+AY152+AY193+AY234","v":9305},2618,3636,9084,7795,14099,30323,7645,14676,20255,526,618,10538,601,5267,6362,2855,2138,1312,3636,4031,3117,2917,2565,2520,10985,601,3938,9084,14560,5507,1970,2095,2470,3587,8707,526,3652,4279,2618,618,2601,7720,2545,2326,4610]
["Male 20-24",{"$f":"B71+B112+B153+B194+B235","v":42208.53},3684.6987500000005,493.82499999999999,938.47916666666674,2564.5899999999997,1431.5800000000002,4376.7641666666668,13746.397499999999,1651.7549999999999,4490.8300000000008,5719.8575000000001,160.9,122.25583333333334,3851.813333333333,204.23833333333334,2384.854166666667,1370.5425,877.45,541.54750000000001,251.20666666666665,938.47916666666674,1987.11,1428.085,184.08,444.18041666666664,272.08124999999995,3152.7075000000004,204.23833333333334,595.18083333333334,2564.5899999999997,10046.841666666667,1040.8725000000002,998.53874999999994,640.90833333333342,598.91624999999999,1752.9558333333334,3005.1875,160.9,902.55208333333348,1652.5529166666668,{"$f":"AP71+AP112+AP153+AP194+AP235","v":493.82499999999999},122.25583333333334,583.83833333333337,2159.3300000000004,625.20833333333337,1074.5733333333333,1477.73125,29,{"$f":"AX71+AX112+AX153+AX194+AX235","v":184447},10758,2640,3839,11911,9716,21333,47520,8360,17712,33660,601,649,15074,674,11664,6964,3226,2302,1455,3839,7764,3742,3340,2681,2751,23278,674,4507,11911,28182,6058,2596,2492,2705,3944,10702,601,4084,5610,2640,649,3072,9142,3754,2909,5209]
["Male 25-29",46493.869999999995,3629.8416666666672,551.20833333333337,1047.1875000000002,2697,1492.2066666666667,5246.5724999999993,14622.682500000001,1998.3862500000002,4781.59,6996.8237500000005,195.20000000000002,163.22166666666669,3978.0758333333329,222.89000000000001,2736.5520833333335,1742.2537500000001,1009.625,584.61,277.06666666666666,1047.1875000000002,1809.31,1448.4000000000003,180.7166666666667,494.22958333333338,244.875,3991.4625000000001,222.89000000000001,690.84750000000008,2697,10777.860416666668,1308.1724999999999,993.245,682.46499999999992,750.63375000000008,1640.2066666666667,3181.5729166666674,195.20000000000002,1099.0208333333335,1837.6333333333332,{"$f":"AP72+AP113+AP154+AP195+AP236","v":551.20833333333337},163.22166666666669,595.23833333333323,2348.37,532,1140.7866666666666,1770.4016666666666,30,170737,9516,2413,3654,9999,8265,20401,44563,8299,16528,32173,558,665,13074,629,11039,6708,2945,2021,1433,3654,6122,3468,2478,2358,1811,22340,629,4409,9999,27678,6278,2346,2209,2654,3379,10191,558,4007,5365,2413,665,2669,8428,2423,2794,5266]
["Male 30-34",44358.7,3531.4683333333332,566.27500000000009,938.62500000000011,2741.73,1524.7266666666669,4932.6983333333337,13362.164999999999,2003.1637500000002,4971.420000000001,6633.0425000000005,182.96250000000001,166.08166666666668,3502.9258333333332,235.21250000000001,2344.479166666667,1871.8312500000002,1018.2375,555.72833333333324,287.24666666666667,938.62500000000011,1358.47,1365.95,161.16,501.9325,248.01249999999999,3644.6324999999997,235.21250000000001,757.25416666666672,2741.73,9599.8474999999999,1332.2625,883.03874999999994,695.98666666666668,718.54875000000004,1633.9050000000002,3296.635416666667,182.96250000000001,1104.5937500000002,1718.7816666666665,{"$f":"AP73+AP114+AP155+AP196+AP237","v":566.27500000000009},166.08166666666668,584.17083333333323,2544.5500000000002,465.05833333333339,1016.6533333333334,1801.0570833333331,31,163281,9372,2472,3278,10234,8491,19323,40689,8342,17310,30283,526,687,11609,665,9493,7327,2966,1900,1496,3278,4642,3307,2163,2381,1879,20191,665,4852,10234,24507,6442,2101,2283,2503,3391,10679,526,4001,5014,2472,687,2674,9151,2143,2505,5428]
["Male 35-39",51158.7,4613.1229166666672,718.45,1197.4583333333333,3401.4,1870.073333333333,5210.0208333333321,14882.804999999998,2267.0374999999999,6312.8,7335.11625,202.67500000000001,189.54833333333335,3704.9133333333334,329.50416666666666,2240.4270833333335,2206.5187499999997,1167.2249999999999,679.70499999999993,360.12666666666661,1197.4583333333333,1417.02,1807.4825000000001,206.09666666666664,680.19208333333324,327.52500000000003,3628.8449999999998,329.50416666666666,925.98333333333335,3401.4,10083.886666666667,1472.61,1090.6912500000001,875.11666666666667,784.22624999999994,2130.9924999999998,4195.916666666667,202.67500000000001,1113.6666666666667,1978.1504166666664,{"$f":"AP74+AP115+AP156+AP197+AP238","v":718.45},189.54833333333335,751.83791666666662,3174.7699999999995,564.6,1279.44,2338.4149999999995,32,158158,9821,2858,3558,10638,8999,18614,36248,8305,17614,28782,546,775,10640,760,7748,8394,3083,2018,1543,3558,3759,3489,2586,2990,2358,17480,760,5117,10638,19435,6287,2082,2452,2472,3520,10629,546,3798,4854,2858,775,2812,9495,2339,2423,5860]
["Male 40-44",59405.979999999996,5790.7870833333336,1002.7416666666667,1587.3229166666667,4116.8600000000006,2329.3266666666664,5610.5183333333325,16960.173749999998,2823.7124999999996,7470.05,7620.4537500000006,260.95,192.85749999999999,4509.1908333333331,442.33124999999995,2109.447916666667,2492.4937500000001,1448.375,903.21833333333325,460.05333333333334,1587.3229166666667,1647.2800000000002,2289.0783333333334,271.65333333333336,821.99541666666664,413.19374999999997,3390.2099999999996,442.33124999999995,1114.3183333333334,4116.8600000000006,10758.692083333335,1795.02,1367.3412500000002,1021.3000000000001,1055.6100000000001,2695.0708333333328,4875.1875,260.95,1412.8645833333333,2467.1870833333332,{"$f":"AP75+AP116+AP157+AP198+AP239","v":1002.7416666666667},192.85749999999999,922.46583333333319,3839.34,744.70833333333337,1579.4933333333333,2749.0791666666664,33,186186,12583,4067,4808,12949,11318,20449,41973,10483,21298,30408,719,808,13303,1020,7482,9587,3902,2700,2011,4808,4471,4441,3541,3648,3039,16730,1020,6165,12949,20659,7783,2630,2956,3380,4539,12524,719,4930,6054,4067,{"$f":"CM75+CM116+CM157+CM198+CM239","v":808},3603,11771,3142,3053,7074]
["Male 45-49",55737.359999999993,5599.6204166666666,1001.6583333333334,1680.7083333333335,3838.6499999999996,2141.0866666666666,5156.9049999999997,15653.553749999999,2929.2550000000001,6912.9599999999991,6767.9324999999999,295.88749999999999,208.86250000000001,4434.9608333333326,397.96250000000003,1862.8645833333335,2346.3562499999998,1444.2875000000001,966.11666666666645,422.38666666666666,1680.7083333333335,1540.55,2174.7391666666667,278.03666666666669,795.98916666666673,426.33750000000003,2907.66,397.96250000000003,1002.3766666666668,3838.6499999999996,9453.5145833333336,1841.9399999999998,1475.3062500000001,987.26833333333343,996.99750000000006,2627.810833333333,4488.9687500000009,{"$f":"AM76+AM117+AM158+AM199+AM240","v":295.88749999999999},1456.0729166666667,2336.3487499999997,{"$f":"AP76+AP117+AP158+AP199+AP240","v":1001.6583333333334},208.86250000000001,902.82458333333329,3463.59,716.40833333333342,1616.8666666666663,2424.1704166666668,34,199540,13868,4547,5778,13722,11831,21336,44696,12272,22523,31011,904,949,15072,1031,7588,10168,4450,3259,2111,5778,4790,4763,4148,4032,3591,16636,1031,6272,13722,20573,9013,3252,3174,3580,5042,13118,904,5832,6810,4547,949,4063,12178,3448,3549,7169]
["Male 50-54",52376.14,5422.2745833333338,955.20833333333326,1611.5104166666667,3674.12,1966.5733333333328,4875.6175000000003,14726.44125,2859.7799999999997,6418.4500000000007,6104.0437499999998,272.58750000000003,192.11500000000001,4180.5725000000002,414.32791666666668,1772,2225.6437500000002,1355.425,945.68499999999995,379.57333333333327,1611.5104166666667,1493.4299999999998,2013.9758333333336,273.84666666666664,751.86166666666668,416.59999999999997,2582.5650000000001,414.32791666666668,921.01333333333332,3674.12,8672.4308333333338,1796.5349999999999,1417.06125,941.255,923.73750000000007,2558.2549999999997,4056.666666666667,272.58750000000003,1334.6041666666667,2280.427083333333,{"$f":"AP77+AP118+AP159+AP200+AP241","v":955.20833333333326},192.11500000000001,918.745,3365,668.01666666666677,1505.5199999999998,2146.1449999999995,35,188241,13538,4366,5589,13115,10768,20166,42386,11967,20973,28287,834,863,14320,1069,7248,9611,4213,3231,1898,5589,4761,4424,4103,3795,3513,15100,1069,5697,13115,18842,8736,3184,3007,3307,4922,11880,834,5346,6643,4366,863,4192,11835,3173,3359,6385]
["Male 55-59",37457.5,3852.4087500000005,736.2,1185.6875,2580.3199999999997,1303.5933333333332,3825.8566666666666,10569.993749999998,2173.71875,4266.21,4155.6549999999997,216.22500000000002,157.11666666666665,3196.7541666666666,252.46916666666664,1319.9270833333335,1834.03125,1019.2750000000001,742.77666666666664,271.68666666666667,1185.6875,1111.3700000000001,1391.5491666666669,198.64333333333335,521.01958333333323,307.43125000000003,1858.335,252.46916666666664,573.10750000000007,2580.3199999999997,6258.0216666666665,1348.9575,1007.1874999999999,634.20000000000005,713.45249999999999,1860.9233333333332,2689.010416666667,216.22500000000002,1066.7291666666667,1563.2933333333333,{"$f":"AP78+AP119+AP160+AP201+AP242","v":736.2},157.11666666666665,653.0616666666665,2354.54,471.15833333333336,1022.3599999999998,1292.6870833333332,36,166198,12207,4031,5250,11560,9129,18536,36378,11366,18113,24112,802,782,12931,1001,6691,8811,3852,3133,1663,5250,4109,3942,3697,3272,3053,13071,1001,4705,11560,16055,8233,2622,2705,3034,4443,10197,802,4970,5499,4031,782,3822,10423,2761,2945,5064]
["Male 60-64",35413.729999999996,3779.3004166666665,768.07500000000005,1258.5208333333333,2533.4500000000003,1291.9733333333331,3661.309166666666,9285.3000000000011,2186.7212500000001,3910.3599999999997,3836.77,204.625,165.45833333333331,3142.8149999999996,275.97750000000002,1198.9375,1805.9737499999999,1065,761.81083333333322,266.08666666666664,1258.5208333333333,1026.99,1339.0191666666665,179.67333333333332,465.46833333333336,269.33749999999998,1658.8050000000001,275.97750000000002,581.28,2533.4500000000003,5335.8233333333337,1346.9249999999997,992.69500000000005,629.10166666666669,701.30250000000001,1843.8549999999998,2493.8541666666665,204.625,1064.65625,1425.3862499999998,{"$f":"AP79+AP120+AP161+AP202+AP243","v":768.07500000000005},165.45833333333331,646.14249999999993,2084.62,451.95833333333337,910.30666666666662,1263.85625,37,157797,12296,4170,5572,11387,9044,17552,31983,11515,16505,22293,756,826,12810,1088,6031,8550,4043,3238,1668,5572,3836,3846,3336,2931,2630,11805,1088,4695,11387,13647,8277,2496,2696,2971,4525,9375,756,4931,5041,4170,826,3925,9336,2681,2627,4861]
["Male 65-69",24213.65,2873.0800000000004,506.82500000000005,876.85416666666674,1836.5,908.76666666666665,2105.8374999999996,6379.6837500000001,1471.3387499999999,2876.17,2532.8537499999998,145.53749999999999,89.164166666666659,2063.8366666666666,198.73583333333335,700.68750000000011,999.84375000000011,680.625,553.24749999999995,181.42666666666665,876.85416666666674,727.17,1034.2091666666668,115.67000000000002,322.45375000000001,158.75,1015.6275000000001,198.73583333333335,426.33500000000004,1836.5,3710.2866666666669,878.12999999999988,676.87125000000003,434,430.245,1362.5058333333334,1836.9583333333335,145.53749999999999,659.80208333333337,974.65374999999995,{"$f":"AP80+AP121+AP162+AP203+AP244","v":506.82500000000005},89.164166666666659,501.72666666666657,1512.38,300.12500000000006,665.02666666666664,919.79541666666671,38,137334,11350,3870,5102,10484,7941,14197,27281,10312,14240,18831,717,681,11415,913,4578,6990,3587,3163,1436,5102,3343,3483,2961,2718,2251,9633,913,4108,10484,11242,7149,2199,2314,2629,4124,7968,717,4485,4493,3870,681,3743,8164,2397,2243,4166]
["Male 70-74",18261.96,2191.2866666666669,364.13333333333333,687.77083333333337,1318.6000000000001,664.55333333333328,1567.2908333333332,4934.317500000001,1070.1950000000002,2199.2399999999998,1881.9324999999999,116.86250000000001,61.792499999999997,1586.1624999999999,157.44125,531.1875,709.96500000000003,519.86250000000007,414.33166666666659,127.10666666666667,687.77083333333337,562.42999999999995,781.64583333333337,89.346666666666664,247.27708333333331,131.47499999999999,743.57249999999999,157.44125,306.40750000000003,1318.6000000000001,2888.7995833333334,630.46500000000003,507.76,322.33833333333337,343.92375000000004,1061.6091666666666,1421.8854166666665,116.86250000000001,506.07291666666669,795.47,{"$f":"AP81+AP122+AP163+AP204+AP245","v":364.13333333333333},61.792499999999997,375.44,1114.2099999999998,234.08333333333337,484.78666666666658,689.60791666666648,39,101619,8383,2799,3983,7437,5744,10436,20502,7441,10705,13754,576,478,8658,723,3443,4904,2672,2332,981,{"$f":"BR81+BR122+BR163+BR204+BR245","v":3983},2607,2519,2298,2035,1769,7006,723,2934,7437,8536,5109,1603,1656,2089,3120,6011,576,3379,3392,2799,478,2744,5981,1829,1617,3057]
["Male 75-79",5460.9899999999989,635.71958333333328,116.99166666666667,248.86458333333337,392.49,199.5,484.9325,1405.7437500000001,340.78625,662.56999999999994,551.42499999999995,28.037500000000001,20.991666666666667,460.25416666666661,62.232500000000009,166.70833333333334,206.88749999999999,156.41249999999999,131.54916666666665,35.006666666666661,248.86458333333337,165.35999999999999,228.53666666666666,22.33666666666667,74.662083333333328,33.15,214.85249999999999,62.232500000000009,99.271666666666675,392.49,818.78749999999991,201.03,139.34249999999997,98.956666666666678,116.65124999999999,288.30916666666661,404.70833333333337,28.037500000000001,139.95833333333334,239.86624999999998,{"$f":"AP82+AP123+AP164+AP205+AP246","v":116.99166666666667},20.991666666666667,117.76833333333332,355.66999999999996,63.800000000000004,152.17333333333332,198.89166666666668,40,78407,6373,2102,3188,5681,4479,8098,16126,5461,7916,10817,359,339,6961,507,2798,{"$f":"BN82+BN123+BN164+BN205+BN246","v":3706},2086,1660,723,3188,2152,1915,1988,1551,1436,5943,507,2343,5681,6715,3801,1218,1223,1594,2252,4264,359,2723,2554,2102,339,2206,4628,1413,1239,2100]
["Male 80-84",3501.63,397.29083333333335,83.616666666666674,152.15625000000003,251.46999999999997,120.61333333333333,305.21833333333331,909.95625000000007,226.32750000000001,410.43,356.13375000000002,18.712499999999999,13.163333333333334,311.16583333333335,41.333333333333336,111.51041666666667,128.03625,105.0125,88.72499999999998,{"$f":"U83+U124+U165+U206+U247","v":22.293333333333333},152.15625000000003,110.29999999999998,144.69833333333335,14.26,51.521666666666668,19.274999999999999,139.9725,41.333333333333336,58.87583333333334,251.46999999999997,537.83708333333323,132.57000000000002,89.416250000000005,67.456666666666678,68.489999999999995,180.45249999999999,254.89583333333334,18.712499999999999,96.791666666666686,156.8175,{"$f":"AP83+AP124+AP165+AP206+AP247","v":83.616666666666674},13.163333333333334,72.413749999999993,215.43999999999997,38.791666666666671,99.09333333333332,117.78833333333333,41,50919,3981,1494,1968,3656,2697,5219,10533,3663,4924,7202,250,211,4785,336,1924,2331,1425,1109,449,1968,1489,1185,1297,1090,933,4098,336,1353,3656,4416,2554,788,779,964,1430,2672,250,1871,1682,1494,211,1366,2861,895,808,1235]
["Male 85-89",1684.1799999999998,187.08500000000001,41.291666666666671,74.583333333333343,128.85,58.226666666666659,156.20583333333332,414.90000000000003,109.05125000000001,186.2,178.40374999999997,9.6999999999999993,6.7925000000000004,154.1908333333333,21.687083333333334,55.270833333333329,69.727500000000006,51.612500000000004,43.484999999999999,8.9066666666666663,74.583333333333343,55.559999999999995,64.458333333333329,7.2933333333333339,26.916666666666661,10.5,75.022500000000008,21.687083333333334,30.111666666666665,128.85,240.84416666666667,63.367500000000007,40.961249999999993,31.196666666666669,32.793749999999996,80.354166666666657,110.75000000000001,9.6999999999999993,47.375000000000007,72.028750000000002,{"$f":"AP84+AP125+AP166+AP207+AP248","v":41.291666666666671},6.7925000000000004,38.467083333333335,101.27000000000001,18.633333333333333,43.826666666666661,52.103333333333332,42,24838,1943,731,989,1839,1282,2680,4926,1763,2232,3715,124,106,2332,176,976,1240,659,535,174,989,746,543,611,581,514,2215,176,686,1839,2068,1228,384,363,464,659,1156,124,927,739,731,106,741,1339,422,347,556]
["Male 90+",664.36,70.512083333333337,16.558333333333334,30.697916666666675,50.39,22.446666666666665,63.9925,169.48124999999999,39.08625,68.92,71.653750000000002,4.5750000000000002,3.0616666666666665,63.808333333333323,6.8070833333333338,22.364583333333336,27.326249999999998,23.237500000000001,15.318333333333333,4.3666666666666663,30.697916666666675,22.099999999999998,23.375000000000004,3.1299999999999994,9.2624999999999993,4.1062500000000002,32.347500000000004,6.8070833333333338,10.546666666666665,50.39,94.162499999999994,22.897500000000001,14.327499999999999,13.288333333333336,14.973749999999999,30.684999999999999,39.885416666666664,4.5750000000000002,18.96875,32.661249999999995,{"$f":"AP85+AP126+AP167+AP208+AP249","v":16.558333333333334},3.0616666666666665,14.81208333333333,39.729999999999997,7.5333333333333332,20.319999999999997,18.934583333333332,43,9839,715,283,385,724,517,1115,1977,669,819,1518,59,44,959,55,404,508,293,200,83,385,293,199,239,204,204,962,55,259,724,807,469,141,150,203,235,417,59,373,318,283,44,281,516,175,154,202]
["Female <1",null,null,null,null,null,null,null,null,null,null,null,null,null,null,null,null,null,null,null,null,null,null,null,null,null,null,null,null,null,null,null,null,null,null,null,null,null,null,null,null,null,null,null,null,null,null,null,44]
["Female 1-4",null,null,null,null,null,null,null,null,null,null,null,null,null,null,null,null,null,null,null,null,null,null,null,null,null,null,null,null,null,null,null,null,null,null,null,null,null,null,null,null,null,null,null,null,null,null,null,45]
["Female 5-9",null,null,null,null,null,null,null,null,null,null,null,null,null,null,null,null,null,null,null,null,null,null,null,null,null,null,null,null,null,null,null,null,null,null,null,null,null,null,null,null,null,null,null,null,null,null,null,46]
["Female 10-14",null,null,null,null,null,null,null,null,null,null,null,null,null,null,null,null,null,null,null,null,null,null,null,null,null,null,null,null,null,null,null,null,null,null,null,null,null,null,null,null,null,null,null,null,null,null,null,47]
["Female 15-19 (16+)",{"$f":"B90+B131+B172+B213+B254","v":23589.079999999998},{"$f":"C90+C131+C172+C213+C254","v":2110.886363636364},253.06272727272727,705.04363636363632,1581.0518181818184,1278.8427272727274,2066.1900000000005,5820.48,1231.5640909090912,2942.0763636363636,2941.4763636363632,56.00454545454545,52.970909090909089,1948.2254545454543,86.940000000000012,894.92454545454552,803.57454545454539,391.86,383.28,316.17090909090911,705.04363636363632,1254.6181818181819,886.40272727272725,171.89999999999998,481.36363636363632,166.10500000000002,1433.7081818181819,86.940000000000012,702.55590909090893,1581.0518181818184,3414.338181818182,853.5181818181818,413.47727272727275,448.47,332.67272727272729,888.80318181818188,1733.1899999999998,56.00454545454545,427.11545454545455,876.86363636363649,253.06272727272727,52.970909090909089,366.77090909090913,1537.5381818181818,285.8931818181818,660.9545454545455,615.95636363636368,48,{"$f":"AX90+AX131+AX172+AX213+AX254","v":126402},{"$f":"AY90+AY131+AY172+AY213+AY254","v":8882},2497,3390,9083,7323,13728,29138,7069,13682,19567,506,536,10372,629,5586,5856,2717,1918,1241,3390,4287,2944,2542,2536,2319,10828,629,3521,9083,14455,5151,1944,1931,2286,3402,8043,506,3368,4045,2497,536,2536,7304,2561,2168,4272]
["Female 20-24",{"$f":"B91+B132+B173+B214+B255","v":35559.99},{"$f":"C91+C132+C173+C214+C255","v":2616.977272727273},289.27954545454548,816.74181818181819,2171.4859090909094,1802.3440909090909,3324.3668181818184,9951.0600000000013,1334.1299999999999,3802.8722727272725,5384.8763636363637,60.047727272727272,60.709090909090911,2979.4931818181817,75.281818181818196,2054.8404545454546,888.51954545454544,422.39454545454549,391.42909090909086,374.44909090909096,816.74181818181819,2501.207272727273,1117.9727272727273,208.98636363636365,584.71636363636367,187.45500000000001,3425.5881818181824,75.281818181818196,911.63636363636374,2171.4859090909094,6957.2509090909089,944.40909090909088,555.35590909090899,584.62363636363648,344.72045454545457,1069.4209090909092,2314.9699999999998,60.047727272727272,502.45363636363641,1235.340909090909,289.27954545454548,60.709090909090911,464.11636363636364,1934.5090909090907,492.24545454545449,913.43181818181824,753.41090909090917,49,{"$f":"AX91+AX132+AX173+AX214+AX255","v":186192},10743,2613,3791,12448,9838,20816,49104,7403,17238,35828,529,607,14699,535,12364,6173,2819,1902,1380,3791,8282,3688,2941,2952,2527,25356,535,4387,12448,30508,5501,2488,2474,2279,3995,10568,529,3598,5445,2613,607,3060,8907,4071,2958,5046]
["Female 25-29",45984.24,{"$f":"C92+C133+C174+C215+C256","v":3320.386363636364},369.60181818181815,1048.4290909090907,2658.2277272727274,2130.411818181818,4197.9286363636365,12954.039999999997,1969.5327272727272,5382.8363636363629,7001.1804545454543,80.406818181818181,77.903636363636366,3525.889545454545,111.70090909090909,2386.3922727272729,1241.6631818181818,602.32909090909095,548.8690909090908,522.68363636363631,1048.4290909090907,2534.1963636363639,1453.7027272727273,202.49545454545452,650.05090909090904,187.47500000000002,4436.2472727272725,111.70090909090909,1255.6850000000002,2658.2277272727274,9133.1890909090907,1418.3545454545456,726.19363636363641,699.53318181818179,515.59954545454548,1324.6077272727271,3302.0899999999997,80.406818181818181,731.57727272727277,1705.4431818181818,369.60181818181815,77.903636363636366,589.79636363636371,2748.9054545454546,422.78863636363633,1217.6999999999998,1104.4945454545455,50,176313,10190,2589,3685,10593,8654,20188,45193,8362,17969,34004,586,616,13085,599,10773,6777,3019,1965,1438,3685,6003,3599,2105,2547,1843,23631,599,4665,10593,28322,6397,2321,2285,2638,3684,11116,586,4063,5299,2589,616,2907,9277,2551,2879,5541]
["Female 30-34",43338.590000000004,{"$f":"C93+C134+C175+C216+C257","v":3271.5681818181824},362.08545454545458,1058.6181818181817,2657.2731818181819,2176.6213636363636,3724.8463636363635,11898.220000000001,1964.1777272727272,5359.0209090909093,6400.91,76.002272727272725,85.832727272727269,3098.1627272727274,131.60636363636362,1843.5231818181819,1339.4754545454546,615.38727272727283,524.92363636363632,538.50363636363625,1058.6181818181817,2017.687272727273,1408.4004545454547,225.98636363636365,663.77454545454543,217.92000000000002,3815.0427272727275,131.60636363636362,1331.3863636363635,2657.2731818181819,7861.636363636364,1433.2090909090907,686.34090909090912,772.05272727272722,490.24318181818177,1336.3527272727274,3276.1000000000004,76.002272727272725,674.31272727272744,1692.534090909091,362.08545454545458,85.832727272727269,574.97454545454548,2830.4072727272724,397.95,1183.8545454545451,1099.0618181818184,51,169681,10283,2617,3727,10904,9104,18718,42191,8511,18315,31470,564,668,11907,702,8582,7622,3180,1918,1527,3727,4856,3592,2431,2705,2188,20480,702,5139,10904,24282,6593,2267,2572,2514,3777,11270,564,3871,5375,2617,668,2914,9855,2438,2838,5713]
["Female 35-39",43972.09,{"$f":"C94+C135+C176+C217+C258","v":3703.7386363636365},460.60772727272729,1121.3127272727272,2795.9590909090912,2464.7604545454546,3831.7459090909092,11109.06,2250.2550000000006,5613.1290909090912,6063.392272727272,101.77499999999999,101.16272727272727,3126.6513636363638,143.01000000000002,1582.6745454545455,1641.2645454545454,690.57,649.89818181818168,580.98727272727274,1121.3127272727272,1737.9054545454544,1581.7327272727271,292.05454545454546,841.59272727272719,277.995,3179.8881818181817,143.01000000000002,1507.5977272727273,2795.9590909090912,6655.7345454545448,1601.5181818181818,745.40909090909088,833.22,549.9204545454545,1565.423181818182,3411.23,101.77499999999999,778.80272727272734,1651.8636363636367,460.60772727272729,101.16272727272727,626.35636363636365,2964.6654545454544,466.08409090909083,1204.1727272727271,1224.6254545454547,52,163850,10887,3184,3875,11045,9685,18030,37826,9096,18232,28389,603,736,11464,798,6846,8438,3376,2279,1588,3875,3988,3698,2926,3162,2698,16507,798,5406,11045,19093,6817,2364,2604,2746,4096,11042,603,4100,5276,3184,736,3093,9924,2691,2735,6116]
["Female 40-44",53004.860000000008,{"$f":"C95+C136+C177+C218+C259","v":4797.1704545454559},614.35636363636365,1530.0981818181817,3502.0840909090907,2967.7200000000003,4405.4754545454543,13309.91,2868.7336363636359,6975.9940909090901,6632.2781818181829,126.45681818181818,115.7609090909091,3805.9249999999997,173.52363636363634,1662.4459090909093,1975.699090909091,847.71818181818185,863.60727272727263,719.32,1530.0981818181817,1963.2872727272727,2094.4727272727273,397.21818181818179,1084.090909090909,369.78499999999997,3099.1581818181821,173.52363636363634,1751.8890909090908,3502.0840909090907,7522.7127272727275,2012.4545454545457,977.19681818181812,1061.590909090909,694.25136363636375,1964.0168181818181,4170.57,126.45681818181818,1026.4827272727273,2166.829545454546,614.35636363636365,115.7609090909091,825.30909090909097,3662.5636363636359,591.91363636363633,1505.3045454545456,1478.4509090909091,53,199274,14227,4344,5307,13820,11901,20945,45845,11770,22935,31327,765,835,14265,988,7296,10172,4212,3125,2022,5307,4553,4883,4023,4141,3630,16355,988,6371,13820,21499,8645,3111,3365,3477,5222,13651,765,5500,7037,4344,{"$f":"CM95+CM136+CM177+CM218+CM259","v":835},4122,12346,3508,3483,7466]
["Female 45-49",54460.55,{"$f":"C96+C137+C178+C219+C260","v":5186.784090909091},636.24954545454557,1631.5199999999998,3574.6104545454546,2896.8259090909096,4189.3950000000004,14702.27,2974.4781818181818,7092.3740909090911,6115.4350000000004,133.83409090909089,112.9609090909091,4011.7540909090908,165.98909090909092,1588.497272727273,1853.5077272727274,826.96090909090924,905.61818181818171,780.48727272727251,1631.5199999999998,2298.5745454545454,2246.6545454545458,379.59545454545452,1027.5054545454545,361.54999999999995,2825.9509090909096,165.98909090909092,1658.53,3574.6104545454546,8604.3163636363643,2078.1545454545453,1155.3945454545456,989.46409090909094,676.21,2237.9318181818185,4260.18,133.83409090909089,1019.7245454545456,2252.011363636364,636.24954545454557,112.9609090909091,833.79636363636371,3745.7999999999997,569.39318181818169,1718.2090909090907,1366.5309090909091,54,210765,15476,4797,6135,14417,12233,22033,48809,13019,23922,31560,877,875,15590,1022,7625,10721,4492,3503,2190,6135,5134,5205,4593,4266,4044,16433,1022,6348,14417,22273,9516,3477,3432,3687,5752,13842,877,5964,7394,4797,875,4519,13205,3695,3903,7429]
["Female 50-54",50698.68,{"$f":"C97+C138+C179+C220+C261","v":4757.329545454546},592.36272727272728,1559.76,3326.9631818181824,2621.7545454545457,3823.479545454546,13713.060000000001,2830.9527272727273,6556.6204545454539,5678.2536363636364,114.99545454545454,107.73,3890.9831818181815,163.86363636363637,1511.5131818181819,1633.9813636363638,832.14818181818191,889.42909090909075,693.78909090909087,1559.76,2286.7636363636366,1956.2831818181819,370.5272727272727,940.84363636363639,330.35,2682.6218181818185,163.86363636363637,1521.2513636363637,3326.9631818181824,7954.8872727272719,1954.9545454545455,1104.2822727272728,934.93636363636358,613.41500000000008,2037.4322727272727,3865.29,114.99545454545454,926.66454545454553,2144.102272727273,592.36272727272728,107.73,827.62909090909091,3545.6509090909085,508.88863636363624,1579.390909090909,1215.8690909090908,55,196466,14343,4430,5872,13586,11019,20140,45822,12387,22074,29148,753,824,15062,1006,7325,9482,4450,3416,1955,5872,5163,4576,4475,3945,3740,15519,1006,5757,13586,20696,8971,3321,3174,3333,5283,12548,753,5449,7049,4430,824,4484,12445,3307,3622,6510]
["Female 55-59",36670.5,{"$f":"C98+C139+C180+C221+C262","v":3576.238636363636},465.05136363636359,1274.3781818181817,2436.8877272727273,1890.4486363636363,2980.9690909090909,9025.5299999999988,2273.7463636363641,4848.8390909090895,4047.8981818181815,97.111363636363635,87.347272727272724,2786.8159090909089,148.87727272727273,1132.7113636363638,1293.886363636364,619.12636363636364,716.80363636363631,492.66,1274.3781818181817,1501.2509090909091,1442.0072727272725,274.79090909090911,674.45454545454538,234.39500000000004,1878.4881818181821,148.87727272727273,1114.5381818181818,2436.8877272727273,4930.9418181818182,1568.1363636363637,736.88863636363624,716.05227272727279,501.5740909090909,1503.3600000000001,2800.98,97.111363636363635,717.40636363636384,1422.5795454545455,465.05136363636359,87.347272727272724,653.65090909090918,2697.7636363636361,359.52272727272725,1144.8272727272727,865.02545454545452,56,173090,13268,4151,5550,12010,9549,18379,38278,11675,19407,24790,783,790,13495,965,6358,8889,4051,3205,1711,5550,4238,4151,3956,3358,3220,13172,965,4986,12010,16608,8470,2819,2864,3132,4946,10954,783,5206,5811,4151,790,4171,11145,2852,3172,5396]
["Female 60-64",34757.719999999994,{"$f":"C99+C140+C181+C222+C263","v":3470.136363636364},472.60318181818184,1271.2363636363634,2445.3163636363638,1868.8377272727273,2819.6318181818183,8006.01,2294.5554545454547,4459.0518181818179,3869.6090909090908,95.924999999999997,79.119090909090914,2712.3063636363636,159.35181818181817,1045.0172727272727,1222.5150000000001,615.5754545454547,786.14181818181817,497.69999999999993,1271.2363636363634,1451.1563636363637,1390.1668181818184,247.31818181818181,654.30545454545461,218.08999999999997,1754.5090909090914,159.35181818181817,1119.9327272727271,2445.3163636363638,4192.2981818181815,1530.1727272727271,701.2490909090908,720.59318181818173,499.51863636363635,1460.7736363636363,2599.85,95.924999999999997,690.82363636363652,1331.8068181818182,472.60318181818184,79.119090909090914,637.73818181818183,2440.7999999999997,337.86818181818182,1047.231818181818,835.83272727272731,57,164841,13057,4238,5582,12188,9464,17270,33993,11811,17665,23646,770,715,13414,1028,5895,8249,4147,3505,1741,5582,4142,4041,3633,3250,2913,12434,1028,4980,12188,13985,8306,2685,2830,3126,4859,10069,770,5125,5443,4238,715,4157,10022,2743,2908,5132]
["Female 65-69",22804.15,{"$f":"C100+C141+C182+C223+C264","v":2330.1818181818185},357.58272727272725,963.58909090909094,1625.9727272727275,1240.3650000000002,1833.3095454545455,4894.9400000000005,1573.5300000000002,2914.528636363636,2478.636363636364,73.302272727272708,57.177272727272722,1846.3981818181819,112.65545454545455,619.73863636363649,805.38818181818192,448.97727272727275,554.35636363636365,332.51272727272726,963.58909090909094,877.07636363636368,922.96863636363639,167.18181818181819,454.10181818181815,129.41999999999999,1056.9109090909092,112.65545454545455,716.17818181818177,1625.9727272727275,2490.5563636363631,1036.6363636363637,429.03363636363639,493.58454545454549,369.30818181818188,946.23954545454546,1669.2300000000002,73.302272727272708,502.67454545454552,866.09090909090924,357.58272727272725,57.177272727272722,454.21090909090913,1596.6327272727272,240.77045454545453,637.84090909090901,552.56727272727278,58,148398,12251,4043,5476,11182,8530,15017,30104,10565,15870,20678,710,635,12398,939,4956,7101,3899,3259,1608,5476,3664,3692,3384,2929,2640,10651,939,4258,11182,12247,7306,2416,2566,2960,4516,8964,710,4835,4925,4043,635,4043,8937,2664,2461,4532]
["Female 70-74",18824.18,{"$f":"C101+C142+C183+C224+C265","v":1893.0000000000002},277.39636363636362,760.65818181818179,1255.8190909090908,1021.2872727272727,1471.4127272727274,4315.84,1254.7977272727273,2434.340909090909,2017.1263636363635,61.874999999999993,45.175454545454549,1528.4127272727271,93.163636363636371,531.3477272727273,619.14681818181816,350.16545454545457,449.34545454545457,235.65818181818182,760.65818181818179,794.15272727272736,732.51590909090908,138.02272727272728,378.22909090909093,109.65,890.6481818181818,93.163636363636371,618.47,1255.8190909090908,2296.8763636363633,820.59090909090901,358.51772727272726,369.20045454545453,290.35454545454542,792.19227272727278,1378.8400000000001,61.874999999999993,399.27272727272737,758.87500000000011,277.39636363636362,45.175454545454549,364,1341.5454545454543,199.89545454545453,540.80454545454552,436.00727272727283,59,119914,9751,3152,4299,8418,6841,11817,25753,8322,13055,16532,598,508,10099,769,4175,5368,2984,2574,1138,{"$f":"BR101+BR142+BR183+BR224+BR265","v":4299},3247,2871,2828,2376,2103,8779,769,3571,8418,11086,5748,1980,1885,2274,3682,7308,598,3868,4069,3152,508,3198,7367,2132,2067,3492]
["Female 75-79",8329.61,{"$f":"C102+C143+C184+C225+C266","v":821.50000000000011},105.74909090909094,299.41090909090906,548.43409090909097,421.40318181818191,628.17681818181813,2205.2600000000002,480.57545454545459,1056.3168181818182,870.17409090909098,18.579545454545453,15.947272727272729,669.81227272727278,37.850909090909092,260.57181818181817,240.86045454545456,140.90727272727275,173.97818181818181,96.918181818181836,299.41090909090906,393.78909090909099,335.44818181818187,61.890909090909091,152.24727272727273,55.710000000000008,425.64272727272737,37.850909090909092,254.33818181818179,548.43409090909097,1246.7236363636364,312.70909090909095,185.51590909090908,150.74590909090909,114.67363636363638,332.82409090909096,610.89,18.579545454545453,161.78727272727275,369.45454545454555,105.74909090909094,15.947272727272729,155.39636363636365,583.84363636363628,83.209090909090918,240.80454545454543,163.60000000000005,60,102204,8075,2588,3611,7162,5592,10004,23194,6792,10918,14053,416,387,8731,681,3793,{"$f":"BN102+BN143+BN184+BN225+BN266","v":4252},2536,2126,904,3611,2969,2457,2432,2011,1929,7881,681,2913,7162,10328,4666,1752,1601,1959,2889,6069,416,3226,3584,2588,387,2729,6270,1775,1748,2560]
["Female 80-84",6298.64,{"$f":"C103+C144+C185+C226+C267","v":606.00000000000011},80.174545454545466,227.57454545454544,408.02045454545458,303.69818181818187,493.90090909090918,1664.47,366.78409090909093,757.06590909090914,679.25,14.386363636363633,11.613636363636363,538.32545454545459,28.254545454545454,217.78909090909093,182.00318181818184,114.98727272727274,132.13090909090909,69.720000000000013,227.57454545454544,312.66909090909098,241.77181818181822,45.740909090909092,117.31636363636363,42.930000000000007,358.04454545454547,28.254545454545454,184.54363636363638,408.02045454545458,955.13454545454533,239.20909090909089,140.76000000000002,109.77954545454548,85.145909090909086,243.69954545454547,417.88,14.386363636363633,130.43454545454546,260.62500000000006,80.174545454545466,11.613636363636363,118.64000000000001,442.68,59.222727272727262,189.45000000000002,110.47272727272728,61,77714,5960,1927,2773,5251,4053,7885,17645,5127,7798,11221,316,290,6955,513,3197,3230,2016,1576,643,2773,2380,1756,1759,1550,1560,6771,513,2114,5251,7978,3551,1403,1125,1458,2143,4095,316,2559,2534,1927,290,2061,4751,1296,1363,1775]
["Female 85-89",3792.3300000000004,{"$f":"C104+C145+C186+C227+C268","v":357.10227272727275},51.160909090909094,134.34545454545454,262.20409090909095,178.52863636363639,301.82727272727277,966.90000000000009,224.45181818181823,427.03681818181815,418.39727272727271,8.9250000000000007,7.4709090909090907,355.73681818181819,19.32,127.78500000000003,118.23,78.561818181818182,80.421818181818182,42.712727272727271,134.34545454545454,199.0690909090909,137.41454545454548,28.545454545454547,72.545454545454547,26.3,226.62818181818187,19.32,106.64681818181819,262.20409090909095,550.18909090909085,146.74545454545455,78.837727272727278,67.77000000000001,50.496818181818178,136.52181818181819,234.03000000000003,8.9250000000000007,87.864545454545464,149.40909090909093,51.160909090909094,7.4709090909090907,76.720000000000013,253.11272727272728,35.086363636363629,112.7590909090909,62.363636363636367,62,47499,3602,1239,1635,3424,2400,4869,10444,3162,4363,7006,189,184,4635,347,1904,2089,1364,973,375,1635,1507,1015,1093,956,953,4374,347,1226,3424,4732,2189,835,677,876,1240,2281,189,1764,1441,1239,184,1347,2687,799,785,999]
["Female 90+",2145.92,{"$f":"C105+C146+C187+C228+C269","v":219.19318181818184},28.694545454545462,74.487272727272725,143.95500000000001,102.41318181818183,164.13409090909093,566.64,134.8868181818182,220.98818181818183,236.8868181818182,6.3204545454545453,4.9381818181818184,184.29272727272726,12.224545454545456,67.056818181818187,66.617727272727279,40.680000000000007,53.93454545454545,23.609090909090909,74.487272727272725,95.185454545454562,83.361818181818194,15.822727272727272,41.847272727272724,16.555,129.24818181818185,12.224545454545456,60.165909090909096,143.95500000000001,326.3890909090909,83.518181818181816,44.620000000000005,36.535909090909094,27.558636363636364,87.970909090909089,112.35000000000001,6.3204545454545453,50.007272727272735,88.318181818181827,28.694545454545462,4.9381818181818184,45.127272727272732,144.44727272727272,21.265909090909087,62.386363636363626,35.047272727272734,63,27066,2199,708,929,1895,1386,2704,6099,1926,2282,4044,136,119,2422,217,1018,1204,713,648,217,929,746,607,570,564,614,2575,217,695,1895,2803,1278,482,366,482,792,1119,136,963,836,708,119,800,1518,474,439,539]
["age/sex breakdown: Q1",null,null,null,null,null,null,null,null,null,null,null,null,null,null,null,null,null,null,null,null,null,null,null,null,null,null,null,null,null,null,null,null,null,null,null,null,null,null,null,null,null,null,null,null,null,null,null,64]
["Male <1",null,null,null,null,null,null,null,null,null,null,null,null,null,null,null,null,null,null,null,null,null,null,null,null,null,null,null,null,null,null,null,null,null,null,null,null,null,null,null,null,null,null,null,null,null,null,null,65]
["Male 1-4",null,null,null,null,null,null,null,null,null,null,null,null,null,null,null,null,null,null,null,null,null,null,null,null,null,null,null,null,null,null,null,null,null,null,null,null,null,null,null,null,null,null,null,null,null,null,null,66]
["Male 5-9",null,null,null,null,null,null,null,null,null,null,null,null,null,null,null,null,null,null,null,null,null,null,null,null,null,null,null,null,null,null,null,null,null,null,null,null,null,null,null,null,null,null,null,null,null,null,null,67]
["Male 10-14",null,null,null,null,null,null,null,null,null,null,null,null,null,null,null,null,null,null,null,null,null,null,null,null,null,null,null,null,null,null,null,null,null,null,null,null,null,null,null,null,null,null,null,null,null,null,null,68]
["Male 15-19 (16+)",{"$f":"Prevalence!B67*AX70","v":9751.94},{"$f":"Prevalence!C67*AY70","v":1323.7774999999999},{"$f":"Prevalence!D67*AZ70","v":43.06666666666667},{"$f":"Prevalence!E67*BA70","v":125.47916666666667},{"$f":"Prevalence!F67*BB70","v":628.52},{"$f":"Prevalence!G67*BC70","v":270.81333333333328},{"$f":"Prevalence!H67*BD70","v":314.10166666666663},{"$f":"Prevalence!I67*BE70","v":4450.7025000000003},{"$f":"Prevalence!J67*BF70","v":244.38750000000002},{"$f":"Prevalence!K67*BG70","v":1377.88},{"$f":"Prevalence!L67*BH70","v":820.9425},{"$f":"Prevalence!M67*BI70","v":0},{"$f":"Prevalence!N67*BJ70","v":0},{"$f":"Prevalence!O67*BK70","v":735.23666666666657},{"$f":"Prevalence!P67*BL70","v":0},{"$f":"Prevalence!Q67*BM70","v":239.87500000000003},{"$f":"Prevalence!R67*BN70","v":57.284999999999997},{"$f":"Prevalence!S67*BO70","v":118.75},{"$f":"Prevalence!T67*BP70","v":80.686666666666653},{"$f":"Prevalence!U67*BQ70","v":90.439999999999984},{"$f":"Prevalence!V67*BR70","v":125.47916666666667},{"$f":"Prevalence!W67*BS70","v":510.34000000000003},{"$f":"Prevalence!X67*BT70","v":534.56499999999994},{"$f":"Prevalence!Y67*BU70","v":16.846666666666664},{"$f":"Prevalence!Z67*BV70","v":38.807500000000005},{"$f":"Prevalence!AA67*BW70","v":42.987499999999997},{"$f":"Prevalence!AB67*BX70","v":430.63500000000005},{"$f":"Prevalence!AC67*BY70","v":0},{"$f":"Prevalence!AD67*BZ70","v":106.84333333333333},{"$f":"Prevalence!AE67*CA70","v":628.52},{"$f":"Prevalence!AF67*CB70","v":3361.2266666666669},{"$f":"Prevalence!AG67*CC70","v":153.61500000000001},{"$f":"Prevalence!AH67*CD70","v":459.27749999999997},{"$f":"Prevalence!AI67*CE70","v":77.583333333333343},{"$f":"Prevalence!AJ67*CF70","v":9.8324999999999996},{"$f":"Prevalence!AK67*CG70","v":777.95500000000004},{"$f":"Prevalence!AL67*CH70","v":1084.1875},{"$f":"Prevalence!AM67*CI70","v":0},{"$f":"Prevalence!AN67*CJ70","v":76.395833333333343},{"$f":"Prevalence!AO67*CK70","v":476.61500000000001},{"$f":"Prevalence!AP67*CL70","v":43.06666666666667},{"$f":"Prevalence!AQ67*CM70","v":0},{"$f":"Prevalence!AR67*CN70","v":123.6425},{"$f":"Prevalence!AS67*CO70","v":538.46},{"$f":"Prevalence!AT67*CP70","v":72.833333333333343},{"$f":"Prevalence!AU67*CQ70","v":406.34666666666664},{"$f":"Prevalence!AV67*CR70","v":300.29500000000002},69,25663,2697,136,317,1654,1069,763,10411,735,3626,2469,null,null,1786,null,606,134,250,196,357,317,1343,993,133,129,181,1511,null,482,1654,6848,539,879,175,23,1293,2739,null,193,1038,136,null,411,1417,230,802,654]
["Male 20-24",{"$f":"Prevalence!B68*AX71","v":13857.08},{"$f":"Prevalence!C68*AY71","v":1722.825},{"$f":"Prevalence!D68*AZ71","v":51.933333333333337},{"$f":"Prevalence!E68*BA71","v":173.77083333333334},{"$f":"Prevalence!F68*BB71","v":791.16},{"$f":"Prevalence!G68*BC71","v":382.02666666666664},{"$f":"Prevalence!H68*BD71","v":576.33333333333326},{"$f":"Prevalence!I68*BE71","v":6719.0174999999999},{"$f":"Prevalence!J68*BF71","v":295.26},{"$f":"Prevalence!K68*BG71","v":1748.76},{"$f":"Prevalence!L68*BH71","v":1101.5725},{"$f":"Prevalence!M68*BI71","v":0},{"$f":"Prevalence!N68*BJ71","v":0},{"$f":"Prevalence!O68*BK71","v":1170.3683333333331},{"$f":"Prevalence!P68*BL71","v":0},{"$f":"Prevalence!Q68*BM71","v":472.62500000000006},{"$f":"Prevalence!R68*BN71","v":71.819999999999993},{"$f":"Prevalence!S68*BO71","v":121.6},{"$f":"Prevalence!T68*BP71","v":106.21},{"$f":"Prevalence!U68*BQ71","v":108.42666666666665},{"$f":"Prevalence!V68*BR71","v":173.77083333333334},{"$f":"Prevalence!W68*BS71","v":844.74},{"$f":"Prevalence!X68*BT71","v":672.91666666666663},{"$f":"Prevalence!Y68*BU71","v":15.83333333333333},{"$f":"Prevalence!Z68*BV71","v":42.718333333333334},{"$f":"Prevalence!AA68*BW71","v":51.3},{"$f":"Prevalence!AB68*BX71","v":608.19000000000005},{"$f":"Prevalence!AC68*BY71","v":0},{"$f":"Prevalence!AD68*BZ71","v":164.47666666666669},{"$f":"Prevalence!AE68*CA71","v":791.16},{"$f":"Prevalence!AF68*CB71","v":5380.024166666667},{"$f":"Prevalence!AG68*CC71","v":179.55},{"$f":"Prevalence!AH68*CD71","v":577.88499999999999},{"$f":"Prevalence!AI68*CE71","v":83.346666666666664},{"$f":"Prevalence!AJ68*CF71","v":16.245000000000001},{"$f":"Prevalence!AK68*CG71","v":958.45500000000004},{"$f":"Prevalence!AL68*CH71","v":1385.4166666666667},{"$f":"Prevalence!AM68*CI71","v":0},{"$f":"Prevalence!AN68*CJ71","v":144.08333333333334},{"$f":"Prevalence!AO68*CK71","v":751.19666666666672},{"$f":"Prevalence!AP68*CL71","v":51.933333333333337},{"$f":"Prevalence!AQ68*CM71","v":0},{"$f":"Prevalence!AR68*CN71","v":200.65583333333333},{"$f":"Prevalence!AS68*CO71","v":680.2},{"$f":"Prevalence!AT68*CP71","v":107.03333333333335},{"$f":"Prevalence!AU68*CQ71","v":499.06666666666661},{"$f":"Prevalence!AV68*CR71","v":389.83249999999998},70,36466,3510,164,439,2082,1508,1400,15717,888,4602,3313,null,null,2843,null,1194,168,256,258,428,439,2223,1250,125,142,216,2134,null,742,2082,10961,630,1106,188,38,1593,3500,null,364,1636,164,null,667,1790,338,985,849]
["Male 25-29",{"$f":"Prevalence!B69*AX72","v":13333.32},{"$f":"Prevalence!C69*AY72","v":1452.66},{"$f":"Prevalence!D69*AZ72","v":45},{"$f":"Prevalence!E69*BA72","v":126.375},{"$f":"Prevalence!F69*BB72","v":766.8},{"$f":"Prevalence!G69*BC72","v":325.68},{"$f":"Prevalence!H69*BD72","v":580.31999999999994},{"$f":"Prevalence!I69*BE72","v":6575.1749999999993},{"$f":"Prevalence!J69*BF72","v":306.18},{"$f":"Prevalence!K69*BG72","v":1623.24},{"$f":"Prevalence!L69*BH72","v":1185.345},{"$f":"Prevalence!M69*BI72","v":0},{"$f":"Prevalence!N69*BJ72","v":0},{"$f":"Prevalence!O69*BK72","v":1159.08},{"$f":"Prevalence!P69*BL72","v":0},{"$f":"Prevalence!Q69*BM72","v":459.75},{"$f":"Prevalence!R69*BN72","v":92.74499999999999},{"$f":"Prevalence!S69*BO72","v":133.64999999999998},{"$f":"Prevalence!T69*BP72","v":92.82},{"$f":"Prevalence!U69*BQ72","v":98.399999999999991},{"$f":"Prevalence!V69*BR72","v":126.375},{"$f":"Prevalence!W69*BS72","v":845.64},{"$f":"Prevalence!X69*BT72","v":544.16999999999996},{"$f":"Prevalence!Y69*BU72","v":9.6},{"$f":"Prevalence!Z69*BV72","v":42.749999999999993},{"$f":"Prevalence!AA69*BW72","v":51.749999999999993},{"$f":"Prevalence!AB69*BX72","v":683.1},{"$f":"Prevalence!AC69*BY72","v":0},{"$f":"Prevalence!AD69*BZ72","v":135.66},{"$f":"Prevalence!AE69*CA72","v":766.8},{"$f":"Prevalence!AF69*CB72","v":5223.8100000000004},{"$f":"Prevalence!AG69*CC72","v":198.18},{"$f":"Prevalence!AH69*CD72","v":558.85500000000002},{"$f":"Prevalence!AI69*CE72","v":81.899999999999991},{"$f":"Prevalence!AJ69*CF72","v":13.364999999999998},{"$f":"Prevalence!AK69*CG72","v":797.43},{"$f":"Prevalence!AL69*CH72","v":1296.75},{"$f":"Prevalence!AM69*CI72","v":0},{"$f":"Prevalence!AN69*CJ72","v":122.25},{"$f":"Prevalence!AO69*CK72","v":784.7399999999999},{"$f":"Prevalence!AP69*CL72","v":45},{"$f":"Prevalence!AQ69*CM72","v":0},{"$f":"Prevalence!AR69*CN72","v":187.52999999999997},{"$f":"Prevalence!AS69*CO72","v":634.31999999999994},{"$f":"Prevalence!AT69*CP72","v":90.3},{"$f":"Prevalence!AU69*CQ72","v":502.56},{"$f":"Prevalence!AV69*CR72","v":386.28},71,37037,3124,150,337,2130,1357,1488,16235,972,4509,3763,null,null,2972,null,1226,229,297,238,410,337,2349,1067,80,150,230,2530,null,646,2130,11234,734,1129,195,33,1399,3458,null,326,1804,150,null,658,1762,301,1047,888]
["Male 30-34",{"$f":"Prevalence!B70*AX73","v":12497.4},{"$f":"Prevalence!C70*AY73","v":1370.355},{"$f":"Prevalence!D70*AZ73","v":55.5},{"$f":"Prevalence!E70*BA73","v":114.375},{"$f":"Prevalence!F70*BB73","v":730.07999999999993},{"$f":"Prevalence!G70*BC73","v":317.52},{"$f":"Prevalence!H70*BD73","v":592.41},{"$f":"Prevalence!I70*BE73","v":6109.0199999999995},{"$f":"Prevalence!J70*BF73","v":246.96},{"$f":"Prevalence!K70*BG73","v":1588.6799999999998},{"$f":"Prevalence!L70*BH73","v":1167.075},{"$f":"Prevalence!M70*BI73","v":0},{"$f":"Prevalence!N70*BJ73","v":0},{"$f":"Prevalence!O70*BK73","v":944.57999999999993},{"$f":"Prevalence!P70*BL73","v":0},{"$f":"Prevalence!Q70*BM73","v":473.625},{"$f":"Prevalence!R70*BN73","v":90.72},{"$f":"Prevalence!S70*BO73","v":130.04999999999998},{"$f":"Prevalence!T70*BP73","v":69.809999999999988},{"$f":"Prevalence!U70*BQ73","v":103.2},{"$f":"Prevalence!V70*BR73","v":114.375},{"$f":"Prevalence!W70*BS73","v":633.24},{"$f":"Prevalence!X70*BT73","v":503.37},{"$f":"Prevalence!Y70*BU73","v":15.12},{"$f":"Prevalence!Z70*BV73","v":33.629999999999995},{"$f":"Prevalence!AA70*BW73","v":43.424999999999997},{"$f":"Prevalence!AB70*BX73","v":691.2},{"$f":"Prevalence!AC70*BY73","v":0},{"$f":"Prevalence!AD70*BZ73","v":141.75},{"$f":"Prevalence!AE70*CA73","v":730.07999999999993},{"$f":"Prevalence!AF70*CB73","v":4847.625},{"$f":"Prevalence!AG70*CC73","v":163.35000000000002},{"$f":"Prevalence!AH70*CD73","v":472.23},{"$f":"Prevalence!AI70*CE73","v":73.92},{"$f":"Prevalence!AJ70*CF73","v":12.959999999999999},{"$f":"Prevalence!AK70*CG73","v":791.7299999999999},{"$f":"Prevalence!AL70*CH73","v":1230.375},{"$f":"Prevalence!AM70*CI73","v":0},{"$f":"Prevalence!AN70*CJ73","v":140.25},{"$f":"Prevalence!AO70*CK73","v":739.49999999999989},{"$f":"Prevalence!AP70*CL73","v":55.5},{"$f":"Prevalence!AQ70*CM73","v":0},{"$f":"Prevalence!AR70*CN73","v":162.73499999999999},{"$f":"Prevalence!AS70*CO73","v":697.68},{"$f":"Prevalence!AT70*CP73","v":65.399999999999991},{"$f":"Prevalence!AU70*CQ73","v":422.4},{"$f":"Prevalence!AV70*CR73","v":370.18499999999995},72,34715,2947,185,305,2028,1323,1519,15084,784,4413,3705,null,null,2422,null,1263,224,289,179,430,305,1759,987,126,118,193,2560,null,675,2028,10425,605,954,176,32,1389,3281,null,374,1700,185,null,571,1938,218,880,851]
["Male 35-39",{"$f":"Prevalence!B71*AX74","v":15925},{"$f":"Prevalence!C71*AY74","v":1856.4866666666669},{"$f":"Prevalence!D71*AZ74","v":64.13333333333334},{"$f":"Prevalence!E71*BA74","v":166.29166666666669},{"$f":"Prevalence!F71*BB74","v":1003.08},{"$f":"Prevalence!G71*BC74","v":411.1466666666667},{"$f":"Prevalence!H71*BD74","v":723.32},{"$f":"Prevalence!I71*BE74","v":7481.5649999999996},{"$f":"Prevalence!J71*BF74","v":329.42},{"$f":"Prevalence!K71*BG74","v":2146.56},{"$f":"Prevalence!L71*BH74","v":1563.38},{"$f":"Prevalence!M71*BI74","v":0},{"$f":"Prevalence!N71*BJ74","v":0},{"$f":"Prevalence!O71*BK74","v":1087.2333333333333},{"$f":"Prevalence!P71*BL74","v":0},{"$f":"Prevalence!Q71*BM74","v":567.12500000000011},{"$f":"Prevalence!R71*BN74","v":113.49},{"$f":"Prevalence!S71*BO74","v":150.15},{"$f":"Prevalence!T71*BP74","v":96.893333333333331},{"$f":"Prevalence!U71*BQ74","v":133.81333333333333},{"$f":"Prevalence!V71*BR74","v":166.29166666666669},{"$f":"Prevalence!W71*BS74","v":754.52},{"$f":"Prevalence!X71*BT74","v":718.98666666666668},{"$f":"Prevalence!Y71*BU74","v":16.813333333333333},{"$f":"Prevalence!Z71*BV74","v":52.281666666666666},{"$f":"Prevalence!AA71*BW74","v":58.5},{"$f":"Prevalence!AB71*BX74","v":895.83},{"$f":"Prevalence!AC71*BY74","v":0},{"$f":"Prevalence!AD71*BZ74","v":185.33666666666667},{"$f":"Prevalence!AE71*CA74","v":1003.08},{"$f":"Prevalence!AF71*CB74","v":5850.8883333333342},{"$f":"Prevalence!AG71*CC74","v":215.28},{"$f":"Prevalence!AH71*CD74","v":610.61},{"$f":"Prevalence!AI71*CE74","v":107.98666666666666},{"$f":"Prevalence!AJ71*CF74","v":25.154999999999998},{"$f":"Prevalence!AK71*CG74","v":1017.64},{"$f":"Prevalence!AL71*CH74","v":1673.2083333333335},{"$f":"Prevalence!AM71*CI74","v":0},{"$f":"Prevalence!AN71*CJ74","v":134.33333333333334},{"$f":"Prevalence!AO71*CK74","v":836.31166666666661},{"$f":"Prevalence!AP71*CL74","v":64.13333333333334},{"$f":"Prevalence!AQ71*CM74","v":0},{"$f":"Prevalence!AR71*CN74","v":227.24},{"$f":"Prevalence!AS71*CO74","v":943.28000000000009},{"$f":"Prevalence!AT71*CP74","v":81.900000000000006},{"$f":"Prevalence!AU71*CQ74","v":583.09333333333336},{"$f":"Prevalence!AV71*CR74","v":524.03},73,30625,2764,148,307,1929,1186,1284,12789,724,4128,3436,null,null,1930,null,1047,194,231,172,386,307,1451,976,97,127,180,2297,null,611,1929,8711,552,854,178,43,1236,3089,null,248,1331,148,null,552,1814,189,841,834]
["Male 40-44",{"$f":"Prevalence!B72*AX75","v":18000.32},{"$f":"Prevalence!C72*AY75","v":2180.9016666666671},{"$f":"Prevalence!D72*AZ75","v":85.8},{"$f":"Prevalence!E72*BA75","v":190.66666666666669},{"$f":"Prevalence!F72*BB75","v":1179.8800000000001},{"$f":"Prevalence!G72*BC75","v":504.74666666666667},{"$f":"Prevalence!H72*BD75","v":655.15666666666664},{"$f":"Prevalence!I72*BE75","v":8583.7049999999999},{"$f":"Prevalence!J72*BF75","v":379.01499999999999},{"$f":"Prevalence!K72*BG75","v":2453.36},{"$f":"Prevalence!L72*BH75","v":1569.2950000000001},{"$f":"Prevalence!M72*BI75","v":0},{"$f":"Prevalence!N72*BJ75","v":0},{"$f":"Prevalence!O72*BK75","v":1272.0066666666667},{"$f":"Prevalence!P72*BL75","v":0},{"$f":"Prevalence!Q72*BM75","v":521.08333333333337},{"$f":"Prevalence!R72*BN75","v":97.11},{"$f":"Prevalence!S72*BO75","v":165.1},{"$f":"Prevalence!T72*BP75","v":129.56666666666666},{"$f":"Prevalence!U72*BQ75","v":157.38666666666668},{"$f":"Prevalence!V72*BR75","v":190.66666666666669},{"$f":"Prevalence!W72*BS75","v":894.4},{"$f":"Prevalence!X72*BT75","v":909.04666666666674},{"$f":"Prevalence!Y72*BU75","v":23.400000000000002},{"$f":"Prevalence!Z72*BV75","v":62.984999999999999},{"$f":"Prevalence!AA72*BW75","v":71.174999999999997},{"$f":"Prevalence!AB72*BX75","v":845.91000000000008},{"$f":"Prevalence!AC72*BY75","v":0},{"$f":"Prevalence!AD72*BZ75","v":228.41},{"$f":"Prevalence!AE72*CA75","v":1179.8800000000001},{"$f":"Prevalence!AF72*CB75","v":6484.27},{"$f":"Prevalence!AG72*CC75","v":235.17000000000002},{"$f":"Prevalence!AH72*CD75","v":789.36000000000013},{"$f":"Prevalence!AI72*CE75","v":121.94},{"$f":"Prevalence!AJ72*CF75","v":20.474999999999998},{"$f":"Prevalence!AK72*CG75","v":1237.47},{"$f":"Prevalence!AL72*CH75","v":1955.416666666667},{"$f":"Prevalence!AM72*CI75","v":0},{"$f":"Prevalence!AN72*CJ75","v":153.83333333333334},{"$f":"Prevalence!AO72*CK75","v":1083.2466666666667},{"$f":"Prevalence!AP72*CL75","v":85.8},{"$f":"Prevalence!AQ72*CM75","v":0},{"$f":"Prevalence!AR72*CN75","v":209.95000000000002},{"$f":"Prevalence!AS72*CO75","v":1025.96},{"$f":"Prevalence!AT72*CP75","v":107.9},{"$f":"Prevalence!AU72*CQ75","v":673.92000000000007},{"$f":"Prevalence!AV72*CR75","v":581.83666666666659},74,34616,3247,198,352,2269,1456,1163,14673,833,4718,3449,null,null,2258,null,962,166,254,230,454,352,1720,1234,135,153,219,2169,null,753,2269,9654,603,1104,201,35,1503,3610,null,284,1724,198,null,510,1973,249,972,926]
["Male 45-49",{"$f":"Prevalence!B73*AX76","v":16307.1},{"$f":"Prevalence!C73*AY76","v":2025.6562500000002},{"$f":"Prevalence!D73*AZ76","v":82.875},{"$f":"Prevalence!E73*BA76","v":199.21875000000003},{"$f":"Prevalence!F73*BB76","v":1050.3},{"$f":"Prevalence!G73*BC76","v":459.3},{"$f":"Prevalence!H73*BD76","v":566.47500000000002},{"$f":"Prevalence!I73*BE76","v":7787.6437499999993},{"$f":"Prevalence!J73*BF76","v":361.85624999999999},{"$f":"Prevalence!K73*BG76","v":2249.1},{"$f":"Prevalence!L73*BH76","v":1351.7437499999999},{"$f":"Prevalence!M73*BI76","v":0},{"$f":"Prevalence!N73*BJ76","v":0},{"$f":"Prevalence!O73*BK76","v":1144.1624999999999},{"$f":"Prevalence!P73*BL76","v":0},{"$f":"Prevalence!Q73*BM76","v":452.34375000000006},{"$f":"Prevalence!R73*BN76","v":75.431249999999991},{"$f":"Prevalence!S73*BO76","v":140.625},{"$f":"Prevalence!T73*BP76","v":127.2375},{"$f":"Prevalence!U73*BQ76","v":150.9},{"$f":"Prevalence!V73*BR76","v":199.21875000000003},{"$f":"Prevalence!W73*BS76","v":804.6},{"$f":"Prevalence!X73*BT76","v":835.12500000000011},{"$f":"Prevalence!Y73*BU76","v":18.75},{"$f":"Prevalence!Z73*BV76","v":50.943750000000001},{"$f":"Prevalence!AA73*BW76","v":75.09375},{"$f":"Prevalence!AB73*BX76","v":742.16250000000002},{"$f":"Prevalence!AC73*BY76","v":0},{"$f":"Prevalence!AD73*BZ76","v":191.625},{"$f":"Prevalence!AE73*CA76","v":1050.3},{"$f":"Prevalence!AF73*CB76","v":5821.8},{"$f":"Prevalence!AG73*CC76","v":222.07500000000002},{"$f":"Prevalence!AH73*CD76","v":821.7},{"$f":"Prevalence!AI73*CE76","v":105.52500000000001},{"$f":"Prevalence!AJ73*CF76","v":24.299999999999997},{"$f":"Prevalence!AK73*CG76","v":1154.25},{"$f":"Prevalence!AL73*CH76","v":1800.9375000000002},{"$f":"Prevalence!AM73*CI76","v":0},{"$f":"Prevalence!AN73*CJ76","v":144.84375000000003},{"$f":"Prevalence!AO73*CK76","v":921.65624999999989},{"$f":"Prevalence!AP73*CL76","v":82.875},{"$f":"Prevalence!AQ73*CM76","v":0},{"$f":"Prevalence!AR73*CN76","v":197.71875},{"$f":"Prevalence!AS73*CO76","v":868.95},{"$f":"Prevalence!AT73*CP76","v":111.75},{"$f":"Prevalence!AU73*CQ76","v":706.19999999999993},{"$f":"Prevalence!AV73*CR76","v":483.93749999999994},75,36238,3485,221,425,2334,1531,1162,15383,919,4998,3433,null,null,2347,null,965,149,250,261,503,425,1788,1310,125,143,267,2199,null,730,2334,10016,658,1328,201,48,1620,3842,null,309,1695,221,null,555,1931,298,1177,890]
["Male 50-54",{"$f":"Prevalence!B74*AX77","v":15182.1},{"$f":"Prevalence!C74*AY77","v":2001.2437500000001},{"$f":"Prevalence!D74*AZ77","v":61.875},{"$f":"Prevalence!E74*BA77","v":173.43750000000003},{"$f":"Prevalence!F74*BB77","v":1034.55},{"$f":"Prevalence!G74*BC77","v":432.9},{"$f":"Prevalence!H74*BD77","v":546.48749999999995},{"$f":"Prevalence!I74*BE77","v":7239.8812499999995},{"$f":"Prevalence!J74*BF77","v":342.5625},{"$f":"Prevalence!K74*BG77","v":2096.5500000000002},{"$f":"Prevalence!L74*BH77","v":1146.9937499999999},{"$f":"Prevalence!M74*BI77","v":0},{"$f":"Prevalence!N74*BJ77","v":0},{"$f":"Prevalence!O74*BK77","v":1050.075},{"$f":"Prevalence!P74*BL77","v":0},{"$f":"Prevalence!Q74*BM77","v":425.15625000000006},{"$f":"Prevalence!R74*BN77","v":84.543750000000003},{"$f":"Prevalence!S74*BO77","v":117.5625},{"$f":"Prevalence!T74*BP77","v":115.05},{"$f":"Prevalence!U74*BQ77","v":138},{"$f":"Prevalence!V74*BR77","v":173.43750000000003},{"$f":"Prevalence!W74*BS77","v":757.80000000000007},{"$f":"Prevalence!X74*BT77","v":789.22500000000014},{"$f":"Prevalence!Y74*BU77","v":21.15},{"$f":"Prevalence!Z74*BV77","v":56.287500000000001},{"$f":"Prevalence!AA74*BW77","v":66.65625},{"$f":"Prevalence!AB74*BX77","v":597.71250000000009},{"$f":"Prevalence!AC74*BY77","v":0},{"$f":"Prevalence!AD74*BZ77","v":188.21250000000001},{"$f":"Prevalence!AE74*CA77","v":1034.55},{"$f":"Prevalence!AF74*CB77","v":5327.15625},{"$f":"Prevalence!AG74*CC77","v":213.97500000000002},{"$f":"Prevalence!AH74*CD77","v":761.68124999999998},{"$f":"Prevalence!AI74*CE77","v":98.7},{"$f":"Prevalence!AJ74*CF77","v":23.793749999999999},{"$f":"Prevalence!AK74*CG77","v":1148.55},{"$f":"Prevalence!AL74*CH77","v":1656.5625000000002},{"$f":"Prevalence!AM74*CI77","v":0},{"$f":"Prevalence!AN74*CJ77","v":122.34375000000001},{"$f":"Prevalence!AO74*CK77","v":958.08749999999998},{"$f":"Prevalence!AP74*CL77","v":61.875},{"$f":"Prevalence!AQ74*CM77","v":0},{"$f":"Prevalence!AR74*CN77","v":211.25624999999999},{"$f":"Prevalence!AS74*CO77","v":864.45},{"$f":"Prevalence!AT74*CP77","v":99.75},{"$f":"Prevalence!AU74*CQ77","v":581.4},{"$f":"Prevalence!AV74*CR77","v":432.82499999999999},76,33738,3443,165,370,2299,1443,1121,14301,870,4659,2913,null,null,2154,null,907,167,209,236,460,370,1684,1238,141,158,237,1771,null,717,2299,9165,634,1231,188,47,1612,3534,null,261,1762,165,null,593,1921,266,969,796]
["Male 55-59",{"$f":"Prevalence!B75*AX78","v":12259.73},{"$f":"Prevalence!C75*AY78","v":1690.1329166666667},{"$f":"Prevalence!D75*AZ78","v":47.3},{"$f":"Prevalence!E75*BA78","v":146.91666666666669},{"$f":"Prevalence!F75*BB78","v":812.27},{"$f":"Prevalence!G75*BC78","v":345.43333333333328},{"$f":"Prevalence!H75*BD78","v":438.815},{"$f":"Prevalence!I75*BE78","v":5775.0074999999997},{"$f":"Prevalence!J75*BF78","v":293.85124999999999},{"$f":"Prevalence!K75*BG78","v":1679.58},{"$f":"Prevalence!L75*BH78","v":906.01},{"$f":"Prevalence!M75*BI78","v":0},{"$f":"Prevalence!N75*BJ78","v":0},{"$f":"Prevalence!O75*BK78","v":903.25083333333328},{"$f":"Prevalence!P75*BL78","v":0},{"$f":"Prevalence!Q75*BM78","v":353.85416666666669},{"$f":"Prevalence!R75*BN78","v":58.050000000000004},{"$f":"Prevalence!S75*BO78","v":108.57499999999999},{"$f":"Prevalence!T75*BP78","v":108.07333333333332},{"$f":"Prevalence!U75*BQ78","v":116.09999999999998},{"$f":"Prevalence!V75*BR78","v":146.91666666666669},{"$f":"Prevalence!W75*BS78","v":654.46},{"$f":"Prevalence!X75*BT78","v":648.15333333333331},{"$f":"Prevalence!Y75*BU78","v":16.91333333333333},{"$f":"Prevalence!Z75*BV78","v":34.722499999999997},{"$f":"Prevalence!AA75*BW78","v":43.268749999999997},{"$f":"Prevalence!AB75*BX78","v":494.39250000000004},{"$f":"Prevalence!AC75*BY78","v":0},{"$f":"Prevalence!AD75*BZ78","v":137.95833333333334},{"$f":"Prevalence!AE75*CA78","v":812.27},{"$f":"Prevalence!AF75*CB78","v":4282.8179166666669},{"$f":"Prevalence!AG75*CC78","v":177.05250000000001},{"$f":"Prevalence!AH75*CD78","v":585.33749999999998},{"$f":"Prevalence!AI75*CE78","v":74.24666666666667},{"$f":"Prevalence!AJ75*CF78","v":15.48},{"$f":"Prevalence!AK75*CG78","v":947.03916666666657},{"$f":"Prevalence!AL75*CH78","v":1285.0729166666667},{"$f":"Prevalence!AM75*CI78","v":0},{"$f":"Prevalence!AN75*CJ78","v":96.302083333333343},{"$f":"Prevalence!AO75*CK78","v":678.57583333333332},{"$f":"Prevalence!AP75*CL78","v":47.3},{"$f":"Prevalence!AQ75*CM78","v":0},{"$f":"Prevalence!AR75*CN78","v":200.16499999999999},{"$f":"Prevalence!AS75*CO78","v":774},{"$f":"Prevalence!AT75*CP78","v":89.583333333333329},{"$f":"Prevalence!AU75*CQ78","v":509.69333333333327},{"$f":"Prevalence!AV75*CR78","v":324.73958333333331},77,28511,3043,132,328,1889,1205,942,11938,781,3906,2408,null,null,1939,null,790,120,202,232,405,328,1522,1064,118,102,161,1533,null,550,1889,7711,549,990,148,32,1391,2869,null,215,1306,132,null,588,1800,250,889,625]
["Male 60-64",{"$f":"Prevalence!B76*AX79","v":11223.43},{"$f":"Prevalence!C76*AY79","v":1566.2750000000001},{"$f":"Prevalence!D76*AZ79","v":60.916666666666664},{"$f":"Prevalence!E76*BA79","v":159.01041666666669},{"$f":"Prevalence!F76*BB79","v":781.31},{"$f":"Prevalence!G76*BC79","v":342.56666666666661},{"$f":"Prevalence!H76*BD79","v":408.5358333333333},{"$f":"Prevalence!I76*BE79","v":5079.375},{"$f":"Prevalence!J76*BF79","v":266.38499999999999},{"$f":"Prevalence!K76*BG79","v":1565.6299999999999},{"$f":"Prevalence!L76*BH79","v":833.01749999999993},{"$f":"Prevalence!M76*BI79","v":0},{"$f":"Prevalence!N76*BJ79","v":0},{"$f":"Prevalence!O76*BK79","v":840.36333333333334},{"$f":"Prevalence!P76*BL79","v":0},{"$f":"Prevalence!Q76*BM79","v":323.39583333333337},{"$f":"Prevalence!R76*BN79","v":54.18},{"$f":"Prevalence!S76*BO79","v":114.4875},{"$f":"Prevalence!T76*BP79","v":94.098333333333329},{"$f":"Prevalence!U76*BQ79","v":105.77999999999999},{"$f":"Prevalence!V76*BR79","v":159.01041666666669},{"$f":"Prevalence!W76*BS79","v":594.26},{"$f":"Prevalence!X76*BT79","v":609.77583333333325},{"$f":"Prevalence!Y76*BU79","v":13.903333333333331},{"$f":"Prevalence!Z76*BV79","v":32.68},{"$f":"Prevalence!AA76*BW79","v":42.462499999999999},{"$f":"Prevalence!AB76*BX79","v":429.2475},{"$f":"Prevalence!AC76*BY79","v":0},{"$f":"Prevalence!AD76*BZ79","v":144.73083333333335},{"$f":"Prevalence!AE76*CA79","v":781.31},{"$f":"Prevalence!AF76*CB79","v":3684.6341666666667},{"$f":"Prevalence!AG76*CC79","v":163.185},{"$f":"Prevalence!AH76*CD79","v":616.08249999999998},{"$f":"Prevalence!AI76*CE79","v":67.725000000000009},{"$f":"Prevalence!AJ76*CF79","v":20.80125},{"$f":"Prevalence!AK76*CG79","v":894.6149999999999},{"$f":"Prevalence!AL76*CH79","v":1215.1979166666667},{"$f":"Prevalence!AM76*CI79","v":0},{"$f":"Prevalence!AN76*CJ79","v":93.614583333333343},{"$f":"Prevalence!AO76*CK79","v":606.87333333333322},{"$f":"Prevalence!AP76*CL79","v":60.916666666666664},{"$f":"Prevalence!AQ76*CM79","v":0},{"$f":"Prevalence!AR76*CN79","v":171.91041666666666},{"$f":"Prevalence!AS76*CO79","v":672.09},{"$f":"Prevalence!AT76*CP79","v":89.224999999999994},{"$f":"Prevalence!AU76*CQ79","v":439.17333333333329},{"$f":"Prevalence!AV76*CR79","v":338.76833333333332},78,26101,2820,170,355,1817,1195,877,10500,708,3641,2214,null,null,1804,null,722,112,213,202,369,355,1382,1001,97,96,158,1331,null,577,1817,6634,506,1042,135,43,1314,2713,null,209,1168,170,null,505,1563,249,766,652]
["Male 65-69",{"$f":"Prevalence!B77*AX80","v":7759.8499999999995},{"$f":"Prevalence!C77*AY80","v":1133.3729166666667},{"$f":"Prevalence!D77*AZ80","v":44.916666666666671},{"$f":"Prevalence!E77*BA80","v":103.54166666666666},{"$f":"Prevalence!F77*BB80","v":558.94999999999993},{"$f":"Prevalence!G77*BC80","v":236.83333333333331},{"$f":"Prevalence!H77*BD80","v":227.12083333333328},{"$f":"Prevalence!I77*BE80","v":3512.25},{"$f":"Prevalence!J77*BF80","v":184.66874999999999},{"$f":"Prevalence!K77*BG80","v":1120.3499999999999},{"$f":"Prevalence!L77*BH80","v":544.81874999999991},{"$f":"Prevalence!M77*BI80","v":0},{"$f":"Prevalence!N77*BJ80","v":0},{"$f":"Prevalence!O77*BK80","v":573.29999999999984},{"$f":"Prevalence!P77*BL80","v":0},{"$f":"Prevalence!Q77*BM80","v":180.46875},{"$f":"Prevalence!R77*BN80","v":33.074999999999996},{"$f":"Prevalence!S77*BO80","v":70},{"$f":"Prevalence!T77*BP80","v":70.145833333333314},{"$f":"Prevalence!U77*BQ80","v":70.466666666666654},{"$f":"Prevalence!V77*BR80","v":103.54166666666666},{"$f":"Prevalence!W77*BS80","v":419.29999999999995},{"$f":"Prevalence!X77*BT80","v":434.35},{"$f":"Prevalence!Y77*BU80","v":9.5666666666666664},{"$f":"Prevalence!Z77*BV80","v":20.504166666666663},{"$f":"Prevalence!AA77*BW80","v":24.9375},{"$f":"Prevalence!AB77*BX80","v":266.96249999999998},{"$f":"Prevalence!AC77*BY80","v":0},{"$f":"Prevalence!AD77*BZ80","v":105.75833333333333},{"$f":"Prevalence!AE77*CA80","v":558.94999999999993},{"$f":"Prevalence!AF77*CB80","v":2594.9583333333335},{"$f":"Prevalence!AG77*CC80","v":109.72499999999998},{"$f":"Prevalence!AH77*CD80","v":407.61874999999998},{"$f":"Prevalence!AI77*CE80","v":43.691666666666663},{"$f":"Prevalence!AJ77*CF80","v":7.875},{"$f":"Prevalence!AK77*CG80","v":652.80833333333328},{"$f":"Prevalence!AL77*CH80","v":854.94791666666663},{"$f":"Prevalence!AM77*CI80","v":0},{"$f":"Prevalence!AN77*CJ80","v":56.145833333333329},{"$f":"Prevalence!AO77*CK80","v":392.88958333333329},{"$f":"Prevalence!AP77*CL80","v":44.916666666666671},{"$f":"Prevalence!AQ77*CM80","v":0},{"$f":"Prevalence!AR77*CN80","v":125.51874999999998},{"$f":"Prevalence!AS77*CO80","v":503.29999999999995},{"$f":"Prevalence!AT77*CP80","v":56.875000000000007},{"$f":"Prevalence!AU77*CQ80","v":292.13333333333333},{"$f":"Prevalence!AV77*CR80","v":245.71458333333331},79,22171,2507,154,284,1597,1015,599,8920,603,3201,1779,null,null,1512,null,495,84,160,185,302,284,1198,876,82,74,114,1017,null,518,1597,5740,418,847,107,20,1178,2345,null,154,929,154,null,453,1438,195,626,581]
["Male 70-74",{"$f":"Prevalence!B78*AX81","v":6072.8499999999995},{"$f":"Prevalence!C78*AY81","v":933.1},{"$f":"Prevalence!D78*AZ81","v":23.916666666666668},{"$f":"Prevalence!E78*BA81","v":83.125},{"$f":"Prevalence!F78*BB81","v":409.5},{"$f":"Prevalence!G78*BC81","v":171.49999999999997},{"$f":"Prevalence!H78*BD81","v":160.76666666666662},{"$f":"Prevalence!I78*BE81","v":2822.0062499999999},{"$f":"Prevalence!J78*BF81","v":138.73124999999999},{"$f":"Prevalence!K78*BG81","v":874.3},{"$f":"Prevalence!L78*BH81","v":409.76249999999993},{"$f":"Prevalence!M78*BI81","v":0},{"$f":"Prevalence!N78*BJ81","v":0},{"$f":"Prevalence!O78*BK81","v":451.96666666666658},{"$f":"Prevalence!P78*BL81","v":0},{"$f":"Prevalence!Q78*BM81","v":124.6875},{"$f":"Prevalence!R78*BN81","v":23.625},{"$f":"Prevalence!S78*BO81","v":59.9375},{"$f":"Prevalence!T78*BP81","v":53.462499999999991},{"$f":"Prevalence!U78*BQ81","v":53.199999999999996},{"$f":"Prevalence!V78*BR81","v":83.125},{"$f":"Prevalence!W78*BS81","v":318.84999999999997},{"$f":"Prevalence!X78*BT81","v":367.90833333333336},{"$f":"Prevalence!Y78*BU81","v":7.2333333333333325},{"$f":"Prevalence!Z78*BV81","v":17.733333333333331},{"$f":"Prevalence!AA78*BW81","v":26.46875},{"$f":"Prevalence!AB78*BX81","v":188.47499999999997},{"$f":"Prevalence!AC78*BY81","v":0},{"$f":"Prevalence!AD78*BZ81","v":70.641666666666666},{"$f":"Prevalence!AE78*CA81","v":409.5},{"$f":"Prevalence!AF78*CB81","v":2070.0895833333334},{"$f":"Prevalence!AG78*CC81","v":81.899999999999991},{"$f":"Prevalence!AH78*CD81","v":319.54999999999995},{"$f":"Prevalence!AI78*CE81","v":40.833333333333336},{"$f":"Prevalence!AJ78*CF81","v":8.6624999999999996},{"$f":"Prevalence!AK78*CG81","v":532.55416666666656},{"$f":"Prevalence!AL78*CH81","v":684.32291666666663},{"$f":"Prevalence!AM78*CI81","v":0},{"$f":"Prevalence!AN78*CJ81","v":52.5},{"$f":"Prevalence!AO78*CK81","v":359.90208333333328},{"$f":"Prevalence!AP78*CL81","v":23.916666666666668},{"$f":"Prevalence!AQ78*CM81","v":0},{"$f":"Prevalence!AR78*CN81","v":100.02708333333332},{"$f":"Prevalence!AS78*CO81","v":367.15},{"$f":"Prevalence!AT78*CP81","v":46.958333333333336},{"$f":"Prevalence!AU78*CQ81","v":215.59999999999997},{"$f":"Prevalence!AV78*CR81","v":192.84999999999997},80,17351,2064,82,228,1170,735,424,7167,453,2498,1338,null,null,1192,null,342,60,137,141,228,228,911,742,62,64,121,718,null,346,1170,4579,312,664,100,22,961,1877,null,144,851,82,null,361,1049,161,462,456]
["Male 75-79",{"$f":"Prevalence!B79*AX82","v":1570.9199999999998},{"$f":"Prevalence!C79*AY82","v":234.20500000000001},{"$f":"Prevalence!D79*AZ82","v":7},{"$f":"Prevalence!E79*BA82","v":18.5},{"$f":"Prevalence!F79*BB82","v":99.24},{"$f":"Prevalence!G79*BC82","v":46.639999999999993},{"$f":"Prevalence!H79*BD82","v":48.489999999999988},{"$f":"Prevalence!I79*BE82","v":740.34},{"$f":"Prevalence!J79*BF82","v":31.709999999999997},{"$f":"Prevalence!K79*BG82","v":219.12},{"$f":"Prevalence!L79*BH82","v":112.97999999999999},{"$f":"Prevalence!M79*BI82","v":0},{"$f":"Prevalence!N79*BJ82","v":0},{"$f":"Prevalence!O79*BK82","v":115.82999999999998},{"$f":"Prevalence!P79*BL82","v":0},{"$f":"Prevalence!Q79*BM82","v":36.375},{"$f":"Prevalence!R79*BN82","v":7.6950000000000003},{"$f":"Prevalence!S79*BO82","v":16.95},{"$f":"Prevalence!T79*BP82","v":10.529999999999998},{"$f":"Prevalence!U79*BQ82","v":11.439999999999998},{"$f":"Prevalence!V79*BR82","v":18.5},{"$f":"Prevalence!W79*BS82","v":83.64},{"$f":"Prevalence!X79*BT82","v":93.84},{"$f":"Prevalence!Y79*BU82","v":1.3999999999999997},{"$f":"Prevalence!Z79*BV82","v":4.2749999999999995},{"$f":"Prevalence!AA79*BW82","v":6.6749999999999998},{"$f":"Prevalence!AB79*BX82","v":54.989999999999995},{"$f":"Prevalence!AC79*BY82","v":0},{"$f":"Prevalence!AD79*BZ82","v":23.310000000000002},{"$f":"Prevalence!AE79*CA82","v":99.24},{"$f":"Prevalence!AF79*CB82","v":542.80999999999995},{"$f":"Prevalence!AG79*CC82","v":19.89},{"$f":"Prevalence!AH79*CD82","v":81.674999999999997},{"$f":"Prevalence!AI79*CE82","v":9.8000000000000007},{"$f":"Prevalence!AJ79*CF82","v":3.375},{"$f":"Prevalence!AK79*CG82","v":128.63},{"$f":"Prevalence!AL79*CH82","v":170.5},{"$f":"Prevalence!AM79*CI82","v":0},{"$f":"Prevalence!AN79*CJ82","v":10.125},{"$f":"Prevalence!AO79*CK82","v":99.614999999999995},{"$f":"Prevalence!AP79*CL82","v":7},{"$f":"Prevalence!AQ79*CM82","v":0},{"$f":"Prevalence!AR79*CN82","v":26.789999999999996},{"$f":"Prevalence!AS79*CO82","v":95.039999999999992},{"$f":"Prevalence!AT79*CP82","v":10.700000000000001},{"$f":"Prevalence!AU79*CQ82","v":55.359999999999992},{"$f":"Prevalence!AV79*CR82","v":50.75},81,13091,1511,70,148,827,583,373,5484,302,1826,1076,null,null,891,null,291,57,113,81,143,148,697,552,35,45,89,611,null,333,827,3502,221,495,70,25,677,1364,null,81,687,70,null,282,792,107,346,350]
["Male 80-84",{"$f":"Prevalence!B80*AX83","v":985.8},{"$f":"Prevalence!C80*AY83","v":146.785},{"$f":"Prevalence!D80*AZ83","v":3.8000000000000003},{"$f":"Prevalence!E80*BA83","v":11.75},{"$f":"Prevalence!F80*BB83","v":69.72},{"$f":"Prevalence!G80*BC83","v":27.839999999999996},{"$f":"Prevalence!H80*BD83","v":27.429999999999996},{"$f":"Prevalence!I80*BE83","v":469.39500000000004},{"$f":"Prevalence!J80*BF83","v":21.63},{"$f":"Prevalence!K80*BG83","v":129.96},{"$f":"Prevalence!L80*BH83","v":70.14},{"$f":"Prevalence!M80*BI83","v":0},{"$f":"Prevalence!N80*BJ83","v":0},{"$f":"Prevalence!O80*BK83","v":73.059999999999988},{"$f":"Prevalence!P80*BL83","v":0},{"$f":"Prevalence!Q80*BM83","v":20.75},{"$f":"Prevalence!R80*BN83","v":4.4550000000000001},{"$f":"Prevalence!S80*BO83","v":9.9},{"$f":"Prevalence!T80*BP83","v":10.009999999999998},{"$f":"Prevalence!U80*BQ83","v":7.6799999999999988},{"$f":"Prevalence!V80*BR83","v":11.75},{"$f":"Prevalence!W80*BS83","v":50.04},{"$f":"Prevalence!X80*BT83","v":61.03},{"$f":"Prevalence!Y80*BU83","v":0.83999999999999986},{"$f":"Prevalence!Z80*BV83","v":2.1849999999999996},{"$f":"Prevalence!AA80*BW83","v":2.85},{"$f":"Prevalence!AB80*BX83","v":34.379999999999995},{"$f":"Prevalence!AC80*BY83","v":0},{"$f":"Prevalence!AD80*BZ83","v":14.14},{"$f":"Prevalence!AE80*CA83","v":69.72},{"$f":"Prevalence!AF80*CB83","v":349.52499999999998},{"$f":"Prevalence!AG80*CC83","v":11.61},{"$f":"Prevalence!AH80*CD83","v":53.954999999999991},{"$f":"Prevalence!AI80*CE83","v":8.6800000000000015},{"$f":"Prevalence!AJ80*CF83","v":1.62},{"$f":"Prevalence!AK80*CG83","v":78.469999999999985},{"$f":"Prevalence!AL80*CH83","v":102.125},{"$f":"Prevalence!AM80*CI83","v":0},{"$f":"Prevalence!AN80*CJ83","v":9.875},{"$f":"Prevalence!AO80*CK83","v":62.059999999999995},{"$f":"Prevalence!AP80*CL83","v":3.8000000000000003},{"$f":"Prevalence!AQ80*CM83","v":0},{"$f":"Prevalence!AR80*CN83","v":16.624999999999996},{"$f":"Prevalence!AS80*CO83","v":53.879999999999995},{"$f":"Prevalence!AT80*CP83","v":5},{"$f":"Prevalence!AU80*CQ83","v":35.999999999999993},{"$f":"Prevalence!AV80*CR83","v":29.145},82,8215,947,38,94,581,348,211,3477,206,1083,668,null,null,562,null,166,33,66,77,96,94,417,359,21,23,38,382,null,202,581,2255,129,327,62,12,413,817,null,79,428,38,null,175,449,50,225,201]
["Male 85-89",{"$f":"Prevalence!B81*AX84","v":450.59999999999997},{"$f":"Prevalence!C81*AY84","v":67.58},{"$f":"Prevalence!D81*AZ84","v":2.4000000000000004},{"$f":"Prevalence!E81*BA84","v":5.375},{"$f":"Prevalence!F81*BB84","v":37.68},{"$f":"Prevalence!G81*BC84","v":13.119999999999997},{"$f":"Prevalence!H81*BD84","v":15.989999999999997},{"$f":"Prevalence!I81*BE84","v":201.55500000000001},{"$f":"Prevalence!J81*BF84","v":10.709999999999999},{"$f":"Prevalence!K81*BG84","v":58.199999999999996},{"$f":"Prevalence!L81*BH84","v":31.709999999999997},{"$f":"Prevalence!M81*BI84","v":0},{"$f":"Prevalence!N81*BJ84","v":0},{"$f":"Prevalence!O81*BK84","v":34.969999999999992},{"$f":"Prevalence!P81*BL84","v":0},{"$f":"Prevalence!Q81*BM84","v":12.125},{"$f":"Prevalence!R81*BN84","v":2.97},{"$f":"Prevalence!S81*BO84","v":4.2},{"$f":"Prevalence!T81*BP84","v":3.3799999999999994},{"$f":"Prevalence!U81*BQ84","v":3.0399999999999996},{"$f":"Prevalence!V81*BR84","v":5.375},{"$f":"Prevalence!W81*BS84","v":25.56},{"$f":"Prevalence!X81*BT84","v":26.35},{"$f":"Prevalence!Y81*BU84","v":0.19999999999999996},{"$f":"Prevalence!Z81*BV84","v":0.7599999999999999},{"$f":"Prevalence!AA81*BW84","v":1.425},{"$f":"Prevalence!AB81*BX84","v":15.209999999999999},{"$f":"Prevalence!AC81*BY84","v":0},{"$f":"Prevalence!AD81*BZ84","v":7.2800000000000011},{"$f":"Prevalence!AE81*CA84","v":37.68},{"$f":"Prevalence!AF81*CB84","v":149.26499999999999},{"$f":"Prevalence!AG81*CC84","v":6.84},{"$f":"Prevalence!AH81*CD84","v":21.284999999999997},{"$f":"Prevalence!AI81*CE84","v":4.3400000000000007},{"$f":"Prevalence!AJ81*CF84","v":0.54},{"$f":"Prevalence!AK81*CG84","v":35.719999999999992},{"$f":"Prevalence!AL81*CH84","v":48},{"$f":"Prevalence!AM81*CI84","v":0},{"$f":"Prevalence!AN81*CJ84","v":3.5},{"$f":"Prevalence!AO81*CK84","v":27.114999999999998},{"$f":"Prevalence!AP81*CL84","v":2.4000000000000004},{"$f":"Prevalence!AQ81*CM84","v":0},{"$f":"Prevalence!AR81*CN84","v":8.8349999999999991},{"$f":"Prevalence!AS81*CO84","v":20.88},{"$f":"Prevalence!AT81*CP84","v":2.2000000000000002},{"$f":"Prevalence!AU81*CQ84","v":18.72},{"$f":"Prevalence!AV81*CR84","v":13.629999999999999},83,3755,436,24,43,314,164,123,1493,102,485,302,null,null,269,null,97,22,28,26,38,43,213,155,5,8,19,169,null,104,314,963,76,129,31,4,188,384,null,28,187,24,null,93,174,22,117,94]
["Male 90+",{"$f":"Prevalence!B82*AX85","v":174.95999999999998},{"$f":"Prevalence!C82*AY85","v":26.815000000000001},{"$f":"Prevalence!D82*AZ85","v":0.9},{"$f":"Prevalence!E82*BA85","v":3.25},{"$f":"Prevalence!F82*BB85","v":14.639999999999999},{"$f":"Prevalence!G82*BC85","v":4.6399999999999997},{"$f":"Prevalence!H82*BD85","v":5.8499999999999988},{"$f":"Prevalence!I82*BE85","v":82.215000000000003},{"$f":"Prevalence!J82*BF85","v":3.15},{"$f":"Prevalence!K82*BG85","v":19.079999999999998},{"$f":"Prevalence!L82*BH85","v":12.809999999999999},{"$f":"Prevalence!M82*BI85","v":0},{"$f":"Prevalence!N82*BJ85","v":0},{"$f":"Prevalence!O82*BK85","v":13.649999999999997},{"$f":"Prevalence!P82*BL85","v":0},{"$f":"Prevalence!Q82*BM85","v":4.25},{"$f":"Prevalence!R82*BN85","v":0.94500000000000006},{"$f":"Prevalence!S82*BO85","v":1.65},{"$f":"Prevalence!T82*BP85","v":1.2999999999999998},{"$f":"Prevalence!U82*BQ85","v":1.5999999999999996},{"$f":"Prevalence!V82*BR85","v":3.25},{"$f":"Prevalence!W82*BS85","v":9.9599999999999991},{"$f":"Prevalence!X82*BT85","v":10.540000000000001},{"$f":"Prevalence!Y82*BU85","v":0.19999999999999996},{"$f":"Prevalence!Z82*BV85","v":0.37999999999999995},{"$f":"Prevalence!AA82*BW85","v":0.44999999999999996},{"$f":"Prevalence!AB82*BX85","v":6.4799999999999995},{"$f":"Prevalence!AC82*BY85","v":0},{"$f":"Prevalence!AD82*BZ85","v":2.0300000000000002},{"$f":"Prevalence!AE82*CA85","v":14.639999999999999},{"$f":"Prevalence!AF82*CB85","v":59.83},{"$f":"Prevalence!AG82*CC85","v":1.7999999999999998},{"$f":"Prevalence!AH82*CD85","v":7.754999999999999},{"$f":"Prevalence!AI82*CE85","v":1.6800000000000002},{"$f":"Prevalence!AJ82*CF85","v":0.54},{"$f":"Prevalence!AK82*CG85","v":14.059999999999999},{"$f":"Prevalence!AL82*CH85","v":15.375},{"$f":"Prevalence!AM82*CI85","v":0},{"$f":"Prevalence!AN82*CJ85","v":1.375},{"$f":"Prevalence!AO82*CK85","v":10.149999999999999},{"$f":"Prevalence!AP82*CL85","v":0.9},{"$f":"Prevalence!AQ82*CM85","v":0},{"$f":"Prevalence!AR82*CN85","v":3.5149999999999997},{"$f":"Prevalence!AS82*CO85","v":8.16},{"$f":"Prevalence!AT82*CP85","v":0.9},{"$f":"Prevalence!AU82*CQ85","v":10.079999999999998},{"$f":"Prevalence!AV82*CR85","v":4.93},84,1458,173,9,26,122,58,45,609,30,159,122,null,null,105,null,34,7,11,10,20,26,83,62,5,4,6,72,null,29,122,386,20,47,12,4,74,123,null,11,70,9,null,37,68,9,63,34]
["Female <1",null,null,null,null,null,null,null,null,null,null,null,null,null,null,null,null,null,null,null,null,null,null,null,null,null,null,null,null,null,null,null,null,null,null,null,null,null,null,null,null,null,null,null,null,null,null,null,85]
["Female 1-4",null,null,null,null,null,null,null,null,null,null,null,null,null,null,null,null,null,null,null,null,null,null,null,null,null,null,null,null,null,null,null,null,null,null,null,null,null,null,null,null,null,null,null,null,null,null,null,86]
["Female 5-9",null,null,null,null,null,null,null,null,null,null,null,null,null,null,null,null,null,null,null,null,null,null,null,null,null,null,null,null,null,null,null,null,null,null,null,null,null,null,null,null,null,null,null,null,null,null,null,87]
["Female 10-14",null,null,null,null,null,null,null,null,null,null,null,null,null,null,null,null,null,null,null,null,null,null,null,null,null,null,null,null,null,null,null,null,null,null,null,null,null,null,null,null,null,null,null,null,null,null,null,88]
["Female 15-19 (16+)",{"$f":"Prevalence!B87*AX90","v":6363.25},{"$f":"Prevalence!C87*AY90","v":794.31818181818187},{"$f":"Prevalence!D87*AZ90","v":22.897727272727273},{"$f":"Prevalence!E87*BA90","v":81.545454545454533},{"$f":"Prevalence!F87*BB90","v":406.39772727272731},{"$f":"Prevalence!G87*BC90","v":265.60227272727275},{"$f":"Prevalence!H87*BD90","v":190.67045454545456},{"$f":"Prevalence!I87*BE90","v":2562.5},{"$f":"Prevalence!J87*BF90","v":154.875},{"$f":"Prevalence!K87*BG90","v":914.51136363636363},{"$f":"Prevalence!L87*BH90","v":514.51136363636363},{"$f":"Prevalence!M87*BI90","v":0},{"$f":"Prevalence!N87*BJ90","v":0},{"$f":"Prevalence!O87*BK90","v":472.28409090909088},{"$f":"Prevalence!P87*BL90","v":0},{"$f":"Prevalence!Q87*BM90","v":158.93181818181819},{"$f":"Prevalence!R87*BN90","v":24.579545454545457},{"$f":"Prevalence!S87*BO90","v":48.272727272727273},{"$f":"Prevalence!T87*BP90","v":50.999999999999993},{"$f":"Prevalence!U87*BQ90","v":119},{"$f":"Prevalence!V87*BR90","v":81.545454545454533},{"$f":"Prevalence!W87*BS90","v":488.72727272727275},{"$f":"Prevalence!X87*BT90","v":350.86363636363637},{"$f":"Prevalence!Y87*BU90","v":12.045454545454545},{"$f":"Prevalence!Z87*BV90","v":33},{"$f":"Prevalence!AA87*BW90","v":23.375},{"$f":"Prevalence!AB87*BX90","v":285.54545454545456},{"$f":"Prevalence!AC87*BY90","v":0},{"$f":"Prevalence!AD87*BZ90","v":130.94318181818181},{"$f":"Prevalence!AE87*CA90","v":406.39772727272731},{"$f":"Prevalence!AF87*CB90","v":1815.5454545454545},{"$f":"Prevalence!AG87*CC90","v":105},{"$f":"Prevalence!AH87*CD90","v":215.625},{"$f":"Prevalence!AI87*CE90","v":52.772727272727273},{"$f":"Prevalence!AJ87*CF90","v":6.4772727272727275},{"$f":"Prevalence!AK87*CG90","v":403.46590909090912},{"$f":"Prevalence!AL87*CH90","v":664.5},{"$f":"Prevalence!AM87*CI90","v":0},{"$f":"Prevalence!AN87*CJ90","v":46.431818181818187},{"$f":"Prevalence!AO87*CK90","v":317.3295454545455},{"$f":"Prevalence!AP87*CL90","v":22.897727272727273},{"$f":"Prevalence!AQ87*CM90","v":0},{"$f":"Prevalence!AR87*CN90","v":88.181818181818187},{"$f":"Prevalence!AS87*CO90","v":377.18181818181813},{"$f":"Prevalence!AT87*CP90","v":40.568181818181813},{"$f":"Prevalence!AU87*CQ90","v":278.18181818181819},{"$f":"Prevalence!AV87*CR90","v":126.18181818181819},89,25453,2796,155,299,1703,1113,799,10250,649,3499,2383,null,null,1807,null,666,103,236,187,374,299,1344,996,106,121,187,1396,null,501,1703,6657,462,825,172,30,1315,2658,null,227,1117,155,null,485,1383,238,816,694]
["Female 20-24",{"$f":"Prevalence!B88*AX91","v":10042.25},{"$f":"Prevalence!C88*AY91","v":1052.8409090909092},{"$f":"Prevalence!D88*AZ91","v":32.94318181818182},{"$f":"Prevalence!E88*BA91","v":140.45454545454544},{"$f":"Prevalence!F88*BB91","v":566.04545454545462},{"$f":"Prevalence!G88*BC91","v":413.55681818181819},{"$f":"Prevalence!H88*BD91","v":399},{"$f":"Prevalence!I88*BE91","v":4306.25},{"$f":"Prevalence!J88*BF91","v":222.88636363636365},{"$f":"Prevalence!K88*BG91","v":1234.9431818181818},{"$f":"Prevalence!L88*BH91","v":844.85227272727275},{"$f":"Prevalence!M88*BI91","v":0},{"$f":"Prevalence!N88*BJ91","v":0},{"$f":"Prevalence!O88*BK91","v":823.55681818181813},{"$f":"Prevalence!P88*BL91","v":0},{"$f":"Prevalence!Q88*BM91","v":337.19318181818181},{"$f":"Prevalence!R88*BN91","v":51.545454545454547},{"$f":"Prevalence!S88*BO91","v":64.840909090909093},{"$f":"Prevalence!T88*BP91","v":61.909090909090907},{"$f":"Prevalence!U88*BQ91","v":158.77272727272728},{"$f":"Prevalence!V88*BR91","v":140.45454545454544},{"$f":"Prevalence!W88*BS91","v":894.18181818181824},{"$f":"Prevalence!X88*BT91","v":451.61363636363637},{"$f":"Prevalence!Y88*BU91","v":15.113636363636363},{"$f":"Prevalence!Z88*BV91","v":37.909090909090907},{"$f":"Prevalence!AA88*BW91","v":33.75},{"$f":"Prevalence!AB88*BX91","v":529.36363636363637},{"$f":"Prevalence!AC88*BY91","v":0},{"$f":"Prevalence!AD88*BZ91","v":213.79545454545453},{"$f":"Prevalence!AE88*CA91","v":566.04545454545462},{"$f":"Prevalence!AF88*CB91","v":3242.7272727272725},{"$f":"Prevalence!AG88*CC91","v":160.68181818181819},{"$f":"Prevalence!AH88*CD91","v":310.76136363636363},{"$f":"Prevalence!AI88*CE91","v":78.852272727272734},{"$f":"Prevalence!AJ88*CF91","v":9.2840909090909101},{"$f":"Prevalence!AK88*CG91","v":516.98863636363637},{"$f":"Prevalence!AL88*CH91","v":912.5},{"$f":"Prevalence!AM88*CI91","v":0},{"$f":"Prevalence!AN88*CJ91","v":76.704545454545453},{"$f":"Prevalence!AO88*CK91","v":509.37500000000006},{"$f":"Prevalence!AP88*CL91","v":32.94318181818182},{"$f":"Prevalence!AQ88*CM91","v":0},{"$f":"Prevalence!AR88*CN91","v":134.36363636363637},{"$f":"Prevalence!AS88*CO91","v":505.36363636363632},{"$f":"Prevalence!AT88*CP91","v":70.909090909090907},{"$f":"Prevalence!AU88*CQ91","v":399.5454545454545},{"$f":"Prevalence!AV88*CR91","v":168.90909090909091},90,40169,3706,223,515,2372,1733,1672,17225,934,4725,3913,null,null,3151,null,1413,216,317,227,499,515,2459,1282,133,139,270,2588,null,818,2372,11890,707,1189,257,43,1685,3650,null,375,1793,223,null,739,1853,416,1172,929]
["Female 25-29",{"$f":"Prevalence!B89*AX92","v":15041.88},{"$f":"Prevalence!C89*AY92","v":1458},{"$f":"Prevalence!D89*AZ92","v":45.310909090909092},{"$f":"Prevalence!E89*BA92","v":160.23272727272726},{"$f":"Prevalence!F89*BB92","v":846.03272727272724},{"$f":"Prevalence!G89*BC92","v":544.66363636363633},{"$f":"Prevalence!H89*BD92","v":586.93090909090904},{"$f":"Prevalence!I89*BE92","v":6480.7199999999993},{"$f":"Prevalence!J89*BF92","v":353.94545454545454},{"$f":"Prevalence!K89*BG92","v":1955.961818181818},{"$f":"Prevalence!L89*BH92","v":1386.3436363636363},{"$f":"Prevalence!M89*BI92","v":0},{"$f":"Prevalence!N89*BJ92","v":0},{"$f":"Prevalence!O89*BK92","v":1187.4272727272726},{"$f":"Prevalence!P89*BL92","v":0},{"$f":"Prevalence!Q89*BM92","v":500.33454545454543},{"$f":"Prevalence!R89*BN92","v":78.00545454545454},{"$f":"Prevalence!S89*BO92","v":97.2},{"$f":"Prevalence!T89*BP92","v":95.039999999999992},{"$f":"Prevalence!U89*BQ92","v":221.76},{"$f":"Prevalence!V89*BR92","v":160.23272727272726},{"$f":"Prevalence!W89*BS92","v":1259.3454545454547},{"$f":"Prevalence!X89*BT92","v":666.04909090909098},{"$f":"Prevalence!Y89*BU92","v":20.781818181818181},{"$f":"Prevalence!Z89*BV92","v":53.803636363636357},{"$f":"Prevalence!AA89*BW92","v":44.46},{"$f":"Prevalence!AB89*BX92","v":893.06181818181824},{"$f":"Prevalence!AC89*BY92","v":0},{"$f":"Prevalence!AD89*BZ92","v":288.67090909090905},{"$f":"Prevalence!AE89*CA92","v":846.03272727272724},{"$f":"Prevalence!AF89*CB92","v":4886.312727272727},{"$f":"Prevalence!AG89*CC92","v":257.89090909090908},{"$f":"Prevalence!AH89*CD92","v":448.62545454545455},{"$f":"Prevalence!AI89*CE92","v":99.850909090909099},{"$f":"Prevalence!AJ89*CF92","v":7.7727272727272725},{"$f":"Prevalence!AK89*CG92","v":675.9818181818182},{"$f":"Prevalence!AL89*CH92","v":1424.52},{"$f":"Prevalence!AM89*CI92","v":0},{"$f":"Prevalence!AN89*CJ92","v":123.70909090909092},{"$f":"Prevalence!AO89*CK92","v":787.5},{"$f":"Prevalence!AP89*CL92","v":45.310909090909092},{"$f":"Prevalence!AQ89*CM92","v":0},{"$f":"Prevalence!AR89*CN92","v":188.7709090909091},{"$f":"Prevalence!AS89*CO92","v":836.90181818181816},{"$f":"Prevalence!AT89*CP92","v":81.98181818181817},{"$f":"Prevalence!AU89*CQ92","v":578.29090909090905},{"$f":"Prevalence!AV89*CR92","v":278.5745454545455},91,41783,3564,213,408,2462,1585,1708,18002,1030,5197,4459,null,null,3155,null,1456,227,330,242,484,408,2405,1313,127,137,247,3032,null,767,2462,12442,788,1192,226,25,1530,3957,null,420,1925,213,null,721,2131,334,1178,1064]
["Female 30-34",{"$f":"Prevalence!B90*AX93","v":13490.64},{"$f":"Prevalence!C90*AY93","v":1286.1818181818182},{"$f":"Prevalence!D90*AZ93","v":39.78},{"$f":"Prevalence!E90*BA93","v":162.98181818181817},{"$f":"Prevalence!F90*BB93","v":761.15454545454543},{"$f":"Prevalence!G90*BC93","v":484.87090909090909},{"$f":"Prevalence!H90*BD93","v":468.03272727272724},{"$f":"Prevalence!I90*BE93","v":5844.96},{"$f":"Prevalence!J90*BF93","v":306.18},{"$f":"Prevalence!K90*BG93","v":1797.5127272727273},{"$f":"Prevalence!L90*BH93","v":1289.6509090909092},{"$f":"Prevalence!M90*BI93","v":0},{"$f":"Prevalence!N90*BJ93","v":0},{"$f":"Prevalence!O90*BK93","v":1012.0418181818181},{"$f":"Prevalence!P90*BL93","v":0},{"$f":"Prevalence!Q90*BM93","v":402.74181818181819},{"$f":"Prevalence!R90*BN93","v":56.699999999999996},{"$f":"Prevalence!S90*BO93","v":90.1309090909091},{"$f":"Prevalence!T90*BP93","v":75.010909090909081},{"$f":"Prevalence!U90*BQ93","v":207.09818181818179},{"$f":"Prevalence!V90*BR93","v":162.98181818181817},{"$f":"Prevalence!W90*BS93","v":1066.6472727272728},{"$f":"Prevalence!X90*BT93","v":555.97090909090912},{"$f":"Prevalence!Y90*BU93","v":21.763636363636362},{"$f":"Prevalence!Z90*BV93","v":60.872727272727268},{"$f":"Prevalence!AA90*BW93","v":48.78},{"$f":"Prevalence!AB90*BX93","v":832.97454545454548},{"$f":"Prevalence!AC90*BY93","v":0},{"$f":"Prevalence!AD90*BZ93","v":262.70181818181817},{"$f":"Prevalence!AE90*CA93","v":761.15454545454543},{"$f":"Prevalence!AF90*CB93","v":4327.8545454545456},{"$f":"Prevalence!AG90*CC93","v":229.09090909090909},{"$f":"Prevalence!AH90*CD93","v":402.70909090909089},{"$f":"Prevalence!AI90*CE93","v":94.107272727272729},{"$f":"Prevalence!AJ90*CF93","v":7.7727272727272725},{"$f":"Prevalence!AK90*CG93","v":661.40181818181816},{"$f":"Prevalence!AL90*CH93","v":1274.3999999999999},{"$f":"Prevalence!AM90*CI93","v":0},{"$f":"Prevalence!AN90*CJ93","v":101.91272727272728},{"$f":"Prevalence!AO90*CK93","v":739.22727272727275},{"$f":"Prevalence!AP90*CL93","v":39.78},{"$f":"Prevalence!AQ90*CM93","v":0},{"$f":"Prevalence!AR90*CN93","v":144.2618181818182},{"$f":"Prevalence!AS90*CO93","v":822.37090909090909},{"$f":"Prevalence!AT90*CP93","v":64.063636363636363},{"$f":"Prevalence!AU90*CQ93","v":528.70909090909083},{"$f":"Prevalence!AV90*CR93","v":249.25090909090912},92,37474,3144,187,415,2215,1411,1362,16236,891,4776,4148,null,null,2689,null,1172,165,306,191,452,415,2037,1096,133,155,271,2828,null,698,2215,11020,700,1070,213,25,1497,3540,null,346,1807,187,null,551,2094,261,1077,952]
["Female 35-39",{"$f":"Prevalence!B91*AX94","v":12163.8},{"$f":"Prevalence!C91*AY94","v":1336.909090909091},{"$f":"Prevalence!D91*AZ94","v":42.214545454545458},{"$f":"Prevalence!E91*BA94","v":133.8981818181818},{"$f":"Prevalence!F91*BB94","v":689.9072727272727},{"$f":"Prevalence!G91*BC94","v":496.57363636363635},{"$f":"Prevalence!H91*BD94","v":418.5872727272727},{"$f":"Prevalence!I91*BE94","v":5136.84},{"$f":"Prevalence!J91*BF94","v":281.11363636363637},{"$f":"Prevalence!K91*BG94","v":1730.1227272727274},{"$f":"Prevalence!L91*BH94","v":1053.7918181818181},{"$f":"Prevalence!M91*BI94","v":0},{"$f":"Prevalence!N91*BJ94","v":0},{"$f":"Prevalence!O91*BK94","v":841.82090909090914},{"$f":"Prevalence!P91*BL94","v":0},{"$f":"Prevalence!Q91*BM94","v":360.91363636363639},{"$f":"Prevalence!R91*BN94","v":48.242727272727272},{"$f":"Prevalence!S91*BO94","v":73.99636363636364},{"$f":"Prevalence!T91*BP94","v":81.665454545454537},{"$f":"Prevalence!U91*BQ94","v":218.60363636363635},{"$f":"Prevalence!V91*BR94","v":133.8981818181818},{"$f":"Prevalence!W91*BS94","v":889.89090909090908},{"$f":"Prevalence!X91*BT94","v":578.82636363636368},{"$f":"Prevalence!Y91*BU94","v":20.9},{"$f":"Prevalence!Z91*BV94","v":58.86545454545454},{"$f":"Prevalence!AA91*BW94","v":43.13},{"$f":"Prevalence!AB91*BX94","v":634.25454545454545},{"$f":"Prevalence!AC91*BY94","v":0},{"$f":"Prevalence!AD91*BZ94","v":263.39181818181817},{"$f":"Prevalence!AE91*CA94","v":689.9072727272727},{"$f":"Prevalence!AF91*CB94","v":3734.6399999999994},{"$f":"Prevalence!AG91*CC94","v":199.67272727272729},{"$f":"Prevalence!AH91*CD94","v":385.35454545454547},{"$f":"Prevalence!AI91*CE94","v":80.680909090909097},{"$f":"Prevalence!AJ91*CF94","v":8.5327272727272732},{"$f":"Prevalence!AK91*CG94","v":702.81000000000006},{"$f":"Prevalence!AL91*CH94","v":1241.8399999999999},{"$f":"Prevalence!AM91*CI94","v":0},{"$f":"Prevalence!AN91*CJ94","v":84.256363636363631},{"$f":"Prevalence!AO91*CK94","v":621.38636363636374},{"$f":"Prevalence!AP91*CL94","v":42.214545454545458},{"$f":"Prevalence!AQ91*CM94","v":0},{"$f":"Prevalence!AR91*CN94","v":140.39272727272729},{"$f":"Prevalence!AS91*CO94","v":771.88363636363624},{"$f":"Prevalence!AT91*CP94","v":65.809090909090912},{"$f":"Prevalence!AU91*CQ94","v":506.26363636363635},{"$f":"Prevalence!AV91*CR94","v":236.56727272727272},93,32010,3096,188,323,1902,1369,1154,13518,775,4355,3211,null,null,2119,null,995,133,238,197,452,323,1610,1081,121,142,227,2040,null,663,1902,9009,578,970,173,26,1507,3268,null,271,1439,188,null,508,1862,254,977,856]
["Female 40-44",{"$f":"Prevalence!B92*AX95","v":14255.7},{"$f":"Prevalence!C92*AY95","v":1627.9545454545457},{"$f":"Prevalence!D92*AZ95","v":43.337272727272726},{"$f":"Prevalence!E92*BA95","v":159.6},{"$f":"Prevalence!F92*BB95","v":894.12272727272727},{"$f":"Prevalence!G92*BC95","v":558.6},{"$f":"Prevalence!H92*BD95","v":419.31272727272727},{"$f":"Prevalence!I92*BE95","v":6160.18},{"$f":"Prevalence!J92*BF95","v":328.2681818181818},{"$f":"Prevalence!K92*BG95","v":2061.4481818181816},{"$f":"Prevalence!L92*BH95","v":1112.5363636363636},{"$f":"Prevalence!M92*BI95","v":0},{"$f":"Prevalence!N92*BJ95","v":0},{"$f":"Prevalence!O92*BK95","v":918.09727272727275},{"$f":"Prevalence!P92*BL95","v":0},{"$f":"Prevalence!Q92*BM95","v":354.38454545454545},{"$f":"Prevalence!R92*BN95","v":51.87},{"$f":"Prevalence!S92*BO95","v":84.567272727272723},{"$f":"Prevalence!T92*BP95","v":103.22181818181816},{"$f":"Prevalence!U92*BQ95","v":243.75272727272727},{"$f":"Prevalence!V92*BR95","v":159.6},{"$f":"Prevalence!W92*BS95","v":970.0363636363636},{"$f":"Prevalence!X92*BT95","v":735.71454545454549},{"$f":"Prevalence!Y92*BU95","v":26.254545454545454},{"$f":"Prevalence!Z92*BV95","v":59.279999999999994},{"$f":"Prevalence!AA92*BW95","v":51.68},{"$f":"Prevalence!AB92*BX95","v":659.74909090909091},{"$f":"Prevalence!AC92*BY95","v":0},{"$f":"Prevalence!AD92*BZ95","v":282.46090909090907},{"$f":"Prevalence!AE92*CA95","v":894.12272727272727},{"$f":"Prevalence!AF92*CB95","v":4405.7890909090902},{"$f":"Prevalence!AG92*CC95","v":226.61818181818182},{"$f":"Prevalence!AH92*CD95","v":529.16727272727269},{"$f":"Prevalence!AI92*CE95","v":102.6},{"$f":"Prevalence!AJ92*CF95","v":11.814545454545454},{"$f":"Prevalence!AK92*CG95","v":821.26636363636362},{"$f":"Prevalence!AL92*CH95","v":1495.68},{"$f":"Prevalence!AM92*CI95","v":0},{"$f":"Prevalence!AN92*CJ95","v":88.298181818181817},{"$f":"Prevalence!AO92*CK95","v":796.70454545454561},{"$f":"Prevalence!AP92*CL95","v":43.337272727272726},{"$f":"Prevalence!AQ92*CM95","v":0},{"$f":"Prevalence!AR92*CN95","v":175.4909090909091},{"$f":"Prevalence!AS92*CO95","v":858.52363636363623},{"$f":"Prevalence!AT92*CP95","v":84.204545454545453},{"$f":"Prevalence!AU92*CQ95","v":603.16363636363633},{"$f":"Prevalence!AV92*CR95","v":250.10909090909092},94,37515,3770,193,385,2465,1540,1156,16211,905,5189,3390,null,null,2311,null,977,143,272,249,504,385,1755,1374,152,143,272,2122,null,711,2465,10628,656,1332,220,36,1761,3936,null,284,1845,193,null,635,2071,325,1164,905]
["Female 45-49",{"$f":"Prevalence!B93*AX96","v":18530.88},{"$f":"Prevalence!C93*AY96","v":2199.2727272727275},{"$f":"Prevalence!D93*AZ96","v":50.203636363636363},{"$f":"Prevalence!E93*BA96","v":226.21090909090907},{"$f":"Prevalence!F93*BB96","v":1156.4509090909091},{"$f":"Prevalence!G93*BC96","v":739.04727272727268},{"$f":"Prevalence!H93*BD96","v":533.32363636363641},{"$f":"Prevalence!I93*BE96","v":8102.4},{"$f":"Prevalence!J93*BF96","v":419.69454545454545},{"$f":"Prevalence!K93*BG96","v":2611.4618181818182},{"$f":"Prevalence!L93*BH96","v":1339.810909090909},{"$f":"Prevalence!M93*BI96","v":0},{"$f":"Prevalence!N93*BJ96","v":0},{"$f":"Prevalence!O93*BK96","v":1220.4218181818183},{"$f":"Prevalence!P93*BL96","v":0},{"$f":"Prevalence!Q93*BM96","v":439.85454545454547},{"$f":"Prevalence!R93*BN96","v":73.767272727272726},{"$f":"Prevalence!S93*BO96","v":102.89454545454547},{"$f":"Prevalence!T93*BP96","v":123.5781818181818},{"$f":"Prevalence!U93*BQ96","v":318.28363636363633},{"$f":"Prevalence!V93*BR96","v":226.21090909090907},{"$f":"Prevalence!W93*BS96","v":1306.9963636363636},{"$f":"Prevalence!X93*BT96","v":1007.7818181818183},{"$f":"Prevalence!Y93*BU96","v":36.218181818181819},{"$f":"Prevalence!Z93*BV96","v":88.494545454545445},{"$f":"Prevalence!AA93*BW96","v":70.8},{"$f":"Prevalence!AB93*BX96","v":757.57090909090914},{"$f":"Prevalence!AC93*BY96","v":0},{"$f":"Prevalence!AD93*BZ96","v":385.39636363636362},{"$f":"Prevalence!AE93*CA96","v":1156.4509090909091},{"$f":"Prevalence!AF93*CB96","v":5822.8363636363629},{"$f":"Prevalence!AG93*CC96","v":296.72727272727269},{"$f":"Prevalence!AH93*CD96","v":681.46909090909094},{"$f":"Prevalence!AI93*CE96","v":112.51636363636364},{"$f":"Prevalence!AJ93*CF96","v":17.825454545454544},{"$f":"Prevalence!AK93*CG96","v":1148.1381818181819},{"$f":"Prevalence!AL93*CH96","v":1900.32},{"$f":"Prevalence!AM93*CI96","v":0},{"$f":"Prevalence!AN93*CJ96","v":117.03272727272729},{"$f":"Prevalence!AO93*CK96","v":986.18181818181836},{"$f":"Prevalence!AP93*CL96","v":50.203636363636363},{"$f":"Prevalence!AQ93*CM96","v":0},{"$f":"Prevalence!AR93*CN96","v":207.01090909090908},{"$f":"Prevalence!AS93*CO96","v":1119.5345454545452},{"$f":"Prevalence!AT93*CP96","v":106.03636363636362},{"$f":"Prevalence!AU93*CQ96","v":811.63636363636351},{"$f":"Prevalence!AV93*CR96","v":329.19272727272727},95,38606,4032,177,432,2524,1613,1164,16880,916,5204,3232,null,null,2432,null,960,161,262,236,521,432,1872,1490,166,169,295,1929,null,768,2524,11120,680,1358,191,43,1949,3959,null,298,1808,177,null,593,2138,324,1240,943]
["Female 50-54",{"$f":"Prevalence!B94*AX97","v":17091.36},{"$f":"Prevalence!C94*AY97","v":1995.2727272727275},{"$f":"Prevalence!D94*AZ97","v":47.93454545454545},{"$f":"Prevalence!E94*BA97","v":192.69818181818178},{"$f":"Prevalence!F94*BB97","v":1023.12},{"$f":"Prevalence!G94*BC97","v":681.77454545454543},{"$f":"Prevalence!H94*BD97","v":478.8},{"$f":"Prevalence!I94*BE97","v":7438.5599999999995},{"$f":"Prevalence!J94*BF97","v":403.65818181818184},{"$f":"Prevalence!K94*BG97","v":2415.7527272727275},{"$f":"Prevalence!L94*BH97","v":1275.1418181818183},{"$f":"Prevalence!M94*BI97","v":0},{"$f":"Prevalence!N94*BJ97","v":0},{"$f":"Prevalence!O94*BK97","v":1193.3236363636363},{"$f":"Prevalence!P94*BL97","v":0},{"$f":"Prevalence!Q94*BM97","v":395.86909090909091},{"$f":"Prevalence!R94*BN97","v":68.269090909090906},{"$f":"Prevalence!S94*BO97","v":113.10545454545455},{"$f":"Prevalence!T94*BP97","v":133.00363636363633},{"$f":"Prevalence!U94*BQ97","v":287.12727272727273},{"$f":"Prevalence!V94*BR97","v":192.69818181818178},{"$f":"Prevalence!W94*BS97","v":1283.2581818181818},{"$f":"Prevalence!X94*BT97","v":859.6581818181819},{"$f":"Prevalence!Y94*BU97","v":32.727272727272727},{"$f":"Prevalence!Z94*BV97","v":77.498181818181806},{"$f":"Prevalence!AA94*BW97","v":60},{"$f":"Prevalence!AB94*BX97","v":741.46909090909094},{"$f":"Prevalence!AC94*BY97","v":0},{"$f":"Prevalence!AD94*BZ97","v":364.82181818181817},{"$f":"Prevalence!AE94*CA97","v":1023.12},{"$f":"Prevalence!AF94*CB97","v":5314.9090909090901},{"$f":"Prevalence!AG94*CC97","v":273.59999999999997},{"$f":"Prevalence!AH94*CD97","v":647.84727272727275},{"$f":"Prevalence!AI94*CE97","v":118.40727272727273},{"$f":"Prevalence!AJ94*CF97","v":13.265454545454546},{"$f":"Prevalence!AK94*CG97","v":1049.76},{"$f":"Prevalence!AL94*CH97","v":1714.56},{"$f":"Prevalence!AM94*CI97","v":0},{"$f":"Prevalence!AN94*CJ97","v":98.967272727272729},{"$f":"Prevalence!AO94*CK97","v":952.90909090909099},{"$f":"Prevalence!AP94*CL97","v":47.93454545454545},{"$f":"Prevalence!AQ94*CM97","v":0},{"$f":"Prevalence!AR94*CN97","v":211.2},{"$f":"Prevalence!AS94*CO97","v":1076.0727272727272},{"$f":"Prevalence!AT94*CP97","v":95.23636363636362},{"$f":"Prevalence!AU94*CQ97","v":717.38181818181806},{"$f":"Prevalence!AV94*CR97","v":292.88727272727272},96,35607,3658,169,368,2233,1488,1045,15497,881,4814,3076,null,null,2378,null,864,149,288,254,470,368,1838,1271,150,148,250,1888,null,727,2233,10150,627,1291,201,32,1782,3572,null,252,1747,169,null,605,2055,291,1096,839]
["Female 55-59",{"$f":"Prevalence!B95*AX98","v":10492.65},{"$f":"Prevalence!C95*AY98","v":1312.1022727272727},{"$f":"Prevalence!D95*AZ98","v":34.331818181818178},{"$f":"Prevalence!E95*BA98","v":127.14545454545453},{"$f":"Prevalence!F95*BB98","v":636.7772727272727},{"$f":"Prevalence!G95*BC98","v":419.61818181818182},{"$f":"Prevalence!H95*BD98","v":309.36818181818182},{"$f":"Prevalence!I95*BE98","v":4391.0999999999995},{"$f":"Prevalence!J95*BF98","v":264.93409090909091},{"$f":"Prevalence!K95*BG98","v":1567.5545454545452},{"$f":"Prevalence!L95*BH98","v":754.1704545454545},{"$f":"Prevalence!M95*BI98","v":0},{"$f":"Prevalence!N95*BJ98","v":0},{"$f":"Prevalence!O95*BK98","v":722.67045454545439},{"$f":"Prevalence!P95*BL98","v":0},{"$f":"Prevalence!Q95*BM98","v":256.58181818181822},{"$f":"Prevalence!R95*BN98","v":42.429545454545455},{"$f":"Prevalence!S95*BO98","v":60.709090909090911},{"$f":"Prevalence!T95*BP98","v":82.854545454545445},{"$f":"Prevalence!U95*BQ98","v":186.2},{"$f":"Prevalence!V95*BR98","v":127.14545454545453},{"$f":"Prevalence!W95*BS98","v":773.30909090909086},{"$f":"Prevalence!X95*BT98","v":559.2681818181818},{"$f":"Prevalence!Y95*BU98","v":21.15909090909091},{"$f":"Prevalence!Z95*BV98","v":46.199999999999996},{"$f":"Prevalence!AA95*BW98","v":32.725000000000001},{"$f":"Prevalence!AB95*BX98","v":423.24545454545455},{"$f":"Prevalence!AC95*BY98","v":0},{"$f":"Prevalence!AD95*BZ98","v":207.83636363636361},{"$f":"Prevalence!AE95*CA98","v":636.7772727272727},{"$f":"Prevalence!AF95*CB98","v":3064.0909090909086},{"$f":"Prevalence!AG95*CC98","v":183.27272727272728},{"$f":"Prevalence!AH95*CD98","v":408.72045454545446},{"$f":"Prevalence!AI95*CE98","v":69.156818181818181},{"$f":"Prevalence!AJ95*CF98","v":9.3704545454545443},{"$f":"Prevalence!AK95*CG98","v":678.25227272727261},{"$f":"Prevalence!AL95*CH98","v":1110.55},{"$f":"Prevalence!AM95*CI98","v":0},{"$f":"Prevalence!AN95*CJ98","v":69.872727272727275},{"$f":"Prevalence!AO95*CK98","v":534.54545454545462},{"$f":"Prevalence!AP95*CL98","v":34.331818181818178},{"$f":"Prevalence!AQ95*CM98","v":0},{"$f":"Prevalence!AR95*CN98","v":149.16363636363636},{"$f":"Prevalence!AS95*CO98","v":728.12727272727261},{"$f":"Prevalence!AT95*CP98","v":64.431818181818173},{"$f":"Prevalence!AU95*CQ98","v":450.54545454545445},{"$f":"Prevalence!AV95*CR98","v":187.09090909090907},97,29979,3299,166,333,1906,1256,926,12546,793,4284,2495,null,null,1975,null,768,127,212,217,418,333,1519,1134,133,121,187,1478,null,568,1906,8025,576,1117,161,31,1579,3173,null,244,1344,166,null,586,1907,270,944,735]
["Female 60-64",{"$f":"Prevalence!B96*AX99","v":9571.4499999999989},{"$f":"Prevalence!C96*AY99","v":1212.2727272727275},{"$f":"Prevalence!D96*AZ99","v":33.090909090909093},{"$f":"Prevalence!E96*BA99","v":110.72727272727272},{"$f":"Prevalence!F96*BB99","v":638.78181818181815},{"$f":"Prevalence!G96*BC99","v":381.8659090909091},{"$f":"Prevalence!H96*BD99","v":258.25227272727273},{"$f":"Prevalence!I96*BE99","v":3861.8999999999996},{"$f":"Prevalence!J96*BF99","v":248.89772727272728},{"$f":"Prevalence!K96*BG99","v":1485.5909090909088},{"$f":"Prevalence!L96*BH99","v":704.2954545454545},{"$f":"Prevalence!M96*BI99","v":0},{"$f":"Prevalence!N96*BJ99","v":0},{"$f":"Prevalence!O96*BK99","v":677.66363636363621},{"$f":"Prevalence!P96*BL99","v":0},{"$f":"Prevalence!Q96*BM99","v":215.48863636363637},{"$f":"Prevalence!R96*BN99","v":32.740909090909092},{"$f":"Prevalence!S96*BO99","v":53.550000000000004},{"$f":"Prevalence!T96*BP99","v":89.34545454545453},{"$f":"Prevalence!U96*BQ99","v":169.27272727272725},{"$f":"Prevalence!V96*BR99","v":110.72727272727272},{"$f":"Prevalence!W96*BS99","v":738.18181818181813},{"$f":"Prevalence!X96*BT99","v":532.1431818181818},{"$f":"Prevalence!Y96*BU99","v":14.795454545454545},{"$f":"Prevalence!Z96*BV99","v":45.054545454545448},{"$f":"Prevalence!AA96*BW99","v":33.949999999999996},{"$f":"Prevalence!AB96*BX99","v":386.87727272727273},{"$f":"Prevalence!AC96*BY99","v":0},{"$f":"Prevalence!AD96*BZ99","v":202.71363636363634},{"$f":"Prevalence!AE96*CA99","v":638.78181818181815},{"$f":"Prevalence!AF96*CB99","v":2647.5272727272722},{"$f":"Prevalence!AG96*CC99","v":162.59090909090909},{"$f":"Prevalence!AH96*CD99","v":387.13181818181812},{"$f":"Prevalence!AI96*CE99","v":66.579545454545453},{"$f":"Prevalence!AJ96*CF99","v":9.0681818181818166},{"$f":"Prevalence!AK96*CG99","v":628.85454545454536},{"$f":"Prevalence!AL96*CH99","v":1052.45},{"$f":"Prevalence!AM96*CI99","v":0},{"$f":"Prevalence!AN96*CJ99","v":61.56818181818182},{"$f":"Prevalence!AO96*CK99","v":473.69318181818187},{"$f":"Prevalence!AP96*CL99","v":33.090909090909093},{"$f":"Prevalence!AQ96*CM99","v":0},{"$f":"Prevalence!AR96*CN99","v":128.54545454545453},{"$f":"Prevalence!AS96*CO99","v":673.5272727272727},{"$f":"Prevalence!AT96*CP99","v":49.874999999999993},{"$f":"Prevalence!AU96*CQ99","v":407.11363636363626},{"$f":"Prevalence!AV96*CR99","v":179.70909090909089},98,27347,3048,160,290,1912,1143,773,11034,745,4060,2330,null,null,1852,null,645,98,187,234,380,290,1450,1079,93,118,194,1351,null,554,1912,6934,511,1058,155,30,1464,3007,null,215,1191,160,null,505,1764,209,853,706]
["Female 65-69",{"$f":"Prevalence!B97*AX100","v":5087.88},{"$f":"Prevalence!C97*AY100","v":638.35227272727275},{"$f":"Prevalence!D97*AZ100","v":17.745000000000001},{"$f":"Prevalence!E97*BA100","v":70.559999999999988},{"$f":"Prevalence!F97*BB100","v":340.97318181818184},{"$f":"Prevalence!G97*BC100","v":202.45909090909092},{"$f":"Prevalence!H97*BD100","v":124.68272727272728},{"$f":"Prevalence!I97*BE100","v":2096.4299999999998},{"$f":"Prevalence!J97*BF100","v":128.69181818181818},{"$f":"Prevalence!K97*BG100","v":781.14272727272714},{"$f":"Prevalence!L97*BH100","v":353.65909090909093},{"$f":"Prevalence!M97*BI100","v":0},{"$f":"Prevalence!N97*BJ100","v":0},{"$f":"Prevalence!O97*BK100","v":359.17636363636359},{"$f":"Prevalence!P97*BL100","v":0},{"$f":"Prevalence!Q97*BM100","v":101.02909090909091},{"$f":"Prevalence!R97*BN100","v":16.236818181818183},{"$f":"Prevalence!S97*BO100","v":35.394545454545451},{"$f":"Prevalence!T97*BP100","v":43.298181818181817},{"$f":"Prevalence!U97*BQ100","v":94.881818181818176},{"$f":"Prevalence!V97*BR100","v":70.559999999999988},{"$f":"Prevalence!W97*BS100","v":385.17818181818183},{"$f":"Prevalence!X97*BT100","v":275.49136363636364},{"$f":"Prevalence!Y97*BU100","v":7.7318181818181806},{"$f":"Prevalence!Z97*BV100","v":17.18181818181818},{"$f":"Prevalence!AA97*BW100","v":15.54},{"$f":"Prevalence!AB97*BX100","v":192.78},{"$f":"Prevalence!AC97*BY100","v":0},{"$f":"Prevalence!AD97*BZ100","v":104.94272727272725},{"$f":"Prevalence!AE97*CA100","v":340.97318181818184},{"$f":"Prevalence!AF97*CB100","v":1467.3272727272727},{"$f":"Prevalence!AG97*CC100","v":86.48181818181817},{"$f":"Prevalence!AH97*CD100","v":204.39681818181816},{"$f":"Prevalence!AI97*CE100","v":34.793181818181822},{"$f":"Prevalence!AJ97*CF100","v":6.7104545454545459},{"$f":"Prevalence!AK97*CG100","v":335.30318181818183},{"$f":"Prevalence!AL97*CH100","v":553.77},{"$f":"Prevalence!AM97*CI100","v":0},{"$f":"Prevalence!AN97*CJ100","v":29.037272727272725},{"$f":"Prevalence!AO97*CK100","v":257.25},{"$f":"Prevalence!AP97*CL100","v":17.745000000000001},{"$f":"Prevalence!AQ97*CM100","v":0},{"$f":"Prevalence!AR97*CN100","v":67.658181818181816},{"$f":"Prevalence!AS97*CO100","v":356.92363636363632},{"$f":"Prevalence!AT97*CP100","v":25.343181818181815},{"$f":"Prevalence!AU97*CQ100","v":201.31363636363633},{"$f":"Prevalence!AV97*CR100","v":94.38545454545455},99,24228,2675,143,308,1701,1010,622,9983,642,3558,1950,null,null,1636,null,504,81,206,189,355,308,1261,931,81,75,148,1122,null,478,1701,6405,453,931,135,37,1301,2637,null,169,1078,143,null,443,1558,177,703,618]
["Female 70-74",{"$f":"Prevalence!B98*AX101","v":4555.1099999999997},{"$f":"Prevalence!C98*AY101","v":584.89772727272725},{"$f":"Prevalence!D98*AZ101","v":14.518636363636364},{"$f":"Prevalence!E98*BA101","v":56.585454545454539},{"$f":"Prevalence!F98*BB101","v":278.03045454545457},{"$f":"Prevalence!G98*BC101","v":182.01272727272729},{"$f":"Prevalence!H98*BD101","v":106.84227272727273},{"$f":"Prevalence!I98*BE101","v":1988.6999999999998},{"$f":"Prevalence!J98*BF101","v":109.04727272727274},{"$f":"Prevalence!K98*BG101","v":670.49181818181808},{"$f":"Prevalence!L98*BH101","v":292.35818181818183},{"$f":"Prevalence!M98*BI101","v":0},{"$f":"Prevalence!N98*BJ101","v":0},{"$f":"Prevalence!O98*BK101","v":300.33818181818179},{"$f":"Prevalence!P98*BL101","v":0},{"$f":"Prevalence!Q98*BM101","v":87.598636363636373},{"$f":"Prevalence!R98*BN101","v":11.826818181818183},{"$f":"Prevalence!S98*BO101","v":28.349999999999998},{"$f":"Prevalence!T98*BP101","v":38.029090909090904},{"$f":"Prevalence!U98*BQ101","v":68.421818181818182},{"$f":"Prevalence!V98*BR101","v":56.585454545454539},{"$f":"Prevalence!W98*BS101","v":324.69818181818187},{"$f":"Prevalence!X98*BT101","v":240.27818181818182},{"$f":"Prevalence!Y98*BU101","v":7.0636363636363626},{"$f":"Prevalence!Z98*BV101","v":13.745454545454544},{"$f":"Prevalence!AA98*BW101","v":14.91},{"$f":"Prevalence!AB98*BX101","v":158.93181818181819},{"$f":"Prevalence!AC98*BY101","v":0},{"$f":"Prevalence!AD98*BZ101","v":108.23590909090908},{"$f":"Prevalence!AE98*CA101","v":278.03045454545457},{"$f":"Prevalence!AF98*CB101","v":1403.4109090909089},{"$f":"Prevalence!AG98*CC101","v":72.163636363636357},{"$f":"Prevalence!AH98*CD101","v":183.75954545454542},{"$f":"Prevalence!AI98*CE101","v":30.411818181818184},{"$f":"Prevalence!AJ98*CF101","v":6.7104545454545459},{"$f":"Prevalence!AK98*CG101","v":312.10772727272729},{"$f":"Prevalence!AL98*CH101","v":481.95},{"$f":"Prevalence!AM98*CI101","v":0},{"$f":"Prevalence!AN98*CJ101","v":24.054545454545455},{"$f":"Prevalence!AO98*CK101","v":266.31818181818181},{"$f":"Prevalence!AP98*CL101","v":14.518636363636364},{"$f":"Prevalence!AQ98*CM101","v":0},{"$f":"Prevalence!AR98*CN101","v":65.367272727272734},{"$f":"Prevalence!AS98*CO101","v":307.66909090909087},{"$f":"Prevalence!AT98*CP101","v":22.765909090909087},{"$f":"Prevalence!AU98*CQ101","v":169.24090909090907},{"$f":"Prevalence!AV98*CR101","v":77.738181818181829},100,21691,2451,117,247,1387,908,533,9470,544,3054,1612,null,null,1368,null,437,59,165,166,256,247,1063,812,74,60,142,925,null,493,1387,6126,378,837,118,37,1211,2295,null,140,1116,117,null,428,1343,159,591,509]
["Female 75-79",{"$f":"Prevalence!B99*AX102","v":2674.42},{"$f":"Prevalence!C99*AY102","v":316.59090909090912},{"$f":"Prevalence!D99*AZ102","v":7.0318181818181822},{"$f":"Prevalence!E99*BA102","v":29.934545454545457},{"$f":"Prevalence!F99*BB102","v":158.35909090909095},{"$f":"Prevalence!G99*BC102","v":107.84454545454548},{"$f":"Prevalence!H99*BD102","v":68.822727272727292},{"$f":"Prevalence!I99*BE102","v":1212.1200000000001},{"$f":"Prevalence!J99*BF102","v":58.399090909090923},{"$f":"Prevalence!K99*BG102","v":378.64272727272726},{"$f":"Prevalence!L99*BH102","v":173.74636363636367},{"$f":"Prevalence!M99*BI102","v":0},{"$f":"Prevalence!N99*BJ102","v":0},{"$f":"Prevalence!O99*BK102","v":176.51454545454544},{"$f":"Prevalence!P99*BL102","v":0},{"$f":"Prevalence!Q99*BM102","v":55.191818181818192},{"$f":"Prevalence!R99*BN102","v":9.48818181818182},{"$f":"Prevalence!S99*BO102","v":15.120000000000003},{"$f":"Prevalence!T99*BP102","v":18.632727272727273},{"$f":"Prevalence!U99*BQ102","v":35.992727272727272},{"$f":"Prevalence!V99*BR102","v":29.934545454545457},{"$f":"Prevalence!W99*BS102","v":191.62181818181821},{"$f":"Prevalence!X99*BT102","v":144.40363636363637},{"$f":"Prevalence!Y99*BU102","v":3.3090909090909095},{"$f":"Prevalence!Z99*BV102","v":7.4836363636363643},{"$f":"Prevalence!AA99*BW102","v":8.2600000000000016},{"$f":"Prevalence!AB99*BX102","v":97.02000000000001},{"$f":"Prevalence!AC99*BY102","v":0},{"$f":"Prevalence!AD99*BZ102","v":66.156363636363636},{"$f":"Prevalence!AE99*CA102","v":158.35909090909095},{"$f":"Prevalence!AF99*CB102","v":854.66181818181826},{"$f":"Prevalence!AG99*CC102","v":40.090909090909093},{"$f":"Prevalence!AH99*CD102","v":117.23727272727272},{"$f":"Prevalence!AI99*CE102","v":15.80727272727273},{"$f":"Prevalence!AJ99*CF102","v":3.7481818181818185},{"$f":"Prevalence!AK99*CG102","v":158.58818181818185},{"$f":"Prevalence!AL99*CH102","v":275.66000000000003},{"$f":"Prevalence!AM99*CI102","v":0},{"$f":"Prevalence!AN99*CJ102","v":15.234545454545456},{"$f":"Prevalence!AO99*CK102","v":165.93181818181822},{"$f":"Prevalence!AP99*CL102","v":7.0318181818181822},{"$f":"Prevalence!AQ99*CM102","v":0},{"$f":"Prevalence!AR99*CN102","v":34.109090909090916},{"$f":"Prevalence!AS99*CO102","v":171.97090909090912},{"$f":"Prevalence!AT99*CP102","v":14.604545454545455},{"$f":"Prevalence!AU99*CQ102","v":103.09090909090909},{"$f":"Prevalence!AV99*CR102","v":45.716363636363646},101,19103,1990,85,196,1185,807,515,8658,437,2587,1437,null,null,1206,null,413,71,132,122,202,196,941,732,52,49,118,847,null,452,1185,5596,315,801,92,31,923,1969,null,133,1043,85,null,335,1126,153,540,449]
["Female 80-84",{"$f":"Prevalence!B100*AX103","v":1986.1800000000003},{"$f":"Prevalence!C100*AY103","v":234.65909090909093},{"$f":"Prevalence!D100*AZ103","v":5.790909090909091},{"$f":"Prevalence!E100*BA103","v":23.97818181818182},{"$f":"Prevalence!F100*BB103","v":122.41090909090912},{"$f":"Prevalence!G100*BC103","v":75.771818181818205},{"$f":"Prevalence!H100*BD103","v":51.984545454545469},{"$f":"Prevalence!I100*BE103","v":894.74000000000012},{"$f":"Prevalence!J100*BF103","v":49.579090909090922},{"$f":"Prevalence!K100*BG103","v":263.89363636363635},{"$f":"Prevalence!L100*BH103","v":128.28454545454548},{"$f":"Prevalence!M100*BI103","v":0},{"$f":"Prevalence!N100*BJ103","v":0},{"$f":"Prevalence!O100*BK103","v":144.4609090909091},{"$f":"Prevalence!P100*BL103","v":0},{"$f":"Prevalence!Q100*BM103","v":43.966363636363646},{"$f":"Prevalence!R100*BN103","v":6.4145454545454559},{"$f":"Prevalence!S100*BO103","v":13.745454545454548},{"$f":"Prevalence!T100*BP103","v":20.465454545454548},{"$f":"Prevalence!U100*BQ103","v":26.72727272727273},{"$f":"Prevalence!V100*BR103","v":23.97818181818182},{"$f":"Prevalence!W100*BS103","v":155.78181818181821},{"$f":"Prevalence!X100*BT103","v":109.48636363636365},{"$f":"Prevalence!Y100*BU103","v":2.4181818181818184},{"$f":"Prevalence!Z100*BV103","v":6.2618181818181826},{"$f":"Prevalence!AA100*BW103","v":5.1800000000000006},{"$f":"Prevalence!AB100*BX103","v":74.34},{"$f":"Prevalence!AC100*BY103","v":0},{"$f":"Prevalence!AD100*BZ103","v":46.982727272727274},{"$f":"Prevalence!AE100*CA103","v":122.41090909090912},{"$f":"Prevalence!AF100*CB103","v":639.62181818181818},{"$f":"Prevalence!AG100*CC103","v":30.163636363636368},{"$f":"Prevalence!AH100*CD103","v":83.13454545454546},{"$f":"Prevalence!AI100*CE103","v":14.776363636363639},{"$f":"Prevalence!AJ100*CF103","v":1.4509090909090911},{"$f":"Prevalence!AK100*CG103","v":112.88454545454547},{"$f":"Prevalence!AL100*CH103","v":194.18},{"$f":"Prevalence!AM100*CI103","v":0},{"$f":"Prevalence!AN100*CJ103","v":11.683636363636365},{"$f":"Prevalence!AO100*CK103","v":118.36363636363639},{"$f":"Prevalence!AP100*CL103","v":5.790909090909091},{"$f":"Prevalence!AQ100*CM103","v":0},{"$f":"Prevalence!AR100*CN103","v":26.778181818181821},{"$f":"Prevalence!AS100*CO103","v":120.19636363636364},{"$f":"Prevalence!AT100*CP103","v":9.163636363636364},{"$f":"Prevalence!AU100*CQ103","v":77.890909090909091},{"$f":"Prevalence!AV100*CR103","v":29.018181818181823},102,14187,1475,70,157,916,567,389,6391,371,1803,1061,null,null,987,null,329,48,120,134,150,157,765,555,38,41,74,649,null,321,916,4188,237,568,86,12,657,1387,null,102,744,70,null,263,787,96,408,285]
["Female 85-89",{"$f":"Prevalence!B101*AX104","v":1112.1600000000001},{"$f":"Prevalence!C101*AY104","v":127.11363636363639},{"$f":"Prevalence!D101*AZ104","v":2.3990909090909094},{"$f":"Prevalence!E101*BA104","v":12.218181818181819},{"$f":"Prevalence!F101*BB104","v":77.375454545454559},{"$f":"Prevalence!G101*BC104","v":41.026363636363648},{"$f":"Prevalence!H101*BD104","v":29.13272727272728},{"$f":"Prevalence!I101*BE104","v":501.34000000000003},{"$f":"Prevalence!J101*BF104","v":30.870000000000008},{"$f":"Prevalence!K101*BG104","v":140.07},{"$f":"Prevalence!L101*BH104","v":70.490000000000009},{"$f":"Prevalence!M101*BI104","v":0},{"$f":"Prevalence!N101*BJ104","v":0},{"$f":"Prevalence!O101*BK104","v":84.890909090909091},{"$f":"Prevalence!P101*BL104","v":0},{"$f":"Prevalence!Q101*BM104","v":23.787272727272732},{"$f":"Prevalence!R101*BN104","v":4.1427272727272735},{"$f":"Prevalence!S101*BO104","v":7.1018181818181825},{"$f":"Prevalence!T101*BP104","v":11.912727272727274},{"$f":"Prevalence!U101*BQ104","v":16.927272727272729},{"$f":"Prevalence!V101*BR104","v":12.218181818181819},{"$f":"Prevalence!W101*BS104","v":95.709090909090932},{"$f":"Prevalence!X101*BT104","v":56.222727272727276},{"$f":"Prevalence!Y101*BU104","v":1.5909090909090911},{"$f":"Prevalence!Z101*BV104","v":2.290909090909091},{"$f":"Prevalence!AA101*BW104","v":3.0100000000000002},{"$f":"Prevalence!AB101*BX104","v":39.06},{"$f":"Prevalence!AC101*BY104","v":0},{"$f":"Prevalence!AD101*BZ104","v":25.174545454545456},{"$f":"Prevalence!AE101*CA104","v":77.375454545454559},{"$f":"Prevalence!AF101*CB104","v":347.76000000000005},{"$f":"Prevalence!AG101*CC104","v":19.472727272727276},{"$f":"Prevalence!AH101*CD104","v":45.372727272727275},{"$f":"Prevalence!AI101*CE104","v":11.340000000000002},{"$f":"Prevalence!AJ101*CF104","v":1.0881818181818184},{"$f":"Prevalence!AK101*CG104","v":60.308181818181829},{"$f":"Prevalence!AL101*CH104","v":105.00000000000001},{"$f":"Prevalence!AM101*CI104","v":0},{"$f":"Prevalence!AN101*CJ104","v":5.4981818181818189},{"$f":"Prevalence!AO101*CK104","v":70.795454545454561},{"$f":"Prevalence!AP101*CL104","v":2.3990909090909094},{"$f":"Prevalence!AQ101*CM104","v":0},{"$f":"Prevalence!AR101*CN104","v":16.596363636363638},{"$f":"Prevalence!AS101*CO104","v":62.007272727272735},{"$f":"Prevalence!AT101*CP104","v":3.8181818181818183},{"$f":"Prevalence!AU101*CQ104","v":53.836363636363636},{"$f":"Prevalence!AV101*CR104","v":16.392727272727274},103,7944,799,29,80,579,307,218,3581,231,957,583,null,null,580,null,178,31,62,78,95,80,470,285,25,15,43,341,null,172,579,2277,153,310,66,9,351,750,null,48,445,29,null,163,406,40,282,161]
["Female 90+",{"$f":"Prevalence!B102*AX105","v":623.00000000000011},{"$f":"Prevalence!C102*AY105","v":80.181818181818201},{"$f":"Prevalence!D102*AZ105","v":1.1581818181818182},{"$f":"Prevalence!E102*BA105","v":4.123636363636364},{"$f":"Prevalence!F102*BB105","v":39.957272727272738},{"$f":"Prevalence!G102*BC105","v":22.851818181818185},{"$f":"Prevalence!H102*BD105","v":14.031818181818185},{"$f":"Prevalence!I102*BE105","v":300.16000000000003},{"$f":"Prevalence!J102*BF105","v":14.700000000000003},{"$f":"Prevalence!K102*BG105","v":69.522727272727266},{"$f":"Prevalence!L102*BH105","v":40.141818181818188},{"$f":"Prevalence!M102*BI105","v":0},{"$f":"Prevalence!N102*BJ105","v":0},{"$f":"Prevalence!O102*BK105","v":39.371818181818185},{"$f":"Prevalence!P102*BL105","v":0},{"$f":"Prevalence!Q102*BM105","v":12.428181818181821},{"$f":"Prevalence!R102*BN105","v":1.3363636363636366},{"$f":"Prevalence!S102*BO105","v":2.9781818181818185},{"$f":"Prevalence!T102*BP105","v":5.8036363636363637},{"$f":"Prevalence!U102*BQ105","v":8.374545454545455},{"$f":"Prevalence!V102*BR105","v":4.123636363636364},{"$f":"Prevalence!W102*BS105","v":41.338181818181823},{"$f":"Prevalence!X102*BT105","v":37.087272727272733},{"$f":"Prevalence!Y102*BU105","v":1.081818181818182},{"$f":"Prevalence!Z102*BV105","v":1.5272727272727273},{"$f":"Prevalence!AA102*BW105","v":1.7500000000000002},{"$f":"Prevalence!AB102*BX105","v":20.961818181818185},{"$f":"Prevalence!AC102*BY105","v":0},{"$f":"Prevalence!AD102*BZ105","v":13.319090909090908},{"$f":"Prevalence!AE102*CA105","v":39.957272727272738},{"$f":"Prevalence!AF102*CB105","v":213.20727272727274},{"$f":"Prevalence!AG102*CC105","v":9.163636363636364},{"$f":"Prevalence!AH102*CD105","v":24.442727272727272},{"$f":"Prevalence!AI102*CE105","v":4.8109090909090915},{"$f":"Prevalence!AJ102*CF105","v":0.24181818181818185},{"$f":"Prevalence!AK102*CG105","v":38.31545454545455},{"$f":"Prevalence!AL102*CH105","v":48.720000000000006},{"$f":"Prevalence!AM102*CI105","v":0},{"$f":"Prevalence!AN102*CJ105","v":4.581818181818182},{"$f":"Prevalence!AO102*CK105","v":42.159090909090914},{"$f":"Prevalence!AP102*CL105","v":1.1581818181818182},{"$f":"Prevalence!AQ102*CM105","v":0},{"$f":"Prevalence!AR102*CN105","v":9.4690909090909106},{"$f":"Prevalence!AS102*CO105","v":37.418181818181822},{"$f":"Prevalence!AT102*CP105","v":3.1500000000000004},{"$f":"Prevalence!AU102*CQ105","v":29.781818181818181},{"$f":"Prevalence!AV102*CR105","v":11.301818181818184},104,4450,504,14,27,299,171,105,2144,110,475,332,null,null,269,null,93,10,26,38,47,27,203,188,17,10,25,183,null,91,299,1396,72,167,28,2,223,348,null,40,265,14,null,93,245,33,156,111]
["age/sex breakdown: Q2",null,null,null,null,null,null,null,null,null,null,null,null,null,null,null,null,null,null,null,null,null,null,null,null,null,null,null,null,null,null,null,null,null,null,null,null,null,null,null,null,null,null,null,null,null,null,null,105]
["Male <1",null,null,null,null,null,null,null,null,null,null,null,null,null,null,null,null,null,null,null,null,null,null,null,null,null,null,null,null,null,null,null,null,null,null,null,null,null,null,null,null,null,null,null,null,null,null,null,106]
["Male 1-4",null,null,null,null,null,null,null,null,null,null,null,null,null,null,null,null,null,null,null,null,null,null,null,null,null,null,null,null,null,null,null,null,null,null,null,null,null,null,null,null,null,null,null,null,null,null,null,107]
["Male 5-9",null,null,null,null,null,null,null,null,null,null,null,null,null,null,null,null,null,null,null,null,null,null,null,null,null,null,null,null,null,null,null,null,null,null,null,null,null,null,null,null,null,null,null,null,null,null,null,108]
["Male 10-14",null,null,null,null,null,null,null,null,null,null,null,null,null,null,null,null,null,null,null,null,null,null,null,null,null,null,null,null,null,null,null,null,null,null,null,null,null,null,null,null,null,null,null,null,null,null,null,109]
["Male 15-19 (16+)",{"$f":"Prevalence!B108*AX111","v":6504.16},{"$f":"Prevalence!C108*AY111","v":810.70166666666671},{"$f":"Prevalence!D108*AZ111","v":73.233333333333334},{"$f":"Prevalence!E108*BA111","v":216.39583333333337},{"$f":"Prevalence!F108*BB111","v":457.08000000000004},{"$f":"Prevalence!G108*BC111","v":295.18666666666667},{"$f":"Prevalence!H108*BD111","v":423.62666666666667},{"$f":"Prevalence!I108*BE111","v":1548.4949999999999},{"$f":"Prevalence!J108*BF111","v":316.45249999999999},{"$f":"Prevalence!K108*BG111","v":1010.36},{"$f":"Prevalence!L108*BH111","v":871.32500000000005},{"$f":"Prevalence!M108*BI111","v":34.774999999999999},{"$f":"Prevalence!N108*BJ111","v":6.1966666666666672},{"$f":"Prevalence!O108*BK111","v":499.95833333333337},{"$f":"Prevalence!P108*BL111","v":64.144166666666678},{"$f":"Prevalence!Q108*BM111","v":252.68750000000003},{"$f":"Prevalence!R108*BN111","v":104.71499999999999},{"$f":"Prevalence!S108*BO111","v":161.85},{"$f":"Prevalence!T108*BP111","v":101.11833333333334},{"$f":"Prevalence!U108*BQ111","v":39.346666666666671},{"$f":"Prevalence!V108*BR111","v":216.39583333333337},{"$f":"Prevalence!W108*BS111","v":233.48000000000002},{"$f":"Prevalence!X108*BT111","v":328.185},{"$f":"Prevalence!Y108*BU111","v":41.166666666666671},{"$f":"Prevalence!Z108*BV111","v":99.623333333333335},{"$f":"Prevalence!AA108*BW111","v":39.325000000000003},{"$f":"Prevalence!AB108*BX111","v":276.315},{"$f":"Prevalence!AC108*BY111","v":64.144166666666678},{"$f":"Prevalence!AD108*BZ111","v":160.61500000000001},{"$f":"Prevalence!AE108*CA111","v":457.08000000000004},{"$f":"Prevalence!AF108*CB111","v":900.36916666666673},{"$f":"Prevalence!AG108*CC111","v":201.24},{"$f":"Prevalence!AH108*CD111","v":96.882500000000007},{"$f":"Prevalence!AI108*CE111","v":179.57333333333335},{"$f":"Prevalence!AJ108*CF111","v":62.302499999999995},{"$f":"Prevalence!AK108*CG111","v":340.03666666666669},{"$f":"Prevalence!AL108*CH111","v":657.85416666666674},{"$f":"Prevalence!AM108*CI111","v":34.774999999999999},{"$f":"Prevalence!AN108*CJ111","v":102.64583333333334},{"$f":"Prevalence!AO108*CK111","v":216.14666666666665},{"$f":"Prevalence!AP108*CL111","v":73.233333333333334},{"$f":"Prevalence!AQ108*CM111","v":6.1966666666666672},{"$f":"Prevalence!AR108*CN111","v":143.46583333333334},{"$f":"Prevalence!AS108*CO111","v":446.42},{"$f":"Prevalence!AT108*CP111","v":90.350000000000009},{"$f":"Prevalence!AU108*CQ111","v":234.69333333333333},{"$f":"Prevalence!AV108*CR111","v":420.0408333333333},110,25016,2414,338,799,1758,1703,1504,5294,1391,3886,3830,107,26,1775,191,933,358,498,359,227,799,898,891,475,484,242,1417,191,1059,1758,2681,1032,271,592,213,826,2429,107,379,688,338,26,697,1717,417,677,1337]
["Male 20-24",{"$f":"Prevalence!B109*AX112","v":9871.42},{"$f":"Prevalence!C109*AY112","v":954.77416666666682},{"$f":"Prevalence!D109*AZ112","v":104},{"$f":"Prevalence!E109*BA112","v":234.00000000000003},{"$f":"Prevalence!F109*BB112","v":611},{"$f":"Prevalence!G109*BC112","v":398.1466666666667},{"$f":"Prevalence!H109*BD112","v":869.22333333333336},{"$f":"Prevalence!I109*BE112","v":2699.4824999999996},{"$f":"Prevalence!J109*BF112","v":376.96750000000003},{"$f":"Prevalence!K109*BG112","v":1265.42},{"$f":"Prevalence!L109*BH112","v":1424.605},{"$f":"Prevalence!M109*BI112","v":47.774999999999999},{"$f":"Prevalence!N109*BJ112","v":7.15},{"$f":"Prevalence!O109*BK112","v":1014.2816666666668},{"$f":"Prevalence!P109*BL112","v":85.301666666666677},{"$f":"Prevalence!Q109*BM112","v":606.12500000000011},{"$f":"Prevalence!R109*BN112","v":159.41249999999999},{"$f":"Prevalence!S109*BO112","v":204.1},{"$f":"Prevalence!T109*BP112","v":116.04666666666667},{"$f":"Prevalence!U109*BQ112","v":39.866666666666667},{"$f":"Prevalence!V109*BR112","v":234.00000000000003},{"$f":"Prevalence!W109*BS112","v":564.46},{"$f":"Prevalence!X109*BT112","v":398.16833333333335},{"$f":"Prevalence!Y109*BU112","v":51.56666666666667},{"$f":"Prevalence!Z109*BV112","v":115.47250000000001},{"$f":"Prevalence!AA109*BW112","v":41.4375},{"$f":"Prevalence!AB109*BX112","v":658.125},{"$f":"Prevalence!AC109*BY112","v":85.301666666666677},{"$f":"Prevalence!AD109*BZ112","v":185.64000000000001},{"$f":"Prevalence!AE109*CA112","v":611},{"$f":"Prevalence!AF109*CB112","v":1937.0866666666668},{"$f":"Prevalence!AG109*CC112","v":242.77500000000001},{"$f":"Prevalence!AH109*CD112","v":156.58500000000001},{"$f":"Prevalence!AI109*CE112","v":225.37666666666667},{"$f":"Prevalence!AJ109*CF112","v":88.627499999999998},{"$f":"Prevalence!AK109*CG112","v":375.44},{"$f":"Prevalence!AL109*CH112","v":823.33333333333348},{"$f":"Prevalence!AM109*CI112","v":47.774999999999999},{"$f":"Prevalence!AN109*CJ112","v":217.20833333333337},{"$f":"Prevalence!AO109*CK112","v":290.91833333333329},{"$f":"Prevalence!AP109*CL112","v":104},{"$f":"Prevalence!AQ109*CM112","v":7.15},{"$f":"Prevalence!AR109*CN112","v":174.95833333333334},{"$f":"Prevalence!AS109*CO112","v":567.58000000000004},{"$f":"Prevalence!AT109*CP112","v":182.65},{"$f":"Prevalence!AU109*CQ112","v":308.88},{"$f":"Prevalence!AV109*CR112","v":497.32583333333332},111,37967,2843,480,864,2350,2297,3086,9229,1657,4867,6262,147,30,3601,254,2238,545,628,412,230,864,2171,1081,595,561,255,3375,254,1224,2350,5768,1245,438,743,303,912,3040,147,802,926,480,30,850,2183,843,891,1583]
["Male 25-29",{"$f":"Prevalence!B110*AX113","v":11305.199999999999},{"$f":"Prevalence!C110*AY113","v":1103.2125000000001},{"$f":"Prevalence!D110*AZ113","v":107},{"$f":"Prevalence!E110*BA113","v":263.125},{"$f":"Prevalence!F110*BB113","v":665.69999999999993},{"$f":"Prevalence!G110*BC113","v":458.4},{"$f":"Prevalence!H110*BD113","v":1040.6499999999999},{"$f":"Prevalence!I110*BE113","v":3161.7},{"$f":"Prevalence!J110*BF113","v":443.625},{"$f":"Prevalence!K110*BG113","v":1477.2},{"$f":"Prevalence!L110*BH113","v":1687.0875000000001},{"$f":"Prevalence!M110*BI113","v":58.5},{"$f":"Prevalence!N110*BJ113","v":4.9499999999999993},{"$f":"Prevalence!O110*BK113","v":993.19999999999982},{"$f":"Prevalence!P110*BL113","v":83.3125},{"$f":"Prevalence!Q110*BM113","v":720},{"$f":"Prevalence!R110*BN113","v":192.03749999999999},{"$f":"Prevalence!S110*BO113","v":241.5},{"$f":"Prevalence!T110*BP113","v":126.74999999999999},{"$f":"Prevalence!U110*BQ113","v":54.999999999999993},{"$f":"Prevalence!V110*BR113","v":263.125},{"$f":"Prevalence!W110*BS113","v":458.4},{"$f":"Prevalence!X110*BT113","v":484.5},{"$f":"Prevalence!Y110*BU113","v":51.999999999999993},{"$f":"Prevalence!Z110*BV113","v":132.28749999999999},{"$f":"Prevalence!AA110*BW113","v":38.625},{"$f":"Prevalence!AB110*BX113","v":787.49999999999989},{"$f":"Prevalence!AC110*BY113","v":83.3125},{"$f":"Prevalence!AD110*BZ113","v":237.47500000000002},{"$f":"Prevalence!AE110*CA113","v":665.69999999999993},{"$f":"Prevalence!AF110*CB113","v":2378.8625000000002},{"$f":"Prevalence!AG110*CC113","v":292.49999999999994},{"$f":"Prevalence!AH110*CD113","v":155.1},{"$f":"Prevalence!AI110*CE113","v":228.90000000000003},{"$f":"Prevalence!AJ110*CF113","v":111.03749999999999},{"$f":"Prevalence!AK110*CG113","v":416.09999999999997},{"$f":"Prevalence!AL110*CH113","v":966.25},{"$f":"Prevalence!AM110*CI113","v":58.5},{"$f":"Prevalence!AN110*CJ113","v":276.25},{"$f":"Prevalence!AO110*CK113","v":348.72499999999997},{"$f":"Prevalence!AP110*CL113","v":107},{"$f":"Prevalence!AQ110*CM113","v":4.9499999999999993},{"$f":"Prevalence!AR110*CN113","v":197.36249999999998},{"$f":"Prevalence!AS110*CO113","v":648.29999999999995},{"$f":"Prevalence!AT110*CP113","v":165},{"$f":"Prevalence!AU110*CQ113","v":334.4},{"$f":"Prevalence!AV110*CR113","v":622.04999999999995},112,37684,2847,428,842,2219,2292,3202,9368,1690,4924,6427,156,18,3056,215,2304,569,644,390,275,842,1528,1140,520,557,206,3500,215,1357,2219,6139,1300,376,654,329,876,3092,156,884,962,428,18,831,2161,660,836,1716]
["Male 30-34",{"$f":"Prevalence!B111*AX114","v":10411.5},{"$f":"Prevalence!C111*AY114","v":987.35},{"$f":"Prevalence!D111*AZ114","v":112},{"$f":"Prevalence!E111*BA114","v":240.3125},{"$f":"Prevalence!F111*BB114","v":689.1},{"$f":"Prevalence!G111*BC114","v":438.2},{"$f":"Prevalence!H111*BD114","v":844.67499999999984},{"$f":"Prevalence!I111*BE114","v":2792.8124999999995},{"$f":"Prevalence!J111*BF114","v":449.66250000000002},{"$f":"Prevalence!K111*BG114","v":1504.2},{"$f":"Prevalence!L111*BH114","v":1562.6625000000001},{"$f":"Prevalence!M111*BI114","v":45},{"$f":"Prevalence!N111*BJ114","v":4.1249999999999991},{"$f":"Prevalence!O111*BK114","v":826.79999999999984},{"$f":"Prevalence!P111*BL114","v":84.862499999999997},{"$f":"Prevalence!Q111*BM114","v":553.125},{"$f":"Prevalence!R111*BN114","v":174.48749999999998},{"$f":"Prevalence!S111*BO114","v":250.125},{"$f":"Prevalence!T111*BP114","v":121.54999999999998},{"$f":"Prevalence!U111*BQ114","v":50.999999999999993},{"$f":"Prevalence!V111*BR114","v":240.3125},{"$f":"Prevalence!W111*BS114","v":332.7},{"$f":"Prevalence!X111*BT114","v":438.17500000000001},{"$f":"Prevalence!Y111*BU114","v":46.4},{"$f":"Prevalence!Z111*BV114","v":130.15},{"$f":"Prevalence!AA111*BW114","v":40.875},{"$f":"Prevalence!AB111*BX114","v":726.74999999999989},{"$f":"Prevalence!AC111*BY114","v":84.862499999999997},{"$f":"Prevalence!AD111*BZ114","v":245.35000000000002},{"$f":"Prevalence!AE111*CA114","v":689.1},{"$f":"Prevalence!AF111*CB114","v":2038.25},{"$f":"Prevalence!AG111*CC114","v":301.27499999999998},{"$f":"Prevalence!AH111*CD114","v":166.23749999999998},{"$f":"Prevalence!AI111*CE114","v":210.35000000000002},{"$f":"Prevalence!AJ111*CF114","v":105.29999999999998},{"$f":"Prevalence!AK111*CG114","v":347.22499999999997},{"$f":"Prevalence!AL111*CH114","v":1000.9375},{"$f":"Prevalence!AM111*CI114","v":45},{"$f":"Prevalence!AN111*CJ114","v":240},{"$f":"Prevalence!AO111*CK114","v":292.89999999999998},{"$f":"Prevalence!AP111*CL114","v":112},{"$f":"Prevalence!AQ111*CM114","v":4.1249999999999991},{"$f":"Prevalence!AR111*CN114","v":186.67499999999998},{"$f":"Prevalence!AS111*CO114","v":640.19999999999993},{"$f":"Prevalence!AT111*CP114","v":133.5},{"$f":"Prevalence!AU111*CQ114","v":319.59999999999997},{"$f":"Prevalence!AV111*CR114","v":570.57499999999993},113,34705,2548,448,769,2297,2191,2599,8275,1713,5014,5953,120,15,2544,219,1770,517,667,374,255,769,1109,1031,464,548,218,3230,219,1402,2297,5260,1339,403,601,312,731,3203,120,768,808,448,15,786,2134,534,799,1574]
["Male 35-39",{"$f":"Prevalence!B112*AX115","v":12845.71},{"$f":"Prevalence!C112*AY115","v":1372.1504166666666},{"$f":"Prevalence!D112*AZ115","v":141.45000000000002},{"$f":"Prevalence!E112*BA115","v":345.08333333333331},{"$f":"Prevalence!F112*BB115","v":896.67},{"$f":"Prevalence!G112*BC115","v":579.46666666666658},{"$f":"Prevalence!H112*BD115","v":957.62333333333322},{"$f":"Prevalence!I112*BE115","v":3106.0574999999999},{"$f":"Prevalence!J112*BF115","v":550.32249999999999},{"$f":"Prevalence!K112*BG115","v":2046.7199999999998},{"$f":"Prevalence!L112*BH115","v":1962.3624999999997},{"$f":"Prevalence!M112*BI115","v":64.0625},{"$f":"Prevalence!N112*BJ115","v":8.2683333333333326},{"$f":"Prevalence!O112*BK115","v":856.35333333333324},{"$f":"Prevalence!P112*BL115","v":132.39583333333331},{"$f":"Prevalence!Q112*BM115","v":590.22916666666663},{"$f":"Prevalence!R112*BN115","v":229.70249999999999},{"$f":"Prevalence!S112*BO115","v":294.17499999999995},{"$f":"Prevalence!T112*BP115","v":158.56749999999997},{"$f":"Prevalence!U112*BQ115","v":72.433333333333323},{"$f":"Prevalence!V112*BR115","v":345.08333333333331},{"$f":"Prevalence!W112*BS115","v":318.97999999999996},{"$f":"Prevalence!X112*BT115","v":586.06083333333333},{"$f":"Prevalence!Y112*BU115","v":65.326666666666668},{"$f":"Prevalence!Z112*BV115","v":175.92416666666665},{"$f":"Prevalence!AA112*BW115","v":56.374999999999993},{"$f":"Prevalence!AB112*BX115","v":796.11749999999995},{"$f":"Prevalence!AC112*BY115","v":132.39583333333331},{"$f":"Prevalence!AD112*BZ115","v":321.20083333333332},{"$f":"Prevalence!AE112*CA115","v":896.67},{"$f":"Prevalence!AF112*CB115","v":2106.1529166666664},{"$f":"Prevalence!AG112*CC115","v":361.92750000000001},{"$f":"Prevalence!AH112*CD115","v":188.29249999999999},{"$f":"Prevalence!AI112*CE115","v":300.39333333333332},{"$f":"Prevalence!AJ112*CF115","v":127.30499999999999},{"$f":"Prevalence!AK112*CG115","v":523.87749999999994},{"$f":"Prevalence!AL112*CH115","v":1356.84375},{"$f":"Prevalence!AM112*CI115","v":64.0625},{"$f":"Prevalence!AN112*CJ115","v":246},{"$f":"Prevalence!AO112*CK115","v":370.5716666666666},{"$f":"Prevalence!AP112*CL115","v":141.45000000000002},{"$f":"Prevalence!AQ112*CM115","v":8.2683333333333326},{"$f":"Prevalence!AR112*CN115","v":251.55208333333329},{"$f":"Prevalence!AS112*CO115","v":864.28},{"$f":"Prevalence!AT112*CP115","v":174.93333333333334},{"$f":"Prevalence!AU112*CQ115","v":373.91999999999996},{"$f":"Prevalence!AV112*CR115","v":847.65791666666655},114,31331,2591,414,808,2187,2120,2156,6734,1534,4992,5470,125,22,1928,250,1382,498,574,357,265,808,778,1009,478,542,220,2589,250,1343,2187,3977,1177,334,628,276,807,3177,125,576,748,414,22,775,2108,512,684,1711]
["Male 40-44",{"$f":"Prevalence!B113*AX116","v":14502.929999999998},{"$f":"Prevalence!C113*AY116","v":1771.9858333333332},{"$f":"Prevalence!D113*AZ116","v":176.64166666666668},{"$f":"Prevalence!E113*BA116","v":443.3125},{"$f":"Prevalence!F113*BB116","v":1108.23},{"$f":"Prevalence!G113*BC116","v":714.49333333333334},{"$f":"Prevalence!H113*BD116","v":962.50916666666649},{"$f":"Prevalence!I113*BE116","v":3346.3687500000001},{"$f":"Prevalence!J113*BF116","v":655.07749999999987},{"$f":"Prevalence!K113*BG116","v":2346.4299999999998},{"$f":"Prevalence!L113*BH116","v":2038.4174999999998},{"$f":"Prevalence!M113*BI116","v":67.137499999999989},{"$f":"Prevalence!N113*BJ116","v":2.2549999999999999},{"$f":"Prevalence!O113*BK116","v":899.88166666666655},{"$f":"Prevalence!P113*BL116","v":179.52874999999997},{"$f":"Prevalence!Q113*BM116","v":559.90625},{"$f":"Prevalence!R113*BN116","v":234.77625},{"$f":"Prevalence!S113*BO116","v":329.02499999999998},{"$f":"Prevalence!T113*BP116","v":197.20999999999998},{"$f":"Prevalence!U113*BQ116","v":105.23333333333332},{"$f":"Prevalence!V113*BR116","v":443.3125},{"$f":"Prevalence!W113*BS116","v":315.28999999999996},{"$f":"Prevalence!X113*BT116","v":744.62833333333333},{"$f":"Prevalence!Y113*BU116","v":73.936666666666667},{"$f":"Prevalence!Z113*BV116","v":205.46124999999998},{"$f":"Prevalence!AA113*BW116","v":64.318749999999994},{"$f":"Prevalence!AB113*BX116","v":750.91499999999996},{"$f":"Prevalence!AC113*BY116","v":179.52874999999997},{"$f":"Prevalence!AD113*BZ116","v":377.40499999999997},{"$f":"Prevalence!AE113*CA116","v":1108.23},{"$f":"Prevalence!AF113*CB116","v":2064.3158333333331},{"$f":"Prevalence!AG113*CC116","v":424.96499999999997},{"$f":"Prevalence!AH113*CD116","v":208.58749999999998},{"$f":"Prevalence!AI113*CE116","v":328.61500000000001},{"$f":"Prevalence!AJ113*CF116","v":160.05375000000001},{"$f":"Prevalence!AK113*CG116","v":667.34333333333325},{"$f":"Prevalence!AL113*CH116","v":1504.1875},{"$f":"Prevalence!AM113*CI116","v":67.137499999999989},{"$f":"Prevalence!AN113*CJ116","v":262.65625},{"$f":"Prevalence!AO113*CK116","v":433.98499999999996},{"$f":"Prevalence!AP113*CL116","v":176.64166666666668},{"$f":"Prevalence!AQ113*CM116","v":2.2549999999999999},{"$f":"Prevalence!AR113*CN116","v":336.26833333333326},{"$f":"Prevalence!AS113*CO116","v":1072.97},{"$f":"Prevalence!AT113*CP116","v":222.42500000000001},{"$f":"Prevalence!AU113*CQ116","v":493.64},{"$f":"Prevalence!AV113*CR116","v":951.19999999999993},115,35373,3346,517,1038,2703,2614,2167,7255,1826,5723,5682,131,6,2026,339,1311,509,642,444,385,1038,769,1282,541,633,251,2442,339,1578,2703,3898,1382,370,687,347,1028,3522,131,615,876,517,6,1036,2617,651,903,1920]
["Male 45-49",{"$f":"Prevalence!B114*AX117","v":13747.72},{"$f":"Prevalence!C114*AY117","v":1756.3437500000002},{"$f":"Prevalence!D114*AZ117","v":172.35833333333335},{"$f":"Prevalence!E114*BA117","v":442.45833333333337},{"$f":"Prevalence!F114*BB117","v":1037.1099999999999},{"$f":"Prevalence!G114*BC117","v":662.79333333333329},{"$f":"Prevalence!H114*BD117","v":857.7833333333333},{"$f":"Prevalence!I114*BE117","v":3169.7437500000001},{"$f":"Prevalence!J114*BF117","v":693.79624999999999},{"$f":"Prevalence!K114*BG117","v":2169.6799999999998},{"$f":"Prevalence!L114*BH117","v":1866.0949999999998},{"$f":"Prevalence!M114*BI117","v":77.7},{"$f":"Prevalence!N114*BJ117","v":9.8358333333333334},{"$f":"Prevalence!O114*BK117","v":879.02749999999992},{"$f":"Prevalence!P114*BL117","v":175.87333333333336},{"$f":"Prevalence!Q114*BM117","v":492.94791666666669},{"$f":"Prevalence!R114*BN117","v":209.37375},{"$f":"Prevalence!S114*BO117","v":331.15000000000003},{"$f":"Prevalence!T114*BP117","v":218.85499999999999},{"$f":"Prevalence!U114*BQ117","v":93.73333333333332},{"$f":"Prevalence!V114*BR117","v":442.45833333333337},{"$f":"Prevalence!W114*BS117","v":318.57},{"$f":"Prevalence!X114*BT117","v":736.97833333333335},{"$f":"Prevalence!Y114*BU117","v":83.86666666666666},{"$f":"Prevalence!Z114*BV117","v":226.13166666666666},{"$f":"Prevalence!AA114*BW117","v":75.618750000000006},{"$f":"Prevalence!AB114*BX117","v":622.15499999999997},{"$f":"Prevalence!AC114*BY117","v":175.87333333333336},{"$f":"Prevalence!AD114*BZ117","v":357.63583333333338},{"$f":"Prevalence!AE114*CA117","v":1037.1099999999999},{"$f":"Prevalence!AF114*CB117","v":1773.0708333333334},{"$f":"Prevalence!AG114*CC117","v":443.16749999999996},{"$f":"Prevalence!AH114*CD117","v":228.93750000000003},{"$f":"Prevalence!AI114*CE117","v":354.39833333333337},{"$f":"Prevalence!AJ114*CF117","v":149.01750000000001},{"$f":"Prevalence!AK114*CG117","v":695.97},{"$f":"Prevalence!AL114*CH117","v":1391.7395833333335},{"$f":"Prevalence!AM114*CI117","v":77.7},{"$f":"Prevalence!AN114*CJ117","v":237.41666666666669},{"$f":"Prevalence!AO114*CK117","v":437.6945833333333},{"$f":"Prevalence!AP114*CL117","v":172.35833333333335},{"$f":"Prevalence!AQ114*CM117","v":9.8358333333333334},{"$f":"Prevalence!AR114*CN117","v":316.64291666666668},{"$f":"Prevalence!AS114*CO117","v":1007.88},{"$f":"Prevalence!AT114*CP117","v":200.41666666666669},{"$f":"Prevalence!AU114*CQ117","v":492.34666666666664},{"$f":"Prevalence!AV114*CR117","v":862.42374999999993},116,37156,3675,559,1148,2803,2687,2140,7615,2143,5864,5764,168,29,2193,368,1279,503,716,546,380,1148,861,1406,680,772,327,2242,368,1657,2803,3710,1597,450,821,358,1188,3611,168,616,979,559,29,1081,2724,650,998,1929]
["Male 50-54",{"$f":"Prevalence!B115*AX118","v":12897.09},{"$f":"Prevalence!C115*AY118","v":1628.2620833333335},{"$f":"Prevalence!D115*AZ118","v":165.57500000000002},{"$f":"Prevalence!E115*BA118","v":420.48958333333337},{"$f":"Prevalence!F115*BB118","v":957.56},{"$f":"Prevalence!G115*BC118","v":601.86666666666656},{"$f":"Prevalence!H115*BD118","v":856.18},{"$f":"Prevalence!I115*BE118","v":2962.0349999999999},{"$f":"Prevalence!J115*BF118","v":695.73874999999998},{"$f":"Prevalence!K115*BG118","v":2046.84},{"$f":"Prevalence!L115*BH118","v":1680.2624999999998},{"$f":"Prevalence!M115*BI118","v":66.600000000000009},{"$f":"Prevalence!N115*BJ118","v":6.7833333333333332},{"$f":"Prevalence!O115*BK118","v":847.36166666666668},{"$f":"Prevalence!P115*BL118","v":187.82125000000002},{"$f":"Prevalence!Q115*BM118","v":484.85416666666669},{"$f":"Prevalence!R115*BN118","v":220.19624999999999},{"$f":"Prevalence!S115*BO118","v":297.38749999999999},{"$f":"Prevalence!T115*BP118","v":214.44583333333333},{"$f":"Prevalence!U115*BQ118","v":81.399999999999991},{"$f":"Prevalence!V115*BR118","v":420.48958333333337},{"$f":"Prevalence!W115*BS118","v":313.39},{"$f":"Prevalence!X115*BT118","v":664.11916666666662},{"$f":"Prevalence!Y115*BU118","v":78.316666666666663},{"$f":"Prevalence!Z115*BV118","v":198.30458333333334},{"$f":"Prevalence!AA115*BW118","v":74.231250000000003},{"$f":"Prevalence!AB115*BX118","v":566.37749999999994},{"$f":"Prevalence!AC115*BY118","v":187.82125000000002},{"$f":"Prevalence!AD115*BZ118","v":317.70666666666671},{"$f":"Prevalence!AE115*CA118","v":957.56},{"$f":"Prevalence!AF115*CB118","v":1661.7162500000002},{"$f":"Prevalence!AG115*CC118","v":447.88499999999993},{"$f":"Prevalence!AH115*CD118","v":219.27125000000001},{"$f":"Prevalence!AI115*CE118","v":339.72166666666669},{"$f":"Prevalence!AJ115*CF118","v":145.27125000000001},{"$f":"Prevalence!AK115*CG118","v":638.55833333333328},{"$f":"Prevalence!AL115*CH118","v":1254.9166666666667},{"$f":"Prevalence!AM115*CI118","v":66.600000000000009},{"$f":"Prevalence!AN115*CJ118","v":240.5},{"$f":"Prevalence!AO115*CK118","v":382.25624999999997},{"$f":"Prevalence!AP115*CL118","v":165.57500000000002},{"$f":"Prevalence!AQ115*CM118","v":6.7833333333333332},{"$f":"Prevalence!AR115*CN118","v":307.5625},{"$f":"Prevalence!AS115*CO118","v":985.68},{"$f":"Prevalence!AT115*CP118","v":196.71666666666667},{"$f":"Prevalence!AU115*CQ118","v":497.77333333333331},{"$f":"Prevalence!AV115*CR118","v":753.33541666666656},117,34857,3407,537,1091,2588,2440,2136,7116,2149,5532,5190,144,20,2114,393,1258,529,643,535,330,1091,847,1267,635,677,321,2041,393,1472,2588,3477,1614,431,787,349,1090,3256,144,624,855,537,20,1050,2664,638,1009,1685]
["Male 55-59",{"$f":"Prevalence!B116*AX119","v":5225.46},{"$f":"Prevalence!C116*AY119","v":669.29000000000008},{"$f":"Prevalence!D116*AZ119","v":71.541666666666686},{"$f":"Prevalence!E116*BA119","v":187.00000000000003},{"$f":"Prevalence!F116*BB119","v":420.24},{"$f":"Prevalence!G116*BC119","v":226.32666666666668},{"$f":"Prevalence!H116*BD119","v":345.68083333333334},{"$f":"Prevalence!I116*BE119","v":1143.1012499999999},{"$f":"Prevalence!J116*BF119","v":299.58250000000004},{"$f":"Prevalence!K116*BG119","v":856.80000000000007},{"$f":"Prevalence!L116*BH119","v":661.04500000000007},{"$f":"Prevalence!M116*BI119","v":34.425000000000004},{"$f":"Prevalence!N116*BJ119","v":2.3375000000000004},{"$f":"Prevalence!O116*BK119","v":321.37083333333334},{"$f":"Prevalence!P116*BL119","v":84.759166666666673},{"$f":"Prevalence!Q116*BM119","v":199.21875000000003},{"$f":"Prevalence!R116*BN119","v":82.046250000000001},{"$f":"Prevalence!S116*BO119","v":118.78750000000001},{"$f":"Prevalence!T116*BP119","v":97.055833333333339},{"$f":"Prevalence!U116*BQ119","v":31.846666666666668},{"$f":"Prevalence!V116*BR119","v":187.00000000000003},{"$f":"Prevalence!W116*BS119","v":109.82000000000001},{"$f":"Prevalence!X116*BT119","v":274.55000000000007},{"$f":"Prevalence!Y116*BU119","v":29.240000000000002},{"$f":"Prevalence!Z116*BV119","v":79.26958333333333},{"$f":"Prevalence!AA116*BW119","v":27.200000000000003},{"$f":"Prevalence!AB116*BX119","v":217.77},{"$f":"Prevalence!AC116*BY119","v":84.759166666666673},{"$f":"Prevalence!AD116*BZ119","v":126.43750000000001},{"$f":"Prevalence!AE116*CA119","v":420.24},{"$f":"Prevalence!AF116*CB119","v":635.25458333333336},{"$f":"Prevalence!AG116*CC119","v":189.5925},{"$f":"Prevalence!AH116*CD119","v":82.28},{"$f":"Prevalence!AI116*CE119","v":149.14666666666668},{"$f":"Prevalence!AJ116*CF119","v":61.77375},{"$f":"Prevalence!AK116*CG119","v":255.70833333333334},{"$f":"Prevalence!AL116*CH119","v":536.91666666666674},{"$f":"Prevalence!AM116*CI119","v":34.425000000000004},{"$f":"Prevalence!AN116*CJ119","v":95.625000000000014},{"$f":"Prevalence!AO116*CK119","v":151.39208333333332},{"$f":"Prevalence!AP116*CL119","v":71.541666666666686},{"$f":"Prevalence!AQ116*CM119","v":2.3375000000000004},{"$f":"Prevalence!AR116*CN119","v":128.93083333333334},{"$f":"Prevalence!AS116*CO119","v":399.16},{"$f":"Prevalence!AT116*CP119","v":62.475000000000009},{"$f":"Prevalence!AU116*CQ119","v":200.14666666666668},{"$f":"Prevalence!AV116*CR119","v":286.55624999999998},118,30738,3048,505,1056,2472,1997,1877,5977,2014,5040,4444,162,15,1745,386,1125,429,559,527,281,1056,646,1140,516,589,256,1708,386,1275,2472,2893,1487,352,752,323,950,3032,162,540,737,505,15,958,2348,441,883,1395]
["Male 60-64",{"$f":"Prevalence!B117*AX120","v":4997.3200000000006},{"$f":"Prevalence!C117*AY120","v":697.17708333333337},{"$f":"Prevalence!D117*AZ120","v":68.000000000000014},{"$f":"Prevalence!E117*BA120","v":189.30208333333337},{"$f":"Prevalence!F117*BB120","v":393.38000000000005},{"$f":"Prevalence!G117*BC120","v":240.49333333333334},{"$f":"Prevalence!H117*BD120","v":340.34000000000003},{"$f":"Prevalence!I117*BE120","v":1004.25375},{"$f":"Prevalence!J117*BF120","v":298.83875000000006},{"$f":"Prevalence!K117*BG120","v":774.18000000000006},{"$f":"Prevalence!L117*BH120","v":632.03875000000005},{"$f":"Prevalence!M117*BI120","v":31.875000000000004},{"$f":"Prevalence!N117*BJ120","v":3.1166666666666671},{"$f":"Prevalence!O117*BK120","v":323.94916666666666},{"$f":"Prevalence!P117*BL120","v":86.955000000000013},{"$f":"Prevalence!Q117*BM120","v":180.80208333333337},{"$f":"Prevalence!R117*BN120","v":94.477500000000006},{"$f":"Prevalence!S117*BO120","v":127.71250000000002},{"$f":"Prevalence!T117*BP120","v":93.556666666666672},{"$f":"Prevalence!U117*BQ120","v":31.733333333333334},{"$f":"Prevalence!V117*BR120","v":189.30208333333337},{"$f":"Prevalence!W117*BS120","v":121.21000000000001},{"$f":"Prevalence!X117*BT120","v":286.11000000000007},{"$f":"Prevalence!Y117*BU120","v":24.423333333333336},{"$f":"Prevalence!Z117*BV120","v":76.712500000000006},{"$f":"Prevalence!AA117*BW120","v":25.075000000000003},{"$f":"Prevalence!AB117*BX120","v":203.61750000000001},{"$f":"Prevalence!AC117*BY120","v":86.955000000000013},{"$f":"Prevalence!AD117*BZ120","v":137.14750000000001},{"$f":"Prevalence!AE117*CA120","v":393.38000000000005},{"$f":"Prevalence!AF117*CB120","v":524.5845833333334},{"$f":"Prevalence!AG117*CC120","v":191.3775},{"$f":"Prevalence!AH117*CD120","v":83.682500000000005},{"$f":"Prevalence!AI117*CE120","v":131.69333333333336},{"$f":"Prevalence!AJ117*CF120","v":63.686250000000001},{"$f":"Prevalence!AK117*CG120","v":276.70333333333332},{"$f":"Prevalence!AL117*CH120","v":480.42708333333343},{"$f":"Prevalence!AM117*CI120","v":31.875000000000004},{"$f":"Prevalence!AN117*CJ120","v":78.802083333333343},{"$f":"Prevalence!AO117*CK120","v":140.09416666666667},{"$f":"Prevalence!AP117*CL120","v":68.000000000000014},{"$f":"Prevalence!AQ117*CM120","v":3.1166666666666671},{"$f":"Prevalence!AR117*CN120","v":129.06541666666666},{"$f":"Prevalence!AS117*CO120","v":377.23},{"$f":"Prevalence!AT117*CP120","v":65.025000000000006},{"$f":"Prevalence!AU117*CQ120","v":176.12},{"$f":"Prevalence!AV117*CR120","v":291.28083333333331},119,29396,3175,480,1069,2314,2122,1848,5251,2009,4554,4249,150,20,1759,396,1021,494,601,508,280,1069,713,1188,431,570,236,1597,396,1383,2314,2389,1501,358,664,333,1028,2713,150,445,682,480,20,959,2219,459,777,1418]
["Male 65-69",{"$f":"Prevalence!B118*AX121","v":5661.92},{"$f":"Prevalence!C118*AY121","v":816.41083333333336},{"$f":"Prevalence!D118*AZ121","v":77.916666666666671},{"$f":"Prevalence!E118*BA121","v":223.66666666666669},{"$f":"Prevalence!F118*BB121","v":468.16},{"$f":"Prevalence!G118*BC121","v":268.69333333333333},{"$f":"Prevalence!H118*BD121","v":345.82166666666666},{"$f":"Prevalence!I118*BE121","v":1120.4324999999999},{"$f":"Prevalence!J118*BF121","v":338.8},{"$f":"Prevalence!K118*BG121","v":905.74},{"$f":"Prevalence!L118*BH121","v":703.58749999999998},{"$f":"Prevalence!M118*BI121","v":45.650000000000006},{"$f":"Prevalence!N118*BJ121","v":3.8316666666666666},{"$f":"Prevalence!O118*BK121","v":353.44833333333332},{"$f":"Prevalence!P118*BL121","v":92.070000000000007},{"$f":"Prevalence!Q118*BM121","v":170.27083333333334},{"$f":"Prevalence!R118*BN121","v":110.38500000000001},{"$f":"Prevalence!S118*BO121","v":134.75},{"$f":"Prevalence!T118*BP121","v":116.54499999999999},{"$f":"Prevalence!U118*BQ121","v":42.093333333333334},{"$f":"Prevalence!V118*BR121","v":223.66666666666669},{"$f":"Prevalence!W118*BS121","v":137.28},{"$f":"Prevalence!X118*BT121","v":327.25000000000006},{"$f":"Prevalence!Y118*BU121","v":27.646666666666668},{"$f":"Prevalence!Z118*BV121","v":91.4375},{"$f":"Prevalence!AA118*BW121","v":22.55},{"$f":"Prevalence!AB118*BX121","v":212.52},{"$f":"Prevalence!AC118*BY121","v":92.070000000000007},{"$f":"Prevalence!AD118*BZ121","v":150.27833333333336},{"$f":"Prevalence!AE118*CA121","v":468.16},{"$f":"Prevalence!AF118*CB121","v":552.98833333333334},{"$f":"Prevalence!AG118*CC121","v":209.715},{"$f":"Prevalence!AH118*CD121","v":88.935000000000002},{"$f":"Prevalence!AI118*CE121","v":155.54000000000002},{"$f":"Prevalence!AJ118*CF121","v":64.844999999999999},{"$f":"Prevalence!AK118*CG121","v":297.82499999999999},{"$f":"Prevalence!AL118*CH121","v":561.91666666666674},{"$f":"Prevalence!AM118*CI121","v":45.650000000000006},{"$f":"Prevalence!AN118*CJ121","v":84.5625},{"$f":"Prevalence!AO118*CK121","v":183.15916666666666},{"$f":"Prevalence!AP118*CL121","v":77.916666666666671},{"$f":"Prevalence!AQ118*CM121","v":3.8316666666666666},{"$f":"Prevalence!AR118*CN121","v":168.59333333333333},{"$f":"Prevalence!AS118*CO121","v":435.82},{"$f":"Prevalence!AT118*CP121","v":68.566666666666677},{"$f":"Prevalence!AU118*CQ121","v":217.36},{"$f":"Prevalence!AV118*CR121","v":328.57},120,25736,2873,425,976,2128,1832,1451,4527,1760,4117,3655,166,19,1483,324,743,446,490,489,287,976,624,1050,377,525,164,1288,324,1171,2128,1946,1271,294,606,262,855,2452,166,369,689,425,19,968,1981,374,741,1236]
["Male 70-74",{"$f":"Prevalence!B119*AX122","v":4337.08},{"$f":"Prevalence!C119*AY122","v":597.60250000000008},{"$f":"Prevalence!D119*AZ122","v":60.31666666666667},{"$f":"Prevalence!E119*BA122","v":180.12500000000003},{"$f":"Prevalence!F119*BB122","v":326.92},{"$f":"Prevalence!G119*BC122","v":204.16},{"$f":"Prevalence!H119*BD122","v":280.27999999999997},{"$f":"Prevalence!I119*BE122","v":880.11},{"$f":"Prevalence!J119*BF122","v":258.14249999999998},{"$f":"Prevalence!K119*BG122","v":697.84},{"$f":"Prevalence!L119*BH122","v":538.61500000000001},{"$f":"Prevalence!M119*BI122","v":35.75},{"$f":"Prevalence!N119*BJ122","v":2.0166666666666666},{"$f":"Prevalence!O119*BK122","v":280.75666666666666},{"$f":"Prevalence!P119*BL122","v":73.030833333333334},{"$f":"Prevalence!Q119*BM122","v":142.54166666666669},{"$f":"Prevalence!R119*BN122","v":80.685000000000002},{"$f":"Prevalence!S119*BO122","v":105.05000000000001},{"$f":"Prevalence!T119*BP122","v":96.286666666666662},{"$f":"Prevalence!U119*BQ122","v":28.893333333333334},{"$f":"Prevalence!V119*BR122","v":180.12500000000003},{"$f":"Prevalence!W119*BS122","v":113.74},{"$f":"Prevalence!X119*BT122","v":231.56833333333336},{"$f":"Prevalence!Y119*BU122","v":23.613333333333333},{"$f":"Prevalence!Z119*BV122","v":78.897499999999994},{"$f":"Prevalence!AA119*BW122","v":17.875},{"$f":"Prevalence!AB119*BX122","v":159.22499999999999},{"$f":"Prevalence!AC119*BY122","v":73.030833333333334},{"$f":"Prevalence!AD119*BZ122","v":112.93333333333335},{"$f":"Prevalence!AE119*CA122","v":326.92},{"$f":"Prevalence!AF119*CB122","v":427.10250000000002},{"$f":"Prevalence!AG119*CC122","v":154.60500000000002},{"$f":"Prevalence!AH119*CD122","v":65.944999999999993},{"$f":"Prevalence!AI119*CE122","v":118.32333333333335},{"$f":"Prevalence!AJ119*CF122","v":56.43},{"$f":"Prevalence!AK119*CG122","v":232.33833333333334},{"$f":"Prevalence!AL119*CH122","v":441.60416666666669},{"$f":"Prevalence!AM119*CI122","v":35.75},{"$f":"Prevalence!AN119*CJ122","v":63.937500000000007},{"$f":"Prevalence!AO119*CK122","v":164.55083333333332},{"$f":"Prevalence!AP119*CL122","v":60.31666666666667},{"$f":"Prevalence!AQ119*CM122","v":2.0166666666666666},{"$f":"Prevalence!AR119*CN122","v":120.69750000000001},{"$f":"Prevalence!AS119*CO122","v":323.39999999999998},{"$f":"Prevalence!AT119*CP122","v":57.750000000000007},{"$f":"Prevalence!AU119*CQ122","v":158.10666666666665},{"$f":"Prevalence!AV119*CR122","v":244.30083333333332},121,19714,2103,329,786,1486,1392,1176,3556,1341,3172,2798,130,10,1178,257,622,326,382,404,197,786,517,743,322,453,130,965,257,880,1486,1503,937,218,461,228,667,1927,130,279,619,329,10,693,1470,315,539,919]
["Male 75-79",{"$f":"Prevalence!B120*AX123","v":1390.23},{"$f":"Prevalence!C120*AY123","v":196.34625},{"$f":"Prevalence!D120*AZ123","v":19.05},{"$f":"Prevalence!E120*BA123","v":59.25},{"$f":"Prevalence!F120*BB123","v":110.42999999999999},{"$f":"Prevalence!G120*BC123","v":64.92},{"$f":"Prevalence!H120*BD123","v":100.03499999999998},{"$f":"Prevalence!I120*BE123","v":284.81624999999997},{"$f":"Prevalence!J120*BF123","v":74.97},{"$f":"Prevalence!K120*BG123","v":214.2},{"$f":"Prevalence!L120*BH123","v":174.19499999999999},{"$f":"Prevalence!M120*BI123","v":9.4499999999999993},{"$f":"Prevalence!N120*BJ123","v":0.41249999999999998},{"$f":"Prevalence!O120*BK123","v":88.822499999999991},{"$f":"Prevalence!P120*BL123","v":20.925000000000001},{"$f":"Prevalence!Q120*BM123","v":53.15625},{"$f":"Prevalence!R120*BN123","v":28.349999999999998},{"$f":"Prevalence!S120*BO123","v":33.299999999999997},{"$f":"Prevalence!T120*BP123","v":27.104999999999997},{"$f":"Prevalence!U120*BQ123","v":8.64},{"$f":"Prevalence!V120*BR123","v":59.25},{"$f":"Prevalence!W120*BS123","v":37.799999999999997},{"$f":"Prevalence!X120*BT123","v":82.237499999999997},{"$f":"Prevalence!Y120*BU123","v":8.4},{"$f":"Prevalence!Z120*BV123","v":26.79},{"$f":"Prevalence!AA120*BW123","v":7.0874999999999995},{"$f":"Prevalence!AB120*BX123","v":54.945},{"$f":"Prevalence!AC120*BY123","v":20.925000000000001},{"$f":"Prevalence!AD120*BZ123","v":36.119999999999997},{"$f":"Prevalence!AE120*CA123","v":110.42999999999999},{"$f":"Prevalence!AF120*CB123","v":145.42875000000001},{"$f":"Prevalence!AG120*CC123","v":45.495000000000005},{"$f":"Prevalence!AH120*CD123","v":19.67625},{"$f":"Prevalence!AI120*CE123","v":34.65},{"$f":"Prevalence!AJ120*CF123","v":18.123749999999998},{"$f":"Prevalence!AK120*CG123","v":70.679999999999993},{"$f":"Prevalence!AL120*CH123","v":127.96875},{"$f":"Prevalence!AM120*CI123","v":9.4499999999999993},{"$f":"Prevalence!AN120*CJ123","v":18.28125},{"$f":"Prevalence!AO120*CK123","v":51.003749999999997},{"$f":"Prevalence!AP120*CL123","v":19.05},{"$f":"Prevalence!AQ120*CM123","v":0.41249999999999998},{"$f":"Prevalence!AR120*CN123","v":39.044999999999995},{"$f":"Prevalence!AS120*CO123","v":105.3},{"$f":"Prevalence!AT120*CP123","v":18.75},{"$f":"Prevalence!AU120*CQ123","v":44.76},{"$f":"Prevalence!AV120*CR123","v":75.254999999999995},122,15447,1689,254,632,1227,1082,1026,2813,952,2380,2212,84,5,911,180,567,280,296,278,144,632,420,645,280,376,126,814,180,688,1227,1251,674,159,330,179,496,1365,84,195,469,254,5,548,1170,250,373,692]
["Male 80-84",{"$f":"Prevalence!B121*AX124","v":898.19999999999993},{"$f":"Prevalence!C121*AY124","v":124.73625000000001},{"$f":"Prevalence!D121*AZ124","v":16.8},{"$f":"Prevalence!E121*BA124","v":34.21875},{"$f":"Prevalence!F121*BB124","v":70.92},{"$f":"Prevalence!G121*BC124","v":38.94},{"$f":"Prevalence!H121*BD124","v":64.642499999999998},{"$f":"Prevalence!I121*BE124","v":189.03375},{"$f":"Prevalence!J121*BF124","v":46.147500000000001},{"$f":"Prevalence!K121*BG124","v":136.97999999999999},{"$f":"Prevalence!L121*BH124","v":111.74625},{"$f":"Prevalence!M121*BI124","v":5.5124999999999993},{"$f":"Prevalence!N121*BJ124","v":0.65999999999999992},{"$f":"Prevalence!O121*BK124","v":62.107499999999995},{"$f":"Prevalence!P121*BL124","v":15.112500000000001},{"$f":"Prevalence!Q121*BM124","v":36.46875},{"$f":"Prevalence!R121*BN124","v":16.2},{"$f":"Prevalence!S121*BO124","v":22.499999999999996},{"$f":"Prevalence!T121*BP124","v":16.672499999999999},{"$f":"Prevalence!U121*BQ124","v":6.12},{"$f":"Prevalence!V121*BR124","v":34.21875},{"$f":"Prevalence!W121*BS124","v":27.72},{"$f":"Prevalence!X121*BT124","v":53.422499999999999},{"$f":"Prevalence!Y121*BU124","v":5.34},{"$f":"Prevalence!Z121*BV124","v":18.239999999999998},{"$f":"Prevalence!AA121*BW124","v":4.2749999999999995},{"$f":"Prevalence!AB121*BX124","v":34.762500000000003},{"$f":"Prevalence!AC121*BY124","v":15.112500000000001},{"$f":"Prevalence!AD121*BZ124","v":20.684999999999999},{"$f":"Prevalence!AE121*CA124","v":70.92},{"$f":"Prevalence!AF121*CB124","v":103.11375000000001},{"$f":"Prevalence!AG121*CC124","v":28.012500000000003},{"$f":"Prevalence!AH121*CD124","v":11.879999999999999},{"$f":"Prevalence!AI121*CE124","v":23.52},{"$f":"Prevalence!AJ121*CF124","v":11.542499999999999},{"$f":"Prevalence!AK121*CG124","v":42.749999999999993},{"$f":"Prevalence!AL121*CH124","v":81.46875},{"$f":"Prevalence!AM121*CI124","v":5.5124999999999993},{"$f":"Prevalence!AN121*CJ124","v":12.09375},{"$f":"Prevalence!AO121*CK124","v":28.709999999999997},{"$f":"Prevalence!AP121*CL124","v":16.8},{"$f":"Prevalence!AQ121*CM124","v":0.65999999999999992},{"$f":"Prevalence!AR121*CN124","v":25.222499999999997},{"$f":"Prevalence!AS121*CO124","v":68.489999999999995},{"$f":"Prevalence!AT121*CP124","v":11.475},{"$f":"Prevalence!AU121*CQ124","v":30.959999999999997},{"$f":"Prevalence!AV121*CR124","v":46.109999999999992},123,9980,1073,224,365,788,649,663,1867,586,1522,1419,49,8,637,130,389,160,200,171,102,365,308,419,178,256,76,515,130,394,788,887,415,96,224,114,300,869,49,129,264,224,8,354,761,153,258,424]
["Male 85-89",{"$f":"Prevalence!B122*AX125","v":446.94},{"$f":"Prevalence!C122*AY125","v":62.193750000000001},{"$f":"Prevalence!D122*AZ125","v":9.2249999999999996},{"$f":"Prevalence!E122*BA125","v":15.65625},{"$f":"Prevalence!F122*BB125","v":35.19},{"$f":"Prevalence!G122*BC125","v":19.68},{"$f":"Prevalence!H122*BD125","v":28.664999999999996},{"$f":"Prevalence!I122*BE125","v":94.77},{"$f":"Prevalence!J122*BF125","v":24.885000000000002},{"$f":"Prevalence!K122*BG125","v":62.28},{"$f":"Prevalence!L122*BH125","v":57.487499999999997},{"$f":"Prevalence!M122*BI125","v":3.5999999999999996},{"$f":"Prevalence!N122*BJ125","v":0.32999999999999996},{"$f":"Prevalence!O122*BK125","v":34.612499999999997},{"$f":"Prevalence!P122*BL125","v":7.3237500000000004},{"$f":"Prevalence!Q122*BM125","v":15.84375},{"$f":"Prevalence!R122*BN125","v":8.504999999999999},{"$f":"Prevalence!S122*BO125","v":13.499999999999998},{"$f":"Prevalence!T122*BP125","v":8.3849999999999998},{"$f":"Prevalence!U122*BQ125","v":2.34},{"$f":"Prevalence!V122*BR125","v":15.65625},{"$f":"Prevalence!W122*BS125","v":13.41},{"$f":"Prevalence!X122*BT125","v":25.8825},{"$f":"Prevalence!Y122*BU125","v":3.12},{"$f":"Prevalence!Z122*BV125","v":9.3337499999999984},{"$f":"Prevalence!AA122*BW125","v":2.1937499999999996},{"$f":"Prevalence!AB122*BX125","v":21.397500000000001},{"$f":"Prevalence!AC122*BY125","v":7.3237500000000004},{"$f":"Prevalence!AD122*BZ125","v":11.234999999999999},{"$f":"Prevalence!AE122*CA125","v":35.19},{"$f":"Prevalence!AF122*CB125","v":51.615000000000002},{"$f":"Prevalence!AG122*CC125","v":15.525},{"$f":"Prevalence!AH122*CD125","v":8.5387500000000003},{"$f":"Prevalence!AI122*CE125","v":11.76},{"$f":"Prevalence!AJ122*CF125","v":4.1512500000000001},{"$f":"Prevalence!AK122*CG125","v":19.38},{"$f":"Prevalence!AL122*CH125","v":32.71875},{"$f":"Prevalence!AM122*CI125","v":3.5999999999999996},{"$f":"Prevalence!AN122*CJ125","v":8.0625},{"$f":"Prevalence!AO122*CK125","v":11.418749999999999},{"$f":"Prevalence!AP122*CL125","v":9.2249999999999996},{"$f":"Prevalence!AQ122*CM125","v":0.32999999999999996},{"$f":"Prevalence!AR122*CN125","v":13.964999999999998},{"$f":"Prevalence!AS122*CO125","v":35.82},{"$f":"Prevalence!AT122*CP125","v":5.625},{"$f":"Prevalence!AU122*CQ125","v":14.399999999999999},{"$f":"Prevalence!AV122*CR125","v":18.487499999999997},124,4966,535,123,167,391,328,294,936,316,692,730,32,4,355,63,169,84,120,86,39,167,149,203,104,131,39,317,63,214,391,444,230,69,112,41,136,349,32,86,105,123,4,196,398,75,120,170]
["Male 90+",{"$f":"Prevalence!B123*AX126","v":174.23999999999998},{"$f":"Prevalence!C123*AY126","v":22.668750000000003},{"$f":"Prevalence!D123*AZ126","v":4.05},{"$f":"Prevalence!E123*BA126","v":6.5625},{"$f":"Prevalence!F123*BB126","v":12.42},{"$f":"Prevalence!G123*BC126","v":7.3199999999999994},{"$f":"Prevalence!H123*BD126","v":12.772499999999999},{"$f":"Prevalence!I123*BE126","v":34.728749999999998},{"$f":"Prevalence!J123*BF126","v":9.2137499999999992},{"$f":"Prevalence!K123*BG126","v":25.29},{"$f":"Prevalence!L123*BH126","v":22.12875},{"$f":"Prevalence!M123*BI126","v":2.25},{"$f":"Prevalence!N123*BJ126","v":8.249999999999999E-2},{"$f":"Prevalence!O123*BK126","v":15.599999999999998},{"$f":"Prevalence!P123*BL126","v":2.6737500000000001},{"$f":"Prevalence!Q123*BM126","v":6.9375},{"$f":"Prevalence!R123*BN126","v":3.1387499999999999},{"$f":"Prevalence!S123*BO126","v":7.1999999999999993},{"$f":"Prevalence!T123*BP126","v":2.9249999999999998},{"$f":"Prevalence!U123*BQ126","v":0.3},{"$f":"Prevalence!V123*BR126","v":6.5625},{"$f":"Prevalence!W123*BS126","v":6.3},{"$f":"Prevalence!X123*BT126","v":8.67},{"$f":"Prevalence!Y123*BU126","v":1.3499999999999999},{"$f":"Prevalence!Z123*BV126","v":3.1349999999999998},{"$f":"Prevalence!AA123*BW126","v":0.33749999999999997},{"$f":"Prevalence!AB123*BX126","v":8.5050000000000008},{"$f":"Prevalence!AC123*BY126","v":2.6737500000000001},{"$f":"Prevalence!AD123*BZ126","v":4.5674999999999999},{"$f":"Prevalence!AE123*CA126","v":12.42},{"$f":"Prevalence!AF123*CB126","v":20.34375},{"$f":"Prevalence!AG123*CC126","v":5.8725000000000005},{"$f":"Prevalence!AH123*CD126","v":2.2275},{"$f":"Prevalence!AI123*CE126","v":4.5149999999999997},{"$f":"Prevalence!AJ123*CF126","v":2.6324999999999998},{"$f":"Prevalence!AK123*CG126","v":7.1249999999999991},{"$f":"Prevalence!AL123*CH126","v":13.125},{"$f":"Prevalence!AM123*CI126","v":2.25},{"$f":"Prevalence!AN123*CJ126","v":2.4375},{"$f":"Prevalence!AO123*CK126","v":4.1324999999999994},{"$f":"Prevalence!AP123*CL126","v":4.05},{"$f":"Prevalence!AQ123*CM126","v":8.249999999999999E-2},{"$f":"Prevalence!AR123*CN126","v":5.4862499999999992},{"$f":"Prevalence!AS123*CO126","v":14.85},{"$f":"Prevalence!AT123*CP126","v":2.25},{"$f":"Prevalence!AU123*CQ126","v":4.4399999999999995},{"$f":"Prevalence!AV123*CR126","v":7.3949999999999987},125,1936,195,54,70,138,122,131,343,117,281,281,20,1,160,23,74,31,64,30,5,70,70,68,45,44,6,126,23,87,138,175,87,18,43,26,50,140,20,26,38,54,1,77,165,30,37,68]
["Female <1",null,null,null,null,null,null,null,null,null,null,null,null,null,null,null,null,null,null,null,null,null,null,null,null,null,null,null,null,null,null,null,null,null,null,null,null,null,null,null,null,null,null,null,null,null,null,null,126]
["Female 1-4",null,null,null,null,null,null,null,null,null,null,null,null,null,null,null,null,null,null,null,null,null,null,null,null,null,null,null,null,null,null,null,null,null,null,null,null,null,null,null,null,null,null,null,null,null,null,null,127]
["Female 5-9",null,null,null,null,null,null,null,null,null,null,null,null,null,null,null,null,null,null,null,null,null,null,null,null,null,null,null,null,null,null,null,null,null,null,null,null,null,null,null,null,null,null,null,null,null,null,null,128]
["Female 10-14",null,null,null,null,null,null,null,null,null,null,null,null,null,null,null,null,null,null,null,null,null,null,null,null,null,null,null,null,null,null,null,null,null,null,null,null,null,null,null,null,null,null,null,null,null,null,null,129]
["Female 15-19 (16+)",{"$f":"Prevalence!B128*AX131","v":6340.3600000000006},{"$f":"Prevalence!C128*AY131","v":685.4545454545455},{"$f":"Prevalence!D128*AZ131","v":48.70272727272728},{"$f":"Prevalence!E128*BA131","v":201.66545454545454},{"$f":"Prevalence!F128*BB131","v":427.86545454545455},{"$f":"Prevalence!G128*BC131","v":409.25181818181818},{"$f":"Prevalence!H128*BD131","v":390.88636363636368},{"$f":"Prevalence!I128*BE131","v":1318.46},{"$f":"Prevalence!J128*BF131","v":337.27909090909094},{"$f":"Prevalence!K128*BG131","v":977.18636363636358},{"$f":"Prevalence!L128*BH131","v":873.70636363636368},{"$f":"Prevalence!M128*BI131","v":20.031818181818181},{"$f":"Prevalence!N128*BJ131","v":1.82},{"$f":"Prevalence!O128*BK131","v":500.96090909090907},{"$f":"Prevalence!P128*BL131","v":34.24909090909091},{"$f":"Prevalence!Q128*BM131","v":227.33454545454546},{"$f":"Prevalence!R128*BN131","v":96.790909090909096},{"$f":"Prevalence!S128*BO131","v":115.5109090909091},{"$f":"Prevalence!T128*BP131","v":87.927272727272722},{"$f":"Prevalence!U128*BQ131","v":66.843636363636364},{"$f":"Prevalence!V128*BR131","v":201.66545454545454},{"$f":"Prevalence!W128*BS131","v":340.74181818181825},{"$f":"Prevalence!X128*BT131","v":314.70636363636368},{"$f":"Prevalence!Y128*BU131","v":46.445454545454545},{"$f":"Prevalence!Z128*BV131","v":138.98181818181817},{"$f":"Prevalence!AA128*BW131","v":28.73},{"$f":"Prevalence!AB128*BX131","v":339.08727272727276},{"$f":"Prevalence!AC128*BY131","v":34.24909090909091},{"$f":"Prevalence!AD128*BZ131","v":272.36181818181814},{"$f":"Prevalence!AE128*CA131","v":427.86545454545455},{"$f":"Prevalence!AF128*CB131","v":777.44727272727266},{"$f":"Prevalence!AG128*CC131","v":247.94545454545454},{"$f":"Prevalence!AH128*CD131","v":69.857272727272715},{"$f":"Prevalence!AI128*CE131","v":176.13818181818181},{"$f":"Prevalence!AJ128*CF131","v":60.402727272727276},{"$f":"Prevalence!AK128*CG131","v":246.33818181818182},{"$f":"Prevalence!AL128*CH131","v":574.08000000000004},{"$f":"Prevalence!AM128*CI131","v":20.031818181818181},{"$f":"Prevalence!AN128*CJ131","v":84.878181818181815},{"$f":"Prevalence!AO128*CK131","v":171.95454545454547},{"$f":"Prevalence!AP128*CL131","v":48.70272727272728},{"$f":"Prevalence!AQ128*CM131","v":1.82},{"$f":"Prevalence!AR128*CN131","v":130.28363636363639},{"$f":"Prevalence!AS128*CO131","v":469.70181818181817},{"$f":"Prevalence!AT128*CP131","v":78.88636363636364},{"$f":"Prevalence!AU128*CQ131","v":215.56363636363636},{"$f":"Prevalence!AV128*CR131","v":237.30909090909094},130,24386,2320,317,711,1724,1649,1575,5071,1359,3595,3891,113,11,1843,207,916,390,543,310,202,711,901,859,393,490,221,1594,207,1002,1724,2741,1049,257,552,269,772,2208,113,399,582,317,11,689,1656,445,608,1255]
["Female 20-24",{"$f":"Prevalence!B129*AX132","v":10085.66},{"$f":"Prevalence!C129*AY132","v":900.54545454545462},{"$f":"Prevalence!D129*AZ132","v":92.335454545454553},{"$f":"Prevalence!E129*BA132","v":248.74909090909091},{"$f":"Prevalence!F129*BB132","v":602.58545454545458},{"$f":"Prevalence!G129*BC132","v":611.02363636363646},{"$f":"Prevalence!H129*BD132","v":804.60545454545456},{"$f":"Prevalence!I129*BE132","v":2283.58},{"$f":"Prevalence!J129*BF132","v":403.29545454545456},{"$f":"Prevalence!K129*BG132","v":1338.7045454545453},{"$f":"Prevalence!L129*BH132","v":1565.5309090909091},{"$f":"Prevalence!M129*BI132","v":21.804545454545455},{"$f":"Prevalence!N129*BJ132","v":5.2945454545454549},{"$f":"Prevalence!O129*BK132","v":941.03454545454531},{"$f":"Prevalence!P129*BL132","v":34.910909090909094},{"$f":"Prevalence!Q129*BM132","v":587.94272727272732},{"$f":"Prevalence!R129*BN132","v":131.78454545454545},{"$f":"Prevalence!S129*BO132","v":127.63636363636364},{"$f":"Prevalence!T129*BP132","v":115.15636363636364},{"$f":"Prevalence!U129*BQ132","v":95.63272727272728},{"$f":"Prevalence!V129*BR132","v":248.74909090909091},{"$f":"Prevalence!W129*BS132","v":838.42909090909097},{"$f":"Prevalence!X129*BT132","v":412.52545454545458},{"$f":"Prevalence!Y129*BU132","v":67.718181818181819},{"$f":"Prevalence!Z129*BV132","v":195.99272727272728},{"$f":"Prevalence!AA129*BW132","v":33.800000000000004},{"$f":"Prevalence!AB129*BX132","v":833.46545454545458},{"$f":"Prevalence!AC129*BY132","v":34.910909090909094},{"$f":"Prevalence!AD129*BZ132","v":354.45090909090908},{"$f":"Prevalence!AE129*CA132","v":602.58545454545458},{"$f":"Prevalence!AF129*CB132","v":1569.0763636363636},{"$f":"Prevalence!AG129*CC132","v":288.12727272727273},{"$f":"Prevalence!AH129*CD132","v":98.126363636363621},{"$f":"Prevalence!AI129*CE132","v":241.23272727272726},{"$f":"Prevalence!AJ129*CF132","v":76.794545454545457},{"$f":"Prevalence!AK129*CG132","v":308.24181818181819},{"$f":"Prevalence!AL129*CH132","v":808.86},{"$f":"Prevalence!AM129*CI132","v":21.804545454545455},{"$f":"Prevalence!AN129*CJ132","v":137.20909090909092},{"$f":"Prevalence!AO129*CK132","v":253.5},{"$f":"Prevalence!AP129*CL132","v":92.335454545454553},{"$f":"Prevalence!AQ129*CM132","v":5.2945454545454549},{"$f":"Prevalence!AR129*CN132","v":180.7709090909091},{"$f":"Prevalence!AS129*CO132","v":618.04363636363632},{"$f":"Prevalence!AT129*CP132","v":154.05000000000001},{"$f":"Prevalence!AU129*CQ132","v":295.69090909090909},{"$f":"Prevalence!AV129*CR132","v":303.86909090909097},131,38791,3048,601,877,2428,2462,3242,8783,1625,4925,6972,123,32,3462,211,2369,531,600,406,289,877,2217,1126,573,691,260,3918,211,1304,2428,5532,1219,361,756,342,966,3111,123,645,858,601,32,956,2179,869,834,1607]
["Female 25-29",{"$f":"Prevalence!B130*AX133","v":11920.43},{"$f":"Prevalence!C130*AY133","v":1040.2613636363637},{"$f":"Prevalence!D130*AZ133","v":92.140454545454546},{"$f":"Prevalence!E130*BA133","v":312.81818181818176},{"$f":"Prevalence!F130*BB133","v":720.53863636363633},{"$f":"Prevalence!G130*BC133","v":690.94772727272721},{"$f":"Prevalence!H130*BD133","v":906.96136363636356},{"$f":"Prevalence!I130*BE133","v":2718.39},{"$f":"Prevalence!J130*BF133","v":537.66681818181814},{"$f":"Prevalence!K130*BG133","v":1750.090909090909},{"$f":"Prevalence!L130*BH133","v":1867.9331818181815},{"$f":"Prevalence!M130*BI133","v":25.786363636363632},{"$f":"Prevalence!N130*BJ133","v":4.7345454545454544},{"$f":"Prevalence!O130*BK133","v":945.37318181818182},{"$f":"Prevalence!P130*BL133","v":41.624545454545455},{"$f":"Prevalence!Q130*BM133","v":633.83727272727276},{"$f":"Prevalence!R130*BN133","v":166.005},{"$f":"Prevalence!S130*BO133","v":179.06727272727275},{"$f":"Prevalence!T130*BP133","v":137.63999999999999},{"$f":"Prevalence!U130*BQ133","v":106.13272727272727},{"$f":"Prevalence!V130*BR133","v":312.81818181818176},{"$f":"Prevalence!W130*BS133","v":659.22909090909093},{"$f":"Prevalence!X130*BT133","v":487.9259090909091},{"$f":"Prevalence!Y130*BU133","v":76.090909090909079},{"$f":"Prevalence!Z130*BV133","v":224.21454545454543},{"$f":"Prevalence!AA130*BW133","v":35.185000000000002},{"$f":"Prevalence!AB130*BX133","v":971.42727272727279},{"$f":"Prevalence!AC130*BY133","v":41.624545454545455},{"$f":"Prevalence!AD130*BZ133","v":455.3477272727273},{"$f":"Prevalence!AE130*CA133","v":720.53863636363633},{"$f":"Prevalence!AF130*CB133","v":1878.9381818181816},{"$f":"Prevalence!AG130*CC133","v":397.36363636363632},{"$f":"Prevalence!AH130*CD133","v":122.18227272727273},{"$f":"Prevalence!AI130*CE133","v":259.08954545454543},{"$f":"Prevalence!AJ130*CF133","v":96.917272727272717},{"$f":"Prevalence!AK130*CG133","v":353.82272727272726},{"$f":"Prevalence!AL130*CH133","v":1061.1299999999999},{"$f":"Prevalence!AM130*CI133","v":25.786363636363632},{"$f":"Prevalence!AN130*CJ133","v":189.97363636363639},{"$f":"Prevalence!AO130*CK133","v":299.0795454545455},{"$f":"Prevalence!AP130*CL133","v":92.140454545454546},{"$f":"Prevalence!AQ130*CM133","v":4.7345454545454544},{"$f":"Prevalence!AR130*CN133","v":204.2618181818182},{"$f":"Prevalence!AS130*CO133","v":796.07999999999993},{"$f":"Prevalence!AT130*CP133","v":139.71136363636361},{"$f":"Prevalence!AU130*CQ133","v":356.35909090909087},{"$f":"Prevalence!AV130*CR133","v":406.49454545454546},132,38453,2953,503,925,2435,2335,3065,8769,1817,5400,6977,122,24,2917,211,2142,561,706,407,269,925,1462,1117,540,663,227,3830,211,1405,2435,5556,1410,377,681,362,930,3423,122,749,849,503,24,906,2354,661,843,1803]
["Female 30-34",{"$f":"Prevalence!B131*AX134","v":11034.76},{"$f":"Prevalence!C131*AY134","v":1074.0795454545455},{"$f":"Prevalence!D131*AZ134","v":80.050454545454556},{"$f":"Prevalence!E131*BA134","v":319.91999999999996},{"$f":"Prevalence!F131*BB134","v":705.74318181818182},{"$f":"Prevalence!G131*BC134","v":715.21227272727265},{"$f":"Prevalence!H131*BD134","v":694.79454545454541},{"$f":"Prevalence!I131*BE134","v":2502.63},{"$f":"Prevalence!J131*BF134","v":511.92272727272723},{"$f":"Prevalence!K131*BG134","v":1722.5431818181819},{"$f":"Prevalence!L131*BH134","v":1668.2086363636363},{"$f":"Prevalence!M131*BI134","v":21.770454545454541},{"$f":"Prevalence!N131*BJ134","v":2.5645454545454545},{"$f":"Prevalence!O131*BK134","v":747.02954545454543},{"$f":"Prevalence!P131*BL134","v":48.134545454545453},{"$f":"Prevalence!Q131*BM134","v":460.73045454545451},{"$f":"Prevalence!R131*BN134","v":149.13818181818181},{"$f":"Prevalence!S131*BO134","v":170.19000000000003},{"$f":"Prevalence!T131*BP134","v":130.87636363636361},{"$f":"Prevalence!U131*BQ134","v":117.17999999999999},{"$f":"Prevalence!V131*BR134","v":319.91999999999996},{"$f":"Prevalence!W131*BS134","v":452.71272727272731},{"$f":"Prevalence!X131*BT134","v":518.94000000000005},{"$f":"Prevalence!Y131*BU134","v":75.527272727272717},{"$f":"Prevalence!Z131*BV134","v":208.99636363636361},{"$f":"Prevalence!AA131*BW134","v":39.524999999999999},{"$f":"Prevalence!AB131*BX134","v":806.81727272727278},{"$f":"Prevalence!AC131*BY134","v":48.134545454545453},{"$f":"Prevalence!AD131*BZ134","v":471.22818181818184},{"$f":"Prevalence!AE131*CA134","v":705.74318181818182},{"$f":"Prevalence!AF131*CB134","v":1642.2109090909089},{"$f":"Prevalence!AG131*CC134","v":378.48181818181814},{"$f":"Prevalence!AH131*CD134","v":105.65363636363637},{"$f":"Prevalence!AI131*CE134","v":276.59045454545452},{"$f":"Prevalence!AJ131*CF134","v":76.837727272727264},{"$f":"Prevalence!AK131*CG134","v":343.5504545454545},{"$f":"Prevalence!AL131*CH134","v":1064.8499999999999},{"$f":"Prevalence!AM131*CI134","v":21.770454545454541},{"$f":"Prevalence!AN131*CJ134","v":159.79090909090911},{"$f":"Prevalence!AO131*CK134","v":300.13636363636363},{"$f":"Prevalence!AP131*CL134","v":80.050454545454556},{"$f":"Prevalence!AQ131*CM134","v":2.5645454545454545},{"$f":"Prevalence!AR131*CN134","v":215.98545454545456},{"$f":"Prevalence!AS131*CO134","v":770.3781818181817},{"$f":"Prevalence!AT131*CP134","v":140.7681818181818},{"$f":"Prevalence!AU131*CQ134","v":359.31818181818176},{"$f":"Prevalence!AV131*CR134","v":384.40000000000003},133,35596,3049,437,946,2385,2417,2348,8073,1730,5315,6231,103,13,2305,244,1557,504,671,387,297,946,1004,1188,536,618,255,3181,244,1454,2385,4856,1343,326,727,287,903,3435,103,630,852,437,13,958,2278,666,850,1705]
["Female 35-39",{"$f":"Prevalence!B132*AX135","v":12029.66},{"$f":"Prevalence!C132*AY135","v":1242.7727272727275},{"$f":"Prevalence!D132*AZ135","v":93.186363636363637},{"$f":"Prevalence!E132*BA135","v":349.46181818181816},{"$f":"Prevalence!F132*BB135","v":814.32272727272732},{"$f":"Prevalence!G132*BC135","v":833.91},{"$f":"Prevalence!H132*BD135","v":712.7590909090909},{"$f":"Prevalence!I132*BE135","v":2559.6799999999998},{"$f":"Prevalence!J132*BF135","v":647.83090909090913},{"$f":"Prevalence!K132*BG135","v":1987.5554545454545},{"$f":"Prevalence!L132*BH135","v":1740.3481818181817},{"$f":"Prevalence!M132*BI135","v":33.68181818181818},{"$f":"Prevalence!N132*BJ135","v":5.0781818181818181},{"$f":"Prevalence!O132*BK135","v":697.6109090909091},{"$f":"Prevalence!P132*BL135","v":66.983636363636364},{"$f":"Prevalence!Q132*BM135","v":423.30272727272728},{"$f":"Prevalence!R132*BN135","v":180.27545454545455},{"$f":"Prevalence!S132*BO135","v":188.1},{"$f":"Prevalence!T132*BP135","v":190.69090909090906},{"$f":"Prevalence!U132*BQ135","v":136.86909090909091},{"$f":"Prevalence!V132*BR135","v":349.46181818181816},{"$f":"Prevalence!W132*BS135","v":369.77454545454543},{"$f":"Prevalence!X132*BT135","v":571.33000000000004},{"$f":"Prevalence!Y132*BU135","v":93.445454545454552},{"$f":"Prevalence!Z132*BV135","v":247.06909090909087},{"$f":"Prevalence!AA132*BW135","v":45.22},{"$f":"Prevalence!AB132*BX135","v":730.01454545454544},{"$f":"Prevalence!AC132*BY135","v":66.983636363636364},{"$f":"Prevalence!AD132*BZ135","v":560.15454545454543},{"$f":"Prevalence!AE132*CA135","v":814.32272727272732},{"$f":"Prevalence!AF132*CB135","v":1493.6072727272726},{"$f":"Prevalence!AG132*CC135","v":458.07272727272726},{"$f":"Prevalence!AH132*CD135","v":146.19636363636363},{"$f":"Prevalence!AI132*CE135","v":321.32454545454544},{"$f":"Prevalence!AJ132*CF135","v":98.782727272727271},{"$f":"Prevalence!AK132*CG135","v":445.84363636363639},{"$f":"Prevalence!AL132*CH135","v":1223.22},{"$f":"Prevalence!AM132*CI135","v":33.68181818181818},{"$f":"Prevalence!AN132*CJ135","v":149.85818181818183},{"$f":"Prevalence!AO132*CK135","v":357.11363636363643},{"$f":"Prevalence!AP132*CL135","v":93.186363636363637},{"$f":"Prevalence!AQ132*CM135","v":5.0781818181818181},{"$f":"Prevalence!AR132*CN135","v":236.29090909090908},{"$f":"Prevalence!AS132*CO135","v":881.73818181818172},{"$f":"Prevalence!AT132*CP135","v":157.0090909090909},{"$f":"Prevalence!AU132*CQ135","v":422.83636363636361},{"$f":"Prevalence!AV132*CR135","v":461.52727272727276},134,31657,2878,415,843,2245,2299,1965,6736,1786,5003,5303,130,21,1756,277,1167,497,605,460,283,843,669,1067,541,596,238,2348,277,1410,2245,3603,1326,368,689,301,956,3219,130,482,827,415,21,855,2127,606,816,1670]
["Female 40-44",{"$f":"Prevalence!B133*AX136","v":14318.02},{"$f":"Prevalence!C133*AY136","v":1662.5000000000002},{"$f":"Prevalence!D133*AZ136","v":107.10818181818182},{"$f":"Prevalence!E133*BA136","v":501.18545454545449},{"$f":"Prevalence!F133*BB136","v":994.59818181818184},{"$f":"Prevalence!G133*BC136","v":982.62818181818182},{"$f":"Prevalence!H133*BD136","v":798.36272727272728},{"$f":"Prevalence!I133*BE136","v":2939.3},{"$f":"Prevalence!J133*BF136","v":783.85363636363638},{"$f":"Prevalence!K133*BG136","v":2457.1318181818183},{"$f":"Prevalence!L133*BH136","v":1928.7245454545455},{"$f":"Prevalence!M133*BI136","v":36.272727272727273},{"$f":"Prevalence!N133*BJ136","v":7.2545454545454549},{"$f":"Prevalence!O133*BK136","v":817.19},{"$f":"Prevalence!P133*BL136","v":73.99636363636364},{"$f":"Prevalence!Q133*BM136","v":451.23272727272729},{"$f":"Prevalence!R133*BN136","v":207.84272727272727},{"$f":"Prevalence!S133*BO136","v":212.66181818181818},{"$f":"Prevalence!T133*BP136","v":216.39272727272726},{"$f":"Prevalence!U133*BQ136","v":172.17454545454547},{"$f":"Prevalence!V133*BR136","v":501.18545454545449},{"$f":"Prevalence!W133*BS136","v":432.23272727272729},{"$f":"Prevalence!X133*BT136","v":794.07909090909095},{"$f":"Prevalence!Y133*BU136","v":120.04545454545455},{"$f":"Prevalence!Z133*BV136","v":308.00727272727266},{"$f":"Prevalence!AA133*BW136","v":63.65},{"$f":"Prevalence!AB133*BX136","v":677.47090909090912},{"$f":"Prevalence!AC133*BY136","v":73.99636363636364},{"$f":"Prevalence!AD133*BZ136","v":642.78727272727269},{"$f":"Prevalence!AE133*CA136","v":994.59818181818184},{"$f":"Prevalence!AF133*CB136","v":1564.0799999999997},{"$f":"Prevalence!AG133*CC136","v":566.20000000000005},{"$f":"Prevalence!AH133*CD136","v":165.26545454545456},{"$f":"Prevalence!AI133*CE136","v":393.14454545454544},{"$f":"Prevalence!AJ133*CF136","v":126.02181818181819},{"$f":"Prevalence!AK133*CG136","v":582.9545454545455},{"$f":"Prevalence!AL133*CH136","v":1471.3600000000001},{"$f":"Prevalence!AM133*CI136","v":36.272727272727273},{"$f":"Prevalence!AN133*CJ136","v":183.74727272727273},{"$f":"Prevalence!AO133*CK136","v":446.06818181818187},{"$f":"Prevalence!AP133*CL136","v":107.10818181818182},{"$f":"Prevalence!AQ133*CM136","v":7.2545454545454549},{"$f":"Prevalence!AR133*CN136","v":308.69818181818181},{"$f":"Prevalence!AS133*CO136","v":1154.9236363636362},{"$f":"Prevalence!AT133*CP136","v":190.43181818181819},{"$f":"Prevalence!AU133*CQ136","v":523.36363636363637},{"$f":"Prevalence!AV133*CR136","v":583.68000000000006},135,37679,3850,477,1209,2742,2709,2201,7735,2161,6185,5877,140,30,2057,306,1244,573,684,522,356,1209,782,1483,695,743,335,2179,306,1618,2742,3773,1639,416,843,384,1250,3872,140,591,1033,477,30,1117,2786,735,1010,2112]
["Female 45-49",{"$f":"Prevalence!B134*AX137","v":12489.6},{"$f":"Prevalence!C134*AY137","v":1478.5454545454547},{"$f":"Prevalence!D134*AZ137","v":109.10545454545456},{"$f":"Prevalence!E134*BA137","v":421.0036363636363},{"$f":"Prevalence!F134*BB137","v":904.45090909090914},{"$f":"Prevalence!G134*BC137","v":859.85454545454547},{"$f":"Prevalence!H134*BD137","v":673.83272727272731},{"$f":"Prevalence!I134*BE137","v":2601.92},{"$f":"Prevalence!J134*BF137","v":720.56727272727278},{"$f":"Prevalence!K134*BG137","v":2093.5854545454545},{"$f":"Prevalence!L134*BH137","v":1593.2363636363636},{"$f":"Prevalence!M134*BI137","v":38.618181818181817},{"$f":"Prevalence!N134*BJ137","v":4.8872727272727277},{"$f":"Prevalence!O134*BK137","v":709.23636363636365},{"$f":"Prevalence!P134*BL137","v":74.327272727272728},{"$f":"Prevalence!Q134*BM137","v":392.20363636363641},{"$f":"Prevalence!R134*BN137","v":174.41454545454548},{"$f":"Prevalence!S134*BO137","v":169.92000000000002},{"$f":"Prevalence!T134*BP137","v":198.63272727272727},{"$f":"Prevalence!U134*BQ137","v":167.38909090909092},{"$f":"Prevalence!V134*BR137","v":421.0036363636363},{"$f":"Prevalence!W134*BS137","v":408.66909090909093},{"$f":"Prevalence!X134*BT137","v":684.93090909090915},{"$f":"Prevalence!Y134*BU137","v":105.74545454545454},{"$f":"Prevalence!Z134*BV137","v":293.58545454545452},{"$f":"Prevalence!AA134*BW137","v":59.84},{"$f":"Prevalence!AB134*BX137","v":543.79636363636371},{"$f":"Prevalence!AC134*BY137","v":74.327272727272728},{"$f":"Prevalence!AD134*BZ137","v":567.72363636363639},{"$f":"Prevalence!AE134*CA137","v":904.45090909090914},{"$f":"Prevalence!AF134*CB137","v":1328.9890909090907},{"$f":"Prevalence!AG134*CC137","v":520.72727272727275},{"$f":"Prevalence!AH134*CD137","v":170.95272727272726},{"$f":"Prevalence!AI134*CE137","v":344.02909090909094},{"$f":"Prevalence!AJ134*CF137","v":97.00363636363636},{"$f":"Prevalence!AK134*CG137","v":519.57818181818186},{"$f":"Prevalence!AL134*CH137","v":1228.1600000000001},{"$f":"Prevalence!AM134*CI137","v":38.618181818181817},{"$f":"Prevalence!AN134*CJ137","v":155.25818181818184},{"$f":"Prevalence!AO134*CK137","v":392.00000000000006},{"$f":"Prevalence!AP134*CL137","v":109.10545454545456},{"$f":"Prevalence!AQ134*CM137","v":4.8872727272727277},{"$f":"Prevalence!AR134*CN137","v":284.85818181818183},{"$f":"Prevalence!AS134*CO137","v":1008.8727272727272},{"$f":"Prevalence!AT134*CP137","v":154.25454545454545},{"$f":"Prevalence!AU134*CQ137","v":507.92727272727268},{"$f":"Prevalence!AV134*CR137","v":458.70545454545453},136,39030,4066,577,1206,2961,2815,2206,8131,2359,6258,5765,177,24,2120,365,1284,571,649,569,411,1206,878,1519,727,841,374,2077,365,1697,2961,3807,1790,511,876,351,1323,3838,177,593,1078,577,24,1224,2890,707,1164,1971]
["Female 50-54",{"$f":"Prevalence!B135*AX138","v":11809.92},{"$f":"Prevalence!C135*AY138","v":1334.5454545454547},{"$f":"Prevalence!D135*AZ138","v":101.35272727272728},{"$f":"Prevalence!E135*BA138","v":439.85454545454542},{"$f":"Prevalence!F135*BB138","v":866.26909090909101},{"$f":"Prevalence!G135*BC138","v":777.68727272727278},{"$f":"Prevalence!H135*BD138","v":647.86909090909091},{"$f":"Prevalence!I135*BE138","v":2489.2800000000002},{"$f":"Prevalence!J135*BF138","v":674.74909090909091},{"$f":"Prevalence!K135*BG138","v":1966.1236363636363},{"$f":"Prevalence!L135*BH138","v":1492.3636363636365},{"$f":"Prevalence!M135*BI138","v":32.727272727272727},{"$f":"Prevalence!N135*BJ138","v":4.8872727272727277},{"$f":"Prevalence!O135*BK138","v":712.9163636363636},{"$f":"Prevalence!P135*BL138","v":74.734545454545454},{"$f":"Prevalence!Q135*BM138","v":385.78909090909093},{"$f":"Prevalence!R135*BN138","v":150.58909090909091},{"$f":"Prevalence!S135*BO138","v":175.15636363636364},{"$f":"Prevalence!T135*BP138","v":194.79272727272726},{"$f":"Prevalence!U135*BQ138","v":139.28727272727272},{"$f":"Prevalence!V135*BR138","v":439.85454545454542},{"$f":"Prevalence!W135*BS138","v":413.78909090909093},{"$f":"Prevalence!X135*BT138","v":604.21818181818185},{"$f":"Prevalence!Y135*BU138","v":104},{"$f":"Prevalence!Z135*BV138","v":262.51636363636362},{"$f":"Prevalence!AA135*BW138","v":51.84},{"$f":"Prevalence!AB135*BX138","v":511.85454545454547},{"$f":"Prevalence!AC135*BY138","v":74.734545454545454},{"$f":"Prevalence!AD135*BZ138","v":524.90181818181816},{"$f":"Prevalence!AE135*CA138","v":866.26909090909101},{"$f":"Prevalence!AF135*CB138","v":1298.2690909090909},{"$f":"Prevalence!AG135*CC138","v":480.29090909090905},{"$f":"Prevalence!AH135*CD138","v":155.2290909090909},{"$f":"Prevalence!AI135*CE138","v":345.99272727272728},{"$f":"Prevalence!AJ135*CF138","v":100.87272727272727},{"$f":"Prevalence!AK135*CG138","v":451.24363636363643},{"$f":"Prevalence!AL135*CH138","v":1140.1600000000001},{"$f":"Prevalence!AM135*CI138","v":32.727272727272727},{"$f":"Prevalence!AN135*CJ138","v":150.02181818181819},{"$f":"Prevalence!AO135*CK138","v":372.00000000000006},{"$f":"Prevalence!AP135*CL138","v":101.35272727272728},{"$f":"Prevalence!AQ135*CM138","v":4.8872727272727277},{"$f":"Prevalence!AR135*CN138","v":274.85090909090911},{"$f":"Prevalence!AS135*CO138","v":960.69818181818175},{"$f":"Prevalence!AT135*CP138","v":138.54545454545453},{"$f":"Prevalence!AU135*CQ138","v":478.25454545454545},{"$f":"Prevalence!AV135*CR138","v":421.70181818181817},137,36906,3670,536,1260,2836,2546,2121,7779,2209,5877,5400,150,24,2131,367,1263,493,669,558,342,1260,889,1340,715,752,324,1955,367,1569,2836,3719,1651,464,881,365,1149,3563,150,573,1023,536,24,1181,2752,635,1096,1812]
["Female 55-59",{"$f":"Prevalence!B136*AX139","v":9335.9699999999993},{"$f":"Prevalence!C136*AY139","v":1097.3863636363635},{"$f":"Prevalence!D136*AZ139","v":87.566818181818178},{"$f":"Prevalence!E136*BA139","v":351.4799999999999},{"$f":"Prevalence!F136*BB139","v":695.64409090909089},{"$f":"Prevalence!G136*BC139","v":592.11409090909092},{"$f":"Prevalence!H136*BD139","v":544.77818181818179},{"$f":"Prevalence!I136*BE139","v":1802.9299999999998},{"$f":"Prevalence!J136*BF139","v":576.05863636363631},{"$f":"Prevalence!K136*BG139","v":1612.9272727272726},{"$f":"Prevalence!L136*BH139","v":1160.856818181818},{"$f":"Prevalence!M136*BI139","v":31.438636363636359},{"$f":"Prevalence!N136*BJ139","v":4.0599999999999996},{"$f":"Prevalence!O136*BK139","v":562.70545454545447},{"$f":"Prevalence!P136*BL139","v":61.084545454545456},{"$f":"Prevalence!Q136*BM139","v":302.00863636363636},{"$f":"Prevalence!R136*BN139","v":133.7031818181818},{"$f":"Prevalence!S136*BO139","v":141.17727272727274},{"$f":"Prevalence!T136*BP139","v":160.71272727272725},{"$f":"Prevalence!U136*BQ139","v":97.070909090909083},{"$f":"Prevalence!V136*BR139","v":351.4799999999999},{"$f":"Prevalence!W136*BS139","v":312.14545454545453},{"$f":"Prevalence!X136*BT139","v":495.26727272727271},{"$f":"Prevalence!Y136*BU139","v":72.104545454545445},{"$f":"Prevalence!Z136*BV139","v":205.0036363636363},{"$f":"Prevalence!AA136*BW139","v":38.86},{"$f":"Prevalence!AB136*BX139","v":396.95727272727271},{"$f":"Prevalence!AC136*BY139","v":61.084545454545456},{"$f":"Prevalence!AD136*BZ139","v":428.09272727272725},{"$f":"Prevalence!AE136*CA139","v":695.64409090909089},{"$f":"Prevalence!AF136*CB139","v":901.6363636363634},{"$f":"Prevalence!AG136*CC139","v":414.7},{"$f":"Prevalence!AH136*CD139","v":113.38999999999999},{"$f":"Prevalence!AI136*CE139","v":267.64363636363635},{"$f":"Prevalence!AJ136*CF139","v":98.679090909090903},{"$f":"Prevalence!AK136*CG139","v":374.06045454545455},{"$f":"Prevalence!AL136*CH139","v":918.43},{"$f":"Prevalence!AM136*CI139","v":31.438636363636359},{"$f":"Prevalence!AN136*CJ139","v":123.61909090909091},{"$f":"Prevalence!AO136*CK139","v":263.30681818181819},{"$f":"Prevalence!AP136*CL139","v":87.566818181818178},{"$f":"Prevalence!AQ136*CM139","v":4.0599999999999996},{"$f":"Prevalence!AR136*CN139","v":225.04},{"$f":"Prevalence!AS136*CO139","v":811.78909090909076},{"$f":"Prevalence!AT136*CP139","v":91.745454545454535},{"$f":"Prevalence!AU136*CQ139","v":382.00909090909084},{"$f":"Prevalence!AV136*CR139","v":329.44},138,32193,3330,511,1111,2513,2139,1968,6217,2081,5320,4635,159,22,1856,331,1091,483,595,508,263,1111,740,1212,547,648,268,1673,331,1412,2513,2850,1573,374,752,394,1051,3167,159,521,799,511,22,1067,2566,464,966,1562]
["Female 60-64",{"$f":"Prevalence!B137*AX140","v":8994.9299999999985},{"$f":"Prevalence!C137*AY140","v":1097.3863636363635},{"$f":"Prevalence!D137*AZ140","v":84.482272727272729},{"$f":"Prevalence!E137*BA140","v":340.40727272727264},{"$f":"Prevalence!F137*BB140","v":679.86545454545444},{"$f":"Prevalence!G137*BC140","v":618.96545454545446},{"$f":"Prevalence!H137*BD140","v":554.4668181818181},{"$f":"Prevalence!I137*BE140","v":1642.27},{"$f":"Prevalence!J137*BF140","v":570.52227272727271},{"$f":"Prevalence!K137*BG140","v":1501.3563636363635},{"$f":"Prevalence!L137*BH140","v":1128.5481818181818},{"$f":"Prevalence!M137*BI140","v":30.647727272727266},{"$f":"Prevalence!N137*BJ140","v":3.1372727272727272},{"$f":"Prevalence!O137*BK140","v":513.58999999999992},{"$f":"Prevalence!P137*BL140","v":69.204545454545453},{"$f":"Prevalence!Q137*BM140","v":289.27499999999998},{"$f":"Prevalence!R137*BN140","v":158.06318181818182},{"$f":"Prevalence!S137*BO140","v":132.87272727272727},{"$f":"Prevalence!T137*BP140","v":176.2145454545454},{"$f":"Prevalence!U137*BQ140","v":124.38363636363636},{"$f":"Prevalence!V137*BR140","v":340.40727272727264},{"$f":"Prevalence!W137*BS140","v":296.53818181818184},{"$f":"Prevalence!X137*BT140","v":478.9218181818182},{"$f":"Prevalence!Y137*BU140","v":65.513636363636351},{"$f":"Prevalence!Z137*BV140","v":197.41090909090906},{"$f":"Prevalence!AA137*BW140","v":36.25},{"$f":"Prevalence!AB137*BX140","v":375.60272727272729},{"$f":"Prevalence!AC137*BY140","v":69.204545454545453},{"$f":"Prevalence!AD137*BZ140","v":431.12454545454545},{"$f":"Prevalence!AE137*CA140","v":679.86545454545444},{"$f":"Prevalence!AF137*CB140","v":778.8872727272726},{"$f":"Prevalence!AG137*CC140","v":396.5090909090909},{"$f":"Prevalence!AH137*CD140","v":115.2090909090909},{"$f":"Prevalence!AI137*CE140","v":271.91454545454542},{"$f":"Prevalence!AJ137*CF140","v":96.925909090909087},{"$f":"Prevalence!AK137*CG140","v":398.61818181818182},{"$f":"Prevalence!AL137*CH140","v":858.4},{"$f":"Prevalence!AM137*CI140","v":30.647727272727266},{"$f":"Prevalence!AN137*CJ140","v":102.26454545454546},{"$f":"Prevalence!AO137*CK140","v":262.97727272727269},{"$f":"Prevalence!AP137*CL140","v":84.482272727272729},{"$f":"Prevalence!AQ137*CM140","v":3.1372727272727272},{"$f":"Prevalence!AR137*CN140","v":218.92363636363635},{"$f":"Prevalence!AS137*CO140","v":752.94545454545437},{"$f":"Prevalence!AT137*CP140","v":94.315909090909074},{"$f":"Prevalence!AU137*CQ140","v":351.16363636363633},{"$f":"Prevalence!AV137*CR140","v":323.74545454545455},139,31017,3330,493,1076,2456,2236,2003,5663,2061,4952,4506,155,17,1694,375,1045,571,560,557,337,1076,703,1172,497,624,250,1583,375,1422,2456,2462,1504,380,764,387,1120,2960,155,431,798,493,17,1038,2380,477,888,1535]
["Female 65-69",{"$f":"Prevalence!B138*AX141","v":6552.01},{"$f":"Prevalence!C138*AY141","v":831.39772727272737},{"$f":"Prevalence!D138*AZ141","v":69.857272727272729},{"$f":"Prevalence!E138*BA141","v":262.45090909090908},{"$f":"Prevalence!F138*BB141","v":488.48863636363643},{"$f":"Prevalence!G138*BC141","v":446.33590909090913},{"$f":"Prevalence!H138*BD141","v":364.66500000000002},{"$f":"Prevalence!I138*BE141","v":1190.94},{"$f":"Prevalence!J138*BF141","v":399.57272727272732},{"$f":"Prevalence!K138*BG141","v":1113.5450000000001},{"$f":"Prevalence!L138*BH141","v":814.40909090909088},{"$f":"Prevalence!M138*BI141","v":24.463636363636361},{"$f":"Prevalence!N138*BJ141","v":2.0490909090909089},{"$f":"Prevalence!O138*BK141","v":389.05545454545455},{"$f":"Prevalence!P138*BL141","v":45.372727272727275},{"$f":"Prevalence!Q138*BM141","v":189.02863636363639},{"$f":"Prevalence!R138*BN141","v":108.01636363636365},{"$f":"Prevalence!S138*BO141","v":96.537272727272736},{"$f":"Prevalence!T138*BP141","v":132.9818181818182},{"$f":"Prevalence!U138*BQ141","v":95.429090909090903},{"$f":"Prevalence!V138*BR141","v":262.45090909090908},{"$f":"Prevalence!W138*BS141","v":223.81090909090912},{"$f":"Prevalence!X138*BT141","v":374.00090909090909},{"$f":"Prevalence!Y138*BU141","v":53.527272727272731},{"$f":"Prevalence!Z138*BV141","v":149.04},{"$f":"Prevalence!AA138*BW141","v":23.115000000000002},{"$f":"Prevalence!AB138*BX141","v":264.20727272727277},{"$f":"Prevalence!AC138*BY141","v":45.372727272727275},{"$f":"Prevalence!AD138*BZ141","v":301.77045454545453},{"$f":"Prevalence!AE138*CA141","v":488.48863636363643},{"$f":"Prevalence!AF138*CB141","v":540.96},{"$f":"Prevalence!AG138*CC141","v":269.72727272727275},{"$f":"Prevalence!AH138*CD141","v":82.716363636363639},{"$f":"Prevalence!AI138*CE141","v":194.20363636363638},{"$f":"Prevalence!AJ138*CF141","v":61.18},{"$f":"Prevalence!AK138*CG141","v":281.1436363636364},{"$f":"Prevalence!AL138*CH141","v":651.82000000000005},{"$f":"Prevalence!AM138*CI141","v":24.463636363636361},{"$f":"Prevalence!AN138*CJ141","v":82.047272727272741},{"$f":"Prevalence!AO138*CK141","v":211.96590909090912},{"$f":"Prevalence!AP138*CL141","v":69.857272727272729},{"$f":"Prevalence!AQ138*CM141","v":2.0490909090909089},{"$f":"Prevalence!AR138*CN141","v":172.45818181818183},{"$f":"Prevalence!AS138*CO141","v":537.69818181818187},{"$f":"Prevalence!AT138*CP141","v":70.881818181818176},{"$f":"Prevalence!AU138*CQ141","v":253.41818181818178},{"$f":"Prevalence!AV138*CR141","v":236.5236363636364},140,28487,3181,514,1046,2225,2033,1661,5178,1820,4631,4100,156,14,1618,310,861,492,513,530,326,1046,669,1154,512,594,201,1404,310,1255,2225,2156,1290,344,688,308,996,2834,156,436,811,514,14,1031,2143,452,808,1414]
["Female 70-74",{"$f":"Prevalence!B139*AX142","v":5555.88},{"$f":"Prevalence!C139*AY142","v":665.69318181818198},{"$f":"Prevalence!D139*AZ142","v":52.868636363636369},{"$f":"Prevalence!E139*BA142","v":218.29090909090908},{"$f":"Prevalence!F139*BB142","v":386.83909090909094},{"$f":"Prevalence!G139*BC142","v":369.93409090909097},{"$f":"Prevalence!H139*BD142","v":324.2686363636364},{"$f":"Prevalence!I139*BE142","v":1058},{"$f":"Prevalence!J139*BF142","v":335.46545454545458},{"$f":"Prevalence!K139*BG142","v":942.82227272727266},{"$f":"Prevalence!L139*BH142","v":686.28863636363633},{"$f":"Prevalence!M139*BI142","v":19.131818181818179},{"$f":"Prevalence!N139*BJ142","v":1.6099999999999999},{"$f":"Prevalence!O139*BK142","v":363.56727272727272},{"$f":"Prevalence!P139*BL142","v":40.542727272727269},{"$f":"Prevalence!Q139*BM142","v":175.85590909090911},{"$f":"Prevalence!R139*BN142","v":83.427272727272737},{"$f":"Prevalence!S139*BO142","v":89.38636363636364},{"$f":"Prevalence!T139*BP142","v":114.16363636363637},{"$f":"Prevalence!U139*BQ142","v":68.790909090909096},{"$f":"Prevalence!V139*BR142","v":218.29090909090908},{"$f":"Prevalence!W139*BS142","v":241.20727272727277},{"$f":"Prevalence!X139*BT142","v":298.16363636363639},{"$f":"Prevalence!Y139*BU142","v":46},{"$f":"Prevalence!Z139*BV142","v":136.74545454545455},{"$f":"Prevalence!AA139*BW142","v":22.080000000000002},{"$f":"Prevalence!AB139*BX142","v":241.06090909090912},{"$f":"Prevalence!AC139*BY142","v":40.542727272727269},{"$f":"Prevalence!AD139*BZ142","v":252.23681818181817},{"$f":"Prevalence!AE139*CA142","v":386.83909090909094},{"$f":"Prevalence!AF139*CB142","v":500.81454545454545},{"$f":"Prevalence!AG139*CC142","v":224.35454545454547},{"$f":"Prevalence!AH139*CD142","v":67.327272727272728},{"$f":"Prevalence!AI139*CE142","v":138.87818181818182},{"$f":"Prevalence!AJ139*CF142","v":58.796363636363637},{"$f":"Prevalence!AK139*CG142","v":227.5118181818182},{"$f":"Prevalence!AL139*CH142","v":538.20000000000005},{"$f":"Prevalence!AM139*CI142","v":19.131818181818179},{"$f":"Prevalence!AN139*CJ142","v":59.465454545454548},{"$f":"Prevalence!AO139*CK142","v":191.84090909090912},{"$f":"Prevalence!AP139*CL142","v":52.868636363636369},{"$f":"Prevalence!AQ139*CM142","v":1.6099999999999999},{"$f":"Prevalence!AR139*CN142","v":137.3309090909091},{"$f":"Prevalence!AS139*CO142","v":461.67272727272729},{"$f":"Prevalence!AT139*CP142","v":62.884090909090901},{"$f":"Prevalence!AU139*CQ142","v":219.23181818181817},{"$f":"Prevalence!AV139*CR142","v":190.18909090909094},141,24156,2547,389,870,1762,1685,1477,4600,1528,3921,3455,122,11,1512,277,801,380,475,455,235,870,721,920,440,545,192,1281,277,1049,1762,1996,1073,280,492,296,806,2340,122,316,734,389,11,821,1840,401,699,1137]
["Female 75-79",{"$f":"Prevalence!B140*AX143","v":2151.7000000000003},{"$f":"Prevalence!C140*AY143","v":258.86363636363637},{"$f":"Prevalence!D140*AZ143","v":20.918181818181822},{"$f":"Prevalence!E140*BA143","v":83.563636363636363},{"$f":"Prevalence!F140*BB143","v":154.35},{"$f":"Prevalence!G140*BC143","v":132.01363636363638},{"$f":"Prevalence!H140*BD143","v":132.87272727272727},{"$f":"Prevalence!I140*BE143","v":436.40000000000003},{"$f":"Prevalence!J140*BF143","v":121.80000000000001},{"$f":"Prevalence!K140*BG143","v":352.9454545454546},{"$f":"Prevalence!L140*BH143","v":259.17727272727274},{"$f":"Prevalence!M140*BI143","v":6},{"$f":"Prevalence!N140*BJ143","v":0.50909090909090915},{"$f":"Prevalence!O140*BK143","v":139.46363636363637},{"$f":"Prevalence!P140*BL143","v":17.81818181818182},{"$f":"Prevalence!Q140*BM143","v":76.077272727272728},{"$f":"Prevalence!R140*BN143","v":30.927272727272729},{"$f":"Prevalence!S140*BO143","v":33.627272727272732},{"$f":"Prevalence!T140*BP143","v":44.072727272727271},{"$f":"Prevalence!U140*BQ143","v":22.90909090909091},{"$f":"Prevalence!V140*BR143","v":83.563636363636363},{"$f":"Prevalence!W140*BS143","v":91.927272727272737},{"$f":"Prevalence!X140*BT143","v":119.91363636363639},{"$f":"Prevalence!Y140*BU143","v":17.272727272727273},{"$f":"Prevalence!Z140*BV143","v":54.43636363636363},{"$f":"Prevalence!AA140*BW143","v":10.25},{"$f":"Prevalence!AB140*BX143","v":95.563636363636377},{"$f":"Prevalence!AC140*BY143","v":17.81818181818182},{"$f":"Prevalence!AD140*BZ143","v":91.477272727272734},{"$f":"Prevalence!AE140*CA143","v":154.35},{"$f":"Prevalence!AF140*CB143","v":219.16363636363636},{"$f":"Prevalence!AG140*CC143","v":79.27272727272728},{"$f":"Prevalence!AH140*CD143","v":28.436363636363637},{"$f":"Prevalence!AI140*CE143","v":54.613636363636367},{"$f":"Prevalence!AJ140*CF143","v":23.404545454545456},{"$f":"Prevalence!AK140*CG143","v":82.104545454545459},{"$f":"Prevalence!AL140*CH143","v":198},{"$f":"Prevalence!AM140*CI143","v":6},{"$f":"Prevalence!AN140*CJ143","v":23.809090909090912},{"$f":"Prevalence!AO140*CK143","v":78.863636363636374},{"$f":"Prevalence!AP140*CL143","v":20.918181818181822},{"$f":"Prevalence!AQ140*CM143","v":0.50909090909090915},{"$f":"Prevalence!AR140*CN143","v":55.127272727272732},{"$f":"Prevalence!AS140*CO143","v":177.70909090909089},{"$f":"Prevalence!AT140*CP143","v":22.363636363636363},{"$f":"Prevalence!AU140*CQ143","v":77.86363636363636},{"$f":"Prevalence!AV140*CR143","v":64.65454545454547},142,21517,2278,354,766,1617,1383,1392,4364,1276,3376,3001,88,8,1334,280,797,324,411,404,180,766,632,851,380,499,205,1168,280,875,1617,2009,872,272,445,271,669,1980,88,291,694,354,8,758,1629,328,571,889]
["Female 80-84",{"$f":"Prevalence!B141*AX144","v":1641.9},{"$f":"Prevalence!C141*AY144","v":194.54545454545456},{"$f":"Prevalence!D141*AZ144","v":17.668181818181822},{"$f":"Prevalence!E141*BA144","v":60.218181818181819},{"$f":"Prevalence!F141*BB144","v":115.78636363636365},{"$f":"Prevalence!G141*BC144","v":95.55},{"$f":"Prevalence!H141*BD144","v":106.81363636363636},{"$f":"Prevalence!I141*BE144","v":346.40000000000003},{"$f":"Prevalence!J141*BF144","v":94.309090909090912},{"$f":"Prevalence!K141*BG144","v":258.54090909090911},{"$f":"Prevalence!L141*BH144","v":193.19545454545454},{"$f":"Prevalence!M141*BI144","v":4.9090909090909083},{"$f":"Prevalence!N141*BJ144","v":0.9545454545454547},{"$f":"Prevalence!O141*BK144","v":113.11818181818182},{"$f":"Prevalence!P141*BL144","v":12.218181818181819},{"$f":"Prevalence!Q141*BM144","v":63.095454545454551},{"$f":"Prevalence!R141*BN144","v":22.336363636363636},{"$f":"Prevalence!S141*BO144","v":29.618181818181824},{"$f":"Prevalence!T141*BP144","v":29.236363636363635},{"$f":"Prevalence!U141*BQ144","v":16.418181818181822},{"$f":"Prevalence!V141*BR144","v":60.218181818181819},{"$f":"Prevalence!W141*BS144","v":63.854545454545466},{"$f":"Prevalence!X141*BT144","v":86.236363636363649},{"$f":"Prevalence!Y141*BU144","v":14.318181818181818},{"$f":"Prevalence!Z141*BV144","v":38.4},{"$f":"Prevalence!AA141*BW144","v":6.9},{"$f":"Prevalence!AB141*BX144","v":79.118181818181824},{"$f":"Prevalence!AC141*BY144","v":12.218181818181819},{"$f":"Prevalence!AD141*BZ144","v":67.431818181818187},{"$f":"Prevalence!AE141*CA144","v":115.78636363636365},{"$f":"Prevalence!AF141*CB144","v":180.54545454545453},{"$f":"Prevalence!AG141*CC144","v":65.454545454545453},{"$f":"Prevalence!AH141*CD144","v":21.118181818181821},{"$f":"Prevalence!AI141*CE144","v":41.236363636363642},{"$f":"Prevalence!AJ141*CF144","v":19.345454545454544},{"$f":"Prevalence!AK141*CG144","v":59.890909090909098},{"$f":"Prevalence!AL141*CH144","v":128.20000000000002},{"$f":"Prevalence!AM141*CI144","v":4.9090909090909083},{"$f":"Prevalence!AN141*CJ144","v":22.990909090909096},{"$f":"Prevalence!AO141*CK144","v":53.977272727272734},{"$f":"Prevalence!AP141*CL144","v":17.668181818181822},{"$f":"Prevalence!AQ141*CM144","v":0.9545454545454547},{"$f":"Prevalence!AR141*CN144","v":44.509090909090915},{"$f":"Prevalence!AS141*CO144","v":149.23636363636362},{"$f":"Prevalence!AT141*CP144","v":15.477272727272727},{"$f":"Prevalence!AU141*CQ144","v":68.454545454545453},{"$f":"Prevalence!AV141*CR144","v":42.327272727272735},143,16419,1712,299,552,1213,1001,1119,3464,988,2473,2237,72,15,1082,192,661,234,362,268,129,552,439,612,315,352,138,967,192,645,1213,1655,720,202,336,224,488,1282,72,281,475,299,15,612,1368,227,502,582]
["Female 85-89",{"$f":"Prevalence!B142*AX145","v":1007.1},{"$f":"Prevalence!C142*AY145","v":119.77272727272728},{"$f":"Prevalence!D142*AZ145","v":13.118181818181819},{"$f":"Prevalence!E142*BA145","v":35.672727272727272},{"$f":"Prevalence!F142*BB145","v":69.3},{"$f":"Prevalence!G142*BC145","v":58.800000000000004},{"$f":"Prevalence!H142*BD145","v":63},{"$f":"Prevalence!I142*BE145","v":197.20000000000002},{"$f":"Prevalence!J142*BF145","v":55.363636363636367},{"$f":"Prevalence!K142*BG145","v":157.44545454545457},{"$f":"Prevalence!L142*BH145","v":122.37727272727273},{"$f":"Prevalence!M142*BI145","v":3.7499999999999996},{"$f":"Prevalence!N142*BJ145","v":0.76363636363636367},{"$f":"Prevalence!O142*BK145","v":81.127272727272739},{"$f":"Prevalence!P142*BL145","v":9.4181818181818198},{"$f":"Prevalence!Q142*BM145","v":36.559090909090912},{"$f":"Prevalence!R142*BN145","v":14.127272727272729},{"$f":"Prevalence!S142*BO145","v":24.218181818181822},{"$f":"Prevalence!T142*BP145","v":18.327272727272728},{"$f":"Prevalence!U142*BQ145","v":10.181818181818183},{"$f":"Prevalence!V142*BR145","v":35.672727272727272},{"$f":"Prevalence!W142*BS145","v":41.018181818181823},{"$f":"Prevalence!X142*BT145","v":53.686363636363645},{"$f":"Prevalence!Y142*BU145","v":8.5},{"$f":"Prevalence!Z142*BV145","v":26.509090909090908},{"$f":"Prevalence!AA142*BW145","v":3.6},{"$f":"Prevalence!AB142*BX145","v":53.427272727272737},{"$f":"Prevalence!AC142*BY145","v":9.4181818181818198},{"$f":"Prevalence!AD142*BZ145","v":42.027272727272731},{"$f":"Prevalence!AE142*CA145","v":69.3},{"$f":"Prevalence!AF142*CB145","v":115.85454545454544},{"$f":"Prevalence!AG142*CC145","v":37.454545454545453},{"$f":"Prevalence!AH142*CD145","v":8.7818181818181831},{"$f":"Prevalence!AI142*CE145","v":24.054545454545458},{"$f":"Prevalence!AJ142*CF145","v":11.140909090909091},{"$f":"Prevalence!AK142*CG145","v":32.154545454545456},{"$f":"Prevalence!AL142*CH145","v":79.2},{"$f":"Prevalence!AM142*CI145","v":3.7499999999999996},{"$f":"Prevalence!AN142*CJ145","v":16.200000000000003},{"$f":"Prevalence!AO142*CK145","v":23.522727272727273},{"$f":"Prevalence!AP142*CL145","v":13.118181818181819},{"$f":"Prevalence!AQ142*CM145","v":0.76363636363636367},{"$f":"Prevalence!AR142*CN145","v":29.890909090909094},{"$f":"Prevalence!AS142*CO145","v":89.345454545454544},{"$f":"Prevalence!AT142*CP145","v":9.1363636363636349},{"$f":"Prevalence!AU142*CQ145","v":34.772727272727273},{"$f":"Prevalence!AV142*CR145","v":23.63636363636364},144,10071,1054,222,327,726,616,660,1972,580,1506,1417,55,12,776,148,383,148,296,168,80,327,282,381,187,243,72,653,148,402,726,1062,412,84,196,129,262,792,55,198,207,222,12,411,819,134,255,325]
["Female 90+",{"$f":"Prevalence!B143*AX146","v":561.70000000000005},{"$f":"Prevalence!C143*AY146","v":73.409090909090921},{"$f":"Prevalence!D143*AZ146","v":7.0909090909090917},{"$f":"Prevalence!E143*BA146","v":20.399999999999999},{"$f":"Prevalence!F143*BB146","v":39.231818181818184},{"$f":"Prevalence!G143*BC146","v":34.936363636363637},{"$f":"Prevalence!H143*BD146","v":31.022727272727273},{"$f":"Prevalence!I143*BE146","v":107},{"$f":"Prevalence!J143*BF146","v":35.890909090909091},{"$f":"Prevalence!K143*BG146","v":78.618181818181824},{"$f":"Prevalence!L143*BH146","v":67.622727272727275},{"$f":"Prevalence!M143*BI146","v":2.5909090909090908},{"$f":"Prevalence!N143*BJ146","v":0.57272727272727275},{"$f":"Prevalence!O143*BK146","v":44.74545454545455},{"$f":"Prevalence!P143*BL146","v":6.745454545454546},{"$f":"Prevalence!Q143*BM146","v":18.327272727272728},{"$f":"Prevalence!R143*BN146","v":5.8227272727272732},{"$f":"Prevalence!S143*BO146","v":12.845454545454547},{"$f":"Prevalence!T143*BP146","v":14.290909090909091},{"$f":"Prevalence!U143*BQ146","v":5.7272727272727275},{"$f":"Prevalence!V143*BR146","v":20.399999999999999},{"$f":"Prevalence!W143*BS146","v":20.800000000000004},{"$f":"Prevalence!X143*BT146","v":29.872727272727278},{"$f":"Prevalence!Y143*BU146","v":5.6363636363636367},{"$f":"Prevalence!Z143*BV146","v":12.763636363636364},{"$f":"Prevalence!AA143*BW146","v":1.4500000000000002},{"$f":"Prevalence!AB143*BX146","v":28.963636363636368},{"$f":"Prevalence!AC143*BY146","v":6.745454545454546},{"$f":"Prevalence!AD143*BZ146","v":25.822727272727274},{"$f":"Prevalence!AE143*CA146","v":39.231818181818184},{"$f":"Prevalence!AF143*CB146","v":61.636363636363633},{"$f":"Prevalence!AG143*CC146","v":22.272727272727273},{"$f":"Prevalence!AH143*CD146","v":6.0636363636363644},{"$f":"Prevalence!AI143*CE146","v":15.095454545454547},{"$f":"Prevalence!AJ143*CF146","v":6.2181818181818187},{"$f":"Prevalence!AK143*CG146","v":21.354545454545455},{"$f":"Prevalence!AL143*CH146","v":35.300000000000004},{"$f":"Prevalence!AM143*CI146","v":2.5909090909090908},{"$f":"Prevalence!AN143*CJ146","v":10.472727272727274},{"$f":"Prevalence!AO143*CK146","v":10.454545454545455},{"$f":"Prevalence!AP143*CL146","v":7.0909090909090917},{"$f":"Prevalence!AQ143*CM146","v":0.57272727272727275},{"$f":"Prevalence!AR143*CN146","v":18.90909090909091},{"$f":"Prevalence!AS143*CO146","v":50.509090909090908},{"$f":"Prevalence!AT143*CP146","v":5.045454545454545},{"$f":"Prevalence!AU143*CQ146","v":18.818181818181817},{"$f":"Prevalence!AV143*CR146","v":13.745454545454548},145,5617,646,120,187,411,366,325,1070,376,752,783,38,9,428,106,192,61,157,131,45,187,143,212,124,117,29,354,106,247,411,565,245,58,123,72,174,353,38,128,92,120,9,260,463,74,138,189]
["age/sex breakdown: Q3",null,null,null,null,null,null,null,null,null,null,null,null,null,null,null,null,null,null,null,null,null,null,null,null,null,null,null,null,null,null,null,null,null,null,null,null,null,null,null,null,null,null,null,null,null,null,null,146]
["Male <1",null,null,null,null,null,null,null,null,null,null,null,null,null,null,null,null,null,null,null,null,null,null,null,null,null,null,null,null,null,null,null,null,null,null,null,null,null,null,null,null,null,null,null,null,null,null,null,147]
["Male 1-4",null,null,null,null,null,null,null,null,null,null,null,null,null,null,null,null,null,null,null,null,null,null,null,null,null,null,null,null,null,null,null,null,null,null,null,null,null,null,null,null,null,null,null,null,null,null,null,148]
["Male 5-9",null,null,null,null,null,null,null,null,null,null,null,null,null,null,null,null,null,null,null,null,null,null,null,null,null,null,null,null,null,null,null,null,null,null,null,null,null,null,null,null,null,null,null,null,null,null,null,149]
["Male 10-14",null,null,null,null,null,null,null,null,null,null,null,null,null,null,null,null,null,null,null,null,null,null,null,null,null,null,null,null,null,null,null,null,null,null,null,null,null,null,null,null,null,null,null,null,null,null,null,150]
["Male 15-19 (16+)",{"$f":"Prevalence!B149*AX152","v":5656.86},{"$f":"Prevalence!C149*AY152","v":438.75333333333333},{"$f":"Prevalence!D149*AZ152","v":164.08333333333334},{"$f":"Prevalence!E149*BA152","v":318.08333333333337},{"$f":"Prevalence!F149*BB152","v":357.06},{"$f":"Prevalence!G149*BC152","v":210.61333333333334},{"$f":"Prevalence!H149*BD152","v":706.89666666666665},{"$f":"Prevalence!I149*BE152","v":1071.18},{"$f":"Prevalence!J149*BF152","v":444.09750000000003},{"$f":"Prevalence!K149*BG152","v":695.42},{"$f":"Prevalence!L149*BH152","v":665.47249999999997},{"$f":"Prevalence!M149*BI152","v":22.275000000000002},{"$f":"Prevalence!N149*BJ152","v":47.593333333333334},{"$f":"Prevalence!O149*BK152","v":450.68833333333328},{"$f":"Prevalence!P149*BL152","v":113.66666666666667},{"$f":"Prevalence!Q149*BM152","v":178.52083333333334},{"$f":"Prevalence!R149*BN152","v":308.13749999999999},{"$f":"Prevalence!S149*BO152","v":188.65},{"$f":"Prevalence!T149*BP152","v":169.21666666666664},{"$f":"Prevalence!U149*BQ152","v":45.76},{"$f":"Prevalence!V149*BR152","v":318.08333333333337},{"$f":"Prevalence!W149*BS152","v":132.66},{"$f":"Prevalence!X149*BT152","v":125.29000000000002},{"$f":"Prevalence!Y149*BU152","v":15.913333333333334},{"$f":"Prevalence!Z149*BV152","v":103.62916666666666},{"$f":"Prevalence!AA149*BW152","v":22.962500000000002},{"$f":"Prevalence!AB149*BX152","v":225.88500000000002},{"$f":"Prevalence!AC149*BY152","v":113.66666666666667},{"$f":"Prevalence!AD149*BZ152","v":98.688333333333347},{"$f":"Prevalence!AE149*CA152","v":357.06},{"$f":"Prevalence!AF149*CB152","v":551.85166666666669},{"$f":"Prevalence!AG149*CC152","v":263.505},{"$f":"Prevalence!AH149*CD152","v":91.96},{"$f":"Prevalence!AI149*CE152","v":124.48333333333335},{"$f":"Prevalence!AJ149*CF152","v":233.14500000000001},{"$f":"Prevalence!AK149*CG152","v":187.05500000000001},{"$f":"Prevalence!AL149*CH152","v":375.14583333333337},{"$f":"Prevalence!AM149*CI152","v":22.275000000000002},{"$f":"Prevalence!AN149*CJ152","v":137.95833333333334},{"$f":"Prevalence!AO149*CK152","v":235.79416666666665},{"$f":"Prevalence!AP149*CL152","v":164.08333333333334},{"$f":"Prevalence!AQ149*CM152","v":47.593333333333334},{"$f":"Prevalence!AR149*CN152","v":105.37083333333334},{"$f":"Prevalence!AS149*CO152","v":404.8},{"$f":"Prevalence!AT149*CP152","v":65.083333333333343},{"$f":"Prevalence!AU149*CQ152","v":145.19999999999999},{"$f":"Prevalence!AV149*CR152","v":267.95999999999998},151,25713,1544,895,1388,1623,1436,2966,4328,2307,3161,3457,81,236,1891,400,779,1245,686,710,312,1388,603,402,217,595,167,1369,400,769,1623,1942,1597,304,485,942,537,1637,81,602,887,895,236,605,1840,355,495,1008]
["Male 20-24",{"$f":"Prevalence!B150*AX153","v":8227.7800000000007},{"$f":"Prevalence!C150*AY153","v":478.2525},{"$f":"Prevalence!D150*AZ153","v":175.45000000000002},{"$f":"Prevalence!E150*BA153","v":313.5},{"$f":"Prevalence!F150*BB153","v":479.6},{"$f":"Prevalence!G150*BC153","v":298.90666666666669},{"$f":"Prevalence!H150*BD153","v":1166.165},{"$f":"Prevalence!I150*BE153","v":1961.9324999999999},{"$f":"Prevalence!J150*BF153","v":478.7475},{"$f":"Prevalence!K150*BG153","v":825},{"$f":"Prevalence!L150*BH153","v":1264.3399999999999},{"$f":"Prevalence!M150*BI153","v":26.125000000000004},{"$f":"Prevalence!N150*BJ153","v":50.013333333333335},{"$f":"Prevalence!O150*BK153","v":667.5716666666666},{"$f":"Prevalence!P150*BL153","v":114.80333333333334},{"$f":"Prevalence!Q150*BM153","v":561.45833333333337},{"$f":"Prevalence!R150*BN153","v":358.13249999999999},{"$f":"Prevalence!S150*BO153","v":221.65},{"$f":"Prevalence!T150*BP153","v":161.35166666666666},{"$f":"Prevalence!U150*BQ153","v":65.56},{"$f":"Prevalence!V150*BR153","v":313.5},{"$f":"Prevalence!W150*BS153","v":284.89999999999998},{"$f":"Prevalence!X150*BT153","v":167.05333333333334},{"$f":"Prevalence!Y150*BU153","v":27.646666666666668},{"$f":"Prevalence!Z150*BV153","v":115.64666666666666},{"$f":"Prevalence!AA150*BW153","v":31.900000000000002},{"$f":"Prevalence!AB150*BX153","v":674.35500000000002},{"$f":"Prevalence!AC150*BY153","v":114.80333333333334},{"$f":"Prevalence!AD150*BZ153","v":101.76833333333335},{"$f":"Prevalence!AE150*CA153","v":479.6},{"$f":"Prevalence!AF150*CB153","v":1348.0866666666668},{"$f":"Prevalence!AG150*CC153","v":298.65000000000003},{"$f":"Prevalence!AH150*CD153","v":126.7475},{"$f":"Prevalence!AI150*CE153","v":154.25666666666669},{"$f":"Prevalence!AJ150*CF153","v":246.51},{"$f":"Prevalence!AK150*CG153","v":177.65},{"$f":"Prevalence!AL150*CH153","v":458.10416666666669},{"$f":"Prevalence!AM150*CI153","v":26.125000000000004},{"$f":"Prevalence!AN150*CJ153","v":160.41666666666669},{"$f":"Prevalence!AO150*CK153","v":306.77166666666665},{"$f":"Prevalence!AP150*CL153","v":175.45000000000002},{"$f":"Prevalence!AQ150*CM153","v":50.013333333333335},{"$f":"Prevalence!AR150*CN153","v":110.94416666666666},{"$f":"Prevalence!AS150*CO153","v":471.46},{"$f":"Prevalence!AT150*CP153","v":146.30000000000001},{"$f":"Prevalence!AU150*CQ153","v":178.64000000000001},{"$f":"Prevalence!AV150*CR153","v":323.25333333333333},152,37399,1683,957,1368,2180,2038,4893,7927,2487,3750,6568,95,248,2801,404,2450,1447,806,677,447,1368,1295,536,377,664,232,4087,404,793,2180,4744,1810,419,601,996,510,1999,95,700,1154,957,248,637,2143,798,609,1216]
["Male 25-29",{"$f":"Prevalence!B151*AX154","v":9548.24},{"$f":"Prevalence!C151*AY154","v":474.19666666666672},{"$f":"Prevalence!D151*AZ154","v":196.08333333333334},{"$f":"Prevalence!E151*BA154","v":363.18750000000006},{"$f":"Prevalence!F151*BB154","v":578.5},{"$f":"Prevalence!G151*BC154","v":312.34666666666669},{"$f":"Prevalence!H151*BD154","v":1277.6400000000001},{"$f":"Prevalence!I151*BE154","v":2327.7149999999997},{"$f":"Prevalence!J151*BF154","v":546.6825},{"$f":"Prevalence!K151*BG154","v":915.2},{"$f":"Prevalence!L151*BH154","v":1719.9},{"$f":"Prevalence!M151*BI154","v":32.5},{"$f":"Prevalence!N151*BJ154","v":58.391666666666666},{"$f":"Prevalence!O151*BK154","v":654.59333333333336},{"$f":"Prevalence!P151*BL154","v":131.98250000000002},{"$f":"Prevalence!Q151*BM154","v":585.54166666666674},{"$f":"Prevalence!R151*BN154","v":390.78},{"$f":"Prevalence!S151*BO154","v":236.27500000000001},{"$f":"Prevalence!T151*BP154","v":181.39333333333335},{"$f":"Prevalence!U151*BQ154","v":77.48},{"$f":"Prevalence!V151*BR154","v":363.18750000000006},{"$f":"Prevalence!W151*BS154","v":240.24},{"$f":"Prevalence!X151*BT154","v":173.11666666666667},{"$f":"Prevalence!Y151*BU154","v":35.273333333333333},{"$f":"Prevalence!Z151*BV154","v":118.76583333333333},{"$f":"Prevalence!AA151*BW154","v":22.75},{"$f":"Prevalence!AB151*BX154","v":998.40000000000009},{"$f":"Prevalence!AC151*BY154","v":131.98250000000002},{"$f":"Prevalence!AD151*BZ154","v":131.04},{"$f":"Prevalence!AE151*CA154","v":578.5},{"$f":"Prevalence!AF151*CB154","v":1604.2758333333336},{"$f":"Prevalence!AG151*CC154","v":343.005},{"$f":"Prevalence!AH151*CD154","v":117.26000000000002},{"$f":"Prevalence!AI151*CE154","v":172.59666666666666},{"$f":"Prevalence!AJ151*CF154","v":303.61500000000001},{"$f":"Prevalence!AK151*CG154","v":161.37333333333333},{"$f":"Prevalence!AL151*CH154","v":501.04166666666674},{"$f":"Prevalence!AM151*CI154","v":32.5},{"$f":"Prevalence!AN151*CJ154","v":182.27083333333337},{"$f":"Prevalence!AO151*CK154","v":396.79249999999996},{"$f":"Prevalence!AP151*CL154","v":196.08333333333334},{"$f":"Prevalence!AQ151*CM154","v":58.391666666666666},{"$f":"Prevalence!AR151*CN154","v":113.20833333333334},{"$f":"Prevalence!AS151*CO154","v":548.6},{"$f":"Prevalence!AT151*CP154","v":106.38333333333334},{"$f":"Prevalence!AU151*CQ154","v":209.04000000000002},{"$f":"Prevalence!AV151*CR154","v":406.53166666666664},153,36724,1412,905,1341,2225,1802,4536,7958,2403,3520,7560,100,245,2324,393,2162,1336,727,644,447,1341,924,470,407,577,140,5120,393,864,2225,4777,1759,328,569,1038,392,1850,100,673,1263,905,245,550,2110,491,603,1294]
["Male 30-34",{"$f":"Prevalence!B152*AX155","v":9212.84},{"$f":"Prevalence!C152*AY155","v":521.21333333333337},{"$f":"Prevalence!D152*AZ155","v":184.6},{"$f":"Prevalence!E152*BA155","v":322.83333333333337},{"$f":"Prevalence!F152*BB155","v":577.46},{"$f":"Prevalence!G152*BC155","v":326.73333333333335},{"$f":"Prevalence!H152*BD155","v":1164.4100000000001},{"$f":"Prevalence!I152*BE155","v":2127.3525},{"$f":"Prevalence!J152*BF155","v":554.64499999999998},{"$f":"Prevalence!K152*BG155","v":1036.1000000000001},{"$f":"Prevalence!L152*BH155","v":1625.26},{"$f":"Prevalence!M152*BI155","v":26.975000000000001},{"$f":"Prevalence!N152*BJ155","v":68.87833333333333},{"$f":"Prevalence!O152*BK155","v":552.63},{"$f":"Prevalence!P152*BL155","v":142.39333333333335},{"$f":"Prevalence!Q152*BM155","v":465.56250000000006},{"$f":"Prevalence!R152*BN155","v":408.33},{"$f":"Prevalence!S152*BO155","v":243.75},{"$f":"Prevalence!T152*BP155","v":186.18166666666667},{"$f":"Prevalence!U152*BQ155","v":78.52},{"$f":"Prevalence!V152*BR155","v":322.83333333333337},{"$f":"Prevalence!W152*BS155","v":159.12},{"$f":"Prevalence!X152*BT155","v":173.85333333333335},{"$f":"Prevalence!Y152*BU155","v":28.253333333333334},{"$f":"Prevalence!Z152*BV155","v":116.91333333333334},{"$f":"Prevalence!AA152*BW155","v":26.8125},{"$f":"Prevalence!AB152*BX155","v":880.62},{"$f":"Prevalence!AC152*BY155","v":142.39333333333335},{"$f":"Prevalence!AD152*BZ155","v":148.63333333333333},{"$f":"Prevalence!AE152*CA155","v":577.46},{"$f":"Prevalence!AF152*CB155","v":1390.6858333333334},{"$f":"Prevalence!AG152*CC155","v":346.51499999999999},{"$f":"Prevalence!AH152*CD155","v":107.25000000000001},{"$f":"Prevalence!AI152*CE155","v":169.56333333333333},{"$f":"Prevalence!AJ152*CF155","v":298.0575},{"$f":"Prevalence!AK152*CG155","v":193.07166666666669},{"$f":"Prevalence!AL152*CH155","v":600.43750000000011},{"$f":"Prevalence!AM152*CI155","v":26.975000000000001},{"$f":"Prevalence!AN152*CJ155","v":162.50000000000003},{"$f":"Prevalence!AO152*CK155","v":388.62416666666667},{"$f":"Prevalence!AP152*CL155","v":184.6},{"$f":"Prevalence!AQ152*CM155","v":68.87833333333333},{"$f":"Prevalence!AR152*CN155","v":125.76416666666667},{"$f":"Prevalence!AS152*CO155","v":603.20000000000005},{"$f":"Prevalence!AT152*CP155","v":97.933333333333337},{"$f":"Prevalence!AU152*CQ155","v":191.36},{"$f":"Prevalence!AV152*CR155","v":471.56416666666667},154,35434,1552,852,1192,2221,1885,4134,7273,2438,3985,7144,83,289,1962,424,1719,1396,750,661,453,1192,612,472,326,568,165,4516,424,980,2221,4141,1777,300,559,1019,469,2217,83,600,1237,852,289,611,2320,452,552,1501]
["Male 35-39",{"$f":"Prevalence!B153*AX156","v":9980.4},{"$f":"Prevalence!C153*AY156","v":623.48750000000007},{"$f":"Prevalence!D153*AZ156","v":242.25},{"$f":"Prevalence!E153*BA156","v":416.875},{"$f":"Prevalence!F153*BB156","v":692.4},{"$f":"Prevalence!G153*BC156","v":374.79999999999995},{"$f":"Prevalence!H153*BD156","v":1205.7499999999998},{"$f":"Prevalence!I153*BE156","v":2008.1249999999998},{"$f":"Prevalence!J153*BF156","v":668.85},{"$f":"Prevalence!K153*BG156","v":1220.7},{"$f":"Prevalence!L153*BH156","v":1614.1125000000002},{"$f":"Prevalence!M153*BI156","v":34.125},{"$f":"Prevalence!N153*BJ156","v":72.599999999999994},{"$f":"Prevalence!O153*BK156","v":615.22499999999991},{"$f":"Prevalence!P153*BL156","v":193.75},{"$f":"Prevalence!Q153*BM156","v":385},{"$f":"Prevalence!R153*BN156","v":508.61249999999995},{"$f":"Prevalence!S153*BO156","v":293.25},{"$f":"Prevalence!T153*BP156","v":240.17499999999995},{"$f":"Prevalence!U153*BQ156","v":89.399999999999991},{"$f":"Prevalence!V153*BR156","v":416.875},{"$f":"Prevalence!W153*BS156","v":146.69999999999999},{"$f":"Prevalence!X153*BT156","v":201.875},{"$f":"Prevalence!Y153*BU156","v":30.4},{"$f":"Prevalence!Z153*BV156","v":153.42499999999998},{"$f":"Prevalence!AA153*BW156","v":34.875},{"$f":"Prevalence!AB153*BX156","v":769.72499999999991},{"$f":"Prevalence!AC153*BY156","v":193.75},{"$f":"Prevalence!AD153*BZ156","v":171.85000000000002},{"$f":"Prevalence!AE153*CA156","v":692.4},{"$f":"Prevalence!AF153*CB156","v":1112.125},{"$f":"Prevalence!AG153*CC156","v":407.02499999999998},{"$f":"Prevalence!AH153*CD156","v":127.875},{"$f":"Prevalence!AI153*CE156","v":213.15000000000003},{"$f":"Prevalence!AJ153*CF156","v":327.71249999999998},{"$f":"Prevalence!AK153*CG156","v":249.85},{"$f":"Prevalence!AL153*CH156","v":697.1875},{"$f":"Prevalence!AM153*CI156","v":34.125},{"$f":"Prevalence!AN153*CJ156","v":194.375},{"$f":"Prevalence!AO153*CK156","v":420.5},{"$f":"Prevalence!AP153*CL156","v":242.25},{"$f":"Prevalence!AQ153*CM156","v":72.599999999999994},{"$f":"Prevalence!AR153*CN156","v":144.4},{"$f":"Prevalence!AS153*CO156","v":709.8},{"$f":"Prevalence!AT153*CP156","v":111.25},{"$f":"Prevalence!AU153*CQ156","v":236.79999999999998},{"$f":"Prevalence!AV153*CR156","v":533.96249999999998},155,33268,1609,969,1334,2308,1874,3710,5950,2548,4069,6149,91,264,1893,500,1232,1507,782,739,447,1334,489,475,304,646,186,3421,500,982,2308,2870,1809,310,609,971,526,2231,91,622,1160,969,264,608,2366,445,592,1473]
["Male 40-44",{"$f":"Prevalence!B154*AX157","v":11589.9},{"$f":"Prevalence!C154*AY157","v":831.57500000000005},{"$f":"Prevalence!D154*AZ157","v":319.75},{"$f":"Prevalence!E154*BA157","v":563.75},{"$f":"Prevalence!F154*BB157","v":795.9},{"$f":"Prevalence!G154*BC157","v":457.4},{"$f":"Prevalence!H154*BD157","v":1377.9999999999998},{"$f":"Prevalence!I154*BE157","v":2160.6749999999997},{"$f":"Prevalence!J154*BF157","v":867.5625},{"$f":"Prevalence!K154*BG157","v":1472.7},{"$f":"Prevalence!L154*BH157","v":1608.8625},{"$f":"Prevalence!M154*BI157","v":38.625},{"$f":"Prevalence!N154*BJ157","v":80.849999999999994},{"$f":"Prevalence!O154*BK157","v":787.14999999999986},{"$f":"Prevalence!P154*BL157","v":255.75},{"$f":"Prevalence!Q154*BM157","v":344.0625},{"$f":"Prevalence!R154*BN157","v":596.02499999999998},{"$f":"Prevalence!S154*BO157","v":366},{"$f":"Prevalence!T154*BP157","v":324.34999999999997},{"$f":"Prevalence!U154*BQ157","v":113.8},{"$f":"Prevalence!V154*BR157","v":563.75},{"$f":"Prevalence!W154*BS157","v":182.4},{"$f":"Prevalence!X154*BT157","v":251.6},{"$f":"Prevalence!Y154*BU157","v":41.5},{"$f":"Prevalence!Z154*BV157","v":182.63749999999999},{"$f":"Prevalence!AA154*BW157","v":42.5625},{"$f":"Prevalence!AB154*BX157","v":649.12499999999989},{"$f":"Prevalence!AC154*BY157","v":255.75},{"$f":"Prevalence!AD154*BZ157","v":210.17500000000001},{"$f":"Prevalence!AE154*CA157","v":795.9},{"$f":"Prevalence!AF154*CB157","v":1079.1875},{"$f":"Prevalence!AG154*CC157","v":519.07499999999993},{"$f":"Prevalence!AH154*CD157","v":141.48749999999998},{"$f":"Prevalence!AI154*CE157","v":261.8},{"$f":"Prevalence!AJ154*CF157","v":463.38749999999993},{"$f":"Prevalence!AK154*CG157","v":346.27499999999998},{"$f":"Prevalence!AL154*CH157","v":797.8125},{"$f":"Prevalence!AM154*CI157","v":38.625},{"$f":"Prevalence!AN154*CJ157","v":261.875},{"$f":"Prevalence!AO154*CK157","v":493},{"$f":"Prevalence!AP154*CL157","v":319.75},{"$f":"Prevalence!AQ154*CM157","v":80.849999999999994},{"$f":"Prevalence!AR154*CN157","v":195.9375},{"$f":"Prevalence!AS154*CO157","v":876.3},{"$f":"Prevalence!AT154*CP157","v":129.25},{"$f":"Prevalence!AU154*CQ157","v":282.79999999999995},{"$f":"Prevalence!AV154*CR157","v":626.03750000000002},156,38633,2146,1279,1804,2653,2287,4240,6402,3305,4909,6129,103,294,2422,660,1101,1766,976,998,569,1804,608,592,415,769,227,2885,660,1201,2653,2785,2307,343,748,1373,729,2553,103,838,1360,1279,294,825,2921,517,707,1727]
["Male 45-49",{"$f":"Prevalence!B155*AX158","v":10615.02},{"$f":"Prevalence!C155*AY158","v":837.23250000000007},{"$f":"Prevalence!D155*AZ158","v":316.33333333333337},{"$f":"Prevalence!E155*BA158","v":596.37500000000011},{"$f":"Prevalence!F155*BB158","v":702.78},{"$f":"Prevalence!G155*BC158","v":394.16},{"$f":"Prevalence!H155*BD158","v":1245.8116666666667},{"$f":"Prevalence!I155*BE158","v":1912.0725},{"$f":"Prevalence!J155*BF158","v":905.22250000000008},{"$f":"Prevalence!K155*BG158","v":1341.8600000000001},{"$f":"Prevalence!L155*BH158","v":1311.0825},{"$f":"Prevalence!M155*BI158","v":48.425000000000004},{"$f":"Prevalence!N155*BJ158","v":83.178333333333342},{"$f":"Prevalence!O155*BK158","v":758.52833333333331},{"$f":"Prevalence!P155*BL158","v":215.26916666666668},{"$f":"Prevalence!Q155*BM158","v":301.16666666666669},{"$f":"Prevalence!R155*BN158","v":553.41},{"$f":"Prevalence!S155*BO158","v":345.8},{"$f":"Prevalence!T155*BP158","v":327.29666666666668},{"$f":"Prevalence!U155*BQ158","v":97.933333333333337},{"$f":"Prevalence!V155*BR158","v":596.37500000000011},{"$f":"Prevalence!W155*BS158","v":165.62},{"$f":"Prevalence!X155*BT158","v":249.36166666666668},{"$f":"Prevalence!Y155*BU158","v":36.313333333333333},{"$f":"Prevalence!Z155*BV158","v":156.02166666666668},{"$f":"Prevalence!AA155*BW158","v":39.487500000000004},{"$f":"Prevalence!AB155*BX158","v":504.85500000000002},{"$f":"Prevalence!AC155*BY158","v":215.26916666666668},{"$f":"Prevalence!AD155*BZ158","v":181.24166666666667},{"$f":"Prevalence!AE155*CA158","v":702.78},{"$f":"Prevalence!AF155*CB158","v":845.29250000000013},{"$f":"Prevalence!AG155*CC158","v":549.31500000000005},{"$f":"Prevalence!AH155*CD158","v":175.53250000000003},{"$f":"Prevalence!AI155*CE158","v":234.78},{"$f":"Prevalence!AJ155*CF158","v":415.05749999999995},{"$f":"Prevalence!AK155*CG158","v":333.03833333333336},{"$f":"Prevalence!AL155*CH158","v":718.52083333333348},{"$f":"Prevalence!AM155*CI158","v":48.425000000000004},{"$f":"Prevalence!AN155*CJ158","v":268.66666666666669},{"$f":"Prevalence!AO155*CK158","v":496.06916666666666},{"$f":"Prevalence!AP155*CL158","v":316.33333333333337},{"$f":"Prevalence!AQ155*CM158","v":83.178333333333342},{"$f":"Prevalence!AR155*CN158","v":207.27416666666667},{"$f":"Prevalence!AS155*CO158","v":779.48},{"$f":"Prevalence!AT155*CP158","v":111.36666666666667},{"$f":"Prevalence!AU155*CQ158","v":276.64},{"$f":"Prevalence!AV155*CR158","v":515.86166666666668},157,40827,2493,1460,2202,2703,2274,4423,6537,3979,5161,5763,149,349,2693,641,1112,1892,1064,1162,565,2202,637,677,419,758,243,2589,641,1195,2703,2517,2817,491,774,1419,809,2653,149,992,1579,1460,349,1007,2998,514,798,1642]
["Male 50-54",{"$f":"Prevalence!B156*AX159","v":9967.1},{"$f":"Prevalence!C156*AY159","v":786.85750000000007},{"$f":"Prevalence!D156*AZ159","v":313.3},{"$f":"Prevalence!E156*BA159","v":594.20833333333337},{"$f":"Prevalence!F156*BB159","v":688.48},{"$f":"Prevalence!G156*BC159","v":371.62666666666667},{"$f":"Prevalence!H156*BD159","v":1148.6366666666668},{"$f":"Prevalence!I156*BE159","v":1754.7075},{"$f":"Prevalence!J156*BF159","v":885.20249999999999},{"$f":"Prevalence!K156*BG159","v":1215.5},{"$f":"Prevalence!L156*BH159","v":1183.2275},{"$f":"Prevalence!M156*BI159","v":56.550000000000004},{"$f":"Prevalence!N156*BJ159","v":78.888333333333335},{"$f":"Prevalence!O156*BK159","v":719.6583333333333},{"$f":"Prevalence!P156*BL159","v":220.3066666666667},{"$f":"Prevalence!Q156*BM159","v":275.43750000000006},{"$f":"Prevalence!R156*BN159","v":526.5},{"$f":"Prevalence!S156*BO159","v":351.97500000000002},{"$f":"Prevalence!T156*BP159","v":327.29666666666668},{"$f":"Prevalence!U156*BQ159","v":84.066666666666663},{"$f":"Prevalence!V156*BR159","v":594.20833333333337},{"$f":"Prevalence!W156*BS159","v":150.54},{"$f":"Prevalence!X156*BT159","v":209.21333333333334},{"$f":"Prevalence!Y156*BU159","v":30.42},{"$f":"Prevalence!Z156*BV159","v":160.75583333333333},{"$f":"Prevalence!AA156*BW159","v":40.137500000000003},{"$f":"Prevalence!AB156*BX159","v":447.52500000000003},{"$f":"Prevalence!AC156*BY159","v":220.3066666666667},{"$f":"Prevalence!AD156*BZ159","v":175.93333333333334},{"$f":"Prevalence!AE156*CA159","v":688.48},{"$f":"Prevalence!AF156*CB159","v":742.19166666666672},{"$f":"Prevalence!AG156*CC159","v":532.15499999999997},{"$f":"Prevalence!AH156*CD159","v":169.45500000000001},{"$f":"Prevalence!AI156*CE159","v":228.71333333333334},{"$f":"Prevalence!AJ156*CF159","v":368.84249999999997},{"$f":"Prevalence!AK156*CG159","v":331.80333333333334},{"$f":"Prevalence!AL156*CH159","v":619.39583333333337},{"$f":"Prevalence!AM156*CI159","v":56.550000000000004},{"$f":"Prevalence!AN156*CJ159","v":241.85416666666669},{"$f":"Prevalence!AO156*CK159","v":437.00583333333333},{"$f":"Prevalence!AP156*CL159","v":313.3},{"$f":"Prevalence!AQ156*CM159","v":78.888333333333335},{"$f":"Prevalence!AR156*CN159","v":199.45250000000001},{"$f":"Prevalence!AS156*CO159","v":759.2},{"$f":"Prevalence!AT156*CP159","v":108.11666666666667},{"$f":"Prevalence!AU156*CQ159","v":275.25333333333333},{"$f":"Prevalence!AV156*CR159","v":430.72249999999997},158,38335,2343,1446,2194,2648,2144,4078,5999,3891,4675,5201,174,331,2555,656,1017,1800,1083,1162,485,2194,579,568,351,781,247,2295,656,1160,2648,2210,2729,474,754,1261,806,2287,174,893,1391,1446,331,969,2920,499,794,1371]
["Male 55-59",{"$f":"Prevalence!B157*AX160","v":7063.5599999999995},{"$f":"Prevalence!C157*AY160","v":576.94875000000002},{"$f":"Prevalence!D157*AZ160","v":221.54999999999998},{"$f":"Prevalence!E157*BA160","v":441},{"$f":"Prevalence!F157*BB160","v":470.19},{"$f":"Prevalence!G157*BC160","v":238.97999999999996},{"$f":"Prevalence!H157*BD160","v":872.00749999999994},{"$f":"Prevalence!I157*BE160","v":1208.41875},{"$f":"Prevalence!J157*BF160","v":702.10874999999999},{"$f":"Prevalence!K157*BG160","v":812.91},{"$f":"Prevalence!L157*BH160","v":784.06124999999997},{"$f":"Prevalence!M157*BI160","v":40.6875},{"$f":"Prevalence!N157*BJ160","v":63.524999999999991},{"$f":"Prevalence!O157*BK160","v":522.5675},{"$f":"Prevalence!P157*BL160","v":160.57999999999998},{"$f":"Prevalence!Q157*BM160","v":215.46875},{"$f":"Prevalence!R157*BN160","v":408.94874999999996},{"$f":"Prevalence!S157*BO160","v":247.01250000000002},{"$f":"Prevalence!T157*BP160","v":264.35499999999996},{"$f":"Prevalence!U157*BQ160","v":53.339999999999996},{"$f":"Prevalence!V157*BR160","v":441},{"$f":"Prevalence!W157*BS160","v":104.16},{"$f":"Prevalence!X157*BT160","v":153.21250000000001},{"$f":"Prevalence!Y157*BU160","v":19.95},{"$f":"Prevalence!Z157*BV160","v":110.22374999999998},{"$f":"Prevalence!AA157*BW160","v":30.712500000000002},{"$f":"Prevalence!AB157*BX160","v":294.20999999999998},{"$f":"Prevalence!AC157*BY160","v":160.57999999999998},{"$f":"Prevalence!AD157*BZ160","v":114.66},{"$f":"Prevalence!AE157*CA160","v":470.19},{"$f":"Prevalence!AF157*CB160","v":507.23750000000001},{"$f":"Prevalence!AG157*CC160","v":418.79250000000002},{"$f":"Prevalence!AH157*CD160","v":118.09875000000001},{"$f":"Prevalence!AI157*CE160","v":169.54},{"$f":"Prevalence!AJ157*CF160","v":263.89125000000001},{"$f":"Prevalence!AK157*CG160","v":246.38249999999996},{"$f":"Prevalence!AL157*CH160","v":415.625},{"$f":"Prevalence!AM157*CI160","v":40.6875},{"$f":"Prevalence!AN157*CJ160","v":188.125},{"$f":"Prevalence!AO157*CK160","v":288.00624999999997},{"$f":"Prevalence!AP157*CL160","v":221.54999999999998},{"$f":"Prevalence!AQ157*CM160","v":63.524999999999991},{"$f":"Prevalence!AR157*CN160","v":144.80374999999998},{"$f":"Prevalence!AS157*CO160","v":523.31999999999994},{"$f":"Prevalence!AT157*CP160","v":68.25},{"$f":"Prevalence!AU157*CQ160","v":185.07999999999998},{"$f":"Prevalence!AV157*CR160","v":264.91499999999996},159,33636,2127,1266,2016,2239,1707,3833,5115,3821,3871,4267,155,330,2297,592,985,1731,941,1162,381,2016,496,515,285,663,234,1868,592,936,2239,1870,2659,409,692,1117,741,1900,155,860,1135,1266,330,871,2492,390,661,1044]
["Male 60-64",{"$f":"Prevalence!B158*AX161","v":6871.62},{"$f":"Prevalence!C158*AY161","v":589.15499999999997},{"$f":"Prevalence!D158*AZ161","v":240.79999999999998},{"$f":"Prevalence!E158*BA161","v":474.25},{"$f":"Prevalence!F158*BB161","v":464.72999999999996},{"$f":"Prevalence!G158*BC161","v":239.11999999999998},{"$f":"Prevalence!H158*BD161","v":864.49999999999989},{"$f":"Prevalence!I158*BE161","v":1038.0825},{"$f":"Prevalence!J158*BF161","v":747.31124999999997},{"$f":"Prevalence!K158*BG161","v":741.08999999999992},{"$f":"Prevalence!L158*BH161","v":717.72749999999996},{"$f":"Prevalence!M158*BI161","v":34.912500000000001},{"$f":"Prevalence!N158*BJ161","v":65.642499999999998},{"$f":"Prevalence!O158*BK161","v":513.46749999999997},{"$f":"Prevalence!P158*BL161","v":178.48249999999999},{"$f":"Prevalence!Q158*BM161","v":208.46875},{"$f":"Prevalence!R158*BN161","v":417.45374999999996},{"$f":"Prevalence!S158*BO161","v":261.45},{"$f":"Prevalence!T158*BP161","v":293.02},{"$f":"Prevalence!U158*BQ161","v":56.839999999999996},{"$f":"Prevalence!V158*BR161","v":474.25},{"$f":"Prevalence!W158*BS161","v":97.22999999999999},{"$f":"Prevalence!X158*BT161","v":144.28749999999999},{"$f":"Prevalence!Y158*BU161","v":19.459999999999997},{"$f":"Prevalence!Z158*BV161","v":97.754999999999995},{"$f":"Prevalence!AA158*BW161","v":25.200000000000003},{"$f":"Prevalence!AB158*BX161","v":244.91249999999999},{"$f":"Prevalence!AC158*BY161","v":178.48249999999999},{"$f":"Prevalence!AD158*BZ161","v":109.3925},{"$f":"Prevalence!AE158*CA161","v":464.72999999999996},{"$f":"Prevalence!AF158*CB161","v":401.17874999999998},{"$f":"Prevalence!AG158*CC161","v":437.6925},{"$f":"Prevalence!AH158*CD161","v":95.865000000000009},{"$f":"Prevalence!AI158*CE161","v":180.565},{"$f":"Prevalence!AJ158*CF161","v":255.14999999999998},{"$f":"Prevalence!AK158*CG161","v":254.69499999999996},{"$f":"Prevalence!AL158*CH161","v":397.03125},{"$f":"Prevalence!AM158*CI161","v":34.912500000000001},{"$f":"Prevalence!AN158*CJ161","v":174.5625},{"$f":"Prevalence!AO158*CK161","v":280.64749999999998},{"$f":"Prevalence!AP158*CL161","v":240.79999999999998},{"$f":"Prevalence!AQ158*CM161","v":65.642499999999998},{"$f":"Prevalence!AR158*CN161","v":153.11624999999998},{"$f":"Prevalence!AS158*CO161","v":442.89},{"$f":"Prevalence!AT158*CP161","v":71.574999999999989},{"$f":"Prevalence!AU158*CQ161","v":171.35999999999999},{"$f":"Prevalence!AV158*CR161","v":260.34749999999997},160,32722,2172,1376,2168,2213,1708,3800,4394,4067,3529,3906,133,341,2257,658,953,1767,996,1288,406,2168,463,485,278,588,192,1555,658,893,2213,1479,2779,332,737,1080,766,1815,133,798,1106,1376,341,921,2109,409,612,1026]
["Male 65-69",{"$f":"Prevalence!B159*AX162","v":4045.5800000000004},{"$f":"Prevalence!C159*AY162","v":365.46416666666676},{"$f":"Prevalence!D159*AZ162","v":149.10000000000002},{"$f":"Prevalence!E159*BA162","v":303.33333333333343},{"$f":"Prevalence!F159*BB162","v":284.20000000000005},{"$f":"Prevalence!G159*BC162","v":136.26666666666668},{"$f":"Prevalence!H159*BD162","v":499.13499999999999},{"$f":"Prevalence!I159*BE162","v":591.72750000000008},{"$f":"Prevalence!J159*BF162","v":452.14750000000004},{"$f":"Prevalence!K159*BG162","v":430.92},{"$f":"Prevalence!L159*BH162","v":398.98250000000002},{"$f":"Prevalence!M159*BI162","v":21.35},{"$f":"Prevalence!N159*BJ162","v":37.601666666666667},{"$f":"Prevalence!O159*BK162","v":297.57},{"$f":"Prevalence!P159*BL162","v":104.34083333333335},{"$f":"Prevalence!Q159*BM162","v":112.14583333333336},{"$f":"Prevalence!R159*BN162","v":242.07750000000004},{"$f":"Prevalence!S159*BO162","v":149.97500000000002},{"$f":"Prevalence!T159*BP162","v":190.94833333333335},{"$f":"Prevalence!U159*BQ162","v":29.773333333333333},{"$f":"Prevalence!V159*BR162","v":303.33333333333343},{"$f":"Prevalence!W159*BS162","v":49.84},{"$f":"Prevalence!X159*BT162","v":101.54666666666668},{"$f":"Prevalence!Y159*BU162","v":10.126666666666667},{"$f":"Prevalence!Z159*BV162","v":58.741666666666667},{"$f":"Prevalence!AA159*BW162","v":14.087500000000002},{"$f":"Prevalence!AB159*BX162","v":132.09},{"$f":"Prevalence!AC159*BY162","v":104.34083333333335},{"$f":"Prevalence!AD159*BZ162","v":65.578333333333347},{"$f":"Prevalence!AE159*CA162","v":284.20000000000005},{"$f":"Prevalence!AF159*CB162","v":223.51000000000005},{"$f":"Prevalence!AG159*CC162","v":255.36},{"$f":"Prevalence!AH159*CD162","v":59.29},{"$f":"Prevalence!AI159*CE162","v":97.346666666666678},{"$f":"Prevalence!AJ159*CF162","v":155.13750000000002},{"$f":"Prevalence!AK159*CG162","v":148.96},{"$f":"Prevalence!AL159*CH162","v":226.91666666666671},{"$f":"Prevalence!AM159*CI162","v":21.35},{"$f":"Prevalence!AN159*CJ162","v":109.2291666666667},{"$f":"Prevalence!AO159*CK162","v":165.27583333333334},{"$f":"Prevalence!AP159*CL162","v":149.10000000000002},{"$f":"Prevalence!AQ159*CM162","v":37.601666666666667},{"$f":"Prevalence!AR159*CN162","v":92.767499999999998},{"$f":"Prevalence!AS159*CO162","v":263.34000000000003},{"$f":"Prevalence!AT159*CP162","v":39.433333333333337},{"$f":"Prevalence!AU159*CQ162","v":93.146666666666675},{"$f":"Prevalence!AV159*CR162","v":147.6825},161,28897,2021,1278,2080,2030,1460,3291,3757,3691,3078,3257,122,293,1962,577,769,1537,857,1259,319,2080,356,512,217,530,161,1258,577,803,2030,1236,2432,308,596,985,672,1556,122,749,977,1278,293,837,1881,338,499,873]
["Male 70-74",{"$f":"Prevalence!B160*AX163","v":3026.6600000000003},{"$f":"Prevalence!C160*AY163","v":286.80166666666673},{"$f":"Prevalence!D160*AZ163","v":109.20000000000002},{"$f":"Prevalence!E160*BA163","v":235.22916666666671},{"$f":"Prevalence!F160*BB163","v":217.42000000000002},{"$f":"Prevalence!G160*BC163","v":98.653333333333336},{"$f":"Prevalence!H160*BD163","v":377.80166666666668},{"$f":"Prevalence!I160*BE163","v":421.47000000000008},{"$f":"Prevalence!J160*BF163","v":332.46500000000003},{"$f":"Prevalence!K160*BG163","v":328.02000000000004},{"$f":"Prevalence!L160*BH163","v":292.28500000000003},{"$f":"Prevalence!M160*BI163","v":19.775000000000002},{"$f":"Prevalence!N160*BJ163","v":27.078333333333333},{"$f":"Prevalence!O160*BK163","v":225.22499999999999},{"$f":"Prevalence!P160*BL163","v":82.279166666666683},{"$f":"Prevalence!Q160*BM163","v":88.229166666666686},{"$f":"Prevalence!R160*BN163","v":173.56500000000003},{"$f":"Prevalence!S160*BO163","v":107.97500000000001},{"$f":"Prevalence!T160*BP163","v":144.08333333333334},{"$f":"Prevalence!U160*BQ163","v":19.786666666666669},{"$f":"Prevalence!V160*BR163","v":235.22916666666671},{"$f":"Prevalence!W160*BS163","v":42.14},{"$f":"Prevalence!X160*BT163","v":76.75500000000001},{"$f":"Prevalence!Y160*BU163","v":6.7200000000000006},{"$f":"Prevalence!Z160*BV163","v":44.000833333333333},{"$f":"Prevalence!AA160*BW163","v":10.237500000000001},{"$f":"Prevalence!AB160*BX163","v":91.350000000000009},{"$f":"Prevalence!AC160*BY163","v":82.279166666666683},{"$f":"Prevalence!AD160*BZ163","v":49.245000000000005},{"$f":"Prevalence!AE160*CA163","v":217.42000000000002},{"$f":"Prevalence!AF160*CB163","v":156.96333333333337},{"$f":"Prevalence!AG160*CC163","v":185.22000000000003},{"$f":"Prevalence!AH160*CD163","v":37.537500000000001},{"$f":"Prevalence!AI160*CE163","v":72.846666666666678},{"$f":"Prevalence!AJ160*CF163","v":123.48000000000002},{"$f":"Prevalence!AK160*CG163","v":122.36000000000001},{"$f":"Prevalence!AL160*CH163","v":157.06250000000003},{"$f":"Prevalence!AM160*CI163","v":19.775000000000002},{"$f":"Prevalence!AN160*CJ163","v":82.687500000000014},{"$f":"Prevalence!AO160*CK163","v":119.26249999999999},{"$f":"Prevalence!AP160*CL163","v":109.20000000000002},{"$f":"Prevalence!AQ160*CM163","v":27.078333333333333},{"$f":"Prevalence!AR160*CN163","v":71.709166666666675},{"$f":"Prevalence!AS160*CO163","v":213.36},{"$f":"Prevalence!AT160*CP163","v":28.233333333333338},{"$f":"Prevalence!AU160*CQ163","v":72.61333333333333},{"$f":"Prevalence!AV160*CR163","v":113.84916666666666},162,21619,1586,936,1613,1553,1057,2491,2676,2714,2343,2386,113,211,1485,455,605,1102,617,950,212,1613,301,387,144,397,117,870,455,603,1553,868,1764,195,446,784,552,1077,113,567,705,936,211,647,1524,242,389,673]
["Male 75-79",{"$f":"Prevalence!B161*AX164","v":1654.2},{"$f":"Prevalence!C161*AY164","v":138.07916666666668},{"$f":"Prevalence!D161*AZ164","v":58.500000000000007},{"$f":"Prevalence!E161*BA164","v":130.93750000000003},{"$f":"Prevalence!F161*BB164","v":121.60000000000001},{"$f":"Prevalence!G161*BC164","v":54.6},{"$f":"Prevalence!H161*BD164","v":213.41666666666669},{"$f":"Prevalence!I161*BE164","v":245.02500000000001},{"$f":"Prevalence!J161*BF164","v":167.56250000000003},{"$f":"Prevalence!K161*BG164","v":181.20000000000002},{"$f":"Prevalence!L161*BH164","v":159.68750000000003},{"$f":"Prevalence!M161*BI164","v":8.625},{"$f":"Prevalence!N161*BJ164","v":14.391666666666667},{"$f":"Prevalence!O161*BK164","v":134.11666666666667},{"$f":"Prevalence!P161*BL164","v":40.687500000000007},{"$f":"Prevalence!Q161*BM164","v":52.708333333333343},{"$f":"Prevalence!R161*BN164","v":98.775000000000006},{"$f":"Prevalence!S161*BO164","v":60},{"$f":"Prevalence!T161*BP164","v":70.2},{"$f":"Prevalence!U161*BQ164","v":10},{"$f":"Prevalence!V161*BR164","v":130.93750000000003},{"$f":"Prevalence!W161*BS164","v":27.200000000000003},{"$f":"Prevalence!X161*BT164","v":34.283333333333339},{"$f":"Prevalence!Y161*BU164","v":3.9666666666666668},{"$f":"Prevalence!Z161*BV164","v":24.620833333333334},{"$f":"Prevalence!AA161*BW164","v":8.5},{"$f":"Prevalence!AB161*BX164","v":56.025000000000006},{"$f":"Prevalence!AC161*BY164","v":40.687500000000007},{"$f":"Prevalence!AD161*BZ164","v":27.183333333333337},{"$f":"Prevalence!AE161*CA164","v":121.60000000000001},{"$f":"Prevalence!AF161*CB164","v":86.800000000000011},{"$f":"Prevalence!AG161*CC164","v":95.02500000000002},{"$f":"Prevalence!AH161*CD164","v":23.375000000000004},{"$f":"Prevalence!AI161*CE164","v":38.850000000000009},{"$f":"Prevalence!AJ161*CF164","v":65.924999999999997},{"$f":"Prevalence!AK161*CG164","v":58.266666666666666},{"$f":"Prevalence!AL161*CH164","v":85.833333333333343},{"$f":"Prevalence!AM161*CI164","v":8.625},{"$f":"Prevalence!AN161*CJ164","v":50.625000000000007},{"$f":"Prevalence!AO161*CK164","v":66.095833333333331},{"$f":"Prevalence!AP161*CL164","v":58.500000000000007},{"$f":"Prevalence!AQ161*CM164","v":14.391666666666667},{"$f":"Prevalence!AR161*CN164","v":36.337499999999999},{"$f":"Prevalence!AS161*CO164","v":119.4},{"$f":"Prevalence!AT161*CP164","v":16.916666666666668},{"$f":"Prevalence!AU161*CQ164","v":43.733333333333334},{"$f":"Prevalence!AV161*CR164","v":52.44166666666667},163,16542,1069,702,1257,1216,819,1970,2178,1915,1812,1825,69,157,1238,315,506,878,480,648,150,1257,272,242,119,311,136,747,315,466,1216,672,1267,170,333,586,368,824,69,486,547,702,157,459,1194,203,328,434]
["Male 80-84",{"$f":"Prevalence!B162*AX165","v":1051.1000000000001},{"$f":"Prevalence!C162*AY165","v":85.637500000000003},{"$f":"Prevalence!D162*AZ165","v":40.750000000000007},{"$f":"Prevalence!E162*BA165","v":78.541666666666686},{"$f":"Prevalence!F162*BB165","v":71.2},{"$f":"Prevalence!G162*BC165","v":33.133333333333333},{"$f":"Prevalence!H162*BD165","v":132.16666666666666},{"$f":"Prevalence!I162*BE165","v":158.85},{"$f":"Prevalence!J162*BF165","v":113.05000000000001},{"$f":"Prevalence!K162*BG165","v":112.80000000000001},{"$f":"Prevalence!L162*BH165","v":100.45},{"$f":"Prevalence!M162*BI165","v":5.875},{"$f":"Prevalence!N162*BJ165","v":8.6166666666666671},{"$f":"Prevalence!O162*BK165","v":92.516666666666666},{"$f":"Prevalence!P162*BL165","v":25.962500000000002},{"$f":"Prevalence!Q162*BM165","v":35.416666666666671},{"$f":"Prevalence!R162*BN165","v":61.425000000000004},{"$f":"Prevalence!S162*BO165","v":40.625},{"$f":"Prevalence!T162*BP165","v":47.016666666666666},{"$f":"Prevalence!U162*BQ165","v":5.9333333333333336},{"$f":"Prevalence!V162*BR165","v":78.541666666666686},{"$f":"Prevalence!W162*BS165","v":20.5},{"$f":"Prevalence!X162*BT165","v":20.541666666666671},{"$f":"Prevalence!Y162*BU165","v":2.4333333333333331},{"$f":"Prevalence!Z162*BV165","v":17.654166666666665},{"$f":"Prevalence!AA162*BW165","v":4.625},{"$f":"Prevalence!AB162*BX165","v":33.450000000000003},{"$f":"Prevalence!AC162*BY165","v":25.962500000000002},{"$f":"Prevalence!AD162*BZ165","v":16.858333333333334},{"$f":"Prevalence!AE162*CA165","v":71.2},{"$f":"Prevalence!AF162*CB165","v":54.637500000000003},{"$f":"Prevalence!AG162*CC165","v":64.350000000000009},{"$f":"Prevalence!AH162*CD165","v":12.65},{"$f":"Prevalence!AI162*CE165","v":25.783333333333339},{"$f":"Prevalence!AJ162*CF165","v":37.575000000000003},{"$f":"Prevalence!AK162*CG165","v":40.216666666666661},{"$f":"Prevalence!AL162*CH165","v":59.270833333333343},{"$f":"Prevalence!AM162*CI165","v":5.875},{"$f":"Prevalence!AN162*CJ165","v":33.750000000000007},{"$f":"Prevalence!AO162*CK165","v":50.145833333333336},{"$f":"Prevalence!AP162*CL165","v":40.750000000000007},{"$f":"Prevalence!AQ162*CM165","v":8.6166666666666671},{"$f":"Prevalence!AR162*CN165","v":20.9},{"$f":"Prevalence!AS162*CO165","v":69.3},{"$f":"Prevalence!AT162*CP165","v":9.9166666666666679},{"$f":"Prevalence!AU162*CQ165","v":26.8},{"$f":"Prevalence!AV162*CR165","v":31.175000000000001},164,10511,663,489,754,712,497,1220,1412,1292,1128,1148,47,94,854,201,340,546,325,434,89,754,205,145,73,223,74,446,201,289,712,423,858,92,221,334,254,569,47,324,415,489,94,264,693,119,201,258]
["Male 85-89",{"$f":"Prevalence!B163*AX166","v":510.3},{"$f":"Prevalence!C163*AY166","v":36.554166666666667},{"$f":"Prevalence!D163*AZ166","v":18.666666666666668},{"$f":"Prevalence!E163*BA166","v":39.062500000000007},{"$f":"Prevalence!F163*BB166","v":36.9},{"$f":"Prevalence!G163*BC166","v":15.4},{"$f":"Prevalence!H163*BD166","v":69.766666666666666},{"$f":"Prevalence!I163*BE166","v":75.037500000000009},{"$f":"Prevalence!J163*BF166","v":52.150000000000006},{"$f":"Prevalence!K163*BG166","v":52.2},{"$f":"Prevalence!L163*BH166","v":52.062500000000007},{"$f":"Prevalence!M163*BI166","v":2.5},{"$f":"Prevalence!N163*BJ166","v":4.6750000000000007},{"$f":"Prevalence!O163*BK166","v":45.06666666666667},{"$f":"Prevalence!P163*BL166","v":14.208333333333334},{"$f":"Prevalence!Q163*BM166","v":18.125000000000004},{"$f":"Prevalence!R163*BN166","v":33.862500000000004},{"$f":"Prevalence!S163*BO166","v":20.625},{"$f":"Prevalence!T163*BP166","v":25.133333333333333},{"$f":"Prevalence!U163*BQ166","v":2.4666666666666668},{"$f":"Prevalence!V163*BR166","v":39.062500000000007},{"$f":"Prevalence!W163*BS166","v":9.9},{"$f":"Prevalence!X163*BT166","v":7.5083333333333346},{"$f":"Prevalence!Y163*BU166","v":1.3666666666666667},{"$f":"Prevalence!Z163*BV166","v":9.8166666666666664},{"$f":"Prevalence!AA163*BW166","v":2.75},{"$f":"Prevalence!AB163*BX166","v":19.350000000000001},{"$f":"Prevalence!AC163*BY166","v":14.208333333333334},{"$f":"Prevalence!AD163*BZ166","v":7.8166666666666673},{"$f":"Prevalence!AE163*CA166","v":36.9},{"$f":"Prevalence!AF163*CB166","v":24.541666666666668},{"$f":"Prevalence!AG163*CC166","v":27.300000000000004},{"$f":"Prevalence!AH163*CD166","v":5.7750000000000004},{"$f":"Prevalence!AI163*CE166","v":10.850000000000001},{"$f":"Prevalence!AJ163*CF166","v":19.012499999999999},{"$f":"Prevalence!AK163*CG166","v":15.041666666666666},{"$f":"Prevalence!AL163*CH166","v":24.583333333333339},{"$f":"Prevalence!AM163*CI166","v":2.5},{"$f":"Prevalence!AN163*CJ166","v":15.833333333333336},{"$f":"Prevalence!AO163*CK166","v":27.308333333333334},{"$f":"Prevalence!AP163*CL166","v":18.666666666666668},{"$f":"Prevalence!AQ163*CM166","v":4.6750000000000007},{"$f":"Prevalence!AR163*CN166","v":10.6875},{"$f":"Prevalence!AS163*CO166","v":34.300000000000004},{"$f":"Prevalence!AT163*CP166","v":5.0000000000000009},{"$f":"Prevalence!AU163*CQ166","v":8.9333333333333336},{"$f":"Prevalence!AV163*CR166","v":14.5},165,5103,283,224,375,369,231,644,667,596,522,595,20,51,416,110,174,301,165,232,37,375,99,53,41,124,44,258,110,134,369,190,364,42,93,169,95,236,20,152,226,224,51,135,343,60,67,120]
["Male 90+",{"$f":"Prevalence!B164*AX167","v":204.10000000000002},{"$f":"Prevalence!C164*AY167","v":14.466666666666669},{"$f":"Prevalence!D164*AZ167","v":7.5833333333333339},{"$f":"Prevalence!E164*BA167","v":15.72916666666667},{"$f":"Prevalence!F164*BB167","v":15.200000000000001},{"$f":"Prevalence!G164*BC167","v":6.333333333333333},{"$f":"Prevalence!H164*BD167","v":27.841666666666669},{"$f":"Prevalence!I164*BE167","v":34.65},{"$f":"Prevalence!J164*BF167","v":17.5},{"$f":"Prevalence!K164*BG167","v":19.3},{"$f":"Prevalence!L164*BH167","v":21.437500000000004},{"$f":"Prevalence!M164*BI167","v":0.75},{"$f":"Prevalence!N164*BJ167","v":2.4750000000000001},{"$f":"Prevalence!O164*BK167","v":18.633333333333333},{"$f":"Prevalence!P164*BL167","v":4.1333333333333337},{"$f":"Prevalence!Q164*BM167","v":7.1875000000000009},{"$f":"Prevalence!R164*BN167","v":13.275},{"$f":"Prevalence!S164*BO167","v":8.25},{"$f":"Prevalence!T164*BP167","v":8.2333333333333343},{"$f":"Prevalence!U164*BQ167","v":1.9333333333333333},{"$f":"Prevalence!V164*BR167","v":15.72916666666667},{"$f":"Prevalence!W164*BS167","v":3.4000000000000004},{"$f":"Prevalence!X164*BT167","v":2.5500000000000003},{"$f":"Prevalence!Y164*BU167","v":0.6},{"$f":"Prevalence!Z164*BV167","v":3.0874999999999999},{"$f":"Prevalence!AA164*BW167","v":1.5},{"$f":"Prevalence!AB164*BX167","v":9.0750000000000011},{"$f":"Prevalence!AC164*BY167","v":4.1333333333333337},{"$f":"Prevalence!AD164*BZ167","v":2.5083333333333337},{"$f":"Prevalence!AE164*CA167","v":15.200000000000001},{"$f":"Prevalence!AF164*CB167","v":7.4916666666666671},{"$f":"Prevalence!AG164*CC167","v":9.3000000000000007},{"$f":"Prevalence!AH164*CD167","v":1.7875000000000001},{"$f":"Prevalence!AI164*CE167","v":5.4833333333333343},{"$f":"Prevalence!AJ164*CF167","v":7.875},{"$f":"Prevalence!AK164*CG167","v":6.9666666666666668},{"$f":"Prevalence!AL164*CH167","v":9.2708333333333357},{"$f":"Prevalence!AM164*CI167","v":0.75},{"$f":"Prevalence!AN164*CJ167","v":7.5000000000000018},{"$f":"Prevalence!AO164*CK167","v":16.3125},{"$f":"Prevalence!AP164*CL167","v":7.5833333333333339},{"$f":"Prevalence!AQ164*CM167","v":2.4750000000000001},{"$f":"Prevalence!AR164*CN167","v":3.958333333333333},{"$f":"Prevalence!AS164*CO167","v":12.600000000000001},{"$f":"Prevalence!AT164*CP167","v":1.916666666666667},{"$f":"Prevalence!AU164*CQ167","v":5.0666666666666664},{"$f":"Prevalence!AV164*CR167","v":4.5916666666666668},166,2041,112,91,151,152,95,257,308,200,193,245,6,27,172,32,69,118,66,76,29,151,34,18,18,39,24,121,32,43,152,58,124,13,47,70,44,89,6,72,135,91,27,50,126,23,38,38]
["Female <1",null,null,null,null,null,null,null,null,null,null,null,null,null,null,null,null,null,null,null,null,null,null,null,null,null,null,null,null,null,null,null,null,null,null,null,null,null,null,null,null,null,null,null,null,null,null,null,167]
["Female 1-4",null,null,null,null,null,null,null,null,null,null,null,null,null,null,null,null,null,null,null,null,null,null,null,null,null,null,null,null,null,null,null,null,null,null,null,null,null,null,null,null,null,null,null,null,null,null,null,168]
["Female 5-9",null,null,null,null,null,null,null,null,null,null,null,null,null,null,null,null,null,null,null,null,null,null,null,null,null,null,null,null,null,null,null,null,null,null,null,null,null,null,null,null,null,null,null,null,null,null,null,169]
["Female 10-14",null,null,null,null,null,null,null,null,null,null,null,null,null,null,null,null,null,null,null,null,null,null,null,null,null,null,null,null,null,null,null,null,null,null,null,null,null,null,null,null,null,null,null,null,null,null,null,170]
["Female 15-19 (16+)",{"$f":"Prevalence!B169*AX172","v":4926.8},{"$f":"Prevalence!C169*AY172","v":325.68181818181819},{"$f":"Prevalence!D169*AZ172","v":96.909090909090921},{"$f":"Prevalence!E169*BA172","v":282.10909090909092},{"$f":"Prevalence!F169*BB172","v":306.9818181818182},{"$f":"Prevalence!G169*BC172","v":247.22727272727275},{"$f":"Prevalence!H169*BD172","v":572.53636363636372},{"$f":"Prevalence!I169*BE172","v":839.2},{"$f":"Prevalence!J169*BF172","v":414.84545454545457},{"$f":"Prevalence!K169*BG172","v":608.66363636363644},{"$f":"Prevalence!L169*BH172","v":582.60909090909092},{"$f":"Prevalence!M169*BI172","v":9.8181818181818166},{"$f":"Prevalence!N169*BJ172","v":28.254545454545458},{"$f":"Prevalence!O169*BK172","v":384.1},{"$f":"Prevalence!P169*BL172","v":51.163636363636371},{"$f":"Prevalence!Q169*BM172","v":178.5},{"$f":"Prevalence!R169*BN172","v":220.11818181818182},{"$f":"Prevalence!S169*BO172","v":102.10909090909092},{"$f":"Prevalence!T169*BP172","v":151.41818181818181},{"$f":"Prevalence!U169*BQ172","v":77.890909090909105},{"$f":"Prevalence!V169*BR172","v":282.10909090909092},{"$f":"Prevalence!W169*BS172","v":203.63636363636365},{"$f":"Prevalence!X169*BT172","v":104.27272727272728},{"$f":"Prevalence!Y169*BU172","v":20.09090909090909},{"$f":"Prevalence!Z169*BV172","v":154.03636363636363},{"$f":"Prevalence!AA169*BW172","v":15.3},{"$f":"Prevalence!AB169*BX172","v":205.20000000000005},{"$f":"Prevalence!AC169*BY172","v":51.163636363636371},{"$f":"Prevalence!AD169*BZ172","v":133.4},{"$f":"Prevalence!AE169*CA172","v":306.9818181818182},{"$f":"Prevalence!AF169*CB172","v":430.0363636363636},{"$f":"Prevalence!AG169*CC172","v":268.90909090909093},{"$f":"Prevalence!AH169*CD172","v":56.24545454545455},{"$f":"Prevalence!AI169*CE172","v":114.87272727272729},{"$f":"Prevalence!AJ169*CF172","v":157.35454545454544},{"$f":"Prevalence!AK169*CG172","v":121.50000000000001},{"$f":"Prevalence!AL169*CH172","v":302.2},{"$f":"Prevalence!AM169*CI172","v":9.8181818181818166},{"$f":"Prevalence!AN169*CJ172","v":83.945454545454552},{"$f":"Prevalence!AO169*CK172","v":196.81818181818184},{"$f":"Prevalence!AP169*CL172","v":96.909090909090921},{"$f":"Prevalence!AQ169*CM172","v":28.254545454545458},{"$f":"Prevalence!AR169*CN172","v":82.618181818181824},{"$f":"Prevalence!AS169*CO172","v":366.98181818181814},{"$f":"Prevalence!AT169*CP172","v":47.86363636363636},{"$f":"Prevalence!AU169*CQ172","v":118.36363636363636},{"$f":"Prevalence!AV169*CR172","v":137.45454545454547},171,24634,1433,820,1293,1608,1295,2999,4196,2173,2911,3373,72,222,1837,402,935,1153,624,694,306,1293,700,370,221,706,153,1254,402,638,1608,1971,1479,269,468,911,495,1511,72,513,866,820,222,568,1682,351,434,945]
["Female 20-24",{"$f":"Prevalence!B170*AX173","v":7361},{"$f":"Prevalence!C170*AY173","v":330.68181818181819},{"$f":"Prevalence!D170*AZ173","v":94.190909090909102},{"$f":"Prevalence!E170*BA173","v":290.18181818181819},{"$f":"Prevalence!F170*BB173","v":404.91818181818184},{"$f":"Prevalence!G170*BC173","v":378.19090909090909},{"$f":"Prevalence!H170*BD173","v":901.85454545454547},{"$f":"Prevalence!I170*BE173","v":1658.8000000000002},{"$f":"Prevalence!J170*BF173","v":397.28181818181821},{"$f":"Prevalence!K170*BG173","v":744.57272727272732},{"$f":"Prevalence!L170*BH173","v":1236.2090909090909},{"$f":"Prevalence!M170*BI173","v":12.818181818181817},{"$f":"Prevalence!N170*BJ173","v":29.272727272727277},{"$f":"Prevalence!O170*BK173","v":558.90000000000009},{"$f":"Prevalence!P170*BL173","v":39.072727272727278},{"$f":"Prevalence!Q170*BM173","v":467.53636363636366},{"$f":"Prevalence!R170*BN173","v":256.0090909090909},{"$f":"Prevalence!S170*BO173","v":114.3818181818182},{"$f":"Prevalence!T170*BP173","v":125.89090909090909},{"$f":"Prevalence!U170*BQ173","v":77.63636363636364},{"$f":"Prevalence!V170*BR173","v":290.18181818181819},{"$f":"Prevalence!W170*BS173","v":393.60000000000008},{"$f":"Prevalence!X170*BT173","v":107.37272727272729},{"$f":"Prevalence!Y170*BU173","v":26.636363636363637},{"$f":"Prevalence!Z170*BV173","v":193.30909090909091},{"$f":"Prevalence!AA170*BW173","v":18},{"$f":"Prevalence!AB170*BX173","v":750.60000000000014},{"$f":"Prevalence!AC170*BY173","v":39.072727272727278},{"$f":"Prevalence!AD170*BZ173","v":167.4818181818182},{"$f":"Prevalence!AE170*CA173","v":404.91818181818184},{"$f":"Prevalence!AF170*CB173","v":1160.0727272727272},{"$f":"Prevalence!AG170*CC173","v":273.45454545454544},{"$f":"Prevalence!AH170*CD173","v":77.154545454545456},{"$f":"Prevalence!AI170*CE173","v":134.75454545454548},{"$f":"Prevalence!AJ170*CF173","v":161.32727272727274},{"$f":"Prevalence!AK170*CG173","v":123.70909090909092},{"$f":"Prevalence!AL170*CH173","v":362.6},{"$f":"Prevalence!AM170*CI173","v":12.818181818181817},{"$f":"Prevalence!AN170*CJ173","v":101.61818181818184},{"$f":"Prevalence!AO170*CK173","v":259.54545454545456},{"$f":"Prevalence!AP170*CL173","v":94.190909090909102},{"$f":"Prevalence!AQ170*CM173","v":29.272727272727277},{"$f":"Prevalence!AR170*CN173","v":82.909090909090921},{"$f":"Prevalence!AS170*CO173","v":469.30909090909091},{"$f":"Prevalence!AT170*CP173","v":119.31818181818181},{"$f":"Prevalence!AU170*CQ173","v":160.90909090909091},{"$f":"Prevalence!AV170*CR173","v":165.09090909090912},172,36805,1455,797,1330,2121,1981,4724,8294,2081,3561,7157,94,230,2673,307,2449,1341,699,577,305,1330,1353,381,293,886,180,4587,307,801,2121,5317,1504,369,549,934,504,1813,94,621,1142,797,230,570,2151,875,590,1135]
["Female 25-29",{"$f":"Prevalence!B171*AX174","v":10770.89},{"$f":"Prevalence!C171*AY174","v":459.71590909090907},{"$f":"Prevalence!D171*AZ174","v":149.25772727272727},{"$f":"Prevalence!E171*BA174","v":417.91636363636354},{"$f":"Prevalence!F171*BB174","v":638.89636363636362},{"$f":"Prevalence!G171*BC174","v":506.85409090909087},{"$f":"Prevalence!H171*BD174","v":1245.1281818181817},{"$f":"Prevalence!I171*BE174","v":2273.31},{"$f":"Prevalence!J171*BF174","v":659.10409090909081},{"$f":"Prevalence!K171*BG174","v":1155.7290909090909},{"$f":"Prevalence!L171*BH174","v":1968.572727272727},{"$f":"Prevalence!M171*BI174","v":19.970454545454544},{"$f":"Prevalence!N171*BJ174","v":39.492727272727272},{"$f":"Prevalence!O171*BK174","v":708.83909090909083},{"$f":"Prevalence!P171*BL174","v":68.650909090909096},{"$f":"Prevalence!Q171*BM174","v":567.20045454545448},{"$f":"Prevalence!R171*BN174","v":381.45545454545453},{"$f":"Prevalence!S171*BO174","v":191.24181818181819},{"$f":"Prevalence!T171*BP174","v":222.71999999999994},{"$f":"Prevalence!U171*BQ174","v":140.62363636363636},{"$f":"Prevalence!V171*BR174","v":417.91636363636354},{"$f":"Prevalence!W171*BS174","v":349.26545454545453},{"$f":"Prevalence!X171*BT174","v":133.62409090909091},{"$f":"Prevalence!Y171*BU174","v":27.286363636363635},{"$f":"Prevalence!Z171*BV174","v":203.42181818181814},{"$f":"Prevalence!AA171*BW174","v":23.2},{"$f":"Prevalence!AB171*BX174","v":1258.4945454545455},{"$f":"Prevalence!AC171*BY174","v":68.650909090909096},{"$f":"Prevalence!AD171*BZ174","v":283.77818181818179},{"$f":"Prevalence!AE171*CA174","v":638.89636363636362},{"$f":"Prevalence!AF171*CB174","v":1529.6181818181815},{"$f":"Prevalence!AG171*CC174","v":442.11818181818177},{"$f":"Prevalence!AH171*CD174","v":87.619545454545445},{"$f":"Prevalence!AI171*CE174","v":200.73272727272726},{"$f":"Prevalence!AJ171*CF174","v":268.23681818181814},{"$f":"Prevalence!AK171*CG174","v":163.36227272727271},{"$f":"Prevalence!AL171*CH174","v":567.24},{"$f":"Prevalence!AM171*CI174","v":19.970454545454544},{"$f":"Prevalence!AN171*CJ174","v":167.04},{"$f":"Prevalence!AO171*CK174","v":419.84090909090907},{"$f":"Prevalence!AP171*CL174","v":149.25772727272727},{"$f":"Prevalence!AQ171*CM174","v":39.492727272727272},{"$f":"Prevalence!AR171*CN174","v":128.44363636363636},{"$f":"Prevalence!AS171*CO174","v":742.50545454545443},{"$f":"Prevalence!AT171*CP174","v":101.63181818181816},{"$f":"Prevalence!AU171*CQ174","v":230.54999999999995},{"$f":"Prevalence!AV171*CR174","v":284.51636363636362},173,37141,1395,871,1321,2308,1831,4498,7839,2381,3812,7860,101,214,2338,372,2049,1378,806,704,381,1321,828,327,207,643,160,5304,372,936,2308,4835,1677,289,564,1071,459,1956,101,704,1274,871,214,609,2347,514,583,1349]
["Female 30-34",{"$f":"Prevalence!B172*AX175","v":10222.789999999999},{"$f":"Prevalence!C172*AY175","v":503.875},{"$f":"Prevalence!D172*AZ175","v":149.60045454545454},{"$f":"Prevalence!E172*BA175","v":414.43636363636352},{"$f":"Prevalence!F172*BB175","v":672.66818181818178},{"$f":"Prevalence!G172*BC175","v":524.84727272727264},{"$f":"Prevalence!H172*BD175","v":1075.7154545454543},{"$f":"Prevalence!I172*BE175","v":2024.4899999999998},{"$f":"Prevalence!J172*BF175","v":693.98318181818172},{"$f":"Prevalence!K172*BG175","v":1228.1895454545454},{"$f":"Prevalence!L172*BH175","v":1726.3831818181816},{"$f":"Prevalence!M172*BI175","v":19.77272727272727},{"$f":"Prevalence!N172*BJ175","v":48.166363636363634},{"$f":"Prevalence!O172*BK175","v":632.74045454545455},{"$f":"Prevalence!P172*BL175","v":82.491818181818175},{"$f":"Prevalence!Q172*BM175","v":382.56272727272722},{"$f":"Prevalence!R172*BN175","v":395.29636363636359},{"$f":"Prevalence!S172*BO175","v":198.59727272727272},{"$f":"Prevalence!T172*BP175","v":221.13818181818178},{"$f":"Prevalence!U172*BQ175","v":146.16},{"$f":"Prevalence!V172*BR175","v":414.43636363636352},{"$f":"Prevalence!W172*BS175","v":248.87272727272727},{"$f":"Prevalence!X172*BT175","v":145.88318181818181},{"$f":"Prevalence!Y172*BU175","v":32.031818181818181},{"$f":"Prevalence!Z172*BV175","v":191.08363636363632},{"$f":"Prevalence!AA172*BW175","v":25.664999999999999},{"$f":"Prevalence!AB172*BX175","v":1000.8163636363637},{"$f":"Prevalence!AC172*BY175","v":82.491818181818175},{"$f":"Prevalence!AD172*BZ175","v":309.85181818181815},{"$f":"Prevalence!AE172*CA175","v":672.66818181818178},{"$f":"Prevalence!AF172*CB175","v":1174.9745454545453},{"$f":"Prevalence!AG172*CC175","v":476.65454545454543},{"$f":"Prevalence!AH172*CD175","v":97.624545454545455},{"$f":"Prevalence!AI172*CE175","v":233.83227272727271},{"$f":"Prevalence!AJ172*CF175","v":269.48909090909086},{"$f":"Prevalence!AK172*CG175","v":183.29318181818181},{"$f":"Prevalence!AL172*CH175","v":648.7299999999999},{"$f":"Prevalence!AM172*CI175","v":19.77272727272727},{"$f":"Prevalence!AN172*CJ175","v":156.6},{"$f":"Prevalence!AO172*CK175","v":427.4204545454545},{"$f":"Prevalence!AP172*CL175","v":149.60045454545454},{"$f":"Prevalence!AQ172*CM175","v":48.166363636363634},{"$f":"Prevalence!AR172*CN175","v":138.56727272727272},{"$f":"Prevalence!AS172*CO175","v":773.82545454545436},{"$f":"Prevalence!AT172*CP175","v":94.513636363636351},{"$f":"Prevalence!AU172*CQ175","v":235.69090909090906},{"$f":"Prevalence!AV172*CR175","v":298.22545454545457},174,35251,1529,873,1310,2430,1896,3886,6981,2507,4051,6893,100,261,2087,447,1382,1428,837,699,396,1310,590,357,243,604,177,4218,447,1022,2430,3714,1808,322,657,1076,515,2237,100,660,1297,873,261,657,2446,478,596,1414]
["Female 35-39",{"$f":"Prevalence!B173*AX176","v":7670.96},{"$f":"Prevalence!C173*AY176","v":464.70454545454555},{"$f":"Prevalence!D173*AZ176","v":135.77318181818183},{"$f":"Prevalence!E173*BA176","v":377.86909090909091},{"$f":"Prevalence!F173*BB176","v":508.46727272727281},{"$f":"Prevalence!G173*BC176","v":420.42954545454552},{"$f":"Prevalence!H173*BD176","v":810.34227272727287},{"$f":"Prevalence!I173*BE176","v":1308.01},{"$f":"Prevalence!J173*BF176","v":611.21454545454549},{"$f":"Prevalence!K173*BG176","v":974.08136363636356},{"$f":"Prevalence!L173*BH176","v":1146.7277272727272},{"$f":"Prevalence!M173*BI176","v":13.643181818181816},{"$f":"Prevalence!N173*BJ176","v":37.322727272727271},{"$f":"Prevalence!O173*BK176","v":482.5922727272727},{"$f":"Prevalence!P173*BL176","v":73.620909090909095},{"$f":"Prevalence!Q173*BM176","v":219.54545454545456},{"$f":"Prevalence!R173*BN176","v":333.92863636363643},{"$f":"Prevalence!S173*BO176","v":157.32000000000002},{"$f":"Prevalence!T173*BP176","v":207.75272727272727},{"$f":"Prevalence!U173*BQ176","v":118.26181818181819},{"$f":"Prevalence!V173*BR176","v":377.86909090909091},{"$f":"Prevalence!W173*BS176","v":171.95636363636365},{"$f":"Prevalence!X173*BT176","v":142.6},{"$f":"Prevalence!Y173*BU176","v":26.972727272727276},{"$f":"Prevalence!Z173*BV176","v":159.32727272727274},{"$f":"Prevalence!AA173*BW176","v":21.39},{"$f":"Prevalence!AB173*BX176","v":566.42727272727279},{"$f":"Prevalence!AC173*BY176","v":73.620909090909095},{"$f":"Prevalence!AD173*BZ176","v":245.02318181818183},{"$f":"Prevalence!AE173*CA176","v":508.46727272727281},{"$f":"Prevalence!AF173*CB176","v":652.11272727272728},{"$f":"Prevalence!AG173*CC176","v":408.9818181818182},{"$f":"Prevalence!AH173*CD176","v":73.819545454545448},{"$f":"Prevalence!AI173*CE176","v":184.60636363636365},{"$f":"Prevalence!AJ173*CF176","v":232.40454545454546},{"$f":"Prevalence!AK173*CG176","v":173.03318181818182},{"$f":"Prevalence!AL173*CH176","v":509.91},{"$f":"Prevalence!AM173*CI176","v":13.643181818181816},{"$f":"Prevalence!AN173*CJ176","v":123.63545454545456},{"$f":"Prevalence!AO173*CK176","v":310.50000000000006},{"$f":"Prevalence!AP173*CL176","v":135.77318181818183},{"$f":"Prevalence!AQ173*CM176","v":37.322727272727271},{"$f":"Prevalence!AR173*CN176","v":121.27272727272729},{"$f":"Prevalence!AS173*CO176","v":597.9163636363636},{"$f":"Prevalence!AT173*CP176","v":77.154545454545442},{"$f":"Prevalence!AU173*CQ176","v":188.18181818181816},{"$f":"Prevalence!AV173*CR176","v":246.56000000000003},175,33352,1778,999,1506,2316,1915,3691,5687,2784,4051,5773,87,255,2007,503,1000,1521,836,828,404,1506,514,440,258,635,186,3010,503,1019,2316,2599,1956,307,654,1170,613,2217,87,657,1188,999,255,725,2383,492,600,1474]
["Female 40-44",{"$f":"Prevalence!B174*AX177","v":9275.44},{"$f":"Prevalence!C174*AY177","v":626.48863636363649},{"$f":"Prevalence!D174*AZ177","v":196.79636363636365},{"$f":"Prevalence!E174*BA177","v":496.54909090909092},{"$f":"Prevalence!F174*BB177","v":603.53045454545463},{"$f":"Prevalence!G174*BC177","v":500.56363636363642},{"$f":"Prevalence!H174*BD177","v":950.41227272727281},{"$f":"Prevalence!I174*BE177","v":1567.91},{"$f":"Prevalence!J174*BF177","v":796.95},{"$f":"Prevalence!K174*BG177","v":1245.5545454545454},{"$f":"Prevalence!L174*BH177","v":1175.3313636363637},{"$f":"Prevalence!M174*BI177","v":17.406818181818181},{"$f":"Prevalence!N174*BJ177","v":45.372727272727275},{"$f":"Prevalence!O174*BK177","v":606.42636363636359},{"$f":"Prevalence!P174*BL177","v":96.453636363636363},{"$f":"Prevalence!Q174*BM177","v":225.91227272727275},{"$f":"Prevalence!R174*BN177","v":410.76954545454549},{"$f":"Prevalence!S174*BO177","v":192.88636363636365},{"$f":"Prevalence!T174*BP177","v":280.76727272727271},{"$f":"Prevalence!U174*BQ177","v":145.77818181818182},{"$f":"Prevalence!V174*BR177","v":496.54909090909092},{"$f":"Prevalence!W174*BS177","v":182.99636363636367},{"$f":"Prevalence!X174*BT177","v":201.26045454545454},{"$f":"Prevalence!Y174*BU177","v":42.131818181818183},{"$f":"Prevalence!Z174*BV177","v":213.52363636363637},{"$f":"Prevalence!AA174*BW177","v":31.165000000000003},{"$f":"Prevalence!AB174*BX177","v":472.71272727272731},{"$f":"Prevalence!AC174*BY177","v":96.453636363636363},{"$f":"Prevalence!AD174*BZ177","v":305.37727272727273},{"$f":"Prevalence!AE174*CA177","v":603.53045454545463},{"$f":"Prevalence!AF174*CB177","v":674.44363636363641},{"$f":"Prevalence!AG174*CC177","v":525.02727272727282},{"$f":"Prevalence!AH174*CD177","v":104.83818181818181},{"$f":"Prevalence!AI174*CE177","v":233.15727272727273},{"$f":"Prevalence!AJ174*CF177","v":283.85136363636366},{"$f":"Prevalence!AK174*CG177","v":226.66500000000002},{"$f":"Prevalence!AL174*CH177","v":623.30000000000007},{"$f":"Prevalence!AM174*CI177","v":17.406818181818181},{"$f":"Prevalence!AN174*CJ177","v":178.77272727272728},{"$f":"Prevalence!AO174*CK177","v":429.15909090909099},{"$f":"Prevalence!AP174*CL177","v":196.79636363636365},{"$f":"Prevalence!AQ174*CM177","v":45.372727272727275},{"$f":"Prevalence!AR174*CN177","v":162.75636363636366},{"$f":"Prevalence!AS174*CO177","v":766.5272727272727},{"$f":"Prevalence!AT174*CP177","v":80.290909090909082},{"$f":"Prevalence!AU174*CQ177","v":248.39999999999998},{"$f":"Prevalence!AV174*CR177","v":289.04727272727274},176,40328,2397,1448,1979,2749,2280,4329,6817,3630,5180,5917,111,310,2522,659,1029,1871,1025,1119,498,1979,547,621,403,851,271,2512,659,1270,2749,2688,2511,436,826,1429,803,2710,111,950,1642,1448,310,973,3055,512,792,1728]
["Female 45-49",{"$f":"Prevalence!B175*AX178","v":9274.32},{"$f":"Prevalence!C175*AY178","v":647.75},{"$f":"Prevalence!D175*AZ178","v":194.61},{"$f":"Prevalence!E175*BA178","v":572.4},{"$f":"Prevalence!F175*BB178","v":604.80000000000007},{"$f":"Prevalence!G175*BC178","v":484.47},{"$f":"Prevalence!H175*BD178","v":965.37000000000012},{"$f":"Prevalence!I175*BE178","v":1497.1},{"$f":"Prevalence!J175*BF178","v":895.23000000000013},{"$f":"Prevalence!K175*BG178","v":1228.1999999999998},{"$f":"Prevalence!L175*BH178","v":1068.75},{"$f":"Prevalence!M175*BI178","v":23.7},{"$f":"Prevalence!N175*BJ178","v":44.66},{"$f":"Prevalence!O175*BK178","v":634.1099999999999},{"$f":"Prevalence!P175*BL178","v":88.47999999999999},{"$f":"Prevalence!Q175*BM178","v":224.28000000000003},{"$f":"Prevalence!R175*BN178","v":428.61},{"$f":"Prevalence!S175*BO178","v":193.32000000000002},{"$f":"Prevalence!T175*BP178","v":321.36},{"$f":"Prevalence!U175*BQ178","v":146.44},{"$f":"Prevalence!V175*BR178","v":572.4},{"$f":"Prevalence!W175*BS178","v":210.24},{"$f":"Prevalence!X175*BT178","v":198.09},{"$f":"Prevalence!Y175*BU178","v":34},{"$f":"Prevalence!Z175*BV178","v":192.48},{"$f":"Prevalence!AA175*BW178","v":29.37},{"$f":"Prevalence!AB175*BX178","v":420.12000000000006},{"$f":"Prevalence!AC175*BY178","v":88.47999999999999},{"$f":"Prevalence!AD175*BZ178","v":279.67999999999995},{"$f":"Prevalence!AE175*CA178","v":604.80000000000007},{"$f":"Prevalence!AF175*CB178","v":622.55999999999995},{"$f":"Prevalence!AG175*CC178","v":584.79999999999995},{"$f":"Prevalence!AH175*CD178","v":120.74999999999999},{"$f":"Prevalence!AI175*CE178","v":235.98000000000002},{"$f":"Prevalence!AJ175*CF178","v":282.72000000000003},{"$f":"Prevalence!AK175*CG178","v":239.76000000000002},{"$f":"Prevalence!AL175*CH178","v":595.1},{"$f":"Prevalence!AM175*CI178","v":23.7},{"$f":"Prevalence!AN175*CJ178","v":184.68000000000004},{"$f":"Prevalence!AO175*CK178","v":413.25},{"$f":"Prevalence!AP175*CL178","v":194.61},{"$f":"Prevalence!AQ175*CM178","v":44.66},{"$f":"Prevalence!AR175*CN178","v":170.24},{"$f":"Prevalence!AS175*CO178","v":770.4},{"$f":"Prevalence!AT175*CP178","v":85.2},{"$f":"Prevalence!AU175*CQ178","v":255.29999999999998},{"$f":"Prevalence!AV175*CR178","v":258.39999999999998},177,42156,2591,1497,2385,2880,2307,4597,6805,4263,5340,5625,158,319,2757,632,1068,2041,1074,1339,523,2385,657,639,340,802,267,2334,632,1216,2880,2594,2924,525,874,1488,888,2705,158,1026,1653,1497,319,1064,3210,568,851,1615]
["Female 50-54",{"$f":"Prevalence!B176*AX179","v":8666.68},{"$f":"Prevalence!C176*AY179","v":627.75},{"$f":"Prevalence!D176*AZ179","v":190.45000000000002},{"$f":"Prevalence!E176*BA179","v":534.24},{"$f":"Prevalence!F176*BB179","v":557.55000000000007},{"$f":"Prevalence!G176*BC179","v":431.97},{"$f":"Prevalence!H176*BD179","v":858.48000000000013},{"$f":"Prevalence!I176*BE179","v":1405.58},{"$f":"Prevalence!J176*BF179","v":858.06000000000006},{"$f":"Prevalence!K176*BG179","v":1137.1199999999999},{"$f":"Prevalence!L176*BH179","v":985.34},{"$f":"Prevalence!M176*BI179","v":19.349999999999998},{"$f":"Prevalence!N176*BJ179","v":43.4},{"$f":"Prevalence!O176*BK179","v":629.04999999999995},{"$f":"Prevalence!P176*BL179","v":85.82},{"$f":"Prevalence!Q176*BM179","v":211.26000000000002},{"$f":"Prevalence!R176*BN179","v":382.62000000000006},{"$f":"Prevalence!S176*BO179","v":204.84000000000003},{"$f":"Prevalence!T176*BP179","v":298.8},{"$f":"Prevalence!U176*BQ179","v":126.27999999999999},{"$f":"Prevalence!V176*BR179","v":534.24},{"$f":"Prevalence!W176*BS179","v":208},{"$f":"Prevalence!X176*BT179","v":185.69},{"$f":"Prevalence!Y176*BU179","v":34.599999999999994},{"$f":"Prevalence!Z176*BV179","v":195.35999999999999},{"$f":"Prevalence!AA176*BW179","v":29.81},{"$f":"Prevalence!AB176*BX179","v":391.68000000000006},{"$f":"Prevalence!AC176*BY179","v":85.82},{"$f":"Prevalence!AD176*BZ179","v":256.45},{"$f":"Prevalence!AE176*CA179","v":557.55000000000007},{"$f":"Prevalence!AF176*CB179","v":570.72},{"$f":"Prevalence!AG176*CC179","v":568.19999999999993},{"$f":"Prevalence!AH176*CD179","v":126.49999999999999},{"$f":"Prevalence!AI176*CE179","v":207.9},{"$f":"Prevalence!AJ176*CF179","v":239.4},{"$f":"Prevalence!AK176*CG179","v":229.50000000000003},{"$f":"Prevalence!AL176*CH179","v":541.20000000000005},{"$f":"Prevalence!AM176*CI179","v":19.349999999999998},{"$f":"Prevalence!AN176*CJ179","v":170.46},{"$f":"Prevalence!AO176*CK179","v":355.5},{"$f":"Prevalence!AP176*CL179","v":190.45000000000002},{"$f":"Prevalence!AQ176*CM179","v":43.4},{"$f":"Prevalence!AR176*CN179","v":169.92000000000002},{"$f":"Prevalence!AS176*CO179","v":741.83999999999992},{"$f":"Prevalence!AT176*CP179","v":73.649999999999991},{"$f":"Prevalence!AU176*CQ179","v":244.5},{"$f":"Prevalence!AV176*CR179","v":228.16},178,39394,2511,1465,2226,2655,2057,4088,6389,4086,4944,5186,129,310,2735,613,1006,1822,1138,1245,451,2226,650,599,346,814,271,2176,613,1115,2655,2378,2841,550,770,1260,850,2460,129,947,1422,1465,310,1062,3091,491,815,1426]
["Female 55-59",{"$f":"Prevalence!B177*AX180","v":7727.06},{"$f":"Prevalence!C177*AY180","v":571.75},{"$f":"Prevalence!D177*AZ180","v":173.03},{"$f":"Prevalence!E177*BA180","v":516},{"$f":"Prevalence!F177*BB180","v":511.77000000000004},{"$f":"Prevalence!G177*BC180","v":377.16},{"$f":"Prevalence!H177*BD180","v":823.2},{"$f":"Prevalence!I177*BE180","v":1194.5999999999999},{"$f":"Prevalence!J177*BF180","v":821.94},{"$f":"Prevalence!K177*BG180","v":970.82999999999993},{"$f":"Prevalence!L177*BH180","v":800.66},{"$f":"Prevalence!M177*BI180","v":18.3},{"$f":"Prevalence!N177*BJ180","v":43.959999999999994},{"$f":"Prevalence!O177*BK180","v":545.55999999999995},{"$f":"Prevalence!P177*BL180","v":86.1},{"$f":"Prevalence!Q177*BM180","v":209.58},{"$f":"Prevalence!R177*BN180","v":375.69000000000005},{"$f":"Prevalence!S177*BO180","v":182.52},{"$f":"Prevalence!T177*BP180","v":294.95999999999998},{"$f":"Prevalence!U177*BQ180","v":112.55999999999999},{"$f":"Prevalence!V177*BR180","v":516},{"$f":"Prevalence!W177*BS180","v":164.48},{"$f":"Prevalence!X177*BT180","v":173.6},{"$f":"Prevalence!Y177*BU180","v":34.299999999999997},{"$f":"Prevalence!Z177*BV180","v":157.44},{"$f":"Prevalence!AA177*BW180","v":24.97},{"$f":"Prevalence!AB177*BX180","v":318.42},{"$f":"Prevalence!AC177*BY180","v":86.1},{"$f":"Prevalence!AD177*BZ180","v":224.70999999999998},{"$f":"Prevalence!AE177*CA180","v":511.77000000000004},{"$f":"Prevalence!AF177*CB180","v":460.79999999999995},{"$f":"Prevalence!AG177*CC180","v":537},{"$f":"Prevalence!AH177*CD180","v":98.899999999999991},{"$f":"Prevalence!AI177*CE180","v":190.62},{"$f":"Prevalence!AJ177*CF180","v":215.27},{"$f":"Prevalence!AK177*CG180","v":221.94000000000003},{"$f":"Prevalence!AL177*CH180","v":469.7},{"$f":"Prevalence!AM177*CI180","v":18.3},{"$f":"Prevalence!AN177*CJ180","v":151.92000000000002},{"$f":"Prevalence!AO177*CK180","v":303.75},{"$f":"Prevalence!AP177*CL180","v":173.03},{"$f":"Prevalence!AQ177*CM180","v":43.959999999999994},{"$f":"Prevalence!AR177*CN180","v":144.80000000000001},{"$f":"Prevalence!AS177*CO180","v":631.43999999999994},{"$f":"Prevalence!AT177*CP180","v":62.55},{"$f":"Prevalence!AU177*CQ180","v":225},{"$f":"Prevalence!AV177*CR180","v":173.28},179,35123,2287,1331,2150,2437,1796,3920,5430,3914,4221,4214,122,314,2372,615,998,1789,1014,1229,402,2150,514,560,343,656,227,1769,615,977,2437,1920,2685,430,706,1133,822,2135,122,844,1215,1331,314,905,2631,417,750,1083]
["Female 60-64",{"$f":"Prevalence!B178*AX181","v":7450.96},{"$f":"Prevalence!C178*AY181","v":547.25},{"$f":"Prevalence!D178*AZ181","v":180.05},{"$f":"Prevalence!E178*BA181","v":533.04},{"$f":"Prevalence!F178*BB181","v":499.80000000000007},{"$f":"Prevalence!G178*BC181","v":379.05},{"$f":"Prevalence!H178*BD181","v":800.1},{"$f":"Prevalence!I178*BE181","v":1046.98},{"$f":"Prevalence!J178*BF181","v":862.05000000000007},{"$f":"Prevalence!K178*BG181","v":856.74999999999989},{"$f":"Prevalence!L178*BH181","v":777.86},{"$f":"Prevalence!M178*BI181","v":19.649999999999999},{"$f":"Prevalence!N178*BJ181","v":40.599999999999994},{"$f":"Prevalence!O178*BK181","v":539.57999999999993},{"$f":"Prevalence!P178*BL181","v":87.919999999999987},{"$f":"Prevalence!Q178*BM181","v":202.23000000000002},{"$f":"Prevalence!R178*BN181","v":359.31000000000006},{"$f":"Prevalence!S178*BO181","v":177.3},{"$f":"Prevalence!T178*BP181","v":329.76},{"$f":"Prevalence!U178*BQ181","v":105.83999999999999},{"$f":"Prevalence!V178*BR181","v":533.04},{"$f":"Prevalence!W178*BS181","v":166.08},{"$f":"Prevalence!X178*BT181","v":157.47999999999999},{"$f":"Prevalence!Y178*BU181","v":29.599999999999998},{"$f":"Prevalence!Z178*BV181","v":154.79999999999998},{"$f":"Prevalence!AA178*BW181","v":26.29},{"$f":"Prevalence!AB178*BX181","v":278.82000000000005},{"$f":"Prevalence!AC178*BY181","v":87.919999999999987},{"$f":"Prevalence!AD178*BZ181","v":237.58999999999997},{"$f":"Prevalence!AE178*CA181","v":499.80000000000007},{"$f":"Prevalence!AF178*CB181","v":355.2},{"$f":"Prevalence!AG178*CC181","v":546.19999999999993},{"$f":"Prevalence!AH178*CD181","v":87.86},{"$f":"Prevalence!AI178*CE181","v":215.46},{"$f":"Prevalence!AJ178*CF181","v":215.84},{"$f":"Prevalence!AK178*CG181","v":200.34},{"$f":"Prevalence!AL178*CH181","v":423.06},{"$f":"Prevalence!AM178*CI181","v":19.649999999999999},{"$f":"Prevalence!AN178*CJ181","v":151.56000000000003},{"$f":"Prevalence!AO178*CK181","v":299},{"$f":"Prevalence!AP178*CL181","v":180.05},{"$f":"Prevalence!AQ178*CM181","v":40.599999999999994},{"$f":"Prevalence!AR178*CN181","v":150.24},{"$f":"Prevalence!AS178*CO181","v":547.67999999999995},{"$f":"Prevalence!AT178*CP181","v":59.099999999999994},{"$f":"Prevalence!AU178*CQ181","v":205.79999999999998},{"$f":"Prevalence!AV178*CR181","v":176.32},180,33868,2189,1385,2221,2380,1805,3810,4759,4105,3725,4094,131,290,2346,628,963,1711,985,1374,378,2221,519,508,296,645,239,1549,628,1033,2380,1480,2731,382,798,1136,742,1923,131,842,1196,1385,290,939,2282,394,686,1102]
["Female 65-69",{"$f":"Prevalence!B179*AX182","v":5314.2000000000007},{"$f":"Prevalence!C179*AY182","v":440.84090909090912},{"$f":"Prevalence!D179*AZ182","v":133.30318181818183},{"$f":"Prevalence!E179*BA182","v":399.65454545454543},{"$f":"Prevalence!F179*BB182","v":358.94727272727278},{"$f":"Prevalence!G179*BC182","v":253.14545454545458},{"$f":"Prevalence!H179*BD182","v":568.60363636363638},{"$f":"Prevalence!I179*BE182","v":703.97},{"$f":"Prevalence!J179*BF182","v":595.21636363636367},{"$f":"Prevalence!K179*BG182","v":636.26363636363635},{"$f":"Prevalence!L179*BH182","v":522.67272727272723},{"$f":"Prevalence!M179*BI182","v":15.415909090909091},{"$f":"Prevalence!N179*BJ182","v":31.913636363636364},{"$f":"Prevalence!O179*BK182","v":397.75363636363636},{"$f":"Prevalence!P179*BL182","v":65.45},{"$f":"Prevalence!Q179*BM182","v":134.03727272727275},{"$f":"Prevalence!R179*BN182","v":249.41318181818184},{"$f":"Prevalence!S179*BO182","v":132.41454545454548},{"$f":"Prevalence!T179*BP182","v":229.03636363636363},{"$f":"Prevalence!U179*BQ182","v":75.078181818181818},{"$f":"Prevalence!V179*BR182","v":399.65454545454543},{"$f":"Prevalence!W179*BS182","v":111.52000000000001},{"$f":"Prevalence!X179*BT182","v":138.45727272727277},{"$f":"Prevalence!Y179*BU182","v":20.940909090909091},{"$f":"Prevalence!Z179*BV182","v":109.97454545454545},{"$f":"Prevalence!AA179*BW182","v":15.045000000000002},{"$f":"Prevalence!AB179*BX182","v":186.3818181818182},{"$f":"Prevalence!AC179*BY182","v":65.45},{"$f":"Prevalence!AD179*BZ182","v":147.69136363636363},{"$f":"Prevalence!AE179*CA182","v":358.94727272727278},{"$f":"Prevalence!AF179*CB182","v":237.01090909090908},{"$f":"Prevalence!AG179*CC182","v":376.0090909090909},{"$f":"Prevalence!AH179*CD182","v":62.382272727272728},{"$f":"Prevalence!AI179*CE182","v":138.74318181818182},{"$f":"Prevalence!AJ179*CF182","v":167.51954545454547},{"$f":"Prevalence!AK179*CG182","v":159.39818181818183},{"$f":"Prevalence!AL179*CH182","v":300.56},{"$f":"Prevalence!AM179*CI182","v":15.415909090909091},{"$f":"Prevalence!AN179*CJ182","v":116.14090909090909},{"$f":"Prevalence!AO179*CK182","v":212.30681818181822},{"$f":"Prevalence!AP179*CL182","v":133.30318181818183},{"$f":"Prevalence!AQ179*CM182","v":31.913636363636364},{"$f":"Prevalence!AR179*CN182","v":116.21818181818183},{"$f":"Prevalence!AS179*CO182","v":411.52363636363634},{"$f":"Prevalence!AT179*CP182","v":44.277272727272724},{"$f":"Prevalence!AU179*CQ182","v":129.35454545454544},{"$f":"Prevalence!AV179*CR182","v":118.93818181818183},181,31260,2282,1327,2155,2212,1560,3504,4141,3668,3580,3560,133,295,2238,605,826,1537,952,1235,347,2155,451,578,271,593,177,1340,605,831,2212,1278,2433,351,665,1141,764,1768,133,835,1099,1327,295,940,2219,382,558,962]
["Female 70-74",{"$f":"Prevalence!B180*AX183","v":4243.37},{"$f":"Prevalence!C180*AY183","v":334.97727272727275},{"$f":"Prevalence!D180*AZ183","v":101.05727272727273},{"$f":"Prevalence!E180*BA183","v":306.37090909090909},{"$f":"Prevalence!F180*BB183","v":281.21863636363639},{"$f":"Prevalence!G180*BC183","v":214.36227272727274},{"$f":"Prevalence!H180*BD183","v":454.68818181818187},{"$f":"Prevalence!I180*BE183","v":573.92000000000007},{"$f":"Prevalence!J180*BF183","v":472.37590909090915},{"$f":"Prevalence!K180*BG183","v":519.49681818181818},{"$f":"Prevalence!L180*BH183","v":430.91136363636366},{"$f":"Prevalence!M180*BI183","v":14.720454545454546},{"$f":"Prevalence!N180*BJ183","v":22.718181818181819},{"$f":"Prevalence!O180*BK183","v":312.44454545454545},{"$f":"Prevalence!P180*BL183","v":51.17},{"$f":"Prevalence!Q180*BM183","v":108.56045454545456},{"$f":"Prevalence!R180*BN183","v":206.08636363636367},{"$f":"Prevalence!S180*BO183","v":91.243636363636369},{"$f":"Prevalence!T180*BP183","v":188.23636363636365},{"$f":"Prevalence!U180*BQ183","v":50.412727272727274},{"$f":"Prevalence!V180*BR183","v":306.37090909090909},{"$f":"Prevalence!W180*BS183","v":103.36000000000001},{"$f":"Prevalence!X180*BT183","v":97.015909090909105},{"$f":"Prevalence!Y180*BU183","v":13.368181818181817},{"$f":"Prevalence!Z180*BV183","v":93.098181818181814},{"$f":"Prevalence!AA180*BW183","v":13.770000000000001},{"$f":"Prevalence!AB180*BX183","v":155.36454545454546},{"$f":"Prevalence!AC180*BY183","v":51.17},{"$f":"Prevalence!AD180*BZ183","v":136.49454545454546},{"$f":"Prevalence!AE180*CA183","v":281.21863636363639},{"$f":"Prevalence!AF180*CB183","v":197.13818181818181},{"$f":"Prevalence!AG180*CC183","v":293.0181818181818},{"$f":"Prevalence!AH180*CD183","v":48.341818181818184},{"$f":"Prevalence!AI180*CE183","v":114.12409090909091},{"$f":"Prevalence!AJ180*CF183","v":126.70409090909091},{"$f":"Prevalence!AK180*CG183","v":131.44090909090909},{"$f":"Prevalence!AL180*CH183","v":237.49},{"$f":"Prevalence!AM180*CI183","v":14.720454545454546},{"$f":"Prevalence!AN180*CJ183","v":95.13818181818182},{"$f":"Prevalence!AO180*CK183","v":172.12500000000003},{"$f":"Prevalence!AP180*CL183","v":101.05727272727273},{"$f":"Prevalence!AQ180*CM183","v":22.718181818181819},{"$f":"Prevalence!AR180*CN183","v":86.421818181818196},{"$f":"Prevalence!AS180*CO183","v":346.05818181818182},{"$f":"Prevalence!AT180*CP183","v":37.090909090909093},{"$f":"Prevalence!AU180*CQ183","v":110.11363636363636},{"$f":"Prevalence!AV180*CR183","v":95.076363636363652},182,24961,1734,1006,1652,1733,1321,2802,3376,2911,2923,2935,127,210,1758,473,669,1270,656,1015,233,1652,418,405,173,502,162,1117,473,768,1733,1063,1896,272,547,863,630,1397,127,684,891,1006,210,699,1866,320,475,769]
["Female 75-79",{"$f":"Prevalence!B181*AX184","v":1659.68},{"$f":"Prevalence!C181*AY184","v":117.90909090909093},{"$f":"Prevalence!D181*AZ184","v":41.127272727272732},{"$f":"Prevalence!E181*BA184","v":118.4290909090909},{"$f":"Prevalence!F181*BB184","v":109.58181818181819},{"$f":"Prevalence!G181*BC184","v":79.952727272727273},{"$f":"Prevalence!H181*BD184","v":184.41818181818184},{"$f":"Prevalence!I181*BE184","v":242.72},{"$f":"Prevalence!J181*BF184","v":171.51272727272729},{"$f":"Prevalence!K181*BG184","v":207.25090909090909},{"$f":"Prevalence!L181*BH184","v":164.16},{"$f":"Prevalence!M181*BI184","v":3.9818181818181815},{"$f":"Prevalence!N181*BJ184","v":9.2654545454545456},{"$f":"Prevalence!O181*BK184","v":130.05454545454546},{"$f":"Prevalence!P181*BL184","v":19.396363636363638},{"$f":"Prevalence!Q181*BM184","v":52.614545454545457},{"$f":"Prevalence!R181*BN184","v":78.27272727272728},{"$f":"Prevalence!S181*BO184","v":37.963636363636368},{"$f":"Prevalence!T181*BP184","v":69.556363636363628},{"$f":"Prevalence!U181*BQ184","v":18.42909090909091},{"$f":"Prevalence!V181*BR184","v":118.4290909090909},{"$f":"Prevalence!W181*BS184","v":45.614545454545457},{"$f":"Prevalence!X181*BT184","v":35.058181818181822},{"$f":"Prevalence!Y181*BU184","v":5.963636363636363},{"$f":"Prevalence!Z181*BV184","v":39.709090909090904},{"$f":"Prevalence!AA181*BW184","v":6.76},{"$f":"Prevalence!AB181*BX184","v":61.658181818181824},{"$f":"Prevalence!AC181*BY184","v":19.396363636363638},{"$f":"Prevalence!AD181*BZ184","v":50.098181818181814},{"$f":"Prevalence!AE181*CA184","v":109.58181818181819},{"$f":"Prevalence!AF181*CB184","v":87.534545454545452},{"$f":"Prevalence!AG181*CC184","v":105.38181818181818},{"$f":"Prevalence!AH181*CD184","v":17.229090909090907},{"$f":"Prevalence!AI181*CE184","v":47.52},{"$f":"Prevalence!AJ181*CF184","v":48.43272727272727},{"$f":"Prevalence!AK181*CG184","v":45.163636363636364},{"$f":"Prevalence!AL181*CH184","v":93.12},{"$f":"Prevalence!AM181*CI184","v":3.9818181818181815},{"$f":"Prevalence!AN181*CJ184","v":38.160000000000004},{"$f":"Prevalence!AO181*CK184","v":70.181818181818201},{"$f":"Prevalence!AP181*CL184","v":41.127272727272732},{"$f":"Prevalence!AQ181*CM184","v":9.2654545454545456},{"$f":"Prevalence!AR181*CN184","v":30.603636363636365},{"$f":"Prevalence!AS181*CO184","v":140.85818181818181},{"$f":"Prevalence!AT181*CP184","v":14.563636363636363},{"$f":"Prevalence!AU181*CQ184","v":45.818181818181813},{"$f":"Prevalence!AV181*CR184","v":28.8},183,20746,1297,870,1357,1435,1047,2415,3034,2246,2478,2376,73,182,1555,381,689,1025,580,797,181,1357,392,311,164,455,169,942,381,599,1435,1003,1449,206,484,701,460,1164,73,583,772,870,182,526,1614,267,420,495]
["Female 80-84",{"$f":"Prevalence!B182*AX185","v":1250.6400000000001},{"$f":"Prevalence!C182*AY185","v":81.27272727272728},{"$f":"Prevalence!D182*AZ185","v":30.349090909090911},{"$f":"Prevalence!E182*BA185","v":88.23272727272726},{"$f":"Prevalence!F182*BB185","v":80.258181818181825},{"$f":"Prevalence!G182*BC185","v":56.967272727272729},{"$f":"Prevalence!H182*BD185","v":142.72363636363639},{"$f":"Prevalence!I182*BE185","v":178.72},{"$f":"Prevalence!J182*BF185","v":127.98545454545456},{"$f":"Prevalence!K182*BG185","v":155.98181818181817},{"$f":"Prevalence!L182*BH185","v":130.23636363636365},{"$f":"Prevalence!M182*BI185","v":3.2181818181818178},{"$f":"Prevalence!N182*BJ185","v":5.2945454545454549},{"$f":"Prevalence!O182*BK185","v":108.05818181818181},{"$f":"Prevalence!P182*BL185","v":15.527272727272727},{"$f":"Prevalence!Q182*BM185","v":44.596363636363641},{"$f":"Prevalence!R182*BN185","v":59.640000000000008},{"$f":"Prevalence!S182*BO185","v":31.221818181818183},{"$f":"Prevalence!T182*BP185","v":53.149090909090901},{"$f":"Prevalence!U182*BQ185","v":12.930909090909092},{"$f":"Prevalence!V182*BR185","v":88.23272727272726},{"$f":"Prevalence!W182*BS185","v":38.981818181818184},{"$f":"Prevalence!X182*BT185","v":19.501818181818184},{"$f":"Prevalence!Y182*BU185","v":4.3636363636363633},{"$f":"Prevalence!Z182*BV185","v":34.036363636363632},{"$f":"Prevalence!AA182*BW185","v":4.72},{"$f":"Prevalence!AB182*BX185","v":52.167272727272731},{"$f":"Prevalence!AC182*BY185","v":15.527272727272727},{"$f":"Prevalence!AD182*BZ185","v":35.879999999999995},{"$f":"Prevalence!AE182*CA185","v":80.258181818181825},{"$f":"Prevalence!AF182*CB185","v":67.199999999999989},{"$f":"Prevalence!AG182*CC185","v":77.599999999999994},{"$f":"Prevalence!AH182*CD185","v":13.967272727272727},{"$f":"Prevalence!AI182*CE185","v":33.087272727272733},{"$f":"Prevalence!AJ182*CF185","v":34.82181818181818},{"$f":"Prevalence!AK182*CG185","v":35.24727272727273},{"$f":"Prevalence!AL182*CH185","v":70.239999999999995},{"$f":"Prevalence!AM182*CI185","v":3.2181818181818178},{"$f":"Prevalence!AN182*CJ185","v":31.418181818181822},{"$f":"Prevalence!AO182*CK185","v":49.363636363636374},{"$f":"Prevalence!AP182*CL185","v":30.349090909090911},{"$f":"Prevalence!AQ182*CM185","v":5.2945454545454549},{"$f":"Prevalence!AR182*CN185","v":21.061818181818182},{"$f":"Prevalence!AS182*CO185","v":104.37818181818182},{"$f":"Prevalence!AT182*CP185","v":10.363636363636363},{"$f":"Prevalence!AU182*CQ185","v":33.490909090909092},{"$f":"Prevalence!AV182*CR185","v":21.003636363636364},184,15633,894,642,1011,1051,746,1869,2234,1676,1865,1885,59,104,1292,305,584,781,477,609,127,1011,335,173,120,390,118,797,305,429,1051,770,1067,167,337,504,359,878,59,480,543,642,104,362,1196,190,307,361]
["Female 85-89",{"$f":"Prevalence!B183*AX186","v":784.64},{"$f":"Prevalence!C183*AY186","v":49.000000000000007},{"$f":"Prevalence!D183*AZ186","v":18.625454545454549},{"$f":"Prevalence!E183*BA186","v":54.632727272727266},{"$f":"Prevalence!F183*BB186","v":56.20363636363637},{"$f":"Prevalence!G183*BC186","v":33.141818181818188},{"$f":"Prevalence!H183*BD186","v":88.581818181818193},{"$f":"Prevalence!I183*BE186","v":117.04},{"$f":"Prevalence!J183*BF186","v":78.043636363636367},{"$f":"Prevalence!K183*BG186","v":90.076363636363638},{"$f":"Prevalence!L183*BH186","v":82.010909090909095},{"$f":"Prevalence!M183*BI186","v":1.7454545454545454},{"$f":"Prevalence!N183*BJ186","v":3.3090909090909091},{"$f":"Prevalence!O183*BK186","v":74.101818181818174},{"$f":"Prevalence!P183*BL186","v":9.52},{"$f":"Prevalence!Q183*BM186","v":27.261818181818185},{"$f":"Prevalence!R183*BN186","v":39.938181818181825},{"$f":"Prevalence!S183*BO186","v":20.880000000000003},{"$f":"Prevalence!T183*BP186","v":31.330909090909088},{"$f":"Prevalence!U183*BQ186","v":9.4690909090909088},{"$f":"Prevalence!V183*BR186","v":54.632727272727266},{"$f":"Prevalence!W183*BS186","v":29.789090909090909},{"$f":"Prevalence!X183*BT186","v":12.061818181818182},{"$f":"Prevalence!Y183*BU186","v":3.1999999999999997},{"$f":"Prevalence!Z183*BV186","v":20.683636363636364},{"$f":"Prevalence!AA183*BW186","v":3.8000000000000003},{"$f":"Prevalence!AB183*BX186","v":34.298181818181824},{"$f":"Prevalence!AC183*BY186","v":9.52},{"$f":"Prevalence!AD183*BZ186","v":19.152727272727272},{"$f":"Prevalence!AE183*CA186","v":56.20363636363637},{"$f":"Prevalence!AF183*CB186","v":41.454545454545453},{"$f":"Prevalence!AG183*CC186","v":48.218181818181819},{"$f":"Prevalence!AH183*CD186","v":7.6945454545454544},{"$f":"Prevalence!AI183*CE186","v":20.814545454545456},{"$f":"Prevalence!AJ183*CF186","v":19.345454545454544},{"$f":"Prevalence!AK183*CG186","v":20.814545454545456},{"$f":"Prevalence!AL183*CH186","v":36.800000000000004},{"$f":"Prevalence!AM183*CI186","v":1.7454545454545454},{"$f":"Prevalence!AN183*CJ186","v":20.356363636363639},{"$f":"Prevalence!AO183*CK186","v":33.727272727272734},{"$f":"Prevalence!AP183*CL186","v":18.625454545454549},{"$f":"Prevalence!AQ183*CM186","v":3.3090909090909091},{"$f":"Prevalence!AR183*CN186","v":12.8},{"$f":"Prevalence!AS183*CO186","v":67.985454545454544},{"$f":"Prevalence!AT183*CP186","v":6.1090909090909085},{"$f":"Prevalence!AU183*CQ186","v":19.636363636363637},{"$f":"Prevalence!AV183*CR186","v":12.450909090909091},185,9808,539,394,626,736,434,1160,1463,1022,1077,1187,32,65,886,187,357,523,319,359,93,626,256,107,88,237,95,524,187,229,736,475,663,92,212,280,212,460,32,311,371,394,65,220,779,112,180,214]
["Female 90+",{"$f":"Prevalence!B184*AX187","v":443.52},{"$f":"Prevalence!C184*AY187","v":28.272727272727277},{"$f":"Prevalence!D184*AZ187","v":9.8327272727272739},{"$f":"Prevalence!E184*BA187","v":30.632727272727269},{"$f":"Prevalence!F184*BB187","v":30.850909090909095},{"$f":"Prevalence!G184*BC187","v":18.174545454545456},{"$f":"Prevalence!H184*BD187","v":49.483636363636364},{"$f":"Prevalence!I184*BE187","v":70.8},{"$f":"Prevalence!J184*BF187","v":46.2},{"$f":"Prevalence!K184*BG187","v":52.189090909090908},{"$f":"Prevalence!L184*BH187","v":42.905454545454546},{"$f":"Prevalence!M184*BI187","v":1.0909090909090908},{"$f":"Prevalence!N184*BJ187","v":2.3418181818181818},{"$f":"Prevalence!O184*BK187","v":40.229090909090907},{"$f":"Prevalence!P184*BL187","v":5.1927272727272733},{"$f":"Prevalence!Q184*BM187","v":13.821818181818182},{"$f":"Prevalence!R184*BN187","v":24.054545454545455},{"$f":"Prevalence!S184*BO187","v":11.25818181818182},{"$f":"Prevalence!T184*BP187","v":22.516363636363636},{"$f":"Prevalence!U184*BQ187","v":5.3963636363636365},{"$f":"Prevalence!V184*BR187","v":30.632727272727269},{"$f":"Prevalence!W184*BS187","v":15.709090909090909},{"$f":"Prevalence!X184*BT187","v":6.9890909090909092},{"$f":"Prevalence!Y184*BU187","v":1.8181818181818181},{"$f":"Prevalence!Z184*BV187","v":13.614545454545453},{"$f":"Prevalence!AA184*BW187","v":2.84},{"$f":"Prevalence!AB184*BX187","v":17.672727272727276},{"$f":"Prevalence!AC184*BY187","v":5.1927272727272733},{"$f":"Prevalence!AD184*BZ187","v":9.1999999999999993},{"$f":"Prevalence!AE184*CA187","v":30.850909090909095},{"$f":"Prevalence!AF184*CB187","v":22.95272727272727},{"$f":"Prevalence!AG184*CC187","v":25.236363636363635},{"$f":"Prevalence!AH184*CD187","v":3.7636363636363637},{"$f":"Prevalence!AI184*CE187","v":10.8},{"$f":"Prevalence!AJ184*CF187","v":10.501818181818182},{"$f":"Prevalence!AK184*CG187","v":14.334545454545456},{"$f":"Prevalence!AL184*CH187","v":21.52},{"$f":"Prevalence!AM184*CI187","v":1.0909090909090908},{"$f":"Prevalence!AN184*CJ187","v":11.38909090909091},{"$f":"Prevalence!AO184*CK187","v":25.54545454545455},{"$f":"Prevalence!AP184*CL187","v":9.8327272727272739},{"$f":"Prevalence!AQ184*CM187","v":2.3418181818181818},{"$f":"Prevalence!AR184*CN187","v":5.9927272727272731},{"$f":"Prevalence!AS184*CO187","v":37.61454545454545},{"$f":"Prevalence!AT184*CP187","v":4.0909090909090908},{"$f":"Prevalence!AU184*CQ187","v":10.799999999999999},{"$f":"Prevalence!AV184*CR187","v":4.9454545454545453},186,5544,311,208,351,404,238,648,885,605,624,621,20,46,481,102,181,315,172,258,53,351,135,62,50,156,71,270,102,110,404,263,347,45,110,152,146,269,20,174,281,208,46,103,431,75,99,85]
["age/sex breakdown: Q4",null,null,null,null,null,null,null,null,null,null,null,null,null,null,null,null,null,null,null,null,null,null,null,null,null,null,null,null,null,null,null,null,null,null,null,null,null,null,null,null,null,null,null,null,null,null,null,187]
["Male <1",null,null,null,null,null,null,null,null,null,null,null,null,null,null,null,null,null,null,null,null,null,null,null,null,null,null,null,null,null,null,null,null,null,null,null,null,null,null,null,null,null,null,null,null,null,null,null,188]
["Male 1-4",null,null,null,null,null,null,null,null,null,null,null,null,null,null,null,null,null,null,null,null,null,null,null,null,null,null,null,null,null,null,null,null,null,null,null,null,null,null,null,null,null,null,null,null,null,null,null,189]
["Male 5-9",null,null,null,null,null,null,null,null,null,null,null,null,null,null,null,null,null,null,null,null,null,null,null,null,null,null,null,null,null,null,null,null,null,null,null,null,null,null,null,null,null,null,null,null,null,null,null,190]
["Male 10-14",null,null,null,null,null,null,null,null,null,null,null,null,null,null,null,null,null,null,null,null,null,null,null,null,null,null,null,null,null,null,null,null,null,null,null,null,null,null,null,null,null,null,null,null,null,null,null,191]
["Male 15-19 (16+)",{"$f":"Prevalence!B190*AX193","v":5279.6},{"$f":"Prevalence!C190*AY193","v":357.79166666666669},{"$f":"Prevalence!D190*AZ193","v":177.33333333333334},{"$f":"Prevalence!E190*BA193","v":184.16666666666669},{"$f":"Prevalence!F190*BB193","v":357.40000000000003},{"$f":"Prevalence!G190*BC193","v":206},{"$f":"Prevalence!H190*BD193","v":815.31666666666672},{"$f":"Prevalence!I190*BE193","v":974.92500000000007},{"$f":"Prevalence!J190*BF193","v":429.45000000000005},{"$f":"Prevalence!K190*BG193","v":399.6},{"$f":"Prevalence!L190*BH193","v":616.35},{"$f":"Prevalence!M190*BI193","v":80},{"$f":"Prevalence!N190*BJ193","v":57.016666666666673},{"$f":"Prevalence!O190*BK193","v":654.76666666666665},{"$f":"Prevalence!P190*BL193","v":2.5833333333333335},{"$f":"Prevalence!Q190*BM193","v":135.00000000000003},{"$f":"Prevalence!R190*BN193","v":510.75},{"$f":"Prevalence!S190*BO193","v":258},{"$f":"Prevalence!T190*BP193","v":127.4},{"$f":"Prevalence!U190*BQ193","v":28.8},{"$f":"Prevalence!V190*BR193","v":184.16666666666669},{"$f":"Prevalence!W190*BS193","v":78.600000000000009},{"$f":"Prevalence!X190*BT193","v":132.31666666666669},{"$f":"Prevalence!Y190*BU193","v":35.333333333333336},{"$f":"Prevalence!Z190*BV193","v":137.90833333333333},{"$f":"Prevalence!AA190*BW193","v":50.375},{"$f":"Prevalence!AB190*BX193","v":214.50000000000003},{"$f":"Prevalence!AC190*BY193","v":2.5833333333333335},{"$f":"Prevalence!AD190*BZ193","v":77.116666666666674},{"$f":"Prevalence!AE190*CA193","v":357.40000000000003},{"$f":"Prevalence!AF190*CB193","v":484.37500000000006},{"$f":"Prevalence!AG190*CC193","v":279.90000000000003},{"$f":"Prevalence!AH190*CD193","v":77.825000000000003},{"$f":"Prevalence!AI190*CE193","v":114.80000000000001},{"$f":"Prevalence!AJ190*CF193","v":190.125},{"$f":"Prevalence!AK190*CG193","v":193.16666666666666},{"$f":"Prevalence!AL190*CH193","v":221.45833333333337},{"$f":"Prevalence!AM190*CI193","v":80},{"$f":"Prevalence!AN190*CJ193","v":332.70833333333337},{"$f":"Prevalence!AO190*CK193","v":141.13333333333333},{"$f":"Prevalence!AP190*CL193","v":177.33333333333334},{"$f":"Prevalence!AQ190*CM193","v":57.016666666666673},{"$f":"Prevalence!AR190*CN193","v":48.766666666666666},{"$f":"Prevalence!AS190*CO193","v":275.8},{"$f":"Prevalence!AT190*CP193","v":111.33333333333334},{"$f":"Prevalence!AU190*CQ193","v":57.066666666666663},{"$f":"Prevalence!AV190*CR193","v":176.17500000000001},192,26398,1385,1064,884,1787,1545,3763,4333,2454,1998,3522,320,311,3022,10,648,2270,1032,588,216,884,393,467,530,871,403,1430,10,661,1787,1875,1866,283,492,845,610,1063,320,1597,584,1064,311,308,1379,668,214,729]
["Male 20-24",{"$f":"Prevalence!B191*AX194","v":6758},{"$f":"Prevalence!C191*AY194","v":386.20833333333337},{"$f":"Prevalence!D191*AZ194","v":153.66666666666669},{"$f":"Prevalence!E191*BA194","v":195.83333333333337},{"$f":"Prevalence!F191*BB194","v":374.40000000000003},{"$f":"Prevalence!G191*BC194","v":218.4},{"$f":"Prevalence!H191*BD194","v":1090.05},{"$f":"Prevalence!I191*BE194","v":1605.375},{"$f":"Prevalence!J191*BF194","v":434.00000000000006},{"$f":"Prevalence!K191*BG194","v":449.6},{"$f":"Prevalence!L191*BH194","v":999.77500000000009},{"$f":"Prevalence!M191*BI194","v":84.75},{"$f":"Prevalence!N191*BJ194","v":62.7},{"$f":"Prevalence!O191*BK194","v":784.11666666666667},{"$f":"Prevalence!P191*BL194","v":4.1333333333333337},{"$f":"Prevalence!Q191*BM194","v":368.33333333333337},{"$f":"Prevalence!R191*BN194","v":535.95000000000005},{"$f":"Prevalence!S191*BO194","v":286},{"$f":"Prevalence!T191*BP194","v":117.86666666666667},{"$f":"Prevalence!U191*BQ194","v":29.733333333333334},{"$f":"Prevalence!V191*BR194","v":195.83333333333337},{"$f":"Prevalence!W191*BS194","v":193.20000000000002},{"$f":"Prevalence!X191*BT194","v":142.51666666666668},{"$f":"Prevalence!Y191*BU194","v":39.533333333333331},{"$f":"Prevalence!Z191*BV194","v":139.49166666666667},{"$f":"Prevalence!AA191*BW194","v":58.625},{"$f":"Prevalence!AB191*BX194","v":524.55000000000007},{"$f":"Prevalence!AC191*BY194","v":4.1333333333333337},{"$f":"Prevalence!AD191*BZ194","v":93.683333333333351},{"$f":"Prevalence!AE191*CA194","v":374.40000000000003},{"$f":"Prevalence!AF191*CB194","v":1094.0416666666667},{"$f":"Prevalence!AG191*CC194","v":290.40000000000003},{"$f":"Prevalence!AH191*CD194","v":107.25000000000001},{"$f":"Prevalence!AI191*CE194","v":140.23333333333335},{"$f":"Prevalence!AJ191*CF194","v":198.22499999999999},{"$f":"Prevalence!AK191*CG194","v":198.23333333333332},{"$f":"Prevalence!AL191*CH194","v":246.45833333333337},{"$f":"Prevalence!AM191*CI194","v":84.75},{"$f":"Prevalence!AN191*CJ194","v":314.37500000000006},{"$f":"Prevalence!AO191*CK194","v":177.625},{"$f":"Prevalence!AP191*CL194","v":153.66666666666669},{"$f":"Prevalence!AQ191*CM194","v":62.7},{"$f":"Prevalence!AR191*CN194","v":57.949999999999996},{"$f":"Prevalence!AS191*CO194","v":305},{"$f":"Prevalence!AT191*CP194","v":102.00000000000001},{"$f":"Prevalence!AU191*CQ194","v":67.466666666666669},{"$f":"Prevalence!AV191*CR194","v":177.38333333333333},193,33790,1495,922,940,1872,1638,5031,7135,2480,2248,5713,339,342,3619,16,1768,2382,1144,544,223,940,966,503,593,881,469,3497,16,803,1872,4235,1936,390,601,881,626,1183,339,1509,735,922,342,366,1525,612,253,734]
["Male 25-29",{"$f":"Prevalence!B192*AX195","v":8585.08},{"$f":"Prevalence!C192*AY195","v":450.99833333333345},{"$f":"Prevalence!D192*AZ195","v":191.10000000000002},{"$f":"Prevalence!E192*BA195","v":263.08333333333343},{"$f":"Prevalence!F192*BB195","v":449.40000000000003},{"$f":"Prevalence!G192*BC195","v":283.54666666666668},{"$f":"Prevalence!H192*BD195","v":1445.0800000000002},{"$f":"Prevalence!I192*BE195","v":1771.5600000000004},{"$f":"Prevalence!J192*BF195","v":623.52500000000009},{"$f":"Prevalence!K192*BG195","v":562.24},{"$f":"Prevalence!L192*BH195","v":1425.9},{"$f":"Prevalence!M192*BI195","v":102.9},{"$f":"Prevalence!N192*BJ195","v":97.02},{"$f":"Prevalence!O192*BK195","v":944.88333333333333},{"$f":"Prevalence!P192*BL195","v":7.5950000000000015},{"$f":"Prevalence!Q192*BM195","v":461.4166666666668},{"$f":"Prevalence!R192*BN195","v":742.45500000000015},{"$f":"Prevalence!S192*BO195","v":355.95000000000005},{"$f":"Prevalence!T192*BP195","v":145.90333333333334},{"$f":"Prevalence!U192*BQ195","v":37.520000000000003},{"$f":"Prevalence!V192*BR195","v":263.08333333333343},{"$f":"Prevalence!W192*BS195","v":174.16000000000003},{"$f":"Prevalence!X192*BT195","v":188.41666666666669},{"$f":"Prevalence!Y192*BU195","v":37.520000000000003},{"$f":"Prevalence!Z192*BV195","v":167.80166666666668},{"$f":"Prevalence!AA192*BW195","v":58.625000000000007},{"$f":"Prevalence!AB192*BX195","v":805.35},{"$f":"Prevalence!AC192*BY195","v":7.5950000000000015},{"$f":"Prevalence!AD192*BZ195","v":130.17666666666668},{"$f":"Prevalence!AE192*CA195","v":449.40000000000003},{"$f":"Prevalence!AF192*CB195","v":1199.6483333333335},{"$f":"Prevalence!AG192*CC195","v":433.44000000000005},{"$f":"Prevalence!AH192*CD195","v":131.285},{"$f":"Prevalence!AI192*CE195","v":147.65333333333336},{"$f":"Prevalence!AJ192*CF195","v":259.87500000000006},{"$f":"Prevalence!AK192*CG195","v":221.66666666666669},{"$f":"Prevalence!AL192*CH195","v":326.66666666666674},{"$f":"Prevalence!AM192*CI195","v":102.9},{"$f":"Prevalence!AN192*CJ195","v":430.50000000000011},{"$f":"Prevalence!AO192*CK195","v":182.02333333333331},{"$f":"Prevalence!AP192*CL195","v":191.10000000000002},{"$f":"Prevalence!AQ192*CM195","v":97.02},{"$f":"Prevalence!AR192*CN195","v":60.293333333333337},{"$f":"Prevalence!AS192*CO195","v":384.16},{"$f":"Prevalence!AT192*CP195","v":121.56666666666668},{"$f":"Prevalence!AU192*CQ195","v":77.28},{"$f":"Prevalence!AV192*CR195","v":262.54666666666668},194,30661,1247,819,902,1605,1519,4764,5624,2545,2008,5820,294,378,3115,21,1582,2357,1017,481,201,902,622,475,402,757,335,3835,21,797,1605,3317,2064,341,452,825,500,1120,294,1476,538,819,378,272,1372,521,207,776]
["Male 30-34",{"$f":"Prevalence!B193*AX196","v":8664.0400000000009},{"$f":"Prevalence!C193*AY196","v":489.33500000000009},{"$f":"Prevalence!D193*AZ196","v":200.20000000000002},{"$f":"Prevalence!E193*BA196","v":231.5833333333334},{"$f":"Prevalence!F193*BB196","v":495.88000000000005},{"$f":"Prevalence!G193*BC196","v":325.36},{"$f":"Prevalence!H193*BD196","v":1441.1366666666668},{"$f":"Prevalence!I193*BE196","v":1609.3350000000003},{"$f":"Prevalence!J193*BF196","v":680.12000000000012},{"$f":"Prevalence!K193*BG196","v":626.6400000000001},{"$f":"Prevalence!L193*BH196","v":1389.8850000000002},{"$f":"Prevalence!M193*BI196","v":109.20000000000002},{"$f":"Prevalence!N193*BJ196","v":88.55},{"$f":"Prevalence!O193*BK196","v":970.06000000000006},{"$f":"Prevalence!P193*BL196","v":7.9566666666666688},{"$f":"Prevalence!Q193*BM196","v":392.29166666666674},{"$f":"Prevalence!R193*BN196","v":819.94500000000016},{"$f":"Prevalence!S193*BO196","v":353.85},{"$f":"Prevalence!T193*BP196","v":152.27333333333334},{"$f":"Prevalence!U193*BQ196","v":43.866666666666667},{"$f":"Prevalence!V193*BR196","v":231.5833333333334},{"$f":"Prevalence!W193*BS196","v":153.72000000000003},{"$f":"Prevalence!X193*BT196","v":186.83},{"$f":"Prevalence!Y193*BU196","v":32.38666666666667},{"$f":"Prevalence!Z193*BV196","v":192.62833333333333},{"$f":"Prevalence!AA193*BW196","v":57.925000000000004},{"$f":"Prevalence!AB193*BX196","v":713.58},{"$f":"Prevalence!AC193*BY196","v":7.9566666666666688},{"$f":"Prevalence!AD193*BZ196","v":159.41333333333336},{"$f":"Prevalence!AE193*CA196","v":495.88000000000005},{"$f":"Prevalence!AF193*CB196","v":1002.9016666666669},{"$f":"Prevalence!AG193*CC196","v":477.54},{"$f":"Prevalence!AH193*CD196","v":108.185},{"$f":"Prevalence!AI193*CE196","v":183.91333333333336},{"$f":"Prevalence!AJ193*CF196","v":252.94500000000005},{"$f":"Prevalence!AK193*CG196","v":255.36},{"$f":"Prevalence!AL193*CH196","v":367.79166666666674},{"$f":"Prevalence!AM193*CI196","v":109.20000000000002},{"$f":"Prevalence!AN193*CJ196","v":477.75000000000011},{"$f":"Prevalence!AO193*CK196","v":183.715},{"$f":"Prevalence!AP193*CL196","v":200.20000000000002},{"$f":"Prevalence!AQ193*CM196","v":88.55},{"$f":"Prevalence!AR193*CN196","v":67.83},{"$f":"Prevalence!AS193*CO196","v":456.96000000000004},{"$f":"Prevalence!AT193*CP196","v":124.13333333333335},{"$f":"Prevalence!AU193*CQ196","v":66.826666666666668},{"$f":"Prevalence!AV193*CR196","v":285.21499999999997},195,30943,1353,858,794,1771,1743,4751,5109,2776,2238,5673,312,345,3198,22,1345,2603,1011,502,235,794,549,471,347,869,331,3398,22,976,1771,2773,2274,281,563,803,576,1261,312,1638,543,858,345,306,1632,532,179,843]
["Male 35-39",{"$f":"Prevalence!B194*AX197","v":8452.34},{"$f":"Prevalence!C194*AY197","v":562.52083333333337},{"$f":"Prevalence!D194*AZ197","v":253.71666666666667},{"$f":"Prevalence!E194*BA197","v":238.06250000000003},{"$f":"Prevalence!F194*BB197","v":522.86},{"$f":"Prevalence!G194*BC197","v":347.36},{"$f":"Prevalence!H194*BD197","v":1417.6283333333333},{"$f":"Prevalence!I194*BE197","v":1422.4275},{"$f":"Prevalence!J194*BF197","v":640.86750000000006},{"$f":"Prevalence!K194*BG197","v":647.14},{"$f":"Prevalence!L194*BH197","v":1267.6300000000001},{"$f":"Prevalence!M194*BI197","v":101.72500000000001},{"$f":"Prevalence!N194*BJ197","v":100.815},{"$f":"Prevalence!O194*BK197","v":915.13499999999999},{"$f":"Prevalence!P194*BL197","v":3.3583333333333338},{"$f":"Prevalence!Q194*BM197","v":289.25000000000006},{"$f":"Prevalence!R194*BN197","v":897.39},{"$f":"Prevalence!S194*BO197","v":373.1},{"$f":"Prevalence!T194*BP197","v":156.88833333333335},{"$f":"Prevalence!U194*BQ197","v":51.826666666666668},{"$f":"Prevalence!V194*BR197","v":238.06250000000003},{"$f":"Prevalence!W194*BS197","v":122.98},{"$f":"Prevalence!X194*BT197","v":222.10500000000002},{"$f":"Prevalence!Y194*BU197","v":39.173333333333332},{"$f":"Prevalence!Z194*BV197","v":252.35166666666669},{"$f":"Prevalence!AA194*BW197","v":67.600000000000009},{"$f":"Prevalence!AB194*BX197","v":545.61},{"$f":"Prevalence!AC194*BY197","v":3.3583333333333338},{"$f":"Prevalence!AD194*BZ197","v":164.40666666666667},{"$f":"Prevalence!AE194*CA197","v":522.86},{"$f":"Prevalence!AF194*CB197","v":727.41500000000008},{"$f":"Prevalence!AG194*CC197","v":440.7},{"$f":"Prevalence!AH194*CD197","v":119.04750000000001},{"$f":"Prevalence!AI194*CE197","v":192.61666666666667},{"$f":"Prevalence!AJ194*CF197","v":262.3725},{"$f":"Prevalence!AK194*CG197","v":287.755},{"$f":"Prevalence!AL194*CH197","v":359.93750000000006},{"$f":"Prevalence!AM194*CI197","v":101.72500000000001},{"$f":"Prevalence!AN194*CJ197","v":440.91666666666674},{"$f":"Prevalence!AO194*CK197","v":194.155},{"$f":"Prevalence!AP194*CL197","v":253.71666666666667},{"$f":"Prevalence!AQ194*CM197","v":100.815},{"$f":"Prevalence!AR194*CN197","v":76.775833333333338},{"$f":"Prevalence!AS194*CO197","v":481},{"$f":"Prevalence!AT194*CP197","v":134.55000000000001},{"$f":"Prevalence!AU194*CQ197","v":65.173333333333332},{"$f":"Prevalence!AV194*CR197","v":286.83416666666665},196,32509,1675,1171,879,2011,2004,5033,4863,2817,2489,5572,313,423,3249,10,1068,3068,1148,557,299,879,473,603,452,1226,416,2798,10,1084,2011,2166,2260,333,635,897,699,1329,313,1628,618,1171,423,373,1850,621,188,913]
["Male 40-44",{"$f":"Prevalence!B195*AX198","v":10459.02},{"$f":"Prevalence!C195*AY198","v":721.70583333333343},{"$f":"Prevalence!D195*AZ198","v":391.95},{"$f":"Prevalence!E195*BA198","v":342.06250000000006},{"$f":"Prevalence!F195*BB198","v":681.46},{"$f":"Prevalence!G195*BC198","v":445.4666666666667},{"$f":"Prevalence!H195*BD198","v":1602.1200000000001},{"$f":"Prevalence!I195*BE198","v":1748.2724999999998},{"$f":"Prevalence!J195*BF198","v":816.04250000000002},{"$f":"Prevalence!K195*BG198","v":848.64},{"$f":"Prevalence!L195*BH198","v":1361.5875000000001},{"$f":"Prevalence!M195*BI198","v":152.75},{"$f":"Prevalence!N195*BJ198","v":98.431666666666672},{"$f":"Prevalence!O195*BK198","v":1242.1500000000001},{"$f":"Prevalence!P195*BL198","v":7.0525000000000011},{"$f":"Prevalence!Q195*BM198","v":256.20833333333337},{"$f":"Prevalence!R195*BN198","v":1038.96},{"$f":"Prevalence!S195*BO198","v":516.75},{"$f":"Prevalence!T195*BP198","v":214.63},{"$f":"Prevalence!U195*BQ198","v":62.74666666666667},{"$f":"Prevalence!V195*BR198","v":342.06250000000006},{"$f":"Prevalence!W195*BS198","v":153.14000000000001},{"$f":"Prevalence!X195*BT198","v":276.61833333333334},{"$f":"Prevalence!Y195*BU198","v":53.300000000000004},{"$f":"Prevalence!Z195*BV198","v":311.01416666666665},{"$f":"Prevalence!AA195*BW198","v":89.7},{"$f":"Prevalence!AB195*BX198","v":487.89000000000004},{"$f":"Prevalence!AC195*BY198","v":7.0525000000000011},{"$f":"Prevalence!AD195*BZ198","v":197.31833333333333},{"$f":"Prevalence!AE195*CA198","v":681.46},{"$f":"Prevalence!AF195*CB198","v":810.3658333333334},{"$f":"Prevalence!AG195*CC198","v":550.875},{"$f":"Prevalence!AH195*CD198","v":165.16500000000002},{"$f":"Prevalence!AI195*CE198","v":217.49},{"$f":"Prevalence!AJ195*CF198","v":348.07499999999999},{"$f":"Prevalence!AK195*CG198","v":361.44333333333333},{"$f":"Prevalence!AL195*CH198","v":466.64583333333337},{"$f":"Prevalence!AM195*CI198","v":152.75},{"$f":"Prevalence!AN195*CJ198","v":604.22916666666674},{"$f":"Prevalence!AO195*CK198","v":256.04583333333329},{"$f":"Prevalence!AP195*CL198","v":391.95},{"$f":"Prevalence!AQ195*CM198","v":98.431666666666672},{"$f":"Prevalence!AR195*CN198","v":107.03333333333333},{"$f":"Prevalence!AS195*CO198","v":620.62},{"$f":"Prevalence!AT195*CP198","v":196.51666666666668},{"$f":"Prevalence!AU195*CQ198","v":94.986666666666665},{"$f":"Prevalence!AV195*CR198","v":394.27916666666664},197,40227,2149,1809,1263,2621,2570,5688,5977,3587,3264,5985,470,413,4410,21,946,3552,1590,762,362,1263,589,751,615,1511,552,2502,21,1301,2621,2413,2825,462,717,1190,878,1723,470,2231,815,1809,413,520,2387,907,274,1255]
["Male 45-49",{"$f":"Prevalence!B196*AX199","v":10490.64},{"$f":"Prevalence!C196*AY199","v":704.32},{"$f":"Prevalence!D196*AZ199","v":403.6},{"$f":"Prevalence!E196*BA199","v":393.5},{"$f":"Prevalence!F196*BB199","v":741.12},{"$f":"Prevalence!G196*BC199","v":430.71999999999991},{"$f":"Prevalence!H196*BD199","v":1596.6599999999996},{"$f":"Prevalence!I196*BE199","v":1676.16},{"$f":"Prevalence!J196*BF199","v":858.27},{"$f":"Prevalence!K196*BG199","v":807.36},{"$f":"Prevalence!L196*BH199","v":1281.4199999999998},{"$f":"Prevalence!M196*BI199","v":164.4},{"$f":"Prevalence!N196*BJ199","v":107.57999999999998},{"$f":"Prevalence!O196*BK199","v":1327.5599999999997},{"$f":"Prevalence!P196*BL199","v":6.82},{"$f":"Prevalence!Q196*BM199","v":242.75},{"$f":"Prevalence!R196*BN199","v":1042.47},{"$f":"Prevalence!S196*BO199","v":542.69999999999993},{"$f":"Prevalence!T196*BP199","v":256.61999999999995},{"$f":"Prevalence!U196*BQ199","v":57.599999999999994},{"$f":"Prevalence!V196*BR199","v":393.5},{"$f":"Prevalence!W196*BS199","v":159.35999999999999},{"$f":"Prevalence!X196*BT199","v":258.06},{"$f":"Prevalence!Y196*BU199","v":58.879999999999988},{"$f":"Prevalence!Z196*BV199","v":290.7},{"$f":"Prevalence!AA196*BW199","v":86.399999999999991},{"$f":"Prevalence!AB196*BX199","v":454.14},{"$f":"Prevalence!AC196*BY199","v":6.82},{"$f":"Prevalence!AD196*BZ199","v":183.26000000000002},{"$f":"Prevalence!AE196*CA199","v":741.12},{"$f":"Prevalence!AF196*CB199","v":735.01},{"$f":"Prevalence!AG196*CC199","v":558},{"$f":"Prevalence!AH196*CD199","v":185.45999999999998},{"$f":"Prevalence!AI196*CE199","v":213.64000000000001},{"$f":"Prevalence!AJ196*CF199","v":353.43},{"$f":"Prevalence!AK196*CG199","v":362.51999999999992},{"$f":"Prevalence!AL196*CH199","v":429.5},{"$f":"Prevalence!AM196*CI199","v":164.4},{"$f":"Prevalence!AN196*CJ199","v":658.25},{"$f":"Prevalence!AO196*CK199","v":260.41999999999996},{"$f":"Prevalence!AP196*CL199","v":403.6},{"$f":"Prevalence!AQ196*CM199","v":107.57999999999998},{"$f":"Prevalence!AR196*CN199","v":106.20999999999998},{"$f":"Prevalence!AS196*CO199","v":571.43999999999994},{"$f":"Prevalence!AT196*CP199","v":204.60000000000002},{"$f":"Prevalence!AU196*CQ199","v":105.59999999999998},{"$f":"Prevalence!AV196*CR199","v":372.94},198,43711,2272,2018,1574,3088,2692,6141,6208,4087,3364,6102,548,489,5106,22,971,3861,1809,987,360,1574,664,759,736,1530,576,2523,22,1309,3088,2371,3100,562,763,1309,954,1718,548,2633,898,2018,489,559,2381,1023,330,1286]
["Male 50-54",{"$f":"Prevalence!B197*AX200","v":9942.7199999999993},{"$f":"Prevalence!C197*AY200","v":717.34},{"$f":"Prevalence!D197*AZ200","v":389.8},{"$f":"Prevalence!E197*BA200","v":372.5},{"$f":"Prevalence!F197*BB200","v":701.04},{"$f":"Prevalence!G197*BC200","v":392.31999999999994},{"$f":"Prevalence!H197*BD200","v":1468.2199999999998},{"$f":"Prevalence!I197*BE200","v":1693.44},{"$f":"Prevalence!J197*BF200","v":829.92},{"$f":"Prevalence!K197*BG200","v":715.92},{"$f":"Prevalence!L197*BH200","v":1202.6699999999998},{"$f":"Prevalence!M197*BI200","v":144.9},{"$f":"Prevalence!N197*BJ200","v":101.19999999999999},{"$f":"Prevalence!O197*BK200","v":1237.0799999999997},{"$f":"Prevalence!P197*BL200","v":6.2},{"$f":"Prevalence!Q197*BM200","v":222.75},{"$f":"Prevalence!R197*BN200","v":948.78000000000009},{"$f":"Prevalence!S197*BO200","v":508.2},{"$f":"Prevalence!T197*BP200","v":247.77999999999994},{"$f":"Prevalence!U197*BQ200","v":56.159999999999989},{"$f":"Prevalence!V197*BR200","v":372.5},{"$f":"Prevalence!W197*BS200","v":166.32},{"$f":"Prevalence!X197*BT200","v":260.10000000000002},{"$f":"Prevalence!Y197*BU200","v":64.319999999999993},{"$f":"Prevalence!Z197*BV200","v":270.93999999999994},{"$f":"Prevalence!AA197*BW200","v":91.2},{"$f":"Prevalence!AB197*BX200","v":422.82},{"$f":"Prevalence!AC197*BY200","v":6.2},{"$f":"Prevalence!AD197*BZ200","v":163.38000000000002},{"$f":"Prevalence!AE197*CA200","v":701.04},{"$f":"Prevalence!AF197*CB200","v":691.3},{"$f":"Prevalence!AG197*CC200","v":539.81999999999994},{"$f":"Prevalence!AH197*CD200","v":199.64999999999998},{"$f":"Prevalence!AI197*CE200","v":203.28000000000003},{"$f":"Prevalence!AJ197*CF200","v":335.34000000000003},{"$f":"Prevalence!AK197*CG200","v":356.43999999999994},{"$f":"Prevalence!AL197*CH200","v":377.75},{"$f":"Prevalence!AM197*CI200","v":144.9},{"$f":"Prevalence!AN197*CJ200","v":592.75},{"$f":"Prevalence!AO197*CK200","v":282.16999999999996},{"$f":"Prevalence!AP197*CL200","v":389.8},{"$f":"Prevalence!AQ197*CM200","v":101.19999999999999},{"$f":"Prevalence!AR197*CN200","v":116.08999999999999},{"$f":"Prevalence!AS197*CO200","v":515.76},{"$f":"Prevalence!AT197*CP200","v":186.8},{"$f":"Prevalence!AU197*CQ200","v":119.99999999999999},{"$f":"Prevalence!AV197*CR200","v":355.53999999999996},199,41428,2314,1949,1490,2921,2452,5647,6272,3952,2983,5727,483,460,4758,20,891,3514,1694,953,351,1490,693,765,804,1426,608,2349,20,1167,2921,2230,2999,605,726,1242,938,1511,483,2371,973,1949,460,611,2149,934,375,1226]
["Male 55-59",{"$f":"Prevalence!B198*AX201","v":8943.3599999999988},{"$f":"Prevalence!C198*AY201","v":644.79999999999995},{"$f":"Prevalence!D198*AZ201","v":370.6},{"$f":"Prevalence!E198*BA201","v":367},{"$f":"Prevalence!F198*BB201","v":612.95999999999992},{"$f":"Prevalence!G198*BC201","v":338.55999999999995},{"$f":"Prevalence!H198*BD201","v":1390.4799999999998},{"$f":"Prevalence!I198*BE201","v":1461.51},{"$f":"Prevalence!J198*BF201","v":777.20999999999992},{"$f":"Prevalence!K198*BG201","v":617.28},{"$f":"Prevalence!L198*BH201","v":1022.6999999999999},{"$f":"Prevalence!M198*BI201","v":137.4},{"$f":"Prevalence!N198*BJ201","v":87.11999999999999},{"$f":"Prevalence!O198*BK201","v":1147.1199999999999},{"$f":"Prevalence!P198*BL201","v":7.13},{"$f":"Prevalence!Q198*BM201","v":216},{"$f":"Prevalence!R198*BN201","v":880.2},{"$f":"Prevalence!S198*BO201","v":460.2},{"$f":"Prevalence!T198*BP201","v":237.89999999999995},{"$f":"Prevalence!U198*BQ201","v":49.279999999999994},{"$f":"Prevalence!V198*BR201","v":367},{"$f":"Prevalence!W198*BS201","v":155.04},{"$f":"Prevalence!X198*BT201","v":230.86},{"$f":"Prevalence!Y198*BU201","v":56.639999999999993},{"$f":"Prevalence!Z198*BV201","v":239.58999999999997},{"$f":"Prevalence!AA198*BW201","v":75.899999999999991},{"$f":"Prevalence!AB198*BX201","v":360.18},{"$f":"Prevalence!AC198*BY201","v":7.13},{"$f":"Prevalence!AD198*BZ201","v":127.96000000000001},{"$f":"Prevalence!AE198*CA201","v":612.95999999999992},{"$f":"Prevalence!AF198*CB201","v":597.99},{"$f":"Prevalence!AG198*CC201","v":501.47999999999996},{"$f":"Prevalence!AH198*CD201","v":165.65999999999997},{"$f":"Prevalence!AI198*CE201","v":181.72000000000003},{"$f":"Prevalence!AJ198*CF201","v":330.48},{"$f":"Prevalence!AK198*CG201","v":322.61999999999995},{"$f":"Prevalence!AL198*CH201","v":326.5},{"$f":"Prevalence!AM198*CI201","v":137.4},{"$f":"Prevalence!AN198*CJ201","v":558},{"$f":"Prevalence!AO198*CK201","v":252.58999999999997},{"$f":"Prevalence!AP198*CL201","v":370.6},{"$f":"Prevalence!AQ198*CM201","v":87.11999999999999},{"$f":"Prevalence!AR198*CN201","v":104.87999999999998},{"$f":"Prevalence!AS198*CO201","v":446.64},{"$f":"Prevalence!AT198*CP201","v":178.8},{"$f":"Prevalence!AU198*CQ201","v":96.639999999999986},{"$f":"Prevalence!AV198*CR201","v":278.10999999999996},200,37264,2080,1853,1468,2554,2116,5348,5413,3701,2572,4870,458,396,4412,23,864,3260,1534,915,308,1468,646,679,708,1261,506,2001,23,914,2554,1929,2786,502,649,1224,849,1306,458,2232,871,1853,396,552,1861,894,302,959]
["Male 60-64",{"$f":"Prevalence!B199*AX202","v":8617.44},{"$f":"Prevalence!C199*AY202","v":627.75},{"$f":"Prevalence!D199*AZ202","v":372.6},{"$f":"Prevalence!E199*BA202","v":386},{"$f":"Prevalence!F199*BB202","v":626.4},{"$f":"Prevalence!G199*BC202","v":323.19999999999993},{"$f":"Prevalence!H199*BD202","v":1354.8599999999997},{"$f":"Prevalence!I199*BE202","v":1289.7900000000002},{"$f":"Prevalence!J199*BF202","v":773.22},{"$f":"Prevalence!K199*BG202","v":560.4},{"$f":"Prevalence!L199*BH202","v":934.70999999999992},{"$f":"Prevalence!M199*BI202","v":134.4},{"$f":"Prevalence!N199*BJ202","v":91.96},{"$f":"Prevalence!O199*BK202","v":1166.8799999999999},{"$f":"Prevalence!P199*BL202","v":10.54},{"$f":"Prevalence!Q199*BM202","v":192.25},{"$f":"Prevalence!R199*BN202","v":877.7700000000001},{"$f":"Prevalence!S199*BO202","v":469.5},{"$f":"Prevalence!T199*BP202","v":246.21999999999994},{"$f":"Prevalence!U199*BQ202","v":49.439999999999991},{"$f":"Prevalence!V199*BR202","v":386},{"$f":"Prevalence!W199*BS202","v":136.07999999999998},{"$f":"Prevalence!X199*BT202","v":214.54000000000002},{"$f":"Prevalence!Y199*BU202","v":53.759999999999991},{"$f":"Prevalence!Z199*BV202","v":207.28999999999996},{"$f":"Prevalence!AA199*BW202","v":66.599999999999994},{"$f":"Prevalence!AB199*BX202","v":326.7},{"$f":"Prevalence!AC199*BY202","v":10.54},{"$f":"Prevalence!AD199*BZ202","v":132.58000000000001},{"$f":"Prevalence!AE199*CA202","v":626.4},{"$f":"Prevalence!AF199*CB202","v":514.29},{"$f":"Prevalence!AG199*CC202","v":492.29999999999995},{"$f":"Prevalence!AH199*CD202","v":150.47999999999999},{"$f":"Prevalence!AI199*CE202","v":185.08},{"$f":"Prevalence!AJ199*CF202","v":321.57},{"$f":"Prevalence!AK199*CG202","v":315.77999999999997},{"$f":"Prevalence!AL199*CH202","v":289.25},{"$f":"Prevalence!AM199*CI202","v":134.4},{"$f":"Prevalence!AN199*CJ202","v":589},{"$f":"Prevalence!AO199*CK202","v":222.71999999999997},{"$f":"Prevalence!AP199*CL202","v":372.6},{"$f":"Prevalence!AQ199*CM202","v":91.96},{"$f":"Prevalence!AR199*CN202","v":106.96999999999998},{"$f":"Prevalence!AS199*CO202","v":394.08},{"$f":"Prevalence!AT199*CP202","v":152.80000000000001},{"$f":"Prevalence!AU199*CQ202","v":100.47999999999999},{"$f":"Prevalence!AV199*CR202","v":256.35999999999996},201,35906,2025,1863,1544,2610,2020,5211,4777,3682,2335,4451,448,418,4488,34,769,3251,1565,947,309,1544,567,631,672,1091,444,1815,34,947,2610,1659,2735,456,661,1191,831,1157,448,2356,768,1863,418,563,1642,764,314,884]
["Male 65-69",{"$f":"Prevalence!B200*AX203","v":4704.75},{"$f":"Prevalence!C200*AY203","v":376.45625000000001},{"$f":"Prevalence!D200*AZ203","v":220.25},{"$f":"Prevalence!E200*BA203","v":220.9375},{"$f":"Prevalence!F200*BB203","v":364.05},{"$f":"Prevalence!G200*BC203","v":182.6},{"$f":"Prevalence!H200*BD203","v":679.08749999999986},{"$f":"Prevalence!I200*BE203","v":678.20624999999995},{"$f":"Prevalence!J200*BF203","v":440.47500000000002},{"$f":"Prevalence!K200*BG203","v":281.39999999999998},{"$f":"Prevalence!L200*BH203","v":495.73125000000005},{"$f":"Prevalence!M200*BI203","v":76.875},{"$f":"Prevalence!N200*BJ203","v":45.099999999999994},{"$f":"Prevalence!O200*BK203","v":655.84999999999991},{"$f":"Prevalence!P200*BL203","v":2.3250000000000002},{"$f":"Prevalence!Q200*BM203","v":94.375},{"$f":"Prevalence!R200*BN203","v":424.91249999999997},{"$f":"Prevalence!S200*BO203","v":269.8125},{"$f":"Prevalence!T200*BP203","v":154.37499999999997},{"$f":"Prevalence!U200*BQ203","v":27.099999999999998},{"$f":"Prevalence!V200*BR203","v":220.9375},{"$f":"Prevalence!W200*BS203","v":73.5},{"$f":"Prevalence!X200*BT203","v":126.4375},{"$f":"Prevalence!Y200*BU203","v":28.15},{"$f":"Prevalence!Z200*BV203","v":119.46249999999999},{"$f":"Prevalence!AA200*BW203","v":33.5625},{"$f":"Prevalence!AB200*BX203","v":160.08749999999998},{"$f":"Prevalence!AC200*BY203","v":2.3250000000000002},{"$f":"Prevalence!AD200*BZ203","v":72.625},{"$f":"Prevalence!AE200*CA203","v":364.05},{"$f":"Prevalence!AF200*CB203","v":241.99375000000001},{"$f":"Prevalence!AG200*CC203","v":270.67499999999995},{"$f":"Prevalence!AH200*CD203","v":91.574999999999989},{"$f":"Prevalence!AI200*CE203","v":103.77500000000001},{"$f":"Prevalence!AJ200*CF203","v":178.36874999999998},{"$f":"Prevalence!AK200*CG203","v":198.07499999999999},{"$f":"Prevalence!AL200*CH203","v":141.40625},{"$f":"Prevalence!AM200*CI203","v":76.875},{"$f":"Prevalence!AN200*CJ203","v":329.21875},{"$f":"Prevalence!AO200*CK203","v":136.48124999999999},{"$f":"Prevalence!AP200*CL203","v":220.25},{"$f":"Prevalence!AQ200*CM203","v":45.099999999999994},{"$f":"Prevalence!AR200*CN203","v":61.037499999999994},{"$f":"Prevalence!AS200*CO203","v":205.2},{"$f":"Prevalence!AT200*CP203","v":90.625},{"$f":"Prevalence!AU200*CQ203","v":50.999999999999993},{"$f":"Prevalence!AV200*CR203","v":136.84375},202,31365,1943,1762,1414,2427,1826,4179,4019,3356,1876,3777,410,328,4036,12,604,2518,1439,950,271,1414,490,595,563,1006,358,1423,12,830,2427,1249,2406,444,593,1057,834,905,410,2107,753,1762,328,514,1368,725,255,755]
["Male 70-74",{"$f":"Prevalence!B201*AX204","v":3412.35},{"$f":"Prevalence!C201*AY204","v":254.97499999999999},{"$f":"Prevalence!D201*AZ204","v":161.25},{"$f":"Prevalence!E201*BA204","v":169.53125},{"$f":"Prevalence!F201*BB204","v":260.25},{"$f":"Prevalence!G201*BC204","v":132.69999999999999},{"$f":"Prevalence!H201*BD204","v":501.14999999999992},{"$f":"Prevalence!I201*BE204","v":471.31874999999997},{"$f":"Prevalence!J201*BF204","v":302.26875000000001},{"$f":"Prevalence!K201*BG204","v":207.45},{"$f":"Prevalence!L201*BH204","v":371.83125000000001},{"$f":"Prevalence!M201*BI204","v":60.375},{"$f":"Prevalence!N201*BJ204","v":30.387499999999996},{"$f":"Prevalence!O201*BK204","v":494.97499999999991},{"$f":"Prevalence!P201*BL204","v":2.1312500000000001},{"$f":"Prevalence!Q201*BM204","v":73.28125},{"$f":"Prevalence!R201*BN204","v":305.77499999999998},{"$f":"Prevalence!S201*BO204","v":210.9375},{"$f":"Prevalence!T201*BP204","v":106.92499999999998},{"$f":"Prevalence!U201*BQ204","v":17.2},{"$f":"Prevalence!V201*BR204","v":169.53125},{"$f":"Prevalence!W201*BS204","v":49.199999999999996},{"$f":"Prevalence!X201*BT204","v":77.349999999999994},{"$f":"Prevalence!Y201*BU204","v":19.649999999999999},{"$f":"Prevalence!Z201*BV204","v":83.481250000000003},{"$f":"Prevalence!AA201*BW204","v":29.25},{"$f":"Prevalence!AB201*BX204","v":132.63749999999999},{"$f":"Prevalence!AC201*BY204","v":2.1312500000000001},{"$f":"Prevalence!AD201*BZ204","v":53.375000000000007},{"$f":"Prevalence!AE201*CA204","v":260.25},{"$f":"Prevalence!AF201*CB204","v":171.08125000000001},{"$f":"Prevalence!AG201*CC204","v":185.06249999999997},{"$f":"Prevalence!AH201*CD204","v":63.9375},{"$f":"Prevalence!AI201*CE204","v":70},{"$f":"Prevalence!AJ201*CF204","v":135.50624999999999},{"$f":"Prevalence!AK201*CG204","v":131.57499999999999},{"$f":"Prevalence!AL201*CH204","v":105.9375},{"$f":"Prevalence!AM201*CI204","v":60.375},{"$f":"Prevalence!AN201*CJ204","v":248.90625},{"$f":"Prevalence!AO201*CK204","v":91.53125},{"$f":"Prevalence!AP201*CL204","v":161.25},{"$f":"Prevalence!AQ201*CM204","v":30.387499999999996},{"$f":"Prevalence!AR201*CN204","v":47.262499999999996},{"$f":"Prevalence!AS201*CO204","v":139.94999999999999},{"$f":"Prevalence!AT201*CP204","v":68.125},{"$f":"Prevalence!AU201*CQ204","v":32.4},{"$f":"Prevalence!AV201*CR204","v":99.868749999999991},203,22749,1316,1290,1085,1735,1327,3084,2793,2303,1383,2833,322,221,3046,11,469,1812,1125,658,172,1085,328,364,393,703,312,1179,11,610,1735,883,1645,310,400,803,554,678,322,1593,505,1290,221,398,933,545,162,551]
["Male 75-79",{"$f":"Prevalence!B202*AX205","v":683.16},{"$f":"Prevalence!C202*AY205","v":53.216666666666676},{"$f":"Prevalence!D202*AZ205","v":31.3},{"$f":"Prevalence!E202*BA205","v":37.583333333333336},{"$f":"Prevalence!F202*BB205","v":49.480000000000004},{"$f":"Prevalence!G202*BC205","v":26.72},{"$f":"Prevalence!H202*BD205","v":95.679999999999993},{"$f":"Prevalence!I202*BE205","v":95.984999999999999},{"$f":"Prevalence!J202*BF205","v":61.985000000000007},{"$f":"Prevalence!K202*BG205","v":38.76},{"$f":"Prevalence!L202*BH205","v":72.87},{"$f":"Prevalence!M202*BI205","v":9.8500000000000014},{"$f":"Prevalence!N202*BJ205","v":6.0866666666666669},{"$f":"Prevalence!O202*BK205","v":105.34333333333332},{"$f":"Prevalence!P202*BL205","v":0.62000000000000011},{"$f":"Prevalence!Q202*BM205","v":12.708333333333334},{"$f":"Prevalence!R202*BN205","v":58.724999999999994},{"$f":"Prevalence!S202*BO205","v":41.6},{"$f":"Prevalence!T202*BP205","v":22.186666666666664},{"$f":"Prevalence!U202*BQ205","v":4.0266666666666664},{"$f":"Prevalence!V202*BR205","v":37.583333333333336},{"$f":"Prevalence!W202*BS205","v":12.120000000000001},{"$f":"Prevalence!X202*BT205","v":15.243333333333334},{"$f":"Prevalence!Y202*BU205","v":4.5199999999999996},{"$f":"Prevalence!Z202*BV205","v":16.656666666666663},{"$f":"Prevalence!AA202*BW205","v":5.4750000000000005},{"$f":"Prevalence!AB202*BX205","v":27.48},{"$f":"Prevalence!AC202*BY205","v":0.62000000000000011},{"$f":"Prevalence!AD202*BZ205","v":10.220000000000001},{"$f":"Prevalence!AE202*CA205","v":49.480000000000004},{"$f":"Prevalence!AF202*CB205","v":36.115000000000002},{"$f":"Prevalence!AG202*CC205","v":37.769999999999996},{"$f":"Prevalence!AH202*CD205","v":12.265000000000001},{"$f":"Prevalence!AI202*CE205","v":13.253333333333334},{"$f":"Prevalence!AJ202*CF205","v":26.91},{"$f":"Prevalence!AK202*CG205","v":25.966666666666661},{"$f":"Prevalence!AL202*CH205","v":17.333333333333336},{"$f":"Prevalence!AM202*CI205","v":9.8500000000000014},{"$f":"Prevalence!AN202*CJ205","v":54.000000000000007},{"$f":"Prevalence!AO202*CK205","v":17.158333333333331},{"$f":"Prevalence!AP202*CL205","v":31.3},{"$f":"Prevalence!AQ202*CM205","v":6.0866666666666669},{"$f":"Prevalence!AR202*CN205","v":11.114999999999998},{"$f":"Prevalence!AS202*CO205","v":28.28},{"$f":"Prevalence!AT202*CP205","v":13.766666666666666},{"$f":"Prevalence!AU202*CQ205","v":7.68},{"$f":"Prevalence!AV202*CR205","v":17.206666666666667},204,17079,1030,939,902,1237,1002,2208,2133,1771,969,2082,197,166,2431,12,305,1305,832,512,151,902,303,269,339,526,219,916,12,438,1237,699,1259,223,284,598,410,416,197,1296,355,939,166,351,707,413,144,356]
["Male 80-84",{"$f":"Prevalence!B203*AX206","v":459.2},{"$f":"Prevalence!C203*AY206","v":31.155000000000005},{"$f":"Prevalence!D203*AZ206","v":21.433333333333334},{"$f":"Prevalence!E203*BA206","v":26.375000000000004},{"$f":"Prevalence!F203*BB206","v":31.84},{"$f":"Prevalence!G203*BC206","v":16.906666666666666},{"$f":"Prevalence!H203*BD206","v":62.833333333333329},{"$f":"Prevalence!I203*BE206","v":66.914999999999992},{"$f":"Prevalence!J203*BF206","v":42.245000000000005},{"$f":"Prevalence!K203*BG206","v":25.04},{"$f":"Prevalence!L203*BH206","v":52.115000000000002},{"$f":"Prevalence!M203*BI206","v":7.2},{"$f":"Prevalence!N203*BJ206","v":3.85},{"$f":"Prevalence!O203*BK206","v":71.846666666666664},{"$f":"Prevalence!P203*BL206","v":0.25833333333333336},{"$f":"Prevalence!Q203*BM206","v":10.875000000000002},{"$f":"Prevalence!R203*BN206","v":37.394999999999996},{"$f":"Prevalence!S203*BO206","v":28.75},{"$f":"Prevalence!T203*BP206","v":13.866666666666665},{"$f":"Prevalence!U203*BQ206","v":1.9733333333333332},{"$f":"Prevalence!V203*BR206","v":26.375000000000004},{"$f":"Prevalence!W203*BS206","v":8.6},{"$f":"Prevalence!X203*BT206","v":7.99},{"$f":"Prevalence!Y203*BU206","v":2.9733333333333332},{"$f":"Prevalence!Z203*BV206","v":11.716666666666665},{"$f":"Prevalence!AA203*BW206","v":3.8250000000000002},{"$f":"Prevalence!AB203*BX206","v":22.29},{"$f":"Prevalence!AC203*BY206","v":0.25833333333333336},{"$f":"Prevalence!AD203*BZ206","v":5.95},{"$f":"Prevalence!AE203*CA206","v":31.84},{"$f":"Prevalence!AF203*CB206","v":26.091666666666669},{"$f":"Prevalence!AG203*CC206","v":26.61},{"$f":"Prevalence!AH203*CD206","v":9.57},{"$f":"Prevalence!AI203*CE206","v":8.4},{"$f":"Prevalence!AJ203*CF206","v":16.11},{"$f":"Prevalence!AK203*CG206","v":15.579999999999998},{"$f":"Prevalence!AL203*CH206","v":10.250000000000002},{"$f":"Prevalence!AM203*CI206","v":7.2},{"$f":"Prevalence!AN203*CJ206","v":36.166666666666671},{"$f":"Prevalence!AO203*CK206","v":11.938333333333333},{"$f":"Prevalence!AP203*CL206","v":21.433333333333334},{"$f":"Prevalence!AQ203*CM206","v":3.85},{"$f":"Prevalence!AR203*CN206","v":6.839999999999999},{"$f":"Prevalence!AS203*CO206","v":18.920000000000002},{"$f":"Prevalence!AT203*CP206","v":10.166666666666666},{"$f":"Prevalence!AU203*CQ206","v":4.9066666666666663},{"$f":"Prevalence!AV203*CR206","v":9.4733333333333327},205,11480,603,643,633,796,634,1450,1487,1207,626,1489,144,105,1658,5,261,831,575,320,74,633,215,141,223,370,153,743,5,255,796,505,887,174,180,358,246,246,144,868,247,643,105,216,473,305,92,196]
["Male 85-89",{"$f":"Prevalence!B204*AX207","v":221.6},{"$f":"Prevalence!C204*AY207","v":15.810000000000002},{"$f":"Prevalence!D204*AZ207","v":10.666666666666666},{"$f":"Prevalence!E204*BA207","v":13.708333333333336},{"$f":"Prevalence!F204*BB207","v":15.24},{"$f":"Prevalence!G204*BC207","v":8.3999999999999986},{"$f":"Prevalence!H204*BD207","v":32.326666666666661},{"$f":"Prevalence!I204*BE207","v":30.599999999999998},{"$f":"Prevalence!J204*BF207","v":19.670000000000002},{"$f":"Prevalence!K204*BG207","v":10.92},{"$f":"Prevalence!L204*BH207","v":25.165000000000003},{"$f":"Prevalence!M204*BI207","v":3.6},{"$f":"Prevalence!N204*BJ207","v":1.76},{"$f":"Prevalence!O204*BK207","v":34.059999999999995},{"$f":"Prevalence!P204*BL207","v":0.15500000000000003},{"$f":"Prevalence!Q204*BM207","v":4.791666666666667},{"$f":"Prevalence!R204*BN207","v":20.024999999999999},{"$f":"Prevalence!S204*BO207","v":11.950000000000001},{"$f":"Prevalence!T204*BP207","v":6.0233333333333325},{"$f":"Prevalence!U204*BQ207","v":0.87999999999999989},{"$f":"Prevalence!V204*BR207","v":13.708333333333336},{"$f":"Prevalence!W204*BS207","v":5.12},{"$f":"Prevalence!X204*BT207","v":3.7966666666666669},{"$f":"Prevalence!Y204*BU207","v":1.4266666666666665},{"$f":"Prevalence!Z204*BV207","v":5.9849999999999994},{"$f":"Prevalence!AA204*BW207","v":2.0750000000000002},{"$f":"Prevalence!AB204*BX207","v":10.709999999999999},{"$f":"Prevalence!AC204*BY207","v":0.15500000000000003},{"$f":"Prevalence!AD204*BZ207","v":3.22},{"$f":"Prevalence!AE204*CA207","v":15.24},{"$f":"Prevalence!AF204*CB207","v":12.451666666666668},{"$f":"Prevalence!AG204*CC207","v":12.69},{"$f":"Prevalence!AH204*CD207","v":4.51},{"$f":"Prevalence!AI204*CE207","v":3.686666666666667},{"$f":"Prevalence!AJ204*CF207","v":8.3699999999999992},{"$f":"Prevalence!AK204*CG207","v":8.5499999999999989},{"$f":"Prevalence!AL204*CH207","v":4.666666666666667},{"$f":"Prevalence!AM204*CI207","v":3.6},{"$f":"Prevalence!AN204*CJ207","v":17.458333333333336},{"$f":"Prevalence!AO204*CK207","v":4.6883333333333335},{"$f":"Prevalence!AP204*CL207","v":10.666666666666666},{"$f":"Prevalence!AQ204*CM207","v":1.76},{"$f":"Prevalence!AR204*CN207","v":3.293333333333333},{"$f":"Prevalence!AS204*CO207","v":8.0400000000000009},{"$f":"Prevalence!AT204*CP207","v":4.8},{"$f":"Prevalence!AU204*CQ207","v":1.5999999999999999},{"$f":"Prevalence!AV204*CR207","v":4.543333333333333},206,5540,306,320,329,381,315,746,680,562,273,719,72,48,786,3,115,445,239,139,33,329,128,67,107,189,83,357,3,138,381,241,423,82,79,186,135,112,72,419,97,320,48,104,201,144,30,94]
["Male 90+",{"$f":"Prevalence!B205*AX208","v":89.36},{"$f":"Prevalence!C205*AY208","v":4.7016666666666671},{"$f":"Prevalence!D205*AZ208","v":3.9333333333333331},{"$f":"Prevalence!E205*BA208","v":4.9583333333333339},{"$f":"Prevalence!F205*BB208","v":6.68},{"$f":"Prevalence!G205*BC208","v":3.3866666666666663},{"$f":"Prevalence!H205*BD208","v":13.519999999999998},{"$f":"Prevalence!I205*BE208","v":13.094999999999999},{"$f":"Prevalence!J205*BF208","v":8.5400000000000009},{"$f":"Prevalence!K205*BG208","v":4.5200000000000005},{"$f":"Prevalence!L205*BH208","v":10.220000000000001},{"$f":"Prevalence!M205*BI208","v":1.55},{"$f":"Prevalence!N205*BJ208","v":0.47666666666666668},{"$f":"Prevalence!O205*BK208","v":13.693333333333332},{"$f":"Prevalence!P205*BL208","v":0},{"$f":"Prevalence!Q205*BM208","v":2.166666666666667},{"$f":"Prevalence!R205*BN208","v":8.01},{"$f":"Prevalence!S205*BO208","v":5.65},{"$f":"Prevalence!T205*BP208","v":2.5999999999999996},{"$f":"Prevalence!U205*BQ208","v":0.45333333333333331},{"$f":"Prevalence!V205*BR208","v":4.9583333333333339},{"$f":"Prevalence!W205*BS208","v":1.84},{"$f":"Prevalence!X205*BT208","v":1.1900000000000002},{"$f":"Prevalence!Y205*BU208","v":0.54666666666666663},{"$f":"Prevalence!Z205*BV208","v":2.3116666666666665},{"$f":"Prevalence!AA205*BW208","v":1.0250000000000001},{"$f":"Prevalence!AB205*BX208","v":4.62},{"$f":"Prevalence!AC205*BY208","v":0},{"$f":"Prevalence!AD205*BZ208","v":1.1433333333333333},{"$f":"Prevalence!AE205*CA208","v":6.68},{"$f":"Prevalence!AF205*CB208","v":5.4250000000000007},{"$f":"Prevalence!AG205*CC208","v":5.52},{"$f":"Prevalence!AH205*CD208","v":2.2549999999999999},{"$f":"Prevalence!AI205*CE208","v":1.4000000000000001},{"$f":"Prevalence!AJ205*CF208","v":3.69},{"$f":"Prevalence!AK205*CG208","v":1.9633333333333332},{"$f":"Prevalence!AL205*CH208","v":1.916666666666667},{"$f":"Prevalence!AM205*CI208","v":1.55},{"$f":"Prevalence!AN205*CJ208","v":6.541666666666667},{"$f":"Prevalence!AO205*CK208","v":1.5466666666666666},{"$f":"Prevalence!AP205*CL208","v":3.9333333333333331},{"$f":"Prevalence!AQ205*CM208","v":0.47666666666666668},{"$f":"Prevalence!AR205*CN208","v":1.2349999999999999},{"$f":"Prevalence!AS205*CO208","v":3.4},{"$f":"Prevalence!AT205*CP208","v":2.0333333333333332},{"$f":"Prevalence!AU205*CQ208","v":0.69333333333333325},{"$f":"Prevalence!AV205*CR208","v":1.6916666666666667},207,2234,91,118,119,167,127,312,291,244,113,292,31,13,316,0,52,178,113,60,17,119,46,21,41,73,41,154,0,49,167,105,184,41,30,82,31,46,31,157,32,118,13,39,85,61,13,35]
["Female <1",null,null,null,null,null,null,null,null,null,null,null,null,null,null,null,null,null,null,null,null,null,null,null,null,null,null,null,null,null,null,null,null,null,null,null,null,null,null,null,null,null,null,null,null,null,null,null,208]
["Female 1-4",null,null,null,null,null,null,null,null,null,null,null,null,null,null,null,null,null,null,null,null,null,null,null,null,null,null,null,null,null,null,null,null,null,null,null,null,null,null,null,null,null,null,null,null,null,null,null,209]
["Female 5-9",null,null,null,null,null,null,null,null,null,null,null,null,null,null,null,null,null,null,null,null,null,null,null,null,null,null,null,null,null,null,null,null,null,null,null,null,null,null,null,null,null,null,null,null,null,null,null,210]
["Female 10-14",null,null,null,null,null,null,null,null,null,null,null,null,null,null,null,null,null,null,null,null,null,null,null,null,null,null,null,null,null,null,null,null,null,null,null,null,null,null,null,null,null,null,null,null,null,null,null,211]
["Female 15-19 (16+)",{"$f":"Prevalence!B210*AX213","v":2957.7599999999998},{"$f":"Prevalence!C210*AY213","v":165.68181818181822},{"$f":"Prevalence!D210*AZ213","v":74.738181818181815},{"$f":"Prevalence!E210*BA213","v":111.40363636363635},{"$f":"Prevalence!F210*BB213","v":177.2018181818182},{"$f":"Prevalence!G210*BC213","v":165.97636363636363},{"$f":"Prevalence!H210*BD213","v":417.86181818181819},{"$f":"Prevalence!I210*BE213","v":504.12},{"$f":"Prevalence!J210*BF213","v":255.89454545454547},{"$f":"Prevalence!K210*BG213","v":226.32},{"$f":"Prevalence!L210*BH213","v":338.99454545454546},{"$f":"Prevalence!M210*BI213","v":24.95454545454545},{"$f":"Prevalence!N210*BJ213","v":20.236363636363635},{"$f":"Prevalence!O210*BK213","v":349.26545454545453},{"$f":"Prevalence!P210*BL213","v":1.5272727272727271},{"$f":"Prevalence!Q210*BM213","v":94.958181818181814},{"$f":"Prevalence!R210*BN213","v":240.4309090909091},{"$f":"Prevalence!S210*BO213","v":92.487272727272739},{"$f":"Prevalence!T210*BP213","v":68.334545454545449},{"$f":"Prevalence!U210*BQ213","v":26.116363636363634},{"$f":"Prevalence!V210*BR213","v":111.40363636363635},{"$f":"Prevalence!W210*BS213","v":81.512727272727261},{"$f":"Prevalence!X210*BT213","v":61.38},{"$f":"Prevalence!Y210*BU213","v":26.618181818181817},{"$f":"Prevalence!Z210*BV213","v":108.78545454545453},{"$f":"Prevalence!AA210*BW213","v":24.119999999999997},{"$f":"Prevalence!AB210*BX213","v":135.78545454545457},{"$f":"Prevalence!AC210*BY213","v":1.5272727272727271},{"$f":"Prevalence!AD210*BZ213","v":85.810909090909092},{"$f":"Prevalence!AE210*CA213","v":177.2018181818182},{"$f":"Prevalence!AF210*CB213","v":251.86909090909089},{"$f":"Prevalence!AG210*CC213","v":186.76363636363635},{"$f":"Prevalence!AH210*CD213","v":42.654545454545456},{"$f":"Prevalence!AI210*CE213","v":59.056363636363635},{"$f":"Prevalence!AJ210*CF213","v":74.618181818181824},{"$f":"Prevalence!AK210*CG213","v":81.589090909090913},{"$f":"Prevalence!AL210*CH213","v":109.8},{"$f":"Prevalence!AM210*CI213","v":24.95454545454545},{"$f":"Prevalence!AN210*CJ213","v":135},{"$f":"Prevalence!AO210*CK213","v":69.13636363636364},{"$f":"Prevalence!AP210*CL213","v":74.738181818181815},{"$f":"Prevalence!AQ210*CM213","v":20.236363636363635},{"$f":"Prevalence!AR210*CN213","v":26.007272727272724},{"$f":"Prevalence!AS210*CO213","v":164.55272727272725},{"$f":"Prevalence!AT210*CP213","v":48.599999999999994},{"$f":"Prevalence!AU210*CQ213","v":28.145454545454541},{"$f":"Prevalence!AV210*CR213","v":57.250909090909083},212,24648,1215,1054,851,1547,1449,3648,4201,2234,1804,3271,305,265,2784,20,829,2099,942,522,171,851,467,363,488,831,402,1383,20,684,1547,1924,1712,340,401,720,554,915,305,1375,507,1054,265,298,1257,594,172,656]
["Female 20-24",{"$f":"Prevalence!B211*AX214","v":3889.3199999999997},{"$f":"Prevalence!C211*AY214","v":193.90909090909093},{"$f":"Prevalence!D211*AZ214","v":63.96},{"$f":"Prevalence!E211*BA214","v":108.91636363636363},{"$f":"Prevalence!F211*BB214","v":211.22181818181818},{"$f":"Prevalence!G211*BC214","v":180.75272727272727},{"$f":"Prevalence!H211*BD214","v":542.6018181818182},{"$f":"Prevalence!I211*BE214","v":890.52},{"$f":"Prevalence!J211*BF214","v":246.61636363636364},{"$f":"Prevalence!K211*BG214","v":258.56181818181818},{"$f":"Prevalence!L211*BH214","v":583.36909090909091},{"$f":"Prevalence!M211*BI214","v":24.299999999999997},{"$f":"Prevalence!N211*BJ214","v":23.901818181818179},{"$f":"Prevalence!O211*BK214","v":402.08181818181816},{"$f":"Prevalence!P211*BL214","v":1.2981818181818181},{"$f":"Prevalence!Q211*BM214","v":218.43818181818182},{"$f":"Prevalence!R211*BN214","v":243.06545454545454},{"$f":"Prevalence!S211*BO214","v":87.185454545454547},{"$f":"Prevalence!T211*BP214","v":65.192727272727268},{"$f":"Prevalence!U211*BQ214","v":26.727272727272723},{"$f":"Prevalence!V211*BR214","v":108.91636363636363},{"$f":"Prevalence!W211*BS214","v":174.19636363636363},{"$f":"Prevalence!X211*BT214","v":85.390909090909091},{"$f":"Prevalence!Y211*BU214","v":29.018181818181816},{"$f":"Prevalence!Z211*BV214","v":110.22545454545453},{"$f":"Prevalence!AA211*BW214","v":23.64},{"$f":"Prevalence!AB211*BX214","v":341.86909090909091},{"$f":"Prevalence!AC211*BY214","v":1.2981818181818181},{"$f":"Prevalence!AD211*BZ214","v":90.578181818181818},{"$f":"Prevalence!AE211*CA214","v":211.22181818181818},{"$f":"Prevalence!AF211*CB214","v":637.13454545454533},{"$f":"Prevalence!AG211*CC214","v":180.54545454545453},{"$f":"Prevalence!AH211*CD214","v":46.543636363636367},{"$f":"Prevalence!AI211*CE214","v":79.969090909090909},{"$f":"Prevalence!AJ211*CF214","v":73.374545454545455},{"$f":"Prevalence!AK211*CG214","v":84.976363636363644},{"$f":"Prevalence!AL211*CH214","v":140.04},{"$f":"Prevalence!AM211*CI214","v":24.299999999999997},{"$f":"Prevalence!AN211*CJ214","v":129.50181818181818},{"$f":"Prevalence!AO211*CK214","v":77.045454545454561},{"$f":"Prevalence!AP211*CL214","v":63.96},{"$f":"Prevalence!AQ211*CM214","v":23.901818181818179},{"$f":"Prevalence!AR211*CN214","v":29.672727272727272},{"$f":"Prevalence!AS211*CO214","v":178.95272727272726},{"$f":"Prevalence!AT211*CP214","v":55.718181818181812},{"$f":"Prevalence!AU211*CQ214","v":35.836363636363629},{"$f":"Prevalence!AV211*CR214","v":66.50181818181818},213,32411,1422,902,832,1844,1578,4737,7421,2153,2061,5629,297,313,3205,17,1907,2122,888,498,175,832,998,505,532,842,394,3482,17,722,1844,4867,1655,371,543,708,577,1167,297,1319,565,902,313,340,1367,681,219,762]
["Female 25-29",{"$f":"Prevalence!B212*AX215","v":4360.3},{"$f":"Prevalence!C212*AY215","v":219.54545454545459},{"$f":"Prevalence!D212*AZ215","v":74.868181818181824},{"$f":"Prevalence!E212*BA215","v":125.69454545454546},{"$f":"Prevalence!F212*BB215","v":221.97000000000006},{"$f":"Prevalence!G212*BC215","v":219.69818181818187},{"$f":"Prevalence!H212*BD215","v":633.1690909090911},{"$f":"Prevalence!I212*BE215","v":779.24000000000012},{"$f":"Prevalence!J212*BF215","v":340.37181818181824},{"$f":"Prevalence!K212*BG215","v":304.43636363636364},{"$f":"Prevalence!L212*BH215","v":723.64090909090919},{"$f":"Prevalence!M212*BI215","v":32.645454545454548},{"$f":"Prevalence!N212*BJ215","v":31.270909090909093},{"$f":"Prevalence!O212*BK215","v":454.75181818181818},{"$f":"Prevalence!P212*BL215","v":1.4254545454545455},{"$f":"Prevalence!Q212*BM215","v":208.47272727272733},{"$f":"Prevalence!R212*BN215","v":311.90727272727281},{"$f":"Prevalence!S212*BO215","v":104.92363636363638},{"$f":"Prevalence!T212*BP215","v":72.087272727272733},{"$f":"Prevalence!U212*BQ215","v":36.883636363636363},{"$f":"Prevalence!V212*BR215","v":125.69454545454546},{"$f":"Prevalence!W212*BS215","v":133.99272727272731},{"$f":"Prevalence!X212*BT215","v":98.241818181818189},{"$f":"Prevalence!Y212*BU215","v":24.436363636363637},{"$f":"Prevalence!Z212*BV215","v":129.81818181818184},{"$f":"Prevalence!AA212*BW215","v":23.660000000000004},{"$f":"Prevalence!AB212*BX215","v":441.68727272727278},{"$f":"Prevalence!AC212*BY215","v":1.4254545454545455},{"$f":"Prevalence!AD212*BZ215","v":125.43363636363637},{"$f":"Prevalence!AE212*CA215","v":221.97000000000006},{"$f":"Prevalence!AF212*CB215","v":498.96000000000004},{"$f":"Prevalence!AG212*CC215","v":264.09090909090912},{"$f":"Prevalence!AH212*CD215","v":46.25090909090909},{"$f":"Prevalence!AI212*CE215","v":85.909090909090921},{"$f":"Prevalence!AJ212*CF215","v":102.04727272727274},{"$f":"Prevalence!AK212*CG215","v":97.592727272727288},{"$f":"Prevalence!AL212*CH215","v":164.22000000000003},{"$f":"Prevalence!AM212*CI215","v":32.645454545454548},{"$f":"Prevalence!AN212*CJ215","v":175.59818181818184},{"$f":"Prevalence!AO212*CK215","v":90.045454545454561},{"$f":"Prevalence!AP212*CL215","v":74.868181818181824},{"$f":"Prevalence!AQ212*CM215","v":31.270909090909093},{"$f":"Prevalence!AR212*CN215","v":31.970909090909096},{"$f":"Prevalence!AS212*CO215","v":214.88727272727274},{"$f":"Prevalence!AT212*CP215","v":55.363636363636367},{"$f":"Prevalence!AU212*CQ215","v":37.227272727272727},{"$f":"Prevalence!AV212*CR215","v":79.316363636363647},214,31145,1380,905,823,1661,1644,4738,5566,2547,2080,5985,342,351,3107,16,1560,2334,916,472,207,823,658,498,384,850,338,3856,16,857,1661,3267,2075,316,500,844,568,1173,342,1533,566,905,351,314,1407,580,195,779]
["Female 30-34",{"$f":"Prevalence!B213*AX216","v":4485.18},{"$f":"Prevalence!C213*AY216","v":241.81818181818187},{"$f":"Prevalence!D213*AZ216","v":80.410909090909101},{"$f":"Prevalence!E213*BA216","v":123.70909090909092},{"$f":"Prevalence!F213*BB216","v":247.49454545454552},{"$f":"Prevalence!G213*BC216","v":244.95545454545459},{"$f":"Prevalence!H213*BD216","v":638.64818181818191},{"$f":"Prevalence!I213*BE216","v":750.54000000000008},{"$f":"Prevalence!J213*BF216","v":369.2372727272728},{"$f":"Prevalence!K213*BG216","v":347.02818181818179},{"$f":"Prevalence!L213*BH216","v":710.70363636363641},{"$f":"Prevalence!M213*BI216","v":33.027272727272731},{"$f":"Prevalence!N213*BJ216","v":30.380000000000003},{"$f":"Prevalence!O213*BK216","v":468.36363636363637},{"$f":"Prevalence!P213*BL216","v":0.98000000000000009},{"$f":"Prevalence!Q213*BM216","v":157.95818181818186},{"$f":"Prevalence!R213*BN216","v":369.90545454545463},{"$f":"Prevalence!S213*BO216","v":122.90727272727274},{"$f":"Prevalence!T213*BP216","v":76.669090909090912},{"$f":"Prevalence!U213*BQ216","v":45.258181818181818},{"$f":"Prevalence!V213*BR216","v":123.70909090909092},{"$f":"Prevalence!W213*BS216","v":120.34909090909093},{"$f":"Prevalence!X213*BT216","v":112.44545454545455},{"$f":"Prevalence!Y213*BU216","v":27.618181818181821},{"$f":"Prevalence!Z213*BV216","v":155.62909090909093},{"$f":"Prevalence!AA213*BW216","v":26.110000000000003},{"$f":"Prevalence!AB213*BX216","v":389.91272727272735},{"$f":"Prevalence!AC213*BY216","v":0.98000000000000009},{"$f":"Prevalence!AD213*BZ216","v":149.29090909090908},{"$f":"Prevalence!AE213*CA216","v":247.49454545454552},{"$f":"Prevalence!AF213*CB216","v":412.66909090909093},{"$f":"Prevalence!AG213*CC216","v":287.76363636363641},{"$f":"Prevalence!AH213*CD216","v":49.470909090909089},{"$f":"Prevalence!AI213*CE216","v":93.469090909090923},{"$f":"Prevalence!AJ213*CF216","v":100.23363636363638},{"$f":"Prevalence!AK213*CG216","v":105.66818181818184},{"$f":"Prevalence!AL213*CH216","v":183.82000000000002},{"$f":"Prevalence!AM213*CI216","v":33.027272727272731},{"$f":"Prevalence!AN213*CJ216","v":175.94181818181821},{"$f":"Prevalence!AO213*CK216","v":94.659090909090921},{"$f":"Prevalence!AP213*CL216","v":80.410909090909101},{"$f":"Prevalence!AQ213*CM216","v":30.380000000000003},{"$f":"Prevalence!AR213*CN216","v":34.109090909090916},{"$f":"Prevalence!AS213*CO216","v":271.70181818181823},{"$f":"Prevalence!AT213*CP216","v":53.359090909090909},{"$f":"Prevalence!AU213*CQ216","v":37.800000000000004},{"$f":"Prevalence!AV213*CR216","v":92.756363636363659},215,32037,1520,972,810,1852,1833,4779,5361,2763,2371,5878,346,341,3200,11,1182,2768,1073,502,254,810,591,570,434,1019,373,3404,11,1020,1852,2702,2261,338,544,829,615,1313,346,1536,595,972,341,335,1779,559,198,911]
["Female 35-39",{"$f":"Prevalence!B214*AX217","v":7290.57},{"$f":"Prevalence!C214*AY217","v":437.42045454545456},{"$f":"Prevalence!D214*AZ217","v":172.23818181818183},{"$f":"Prevalence!E214*BA217","v":221.30181818181816},{"$f":"Prevalence!F214*BB217","v":445.20954545454549},{"$f":"Prevalence!G214*BC217","v":442.80409090909092},{"$f":"Prevalence!H214*BD217","v":992.45045454545459},{"$f":"Prevalence!I214*BE217","v":1126.23},{"$f":"Prevalence!J214*BF217","v":605.57318181818187},{"$f":"Prevalence!K214*BG217","v":577.6240909090908},{"$f":"Prevalence!L214*BH217","v":1034.860909090909},{"$f":"Prevalence!M214*BI217","v":52.404545454545449},{"$f":"Prevalence!N214*BJ217","v":51.984545454545454},{"$f":"Prevalence!O214*BK217","v":802.43863636363631},{"$f":"Prevalence!P214*BL217","v":2.4054545454545453},{"$f":"Prevalence!Q214*BM217","v":180.00818181818184},{"$f":"Prevalence!R214*BN217","v":625.2177272727273},{"$f":"Prevalence!S214*BO217","v":220.0990909090909},{"$f":"Prevalence!T214*BP217","v":139.51636363636362},{"$f":"Prevalence!U214*BQ217","v":75.370909090909095},{"$f":"Prevalence!V214*BR217","v":221.30181818181816},{"$f":"Prevalence!W214*BS217","v":159.44727272727275},{"$f":"Prevalence!X214*BT217","v":190.26954545454544},{"$f":"Prevalence!Y214*BU217","v":48.872727272727268},{"$f":"Prevalence!Z214*BV217","v":292.54909090909086},{"$f":"Prevalence!AA214*BW217","v":51.555},{"$f":"Prevalence!AB214*BX217","v":459.44181818181818},{"$f":"Prevalence!AC214*BY217","v":2.4054545454545453},{"$f":"Prevalence!AD214*BZ217","v":266.52818181818179},{"$f":"Prevalence!AE214*CA217","v":445.20954545454549},{"$f":"Prevalence!AF214*CB217","v":490.48363636363632},{"$f":"Prevalence!AG214*CC217","v":460.47272727272724},{"$f":"Prevalence!AH214*CD217","v":95.502272727272711},{"$f":"Prevalence!AI214*CE217","v":162.11045454545456},{"$f":"Prevalence!AJ214*CF217","v":169.39363636363638},{"$f":"Prevalence!AK214*CG217","v":195.8727272727273},{"$f":"Prevalence!AL214*CH217","v":299.45999999999998},{"$f":"Prevalence!AM214*CI217","v":52.404545454545449},{"$f":"Prevalence!AN214*CJ217","v":318.20727272727271},{"$f":"Prevalence!AO214*CK217","v":183.03409090909091},{"$f":"Prevalence!AP214*CL217","v":172.23818181818183},{"$f":"Prevalence!AQ214*CM217","v":51.984545454545454},{"$f":"Prevalence!AR214*CN217","v":65.672727272727272},{"$f":"Prevalence!AS214*CO217","v":461.61818181818177},{"$f":"Prevalence!AT214*CP217","v":102.08863636363635},{"$f":"Prevalence!AU214*CQ217","v":59.277272727272717},{"$f":"Prevalence!AV214*CR217","v":171.97090909090912},216,34717,1833,1388,966,2221,2209,4951,5363,3021,2631,5706,366,389,3655,18,898,3119,1281,609,282,966,522,643,512,1277,491,2674,18,1214,2221,2141,2412,435,629,934,760,1426,366,1852,767,1388,389,430,2015,713,207,1126]
["Female 40-44",{"$f":"Prevalence!B215*AX218","v":9075.15},{"$f":"Prevalence!C215*AY218","v":569.14772727272725},{"$f":"Prevalence!D215*AZ218","v":244.33500000000001},{"$f":"Prevalence!E215*BA218","v":311.56363636363631},{"$f":"Prevalence!F215*BB218","v":595.75090909090909},{"$f":"Prevalence!G215*BC218","v":548.64409090909089},{"$f":"Prevalence!H215*BD218","v":1186.2900000000002},{"$f":"Prevalence!I215*BE218","v":1330.77},{"$f":"Prevalence!J215*BF218","v":816.05045454545461},{"$f":"Prevalence!K215*BG218","v":739.20954545454538},{"$f":"Prevalence!L215*BH218","v":1135.5177272727274},{"$f":"Prevalence!M215*BI218","v":70.73181818181817},{"$f":"Prevalence!N215*BJ218","v":55.592727272727274},{"$f":"Prevalence!O215*BK218","v":1076.8704545454543},{"$f":"Prevalence!P215*BL218","v":3.0736363636363637},{"$f":"Prevalence!Q215*BM218","v":180.60954545454547},{"$f":"Prevalence!R215*BN218","v":767.13954545454556},{"$f":"Prevalence!S215*BO218","v":293.29363636363638},{"$f":"Prevalence!T215*BP218","v":213.97090909090906},{"$f":"Prevalence!U215*BQ218","v":107.97818181818182},{"$f":"Prevalence!V215*BR218","v":311.56363636363631},{"$f":"Prevalence!W215*BS218","v":201.29454545454547},{"$f":"Prevalence!X215*BT218","v":232.58454545454543},{"$f":"Prevalence!Y215*BU218","v":69.013636363636351},{"$f":"Prevalence!Z215*BV218","v":384.64363636363635},{"$f":"Prevalence!AA215*BW218","v":59.114999999999995},{"$f":"Prevalence!AB215*BX218","v":413.56636363636363},{"$f":"Prevalence!AC215*BY218","v":3.0736363636363637},{"$f":"Prevalence!AD215*BZ218","v":302.97272727272724},{"$f":"Prevalence!AE215*CA218","v":595.75090909090909},{"$f":"Prevalence!AF215*CB218","v":548.67272727272723},{"$f":"Prevalence!AG215*CC218","v":598.88181818181818},{"$f":"Prevalence!AH215*CD218","v":113.94409090909089},{"$f":"Prevalence!AI215*CE218","v":213.39818181818183},{"$f":"Prevalence!AJ215*CF218","v":215.82272727272726},{"$f":"Prevalence!AK215*CG218","v":258.75818181818187},{"$f":"Prevalence!AL215*CH218","v":385.97999999999996},{"$f":"Prevalence!AM215*CI218","v":70.73181818181817},{"$f":"Prevalence!AN215*CJ218","v":436.24636363636364},{"$f":"Prevalence!AO215*CK218","v":230.52272727272728},{"$f":"Prevalence!AP215*CL218","v":244.33500000000001},{"$f":"Prevalence!AQ215*CM218","v":55.592727272727274},{"$f":"Prevalence!AR215*CN218","v":90.872727272727275},{"$f":"Prevalence!AS215*CO218","v":549.58909090909083},{"$f":"Prevalence!AT215*CP218","v":136.45227272727271},{"$f":"Prevalence!AU215*CQ218","v":86.195454545454538},{"$f":"Prevalence!AV215*CR218","v":205.72363636363639},217,43215,2385,1969,1360,2972,2737,5918,6337,4071,3367,6261,494,416,4905,23,901,3827,1707,934,404,1360,659,786,723,1679,563,2407,23,1380,2972,2395,3137,519,828,1190,1004,1838,494,2539,966,1969,416,595,2399,953,301,1347]
["Female 45-49",{"$f":"Prevalence!B216*AX219","v":9241.6},{"$f":"Prevalence!C216*AY219","v":584.09090909090912},{"$f":"Prevalence!D216*AZ219","v":259.64545454545458},{"$f":"Prevalence!E216*BA219","v":352.14545454545453},{"$f":"Prevalence!F216*BB219","v":607.66363636363644},{"$f":"Prevalence!G216*BC219","v":524.80909090909097},{"$f":"Prevalence!H216*BD219","v":1199.8636363636365},{"$f":"Prevalence!I216*BE219","v":1403.6000000000001},{"$f":"Prevalence!J216*BF219","v":807.73636363636365},{"$f":"Prevalence!K216*BG219","v":756.28181818181827},{"$f":"Prevalence!L216*BH219","v":1121.1727272727273},{"$f":"Prevalence!M216*BI219","v":68.590909090909079},{"$f":"Prevalence!N216*BJ219","v":58.163636363636371},{"$f":"Prevalence!O216*BK219","v":1101.4909090909091},{"$f":"Prevalence!P216*BL219","v":3.1818181818181821},{"$f":"Prevalence!Q216*BM219","v":176.20909090909092},{"$f":"Prevalence!R216*BN219","v":760.39090909090908},{"$f":"Prevalence!S216*BO219","v":300.43636363636369},{"$f":"Prevalence!T216*BP219","v":219.92727272727271},{"$f":"Prevalence!U216*BQ219","v":101.05454545454546},{"$f":"Prevalence!V216*BR219","v":352.14545454545453},{"$f":"Prevalence!W216*BS219","v":214.10909090909095},{"$f":"Prevalence!X216*BT219","v":254.48181818181823},{"$f":"Prevalence!Y216*BU219","v":79.181818181818187},{"$f":"Prevalence!Z216*BV219","v":352.14545454545453},{"$f":"Prevalence!AA216*BW219","v":68},{"$f":"Prevalence!AB216*BX219","v":435.76363636363641},{"$f":"Prevalence!AC216*BY219","v":3.1818181818181821},{"$f":"Prevalence!AD216*BZ219","v":264.5},{"$f":"Prevalence!AE216*CA219","v":607.66363636363644},{"$f":"Prevalence!AF216*CB219","v":577.09090909090901},{"$f":"Prevalence!AG216*CC219","v":586},{"$f":"Prevalence!AH216*CD219","v":128.17272727272729},{"$f":"Prevalence!AI216*CE219","v":212.56363636363639},{"$f":"Prevalence!AJ216*CF219","v":238.19090909090909},{"$f":"Prevalence!AK216*CG219","v":256.74545454545455},{"$f":"Prevalence!AL216*CH219","v":376},{"$f":"Prevalence!AM216*CI219","v":68.590909090909079},{"$f":"Prevalence!AN216*CJ219","v":441.16363636363644},{"$f":"Prevalence!AO216*CK219","v":230.45454545454547},{"$f":"Prevalence!AP216*CL219","v":259.64545454545458},{"$f":"Prevalence!AQ216*CM219","v":58.163636363636371},{"$f":"Prevalence!AR216*CN219","v":90.327272727272742},{"$f":"Prevalence!AS216*CO219","v":557.67272727272723},{"$f":"Prevalence!AT216*CP219","v":148.22727272727272},{"$f":"Prevalence!AU216*CQ219","v":102.54545454545453},{"$f":"Prevalence!AV216*CR219","v":196.07272727272729},218,46208,2570,2197,1614,3183,2749,6285,7018,4231,3617,6491,503,457,5268,25,923,3983,1836,1008,397,1614,736,903,871,1614,680,2663,25,1265,3183,2645,3223,613,866,1379,1046,1880,503,2696,1014,2197,457,621,2556,1087,376,1348]
["Female 50-54",{"$f":"Prevalence!B217*AX220","v":8509.4},{"$f":"Prevalence!C217*AY220","v":526.13636363636374},{"$f":"Prevalence!D217*AZ220","v":234.94545454545457},{"$f":"Prevalence!E217*BA220","v":335.12727272727273},{"$f":"Prevalence!F217*BB220","v":587.80909090909097},{"$f":"Prevalence!G217*BC220","v":473.07272727272732},{"$f":"Prevalence!H217*BD220","v":1078.4454545454546},{"$f":"Prevalence!I217*BE220","v":1338.6000000000001},{"$f":"Prevalence!J217*BF220","v":771.84545454545457},{"$f":"Prevalence!K217*BG220","v":660.30909090909097},{"$f":"Prevalence!L217*BH220","v":1009.4181818181818},{"$f":"Prevalence!M217*BI220","v":60.818181818181813},{"$f":"Prevalence!N217*BJ220","v":55.872727272727282},{"$f":"Prevalence!O217*BK220","v":1014.7181818181818},{"$f":"Prevalence!P217*BL220","v":3.3090909090909095},{"$f":"Prevalence!Q217*BM220","v":174.3},{"$f":"Prevalence!R217*BN220","v":656.91818181818189},{"$f":"Prevalence!S217*BO220","v":282.43636363636369},{"$f":"Prevalence!T217*BP220","v":221.67272727272726},{"$f":"Prevalence!U217*BQ220","v":98.254545454545465},{"$f":"Prevalence!V217*BR220","v":335.12727272727273},{"$f":"Prevalence!W217*BS220","v":213.23636363636368},{"$f":"Prevalence!X217*BT220","v":211.08181818181822},{"$f":"Prevalence!Y217*BU220","v":80},{"$f":"Prevalence!Z217*BV220","v":306.10909090909087},{"$f":"Prevalence!AA217*BW220","v":65.5},{"$f":"Prevalence!AB217*BX220","v":405.81818181818187},{"$f":"Prevalence!AC217*BY220","v":3.3090909090909095},{"$f":"Prevalence!AD217*BZ220","v":233.9727272727273},{"$f":"Prevalence!AE217*CA220","v":587.80909090909097},{"$f":"Prevalence!AF217*CB220","v":526.90909090909088},{"$f":"Prevalence!AG217*CC220","v":550.36363636363637},{"$f":"Prevalence!AH217*CD220","v":128.59090909090909},{"$f":"Prevalence!AI217*CE220","v":187.03636363636366},{"$f":"Prevalence!AJ217*CF220","v":223.68181818181819},{"$f":"Prevalence!AK217*CG220","v":231.4636363636364},{"$f":"Prevalence!AL217*CH220","v":321.20000000000005},{"$f":"Prevalence!AM217*CI220","v":60.818181818181813},{"$f":"Prevalence!AN217*CJ220","v":391.74545454545461},{"$f":"Prevalence!AO217*CK220","v":236.81818181818184},{"$f":"Prevalence!AP217*CL220","v":234.94545454545457},{"$f":"Prevalence!AQ217*CM220","v":55.872727272727282},{"$f":"Prevalence!AR217*CN220","v":90.618181818181824},{"$f":"Prevalence!AS217*CO220","v":492},{"$f":"Prevalence!AT217*CP220","v":132.68181818181816},{"$f":"Prevalence!AU217*CQ220","v":104.45454545454545},{"$f":"Prevalence!AV217*CR220","v":174.40000000000003},219,42547,2315,1988,1536,3079,2478,5649,6693,4043,3158,5844,446,439,4853,26,913,3441,1726,1016,386,1536,733,749,880,1403,655,2480,26,1119,3079,2415,3027,615,762,1295,943,1606,446,2394,1042,1988,439,623,2255,973,383,1199]
["Female 55-59",{"$f":"Prevalence!B218*AX221","v":5373.6200000000008},{"$f":"Prevalence!C218*AY221","v":351.59090909090912},{"$f":"Prevalence!D218*AZ221","v":152.21818181818182},{"$f":"Prevalence!E218*BA221","v":232.29818181818183},{"$f":"Prevalence!F218*BB221","v":352.53272727272736},{"$f":"Prevalence!G218*BC221","v":299.47909090909098},{"$f":"Prevalence!H218*BD221","v":698.91818181818201},{"$f":"Prevalence!I218*BE221","v":799.40000000000009},{"$f":"Prevalence!J218*BF221","v":505.14545454545464},{"$f":"Prevalence!K218*BG221","v":398.84090909090907},{"$f":"Prevalence!L218*BH221","v":598.37909090909102},{"$f":"Prevalence!M218*BI221","v":46.009090909090908},{"$f":"Prevalence!N218*BJ221","v":36.527272727272731},{"$f":"Prevalence!O218*BK221","v":677.37090909090909},{"$f":"Prevalence!P218*BL221","v":1.6927272727272729},{"$f":"Prevalence!Q218*BM221","v":106.24090909090911},{"$f":"Prevalence!R218*BN221","v":428.97272727272735},{"$f":"Prevalence!S218*BO221","v":182.92909090909095},{"$f":"Prevalence!T218*BP221","v":146.31272727272727},{"$f":"Prevalence!U218*BQ221","v":59.156363636363636},{"$f":"Prevalence!V218*BR221","v":232.29818181818183},{"$f":"Prevalence!W218*BS221","v":133.78909090909093},{"$f":"Prevalence!X218*BT221","v":134.54000000000002},{"$f":"Prevalence!Y218*BU221","v":48.681818181818187},{"$f":"Prevalence!Z218*BV221","v":192.28363636363639},{"$f":"Prevalence!AA218*BW221","v":38.290000000000006},{"$f":"Prevalence!AB218*BX221","v":226.45636363636368},{"$f":"Prevalence!AC218*BY221","v":1.6927272727272729},{"$f":"Prevalence!AD218*BZ221","v":146.21727272727273},{"$f":"Prevalence!AE218*CA221","v":352.53272727272736},{"$f":"Prevalence!AF218*CB221","v":309.57818181818186},{"$f":"Prevalence!AG218*CC221","v":359.16363636363639},{"$f":"Prevalence!AH218*CD221","v":76.987272727272725},{"$f":"Prevalence!AI218*CE221","v":125.42727272727275},{"$f":"Prevalence!AJ218*CF221","v":148.11363636363637},{"$f":"Prevalence!AK218*CG221","v":160.13454545454547},{"$f":"Prevalence!AL218*CH221","v":190.4},{"$f":"Prevalence!AM218*CI221","v":46.009090909090908},{"$f":"Prevalence!AN218*CJ221","v":271.93090909090915},{"$f":"Prevalence!AO218*CK221","v":147.79545454545456},{"$f":"Prevalence!AP218*CL221","v":152.21818181818182},{"$f":"Prevalence!AQ218*CM221","v":36.527272727272731},{"$f":"Prevalence!AR218*CN221","v":60.683636363636374},{"$f":"Prevalence!AS218*CO221","v":299.49818181818182},{"$f":"Prevalence!AT218*CP221","v":86.863636363636374},{"$f":"Prevalence!AU218*CQ221","v":61.090909090909093},{"$f":"Prevalence!AV218*CR221","v":100.08727272727275},220,38383,2210,1840,1521,2638,2241,5230,5710,3780,2725,4949,482,410,4628,19,795,3210,1597,958,332,1521,657,682,765,1259,547,1977,19,999,2638,2027,2822,526,730,1225,932,1360,482,2374,929,1840,410,596,1961,910,320,983]
["Female 60-64",{"$f":"Prevalence!B219*AX222","v":5178.18},{"$f":"Prevalence!C219*AY222","v":360.50000000000006},{"$f":"Prevalence!D219*AZ222","v":157.43},{"$f":"Prevalence!E219*BA222","v":242.98909090909092},{"$f":"Prevalence!F219*BB222","v":376.58727272727282},{"$f":"Prevalence!G219*BC222","v":281.43818181818187},{"$f":"Prevalence!H219*BD222","v":654.41727272727292},{"$f":"Prevalence!I219*BE222","v":704.06000000000006},{"$f":"Prevalence!J219*BF222","v":508.75363636363647},{"$f":"Prevalence!K219*BG222","v":350.54090909090911},{"$f":"Prevalence!L219*BH222","v":562.46909090909094},{"$f":"Prevalence!M219*BI222","v":44.195454545454545},{"$f":"Prevalence!N219*BJ222","v":32.963636363636368},{"$f":"Prevalence!O219*BK222","v":682.7863636363636},{"$f":"Prevalence!P219*BL222","v":2.2272727272727275},{"$f":"Prevalence!Q219*BM222","v":99.960000000000022},{"$f":"Prevalence!R219*BN222","v":392.62363636363642},{"$f":"Prevalence!S219*BO222","v":189.91636363636366},{"$f":"Prevalence!T219*BP222","v":156.24},{"$f":"Prevalence!U219*BQ222","v":55.949090909090913},{"$f":"Prevalence!V219*BR222","v":242.98909090909092},{"$f":"Prevalence!W219*BS222","v":127.88363636363638},{"$f":"Prevalence!X219*BT222","v":143.41727272727275},{"$f":"Prevalence!Y219*BU222","v":43.909090909090914},{"$f":"Prevalence!Z219*BV222","v":188.3127272727273},{"$f":"Prevalence!AA219*BW222","v":35.35},{"$f":"Prevalence!AB219*BX222","v":219.35454545454547},{"$f":"Prevalence!AC219*BY222","v":2.2272727272727275},{"$f":"Prevalence!AD219*BZ222","v":148.55909090909091},{"$f":"Prevalence!AE219*CA222","v":376.58727272727282},{"$f":"Prevalence!AF219*CB222","v":250.32000000000002},{"$f":"Prevalence!AG219*CC222","v":354.32727272727277},{"$f":"Prevalence!AH219*CD222","v":72.157272727272726},{"$f":"Prevalence!AI219*CE222","v":105.15272727272729},{"$f":"Prevalence!AJ219*CF222","v":146.42090909090911},{"$f":"Prevalence!AK219*CG222","v":156.87000000000003},{"$f":"Prevalence!AL219*CH222","v":168.14000000000001},{"$f":"Prevalence!AM219*CI222","v":44.195454545454545},{"$f":"Prevalence!AN219*CJ222","v":272.50363636363642},{"$f":"Prevalence!AO219*CK222","v":138.40909090909093},{"$f":"Prevalence!AP219*CL222","v":157.43},{"$f":"Prevalence!AQ219*CM222","v":32.963636363636368},{"$f":"Prevalence!AR219*CN222","v":63.738181818181829},{"$f":"Prevalence!AS219*CO222","v":260.24727272727273},{"$f":"Prevalence!AT219*CP222","v":74.168181818181822},{"$f":"Prevalence!AU219*CQ222","v":61.472727272727276},{"$f":"Prevalence!AV219*CR222","v":90.821818181818202},221,36987,2266,1903,1591,2818,2106,4897,5029,3807,2395,4652,463,370,4665,25,748,2938,1658,1023,314,1591,628,727,690,1233,505,1915,25,1015,2818,1639,2784,493,612,1211,913,1201,463,2379,870,1903,370,626,1704,777,322,892]
["Female 65-69",{"$f":"Prevalence!B220*AX223","v":3969.3599999999997},{"$f":"Prevalence!C220*AY223","v":278.31818181818187},{"$f":"Prevalence!D220*AZ223","v":127.35272727272726},{"$f":"Prevalence!E220*BA223","v":204.34909090909088},{"$f":"Prevalence!F220*BB223","v":297.36},{"$f":"Prevalence!G220*BC223","v":227.02909090909091},{"$f":"Prevalence!H220*BD223","v":493.46181818181822},{"$f":"Prevalence!I220*BE223","v":510.96},{"$f":"Prevalence!J220*BF223","v":392.08909090909094},{"$f":"Prevalence!K220*BG223","v":252.66545454545457},{"$f":"Prevalence!L220*BH223","v":428.74363636363637},{"$f":"Prevalence!M220*BI223","v":32.399999999999991},{"$f":"Prevalence!N220*BJ223","v":21.534545454545452},{"$f":"Prevalence!O220*BK223","v":534.43636363636369},{"$f":"Prevalence!P220*BL223","v":1.8327272727272725},{"$f":"Prevalence!Q220*BM223","v":74.569090909090917},{"$f":"Prevalence!R220*BN223","v":291.74727272727273},{"$f":"Prevalence!S220*BO223","v":150.51272727272729},{"$f":"Prevalence!T220*BP223","v":127.24363636363634},{"$f":"Prevalence!U220*BQ223","v":45.665454545454544},{"$f":"Prevalence!V220*BR223","v":204.34909090909088},{"$f":"Prevalence!W220*BS223","v":89.192727272727268},{"$f":"Prevalence!X220*BT223","v":96.043636363636367},{"$f":"Prevalence!Y220*BU223","v":32.509090909090908},{"$f":"Prevalence!Z220*BV223","v":137.58545454545452},{"$f":"Prevalence!AA220*BW223","v":24.599999999999998},{"$f":"Prevalence!AB220*BX223","v":160.92000000000002},{"$f":"Prevalence!AC220*BY223","v":1.8327272727272725},{"$f":"Prevalence!AD220*BZ223","v":111.02727272727273},{"$f":"Prevalence!AE220*CA223","v":297.36},{"$f":"Prevalence!AF220*CB223","v":175.28727272727269},{"$f":"Prevalence!AG220*CC223","v":267.38181818181818},{"$f":"Prevalence!AH220*CD223","v":59.967272727272729},{"$f":"Prevalence!AI220*CE223","v":92.929090909090917},{"$f":"Prevalence!AJ220*CF223","v":115.03636363636363},{"$f":"Prevalence!AK220*CG223","v":126.50727272727273},{"$f":"Prevalence!AL220*CH223","v":119.16},{"$f":"Prevalence!AM220*CI223","v":32.399999999999991},{"$f":"Prevalence!AN220*CJ223","v":217.57090909090911},{"$f":"Prevalence!AO220*CK223","v":105.00000000000001},{"$f":"Prevalence!AP220*CL223","v":127.35272727272726},{"$f":"Prevalence!AQ220*CM223","v":21.534545454545452},{"$f":"Prevalence!AR220*CN223","v":53.585454545454539},{"$f":"Prevalence!AS220*CO223","v":186.02181818181816},{"$f":"Prevalence!AT220*CP223","v":65.290909090909082},{"$f":"Prevalence!AU220*CQ223","v":43.363636363636353},{"$f":"Prevalence!AV220*CR223","v":71.214545454545444},222,33078,2041,1796,1561,2596,1982,4308,4258,3423,2014,4137,396,282,4260,24,651,2547,1533,972,299,1561,511,568,596,1051,410,1639,24,885,2596,1339,2451,478,631,1110,859,993,396,2216,770,1796,282,614,1421,798,265,816]
["Female 70-74",{"$f":"Prevalence!B221*AX224","v":3046.92},{"$f":"Prevalence!C221*AY224","v":203.18181818181822},{"$f":"Prevalence!D221*AZ224","v":101.61272727272727},{"$f":"Prevalence!E221*BA224","v":158.53090909090906},{"$f":"Prevalence!F221*BB224","v":214.42909090909092},{"$f":"Prevalence!G221*BC224","v":174.68181818181819},{"$f":"Prevalence!H221*BD224","v":368.83636363636361},{"$f":"Prevalence!I221*BE224","v":393.59999999999997},{"$f":"Prevalence!J221*BF224","v":293.35090909090911},{"$f":"Prevalence!K221*BG224","v":207},{"$f":"Prevalence!L221*BH224","v":331.11818181818182},{"$f":"Prevalence!M221*BI224","v":27.490909090909085},{"$f":"Prevalence!N221*BJ224","v":19.778181818181817},{"$f":"Prevalence!O221*BK224","v":419.0181818181818},{"$f":"Prevalence!P221*BL224","v":1.4509090909090907},{"$f":"Prevalence!Q221*BM224","v":58.876363636363635},{"$f":"Prevalence!R221*BN224","v":216.4909090909091},{"$f":"Prevalence!S221*BO224","v":116.64000000000001},{"$f":"Prevalence!T221*BP224","v":95.039999999999992},{"$f":"Prevalence!U221*BQ224","v":32.836363636363636},{"$f":"Prevalence!V221*BR224","v":158.53090909090906},{"$f":"Prevalence!W221*BS224","v":67.374545454545455},{"$f":"Prevalence!X221*BT224","v":70.00363636363636},{"$f":"Prevalence!Y221*BU224","v":26.4},{"$f":"Prevalence!Z221*BV224","v":103.15636363636362},{"$f":"Prevalence!AA221*BW224","v":21.36},{"$f":"Prevalence!AB221*BX224","v":134.90181818181819},{"$f":"Prevalence!AC221*BY224","v":1.4509090909090907},{"$f":"Prevalence!AD221*BZ224","v":84.807272727272732},{"$f":"Prevalence!AE221*CA224","v":214.42909090909092},{"$f":"Prevalence!AF221*CB224","v":142.16727272727272},{"$f":"Prevalence!AG221*CC224","v":200.18181818181816},{"$f":"Prevalence!AH221*CD224","v":44.034545454545459},{"$f":"Prevalence!AI221*CE224","v":64.358181818181819},{"$f":"Prevalence!AJ221*CF224","v":84.567272727272723},{"$f":"Prevalence!AK221*CG224","v":89.836363636363643},{"$f":"Prevalence!AL221*CH224","v":89.28},{"$f":"Prevalence!AM221*CI224","v":27.490909090909085},{"$f":"Prevalence!AN221*CJ224","v":173.38909090909092},{"$f":"Prevalence!AO221*CK224","v":76.090909090909108},{"$f":"Prevalence!AP221*CL224","v":101.61272727272727},{"$f":"Prevalence!AQ221*CM224","v":19.778181818181817},{"$f":"Prevalence!AR221*CN224","v":40.669090909090905},{"$f":"Prevalence!AS221*CO224","v":148.84363636363634},{"$f":"Prevalence!AT221*CP224","v":51.872727272727261},{"$f":"Prevalence!AU221*CQ224","v":35.018181818181809},{"$f":"Prevalence!AV221*CR224","v":52.014545454545448},223,25391,1490,1433,1211,1872,1525,3220,3280,2561,1650,3195,336,259,3340,19,514,1890,1188,726,215,1211,386,414,484,788,356,1374,19,676,1872,1086,1835,351,437,816,610,744,336,1766,558,1433,259,466,1137,634,214,596]
["Female 75-79",{"$f":"Prevalence!B222*AX225","v":1051.45},{"$f":"Prevalence!C222*AY225","v":70.227272727272734},{"$f":"Prevalence!D222*AZ225","v":32.20454545454546},{"$f":"Prevalence!E222*BA225","v":55.527272727272724},{"$f":"Prevalence!F222*BB225","v":72.306818181818187},{"$f":"Prevalence!G222*BC225","v":58.37045454545455},{"$f":"Prevalence!H222*BD225","v":125.57045454545455},{"$f":"Prevalence!I222*BE225","v":142.5},{"$f":"Prevalence!J222*BF225","v":103.47272727272728},{"$f":"Prevalence!K222*BG225","v":69.470454545454544},{"$f":"Prevalence!L222*BH225","v":115.07954545454545},{"$f":"Prevalence!M222*BI225","v":8.2159090909090899},{"$f":"Prevalence!N222*BJ225","v":5.7909090909090919},{"$f":"Prevalence!O222*BK225","v":149.55227272727274},{"$f":"Prevalence!P222*BL225","v":0.63636363636363646},{"$f":"Prevalence!Q222*BM225","v":21.859090909090909},{"$f":"Prevalence!R222*BN225","v":70.206818181818178},{"$f":"Prevalence!S222*BO225","v":39.763636363636373},{"$f":"Prevalence!T222*BP225","v":33.381818181818183},{"$f":"Prevalence!U222*BQ225","v":11.136363636363638},{"$f":"Prevalence!V222*BR225","v":55.527272727272724},{"$f":"Prevalence!W222*BS225","v":31.054545454545458},{"$f":"Prevalence!X222*BT225","v":21.700000000000003},{"$f":"Prevalence!Y222*BU225","v":9.8181818181818183},{"$f":"Prevalence!Z222*BV225","v":33.163636363636364},{"$f":"Prevalence!AA222*BW225","v":8.5},{"$f":"Prevalence!AB222*BX225","v":51.259090909090915},{"$f":"Prevalence!AC222*BY225","v":0.63636363636363646},{"$f":"Prevalence!AD222*BZ225","v":26.65909090909091},{"$f":"Prevalence!AE222*CA225","v":72.306818181818187},{"$f":"Prevalence!AF222*CB225","v":51.54545454545454},{"$f":"Prevalence!AG222*CC225","v":70.727272727272734},{"$f":"Prevalence!AH222*CD225","v":14.165909090909091},{"$f":"Prevalence!AI222*CE225","v":21.661363636363639},{"$f":"Prevalence!AJ222*CF225","v":30.313636363636363},{"$f":"Prevalence!AK222*CG225","v":29.393181818181823},{"$f":"Prevalence!AL222*CH225","v":29.35},{"$f":"Prevalence!AM222*CI225","v":8.2159090909090899},{"$f":"Prevalence!AN222*CJ225","v":59.809090909090919},{"$f":"Prevalence!AO222*CK225","v":28.06818181818182},{"$f":"Prevalence!AP222*CL225","v":32.20454545454546},{"$f":"Prevalence!AQ222*CM225","v":5.7909090909090919},{"$f":"Prevalence!AR222*CN225","v":16.327272727272728},{"$f":"Prevalence!AS222*CO225","v":51.763636363636358},{"$f":"Prevalence!AT222*CP225","v":18.34090909090909},{"$f":"Prevalence!AU222*CQ225","v":10.977272727272727},{"$f":"Prevalence!AV222*CR225","v":16.400000000000002},224,21029,1236,1090,1018,1515,1223,2631,2850,2168,1329,2665,241,182,2861,20,458,1471,972,612,175,1018,427,308,432,608,340,1253,20,510,1515,945,1556,271,353,702,479,587,241,1462,494,1090,182,449,949,538,161,451]
["Female 80-84",{"$f":"Prevalence!B223*AX226","v":804.6},{"$f":"Prevalence!C223*AY226","v":50.56818181818182},{"$f":"Prevalence!D223*AZ226","v":23.577272727272728},{"$f":"Prevalence!E223*BA226","v":45.981818181818177},{"$f":"Prevalence!F223*BB226","v":52.452272727272728},{"$f":"Prevalence!G223*BC226","v":45.054545454545455},{"$f":"Prevalence!H223*BD226","v":101.27727272727273},{"$f":"Prevalence!I223*BE226","v":111.85000000000001},{"$f":"Prevalence!J223*BF226","v":75.170454545454547},{"$f":"Prevalence!K223*BG226","v":46.784090909090914},{"$f":"Prevalence!L223*BH226","v":94.740909090909085},{"$f":"Prevalence!M223*BI226","v":6.0681818181818175},{"$f":"Prevalence!N223*BJ226","v":5.0590909090909095},{"$f":"Prevalence!O223*BK226","v":111.96818181818182},{"$f":"Prevalence!P223*BL226","v":0.50909090909090915},{"$f":"Prevalence!Q223*BM226","v":20.809090909090909},{"$f":"Prevalence!R223*BN226","v":54.361363636363642},{"$f":"Prevalence!S223*BO226","v":29.04545454545455},{"$f":"Prevalence!T223*BP226","v":23.127272727272725},{"$f":"Prevalence!U223*BQ226","v":7.8909090909090915},{"$f":"Prevalence!V223*BR226","v":45.981818181818177},{"$f":"Prevalence!W223*BS226","v":25.600000000000005},{"$f":"Prevalence!X223*BT226","v":15.500000000000002},{"$f":"Prevalence!Y223*BU226","v":6.2954545454545459},{"$f":"Prevalence!Z223*BV226","v":25.745454545454542},{"$f":"Prevalence!AA223*BW226","v":7.65},{"$f":"Prevalence!AB223*BX226","v":48.968181818181826},{"$f":"Prevalence!AC223*BY226","v":0.50909090909090915},{"$f":"Prevalence!AD223*BZ226","v":20.90909090909091},{"$f":"Prevalence!AE223*CA226","v":52.452272727272728},{"$f":"Prevalence!AF223*CB226","v":41.018181818181816},{"$f":"Prevalence!AG223*CC226","v":52.31818181818182},{"$f":"Prevalence!AH223*CD226","v":15.263636363636365},{"$f":"Prevalence!AI223*CE226","v":13.561363636363637},{"$f":"Prevalence!AJ223*CF226","v":23.620454545454546},{"$f":"Prevalence!AK223*CG226","v":21.538636363636368},{"$f":"Prevalence!AL223*CH226","v":16.7},{"$f":"Prevalence!AM223*CI226","v":6.0681818181818175},{"$f":"Prevalence!AN223*CJ226","v":44.181818181818187},{"$f":"Prevalence!AO223*CK226","v":19.147727272727273},{"$f":"Prevalence!AP223*CL226","v":23.577272727272728},{"$f":"Prevalence!AQ223*CM226","v":5.0590909090909095},{"$f":"Prevalence!AR223*CN226","v":11.600000000000001},{"$f":"Prevalence!AS223*CO226","v":38.890909090909091},{"$f":"Prevalence!AT223*CP226","v":14.318181818181817},{"$f":"Prevalence!AU223*CQ226","v":8.25},{"$f":"Prevalence!AV223*CR226","v":11.054545454545456},225,16092,890,798,843,1099,944,2122,2237,1575,895,2194,178,159,2142,16,436,1139,710,424,124,843,352,220,277,472,306,1197,16,400,1099,752,1151,292,221,547,351,334,178,1080,337,798,159,319,713,420,121,304]
["Female 85-89",{"$f":"Prevalence!B224*AX227","v":506.95000000000005},{"$f":"Prevalence!C224*AY227","v":31.079545454545457},{"$f":"Prevalence!D224*AZ227","v":14.890909090909092},{"$f":"Prevalence!E224*BA227","v":27.763636363636362},{"$f":"Prevalence!F224*BB227","v":32.597727272727276},{"$f":"Prevalence!G224*BC227","v":28.684090909090909},{"$f":"Prevalence!H224*BD227","v":65.100000000000009},{"$f":"Prevalence!I224*BE227","v":71},{"$f":"Prevalence!J224*BF227","v":47.154545454545456},{"$f":"Prevalence!K224*BG227","v":25.143181818181819},{"$f":"Prevalence!L224*BH227","v":57.95},{"$f":"Prevalence!M224*BI227","v":3.2386363636363633},{"$f":"Prevalence!N224*BJ227","v":3.372727272727273},{"$f":"Prevalence!O224*BK227","v":77.729545454545459},{"$f":"Prevalence!P224*BL227","v":0.38181818181818183},{"$f":"Prevalence!Q224*BM227","v":12.647727272727273},{"$f":"Prevalence!R224*BN227","v":35.31818181818182},{"$f":"Prevalence!S224*BO227","v":19.390909090909094},{"$f":"Prevalence!T224*BP227","v":13.963636363636363},{"$f":"Prevalence!U224*BQ227","v":3.436363636363637},{"$f":"Prevalence!V224*BR227","v":27.763636363636362},{"$f":"Prevalence!W224*BS227","v":17.600000000000001},{"$f":"Prevalence!X224*BT227","v":9.0181818181818194},{"$f":"Prevalence!Y224*BU227","v":4.1818181818181817},{"$f":"Prevalence!Z224*BV227","v":14.727272727272727},{"$f":"Prevalence!AA224*BW227","v":5.15},{"$f":"Prevalence!AB224*BX227","v":31.868181818181824},{"$f":"Prevalence!AC224*BY227","v":0.38181818181818183},{"$f":"Prevalence!AD224*BZ227","v":13.015909090909092},{"$f":"Prevalence!AE224*CA227","v":32.597727272727276},{"$f":"Prevalence!AF224*CB227","v":25.309090909090909},{"$f":"Prevalence!AG224*CC227","v":33.272727272727273},{"$f":"Prevalence!AH224*CD227","v":11.970454545454546},{"$f":"Prevalence!AI224*CE227","v":7.9772727272727284},{"$f":"Prevalence!AJ224*CF227","v":15.502272727272727},{"$f":"Prevalence!AK224*CG227","v":14.359090909090911},{"$f":"Prevalence!AL224*CH227","v":9.35},{"$f":"Prevalence!AM224*CI227","v":3.2386363636363633},{"$f":"Prevalence!AN224*CJ227","v":31.540909090909096},{"$f":"Prevalence!AO224*CK227","v":11.81818181818182},{"$f":"Prevalence!AP224*CL227","v":14.890909090909092},{"$f":"Prevalence!AQ224*CM227","v":3.372727272727273},{"$f":"Prevalence!AR224*CN227","v":6.7272727272727284},{"$f":"Prevalence!AS224*CO227","v":19.854545454545452},{"$f":"Prevalence!AT224*CP227","v":10.159090909090908},{"$f":"Prevalence!AU224*CQ227","v":4.0227272727272725},{"$f":"Prevalence!AV224*CR227","v":5.9272727272727277},226,10139,547,504,509,683,601,1364,1420,988,481,1342,95,106,1487,12,265,740,474,256,54,509,242,128,184,270,206,779,12,249,683,464,732,229,130,359,234,187,95,771,208,504,106,185,364,298,59,163]
["Female 90+",{"$f":"Prevalence!B225*AX228","v":297.5},{"$f":"Prevalence!C225*AY228","v":18.920454545454547},{"$f":"Prevalence!D225*AZ228","v":9.8090909090909104},{"$f":"Prevalence!E225*BA228","v":17.236363636363635},{"$f":"Prevalence!F225*BB228","v":20.475000000000001},{"$f":"Prevalence!G225*BC228","v":15.606818181818182},{"$f":"Prevalence!H225*BD228","v":37.561363636363637},{"$f":"Prevalence!I225*BE228","v":43.400000000000006},{"$f":"Prevalence!J225*BF228","v":31.070454545454545},{"$f":"Prevalence!K225*BG228","v":13.172727272727274},{"$f":"Prevalence!L225*BH228","v":32.429545454545455},{"$f":"Prevalence!M225*BI228","v":2.5568181818181817},{"$f":"Prevalence!N225*BJ228","v":1.9727272727272729},{"$f":"Prevalence!O225*BK228","v":39.622727272727275},{"$f":"Prevalence!P225*BL228","v":0.28636363636363638},{"$f":"Prevalence!Q225*BM228","v":7.0159090909090915},{"$f":"Prevalence!R225*BN228","v":20.856818181818184},{"$f":"Prevalence!S225*BO228","v":9.4090909090909101},{"$f":"Prevalence!T225*BP228","v":8.4},{"$f":"Prevalence!U225*BQ228","v":2.2272727272727275},{"$f":"Prevalence!V225*BR228","v":17.236363636363635},{"$f":"Prevalence!W225*BS228","v":9.6000000000000014},{"$f":"Prevalence!X225*BT228","v":6.2000000000000011},{"$f":"Prevalence!Y225*BU228","v":1.9772727272727273},{"$f":"Prevalence!Z225*BV228","v":8.4},{"$f":"Prevalence!AA225*BW228","v":3.6750000000000003},{"$f":"Prevalence!AB225*BX228","v":18.940909090909095},{"$f":"Prevalence!AC225*BY228","v":0.28636363636363638},{"$f":"Prevalence!AD225*BZ228","v":7.4750000000000005},{"$f":"Prevalence!AE225*CA228","v":20.475000000000001},{"$f":"Prevalence!AF225*CB228","v":16.636363636363637},{"$f":"Prevalence!AG225*CC228","v":22.59090909090909},{"$f":"Prevalence!AH225*CD228","v":7.4227272727272728},{"$f":"Prevalence!AI225*CE228","v":3.3750000000000004},{"$f":"Prevalence!AJ225*CF228","v":8.7659090909090907},{"$f":"Prevalence!AK225*CG228","v":8.7136363636363647},{"$f":"Prevalence!AL225*CH228","v":4.25},{"$f":"Prevalence!AM225*CI228","v":2.5568181818181817},{"$f":"Prevalence!AN225*CJ228","v":16.200000000000003},{"$f":"Prevalence!AO225*CK228","v":5.7954545454545459},{"$f":"Prevalence!AP225*CL228","v":9.8090909090909104},{"$f":"Prevalence!AQ225*CM228","v":1.9727272727272729},{"$f":"Prevalence!AR225*CN228","v":3.745454545454546},{"$f":"Prevalence!AS225*CO228","v":11.836363636363636},{"$f":"Prevalence!AT225*CP228","v":5.0795454545454541},{"$f":"Prevalence!AU225*CQ228","v":2.3863636363636362},{"$f":"Prevalence!AV225*CR228","v":2.872727272727273},227,5950,333,332,316,429,327,787,868,651,252,751,75,62,758,9,147,437,230,154,35,316,132,88,87,154,147,463,9,143,429,305,497,142,55,203,142,85,75,396,102,332,62,103,217,149,35,79]
["age/sex breakdown: Q5",null,null,null,null,null,null,null,null,null,null,null,null,null,null,null,null,null,null,null,null,null,null,null,null,null,null,null,null,null,null,null,null,null,null,null,null,null,null,null,null,null,null,null,null,null,null,null,228]
["Male <1",null,null,null,null,null,null,null,null,null,null,null,null,null,null,null,null,null,null,null,null,null,null,null,null,null,null,null,null,null,null,null,null,null,null,null,null,null,null,null,null,null,null,null,null,null,null,null,229]
["Male 1-4",null,null,null,null,null,null,null,null,null,null,null,null,null,null,null,null,null,null,null,null,null,null,null,null,null,null,null,null,null,null,null,null,null,null,null,null,null,null,null,null,null,null,null,null,null,null,null,230]
["Male 5-9",null,null,null,null,null,null,null,null,null,null,null,null,null,null,null,null,null,null,null,null,null,null,null,null,null,null,null,null,null,null,null,null,null,null,null,null,null,null,null,null,null,null,null,null,null,null,null,231]
["Male 10-14",null,null,null,null,null,null,null,null,null,null,null,null,null,null,null,null,null,null,null,null,null,null,null,null,null,null,null,null,null,null,null,null,null,null,null,null,null,null,null,null,null,null,null,null,null,null,null,232]
["Male 15-19 (16+)",{"$f":"Prevalence!B231*AX234","v":2603.61},{"$f":"Prevalence!C231*AY234","v":147.05625000000001},{"$f":"Prevalence!D231*AZ234","v":13.875},{"$f":"Prevalence!E231*BA234","v":23.25},{"$f":"Prevalence!F231*BB234","v":203.57999999999998},{"$f":"Prevalence!G231*BC234","v":122.52},{"$f":"Prevalence!H231*BD234","v":497.54249999999996},{"$f":"Prevalence!I231*BE234","v":603.14625000000001},{"$f":"Prevalence!J231*BF234","v":59.692500000000003},{"$f":"Prevalence!K231*BG234","v":180.45},{"$f":"Prevalence!L231*BH234","v":549.43875000000003},{"$f":"Prevalence!M231*BI234","v":2.0249999999999999},{"$f":"Prevalence!N231*BJ234","v":3.7124999999999995},{"$f":"Prevalence!O231*BK234","v":201.23999999999998},{"$f":"Prevalence!P231*BL234","v":0},{"$f":"Prevalence!Q231*BM234","v":215.71875},{"$f":"Prevalence!R231*BN234","v":238.44374999999999},{"$f":"Prevalence!S231*BO234","v":43.762499999999996},{"$f":"Prevalence!T231*BP234","v":27.787499999999998},{"$f":"Prevalence!U231*BQ234","v":12},{"$f":"Prevalence!V231*BR234","v":23.25},{"$f":"Prevalence!W231*BS234","v":71.459999999999994},{"$f":"Prevalence!X231*BT234","v":46.410000000000004},{"$f":"Prevalence!Y231*BU234","v":46.86},{"$f":"Prevalence!Z231*BV234","v":34.627499999999998},{"$f":"Prevalence!AA231*BW234","v":85.893749999999997},{"$f":"Prevalence!AB231*BX234","v":354.91500000000002},{"$f":"Prevalence!AC231*BY234","v":0},{"$f":"Prevalence!AD231*BZ234","v":50.767499999999998},{"$f":"Prevalence!AE231*CA234","v":203.57999999999998},{"$f":"Prevalence!AF231*CB234","v":141.1275},{"$f":"Prevalence!AG231*CC234","v":31.927500000000002},{"$f":"Prevalence!AH231*CD234","v":28.833749999999998},{"$f":"Prevalence!AI231*CE234","v":36.854999999999997},{"$f":"Prevalence!AJ231*CF234","v":45.258749999999999},{"$f":"Prevalence!AK231*CG234","v":45.742499999999993},{"$f":"Prevalence!AL231*CH234","v":78.65625},{"$f":"Prevalence!AM231*CI234","v":2.0249999999999999},{"$f":"Prevalence!AN231*CJ234","v":82.59375},{"$f":"Prevalence!AO231*CK234","v":117.66749999999999},{"$f":"Prevalence!AP231*CL234","v":13.875},{"$f":"Prevalence!AQ231*CM234","v":3.7124999999999995},{"$f":"Prevalence!AR231*CN234","v":41.324999999999996},{"$f":"Prevalence!AS231*CO234","v":123.03},{"$f":"Prevalence!AT231*CP234","v":65.625},{"$f":"Prevalence!AU231*CQ234","v":16.559999999999999},{"$f":"Prevalence!AV231*CR234","v":95.91749999999999},233,28929,1265,185,248,2262,2042,5103,5957,758,2005,6977,18,45,2064,null,2301,2355,389,285,200,248,794,364,1562,486,1527,5258,null,967,2262,1214,473,233,351,447,321,839,18,881,1082,185,45,580,1367,875,138,882]
["Male 20-24",{"$f":"Prevalence!B232*AX235","v":3494.25},{"$f":"Prevalence!C232*AY235","v":142.63875000000002},{"$f":"Prevalence!D232*AZ235","v":8.7750000000000004},{"$f":"Prevalence!E232*BA235","v":21.375},{"$f":"Prevalence!F232*BB235","v":308.43},{"$f":"Prevalence!G232*BC235","v":134.1},{"$f":"Prevalence!H232*BD235","v":674.99249999999995},{"$f":"Prevalence!I232*BE235","v":760.58999999999992},{"$f":"Prevalence!J232*BF235","v":66.78},{"$f":"Prevalence!K232*BG235","v":202.04999999999998},{"$f":"Prevalence!L232*BH235","v":929.56500000000005},{"$f":"Prevalence!M232*BI235","v":2.25},{"$f":"Prevalence!N232*BJ235","v":2.3924999999999996},{"$f":"Prevalence!O232*BK235","v":215.47499999999997},{"$f":"Prevalence!P232*BL235","v":0},{"$f":"Prevalence!Q232*BM235","v":376.3125},{"$f":"Prevalence!R232*BN235","v":245.22749999999999},{"$f":"Prevalence!S232*BO235","v":44.099999999999994},{"$f":"Prevalence!T232*BP235","v":40.072499999999998},{"$f":"Prevalence!U232*BQ235","v":7.62},{"$f":"Prevalence!V232*BR235","v":21.375},{"$f":"Prevalence!W232*BS235","v":99.81},{"$f":"Prevalence!X232*BT235","v":47.43},{"$f":"Prevalence!Y232*BU235","v":49.5},{"$f":"Prevalence!Z232*BV235","v":30.851249999999997},{"$f":"Prevalence!AA232*BW235","v":88.818749999999994},{"$f":"Prevalence!AB232*BX235","v":687.48750000000007},{"$f":"Prevalence!AC232*BY235","v":0},{"$f":"Prevalence!AD232*BZ235","v":49.612499999999997},{"$f":"Prevalence!AE232*CA235","v":308.43},{"$f":"Prevalence!AF232*CB235","v":287.60250000000002},{"$f":"Prevalence!AG232*CC235","v":29.497500000000002},{"$f":"Prevalence!AH232*CD235","v":30.071249999999999},{"$f":"Prevalence!AI232*CE235","v":37.695},{"$f":"Prevalence!AJ232*CF235","v":49.308749999999996},{"$f":"Prevalence!AK232*CG235","v":43.177499999999995},{"$f":"Prevalence!AL232*CH235","v":91.875},{"$f":"Prevalence!AM232*CI235","v":2.25},{"$f":"Prevalence!AN232*CJ235","v":66.46875},{"$f":"Prevalence!AO232*CK235","v":126.04124999999998},{"$f":"Prevalence!AP232*CL235","v":8.7750000000000004},{"$f":"Prevalence!AQ232*CM235","v":2.3924999999999996},{"$f":"Prevalence!AR232*CN235","v":39.33},{"$f":"Prevalence!AS232*CO235","v":135.09},{"$f":"Prevalence!AT232*CP235","v":87.224999999999994},{"$f":"Prevalence!AU232*CQ235","v":20.52},{"$f":"Prevalence!AV232*CR235","v":89.936249999999987},234,38825,1227,117,228,3427,2235,6923,7512,848,2245,11804,20,29,2210,null,4014,2422,392,411,127,228,1109,372,1650,433,1579,10185,null,945,3427,2474,437,243,359,487,303,980,20,709,1159,117,29,552,1501,1163,171,827]
["Male 25-29",{"$f":"Prevalence!B233*AX236","v":3722.03},{"$f":"Prevalence!C233*AY236","v":148.77416666666667},{"$f":"Prevalence!D233*AZ236","v":12.025},{"$f":"Prevalence!E233*BA236","v":31.416666666666671},{"$f":"Prevalence!F233*BB236","v":236.6},{"$f":"Prevalence!G233*BC236","v":112.23333333333333},{"$f":"Prevalence!H233*BD236","v":902.88250000000005},{"$f":"Prevalence!I233*BE236","v":786.53249999999991},{"$f":"Prevalence!J233*BF236","v":78.373750000000001},{"$f":"Prevalence!K233*BG236","v":203.71},{"$f":"Prevalence!L233*BH236","v":978.59125000000006},{"$f":"Prevalence!M233*BI236","v":1.3},{"$f":"Prevalence!N233*BJ236","v":2.8600000000000003},{"$f":"Prevalence!O233*BK236","v":226.31916666666666},{"$f":"Prevalence!P233*BL236","v":0},{"$f":"Prevalence!Q233*BM236","v":509.84375000000006},{"$f":"Prevalence!R233*BN236","v":324.23624999999998},{"$f":"Prevalence!S233*BO236","v":42.25},{"$f":"Prevalence!T233*BP236","v":37.743333333333332},{"$f":"Prevalence!U233*BQ236","v":8.6666666666666679},{"$f":"Prevalence!V233*BR236","v":31.416666666666671},{"$f":"Prevalence!W233*BS236","v":90.87},{"$f":"Prevalence!X233*BT236","v":58.196666666666665},{"$f":"Prevalence!Y233*BU236","v":46.323333333333338},{"$f":"Prevalence!Z233*BV236","v":32.624583333333334},{"$f":"Prevalence!AA233*BW236","v":73.125},{"$f":"Prevalence!AB233*BX236","v":717.11250000000007},{"$f":"Prevalence!AC233*BY236","v":0},{"$f":"Prevalence!AD233*BZ236","v":56.495833333333337},{"$f":"Prevalence!AE233*CA236","v":236.6},{"$f":"Prevalence!AF233*CB236","v":371.26375000000002},{"$f":"Prevalence!AG233*CC236","v":41.047499999999999},{"$f":"Prevalence!AH233*CD236","v":30.745000000000005},{"$f":"Prevalence!AI233*CE236","v":51.414999999999999},{"$f":"Prevalence!AJ233*CF236","v":62.741249999999994},{"$f":"Prevalence!AK233*CG236","v":43.63666666666667},{"$f":"Prevalence!AL233*CH236","v":90.864583333333343},{"$f":"Prevalence!AM233*CI236","v":1.3},{"$f":"Prevalence!AN233*CJ236","v":87.750000000000014},{"$f":"Prevalence!AO233*CK236","v":125.35249999999999},{"$f":"Prevalence!AP233*CL236","v":12.025},{"$f":"Prevalence!AQ233*CM236","v":2.8600000000000003},{"$f":"Prevalence!AR233*CN236","v":36.844166666666666},{"$f":"Prevalence!AS233*CO236","v":132.99},{"$f":"Prevalence!AT233*CP236","v":48.75},{"$f":"Prevalence!AU233*CQ236","v":17.506666666666668},{"$f":"Prevalence!AV233*CR236","v":92.993333333333325},235,28631,886,111,232,1820,1295,6411,5378,689,1567,8603,8,24,1607,null,3765,2217,260,268,100,232,699,316,1069,317,900,7355,null,745,1820,2211,421,172,339,429,212,671,8,648,798,111,24,358,1023,450,101,592]
["Male 30-34",{"$f":"Prevalence!B234*AX237","v":3572.92},{"$f":"Prevalence!C234*AY237","v":163.21500000000003},{"$f":"Prevalence!D234*AZ237","v":13.975},{"$f":"Prevalence!E234*BA237","v":29.520833333333336},{"$f":"Prevalence!F234*BB237","v":249.21},{"$f":"Prevalence!G234*BC237","v":116.91333333333334},{"$f":"Prevalence!H234*BD237","v":890.06666666666672},{"$f":"Prevalence!I234*BE237","v":723.64499999999998},{"$f":"Prevalence!J234*BF237","v":71.776250000000005},{"$f":"Prevalence!K234*BG237","v":215.8},{"$f":"Prevalence!L234*BH237","v":888.16000000000008},{"$f":"Prevalence!M234*BI237","v":1.7875000000000001},{"$f":"Prevalence!N234*BJ237","v":4.5283333333333333},{"$f":"Prevalence!O234*BK237","v":208.85583333333335},{"$f":"Prevalence!P234*BL237","v":0},{"$f":"Prevalence!Q234*BM237","v":459.87500000000006},{"$f":"Prevalence!R234*BN237","v":378.34875},{"$f":"Prevalence!S234*BO237","v":40.462499999999999},{"$f":"Prevalence!T234*BP237","v":25.913333333333334},{"$f":"Prevalence!U234*BQ237","v":10.66},{"$f":"Prevalence!V234*BR237","v":29.520833333333336},{"$f":"Prevalence!W234*BS237","v":79.69},{"$f":"Prevalence!X234*BT237","v":63.721666666666671},{"$f":"Prevalence!Y234*BU237","v":39},{"$f":"Prevalence!Z234*BV237","v":28.610833333333336},{"$f":"Prevalence!AA234*BW237","v":78.975000000000009},{"$f":"Prevalence!AB234*BX237","v":632.48250000000007},{"$f":"Prevalence!AC234*BY237","v":0},{"$f":"Prevalence!AD234*BZ237","v":62.107500000000002},{"$f":"Prevalence!AE234*CA237","v":249.21},{"$f":"Prevalence!AF234*CB237","v":320.38500000000005},{"$f":"Prevalence!AG234*CC237","v":43.582500000000003},{"$f":"Prevalence!AH234*CD237","v":29.136250000000004},{"$f":"Prevalence!AI234*CE237","v":58.24},{"$f":"Prevalence!AJ234*CF237","v":49.286249999999995},{"$f":"Prevalence!AK234*CG237","v":46.518333333333338},{"$f":"Prevalence!AL234*CH237","v":97.093750000000014},{"$f":"Prevalence!AM234*CI237","v":1.7875000000000001},{"$f":"Prevalence!AN234*CJ237","v":84.093750000000014},{"$f":"Prevalence!AO234*CK237","v":114.04249999999999},{"$f":"Prevalence!AP234*CL237","v":13.975},{"$f":"Prevalence!AQ234*CM237","v":4.5283333333333333},{"$f":"Prevalence!AR234*CN237","v":41.166666666666671},{"$f":"Prevalence!AS234*CO237","v":146.51},{"$f":"Prevalence!AT234*CP237","v":44.091666666666669},{"$f":"Prevalence!AU234*CQ237","v":16.466666666666669},{"$f":"Prevalence!AV234*CR237","v":103.51791666666666},236,27484,972,129,218,1917,1349,6320,4948,631,1660,7808,11,38,1483,null,3396,2587,249,184,123,218,613,346,900,278,972,6487,null,819,1917,1908,447,163,384,337,226,717,11,621,726,129,38,400,1127,407,95,659]
["Male 35-39",{"$f":"Prevalence!B235*AX238","v":3955.25},{"$f":"Prevalence!C235*AY238","v":198.47750000000002},{"$f":"Prevalence!D235*AZ238","v":16.900000000000002},{"$f":"Prevalence!E235*BA238","v":31.145833333333339},{"$f":"Prevalence!F235*BB238","v":286.39},{"$f":"Prevalence!G235*BC238","v":157.30000000000001},{"$f":"Prevalence!H235*BD238","v":905.69916666666666},{"$f":"Prevalence!I235*BE238","v":864.63},{"$f":"Prevalence!J235*BF238","v":77.577500000000001},{"$f":"Prevalence!K235*BG238","v":251.68},{"$f":"Prevalence!L235*BH238","v":927.63125000000002},{"$f":"Prevalence!M235*BI238","v":2.7625000000000002},{"$f":"Prevalence!N235*BJ238","v":7.8650000000000002},{"$f":"Prevalence!O235*BK238","v":230.96666666666667},{"$f":"Prevalence!P235*BL238","v":0},{"$f":"Prevalence!Q235*BM238","v":408.82291666666674},{"$f":"Prevalence!R235*BN238","v":457.32374999999996},{"$f":"Prevalence!S235*BO238","v":56.550000000000004},{"$f":"Prevalence!T235*BP238","v":27.180833333333336},{"$f":"Prevalence!U235*BQ238","v":12.653333333333334},{"$f":"Prevalence!V235*BR238","v":31.145833333333339},{"$f":"Prevalence!W235*BS238","v":73.84},{"$f":"Prevalence!X235*BT238","v":78.454999999999998},{"$f":"Prevalence!Y235*BU238","v":54.383333333333333},{"$f":"Prevalence!Z235*BV238","v":46.209583333333335},{"$f":"Prevalence!AA235*BW238","v":110.175},{"$f":"Prevalence!AB235*BX238","v":621.5625},{"$f":"Prevalence!AC235*BY238","v":0},{"$f":"Prevalence!AD235*BZ238","v":83.189166666666665},{"$f":"Prevalence!AE235*CA238","v":286.39},{"$f":"Prevalence!AF235*CB238","v":287.3054166666667},{"$f":"Prevalence!AG235*CC238","v":47.677500000000002},{"$f":"Prevalence!AH235*CD238","v":44.866250000000008},{"$f":"Prevalence!AI235*CE238","v":60.97},{"$f":"Prevalence!AJ235*CF238","v":41.681249999999999},{"$f":"Prevalence!AK235*CG238","v":51.870000000000005},{"$f":"Prevalence!AL235*CH238","v":108.73958333333334},{"$f":"Prevalence!AM235*CI238","v":2.7625000000000002},{"$f":"Prevalence!AN235*CJ238","v":98.041666666666686},{"$f":"Prevalence!AO235*CK238","v":156.61208333333332},{"$f":"Prevalence!AP235*CL238","v":16.900000000000002},{"$f":"Prevalence!AQ235*CM238","v":7.8650000000000002},{"$f":"Prevalence!AR235*CN238","v":51.870000000000005},{"$f":"Prevalence!AS235*CO238","v":176.41},{"$f":"Prevalence!AT235*CP238","v":61.966666666666669},{"$f":"Prevalence!AU235*CQ238","v":20.453333333333333},{"$f":"Prevalence!AV235*CR238","v":145.93041666666664},237,30425,1182,156,230,2203,1815,6431,5912,682,1936,8155,17,66,1640,null,3019,3127,348,193,146,230,568,426,1255,449,1356,6375,null,1097,2203,1711,489,251,402,285,252,803,17,724,997,156,66,504,1357,572,118,929]
["Male 40-44",{"$f":"Prevalence!B236*AX239","v":4853.8100000000004},{"$f":"Prevalence!C236*AY239","v":284.61875000000003},{"$f":"Prevalence!D236*AZ239","v":28.6},{"$f":"Prevalence!E236*BA239","v":47.531250000000007},{"$f":"Prevalence!F236*BB239","v":351.39},{"$f":"Prevalence!G236*BC239","v":207.22},{"$f":"Prevalence!H236*BD239","v":1012.7325000000001},{"$f":"Prevalence!I236*BE239","v":1121.1524999999999},{"$f":"Prevalence!J236*BF239","v":106.015},{"$f":"Prevalence!K236*BG239","v":348.92},{"$f":"Prevalence!L236*BH239","v":1042.29125},{"$f":"Prevalence!M236*BI239","v":2.4375},{"$f":"Prevalence!N236*BJ239","v":11.320833333333333},{"$f":"Prevalence!O236*BK239","v":308.0025},{"$f":"Prevalence!P236*BL239","v":0},{"$f":"Prevalence!Q236*BM239","v":428.18750000000006},{"$f":"Prevalence!R236*BN239","v":525.62249999999995},{"$f":"Prevalence!S236*BO239","v":71.5},{"$f":"Prevalence!T236*BP239","v":37.461666666666666},{"$f":"Prevalence!U236*BQ239","v":20.886666666666667},{"$f":"Prevalence!V236*BR239","v":47.531250000000007},{"$f":"Prevalence!W236*BS239","v":102.05},{"$f":"Prevalence!X236*BT239","v":107.185},{"$f":"Prevalence!Y236*BU239","v":79.516666666666666},{"$f":"Prevalence!Z236*BV239","v":59.897500000000001},{"$f":"Prevalence!AA236*BW239","v":145.4375},{"$f":"Prevalence!AB236*BX239","v":656.37},{"$f":"Prevalence!AC236*BY239","v":0},{"$f":"Prevalence!AD236*BZ239","v":101.01},{"$f":"Prevalence!AE236*CA239","v":351.39},{"$f":"Prevalence!AF236*CB239","v":320.5529166666667},{"$f":"Prevalence!AG236*CC239","v":64.935000000000002},{"$f":"Prevalence!AH236*CD239","v":62.741250000000008},{"$f":"Prevalence!AI236*CE239","v":91.454999999999998},{"$f":"Prevalence!AJ236*CF239","v":63.618749999999999},{"$f":"Prevalence!AK236*CG239","v":82.539166666666674},{"$f":"Prevalence!AL236*CH239","v":151.12500000000003},{"$f":"Prevalence!AM236*CI239","v":2.4375},{"$f":"Prevalence!AN236*CJ239","v":130.27083333333334},{"$f":"Prevalence!AO236*CK239","v":200.90958333333333},{"$f":"Prevalence!AP236*CL239","v":28.6},{"$f":"Prevalence!AQ236*CM239","v":11.320833333333333},{"$f":"Prevalence!AR236*CN239","v":73.276666666666671},{"$f":"Prevalence!AS236*CO239","v":243.49},{"$f":"Prevalence!AT236*CP239","v":88.616666666666674},{"$f":"Prevalence!AU236*CQ239","v":34.146666666666668},{"$f":"Prevalence!AV236*CR239","v":195.72583333333333},238,37337,1695,264,351,2703,2391,7191,7666,932,2684,9163,15,95,2187,null,3162,3594,440,266,241,351,785,582,1835,582,1790,6732,null,1332,2703,1909,666,351,603,435,401,1116,15,962,1279,264,95,712,1873,818,197,1246]
["Male 45-49",{"$f":"Prevalence!B237*AX240","v":4576.88},{"$f":"Prevalence!C237*AY240","v":276.06791666666669},{"$f":"Prevalence!D237*AZ240","v":26.491666666666667},{"$f":"Prevalence!E237*BA240","v":49.156250000000007},{"$f":"Prevalence!F237*BB240","v":307.33999999999997},{"$f":"Prevalence!G237*BC240","v":194.11333333333334},{"$f":"Prevalence!H237*BD240","v":890.17499999999995},{"$f":"Prevalence!I237*BE240","v":1107.9337499999999},{"$f":"Prevalence!J237*BF240","v":110.11},{"$f":"Prevalence!K237*BG240","v":344.96},{"$f":"Prevalence!L237*BH240","v":957.59125000000006},{"$f":"Prevalence!M237*BI240","v":5.3625000000000007},{"$f":"Prevalence!N237*BJ240","v":8.2683333333333326},{"$f":"Prevalence!O237*BK240","v":325.68249999999995},{"$f":"Prevalence!P237*BL240","v":0},{"$f":"Prevalence!Q237*BM240","v":373.65625000000006},{"$f":"Prevalence!R237*BN240","v":465.67124999999999},{"$f":"Prevalence!S237*BO240","v":84.012500000000003},{"$f":"Prevalence!T237*BP240","v":36.107499999999995},{"$f":"Prevalence!U237*BQ240","v":22.22},{"$f":"Prevalence!V237*BR240","v":49.156250000000007},{"$f":"Prevalence!W237*BS240","v":92.4},{"$f":"Prevalence!X237*BT240","v":95.214166666666671},{"$f":"Prevalence!Y237*BU240","v":80.226666666666674},{"$f":"Prevalence!Z237*BV240","v":72.192083333333329},{"$f":"Prevalence!AA237*BW240","v":149.73750000000001},{"$f":"Prevalence!AB237*BX240","v":584.34750000000008},{"$f":"Prevalence!AC237*BY240","v":0},{"$f":"Prevalence!AD237*BZ240","v":88.614166666666677},{"$f":"Prevalence!AE237*CA240","v":307.33999999999997},{"$f":"Prevalence!AF237*CB240","v":278.34125},{"$f":"Prevalence!AG237*CC240","v":69.382500000000007},{"$f":"Prevalence!AH237*CD240","v":63.676249999999996},{"$f":"Prevalence!AI237*CE240","v":78.925000000000011},{"$f":"Prevalence!AJ237*CF240","v":55.192500000000003},{"$f":"Prevalence!AK237*CG240","v":82.032499999999999},{"$f":"Prevalence!AL237*CH240","v":148.27083333333334},{"$f":"Prevalence!AM237*CI240","v":5.3625000000000007},{"$f":"Prevalence!AN237*CJ240","v":146.89583333333334},{"$f":"Prevalence!AO237*CK240","v":220.50874999999999},{"$f":"Prevalence!AP237*CL240","v":26.491666666666667},{"$f":"Prevalence!AQ237*CM240","v":8.2683333333333326},{"$f":"Prevalence!AR237*CN240","v":74.978750000000005},{"$f":"Prevalence!AS237*CO240","v":235.84},{"$f":"Prevalence!AT237*CP240","v":88.275000000000006},{"$f":"Prevalence!AU237*CQ240","v":36.08},{"$f":"Prevalence!AV237*CR240","v":189.00749999999999},239,41608,1943,289,429,2794,2647,7470,8953,1144,3136,9949,39,82,2733,null,3261,3763,611,303,303,429,840,611,2188,829,2178,7083,null,1381,2794,1959,841,421,615,446,471,1294,39,1282,1659,289,82,861,2144,963,246,1422]
["Male 50-54",{"$f":"Prevalence!B238*AX241","v":4387.13},{"$f":"Prevalence!C238*AY241","v":288.57125000000002},{"$f":"Prevalence!D238*AZ241","v":24.658333333333335},{"$f":"Prevalence!E238*BA241","v":50.875000000000007},{"$f":"Prevalence!F238*BB241","v":292.49},{"$f":"Prevalence!G238*BC241","v":167.86},{"$f":"Prevalence!H238*BD241","v":856.09333333333325},{"$f":"Prevalence!I238*BE241","v":1076.3775000000001},{"$f":"Prevalence!J238*BF241","v":106.35625},{"$f":"Prevalence!K238*BG241","v":343.64},{"$f":"Prevalence!L238*BH241","v":890.89},{"$f":"Prevalence!M238*BI241","v":4.5375000000000005},{"$f":"Prevalence!N238*BJ241","v":5.2433333333333332},{"$f":"Prevalence!O238*BK241","v":326.39749999999998},{"$f":"Prevalence!P238*BL241","v":0},{"$f":"Prevalence!Q238*BM241","v":363.80208333333337},{"$f":"Prevalence!R238*BN241","v":445.62374999999997},{"$f":"Prevalence!S238*BO241","v":80.300000000000011},{"$f":"Prevalence!T238*BP241","v":41.112499999999997},{"$f":"Prevalence!U238*BQ241","v":19.946666666666665},{"$f":"Prevalence!V238*BR241","v":50.875000000000007},{"$f":"Prevalence!W238*BS241","v":105.38},{"$f":"Prevalence!X238*BT241","v":91.318333333333342},{"$f":"Prevalence!Y238*BU241","v":79.64},{"$f":"Prevalence!Z238*BV241","v":65.573750000000004},{"$f":"Prevalence!AA238*BW241","v":144.375},{"$f":"Prevalence!AB238*BX241","v":548.13},{"$f":"Prevalence!AC238*BY241","v":0},{"$f":"Prevalence!AD238*BZ241","v":75.780833333333348},{"$f":"Prevalence!AE238*CA241","v":292.49},{"$f":"Prevalence!AF238*CB241","v":250.06666666666666},{"$f":"Prevalence!AG238*CC241","v":62.7},{"$f":"Prevalence!AH238*CD241","v":67.003749999999997},{"$f":"Prevalence!AI238*CE241","v":70.840000000000018},{"$f":"Prevalence!AJ238*CF241","v":50.49},{"$f":"Prevalence!AK238*CG241","v":82.903333333333336},{"$f":"Prevalence!AL238*CH241","v":148.04166666666669},{"$f":"Prevalence!AM238*CI241","v":4.5375000000000005},{"$f":"Prevalence!AN238*CJ241","v":137.15625},{"$f":"Prevalence!AO238*CK241","v":220.90749999999997},{"$f":"Prevalence!AP238*CL241","v":24.658333333333335},{"$f":"Prevalence!AQ238*CM241","v":5.2433333333333332},{"$f":"Prevalence!AR238*CN241","v":84.383749999999992},{"$f":"Prevalence!AS238*CO241","v":239.91},{"$f":"Prevalence!AT238*CP241","v":76.63333333333334},{"$f":"Prevalence!AU238*CQ241","v":31.093333333333334},{"$f":"Prevalence!AV238*CR241","v":173.72208333333333},240,39883,2031,269,444,2659,2289,7184,8698,1105,3124,9256,33,52,2739,null,3175,3601,584,345,272,444,958,586,2172,753,2100,6644,null,1181,2659,1760,760,443,552,408,476,1292,33,1197,1662,269,52,969,2181,836,212,1307]
["Male 55-59",{"$f":"Prevalence!B239*AX242","v":3965.39},{"$f":"Prevalence!C239*AY242","v":271.23708333333332},{"$f":"Prevalence!D239*AZ242","v":25.208333333333336},{"$f":"Prevalence!E239*BA242","v":43.770833333333336},{"$f":"Prevalence!F239*BB242","v":264.66000000000003},{"$f":"Prevalence!G239*BC242","v":154.29333333333332},{"$f":"Prevalence!H239*BD242","v":778.87333333333322},{"$f":"Prevalence!I239*BE242","v":981.95624999999995},{"$f":"Prevalence!J239*BF242","v":100.96625},{"$f":"Prevalence!K239*BG242","v":299.64},{"$f":"Prevalence!L239*BH242","v":781.83875},{"$f":"Prevalence!M239*BI242","v":3.7125000000000004},{"$f":"Prevalence!N239*BJ242","v":4.1341666666666663},{"$f":"Prevalence!O239*BK242","v":302.44499999999999},{"$f":"Prevalence!P239*BL242","v":0},{"$f":"Prevalence!Q239*BM242","v":335.38541666666669},{"$f":"Prevalence!R239*BN242","v":404.78625},{"$f":"Prevalence!S239*BO242","v":84.7},{"$f":"Prevalence!T239*BP242","v":35.392499999999998},{"$f":"Prevalence!U239*BQ242","v":21.12},{"$f":"Prevalence!V239*BR242","v":43.770833333333336},{"$f":"Prevalence!W239*BS242","v":87.89},{"$f":"Prevalence!X239*BT242","v":84.773333333333341},{"$f":"Prevalence!Y239*BU242","v":75.900000000000006},{"$f":"Prevalence!Z239*BV242","v":57.213749999999997},{"$f":"Prevalence!AA239*BW242","v":130.35000000000002},{"$f":"Prevalence!AB239*BX242","v":491.78250000000003},{"$f":"Prevalence!AC239*BY242","v":0},{"$f":"Prevalence!AD239*BZ242","v":66.091666666666683},{"$f":"Prevalence!AE239*CA242","v":264.66000000000003},{"$f":"Prevalence!AF239*CB242","v":234.72166666666666},{"$f":"Prevalence!AG239*CC242","v":62.040000000000006},{"$f":"Prevalence!AH239*CD242","v":55.811250000000001},{"$f":"Prevalence!AI239*CE242","v":59.546666666666674},{"$f":"Prevalence!AJ239*CF242","v":41.827500000000001},{"$f":"Prevalence!AK239*CG242","v":89.173333333333332},{"$f":"Prevalence!AL239*CH242","v":124.89583333333334},{"$f":"Prevalence!AM239*CI242","v":3.7125000000000004},{"$f":"Prevalence!AN239*CJ242","v":128.67708333333334},{"$f":"Prevalence!AO239*CK242","v":192.72916666666666},{"$f":"Prevalence!AP239*CL242","v":25.208333333333336},{"$f":"Prevalence!AQ239*CM242","v":4.1341666666666663},{"$f":"Prevalence!AR239*CN242","v":74.282083333333333},{"$f":"Prevalence!AS239*CO242","v":211.42},{"$f":"Prevalence!AT239*CP242","v":72.050000000000011},{"$f":"Prevalence!AU239*CQ242","v":30.8},{"$f":"Prevalence!AV239*CR242","v":138.36624999999998},241,36049,1909,275,382,2406,2104,6536,7935,1049,2724,8123,27,41,2538,null,2927,3271,616,297,288,382,799,544,2070,657,1896,5961,null,1030,2406,1652,752,369,464,338,512,1090,27,1123,1450,275,41,853,1922,786,210,1041]
["Male 60-64",{"$f":"Prevalence!B240*AX243","v":3703.92},{"$f":"Prevalence!C240*AY243","v":298.94333333333333},{"$f":"Prevalence!D240*AZ243","v":25.758333333333336},{"$f":"Prevalence!E240*BA243","v":49.958333333333336},{"$f":"Prevalence!F240*BB243","v":267.63},{"$f":"Prevalence!G240*BC243","v":146.59333333333333},{"$f":"Prevalence!H240*BD243","v":693.07333333333327},{"$f":"Prevalence!I240*BE243","v":873.79875000000004},{"$f":"Prevalence!J240*BF243","v":100.96625},{"$f":"Prevalence!K240*BG243","v":269.06},{"$f":"Prevalence!L240*BH243","v":719.27625},{"$f":"Prevalence!M240*BI243","v":3.4375000000000004},{"$f":"Prevalence!N240*BJ243","v":4.7391666666666667},{"$f":"Prevalence!O240*BK243","v":298.15499999999997},{"$f":"Prevalence!P240*BL243","v":0},{"$f":"Prevalence!Q240*BM243","v":294.02083333333337},{"$f":"Prevalence!R240*BN243","v":362.09249999999997},{"$f":"Prevalence!S240*BO243","v":91.850000000000009},{"$f":"Prevalence!T240*BP243","v":34.915833333333332},{"$f":"Prevalence!U240*BQ243","v":22.293333333333333},{"$f":"Prevalence!V240*BR243","v":49.958333333333336},{"$f":"Prevalence!W240*BS243","v":78.209999999999994},{"$f":"Prevalence!X240*BT243","v":84.305833333333339},{"$f":"Prevalence!Y240*BU243","v":68.126666666666665},{"$f":"Prevalence!Z240*BV243","v":51.030833333333334},{"$f":"Prevalence!AA240*BW243","v":110.00000000000001},{"$f":"Prevalence!AB240*BX243","v":454.32750000000004},{"$f":"Prevalence!AC240*BY243","v":0},{"$f":"Prevalence!AD240*BZ243","v":57.429166666666674},{"$f":"Prevalence!AE240*CA243","v":267.63},{"$f":"Prevalence!AF240*CB243","v":211.13583333333335},{"$f":"Prevalence!AG240*CC243","v":62.370000000000005},{"$f":"Prevalence!AH240*CD243","v":46.585000000000001},{"$f":"Prevalence!AI240*CE243","v":64.038333333333341},{"$f":"Prevalence!AJ240*CF243","v":40.094999999999999},{"$f":"Prevalence!AK240*CG243","v":102.06166666666667},{"$f":"Prevalence!AL240*CH243","v":111.94791666666667},{"$f":"Prevalence!AM240*CI243","v":3.4375000000000004},{"$f":"Prevalence!AN240*CJ243","v":128.67708333333334},{"$f":"Prevalence!AO240*CK243","v":175.05124999999998},{"$f":"Prevalence!AP240*CL243","v":25.758333333333336},{"$f":"Prevalence!AQ240*CM243","v":4.7391666666666667},{"$f":"Prevalence!AR240*CN243","v":85.080416666666665},{"$f":"Prevalence!AS240*CO243","v":198.33},{"$f":"Prevalence!AT240*CP243","v":73.333333333333343},{"$f":"Prevalence!AU240*CQ243","v":23.173333333333332},{"$f":"Prevalence!AV240*CR243","v":117.09958333333333},242,33672,2104,281,436,2433,1999,5816,7061,1049,2446,7473,25,47,2502,null,2566,2926,668,293,304,436,711,541,1858,586,1600,5507,null,895,2433,1486,756,308,499,324,586,977,25,1123,1317,281,47,977,1803,800,158,881]
["Male 65-69",{"$f":"Prevalence!B241*AX244","v":2041.5500000000002},{"$f":"Prevalence!C241*AY244","v":181.37583333333336},{"$f":"Prevalence!D241*AZ244","v":14.641666666666669},{"$f":"Prevalence!E241*BA244","v":25.375000000000007},{"$f":"Prevalence!F241*BB244","v":161.14000000000001},{"$f":"Prevalence!G241*BC244","v":84.373333333333335},{"$f":"Prevalence!H241*BD244","v":354.67250000000001},{"$f":"Prevalence!I241*BE244","v":477.06750000000011},{"$f":"Prevalence!J241*BF244","v":55.247500000000002},{"$f":"Prevalence!K241*BG244","v":137.76000000000002},{"$f":"Prevalence!L241*BH244","v":389.73375000000004},{"$f":"Prevalence!M241*BI244","v":1.6625000000000001},{"$f":"Prevalence!N241*BJ244","v":2.6308333333333334},{"$f":"Prevalence!O241*BK244","v":183.66833333333335},{"$f":"Prevalence!P241*BL244","v":0},{"$f":"Prevalence!Q241*BM244","v":143.42708333333337},{"$f":"Prevalence!R241*BN244","v":189.39375000000004},{"$f":"Prevalence!S241*BO244","v":56.087500000000006},{"$f":"Prevalence!T241*BP244","v":21.233333333333334},{"$f":"Prevalence!U241*BQ244","v":11.993333333333334},{"$f":"Prevalence!V241*BR244","v":25.375000000000007},{"$f":"Prevalence!W241*BS244","v":47.250000000000007},{"$f":"Prevalence!X241*BT244","v":44.625000000000007},{"$f":"Prevalence!Y241*BU244","v":40.18},{"$f":"Prevalence!Z241*BV244","v":32.307916666666671},{"$f":"Prevalence!AA241*BW244","v":63.612500000000004},{"$f":"Prevalence!AB241*BX244","v":243.96750000000003},{"$f":"Prevalence!AC241*BY244","v":0},{"$f":"Prevalence!AD241*BZ244","v":32.095000000000006},{"$f":"Prevalence!AE241*CA244","v":161.14000000000001},{"$f":"Prevalence!AF241*CB244","v":96.836250000000021},{"$f":"Prevalence!AG241*CC244","v":32.655000000000001},{"$f":"Prevalence!AH241*CD244","v":29.452500000000001},{"$f":"Prevalence!AI241*CE244","v":33.646666666666668},{"$f":"Prevalence!AJ241*CF244","v":24.018750000000004},{"$f":"Prevalence!AK241*CG244","v":64.837500000000006},{"$f":"Prevalence!AL241*CH244","v":51.77083333333335},{"$f":"Prevalence!AM241*CI244","v":1.6625000000000001},{"$f":"Prevalence!AN241*CJ244","v":80.645833333333357},{"$f":"Prevalence!AO241*CK244","v":96.847916666666663},{"$f":"Prevalence!AP241*CL244","v":14.641666666666669},{"$f":"Prevalence!AQ241*CM244","v":2.6308333333333334},{"$f":"Prevalence!AR241*CN244","v":53.809583333333336},{"$f":"Prevalence!AS241*CO244","v":104.72000000000001},{"$f":"Prevalence!AT241*CP244","v":44.625000000000007},{"$f":"Prevalence!AU241*CQ244","v":11.386666666666667},{"$f":"Prevalence!AV241*CR244","v":60.984583333333333},243,29165,2006,251,348,2302,1808,4677,6058,902,1968,6363,19,41,2422,null,1967,2405,641,280,257,348,675,450,1722,583,1454,4647,null,786,2302,1071,622,306,412,305,585,710,19,1106,1145,251,41,971,1496,765,122,721]
["Male 70-74",{"$f":"Prevalence!B242*AX245","v":1413.0200000000002},{"$f":"Prevalence!C242*AY245","v":118.80750000000003},{"$f":"Prevalence!D242*AZ245","v":9.4500000000000011},{"$f":"Prevalence!E242*BA245","v":19.760416666666671},{"$f":"Prevalence!F242*BB245","v":104.51},{"$f":"Prevalence!G242*BC245","v":57.54},{"$f":"Prevalence!H242*BD245","v":247.29250000000002},{"$f":"Prevalence!I242*BE245","v":339.41250000000008},{"$f":"Prevalence!J242*BF245","v":38.587500000000006},{"$f":"Prevalence!K242*BG245","v":91.63000000000001},{"$f":"Prevalence!L242*BH245","v":269.43875000000003},{"$f":"Prevalence!M242*BI245","v":0.96250000000000013},{"$f":"Prevalence!N242*BJ245","v":2.31},{"$f":"Prevalence!O242*BK245","v":133.23916666666668},{"$f":"Prevalence!P242*BL245","v":0},{"$f":"Prevalence!Q242*BM245","v":102.44791666666669},{"$f":"Prevalence!R242*BN245","v":126.31500000000003},{"$f":"Prevalence!S242*BO245","v":35.962500000000006},{"$f":"Prevalence!T242*BP245","v":13.574166666666667},{"$f":"Prevalence!U242*BQ245","v":8.0266666666666673},{"$f":"Prevalence!V242*BR245","v":19.760416666666671},{"$f":"Prevalence!W242*BS245","v":38.500000000000007},{"$f":"Prevalence!X242*BT245","v":28.064166666666672},{"$f":"Prevalence!Y242*BU245","v":32.130000000000003},{"$f":"Prevalence!Z242*BV245","v":23.164166666666667},{"$f":"Prevalence!AA242*BW245","v":47.643750000000004},{"$f":"Prevalence!AB242*BX245","v":171.88500000000002},{"$f":"Prevalence!AC242*BY245","v":0},{"$f":"Prevalence!AD242*BZ245","v":20.212500000000002},{"$f":"Prevalence!AE242*CA245","v":104.51},{"$f":"Prevalence!AF242*CB245","v":63.56291666666668},{"$f":"Prevalence!AG242*CC245","v":23.677500000000002},{"$f":"Prevalence!AH242*CD245","v":20.79},{"$f":"Prevalence!AI242*CE245","v":20.335000000000004},{"$f":"Prevalence!AJ242*CF245","v":19.845000000000002},{"$f":"Prevalence!AK242*CG245","v":42.781666666666666},{"$f":"Prevalence!AL242*CH245","v":32.958333333333343},{"$f":"Prevalence!AM242*CI245","v":0.96250000000000013},{"$f":"Prevalence!AN242*CJ245","v":58.041666666666679},{"$f":"Prevalence!AO242*CK245","v":60.223333333333329},{"$f":"Prevalence!AP242*CL245","v":9.4500000000000011},{"$f":"Prevalence!AQ242*CM245","v":2.31},{"$f":"Prevalence!AR242*CN245","v":35.743749999999999},{"$f":"Prevalence!AS242*CO245","v":70.350000000000009},{"$f":"Prevalence!AT242*CP245","v":33.016666666666673},{"$f":"Prevalence!AU242*CQ245","v":6.0666666666666673},{"$f":"Prevalence!AV242*CR245","v":38.739166666666662},244,20186,1314,162,271,1493,1233,3261,4310,630,1309,4399,11,36,1757,null,1405,1604,411,179,172,271,550,283,1377,418,1089,3274,null,495,1493,703,451,216,249,252,386,452,11,796,712,162,36,645,1005,566,65,458]
["Male 75-79",{"$f":"Prevalence!B243*AX246","v":162.47999999999999},{"$f":"Prevalence!C243*AY246","v":13.872500000000002},{"$f":"Prevalence!D243*AZ246","v":1.1416666666666666},{"$f":"Prevalence!E243*BA246","v":2.5937500000000004},{"$f":"Prevalence!F243*BB246","v":11.74},{"$f":"Prevalence!G243*BC246","v":6.6199999999999992},{"$f":"Prevalence!H243*BD246","v":27.310833333333331},{"$f":"Prevalence!I243*BE246","v":39.577500000000001},{"$f":"Prevalence!J243*BF246","v":4.5587500000000007},{"$f":"Prevalence!K243*BG246","v":9.2900000000000009},{"$f":"Prevalence!L243*BH246","v":31.692500000000003},{"$f":"Prevalence!M243*BI246","v":0.1125},{"$f":"Prevalence!N243*BJ246","v":0.10083333333333333},{"$f":"Prevalence!O243*BK246","v":16.141666666666666},{"$f":"Prevalence!P243*BL246","v":0},{"$f":"Prevalence!Q243*BM246","v":11.760416666666668},{"$f":"Prevalence!R243*BN246","v":13.342499999999999},{"$f":"Prevalence!S243*BO246","v":4.5625},{"$f":"Prevalence!T243*BP246","v":1.5274999999999999},{"$f":"Prevalence!U243*BQ246","v":0.89999999999999991},{"$f":"Prevalence!V243*BR246","v":2.5937500000000004},{"$f":"Prevalence!W243*BS246","v":4.6000000000000005},{"$f":"Prevalence!X243*BT246","v":2.9325000000000001},{"$f":"Prevalence!Y243*BU246","v":4.05},{"$f":"Prevalence!Z243*BV246","v":2.3195833333333331},{"$f":"Prevalence!AA243*BW246","v":5.4125000000000005},{"$f":"Prevalence!AB243*BX246","v":21.412499999999998},{"$f":"Prevalence!AC243*BY246","v":0},{"$f":"Prevalence!AD243*BZ246","v":2.4383333333333335},{"$f":"Prevalence!AE243*CA246","v":11.74},{"$f":"Prevalence!AF243*CB246","v":7.6337500000000009},{"$f":"Prevalence!AG243*CC246","v":2.85},{"$f":"Prevalence!AH243*CD246","v":2.3512499999999998},{"$f":"Prevalence!AI243*CE246","v":2.4033333333333333},{"$f":"Prevalence!AJ243*CF246","v":2.3174999999999999},{"$f":"Prevalence!AK243*CG246","v":4.7658333333333323},{"$f":"Prevalence!AL243*CH246","v":3.072916666666667},{"$f":"Prevalence!AM243*CI246","v":0.1125},{"$f":"Prevalence!AN243*CJ246","v":6.9270833333333339},{"$f":"Prevalence!AO243*CK246","v":5.9933333333333332},{"$f":"Prevalence!AP243*CL246","v":1.1416666666666666},{"$f":"Prevalence!AQ243*CM246","v":0.10083333333333333},{"$f":"Prevalence!AR243*CN246","v":4.480833333333333},{"$f":"Prevalence!AS243*CO246","v":7.65},{"$f":"Prevalence!AT243*CP246","v":3.6666666666666665},{"$f":"Prevalence!AU243*CQ246","v":0.6399999999999999},{"$f":"Prevalence!AV243*CR246","v":3.2383333333333333},245,16248,1074,137,249,1174,993,2521,3518,521,929,3622,9,11,1490,null,1129,1186,365,141,135,249,460,207,1215,293,866,2855,null,418,1174,591,380,171,206,206,301,295,9,665,496,137,11,566,765,440,48,268]
["Male 80-84",{"$f":"Prevalence!B244*AX247","v":107.33},{"$f":"Prevalence!C244*AY247","v":8.9770833333333346},{"$f":"Prevalence!D244*AZ247","v":0.83333333333333337},{"$f":"Prevalence!E244*BA247","v":1.2708333333333335},{"$f":"Prevalence!F244*BB247","v":7.79},{"$f":"Prevalence!G244*BC247","v":3.793333333333333},{"$f":"Prevalence!H244*BD247","v":18.145833333333332},{"$f":"Prevalence!I244*BE247","v":25.762499999999999},{"$f":"Prevalence!J244*BF247","v":3.2550000000000003},{"$f":"Prevalence!K244*BG247","v":5.65},{"$f":"Prevalence!L244*BH247","v":21.682500000000001},{"$f":"Prevalence!M244*BI247","v":0.125},{"$f":"Prevalence!N244*BJ247","v":3.6666666666666667E-2},{"$f":"Prevalence!O244*BK247","v":11.634999999999998},{"$f":"Prevalence!P244*BL247","v":0},{"$f":"Prevalence!Q244*BM247","v":8},{"$f":"Prevalence!R244*BN247","v":8.5612499999999994},{"$f":"Prevalence!S244*BO247","v":3.2375000000000003},{"$f":"Prevalence!T244*BP247","v":1.1591666666666665},{"$f":"Prevalence!U244*BQ247","v":0.58666666666666667},{"$f":"Prevalence!V244*BR247","v":1.2708333333333335},{"$f":"Prevalence!W244*BS247","v":3.44},{"$f":"Prevalence!X244*BT247","v":1.7141666666666668},{"$f":"Prevalence!Y244*BU247","v":2.6733333333333333},{"$f":"Prevalence!Z244*BV247","v":1.7258333333333331},{"$f":"Prevalence!AA244*BW247","v":3.7},{"$f":"Prevalence!AB244*BX247","v":15.09},{"$f":"Prevalence!AC244*BY247","v":0},{"$f":"Prevalence!AD244*BZ247","v":1.2425000000000002},{"$f":"Prevalence!AE244*CA247","v":7.79},{"$f":"Prevalence!AF244*CB247","v":4.4691666666666672},{"$f":"Prevalence!AG244*CC247","v":1.9874999999999998},{"$f":"Prevalence!AH244*CD247","v":1.3612500000000001},{"$f":"Prevalence!AI244*CE247","v":1.0733333333333335},{"$f":"Prevalence!AJ244*CF247","v":1.6424999999999998},{"$f":"Prevalence!AK244*CG247","v":3.4358333333333331},{"$f":"Prevalence!AL244*CH247","v":1.7812500000000002},{"$f":"Prevalence!AM244*CI247","v":0.125},{"$f":"Prevalence!AN244*CJ247","v":4.9062500000000009},{"$f":"Prevalence!AO244*CK247","v":3.9633333333333334},{"$f":"Prevalence!AP244*CL247","v":0.83333333333333337},{"$f":"Prevalence!AQ244*CM247","v":3.6666666666666667E-2},{"$f":"Prevalence!AR244*CN247","v":2.8262499999999995},{"$f":"Prevalence!AS244*CO247","v":4.8500000000000005},{"$f":"Prevalence!AT244*CP247","v":2.2333333333333334},{"$f":"Prevalence!AU244*CQ247","v":0.42666666666666664},{"$f":"Prevalence!AV244*CR247","v":1.885},246,10733,695,100,122,779,569,1675,2290,372,565,2478,10,4,1074,null,768,761,259,107,88,122,344,121,802,218,592,2012,null,213,779,346,265,99,92,146,217,171,10,471,328,100,4,357,485,268,32,156]
["Male 85-89",{"$f":"Prevalence!B245*AX248","v":54.74},{"$f":"Prevalence!C245*AY248","v":4.9470833333333344},{"$f":"Prevalence!D245*AZ248","v":0.33333333333333331},{"$f":"Prevalence!E245*BA248","v":0.78125000000000011},{"$f":"Prevalence!F245*BB248","v":3.84},{"$f":"Prevalence!G245*BC248","v":1.6266666666666665},{"$f":"Prevalence!H245*BD248","v":9.4574999999999996},{"$f":"Prevalence!I245*BE248","v":12.9375},{"$f":"Prevalence!J245*BF248","v":1.6362500000000002},{"$f":"Prevalence!K245*BG248","v":2.6},{"$f":"Prevalence!L245*BH248","v":11.978750000000002},{"$f":"Prevalence!M245*BI248","v":0},{"$f":"Prevalence!N245*BJ248","v":2.75E-2},{"$f":"Prevalence!O245*BK248","v":5.4816666666666656},{"$f":"Prevalence!P245*BL248","v":0},{"$f":"Prevalence!Q245*BM248","v":4.385416666666667},{"$f":"Prevalence!R245*BN248","v":4.3650000000000002},{"$f":"Prevalence!S245*BO248","v":1.3375000000000001},{"$f":"Prevalence!T245*BP248","v":0.56333333333333324},{"$f":"Prevalence!U245*BQ248","v":0.18},{"$f":"Prevalence!V245*BR248","v":0.78125000000000011},{"$f":"Prevalence!W245*BS248","v":1.57},{"$f":"Prevalence!X245*BT248","v":0.92083333333333339},{"$f":"Prevalence!Y245*BU248","v":1.18},{"$f":"Prevalence!Z245*BV248","v":1.0212499999999998},{"$f":"Prevalence!AA245*BW248","v":2.0562499999999999},{"$f":"Prevalence!AB245*BX248","v":8.3550000000000004},{"$f":"Prevalence!AC245*BY248","v":0},{"$f":"Prevalence!AD245*BZ248","v":0.56000000000000005},{"$f":"Prevalence!AE245*CA248","v":3.84},{"$f":"Prevalence!AF245*CB248","v":2.9708333333333337},{"$f":"Prevalence!AG245*CC248","v":1.0125},{"$f":"Prevalence!AH245*CD248","v":0.85250000000000004},{"$f":"Prevalence!AI245*CE248","v":0.56000000000000005},{"$f":"Prevalence!AJ245*CF248","v":0.72},{"$f":"Prevalence!AK245*CG248","v":1.6624999999999999},{"$f":"Prevalence!AL245*CH248","v":0.78125000000000011},{"$f":"Prevalence!AM245*CI248","v":0},{"$f":"Prevalence!AN245*CJ248","v":2.5208333333333335},{"$f":"Prevalence!AO245*CK248","v":1.4983333333333333},{"$f":"Prevalence!AP245*CL248","v":0.33333333333333331},{"$f":"Prevalence!AQ245*CM248","v":2.75E-2},{"$f":"Prevalence!AR245*CN248","v":1.6862499999999998},{"$f":"Prevalence!AS245*CO248","v":2.23},{"$f":"Prevalence!AT245*CP248","v":1.0083333333333333},{"$f":"Prevalence!AU245*CQ248","v":0.17333333333333331},{"$f":"Prevalence!AV245*CR248","v":0.9425},247,5474,383,40,75,384,244,873,1150,187,260,1369,0,3,506,null,421,388,107,52,27,75,157,65,354,129,329,1114,null,96,384,230,135,62,48,64,105,75,0,242,124,40,3,213,223,121,13,78]
["Male 90+",{"$f":"Prevalence!B246*AX249","v":21.7},{"$f":"Prevalence!C246*AY249","v":1.8600000000000003},{"$f":"Prevalence!D246*AZ249","v":9.166666666666666E-2},{"$f":"Prevalence!E246*BA249","v":0.19791666666666669},{"$f":"Prevalence!F246*BB249","v":1.45},{"$f":"Prevalence!G246*BC249","v":0.76666666666666661},{"$f":"Prevalence!H246*BD249","v":4.0083333333333329},{"$f":"Prevalence!I246*BE249","v":4.7924999999999995},{"$f":"Prevalence!J246*BF249","v":0.68250000000000011},{"$f":"Prevalence!K246*BG249","v":0.73},{"$f":"Prevalence!L246*BH249","v":5.0575000000000001},{"$f":"Prevalence!M246*BI249","v":2.5000000000000001E-2},{"$f":"Prevalence!N246*BJ249","v":2.75E-2},{"$f":"Prevalence!O246*BK249","v":2.2316666666666665},{"$f":"Prevalence!P246*BL249","v":0},{"$f":"Prevalence!Q246*BM249","v":1.822916666666667},{"$f":"Prevalence!R246*BN249","v":1.9575},{"$f":"Prevalence!S246*BO249","v":0.48750000000000004},{"$f":"Prevalence!T246*BP249","v":0.25999999999999995},{"$f":"Prevalence!U246*BQ249","v":7.9999999999999988E-2},{"$f":"Prevalence!V246*BR249","v":0.19791666666666669},{"$f":"Prevalence!W246*BS249","v":0.6},{"$f":"Prevalence!X246*BT249","v":0.42500000000000004},{"$f":"Prevalence!Y246*BU249","v":0.43333333333333329},{"$f":"Prevalence!Z246*BV249","v":0.34833333333333327},{"$f":"Prevalence!AA246*BW249","v":0.79375000000000007},{"$f":"Prevalence!AB246*BX249","v":3.6675},{"$f":"Prevalence!AC246*BY249","v":0},{"$f":"Prevalence!AD246*BZ249","v":0.29749999999999999},{"$f":"Prevalence!AE246*CA249","v":1.45},{"$f":"Prevalence!AF246*CB249","v":1.0720833333333335},{"$f":"Prevalence!AG246*CC249","v":0.40499999999999997},{"$f":"Prevalence!AH246*CD249","v":0.30249999999999999},{"$f":"Prevalence!AI246*CE249","v":0.21000000000000002},{"$f":"Prevalence!AJ246*CF249","v":0.23624999999999999},{"$f":"Prevalence!AK246*CG249","v":0.56999999999999995},{"$f":"Prevalence!AL246*CH249","v":0.19791666666666669},{"$f":"Prevalence!AM246*CI249","v":2.5000000000000001E-2},{"$f":"Prevalence!AN246*CJ249","v":1.1145833333333335},{"$f":"Prevalence!AO246*CK249","v":0.51958333333333329},{"$f":"Prevalence!AP246*CL249","v":9.166666666666666E-2},{"$f":"Prevalence!AQ246*CM249","v":2.75E-2},{"$f":"Prevalence!AR246*CN249","v":0.61749999999999994},{"$f":"Prevalence!AS246*CO249","v":0.72},{"$f":"Prevalence!AT246*CP249","v":0.43333333333333335},{"$f":"Prevalence!AU246*CQ249","v":3.9999999999999994E-2},{"$f":"Prevalence!AV246*CR249","v":0.32624999999999998},248,2170,144,11,19,145,115,370,426,78,73,578,2,3,206,null,175,174,39,24,12,19,60,30,130,44,127,489,null,51,145,83,54,22,18,21,36,19,2,107,43,11,3,78,72,52,3,27]
["Female <1",null,null,null,null,null,null,null,null,null,null,null,null,null,null,null,null,null,null,null,null,null,null,null,null,null,null,null,null,null,null,null,null,null,null,null,null,null,null,null,null,null,null,null,null,null,null,null,249]
["Female 1-4",null,null,null,null,null,null,null,null,null,null,null,null,null,null,null,null,null,null,null,null,null,null,null,null,null,null,null,null,null,null,null,null,null,null,null,null,null,null,null,null,null,null,null,null,null,null,null,250]
["Female 5-9",null,null,null,null,null,null,null,null,null,null,null,null,null,null,null,null,null,null,null,null,null,null,null,null,null,null,null,null,null,null,null,null,null,null,null,null,null,null,null,null,null,null,null,null,null,null,null,251]
["Female 10-14",null,null,null,null,null,null,null,null,null,null,null,null,null,null,null,null,null,null,null,null,null,null,null,null,null,null,null,null,null,null,null,null,null,null,null,null,null,null,null,null,null,null,null,null,null,null,null,252]
["Female 15-19 (16+)",{"$f":"Prevalence!B251*AX254","v":3000.91},{"$f":"Prevalence!C251*AY254","v":139.75},{"$f":"Prevalence!D251*AZ254","v":9.8149999999999995},{"$f":"Prevalence!E251*BA254","v":28.32},{"$f":"Prevalence!F251*BB254","v":262.60500000000002},{"$f":"Prevalence!G251*BC254","v":190.78500000000003},{"$f":"Prevalence!H251*BD254","v":494.23500000000007},{"$f":"Prevalence!I251*BE254","v":596.20000000000005},{"$f":"Prevalence!J251*BF254","v":68.67},{"$f":"Prevalence!K251*BG254","v":215.39499999999998},{"$f":"Prevalence!L251*BH254","v":631.65499999999997},{"$f":"Prevalence!M251*BI254","v":1.2},{"$f":"Prevalence!N251*BJ254","v":2.6599999999999997},{"$f":"Prevalence!O251*BK254","v":241.61499999999998},{"$f":"Prevalence!P251*BL254","v":0},{"$f":"Prevalence!Q251*BM254","v":235.20000000000002},{"$f":"Prevalence!R251*BN254","v":221.65500000000003},{"$f":"Prevalence!S251*BO254","v":33.480000000000004},{"$f":"Prevalence!T251*BP254","v":24.599999999999998},{"$f":"Prevalence!U251*BQ254","v":26.319999999999997},{"$f":"Prevalence!V251*BR254","v":28.32},{"$f":"Prevalence!W251*BS254","v":140},{"$f":"Prevalence!X251*BT254","v":55.18},{"$f":"Prevalence!Y251*BU254","v":66.699999999999989},{"$f":"Prevalence!Z251*BV254","v":46.559999999999995},{"$f":"Prevalence!AA251*BW254","v":74.58},{"$f":"Prevalence!AB251*BX254","v":468.09000000000003},{"$f":"Prevalence!AC251*BY254","v":0},{"$f":"Prevalence!AD251*BZ254","v":80.039999999999992},{"$f":"Prevalence!AE251*CA254","v":262.60500000000002},{"$f":"Prevalence!AF251*CB254","v":139.44},{"$f":"Prevalence!AG251*CC254","v":44.9},{"$f":"Prevalence!AH251*CD254","v":29.094999999999999},{"$f":"Prevalence!AI251*CE254","v":45.63},{"$f":"Prevalence!AJ251*CF254","v":33.82},{"$f":"Prevalence!AK251*CG254","v":35.910000000000004},{"$f":"Prevalence!AL251*CH254","v":82.61},{"$f":"Prevalence!AM251*CI254","v":1.2},{"$f":"Prevalence!AN251*CJ254","v":76.860000000000014},{"$f":"Prevalence!AO251*CK254","v":121.625},{"$f":"Prevalence!AP251*CL254","v":9.8149999999999995},{"$f":"Prevalence!AQ251*CM254","v":2.6599999999999997},{"$f":"Prevalence!AR251*CN254","v":39.68},{"$f":"Prevalence!AS251*CO254","v":159.12},{"$f":"Prevalence!AT251*CP254","v":69.974999999999994},{"$f":"Prevalence!AU251*CQ254","v":20.7},{"$f":"Prevalence!AV251*CR254","v":57.76},253,27281,1118,151,236,2501,1817,4707,5420,654,1873,6649,16,38,2101,null,2240,2111,372,205,188,236,875,356,1334,388,1356,5201,null,696,2501,1162,449,253,338,356,266,751,16,854,973,151,38,496,1326,933,138,722]
["Female 20-24",{"$f":"Prevalence!B252*AX255","v":4181.76},{"$f":"Prevalence!C252*AY255","v":139},{"$f":"Prevalence!D252*AZ255","v":5.8500000000000005},{"$f":"Prevalence!E252*BA255","v":28.439999999999998},{"$f":"Prevalence!F252*BB255","v":386.71500000000003},{"$f":"Prevalence!G252*BC255","v":218.82000000000002},{"$f":"Prevalence!H252*BD255","v":676.30500000000006},{"$f":"Prevalence!I252*BE255","v":811.91},{"$f":"Prevalence!J252*BF255","v":64.050000000000011},{"$f":"Prevalence!K252*BG255","v":226.08999999999997},{"$f":"Prevalence!L252*BH255","v":1154.915},{"$f":"Prevalence!M252*BI255","v":1.125},{"$f":"Prevalence!N252*BJ255","v":2.2399999999999998},{"$f":"Prevalence!O252*BK255","v":253.92},{"$f":"Prevalence!P252*BL255","v":0},{"$f":"Prevalence!Q252*BM255","v":443.73},{"$f":"Prevalence!R252*BN255","v":206.11500000000001},{"$f":"Prevalence!S252*BO255","v":28.350000000000005},{"$f":"Prevalence!T252*BP255","v":23.279999999999998},{"$f":"Prevalence!U252*BQ255","v":15.679999999999998},{"$f":"Prevalence!V252*BR255","v":28.439999999999998},{"$f":"Prevalence!W252*BS255","v":200.8},{"$f":"Prevalence!X252*BT255","v":61.07},{"$f":"Prevalence!Y252*BU255","v":70.5},{"$f":"Prevalence!Z252*BV255","v":47.28},{"$f":"Prevalence!AA252*BW255","v":78.265000000000001},{"$f":"Prevalence!AB252*BX255","v":970.29000000000008},{"$f":"Prevalence!AC252*BY255","v":0},{"$f":"Prevalence!AD252*BZ255","v":85.33},{"$f":"Prevalence!AE252*CA255","v":386.71500000000003},{"$f":"Prevalence!AF252*CB255","v":348.24},{"$f":"Prevalence!AG252*CC255","v":41.599999999999994},{"$f":"Prevalence!AH252*CD255","v":22.77},{"$f":"Prevalence!AI252*CE255","v":49.815000000000005},{"$f":"Prevalence!AJ252*CF255","v":23.94},{"$f":"Prevalence!AK252*CG255","v":35.505000000000003},{"$f":"Prevalence!AL252*CH255","v":90.97},{"$f":"Prevalence!AM252*CI255","v":1.125},{"$f":"Prevalence!AN252*CJ255","v":57.420000000000009},{"$f":"Prevalence!AO252*CK255","v":135.875},{"$f":"Prevalence!AP252*CL255","v":5.8500000000000005},{"$f":"Prevalence!AQ252*CM255","v":2.2399999999999998},{"$f":"Prevalence!AR252*CN255","v":36.4},{"$f":"Prevalence!AS252*CO255","v":162.84},{"$f":"Prevalence!AT252*CP255","v":92.25},{"$f":"Prevalence!AU252*CQ255","v":21.45},{"$f":"Prevalence!AV252*CR255","v":49.04},254,38016,1112,90,237,3683,2084,6441,7381,610,1966,12157,15,32,2208,null,4226,1963,315,194,112,237,1255,394,1410,394,1423,10781,null,742,3683,2902,416,198,369,252,263,827,15,638,1087,90,32,455,1357,1230,143,613]
["Female 25-29",{"$f":"Prevalence!B253*AX256","v":3890.7400000000002},{"$f":"Prevalence!C253*AY256","v":142.86363636363637},{"$f":"Prevalence!D253*AZ256","v":8.0245454545454553},{"$f":"Prevalence!E253*BA256","v":31.767272727272729},{"$f":"Prevalence!F253*BB256","v":230.79000000000005},{"$f":"Prevalence!G253*BC256","v":168.24818181818185},{"$f":"Prevalence!H253*BD256","v":825.73909090909103},{"$f":"Prevalence!I253*BE256","v":702.38000000000011},{"$f":"Prevalence!J253*BF256","v":78.444545454545477},{"$f":"Prevalence!K253*BG256","v":216.61818181818182},{"$f":"Prevalence!L253*BH256","v":1054.69},{"$f":"Prevalence!M253*BI256","v":2.0045454545454549},{"$f":"Prevalence!N253*BJ256","v":2.4054545454545457},{"$f":"Prevalence!O253*BK256","v":229.49818181818182},{"$f":"Prevalence!P253*BL256","v":0},{"$f":"Prevalence!Q253*BM256","v":476.54727272727285},{"$f":"Prevalence!R253*BN256","v":304.29000000000008},{"$f":"Prevalence!S253*BO256","v":29.896363636363642},{"$f":"Prevalence!T253*BP256","v":21.381818181818183},{"$f":"Prevalence!U253*BQ256","v":17.283636363636365},{"$f":"Prevalence!V253*BR256","v":31.767272727272729},{"$f":"Prevalence!W253*BS256","v":132.36363636363637},{"$f":"Prevalence!X253*BT256","v":67.861818181818194},{"$f":"Prevalence!Y253*BU256","v":53.900000000000006},{"$f":"Prevalence!Z253*BV256","v":38.792727272727276},{"$f":"Prevalence!AA253*BW256","v":60.970000000000006},{"$f":"Prevalence!AB253*BX256","v":871.57636363636379},{"$f":"Prevalence!AC253*BY256","v":0},{"$f":"Prevalence!AD253*BZ256","v":102.45454545454545},{"$f":"Prevalence!AE253*CA256","v":230.79000000000005},{"$f":"Prevalence!AF253*CB256","v":339.36},{"$f":"Prevalence!AG253*CC256","v":56.890909090909098},{"$f":"Prevalence!AH253*CD256","v":21.515454545454546},{"$f":"Prevalence!AI253*CE256","v":53.9509090909091},{"$f":"Prevalence!AJ253*CF256","v":40.625454545454552},{"$f":"Prevalence!AK253*CG256","v":33.848181818181821},{"$f":"Prevalence!AL253*CH256","v":84.98},{"$f":"Prevalence!AM253*CI256","v":2.0045454545454549},{"$f":"Prevalence!AN253*CJ256","v":75.256363636363645},{"$f":"Prevalence!AO253*CK256","v":108.97727272727275},{"$f":"Prevalence!AP253*CL256","v":8.0245454545454553},{"$f":"Prevalence!AQ253*CM256","v":2.4054545454545457},{"$f":"Prevalence!AR253*CN256","v":36.349090909090918},{"$f":"Prevalence!AS253*CO256","v":158.53090909090909},{"$f":"Prevalence!AT253*CP256","v":44.1},{"$f":"Prevalence!AU253*CQ256","v":15.272727272727273},{"$f":"Prevalence!AV253*CR256","v":55.592727272727281},255,27791,898,97,208,1727,1259,6179,5017,587,1480,8723,21,27,1568,null,3566,2277,261,140,97,208,650,344,847,254,871,7609,null,700,1727,2222,447,147,314,336,197,607,21,657,685,97,27,357,1038,462,80,546]
["Female 30-34",{"$f":"Prevalence!B254*AX257","v":4105.22},{"$f":"Prevalence!C254*AY257","v":165.6136363636364},{"$f":"Prevalence!D254*AZ257","v":12.243636363636364},{"$f":"Prevalence!E254*BA257","v":37.57090909090909},{"$f":"Prevalence!F254*BB257","v":270.21272727272731},{"$f":"Prevalence!G254*BC257","v":206.73545454545459},{"$f":"Prevalence!H254*BD257","v":847.65545454545475},{"$f":"Prevalence!I254*BE257","v":775.6},{"$f":"Prevalence!J254*BF257","v":82.854545454545473},{"$f":"Prevalence!K254*BG257","v":263.74727272727273},{"$f":"Prevalence!L254*BH257","v":1005.9636363636365},{"$f":"Prevalence!M254*BI257","v":1.4318181818181819},{"$f":"Prevalence!N254*BJ257","v":4.7218181818181817},{"$f":"Prevalence!O254*BK257","v":237.98727272727274},{"$f":"Prevalence!P254*BL257","v":0},{"$f":"Prevalence!Q254*BM257","v":439.53000000000009},{"$f":"Prevalence!R254*BN257","v":368.4354545454546},{"$f":"Prevalence!S254*BO257","v":33.56181818181819},{"$f":"Prevalence!T254*BP257","v":21.22909090909091},{"$f":"Prevalence!U254*BQ257","v":22.807272727272728},{"$f":"Prevalence!V254*BR257","v":37.57090909090909},{"$f":"Prevalence!W254*BS257","v":129.10545454545456},{"$f":"Prevalence!X254*BT257","v":75.160909090909101},{"$f":"Prevalence!Y254*BU257","v":69.045454545454547},{"$f":"Prevalence!Z254*BV257","v":47.192727272727275},{"$f":"Prevalence!AA254*BW257","v":77.84},{"$f":"Prevalence!AB254*BX257","v":784.52181818181828},{"$f":"Prevalence!AC254*BY257","v":0},{"$f":"Prevalence!AD254*BZ257","v":138.31363636363636},{"$f":"Prevalence!AE254*CA257","v":270.21272727272731},{"$f":"Prevalence!AF254*CB257","v":303.92727272727274},{"$f":"Prevalence!AG254*CC257","v":61.218181818181826},{"$f":"Prevalence!AH254*CD257","v":30.882727272727273},{"$f":"Prevalence!AI254*CE257","v":74.053636363636372},{"$f":"Prevalence!AJ254*CF257","v":35.910000000000004},{"$f":"Prevalence!AK254*CG257","v":42.439090909090915},{"$f":"Prevalence!AL254*CH257","v":104.30000000000001},{"$f":"Prevalence!AM254*CI257","v":1.4318181818181819},{"$f":"Prevalence!AN254*CJ257","v":80.067272727272737},{"$f":"Prevalence!AO254*CK257","v":131.09090909090912},{"$f":"Prevalence!AP254*CL257","v":12.243636363636364},{"$f":"Prevalence!AQ254*CM257","v":4.7218181818181817},{"$f":"Prevalence!AR254*CN257","v":42.050909090909101},{"$f":"Prevalence!AS254*CO257","v":192.13090909090911},{"$f":"Prevalence!AT254*CP257","v":45.24545454545455},{"$f":"Prevalence!AU254*CQ257","v":22.336363636363636},{"$f":"Prevalence!AV254*CR257","v":74.429090909090917},256,29323,1041,148,246,2022,1547,6343,5540,620,1802,8320,15,53,1626,null,3289,2757,293,139,128,246,634,381,1085,309,1112,6849,null,945,2022,1990,481,211,431,297,247,745,15,699,824,148,53,413,1258,474,117,731]
["Female 35-39",{"$f":"Prevalence!B255*AX258","v":4817.0999999999995},{"$f":"Prevalence!C255*AY258","v":221.93181818181822},{"$f":"Prevalence!D255*AZ258","v":17.195454545454545},{"$f":"Prevalence!E255*BA258","v":38.781818181818174},{"$f":"Prevalence!F255*BB258","v":338.05227272727274},{"$f":"Prevalence!G255*BC258","v":271.04318181818184},{"$f":"Prevalence!H255*BD258","v":897.6068181818182},{"$f":"Prevalence!I255*BE258","v":978.3},{"$f":"Prevalence!J255*BF258","v":104.52272727272728},{"$f":"Prevalence!K255*BG258","v":343.74545454545449},{"$f":"Prevalence!L255*BH258","v":1087.6636363636364},{"$f":"Prevalence!M255*BI258","v":2.0454545454545454},{"$f":"Prevalence!N255*BJ258","v":6.7772727272727264},{"$f":"Prevalence!O255*BK258","v":302.18863636363631},{"$f":"Prevalence!P255*BL258","v":0},{"$f":"Prevalence!Q255*BM258","v":398.90454545454548},{"$f":"Prevalence!R255*BN258","v":453.6},{"$f":"Prevalence!S255*BO258","v":51.054545454545455},{"$f":"Prevalence!T255*BP258","v":30.272727272727266},{"$f":"Prevalence!U255*BQ258","v":31.881818181818179},{"$f":"Prevalence!V255*BR258","v":38.781818181818174},{"$f":"Prevalence!W255*BS258","v":146.83636363636364},{"$f":"Prevalence!X255*BT258","v":98.706818181818178},{"$f":"Prevalence!Y255*BU258","v":101.86363636363636},{"$f":"Prevalence!Z255*BV258","v":83.781818181818167},{"$f":"Prevalence!AA255*BW258","v":116.69999999999999},{"$f":"Prevalence!AB255*BX258","v":789.75},{"$f":"Prevalence!AC255*BY258","v":0},{"$f":"Prevalence!AD255*BZ258","v":172.49999999999997},{"$f":"Prevalence!AE255*CA258","v":338.05227272727274},{"$f":"Prevalence!AF255*CB258","v":284.89090909090902},{"$f":"Prevalence!AG255*CC258","v":74.318181818181813},{"$f":"Prevalence!AH255*CD258","v":44.536363636363632},{"$f":"Prevalence!AI255*CE258","v":84.497727272727275},{"$f":"Prevalence!AJ255*CF258","v":40.80681818181818},{"$f":"Prevalence!AK255*CG258","v":47.86363636363636},{"$f":"Prevalence!AL255*CH258","v":136.79999999999998},{"$f":"Prevalence!AM255*CI258","v":2.0454545454545454},{"$f":"Prevalence!AN255*CJ258","v":102.84545454545454},{"$f":"Prevalence!AO255*CK258","v":179.82954545454547},{"$f":"Prevalence!AP255*CL258","v":17.195454545454545},{"$f":"Prevalence!AQ255*CM258","v":6.7772727272727264},{"$f":"Prevalence!AR255*CN258","v":62.727272727272727},{"$f":"Prevalence!AS255*CO258","v":251.50909090909087},{"$f":"Prevalence!AT255*CP258","v":64.022727272727266},{"$f":"Prevalence!AU255*CQ258","v":27.613636363636363},{"$f":"Prevalence!AV255*CR258","v":108},257,32114,1302,194,237,2361,1893,6269,6522,730,2192,8396,20,71,1927,null,2786,3168,416,185,167,237,673,467,1494,512,1556,6435,null,1100,2361,1741,545,284,459,315,260,912,20,838,1055,194,71,575,1537,626,135,990]
["Female 40-44",{"$f":"Prevalence!B256*AX259","v":6080.55},{"$f":"Prevalence!C256*AY259","v":311.0795454545455},{"$f":"Prevalence!D256*AZ259","v":22.779545454545456},{"$f":"Prevalence!E256*BA259","v":61.199999999999989},{"$f":"Prevalence!F256*BB259","v":414.08181818181822},{"$f":"Prevalence!G256*BC259","v":377.28409090909093},{"$f":"Prevalence!H256*BD259","v":1051.0977272727273},{"$f":"Prevalence!I256*BE259","v":1311.75},{"$f":"Prevalence!J256*BF259","v":143.61136363636365},{"$f":"Prevalence!K256*BG259","v":472.64999999999992},{"$f":"Prevalence!L256*BH259","v":1280.1681818181819},{"$f":"Prevalence!M256*BI259","v":2.0454545454545454},{"$f":"Prevalence!N256*BJ259","v":7.5409090909090901},{"$f":"Prevalence!O256*BK259","v":387.34090909090907},{"$f":"Prevalence!P256*BL259","v":0},{"$f":"Prevalence!Q256*BM259","v":450.30681818181819},{"$f":"Prevalence!R256*BN259","v":538.07727272727277},{"$f":"Prevalence!S256*BO259","v":64.309090909090912},{"$f":"Prevalence!T256*BP259","v":49.254545454545443},{"$f":"Prevalence!U256*BQ259","v":49.636363636363633},{"$f":"Prevalence!V256*BR259","v":61.199999999999989},{"$f":"Prevalence!W256*BS259","v":176.72727272727272},{"$f":"Prevalence!X256*BT259","v":130.83409090909092},{"$f":"Prevalence!Y256*BU259","v":139.77272727272725},{"$f":"Prevalence!Z256*BV259","v":118.63636363636361},{"$f":"Prevalence!AA256*BW259","v":164.17499999999998},{"$f":"Prevalence!AB256*BX259","v":875.65909090909088},{"$f":"Prevalence!AC256*BY259","v":0},{"$f":"Prevalence!AD256*BZ259","v":218.29090909090905},{"$f":"Prevalence!AE256*CA259","v":414.08181818181822},{"$f":"Prevalence!AF256*CB259","v":329.72727272727269},{"$f":"Prevalence!AG256*CC259","v":95.72727272727272},{"$f":"Prevalence!AH256*CD259","v":63.981818181818177},{"$f":"Prevalence!AI256*CE259","v":119.29090909090908},{"$f":"Prevalence!AJ256*CF259","v":56.740909090909092},{"$f":"Prevalence!AK256*CG259","v":74.372727272727275},{"$f":"Prevalence!AL256*CH259","v":194.25},{"$f":"Prevalence!AM256*CI259","v":2.0454545454545454},{"$f":"Prevalence!AN256*CJ259","v":139.41818181818181},{"$f":"Prevalence!AO256*CK259","v":264.375},{"$f":"Prevalence!AP256*CL259","v":22.779545454545456},{"$f":"Prevalence!AQ256*CM259","v":7.5409090909090901},{"$f":"Prevalence!AR256*CN259","v":87.490909090909085},{"$f":"Prevalence!AS256*CO259","v":332.99999999999994},{"$f":"Prevalence!AT256*CP259","v":100.53409090909091},{"$f":"Prevalence!AU256*CQ259","v":44.18181818181818},{"$f":"Prevalence!AV256*CR259","v":149.89090909090908},258,40537,1825,257,374,2892,2635,7341,8745,1003,3014,9882,20,79,2470,null,3145,3758,524,301,260,374,810,619,2050,725,2189,7135,null,1392,2892,2015,702,408,648,438,404,1295,20,1136,1551,257,79,802,2035,983,216,1374]
["Female 45-49",{"$f":"Prevalence!B257*AX260","v":4924.1499999999996},{"$f":"Prevalence!C257*AY260","v":277.125},{"$f":"Prevalence!D257*AZ260","v":22.685000000000002},{"$f":"Prevalence!E257*BA260","v":59.76},{"$f":"Prevalence!F257*BB260","v":301.245},{"$f":"Prevalence!G257*BC260","v":288.64500000000004},{"$f":"Prevalence!H257*BD260","v":817.00500000000011},{"$f":"Prevalence!I257*BE260","v":1097.25},{"$f":"Prevalence!J257*BF260","v":131.25},{"$f":"Prevalence!K257*BG260","v":402.84499999999997},{"$f":"Prevalence!L257*BH260","v":992.46500000000003},{"$f":"Prevalence!M257*BI260","v":2.9249999999999998},{"$f":"Prevalence!N257*BJ260","v":5.2499999999999991},{"$f":"Prevalence!O257*BK260","v":346.49499999999995},{"$f":"Prevalence!P257*BL260","v":0},{"$f":"Prevalence!Q257*BM260","v":355.95000000000005},{"$f":"Prevalence!R257*BN260","v":416.32500000000005},{"$f":"Prevalence!S257*BO260","v":60.390000000000008},{"$f":"Prevalence!T257*BP260","v":42.12},{"$f":"Prevalence!U257*BQ260","v":47.319999999999993},{"$f":"Prevalence!V257*BR260","v":59.76},{"$f":"Prevalence!W257*BS260","v":158.56},{"$f":"Prevalence!X257*BT260","v":101.37},{"$f":"Prevalence!Y257*BU260","v":124.44999999999999},{"$f":"Prevalence!Z257*BV260","v":100.8},{"$f":"Prevalence!AA257*BW260","v":133.54},{"$f":"Prevalence!AB257*BX260","v":668.7},{"$f":"Prevalence!AC257*BY260","v":0},{"$f":"Prevalence!AD257*BZ260","v":161.22999999999999},{"$f":"Prevalence!AE257*CA260","v":301.245},{"$f":"Prevalence!AF257*CB260","v":252.84},{"$f":"Prevalence!AG257*CC260","v":89.899999999999991},{"$f":"Prevalence!AH257*CD260","v":54.05},{"$f":"Prevalence!AI257*CE260","v":84.375},{"$f":"Prevalence!AJ257*CF260","v":40.47},{"$f":"Prevalence!AK257*CG260","v":73.710000000000008},{"$f":"Prevalence!AL257*CH260","v":160.6},{"$f":"Prevalence!AM257*CI260","v":2.9249999999999998},{"$f":"Prevalence!AN257*CJ260","v":121.59000000000002},{"$f":"Prevalence!AO257*CK260","v":230.125},{"$f":"Prevalence!AP257*CL260","v":22.685000000000002},{"$f":"Prevalence!AQ257*CM260","v":5.2499999999999991},{"$f":"Prevalence!AR257*CN260","v":81.36},{"$f":"Prevalence!AS257*CO260","v":289.32},{"$f":"Prevalence!AT257*CP260","v":75.674999999999997},{"$f":"Prevalence!AU257*CQ260","v":40.799999999999997},{"$f":"Prevalence!AV257*CR260","v":124.16},259,44765,2217,349,498,2869,2749,7781,9975,1250,3503,10447,39,75,3013,null,3390,3965,671,351,338,498,991,654,2489,840,2428,7430,null,1402,2869,2107,899,470,625,426,546,1460,39,1351,1841,349,75,1017,2411,1009,272,1552]
["Female 50-54",{"$f":"Prevalence!B258*AX261","v":4621.32},{"$f":"Prevalence!C258*AY261","v":273.625},{"$f":"Prevalence!D258*AZ261","v":17.68},{"$f":"Prevalence!E258*BA261","v":57.839999999999996},{"$f":"Prevalence!F258*BB261","v":292.21500000000003},{"$f":"Prevalence!G258*BC261","v":257.25},{"$f":"Prevalence!H258*BD261","v":759.8850000000001},{"$f":"Prevalence!I258*BE261","v":1041.04},{"$f":"Prevalence!J258*BF261","v":122.64000000000001},{"$f":"Prevalence!K258*BG261","v":377.315},{"$f":"Prevalence!L258*BH261","v":915.99},{"$f":"Prevalence!M258*BI261","v":2.1},{"$f":"Prevalence!N258*BJ261","v":3.57},{"$f":"Prevalence!O258*BK261","v":340.97499999999997},{"$f":"Prevalence!P258*BL261","v":0},{"$f":"Prevalence!Q258*BM261","v":344.29500000000002},{"$f":"Prevalence!R258*BN261","v":375.58500000000004},{"$f":"Prevalence!S258*BO261","v":56.610000000000007},{"$f":"Prevalence!T258*BP261","v":41.16},{"$f":"Prevalence!U258*BQ261","v":42.839999999999996},{"$f":"Prevalence!V258*BR261","v":57.839999999999996},{"$f":"Prevalence!W258*BS261","v":168.48},{"$f":"Prevalence!X258*BT261","v":95.635000000000005},{"$f":"Prevalence!Y258*BU261","v":119.19999999999999},{"$f":"Prevalence!Z258*BV261","v":99.36},{"$f":"Prevalence!AA258*BW261","v":123.2},{"$f":"Prevalence!AB258*BX261","v":631.80000000000007},{"$f":"Prevalence!AC258*BY261","v":0},{"$f":"Prevalence!AD258*BZ261","v":141.10499999999999},{"$f":"Prevalence!AE258*CA261","v":292.21500000000003},{"$f":"Prevalence!AF258*CB261","v":244.07999999999998},{"$f":"Prevalence!AG258*CC261","v":82.5},{"$f":"Prevalence!AH258*CD261","v":46.114999999999995},{"$f":"Prevalence!AI258*CE261","v":75.600000000000009},{"$f":"Prevalence!AJ258*CF261","v":36.195},{"$f":"Prevalence!AK258*CG261","v":75.465000000000003},{"$f":"Prevalence!AL258*CH261","v":148.16999999999999},{"$f":"Prevalence!AM258*CI261","v":2.1},{"$f":"Prevalence!AN258*CJ261","v":115.47000000000001},{"$f":"Prevalence!AO258*CK261","v":226.875},{"$f":"Prevalence!AP258*CL261","v":17.68},{"$f":"Prevalence!AQ258*CM261","v":3.57},{"$f":"Prevalence!AR258*CN261","v":81.040000000000006},{"$f":"Prevalence!AS258*CO261","v":275.03999999999996},{"$f":"Prevalence!AT258*CP261","v":68.774999999999991},{"$f":"Prevalence!AU258*CQ261","v":34.799999999999997},{"$f":"Prevalence!AV258*CR261","v":98.72},260,42012,2189,272,482,2783,2450,7237,9464,1168,3281,9642,28,51,2965,null,3279,3577,629,343,306,482,1053,617,2384,828,2240,7020,null,1227,2783,2034,825,401,560,381,559,1347,28,1283,1815,272,51,1013,2292,917,232,1234]
["Female 55-59",{"$f":"Prevalence!B259*AX262","v":3741.2000000000003},{"$f":"Prevalence!C259*AY262","v":243.40909090909093},{"$f":"Prevalence!D259*AZ262","v":17.904545454545456},{"$f":"Prevalence!E259*BA262","v":47.454545454545453},{"$f":"Prevalence!F259*BB262","v":240.16363636363639},{"$f":"Prevalence!G259*BC262","v":202.07727272727274},{"$f":"Prevalence!H259*BD262","v":604.7045454545455},{"$f":"Prevalence!I259*BE262","v":837.5},{"$f":"Prevalence!J259*BF262","v":105.66818181818182},{"$f":"Prevalence!K259*BG262","v":298.68636363636364},{"$f":"Prevalence!L259*BH262","v":733.83181818181822},{"$f":"Prevalence!M259*BI262","v":1.3636363636363635},{"$f":"Prevalence!N259*BJ262","v":2.8000000000000003},{"$f":"Prevalence!O259*BK262","v":278.5090909090909},{"$f":"Prevalence!P259*BL262","v":0},{"$f":"Prevalence!Q259*BM262","v":258.3},{"$f":"Prevalence!R259*BN262","v":313.09090909090912},{"$f":"Prevalence!S259*BO262","v":51.790909090909096},{"$f":"Prevalence!T259*BP262","v":31.963636363636361},{"$f":"Prevalence!U259*BQ262","v":37.672727272727279},{"$f":"Prevalence!V259*BR262","v":47.454545454545453},{"$f":"Prevalence!W259*BS262","v":117.52727272727275},{"$f":"Prevalence!X259*BT262","v":79.331818181818193},{"$f":"Prevalence!Y259*BU262","v":98.545454545454547},{"$f":"Prevalence!Z259*BV262","v":73.527272727272717},{"$f":"Prevalence!AA259*BW262","v":99.550000000000011},{"$f":"Prevalence!AB259*BX262","v":513.40909090909099},{"$f":"Prevalence!AC259*BY262","v":0},{"$f":"Prevalence!AD259*BZ262","v":107.68181818181819},{"$f":"Prevalence!AE259*CA262","v":240.16363636363639},{"$f":"Prevalence!AF259*CB262","v":194.83636363636361},{"$f":"Prevalence!AG259*CC262","v":74},{"$f":"Prevalence!AH259*CD262","v":38.890909090909091},{"$f":"Prevalence!AI259*CE262","v":63.20454545454546},{"$f":"Prevalence!AJ259*CF262","v":30.140909090909091},{"$f":"Prevalence!AK259*CG262","v":68.972727272727283},{"$f":"Prevalence!AL259*CH262","v":111.9},{"$f":"Prevalence!AM259*CI262","v":1.3636363636363635},{"$f":"Prevalence!AN259*CJ262","v":100.06363636363638},{"$f":"Prevalence!AO259*CK262","v":173.18181818181819},{"$f":"Prevalence!AP259*CL262","v":17.904545454545456},{"$f":"Prevalence!AQ259*CM262","v":2.8000000000000003},{"$f":"Prevalence!AR259*CN262","v":73.963636363636368},{"$f":"Prevalence!AS259*CO262","v":226.90909090909091},{"$f":"Prevalence!AT259*CP262","v":53.93181818181818},{"$f":"Prevalence!AU259*CQ262","v":26.18181818181818},{"$f":"Prevalence!AV259*CR262","v":75.127272727272739},261,37412,2142,303,435,2516,2117,6335,8375,1107,2857,8497,20,44,2664,null,2706,3280,633,293,296,435,808,563,2168,674,1991,6275,null,1030,2516,1786,814,372,515,349,562,1119,20,1223,1524,303,44,1017,2080,791,192,1033]
["Female 60-64",{"$f":"Prevalence!B260*AX263","v":3562.2000000000003},{"$f":"Prevalence!C260*AY263","v":252.72727272727275},{"$f":"Prevalence!D260*AZ263","v":17.55},{"$f":"Prevalence!E260*BA263","v":44.072727272727271},{"$f":"Prevalence!F260*BB263","v":250.28181818181818},{"$f":"Prevalence!G260*BC263","v":207.51818181818183},{"$f":"Prevalence!H260*BD263","v":552.39545454545453},{"$f":"Prevalence!I260*BE263","v":750.80000000000007},{"$f":"Prevalence!J260*BF263","v":104.33181818181819},{"$f":"Prevalence!K260*BG263","v":264.81363636363636},{"$f":"Prevalence!L260*BH263","v":696.43636363636369},{"$f":"Prevalence!M260*BI263","v":1.4318181818181817},{"$f":"Prevalence!N260*BJ263","v":2.4181818181818184},{"$f":"Prevalence!O260*BK263","v":298.68636363636364},{"$f":"Prevalence!P260*BL263","v":0},{"$f":"Prevalence!Q260*BM263","v":238.06363636363636},{"$f":"Prevalence!R260*BN263","v":279.77727272727276},{"$f":"Prevalence!S260*BO263","v":61.936363636363645},{"$f":"Prevalence!T260*BP263","v":34.581818181818178},{"$f":"Prevalence!U260*BQ263","v":42.254545454545458},{"$f":"Prevalence!V260*BR263","v":44.072727272727271},{"$f":"Prevalence!W260*BS263","v":122.47272727272728},{"$f":"Prevalence!X260*BT263","v":78.204545454545467},{"$f":"Prevalence!Y260*BU263","v":93.5},{"$f":"Prevalence!Z260*BV263","v":68.72727272727272},{"$f":"Prevalence!AA260*BW263","v":86.25},{"$f":"Prevalence!AB260*BX263","v":493.85454545454553},{"$f":"Prevalence!AC260*BY263","v":0},{"$f":"Prevalence!AD260*BZ263","v":99.945454545454552},{"$f":"Prevalence!AE260*CA263","v":250.28181818181818},{"$f":"Prevalence!AF260*CB263","v":160.36363636363635},{"$f":"Prevalence!AG260*CC263","v":70.545454545454547},{"$f":"Prevalence!AH260*CD263","v":38.890909090909091},{"$f":"Prevalence!AI260*CE263","v":61.486363636363642},{"$f":"Prevalence!AJ260*CF263","v":31.263636363636365},{"$f":"Prevalence!AK260*CG263","v":76.090909090909093},{"$f":"Prevalence!AL260*CH263","v":97.800000000000011},{"$f":"Prevalence!AM260*CI263","v":1.4318181818181817},{"$f":"Prevalence!AN260*CJ263","v":102.92727272727275},{"$f":"Prevalence!AO260*CK263","v":157.72727272727275},{"$f":"Prevalence!AP260*CL263","v":17.55},{"$f":"Prevalence!AQ260*CM263","v":2.4181818181818184},{"$f":"Prevalence!AR260*CN263","v":76.290909090909096},{"$f":"Prevalence!AS260*CO263","v":206.39999999999998},{"$f":"Prevalence!AT260*CP263","v":60.409090909090907},{"$f":"Prevalence!AU260*CQ263","v":21.68181818181818},{"$f":"Prevalence!AV260*CR263","v":65.236363636363649},262,35622,2224,297,404,2622,2174,5787,7508,1093,2533,8064,21,38,2857,null,2494,2931,757,317,332,404,842,555,2057,630,1725,6036,null,956,2622,1470,776,372,501,362,620,978,21,1258,1388,297,38,1049,1892,886,159,897]
["Female 65-69",{"$f":"Prevalence!B261*AX264","v":1880.6999999999998},{"$f":"Prevalence!C261*AY264","v":141.27272727272728},{"$f":"Prevalence!D261*AZ264","v":9.3245454545454542},{"$f":"Prevalence!E261*BA264","v":26.574545454545451},{"$f":"Prevalence!F261*BB264","v":140.20363636363638},{"$f":"Prevalence!G261*BC264","v":111.39545454545454},{"$f":"Prevalence!H261*BD264","v":281.89636363636362},{"$f":"Prevalence!I261*BE264","v":392.64},{"$f":"Prevalence!J261*BF264","v":57.96},{"$f":"Prevalence!K261*BG264","v":130.91181818181818},{"$f":"Prevalence!L261*BH264","v":359.15181818181821},{"$f":"Prevalence!M261*BI264","v":1.0227272727272725},{"$f":"Prevalence!N261*BJ264","v":1.6799999999999997},{"$f":"Prevalence!O261*BK264","v":165.97636363636363},{"$f":"Prevalence!P261*BL264","v":0},{"$f":"Prevalence!Q261*BM264","v":121.07454545454546},{"$f":"Prevalence!R261*BN264","v":139.97454545454545},{"$f":"Prevalence!S261*BO264","v":34.118181818181824},{"$f":"Prevalence!T261*BP264","v":21.796363636363633},{"$f":"Prevalence!U261*BQ264","v":21.458181818181817},{"$f":"Prevalence!V261*BR264","v":26.574545454545451},{"$f":"Prevalence!W261*BS264","v":67.374545454545455},{"$f":"Prevalence!X261*BT264","v":38.975454545454546},{"$f":"Prevalence!Y261*BU264","v":52.472727272727269},{"$f":"Prevalence!Z261*BV264","v":40.319999999999993},{"$f":"Prevalence!AA261*BW264","v":51.12},{"$f":"Prevalence!AB261*BX264","v":252.62181818181821},{"$f":"Prevalence!AC261*BY264","v":0},{"$f":"Prevalence!AD261*BZ264","v":50.74636363636364},{"$f":"Prevalence!AE261*CA264","v":140.20363636363638},{"$f":"Prevalence!AF261*CB264","v":69.970909090909075},{"$f":"Prevalence!AG261*CC264","v":37.036363636363632},{"$f":"Prevalence!AH261*CD264","v":19.57090909090909},{"$f":"Prevalence!AI261*CE264","v":32.915454545454544},{"$f":"Prevalence!AJ261*CF264","v":18.861818181818183},{"$f":"Prevalence!AK261*CG264","v":43.88727272727273},{"$f":"Prevalence!AL261*CH264","v":43.92},{"$f":"Prevalence!AM261*CI264","v":1.0227272727272725},{"$f":"Prevalence!AN261*CJ264","v":57.878181818181822},{"$f":"Prevalence!AO261*CK264","v":79.568181818181827},{"$f":"Prevalence!AP261*CL264","v":9.3245454545454542},{"$f":"Prevalence!AQ261*CM264","v":1.6799999999999997},{"$f":"Prevalence!AR261*CN264","v":44.290909090909089},{"$f":"Prevalence!AS261*CO264","v":104.46545454545453},{"$f":"Prevalence!AT261*CP264","v":34.97727272727272},{"$f":"Prevalence!AU261*CQ264","v":10.390909090909089},{"$f":"Prevalence!AV261*CR264","v":31.505454545454544},263,31345,2072,263,406,2448,1945,4922,6544,1012,2087,6931,25,44,2646,null,2114,2444,695,333,281,406,772,461,1924,616,1704,5146,null,809,2448,1069,679,312,447,364,596,732,25,1179,1167,263,44,1015,1596,855,127,722]
["Female 70-74",{"$f":"Prevalence!B262*AX265","v":1422.8999999999999},{"$f":"Prevalence!C262*AY265","v":104.25000000000001},{"$f":"Prevalence!D262*AZ265","v":7.3390909090909089},{"$f":"Prevalence!E262*BA265","v":20.879999999999995},{"$f":"Prevalence!F262*BB265","v":95.301818181818177},{"$f":"Prevalence!G262*BC265","v":80.296363636363637},{"$f":"Prevalence!H262*BD265","v":216.77727272727273},{"$f":"Prevalence!I262*BE265","v":301.62},{"$f":"Prevalence!J262*BF265","v":44.558181818181822},{"$f":"Prevalence!K262*BG265","v":94.53},{"$f":"Prevalence!L262*BH265","v":276.45},{"$f":"Prevalence!M262*BI265","v":0.53181818181818175},{"$f":"Prevalence!N262*BJ265","v":1.0690909090909089},{"$f":"Prevalence!O262*BK265","v":133.04454545454547},{"$f":"Prevalence!P262*BL265","v":0},{"$f":"Prevalence!Q262*BM265","v":100.45636363636363},{"$f":"Prevalence!R262*BN265","v":101.31545454545454},{"$f":"Prevalence!S262*BO265","v":24.545454545454547},{"$f":"Prevalence!T262*BP265","v":13.876363636363635},{"$f":"Prevalence!U262*BQ265","v":15.196363636363635},{"$f":"Prevalence!V262*BR265","v":20.879999999999995},{"$f":"Prevalence!W262*BS265","v":57.512727272727268},{"$f":"Prevalence!X262*BT265","v":27.054545454545455},{"$f":"Prevalence!Y262*BU265","v":45.190909090909088},{"$f":"Prevalence!Z262*BV265","v":31.483636363636361},{"$f":"Prevalence!AA262*BW265","v":37.53},{"$f":"Prevalence!AB262*BX265","v":200.38909090909092},{"$f":"Prevalence!AC262*BY265","v":0},{"$f":"Prevalence!AD262*BZ265","v":36.695454545454545},{"$f":"Prevalence!AE262*CA265","v":95.301818181818177},{"$f":"Prevalence!AF262*CB265","v":53.345454545454537},{"$f":"Prevalence!AG262*CC265","v":30.872727272727271},{"$f":"Prevalence!AH262*CD265","v":15.054545454545455},{"$f":"Prevalence!AI262*CE265","v":21.42818181818182},{"$f":"Prevalence!AJ262*CF265","v":13.576363636363636},{"$f":"Prevalence!AK262*CG265","v":31.295454545454547},{"$f":"Prevalence!AL262*CH265","v":31.919999999999998},{"$f":"Prevalence!AM262*CI265","v":0.53181818181818175},{"$f":"Prevalence!AN262*CJ265","v":47.225454545454546},{"$f":"Prevalence!AO262*CK265","v":52.500000000000007},{"$f":"Prevalence!AP262*CL265","v":7.3390909090909089},{"$f":"Prevalence!AQ262*CM265","v":1.0690909090909089},{"$f":"Prevalence!AR262*CN265","v":34.210909090909091},{"$f":"Prevalence!AS262*CO265","v":77.301818181818177},{"$f":"Prevalence!AT262*CP265","v":25.281818181818178},{"$f":"Prevalence!AU262*CQ265","v":7.1999999999999984},{"$f":"Prevalence!AV262*CR265","v":20.989090909090908},264,23715,1529,207,319,1664,1402,3785,5027,778,1507,5335,13,28,2121,null,1754,1769,500,212,199,319,659,320,1657,481,1251,4082,null,585,1664,815,566,240,291,262,425,532,13,962,770,207,28,784,1181,618,88,481]
["Female 75-79",{"$f":"Prevalence!B263*AX266","v":792.36},{"$f":"Prevalence!C263*AY266","v":57.909090909090921},{"$f":"Prevalence!D263*AZ266","v":4.4672727272727277},{"$f":"Prevalence!E263*BA266","v":11.956363636363635},{"$f":"Prevalence!F263*BB266","v":53.836363636363643},{"$f":"Prevalence!G263*BC266","v":43.221818181818186},{"$f":"Prevalence!H263*BD266","v":116.49272727272728},{"$f":"Prevalence!I263*BE266","v":171.52},{"$f":"Prevalence!J263*BF266","v":25.390909090909094},{"$f":"Prevalence!K263*BG266","v":48.007272727272728},{"$f":"Prevalence!L263*BH266","v":158.01090909090908},{"$f":"Prevalence!M263*BI266","v":0.38181818181818178},{"$f":"Prevalence!N263*BJ266","v":0.38181818181818183},{"$f":"Prevalence!O263*BK266","v":74.22727272727272},{"$f":"Prevalence!P263*BL266","v":0},{"$f":"Prevalence!Q263*BM266","v":54.829090909090915},{"$f":"Prevalence!R263*BN266","v":51.965454545454548},{"$f":"Prevalence!S263*BO266","v":14.432727272727274},{"$f":"Prevalence!T263*BP266","v":8.334545454545454},{"$f":"Prevalence!U263*BQ266","v":8.4509090909090911},{"$f":"Prevalence!V263*BR266","v":11.956363636363635},{"$f":"Prevalence!W263*BS266","v":33.57090909090909},{"$f":"Prevalence!X263*BT266","v":14.372727272727273},{"$f":"Prevalence!Y263*BU266","v":25.527272727272727},{"$f":"Prevalence!Z263*BV266","v":17.454545454545453},{"$f":"Prevalence!AA263*BW266","v":21.94},{"$f":"Prevalence!AB263*BX266","v":120.14181818181819},{"$f":"Prevalence!AC263*BY266","v":0},{"$f":"Prevalence!AD263*BZ266","v":19.947272727272725},{"$f":"Prevalence!AE263*CA266","v":53.836363636363643},{"$f":"Prevalence!AF263*CB266","v":33.818181818181813},{"$f":"Prevalence!AG263*CC266","v":17.236363636363635},{"$f":"Prevalence!AH263*CD266","v":8.4472727272727273},{"$f":"Prevalence!AI263*CE266","v":11.143636363636364},{"$f":"Prevalence!AJ263*CF266","v":8.7745454545454553},{"$f":"Prevalence!AK263*CG266","v":17.574545454545454},{"$f":"Prevalence!AL263*CH266","v":14.76},{"$f":"Prevalence!AM263*CI266","v":0.38181818181818178},{"$f":"Prevalence!AN263*CJ266","v":24.774545454545457},{"$f":"Prevalence!AO263*CK266","v":26.409090909090914},{"$f":"Prevalence!AP263*CL266","v":4.4672727272727277},{"$f":"Prevalence!AQ263*CM266","v":0.38181818181818183},{"$f":"Prevalence!AR263*CN266","v":19.22909090909091},{"$f":"Prevalence!AS263*CO266","v":41.541818181818179},{"$f":"Prevalence!AT263*CP266","v":13.336363636363636},{"$f":"Prevalence!AU263*CQ266","v":3.0545454545454542},{"$f":"Prevalence!AV263*CR266","v":8.0290909090909093},265,19809,1274,189,274,1410,1132,3051,4288,665,1148,4574,14,15,1775,null,1436,1361,441,191,166,274,577,255,1404,400,1097,3671,null,477,1410,775,474,202,227,254,358,369,14,757,581,189,15,661,952,489,56,276]
["Female 80-84",{"$f":"Prevalence!B264*AX267","v":615.32000000000005},{"$f":"Prevalence!C264*AY267","v":44.95454545454546},{"$f":"Prevalence!D264*AZ267","v":2.7890909090909095},{"$f":"Prevalence!E264*BA267","v":9.1636363636363622},{"$f":"Prevalence!F264*BB267","v":37.112727272727277},{"$f":"Prevalence!G264*BC267","v":30.354545454545455},{"$f":"Prevalence!H264*BD267","v":91.101818181818189},{"$f":"Prevalence!I264*BE267","v":132.76},{"$f":"Prevalence!J264*BF267","v":19.740000000000002},{"$f":"Prevalence!K264*BG267","v":31.865454545454543},{"$f":"Prevalence!L264*BH267","v":132.79272727272726},{"$f":"Prevalence!M264*BI267","v":0.19090909090909089},{"$f":"Prevalence!N264*BJ267","v":0.30545454545454548},{"$f":"Prevalence!O264*BK267","v":60.72},{"$f":"Prevalence!P264*BL267","v":0},{"$f":"Prevalence!Q264*BM267","v":45.321818181818188},{"$f":"Prevalence!R264*BN267","v":39.250909090909097},{"$f":"Prevalence!S264*BO267","v":11.356363636363637},{"$f":"Prevalence!T264*BP267","v":6.1527272727272724},{"$f":"Prevalence!U264*BQ267","v":5.7527272727272729},{"$f":"Prevalence!V264*BR267","v":9.1636363636363622},{"$f":"Prevalence!W264*BS267","v":28.450909090909089},{"$f":"Prevalence!X264*BT267","v":11.047272727272727},{"$f":"Prevalence!Y264*BU267","v":18.345454545454544},{"$f":"Prevalence!Z264*BV267","v":12.872727272727271},{"$f":"Prevalence!AA264*BW267","v":18.48},{"$f":"Prevalence!AB264*BX267","v":103.45090909090909},{"$f":"Prevalence!AC264*BY267","v":0},{"$f":"Prevalence!AD264*BZ267","v":13.34},{"$f":"Prevalence!AE264*CA267","v":37.112727272727277},{"$f":"Prevalence!AF264*CB267","v":26.749090909090906},{"$f":"Prevalence!AG264*CC267","v":13.672727272727272},{"$f":"Prevalence!AH264*CD267","v":7.2763636363636364},{"$f":"Prevalence!AI264*CE267","v":7.1181818181818191},{"$f":"Prevalence!AJ264*CF267","v":5.9072727272727272},{"$f":"Prevalence!AK264*CG267","v":14.138181818181819},{"$f":"Prevalence!AL264*CH267","v":8.56},{"$f":"Prevalence!AM264*CI267","v":0.19090909090909089},{"$f":"Prevalence!AN264*CJ267","v":20.16},{"$f":"Prevalence!AO264*CK267","v":19.772727272727277},{"$f":"Prevalence!AP264*CL267","v":2.7890909090909095},{"$f":"Prevalence!AQ264*CM267","v":0.30545454545454548},{"$f":"Prevalence!AR264*CN267","v":14.690909090909091},{"$f":"Prevalence!AS264*CO267","v":29.978181818181817},{"$f":"Prevalence!AT264*CP267","v":9.9},{"$f":"Prevalence!AU264*CQ267","v":1.3636363636363635},{"$f":"Prevalence!AV264*CR267","v":7.0690909090909093},266,15383,989,118,210,972,795,2386,3319,517,762,3844,7,12,1452,null,1187,1028,347,141,113,210,489,196,1009,295,924,3161,null,319,972,613,376,174,145,171,288,214,7,616,435,118,12,505,687,363,25,243]
["Female 85-89",{"$f":"Prevalence!B265*AX268","v":381.48},{"$f":"Prevalence!C265*AY268","v":30.13636363636364},{"$f":"Prevalence!D265*AZ268","v":2.1272727272727274},{"$f":"Prevalence!E265*BA268","v":4.0581818181818177},{"$f":"Prevalence!F265*BB268","v":26.72727272727273},{"$f":"Prevalence!G265*BC268","v":16.876363636363639},{"$f":"Prevalence!H265*BD268","v":56.012727272727275},{"$f":"Prevalence!I265*BE268","v":80.320000000000007},{"$f":"Prevalence!J265*BF268","v":13.020000000000001},{"$f":"Prevalence!K265*BG268","v":14.301818181818181},{"$f":"Prevalence!L265*BH268","v":85.569090909090903},{"$f":"Prevalence!M265*BI268","v":0.19090909090909089},{"$f":"Prevalence!N265*BJ268","v":2.5454545454545455E-2},{"$f":"Prevalence!O265*BK268","v":37.887272727272723},{"$f":"Prevalence!P265*BL268","v":0},{"$f":"Prevalence!Q265*BM268","v":27.529090909090911},{"$f":"Prevalence!R265*BN268","v":24.703636363636367},{"$f":"Prevalence!S265*BO268","v":6.9709090909090916},{"$f":"Prevalence!T265*BP268","v":4.8872727272727268},{"$f":"Prevalence!U265*BQ268","v":2.6981818181818182},{"$f":"Prevalence!V265*BR268","v":4.0581818181818177},{"$f":"Prevalence!W265*BS268","v":14.952727272727273},{"$f":"Prevalence!X265*BT268","v":6.4254545454545458},{"$f":"Prevalence!Y265*BU268","v":11.072727272727272},{"$f":"Prevalence!Z265*BV268","v":8.334545454545454},{"$f":"Prevalence!AA265*BW268","v":10.74},{"$f":"Prevalence!AB265*BX268","v":67.974545454545463},{"$f":"Prevalence!AC265*BY268","v":0},{"$f":"Prevalence!AD265*BZ268","v":7.2763636363636364},{"$f":"Prevalence!AE265*CA268","v":26.72727272727273},{"$f":"Prevalence!AF265*CB268","v":19.810909090909089},{"$f":"Prevalence!AG265*CC268","v":8.3272727272727263},{"$f":"Prevalence!AH265*CD268","v":5.0181818181818176},{"$f":"Prevalence!AI265*CE268","v":3.583636363636364},{"$f":"Prevalence!AJ265*CF268","v":3.42},{"$f":"Prevalence!AK265*CG268","v":8.8854545454545466},{"$f":"Prevalence!AL265*CH268","v":3.68},{"$f":"Prevalence!AM265*CI268","v":0.19090909090909089},{"$f":"Prevalence!AN265*CJ268","v":14.269090909090909},{"$f":"Prevalence!AO265*CK268","v":9.5454545454545467},{"$f":"Prevalence!AP265*CL268","v":2.1272727272727274},{"$f":"Prevalence!AQ265*CM268","v":2.5454545454545455E-2},{"$f":"Prevalence!AR265*CN268","v":10.705454545454545},{"$f":"Prevalence!AS265*CO268","v":13.919999999999998},{"$f":"Prevalence!AT265*CP268","v":5.8636363636363633},{"$f":"Prevalence!AU265*CQ268","v":0.49090909090909091},{"$f":"Prevalence!AV265*CR268","v":3.9563636363636365},267,9537,663,90,93,700,442,1467,2008,341,342,2477,7,1,906,null,721,647,213,112,53,93,257,114,609,191,537,2077,null,174,700,454,229,120,73,99,181,92,7,436,210,90,1,368,319,215,9,136]
["Female 90+",{"$f":"Prevalence!B266*AX269","v":220.20000000000002},{"$f":"Prevalence!C266*AY269","v":18.409090909090914},{"$f":"Prevalence!D266*AZ269","v":0.8036363636363637},{"$f":"Prevalence!E266*BA269","v":2.0945454545454543},{"$f":"Prevalence!F266*BB269","v":13.440000000000001},{"$f":"Prevalence!G266*BC269","v":10.843636363636364},{"$f":"Prevalence!H266*BD269","v":32.034545454545459},{"$f":"Prevalence!I266*BE269","v":45.28},{"$f":"Prevalence!J266*BF269","v":7.0254545454545463},{"$f":"Prevalence!K266*BG269","v":7.4854545454545454},{"$f":"Prevalence!L266*BH269","v":53.787272727272729},{"$f":"Prevalence!M266*BI269","v":8.1818181818181818E-2},{"$f":"Prevalence!N266*BJ269","v":5.0909090909090911E-2},{"$f":"Prevalence!O266*BK269","v":20.323636363636364},{"$f":"Prevalence!P266*BL269","v":0},{"$f":"Prevalence!Q266*BM269","v":15.463636363636365},{"$f":"Prevalence!R266*BN269","v":14.547272727272729},{"$f":"Prevalence!S266*BO269","v":4.1890909090909094},{"$f":"Prevalence!T266*BP269","v":2.9236363636363634},{"$f":"Prevalence!U266*BQ269","v":1.8836363636363638},{"$f":"Prevalence!V266*BR269","v":2.0945454545454543},{"$f":"Prevalence!W266*BS269","v":7.7381818181818183},{"$f":"Prevalence!X266*BT269","v":3.2127272727272729},{"$f":"Prevalence!Y266*BU269","v":5.3090909090909086},{"$f":"Prevalence!Z266*BV269","v":5.5418181818181811},{"$f":"Prevalence!AA266*BW269","v":6.84},{"$f":"Prevalence!AB266*BX269","v":42.709090909090911},{"$f":"Prevalence!AC266*BY269","v":0},{"$f":"Prevalence!AD266*BZ269","v":4.3490909090909087},{"$f":"Prevalence!AE266*CA269","v":13.440000000000001},{"$f":"Prevalence!AF266*CB269","v":11.956363636363635},{"$f":"Prevalence!AG266*CC269","v":4.254545454545454},{"$f":"Prevalence!AH266*CD269","v":2.9272727272727272},{"$f":"Prevalence!AI266*CE269","v":2.4545454545454546},{"$f":"Prevalence!AJ266*CF269","v":1.830909090909091},{"$f":"Prevalence!AK266*CG269","v":5.2527272727272729},{"$f":"Prevalence!AL266*CH269","v":2.56},{"$f":"Prevalence!AM266*CI269","v":8.1818181818181818E-2},{"$f":"Prevalence!AN266*CJ269","v":7.3636363636363642},{"$f":"Prevalence!AO266*CK269","v":4.3636363636363642},{"$f":"Prevalence!AP266*CL269","v":0.8036363636363637},{"$f":"Prevalence!AQ266*CM269","v":5.0909090909090911E-2},{"$f":"Prevalence!AR266*CN269","v":7.0109090909090908},{"$f":"Prevalence!AS266*CO269","v":7.0690909090909084},{"$f":"Prevalence!AT266*CP269","v":3.9},{"$f":"Prevalence!AU266*CQ269","v":0.6},{"$f":"Prevalence!AV266*CR269","v":2.1818181818181817},268,5505,405,34,48,352,284,839,1132,184,179,1557,3,2,486,null,405,381,128,67,37,48,133,57,292,127,342,1305,null,104,352,274,117,70,50,53,107,64,3,225,96,34,2,241,162,143,11,75]
[null,null,null,null,null,null,null,null,null,null,null,null,null,null,null,null,null,null,null,null,null,null,null,null,null,null,null,null,null,null,null,null,null,null,null,null,null,null,null,null,null,null,null,null,null,null,null,null,269]
[null,null,null,null,null,null,null,null,null,null,null,null,null,null,null,null,null,null,null,null,null,null,null,null,null,null,null,null,null,null,null,null,null,null,null,null,null,null,null,null,null,null,null,null,null,null,null,null,270]
["Estimated number of smokers in the population (2012)",null,null,null,null,null,null,null,null,null,null,null,null,null,null,null,null,null,null,null,null,null,null,null,null,null,null,null,null,null,null,null,null,null,null,null,null,null,null,null,null,null,null,null,null,null,null,null,271]
["Total number of smokers - 16+",{"$f":"SUM(B66:B269)","v":992424.57999999949},{"$f":"SUM(C66:C269)","v":92374.770681818132},13810.668636363636,28861.005719696972,65524.324999999975,43796.642727272709,90594.014166666646,271775.7337499999,51671.546818181792,120445.0018181818,125101.40670454544,3580.4602272727275,2890.8225000000002,78692.515000000014,5107.1582196969675,38105.84992424243,37183.095681818173,20351.024090909101,16538.231439393949,9888.7684848484841,28861.005719696972,38279.579090909094,36733.24598484848,5570.1406060606068,15442.543787878791,6455.8787499999999,62157.192954545455,5107.1582196969675,23402.286287878796,65524.324999999975,169809.76079545455,34176.233409090899,21487.635681818196,17596.286060606042,14946.829431818176,41219.417121212122,74927.05541666667,3580.4602272727275,21583.43579545453,39690.762727272733,13810.668636363636,2890.8225000000002,15755.756477272715,62932.185454545484,11379.306060606054,27430.216060606064,32440.368863636362,272]
["Smokers, Q1",{"$f":"SUM(B66:B105)","v":298435.01},{"$f":"SUM(C66:C105)","v":35989.092121212125},1122.0215151515149,3493.9778787878781,18603.576818181813,9910.8462121212124,10345.377499999999,134907.75374999997,6832.2179545454546,41028.973636363648,24161.381250000002,0,0,21743.193787878783,0,8413.784583333334,1445.7354545454546,2355.1447727272725,2204.0450757575759,3731.0696969696965,3493.9778787878781,19066.25181818182,14920.211590909095,432.72454545454542,1103.1128409090909,1100.7249999999999,13712.082954545458,0,4815.7069696969693,18603.576818181813,100218.95223484846,4505.8793181818173,12220.612500000003,1989.3619696969695,326.15363636363622,19471.803484848479,30908.995833333338,0,2320.6144696969695,16428.205037878786,1122.0215151515149,0,3961.4745833333332,17573.472727272725,1840.2696969696974,11867.73303030303,7242.7746212121219,273]
["Smoker, Q1 & Q2",{"$f":"SUM(B66:B146)","v":539481.72999999975},{"$f":"SUM(C66:C146)","v":63317.457045454554},3578.732121212121,11162.078030303028,35529.565909090903,23359.097878787874,26427.844924242421,188640.07499999995,19170.588181818177,78880.255909090905,57317.569772727278,983.68749999999989,112.5289393939394,38319.449999999997,2087.4554545454539,18191.499621212122,5207.4882954545465,6925.7827272727282,5879.2291666666679,5863.469696969697,11162.078030303028,27695.681818181813,26915.436060606058,2020.3287878787876,5469.9564015151509,2138.4199999999996,26757.914999999997,2087.4554545454539,13107.079015151516,35529.565909090903,132391.32401515148,12908.763863636363,15480.17715909091,8151.0204545454535,2667.5772727272729,29407.276136363624,54120.574166666665,983.68749999999989,6158.699999999998,23624.625151515145,3578.732121212121,112.5289393939394,9245.1570075757554,35258.194545454549,5023.6848484848506,20334.32515151515,18547.287878787876,274]
[null,null,null,null,null,null,null,null,null,null,null,null,null,null,null,null,null,null,null,null,null,null,null,null,null,null,null,null,null,null,null,null,null,null,null,null,null,null,null,null,null,null,null,null,null,null,null,null,275]
["Estimated number of smokers affected by tax",null,null,null,null,null,null,null,null,null,null,null,null,null,null,null,null,null,null,null,null,null,null,null,null,null,null,null,null,null,null,null,null,null,null,null,null,null,null,null,null,null,null,null,null,null,null,null,276]
["Total number of smokers - 16+",{"$f":"0.8*B273","v":793939.66399999964},{"$f":"0.8*C273","v":73899.816545454509},11048.534909090909,23088.804575757578,52419.459999999985,35037.314181818168,72475.211333333325,217420.58699999994,41337.237454545437,96356.001454545447,100081.12536363635,2864.3681818181822,2312.6580000000004,62954.012000000017,4085.7265757575742,30484.679939393944,29746.476545454541,16280.819272727282,13230.585151515159,7911.0147878787875,23088.804575757578,30623.663272727277,29386.596787878785,4456.112484848486,12354.035030303034,5164.7030000000004,49725.75436363637,4085.7265757575742,18721.829030303037,52419.459999999985,135847.80863636365,27340.986727272721,17190.108545454557,14077.028848484835,11957.463545454542,32975.533696969702,59941.644333333337,2864.3681818181822,17266.748636363624,31752.610181818189,11048.534909090909,2312.6580000000004,12604.605181818173,50345.74836363639,9103.4448484848435,21944.172848484854,25952.295090909091,277]
["Smokers, Q1",{"$f":"0.8*B274","v":238748.00800000003},28791.2736969697,897.61721212121199,2795.1823030303026,14882.861454545451,7928.6769696969704,8276.3019999999997,107926.20299999998,5465.7743636363639,32823.178909090922,19329.105000000003,0,0,17394.555030303029,0,6731.0276666666678,1156.5883636363637,1884.1158181818182,1763.2360606060608,2984.8557575757573,2795.1823030303026,15253.001454545456,11936.169272727277,346.17963636363635,882.49027272727278,880.57999999999993,10969.666363636366,0,3852.5655757575755,14882.861454545451,80175.16178787878,3604.703454545454,9776.4900000000034,1591.4895757575757,260.922909090909,15577.442787878783,24727.19666666667,0,1856.4915757575757,13142.56403030303,897.61721212121199,0,3169.1796666666669,14058.778181818181,1472.2157575757581,9494.1864242424253,5794.2196969696979,278]
["Smoker, Q1 & Q2",431585.38399999985,50653.965636363646,2862.9856969696971,8929.6624242424223,28423.652727272725,18687.2783030303,21142.275939393938,150912.05999999997,15336.470545454542,63104.204727272729,45854.055818181827,786.94999999999993,90.023151515151525,30655.559999999998,1669.9643636363633,14553.199696969699,4165.9906363636373,5540.6261818181829,4703.3833333333341,4690.7757575757578,8929.6624242424223,22156.545454545452,21532.348848484849,1616.2630303030301,4375.9651212121207,1710.7359999999999,21406.331999999999,1669.9643636363633,10485.663212121213,28423.652727272725,105913.05921212118,10327.011090909091,12384.141727272729,6520.8163636363633,2134.0618181818186,23525.8209090909,43296.459333333332,786.94999999999993,4926.9599999999991,18899.700121212118,2862.9856969696971,90.023151515151525,7396.1256060606047,28206.555636363642,4018.9478787878807,16267.46012121212,14837.830303030301,279]
[null,null,null,null,null,null,null,null,null,null,null,null,null,null,null,null,null,null,null,null,null,null,null,null,null,null,null,null,null,null,null,null,null,null,null,null,null,null,null,null,null,null,null,null,null,null,null,null,280]
["Number of continuous inpatient stays, 2012",null,null,null,null,null,null,null,null,null,null,null,null,null,null,null,null,null,null,null,null,null,null,null,null,null,null,null,null,null,null,null,null,null,null,null,null,null,null,null,null,null,null,null,null,null,null,null,281]
[null,"Scotland","Ayrshire & Arran Health Board","Borders Health Board","Dumfries & Galloway Health Board","Fife Health Board","Forth Valley Health Board","Grampian Health Board","Greater Glasgow & Clyde Health Board","Highland Health Board","Lanarkshire Health Board","Lothian Health Board","Orkney Health Board","Shetland Health Board","Tayside Health Board","Western Isles Health Board","Aberdeen City Local Authority","Aberdeenshire Local Authority","Angus Local Authority","Argyll & Bute Local Authority","Clackmannanshire Local Authority","Dumfries & Galloway Local Authority","Dundee City Local Authority","East Ayrshire Local Authority","East Dunbartonshire Local Authority","East Lothian Local Authority","East Renfrewshire Local Authority","Edinburgh, City of Local Authority","Eilean Siar Local Authority","Falkirk Local Authority","Fife Local Authority","Glasgow City Local Authority","Highland Local Authority","Inverclyde Local Authority","Midlothian Local Authority","Moray Local Authority","North Ayrshire Local Authority","North Lanarkshire Local Authority","Orkney Islands Local Authority","Perth & Kinross Local Authority","Renfrewshire Local Authority","Scottish Borders Local Authority","Shetland Islands Local Authority","South Ayrshire Local Authority","South Lanarkshire Local Authority","Stirling Local Authority","West Dunbartonshire Local Authority","West Lothian Local Authority",282]
["all admissions, 16+",1082362,90012,23633,31154,69880,44196,101238,281330,65346,151023,142288,5624,5299,64729,6610,41792,43265,17805,22071,7432,31154,23622,28645,25904,18302,20168,76998,6610,23618,69880,145385,43275,21331,15874,16181,32185,81167,5624,23302,43731,23633,5299,29182,69856,13146,24811,31114,283]
["all admissions, 16+: Q1 only",270251,27446,1503,2539,14834,8020,7868,121151,6236,45333,22100,0,0,13221,0,6829,799,1696,2074,2093,2539,9962,9639,1051,1022,1724,13558,0,4297,14834,83526,4162,10466,1787,240,12775,29450,0,1563,14486,1503,0,5032,15883,1630,9898,5733,284]
["all admissions, 16+: Q1 & Q2",508745,53741,5394,10308,32787,19944,23906,171295,19854,87289,55025,1342,406,24607,2847,16161,5118,5056,5972,3565,10308,14843,19247,6003,5526,3768,26370,2847,11737,32787,108741,13882,13640,7612,2627,19886,53527,1342,4708,21948,5394,406,14608,33762,4642,17195,15517,285]

{"sheet":"Prevalence","index":4,"n_rows":280,"n_cols":49,"rows_kept":280,"cut":false,"hidden":false,"merged":[]}
["Smoking prevalence (2012)"]
["All, by SIMD","Scotland","Ayrshire & Arran Health Board","Borders Health Board","Dumfries & Galloway Health Board","Fife Health Board","Forth Valley Health Board","Grampian Health Board","Greater Glasgow & Clyde Health Board","Highland Health Board","Lanarkshire Health Board","Lothian Health Board","Orkney Health Board","Shetland Health Board","Tayside Health Board","Western Isles Health Board","Aberdeen City Local Authority","Aberdeenshire Local Authority","Angus Local Authority","Argyll & Bute Local Authority","Clackmannanshire Local Authority","Dumfries & Galloway Local Authority","Dundee City Local Authority","East Ayrshire Local Authority","East Dunbartonshire Local Authority","East Lothian Local Authority","East Renfrewshire Local Authority","Edinburgh, City of Local Authority","Eilean Siar Local Authority","Falkirk Local Authority","Fife Local Authority","Glasgow City Local Authority","Highland Local Authority","Inverclyde Local Authority","Midlothian Local Authority","Moray Local Authority","North Ayrshire Local Authority","North Lanarkshire Local Authority","Orkney Islands Local Authority","Perth & Kinross Local Authority","Renfrewshire Local Authority","Scottish Borders Local Authority","Shetland Islands Local Authority","South Ayrshire Local Authority","South Lanarkshire Local Authority","Stirling Local Authority","West Dunbartonshire Local Authority","West Lothian Local Authority"]
["Total",null,null,null,null,null,null,null,null,null,null,null,null,null,null,null,null,null,null,null,null,null,null,null,null,null,null,null,null,null,null,null,null,null,null,null,null,null,null,null,null,null,null,null,null,null,null,null,3]
["Q 1",0.34142857142857141,null,null,null,null,null,null,null,null,null,null,null,null,null,null,null,null,null,null,null,null,null,null,null,null,null,null,null,null,null,null,null,null,null,null,null,null,null,null,null,null,null,null,null,null,null,null,4]
["Q 2",0.27916666666666667,null,null,null,null,null,null,null,null,null,null,null,null,null,null,null,null,null,null,null,null,null,null,null,null,null,null,null,null,null,null,null,null,null,null,null,null,null,null,null,null,null,null,null,null,null,null,5]
["Q 3",0.20714285714285713,null,null,null,null,null,null,null,null,null,null,null,null,null,null,null,null,null,null,null,null,null,null,null,null,null,null,null,null,null,null,null,null,null,null,null,null,null,null,null,null,null,null,null,null,null,null,6]
["Q 4",0.17071428571428571,null,null,null,null,null,null,null,null,null,null,null,null,null,null,null,null,null,null,null,null,null,null,null,null,null,null,null,null,null,null,null,null,null,null,null,null,null,null,null,null,null,null,null,null,null,null,7]
["Q 5",9.7142857142857142E-2,null,null,null,null,null,null,null,null,null,null,null,null,null,null,null,null,null,null,null,null,null,null,null,null,null,null,null,null,null,null,null,null,null,null,null,null,null,null,null,null,null,null,null,null,null,null,8]
["Males, by SIMD",null,null,null,null,null,null,null,null,null,null,null,null,null,null,null,null,null,null,null,null,null,null,null,null,null,null,null,null,null,null,null,null,null,null,null,null,null,null,null,null,null,null,null,null,null,null,null,9]
["Males",null,null,null,null,null,null,null,null,null,null,null,null,null,null,null,null,null,null,null,null,null,null,null,null,null,null,null,null,null,null,null,null,null,null,null,null,null,null,null,null,null,null,null,null,null,null,null,10]
["Q 1",0.37285714285714283,null,null,null,null,null,null,null,null,null,null,null,null,null,null,null,null,null,null,null,null,null,null,null,null,null,null,null,null,null,null,null,null,null,null,null,null,null,null,null,null,null,null,null,null,null,null,11]
["Q 2",0.26,null,null,null,null,null,null,null,null,null,null,null,null,null,null,null,null,null,null,null,null,null,null,null,null,null,null,null,null,null,null,null,null,null,null,null,null,null,null,null,null,null,null,null,null,null,null,12]
["Q 3",0.21285714285714286,null,null,null,null,null,null,null,null,null,null,null,null,null,null,null,null,null,null,null,null,null,null,null,null,null,null,null,null,null,null,null,null,null,null,null,null,null,null,null,null,null,null,null,null,null,null,13]
["Q 4",0.20142857142857143,null,null,null,null,null,null,null,null,null,null,null,null,null,null,null,null,null,null,null,null,null,null,null,null,null,null,null,null,null,null,null,null,null,null,null,null,null,null,null,null,null,null,null,null,null,null,14]
["Q 5",9.285714285714286E-2,null,null,null,null,null,null,null,null,null,null,null,null,null,null,null,null,null,null,null,null,null,null,null,null,null,null,null,null,null,null,null,null,null,null,null,null,null,null,null,null,null,null,null,null,null,null,15]
["Females, by SIMD",null,null,null,null,null,null,null,null,null,null,null,null,null,null,null,null,null,null,null,null,null,null,null,null,null,null,null,null,null,null,null,null,null,null,null,null,null,null,null,null,null,null,null,null,null,null,null,16]
["Females",null,null,null,null,null,null,null,null,null,null,null,null,null,null,null,null,null,null,null,null,null,null,null,null,null,null,null,null,null,null,null,null,null,null,null,null,null,null,null,null,null,null,null,null,null,null,null,17]
["Q 1",0.31,null,null,null,null,null,null,null,null,null,null,null,null,null,null,null,null,null,null,null,null,null,null,null,null,null,null,null,null,null,null,null,null,null,null,null,null,null,null,null,null,null,null,null,null,null,null,18]
["Q 2",0.29833333333333334,null,null,null,null,null,null,null,null,null,null,null,null,null,null,null,null,null,null,null,null,null,null,null,null,null,null,null,null,null,null,null,null,null,null,null,null,null,null,null,null,null,null,null,null,null,null,19]
["Q 3",0.20142857142857143,null,null,null,null,null,null,null,null,null,null,null,null,null,null,null,null,null,null,null,null,null,null,null,null,null,null,null,null,null,null,null,null,null,null,null,null,null,null,null,null,null,null,null,null,null,null,20]
["Q 4",0.14000000000000001,null,null,null,null,null,null,null,null,null,null,null,null,null,null,null,null,null,null,null,null,null,null,null,null,null,null,null,null,null,null,null,null,null,null,null,null,null,null,null,null,null,null,null,null,null,null,21]
["Q 5",0.10142857142857142,null,null,null,null,null,null,null,null,null,null,null,null,null,null,null,null,null,null,null,null,null,null,null,null,null,null,null,null,null,null,null,null,null,null,null,null,null,null,null,null,null,null,null,null,null,null,22]
["age/sex breakdown: All",null,null,null,null,null,null,null,null,null,null,null,null,null,null,null,null,null,null,null,null,null,null,null,null,null,null,null,null,null,null,null,null,null,null,null,null,null,null,null,null,null,null,null,null,null,null,null,23]
["Male <1",null,null,null,null,null,null,null,null,null,null,null,null,null,null,null,null,null,null,null,null,null,null,null,null,null,null,null,null,null,null,null,null,null,null,null,null,null,null,null,null,null,null,null,null,null,null,null,24]
["Male 1-4",null,null,null,null,null,null,null,null,null,null,null,null,null,null,null,null,null,null,null,null,null,null,null,null,null,null,null,null,null,null,null,null,null,null,null,null,null,null,null,null,null,null,null,null,null,null,null,25]
["Male 5-9",null,null,null,null,null,null,null,null,null,null,null,null,null,null,null,null,null,null,null,null,null,null,null,null,null,null,null,null,null,null,null,null,null,null,null,null,null,null,null,null,null,null,null,null,null,null,null,26]
["Male 10-14",null,null,null,null,null,null,null,null,null,null,null,null,null,null,null,null,null,null,null,null,null,null,null,null,null,null,null,null,null,null,null,null,null,null,null,null,null,null,null,null,null,null,null,null,null,null,null,27]
["Male 15-19 (16+)",null,{"$f":"C$269*$B28","v":0},0,0,0,0,0,0,0,0,0,{"$f":"M$269*$B28","v":0},0,0,0,0,0,0,0,0,0,{"$f":"W$269*$B28","v":0},0,0,0,0,0,0,0,0,0,{"$f":"AG$269*$B28","v":0},0,0,0,0,0,0,0,0,0,{"$f":"AQ$269*$B28","v":0},0,0,0,0,0,28]
["Male 20-24",null,0,0,0,0,0,0,0,0,0,0,0,0,0,0,0,0,0,0,0,0,0,0,0,0,0,0,0,0,0,0,0,0,0,0,0,0,0,0,0,0,0,0,0,0,0,0,29]
["Male 25-29",null,0,0,0,0,0,0,0,0,0,0,0,0,0,0,0,0,0,0,0,0,0,0,0,0,0,0,0,0,0,0,0,0,0,0,0,0,0,0,0,0,0,0,0,0,0,0,30]
["Male 30-34",null,0,0,0,0,0,0,0,0,0,0,0,0,0,0,0,0,0,0,0,0,0,0,0,0,0,0,0,0,0,0,0,0,0,0,0,0,0,0,0,0,0,0,0,0,0,0,31]
["Male 35-39",null,0,0,0,0,0,0,0,0,0,0,0,0,0,0,0,0,0,0,0,0,0,0,0,0,0,0,0,0,0,0,0,0,0,0,0,0,0,0,0,0,0,0,0,0,0,0,32]
["Male 40-44",null,0,0,0,0,0,0,0,0,0,0,0,0,0,0,0,0,0,0,0,0,0,0,0,0,0,0,0,0,0,0,0,0,0,0,0,0,0,0,0,0,0,0,0,0,0,0,33]
["Male 45-49",null,0,0,0,0,0,0,0,0,0,0,0,0,0,0,0,0,0,0,0,0,0,0,0,0,0,0,0,0,0,0,0,0,0,0,0,0,0,0,0,0,0,0,0,0,0,0,34]
["Male 50-54",null,0,0,0,0,0,0,0,0,0,0,0,0,0,0,0,0,0,0,0,0,0,0,0,0,0,0,0,0,0,0,0,0,0,0,0,0,0,0,0,0,0,0,0,0,0,0,35]
["Male 55-59",null,0,0,0,0,0,0,0,0,0,0,0,0,0,0,0,0,0,0,0,0,0,0,0,0,0,0,0,0,0,0,0,0,0,0,0,0,0,0,0,0,0,0,0,0,0,0,36]
["Male 60-64",null,0,0,0,0,0,0,0,0,0,0,0,0,0,0,0,0,0,0,0,0,0,0,0,0,0,0,0,0,0,0,0,0,0,0,0,0,0,0,0,0,0,0,0,0,0,0,37]
["Male 65-69",null,{"$f":"C$269*$B38","v":0},0,0,0,0,0,0,0,0,0,0,0,0,0,0,0,0,0,0,1,{"$f":"W$269*$B38","v":0},0,0,0,0,0,0,0,0,0,0,0,0,0,0,0,0,0,0,0,0,0,0,0,0,0,38]
["Male 70-74",null,null,null,null,null,null,null,null,null,null,null,null,null,null,null,null,null,null,null,null,null,null,null,null,null,null,null,null,null,null,null,null,null,null,null,null,null,null,null,null,null,null,null,null,null,null,null,39]
["Male 75-79",null,null,null,null,null,null,null,null,null,null,null,null,null,null,null,null,null,null,null,null,null,null,null,null,null,null,null,null,null,null,null,null,null,null,null,null,null,null,null,null,null,null,null,null,null,null,null,40]
["Male 80-84",null,null,null,null,null,null,null,null,null,null,null,null,null,null,null,null,null,null,null,null,null,null,null,null,null,null,null,null,null,null,null,null,null,null,null,null,null,null,null,null,null,null,null,null,null,null,null,41]
["Male 85+",null,null,null,null,null,null,null,null,null,null,null,null,null,null,null,null,null,null,null,null,null,null,null,null,null,null,null,null,null,null,null,null,null,null,null,null,null,null,null,null,null,null,null,null,null,null,null,42]
["Female <1",null,null,null,null,null,null,null,null,null,null,null,null,null,null,null,null,null,null,null,null,null,null,null,null,null,null,null,null,null,null,null,null,null,null,null,null,null,null,null,null,null,null,null,null,null,null,null,43]
["Female 1-4",null,null,null,null,null,null,null,null,null,null,null,null,null,null,null,null,null,null,null,null,null,null,null,null,null,null,null,null,null,null,null,null,null,null,null,null,null,null,null,null,null,null,null,null,null,null,null,44]
["Female 5-9",null,null,null,null,null,null,null,null,null,null,null,null,null,null,null,null,null,null,null,null,null,null,null,null,null,null,null,null,null,null,null,null,null,null,null,null,null,null,null,null,null,null,null,null,null,null,null,45]
["Female 10-14",null,null,null,null,null,null,null,null,null,null,null,null,null,null,null,null,null,null,null,null,null,null,null,null,null,null,null,null,null,null,null,null,null,null,null,null,null,null,null,null,null,null,null,null,null,null,null,46]
["Male 15-19 (16+)",null,{"$f":"C$270*$B47","v":0},0,0,0,0,0,0,0,0,0,{"$f":"M$270*$B47","v":0},0,0,0,0,0,0,0,0,0,{"$f":"W$270*$B47","v":0},0,0,0,0,0,0,0,0,0,{"$f":"AG$270*$B47","v":0},0,0,0,0,0,0,0,0,0,{"$f":"AQ$270*$B47","v":0},0,0,0,0,0,47]
["Female 20-24",null,0,0,0,0,0,0,0,0,0,0,0,0,0,0,0,0,0,0,0,0,0,0,0,0,0,0,0,0,0,0,0,0,0,0,0,0,0,0,0,0,0,0,0,0,0,0,48]
["Female 25-29",null,0,0,0,0,0,0,0,0,0,0,0,0,0,0,0,0,0,0,0,0,0,0,0,0,0,0,0,0,0,0,0,0,0,0,0,0,0,0,0,0,0,0,0,0,0,0,49]
["Female 30-34",null,0,0,0,0,0,0,0,0,0,0,0,0,0,0,0,0,0,0,0,0,0,0,0,0,0,0,0,0,0,0,0,0,0,0,0,0,0,0,0,0,0,0,0,0,0,0,50]
["Female 35-39",null,0,0,0,0,0,0,0,0,0,0,0,0,0,0,0,0,0,0,0,0,0,0,0,0,0,0,0,0,0,0,0,0,0,0,0,0,0,0,0,0,0,0,0,0,0,0,51]
["Female 40-44",null,0,0,0,0,0,0,0,0,0,0,0,0,0,0,0,0,0,0,0,0,0,0,0,0,0,0,0,0,0,0,0,0,0,0,0,0,0,0,0,0,0,0,0,0,0,0,52]
["Female 45-49",null,0,0,0,0,0,0,0,0,0,0,0,0,0,0,0,0,0,0,0,0,0,0,0,0,0,0,0,0,0,0,0,0,0,0,0,0,0,0,0,0,0,0,0,0,0,0,53]
["Female 50-54",null,0,0,0,0,0,0,0,0,0,0,0,0,0,0,0,0,0,0,0,0,0,0,0,0,0,0,0,0,0,0,0,0,0,0,0,0,0,0,0,0,0,0,0,0,0,0,54]
["Female 55-59",null,0,0,0,0,0,0,0,0,0,0,0,0,0,0,0,0,0,0,0,0,0,0,0,0,0,0,0,0,0,0,0,0,0,0,0,0,0,0,0,0,0,0,0,0,0,0,55]
["Female 60-64",null,0,0,0,0,0,0,0,0,0,0,0,0,0,0,0,0,0,0,0,0,0,0,0,0,0,0,0,0,0,0,0,0,0,0,0,0,0,0,0,0,0,0,0,0,0,0,56]
["Female 65-69",null,{"$f":"C$270*$B57","v":0},0,0,0,0,0,0,0,0,0,0,0,0,0,0,0,0,0,0,0,0,0,0,0,0,0,0,0,0,0,0,0,0,0,1,{"$f":"AL$270*$B57","v":0},0,0,0,0,0,0,0,0,0,0,57]
["Female 70-74",null,null,null,null,null,null,null,null,null,null,null,null,null,null,null,null,null,null,null,null,null,null,null,null,null,null,null,null,null,null,null,null,null,null,null,null,null,null,null,null,null,null,null,null,null,null,null,58]
["Female 75-79",null,null,null,null,null,null,null,null,null,null,null,null,null,null,null,null,null,null,null,null,null,null,null,null,null,null,null,null,null,null,null,null,null,null,null,null,null,null,null,null,null,null,null,null,null,null,null,59]
["Female 80-84",null,null,null,null,null,null,null,null,null,null,null,null,null,null,null,null,null,null,null,null,null,null,null,null,null,null,null,null,null,null,null,null,null,null,null,null,null,null,null,null,null,null,null,null,null,null,null,60]
["Female 85+",null,null,null,null,null,null,null,null,null,null,null,null,null,null,null,null,null,null,null,null,null,null,null,null,null,null,null,null,null,null,null,null,null,null,null,null,null,null,null,null,null,null,null,null,null,null,null,61]
["age/sex breakdown: Q1",null,null,null,null,null,null,null,null,null,null,null,null,null,null,null,null,null,null,null,null,null,null,null,null,null,null,null,null,null,null,null,null,null,null,null,null,null,null,null,null,null,null,null,null,null,null,null,62]
["Male <1",null,null,null,null,null,null,null,null,null,null,null,null,null,null,null,null,null,null,null,null,null,null,null,null,null,null,null,null,null,null,null,null,null,null,null,null,null,null,null,null,null,null,null,null,null,null,null,63]
["Male 1-4",null,null,null,null,null,null,null,null,null,null,null,null,null,null,null,null,null,null,null,null,null,null,null,null,null,null,null,null,null,null,null,null,null,null,null,null,null,null,null,null,null,null,null,null,null,null,null,64]
["Male 5-9",null,null,null,null,null,null,null,null,null,null,null,null,null,null,null,null,null,null,null,null,null,null,null,null,null,null,null,null,null,null,null,null,null,null,null,null,null,null,null,null,null,null,null,null,null,null,null,65]
["Male 10-14",null,null,null,null,null,null,null,null,null,null,null,null,null,null,null,null,null,null,null,null,null,null,null,null,null,null,null,null,null,null,null,null,null,null,null,null,null,null,null,null,null,null,null,null,null,null,null,66]
["Male 15-19 (16+)",0.38,{"$f":"C$269*$B67","v":0.49083333333333334},{"$f":"D$269*$B67","v":0.31666666666666671},0.39583333333333337,0.38,0.2533333333333333,0.41166666666666663,0.42749999999999999,0.33250000000000002,0.38,0.33250000000000002,0.47499999999999998,0.34833333333333333,0.41166666666666663,0.49083333333333334,0.39583333333333337,0.42749999999999999,0.47499999999999998,0.41166666666666663,0.2533333333333333,0.39583333333333337,0.38,0.53833333333333333,0.12666666666666665,0.30083333333333334,0.23749999999999999,0.28500000000000003,0.49083333333333334,0.22166666666666668,0.38,0.49083333333333334,0.28500000000000003,0.52249999999999996,0.44333333333333336,0.42749999999999999,0.60166666666666668,0.39583333333333337,0.47499999999999998,0.39583333333333337,0.45916666666666667,0.31666666666666671,0.34833333333333333,0.30083333333333334,0.38,0.31666666666666671,0.5066666666666666,0.45916666666666667,67]
["Male 20-24",0.38,{"$f":"C$269*$B68","v":0.49083333333333334},{"$f":"D$269*$B68","v":0.31666666666666671},0.39583333333333337,0.38,0.2533333333333333,0.41166666666666663,0.42749999999999999,0.33250000000000002,0.38,0.33250000000000002,0.47499999999999998,0.34833333333333333,0.41166666666666663,0.49083333333333334,0.39583333333333337,0.42749999999999999,0.47499999999999998,0.41166666666666663,0.2533333333333333,0.39583333333333337,0.38,0.53833333333333333,0.12666666666666665,0.30083333333333334,0.23749999999999999,0.28500000000000003,0.49083333333333334,0.22166666666666668,0.38,0.49083333333333334,0.28500000000000003,0.52249999999999996,0.44333333333333336,0.42749999999999999,0.60166666666666668,0.39583333333333337,0.47499999999999998,0.39583333333333337,0.45916666666666667,0.31666666666666671,0.34833333333333333,0.30083333333333334,0.38,0.31666666666666671,0.5066666666666666,0.45916666666666667,68]
["Male 25-29",0.36,0.46500000000000002,0.3,0.375,0.36,0.24,0.38999999999999996,0.40499999999999997,0.315,0.36,0.315,0.44999999999999996,0.32999999999999996,0.38999999999999996,0.46500000000000002,0.375,0.40499999999999997,0.44999999999999996,0.38999999999999996,0.24,0.375,0.36,0.51,0.12,0.28499999999999998,0.22499999999999998,0.27,0.46500000000000002,0.21,0.36,0.46500000000000002,0.27,0.495,0.42,0.40499999999999997,0.56999999999999995,0.375,0.44999999999999996,0.375,0.43499999999999994,0.3,0.32999999999999996,0.28499999999999998,0.36,0.3,0.48,0.43499999999999994,69]
["Male 30-34",0.36,0.46500000000000002,0.3,0.375,0.36,0.24,0.38999999999999996,0.40499999999999997,0.315,0.36,0.315,0.44999999999999996,0.32999999999999996,0.38999999999999996,0.46500000000000002,0.375,0.40499999999999997,0.44999999999999996,0.38999999999999996,0.24,0.375,0.36,0.51,0.12,0.28499999999999998,0.22499999999999998,0.27,0.46500000000000002,0.21,0.36,0.46500000000000002,0.27,0.495,0.42,0.40499999999999997,0.56999999999999995,0.375,0.44999999999999996,0.375,0.43499999999999994,0.3,0.32999999999999996,0.28499999999999998,0.36,0.3,0.48,0.43499999999999994,70]
["Male 35-39",0.52,0.67166666666666675,0.43333333333333335,0.54166666666666674,0.52,0.34666666666666668,0.56333333333333335,0.58499999999999996,0.45500000000000002,0.52,0.45500000000000002,0.65,0.47666666666666668,0.56333333333333335,0.67166666666666675,0.54166666666666674,0.58499999999999996,0.65,0.56333333333333335,0.34666666666666668,0.54166666666666674,0.52,0.73666666666666669,0.17333333333333334,0.41166666666666668,0.32500000000000001,0.39,0.67166666666666675,0.30333333333333334,0.52,0.67166666666666675,0.39,0.71500000000000008,0.60666666666666669,0.58499999999999996,0.82333333333333336,0.54166666666666674,0.65,0.54166666666666674,0.6283333333333333,0.43333333333333335,0.47666666666666668,0.41166666666666668,0.52,0.43333333333333335,0.69333333333333336,0.6283333333333333,71]
["Male 40-44",0.52,0.67166666666666675,0.43333333333333335,0.54166666666666674,0.52,0.34666666666666668,0.56333333333333335,0.58499999999999996,0.45500000000000002,0.52,0.45500000000000002,0.65,0.47666666666666668,0.56333333333333335,0.67166666666666675,0.54166666666666674,0.58499999999999996,0.65,0.56333333333333335,0.34666666666666668,0.54166666666666674,0.52,0.73666666666666669,0.17333333333333334,0.41166666666666668,0.32500000000000001,0.39,0.67166666666666675,0.30333333333333334,0.52,0.67166666666666675,0.39,0.71500000000000008,0.60666666666666669,0.58499999999999996,0.82333333333333336,0.54166666666666674,0.65,0.54166666666666674,0.6283333333333333,0.43333333333333335,0.47666666666666668,0.41166666666666668,0.52,0.43333333333333335,0.69333333333333336,0.6283333333333333,72]
["Male 45-49",0.45,0.58125000000000004,0.375,0.46875000000000006,0.45,0.3,0.48749999999999999,0.50624999999999998,0.39374999999999999,0.45,0.39374999999999999,0.5625,0.41249999999999998,0.48749999999999999,0.58125000000000004,0.46875000000000006,0.50624999999999998,0.5625,0.48749999999999999,0.3,0.46875000000000006,0.45,0.63750000000000007,0.15,0.35625000000000001,0.28125,0.33750000000000002,0.58125000000000004,0.26250000000000001,0.45,0.58125000000000004,0.33750000000000002,0.61875000000000002,0.52500000000000002,0.50624999999999998,0.71250000000000002,0.46875000000000006,0.5625,0.46875000000000006,0.54374999999999996,0.375,0.41249999999999998,0.35625000000000001,0.45,0.375,0.6,0.54374999999999996,73]
["Male 50-54",0.45,0.58125000000000004,0.375,0.46875000000000006,0.45,0.3,0.48749999999999999,{"$f":"I$269*$B74","v":0.50624999999999998},0.39374999999999999,0.45,0.39374999999999999,0.5625,0.41249999999999998,0.48749999999999999,0.58125000000000004,0.46875000000000006,0.50624999999999998,0.5625,0.48749999999999999,0.3,0.46875000000000006,0.45,0.63750000000000007,0.15,0.35625000000000001,0.28125,0.33750000000000002,0.58125000000000004,0.26250000000000001,0.45,0.58125000000000004,0.33750000000000002,0.61875000000000002,0.52500000000000002,0.50624999999999998,{"$f":"AK$269*$B74","v":0.71250000000000002},0.46875000000000006,0.5625,0.46875000000000006,0.54374999999999996,0.375,0.41249999999999998,0.35625000000000001,0.45,0.375,0.6,0.54374999999999996,74]
["Male 55-59",0.43,0.55541666666666667,0.35833333333333334,0.44791666666666669,0.43,0.28666666666666663,0.46583333333333332,0.48375000000000001,0.37624999999999997,0.43,0.37624999999999997,0.53749999999999998,0.39416666666666667,0.46583333333333332,0.55541666666666667,0.44791666666666669,0.48375000000000001,0.53749999999999998,0.46583333333333332,0.28666666666666663,0.44791666666666669,0.43,0.60916666666666663,0.14333333333333331,0.34041666666666665,0.26874999999999999,0.32250000000000001,0.55541666666666667,0.25083333333333335,0.43,0.55541666666666667,0.32250000000000001,0.59124999999999994,0.50166666666666671,0.48375000000000001,0.68083333333333329,0.44791666666666669,0.53749999999999998,0.44791666666666669,0.51958333333333329,0.35833333333333334,0.39416666666666667,0.34041666666666665,0.43,0.35833333333333334,0.57333333333333325,0.51958333333333329,75]
["Male 60-64",0.43,0.55541666666666667,0.35833333333333334,{"$f":"E$269*$B76","v":0.44791666666666669},0.43,0.28666666666666663,0.46583333333333332,0.48375000000000001,0.37624999999999997,0.43,0.37624999999999997,0.53749999999999998,0.39416666666666667,0.46583333333333332,0.55541666666666667,0.44791666666666669,0.48375000000000001,0.53749999999999998,0.46583333333333332,0.28666666666666663,0.44791666666666669,0.43,0.60916666666666663,0.14333333333333331,0.34041666666666665,0.26874999999999999,0.32250000000000001,0.55541666666666667,0.25083333333333335,0.43,0.55541666666666667,0.32250000000000001,0.59124999999999994,0.50166666666666671,0.48375000000000001,0.68083333333333329,0.44791666666666669,0.53749999999999998,0.44791666666666669,0.51958333333333329,0.35833333333333334,0.39416666666666667,0.34041666666666665,0.43,0.35833333333333334,0.57333333333333325,0.51958333333333329,76]
["Male 65-69",0.35,0.45208333333333334,0.29166666666666669,{"$f":"E$269*$B77","v":0.36458333333333331},0.35,0.23333333333333331,0.3791666666666666,0.39374999999999999,0.30624999999999997,0.35,0.30624999999999997,0.4375,0.3208333333333333,0.3791666666666666,0.45208333333333334,0.36458333333333331,0.39374999999999999,0.4375,0.3791666666666666,0.23333333333333331,0.36458333333333331,0.35,0.49583333333333335,0.11666666666666665,0.27708333333333329,0.21875,0.26249999999999996,0.45208333333333334,0.20416666666666666,0.35,0.45208333333333334,0.26249999999999996,0.48124999999999996,0.40833333333333333,0.39374999999999999,0.55416666666666659,0.36458333333333331,0.4375,0.36458333333333331,0.42291666666666661,0.29166666666666669,0.3208333333333333,0.27708333333333329,0.35,0.29166666666666669,0.46666666666666662,0.42291666666666661,77]
["Male 70-74",0.35,0.45208333333333334,0.29166666666666669,0.36458333333333331,0.35,0.23333333333333331,0.3791666666666666,0.39374999999999999,0.30624999999999997,0.35,0.30624999999999997,0.4375,0.3208333333333333,0.3791666666666666,0.45208333333333334,0.36458333333333331,0.39374999999999999,0.4375,0.3791666666666666,0.23333333333333331,0.36458333333333331,0.35,0.49583333333333335,0.11666666666666665,0.27708333333333329,0.21875,0.26249999999999996,0.45208333333333334,0.20416666666666666,0.35,0.45208333333333334,0.26249999999999996,0.48124999999999996,0.40833333333333333,0.39374999999999999,0.55416666666666659,0.36458333333333331,0.4375,0.36458333333333331,0.42291666666666661,0.29166666666666669,0.3208333333333333,0.27708333333333329,0.35,0.29166666666666669,0.46666666666666662,0.42291666666666661,78]
["Male 75-79",0.12,0.155,0.1,0.125,0.12,7.9999999999999988E-2,0.12999999999999998,0.13500000000000001,0.105,0.12,0.105,0.15,0.10999999999999999,0.12999999999999998,0.155,0.125,0.13500000000000001,0.15,0.12999999999999998,7.9999999999999988E-2,0.125,0.12,0.17,3.9999999999999994E-2,9.4999999999999987E-2,7.4999999999999997E-2,0.09,0.155,7.0000000000000007E-2,0.12,0.155,0.09,0.16499999999999998,0.14000000000000001,0.13500000000000001,0.18999999999999997,0.125,0.15,0.125,0.14499999999999999,0.1,0.10999999999999999,9.4999999999999987E-2,0.12,0.1,0.15999999999999998,0.14499999999999999,79]
["Male 80-84",0.12,0.155,0.1,0.125,0.12,7.9999999999999988E-2,0.12999999999999998,0.13500000000000001,0.105,0.12,0.105,0.15,0.10999999999999999,0.12999999999999998,0.155,0.125,0.13500000000000001,0.15,0.12999999999999998,7.9999999999999988E-2,0.125,0.12,0.17,3.9999999999999994E-2,9.4999999999999987E-2,7.4999999999999997E-2,0.09,0.155,7.0000000000000007E-2,0.12,0.155,0.09,0.16499999999999998,0.14000000000000001,0.13500000000000001,0.18999999999999997,0.125,0.15,0.125,0.14499999999999999,0.1,0.10999999999999999,9.4999999999999987E-2,0.12,0.1,0.15999999999999998,0.14499999999999999,80]
["Male 85-89",0.12,0.155,0.1,0.125,0.12,7.9999999999999988E-2,0.12999999999999998,0.13500000000000001,0.105,0.12,0.105,0.15,0.10999999999999999,0.12999999999999998,0.155,0.125,0.13500000000000001,0.15,0.12999999999999998,7.9999999999999988E-2,0.125,0.12,0.17,3.9999999999999994E-2,9.4999999999999987E-2,7.4999999999999997E-2,0.09,0.155,7.0000000000000007E-2,0.12,0.155,0.09,0.16499999999999998,0.14000000000000001,0.13500000000000001,0.18999999999999997,0.125,0.15,0.125,0.14499999999999999,0.1,0.10999999999999999,9.4999999999999987E-2,0.12,0.1,0.15999999999999998,0.14499999999999999,81]
["Male 90+",0.12,0.155,0.1,0.125,0.12,7.9999999999999988E-2,0.12999999999999998,0.13500000000000001,0.105,0.12,0.105,0.15,0.10999999999999999,0.12999999999999998,0.155,0.125,0.13500000000000001,0.15,0.12999999999999998,7.9999999999999988E-2,0.125,0.12,0.17,3.9999999999999994E-2,9.4999999999999987E-2,7.4999999999999997E-2,0.09,0.155,7.0000000000000007E-2,0.12,0.155,0.09,0.16499999999999998,0.14000000000000001,{"$f":"AJ$269*$B82","v":0.13500000000000001},0.18999999999999997,0.125,0.15,0.125,0.14499999999999999,0.1,0.10999999999999999,9.4999999999999987E-2,0.12,0.1,0.15999999999999998,0.14499999999999999,82]
["Female <1",null,null,null,null,null,null,null,null,null,null,null,null,null,null,null,null,null,null,null,null,null,null,null,null,null,null,null,null,null,null,null,null,null,null,null,null,null,null,null,null,null,null,null,null,null,null,null,83]
["Female 1-4",null,null,null,null,null,null,null,null,null,null,null,null,null,null,null,null,null,null,null,null,null,null,null,null,null,null,null,null,null,null,null,null,null,null,null,null,null,null,null,null,null,null,null,null,null,null,null,84]
["Female 5-9",null,null,null,null,null,null,null,null,null,null,null,null,null,null,null,null,null,null,null,null,null,null,null,null,null,null,null,null,null,null,null,null,null,null,null,null,null,null,null,null,null,null,null,null,null,null,null,85]
["Female 10-14",null,null,null,null,null,null,null,null,null,null,null,null,null,null,null,null,null,null,null,null,null,null,null,null,null,null,null,null,null,null,null,null,null,null,null,null,null,null,null,null,null,null,null,null,null,null,null,86]
["Female 15-19 (16+)",0.25,{"$f":"C$270*$B87","v":0.28409090909090912},{"$f":"D$270*$B87","v":0.14772727272727273},0.27272727272727271,0.23863636363636365,0.23863636363636365,0.23863636363636365,0.25,0.23863636363636365,0.26136363636363635,0.21590909090909091,0.17045454545454544,0.15909090909090909,0.26136363636363635,0.15909090909090909,0.23863636363636365,0.23863636363636365,0.20454545454545456,0.27272727272727271,0.31818181818181818,0.27272727272727271,0.36363636363636365,0.35227272727272729,0.11363636363636363,0.27272727272727271,0.125,0.20454545454545456,0.15909090909090909,0.26136363636363635,0.23863636363636365,0.27272727272727271,0.22727272727272727,0.26136363636363635,0.30681818181818182,0.21590909090909091,0.30681818181818182,0.25,0.17045454545454544,0.20454545454545456,0.28409090909090912,0.14772727272727273,0.15909090909090909,0.18181818181818182,0.27272727272727271,0.17045454545454544,0.34090909090909088,0.18181818181818182,87]
["Female 20-24",0.25,{"$f":"C$270*$B88","v":0.28409090909090912},0.14772727272727273,0.27272727272727271,0.23863636363636365,0.23863636363636365,0.23863636363636365,0.25,0.23863636363636365,0.26136363636363635,0.21590909090909091,0.17045454545454544,0.15909090909090909,0.26136363636363635,0.15909090909090909,0.23863636363636365,0.23863636363636365,0.20454545454545456,0.27272727272727271,0.31818181818181818,0.27272727272727271,0.36363636363636365,0.35227272727272729,0.11363636363636363,0.27272727272727271,0.125,0.20454545454545456,0.15909090909090909,0.26136363636363635,0.23863636363636365,0.27272727272727271,0.22727272727272727,0.26136363636363635,0.30681818181818182,0.21590909090909091,0.30681818181818182,0.25,0.17045454545454544,0.20454545454545456,0.28409090909090912,0.14772727272727273,0.15909090909090909,0.18181818181818182,0.27272727272727271,0.17045454545454544,0.34090909090909088,0.18181818181818182,88]
["Female 25-29",0.36,0.40909090909090912,0.21272727272727274,0.3927272727272727,0.34363636363636363,0.34363636363636363,0.34363636363636363,0.36,0.34363636363636363,0.37636363636363634,0.31090909090909091,0.24545454545454543,0.22909090909090907,0.37636363636363634,0.22909090909090907,0.34363636363636363,0.34363636363636363,0.29454545454545455,0.3927272727272727,0.45818181818181813,0.3927272727272727,0.52363636363636368,0.50727272727272732,0.16363636363636364,0.3927272727272727,0.18,0.29454545454545455,0.22909090909090907,0.37636363636363634,0.34363636363636363,0.3927272727272727,0.32727272727272727,0.37636363636363634,0.44181818181818183,0.31090909090909091,0.44181818181818183,0.36,0.24545454545454543,0.29454545454545455,0.40909090909090912,0.21272727272727274,0.22909090909090907,0.26181818181818184,0.3927272727272727,0.24545454545454543,0.49090909090909085,0.26181818181818184,89]
["Female 30-34",0.36,0.40909090909090912,0.21272727272727274,0.3927272727272727,0.34363636363636363,0.34363636363636363,0.34363636363636363,0.36,0.34363636363636363,0.37636363636363634,0.31090909090909091,0.24545454545454543,0.22909090909090907,0.37636363636363634,0.22909090909090907,0.34363636363636363,0.34363636363636363,0.29454545454545455,0.3927272727272727,0.45818181818181813,0.3927272727272727,0.52363636363636368,0.50727272727272732,0.16363636363636364,0.3927272727272727,0.18,0.29454545454545455,0.22909090909090907,0.37636363636363634,0.34363636363636363,0.3927272727272727,0.32727272727272727,0.37636363636363634,0.44181818181818183,0.31090909090909091,0.44181818181818183,0.36,0.24545454545454543,0.29454545454545455,0.40909090909090912,0.21272727272727274,0.22909090909090907,0.26181818181818184,0.3927272727272727,0.24545454545454543,0.49090909090909085,0.26181818181818184,90]
["Female 35-39",0.38,0.43181818181818188,0.22454545454545455,0.41454545454545449,0.36272727272727273,0.36272727272727273,0.36272727272727273,0.38,0.36272727272727273,0.39727272727272728,0.32818181818181819,0.25909090909090909,0.24181818181818182,0.39727272727272728,0.24181818181818182,0.36272727272727273,0.36272727272727273,0.31090909090909091,0.41454545454545449,0.48363636363636364,0.41454545454545449,0.55272727272727273,0.53545454545454552,0.17272727272727273,0.41454545454545449,0.19,0.31090909090909091,0.24181818181818182,0.39727272727272728,0.36272727272727273,0.41454545454545449,0.34545454545454546,0.39727272727272728,0.46636363636363637,0.32818181818181819,0.46636363636363637,0.38,0.25909090909090909,0.31090909090909091,0.43181818181818188,0.22454545454545455,0.24181818181818182,0.27636363636363637,0.41454545454545449,0.25909090909090909,0.51818181818181819,0.27636363636363637,91]
["Female 40-44",0.38,0.43181818181818188,0.22454545454545455,0.41454545454545449,0.36272727272727273,0.36272727272727273,0.36272727272727273,0.38,0.36272727272727273,0.39727272727272728,0.32818181818181819,0.25909090909090909,0.24181818181818182,0.39727272727272728,0.24181818181818182,0.36272727272727273,0.36272727272727273,0.31090909090909091,0.41454545454545449,0.48363636363636364,0.41454545454545449,0.55272727272727273,0.53545454545454552,0.17272727272727273,0.41454545454545449,0.19,0.31090909090909091,0.24181818181818182,0.39727272727272728,0.36272727272727273,0.41454545454545449,0.34545454545454546,0.39727272727272728,0.46636363636363637,0.32818181818181819,0.46636363636363637,0.38,0.25909090909090909,0.31090909090909091,0.43181818181818188,0.22454545454545455,0.24181818181818182,0.27636363636363637,0.41454545454545449,0.25909090909090909,0.51818181818181819,0.27636363636363637,92]
["Female 45-49",0.48,0.54545454545454553,0.28363636363636363,0.52363636363636357,0.45818181818181819,0.45818181818181819,0.45818181818181819,0.48,0.45818181818181819,0.50181818181818183,0.41454545454545455,0.32727272727272722,0.30545454545454542,0.50181818181818183,0.30545454545454542,0.45818181818181819,0.45818181818181819,0.39272727272727276,0.52363636363636357,0.61090909090909085,0.52363636363636357,0.69818181818181813,0.67636363636363639,0.21818181818181817,0.52363636363636357,0.24,0.39272727272727276,0.30545454545454542,0.50181818181818183,0.45818181818181819,0.52363636363636357,0.43636363636363634,0.50181818181818183,0.58909090909090911,0.41454545454545455,0.58909090909090911,0.48,0.32727272727272722,0.39272727272727276,0.54545454545454553,0.28363636363636363,0.30545454545454542,0.34909090909090906,0.52363636363636357,0.32727272727272722,0.65454545454545443,0.34909090909090906,93]
["Female 50-54",0.48,0.54545454545454553,0.28363636363636363,0.52363636363636357,0.45818181818181819,0.45818181818181819,0.45818181818181819,0.48,0.45818181818181819,0.50181818181818183,0.41454545454545455,0.32727272727272722,0.30545454545454542,0.50181818181818183,0.30545454545454542,0.45818181818181819,0.45818181818181819,0.39272727272727276,0.52363636363636357,0.61090909090909085,0.52363636363636357,0.69818181818181813,0.67636363636363639,0.21818181818181817,0.52363636363636357,0.24,0.39272727272727276,0.30545454545454542,0.50181818181818183,0.45818181818181819,0.52363636363636357,0.43636363636363634,0.50181818181818183,0.58909090909090911,0.41454545454545455,{"$f":"AK$270*$B94","v":0.58909090909090911},0.48,0.32727272727272722,0.39272727272727276,0.54545454545454553,0.28363636363636363,0.30545454545454542,0.34909090909090906,0.52363636363636357,0.32727272727272722,0.65454545454545443,0.34909090909090906,94]
["Female 55-59",0.35,0.39772727272727276,0.20681818181818182,0.38181818181818178,0.33409090909090911,0.33409090909090911,0.33409090909090911,0.35,0.33409090909090911,0.36590909090909085,0.30227272727272725,0.23863636363636359,0.22272727272727272,0.36590909090909085,0.22272727272727272,0.33409090909090911,0.33409090909090911,0.28636363636363638,0.38181818181818178,0.44545454545454544,0.38181818181818178,0.50909090909090904,0.49318181818181817,0.15909090909090909,0.38181818181818178,0.17499999999999999,0.28636363636363638,0.22272727272727272,0.36590909090909085,0.33409090909090911,0.38181818181818178,0.31818181818181818,0.36590909090909085,0.42954545454545451,0.30227272727272725,0.42954545454545451,0.35,0.23863636363636359,0.28636363636363638,0.39772727272727276,0.20681818181818182,0.22272727272727272,0.25454545454545452,0.38181818181818178,0.23863636363636359,0.47727272727272718,0.25454545454545452,95]
["Female 60-64",0.35,0.39772727272727276,0.20681818181818182,0.38181818181818178,0.33409090909090911,0.33409090909090911,0.33409090909090911,0.35,0.33409090909090911,0.36590909090909085,0.30227272727272725,0.23863636363636359,0.22272727272727272,0.36590909090909085,0.22272727272727272,0.33409090909090911,0.33409090909090911,0.28636363636363638,0.38181818181818178,0.44545454545454544,0.38181818181818178,0.50909090909090904,0.49318181818181817,0.15909090909090909,0.38181818181818178,0.17499999999999999,0.28636363636363638,0.22272727272727272,0.36590909090909085,0.33409090909090911,0.38181818181818178,0.31818181818181818,0.36590909090909085,0.42954545454545451,0.30227272727272725,0.42954545454545451,0.35,0.23863636363636359,0.28636363636363638,0.39772727272727276,0.20681818181818182,0.22272727272727272,0.25454545454545452,0.38181818181818178,0.23863636363636359,0.47727272727272718,0.25454545454545452,96]
["Female 65-69",0.21,0.23863636363636365,0.1240909090909091,0.22909090909090907,0.20045454545454547,0.20045454545454547,0.20045454545454547,0.21,0.20045454545454547,0.21954545454545452,0.18136363636363637,0.14318181818181816,0.13363636363636364,0.21954545454545452,0.13363636363636364,0.20045454545454547,0.20045454545454547,0.17181818181818181,0.22909090909090907,0.26727272727272727,0.22909090909090907,0.30545454545454548,0.2959090909090909,9.5454545454545445E-2,0.22909090909090907,0.105,0.17181818181818181,0.13363636363636364,0.21954545454545452,0.20045454545454547,0.22909090909090907,0.19090909090909089,0.21954545454545452,0.25772727272727275,0.18136363636363637,0.25772727272727275,0.21,0.14318181818181816,0.17181818181818181,0.23863636363636365,0.1240909090909091,0.13363636363636364,0.15272727272727274,0.22909090909090907,0.14318181818181816,0.28636363636363632,0.15272727272727274,97]
["Female 70-74",0.21,0.23863636363636365,0.1240909090909091,0.22909090909090907,0.20045454545454547,0.20045454545454547,0.20045454545454547,0.21,0.20045454545454547,0.21954545454545452,0.18136363636363637,0.14318181818181816,0.13363636363636364,0.21954545454545452,0.13363636363636364,0.20045454545454547,0.20045454545454547,0.17181818181818181,0.22909090909090907,0.26727272727272727,0.22909090909090907,0.30545454545454548,0.2959090909090909,9.5454545454545445E-2,0.22909090909090907,0.105,0.17181818181818181,0.13363636363636364,0.21954545454545452,0.20045454545454547,0.22909090909090907,0.19090909090909089,0.21954545454545452,0.25772727272727275,0.18136363636363637,0.25772727272727275,0.21,0.14318181818181816,0.17181818181818181,0.23863636363636365,0.1240909090909091,0.13363636363636364,0.15272727272727274,0.22909090909090907,0.14318181818181816,0.28636363636363632,0.15272727272727274,98]
["Female 75-79",0.14000000000000001,0.15909090909090912,8.2727272727272733E-2,0.15272727272727274,0.13363636363636366,0.13363636363636366,0.13363636363636366,0.14000000000000001,0.13363636363636366,0.14636363636363636,0.12090909090909092,9.5454545454545459E-2,8.9090909090909096E-2,0.14636363636363636,8.9090909090909096E-2,0.13363636363636366,0.13363636363636366,0.11454545454545456,0.15272727272727274,0.17818181818181819,0.15272727272727274,0.20363636363636367,0.19727272727272729,6.3636363636363644E-2,0.15272727272727274,7.0000000000000007E-2,0.11454545454545456,8.9090909090909096E-2,0.14636363636363636,0.13363636363636366,0.15272727272727274,0.12727272727272729,0.14636363636363636,0.17181818181818184,0.12090909090909092,0.17181818181818184,0.14000000000000001,9.5454545454545459E-2,0.11454545454545456,0.15909090909090912,8.2727272727272733E-2,8.9090909090909096E-2,0.10181818181818184,0.15272727272727274,9.5454545454545459E-2,0.19090909090909092,0.10181818181818184,99]
["Female 80-84",0.14000000000000001,0.15909090909090912,8.2727272727272733E-2,0.15272727272727274,0.13363636363636366,0.13363636363636366,0.13363636363636366,0.14000000000000001,0.13363636363636366,0.14636363636363636,0.12090909090909092,9.5454545454545459E-2,8.9090909090909096E-2,0.14636363636363636,8.9090909090909096E-2,0.13363636363636366,0.13363636363636366,0.11454545454545456,0.15272727272727274,0.17818181818181819,0.15272727272727274,0.20363636363636367,0.19727272727272729,6.3636363636363644E-2,0.15272727272727274,7.0000000000000007E-2,0.11454545454545456,8.9090909090909096E-2,0.14636363636363636,0.13363636363636366,0.15272727272727274,0.12727272727272729,0.14636363636363636,0.17181818181818184,0.12090909090909092,0.17181818181818184,0.14000000000000001,9.5454545454545459E-2,0.11454545454545456,0.15909090909090912,8.2727272727272733E-2,8.9090909090909096E-2,0.10181818181818184,0.15272727272727274,9.5454545454545459E-2,0.19090909090909092,0.10181818181818184,100]
["Female 85-89",0.14000000000000001,0.15909090909090912,8.2727272727272733E-2,0.15272727272727274,0.13363636363636366,0.13363636363636366,0.13363636363636366,0.14000000000000001,0.13363636363636366,0.14636363636363636,0.12090909090909092,9.5454545454545459E-2,8.9090909090909096E-2,0.14636363636363636,8.9090909090909096E-2,0.13363636363636366,0.13363636363636366,0.11454545454545456,0.15272727272727274,0.17818181818181819,0.15272727272727274,0.20363636363636367,0.19727272727272729,6.3636363636363644E-2,0.15272727272727274,7.0000000000000007E-2,0.11454545454545456,8.9090909090909096E-2,0.14636363636363636,0.13363636363636366,0.15272727272727274,0.12727272727272729,0.14636363636363636,0.17181818181818184,0.12090909090909092,0.17181818181818184,0.14000000000000001,9.5454545454545459E-2,0.11454545454545456,0.15909090909090912,8.2727272727272733E-2,8.9090909090909096E-2,0.10181818181818184,0.15272727272727274,9.5454545454545459E-2,0.19090909090909092,0.10181818181818184,101]
["Female 90+",0.14000000000000001,0.15909090909090912,8.2727272727272733E-2,0.15272727272727274,0.13363636363636366,0.13363636363636366,0.13363636363636366,0.14000000000000001,0.13363636363636366,0.14636363636363636,0.12090909090909092,9.5454545454545459E-2,8.9090909090909096E-2,0.14636363636363636,8.9090909090909096E-2,0.13363636363636366,0.13363636363636366,0.11454545454545456,0.15272727272727274,0.17818181818181819,0.15272727272727274,0.20363636363636367,0.19727272727272729,6.3636363636363644E-2,0.15272727272727274,7.0000000000000007E-2,0.11454545454545456,8.9090909090909096E-2,0.14636363636363636,0.13363636363636366,0.15272727272727274,0.12727272727272729,0.14636363636363636,0.17181818181818184,{"$f":"AJ$270*$B102","v":0.12090909090909092},0.17181818181818184,0.14000000000000001,9.5454545454545459E-2,0.11454545454545456,0.15909090909090912,8.2727272727272733E-2,8.9090909090909096E-2,0.10181818181818184,0.15272727272727274,9.5454545454545459E-2,0.19090909090909092,0.10181818181818184,102]
["age/sex breakdown: Q2",null,null,null,null,null,null,null,null,null,null,null,null,null,null,null,null,null,null,null,null,null,null,null,null,null,null,null,null,null,null,null,null,null,null,null,null,null,null,null,null,null,null,null,null,null,null,null,103]
["Male <1",null,null,null,null,null,null,null,null,null,null,null,null,null,null,null,null,null,null,null,null,null,null,null,null,null,null,null,null,null,null,null,null,null,null,null,null,null,null,null,null,null,null,null,null,null,null,null,104]
["Male 1-4",null,null,null,null,null,null,null,null,null,null,null,null,null,null,null,null,null,null,null,null,null,null,null,null,null,null,null,null,null,null,null,null,null,null,null,null,null,null,null,null,null,null,null,null,null,null,null,105]
["Male 5-9",null,null,null,null,null,null,null,null,null,null,null,null,null,null,null,null,null,null,null,null,null,null,null,null,null,null,null,null,null,null,null,null,null,null,null,null,null,null,null,null,null,null,null,null,null,null,null,106]
["Male 10-14",null,null,null,null,null,null,null,null,null,null,null,null,null,null,null,null,null,null,null,null,null,null,null,null,null,null,null,null,null,null,null,null,null,null,null,null,null,null,null,null,null,null,null,null,null,null,null,107]
["Male 15-19 (16+)",0.26,{"$f":"C$269*$B108","v":0.33583333333333337},{"$f":"D$269*$B108","v":0.21666666666666667},0.27083333333333337,0.26,0.17333333333333334,0.28166666666666668,0.29249999999999998,0.22750000000000001,0.26,0.22750000000000001,0.32500000000000001,0.23833333333333334,0.28166666666666668,0.33583333333333337,0.27083333333333337,0.29249999999999998,0.32500000000000001,0.28166666666666668,0.17333333333333334,0.27083333333333337,0.26,0.36833333333333335,8.666666666666667E-2,0.20583333333333334,0.16250000000000001,0.19500000000000001,0.33583333333333337,0.15166666666666667,0.26,0.33583333333333337,0.19500000000000001,0.35750000000000004,0.30333333333333334,0.29249999999999998,0.41166666666666668,0.27083333333333337,0.32500000000000001,0.27083333333333337,0.31416666666666665,0.21666666666666667,0.23833333333333334,0.20583333333333334,0.26,0.21666666666666667,0.34666666666666668,0.31416666666666665,108]
["Male 20-24",0.26,{"$f":"C$269*$B109","v":0.33583333333333337},{"$f":"D$269*$B109","v":0.21666666666666667},0.27083333333333337,0.26,0.17333333333333334,0.28166666666666668,0.29249999999999998,0.22750000000000001,0.26,0.22750000000000001,0.32500000000000001,0.23833333333333334,0.28166666666666668,0.33583333333333337,0.27083333333333337,0.29249999999999998,0.32500000000000001,0.28166666666666668,0.17333333333333334,0.27083333333333337,0.26,0.36833333333333335,8.666666666666667E-2,0.20583333333333334,0.16250000000000001,0.19500000000000001,0.33583333333333337,0.15166666666666667,0.26,0.33583333333333337,0.19500000000000001,0.35750000000000004,0.30333333333333334,0.29249999999999998,0.41166666666666668,0.27083333333333337,0.32500000000000001,0.27083333333333337,0.31416666666666665,0.21666666666666667,0.23833333333333334,0.20583333333333334,0.26,0.21666666666666667,0.34666666666666668,0.31416666666666665,109]
["Male 25-29",0.3,0.38750000000000001,0.25,0.3125,0.3,0.19999999999999998,0.32499999999999996,0.33749999999999997,0.26250000000000001,0.3,0.26250000000000001,0.375,0.27499999999999997,0.32499999999999996,0.38750000000000001,0.3125,0.33749999999999997,0.375,0.32499999999999996,0.19999999999999998,0.3125,0.3,0.42499999999999999,9.9999999999999992E-2,0.23749999999999999,0.1875,0.22499999999999998,0.38750000000000001,0.17500000000000002,0.3,0.38750000000000001,0.22499999999999998,0.41249999999999998,0.35000000000000003,0.33749999999999997,0.47499999999999998,0.3125,0.375,0.3125,0.36249999999999999,0.25,0.27499999999999997,0.23749999999999999,0.3,0.25,0.39999999999999997,0.36249999999999999,110]
["Male 30-34",0.3,0.38750000000000001,0.25,0.3125,0.3,0.19999999999999998,0.32499999999999996,0.33749999999999997,0.26250000000000001,0.3,0.26250000000000001,0.375,0.27499999999999997,0.32499999999999996,0.38750000000000001,0.3125,0.33749999999999997,0.375,0.32499999999999996,0.19999999999999998,0.3125,0.3,0.42499999999999999,9.9999999999999992E-2,0.23749999999999999,0.1875,0.22499999999999998,0.38750000000000001,0.17500000000000002,0.3,0.38750000000000001,0.22499999999999998,0.41249999999999998,0.35000000000000003,0.33749999999999997,0.47499999999999998,0.3125,0.375,0.3125,0.36249999999999999,0.25,0.27499999999999997,0.23749999999999999,0.3,0.25,0.39999999999999997,0.36249999999999999,111]
["Male 35-39",0.41,0.52958333333333329,0.34166666666666667,0.42708333333333331,0.41,0.27333333333333332,0.4441666666666666,0.46124999999999999,0.35874999999999996,0.41,0.35874999999999996,0.51249999999999996,0.3758333333333333,0.4441666666666666,0.52958333333333329,0.42708333333333331,0.46124999999999999,0.51249999999999996,0.4441666666666666,0.27333333333333332,0.42708333333333331,0.41,0.58083333333333331,0.13666666666666666,0.32458333333333328,0.25624999999999998,0.3075,0.52958333333333329,0.23916666666666667,0.41,0.52958333333333329,0.3075,0.56374999999999997,0.47833333333333333,0.46124999999999999,0.64916666666666656,0.42708333333333331,0.51249999999999996,0.42708333333333331,0.49541666666666662,0.34166666666666667,0.3758333333333333,0.32458333333333328,0.41,0.34166666666666667,0.54666666666666663,0.49541666666666662,112]
["Male 40-44",0.41,0.52958333333333329,0.34166666666666667,0.42708333333333331,0.41,0.27333333333333332,0.4441666666666666,0.46124999999999999,0.35874999999999996,0.41,0.35874999999999996,0.51249999999999996,0.3758333333333333,0.4441666666666666,0.52958333333333329,0.42708333333333331,0.46124999999999999,0.51249999999999996,0.4441666666666666,0.27333333333333332,0.42708333333333331,0.41,0.58083333333333331,0.13666666666666666,0.32458333333333328,0.25624999999999998,0.3075,0.52958333333333329,0.23916666666666667,0.41,0.52958333333333329,0.3075,0.56374999999999997,0.47833333333333333,0.46124999999999999,0.64916666666666656,0.42708333333333331,0.51249999999999996,0.42708333333333331,0.49541666666666662,0.34166666666666667,0.3758333333333333,0.32458333333333328,0.41,0.34166666666666667,0.54666666666666663,0.49541666666666662,113]
["Male 45-49",0.37,0.47791666666666671,0.30833333333333335,0.38541666666666669,0.37,0.24666666666666665,0.40083333333333332,0.41625000000000001,0.32374999999999998,0.37,0.32374999999999998,0.46250000000000002,0.33916666666666667,0.40083333333333332,0.47791666666666671,0.38541666666666669,0.41625000000000001,0.46250000000000002,0.40083333333333332,0.24666666666666665,0.38541666666666669,0.37,0.52416666666666667,0.12333333333333332,0.29291666666666666,0.23125000000000001,0.27749999999999997,0.47791666666666671,0.21583333333333335,0.37,0.47791666666666671,0.27749999999999997,0.50875000000000004,0.4316666666666667,0.41625000000000001,0.58583333333333332,0.38541666666666669,0.46250000000000002,0.38541666666666669,0.44708333333333328,0.30833333333333335,0.33916666666666667,0.29291666666666666,0.37,0.30833333333333335,0.49333333333333329,0.44708333333333328,114]
["Male 50-54",0.37,0.47791666666666671,0.30833333333333335,0.38541666666666669,0.37,0.24666666666666665,0.40083333333333332,{"$f":"I$269*$B115","v":0.41625000000000001},0.32374999999999998,0.37,0.32374999999999998,0.46250000000000002,0.33916666666666667,0.40083333333333332,0.47791666666666671,0.38541666666666669,0.41625000000000001,0.46250000000000002,0.40083333333333332,0.24666666666666665,0.38541666666666669,0.37,0.52416666666666667,0.12333333333333332,0.29291666666666666,0.23125000000000001,0.27749999999999997,0.47791666666666671,0.21583333333333335,0.37,0.47791666666666671,0.27749999999999997,0.50875000000000004,0.4316666666666667,0.41625000000000001,{"$f":"AK$269*$B115","v":0.58583333333333332},0.38541666666666669,0.46250000000000002,0.38541666666666669,0.44708333333333328,0.30833333333333335,0.33916666666666667,0.29291666666666666,0.37,0.30833333333333335,0.49333333333333329,0.44708333333333328,115]
["Male 55-59",0.17,0.21958333333333335,0.14166666666666669,0.17708333333333337,0.17,0.11333333333333334,0.18416666666666667,0.19125,0.14875000000000002,0.17,0.14875000000000002,0.21250000000000002,0.15583333333333335,0.18416666666666667,0.21958333333333335,0.17708333333333337,0.19125,0.21250000000000002,0.18416666666666667,0.11333333333333334,0.17708333333333337,0.17,0.24083333333333337,5.6666666666666671E-2,0.13458333333333333,0.10625000000000001,0.1275,0.21958333333333335,9.9166666666666681E-2,0.17,0.21958333333333335,0.1275,0.23375000000000001,0.19833333333333336,0.19125,0.26916666666666667,0.17708333333333337,0.21250000000000002,0.17708333333333337,0.20541666666666666,0.14166666666666669,0.15583333333333335,0.13458333333333333,0.17,0.14166666666666669,0.22666666666666668,0.20541666666666666,116]
["Male 60-64",0.17,0.21958333333333335,0.14166666666666669,0.17708333333333337,0.17,0.11333333333333334,0.18416666666666667,0.19125,0.14875000000000002,0.17,0.14875000000000002,0.21250000000000002,0.15583333333333335,0.18416666666666667,0.21958333333333335,0.17708333333333337,0.19125,0.21250000000000002,0.18416666666666667,0.11333333333333334,0.17708333333333337,0.17,0.24083333333333337,5.6666666666666671E-2,0.13458333333333333,0.10625000000000001,0.1275,0.21958333333333335,9.9166666666666681E-2,0.17,0.21958333333333335,0.1275,0.23375000000000001,0.19833333333333336,0.19125,0.26916666666666667,0.17708333333333337,0.21250000000000002,0.17708333333333337,0.20541666666666666,0.14166666666666669,0.15583333333333335,0.13458333333333333,0.17,0.14166666666666669,0.22666666666666668,0.20541666666666666,117]
["Male 65-69",0.22,0.28416666666666668,0.18333333333333335,0.22916666666666669,0.22,0.14666666666666667,0.23833333333333331,0.2475,0.1925,0.22,0.1925,0.27500000000000002,0.20166666666666666,0.23833333333333331,0.28416666666666668,0.22916666666666669,0.2475,0.27500000000000002,0.23833333333333331,0.14666666666666667,0.22916666666666669,0.22,0.3116666666666667,7.3333333333333334E-2,0.17416666666666666,0.13750000000000001,0.16500000000000001,0.28416666666666668,0.12833333333333335,0.22,0.28416666666666668,0.16500000000000001,0.30249999999999999,0.25666666666666671,0.2475,0.34833333333333333,0.22916666666666669,0.27500000000000002,0.22916666666666669,0.26583333333333331,0.18333333333333335,0.20166666666666666,0.17416666666666666,0.22,0.18333333333333335,0.29333333333333333,0.26583333333333331,118]
["Male 70-74",0.22,0.28416666666666668,0.18333333333333335,0.22916666666666669,0.22,0.14666666666666667,0.23833333333333331,0.2475,0.1925,0.22,0.1925,0.27500000000000002,0.20166666666666666,0.23833333333333331,0.28416666666666668,0.22916666666666669,0.2475,0.27500000000000002,0.23833333333333331,0.14666666666666667,0.22916666666666669,0.22,0.3116666666666667,7.3333333333333334E-2,0.17416666666666666,0.13750000000000001,0.16500000000000001,0.28416666666666668,0.12833333333333335,0.22,0.28416666666666668,0.16500000000000001,0.30249999999999999,0.25666666666666671,0.2475,0.34833333333333333,0.22916666666666669,0.27500000000000002,0.22916666666666669,0.26583333333333331,0.18333333333333335,0.20166666666666666,0.17416666666666666,0.22,0.18333333333333335,0.29333333333333333,0.26583333333333331,119]
["Male 75-79",0.09,0.11625000000000001,7.4999999999999997E-2,9.375E-2,0.09,0.06,9.7499999999999989E-2,0.10124999999999999,7.8750000000000001E-2,0.09,7.8750000000000001E-2,0.11249999999999999,8.249999999999999E-2,9.7499999999999989E-2,0.11625000000000001,9.375E-2,0.10124999999999999,0.11249999999999999,9.7499999999999989E-2,0.06,9.375E-2,0.09,0.1275,0.03,7.1249999999999994E-2,5.6249999999999994E-2,6.7500000000000004E-2,0.11625000000000001,5.2499999999999998E-2,0.09,0.11625000000000001,6.7500000000000004E-2,0.12375,0.105,0.10124999999999999,0.14249999999999999,9.375E-2,0.11249999999999999,9.375E-2,0.10874999999999999,7.4999999999999997E-2,8.249999999999999E-2,7.1249999999999994E-2,0.09,7.4999999999999997E-2,0.12,0.10874999999999999,120]
["Male 80-84",0.09,0.11625000000000001,7.4999999999999997E-2,9.375E-2,0.09,0.06,9.7499999999999989E-2,0.10124999999999999,7.8750000000000001E-2,0.09,7.8750000000000001E-2,0.11249999999999999,8.249999999999999E-2,9.7499999999999989E-2,0.11625000000000001,9.375E-2,0.10124999999999999,0.11249999999999999,9.7499999999999989E-2,0.06,9.375E-2,0.09,0.1275,0.03,7.1249999999999994E-2,5.6249999999999994E-2,6.7500000000000004E-2,0.11625000000000001,5.2499999999999998E-2,0.09,0.11625000000000001,6.7500000000000004E-2,0.12375,0.105,0.10124999999999999,0.14249999999999999,9.375E-2,0.11249999999999999,9.375E-2,0.10874999999999999,7.4999999999999997E-2,8.249999999999999E-2,7.1249999999999994E-2,0.09,7.4999999999999997E-2,0.12,0.10874999999999999,121]
["Male 85-89",0.09,0.11625000000000001,7.4999999999999997E-2,9.375E-2,0.09,0.06,9.7499999999999989E-2,0.10124999999999999,7.8750000000000001E-2,0.09,7.8750000000000001E-2,0.11249999999999999,8.249999999999999E-2,9.7499999999999989E-2,0.11625000000000001,9.375E-2,0.10124999999999999,0.11249999999999999,9.7499999999999989E-2,0.06,9.375E-2,0.09,0.1275,0.03,7.1249999999999994E-2,5.6249999999999994E-2,6.7500000000000004E-2,0.11625000000000001,5.2499999999999998E-2,0.09,0.11625000000000001,6.7500000000000004E-2,0.12375,0.105,0.10124999999999999,0.14249999999999999,9.375E-2,0.11249999999999999,9.375E-2,0.10874999999999999,7.4999999999999997E-2,8.249999999999999E-2,7.1249999999999994E-2,0.09,7.4999999999999997E-2,0.12,0.10874999999999999,122]
["Male 90+",0.09,0.11625000000000001,7.4999999999999997E-2,9.375E-2,0.09,0.06,9.7499999999999989E-2,0.10124999999999999,7.8750000000000001E-2,0.09,7.8750000000000001E-2,0.11249999999999999,8.249999999999999E-2,9.7499999999999989E-2,0.11625000000000001,9.375E-2,0.10124999999999999,0.11249999999999999,9.7499999999999989E-2,0.06,9.375E-2,0.09,0.1275,0.03,7.1249999999999994E-2,5.6249999999999994E-2,6.7500000000000004E-2,0.11625000000000001,5.2499999999999998E-2,0.09,0.11625000000000001,6.7500000000000004E-2,0.12375,0.105,{"$f":"AJ$269*$B123","v":0.10124999999999999},0.14249999999999999,9.375E-2,0.11249999999999999,9.375E-2,0.10874999999999999,7.4999999999999997E-2,8.249999999999999E-2,7.1249999999999994E-2,0.09,7.4999999999999997E-2,0.12,0.10874999999999999,123]
["Female <1",null,null,null,null,null,null,null,null,null,null,null,null,null,null,null,null,null,null,null,null,null,null,null,null,null,null,null,null,null,null,null,null,null,null,null,null,null,null,null,null,null,null,null,null,null,null,null,124]
["Female 1-4",null,null,null,null,null,null,null,null,null,null,null,null,null,null,null,null,null,null,null,null,null,null,null,null,null,null,null,null,null,null,null,null,null,null,null,null,null,null,null,null,null,null,null,null,null,null,null,125]
["Female 5-9",null,null,null,null,null,null,null,null,null,null,null,null,null,null,null,null,null,null,null,null,null,null,null,null,null,null,null,null,null,null,null,null,null,null,null,null,null,null,null,null,null,null,null,null,null,null,null,126]
["Female 10-14",null,null,null,null,null,null,null,null,null,null,null,null,null,null,null,null,null,null,null,null,null,null,null,null,null,null,null,null,null,null,null,null,null,null,null,null,null,null,null,null,null,null,null,null,null,null,null,127]
["Female 15-19 (16+)",0.26,{"$f":"C$270*$B128","v":0.29545454545454547},{"$f":"D$270*$B128","v":0.15363636363636365},0.28363636363636363,0.2481818181818182,0.2481818181818182,0.2481818181818182,0.26,0.2481818181818182,0.27181818181818179,0.22454545454545455,0.17727272727272728,0.16545454545454547,0.27181818181818179,0.16545454545454547,0.2481818181818182,0.2481818181818182,0.21272727272727274,0.28363636363636363,0.33090909090909093,0.28363636363636363,0.37818181818181823,0.36636363636363639,0.11818181818181818,0.28363636363636363,0.13,0.21272727272727274,0.16545454545454547,0.27181818181818179,0.2481818181818182,0.28363636363636363,0.23636363636363636,0.27181818181818179,0.31909090909090909,0.22454545454545455,0.31909090909090909,0.26,0.17727272727272728,0.21272727272727274,0.29545454545454547,0.15363636363636365,0.16545454545454547,0.18909090909090912,0.28363636363636363,0.17727272727272728,0.35454545454545455,0.18909090909090912,128]
["Female 20-24",0.26,{"$f":"C$270*$B129","v":0.29545454545454547},0.15363636363636365,0.28363636363636363,0.2481818181818182,0.2481818181818182,0.2481818181818182,0.26,0.2481818181818182,0.27181818181818179,0.22454545454545455,0.17727272727272728,0.16545454545454547,0.27181818181818179,0.16545454545454547,0.2481818181818182,0.2481818181818182,0.21272727272727274,0.28363636363636363,0.33090909090909093,0.28363636363636363,0.37818181818181823,0.36636363636363639,0.11818181818181818,0.28363636363636363,0.13,0.21272727272727274,0.16545454545454547,0.27181818181818179,0.2481818181818182,0.28363636363636363,0.23636363636363636,0.27181818181818179,0.31909090909090909,0.22454545454545455,0.31909090909090909,0.26,0.17727272727272728,0.21272727272727274,0.29545454545454547,0.15363636363636365,0.16545454545454547,0.18909090909090912,0.28363636363636363,0.17727272727272728,0.35454545454545455,0.18909090909090912,129]
["Female 25-29",0.31,0.35227272727272729,0.1831818181818182,0.33818181818181814,0.2959090909090909,0.2959090909090909,0.2959090909090909,0.31,0.2959090909090909,0.3240909090909091,0.2677272727272727,0.21136363636363634,0.19727272727272727,0.3240909090909091,0.19727272727272727,0.2959090909090909,0.2959090909090909,0.25363636363636366,0.33818181818181814,0.39454545454545453,0.33818181818181814,0.45090909090909093,0.43681818181818183,0.1409090909090909,0.33818181818181814,0.155,0.25363636363636366,0.19727272727272727,0.3240909090909091,0.2959090909090909,0.33818181818181814,0.2818181818181818,0.3240909090909091,0.38045454545454543,0.2677272727272727,0.38045454545454543,0.31,0.21136363636363634,0.25363636363636366,0.35227272727272729,0.1831818181818182,0.19727272727272727,0.22545454545454546,0.33818181818181814,0.21136363636363634,0.42272727272727267,0.22545454545454546,130]
["Female 30-34",0.31,0.35227272727272729,0.1831818181818182,0.33818181818181814,0.2959090909090909,0.2959090909090909,0.2959090909090909,0.31,0.2959090909090909,0.3240909090909091,0.2677272727272727,0.21136363636363634,0.19727272727272727,0.3240909090909091,0.19727272727272727,0.2959090909090909,0.2959090909090909,0.25363636363636366,0.33818181818181814,0.39454545454545453,0.33818181818181814,0.45090909090909093,0.43681818181818183,0.1409090909090909,0.33818181818181814,0.155,0.25363636363636366,0.19727272727272727,0.3240909090909091,0.2959090909090909,0.33818181818181814,0.2818181818181818,0.3240909090909091,0.38045454545454543,0.2677272727272727,0.38045454545454543,0.31,0.21136363636363634,0.25363636363636366,0.35227272727272729,0.1831818181818182,0.19727272727272727,0.22545454545454546,0.33818181818181814,0.21136363636363634,0.42272727272727267,0.22545454545454546,131]
["Female 35-39",0.38,0.43181818181818188,0.22454545454545455,0.41454545454545449,0.36272727272727273,0.36272727272727273,0.36272727272727273,0.38,0.36272727272727273,0.39727272727272728,0.32818181818181819,0.25909090909090909,0.24181818181818182,0.39727272727272728,0.24181818181818182,0.36272727272727273,0.36272727272727273,0.31090909090909091,0.41454545454545449,0.48363636363636364,0.41454545454545449,0.55272727272727273,0.53545454545454552,0.17272727272727273,0.41454545454545449,0.19,0.31090909090909091,0.24181818181818182,0.39727272727272728,0.36272727272727273,0.41454545454545449,0.34545454545454546,0.39727272727272728,0.46636363636363637,0.32818181818181819,0.46636363636363637,0.38,0.25909090909090909,0.31090909090909091,0.43181818181818188,0.22454545454545455,0.24181818181818182,0.27636363636363637,0.41454545454545449,0.25909090909090909,0.51818181818181819,0.27636363636363637,132]
["Female 40-44",0.38,0.43181818181818188,0.22454545454545455,0.41454545454545449,0.36272727272727273,0.36272727272727273,0.36272727272727273,0.38,0.36272727272727273,0.39727272727272728,0.32818181818181819,0.25909090909090909,0.24181818181818182,0.39727272727272728,0.24181818181818182,0.36272727272727273,0.36272727272727273,0.31090909090909091,0.41454545454545449,0.48363636363636364,0.41454545454545449,0.55272727272727273,0.53545454545454552,0.17272727272727273,0.41454545454545449,0.19,0.31090909090909091,0.24181818181818182,0.39727272727272728,0.36272727272727273,0.41454545454545449,0.34545454545454546,0.39727272727272728,0.46636363636363637,0.32818181818181819,0.46636363636363637,0.38,0.25909090909090909,0.31090909090909091,0.43181818181818188,0.22454545454545455,0.24181818181818182,0.27636363636363637,0.41454545454545449,0.25909090909090909,0.51818181818181819,0.27636363636363637,133]
["Female 45-49",0.32,0.3636363636363637,0.18909090909090912,0.34909090909090906,0.30545454545454548,0.30545454545454548,0.30545454545454548,0.32,0.30545454545454548,0.33454545454545453,0.27636363636363637,0.21818181818181817,0.20363636363636364,0.33454545454545453,0.20363636363636364,0.30545454545454548,0.30545454545454548,0.26181818181818184,0.34909090909090906,0.40727272727272729,0.34909090909090906,0.46545454545454545,0.45090909090909093,0.14545454545454545,0.34909090909090906,0.16,0.26181818181818184,0.20363636363636364,0.33454545454545453,0.30545454545454548,0.34909090909090906,0.29090909090909089,0.33454545454545453,0.39272727272727276,0.27636363636363637,0.39272727272727276,0.32,0.21818181818181817,0.26181818181818184,0.3636363636363637,0.18909090909090912,0.20363636363636364,0.23272727272727273,0.34909090909090906,0.21818181818181817,0.43636363636363634,0.23272727272727273,134]
["Female 50-54",0.32,0.3636363636363637,0.18909090909090912,0.34909090909090906,0.30545454545454548,0.30545454545454548,0.30545454545454548,0.32,0.30545454545454548,0.33454545454545453,0.27636363636363637,0.21818181818181817,0.20363636363636364,0.33454545454545453,0.20363636363636364,0.30545454545454548,0.30545454545454548,0.26181818181818184,0.34909090909090906,0.40727272727272729,0.34909090909090906,0.46545454545454545,0.45090909090909093,0.14545454545454545,0.34909090909090906,0.16,0.26181818181818184,0.20363636363636364,0.33454545454545453,0.30545454545454548,0.34909090909090906,0.29090909090909089,0.33454545454545453,0.39272727272727276,0.27636363636363637,{"$f":"AK$270*$B135","v":0.39272727272727276},0.32,0.21818181818181817,0.26181818181818184,0.3636363636363637,0.18909090909090912,0.20363636363636364,0.23272727272727273,0.34909090909090906,0.21818181818181817,0.43636363636363634,0.23272727272727273,135]
["Female 55-59",0.28999999999999998,0.32954545454545453,0.17136363636363636,0.31636363636363629,0.2768181818181818,0.2768181818181818,0.2768181818181818,0.28999999999999998,0.2768181818181818,0.30318181818181816,0.25045454545454543,0.1977272727272727,0.18454545454545454,0.30318181818181816,0.18454545454545454,0.2768181818181818,0.2768181818181818,0.23727272727272727,0.31636363636363629,0.36909090909090908,0.31636363636363629,0.42181818181818181,0.40863636363636363,0.13181818181818181,0.31636363636363629,0.14499999999999999,0.23727272727272727,0.18454545454545454,0.30318181818181816,0.2768181818181818,0.31636363636363629,0.26363636363636361,0.30318181818181816,0.3559090909090909,0.25045454545454543,0.3559090909090909,0.28999999999999998,0.1977272727272727,0.23727272727272727,0.32954545454545453,0.17136363636363636,0.18454545454545454,0.21090909090909091,0.31636363636363629,0.1977272727272727,0.39545454545454539,0.21090909090909091,136]
["Female 60-64",0.28999999999999998,0.32954545454545453,0.17136363636363636,0.31636363636363629,0.2768181818181818,0.2768181818181818,0.2768181818181818,0.28999999999999998,0.2768181818181818,0.30318181818181816,0.25045454545454543,0.1977272727272727,0.18454545454545454,0.30318181818181816,0.18454545454545454,0.2768181818181818,0.2768181818181818,0.23727272727272727,0.31636363636363629,0.36909090909090908,0.31636363636363629,0.42181818181818181,0.40863636363636363,0.13181818181818181,0.31636363636363629,0.14499999999999999,0.23727272727272727,0.18454545454545454,0.30318181818181816,0.2768181818181818,0.31636363636363629,0.26363636363636361,0.30318181818181816,0.3559090909090909,0.25045454545454543,0.3559090909090909,0.28999999999999998,0.1977272727272727,0.23727272727272727,0.32954545454545453,0.17136363636363636,0.18454545454545454,0.21090909090909091,0.31636363636363629,0.1977272727272727,0.39545454545454539,0.21090909090909091,137]
["Female 65-69",0.23,0.26136363636363641,0.13590909090909092,0.25090909090909091,0.21954545454545457,0.21954545454545457,0.21954545454545457,0.23,0.21954545454545457,0.24045454545454545,0.19863636363636364,0.1568181818181818,0.14636363636363636,0.24045454545454545,0.14636363636363636,0.21954545454545457,0.21954545454545457,0.1881818181818182,0.25090909090909091,0.29272727272727272,0.25090909090909091,0.33454545454545459,0.3240909090909091,0.10454545454545455,0.25090909090909091,0.115,0.1881818181818182,0.14636363636363636,0.24045454545454545,0.21954545454545457,0.25090909090909091,0.20909090909090911,0.24045454545454545,0.28227272727272729,0.19863636363636364,0.28227272727272729,0.23,0.1568181818181818,0.1881818181818182,0.26136363636363641,0.13590909090909092,0.14636363636363636,0.1672727272727273,0.25090909090909091,0.1568181818181818,0.3136363636363636,0.1672727272727273,138]
["Female 70-74",0.23,0.26136363636363641,0.13590909090909092,0.25090909090909091,0.21954545454545457,0.21954545454545457,0.21954545454545457,0.23,0.21954545454545457,0.24045454545454545,0.19863636363636364,0.1568181818181818,0.14636363636363636,0.24045454545454545,0.14636363636363636,0.21954545454545457,0.21954545454545457,0.1881818181818182,0.25090909090909091,0.29272727272727272,0.25090909090909091,0.33454545454545459,0.3240909090909091,0.10454545454545455,0.25090909090909091,0.115,0.1881818181818182,0.14636363636363636,0.24045454545454545,0.21954545454545457,0.25090909090909091,0.20909090909090911,0.24045454545454545,0.28227272727272729,0.19863636363636364,0.28227272727272729,0.23,0.1568181818181818,0.1881818181818182,0.26136363636363641,0.13590909090909092,0.14636363636363636,0.1672727272727273,0.25090909090909091,0.1568181818181818,0.3136363636363636,0.1672727272727273,139]
["Female 75-79",0.1,0.11363636363636365,5.9090909090909097E-2,0.10909090909090909,9.5454545454545459E-2,9.5454545454545459E-2,9.5454545454545459E-2,0.1,9.5454545454545459E-2,0.10454545454545455,8.6363636363636365E-2,6.8181818181818177E-2,6.3636363636363644E-2,0.10454545454545455,6.3636363636363644E-2,9.5454545454545459E-2,9.5454545454545459E-2,8.1818181818181832E-2,0.10909090909090909,0.12727272727272729,0.10909090909090909,0.14545454545454548,0.14090909090909093,4.5454545454545456E-2,0.10909090909090909,0.05,8.1818181818181832E-2,6.3636363636363644E-2,0.10454545454545455,9.5454545454545459E-2,0.10909090909090909,9.0909090909090912E-2,0.10454545454545455,0.12272727272727274,8.6363636363636365E-2,0.12272727272727274,0.1,6.8181818181818177E-2,8.1818181818181832E-2,0.11363636363636365,5.9090909090909097E-2,6.3636363636363644E-2,7.2727272727272738E-2,0.10909090909090909,6.8181818181818177E-2,0.13636363636363635,7.2727272727272738E-2,140]
["Female 80-84",0.1,0.11363636363636365,5.9090909090909097E-2,0.10909090909090909,9.5454545454545459E-2,9.5454545454545459E-2,9.5454545454545459E-2,0.1,9.5454545454545459E-2,0.10454545454545455,8.6363636363636365E-2,6.8181818181818177E-2,6.3636363636363644E-2,0.10454545454545455,6.3636363636363644E-2,9.5454545454545459E-2,9.5454545454545459E-2,8.1818181818181832E-2,0.10909090909090909,0.12727272727272729,0.10909090909090909,0.14545454545454548,0.14090909090909093,4.5454545454545456E-2,0.10909090909090909,0.05,8.1818181818181832E-2,6.3636363636363644E-2,0.10454545454545455,9.5454545454545459E-2,0.10909090909090909,9.0909090909090912E-2,0.10454545454545455,0.12272727272727274,8.6363636363636365E-2,0.12272727272727274,0.1,6.8181818181818177E-2,8.1818181818181832E-2,0.11363636363636365,5.9090909090909097E-2,6.3636363636363644E-2,7.2727272727272738E-2,0.10909090909090909,6.8181818181818177E-2,0.13636363636363635,7.2727272727272738E-2,141]
["Female 85-89",0.1,0.11363636363636365,5.9090909090909097E-2,0.10909090909090909,9.5454545454545459E-2,9.5454545454545459E-2,9.5454545454545459E-2,0.1,9.5454545454545459E-2,0.10454545454545455,8.6363636363636365E-2,6.8181818181818177E-2,6.3636363636363644E-2,0.10454545454545455,6.3636363636363644E-2,9.5454545454545459E-2,9.5454545454545459E-2,8.1818181818181832E-2,0.10909090909090909,0.12727272727272729,0.10909090909090909,0.14545454545454548,0.14090909090909093,4.5454545454545456E-2,0.10909090909090909,0.05,8.1818181818181832E-2,6.3636363636363644E-2,0.10454545454545455,9.5454545454545459E-2,0.10909090909090909,9.0909090909090912E-2,0.10454545454545455,0.12272727272727274,8.6363636363636365E-2,0.12272727272727274,0.1,6.8181818181818177E-2,8.1818181818181832E-2,0.11363636363636365,5.9090909090909097E-2,6.3636363636363644E-2,7.2727272727272738E-2,0.10909090909090909,6.8181818181818177E-2,0.13636363636363635,7.2727272727272738E-2,142]
["Female 90+",0.1,0.11363636363636365,5.9090909090909097E-2,0.10909090909090909,9.5454545454545459E-2,9.5454545454545459E-2,9.5454545454545459E-2,0.1,9.5454545454545459E-2,0.10454545454545455,8.6363636363636365E-2,6.8181818181818177E-2,6.3636363636363644E-2,0.10454545454545455,6.3636363636363644E-2,9.5454545454545459E-2,9.5454545454545459E-2,8.1818181818181832E-2,0.10909090909090909,0.12727272727272729,0.10909090909090909,0.14545454545454548,0.14090909090909093,4.5454545454545456E-2,0.10909090909090909,0.05,8.1818181818181832E-2,6.3636363636363644E-2,0.10454545454545455,9.5454545454545459E-2,0.10909090909090909,9.0909090909090912E-2,0.10454545454545455,0.12272727272727274,{"$f":"AJ$270*$B143","v":8.6363636363636365E-2},0.12272727272727274,0.1,6.8181818181818177E-2,8.1818181818181832E-2,0.11363636363636365,5.9090909090909097E-2,6.3636363636363644E-2,7.2727272727272738E-2,0.10909090909090909,6.8181818181818177E-2,0.13636363636363635,7.2727272727272738E-2,143]
["age/sex breakdown: Q3",null,null,null,null,null,null,null,null,null,null,null,null,null,null,null,null,null,null,null,null,null,null,null,null,null,null,null,null,null,null,null,null,null,null,null,null,null,null,null,null,null,null,null,null,null,null,null,144]
["Male <1",null,null,null,null,null,null,null,null,null,null,null,null,null,null,null,null,null,null,null,null,null,null,null,null,null,null,null,null,null,null,null,null,null,null,null,null,null,null,null,null,null,null,null,null,null,null,null,145]
["Male 1-4",null,null,null,null,null,null,null,null,null,null,null,null,null,null,null,null,null,null,null,null,null,null,null,null,null,null,null,null,null,null,null,null,null,null,null,null,null,null,null,null,null,null,null,null,null,null,null,146]
["Male 5-9",null,null,null,null,null,null,null,null,null,null,null,null,null,null,null,null,null,null,null,null,null,null,null,null,null,null,null,null,null,null,null,null,null,null,null,null,null,null,null,null,null,null,null,null,null,null,null,147]
["Male 10-14",null,null,null,null,null,null,null,null,null,null,null,null,null,null,null,null,null,null,null,null,null,null,null,null,null,null,null,null,null,null,null,null,null,null,null,null,null,null,null,null,null,null,null,null,null,null,null,148]
["Male 15-19 (16+)",0.22,{"$f":"C$269*$B149","v":0.28416666666666668},{"$f":"D$269*$B149","v":0.18333333333333335},0.22916666666666669,0.22,0.14666666666666667,0.23833333333333331,0.2475,0.1925,0.22,0.1925,0.27500000000000002,0.20166666666666666,0.23833333333333331,0.28416666666666668,0.22916666666666669,0.2475,0.27500000000000002,0.23833333333333331,0.14666666666666667,0.22916666666666669,0.22,0.3116666666666667,7.3333333333333334E-2,0.17416666666666666,0.13750000000000001,0.16500000000000001,0.28416666666666668,0.12833333333333335,0.22,0.28416666666666668,0.16500000000000001,0.30249999999999999,0.25666666666666671,0.2475,0.34833333333333333,0.22916666666666669,0.27500000000000002,0.22916666666666669,0.26583333333333331,0.18333333333333335,0.20166666666666666,0.17416666666666666,0.22,0.18333333333333335,0.29333333333333333,0.26583333333333331,149]
["Male 20-24",0.22,{"$f":"C$269*$B150","v":0.28416666666666668},{"$f":"D$269*$B150","v":0.18333333333333335},0.22916666666666669,0.22,0.14666666666666667,0.23833333333333331,0.2475,0.1925,0.22,0.1925,0.27500000000000002,0.20166666666666666,0.23833333333333331,0.28416666666666668,0.22916666666666669,0.2475,0.27500000000000002,0.23833333333333331,0.14666666666666667,0.22916666666666669,0.22,0.3116666666666667,7.3333333333333334E-2,0.17416666666666666,0.13750000000000001,0.16500000000000001,0.28416666666666668,0.12833333333333335,0.22,0.28416666666666668,0.16500000000000001,0.30249999999999999,0.25666666666666671,0.2475,0.34833333333333333,0.22916666666666669,0.27500000000000002,0.22916666666666669,0.26583333333333331,0.18333333333333335,0.20166666666666666,0.17416666666666666,0.22,0.18333333333333335,0.29333333333333333,0.26583333333333331,150]
["Male 25-29",0.26,0.33583333333333337,0.21666666666666667,0.27083333333333337,0.26,0.17333333333333334,0.28166666666666668,0.29249999999999998,0.22750000000000001,0.26,0.22750000000000001,0.32500000000000001,0.23833333333333334,0.28166666666666668,0.33583333333333337,0.27083333333333337,0.29249999999999998,0.32500000000000001,0.28166666666666668,0.17333333333333334,0.27083333333333337,0.26,0.36833333333333335,8.666666666666667E-2,0.20583333333333334,0.16250000000000001,0.19500000000000001,0.33583333333333337,0.15166666666666667,0.26,0.33583333333333337,0.19500000000000001,0.35750000000000004,0.30333333333333334,0.29249999999999998,0.41166666666666668,0.27083333333333337,0.32500000000000001,0.27083333333333337,0.31416666666666665,0.21666666666666667,0.23833333333333334,0.20583333333333334,0.26,0.21666666666666667,0.34666666666666668,0.31416666666666665,151]
["Male 30-34",0.26,0.33583333333333337,0.21666666666666667,0.27083333333333337,0.26,0.17333333333333334,0.28166666666666668,0.29249999999999998,0.22750000000000001,0.26,0.22750000000000001,0.32500000000000001,0.23833333333333334,0.28166666666666668,0.33583333333333337,0.27083333333333337,0.29249999999999998,0.32500000000000001,0.28166666666666668,0.17333333333333334,0.27083333333333337,0.26,0.36833333333333335,8.666666666666667E-2,0.20583333333333334,0.16250000000000001,0.19500000000000001,0.33583333333333337,0.15166666666666667,0.26,0.33583333333333337,0.19500000000000001,0.35750000000000004,0.30333333333333334,0.29249999999999998,0.41166666666666668,0.27083333333333337,0.32500000000000001,0.27083333333333337,0.31416666666666665,0.21666666666666667,0.23833333333333334,0.20583333333333334,0.26,0.21666666666666667,0.34666666666666668,0.31416666666666665,152]
["Male 35-39",0.3,0.38750000000000001,0.25,0.3125,0.3,0.19999999999999998,0.32499999999999996,0.33749999999999997,0.26250000000000001,0.3,0.26250000000000001,0.375,0.27499999999999997,0.32499999999999996,0.38750000000000001,0.3125,0.33749999999999997,0.375,0.32499999999999996,0.19999999999999998,0.3125,0.3,0.42499999999999999,9.9999999999999992E-2,0.23749999999999999,0.1875,0.22499999999999998,0.38750000000000001,0.17500000000000002,0.3,0.38750000000000001,0.22499999999999998,0.41249999999999998,0.35000000000000003,0.33749999999999997,0.47499999999999998,0.3125,0.375,0.3125,0.36249999999999999,0.25,0.27499999999999997,0.23749999999999999,0.3,0.25,0.39999999999999997,0.36249999999999999,153]
["Male 40-44",0.3,0.38750000000000001,0.25,0.3125,0.3,0.19999999999999998,0.32499999999999996,0.33749999999999997,0.26250000000000001,0.3,0.26250000000000001,0.375,0.27499999999999997,0.32499999999999996,0.38750000000000001,0.3125,0.33749999999999997,0.375,0.32499999999999996,0.19999999999999998,0.3125,0.3,0.42499999999999999,9.9999999999999992E-2,0.23749999999999999,0.1875,0.22499999999999998,0.38750000000000001,0.17500000000000002,0.3,0.38750000000000001,0.22499999999999998,0.41249999999999998,0.35000000000000003,0.33749999999999997,0.47499999999999998,0.3125,0.375,0.3125,0.36249999999999999,0.25,0.27499999999999997,0.23749999999999999,0.3,0.25,0.39999999999999997,0.36249999999999999,154]
["Male 45-49",0.26,0.33583333333333337,0.21666666666666667,0.27083333333333337,0.26,0.17333333333333334,0.28166666666666668,0.29249999999999998,0.22750000000000001,0.26,0.22750000000000001,0.32500000000000001,0.23833333333333334,0.28166666666666668,0.33583333333333337,0.27083333333333337,0.29249999999999998,0.32500000000000001,0.28166666666666668,0.17333333333333334,0.27083333333333337,0.26,0.36833333333333335,8.666666666666667E-2,0.20583333333333334,0.16250000000000001,0.19500000000000001,0.33583333333333337,0.15166666666666667,0.26,0.33583333333333337,0.19500000000000001,0.35750000000000004,0.30333333333333334,0.29249999999999998,0.41166666666666668,0.27083333333333337,0.32500000000000001,0.27083333333333337,0.31416666666666665,0.21666666666666667,0.23833333333333334,0.20583333333333334,0.26,0.21666666666666667,0.34666666666666668,0.31416666666666665,155]
["Male 50-54",0.26,0.33583333333333337,0.21666666666666667,0.27083333333333337,0.26,0.17333333333333334,0.28166666666666668,{"$f":"I$269*$B156","v":0.29249999999999998},0.22750000000000001,0.26,0.22750000000000001,0.32500000000000001,0.23833333333333334,0.28166666666666668,0.33583333333333337,0.27083333333333337,0.29249999999999998,0.32500000000000001,0.28166666666666668,0.17333333333333334,0.27083333333333337,0.26,0.36833333333333335,8.666666666666667E-2,0.20583333333333334,0.16250000000000001,0.19500000000000001,0.33583333333333337,0.15166666666666667,0.26,0.33583333333333337,0.19500000000000001,0.35750000000000004,0.30333333333333334,0.29249999999999998,{"$f":"AK$269*$B156","v":0.41166666666666668},0.27083333333333337,0.32500000000000001,0.27083333333333337,0.31416666666666665,0.21666666666666667,0.23833333333333334,0.20583333333333334,0.26,0.21666666666666667,0.34666666666666668,0.31416666666666665,156]
["Male 55-59",0.21,0.27124999999999999,0.17499999999999999,0.21875,0.21,0.13999999999999999,0.22749999999999998,0.23624999999999999,0.18375,0.21,0.18375,0.26250000000000001,0.19249999999999998,0.22749999999999998,0.27124999999999999,0.21875,0.23624999999999999,0.26250000000000001,0.22749999999999998,0.13999999999999999,0.21875,0.21,0.29749999999999999,6.9999999999999993E-2,0.16624999999999998,0.13125000000000001,0.1575,0.27124999999999999,0.1225,0.21,0.27124999999999999,0.1575,0.28875000000000001,0.245,0.23624999999999999,0.33249999999999996,0.21875,0.26250000000000001,0.21875,0.25374999999999998,0.17499999999999999,0.19249999999999998,0.16624999999999998,0.21,0.17499999999999999,0.27999999999999997,0.25374999999999998,157]
["Male 60-64",0.21,0.27124999999999999,0.17499999999999999,0.21875,0.21,0.13999999999999999,0.22749999999999998,0.23624999999999999,0.18375,0.21,0.18375,0.26250000000000001,0.19249999999999998,0.22749999999999998,0.27124999999999999,0.21875,0.23624999999999999,0.26250000000000001,0.22749999999999998,0.13999999999999999,0.21875,0.21,0.29749999999999999,6.9999999999999993E-2,0.16624999999999998,0.13125000000000001,0.1575,0.27124999999999999,0.1225,0.21,0.27124999999999999,0.1575,0.28875000000000001,0.245,0.23624999999999999,0.33249999999999996,0.21875,0.26250000000000001,0.21875,0.25374999999999998,0.17499999999999999,0.19249999999999998,0.16624999999999998,0.21,0.17499999999999999,0.27999999999999997,0.25374999999999998,158]
["Male 65-69",0.14000000000000001,0.18083333333333337,0.11666666666666668,0.14583333333333337,0.14000000000000001,9.3333333333333338E-2,0.15166666666666667,0.15750000000000003,0.12250000000000001,0.14000000000000001,0.12250000000000001,0.17500000000000002,0.12833333333333333,0.15166666666666667,0.18083333333333337,0.14583333333333337,0.15750000000000003,0.17500000000000002,0.15166666666666667,9.3333333333333338E-2,{"$f":"V$269*$B159","v":0.14583333333333337},0.14000000000000001,0.19833333333333336,4.6666666666666669E-2,0.11083333333333334,8.7500000000000008E-2,0.10500000000000001,0.18083333333333337,8.1666666666666679E-2,0.14000000000000001,0.18083333333333337,0.10500000000000001,{"$f":"AH$269*$B159","v":0.1925},0.16333333333333336,0.15750000000000003,0.22166666666666668,0.14583333333333337,0.17500000000000002,0.14583333333333337,0.16916666666666666,0.11666666666666668,0.12833333333333333,0.11083333333333334,0.14000000000000001,0.11666666666666668,0.18666666666666668,0.16916666666666666,159]
["Male 70-74",0.14000000000000001,0.18083333333333337,0.11666666666666668,0.14583333333333337,0.14000000000000001,9.3333333333333338E-2,0.15166666666666667,0.15750000000000003,0.12250000000000001,0.14000000000000001,0.12250000000000001,0.17500000000000002,0.12833333333333333,0.15166666666666667,0.18083333333333337,0.14583333333333337,0.15750000000000003,0.17500000000000002,0.15166666666666667,9.3333333333333338E-2,0.14583333333333337,0.14000000000000001,0.19833333333333336,4.6666666666666669E-2,0.11083333333333334,8.7500000000000008E-2,0.10500000000000001,0.18083333333333337,8.1666666666666679E-2,0.14000000000000001,0.18083333333333337,0.10500000000000001,0.1925,0.16333333333333336,0.15750000000000003,0.22166666666666668,0.14583333333333337,0.17500000000000002,0.14583333333333337,0.16916666666666666,0.11666666666666668,0.12833333333333333,0.11083333333333334,0.14000000000000001,0.11666666666666668,0.18666666666666668,0.16916666666666666,160]
["Male 75-79",0.1,0.12916666666666668,8.3333333333333343E-2,0.10416666666666669,0.1,6.6666666666666666E-2,0.10833333333333334,0.1125,8.7500000000000008E-2,0.1,8.7500000000000008E-2,0.125,9.1666666666666674E-2,0.10833333333333334,0.12916666666666668,0.10416666666666669,0.1125,0.125,0.10833333333333334,6.6666666666666666E-2,0.10416666666666669,0.1,0.14166666666666669,3.3333333333333333E-2,7.9166666666666663E-2,6.25E-2,7.5000000000000011E-2,0.12916666666666668,5.8333333333333341E-2,0.1,0.12916666666666668,7.5000000000000011E-2,0.13750000000000001,0.11666666666666668,0.1125,0.15833333333333333,0.10416666666666669,0.125,0.10416666666666669,0.12083333333333333,8.3333333333333343E-2,9.1666666666666674E-2,7.9166666666666663E-2,0.1,8.3333333333333343E-2,0.13333333333333333,0.12083333333333333,161]
["Male 80-84",0.1,0.12916666666666668,8.3333333333333343E-2,0.10416666666666669,0.1,6.6666666666666666E-2,0.10833333333333334,0.1125,8.7500000000000008E-2,0.1,8.7500000000000008E-2,0.125,9.1666666666666674E-2,0.10833333333333334,0.12916666666666668,0.10416666666666669,0.1125,0.125,0.10833333333333334,6.6666666666666666E-2,0.10416666666666669,0.1,0.14166666666666669,3.3333333333333333E-2,7.9166666666666663E-2,6.25E-2,7.5000000000000011E-2,0.12916666666666668,5.8333333333333341E-2,0.1,0.12916666666666668,7.5000000000000011E-2,0.13750000000000001,0.11666666666666668,0.1125,0.15833333333333333,0.10416666666666669,0.125,0.10416666666666669,0.12083333333333333,8.3333333333333343E-2,9.1666666666666674E-2,7.9166666666666663E-2,0.1,8.3333333333333343E-2,0.13333333333333333,0.12083333333333333,162]
["Male 85-89",0.1,0.12916666666666668,8.3333333333333343E-2,0.10416666666666669,0.1,6.6666666666666666E-2,0.10833333333333334,0.1125,8.7500000000000008E-2,0.1,8.7500000000000008E-2,0.125,9.1666666666666674E-2,0.10833333333333334,0.12916666666666668,0.10416666666666669,0.1125,0.125,0.10833333333333334,6.6666666666666666E-2,0.10416666666666669,0.1,0.14166666666666669,3.3333333333333333E-2,7.9166666666666663E-2,6.25E-2,7.5000000000000011E-2,0.12916666666666668,5.8333333333333341E-2,0.1,0.12916666666666668,7.5000000000000011E-2,0.13750000000000001,0.11666666666666668,0.1125,0.15833333333333333,0.10416666666666669,0.125,0.10416666666666669,0.12083333333333333,8.3333333333333343E-2,9.1666666666666674E-2,7.9166666666666663E-2,0.1,8.3333333333333343E-2,0.13333333333333333,0.12083333333333333,163]
["Male 90+",0.1,0.12916666666666668,8.3333333333333343E-2,0.10416666666666669,0.1,6.6666666666666666E-2,0.10833333333333334,0.1125,8.7500000000000008E-2,0.1,8.7500000000000008E-2,0.125,9.1666666666666674E-2,0.10833333333333334,0.12916666666666668,0.10416666666666669,0.1125,0.125,0.10833333333333334,6.6666666666666666E-2,0.10416666666666669,0.1,0.14166666666666669,3.3333333333333333E-2,7.9166666666666663E-2,6.25E-2,7.5000000000000011E-2,0.12916666666666668,5.8333333333333341E-2,0.1,0.12916666666666668,7.5000000000000011E-2,0.13750000000000001,0.11666666666666668,0.1125,0.15833333333333333,0.10416666666666669,0.125,0.10416666666666669,0.12083333333333333,{"$f":"AP$269*$B164","v":8.3333333333333343E-2},9.1666666666666674E-2,7.9166666666666663E-2,0.1,8.3333333333333343E-2,0.13333333333333333,0.12083333333333333,164]
["Female <1",null,null,null,null,null,null,null,null,null,null,null,null,null,null,null,null,null,null,null,null,null,null,null,null,null,null,null,null,null,null,null,null,null,null,null,null,null,null,null,null,null,null,null,null,null,null,null,165]
["Female 1-4",null,null,null,null,null,null,null,null,null,null,null,null,null,null,null,null,null,null,null,null,null,null,null,null,null,null,null,null,null,null,null,null,null,null,null,null,null,null,null,null,null,null,null,null,null,null,null,166]
["Female 5-9",null,null,null,null,null,null,null,null,null,null,null,null,null,null,null,null,null,null,null,null,null,null,null,null,null,null,null,null,null,null,null,null,null,null,null,null,null,null,null,null,null,null,null,null,null,null,null,167]
["Female 10-14",null,null,null,null,null,null,null,null,null,null,null,null,null,null,null,null,null,null,null,null,null,null,null,null,null,null,null,null,null,null,null,null,null,null,null,null,null,null,null,null,null,null,null,null,null,null,null,168]
["Female 15-19 (16+)",0.2,{"$f":"C$270*$B169","v":0.22727272727272729},{"$f":"D$270*$B169","v":0.11818181818181819},0.21818181818181817,0.19090909090909092,0.19090909090909092,0.19090909090909092,0.2,0.19090909090909092,0.20909090909090911,0.17272727272727273,0.13636363636363635,0.12727272727272729,0.20909090909090911,0.12727272727272729,0.19090909090909092,0.19090909090909092,0.16363636363636366,0.21818181818181817,0.25454545454545457,0.21818181818181817,0.29090909090909095,0.28181818181818186,9.0909090909090912E-2,0.21818181818181817,0.1,0.16363636363636366,0.12727272727272729,0.20909090909090911,0.19090909090909092,0.21818181818181817,0.18181818181818182,0.20909090909090911,0.24545454545454548,0.17272727272727273,0.24545454545454548,0.2,0.13636363636363635,0.16363636363636366,0.22727272727272729,0.11818181818181819,0.12727272727272729,0.14545454545454548,0.21818181818181817,0.13636363636363635,0.27272727272727271,0.14545454545454548,169]
["Female 20-24",0.2,{"$f":"C$270*$B170","v":0.22727272727272729},0.11818181818181819,0.21818181818181817,0.19090909090909092,0.19090909090909092,0.19090909090909092,0.2,0.19090909090909092,0.20909090909090911,0.17272727272727273,0.13636363636363635,0.12727272727272729,0.20909090909090911,0.12727272727272729,0.19090909090909092,0.19090909090909092,0.16363636363636366,0.21818181818181817,0.25454545454545457,0.21818181818181817,0.29090909090909095,0.28181818181818186,9.0909090909090912E-2,0.21818181818181817,0.1,0.16363636363636366,0.12727272727272729,0.20909090909090911,0.19090909090909092,0.21818181818181817,0.18181818181818182,0.20909090909090911,0.24545454545454548,0.17272727272727273,0.24545454545454548,0.2,0.13636363636363635,0.16363636363636366,0.22727272727272729,0.11818181818181819,0.12727272727272729,0.14545454545454548,0.21818181818181817,0.13636363636363635,0.27272727272727271,0.14545454545454548,170]
["Female 25-29",0.28999999999999998,0.32954545454545453,0.17136363636363636,0.31636363636363629,0.2768181818181818,0.2768181818181818,0.2768181818181818,0.28999999999999998,0.2768181818181818,0.30318181818181816,0.25045454545454543,0.1977272727272727,0.18454545454545454,0.30318181818181816,0.18454545454545454,0.2768181818181818,0.2768181818181818,0.23727272727272727,0.31636363636363629,0.36909090909090908,0.31636363636363629,0.42181818181818181,0.40863636363636363,0.13181818181818181,0.31636363636363629,0.14499999999999999,0.23727272727272727,0.18454545454545454,0.30318181818181816,0.2768181818181818,0.31636363636363629,0.26363636363636361,0.30318181818181816,0.3559090909090909,0.25045454545454543,0.3559090909090909,0.28999999999999998,0.1977272727272727,0.23727272727272727,0.32954545454545453,0.17136363636363636,0.18454545454545454,0.21090909090909091,0.31636363636363629,0.1977272727272727,0.39545454545454539,0.21090909090909091,171]
["Female 30-34",0.28999999999999998,0.32954545454545453,0.17136363636363636,0.31636363636363629,0.2768181818181818,0.2768181818181818,0.2768181818181818,0.28999999999999998,0.2768181818181818,0.30318181818181816,0.25045454545454543,0.1977272727272727,0.18454545454545454,0.30318181818181816,0.18454545454545454,0.2768181818181818,0.2768181818181818,0.23727272727272727,0.31636363636363629,0.36909090909090908,0.31636363636363629,0.42181818181818181,0.40863636363636363,0.13181818181818181,0.31636363636363629,0.14499999999999999,0.23727272727272727,0.18454545454545454,0.30318181818181816,0.2768181818181818,0.31636363636363629,0.26363636363636361,0.30318181818181816,0.3559090909090909,0.25045454545454543,0.3559090909090909,0.28999999999999998,0.1977272727272727,0.23727272727272727,0.32954545454545453,0.17136363636363636,0.18454545454545454,0.21090909090909091,0.31636363636363629,0.1977272727272727,0.39545454545454539,0.21090909090909091,172]
["Female 35-39",0.23,0.26136363636363641,0.13590909090909092,0.25090909090909091,0.21954545454545457,0.21954545454545457,0.21954545454545457,0.23,0.21954545454545457,0.24045454545454545,0.19863636363636364,0.1568181818181818,0.14636363636363636,0.24045454545454545,0.14636363636363636,0.21954545454545457,0.21954545454545457,0.1881818181818182,0.25090909090909091,0.29272727272727272,0.25090909090909091,0.33454545454545459,0.3240909090909091,0.10454545454545455,0.25090909090909091,0.115,0.1881818181818182,0.14636363636363636,0.24045454545454545,0.21954545454545457,0.25090909090909091,0.20909090909090911,0.24045454545454545,0.28227272727272729,0.19863636363636364,0.28227272727272729,0.23,0.1568181818181818,0.1881818181818182,0.26136363636363641,0.13590909090909092,0.14636363636363636,0.1672727272727273,0.25090909090909091,0.1568181818181818,0.3136363636363636,0.1672727272727273,173]
["Female 40-44",0.23,0.26136363636363641,0.13590909090909092,0.25090909090909091,0.21954545454545457,0.21954545454545457,0.21954545454545457,0.23,0.21954545454545457,0.24045454545454545,0.19863636363636364,0.1568181818181818,0.14636363636363636,0.24045454545454545,0.14636363636363636,0.21954545454545457,0.21954545454545457,0.1881818181818182,0.25090909090909091,0.29272727272727272,0.25090909090909091,0.33454545454545459,0.3240909090909091,0.10454545454545455,0.25090909090909091,0.115,0.1881818181818182,0.14636363636363636,0.24045454545454545,0.21954545454545457,0.25090909090909091,0.20909090909090911,0.24045454545454545,0.28227272727272729,0.19863636363636364,0.28227272727272729,0.23,0.1568181818181818,0.1881818181818182,0.26136363636363641,0.13590909090909092,0.14636363636363636,0.1672727272727273,0.25090909090909091,0.1568181818181818,0.3136363636363636,0.1672727272727273,174]
["Female 45-49",0.22,0.25,0.13,0.24,0.21000000000000002,0.21000000000000002,0.21000000000000002,0.22,0.21000000000000002,0.22999999999999998,0.19,0.15,0.13999999999999999,0.22999999999999998,0.13999999999999999,0.21000000000000002,0.21000000000000002,0.18000000000000002,0.24,0.27999999999999997,0.24,0.32,0.31,9.9999999999999992E-2,0.24,0.11,0.18000000000000002,0.13999999999999999,0.22999999999999998,0.21000000000000002,0.24,0.19999999999999998,0.22999999999999998,0.27,0.19,0.27,0.22,0.15,0.18000000000000002,0.25,0.13,0.13999999999999999,0.16,0.24,0.15,0.3,0.16,175]
["Female 50-54",0.22,0.25,0.13,0.24,0.21000000000000002,0.21000000000000002,0.21000000000000002,0.22,0.21000000000000002,0.22999999999999998,0.19,0.15,0.13999999999999999,0.22999999999999998,0.13999999999999999,0.21000000000000002,0.21000000000000002,0.18000000000000002,0.24,0.27999999999999997,0.24,0.32,0.31,9.9999999999999992E-2,0.24,0.11,0.18000000000000002,0.13999999999999999,0.22999999999999998,0.21000000000000002,0.24,0.19999999999999998,0.22999999999999998,0.27,0.19,{"$f":"AK$270*$B176","v":0.27},0.22,0.15,0.18000000000000002,0.25,0.13,0.13999999999999999,0.16,0.24,0.15,0.3,0.16,176]
["Female 55-59",0.22,0.25,0.13,0.24,0.21000000000000002,0.21000000000000002,0.21000000000000002,0.22,0.21000000000000002,0.22999999999999998,0.19,0.15,0.13999999999999999,0.22999999999999998,0.13999999999999999,0.21000000000000002,0.21000000000000002,0.18000000000000002,0.24,0.27999999999999997,0.24,0.32,0.31,9.9999999999999992E-2,0.24,0.11,0.18000000000000002,0.13999999999999999,0.22999999999999998,0.21000000000000002,0.24,0.19999999999999998,0.22999999999999998,0.27,0.19,0.27,0.22,0.15,0.18000000000000002,0.25,0.13,0.13999999999999999,0.16,0.24,0.15,0.3,0.16,177]
["Female 60-64",0.22,0.25,0.13,0.24,0.21000000000000002,0.21000000000000002,0.21000000000000002,0.22,0.21000000000000002,0.22999999999999998,0.19,0.15,0.13999999999999999,0.22999999999999998,0.13999999999999999,0.21000000000000002,0.21000000000000002,0.18000000000000002,0.24,0.27999999999999997,0.24,0.32,0.31,9.9999999999999992E-2,0.24,0.11,0.18000000000000002,0.13999999999999999,0.22999999999999998,0.21000000000000002,0.24,0.19999999999999998,0.22999999999999998,0.27,0.19,0.27,0.22,0.15,0.18000000000000002,0.25,0.13,0.13999999999999999,0.16,0.24,0.15,0.3,0.16,178]
["Female 65-69",0.17,{"$f":"C$270*$B179","v":0.1931818181818182},0.10045454545454546,0.18545454545454546,0.16227272727272729,0.16227272727272729,0.16227272727272729,0.17,0.16227272727272729,0.17772727272727273,0.14681818181818182,0.11590909090909091,0.10818181818181818,0.17772727272727273,0.10818181818181818,0.16227272727272729,0.16227272727272729,0.1390909090909091,0.18545454545454546,0.21636363636363637,{"$f":"V$270*$B179","v":0.18545454545454546},0.24727272727272731,0.23954545454545459,7.7272727272727271E-2,0.18545454545454546,8.5000000000000006E-2,0.1390909090909091,0.10818181818181818,0.17772727272727273,0.16227272727272729,0.18545454545454546,0.15454545454545454,0.17772727272727273,0.20863636363636365,0.14681818181818182,{"$f":"AK$270*$B179","v":0.20863636363636365},0.17,0.11590909090909091,0.1390909090909091,0.1931818181818182,0.10045454545454546,0.10818181818181818,0.12363636363636366,0.18545454545454546,0.11590909090909091,0.23181818181818181,0.12363636363636366,179]
["Female 70-74",0.17,{"$f":"C$270*$B180","v":0.1931818181818182},0.10045454545454546,0.18545454545454546,0.16227272727272729,0.16227272727272729,0.16227272727272729,0.17,0.16227272727272729,0.17772727272727273,0.14681818181818182,0.11590909090909091,0.10818181818181818,0.17772727272727273,0.10818181818181818,0.16227272727272729,0.16227272727272729,0.1390909090909091,0.18545454545454546,0.21636363636363637,0.18545454545454546,0.24727272727272731,0.23954545454545459,7.7272727272727271E-2,0.18545454545454546,8.5000000000000006E-2,0.1390909090909091,0.10818181818181818,0.17772727272727273,0.16227272727272729,0.18545454545454546,0.15454545454545454,0.17772727272727273,0.20863636363636365,0.14681818181818182,0.20863636363636365,0.17,0.11590909090909091,0.1390909090909091,0.1931818181818182,0.10045454545454546,0.10818181818181818,0.12363636363636366,0.18545454545454546,0.11590909090909091,0.23181818181818181,0.12363636363636366,180]
["Female 75-79",0.08,9.0909090909090925E-2,4.7272727272727279E-2,8.7272727272727266E-2,7.636363636363637E-2,7.636363636363637E-2,7.636363636363637E-2,0.08,7.636363636363637E-2,8.3636363636363634E-2,6.9090909090909092E-2,5.4545454545454543E-2,5.0909090909090911E-2,8.3636363636363634E-2,5.0909090909090911E-2,7.636363636363637E-2,7.636363636363637E-2,6.545454545454546E-2,8.7272727272727266E-2,0.10181818181818182,8.7272727272727266E-2,0.11636363636363636,0.11272727272727273,3.6363636363636362E-2,8.7272727272727266E-2,0.04,6.545454545454546E-2,5.0909090909090911E-2,8.3636363636363634E-2,7.636363636363637E-2,8.7272727272727266E-2,7.2727272727272724E-2,8.3636363636363634E-2,9.818181818181819E-2,6.9090909090909092E-2,9.818181818181819E-2,0.08,5.4545454545454543E-2,6.545454545454546E-2,9.0909090909090925E-2,4.7272727272727279E-2,5.0909090909090911E-2,5.8181818181818182E-2,8.7272727272727266E-2,5.4545454545454543E-2,0.10909090909090909,5.8181818181818182E-2,181]
["Female 80-84",0.08,9.0909090909090925E-2,4.7272727272727279E-2,8.7272727272727266E-2,7.636363636363637E-2,7.636363636363637E-2,7.636363636363637E-2,0.08,7.636363636363637E-2,8.3636363636363634E-2,6.9090909090909092E-2,5.4545454545454543E-2,5.0909090909090911E-2,8.3636363636363634E-2,5.0909090909090911E-2,7.636363636363637E-2,7.636363636363637E-2,6.545454545454546E-2,8.7272727272727266E-2,0.10181818181818182,8.7272727272727266E-2,0.11636363636363636,0.11272727272727273,3.6363636363636362E-2,8.7272727272727266E-2,0.04,6.545454545454546E-2,5.0909090909090911E-2,8.3636363636363634E-2,7.636363636363637E-2,8.7272727272727266E-2,7.2727272727272724E-2,8.3636363636363634E-2,9.818181818181819E-2,6.9090909090909092E-2,9.818181818181819E-2,0.08,5.4545454545454543E-2,6.545454545454546E-2,9.0909090909090925E-2,4.7272727272727279E-2,5.0909090909090911E-2,5.8181818181818182E-2,8.7272727272727266E-2,5.4545454545454543E-2,0.10909090909090909,5.8181818181818182E-2,182]
["Female 85-89",0.08,9.0909090909090925E-2,4.7272727272727279E-2,8.7272727272727266E-2,7.636363636363637E-2,7.636363636363637E-2,7.636363636363637E-2,0.08,7.636363636363637E-2,8.3636363636363634E-2,6.9090909090909092E-2,5.4545454545454543E-2,5.0909090909090911E-2,8.3636363636363634E-2,5.0909090909090911E-2,7.636363636363637E-2,7.636363636363637E-2,6.545454545454546E-2,8.7272727272727266E-2,0.10181818181818182,8.7272727272727266E-2,0.11636363636363636,0.11272727272727273,3.6363636363636362E-2,8.7272727272727266E-2,0.04,6.545454545454546E-2,5.0909090909090911E-2,8.3636363636363634E-2,7.636363636363637E-2,8.7272727272727266E-2,7.2727272727272724E-2,8.3636363636363634E-2,9.818181818181819E-2,6.9090909090909092E-2,9.818181818181819E-2,0.08,5.4545454545454543E-2,6.545454545454546E-2,9.0909090909090925E-2,4.7272727272727279E-2,5.0909090909090911E-2,5.8181818181818182E-2,8.7272727272727266E-2,5.4545454545454543E-2,0.10909090909090909,5.8181818181818182E-2,183]
["Female 90+",0.08,9.0909090909090925E-2,4.7272727272727279E-2,8.7272727272727266E-2,7.636363636363637E-2,7.636363636363637E-2,7.636363636363637E-2,0.08,7.636363636363637E-2,8.3636363636363634E-2,6.9090909090909092E-2,5.4545454545454543E-2,5.0909090909090911E-2,8.3636363636363634E-2,5.0909090909090911E-2,7.636363636363637E-2,7.636363636363637E-2,6.545454545454546E-2,8.7272727272727266E-2,0.10181818181818182,8.7272727272727266E-2,0.11636363636363636,0.11272727272727273,3.6363636363636362E-2,8.7272727272727266E-2,0.04,6.545454545454546E-2,5.0909090909090911E-2,8.3636363636363634E-2,7.636363636363637E-2,8.7272727272727266E-2,7.2727272727272724E-2,8.3636363636363634E-2,9.818181818181819E-2,6.9090909090909092E-2,9.818181818181819E-2,0.08,5.4545454545454543E-2,6.545454545454546E-2,9.0909090909090925E-2,{"$f":"AP$270*$B184","v":4.7272727272727279E-2},5.0909090909090911E-2,5.8181818181818182E-2,8.7272727272727266E-2,5.4545454545454543E-2,0.10909090909090909,5.8181818181818182E-2,184]
["age/sex breakdown: Q4",null,null,null,null,null,null,null,null,null,null,null,null,null,null,null,null,null,null,null,null,null,null,null,null,null,null,null,null,null,null,null,null,null,null,null,null,null,null,null,null,null,null,null,null,null,null,null,185]
["Male <1",null,null,null,null,null,null,null,null,null,null,null,null,null,null,null,null,null,null,null,null,null,null,null,null,null,null,null,null,null,null,null,null,null,null,null,null,null,null,null,null,null,null,null,null,null,null,null,186]
["Male 1-4",null,null,null,null,null,null,null,null,null,null,null,null,null,null,null,null,null,null,null,null,null,null,null,null,null,null,null,null,null,null,null,null,null,null,null,null,null,null,null,null,null,null,null,null,null,null,null,187]
["Male 5-9",null,null,null,null,null,null,null,null,null,null,null,null,null,null,null,null,null,null,null,null,null,null,null,null,null,null,null,null,null,null,null,null,null,null,null,null,null,null,null,null,null,null,null,null,null,null,null,188]
["Male 10-14",null,null,null,null,null,null,null,null,null,null,null,null,null,null,null,null,null,null,null,null,null,null,null,null,null,null,null,null,null,null,null,null,null,null,null,null,null,null,null,null,null,null,null,null,null,null,null,189]
["Male 15-19 (16+)",0.2,{"$f":"C$269*$B190","v":0.25833333333333336},{"$f":"D$269*$B190","v":0.16666666666666669},0.20833333333333337,0.2,0.13333333333333333,0.21666666666666667,0.22500000000000001,0.17500000000000002,0.2,0.17500000000000002,0.25,0.18333333333333335,0.21666666666666667,0.25833333333333336,0.20833333333333337,0.22500000000000001,0.25,0.21666666666666667,0.13333333333333333,0.20833333333333337,0.2,0.28333333333333338,6.6666666666666666E-2,0.15833333333333333,0.125,0.15000000000000002,0.25833333333333336,0.11666666666666668,0.2,0.25833333333333336,0.15000000000000002,0.27500000000000002,0.23333333333333336,0.22500000000000001,0.31666666666666665,0.20833333333333337,0.25,0.20833333333333337,0.24166666666666667,0.16666666666666669,0.18333333333333335,0.15833333333333333,0.2,0.16666666666666669,0.26666666666666666,0.24166666666666667,190]
["Male 20-24",0.2,{"$f":"C$269*$B191","v":0.25833333333333336},{"$f":"D$269*$B191","v":0.16666666666666669},0.20833333333333337,0.2,0.13333333333333333,0.21666666666666667,0.22500000000000001,0.17500000000000002,0.2,0.17500000000000002,0.25,0.18333333333333335,0.21666666666666667,0.25833333333333336,0.20833333333333337,0.22500000000000001,0.25,0.21666666666666667,0.13333333333333333,0.20833333333333337,0.2,0.28333333333333338,6.6666666666666666E-2,0.15833333333333333,0.125,0.15000000000000002,0.25833333333333336,0.11666666666666668,0.2,0.25833333333333336,0.15000000000000002,0.27500000000000002,0.23333333333333336,0.22500000000000001,0.31666666666666665,0.20833333333333337,0.25,0.20833333333333337,0.24166666666666667,0.16666666666666669,0.18333333333333335,0.15833333333333333,0.2,0.16666666666666669,0.26666666666666666,0.24166666666666667,191]
["Male 25-29",0.28000000000000003,0.36166666666666675,0.23333333333333336,0.29166666666666674,0.28000000000000003,0.18666666666666668,0.30333333333333334,0.31500000000000006,0.24500000000000002,0.28000000000000003,0.24500000000000002,0.35000000000000003,0.25666666666666665,0.30333333333333334,0.36166666666666675,0.29166666666666674,0.31500000000000006,0.35000000000000003,0.30333333333333334,0.18666666666666668,0.29166666666666674,0.28000000000000003,0.39666666666666672,9.3333333333333338E-2,0.22166666666666668,0.17500000000000002,0.21000000000000002,0.36166666666666675,0.16333333333333336,0.28000000000000003,0.36166666666666675,0.21000000000000002,0.38500000000000001,0.32666666666666672,0.31500000000000006,0.44333333333333336,0.29166666666666674,0.35000000000000003,0.29166666666666674,0.33833333333333332,0.23333333333333336,0.25666666666666665,0.22166666666666668,0.28000000000000003,0.23333333333333336,0.37333333333333335,0.33833333333333332,192]
["Male 30-34",0.28000000000000003,0.36166666666666675,0.23333333333333336,0.29166666666666674,0.28000000000000003,0.18666666666666668,0.30333333333333334,0.31500000000000006,0.24500000000000002,0.28000000000000003,0.24500000000000002,0.35000000000000003,0.25666666666666665,0.30333333333333334,0.36166666666666675,0.29166666666666674,0.31500000000000006,0.35000000000000003,0.30333333333333334,0.18666666666666668,0.29166666666666674,0.28000000000000003,0.39666666666666672,9.3333333333333338E-2,0.22166666666666668,0.17500000000000002,0.21000000000000002,0.36166666666666675,0.16333333333333336,0.28000000000000003,0.36166666666666675,0.21000000000000002,0.38500000000000001,0.32666666666666672,0.31500000000000006,0.44333333333333336,0.29166666666666674,0.35000000000000003,0.29166666666666674,0.33833333333333332,0.23333333333333336,0.25666666666666665,0.22166666666666668,0.28000000000000003,0.23333333333333336,0.37333333333333335,0.33833333333333332,193]
["Male 35-39",0.26,0.33583333333333337,0.21666666666666667,0.27083333333333337,0.26,0.17333333333333334,0.28166666666666668,0.29249999999999998,0.22750000000000001,0.26,0.22750000000000001,0.32500000000000001,0.23833333333333334,0.28166666666666668,0.33583333333333337,0.27083333333333337,0.29249999999999998,0.32500000000000001,0.28166666666666668,0.17333333333333334,0.27083333333333337,0.26,0.36833333333333335,8.666666666666667E-2,0.20583333333333334,0.16250000000000001,0.19500000000000001,0.33583333333333337,0.15166666666666667,0.26,0.33583333333333337,0.19500000000000001,0.35750000000000004,0.30333333333333334,0.29249999999999998,0.41166666666666668,0.27083333333333337,0.32500000000000001,0.27083333333333337,0.31416666666666665,0.21666666666666667,0.23833333333333334,0.20583333333333334,0.26,0.21666666666666667,0.34666666666666668,0.31416666666666665,194]
["Male 40-44",0.26,0.33583333333333337,0.21666666666666667,0.27083333333333337,0.26,0.17333333333333334,0.28166666666666668,0.29249999999999998,0.22750000000000001,0.26,0.22750000000000001,0.32500000000000001,0.23833333333333334,0.28166666666666668,0.33583333333333337,0.27083333333333337,0.29249999999999998,0.32500000000000001,0.28166666666666668,0.17333333333333334,0.27083333333333337,0.26,0.36833333333333335,8.666666666666667E-2,0.20583333333333334,0.16250000000000001,0.19500000000000001,0.33583333333333337,0.15166666666666667,0.26,0.33583333333333337,0.19500000000000001,0.35750000000000004,0.30333333333333334,0.29249999999999998,0.41166666666666668,0.27083333333333337,0.32500000000000001,0.27083333333333337,0.31416666666666665,0.21666666666666667,0.23833333333333334,0.20583333333333334,0.26,0.21666666666666667,0.34666666666666668,0.31416666666666665,195]
["Male 45-49",0.24,0.31,0.2,0.25,0.24,0.15999999999999998,0.25999999999999995,0.27,0.21,0.24,0.21,0.3,0.21999999999999997,0.25999999999999995,0.31,0.25,0.27,0.3,0.25999999999999995,0.15999999999999998,0.25,0.24,0.34,7.9999999999999988E-2,0.18999999999999997,0.15,0.18,0.31,0.14000000000000001,0.24,0.31,0.18,0.32999999999999996,0.28000000000000003,0.27,0.37999999999999995,0.25,0.3,0.25,0.28999999999999998,0.2,0.21999999999999997,0.18999999999999997,0.24,0.2,0.31999999999999995,0.28999999999999998,196]
["Male 50-54",0.24,0.31,0.2,0.25,0.24,0.15999999999999998,0.25999999999999995,{"$f":"I$269*$B197","v":0.27},0.21,0.24,0.21,0.3,0.21999999999999997,0.25999999999999995,0.31,0.25,0.27,0.3,0.25999999999999995,0.15999999999999998,0.25,0.24,0.34,7.9999999999999988E-2,0.18999999999999997,0.15,0.18,0.31,0.14000000000000001,0.24,0.31,0.18,0.32999999999999996,0.28000000000000003,0.27,{"$f":"AK$269*$B197","v":0.37999999999999995},0.25,0.3,0.25,0.28999999999999998,0.2,0.21999999999999997,0.18999999999999997,0.24,0.2,0.31999999999999995,0.28999999999999998,197]
["Male 55-59",0.24,0.31,0.2,0.25,0.24,0.15999999999999998,0.25999999999999995,0.27,0.21,0.24,0.21,0.3,0.21999999999999997,0.25999999999999995,0.31,0.25,0.27,0.3,0.25999999999999995,0.15999999999999998,0.25,0.24,0.34,7.9999999999999988E-2,0.18999999999999997,0.15,0.18,0.31,0.14000000000000001,0.24,0.31,0.18,0.32999999999999996,0.28000000000000003,0.27,0.37999999999999995,0.25,0.3,0.25,0.28999999999999998,0.2,0.21999999999999997,0.18999999999999997,0.24,0.2,0.31999999999999995,0.28999999999999998,198]
["Male 60-64",0.24,0.31,0.2,0.25,0.24,0.15999999999999998,0.25999999999999995,0.27,0.21,0.24,0.21,0.3,0.21999999999999997,0.25999999999999995,0.31,0.25,0.27,0.3,0.25999999999999995,0.15999999999999998,0.25,0.24,0.34,7.9999999999999988E-2,0.18999999999999997,0.15,0.18,0.31,0.14000000000000001,0.24,0.31,0.18,0.32999999999999996,0.28000000000000003,0.27,0.37999999999999995,0.25,0.3,0.25,0.28999999999999998,0.2,0.21999999999999997,0.18999999999999997,0.24,0.2,0.31999999999999995,0.28999999999999998,199]
["Male 65-69",0.15,0.19375000000000001,0.125,0.15625,0.15,9.9999999999999992E-2,0.16249999999999998,0.16874999999999998,0.13125000000000001,0.15,0.13125000000000001,0.1875,0.13749999999999998,0.16249999999999998,0.19375000000000001,0.15625,0.16874999999999998,0.1875,0.16249999999999998,9.9999999999999992E-2,0.15625,0.15,0.21249999999999999,4.9999999999999996E-2,0.11874999999999999,9.375E-2,0.11249999999999999,0.19375000000000001,8.7500000000000008E-2,0.15,0.19375000000000001,0.11249999999999999,0.20624999999999999,0.17500000000000002,0.16874999999999998,0.23749999999999999,0.15625,0.1875,0.15625,0.18124999999999999,0.125,0.13749999999999998,0.11874999999999999,0.15,0.125,0.19999999999999998,0.18124999999999999,200]
["Male 70-74",0.15,0.19375000000000001,0.125,0.15625,0.15,9.9999999999999992E-2,0.16249999999999998,0.16874999999999998,0.13125000000000001,0.15,0.13125000000000001,0.1875,0.13749999999999998,0.16249999999999998,0.19375000000000001,0.15625,0.16874999999999998,0.1875,0.16249999999999998,9.9999999999999992E-2,0.15625,0.15,0.21249999999999999,4.9999999999999996E-2,0.11874999999999999,9.375E-2,0.11249999999999999,0.19375000000000001,8.7500000000000008E-2,0.15,0.19375000000000001,0.11249999999999999,0.20624999999999999,0.17500000000000002,0.16874999999999998,0.23749999999999999,0.15625,0.1875,0.15625,0.18124999999999999,0.125,0.13749999999999998,0.11874999999999999,0.15,0.125,0.19999999999999998,0.18124999999999999,201]
["Male 75-79",0.04,5.1666666666666673E-2,3.3333333333333333E-2,4.1666666666666671E-2,0.04,2.6666666666666665E-2,4.3333333333333328E-2,4.4999999999999998E-2,3.5000000000000003E-2,0.04,3.5000000000000003E-2,0.05,3.6666666666666667E-2,4.3333333333333328E-2,5.1666666666666673E-2,4.1666666666666671E-2,4.4999999999999998E-2,0.05,4.3333333333333328E-2,2.6666666666666665E-2,4.1666666666666671E-2,0.04,5.6666666666666671E-2,1.3333333333333332E-2,3.1666666666666662E-2,2.5000000000000001E-2,0.03,5.1666666666666673E-2,2.3333333333333334E-2,0.04,5.1666666666666673E-2,0.03,5.5E-2,4.6666666666666669E-2,4.4999999999999998E-2,6.3333333333333325E-2,4.1666666666666671E-2,0.05,4.1666666666666671E-2,4.8333333333333332E-2,3.3333333333333333E-2,3.6666666666666667E-2,3.1666666666666662E-2,0.04,3.3333333333333333E-2,5.333333333333333E-2,4.8333333333333332E-2,202]
["Male 80-84",0.04,5.1666666666666673E-2,3.3333333333333333E-2,4.1666666666666671E-2,0.04,2.6666666666666665E-2,4.3333333333333328E-2,4.4999999999999998E-2,3.5000000000000003E-2,0.04,3.5000000000000003E-2,0.05,3.6666666666666667E-2,4.3333333333333328E-2,5.1666666666666673E-2,4.1666666666666671E-2,4.4999999999999998E-2,0.05,4.3333333333333328E-2,2.6666666666666665E-2,4.1666666666666671E-2,0.04,5.6666666666666671E-2,1.3333333333333332E-2,3.1666666666666662E-2,2.5000000000000001E-2,0.03,5.1666666666666673E-2,2.3333333333333334E-2,0.04,5.1666666666666673E-2,0.03,5.5E-2,4.6666666666666669E-2,4.4999999999999998E-2,6.3333333333333325E-2,4.1666666666666671E-2,0.05,4.1666666666666671E-2,4.8333333333333332E-2,3.3333333333333333E-2,3.6666666666666667E-2,3.1666666666666662E-2,0.04,3.3333333333333333E-2,5.333333333333333E-2,4.8333333333333332E-2,203]
["Male 85-89",0.04,5.1666666666666673E-2,3.3333333333333333E-2,4.1666666666666671E-2,0.04,2.6666666666666665E-2,4.3333333333333328E-2,4.4999999999999998E-2,3.5000000000000003E-2,0.04,3.5000000000000003E-2,0.05,3.6666666666666667E-2,4.3333333333333328E-2,5.1666666666666673E-2,4.1666666666666671E-2,4.4999999999999998E-2,0.05,4.3333333333333328E-2,2.6666666666666665E-2,4.1666666666666671E-2,0.04,5.6666666666666671E-2,1.3333333333333332E-2,3.1666666666666662E-2,2.5000000000000001E-2,0.03,5.1666666666666673E-2,2.3333333333333334E-2,0.04,5.1666666666666673E-2,0.03,5.5E-2,4.6666666666666669E-2,4.4999999999999998E-2,6.3333333333333325E-2,4.1666666666666671E-2,0.05,4.1666666666666671E-2,4.8333333333333332E-2,3.3333333333333333E-2,3.6666666666666667E-2,3.1666666666666662E-2,0.04,3.3333333333333333E-2,5.333333333333333E-2,4.8333333333333332E-2,204]
["Male 90+",0.04,5.1666666666666673E-2,3.3333333333333333E-2,4.1666666666666671E-2,0.04,2.6666666666666665E-2,4.3333333333333328E-2,4.4999999999999998E-2,3.5000000000000003E-2,0.04,3.5000000000000003E-2,0.05,3.6666666666666667E-2,4.3333333333333328E-2,5.1666666666666673E-2,4.1666666666666671E-2,4.4999999999999998E-2,0.05,4.3333333333333328E-2,2.6666666666666665E-2,4.1666666666666671E-2,0.04,5.6666666666666671E-2,1.3333333333333332E-2,3.1666666666666662E-2,2.5000000000000001E-2,0.03,5.1666666666666673E-2,2.3333333333333334E-2,0.04,5.1666666666666673E-2,0.03,5.5E-2,4.6666666666666669E-2,{"$f":"AJ$269*$B205","v":4.4999999999999998E-2},6.3333333333333325E-2,4.1666666666666671E-2,0.05,4.1666666666666671E-2,4.8333333333333332E-2,3.3333333333333333E-2,3.6666666666666667E-2,3.1666666666666662E-2,0.04,3.3333333333333333E-2,5.333333333333333E-2,4.8333333333333332E-2,205]
["Female <1",null,null,null,null,null,null,null,null,null,null,null,null,null,null,null,null,null,null,null,null,null,null,null,null,null,null,null,null,null,null,null,null,null,null,null,null,null,null,null,null,null,null,null,null,null,null,null,206]
["Female 1-4",null,null,null,null,null,null,null,null,null,null,null,null,null,null,null,null,null,null,null,null,null,null,null,null,null,null,null,null,null,null,null,null,null,null,null,null,null,null,null,null,null,null,null,null,null,null,null,207]
["Female 5-9",null,null,null,null,null,null,null,null,null,null,null,null,null,null,null,null,null,null,null,null,null,null,null,null,null,null,null,null,null,null,null,null,null,null,null,null,null,null,null,null,null,null,null,null,null,null,null,208]
["Female 10-14",null,null,null,null,null,null,null,null,null,null,null,null,null,null,null,null,null,null,null,null,null,null,null,null,null,null,null,null,null,null,null,null,null,null,null,null,null,null,null,null,null,null,null,null,null,null,null,209]
["Female 15-19 (16+)",0.12,{"$f":"C$270*$B210","v":0.13636363636363638},{"$f":"D$270*$B210","v":7.0909090909090908E-2},0.13090909090909089,0.11454545454545455,0.11454545454545455,0.11454545454545455,0.12,0.11454545454545455,0.12545454545454546,0.10363636363636364,8.1818181818181804E-2,7.6363636363636356E-2,0.12545454545454546,7.6363636363636356E-2,0.11454545454545455,0.11454545454545455,9.818181818181819E-2,0.13090909090909089,0.15272727272727271,0.13090909090909089,0.17454545454545453,0.1690909090909091,5.4545454545454543E-2,0.13090909090909089,0.06,9.818181818181819E-2,7.6363636363636356E-2,0.12545454545454546,0.11454545454545455,0.13090909090909089,0.10909090909090909,0.12545454545454546,0.14727272727272728,0.10363636363636364,0.14727272727272728,0.12,8.1818181818181804E-2,9.818181818181819E-2,0.13636363636363638,7.0909090909090908E-2,7.6363636363636356E-2,8.7272727272727266E-2,0.13090909090909089,8.1818181818181804E-2,0.16363636363636361,8.7272727272727266E-2,210]
["Female 20-24",0.12,{"$f":"C$270*$B211","v":0.13636363636363638},7.0909090909090908E-2,0.13090909090909089,0.11454545454545455,0.11454545454545455,0.11454545454545455,0.12,0.11454545454545455,0.12545454545454546,0.10363636363636364,8.1818181818181804E-2,7.6363636363636356E-2,0.12545454545454546,7.6363636363636356E-2,0.11454545454545455,0.11454545454545455,9.818181818181819E-2,0.13090909090909089,0.15272727272727271,0.13090909090909089,0.17454545454545453,0.1690909090909091,5.4545454545454543E-2,0.13090909090909089,0.06,9.818181818181819E-2,7.6363636363636356E-2,0.12545454545454546,0.11454545454545455,0.13090909090909089,0.10909090909090909,0.12545454545454546,0.14727272727272728,0.10363636363636364,0.14727272727272728,0.12,8.1818181818181804E-2,9.818181818181819E-2,0.13636363636363638,7.0909090909090908E-2,7.6363636363636356E-2,8.7272727272727266E-2,0.13090909090909089,8.1818181818181804E-2,0.16363636363636361,8.7272727272727266E-2,211]
["Female 25-29",0.14000000000000001,0.15909090909090912,8.2727272727272733E-2,0.15272727272727274,0.13363636363636366,0.13363636363636366,0.13363636363636366,0.14000000000000001,0.13363636363636366,0.14636363636363636,0.12090909090909092,9.5454545454545459E-2,8.9090909090909096E-2,0.14636363636363636,8.9090909090909096E-2,0.13363636363636366,0.13363636363636366,0.11454545454545456,0.15272727272727274,0.17818181818181819,0.15272727272727274,0.20363636363636367,0.19727272727272729,6.3636363636363644E-2,0.15272727272727274,7.0000000000000007E-2,0.11454545454545456,8.9090909090909096E-2,0.14636363636363636,0.13363636363636366,0.15272727272727274,0.12727272727272729,0.14636363636363636,0.17181818181818184,0.12090909090909092,0.17181818181818184,0.14000000000000001,9.5454545454545459E-2,0.11454545454545456,0.15909090909090912,8.2727272727272733E-2,8.9090909090909096E-2,0.10181818181818184,0.15272727272727274,9.5454545454545459E-2,0.19090909090909092,0.10181818181818184,212]
["Female 30-34",0.14000000000000001,0.15909090909090912,8.2727272727272733E-2,0.15272727272727274,0.13363636363636366,0.13363636363636366,0.13363636363636366,0.14000000000000001,0.13363636363636366,0.14636363636363636,0.12090909090909092,9.5454545454545459E-2,8.9090909090909096E-2,0.14636363636363636,8.9090909090909096E-2,0.13363636363636366,0.13363636363636366,0.11454545454545456,0.15272727272727274,0.17818181818181819,0.15272727272727274,0.20363636363636367,0.19727272727272729,6.3636363636363644E-2,0.15272727272727274,7.0000000000000007E-2,0.11454545454545456,8.9090909090909096E-2,0.14636363636363636,0.13363636363636366,0.15272727272727274,0.12727272727272729,0.14636363636363636,0.17181818181818184,0.12090909090909092,0.17181818181818184,0.14000000000000001,9.5454545454545459E-2,0.11454545454545456,0.15909090909090912,8.2727272727272733E-2,8.9090909090909096E-2,0.10181818181818184,0.15272727272727274,9.5454545454545459E-2,0.19090909090909092,0.10181818181818184,213]
["Female 35-39",0.21,0.23863636363636365,0.1240909090909091,0.22909090909090907,0.20045454545454547,0.20045454545454547,0.20045454545454547,0.21,0.20045454545454547,0.21954545454545452,0.18136363636363637,0.14318181818181816,0.13363636363636364,0.21954545454545452,0.13363636363636364,0.20045454545454547,0.20045454545454547,0.17181818181818181,0.22909090909090907,0.26727272727272727,0.22909090909090907,0.30545454545454548,0.2959090909090909,9.5454545454545445E-2,0.22909090909090907,0.105,0.17181818181818181,0.13363636363636364,0.21954545454545452,0.20045454545454547,0.22909090909090907,0.19090909090909089,0.21954545454545452,0.25772727272727275,0.18136363636363637,0.25772727272727275,0.21,0.14318181818181816,0.17181818181818181,0.23863636363636365,0.1240909090909091,0.13363636363636364,0.15272727272727274,0.22909090909090907,0.14318181818181816,0.28636363636363632,0.15272727272727274,214]
["Female 40-44",0.21,0.23863636363636365,0.1240909090909091,0.22909090909090907,0.20045454545454547,0.20045454545454547,0.20045454545454547,0.21,0.20045454545454547,0.21954545454545452,0.18136363636363637,0.14318181818181816,0.13363636363636364,0.21954545454545452,0.13363636363636364,0.20045454545454547,0.20045454545454547,0.17181818181818181,0.22909090909090907,0.26727272727272727,0.22909090909090907,0.30545454545454548,0.2959090909090909,9.5454545454545445E-2,0.22909090909090907,0.105,0.17181818181818181,0.13363636363636364,0.21954545454545452,0.20045454545454547,0.22909090909090907,0.19090909090909089,0.21954545454545452,0.25772727272727275,0.18136363636363637,0.25772727272727275,0.21,0.14318181818181816,0.17181818181818181,0.23863636363636365,0.1240909090909091,0.13363636363636364,0.15272727272727274,0.22909090909090907,0.14318181818181816,0.28636363636363632,0.15272727272727274,215]
["Female 45-49",0.2,0.22727272727272729,0.11818181818181819,0.21818181818181817,0.19090909090909092,0.19090909090909092,0.19090909090909092,0.2,0.19090909090909092,0.20909090909090911,0.17272727272727273,0.13636363636363635,0.12727272727272729,0.20909090909090911,0.12727272727272729,0.19090909090909092,0.19090909090909092,0.16363636363636366,0.21818181818181817,0.25454545454545457,0.21818181818181817,0.29090909090909095,0.28181818181818186,9.0909090909090912E-2,0.21818181818181817,0.1,0.16363636363636366,0.12727272727272729,0.20909090909090911,0.19090909090909092,0.21818181818181817,0.18181818181818182,0.20909090909090911,0.24545454545454548,0.17272727272727273,0.24545454545454548,0.2,0.13636363636363635,0.16363636363636366,0.22727272727272729,0.11818181818181819,0.12727272727272729,0.14545454545454548,0.21818181818181817,0.13636363636363635,0.27272727272727271,0.14545454545454548,216]
["Female 50-54",0.2,0.22727272727272729,0.11818181818181819,0.21818181818181817,0.19090909090909092,0.19090909090909092,0.19090909090909092,0.2,0.19090909090909092,0.20909090909090911,0.17272727272727273,0.13636363636363635,0.12727272727272729,0.20909090909090911,0.12727272727272729,0.19090909090909092,0.19090909090909092,0.16363636363636366,0.21818181818181817,0.25454545454545457,0.21818181818181817,0.29090909090909095,0.28181818181818186,9.0909090909090912E-2,0.21818181818181817,0.1,0.16363636363636366,0.12727272727272729,0.20909090909090911,0.19090909090909092,0.21818181818181817,0.18181818181818182,0.20909090909090911,0.24545454545454548,0.17272727272727273,{"$f":"AK$270*$B217","v":0.24545454545454548},0.2,0.13636363636363635,0.16363636363636366,0.22727272727272729,0.11818181818181819,0.12727272727272729,0.14545454545454548,0.21818181818181817,0.13636363636363635,0.27272727272727271,0.14545454545454548,217]
["Female 55-59",0.14000000000000001,0.15909090909090912,8.2727272727272733E-2,0.15272727272727274,0.13363636363636366,0.13363636363636366,0.13363636363636366,0.14000000000000001,0.13363636363636366,0.14636363636363636,0.12090909090909092,9.5454545454545459E-2,8.9090909090909096E-2,0.14636363636363636,8.9090909090909096E-2,0.13363636363636366,0.13363636363636366,0.11454545454545456,0.15272727272727274,0.17818181818181819,0.15272727272727274,0.20363636363636367,0.19727272727272729,6.3636363636363644E-2,0.15272727272727274,7.0000000000000007E-2,0.11454545454545456,8.9090909090909096E-2,0.14636363636363636,0.13363636363636366,0.15272727272727274,0.12727272727272729,0.14636363636363636,0.17181818181818184,0.12090909090909092,0.17181818181818184,0.14000000000000001,9.5454545454545459E-2,0.11454545454545456,0.15909090909090912,8.2727272727272733E-2,8.9090909090909096E-2,0.10181818181818184,0.15272727272727274,9.5454545454545459E-2,0.19090909090909092,0.10181818181818184,218]
["Female 60-64",0.14000000000000001,0.15909090909090912,8.2727272727272733E-2,0.15272727272727274,0.13363636363636366,0.13363636363636366,0.13363636363636366,0.14000000000000001,0.13363636363636366,0.14636363636363636,0.12090909090909092,9.5454545454545459E-2,8.9090909090909096E-2,0.14636363636363636,8.9090909090909096E-2,0.13363636363636366,0.13363636363636366,0.11454545454545456,0.15272727272727274,0.17818181818181819,0.15272727272727274,0.20363636363636367,0.19727272727272729,6.3636363636363644E-2,0.15272727272727274,7.0000000000000007E-2,0.11454545454545456,8.9090909090909096E-2,0.14636363636363636,0.13363636363636366,0.15272727272727274,0.12727272727272729,0.14636363636363636,0.17181818181818184,0.12090909090909092,0.17181818181818184,0.14000000000000001,9.5454545454545459E-2,0.11454545454545456,0.15909090909090912,8.2727272727272733E-2,8.9090909090909096E-2,0.10181818181818184,0.15272727272727274,9.5454545454545459E-2,0.19090909090909092,0.10181818181818184,219]
["Female 65-69",0.12,{"$f":"C$270*$B220","v":0.13636363636363638},7.0909090909090908E-2,0.13090909090909089,0.11454545454545455,0.11454545454545455,0.11454545454545455,0.12,0.11454545454545455,0.12545454545454546,0.10363636363636364,8.1818181818181804E-2,7.6363636363636356E-2,0.12545454545454546,7.6363636363636356E-2,0.11454545454545455,0.11454545454545455,9.818181818181819E-2,0.13090909090909089,0.15272727272727271,0.13090909090909089,0.17454545454545453,0.1690909090909091,5.4545454545454543E-2,0.13090909090909089,0.06,9.818181818181819E-2,7.6363636363636356E-2,0.12545454545454546,0.11454545454545455,0.13090909090909089,0.10909090909090909,0.12545454545454546,0.14727272727272728,0.10363636363636364,0.14727272727272728,0.12,8.1818181818181804E-2,9.818181818181819E-2,0.13636363636363638,7.0909090909090908E-2,7.6363636363636356E-2,8.7272727272727266E-2,0.13090909090909089,8.1818181818181804E-2,0.16363636363636361,8.7272727272727266E-2,220]
["Female 70-74",0.12,{"$f":"C$270*$B221","v":0.13636363636363638},7.0909090909090908E-2,0.13090909090909089,0.11454545454545455,0.11454545454545455,0.11454545454545455,0.12,0.11454545454545455,0.12545454545454546,0.10363636363636364,8.1818181818181804E-2,7.6363636363636356E-2,0.12545454545454546,7.6363636363636356E-2,0.11454545454545455,0.11454545454545455,9.818181818181819E-2,0.13090909090909089,0.15272727272727271,0.13090909090909089,0.17454545454545453,0.1690909090909091,5.4545454545454543E-2,0.13090909090909089,0.06,9.818181818181819E-2,7.6363636363636356E-2,0.12545454545454546,0.11454545454545455,0.13090909090909089,0.10909090909090909,0.12545454545454546,0.14727272727272728,0.10363636363636364,0.14727272727272728,0.12,8.1818181818181804E-2,9.818181818181819E-2,0.13636363636363638,7.0909090909090908E-2,7.6363636363636356E-2,8.7272727272727266E-2,0.13090909090909089,8.1818181818181804E-2,0.16363636363636361,8.7272727272727266E-2,221]
["Female 75-79",0.05,5.6818181818181823E-2,2.9545454545454548E-2,5.4545454545454543E-2,4.7727272727272729E-2,4.7727272727272729E-2,4.7727272727272729E-2,0.05,4.7727272727272729E-2,5.2272727272727276E-2,4.3181818181818182E-2,3.4090909090909088E-2,3.1818181818181822E-2,5.2272727272727276E-2,3.1818181818181822E-2,4.7727272727272729E-2,4.7727272727272729E-2,4.0909090909090916E-2,5.4545454545454543E-2,6.3636363636363644E-2,5.4545454545454543E-2,7.2727272727272738E-2,7.0454545454545464E-2,2.2727272727272728E-2,5.4545454545454543E-2,2.5000000000000001E-2,4.0909090909090916E-2,3.1818181818181822E-2,5.2272727272727276E-2,4.7727272727272729E-2,5.4545454545454543E-2,4.5454545454545456E-2,5.2272727272727276E-2,6.136363636363637E-2,4.3181818181818182E-2,6.136363636363637E-2,0.05,3.4090909090909088E-2,4.0909090909090916E-2,5.6818181818181823E-2,2.9545454545454548E-2,3.1818181818181822E-2,3.6363636363636369E-2,5.4545454545454543E-2,3.4090909090909088E-2,6.8181818181818177E-2,3.6363636363636369E-2,222]
["Female 80-84",0.05,5.6818181818181823E-2,2.9545454545454548E-2,5.4545454545454543E-2,4.7727272727272729E-2,4.7727272727272729E-2,4.7727272727272729E-2,0.05,4.7727272727272729E-2,5.2272727272727276E-2,4.3181818181818182E-2,3.4090909090909088E-2,3.1818181818181822E-2,5.2272727272727276E-2,3.1818181818181822E-2,4.7727272727272729E-2,4.7727272727272729E-2,4.0909090909090916E-2,5.4545454545454543E-2,6.3636363636363644E-2,5.4545454545454543E-2,7.2727272727272738E-2,7.0454545454545464E-2,2.2727272727272728E-2,5.4545454545454543E-2,2.5000000000000001E-2,4.0909090909090916E-2,3.1818181818181822E-2,5.2272727272727276E-2,4.7727272727272729E-2,5.4545454545454543E-2,4.5454545454545456E-2,5.2272727272727276E-2,6.136363636363637E-2,4.3181818181818182E-2,6.136363636363637E-2,0.05,3.4090909090909088E-2,4.0909090909090916E-2,5.6818181818181823E-2,2.9545454545454548E-2,3.1818181818181822E-2,3.6363636363636369E-2,5.4545454545454543E-2,3.4090909090909088E-2,6.8181818181818177E-2,3.6363636363636369E-2,223]
["Female 85-89",0.05,5.6818181818181823E-2,2.9545454545454548E-2,5.4545454545454543E-2,4.7727272727272729E-2,4.7727272727272729E-2,4.7727272727272729E-2,0.05,4.7727272727272729E-2,5.2272727272727276E-2,4.3181818181818182E-2,3.4090909090909088E-2,3.1818181818181822E-2,5.2272727272727276E-2,3.1818181818181822E-2,4.7727272727272729E-2,4.7727272727272729E-2,4.0909090909090916E-2,5.4545454545454543E-2,6.3636363636363644E-2,5.4545454545454543E-2,7.2727272727272738E-2,7.0454545454545464E-2,2.2727272727272728E-2,5.4545454545454543E-2,2.5000000000000001E-2,4.0909090909090916E-2,3.1818181818181822E-2,5.2272727272727276E-2,4.7727272727272729E-2,5.4545454545454543E-2,4.5454545454545456E-2,5.2272727272727276E-2,6.136363636363637E-2,4.3181818181818182E-2,{"$f":"AK$270*$B224","v":6.136363636363637E-2},0.05,3.4090909090909088E-2,4.0909090909090916E-2,5.6818181818181823E-2,2.9545454545454548E-2,3.1818181818181822E-2,3.6363636363636369E-2,5.4545454545454543E-2,3.4090909090909088E-2,6.8181818181818177E-2,3.6363636363636369E-2,224]
["Female 90+",0.05,5.6818181818181823E-2,2.9545454545454548E-2,5.4545454545454543E-2,4.7727272727272729E-2,4.7727272727272729E-2,4.7727272727272729E-2,0.05,4.7727272727272729E-2,5.2272727272727276E-2,4.3181818181818182E-2,3.4090909090909088E-2,3.1818181818181822E-2,5.2272727272727276E-2,3.1818181818181822E-2,4.7727272727272729E-2,4.7727272727272729E-2,4.0909090909090916E-2,{"$f":"T$270*$B225","v":5.4545454545454543E-2},6.3636363636363644E-2,5.4545454545454543E-2,7.2727272727272738E-2,7.0454545454545464E-2,2.2727272727272728E-2,5.4545454545454543E-2,2.5000000000000001E-2,4.0909090909090916E-2,3.1818181818181822E-2,5.2272727272727276E-2,4.7727272727272729E-2,5.4545454545454543E-2,4.5454545454545456E-2,5.2272727272727276E-2,6.136363636363637E-2,4.3181818181818182E-2,6.136363636363637E-2,0.05,3.4090909090909088E-2,4.0909090909090916E-2,5.6818181818181823E-2,2.9545454545454548E-2,3.1818181818181822E-2,3.6363636363636369E-2,5.4545454545454543E-2,3.4090909090909088E-2,6.8181818181818177E-2,3.6363636363636369E-2,225]
["age/sex breakdown: Q5",null,null,null,null,null,null,null,null,null,null,null,null,null,null,null,null,null,null,null,null,null,null,null,null,null,null,null,null,null,null,null,null,null,null,null,null,null,null,null,null,null,null,null,null,null,null,null,226]
["Male <1",null,null,null,null,null,null,null,null,null,null,null,null,null,null,null,null,null,null,null,null,null,null,null,null,null,null,null,null,null,null,null,null,null,null,null,null,null,null,null,null,null,null,null,null,null,null,null,227]
["Male 1-4",null,null,null,null,null,null,null,null,null,null,null,null,null,null,null,null,null,null,null,null,null,null,null,null,null,null,null,null,null,null,null,null,null,null,null,null,null,null,null,null,null,null,null,null,null,null,null,228]
["Male 5-9",null,null,null,null,null,null,null,null,null,null,null,null,null,null,null,null,null,null,null,null,null,null,null,null,null,null,null,null,null,null,null,null,null,null,null,null,null,null,null,null,null,null,null,null,null,null,null,229]
["Male 10-14",null,null,null,null,null,null,null,null,null,null,null,null,null,null,null,null,null,null,null,null,null,null,null,null,null,null,null,null,null,null,null,null,null,null,null,null,null,null,null,null,null,null,null,null,null,null,null,230]
["Male 15-19 (16+)",0.09,{"$f":"C$269*$B231","v":0.11625000000000001},{"$f":"D$269*$B231","v":7.4999999999999997E-2},9.375E-2,0.09,0.06,9.7499999999999989E-2,0.10124999999999999,7.8750000000000001E-2,0.09,7.8750000000000001E-2,0.11249999999999999,8.249999999999999E-2,9.7499999999999989E-2,0.11625000000000001,9.375E-2,0.10124999999999999,0.11249999999999999,9.7499999999999989E-2,0.06,9.375E-2,0.09,0.1275,0.03,7.1249999999999994E-2,5.6249999999999994E-2,6.7500000000000004E-2,0.11625000000000001,5.2499999999999998E-2,0.09,0.11625000000000001,6.7500000000000004E-2,0.12375,0.105,0.10124999999999999,0.14249999999999999,9.375E-2,0.11249999999999999,9.375E-2,0.10874999999999999,7.4999999999999997E-2,8.249999999999999E-2,7.1249999999999994E-2,0.09,7.4999999999999997E-2,0.12,0.10874999999999999,231]
["Male 20-24",0.09,{"$f":"C$269*$B232","v":0.11625000000000001},{"$f":"D$269*$B232","v":7.4999999999999997E-2},9.375E-2,0.09,0.06,9.7499999999999989E-2,0.10124999999999999,7.8750000000000001E-2,0.09,7.8750000000000001E-2,0.11249999999999999,8.249999999999999E-2,9.7499999999999989E-2,0.11625000000000001,9.375E-2,0.10124999999999999,0.11249999999999999,9.7499999999999989E-2,0.06,9.375E-2,0.09,0.1275,0.03,7.1249999999999994E-2,5.6249999999999994E-2,6.7500000000000004E-2,0.11625000000000001,5.2499999999999998E-2,0.09,0.11625000000000001,6.7500000000000004E-2,0.12375,0.105,0.10124999999999999,0.14249999999999999,9.375E-2,0.11249999999999999,9.375E-2,0.10874999999999999,7.4999999999999997E-2,8.249999999999999E-2,7.1249999999999994E-2,0.09,7.4999999999999997E-2,0.12,0.10874999999999999,232]
["Male 25-29",0.13,0.16791666666666669,0.10833333333333334,0.13541666666666669,0.13,8.666666666666667E-2,0.14083333333333334,0.14624999999999999,0.11375,0.13,0.11375,0.16250000000000001,0.11916666666666667,0.14083333333333334,0.16791666666666669,0.13541666666666669,0.14624999999999999,0.16250000000000001,0.14083333333333334,8.666666666666667E-2,0.13541666666666669,0.13,0.18416666666666667,4.3333333333333335E-2,0.10291666666666667,8.1250000000000003E-2,9.7500000000000003E-2,0.16791666666666669,7.5833333333333336E-2,0.13,0.16791666666666669,9.7500000000000003E-2,0.17875000000000002,0.15166666666666667,0.14624999999999999,0.20583333333333334,0.13541666666666669,0.16250000000000001,0.13541666666666669,0.15708333333333332,0.10833333333333334,0.11916666666666667,0.10291666666666667,0.13,0.10833333333333334,0.17333333333333334,0.15708333333333332,233]
["Male 30-34",0.13,0.16791666666666669,0.10833333333333334,0.13541666666666669,0.13,8.666666666666667E-2,0.14083333333333334,0.14624999999999999,0.11375,0.13,0.11375,0.16250000000000001,0.11916666666666667,0.14083333333333334,0.16791666666666669,0.13541666666666669,0.14624999999999999,0.16250000000000001,0.14083333333333334,8.666666666666667E-2,0.13541666666666669,0.13,0.18416666666666667,4.3333333333333335E-2,0.10291666666666667,8.1250000000000003E-2,9.7500000000000003E-2,0.16791666666666669,7.5833333333333336E-2,0.13,0.16791666666666669,9.7500000000000003E-2,0.17875000000000002,0.15166666666666667,0.14624999999999999,0.20583333333333334,0.13541666666666669,0.16250000000000001,0.13541666666666669,0.15708333333333332,0.10833333333333334,0.11916666666666667,0.10291666666666667,0.13,0.10833333333333334,0.17333333333333334,0.15708333333333332,234]
["Male 35-39",0.13,0.16791666666666669,0.10833333333333334,0.13541666666666669,0.13,8.666666666666667E-2,0.14083333333333334,0.14624999999999999,0.11375,0.13,0.11375,0.16250000000000001,0.11916666666666667,0.14083333333333334,0.16791666666666669,0.13541666666666669,0.14624999999999999,0.16250000000000001,0.14083333333333334,8.666666666666667E-2,0.13541666666666669,0.13,0.18416666666666667,4.3333333333333335E-2,0.10291666666666667,8.1250000000000003E-2,9.7500000000000003E-2,0.16791666666666669,7.5833333333333336E-2,0.13,0.16791666666666669,9.7500000000000003E-2,0.17875000000000002,0.15166666666666667,0.14624999999999999,0.20583333333333334,0.13541666666666669,0.16250000000000001,0.13541666666666669,0.15708333333333332,0.10833333333333334,0.11916666666666667,0.10291666666666667,0.13,0.10833333333333334,0.17333333333333334,0.15708333333333332,235]
["Male 40-44",0.13,0.16791666666666669,0.10833333333333334,0.13541666666666669,0.13,8.666666666666667E-2,0.14083333333333334,0.14624999999999999,0.11375,0.13,0.11375,0.16250000000000001,0.11916666666666667,0.14083333333333334,0.16791666666666669,0.13541666666666669,0.14624999999999999,0.16250000000000001,0.14083333333333334,8.666666666666667E-2,0.13541666666666669,0.13,0.18416666666666667,4.3333333333333335E-2,0.10291666666666667,8.1250000000000003E-2,9.7500000000000003E-2,0.16791666666666669,7.5833333333333336E-2,0.13,0.16791666666666669,9.7500000000000003E-2,0.17875000000000002,0.15166666666666667,0.14624999999999999,0.20583333333333334,0.13541666666666669,0.16250000000000001,0.13541666666666669,0.15708333333333332,0.10833333333333334,0.11916666666666667,0.10291666666666667,0.13,0.10833333333333334,0.17333333333333334,0.15708333333333332,236]
["Male 45-49",0.11,0.14208333333333334,9.1666666666666674E-2,0.11458333333333334,0.11,7.3333333333333334E-2,0.11916666666666666,0.12375,9.6250000000000002E-2,0.11,9.6250000000000002E-2,0.13750000000000001,0.10083333333333333,0.11916666666666666,0.14208333333333334,0.11458333333333334,0.12375,0.13750000000000001,0.11916666666666666,7.3333333333333334E-2,0.11458333333333334,0.11,0.15583333333333335,3.6666666666666667E-2,8.7083333333333332E-2,6.8750000000000006E-2,8.2500000000000004E-2,0.14208333333333334,6.4166666666666677E-2,0.11,0.14208333333333334,8.2500000000000004E-2,0.15125,0.12833333333333335,0.12375,0.17416666666666666,0.11458333333333334,0.13750000000000001,0.11458333333333334,0.13291666666666666,9.1666666666666674E-2,0.10083333333333333,8.7083333333333332E-2,0.11,9.1666666666666674E-2,0.14666666666666667,0.13291666666666666,237]
["Male 50-54",0.11,0.14208333333333334,9.1666666666666674E-2,0.11458333333333334,0.11,7.3333333333333334E-2,0.11916666666666666,{"$f":"I$269*$B238","v":0.12375},9.6250000000000002E-2,0.11,9.6250000000000002E-2,0.13750000000000001,0.10083333333333333,0.11916666666666666,0.14208333333333334,0.11458333333333334,0.12375,0.13750000000000001,0.11916666666666666,7.3333333333333334E-2,0.11458333333333334,0.11,0.15583333333333335,3.6666666666666667E-2,8.7083333333333332E-2,6.8750000000000006E-2,8.2500000000000004E-2,0.14208333333333334,6.4166666666666677E-2,0.11,0.14208333333333334,8.2500000000000004E-2,0.15125,0.12833333333333335,0.12375,{"$f":"AK$269*$B238","v":0.17416666666666666},0.11458333333333334,0.13750000000000001,0.11458333333333334,0.13291666666666666,9.1666666666666674E-2,0.10083333333333333,8.7083333333333332E-2,0.11,9.1666666666666674E-2,0.14666666666666667,0.13291666666666666,238]
["Male 55-59",0.11,0.14208333333333334,9.1666666666666674E-2,0.11458333333333334,0.11,7.3333333333333334E-2,0.11916666666666666,0.12375,{"$f":"J$269*$B239","v":9.6250000000000002E-2},0.11,9.6250000000000002E-2,0.13750000000000001,0.10083333333333333,0.11916666666666666,0.14208333333333334,0.11458333333333334,0.12375,0.13750000000000001,0.11916666666666666,7.3333333333333334E-2,0.11458333333333334,0.11,0.15583333333333335,3.6666666666666667E-2,8.7083333333333332E-2,6.8750000000000006E-2,8.2500000000000004E-2,0.14208333333333334,6.4166666666666677E-2,0.11,0.14208333333333334,8.2500000000000004E-2,0.15125,0.12833333333333335,0.12375,0.17416666666666666,0.11458333333333334,0.13750000000000001,0.11458333333333334,0.13291666666666666,9.1666666666666674E-2,0.10083333333333333,8.7083333333333332E-2,0.11,9.1666666666666674E-2,0.14666666666666667,0.13291666666666666,239]
["Male 60-64",0.11,0.14208333333333334,9.1666666666666674E-2,0.11458333333333334,0.11,7.3333333333333334E-2,0.11916666666666666,0.12375,9.6250000000000002E-2,0.11,9.6250000000000002E-2,0.13750000000000001,0.10083333333333333,0.11916666666666666,0.14208333333333334,0.11458333333333334,0.12375,0.13750000000000001,0.11916666666666666,7.3333333333333334E-2,0.11458333333333334,0.11,0.15583333333333335,3.6666666666666667E-2,8.7083333333333332E-2,6.8750000000000006E-2,8.2500000000000004E-2,0.14208333333333334,6.4166666666666677E-2,0.11,0.14208333333333334,8.2500000000000004E-2,0.15125,0.12833333333333335,0.12375,0.17416666666666666,0.11458333333333334,0.13750000000000001,0.11458333333333334,0.13291666666666666,9.1666666666666674E-2,0.10083333333333333,8.7083333333333332E-2,0.11,9.1666666666666674E-2,0.14666666666666667,0.13291666666666666,240]
["Male 65-69",7.0000000000000007E-2,9.0416666666666687E-2,5.8333333333333341E-2,7.2916666666666685E-2,7.0000000000000007E-2,4.6666666666666669E-2,7.5833333333333336E-2,7.8750000000000014E-2,6.1250000000000006E-2,7.0000000000000007E-2,6.1250000000000006E-2,8.7500000000000008E-2,6.4166666666666664E-2,7.5833333333333336E-2,9.0416666666666687E-2,7.2916666666666685E-2,7.8750000000000014E-2,8.7500000000000008E-2,7.5833333333333336E-2,4.6666666666666669E-2,7.2916666666666685E-2,7.0000000000000007E-2,9.9166666666666681E-2,2.3333333333333334E-2,5.541666666666667E-2,4.3750000000000004E-2,5.2500000000000005E-2,9.0416666666666687E-2,4.083333333333334E-2,7.0000000000000007E-2,9.0416666666666687E-2,5.2500000000000005E-2,9.6250000000000002E-2,8.1666666666666679E-2,7.8750000000000014E-2,0.11083333333333334,7.2916666666666685E-2,8.7500000000000008E-2,7.2916666666666685E-2,8.458333333333333E-2,5.8333333333333341E-2,6.4166666666666664E-2,5.541666666666667E-2,7.0000000000000007E-2,5.8333333333333341E-2,9.3333333333333338E-2,8.458333333333333E-2,241]
["Male 70-74",7.0000000000000007E-2,9.0416666666666687E-2,5.8333333333333341E-2,7.2916666666666685E-2,7.0000000000000007E-2,4.6666666666666669E-2,7.5833333333333336E-2,7.8750000000000014E-2,6.1250000000000006E-2,7.0000000000000007E-2,6.1250000000000006E-2,8.7500000000000008E-2,6.4166666666666664E-2,7.5833333333333336E-2,9.0416666666666687E-2,7.2916666666666685E-2,7.8750000000000014E-2,8.7500000000000008E-2,7.5833333333333336E-2,4.6666666666666669E-2,7.2916666666666685E-2,7.0000000000000007E-2,9.9166666666666681E-2,2.3333333333333334E-2,5.541666666666667E-2,4.3750000000000004E-2,5.2500000000000005E-2,9.0416666666666687E-2,4.083333333333334E-2,7.0000000000000007E-2,9.0416666666666687E-2,5.2500000000000005E-2,9.6250000000000002E-2,8.1666666666666679E-2,7.8750000000000014E-2,0.11083333333333334,7.2916666666666685E-2,8.7500000000000008E-2,7.2916666666666685E-2,8.458333333333333E-2,5.8333333333333341E-2,6.4166666666666664E-2,5.541666666666667E-2,7.0000000000000007E-2,5.8333333333333341E-2,9.3333333333333338E-2,8.458333333333333E-2,242]
["Male 75-79",0.01,1.2916666666666668E-2,8.3333333333333332E-3,1.0416666666666668E-2,0.01,6.6666666666666662E-3,1.0833333333333332E-2,1.125E-2,8.7500000000000008E-3,0.01,8.7500000000000008E-3,1.2500000000000001E-2,9.1666666666666667E-3,1.0833333333333332E-2,1.2916666666666668E-2,1.0416666666666668E-2,1.125E-2,1.2500000000000001E-2,1.0833333333333332E-2,6.6666666666666662E-3,1.0416666666666668E-2,0.01,1.4166666666666668E-2,3.3333333333333331E-3,7.9166666666666656E-3,6.2500000000000003E-3,7.4999999999999997E-3,1.2916666666666668E-2,5.8333333333333336E-3,0.01,1.2916666666666668E-2,7.4999999999999997E-3,1.375E-2,1.1666666666666667E-2,1.125E-2,1.5833333333333331E-2,1.0416666666666668E-2,1.2500000000000001E-2,1.0416666666666668E-2,1.2083333333333333E-2,8.3333333333333332E-3,9.1666666666666667E-3,7.9166666666666656E-3,0.01,8.3333333333333332E-3,1.3333333333333332E-2,1.2083333333333333E-2,243]
["Male 80-84",0.01,1.2916666666666668E-2,8.3333333333333332E-3,1.0416666666666668E-2,0.01,6.6666666666666662E-3,1.0833333333333332E-2,1.125E-2,8.7500000000000008E-3,0.01,8.7500000000000008E-3,1.2500000000000001E-2,9.1666666666666667E-3,1.0833333333333332E-2,1.2916666666666668E-2,1.0416666666666668E-2,1.125E-2,1.2500000000000001E-2,1.0833333333333332E-2,6.6666666666666662E-3,1.0416666666666668E-2,0.01,1.4166666666666668E-2,3.3333333333333331E-3,7.9166666666666656E-3,6.2500000000000003E-3,7.4999999999999997E-3,1.2916666666666668E-2,5.8333333333333336E-3,0.01,1.2916666666666668E-2,7.4999999999999997E-3,1.375E-2,1.1666666666666667E-2,1.125E-2,1.5833333333333331E-2,1.0416666666666668E-2,1.2500000000000001E-2,1.0416666666666668E-2,1.2083333333333333E-2,8.3333333333333332E-3,9.1666666666666667E-3,7.9166666666666656E-3,0.01,8.3333333333333332E-3,1.3333333333333332E-2,1.2083333333333333E-2,244]
["Male 85-89",0.01,1.2916666666666668E-2,8.3333333333333332E-3,1.0416666666666668E-2,0.01,6.6666666666666662E-3,1.0833333333333332E-2,1.125E-2,8.7500000000000008E-3,0.01,8.7500000000000008E-3,1.2500000000000001E-2,9.1666666666666667E-3,1.0833333333333332E-2,1.2916666666666668E-2,1.0416666666666668E-2,1.125E-2,1.2500000000000001E-2,1.0833333333333332E-2,6.6666666666666662E-3,1.0416666666666668E-2,0.01,1.4166666666666668E-2,3.3333333333333331E-3,7.9166666666666656E-3,6.2500000000000003E-3,7.4999999999999997E-3,1.2916666666666668E-2,5.8333333333333336E-3,0.01,1.2916666666666668E-2,7.4999999999999997E-3,1.375E-2,1.1666666666666667E-2,1.125E-2,1.5833333333333331E-2,1.0416666666666668E-2,1.2500000000000001E-2,1.0416666666666668E-2,1.2083333333333333E-2,8.3333333333333332E-3,9.1666666666666667E-3,7.9166666666666656E-3,0.01,8.3333333333333332E-3,1.3333333333333332E-2,1.2083333333333333E-2,245]
["Male 90+",0.01,{"$f":"C$269*$B246","v":1.2916666666666668E-2},8.3333333333333332E-3,1.0416666666666668E-2,0.01,6.6666666666666662E-3,1.0833333333333332E-2,1.125E-2,8.7500000000000008E-3,0.01,8.7500000000000008E-3,1.2500000000000001E-2,9.1666666666666667E-3,1.0833333333333332E-2,1.2916666666666668E-2,1.0416666666666668E-2,1.125E-2,1.2500000000000001E-2,1.0833333333333332E-2,6.6666666666666662E-3,1.0416666666666668E-2,0.01,1.4166666666666668E-2,3.3333333333333331E-3,7.9166666666666656E-3,6.2500000000000003E-3,7.4999999999999997E-3,1.2916666666666668E-2,5.8333333333333336E-3,0.01,1.2916666666666668E-2,7.4999999999999997E-3,1.375E-2,1.1666666666666667E-2,{"$f":"AJ$269*$B246","v":1.125E-2},1.5833333333333331E-2,1.0416666666666668E-2,1.2500000000000001E-2,1.0416666666666668E-2,1.2083333333333333E-2,8.3333333333333332E-3,9.1666666666666667E-3,7.9166666666666656E-3,0.01,8.3333333333333332E-3,1.3333333333333332E-2,1.2083333333333333E-2,246]
["Female <1",null,null,null,null,null,null,null,null,null,null,null,null,null,null,null,null,null,null,null,null,null,null,null,null,null,null,null,null,null,null,null,null,null,null,null,null,null,null,null,null,null,null,null,null,null,null,null,247]
["Female 1-4",null,null,null,null,null,null,null,null,null,null,null,null,null,null,null,null,null,null,null,null,null,null,null,null,null,null,null,null,null,null,null,null,null,null,null,null,null,null,null,null,null,null,null,null,null,null,null,248]
["Female 5-9",null,null,null,null,null,null,null,null,null,null,null,null,null,null,null,null,null,null,null,null,null,null,null,null,null,null,null,null,null,null,null,null,null,null,null,null,null,null,null,null,null,null,null,null,null,null,null,249]
["Female 10-14",null,null,null,null,null,null,null,null,null,null,null,null,null,null,null,null,null,null,null,null,null,null,null,null,null,null,null,null,null,null,null,null,null,null,null,null,null,null,null,null,null,null,null,null,null,null,null,250]
["Female 15-19 (16+)",0.11,{"$f":"C$270*$B251","v":0.125},{"$f":"D$270*$B251","v":6.5000000000000002E-2},0.12,0.10500000000000001,0.10500000000000001,0.10500000000000001,0.11,{"$f":"J$270*$B251","v":0.10500000000000001},0.11499999999999999,9.5000000000000001E-2,7.4999999999999997E-2,6.9999999999999993E-2,0.11499999999999999,6.9999999999999993E-2,0.10500000000000001,0.10500000000000001,9.0000000000000011E-2,0.12,0.13999999999999999,0.12,0.16,0.155,4.9999999999999996E-2,0.12,5.5E-2,9.0000000000000011E-2,6.9999999999999993E-2,0.11499999999999999,0.10500000000000001,0.12,9.9999999999999992E-2,0.11499999999999999,0.13500000000000001,9.5000000000000001E-2,0.13500000000000001,0.11,7.4999999999999997E-2,9.0000000000000011E-2,0.125,6.5000000000000002E-2,6.9999999999999993E-2,0.08,0.12,7.4999999999999997E-2,0.15,0.08,251]
["Female 20-24",0.11,{"$f":"C$270*$B252","v":0.125},6.5000000000000002E-2,0.12,0.10500000000000001,0.10500000000000001,0.10500000000000001,0.11,0.10500000000000001,0.11499999999999999,9.5000000000000001E-2,7.4999999999999997E-2,6.9999999999999993E-2,0.11499999999999999,6.9999999999999993E-2,0.10500000000000001,0.10500000000000001,9.0000000000000011E-2,0.12,0.13999999999999999,0.12,0.16,0.155,4.9999999999999996E-2,0.12,5.5E-2,9.0000000000000011E-2,6.9999999999999993E-2,0.11499999999999999,0.10500000000000001,0.12,9.9999999999999992E-2,0.11499999999999999,0.13500000000000001,9.5000000000000001E-2,0.13500000000000001,0.11,7.4999999999999997E-2,9.0000000000000011E-2,0.125,6.5000000000000002E-2,6.9999999999999993E-2,0.08,0.12,7.4999999999999997E-2,0.15,0.08,252]
["Female 25-29",0.14000000000000001,0.15909090909090912,8.2727272727272733E-2,0.15272727272727274,0.13363636363636366,0.13363636363636366,0.13363636363636366,0.14000000000000001,0.13363636363636366,0.14636363636363636,0.12090909090909092,9.5454545454545459E-2,8.9090909090909096E-2,0.14636363636363636,8.9090909090909096E-2,0.13363636363636366,0.13363636363636366,0.11454545454545456,0.15272727272727274,0.17818181818181819,0.15272727272727274,0.20363636363636367,0.19727272727272729,6.3636363636363644E-2,0.15272727272727274,7.0000000000000007E-2,0.11454545454545456,8.9090909090909096E-2,0.14636363636363636,0.13363636363636366,0.15272727272727274,0.12727272727272729,0.14636363636363636,0.17181818181818184,0.12090909090909092,0.17181818181818184,0.14000000000000001,9.5454545454545459E-2,0.11454545454545456,0.15909090909090912,8.2727272727272733E-2,8.9090909090909096E-2,0.10181818181818184,0.15272727272727274,9.5454545454545459E-2,0.19090909090909092,0.10181818181818184,253]
["Female 30-34",0.14000000000000001,0.15909090909090912,8.2727272727272733E-2,0.15272727272727274,0.13363636363636366,0.13363636363636366,0.13363636363636366,0.14000000000000001,0.13363636363636366,0.14636363636363636,0.12090909090909092,9.5454545454545459E-2,8.9090909090909096E-2,0.14636363636363636,8.9090909090909096E-2,0.13363636363636366,0.13363636363636366,0.11454545454545456,0.15272727272727274,0.17818181818181819,0.15272727272727274,0.20363636363636367,0.19727272727272729,6.3636363636363644E-2,0.15272727272727274,7.0000000000000007E-2,0.11454545454545456,8.9090909090909096E-2,0.14636363636363636,0.13363636363636366,0.15272727272727274,0.12727272727272729,0.14636363636363636,0.17181818181818184,0.12090909090909092,0.17181818181818184,0.14000000000000001,9.5454545454545459E-2,0.11454545454545456,0.15909090909090912,8.2727272727272733E-2,8.9090909090909096E-2,0.10181818181818184,0.15272727272727274,9.5454545454545459E-2,0.19090909090909092,0.10181818181818184,254]
["Female 35-39",0.15,0.17045454545454547,8.8636363636363638E-2,0.16363636363636361,0.14318181818181819,0.14318181818181819,0.14318181818181819,0.15,0.14318181818181819,0.1568181818181818,0.12954545454545455,0.10227272727272727,9.5454545454545445E-2,0.1568181818181818,9.5454545454545445E-2,0.14318181818181819,0.14318181818181819,0.12272727272727273,0.16363636363636361,0.19090909090909089,0.16363636363636361,0.21818181818181817,0.21136363636363636,6.8181818181818177E-2,0.16363636363636361,7.4999999999999997E-2,0.12272727272727273,9.5454545454545445E-2,0.1568181818181818,0.14318181818181819,0.16363636363636361,0.13636363636363635,0.1568181818181818,0.18409090909090908,0.12954545454545455,0.18409090909090908,0.15,0.10227272727272727,0.12272727272727273,0.17045454545454547,8.8636363636363638E-2,9.5454545454545445E-2,0.10909090909090909,0.16363636363636361,0.10227272727272727,0.20454545454545453,0.10909090909090909,255]
["Female 40-44",0.15,0.17045454545454547,8.8636363636363638E-2,0.16363636363636361,0.14318181818181819,0.14318181818181819,0.14318181818181819,0.15,0.14318181818181819,0.1568181818181818,0.12954545454545455,0.10227272727272727,9.5454545454545445E-2,0.1568181818181818,9.5454545454545445E-2,0.14318181818181819,0.14318181818181819,0.12272727272727273,0.16363636363636361,0.19090909090909089,0.16363636363636361,0.21818181818181817,0.21136363636363636,6.8181818181818177E-2,0.16363636363636361,7.4999999999999997E-2,0.12272727272727273,9.5454545454545445E-2,0.1568181818181818,0.14318181818181819,0.16363636363636361,0.13636363636363635,0.1568181818181818,0.18409090909090908,0.12954545454545455,0.18409090909090908,0.15,0.10227272727272727,0.12272727272727273,0.17045454545454547,8.8636363636363638E-2,9.5454545454545445E-2,0.10909090909090909,0.16363636363636361,0.10227272727272727,0.20454545454545453,0.10909090909090909,256]
["Female 45-49",0.11,0.125,6.5000000000000002E-2,0.12,0.10500000000000001,0.10500000000000001,0.10500000000000001,0.11,0.10500000000000001,0.11499999999999999,9.5000000000000001E-2,7.4999999999999997E-2,6.9999999999999993E-2,0.11499999999999999,6.9999999999999993E-2,0.10500000000000001,0.10500000000000001,9.0000000000000011E-2,0.12,0.13999999999999999,0.12,0.16,0.155,4.9999999999999996E-2,0.12,5.5E-2,9.0000000000000011E-2,6.9999999999999993E-2,0.11499999999999999,0.10500000000000001,0.12,9.9999999999999992E-2,0.11499999999999999,0.13500000000000001,9.5000000000000001E-2,0.13500000000000001,0.11,7.4999999999999997E-2,9.0000000000000011E-2,0.125,6.5000000000000002E-2,6.9999999999999993E-2,0.08,0.12,7.4999999999999997E-2,0.15,0.08,257]
["Female 50-54",0.11,0.125,6.5000000000000002E-2,0.12,0.10500000000000001,0.10500000000000001,0.10500000000000001,0.11,0.10500000000000001,0.11499999999999999,9.5000000000000001E-2,7.4999999999999997E-2,6.9999999999999993E-2,0.11499999999999999,6.9999999999999993E-2,0.10500000000000001,0.10500000000000001,9.0000000000000011E-2,0.12,0.13999999999999999,0.12,0.16,0.155,4.9999999999999996E-2,0.12,5.5E-2,9.0000000000000011E-2,6.9999999999999993E-2,0.11499999999999999,0.10500000000000001,0.12,9.9999999999999992E-2,0.11499999999999999,0.13500000000000001,9.5000000000000001E-2,0.13500000000000001,{"$f":"AL$270*$B258","v":0.11},7.4999999999999997E-2,9.0000000000000011E-2,0.125,6.5000000000000002E-2,6.9999999999999993E-2,0.08,0.12,7.4999999999999997E-2,0.15,0.08,258]
["Female 55-59",0.1,0.11363636363636365,5.9090909090909097E-2,0.10909090909090909,9.5454545454545459E-2,9.5454545454545459E-2,9.5454545454545459E-2,0.1,9.5454545454545459E-2,0.10454545454545455,8.6363636363636365E-2,6.8181818181818177E-2,6.3636363636363644E-2,0.10454545454545455,6.3636363636363644E-2,9.5454545454545459E-2,9.5454545454545459E-2,8.1818181818181832E-2,0.10909090909090909,0.12727272727272729,0.10909090909090909,0.14545454545454548,0.14090909090909093,4.5454545454545456E-2,0.10909090909090909,0.05,8.1818181818181832E-2,6.3636363636363644E-2,0.10454545454545455,9.5454545454545459E-2,0.10909090909090909,9.0909090909090912E-2,0.10454545454545455,0.12272727272727274,8.6363636363636365E-2,0.12272727272727274,0.1,6.8181818181818177E-2,8.1818181818181832E-2,0.11363636363636365,5.9090909090909097E-2,6.3636363636363644E-2,7.2727272727272738E-2,0.10909090909090909,6.8181818181818177E-2,0.13636363636363635,7.2727272727272738E-2,259]
["Female 60-64",0.1,0.11363636363636365,5.9090909090909097E-2,0.10909090909090909,9.5454545454545459E-2,9.5454545454545459E-2,9.5454545454545459E-2,0.1,9.5454545454545459E-2,0.10454545454545455,8.6363636363636365E-2,6.8181818181818177E-2,6.3636363636363644E-2,0.10454545454545455,6.3636363636363644E-2,9.5454545454545459E-2,9.5454545454545459E-2,8.1818181818181832E-2,0.10909090909090909,0.12727272727272729,0.10909090909090909,0.14545454545454548,0.14090909090909093,4.5454545454545456E-2,0.10909090909090909,0.05,8.1818181818181832E-2,6.3636363636363644E-2,0.10454545454545455,9.5454545454545459E-2,0.10909090909090909,9.0909090909090912E-2,0.10454545454545455,0.12272727272727274,8.6363636363636365E-2,0.12272727272727274,0.1,6.8181818181818177E-2,8.1818181818181832E-2,0.11363636363636365,5.9090909090909097E-2,6.3636363636363644E-2,7.2727272727272738E-2,0.10909090909090909,6.8181818181818177E-2,0.13636363636363635,7.2727272727272738E-2,260]
["Female 65-69",0.06,{"$f":"C$270*$B261","v":6.8181818181818191E-2},3.5454545454545454E-2,6.5454545454545446E-2,5.7272727272727274E-2,5.7272727272727274E-2,5.7272727272727274E-2,0.06,5.7272727272727274E-2,6.2727272727272729E-2,5.1818181818181819E-2,4.0909090909090902E-2,3.8181818181818178E-2,6.2727272727272729E-2,3.8181818181818178E-2,5.7272727272727274E-2,5.7272727272727274E-2,4.9090909090909095E-2,6.5454545454545446E-2,7.6363636363636356E-2,6.5454545454545446E-2,8.7272727272727266E-2,8.4545454545454549E-2,2.7272727272727271E-2,6.5454545454545446E-2,0.03,4.9090909090909095E-2,3.8181818181818178E-2,6.2727272727272729E-2,5.7272727272727274E-2,6.5454545454545446E-2,5.4545454545454543E-2,6.2727272727272729E-2,7.3636363636363639E-2,5.1818181818181819E-2,{"$f":"AK$270*$B261","v":7.3636363636363639E-2},0.06,4.0909090909090902E-2,4.9090909090909095E-2,6.8181818181818191E-2,3.5454545454545454E-2,3.8181818181818178E-2,4.3636363636363633E-2,6.5454545454545446E-2,4.0909090909090902E-2,8.1818181818181804E-2,4.3636363636363633E-2,261]
["Female 70-74",0.06,{"$f":"C$270*$B262","v":6.8181818181818191E-2},3.5454545454545454E-2,6.5454545454545446E-2,5.7272727272727274E-2,5.7272727272727274E-2,5.7272727272727274E-2,0.06,5.7272727272727274E-2,6.2727272727272729E-2,5.1818181818181819E-2,4.0909090909090902E-2,3.8181818181818178E-2,6.2727272727272729E-2,3.8181818181818178E-2,5.7272727272727274E-2,5.7272727272727274E-2,4.9090909090909095E-2,6.5454545454545446E-2,7.6363636363636356E-2,6.5454545454545446E-2,8.7272727272727266E-2,8.4545454545454549E-2,2.7272727272727271E-2,6.5454545454545446E-2,0.03,4.9090909090909095E-2,3.8181818181818178E-2,6.2727272727272729E-2,5.7272727272727274E-2,6.5454545454545446E-2,5.4545454545454543E-2,6.2727272727272729E-2,7.3636363636363639E-2,5.1818181818181819E-2,7.3636363636363639E-2,0.06,4.0909090909090902E-2,4.9090909090909095E-2,6.8181818181818191E-2,3.5454545454545454E-2,3.8181818181818178E-2,4.3636363636363633E-2,6.5454545454545446E-2,4.0909090909090902E-2,8.1818181818181804E-2,4.3636363636363633E-2,262]
["Female 75-79",0.04,4.5454545454545463E-2,2.3636363636363639E-2,4.3636363636363633E-2,3.8181818181818185E-2,3.8181818181818185E-2,3.8181818181818185E-2,0.04,3.8181818181818185E-2,4.1818181818181817E-2,3.4545454545454546E-2,2.7272727272727271E-2,2.5454545454545455E-2,4.1818181818181817E-2,2.5454545454545455E-2,3.8181818181818185E-2,3.8181818181818185E-2,3.272727272727273E-2,4.3636363636363633E-2,5.0909090909090911E-2,4.3636363636363633E-2,5.8181818181818182E-2,5.6363636363636366E-2,1.8181818181818181E-2,4.3636363636363633E-2,0.02,3.272727272727273E-2,2.5454545454545455E-2,4.1818181818181817E-2,3.8181818181818185E-2,4.3636363636363633E-2,3.6363636363636362E-2,4.1818181818181817E-2,4.9090909090909095E-2,3.4545454545454546E-2,4.9090909090909095E-2,0.04,2.7272727272727271E-2,3.272727272727273E-2,4.5454545454545463E-2,2.3636363636363639E-2,2.5454545454545455E-2,2.9090909090909091E-2,4.3636363636363633E-2,2.7272727272727271E-2,5.4545454545454543E-2,2.9090909090909091E-2,263]
["Female 80-84",0.04,4.5454545454545463E-2,2.3636363636363639E-2,4.3636363636363633E-2,3.8181818181818185E-2,3.8181818181818185E-2,3.8181818181818185E-2,0.04,3.8181818181818185E-2,4.1818181818181817E-2,3.4545454545454546E-2,2.7272727272727271E-2,2.5454545454545455E-2,4.1818181818181817E-2,2.5454545454545455E-2,3.8181818181818185E-2,3.8181818181818185E-2,3.272727272727273E-2,4.3636363636363633E-2,5.0909090909090911E-2,4.3636363636363633E-2,5.8181818181818182E-2,5.6363636363636366E-2,1.8181818181818181E-2,4.3636363636363633E-2,0.02,3.272727272727273E-2,2.5454545454545455E-2,4.1818181818181817E-2,3.8181818181818185E-2,4.3636363636363633E-2,3.6363636363636362E-2,4.1818181818181817E-2,4.9090909090909095E-2,3.4545454545454546E-2,4.9090909090909095E-2,0.04,2.7272727272727271E-2,3.272727272727273E-2,4.5454545454545463E-2,2.3636363636363639E-2,2.5454545454545455E-2,2.9090909090909091E-2,4.3636363636363633E-2,2.7272727272727271E-2,5.4545454545454543E-2,2.9090909090909091E-2,264]
["Female 85-89",0.04,4.5454545454545463E-2,2.3636363636363639E-2,4.3636363636363633E-2,3.8181818181818185E-2,3.8181818181818185E-2,3.8181818181818185E-2,0.04,3.8181818181818185E-2,4.1818181818181817E-2,3.4545454545454546E-2,2.7272727272727271E-2,2.5454545454545455E-2,4.1818181818181817E-2,2.5454545454545455E-2,3.8181818181818185E-2,3.8181818181818185E-2,3.272727272727273E-2,4.3636363636363633E-2,5.0909090909090911E-2,4.3636363636363633E-2,5.8181818181818182E-2,5.6363636363636366E-2,1.8181818181818181E-2,4.3636363636363633E-2,0.02,3.272727272727273E-2,2.5454545454545455E-2,4.1818181818181817E-2,3.8181818181818185E-2,4.3636363636363633E-2,3.6363636363636362E-2,4.1818181818181817E-2,4.9090909090909095E-2,3.4545454545454546E-2,4.9090909090909095E-2,0.04,2.7272727272727271E-2,3.272727272727273E-2,4.5454545454545463E-2,2.3636363636363639E-2,2.5454545454545455E-2,2.9090909090909091E-2,4.3636363636363633E-2,2.7272727272727271E-2,5.4545454545454543E-2,2.9090909090909091E-2,265]
["Female 90+",0.04,4.5454545454545463E-2,2.3636363636363639E-2,4.3636363636363633E-2,3.8181818181818185E-2,3.8181818181818185E-2,3.8181818181818185E-2,0.04,3.8181818181818185E-2,4.1818181818181817E-2,3.4545454545454546E-2,2.7272727272727271E-2,2.5454545454545455E-2,4.1818181818181817E-2,2.5454545454545455E-2,3.8181818181818185E-2,3.8181818181818185E-2,3.272727272727273E-2,4.3636363636363633E-2,5.0909090909090911E-2,4.3636363636363633E-2,5.8181818181818182E-2,5.6363636363636366E-2,1.8181818181818181E-2,4.3636363636363633E-2,0.02,3.272727272727273E-2,2.5454545454545455E-2,4.1818181818181817E-2,3.8181818181818185E-2,4.3636363636363633E-2,3.6363636363636362E-2,4.1818181818181817E-2,4.9090909090909095E-2,3.4545454545454546E-2,4.9090909090909095E-2,0.04,2.7272727272727271E-2,3.272727272727273E-2,4.5454545454545463E-2,2.3636363636363639E-2,{"$f":"AQ$270*$B266","v":2.5454545454545455E-2},2.9090909090909091E-2,4.3636363636363633E-2,2.7272727272727271E-2,5.4545454545454543E-2,2.9090909090909091E-2,266]
["Overall prevalence (aged 16+)","Men",31,20,25,24,16,26,27,21,24,21,30,22,26,31,25,27,30,26,16,25,24,34,8,19,15,18,31,14,24,31,18,33,28,27,38,25,30,25,29,20,22,19,24,20,32,29,267]
[null,"Women",25,13,24,21,21,21,22,21,23,19,15,14,23,14,21,21,18,24,28,24,32,31,10,24,11,18,14,23,21,24,20,23,27,19,27,22,15,18,25,13,14,16,24,15,30,16,268]
["Crude weights","Men",{"$f":"C267/24","v":1.2916666666666667},{"$f":"D267/24","v":0.83333333333333337},1.0416666666666667,1,0.66666666666666663,1.0833333333333333,{"$f":"I267/24","v":1.125},0.875,1,0.875,1.25,0.91666666666666663,1.0833333333333333,1.2916666666666667,{"$f":"Q267/24","v":1.0416666666666667},{"$f":"R267/24","v":1.125},1.25,1.0833333333333333,0.66666666666666663,1.0416666666666667,1,1.4166666666666667,0.33333333333333331,0.79166666666666663,0.625,0.75,1.2916666666666667,0.58333333333333337,1,1.2916666666666667,0.75,1.375,1.1666666666666667,1.125,1.5833333333333333,1.0416666666666667,1.25,1.0416666666666667,1.2083333333333333,0.83333333333333337,0.91666666666666663,0.79166666666666663,1,0.83333333333333337,1.3333333333333333,1.2083333333333333,269]
[null,"Women",{"$f":"C268/22","v":1.1363636363636365},{"$f":"D268/22","v":0.59090909090909094},1.0909090909090908,0.95454545454545459,0.95454545454545459,0.95454545454545459,{"$f":"I268/22","v":1},0.95454545454545459,1.0454545454545454,0.86363636363636365,0.68181818181818177,0.63636363636363635,1.0454545454545454,0.63636363636363635,{"$f":"Q268/22","v":0.95454545454545459},{"$f":"R268/22","v":0.95454545454545459},0.81818181818181823,1.0909090909090908,1.2727272727272727,1.0909090909090908,1.4545454545454546,1.4090909090909092,0.45454545454545453,1.0909090909090908,0.5,0.81818181818181823,0.63636363636363635,1.0454545454545454,0.95454545454545459,1.0909090909090908,0.90909090909090906,1.0454545454545454,1.2272727272727273,0.86363636363636365,1.2272727272727273,1,0.68181818181818177,0.81818181818181823,1.1363636363636365,0.59090909090909094,0.63636363636363635,0.72727272727272729,1.0909090909090908,0.68181818181818177,1.3636363636363635,0.72727272727272729,270]
[null,null,null,null,null,null,null,null,null,null,null,null,null,null,null,null,null,null,null,null,null,null,null,null,null,null,null,null,null,null,null,null,null,null,null,null,null,null,null,null,null,null,null,null,null,null,null,null,271]
[]
[]
[]
[]
[null,null,null,null,null,null,null,null,null,null,null,null,null,null,null,null,null,null,null,null,null,null,null,null,null,null,null,null,null,null,null,null,null,null,null,null,null,null,null,null,null,null,null,null,null,null,null,null,276]
[null,null,null,null,null,null,null,null,null,null,null,null,null,null,null,null,null,null,null,null,null,null,null,null,null,null,null,null,null,null,null,null,null,null,null,null,null,null,null,null,null,null,null,null,null,null,null,null,277]
[null,null,null,null,null,null,null,null,null,null,null,null,null,null,null,null,null,null,null,null,null,null,null,null,null,null,null,null,null,null,null,null,null,null,null,null,null,null,null,null,null,null,null,null,null,null,null,null,278]
[null,null,null,null,null,null,null,null,null,null,null,null,null,null,null,null,null,null,null,null,null,null,null,null,null,null,null,null,null,null,null,null,null,null,null,null,null,null,null,null,null,null,null,null,null,null,null,null,279]
[null,null,null,null,null,null,null,null,null,null,null,null,null,null,null,null,null,null,null,null,null,null,null,null,null,null,null,null,null,null,null,null,null,null,null,null,null,null,null,null,null,null,null,null,null,null,null,null,280]

{"sheet":"LookUpData_Pop","index":5,"n_rows":294,"n_cols":56,"rows_kept":294,"cut":false,"hidden":false,"merged":[]}
["POPULATION","Scotland","Ayrshire & Arran Health Board","Borders Health Board","Dumfries & Galloway Health Board","Fife Health Board","Forth Valley Health Board","Grampian Health Board","Greater Glasgow & Clyde Health Board","Highland Health Board","Lanarkshire Health Board","Lothian Health Board","Orkney Health Board","Shetland Health Board","Tayside Health Board","Western Isles Health Board","Aberdeen City Local Authority","Aberdeenshire Local Authority","Angus Local Authority","Argyll & Bute Local Authority","Clackmannanshire Local Authority","Dumfries & Galloway Local Authority","Dundee City Local Authority","East Ayrshire Local Authority","East Dunbartonshire Local Authority","East Lothian Local Authority","East Renfrewshire Local Authority","Edinburgh, City of Local Authority","Eilean Siar Local Authority","Falkirk Local Authority","Fife Local Authority","Glasgow City Local Authority","Highland Local Authority","Inverclyde Local Authority","Midlothian Local Authority","Moray Local Authority","North Ayrshire Local Authority","North Lanarkshire Local Authority","Orkney Islands Local Authority","Perth & Kinross Local Authority","Renfrewshire Local Authority","Scottish Borders Local Authority","Shetland Islands Local Authority","South Ayrshire Local Authority","South Lanarkshire Local Authority","Stirling Local Authority","West Dunbartonshire Local Authority","West Lothian Local Authority","Death Rate (Scotland)",null,"Life expectancy, Scotland",null,null,"Population LookUp Reference"]
[]
["All, by SIMD",null,null,null,null,null,null,null,null,null,null,null,null,null,null,null,null,null,null,null,null,null,null,null,null,null,null,null,null,null,null,null,null,null,null,null,null,null,null,null,null,null,null,null,null,null,null,null,null,null,"National LE"]
["Total",{"$f":"B11+B18","v":26028700},1842310,563290,744990,1816170,1462810,2740100,5623880,1561710,3196900,4127400,101240,111780,2003560,132560,1073050,1223560,557200,450020,253050,744990,719500,602630,523830,484790,448070,2381440,132560,764300,1816170,2940530,1111690,403060,405470,443490,680460,1640600,101240,726860,854260,563290,111780,559220,1556300,445460,454130,855700,1.0669987246485007E-2,"Based on average deaths for 2005-2009 inclusive, supplied by ISD Scotland",null,null,null,3,null,"Scotland"]
["Q 1",{"$f":"B12+B19","v":5252913},{"$f":"C12+C19","v":517418},31103,57195,337361,226030,165297,2077406,133916,840054,513447,0,0,353686,0,138557,21399,48445,38987,66589,57195,264551,178759,20668,24104,31965,312418,0,113376,337361,1440003,94929,175340,42770,5341,248383,534582,0,40690,239460,31103,0,90276,305472,46065,169970,134155,1.3274686939749862E-2,null,null,null,null,4,null,"Ayrshire & Arran Health Board"]
["Q 2",{"$f":"B13+B20","v":5226592},{"$f":"C13+C20","v":512891},86790,171875,403234,345510,354054,992686,300723,832227,803580,21780,6985,335883,58374,195837,102868,95352,75798,45819,171875,151204,191788,87017,99564,40509,332546,58374,210535,403234,543394,224925,60443,130423,55349,150283,466570,21780,89327,134521,86790,6985,170820,365657,89156,126802,241047,1.2350565421834908E-2,null,null,null,null,5,null,"Borders Health Board"]
["Q 3",{"$f":"B14+B21","v":5199490},285226,172634,286916,361361,273321,599274,762939,525596,679083,761694,20767,45086,351407,74186,176873,253919,125199,176950,60904,286916,88915,76172,39685,123150,36343,360804,74186,147202,361361,367308,348646,52877,84227,168482,100046,300385,20767,137293,175756,172634,45086,109008,378698,65215,90970,193513,1.0812425014975131E-2,null,null,null,null,6,null,"Dumfries & Galloway Health Board"]
["Q 4",5176374,280310,235385,174280,337393,320273,720264,758168,457561,453856,732850,55582,52135,598317,0,124011,438626,207869,109451,43903,174280,93869,81268,104396,148200,71641,363963,0,147402,337393,331938,348110,66049,81692,157627,118478,196730,55582,296579,142333,235385,52135,80564,257126,128968,41811,138995,9.3648469224185404E-3,null,null,null,null,7,null,"Fife Health Board"]
["Q 5",{"$f":"B16+B23","v":5173331},{"$f":"C16+C23","v":246465},37378,54724,376821,297676,901211,1032681,143914,391680,1315829,3111,7574,364267,0,437772,406748,80335,48834,35835,54724,120961,74643,272064,89772,267612,1011709,0,145785,376821,257887,95080,48351,66358,56691,63270,142333,3111,162971,162190,37378,7574,108552,249347,116056,24577,147990,7.5394980282599859E-3,null,null,null,null,8,null,"Forth Valley Health Board"]
["Males, by SIMD",null,null,null,null,null,null,null,null,null,null,null,null,null,null,null,null,null,null,null,null,null,null,null,null,null,null,null,null,null,null,null,null,null,null,null,null,null,null,null,null,null,null,null,null,null,null,null,null,null,null,null,null,9,null,"Grampian Health Board"]
["Males",{"$f":"SUM(B25:B44)","v":12601707},{"$f":"SUM(C25:C44)","v":881719},272816,360664,877215,707304,1359925,2703249,768233,1535610,1995974,49915,56486,967406,65191,530543,606876,269930,223465,123571,360664,342436,291443,252488,232415,214048,1153351,65191,370889,877215,1419490,544768,192577,193129,222506,322835,790075,49915,355040,408975,272816,56486,267441,745535,212844,215671,417079,1.5074592828583706E-2,null,75.47334646653772,null,null,10,null,"Greater Glasgow & Clyde Health Board"]
["Q 1",{"$f":"SUM(B66:B85)","v":2489967},{"$f":"SUM(C66:C85)","v":243769},14990,27388,161229,107930,81121,980921,64398,395397,244770,0,0,168054,0,67739,10712,23176,18860,31854,27388,125102,84633,9531,11475,15056,149231,0,54297,161229,682938,45538,82655,20062,2670,116302,252535,0,19776,111860,14990,0,42834,142862,21779,78881,64002,1.4024652873725566E-2,null,69.397490798675804,null,null,11,null,"Highland Health Board"]
["Q 2",{"$f":"SUM(B107:B126)","v":2515468},{"$f":"SUM(C107:C126)","v":243384},42187,82024,193054,164859,172125,483558,145741,396840,386866,10659,3421,162117,28633,95907,49848,44921,36440,21998,82024,72585,91481,41368,47086,18816,162356,28633,100709,193054,270693,109301,29182,61547,26370,70322,222777,10659,44611,63521,42187,3421,81581,174063,42152,59978,115877,1.2355683314045119E-2,null,73.483643760491603,null,null,12,null,"Lanarkshire Health Board"]
["Q 3",{"$f":"SUM(B148:B167)","v":2536055},{"$f":"SUM(C148:C167)","v":140231},84479,139327,175017,133170,295453,369979,258965,329437,370346,10154,22979,169960,36558,86858,124753,61249,86543,31114,139327,42215,39036,18792,58215,17182,177090,36558,71099,175017,179870,172422,25376,39735,83842,48191,146785,10154,66496,84772,84479,22979,53004,182652,30957,43987,95306,1.0514159718652391E-2,null,76.091259232499397,null,null,13,null,"Lothian Health Board"]
["Q 4",{"$f":"SUM(B189:B208)","v":2527989},{"$f":"SUM(C189:C208)","v":135325},113175,85417,163742,154937,359507,367772,225348,221768,355392,27587,26243,291776,0,61731,218453,101536,53830,21251,85417,44727,39835,50647,71747,34112,176414,0,71864,163742,161551,171518,31705,39436,79323,57394,96942,27587,145513,69293,113175,26243,38096,124826,61822,20464,67795,8.836763619667419E-3,null,78.197975247128667,null,null,14,null,"Orkney Health Board"]
["Q 5",{"$f":"SUM(B230:B249)","v":2532228},{"$f":"SUM(C230:C249)","v":119010},17985,26508,184173,146408,451719,501019,73781,192168,638600,1515,3843,175499,0,218308,203110,39048,27792,17354,26508,57807,36458,132150,43892,128882,488260,0,72920,184173,124438,45989,23659,32349,30301,30626,71036,1515,78644,79529,17985,3843,51926,121132,56134,12361,74099,7.052410019778489E-3,null,80.400122020022721,null,null,15,null,"Shetland Health Board"]
["Females, by SIMD",null,null,null,null,null,null,null,null,null,null,null,null,null,null,null,null,null,null,null,null,null,null,null,null,null,null,null,null,null,null,null,null,null,null,null,null,null,null,null,null,null,null,null,null,null,null,null,null,null,null,null,null,16,null,"Tayside Health Board"]
["Females",{"$f":"SUM(B45:B64)","v":13426993},{"$f":"SUM(C45:C64)","v":960591},290474,384326,938955,755506,1380175,2920631,793477,1661290,2131426,51325,55294,1036154,67369,542507,616684,287270,226555,129479,384326,377064,311187,271342,252375,234022,1228089,67369,393411,938955,1521040,566922,210483,212341,220984,357625,850525,51325,371820,445285,290474,55294,291779,810765,232616,238459,438621,1.4821357832814819E-2,null,80.153860442430641,null,null,17,null,"Western Isles Health Board"]
["Q 1",{"$f":"SUM(B86:B105)","v":2762946},{"$f":"SUM(C86:C105)","v":273649},16113,29807,176132,118100,84176,1096485,69518,444657,268677,0,0,185632,0,70818,10687,25269,20127,34735,29807,139449,94126,11137,12629,16909,163187,0,59079,176132,757065,49391,92685,22708,2671,132081,282047,0,20914,127600,16113,0,47442,162610,24286,91089,70153,1.2601400802765186E-2,null,76.387523110784798,null,null,18,null,"Aberdeen City Local Authority"]
["Q 2",{"$f":"SUM(B127:B146)","v":2711124},{"$f":"SUM(C127:C146)","v":269507},{"$f":"SUM(D127:D146)","v":44603},89851,210180,180651,181929,509128,154982,435387,416714,11121,3564,173766,29741,99930,53020,50431,39358,23821,89851,78619,100307,45649,52478,21693,170190,29741,109826,210180,272701,115624,31261,68876,28979,79961,243793,11121,44716,71000,44603,3564,89239,191594,47004,66824,125170,1.2345867551879089E-2,null,78.909902133926195,null,null,19,null,"Aberdeenshire Local Authority"]
["Q 3",{"$f":"SUM(B168:B187)","v":2663435},{"$f":"SUM(C168:C187)","v":144995},88155,147589,186344,140151,303821,392960,266631,349646,391348,10613,22107,181447,37628,90015,129166,63950,90407,29790,147589,46700,37136,20893,64935,19161,183714,37628,76103,186344,187438,176224,27501,44492,84640,51855,153600,10613,70797,90984,88155,22107,56004,196046,34258,46983,98207,1.1094864097283233E-2,null,80.300411181728805,null,null,20,null,"Angus Local Authority"]
["Q 4",{"$f":"SUM(B209:B228)","v":2648385},{"$f":"SUM(C209:C228)","v":144985},122210,88863,173651,165336,360757,390396,232213,232088,377458,27995,25892,306541,0,62280,220173,106333,55621,22652,88863,49142,41433,53749,76453,37529,187549,0,75538,173651,170387,176592,34344,42256,78304,61084,99788,27995,151066,73040,122210,25892,42468,132300,67146,21347,71200,9.8672552757737737E-3,null,81.727055289388218,null,null,21,null,"Argyll & Bute Local Authority"]
["Q 5",{"$f":"SUM(B250:B269)","v":2641103},{"$f":"SUM(C250:C269)","v":127455},19393,28216,192648,151268,449492,531662,70133,199512,677229,1596,3731,188768,0,219464,203638,41287,21042,18481,28216,63154,38185,139914,45880,138730,523449,0,72865,192648,133449,49091,24692,34009,26390,32644,71297,1596,84327,82661,19393,3731,56626,128215,59922,12216,73891,8.0081230210156448E-3,null,83.577579806016075,null,null,22,null,"Clackmannanshire Local Authority"]
["age/sex breakdown: All",null,null,null,null,null,null,null,null,null,null,null,null,null,null,null,null,null,null,null,null,null,null,null,null,null,null,null,null,null,null,null,null,null,null,null,null,null,null,null,null,null,null,null,null,null,null,null,null,null,null,null,null,23,null,"Dumfries & Galloway Local Authority"]
["Male <1",{"$f":"B66+B107+B148+B189+B230","v":151126},{"$f":"C66+C107+C148+C189+C230","v":10078},2888,3807,10867,8505,16288,33179,8283,19350,24961,539,709,11005,667,6458,7287,2893,2034,1542,3807,4390,3522,2476,2927,2330,13714,667,4716,10867,18451,6249,2253,2446,2543,3785,10404,539,3722,4899,2888,709,2771,8946,2247,2770,5874,null,null,null,"LE calculated within spreadsheet using the Chiang method",null,24,null,"Dundee City Local Authority"]
["Male 1-4",{"$f":"B67+B108+B149+B190+B231","v":582809},39813,11966,15224,41408,33902,61770,125685,32770,76641,93513,2077,2678,42672,2690,22314,29599,12041,8246,5993,15224,15931,13653,10669,12020,10161,48856,2690,18337,41408,65881,24524,8950,9734,9857,15300,41252,2077,14700,19364,11966,2678,10860,35389,9572,10660,22903,null,null,null,"LE calculated within spreadsheet using the Chiang method",null,25,null,"East Ayrshire Local Authority"]
["Male 5-9",691028,48419,15358,18658,49425,41396,72534,145777,41394,91320,105585,2441,3345,52019,3357,24843,35963,15249,11012,7209,18658,17665,15991,14986,13976,14196,53543,3357,21563,49425,71160,30382,10620,11739,11728,18304,48905,2441,19105,22928,15358,3345,14124,42415,12624,11887,26327,null,null,null,"LE calculated within spreadsheet using the Chiang method",null,26,null,"East Dunbartonshire Local Authority"]
["Male 10-14",754433,54401,16733,21625,52714,44892,79652,158759,47337,98584,111712,3240,3570,57350,3864,26117,39498,16865,13518,7783,21625,18929,18095,17506,15486,15944,55920,3864,22774,52714,74744,33819,11872,12577,14037,20655,51626,3240,21556,25278,16733,3570,15651,46958,14335,13415,27729,null,null,null,"LE calculated within spreadsheet using the Chiang method",null,27,null,"East Lothian Local Authority"]
["Male 15-19",836097,60263,16823,22638,59075,50460,86055,183987,48465,105021,127785,3169,3840,64440,4076,31608,39114,17626,14373,8267,22638,23798,20187,18676,15969,16003,69745,4076,25447,59075,93412,34092,13263,13655,15333,22998,54489,3169,23016,27353,16823,3840,17078,50532,16746,15280,28416,null,null,null,"LE calculated within spreadsheet using the Chiang method",null,28,null,"East Renfrewshire Local Authority"]
["Male 20-24",903866,55996,13335,19296,62809,47724,94502,222196,43732,102100,161018,2588,3129,72198,3243,46664,33858,15083,14029,8113,19296,33555,19050,16599,13385,13957,108561,3243,22322,62809,134258,29703,13597,12335,13980,20582,53324,2588,23560,27825,13335,{"$f":"AQ71+AQ112+AQ153+AQ194+AQ235","v":3129},16364,48776,17289,15960,26737,null,null,null,"LE calculated within spreadsheet using the Chiang method",null,29,null,"Edinburgh, City of Local Authority"]
["Male 25-29",855992,46857,11626,15987,51583,40455,93778,219213,40430,97892,166136,2405,3099,63726,2805,51962,29730,13275,11650,7219,15987,29051,15989,13359,10170,10227,121000,2805,22056,51583,143102,28780,11837,9998,12086,17190,52205,2405,21400,26534,11626,3099,13678,45687,11180,14154,24968,null,null,null,"LE calculated within spreadsheet using the Chiang method",null,30,null,"Eilean Siar Local Authority"]
["Male 30-34",762431,43723,12252,15365,47357,38973,86364,183098,39122,90237,145919,2355,3347,51082,3237,43294,31209,12991,10135,6915,15365,20219,15523,10111,10721,8583,99670,3237,23024,47357,119940,28987,9982,9671,11861,15892,48266,2355,17872,22589,12252,3347,12308,41971,9034,11893,25857,null,null,null,"LE calculated within spreadsheet using the Chiang method",null,31,null,"Falkirk Local Authority"]
["Male 35-39",847252,55445,17284,20672,58124,48361,95314,183200,46703,106939,147767,2956,3806,56504,4177,38177,41750,16706,13483,8488,20672,19329,19733,13620,15952,11969,87503,4177,26972,58124,106137,33220,11581,12712,15387,19768,56153,2956,20469,26310,17284,3806,15944,50786,12901,13583,31600,null,null,null,"LE calculated within spreadsheet using the Chiang method",null,32,null,"Fife Local Authority"]
["Male 40-44",956360,66008,21921,26241,67135,56498,105267,200493,57299,121764,153053,4052,4249,67396,4984,37977,49381,19630,16534,10154,26241,21717,23103,18172,18878,16031,83774,4984,30382,67135,103079,40765,14184,14717,17909,23706,63294,4052,26049,32520,21921,4249,19199,58470,15962,16507,35684,null,null,null,"LE calculated within spreadsheet using the Chiang method",null,33,null,"Glasgow City Local Authority"]
["Male 45-49",960786,67168,22027,28025,66358,55252,104289,205891,60323,119628,146422,4097,4477,71717,5112,37445,49404,21353,17245,9851,28025,23087,22250,20819,18943,18189,79191,5112,28889,66358,100599,43078,15938,14766,17440,24309,60364,4097,27277,33338,22027,4477,20609,59264,16512,17008,33522,null,null,null,"LE calculated within spreadsheet using the Chiang method",null,34,null,"Highland Local Authority"]
["Male 50-54",875149,62887,20231,26009,60969,48220,97647,184308,57578,108519,130276,3772,3931,65852,4950,35755,46445,19140,16382,8515,{"$f":"V77+V118+V159+V200+V241","v":26009},22068,20332,19646,17247,16865,70889,4950,25140,60969,88689,41196,14248,13752,15447,22808,53727,3772,24644,29219,20231,3931,19747,54792,14565,15641,28388,null,null,null,"LE calculated within spreadsheet using the Chiang method",null,35,null,"Inverclyde Local Authority"]
["Male 55-59",800746,60660,19620,26661,56147,44977,89976,158294,56308,96998,115456,3702,4032,62964,4951,32149,43365,19181,15787,8090,26661,19581,19531,17285,14779,13944,62681,4951,23074,56147,74191,40521,12843,12969,14462,21937,47969,3702,24202,25991,19620,4032,19192,49029,13813,14040,25027,null,null,null,"LE calculated within spreadsheet using the Chiang method",null,36,null,"Midlothian Local Authority"]
["Male 60-64",778002,61807,20706,28413,58308,45165,84479,145722,56446,90559,108918,3720,3992,64671,5096,28506,41550,19823,16931,8252,28413,19810,19596,16780,14767,13130,57046,5096,23106,58308,65137,39515,12296,13091,14423,22641,45299,3720,25038,25132,20706,3992,19570,45260,13807,13247,24014,null,null,null,"LE calculated within spreadsheet using the Chiang method",null,37,null,"Moray Local Authority"]
["Male 65-69",595909,48643,16063,23061,44573,34091,61325,111907,44642,70596,80634,3121,2932,50443,3878,20209,29521,15337,14206,5919,23061,15806,14917,12829,11831,9882,41164,3878,17585,44573,50401,30436,9580,9679,11595,17914,35254,3121,19300,19518,16063,2932,15812,35342,10587,9697,17960,null,null,null,"LE calculated within spreadsheet using the Chiang method",null,38,null,"North Ayrshire Local Authority"]
["Male 70-74",492020,40236,13203,19243,35674,28147,50929,94967,34272,57305,67547,2345,2139,42750,3263,17626,23495,12632,11161,4734,19243,13843,12242,11335,9568,8757,35929,3263,14595,35674,43110,23111,7833,7818,9808,14615,28248,2345,16275,15902,13203,2139,13379,29057,8818,8030,14232,null,null,null,"LE calculated within spreadsheet using the Chiang method",null,39,null,"North Lanarkshire Local Authority"]
["Male 75-79",369617,29280,9948,14615,26277,20116,38519,72617,25794,41794,51850,1585,1525,33347,2350,14263,17050,9643,8111,3391,14615,10933,8872,8864,7583,6741,29317,2350,10408,26277,33149,17683,5907,5719,7206,10385,20408,1585,12771,11874,9948,1525,10023,21386,6317,{"$f":"AU82+AU123+AU164+AU205+AU246","v":6082},9231,null,null,null,"LE calculated within spreadsheet using the Chiang method",null,40,null,"Orkney Islands Local Authority"]
["Male 80-84",232112,17877,6555,9212,17081,12190,24357,44763,16401,24924,33529,1061,962,21670,1530,8997,10928,6155,5162,1981,9212,7295,5408,5318,4971,4327,19544,1530,6357,17081,20593,11239,3530,3535,4432,6033,11855,1061,8220,7497,6555,962,6436,13069,3852,3498,5479,null,null,null,"LE calculated within spreadsheet using the Chiang method",null,41,null,"Perth & Kinross Local Authority"]
["Male 85-89",114610,8973,3280,4374,8318,5905,12312,21569,8060,11323,17477,528,521,11228,742,4511,5690,3031,2477,872,4374,4025,2551,2512,2397,2187,11022,742,3124,8318,10030,5583,1644,1685,2111,2951,5257,528,4172,3555,3280,521,3471,6066,1909,1641,2373,null,null,null,"LE calculated within spreadsheet using the Chiang method",null,42,null,"Renfrewshire Local Authority"]
["Male 90+",41362,3185,997,1538,3013,2075,4568,7624,2874,4116,6416,162,203,4372,219,1668,2039,1276,989,283,1538,1404,898,926,845,625,4282,219,1018,3013,3427,1885,619,531,861,1062,1776,162,1692,1349,997,203,1225,2340,774,678,758,null,null,null,null,null,43,null,"Scottish Borders Local Authority"]
["Female <1",144841,9551,2903,3705,10158,8349,15426,31881,7753,18679,24119,501,619,10618,579,6144,6928,2929,1954,1517,3705,4157,3273,2318,2776,2176,13468,579,4701,10158,18022,5799,1936,2370,2354,3645,9950,501,3532,4770,2903,619,2633,8729,2131,2659,5505,null,null,null,"LE calculated within spreadsheet using the Chiang method",null,44,null,"Shetland Islands Local Authority"]
["Female 1-4",555491,37792,11617,14693,39837,32681,58490,119844,30875,73343,88464,2011,2448,40827,2569,21824,27561,11679,7812,5736,14693,15136,12669,9920,11311,9810,46106,2569,17949,39837,63378,23063,8086,9272,9105,14469,38870,2011,14012,18587,11617,2448,10654,34473,8996,10063,21775,null,null,null,"LE calculated within spreadsheet using the Chiang method",null,45,null,"South Ayrshire Local Authority"]
["Female 5-9",660895,46883,14830,17449,46839,39007,68022,140168,39268,88693,101271,2459,3131,49470,3405,23564,33746,14554,10710,6701,17449,16752,15689,13868,{"$f":"Z88+Z129+Z170+Z211+Z252","v":13635},13368,50077,3405,20433,46839,68594,28558,9989,11444,10712,17921,46862,2459,18164,22673,14830,3131,13273,41831,11873,11676,26115,null,null,null,"LE calculated within spreadsheet using the Chiang method",null,46,null,"South Lanarkshire Local Authority"]
["Female 10-14",717767,51980,16183,20817,50950,42892,73548,150050,44406,94570,107084,2908,3595,54863,3921,23712,36760,16023,12699,7628,20817,17848,16631,16057,15233,14997,52108,3921,21578,50950,71193,31707,11403,12543,13076,20018,49347,2908,20992,23798,16183,3595,15331,45223,13686,12602,27200,null,null,null,"LE calculated within spreadsheet using the Chiang method",null,47,null,"Stirling Local Authority"]
["Female 15-19",797443,57079,16381,21201,57680,48249,83738,175113,43957,98344,123449,3141,3388,62107,3616,33374,36909,15934,12953,8091,21201,25676,19394,16569,15577,14627,68210,3616,22770,57680,91001,31004,12467,12922,13455,21323,50877,3141,20497,26184,16381,3388,16362,47467,17388,14265,26740,null,null,null,"LE calculated within spreadsheet using the Chiang method",null,48,null,"West Dunbartonshire Local Authority"]
["Female 20-24",882758,53556,13065,17635,62826,45921,92063,218316,35029,98375,168992,2252,2519,69756,2453,51974,29413,13451,9796,6991,17635,35823,18198,14354,12623,12112,118795,2453,21547,62826,137048,25233,12668,11869,10676,19959,52508,2252,20482,26856,13065,2519,15399,45867,17383,15278,25705,null,null,null,"LE calculated within spreadsheet using the Chiang method",null,49,null,"West Lothian Local Authority"]
["Female 25-29",841950,48543,11874,16676,51044,41686,84325,213184,36958,98731,171903,2340,2720,59153,2813,45694,28637,12747,8462,6850,16676,27686,16675,11446,10774,9330,124620,2813,23257,51044,140111,28496,11465,10785,9994,18335,52621,2340,18720,26133,11874,2720,13533,46110,11579,14699,25724,null,null,null,"LE calculated within spreadsheet using the Chiang method",null,50]
["Female 30-34",779499,48166,13139,17027,50942,43055,80222,181746,38937,97175,147502,2593,3439,52120,3436,35552,33713,14044,9556,7400,17027,20734,16620,11329,12681,10131,96654,3436,24268,50942,112305,29381,10543,11353,10957,18209,51635,2593,17342,24258,13139,3439,13337,45540,11387,13180,26814,null,null,null,"LE calculated within spreadsheet using the Chiang method",null,51]
["Female 35-39",910501,62054,18914,{"$f":"E94+E135+E176+E217+E258","v":22780},62195,54059,96258,196649,50627,118100,153593,3290,3851,63943,4188,35993,45340,18572,13718,9032,22780,21928,21220,16307,17855,14500,86593,4188,29319,62195,106703,36909,13248,14498,14925,23203,61981,3290,23443,30431,18914,3851,17631,56119,15708,15460,34647,null,null,null,"LE calculated within spreadsheet using the Chiang method",null,52]
["Female 40-44",1033085,74151,22915,28510,71617,60811,105983,224723,61005,133016,162123,3978,4098,75153,5002,37406,51361,21637,16958,10669,28510,25105,25297,21454,21008,19290,85926,5002,31929,71617,111900,44047,16658,17115,17216,27716,68680,3978,28411,36583,22915,4098,21138,64336,18213,18838,38074,null,null,null,"LE calculated within spreadsheet using the Chiang method",null,53]
["Female 45-49",1027033,74265,23109,30223,70237,57710,105216,227120,62646,130225,155619,3954,4297,77431,4981,38488,49805,22356,17596,10046,30223,26874,24181,23481,20067,19988,83541,4981,30163,70237,111192,45050,17190,17023,16923,27460,65674,3954,28201,36462,23109,4297,22624,64551,17501,18807,34988,null,null,null,"LE calculated within spreadsheet using the Chiang method",null,54]
["Female 50-54",920769,68111,21209,27865,63529,50333,96666,197960,58943,117851,135792,3828,3890,70082,4710,35051,45986,20446,16529,9144,27865,23515,21513,21536,17857,17507,73104,4710,26227,63529,95267,42414,15149,15237,15629,25201,58542,3828,26121,31248,21209,3890,21397,59309,14962,17253,29594,null,null,null,"LE calculated within spreadsheet using the Chiang method",null,55]
["Female 55-59",834550,64241,20034,27511,59721,47629,88676,166368,57741,103428,121018,3624,3736,66112,4711,30910,42847,19878,16667,8602,27511,20761,20095,18662,16101,14971,64556,4711,24877,59721,76001,41074,13537,13964,14919,23893,51644,3624,25473,28164,20034,3736,20253,51784,14150,15033,26397,null,null,null,"LE calculated within spreadsheet using the Chiang method",null,56]
["Female 60-64",819517,66240,21455,28884,62142,47153,84850,156286,57555,98217,116928,3622,3415,68077,4693,29083,40424,21005,18097,8685,28884,21126,20643,18249,15794,14448,61420,4693,{"$f":"AD99+AD140+AD181+AD222+AD263","v":24099},62142,68692,39458,13261,14190,15343,24626,49035,3622,25946,27281,21455,3415,20971,49182,14369,14355,25524,null,null,null,"LE calculated within spreadsheet using the Chiang method",null,57]
["Female 65-69",667449,54738,17461,24916,48839,38336,65782,131245,46679,82090,91597,3277,2951,55359,4179,22838,30352,16409,14478,6755,24916,17396,16628,15102,13133,11829,47518,4179,19734,48839,59316,32201,11056,10699,12592,20447,40986,3277,21554,22304,17461,2951,17663,41104,11847,11638,20247,null,null,null,"LE calculated within spreadsheet using the Chiang method",null,58]
["Female 70-74",593990,47248,15018,21050,41856,33173,57399,125294,39534,72794,82052,2526,2244,50088,3714,21605,24881,14427,12632,5607,21050,17245,14431,13673,11482,10832,45298,3714,17247,41856,59789,26902,10085,9232,10913,17184,36446,2526,18416,20475,15018,2244,15633,36348,10319,10440,16040,null,null,null,"LE calculated within spreadsheet using the Chiang method",null,59]
["Female 75-79",504598,39644,12329,17721,34447,26680,49824,110374,32702,59278,71100,1974,1818,43567,3140,20034,20435,12423,10381,4129,17721,15696,11968,11162,9722,9675,41630,3140,13972,34447,54510,22321,8974,7584,9355,14318,28422,1974,15448,16758,12329,1818,13358,30856,8579,9295,12164,null,null,null,"LE calculated within spreadsheet using the Chiang method",null,60]
["Female 80-84",374911,28274,9160,13303,26770,19382,37559,79645,24636,41882,54542,1461,1512,34292,2493,15276,15578,9595,7715,3039,13303,12089,8158,8458,7472,7406,33719,2493,10107,26770,38982,16921,6399,5212,6705,9944,19651,1461,12608,11684,9160,1512,10172,22231,6236,6716,8139,null,null,null,"LE calculated within spreadsheet using the Chiang method",null,61]
["Female 85-89",236401,18194,5980,8041,17369,12481,23909,49153,15603,24421,35461,971,1052,21933,1833,9491,10339,6049,4983,2066,8041,7810,5210,5001,4747,4644,22617,1833,6244,17369,24305,10620,4138,3329,4079,6408,11163,971,8074,6987,5980,1052,6576,13258,4171,4078,4768,null,null,null,"LE calculated within spreadsheet using the Chiang method",null,62]
["Female 90+",123545,9881,2898,4319,9957,5919,12219,{"$f":"I105+I146+I187+I228+I269","v":25512},8623,12078,18817,615,571,11203,933,4494,5669,3112,2859,791,4319,3707,2694,2396,2527,2381,12129,933,2990,9957,12731,5764,2231,1700,2056,3346,5631,615,4384,3649,2898,571,3841,6447,2138,2124,2461,null,null,null,null,null,63]
["age/sex breakdown: Q1",null,null,null,null,null,null,null,null,null,null,null,null,null,null,null,null,null,null,null,null,null,null,null,null,null,null,null,null,null,null,null,null,null,null,null,null,null,null,null,null,null,null,null,null,null,null,null,null,null,null,null,null,64]
["Male <1",38398,3577,241,482,2678,1686,1515,14419,1036,5753,4162,0,0,2849,0,1300,179,388,274,515,482,2115,1276,174,200,226,2584,0,878,2678,9899,762,1125,330,36,1703,3662,0,346,1705,241,0,598,2091,293,1290,1048,5.8204368047433839E-3,"National death rate calcuated from population size and average number of deaths for 2005-2009 inclusive (supplied by ISD Scotland)",null,"LE calculated within spreadsheet using the Chiang method",null,65]
["Male 1-4",140243,13236,953,1739,9221,6347,4983,53195,3787,21781,14769,0,0,10232,0,4244,619,1519,867,1896,1739,7572,4684,645,774,884,8933,0,3266,9221,36387,2920,4403,1164,120,6463,13996,0,1141,6201,953,0,2089,7785,1185,4675,3898,2.1695706494497517E-4,"National death rate calcuated from population size and average number of deaths for 2005-2009 inclusive (supplied by ISD Scotland)",null,"LE calculated within spreadsheet using the Chiang method",null,66]
["Male 5-9",151263,14526,1058,1789,9971,7173,4940,56487,4131,24860,15839,0,0,10489,0,4212,597,1487,993,2198,1789,7804,4884,733,828,956,9331,0,3514,9971,38943,3138,4595,1365,131,7335,16265,0,1198,6386,1058,0,2307,8595,1461,4874,4315,1.5186530207989435E-4,"National death rate calcuated from population size and average number of deaths for 2005-2009 inclusive (supplied by ISD Scotland)",null,"LE calculated within spreadsheet using the Chiang method",null,67]
["Male 10-14",156100,15630,1105,1663,10285,7327,4887,59111,4202,25789,15710,0,0,10391,0,4181,580,1546,1366,2141,1663,7742,5528,773,914,1200,9146,0,3553,10285,40504,2836,5023,1450,126,7747,17039,0,1103,6389,1105,0,2355,8750,1633,5222,4200,2.0066092692806934E-4,"National death rate calcuated from population size and average number of deaths for 2005-2009 inclusive (supplied by ISD Scotland)",null,"LE calculated within spreadsheet using the Chiang method",null,68]
["Male 15-19",176384,18227,1129,2047,11680,7890,4947,68740,4527,28358,17205,0,0,11634,0,4157,601,1592,1477,2376,2047,8764,6496,809,999,1190,10048,0,3691,11680,47745,3050,5831,1621,189,8897,18332,0,1278,7340,1129,0,2834,10026,1823,5825,4537,9.4683861108188787E-4,"National death rate calcuated from population size and average number of deaths for 2005-2009 inclusive (supplied by ISD Scotland)",null,"LE calculated within spreadsheet using the Chiang method",null,69]
["Male 20-24",197596,17853,973,2138,12015,8169,6558,83094,4633,29412,19450,0,0,13301,0,5525,837,1589,1401,2409,2138,10062,5898,781,839,1161,12114,0,3937,12015,60060,3232,6314,1595,196,8620,18774,0,1650,8337,973,0,3335,10638,1823,6441,4902,1.5218274268263216E-3,"National death rate calcuated from population size and average number of deaths for 2005-2009 inclusive (supplied by ISD Scotland)",null,"LE calculated within spreadsheet using the Chiang method",null,70]
["Male 25-29",192409,15617,768,1758,11141,6831,7248,82361,4673,28212,19774,0,0,14026,0,6086,981,1592,1167,2038,1758,10354,5051,616,681,1072,13259,0,3557,11141,60713,3506,5747,1328,181,7370,17905,0,2080,8672,768,0,3196,10307,1236,5541,4506,1.9681656142062748E-3,"National death rate calcuated from population size and average number of deaths for 2005-2009 inclusive (supplied by ISD Scotland)",null,"LE calculated within spreadsheet using the Chiang method",null,71]
["Male 30-34",161537,13373,803,1476,9541,5971,6282,68674,3922,23799,17105,0,0,10591,0,5359,805,1437,886,1834,1476,7620,4501,544,570,827,11385,0,3200,9541,50836,3036,4542,1037,118,6385,14889,0,1534,7367,803,0,2487,8910,937,4558,4113,3.3705444823173129E-3,"National death rate calcuated from population size and average number of deaths for 2005-2009 inclusive (supplied by ISD Scotland)",null,"LE calculated within spreadsheet using the Chiang method",null,72]
["Male 35-39",161448,15106,1060,1759,10280,6657,5695,64841,4059,25098,17060,0,0,9833,0,4691,787,1493,1112,1983,1759,7044,5533,533,831,867,10511,0,3517,10280,46683,2947,4649,1343,217,6829,15777,0,1296,7225,1060,0,2744,9321,1157,4884,4375,4.2163384619085999E-3,"National death rate calcuated from population size and average number of deaths for 2005-2009 inclusive (supplied by ISD Scotland)",null,"LE calculated within spreadsheet using the Chiang method",null,73]
["Male 40-44",173363,16580,1144,1858,11425,8065,5579,68111,4501,28108,17372,0,0,10620,0,4722,692,1583,1324,2436,1858,7749,6111,571,788,1043,10640,0,4040,11425,46741,3177,5670,1312,165,7634,18467,0,1288,8397,1144,0,2835,9641,1589,5689,4632,5.9535993543444309E-3,"National death rate calcuated from population size and average number of deaths for 2005-2009 inclusive (supplied by ISD Scotland)",null,"LE calculated within spreadsheet using the Chiang method",null,74]
["Male 45-49",172304,17178,1017,1768,11547,7620,5437,68544,4515,26958,16783,0,0,10937,0,4460,765,1626,1373,2298,1768,8055,5993,603,799,1156,10426,0,3724,11547,46756,3142,6030,1323,212,8286,17411,0,1256,8184,1017,0,2899,9547,1598,5815,4235,7.875079027001148E-3,"National death rate calcuated from population size and average number of deaths for 2005-2009 inclusive (supplied by ISD Scotland)",null,"LE calculated within spreadsheet using the Chiang method",null,75]
["Male 50-54",156483,16110,956,1578,10254,6545,4937,61652,4186,25761,14418,0,0,10086,0,4071,660,1369,1255,2141,1578,7596,5533,650,709,952,8789,0,2960,10254,42029,2931,5712,1266,206,7758,16097,0,1121,7074,956,0,2819,9664,1444,5235,3654,1.1476247233100629E-2,"National death rate calcuated from population size and average number of deaths for 2005-2009 inclusive (supplied by ISD Scotland)",null,"LE calculated within spreadsheet using the Chiang method",null,76]
["Male 55-59",140292,14873,860,1772,9137,6317,4460,53132,3905,23346,12910,0,0,9580,0,3639,634,1331,1182,1894,1772,7065,4933,529,632,734,7687,0,3063,9137,35611,2723,5292,1103,187,7171,14584,0,1184,6261,860,0,2769,8762,1360,4705,3488,1.6383516757488337E-2,"National death rate calcuated from population size and average number of deaths for 2005-2009 inclusive (supplied by ISD Scotland)",null,"LE calculated within spreadsheet using the Chiang method",null,77]
["Male 60-64",133950,14523,962,1714,9400,6255,4059,49136,3614,22877,12171,0,0,9239,0,3302,603,1293,1151,1841,1714,7078,4962,493,609,827,7046,0,3064,9400,32664,2463,5046,1071,154,6948,14365,0,868,5971,962,0,2613,8512,1350,4135,3445,2.4822296744380083E-2,"National death rate calcuated from population size and average number of deaths for 2005-2009 inclusive (supplied by ISD Scotland)",null,"LE calculated within spreadsheet using the Chiang method",null,78]
["Male 65-69",107896,11925,692,1273,7327,4845,2891,40611,2949,18355,9443,0,0,7585,0,2363,415,1010,981,1370,1273,5792,4133,383,430,646,5249,0,2465,7327,27503,1968,4150,892,113,5771,11401,0,783,4843,692,0,2021,6954,1010,3086,2872,3.6323533517603375E-2,"National death rate calcuated from population size and average number of deaths for 2005-2009 inclusive (supplied by ISD Scotland)",null,"LE calculated within spreadsheet using the Chiang method",null,79]
["Male 70-74",92303,10408,533,1046,5792,4238,2443,35411,2219,15581,8115,0,0,6517,0,1910,401,913,759,1027,1046,4923,3642,274,396,602,4555,0,2412,5792,23914,1460,3374,652,132,4849,9799,0,681,4599,533,0,1917,5782,799,2648,2512,5.1368843511913287E-2,"National death rate calcuated from population size and average number of deaths for 2005-2009 inclusive (supplied by ISD Scotland)",null,"LE calculated within spreadsheet using the Chiang method",null,80]
["Male 75-79",68682,7534,324,760,4534,2938,2101,26976,1661,11087,5953,0,0,4814,0,1690,310,704,607,701,760,3613,2736,199,223,364,3575,0,1745,4534,18192,1054,2761,553,101,3280,7161,0,497,3423,324,0,1518,3926,492,2037,1602,7.6359212227207054E-2,"National death rate calcuated from population size and average number of deaths for 2005-2009 inclusive (supplied by ISD Scotland)",null,"LE calculated within spreadsheet using the Chiang method",null,81]
["Male 80-84",41736,4419,235,483,3042,1853,1270,16037,1137,6304,3843,0,0,3113,0,1049,165,435,411,458,483,2380,1656,121,150,213,2268,0,1084,3042,10814,726,1472,361,56,1929,4064,0,298,2162,235,0,834,2240,311,1255,1064,0.11266540642722117,"National death rate calcuated from population size and average number of deaths for 2005-2009 inclusive (supplied by ISD Scotland)",null,"LE calculated within spreadsheet using the Chiang method",null,82]
["Male 85-89",20215,2308,133,190,1449,891,652,7518,534,2906,2003,0,0,1631,0,557,73,199,186,219,190,1299,808,71,80,101,1229,0,472,1449,5074,348,670,243,22,995,1888,0,133,966,133,0,505,1018,200,636,451,0.17326673801878942,"National death rate calcuated from population size and average number of deaths for 2005-2009 inclusive (supplied by ISD Scotland)",null,"LE calculated within spreadsheet using the Chiang method",null,83]
["Male 90+",7365,766,44,95,510,312,237,2871,207,1052,685,0,0,586,0,221,8,70,88,79,95,475,275,29,23,35,456,0,155,510,1870,119,249,53,8,332,659,0,41,358,44,0,159,393,78,330,153,null,null,null,null,null,84]
["Female <1",36506,3389,245,461,2356,1631,1362,13984,975,5369,4042,0,0,2692,0,1157,178,401,253,518,461,1958,1101,172,181,196,2602,0,829,2356,9782,722,899,295,27,1634,3409,0,333,1697,245,0,654,1960,284,1238,964,4.8490760931940774E-3,"National death rate calcuated from population size and average number of deaths for 2005-2009 inclusive (supplied by ISD Scotland)",null,"LE calculated within spreadsheet using the Chiang method",null,85]
["Female 1-4",133201,12749,900,1718,8938,5933,4659,50579,3623,20574,13911,0,0,9617,0,4044,534,1272,863,1846,1718,7213,4283,563,657,792,8511,0,2968,8938,34852,2760,3869,1105,81,6187,13086,0,1132,5984,900,0,2279,7488,1119,4519,3638,2.7637833825549992E-4,"National death rate calcuated from population size and average number of deaths for 2005-2009 inclusive (supplied by ISD Scotland)",null,"LE calculated within spreadsheet using the Chiang method",null,86]
["Female 5-9",145745,14503,1003,1778,9940,6522,4355,54561,3883,24376,14913,0,0,9911,0,3759,442,1478,1048,1912,1778,7236,5018,637,847,1096,8632,0,3242,9940,36932,2835,4440,1196,154,7177,15849,0,1197,6597,1003,0,2308,8527,1368,4859,4238,6.8724271350913E-5,"National death rate calcuated from population size and average number of deaths for 2005-2009 inclusive (supplied by ISD Scotland)",null,"LE calculated within spreadsheet using the Chiang method",null,87]
["Female 10-14",150444,15248,1027,1806,10158,6798,4478,56554,3896,25385,15231,0,0,9863,0,3786,519,1400,1202,2178,1806,7418,5089,674,918,1136,8577,0,3120,10158,38476,2694,4888,1425,173,7652,16684,0,1045,6346,1027,0,2507,8701,1500,5034,4311,1.4849823093411843E-4,"National death rate calcuated from population size and average number of deaths for 2005-2009 inclusive (supplied by ISD Scotland)",null,"LE calculated within spreadsheet using the Chiang method",null,88]
["Female 15-19",172731,18184,1122,2081,11722,8168,5240,65111,4581,27683,17077,0,0,11762,0,4358,695,1614,1439,2445,2081,8913,6349,705,990,1114,9952,0,3743,11722,44416,3142,5543,1626,187,8751,18067,0,1235,7410,1122,0,3084,9616,1980,5923,4509,4.1819671285926242E-4,"National death rate calcuated from population size and average number of deaths for 2005-2009 inclusive (supplied by ISD Scotland)",null,"LE calculated within spreadsheet using the Chiang method",null,89]
["Female 20-24",204286,19142,1103,2063,12671,8264,7448,82959,4473,30662,20853,0,0,14648,0,6197,1099,1770,1231,2448,2063,11128,6508,825,878,1178,13130,0,3961,12671,58517,3242,6333,1795,152,8983,19675,0,1750,9353,1103,0,3651,10987,1855,6753,5050,5.083808071292931E-4,"National death rate calcuated from population size and average number of deaths for 2005-2009 inclusive (supplied by ISD Scotland)",null,"LE calculated within spreadsheet using the Chiang method",null,90]
["Female 25-29",203207,16807,976,2071,11488,7959,7153,85378,4685,30044,22357,0,0,14289,0,6115,893,1733,931,2268,2071,10625,5663,751,809,1031,14912,0,4152,11488,61554,3754,6051,1461,145,7884,18688,0,1931,9454,976,0,3260,11356,1539,6537,5175,7.1807977021447341E-4,"National death rate calcuated from population size and average number of deaths for 2005-2009 inclusive (supplied by ISD Scotland)",null,"LE calculated within spreadsheet using the Chiang method",null,91]
["Female 30-34",170841,14839,840,1661,10095,7345,5743,70058,4161,26305,18575,0,0,11219,0,4900,723,1494,1035,2179,1661,8365,5149,666,747,937,12117,0,3876,10095,50430,3126,4788,1366,120,7107,16288,0,1360,7833,840,0,2583,10017,1290,5404,4345,1.3012171924050929E-3,"National death rate calcuated from population size and average number of deaths for 2005-2009 inclusive (supplied by ISD Scotland)",null,"LE calculated within spreadsheet using the Chiang method",null,92]
["Female 35-39",184293,17844,1126,1868,11523,7866,5914,72881,4773,29912,19090,0,0,11496,0,4994,758,1580,1378,2440,1868,8501,6315,724,909,1148,11772,0,3773,11523,50935,3395,5746,1514,162,8548,19116,0,1415,8483,1126,0,2981,10796,1653,5845,4895,1.8920600317742689E-3,"National death rate calcuated from population size and average number of deaths for 2005-2009 inclusive (supplied by ISD Scotland)",null,"LE calculated within spreadsheet using the Chiang method",null,93]
["Female 40-44",202466,20386,1245,2140,13003,8667,5781,81434,5062,32476,19495,0,0,12777,0,4842,772,1897,1407,2563,2140,9508,7263,895,945,1390,11643,0,4200,13003,55891,3655,7009,1693,167,9823,20957,0,1372,9342,1245,0,3300,11519,1904,6907,5214,2.5314072841120753E-3,"National death rate calcuated from population size and average number of deaths for 2005-2009 inclusive (supplied by ISD Scotland)",null,"LE calculated within spreadsheet using the Chiang method",null,94]
["Female 45-49",196805,19906,992,2024,12107,8155,5559,80166,4678,31734,18498,0,0,12986,0,4588,773,1798,1355,2457,2024,9930,6824,880,952,1344,10960,0,3969,12107,55354,3323,6854,1697,198,9824,20230,0,1258,9213,992,0,3258,11504,1729,6521,4889,4.0045090987170535E-3,"National death rate calcuated from population size and average number of deaths for 2005-2009 inclusive (supplied by ISD Scotland)",null,"LE calculated within spreadsheet using the Chiang method",null,95]
["Female 50-54",172244,17742,942,1807,10471,7074,5068,68340,4359,29121,16121,0,0,11199,0,4188,705,1572,1283,2159,1807,8378,5938,838,881,1032,9508,0,3326,10471,46903,3076,6135,1453,175,8708,18242,0,1249,7598,942,0,3096,10879,1589,5834,4279,5.9880616959451368E-3,"National death rate calcuated from population size and average number of deaths for 2005-2009 inclusive (supplied by ISD Scotland)",null,"LE calculated within spreadsheet using the Chiang method",null,96]
["Female 55-59",148521,15815,973,1614,9399,6602,4326,56557,3915,25913,13376,0,0,10031,0,3628,527,1396,1189,2029,1614,7419,5282,586,744,938,7702,0,3211,9399,38059,2726,5446,1223,171,7830,16191,0,1216,6557,973,0,2703,9722,1362,4971,3707,9.6664369959064567E-3,"National death rate calcuated from population size and average number of deaths for 2005-2009 inclusive (supplied by ISD Scotland)",null,"LE calculated within spreadsheet using the Chiang method",null,97]
["Female 60-64",144406,15707,970,1635,9829,6187,3840,54072,3835,25191,13260,0,0,9880,0,3193,488,1354,1214,1916,1635,7487,5406,537,581,848,7678,0,3059,9829,36056,2621,5414,1214,159,7802,15536,0,1039,6608,970,0,2499,9655,1212,4609,3787,1.4360888993414865E-2,"National death rate calcuated from population size and average number of deaths for 2005-2009 inclusive (supplied by ISD Scotland)",null,"LE calculated within spreadsheet using the Chiang method",null,98]
["Female 65-69",126534,13882,770,1479,8455,5481,3097,49742,3087,21940,10706,0,0,7895,0,2557,345,1107,993,1557,1479,5928,4750,427,398,739,6143,0,2935,8455,33618,2094,4866,910,195,6763,13569,0,860,6133,770,0,2369,8371,989,3959,3255,2.1763388502625807E-2,"National death rate calcuated from population size and average number of deaths for 2005-2009 inclusive (supplied by ISD Scotland)",null,"LE calculated within spreadsheet using the Chiang method",null,99]
["Female 70-74",121724,12673,587,1272,7460,5295,3111,49833,2969,20295,10336,0,0,7893,0,2590,378,1108,961,1269,1272,6025,4486,326,435,709,6052,0,3029,7460,33982,2008,4817,858,143,6040,12798,0,760,6365,587,0,2147,7497,997,3634,2991,3.2162780364988729E-2,"National death rate calcuated from population size and average number of deaths for 2005-2009 inclusive (supplied by ISD Scotland)",null,"LE calculated within spreadsheet using the Chiang method",null,100]
["Female 75-79",105266,10515,555,1070,6432,4227,3064,44649,2609,16387,8769,0,0,6989,0,2545,401,995,888,992,1070,5322,3726,314,332,534,5437,0,2465,6432,30680,1721,4342,737,118,4872,10291,0,672,5369,555,0,1917,6096,770,3410,2263,4.9069240618536389E-2,"National death rate calcuated from population size and average number of deaths for 2005-2009 inclusive (supplied by ISD Scotland)",null,"LE calculated within spreadsheet using the Chiang method",null,101]
["Female 80-84",74638,7338,429,725,5031,3090,2058,30940,2051,11500,6157,0,0,5319,0,1716,271,696,784,778,725,4082,2552,322,237,390,3855,0,1743,5031,21108,1267,2841,594,71,3407,7198,0,541,3700,429,0,1379,4302,569,2579,1471,8.1111647472588103E-2,"National death rate calcuated from population size and average number of deaths for 2005-2009 inclusive (supplied by ISD Scotland)",null,"LE calculated within spreadsheet using the Chiang method",null,102]
["Female 85-89",45718,4607,227,368,3330,1849,1299,18996,1226,6441,3976,0,0,3399,0,1118,126,412,443,499,368,2653,1611,219,116,250,2670,0,978,3330,12850,783,1612,366,55,2142,4006,0,334,2335,227,0,854,2435,372,1730,824,0.15014568410829185,"National death rate calcuated from population size and average number of deaths for 2005-2009 inclusive (supplied by ISD Scotland)",null,"LE calculated within spreadsheet using the Chiang method",null,103]
["Female 90+",23370,2373,81,166,1724,987,621,9691,677,3349,1934,0,0,1767,0,543,60,192,230,282,166,1360,813,76,72,107,1334,0,500,1724,6670,447,792,180,18,947,2167,0,215,1223,81,0,613,1182,205,823,348,null,null,null,null,null,104]
["age/sex breakdown: Q2",null,null,null,null,null,null,null,null,null,null,null,null,null,null,null,null,null,null,null,null,null,null,null,null,null,null,null,null,null,null,null,null,null,null,null,null,null,null,null,null,null,null,null,null,null,null,null,null,null,null,null,null,105]
["Male <1",31272,2777,500,1000,2511,2052,2241,5802,1921,4925,5066,119,65,2009,284,1217,666,594,436,288,1000,841,1020,517,613,229,1921,284,1193,2511,3306,1485,337,863,358,839,2969,119,574,726,500,65,918,1956,571,687,1669,6.0561448121256743E-3,"National death rate calcuated from population size and average number of deaths for 2005-2009 inclusive (supplied by ISD Scotland)",null,"LE calculated within spreadsheet using the Chiang method",null,106]
["Male 1-4",116436,10794,1869,3838,9445,7780,7897,20833,7180,19626,18425,471,214,7013,1051,4044,2530,2199,1616,1128,3838,2775,4027,1966,2428,918,6485,1051,4543,9445,11023,5564,1269,3274,1323,3294,11700,471,2039,2847,1869,214,3473,7926,2109,2810,6238,2.3672949103159429E-4,"National death rate calcuated from population size and average number of deaths for 2005-2009 inclusive (supplied by ISD Scotland)",null,"LE calculated within spreadsheet using the Chiang method",null,107]
["Male 5-9",132379,13150,2166,4495,10596,9391,8234,23671,8268,22406,20067,452,208,7948,1327,4063,2719,2439,1982,1330,4495,3122,4900,2429,2613,1164,6654,1327,5504,10596,12042,6286,1489,3732,1452,3848,12984,452,2387,3422,2166,208,4402,9422,2557,3125,7068,8.9337561977933619E-5,"National death rate calcuated from population size and average number of deaths for 2005-2009 inclusive (supplied by ISD Scotland)",null,"LE calculated within spreadsheet using the Chiang method",null,108]
["Male 10-14",144032,14711,2175,5100,11569,10014,8985,25639,8854,24088,21760,729,182,8543,1683,4430,2969,2559,2212,1296,5100,3542,5499,2698,2928,1277,7058,1683,6137,11569,12498,6642,1841,4094,1586,4400,13800,729,2442,3651,2175,182,4812,10288,2581,3674,7680,1.0116269659284038E-4,"National death rate calcuated from population size and average number of deaths for 2005-2009 inclusive (supplied by ISD Scotland)",null,"LE calculated within spreadsheet using the Chiang method",null,109]
["Male 15-19",164145,16514,2507,5204,12971,11191,10395,31616,9488,26137,25112,673,257,10318,1762,5526,3235,2875,2207,1347,5204,4403,6178,3116,3210,1256,9526,1762,6850,12971,16698,7281,2037,4475,1634,5197,14705,673,3040,4209,2507,257,5139,11432,2994,4300,7901,7.5952289809633178E-4,"National death rate calcuated from population size and average number of deaths for 2005-2009 inclusive (supplied by ISD Scotland)",null,"LE calculated within spreadsheet using the Chiang method",null,110]
["Male 20-24",186609,15952,2515,4678,12777,11370,14115,41604,8918,26610,31204,534,236,14696,1400,9131,3138,2779,2152,1362,4678,7847,5987,2879,3023,1288,15807,1400,6370,12777,26037,6766,2310,4251,1846,4727,15131,534,4070,4648,2515,236,5238,11479,3638,4442,8123,1.142844337878567E-3,"National death rate calcuated from population size and average number of deaths for 2005-2009 inclusive (supplied by ISD Scotland)",null,"LE calculated within spreadsheet using the Chiang method",null,111]
["Male 25-29",188045,14119,2517,4050,12568,10570,15560,44598,8441,26271,32137,579,242,15120,1273,10634,3236,2879,2078,1197,4050,8167,5461,2769,2416,1046,18530,1273,6495,12568,30215,6363,2076,3417,1690,4030,15388,579,4074,4468,2517,242,4628,10883,2878,4024,7774,1.3542260316098927E-3,"National death rate calcuated from population size and average number of deaths for 2005-2009 inclusive (supplied by ISD Scotland)",null,"LE calculated within spreadsheet using the Chiang method",null,112]
["Male 30-34",165793,12599,2420,3997,11213,10119,12343,39165,8321,23723,28274,580,236,11414,1389,8015,2800,2651,2037,1229,3997,5211,4964,2301,2367,959,15423,1389,6497,11213,26967,6284,1841,3200,1528,3464,13914,580,3552,3743,2420,236,4171,9809,2393,3354,7284,1.8834825962515003E-3,"National death rate calcuated from population size and average number of deaths for 2005-2009 inclusive (supplied by ISD Scotland)",null,"LE calculated within spreadsheet using the Chiang method",null,113]
["Male 35-39",171182,15672,2622,4878,12277,11399,11062,35860,8883,27371,28567,625,173,9992,1801,6298,3106,3106,2399,1627,4878,4003,6066,2562,3102,1132,13346,1801,6850,12277,22357,6484,1818,3776,1658,4477,15645,625,2883,4342,2622,173,5129,11726,2922,3649,8343,2.3115702853008999E-3,"National death rate calcuated from population size and average number of deaths for 2005-2009 inclusive (supplied by ISD Scotland)",null,"LE calculated within spreadsheet using the Chiang method",null,114]
["Male 40-44",185043,18335,3353,5871,14753,12717,11622,35999,10243,29590,28612,786,257,10673,2232,6123,3467,3175,2664,1853,5871,4338,6927,2919,3591,1388,11692,2232,7588,14753,20270,7579,2167,4326,2032,5293,16468,786,3160,4796,3353,257,6115,13122,3276,4459,9003,3.3468609031673917E-3,"National death rate calcuated from population size and average number of deaths for 2005-2009 inclusive (supplied by ISD Scotland)",null,"LE calculated within spreadsheet using the Chiang method",null,115]
["Male 45-49",182687,18103,3094,6106,13986,12313,11548,35450,10969,29629,27257,733,283,10918,2298,6341,3292,3280,2715,1597,6106,4463,6837,3361,3545,1584,10698,2298,7385,13986,19085,8254,2244,4560,1915,5235,16250,733,3175,4694,3094,283,6031,13379,3331,4482,8454,4.4750763898390115E-3,"National death rate calcuated from population size and average number of deaths for 2005-2009 inclusive (supplied by ISD Scotland)",null,"LE calculated within spreadsheet using the Chiang method",null,116]
["Male 50-54",165669,16364,3057,5621,13042,10724,11353,30791,10588,27038,24089,762,199,9895,2146,6238,3279,2967,2670,1368,5621,4133,5978,2848,3210,1487,9329,2146,6682,13042,16282,7918,1975,4225,1836,4872,14688,762,2795,3972,3057,199,5514,12350,2674,4227,7325,7.2939973150930124E-3,"National death rate calcuated from population size and average number of deaths for 2005-2009 inclusive (supplied by ISD Scotland)",null,"LE calculated within spreadsheet using the Chiang method",null,117]
["Male 55-59",152444,16031,2793,5671,12308,10170,10531,25841,10144,24882,21652,781,235,9166,2239,5585,3227,2968,2416,1418,5671,3719,6130,2294,2728,1240,8275,2239,6484,12308,12795,7728,1963,3867,1719,4598,13404,781,2479,3619,2793,235,5303,11478,2268,3930,6782,1.100690921077294E-2,"National death rate calcuated from population size and average number of deaths for 2005-2009 inclusive (supplied by ISD Scotland)",null,"LE calculated within spreadsheet using the Chiang method",null,118]
["Male 60-64",150760,16763,2897,6049,12418,10205,9924,24269,10114,24176,21225,835,212,9382,2291,4880,3495,2857,2485,1551,6049,4148,6232,2280,2868,1088,7511,2291,6408,12418,11322,7629,1834,3868,1549,4859,13242,835,2377,3765,2897,212,5672,10934,2246,3980,6978,1.6729692721377538E-2,"National death rate calcuated from population size and average number of deaths for 2005-2009 inclusive (supplied by ISD Scotland)",null,"LE calculated within spreadsheet using the Chiang method",null,119]
["Male 65-69",120137,13216,2144,5130,9751,8142,7696,19511,8099,19964,16508,694,168,7415,1699,3678,2634,2237,2164,1101,5130,3474,4798,1865,2386,831,5660,1699,5244,9751,8835,5935,1339,3198,1384,3655,11179,694,1704,3480,2144,168,4763,8785,1797,3161,5264,2.6436067443463756E-2,"National death rate calcuated from population size and average number of deaths for 2005-2009 inclusive (supplied by ISD Scotland)",null,"LE calculated within spreadsheet using the Chiang method",null,120]
["Male 70-74",101827,11211,1992,4238,8207,6684,7091,16887,6184,16107,14520,579,96,6547,1484,3592,2364,1928,1600,969,4238,3189,4156,1788,2290,775,5323,1484,4136,8207,7863,4584,1096,2617,1135,3181,8730,579,1430,2969,1992,96,3874,7377,1579,2396,4290,4.1069856765623754E-2,"National death rate calcuated from population size and average number of deaths for 2005-2009 inclusive (supplied by ISD Scotland)",null,"LE calculated within spreadsheet using the Chiang method",null,121]
["Male 75-79",76621,8542,1645,3066,6082,5003,5724,12722,4449,11975,10941,291,71,4960,1150,3007,1849,1476,1266,714,3066,2445,3186,1256,1904,593,4169,1150,3080,6082,6255,3183,795,1819,868,2340,6398,291,1039,2161,1645,71,3016,5577,1209,1662,3049,6.6036602458852262E-2,"National death rate calcuated from population size and average number of deaths for 2005-2009 inclusive (supplied by ISD Scotland)",null,"LE calculated within spreadsheet using the Chiang method",null,122]
["Male 80-84",48275,5055,1178,1780,3998,2997,3420,8163,2813,7616,6867,247,54,3414,673,1800,1109,1063,788,416,1780,1584,1941,884,1130,344,2838,673,1894,3998,4172,2025,489,1236,511,1183,3979,247,767,1260,1178,54,1931,3637,687,1014,1663,0.1025071405902888,"National death rate calcuated from population size and average number of deaths for 2005-2009 inclusive (supplied by ISD Scotland)",null,"LE calculated within spreadsheet using the Chiang method",null,123]
["Male 85-89",23980,2579,606,939,1861,1533,1791,3958,1390,3444,3408,154,22,1967,328,993,547,660,383,172,939,851,904,476,573,179,1546,328,1054,1861,2077,1007,199,557,251,635,1652,154,456,573,606,22,1040,1792,307,454,732,0.17940501888828925,"National death rate calcuated from population size and average number of deaths for 2005-2009 inclusive (supplied by ISD Scotland)",null,"LE calculated within spreadsheet using the Chiang method",null,124]
["Male 90+",8132,897,137,313,721,485,593,1179,474,1262,1175,35,11,727,123,312,186,229,170,35,313,330,290,160,161,38,565,123,315,721,594,304,63,192,95,195,551,35,168,176,137,11,412,711,135,148,257,null,null,null,null,null,125]
["Female <1",30074,2731,496,981,2301,2077,2204,5434,1713,4794,4877,114,39,2064,249,1220,628,669,419,271,981,809,1071,438,569,214,1955,249,1270,2301,3019,1294,322,800,356,786,2850,114,586,771,496,39,874,1944,536,670,1553,4.3626640396861698E-3,"National death rate calcuated from population size and average number of deaths for 2005-2009 inclusive (supplied by ISD Scotland)",null,"LE calculated within spreadsheet using the Chiang method",null,126]
["Female 1-4",110650,10427,1856,3689,8710,7630,7577,19728,6687,18527,17205,415,135,6968,1096,4094,2170,2315,1642,931,3689,2705,3896,1690,2184,847,6220,1096,4691,8710,10619,5045,1179,2907,1313,3257,11090,415,1948,2826,1856,135,3274,7437,2008,2567,5894,2.0952979608941208E-4,"National death rate calcuated from population size and average number of deaths for 2005-2009 inclusive (supplied by ISD Scotland)",null,"LE calculated within spreadsheet using the Chiang method",null,127]
["Female 5-9",126577,12668,1836,4157,10289,8714,8011,22516,7760,21447,19236,585,169,7828,1361,4114,2583,2581,1846,1169,4157,3052,4885,2102,2563,1010,5989,1361,5194,10289,11483,5914,1412,3555,1314,3988,12506,585,2195,3473,1836,169,3795,8941,2351,3036,7129,1.4806156243911943E-4,"National death rate calcuated from population size and average number of deaths for 2005-2009 inclusive (supplied by ISD Scotland)",null,"LE calculated within spreadsheet using the Chiang method",null,128]
["Female 10-14",137431,14255,2136,4888,11289,9776,7935,24021,8466,23454,20620,589,179,8119,1704,3827,2734,2684,2155,1367,4888,3072,5190,2369,2865,1372,6243,1704,5854,11289,11904,6311,1638,3996,1374,4507,13360,589,2363,3370,2136,179,4558,10094,2555,3368,7516,1.4037057832678272E-4,"National death rate calcuated from population size and average number of deaths for 2005-2009 inclusive (supplied by ISD Scotland)",null,"LE calculated within spreadsheet using the Chiang method",null,129]
["Female 15-19",158191,15696,2458,5077,12593,11107,10418,29953,8847,24267,24740,683,203,10590,1559,5322,3356,3085,2304,1410,5077,4971,6047,2688,3260,1355,9867,1559,6634,12593,16480,6543,1837,4283,1740,4610,13373,683,2534,3823,2458,203,5039,10894,3063,3770,7330,3.1382985400635192E-4,"National death rate calcuated from population size and average number of deaths for 2005-2009 inclusive (supplied by ISD Scotland)",null,"LE calculated within spreadsheet using the Chiang method",null,130]
["Female 20-24",185087,15585,2763,4593,13369,11733,15145,38697,7979,25784,32404,491,242,15215,1087,10311,3149,3036,2162,1360,4593,8777,5889,2782,3024,1298,17280,1087,6618,13369,24050,5817,2011,4097,1685,4589,14874,491,3402,4415,2763,242,5107,10910,3755,4141,8003,3.7582349560065438E-4,"National death rate calcuated from population size and average number of deaths for 2005-2009 inclusive (supplied by ISD Scotland)",null,"LE calculated within spreadsheet using the Chiang method",null,131]
["Female 25-29",186058,14818,2361,4543,12518,11073,13910,41532,8306,26849,34292,555,217,13892,1192,9370,3037,3132,1944,1376,4543,7266,5717,2611,2768,1130,19915,1192,6557,12518,27438,6362,1861,3821,1503,4361,15549,555,3494,4494,2361,217,4740,11300,3140,3998,7788,3.6025488032783196E-4,"National death rate calcuated from population size and average number of deaths for 2005-2009 inclusive (supplied by ISD Scotland)",null,"LE calculated within spreadsheet using the Chiang method",null,132]
["Female 30-34",163784,14239,2210,4421,11588,11058,10418,35400,8347,25321,28381,583,331,10039,1448,5989,2871,2675,1983,1328,4421,4676,5325,2456,2829,1054,14135,1448,6626,11588,22656,6364,1670,3874,1558,4275,14971,583,2688,3991,2210,331,4639,10350,3104,3573,7543,7.2237229489786631E-4,"National death rate calcuated from population size and average number of deaths for 2005-2009 inclusive (supplied by ISD Scotland)",null,"LE calculated within spreadsheet using the Chiang method",null,133]
["Female 35-39",180460,17585,2819,5577,13438,12584,11578,34501,10007,29901,29304,727,245,10454,1740,6344,3348,3255,2455,1661,5577,4214,6646,3165,3332,1347,12112,1740,7315,13438,19101,7552,2006,4498,1886,5396,17156,727,2985,4707,2819,245,5543,12745,3608,4175,9362,1.02781929258764E-3,"National death rate calcuated from population size and average number of deaths for 2005-2009 inclusive (supplied by ISD Scotland)",null,"LE calculated within spreadsheet using the Chiang method",null,134]
["Female 40-44",199405,20857,3157,6606,15695,14069,12135,37599,11575,33040,30518,724,228,11141,2061,6278,3774,3257,2714,1985,6606,4773,7979,3613,3979,1750,11326,2061,8274,15695,19170,8861,2336,5272,2083,6339,18494,724,3111,5563,3157,228,6539,14546,3810,5167,9941,1.6632618913235667E-3,"National death rate calcuated from population size and average number of deaths for 2005-2009 inclusive (supplied by ISD Scotland)",null,"LE calculated within spreadsheet using the Chiang method",null,135]
["Female 45-49",195652,20081,3068,6555,15331,13373,12287,37869,11712,32015,28648,788,237,11487,2201,6864,3568,3358,2860,1744,6555,4971,7387,3666,3898,1818,10469,2201,8170,15331,18967,8852,2675,5179,1855,6001,17704,788,3158,5439,3068,237,6693,14311,3459,5304,9102,2.6937322622540769E-3,"National death rate calcuated from population size and average number of deaths for 2005-2009 inclusive (supplied by ISD Scotland)",null,"LE calculated within spreadsheet using the Chiang method",null,136]
["Female 50-54",176250,18002,3003,6190,14121,11326,11440,32911,10722,29629,25504,803,236,10371,1992,6046,3358,3223,2635,1478,6190,4415,6567,3228,3426,1468,9059,1992,7102,14121,16637,8087,2210,4727,2036,5368,16167,803,2733,4476,3003,236,6067,13462,2746,4892,8292,4.4989456532157574E-3,"National death rate calcuated from population size and average number of deaths for 2005-2009 inclusive (supplied by ISD Scotland)",null,"LE calculated within spreadsheet using the Chiang method",null,137]
["Female 55-59",161590,16969,2761,5985,13349,10770,10974,27100,10699,27071,23262,735,254,9601,2060,5408,3576,2865,2596,1449,5985,4076,6042,2514,3119,1310,8083,2060,6953,13349,12630,8103,2082,4439,1990,5207,14880,735,2660,4174,2761,254,5720,12191,2368,4390,7621,6.4236693609882566E-3,"National death rate calcuated from population size and average number of deaths for 2005-2009 inclusive (supplied by ISD Scotland)",null,"LE calculated within spreadsheet using the Chiang method",null,138]
["Female 60-64",162769,18034,3122,6245,13462,11209,10996,26495,10340,26542,23480,820,211,9679,2134,5401,3778,2918,2730,1780,6245,4281,6589,2694,3084,1210,8228,2134,6962,13462,11736,7610,2019,4449,1817,5382,14848,820,2480,4401,3122,211,6063,11694,2467,4435,7719,1.0521629248426994E-2,"National death rate calcuated from population size and average number of deaths for 2005-2009 inclusive (supplied by ISD Scotland)",null,"LE calculated within spreadsheet using the Chiang method",null,139]
["Female 65-69",138177,15319,2685,5488,10947,9589,8792,22853,8772,23498,19055,737,163,8424,1855,4235,2970,2555,2335,1299,5488,3930,5572,2428,2803,1108,6623,1855,6043,10947,10185,6437,1610,3406,1587,4525,13281,737,1939,4001,2685,163,5222,10217,2247,3521,6223,1.6824723702746271E-2,"National death rate calcuated from population size and average number of deaths for 2005-2009 inclusive (supplied by ISD Scotland)",null,"LE calculated within spreadsheet using the Chiang method",null,140]
["Female 70-74",127643,13719,2350,4694,9638,8357,8598,23114,7761,20963,17746,588,118,8205,1792,4513,2626,2444,2288,1201,4694,3966,5171,2251,2825,1161,6750,1792,5165,9638,10979,5473,1486,3072,1459,3903,11617,588,1795,4012,2350,118,4645,9346,1991,3225,5099,2.5172437764063426E-2,"National death rate calcuated from population size and average number of deaths for 2005-2009 inclusive (supplied by ISD Scotland)",null,"LE calculated within spreadsheet using the Chiang method",null,141]
["Female 75-79",111446,11905,2227,4156,8591,6775,7999,21038,6163,17722,15431,480,107,7302,1550,4460,2125,2337,1694,828,4156,3385,4437,2023,2406,1032,6233,1550,4236,8591,10519,4469,1180,2837,1414,3190,9210,480,1580,3396,2227,107,4278,8512,1711,2888,3955,4.4394997039137227E-2,"National death rate calcuated from population size and average number of deaths for 2005-2009 inclusive (supplied by ISD Scotland)",null,"LE calculated within spreadsheet using the Chiang method",null,142]
["Female 80-84",82955,8282,1703,3006,6555,4817,6083,15064,4732,13275,11512,344,98,6276,1208,3340,1644,2040,1266,601,3006,2714,2981,1551,1893,654,5163,1208,3140,6555,7812,3466,867,1801,1099,2093,6506,344,1522,2174,1703,98,3208,6769,1076,2006,2655,7.3692721090053023E-2,"National death rate calcuated from population size and average number of deaths for 2005-2009 inclusive (supplied by ISD Scotland)",null,"LE calculated within spreadsheet using the Chiang method",null,143]
["Female 85-89",52017,5574,1122,1915,4181,3240,3666,8938,2926,7737,7170,210,95,4284,959,1978,1073,1367,845,446,1915,1822,1993,947,1152,373,3248,959,2103,4181,4895,2081,582,1193,615,1489,3668,210,1095,1076,1122,95,2092,4069,691,1065,1577,0.15636309216075753,"National death rate calcuated from population size and average number of deaths for 2005-2009 inclusive (supplied by ISD Scotland)",null,"LE calculated within spreadsheet using the Chiang method",null,144]
["Female 90+",24908,2761,470,1085,2215,1374,1763,4365,1468,3551,3329,150,57,1827,493,816,652,635,485,137,1085,744,923,433,499,182,1292,493,919,2215,2421,983,278,670,295,695,1689,150,448,418,470,57,1143,1862,318,633,868,null,null,null,null,null,145]
["age/sex breakdown: Q3",null,null,null,null,null,null,null,null,null,null,null,null,null,null,null,null,null,null,null,null,null,null,null,null,null,null,null,null,null,null,null,null,null,null,null,null,null,null,null,null,null,null,null,null,null,null,null,null,null,null,null,null,146]
["Male <1",28766,1369,863,1398,2039,1545,3400,4219,2422,4103,4863,89,269,1804,383,941,1414,643,718,342,1398,476,345,234,788,184,2176,383,873,2039,2043,1704,238,441,1045,480,1886,89,685,1055,863,269,544,2217,330,465,1458,4.4682097861119246E-3,"National death rate calcuated from population size and average number of deaths for 2005-2009 inclusive (supplied by ISD Scotland)",null,"LE calculated within spreadsheet using the Chiang method",null,147]
["Male 1-4",109815,5570,3554,5530,7985,6335,12829,15275,9794,15843,16953,372,1011,7125,1639,3037,5692,2664,3109,1349,5530,1788,1435,884,2813,717,6859,1639,3566,7985,6926,6685,1001,1811,4100,2037,7497,372,2673,3942,3554,1011,2098,8346,1420,1805,5470,2.4109398808031324E-4,"National death rate calcuated from population size and average number of deaths for 2005-2009 inclusive (supplied by ISD Scotland)",null,"LE calculated within spreadsheet using the Chiang method",null,148]
["Male 5-9",131075,7316,4530,6934,9774,7254,15127,17466,13113,19469,17663,420,1315,8664,2030,3660,6746,3402,4232,1608,6934,1756,2008,1154,3106,967,6579,2030,4005,9774,7209,8881,1327,2194,4721,2426,9154,420,3506,4716,4530,1315,2882,10315,1641,2093,5784,1.7882822803579542E-4,"National death rate calcuated from population size and average number of deaths for 2005-2009 inclusive (supplied by ISD Scotland)",null,"LE calculated within spreadsheet using the Chiang method",null,149]
["Male 10-14",146678,8709,5152,8578,10116,7733,16717,19332,15980,21050,19106,559,1451,10014,2181,3479,7664,3845,5361,1875,8578,2001,2371,1264,3840,1127,6839,2181,4090,10116,7483,10619,1670,2360,5574,3070,9300,559,4168,5229,5152,1451,3268,11750,1768,2559,6067,1.5170403202933823E-4,"National death rate calcuated from population size and average number of deaths for 2005-2009 inclusive (supplied by ISD Scotland)",null,"LE calculated within spreadsheet using the Chiang method",null,150]
["Male 15-19",159461,9336,5394,8705,10690,8339,18610,23527,15851,21984,21081,562,1500,11568,2314,4916,7978,4136,5309,1901,8705,3015,2663,1286,4202,1261,7877,2314,4449,10690,10530,10542,1930,2687,5716,3195,9531,562,4417,5545,5394,1500,3478,12453,1989,2975,6315,6.7441730963179293E-4,"National death rate calcuated from population size and average number of deaths for 2005-2009 inclusive (supplied by ISD Scotland)",null,"LE calculated within spreadsheet using the Chiang method",null,151]
["Male 20-24",172572,8367,4135,6860,10627,9102,21033,31883,12751,20773,29829,605,1253,13511,1843,8951,7252,3706,4182,2261,6860,5816,2770,1234,4051,1178,17376,1843,3941,10627,19291,8569,1812,2303,4830,2547,9117,605,3989,5490,4135,1253,3050,11656,2900,2878,6099,8.8048622405928608E-4,"National death rate calcuated from population size and average number of deaths for 2005-2009 inclusive (supplied by ISD Scotland)",null,"LE calculated within spreadsheet using the Chiang method",null,152]
["Male 25-29",173497,6674,3777,5475,10231,9114,20290,35350,11999,20984,35693,482,1154,10742,1532,9764,6333,3094,3584,2342,5475,3910,2084,1200,2964,839,24804,1532,4533,10231,23468,8415,1465,2057,4193,2049,9505,482,3738,5563,3777,1154,2541,11479,2239,2815,5868,9.9650295546684E-4,"National death rate calcuated from population size and average number of deaths for 2005-2009 inclusive (supplied by ISD Scotland)",null,"LE calculated within spreadsheet using the Chiang method",null,153]
["Male 30-34",160910,6641,3947,5608,9882,8211,18299,29485,12046,20640,33887,499,1247,8670,1848,7580,6264,3070,3556,2112,5608,2624,2152,1009,3011,763,22153,1848,4518,9882,19145,8490,1154,2059,4455,2051,9945,499,2976,4961,3947,1247,2438,10695,1581,2453,6664,1.1979843438024911E-3,"National death rate calcuated from population size and average number of deaths for 2005-2009 inclusive (supplied by ISD Scotland)",null,"LE calculated within spreadsheet using the Chiang method",null,154]
["Male 35-39",176562,9076,5296,7814,12412,9666,19857,28245,14758,23822,31065,586,1416,10173,2376,6054,8138,3908,4797,2307,7814,2601,2695,1351,4084,987,16384,2376,5191,12412,15446,9961,1483,2517,5665,3107,11408,586,3664,6012,5296,1416,3274,12414,2168,2966,8080,1.6348014386252658E-3,"National death rate calcuated from population size and average number of deaths for 2005-2009 inclusive (supplied by ISD Scotland)",null,"LE calculated within spreadsheet using the Chiang method",null,155]
["Male 40-44",197583,11220,6635,9980,13900,10723,22524,29065,19346,27886,29078,768,1611,12095,2752,6000,9662,4464,6314,2724,9980,2656,3427,1669,4536,1238,13136,2752,5731,13900,13374,13032,2176,2991,6862,3764,12885,768,4975,7068,6635,1611,4029,15001,2268,3540,8415,2.0985150126461823E-3,"National death rate calcuated from population size and average number of deaths for 2005-2009 inclusive (supplied by ISD Scotland)",null,"LE calculated within spreadsheet using the Chiang method",null,156]
["Male 45-49",194828,11355,6857,10934,13609,10513,21420,28669,20458,26583,26211,911,1810,12684,2814,5477,9214,4768,6701,2795,10934,2756,3077,1494,4495,1400,11095,2814,5489,13609,12777,13757,2460,3009,6729,3886,11725,911,5160,6785,6857,1810,4392,14858,2229,3753,7612,3.1664640270656023E-3,"National death rate calcuated from population size and average number of deaths for 2005-2009 inclusive (supplied by ISD Scotland)",null,"LE calculated within spreadsheet using the Chiang method",null,157]
["Male 50-54",175613,10443,6060,10177,12405,9094,19731,24294,19887,23155,23158,854,1683,11868,2804,4930,9061,4444,6468,2085,10177,2623,2864,1324,4248,1337,9813,2804,5018,12405,10665,13419,2052,2909,5740,3641,9847,854,4801,5547,6060,1683,3938,13308,1991,3369,6188,5.1463833996749659E-3,"National death rate calcuated from population size and average number of deaths for 2005-2009 inclusive (supplied by ISD Scotland)",null,"LE calculated within spreadsheet using the Chiang method",null,158]
["Male 55-59",162440,9904,6059,10495,11247,8346,19124,20797,20256,20110,20041,782,1747,10820,2712,4943,8969,4234,6540,1895,10495,2102,2590,1222,3650,1139,8031,2712,4549,11247,8858,13716,1550,2955,5212,3447,8661,782,4484,5042,6059,1747,3867,11449,1902,2986,5405,7.7142010080047431E-3,"National death rate calcuated from population size and average number of deaths for 2005-2009 inclusive (supplied by ISD Scotland)",null,"LE calculated within spreadsheet using the Chiang method",null,159]
["Male 60-64",161710,10384,6603,11478,11972,8335,19480,18839,20878,18519,18638,794,1753,11232,2805,4874,9197,4474,7284,1847,11478,2085,2677,1114,3360,997,7284,2805,4536,11972,7278,13594,1524,2921,5409,3796,8279,794,4673,5098,6603,1753,3911,10240,1952,2828,5073,1.3107909011026765E-2,"National death rate calcuated from population size and average number of deaths for 2005-2009 inclusive (supplied by ISD Scotland)",null,"LE calculated within spreadsheet using the Chiang method",null,160]
["Male 65-69",125415,8336,5189,9425,9343,6334,14906,13580,16924,14570,13743,720,1315,8851,2179,3519,6950,3438,6273,1286,9425,1610,2176,742,2790,866,4963,2179,3577,9343,5146,10651,1118,2057,4437,2976,6088,720,3803,3723,5189,1315,3184,8482,1471,1985,3933,2.0239849544481259E-2,"National death rate calcuated from population size and average number of deaths for 2005-2009 inclusive (supplied by ISD Scotland)",null,"LE calculated within spreadsheet using the Chiang method",null,161]
["Male 70-74",102564,6660,4053,7896,7471,5242,12586,11442,13122,12029,11462,476,1021,7325,1779,3374,5478,2691,5057,982,7896,1428,1708,642,2251,859,4262,1779,3039,7471,4047,8065,980,1739,3734,2412,4859,476,3206,3124,4053,1021,2540,7170,1221,1790,3210,3.3849414257961966E-2,"National death rate calcuated from population size and average number of deaths for 2005-2009 inclusive (supplied by ISD Scotland)",null,"LE calculated within spreadsheet using the Chiang method",null,162]
["Male 75-79",76406,4475,3105,5935,5461,3600,9457,9039,9654,8842,8616,328,681,6013,1200,2691,4062,2011,3434,727,5935,1248,1011,537,1851,678,3394,1200,1965,5461,3117,6220,699,1400,2704,1747,3694,328,2754,2530,3105,681,1717,5148,908,1478,1971,5.7181139021221308E-2,"National death rate calcuated from population size and average number of deaths for 2005-2009 inclusive (supplied by ISD Scotland)",null,"LE calculated within spreadsheet using the Chiang method",null,163]
["Male 80-84",47593,2697,1957,3621,3458,2183,5964,5549,5938,5560,5361,198,441,3809,857,1633,2736,1311,2186,404,3621,899,609,244,1241,409,2234,857,1208,3458,1820,3752,472,811,1595,939,2140,198,1599,1827,1957,441,1149,3420,571,777,1075,9.7975221694973483E-2,"National death rate calcuated from population size and average number of deaths for 2005-2009 inclusive (supplied by ISD Scotland)",null,"LE calculated within spreadsheet using the Chiang method",null,164]
["Male 85-89",23854,1251,982,1797,1675,1096,3003,2848,2809,2636,2888,114,227,2114,414,796,1423,665,1030,205,1797,613,267,130,657,190,1398,414,600,1675,924,1779,192,364,784,443,964,114,836,1067,982,227,541,1672,291,345,469,0.17718641347954001,"National death rate calcuated from population size and average number of deaths for 2005-2009 inclusive (supplied by ISD Scotland)",null,"LE calculated within spreadsheet using the Chiang method",null,165]
["Male 90+",8713,448,331,687,720,405,1096,1075,979,879,1010,35,74,878,96,239,520,281,408,67,687,208,107,58,277,46,433,96,221,720,323,571,73,150,337,178,300,35,389,448,331,74,163,579,117,127,150,null,null,null,null,null,166]
["Female <1",27728,1269,874,1325,2019,1499,3254,4173,2313,4041,4614,92,238,1687,330,931,1368,602,717,350,1325,448,324,244,674,173,2125,330,840,2019,2089,1596,252,441,955,484,1873,92,637,941,874,238,461,2168,309,474,1374,3.2833199709846137E-3,"National death rate calcuated from population size and average number of deaths for 2005-2009 inclusive (supplied by ISD Scotland)",null,"LE calculated within spreadsheet using the Chiang method",null,167]
["Female 1-4",104708,5086,3177,5588,7735,5995,12138,14772,9367,15450,16092,406,938,6491,1473,3131,5350,2521,2948,1341,5588,1509,1309,894,2540,732,6526,1473,3317,7735,6668,6419,1028,1856,3657,1792,7258,406,2461,3676,3177,938,1985,8192,1337,1774,5170,1.9078029139179241E-4,"National death rate calcuated from population size and average number of deaths for 2005-2009 inclusive (supplied by ISD Scotland)",null,"LE calculated within spreadsheet using the Chiang method",null,168]
["Female 5-9",126132,6997,4477,6784,9039,7039,14092,17347,12538,18512,17362,411,1200,8290,2044,3184,6524,3095,4148,1529,6784,1862,1773,1173,3051,919,6325,2044,3827,9039,7261,8390,1449,2253,4384,2494,8479,411,3333,4447,4477,1200,2730,10033,1683,2098,5733,6.9984447900466566E-5,"National death rate calcuated from population size and average number of deaths for 2005-2009 inclusive (supplied by ISD Scotland)",null,"LE calculated within spreadsheet using the Chiang method",null,169]
["Female 10-14",139583,7902,5016,7929,10024,7359,16003,18470,15017,19637,18658,550,1435,9366,2217,3247,7490,3539,5059,1775,7929,1939,1988,1282,3811,1049,6250,2217,3974,10024,7386,9958,1584,2586,5266,2731,8774,550,3888,4886,5016,1435,3183,10863,1610,2283,6011,1.2437295302848142E-4,"National death rate calcuated from population size and average number of deaths for 2005-2009 inclusive (supplied by ISD Scotland)",null,"LE calculated within spreadsheet using the Chiang method",null,170]
["Female 15-19",151944,8357,4922,7846,10307,8410,18338,23117,14346,19959,21425,618,1386,10856,2057,5411,7660,3532,4763,1941,7846,3639,2229,1248,4698,1048,7960,2057,4150,10307,11401,9583,1657,2549,5267,2939,8723,618,3685,5220,4922,1386,3189,11236,2319,2543,6218,3.3697842677326634E-4,"National death rate calcuated from population size and average number of deaths for 2005-2009 inclusive (supplied by ISD Scotland)",null,"LE calculated within spreadsheet using the Chiang method",null,171]
["Female 20-24",167413,6810,3817,6318,10019,8837,20372,33544,10352,19218,32880,504,1016,12360,1366,10023,6278,2994,3352,1478,6318,5895,1839,1307,4163,974,20789,1366,4013,10019,22038,7000,1581,2181,4071,2341,8438,504,3471,5064,3817,1016,2630,10780,3346,2580,5747,3.3007699680713982E-4,"National death rate calcuated from population size and average number of deaths for 2005-2009 inclusive (supplied by ISD Scotland)",null,"LE calculated within spreadsheet using the Chiang method",null,172]
["Female 25-29",169727,5970,3804,5920,10171,8308,18697,34182,11155,20265,38151,485,984,10014,1621,8637,6041,3029,3230,1547,5920,3700,1530,1009,3058,833,26969,1621,4696,10171,22841,7925,1298,2247,4019,2151,9320,485,3285,5596,3804,984,2289,10945,2065,2605,5877,3.9815710141630168E-4,"National death rate calcuated from population size and average number of deaths for 2005-2009 inclusive (supplied by ISD Scotland)",null,"LE calculated within spreadsheet using the Chiang method",null,173]
["Female 30-34",159870,6918,4069,6295,10720,8453,16727,28106,12020,21093,32340,495,1355,9291,1988,5718,6622,3458,3625,1781,6295,2559,1890,1150,3356,912,20146,1988,4689,10720,16667,8395,1386,2264,4387,2409,9994,495,3274,5356,4069,1355,2619,11099,1983,2635,6574,5.0221034553311796E-4,"National death rate calcuated from population size and average number of deaths for 2005-2009 inclusive (supplied by ISD Scotland)",null,"LE calculated within spreadsheet using the Chiang method",null,174]
["Female 35-39",182846,9575,5677,8581,12887,10186,20104,28573,16118,25226,30047,586,1503,11335,2448,5314,8788,4210,5227,2211,8581,2762,2566,1608,4545,1154,14477,2448,5715,12887,14215,10891,1730,2894,6002,3349,11507,586,4363,6746,5677,1503,3660,13719,2260,3120,8131,9.0306575252884348E-4,"National death rate calcuated from population size and average number of deaths for 2005-2009 inclusive (supplied by ISD Scotland)",null,"LE calculated within spreadsheet using the Chiang method",null,175]
["Female 40-44",204996,11538,6829,10795,14410,11347,22209,30647,20494,28998,29208,810,1580,13190,2941,5743,9909,4896,6799,2785,10795,2832,3168,1747,5184,1462,12128,2941,6120,14410,13543,13695,2413,3467,6557,4046,12852,810,5462,7694,6829,1580,4324,16146,2442,3788,8429,1.3737190672206531E-3,"National death rate calcuated from population size and average number of deaths for 2005-2009 inclusive (supplied by ISD Scotland)",null,"LE calculated within spreadsheet using the Chiang method",null,176]
["Female 45-49",202729,12101,7100,11785,14240,10528,21798,29721,21194,27828,27298,810,1660,13886,2780,5595,9704,5260,7012,2440,11785,3018,3145,1660,4707,1539,11327,2780,5718,14240,13170,14182,2510,3541,6499,4222,12147,810,5608,6951,7100,1660,4734,15681,2370,3891,7723,2.1359715880263828E-3,"National death rate calcuated from population size and average number of deaths for 2005-2009 inclusive (supplied by ISD Scotland)",null,"LE calculated within spreadsheet using the Chiang method",null,177]
["Female 50-54",181789,11022,6426,10618,13033,9269,20042,25633,20753,24940,22893,762,1566,12114,2718,5289,9004,4578,6630,2102,10618,2646,2759,1538,4240,1387,9233,2718,5202,13033,11086,14123,2126,3223,5749,4006,10571,762,4890,5902,6426,1566,4257,14369,1965,3594,6197,3.4926512346380133E-3,"National death rate calcuated from population size and average number of deaths for 2005-2009 inclusive (supplied by ISD Scotland)",null,"LE calculated within spreadsheet using the Chiang method",null,178]
["Female 55-59",168767,10481,6196,10861,12124,8937,19754,21612,20408,21341,20730,788,1496,11388,2651,5168,9253,4445,6986,1923,10861,2355,2702,1404,3887,1238,8017,2651,4992,12124,8356,13422,1857,3095,5333,3662,9284,788,4588,5549,6196,1496,4117,12057,2022,3208,5731,5.3473473358237747E-3,"National death rate calcuated from population size and average number of deaths for 2005-2009 inclusive (supplied by ISD Scotland)",null,"LE calculated within spreadsheet using the Chiang method",null,179]
["Female 60-64",168891,10955,6744,11709,12823,8656,19658,20037,20902,20415,19951,793,1469,12220,2559,5033,8866,4694,7664,1830,11709,2349,2921,1299,3867,1239,7328,2559,4771,12823,7291,13238,1667,3171,5759,3917,8947,793,5177,5545,6744,1469,4117,11468,2055,2996,5585,8.3389986964467252E-3,"National death rate calcuated from population size and average number of deaths for 2005-2009 inclusive (supplied by ISD Scotland)",null,"LE calculated within spreadsheet using the Chiang method",null,180]
["Female 65-69",138124,9053,5322,10074,9943,7260,16016,15889,17181,17145,15929,762,1328,9898,2324,4061,7080,3690,6195,1412,10074,1858,2288,971,3229,1020,5813,2324,4077,9943,5619,10986,1391,2381,4875,3345,7165,762,4350,4497,5322,1328,3420,9980,1771,2391,4506,1.3253003260370091E-2,"National death rate calcuated from population size and average number of deaths for 2005-2009 inclusive (supplied by ISD Scotland)",null,"LE calculated within spreadsheet using the Chiang method",null,181]
["Female 70-74",120141,7261,4563,8371,8564,6202,14305,14967,14153,15233,14098,560,1054,8888,1922,4111,5998,3039,5263,1168,8371,2035,1783,734,2994,1059,5413,1922,3510,8564,5595,8890,1206,2116,4196,2627,6299,560,3814,4118,4563,1054,2851,8934,1524,2255,3575,2.236666029439878E-2,"National death rate calcuated from population size and average number of deaths for 2005-2009 inclusive (supplied by ISD Scotland)",null,"LE calculated within spreadsheet using the Chiang method",null,182]
["Female 75-79",100381,5851,3682,6671,6754,5018,12403,13075,11724,12777,11874,424,769,7769,1590,3853,5101,2455,4457,847,6671,1946,1343,648,2688,1009,4877,1590,2818,6754,4985,7267,1058,1797,3449,2175,5163,424,3368,3311,3682,769,2333,7614,1353,2064,2512,3.9151295866598497E-2,"National death rate calcuated from population size and average number of deaths for 2005-2009 inclusive (supplied by ISD Scotland)",null,"LE calculated within spreadsheet using the Chiang method",null,183]
["Female 80-84",75560,3997,2770,5125,5702,3713,9353,9675,8531,9108,9004,349,545,6403,1285,3028,4017,2044,3179,704,5125,1658,781,496,2061,742,3877,1285,2047,5702,3680,5352,704,1297,2308,1558,3594,349,2701,2589,2770,545,1658,5514,962,1464,1769,6.9160279691357227E-2,"National death rate calcuated from population size and average number of deaths for 2005-2009 inclusive (supplied by ISD Scotland)",null,"LE calculated within spreadsheet using the Chiang method",null,184]
["Female 85-89",47917,2528,1860,3246,3653,2226,5613,6303,5293,5639,5880,260,411,4131,874,1711,2614,1305,2034,456,3246,1191,510,349,1363,489,2751,874,1163,3653,2353,3259,391,801,1288,1038,2149,260,1635,1852,1860,411,980,3490,607,869,965,0.16079817203843261,"National death rate calcuated from population size and average number of deaths for 2005-2009 inclusive (supplied by ISD Scotland)",null,"LE calculated within spreadsheet using the Chiang method",null,185]
["Female 90+",24189,1324,830,1748,2177,909,2945,3117,2772,2821,2914,148,174,1870,440,827,1499,564,1119,170,1748,499,288,132,819,183,1383,440,464,2177,1194,1653,213,332,619,569,1063,148,807,1044,830,174,467,1758,275,351,380,null,null,null,null,null,186]
["age/sex breakdown: Q4",null,null,null,null,null,null,null,null,null,null,null,null,null,null,null,null,null,null,null,null,null,null,null,null,null,null,null,null,null,null,null,null,null,null,null,null,null,null,null,null,null,null,null,null,null,null,null,null,null,null,null,null,187]
["Male <1",27546,1353,1127,695,1724,1789,4082,3969,2312,2734,4266,311,323,2861,0,630,2684,996,416,263,695,433,488,423,915,404,2020,0,935,1724,1833,1896,325,443,768,541,1180,311,1432,767,1127,323,324,1554,591,217,888,4.2772537837245002E-3,"National death rate calcuated from population size and average number of deaths for 2005-2009 inclusive (supplied by ISD Scotland)",null,"LE calculated within spreadsheet using the Chiang method",null,188]
["Male 1-4",110551,5755,4719,3096,6754,7278,16153,15561,9477,11175,16235,1171,1212,11965,0,2006,11000,4357,1850,1052,3096,1656,1935,1919,3984,1709,6908,0,3661,6754,6527,7627,1237,1853,3147,2505,4778,1171,5952,3307,4719,1212,1315,6397,2565,862,3490,1.7636193181290783E-4,"National death rate calcuated from population size and average number of deaths for 2005-2009 inclusive (supplied by ISD Scotland)",null,"LE calculated within spreadsheet using the Chiang method",null,189]
["Male 5-9",137119,7257,6342,4149,9180,8789,19645,18653,12354,13170,18522,1506,1446,16106,0,2016,13568,5943,2728,1114,4149,2215,2119,2950,4711,2256,7427,0,4330,9180,6998,9626,1652,2358,4061,3296,5874,1506,7948,3776,6342,1446,1842,7296,3345,1021,4026,1.3597068758229805E-4,"National death rate calcuated from population size and average number of deaths for 2005-2009 inclusive (supplied by ISD Scotland)",null,"LE calculated within spreadsheet using the Chiang method",null,190]
["Male 10-14",150805,7854,7035,4745,9929,10134,21596,20831,13973,14344,18932,1856,1653,17923,0,2184,14558,6434,3297,1233,4745,2391,2227,3403,4608,2513,7701,0,4408,9929,7666,10676,1783,2414,4854,3670,6507,1856,9098,4329,7035,1653,1957,7837,4493,1137,4209,1.1661807580174928E-4,"National death rate calcuated from population size and average number of deaths for 2005-2009 inclusive (supplied by ISD Scotland)",null,"LE calculated within spreadsheet using the Chiang method",null,191]
["Male 15-19",157477,8407,6633,4976,10137,9967,22538,24451,13542,14542,20684,1812,1803,17985,0,3581,13924,6368,3270,1353,4976,2824,2555,3706,4532,2508,9264,0,4168,10137,10689,10272,1952,2748,5033,3735,6520,1812,8793,4393,6633,1803,2117,8022,4446,1203,4140,5.4037215748351864E-4,"National death rate calcuated from population size and average number of deaths for 2005-2009 inclusive (supplied by ISD Scotland)",null,"LE calculated within spreadsheet using the Chiang method",null,192]
["Male 20-24",158119,7301,4960,4268,9552,8857,22194,30498,11344,13122,25289,1368,1483,17883,0,6513,11405,5044,2589,1098,4268,4504,2242,3287,3367,2194,16069,0,3554,9552,17275,8755,1975,2338,4276,3088,5641,1368,8335,4387,4960,1483,1971,7481,4205,1380,3515,8.8087730272816639E-4,"National death rate calcuated from population size and average number of deaths for 2005-2009 inclusive (supplied by ISD Scotland)",null,"LE calculated within spreadsheet using the Chiang method",null,193]
["Male 25-29",149252,6101,3990,3629,7870,8055,21500,28776,10640,12778,28259,1300,1538,14816,0,7584,9935,4226,2054,1012,3629,3195,1883,2611,2776,1717,20011,0,3936,7870,17583,8586,1713,1841,3981,2642,5844,1300,7395,3949,3990,1538,1576,6934,3107,1203,3631,8.0050904164699599E-4,"National death rate calcuated from population size and average number of deaths for 2005-2009 inclusive (supplied by ISD Scotland)",null,"LE calculated within spreadsheet using the Chiang method",null,194,null,"Scotland"]
["Male 30-34",141579,6514,4360,3262,7790,8404,21358,22605,11371,13533,26152,1234,1693,13303,0,6074,11204,4399,2257,1189,3262,2270,2185,1858,3232,1506,16934,0,4686,7790,13185,9114,1579,1945,4080,2829,6112,1234,6634,3461,4360,1693,1500,7421,2529,1016,4041,9.519961098288462E-4,"National death rate calcuated from population size and average number of deaths for 2005-2009 inclusive (supplied by ISD Scotland)",null,"LE calculated within spreadsheet using the Chiang method",null,195,null,"Ayrshire & Arran Health Board"]
["Male 35-39",173907,8817,7155,4678,10688,11201,25733,24744,14176,18105,27827,1655,1892,17236,0,4752,15204,6258,3069,1671,4678,2456,2869,2765,5263,2090,14455,0,5754,10688,12198,11107,2104,2744,5777,3810,8137,1655,8522,4362,7155,1892,2138,9968,3776,1225,5365,1.2247594797995262E-3,"National death rate calcuated from population size and average number of deaths for 2005-2009 inclusive (supplied by ISD Scotland)",null,"LE calculated within spreadsheet using the Chiang method",null,196,null,"Borders Health Board"]
["Male 40-44",203052,10855,9301,6512,13254,12771,29247,28605,17581,20100,28490,2396,1971,21969,0,4137,18488,7778,4153,1797,6512,3140,3315,3695,6156,2561,12665,0,6409,13254,12725,13428,2363,3208,6622,4870,9096,2396,11051,5702,9301,1971,2670,11004,4565,1559,6461,1.5718403590567023E-3,"National death rate calcuated from population size and average number of deaths for 2005-2009 inclusive (supplied by ISD Scotland)",null,"LE calculated within spreadsheet using the Chiang method",null,197,null,"Dumfries & Galloway Health Board"]
["Male 45-49",204991,10872,9635,6842,13565,12789,28687,30241,18482,18820,27384,2326,2077,23271,0,4093,18231,8441,4458,1752,6842,3320,3224,4343,6124,2909,12055,0,5883,13565,12292,14024,2786,3176,6363,4599,8149,2326,11510,6160,9635,2077,3049,10671,5154,1751,6029,2.2931281587086068E-3,"National death rate calcuated from population size and average number of deaths for 2005-2009 inclusive (supplied by ISD Scotland)",null,"LE calculated within spreadsheet using the Chiang method",null,198,null,"Fife Health Board"]
["Male 50-54",186249,10590,8856,6528,12587,11054,26667,27150,17472,16377,24032,2003,1810,21123,0,3974,16881,7373,4349,1530,6528,3429,3090,4232,5453,2676,10596,0,4960,12587,10486,13123,2509,2936,5812,4271,7221,2003,10321,5511,8856,1810,3229,9156,4564,1736,5047,3.4603611197373675E-3,"National death rate calcuated from population size and average number of deaths for 2005-2009 inclusive (supplied by ISD Scotland)",null,"LE calculated within spreadsheet using the Chiang method",null,199,null,"Forth Valley Health Board"]
["Male 55-59",172680,10064,8453,6506,11542,10233,24854,23576,16965,14353,21271,1973,1872,21018,0,3561,15691,7443,4203,1394,6506,3024,3031,3659,4675,2242,9558,0,4510,11542,9005,12762,2328,2650,5602,4025,6227,1973,10551,4821,8453,1872,3008,8126,4329,1521,4388,5.6190913158982907E-3,"National death rate calcuated from population size and average number of deaths for 2005-2009 inclusive (supplied by ISD Scotland)",null,"LE calculated within spreadsheet using the Chiang method",null,200,null,"Grampian Health Board"]
["Male 60-64",169605,10415,8902,7115,12196,10448,23840,21624,16729,12624,20385,1988,1780,21559,0,3220,14970,7655,4402,1549,7115,2799,3152,3637,4876,2021,8473,0,4787,12196,7393,12327,2238,2808,5650,4201,5225,1988,11105,4809,8902,1780,3062,7399,4112,1526,4228,9.5723001163590549E-3,"National death rate calcuated from population size and average number of deaths for 2005-2009 inclusive (supplied by ISD Scotland)",null,"LE calculated within spreadsheet using the Chiang method",null,201,null,"Greater Glasgow & Clyde Health Board"]
["Male 65-69",127123,7893,7193,5724,9325,7722,16858,15137,12933,9174,15499,1633,1243,16789,0,2396,10153,6208,3548,1107,5724,2084,2054,2591,3777,1450,6477,0,3379,9325,4924,9385,1655,2121,4309,3329,3953,1633,8497,3491,7193,1243,2510,5221,3236,1026,3124,1.6677171100643536E-2,"National death rate calcuated from population size and average number of deaths for 2005-2009 inclusive (supplied by ISD Scotland)",null,"LE calculated within spreadsheet using the Chiang method",null,202,null,"Highland Health Board"]
["Male 70-74",100958,6169,5793,4661,7129,6246,13614,12188,9918,7001,12260,1234,928,13817,0,1844,8207,4986,2861,967,4661,1721,1434,2210,2834,1211,5565,0,2621,7129,4055,7057,1323,1546,3563,2480,2907,1234,7110,2543,5793,928,2255,4094,2658,846,2315,2.8047565682978459E-2,"National death rate calcuated from population size and average number of deaths for 2005-2009 inclusive (supplied by ISD Scotland)",null,"LE calculated within spreadsheet using the Chiang method",null,203,null,"Lanarkshire Health Board"]
["Male 75-79",76200,4471,4239,3827,5107,4594,9790,9381,7642,5185,9645,916,714,10689,0,1445,5735,3761,2127,581,3827,1478,1007,1666,2216,984,4776,0,1927,5107,3212,5515,971,1162,2610,1751,1914,916,5450,1856,4239,714,1713,3271,2086,692,1491,4.8154071158130696E-2,"National death rate calcuated from population size and average number of deaths for 2005-2009 inclusive (supplied by ISD Scotland)",null,"LE calculated within spreadsheet using the Chiang method",null,204,null,"Lothian Health Board"]
["Male 80-84",48612,2850,2754,2671,3307,2778,6527,5798,4973,2841,6221,583,447,6862,0,978,3873,2308,1309,365,2671,1078,611,1027,1448,643,3149,0,1213,3307,2060,3664,675,727,1676,1099,1027,583,3476,1060,2754,447,1140,1814,1200,333,897,8.5749321187702551E-2,"National death rate calcuated from population size and average number of deaths for 2005-2009 inclusive (supplied by ISD Scotland)",null,"LE calculated within spreadsheet using the Chiang method",null,205,null,"Orkney Health Board"]
["Male 85-89",23607,1283,1297,1169,1593,1345,3378,2947,2544,1264,2983,233,253,3318,0,534,2032,1067,658,160,1169,565,290,491,585,407,1685,0,574,1593,1064,1886,391,315,812,466,470,233,1686,435,1297,253,527,794,611,159,398,0.17755831772518305,"National death rate calcuated from population size and average number of deaths for 2005-2009 inclusive (supplied by ISD Scotland)",null,"LE calculated within spreadsheet using the Chiang method",null,206,null,"Shetland Health Board"]
["Male 90+",8557,504,431,364,513,483,1246,1037,920,526,1056,89,105,1283,0,209,710,491,232,64,364,145,124,174,215,111,626,0,169,513,381,688,146,103,327,187,160,89,647,174,431,105,193,366,250,51,112,null,null,null,null,null,207,null,"Tayside Health Board"]
["Female <1",26555,1240,1104,704,1676,1755,3938,3738,2173,2631,4210,281,288,2817,0,581,2611,988,419,262,704,455,425,427,937,362,1927,0,939,1676,1765,1754,282,495,746,544,1147,281,1374,726,1104,288,271,1484,554,176,851,3.5551433650204802E-3,"National death rate calcuated from population size and average number of deaths for 2005-2009 inclusive (supplied by ISD Scotland)",null,"LE calculated within spreadsheet using the Chiang method",null,208,null,"Western Isles Health Board"]
["Female 1-4",106001,5462,4860,2757,6799,7056,15319,14635,8741,10580,15773,1144,1129,11746,0,1966,10334,4306,1694,1056,2757,1703,1766,1944,4047,1605,6371,0,3572,6799,6170,7047,1112,1819,3019,2361,4433,1144,5737,3069,4860,1129,1335,6147,2428,735,3536,2.2378329992800016E-4,"National death rate calcuated from population size and average number of deaths for 2005-2009 inclusive (supplied by ISD Scotland)",null,"LE calculated within spreadsheet using the Chiang method",null,209,null,"Aberdeen City Local Authority"]
["Female 5-9",131633,6856,6474,3513,8502,8658,18688,17918,11671,13342,18146,1390,1465,15010,0,2098,12779,5577,2527,1193,3513,1951,2007,2707,4521,2121,7214,0,4124,8502,6896,9144,1524,2369,3811,2993,5727,1390,7482,3693,6474,1465,1856,7615,3341,977,4042,6.7693094552210182E-5,"National death rate calcuated from population size and average number of deaths for 2005-2009 inclusive (supplied by ISD Scotland)",null,"LE calculated within spreadsheet using the Chiang method",null,210,null,"Aberdeenshire Local Authority"]
["Female 10-14",142831,7601,6829,4572,9537,9586,19673,19636,13030,13423,18245,1678,1684,17337,0,1936,13139,6116,3009,1151,4572,2356,2149,3130,4744,2331,6961,0,4097,9537,7419,10021,1726,2412,4598,3440,5701,1678,8865,3937,6829,1684,2012,7722,4338,1093,4128,8.1994096425057393E-5,"National death rate calcuated from population size and average number of deaths for 2005-2009 inclusive (supplied by ISD Scotland)",null,"LE calculated within spreadsheet using the Chiang method",null,211,null,"Angus Local Authority"]
["Female 15-19",148112,7680,6861,4570,9440,9491,21404,24077,12275,13528,19238,1707,1599,16242,0,4429,12715,5357,3051,1205,4570,2932,2314,3513,4043,2211,8805,0,3979,9440,11001,9224,1942,2432,4260,3388,5975,1707,7953,4213,6861,1599,1978,7553,4307,1197,3958,2.5251686214572882E-4,"National death rate calcuated from population size and average number of deaths for 2005-2009 inclusive (supplied by ISD Scotland)",null,"LE calculated within spreadsheet using the Chiang method",null,212,null,"Argyll & Bute Local Authority"]
["Female 20-24",148606,6593,4723,3577,8814,8488,20503,31408,9509,12297,24895,1203,1147,15449,0,7461,9855,4031,2164,1019,3577,4626,2028,2764,2933,1904,16257,0,3495,8814,20163,7345,1702,2132,3187,2821,5668,1203,6792,3721,4723,1147,1744,6629,3974,1154,3573,2.9236386382643103E-4,"National death rate calcuated from population size and average number of deaths for 2005-2009 inclusive (supplied by ISD Scotland)",null,"LE calculated within spreadsheet using the Chiang method",null,213,null,"Clackmannanshire Local Authority"]
["Female 25-29",143589,6365,4098,3204,7686,8263,18952,26506,10360,12793,29397,1221,1356,13388,0,6123,9732,3846,1702,1008,3204,2939,2045,2193,2820,1582,20788,0,4211,7686,16816,8658,1466,1894,3097,2806,5712,1221,6603,3376,4098,1356,1514,7081,3044,1073,3895,2.7883034246085648E-4,"National death rate calcuated from population size and average number of deaths for 2005-2009 inclusive (supplied by ISD Scotland)",null,"LE calculated within spreadsheet using the Chiang method",null,214,null,"Dumfries & Galloway Local Authority"]
["Female 30-34",148727,7246,5219,3555,8730,9189,20961,22959,11579,15059,27239,1426,1476,14089,0,4568,12714,5021,2249,1398,3555,2336,2375,2033,3997,1639,16509,0,4772,8730,12842,9330,1631,2239,3679,3262,6636,1426,6732,3795,5219,1476,1609,8423,3019,1019,4494,3.5388208648878193E-4,"National death rate calcuated from population size and average number of deaths for 2005-2009 inclusive (supplied by ISD Scotland)",null,"LE calculated within spreadsheet using the Chiang method",null,215,null,"Dundee City Local Authority"]
["Female 35-39",187192,9771,7968,5112,11661,12531,26451,26662,15356,19234,28798,1894,1766,19988,0,4050,17193,7220,3372,1735,5112,2855,3085,3191,6062,2415,13499,0,6367,11661,12114,11984,2227,3039,5208,4241,8614,1894,9913,5332,7968,1766,2445,10620,4429,1383,6198,6.4912519058617506E-4,"National death rate calcuated from population size and average number of deaths for 2005-2009 inclusive (supplied by ISD Scotland)",null,"LE calculated within spreadsheet using the Chiang method",null,216,null,"East Ayrshire Local Authority"]
["Female 40-44",214110,11506,10099,6672,14036,13617,29350,31098,18474,20673,30280,2297,1954,24054,0,4014,19014,8514,4452,1921,6672,3465,3480,4349,6836,3054,13114,0,6357,14036,12815,14022,2697,3745,6322,5100,9244,2297,12075,6481,10099,1954,2926,11429,5339,1702,6585,9.9207716155701002E-4,"National death rate calcuated from population size and average number of deaths for 2005-2009 inclusive (supplied by ISD Scotland)",null,"LE calculated within spreadsheet using the Chiang method",null,217,null,"East Dunbartonshire Local Authority"]
["Female 45-49",213171,11465,10336,7252,14334,13040,28405,32241,19035,19734,28944,2213,2088,24084,0,4127,17919,8652,4624,1774,7252,3875,3432,4936,6232,3129,13195,0,5882,14334,12892,14411,2893,3545,6359,4805,8501,2213,11557,6521,10336,2088,3228,11233,5384,1870,5972,1.473167989610289E-3,"National death rate calcuated from population size and average number of deaths for 2005-2009 inclusive (supplied by ISD Scotland)",null,"LE calculated within spreadsheet using the Chiang method",null,218,null,"East Lothian Local Authority"]
["Female 50-54",193072,11039,9307,6803,12916,11651,26334,28632,17402,17246,25182,2131,1848,22581,0,3803,16682,7837,4315,1782,6803,3653,3289,4565,5715,2758,11262,0,5264,12916,10865,13087,2767,3152,5849,4438,7507,2131,11091,5832,9307,1848,3312,9739,4605,1845,5053,2.6288146093139762E-3,"National death rate calcuated from population size and average number of deaths for 2005-2009 inclusive (supplied by ISD Scotland)",null,"LE calculated within spreadsheet using the Chiang method",null,219,null,"East Renfrewshire Local Authority"]
["Female 55-59",177948,10813,8612,6940,12361,11025,24109,24394,17382,14869,22117,1990,1766,21570,0,3448,14974,7674,4427,1576,6940,2998,3221,3922,5180,2380,9749,0,5035,12361,8839,12955,2368,2762,5687,4373,6447,1990,10898,5350,8612,1766,3219,8422,4414,1535,4426,3.8901058881304867E-3,"National death rate calcuated from population size and average number of deaths for 2005-2009 inclusive (supplied by ISD Scotland)",null,"LE calculated within spreadsheet using the Chiang method",null,220,null,"Edinburgh, City of Local Authority"]
["Female 60-64",174063,11158,9228,7260,13004,10825,23145,22053,17079,13285,21415,1872,1565,22174,0,3239,14038,8234,4700,1599,7260,2937,3020,3726,5049,2118,9150,0,4882,13004,7453,12379,2384,2955,5868,4568,5662,1872,11003,4847,9228,1565,3570,7623,4344,1525,4261,6.819231835402101E-3,"National death rate calcuated from population size and average number of deaths for 2005-2009 inclusive (supplied by ISD Scotland)",null,"LE calculated within spreadsheet using the Chiang method",null,221,null,"Eilean Siar Local Authority"]
["Female 65-69",136352,8707,7618,6056,9884,8325,17505,16805,13524,10038,16997,1700,1287,17906,0,2552,10447,6340,3716,1259,6056,2321,2142,2890,4023,1623,7400,0,3499,9884,5587,9808,1779,2300,4506,3523,4188,1700,9245,3707,7618,1287,3042,5850,3567,1219,3274,1.1184768365065906E-2,"National death rate calcuated from population size and average number of deaths for 2005-2009 inclusive (supplied by ISD Scotland)",null,"LE calculated within spreadsheet using the Chiang method",null,222,null,"Falkirk Local Authority"]
["Female 70-74",115107,7086,6452,5189,8146,7197,14283,14883,11182,8664,14489,1312,957,15267,0,2212,8314,5432,3094,1018,5189,2146,1577,2696,3047,1593,7074,0,3006,8146,5249,8088,1432,1847,3757,2714,3512,1312,7689,2948,6452,957,2795,5152,3173,965,2521,1.8843057633397449E-2,"National death rate calcuated from population size and average number of deaths for 2005-2009 inclusive (supplied by ISD Scotland)",null,"LE calculated within spreadsheet using the Chiang method",null,223,null,"Fife Local Authority"]
["Female 75-79",96370,5864,4984,4508,6504,5869,12325,12869,9290,6545,12585,1024,852,13151,0,2113,6841,4669,2528,760,4508,2172,1227,2012,2511,1657,6799,0,2453,6504,4690,6762,1441,1351,3371,2379,2336,1024,6310,2338,4984,852,2258,4209,2656,731,1924,3.5393844823768804E-2,"National death rate calcuated from population size and average number of deaths for 2005-2009 inclusive (supplied by ISD Scotland)",null,"LE calculated within spreadsheet using the Chiang method",null,224,null,"Glasgow City Local Authority"]
["Female 80-84",72368,4213,3613,3456,4556,4338,9673,9815,6938,4417,9940,736,836,9837,0,1792,5375,3378,1771,517,3456,1674,861,1543,1905,1401,5870,0,1780,4556,3381,5167,1273,946,2506,1695,1559,736,4785,1677,3613,836,1657,2858,2041,540,1219,6.4578740867057643E-2,"National death rate calcuated from population size and average number of deaths for 2005-2009 inclusive (supplied by ISD Scotland)",null,"LE calculated within spreadsheet using the Chiang method",null,225,null,"Highland Local Authority"]
["Female 85-89",46705,2680,2459,2039,3070,2938,6477,6337,4604,2522,6316,484,520,6259,0,1213,3636,1993,1181,309,2039,1060,593,849,1225,1027,3717,0,1159,3070,2185,3423,1003,582,1628,1006,810,484,3206,920,2459,520,1081,1712,1470,353,792,0.15722515602496401,"National death rate calcuated from population size and average number of deaths for 2005-2009 inclusive (supplied by ISD Scotland)",null,"LE calculated within spreadsheet using the Chiang method",null,226,null,"Inverclyde Local Authority"]
["Female 90+",25873,1640,1366,1124,1995,1494,3262,3730,2609,1208,3252,292,309,3592,0,555,1861,1148,626,110,1124,688,397,359,626,619,1888,0,665,1995,1245,1983,695,240,846,627,409,292,1756,557,1366,309,616,799,719,255,498,null,null,null,null,null,227,null,"Midlothian Local Authority"]
["age/sex breakdown: Q5",null,null,null,null,null,null,null,null,null,null,null,null,null,null,null,null,null,null,null,null,null,null,null,null,null,null,null,null,null,null,null,null,null,null,null,null,null,null,null,null,null,null,null,null,null,null,null,null,null,null,null,null,228,null,"Moray Local Authority"]
["Male <1",25144,1002,157,232,1915,1433,5050,4770,592,1835,6604,20,52,1482,0,2370,2344,272,190,134,232,525,393,1128,411,1287,5013,0,837,1915,1370,402,228,369,336,222,707,20,685,646,157,52,387,1128,462,111,811,3.4642032332563508E-3,"National death rate calcuated from population size and average number of deaths for 2005-2009 inclusive (supplied by ISD Scotland)",null,"LE calculated within spreadsheet using the Chiang method",null,229,null,"North Ayrshire Local Authority"]
["Male 1-4",105764,4458,871,1021,8003,6162,19908,20821,2532,8216,27131,63,241,6337,0,8983,9758,1302,804,568,1021,2140,1572,5255,2021,5933,19671,0,3301,8003,5018,1728,1040,1632,1167,1001,3281,63,2895,3067,871,241,1885,4935,2293,508,3807,1.7940607147915583E-4,"National death rate calcuated from population size and average number of deaths for 2005-2009 inclusive (supplied by ISD Scotland)",null,"LE calculated within spreadsheet using the Chiang method",null,230,null,"North Lanarkshire Local Authority"]
["Male 5-9",139192,6170,1262,1291,9904,8789,24588,29500,3528,11415,33494,63,376,8812,0,10892,12333,1978,1077,959,1291,2768,2080,7720,2718,8853,23552,0,4210,9904,5968,2451,1557,2090,1363,1399,4628,63,4066,4628,1262,376,2691,6787,3620,774,5134,3.4653156556030687E-5,"National death rate calcuated from population size and average number of deaths for 2005-2009 inclusive (supplied by ISD Scotland)",null,"LE calculated within spreadsheet using the Chiang method",null,231,null,"Orkney Islands Local Authority"]
["Male 10-14",156818,7497,1266,1539,10815,9684,27467,33846,4328,13313,36204,96,284,10479,0,11843,13727,2481,1282,1238,1539,3253,2470,9368,3196,9827,25176,0,4586,10815,6593,3046,1555,2259,1897,1768,4980,96,4745,5680,1266,284,3259,8333,3860,823,5573,1.23205056335512E-4,"National death rate calcuated from population size and average number of deaths for 2005-2009 inclusive (supplied by ISD Scotland)",null,"LE calculated within spreadsheet using the Chiang method",null,232,null,"Perth & Kinross Local Authority"]
["Male 15-19",178630,7779,1160,1706,13597,13073,29565,35653,5057,14000,43703,122,280,12935,0,13428,13376,2655,2110,1290,1706,4792,2295,9759,3026,9788,33030,0,6289,13597,7750,2947,1513,2124,2761,1974,5401,122,5488,5866,1160,280,3510,8599,5494,977,5523,3.2224144364166753E-4,"National death rate calcuated from population size and average number of deaths for 2005-2009 inclusive (supplied by ISD Scotland)",null,"LE calculated within spreadsheet using the Chiang method",null,233,null,"Renfrewshire Local Authority"]
["Male 20-24",188970,6523,752,1352,17838,10226,30602,35117,6086,12183,55246,81,157,12807,0,16544,11226,1965,3705,983,1352,5326,2153,8418,2105,8136,47195,0,4520,17838,11595,2381,1186,1848,2832,1600,4661,81,5516,4963,752,157,2770,7522,4723,819,4098,4.0470994875496999E-4,"National death rate calcuated from population size and average number of deaths for 2005-2009 inclusive (supplied by ISD Scotland)",null,"LE calculated within spreadsheet using the Chiang method",null,234,null,"Scottish Borders Local Authority"]
["Male 25-29",152789,4346,574,1075,9773,5885,29180,28128,4677,9647,50273,44,165,9022,0,17894,9245,1484,2767,630,1075,3425,1510,6163,1333,5553,44396,0,3535,9773,11123,1910,836,1355,2041,1099,3563,44,4113,3882,574,165,1737,6084,1720,571,3189,4.9970625375623785E-4,"National death rate calcuated from population size and average number of deaths for 2005-2009 inclusive (supplied by ISD Scotland)",null,"LE calculated within spreadsheet using the Chiang method",null,235,null,"Shetland Islands Local Authority"]
["Male 30-34",132612,4596,722,1022,8931,6268,28082,23169,3462,8542,40501,42,171,7104,0,16266,10136,1434,1399,551,1022,2494,1721,4399,1541,4528,33775,0,4123,8931,9807,2063,866,1430,1680,1163,3406,42,3176,3057,722,171,1712,5136,1594,512,3755,5.7469147172591636E-4,"National death rate calcuated from population size and average number of deaths for 2005-2009 inclusive (supplied by ISD Scotland)",null,"LE calculated within spreadsheet using the Chiang method",null,236,null,"South Ayrshire Local Authority"]
["Male 35-39",164153,6774,1151,1543,12467,9438,32967,29510,4827,12543,43248,90,325,9270,0,16382,14515,1941,2106,900,1543,3225,2570,6409,2672,6893,32807,0,5660,12467,9453,2721,1527,2332,2070,1545,5186,90,4104,4369,1151,325,2659,7357,2878,859,5437,8.3160083160083165E-4,"National death rate calcuated from population size and average number of deaths for 2005-2009 inclusive (supplied by ISD Scotland)",null,"LE calculated within spreadsheet using the Chiang method",null,237,null,"South Lanarkshire Local Authority"]
["Male 40-44",197319,9018,1488,2020,13803,12222,36295,38713,5628,16080,49501,102,410,12039,0,16995,17072,2630,2079,1344,2020,3834,3323,9318,3807,9801,35641,0,6614,13803,9969,3549,1808,2880,2228,2145,6378,102,5575,6557,1488,410,3550,9702,4264,1260,7173,1.0352017185320547E-3,"National death rate calcuated from population size and average number of deaths for 2005-2009 inclusive (supplied by ISD Scotland)",null,"LE calculated within spreadsheet using the Chiang method",null,238,null,"Stirling Local Authority"]
["Male 45-49",205976,9660,1424,2375,13651,12017,37197,42987,5899,17638,48787,127,307,13907,0,17074,17902,3238,1998,1409,2375,4493,3119,11018,3980,11140,34917,0,6408,13651,9689,3901,2418,2698,2221,2303,6829,127,6176,7515,1424,307,4238,10809,4200,1207,7192,1.516777214202107E-3,"National death rate calcuated from population size and average number of deaths for 2005-2009 inclusive (supplied by ISD Scotland)",null,"LE calculated within spreadsheet using the Chiang method",null,239,null,"West Dunbartonshire Local Authority"]
["Male 50-54",191135,9380,1302,2105,12681,10803,34959,40421,5445,16188,44579,153,239,12880,0,16542,16564,2987,1640,1391,2105,4287,2867,10592,3627,10413,32362,0,5520,12681,9227,3805,2000,2416,1853,2266,5874,153,5606,7115,1302,239,4247,10314,3892,1074,6174,2.5946292242806043E-3,"National death rate calcuated from population size and average number of deaths for 2005-2009 inclusive (supplied by ISD Scotland)",null,"LE calculated within spreadsheet using the Chiang method",null,240,null,"West Lothian Local Authority"]
["Male 55-59",172890,9788,1455,2217,11913,9911,31007,34948,5038,14307,39582,166,178,12380,0,14421,14844,3205,1446,1489,2217,3671,2847,9581,3094,8589,29130,0,4468,11913,7922,3592,1710,2394,1742,2696,5093,166,5504,6248,1455,178,4245,9214,3954,898,4964,4.4584435669814577E-3,"National death rate calcuated from population size and average number of deaths for 2005-2009 inclusive (supplied by ISD Scotland)",null,"LE calculated within spreadsheet using the Chiang method",null,241]
["Male 60-64",161977,9722,1342,2057,12322,9922,27176,31854,5111,12363,36499,103,247,13259,0,12230,13285,3544,1609,1464,2057,3700,2573,9256,3054,8197,26732,0,4311,12322,6480,3502,1654,2423,1661,2837,4188,103,6015,5489,1342,247,4312,8175,4147,778,4290,8.0806573082116036E-3,"National death rate calcuated from population size and average number of deaths for 2005-2009 inclusive (supplied by ISD Scotland)",null,"LE calculated within spreadsheet using the Chiang method",null,242]
["Male 65-69",115338,7273,845,1509,8827,7048,18974,23068,3737,8533,25441,74,206,9803,0,8253,9369,2444,1240,1055,1509,2846,1756,7248,2448,6089,18815,0,2920,8827,3993,2497,1318,1411,1352,2183,2633,74,4513,3981,845,206,3334,5900,3073,439,2767,1.3626805505817104E-2,"National death rate calcuated from population size and average number of deaths for 2005-2009 inclusive (supplied by ISD Scotland)",null,"LE calculated within spreadsheet using the Chiang method",null,243]
["Male 70-74",94368,5788,832,1402,7075,5737,15195,19039,2829,6587,21190,56,94,8544,0,6906,7045,2114,884,789,1402,2582,1302,6421,1797,5310,16224,0,2387,7075,3231,1945,1060,1264,1244,1693,1953,56,3848,2667,832,94,2793,4634,2561,350,1905,2.3273438186451105E-2,"National death rate calcuated from population size and average number of deaths for 2005-2009 inclusive (supplied by ISD Scotland)",null,"LE calculated within spreadsheet using the Chiang method",null,244]
["Male 75-79",71708,4258,635,1027,5093,3981,11447,14499,2388,4705,16695,50,59,6871,0,5430,5094,1691,677,668,1027,2149,932,5206,1389,4122,13403,0,1691,5093,2373,1711,681,785,923,1267,1241,50,3031,1904,635,59,2059,3464,1622,213,1118,4.2219842445758216E-2,"National death rate calcuated from population size and average number of deaths for 2005-2009 inclusive (supplied by ISD Scotland)",null,"LE calculated within spreadsheet using the Chiang method",null,245]
["Male 80-84",45896,2856,431,657,3276,2379,7176,9216,1540,2603,11237,33,20,4472,0,3537,3045,1038,468,338,657,1354,591,3042,1002,2718,9055,0,958,3276,1727,1072,422,400,594,883,645,33,2080,1188,431,20,1382,1958,1083,119,780,7.6608974061528473E-2,"National death rate calcuated from population size and average number of deaths for 2005-2009 inclusive (supplied by ISD Scotland)",null,"LE calculated within spreadsheet using the Chiang method",null,246]
["Male 85-89",22954,1552,262,279,1740,1040,3488,4298,783,1073,6195,27,19,2198,0,1631,1615,440,220,116,279,697,282,1344,502,1310,5164,0,424,1740,891,563,192,206,242,412,283,27,1061,514,262,19,858,790,500,47,323,0.15848437277008703,"National death rate calcuated from population size and average number of deaths for 2005-2009 inclusive (supplied by ISD Scotland)",null,"LE calculated within spreadsheet using the Chiang method",null,247]
["Male 90+",8595,570,54,79,549,390,1396,1462,294,397,2490,3,13,898,0,687,615,205,91,38,79,246,102,505,169,395,2202,0,158,549,259,203,88,33,94,170,106,3,447,193,54,13,298,291,194,22,86,null,null,null,null,null,248]
["Female <1",23978,922,184,234,1806,1387,4668,4552,579,1844,6376,14,54,1358,0,2255,2143,269,146,116,234,487,352,1037,415,1231,4859,0,823,1806,1367,433,181,339,270,197,671,14,602,635,184,54,373,1173,448,101,763,3.0316873624319945E-3,"National death rate calcuated from population size and average number of deaths for 2005-2009 inclusive (supplied by ISD Scotland)",null,"LE calculated within spreadsheet using the Chiang method",null,249]
["Female 1-4",100931,4068,824,941,7655,6067,18797,20130,2457,8212,25483,46,246,6005,0,8589,9173,1265,665,562,941,2006,1415,4829,1883,5834,18478,0,3401,7655,5069,1792,898,1585,1035,872,3003,46,2734,3032,824,246,1781,5209,2104,468,3537,1.198394151836539E-4,"National death rate calcuated from population size and average number of deaths for 2005-2009 inclusive (supplied by ISD Scotland)",null,"LE calculated within spreadsheet using the Chiang method",null,250]
["Female 5-9",130808,5859,1040,1217,9069,8074,22876,27826,3416,11016,31614,73,297,8431,0,10409,11418,1823,1141,898,1217,2651,2006,7249,2653,8222,21917,0,4046,9069,6022,2275,1164,2071,1049,1269,4301,73,3957,4463,1040,297,2584,6715,3130,706,4973,5.8919707169055379E-5,"National death rate calcuated from population size and average number of deaths for 2005-2009 inclusive (supplied by ISD Scotland)",null,"LE calculated within spreadsheet using the Chiang method",null,251]
["Female 10-14",147478,6974,1175,1622,9942,9373,25459,31369,3997,12671,34330,91,297,10178,0,10916,12878,2284,1274,1157,1622,3063,2215,8602,2895,9109,24077,0,4533,9942,6008,2723,1567,2124,1665,1688,4828,91,4831,5259,1175,297,3071,7843,3683,824,5234,8.5121428992358727E-5,"National death rate calcuated from population size and average number of deaths for 2005-2009 inclusive (supplied by ISD Scotland)",null,"LE calculated within spreadsheet using the Chiang method",null,252]
["Female 15-19",166465,7162,1018,1627,13618,11073,28338,32855,3908,12907,40969,133,200,12657,0,13854,12483,2346,1396,1090,1627,5221,2455,8415,2586,8899,31626,0,4264,13618,7703,2512,1488,2032,2001,1635,4739,133,5090,5518,1018,200,3072,8168,5719,832,4725,1.9095489768513384E-4,"National death rate calcuated from population size and average number of deaths for 2005-2009 inclusive (supplied by ISD Scotland)",null,"LE calculated within spreadsheet using the Chiang method",null,253]
["Female 20-24",177366,5426,659,1084,17953,8599,28595,31708,2716,10414,57960,54,114,12084,0,17982,9032,1620,887,686,1084,5397,1934,6676,1625,6758,51339,0,3460,17953,12280,1829,1041,1664,1581,1225,3853,54,5067,4303,659,114,2267,6561,4453,650,3332,1.3680460139302772E-4,"National death rate calcuated from population size and average number of deaths for 2005-2009 inclusive (supplied by ISD Scotland)",null,"LE calculated within spreadsheet using the Chiang method",null,254]
["Female 25-29",139369,4583,635,938,9181,6083,25613,25586,2452,8780,47706,79,163,7570,0,15449,8934,1007,655,651,938,3156,1720,4882,1319,4754,42036,0,3641,9181,11462,1797,789,1362,1230,1133,3352,79,3407,3213,635,163,1730,5428,1791,486,2989,1.6736019718074143E-4,"National death rate calcuated from population size and average number of deaths for 2005-2009 inclusive (supplied by ISD Scotland)",null,"LE calculated within spreadsheet using the Chiang method",null,255]
["Female 30-34",136277,4924,801,1095,9809,7010,26373,25223,2830,9397,40967,89,277,7482,0,14377,10783,1396,664,714,1095,2798,1881,5024,1752,5589,33747,0,4305,9809,9710,2166,1068,1610,1213,1156,3746,89,3288,3283,801,277,1887,5651,1991,549,3858,2.7406886858749119E-4,"National death rate calcuated from population size and average number of deaths for 2005-2009 inclusive (supplied by ISD Scotland)",null,"LE calculated within spreadsheet using the Chiang method",null,256]
["Female 35-39",175710,7279,1324,1642,12686,10892,32211,34032,4373,13827,46354,83,337,10670,0,15291,15253,2307,1286,985,1642,3596,2608,7619,3007,8436,34733,0,6149,12686,10338,3087,1539,2553,1667,1669,5588,83,4767,5163,1324,337,3002,8239,3758,937,6061,4.6829288826215983E-4,"National death rate calcuated from population size and average number of deaths for 2005-2009 inclusive (supplied by ISD Scotland)",null,"LE calculated within spreadsheet using the Chiang method",null,257]
["Female 40-44",212108,9864,1585,2297,14473,13111,36508,43945,5400,17829,52622,147,336,13991,0,16529,17892,3073,1586,1415,2297,4527,3407,10850,4064,11634,37715,0,6978,14473,10481,3814,2203,2938,2087,2408,7133,147,6391,7503,1585,336,4049,10696,4718,1274,7905,7.3722484902818291E-4,"National death rate calcuated from population size and average number of deaths for 2005-2009 inclusive (supplied by ISD Scotland)",null,"LE calculated within spreadsheet using the Chiang method",null,258]
["Female 45-49",218676,10712,1613,2607,14225,12614,37167,47123,6027,18914,52231,143,312,14988,0,17314,17841,3288,1745,1631,2607,5080,3393,12339,4278,12158,37590,0,6424,14225,10809,4282,2258,3061,2012,2608,7092,143,6620,8338,1613,312,4711,11822,4559,1221,7302,1.3387254218379585E-3,"National death rate calcuated from population size and average number of deaths for 2005-2009 inclusive (supplied by ISD Scotland)",null,"LE calculated within spreadsheet using the Chiang method",null,259]
["Female 50-54",197414,10306,1531,2447,12988,11013,33782,42444,5707,16915,46092,132,240,13817,0,15725,16237,3236,1666,1623,2447,4423,2960,11367,3595,10862,34042,0,5333,12988,9776,4041,1911,2682,1820,2681,6055,132,6158,7440,1531,240,4665,10860,4057,1088,5773,1.954158480681074E-3,"National death rate calcuated from population size and average number of deaths for 2005-2009 inclusive (supplied by ISD Scotland)",null,"LE calculated within spreadsheet using the Chiang method",null,260]
["Female 55-59",177724,10163,1492,2111,12488,10295,29513,36705,5337,14234,41533,111,220,13522,0,13258,14517,3498,1469,1625,2111,3913,2848,10236,3171,9105,31005,0,4686,12488,8117,3868,1784,2445,1738,2821,4842,111,6111,6534,1492,220,4494,9392,3984,929,4912,2.9644542030540515E-3,"National death rate calcuated from population size and average number of deaths for 2005-2009 inclusive (supplied by ISD Scotland)",null,"LE calculated within spreadsheet using the Chiang method",null,261]
["Female 60-64",169388,10386,1391,2035,13024,10276,27211,33629,5399,12784,38822,137,170,14124,0,12217,13254,3805,1789,1560,2035,4072,2707,9993,3213,9033,29036,0,4425,13024,6156,3610,1777,2401,1740,2957,4042,137,6247,5880,1391,170,4722,8742,4291,790,4172,5.1582710096119665E-3,"National death rate calcuated from population size and average number of deaths for 2005-2009 inclusive (supplied by ISD Scotland)",null,"LE calculated within spreadsheet using the Chiang method",null,262]
["Female 65-69",128262,7777,1066,1819,9610,7681,20372,25956,4115,9469,28910,78,173,11236,0,9433,9510,2717,1239,1228,1819,3359,1876,8386,2680,7339,21539,0,3180,9610,4307,2876,1410,1702,1429,2291,2783,78,5160,3966,1066,173,3610,6686,3273,548,2989,8.9234873997429513E-3,"National death rate calcuated from population size and average number of deaths for 2005-2009 inclusive (supplied by ISD Scotland)",null,"LE calculated within spreadsheet using the Chiang method",null,263]
["Female 70-74",109375,6509,1066,1524,8048,6122,17102,22497,3469,7639,25383,66,115,9835,0,8179,7565,2404,1026,951,1524,3073,1414,7666,2181,6310,20009,0,2537,8048,3984,2443,1144,1339,1358,1900,2220,66,4358,3032,1066,115,3195,5419,2634,361,1854,1.5629541427191838E-2,"National death rate calcuated from population size and average number of deaths for 2005-2009 inclusive (supplied by ISD Scotland)",null,"LE calculated within spreadsheet using the Chiang method",null,264]
["Female 75-79",91135,5509,881,1316,6166,4791,14033,18743,2916,5847,22441,46,90,8356,0,7063,5967,1967,814,702,1316,2871,1235,6165,1785,5443,18284,0,2000,6166,3636,2102,953,862,1003,1702,1422,46,3518,2344,881,90,2572,4425,2089,202,1510,2.8866371404285777E-2,"National death rate calcuated from population size and average number of deaths for 2005-2009 inclusive (supplied by ISD Scotland)",null,"LE calculated within spreadsheet using the Chiang method",null,265]
["Female 80-84",69390,4444,645,991,4926,3424,10392,14151,2384,3582,17929,32,33,6457,0,5400,4271,1437,715,439,991,1961,983,4546,1376,4219,14954,0,1397,4926,3001,1669,714,574,721,1191,794,32,3059,1544,645,33,2270,2788,1588,127,1025,5.5945720747530056E-2,"National death rate calcuated from population size and average number of deaths for 2005-2009 inclusive (supplied by ISD Scotland)",null,"LE calculated within spreadsheet using the Chiang method",null,266]
["Female 85-89",44044,2805,312,473,3135,2228,6854,8579,1554,2082,12119,17,26,3860,0,3471,2890,972,480,356,473,1084,503,2637,891,2505,10231,0,841,3135,2022,1074,550,387,493,733,530,17,1804,804,312,26,1569,1552,1031,61,610,null,null,null,null,null,267]
["Female 90+",25205,1783,151,196,1846,1155,3628,4609,1097,1149,7388,25,31,2147,0,1753,1597,573,399,92,196,416,273,1396,511,1290,6232,0,442,1846,1201,698,253,278,278,508,303,25,1158,407,151,31,1002,846,621,62,367,0.14414649095923998,"National death rate calcuated from population size and average number of deaths for 2005-2009 inclusive (supplied by ISD Scotland)",null,"LE calculated within spreadsheet using the Chiang method",null,268]
[null,null,null,null,null,null,null,null,null,null,null,null,null,null,null,null,null,null,null,null,null,null,null,null,null,null,null,null,null,null,null,null,null,null,null,null,null,null,null,null,null,null,null,null,null,null,null,null,null,null,null,null,null,269]
[null,null,null,null,null,null,null,null,null,null,null,null,null,null,null,null,null,null,null,null,null,null,null,null,null,null,null,null,null,null,null,null,null,null,null,null,null,null,null,null,null,null,null,null,null,null,null,null,null,null,null,null,null,270]
[null,null,null,null,null,null,null,null,null,null,null,null,null,null,null,null,null,null,null,null,null,null,null,null,null,null,null,null,null,null,null,null,null,null,null,null,null,null,null,null,null,null,null,null,null,null,null,null,null,null,null,null,null,271]
[null,null,null,null,null,null,null,null,null,null,null,null,null,null,null,null,null,null,null,null,null,null,null,null,null,null,null,null,null,null,null,null,null,null,null,null,null,null,null,null,null,null,null,null,null,null,null,null,null,null,null,null,null,272]
[null,null,null,null,null,null,null,null,null,null,null,null,null,null,null,null,null,null,null,null,null,null,null,null,null,null,null,null,null,null,null,null,null,null,null,null,null,null,null,null,null,null,null,null,null,null,null,null,null,null,null,null,null,273]
[null,null,null,null,null,null,null,null,null,null,null,null,null,null,null,null,null,null,null,null,null,null,null,null,null,null,null,null,null,null,null,null,null,null,null,null,null,null,null,null,null,null,null,null,null,null,null,null,null,null,null,null,null,274]
["Age","European Standard Population",null,null,null,null,null,null,null,null,null,null,null,null,null,null,null,null,null,null,null,null,null,null,null,null,null,null,null,null,null,null,null,null,null,null,null,null,null,null,null,null,null,null,null,null,null,null,null,null,null,null,null,275]
["0-4",8000]
["5-9",7000]
["10-14",7000]
["15-19",7000]
["20-24",7000]
["25-29",7000]
["30-34",7000]
["35-39",7000]
["40-44",7000]
["45-49",7000]
["50-54",7000]
["55-59",6000]
["60-64",5000]
["65-69",4000]
["70-74",3000]
["75-79",2000]
["80-84",1000]
["85+",1000]

{"sheet":"Targeting","index":6,"n_rows":285,"n_cols":55,"rows_kept":285,"cut":false,"hidden":false,"merged":[]}
[null,null,"Even distribution","Targetting to Q1","Targetting to Q1 & Q2","TOTAL SMOKERS","No variation in price elasticity","No change","Scotland","Ayrshire & Arran Health Board","Borders Health Board","Dumfries & Galloway Health Board","Fife Health Board","Forth Valley Health Board","Grampian Health Board","Greater Glasgow & Clyde Health Board","Highland Health Board","Lanarkshire Health Board","Lothian Health Board","Orkney Health Board","Shetland Health Board","Tayside Health Board","Western Isles Health Board","Aberdeen City Local Authority","Aberdeenshire Local Authority","Angus Local Authority","Argyll & Bute Local Authority","Clackmannanshire Local Authority","Dumfries & Galloway Local Authority","Dundee City Local Authority","East Ayrshire Local Authority","East Dunbartonshire Local Authority","East Lothian Local Authority","East Renfrewshire Local Authority","Edinburgh, City of Local Authority","Eilean Siar Local Authority","Falkirk Local Authority","Fife Local Authority","Glasgow City Local Authority","Highland Local Authority","Inverclyde Local Authority","Midlothian Local Authority","Moray Local Authority","North Ayrshire Local Authority","North Lanarkshire Local Authority","Orkney Islands Local Authority","Perth & Kinross Local Authority","Renfrewshire Local Authority","Scottish Borders Local Authority","Shetland Islands Local Authority","South Ayrshire Local Authority","South Lanarkshire Local Authority","Stirling Local Authority","West Dunbartonshire Local Authority","West Lothian Local Authority"]
["SIMD","Population Group"]
[null,"All, by SIMD"]
[null,"Total"]
[null,"Q 1"]
[null,"Q 2"]
[null,"Q 3"]
[null,"Q 4"]
[null,"Q 5"]
[null,"Males, by SIMD"]
[null,"Males"]
[null,"Q 1"]
[null,"Q 2"]
[null,"Q 3"]
[null,"Q 4"]
[null,"Q 5"]
[null,"Females, by SIMD"]
[null,"Females"]
[null,"Q 1"]
[null,"Q 2"]
[null,"Q 3"]
[null,"Q 4"]
[null,"Q 5"]
[null,"age/sex breakdown: All"]
[null,"Male <1"]
[null,"Male 1-4"]
[null,"Male 5-9"]
[null,"Male 10-14"]
[null,"Male 15-19"]
[null,"Male 20-24"]
[null,"Male 25-29"]
[null,"Male 30-34"]
[null,"Male 35-39"]
[null,"Male 40-44"]
[null,"Male 45-49"]
[null,"Male 50-54"]
[null,"Male 55-59"]
[null,"Male 60-64"]
[null,"Male 65-69"]
[null,"Male 70-74"]
[null,"Male 75-79"]
[null,"Male 80-84"]
[null,"Male 85+"]
[null,"Female <1"]
[null,"Female 1-4"]
[null,"Female 5-9"]
[null,"Female 10-14"]
[null,"Female 15-19"]
[null,"Female 20-24"]
[null,"Female 25-29"]
[null,"Female 30-34"]
[null,"Female 35-39"]
[null,"Female 40-44"]
[null,"Female 45-49"]
[null,"Female 50-54"]
[null,"Female 55-59"]
[null,"Female 60-64"]
[null,"Female 65-69"]
[null,"Female 70-74"]
[null,"Female 75-79"]
[null,"Female 80-84"]
[null,"Female 85+"]
[null,"age/sex breakdown: Q1"]
[1,"Male <1"]
[1,"Male 1-4"]
[1,"Male 5-9"]
[1,"Male 10-14"]
[1,"Male 15-19",{"$f":"'III Tool Overview'!$H$8/160","v":17.90230113636364},{"$f":"'III Tool Overview'!$H$8/32","v":89.511505681818193},{"$f":"'III Tool Overview'!$H$8/64","v":44.755752840909096},{"$f":"HLOOKUP('III Tool Overview'!$H$6,Baseline_Data_2012!$B$2:$AV$270,Baseline_Data_2012!AW70,FALSE)","v":0},{"$f":"F68*0.8","v":0}]
[1,"Male 20-24",{"$f":"'III Tool Overview'!$H$8/160","v":17.90230113636364},{"$f":"'III Tool Overview'!$H$8/32","v":89.511505681818193},{"$f":"'III Tool Overview'!$H$8/64","v":44.755752840909096},{"$f":"HLOOKUP('III Tool Overview'!$H$6,Baseline_Data_2012!$B$2:$AV$270,Baseline_Data_2012!AW71,FALSE)","v":0},{"$f":"F69*0.8","v":0}]
[1,"Male 25-29",{"$f":"'III Tool Overview'!$H$8/160","v":17.90230113636364},{"$f":"'III Tool Overview'!$H$8/32","v":89.511505681818193},{"$f":"'III Tool Overview'!$H$8/64","v":44.755752840909096},{"$f":"HLOOKUP('III Tool Overview'!$H$6,Baseline_Data_2012!$B$2:$AV$270,Baseline_Data_2012!AW72,FALSE)","v":0},0]
[1,"Male 30-34",{"$f":"'III Tool Overview'!$H$8/160","v":17.90230113636364},{"$f":"'III Tool Overview'!$H$8/32","v":89.511505681818193},{"$f":"'III Tool Overview'!$H$8/64","v":44.755752840909096},{"$f":"HLOOKUP('III Tool Overview'!$H$6,Baseline_Data_2012!$B$2:$AV$270,Baseline_Data_2012!AW73,FALSE)","v":0},0]
[1,"Male 35-39",{"$f":"'III Tool Overview'!$H$8/160","v":17.90230113636364},{"$f":"'III Tool Overview'!$H$8/32","v":89.511505681818193},{"$f":"'III Tool Overview'!$H$8/64","v":44.755752840909096},{"$f":"HLOOKUP('III Tool Overview'!$H$6,Baseline_Data_2012!$B$2:$AV$270,Baseline_Data_2012!AW74,FALSE)","v":0},0]
[1,"Male 40-44",{"$f":"'III Tool Overview'!$H$8/160","v":17.90230113636364},{"$f":"'III Tool Overview'!$H$8/32","v":89.511505681818193},{"$f":"'III Tool Overview'!$H$8/64","v":44.755752840909096},{"$f":"HLOOKUP('III Tool Overview'!$H$6,Baseline_Data_2012!$B$2:$AV$270,Baseline_Data_2012!AW75,FALSE)","v":0},0]
[1,"Male 45-49",{"$f":"'III Tool Overview'!$H$8/160","v":17.90230113636364},{"$f":"'III Tool Overview'!$H$8/32","v":89.511505681818193},{"$f":"'III Tool Overview'!$H$8/64","v":44.755752840909096},{"$f":"HLOOKUP('III Tool Overview'!$H$6,Baseline_Data_2012!$B$2:$AV$270,Baseline_Data_2012!AW76,FALSE)","v":0},0]
[1,"Male 50-54",{"$f":"'III Tool Overview'!$H$8/160","v":17.90230113636364},{"$f":"'III Tool Overview'!$H$8/32","v":89.511505681818193},{"$f":"'III Tool Overview'!$H$8/64","v":44.755752840909096},{"$f":"HLOOKUP('III Tool Overview'!$H$6,Baseline_Data_2012!$B$2:$AV$270,Baseline_Data_2012!AW77,FALSE)","v":0},0]
[1,"Male 55-59",{"$f":"'III Tool Overview'!$H$8/160","v":17.90230113636364},{"$f":"'III Tool Overview'!$H$8/32","v":89.511505681818193},{"$f":"'III Tool Overview'!$H$8/64","v":44.755752840909096},{"$f":"HLOOKUP('III Tool Overview'!$H$6,Baseline_Data_2012!$B$2:$AV$270,Baseline_Data_2012!AW78,FALSE)","v":0},0]
[1,"Male 60-64",{"$f":"'III Tool Overview'!$H$8/160","v":17.90230113636364},{"$f":"'III Tool Overview'!$H$8/32","v":89.511505681818193},{"$f":"'III Tool Overview'!$H$8/64","v":44.755752840909096},{"$f":"HLOOKUP('III Tool Overview'!$H$6,Baseline_Data_2012!$B$2:$AV$270,Baseline_Data_2012!AW79,FALSE)","v":0},0]
[1,"Male 65-69",{"$f":"'III Tool Overview'!$H$8/160","v":17.90230113636364},{"$f":"'III Tool Overview'!$H$8/32","v":89.511505681818193},{"$f":"'III Tool Overview'!$H$8/64","v":44.755752840909096},{"$f":"HLOOKUP('III Tool Overview'!$H$6,Baseline_Data_2012!$B$2:$AV$270,Baseline_Data_2012!AW80,FALSE)","v":0},0]
[1,"Male 70-74",{"$f":"'III Tool Overview'!$H$8/160","v":17.90230113636364},{"$f":"'III Tool Overview'!$H$8/32","v":89.511505681818193},{"$f":"'III Tool Overview'!$H$8/64","v":44.755752840909096},{"$f":"HLOOKUP('III Tool Overview'!$H$6,Baseline_Data_2012!$B$2:$AV$270,Baseline_Data_2012!AW81,FALSE)","v":0},0]
[1,"Male 75-79",{"$f":"'III Tool Overview'!$H$8/160","v":17.90230113636364},{"$f":"'III Tool Overview'!$H$8/32","v":89.511505681818193},{"$f":"'III Tool Overview'!$H$8/64","v":44.755752840909096},{"$f":"HLOOKUP('III Tool Overview'!$H$6,Baseline_Data_2012!$B$2:$AV$270,Baseline_Data_2012!AW82,FALSE)","v":0},0]
[1,"Male 80-84",{"$f":"'III Tool Overview'!$H$8/160","v":17.90230113636364},{"$f":"'III Tool Overview'!$H$8/32","v":89.511505681818193},{"$f":"'III Tool Overview'!$H$8/64","v":44.755752840909096},{"$f":"HLOOKUP('III Tool Overview'!$H$6,Baseline_Data_2012!$B$2:$AV$270,Baseline_Data_2012!AW83,FALSE)","v":0},0]
[1,"Male 85-89",{"$f":"'III Tool Overview'!$H$8/160","v":17.90230113636364},{"$f":"'III Tool Overview'!$H$8/32","v":89.511505681818193},{"$f":"'III Tool Overview'!$H$8/64","v":44.755752840909096},{"$f":"HLOOKUP('III Tool Overview'!$H$6,Baseline_Data_2012!$B$2:$AV$270,Baseline_Data_2012!AW84,FALSE)","v":0},0]
[1,"Male 90+",{"$f":"'III Tool Overview'!$H$8/160","v":17.90230113636364},{"$f":"'III Tool Overview'!$H$8/32","v":89.511505681818193},{"$f":"'III Tool Overview'!$H$8/64","v":44.755752840909096},{"$f":"HLOOKUP('III Tool Overview'!$H$6,Baseline_Data_2012!$B$2:$AV$270,Baseline_Data_2012!AW85,FALSE)","v":0},0]
[null,"TOTAL",null,null,null,null,0]
[1,"Female <1",null,null,null,null,0]
[1,"Female 1-4",null,null,null,null,0]
[1,"Female 5-9",null,null,null,null,0]
[1,"Female 10-14",null,null,null,null,0]
[1,"Female 15-19",{"$f":"'III Tool Overview'!$H$8/160","v":17.90230113636364},{"$f":"'III Tool Overview'!$H$8/32","v":89.511505681818193},{"$f":"'III Tool Overview'!$H$8/64","v":44.755752840909096},{"$f":"HLOOKUP('III Tool Overview'!$H$6,Baseline_Data_2012!$B$2:$AV$270,Baseline_Data_2012!AW90,FALSE)","v":0},0]
[1,"Female 20-24",{"$f":"'III Tool Overview'!$H$8/160","v":17.90230113636364},{"$f":"'III Tool Overview'!$H$8/32","v":89.511505681818193},{"$f":"'III Tool Overview'!$H$8/64","v":44.755752840909096},{"$f":"HLOOKUP('III Tool Overview'!$H$6,Baseline_Data_2012!$B$2:$AV$270,Baseline_Data_2012!AW91,FALSE)","v":0},0]
[1,"Female 25-29",{"$f":"'III Tool Overview'!$H$8/160","v":17.90230113636364},{"$f":"'III Tool Overview'!$H$8/32","v":89.511505681818193},{"$f":"'III Tool Overview'!$H$8/64","v":44.755752840909096},{"$f":"HLOOKUP('III Tool Overview'!$H$6,Baseline_Data_2012!$B$2:$AV$270,Baseline_Data_2012!AW92,FALSE)","v":0},0]
[1,"Female 30-34",{"$f":"'III Tool Overview'!$H$8/160","v":17.90230113636364},{"$f":"'III Tool Overview'!$H$8/32","v":89.511505681818193},{"$f":"'III Tool Overview'!$H$8/64","v":44.755752840909096},{"$f":"HLOOKUP('III Tool Overview'!$H$6,Baseline_Data_2012!$B$2:$AV$270,Baseline_Data_2012!AW93,FALSE)","v":0},0]
[1,"Female 35-39",{"$f":"'III Tool Overview'!$H$8/160","v":17.90230113636364},{"$f":"'III Tool Overview'!$H$8/32","v":89.511505681818193},{"$f":"'III Tool Overview'!$H$8/64","v":44.755752840909096},{"$f":"HLOOKUP('III Tool Overview'!$H$6,Baseline_Data_2012!$B$2:$AV$270,Baseline_Data_2012!AW94,FALSE)","v":0},0]
[1,"Female 40-44",{"$f":"'III Tool Overview'!$H$8/160","v":17.90230113636364},{"$f":"'III Tool Overview'!$H$8/32","v":89.511505681818193},{"$f":"'III Tool Overview'!$H$8/64","v":44.755752840909096},{"$f":"HLOOKUP('III Tool Overview'!$H$6,Baseline_Data_2012!$B$2:$AV$270,Baseline_Data_2012!AW95,FALSE)","v":0},0]
[1,"Female 45-49",{"$f":"'III Tool Overview'!$H$8/160","v":17.90230113636364},{"$f":"'III Tool Overview'!$H$8/32","v":89.511505681818193},{"$f":"'III Tool Overview'!$H$8/64","v":44.755752840909096},{"$f":"HLOOKUP('III Tool Overview'!$H$6,Baseline_Data_2012!$B$2:$AV$270,Baseline_Data_2012!AW96,FALSE)","v":0},0]
[1,"Female 50-54",{"$f":"'III Tool Overview'!$H$8/160","v":17.90230113636364},{"$f":"'III Tool Overview'!$H$8/32","v":89.511505681818193},{"$f":"'III Tool Overview'!$H$8/64","v":44.755752840909096},{"$f":"HLOOKUP('III Tool Overview'!$H$6,Baseline_Data_2012!$B$2:$AV$270,Baseline_Data_2012!AW97,FALSE)","v":0},0]
[1,"Female 55-59",{"$f":"'III Tool Overview'!$H$8/160","v":17.90230113636364},{"$f":"'III Tool Overview'!$H$8/32","v":89.511505681818193},{"$f":"'III Tool Overview'!$H$8/64","v":44.755752840909096},{"$f":"HLOOKUP('III Tool Overview'!$H$6,Baseline_Data_2012!$B$2:$AV$270,Baseline_Data_2012!AW98,FALSE)","v":0},0]
[1,"Female 60-64",{"$f":"'III Tool Overview'!$H$8/160","v":17.90230113636364},{"$f":"'III Tool Overview'!$H$8/32","v":89.511505681818193},{"$f":"'III Tool Overview'!$H$8/64","v":44.755752840909096},{"$f":"HLOOKUP('III Tool Overview'!$H$6,Baseline_Data_2012!$B$2:$AV$270,Baseline_Data_2012!AW99,FALSE)","v":0},0]
[1,"Female 65-69",{"$f":"'III Tool Overview'!$H$8/160","v":17.90230113636364},{"$f":"'III Tool Overview'!$H$8/32","v":89.511505681818193},{"$f":"'III Tool Overview'!$H$8/64","v":44.755752840909096},{"$f":"HLOOKUP('III Tool Overview'!$H$6,Baseline_Data_2012!$B$2:$AV$270,Baseline_Data_2012!AW100,FALSE)","v":0},0]
[1,"Female 70-74",{"$f":"'III Tool Overview'!$H$8/160","v":17.90230113636364},{"$f":"'III Tool Overview'!$H$8/32","v":89.511505681818193},{"$f":"'III Tool Overview'!$H$8/64","v":44.755752840909096},{"$f":"HLOOKUP('III Tool Overview'!$H$6,Baseline_Data_2012!$B$2:$AV$270,Baseline_Data_2012!AW101,FALSE)","v":0},0]
[1,"Female 75-79",{"$f":"'III Tool Overview'!$H$8/160","v":17.90230113636364},{"$f":"'III Tool Overview'!$H$8/32","v":89.511505681818193},{"$f":"'III Tool Overview'!$H$8/64","v":44.755752840909096},{"$f":"HLOOKUP('III Tool Overview'!$H$6,Baseline_Data_2012!$B$2:$AV$270,Baseline_Data_2012!AW102,FALSE)","v":0},0]
[1,"Female 80-84",{"$f":"'III Tool Overview'!$H$8/160","v":17.90230113636364},{"$f":"'III Tool Overview'!$H$8/32","v":89.511505681818193},{"$f":"'III Tool Overview'!$H$8/64","v":44.755752840909096},{"$f":"HLOOKUP('III Tool Overview'!$H$6,Baseline_Data_2012!$B$2:$AV$270,Baseline_Data_2012!AW103,FALSE)","v":0},0]
[1,"Female 85+",{"$f":"'III Tool Overview'!$H$8/160","v":17.90230113636364},{"$f":"'III Tool Overview'!$H$8/32","v":89.511505681818193},{"$f":"'III Tool Overview'!$H$8/64","v":44.755752840909096},{"$f":"HLOOKUP('III Tool Overview'!$H$6,Baseline_Data_2012!$B$2:$AV$270,Baseline_Data_2012!AW104,FALSE)","v":0},0]
[1,"Female 90+",{"$f":"'III Tool Overview'!$H$8/160","v":17.90230113636364},{"$f":"'III Tool Overview'!$H$8/32","v":89.511505681818193},{"$f":"'III Tool Overview'!$H$8/64","v":44.755752840909096},{"$f":"HLOOKUP('III Tool Overview'!$H$6,Baseline_Data_2012!$B$2:$AV$270,Baseline_Data_2012!AW105,FALSE)","v":0},0]
[null,"TOTAL",null,null,null,null,0]
[null,"age/sex breakdown: Q2",null,null,null,null,0]
[2,"Male <1",null,null,null,null,0]
[2,"Male 1-4",null,null,null,null,0]
[2,"Male 5-9",null,null,null,null,0]
[2,"Male 10-14",null,null,null,null,0]
[2,"Male 15-19",{"$f":"'III Tool Overview'!$H$8/160","v":17.90230113636364},0,{"$f":"'III Tool Overview'!$H$8/64","v":44.755752840909096},{"$f":"HLOOKUP('III Tool Overview'!$H$6,Baseline_Data_2012!$B$2:$AV$270,Baseline_Data_2012!AW111,FALSE)","v":34.774999999999999},27.82]
[2,"Male 20-24",{"$f":"'III Tool Overview'!$H$8/160","v":17.90230113636364},0,{"$f":"'III Tool Overview'!$H$8/64","v":44.755752840909096},{"$f":"HLOOKUP('III Tool Overview'!$H$6,Baseline_Data_2012!$B$2:$AV$270,Baseline_Data_2012!AW112,FALSE)","v":47.774999999999999},38.22]
[2,"Male 25-29",{"$f":"'III Tool Overview'!$H$8/160","v":17.90230113636364},0,{"$f":"'III Tool Overview'!$H$8/64","v":44.755752840909096},{"$f":"HLOOKUP('III Tool Overview'!$H$6,Baseline_Data_2012!$B$2:$AV$270,Baseline_Data_2012!AW113,FALSE)","v":58.5},46.800000000000004]
[2,"Male 30-34",{"$f":"'III Tool Overview'!$H$8/160","v":17.90230113636364},0,{"$f":"'III Tool Overview'!$H$8/64","v":44.755752840909096},{"$f":"HLOOKUP('III Tool Overview'!$H$6,Baseline_Data_2012!$B$2:$AV$270,Baseline_Data_2012!AW114,FALSE)","v":45},36]
[2,"Male 35-39",{"$f":"'III Tool Overview'!$H$8/160","v":17.90230113636364},0,{"$f":"'III Tool Overview'!$H$8/64","v":44.755752840909096},{"$f":"HLOOKUP('III Tool Overview'!$H$6,Baseline_Data_2012!$B$2:$AV$270,Baseline_Data_2012!AW115,FALSE)","v":64.0625},51.25]
[2,"Male 40-44",{"$f":"'III Tool Overview'!$H$8/160","v":17.90230113636364},0,{"$f":"'III Tool Overview'!$H$8/64","v":44.755752840909096},{"$f":"HLOOKUP('III Tool Overview'!$H$6,Baseline_Data_2012!$B$2:$AV$270,Baseline_Data_2012!AW116,FALSE)","v":67.137499999999989},53.709999999999994]
[2,"Male 45-49",{"$f":"'III Tool Overview'!$H$8/160","v":17.90230113636364},0,{"$f":"'III Tool Overview'!$H$8/64","v":44.755752840909096},{"$f":"HLOOKUP('III Tool Overview'!$H$6,Baseline_Data_2012!$B$2:$AV$270,Baseline_Data_2012!AW117,FALSE)","v":77.7},62.160000000000004]
[2,"Male 50-54",{"$f":"'III Tool Overview'!$H$8/160","v":17.90230113636364},0,{"$f":"'III Tool Overview'!$H$8/64","v":44.755752840909096},{"$f":"HLOOKUP('III Tool Overview'!$H$6,Baseline_Data_2012!$B$2:$AV$270,Baseline_Data_2012!AW118,FALSE)","v":66.600000000000009},53.280000000000008]
[2,"Male 55-59",{"$f":"'III Tool Overview'!$H$8/160","v":17.90230113636364},0,{"$f":"'III Tool Overview'!$H$8/64","v":44.755752840909096},{"$f":"HLOOKUP('III Tool Overview'!$H$6,Baseline_Data_2012!$B$2:$AV$270,Baseline_Data_2012!AW119,FALSE)","v":34.425000000000004},27.540000000000006]
[2,"Male 60-64",{"$f":"'III Tool Overview'!$H$8/160","v":17.90230113636364},0,{"$f":"'III Tool Overview'!$H$8/64","v":44.755752840909096},{"$f":"HLOOKUP('III Tool Overview'!$H$6,Baseline_Data_2012!$B$2:$AV$270,Baseline_Data_2012!AW120,FALSE)","v":31.875000000000004},25.500000000000004]
[2,"Male 65-69",{"$f":"'III Tool Overview'!$H$8/160","v":17.90230113636364},0,{"$f":"'III Tool Overview'!$H$8/64","v":44.755752840909096},{"$f":"HLOOKUP('III Tool Overview'!$H$6,Baseline_Data_2012!$B$2:$AV$270,Baseline_Data_2012!AW121,FALSE)","v":45.650000000000006},36.520000000000003]
[2,"Male 70-74",{"$f":"'III Tool Overview'!$H$8/160","v":17.90230113636364},null,{"$f":"'III Tool Overview'!$H$8/64","v":44.755752840909096},{"$f":"HLOOKUP('III Tool Overview'!$H$6,Baseline_Data_2012!$B$2:$AV$270,Baseline_Data_2012!AW122,FALSE)","v":35.75},28.6]
[2,"Male 75-79",{"$f":"'III Tool Overview'!$H$8/160","v":17.90230113636364},null,{"$f":"'III Tool Overview'!$H$8/64","v":44.755752840909096},{"$f":"HLOOKUP('III Tool Overview'!$H$6,Baseline_Data_2012!$B$2:$AV$270,Baseline_Data_2012!AW123,FALSE)","v":9.4499999999999993},7.56]
[2,"Male 80-84",{"$f":"'III Tool Overview'!$H$8/160","v":17.90230113636364},null,{"$f":"'III Tool Overview'!$H$8/64","v":44.755752840909096},{"$f":"HLOOKUP('III Tool Overview'!$H$6,Baseline_Data_2012!$B$2:$AV$270,Baseline_Data_2012!AW124,FALSE)","v":5.5124999999999993},4.4099999999999993]
[2,"Male 85-89",{"$f":"'III Tool Overview'!$H$8/160","v":17.90230113636364},null,{"$f":"'III Tool Overview'!$H$8/64","v":44.755752840909096},{"$f":"HLOOKUP('III Tool Overview'!$H$6,Baseline_Data_2012!$B$2:$AV$270,Baseline_Data_2012!AW125,FALSE)","v":3.5999999999999996},2.88]
[2,"Male 90+",{"$f":"'III Tool Overview'!$H$8/160","v":17.90230113636364},null,{"$f":"'III Tool Overview'!$H$8/64","v":44.755752840909096},{"$f":"HLOOKUP('III Tool Overview'!$H$6,Baseline_Data_2012!$B$2:$AV$270,Baseline_Data_2012!AW126,FALSE)","v":2.25},1.8]
[null,"TOTAL",null,null,null,null,0]
[2,"Female <1",null,null,null,null,0]
[2,"Female 1-4",null,null,null,null,0]
[2,"Female 5-9",null,null,null,null,0]
[2,"Female 10-14",null,null,null,null,0]
[2,"Female 15-19",{"$f":"'III Tool Overview'!$H$8/160","v":17.90230113636364},0,{"$f":"'III Tool Overview'!$H$8/64","v":44.755752840909096},{"$f":"HLOOKUP('III Tool Overview'!$H$6,Baseline_Data_2012!$B$2:$AV$270,Baseline_Data_2012!AW131,FALSE)","v":20.031818181818181},16.025454545454547]
[2,"Female 20-24",{"$f":"'III Tool Overview'!$H$8/160","v":17.90230113636364},0,{"$f":"'III Tool Overview'!$H$8/64","v":44.755752840909096},{"$f":"HLOOKUP('III Tool Overview'!$H$6,Baseline_Data_2012!$B$2:$AV$270,Baseline_Data_2012!AW132,FALSE)","v":21.804545454545455},{"$f":"F133*0.8","v":17.443636363636365}]
[2,"Female 25-29",{"$f":"'III Tool Overview'!$H$8/160","v":17.90230113636364},0,{"$f":"'III Tool Overview'!$H$8/64","v":44.755752840909096},{"$f":"HLOOKUP('III Tool Overview'!$H$6,Baseline_Data_2012!$B$2:$AV$270,Baseline_Data_2012!AW133,FALSE)","v":25.786363636363632},20.629090909090905]
[2,"Female 30-34",{"$f":"'III Tool Overview'!$H$8/160","v":17.90230113636364},0,{"$f":"'III Tool Overview'!$H$8/64","v":44.755752840909096},{"$f":"HLOOKUP('III Tool Overview'!$H$6,Baseline_Data_2012!$B$2:$AV$270,Baseline_Data_2012!AW134,FALSE)","v":21.770454545454541},17.416363636363634]
[2,"Female 35-39",{"$f":"'III Tool Overview'!$H$8/160","v":17.90230113636364},0,{"$f":"'III Tool Overview'!$H$8/64","v":44.755752840909096},{"$f":"HLOOKUP('III Tool Overview'!$H$6,Baseline_Data_2012!$B$2:$AV$270,Baseline_Data_2012!AW135,FALSE)","v":33.68181818181818},26.945454545454545]
[2,"Female 40-44",{"$f":"'III Tool Overview'!$H$8/160","v":17.90230113636364},0,{"$f":"'III Tool Overview'!$H$8/64","v":44.755752840909096},{"$f":"HLOOKUP('III Tool Overview'!$H$6,Baseline_Data_2012!$B$2:$AV$270,Baseline_Data_2012!AW136,FALSE)","v":36.272727272727273},29.018181818181819]
[2,"Female 45-49",{"$f":"'III Tool Overview'!$H$8/160","v":17.90230113636364},0,{"$f":"'III Tool Overview'!$H$8/64","v":44.755752840909096},{"$f":"HLOOKUP('III Tool Overview'!$H$6,Baseline_Data_2012!$B$2:$AV$270,Baseline_Data_2012!AW137,FALSE)","v":38.618181818181817},30.894545454545455]
[2,"Female 50-54",{"$f":"'III Tool Overview'!$H$8/160","v":17.90230113636364},0,{"$f":"'III Tool Overview'!$H$8/64","v":44.755752840909096},{"$f":"HLOOKUP('III Tool Overview'!$H$6,Baseline_Data_2012!$B$2:$AV$270,Baseline_Data_2012!AW138,FALSE)","v":32.727272727272727},26.181818181818183]
[2,"Female 55-59",{"$f":"'III Tool Overview'!$H$8/160","v":17.90230113636364},0,{"$f":"'III Tool Overview'!$H$8/64","v":44.755752840909096},{"$f":"HLOOKUP('III Tool Overview'!$H$6,Baseline_Data_2012!$B$2:$AV$270,Baseline_Data_2012!AW139,FALSE)","v":31.438636363636359},25.150909090909089]
[2,"Female 60-64",{"$f":"'III Tool Overview'!$H$8/160","v":17.90230113636364},0,{"$f":"'III Tool Overview'!$H$8/64","v":44.755752840909096},{"$f":"HLOOKUP('III Tool Overview'!$H$6,Baseline_Data_2012!$B$2:$AV$270,Baseline_Data_2012!AW140,FALSE)","v":30.647727272727266},24.518181818181816]
[2,"Female 65-69",{"$f":"'III Tool Overview'!$H$8/160","v":17.90230113636364},0,{"$f":"'III Tool Overview'!$H$8/64","v":44.755752840909096},{"$f":"HLOOKUP('III Tool Overview'!$H$6,Baseline_Data_2012!$B$2:$AV$270,Baseline_Data_2012!AW141,FALSE)","v":24.463636363636361},19.57090909090909]
[2,"Female 70-74",{"$f":"'III Tool Overview'!$H$8/160","v":17.90230113636364},null,{"$f":"'III Tool Overview'!$H$8/64","v":44.755752840909096},{"$f":"HLOOKUP('III Tool Overview'!$H$6,Baseline_Data_2012!$B$2:$AV$270,Baseline_Data_2012!AW142,FALSE)","v":19.131818181818179},15.305454545454545]
[2,"Female 75-79",{"$f":"'III Tool Overview'!$H$8/160","v":17.90230113636364},null,{"$f":"'III Tool Overview'!$H$8/64","v":44.755752840909096},{"$f":"HLOOKUP('III Tool Overview'!$H$6,Baseline_Data_2012!$B$2:$AV$270,Baseline_Data_2012!AW143,FALSE)","v":6},4.8000000000000007]
[2,"Female 80-84",{"$f":"'III Tool Overview'!$H$8/160","v":17.90230113636364},null,{"$f":"'III Tool Overview'!$H$8/64","v":44.755752840909096},{"$f":"HLOOKUP('III Tool Overview'!$H$6,Baseline_Data_2012!$B$2:$AV$270,Baseline_Data_2012!AW144,FALSE)","v":4.9090909090909083},3.9272727272727268]
[2,"Female 85+",{"$f":"'III Tool Overview'!$H$8/160","v":17.90230113636364},null,{"$f":"'III Tool Overview'!$H$8/64","v":44.755752840909096},{"$f":"HLOOKUP('III Tool Overview'!$H$6,Baseline_Data_2012!$B$2:$AV$270,Baseline_Data_2012!AW145,FALSE)","v":3.7499999999999996},3]
[2,"Female 90+",{"$f":"'III Tool Overview'!$H$8/160","v":17.90230113636364},null,{"$f":"'III Tool Overview'!$H$8/64","v":44.755752840909096},{"$f":"HLOOKUP('III Tool Overview'!$H$6,Baseline_Data_2012!$B$2:$AV$270,Baseline_Data_2012!AW146,FALSE)","v":2.5909090909090908},2.0727272727272728]
[null,"TOTAL",null,null,null,null,0]
[null,"age/sex breakdown: Q3",null,null,null,null,0]
[3,"Male <1",null,null,null,null,0]
[3,"Male 1-4",null,null,null,null,0]
[3,"Male 5-9",null,null,null,null,0]
[3,"Male 10-14",null,null,null,null,0]
[3,"Male 15-19",{"$f":"'III Tool Overview'!$H$8/160","v":17.90230113636364},0,0,{"$f":"HLOOKUP('III Tool Overview'!$H$6,Baseline_Data_2012!$B$2:$AV$270,Baseline_Data_2012!AW152,FALSE)","v":22.275000000000002},17.820000000000004]
[3,"Male 20-24",{"$f":"'III Tool Overview'!$H$8/160","v":17.90230113636364},0,0,{"$f":"HLOOKUP('III Tool Overview'!$H$6,Baseline_Data_2012!$B$2:$AV$270,Baseline_Data_2012!AW153,FALSE)","v":26.125000000000004},20.900000000000006]
[3,"Male 25-29",{"$f":"'III Tool Overview'!$H$8/160","v":17.90230113636364},0,0,{"$f":"HLOOKUP('III Tool Overview'!$H$6,Baseline_Data_2012!$B$2:$AV$270,Baseline_Data_2012!AW154,FALSE)","v":32.5},26]
[3,"Male 30-34",{"$f":"'III Tool Overview'!$H$8/160","v":17.90230113636364},0,0,{"$f":"HLOOKUP('III Tool Overview'!$H$6,Baseline_Data_2012!$B$2:$AV$270,Baseline_Data_2012!AW155,FALSE)","v":26.975000000000001},21.580000000000002]
[3,"Male 35-39",{"$f":"'III Tool Overview'!$H$8/160","v":17.90230113636364},0,0,{"$f":"HLOOKUP('III Tool Overview'!$H$6,Baseline_Data_2012!$B$2:$AV$270,Baseline_Data_2012!AW156,FALSE)","v":34.125},27.3]
[3,"Male 40-44",{"$f":"'III Tool Overview'!$H$8/160","v":17.90230113636364},0,0,{"$f":"HLOOKUP('III Tool Overview'!$H$6,Baseline_Data_2012!$B$2:$AV$270,Baseline_Data_2012!AW157,FALSE)","v":38.625},30.900000000000002]
[3,"Male 45-49",{"$f":"'III Tool Overview'!$H$8/160","v":17.90230113636364},0,0,{"$f":"HLOOKUP('III Tool Overview'!$H$6,Baseline_Data_2012!$B$2:$AV$270,Baseline_Data_2012!AW158,FALSE)","v":48.425000000000004},38.740000000000009]
[3,"Male 50-54",{"$f":"'III Tool Overview'!$H$8/160","v":17.90230113636364},0,0,{"$f":"HLOOKUP('III Tool Overview'!$H$6,Baseline_Data_2012!$B$2:$AV$270,Baseline_Data_2012!AW159,FALSE)","v":56.550000000000004},45.240000000000009]
[3,"Male 55-59",{"$f":"'III Tool Overview'!$H$8/160","v":17.90230113636364},0,0,{"$f":"HLOOKUP('III Tool Overview'!$H$6,Baseline_Data_2012!$B$2:$AV$270,Baseline_Data_2012!AW160,FALSE)","v":40.6875},32.550000000000004]
[3,"Male 60-64",{"$f":"'III Tool Overview'!$H$8/160","v":17.90230113636364},0,0,{"$f":"HLOOKUP('III Tool Overview'!$H$6,Baseline_Data_2012!$B$2:$AV$270,Baseline_Data_2012!AW161,FALSE)","v":34.912500000000001},27.930000000000003]
[3,"Male 65-69",{"$f":"'III Tool Overview'!$H$8/160","v":17.90230113636364},0,0,{"$f":"HLOOKUP('III Tool Overview'!$H$6,Baseline_Data_2012!$B$2:$AV$270,Baseline_Data_2012!AW162,FALSE)","v":21.35},17.080000000000002]
[3,"Male 70-74",{"$f":"'III Tool Overview'!$H$8/160","v":17.90230113636364},null,null,{"$f":"HLOOKUP('III Tool Overview'!$H$6,Baseline_Data_2012!$B$2:$AV$270,Baseline_Data_2012!AW163,FALSE)","v":19.775000000000002},15.820000000000002]
[3,"Male 75-79",{"$f":"'III Tool Overview'!$H$8/160","v":17.90230113636364},null,null,{"$f":"HLOOKUP('III Tool Overview'!$H$6,Baseline_Data_2012!$B$2:$AV$270,Baseline_Data_2012!AW164,FALSE)","v":8.625},6.9]
[3,"Male 80-84",{"$f":"'III Tool Overview'!$H$8/160","v":17.90230113636364},null,null,{"$f":"HLOOKUP('III Tool Overview'!$H$6,Baseline_Data_2012!$B$2:$AV$270,Baseline_Data_2012!AW165,FALSE)","v":5.875},4.7]
[3,"Male 85-89",{"$f":"'III Tool Overview'!$H$8/160","v":17.90230113636364},null,null,{"$f":"HLOOKUP('III Tool Overview'!$H$6,Baseline_Data_2012!$B$2:$AV$270,Baseline_Data_2012!AW166,FALSE)","v":2.5},2]
[3,"Male 90+",{"$f":"'III Tool Overview'!$H$8/160","v":17.90230113636364},null,null,{"$f":"HLOOKUP('III Tool Overview'!$H$6,Baseline_Data_2012!$B$2:$AV$270,Baseline_Data_2012!AW167,FALSE)","v":0.75},0.60000000000000009]
[null,"TOTAL",null,null,null,null,0]
[3,"Female <1",null,null,null,null,0]
[3,"Female 1-4",null,null,null,null,0]
[3,"Female 5-9",null,null,null,null,0]
[3,"Female 10-14",null,null,null,null,0]
[3,"Female 15-19",{"$f":"'III Tool Overview'!$H$8/160","v":17.90230113636364},0,0,{"$f":"HLOOKUP('III Tool Overview'!$H$6,Baseline_Data_2012!$B$2:$AV$270,Baseline_Data_2012!AW172,FALSE)","v":9.8181818181818166},7.8545454545454536]
[3,"Female 20-24",{"$f":"'III Tool Overview'!$H$8/160","v":17.90230113636364},0,0,{"$f":"HLOOKUP('III Tool Overview'!$H$6,Baseline_Data_2012!$B$2:$AV$270,Baseline_Data_2012!AW173,FALSE)","v":12.818181818181817},10.254545454545454]
[3,"Female 25-29",{"$f":"'III Tool Overview'!$H$8/160","v":17.90230113636364},0,0,{"$f":"HLOOKUP('III Tool Overview'!$H$6,Baseline_Data_2012!$B$2:$AV$270,Baseline_Data_2012!AW174,FALSE)","v":19.970454545454544},15.976363636363637]
[3,"Female 30-34",{"$f":"'III Tool Overview'!$H$8/160","v":17.90230113636364},0,0,{"$f":"HLOOKUP('III Tool Overview'!$H$6,Baseline_Data_2012!$B$2:$AV$270,Baseline_Data_2012!AW175,FALSE)","v":19.77272727272727},15.818181818181817]
[3,"Female 35-39",{"$f":"'III Tool Overview'!$H$8/160","v":17.90230113636364},0,0,{"$f":"HLOOKUP('III Tool Overview'!$H$6,Baseline_Data_2012!$B$2:$AV$270,Baseline_Data_2012!AW176,FALSE)","v":13.643181818181816},10.914545454545454]
[3,"Female 40-44",{"$f":"'III Tool Overview'!$H$8/160","v":17.90230113636364},0,0,{"$f":"HLOOKUP('III Tool Overview'!$H$6,Baseline_Data_2012!$B$2:$AV$270,Baseline_Data_2012!AW177,FALSE)","v":17.406818181818181},13.925454545454546]
[3,"Female 45-49",{"$f":"'III Tool Overview'!$H$8/160","v":17.90230113636364},0,0,{"$f":"HLOOKUP('III Tool Overview'!$H$6,Baseline_Data_2012!$B$2:$AV$270,Baseline_Data_2012!AW178,FALSE)","v":23.7},18.96]
[3,"Female 50-54",{"$f":"'III Tool Overview'!$H$8/160","v":17.90230113636364},0,0,{"$f":"HLOOKUP('III Tool Overview'!$H$6,Baseline_Data_2012!$B$2:$AV$270,Baseline_Data_2012!AW179,FALSE)","v":19.349999999999998},15.479999999999999]
[3,"Female 55-59",{"$f":"'III Tool Overview'!$H$8/160","v":17.90230113636364},0,0,{"$f":"HLOOKUP('III Tool Overview'!$H$6,Baseline_Data_2012!$B$2:$AV$270,Baseline_Data_2012!AW180,FALSE)","v":18.3},14.64]
[3,"Female 60-64",{"$f":"'III Tool Overview'!$H$8/160","v":17.90230113636364},0,0,{"$f":"HLOOKUP('III Tool Overview'!$H$6,Baseline_Data_2012!$B$2:$AV$270,Baseline_Data_2012!AW181,FALSE)","v":19.649999999999999},15.719999999999999]
[3,"Female 65-69",{"$f":"'III Tool Overview'!$H$8/160","v":17.90230113636364},0,0,{"$f":"HLOOKUP('III Tool Overview'!$H$6,Baseline_Data_2012!$B$2:$AV$270,Baseline_Data_2012!AW182,FALSE)","v":15.415909090909091},12.332727272727274]
[3,"Female 70-74",{"$f":"'III Tool Overview'!$H$8/160","v":17.90230113636364},null,null,{"$f":"HLOOKUP('III Tool Overview'!$H$6,Baseline_Data_2012!$B$2:$AV$270,Baseline_Data_2012!AW183,FALSE)","v":14.720454545454546},11.776363636363637]
[3,"Female 75-79",{"$f":"'III Tool Overview'!$H$8/160","v":17.90230113636364},null,null,{"$f":"HLOOKUP('III Tool Overview'!$H$6,Baseline_Data_2012!$B$2:$AV$270,Baseline_Data_2012!AW184,FALSE)","v":3.9818181818181815},3.1854545454545455]
[3,"Female 80-84",{"$f":"'III Tool Overview'!$H$8/160","v":17.90230113636364},null,null,{"$f":"HLOOKUP('III Tool Overview'!$H$6,Baseline_Data_2012!$B$2:$AV$270,Baseline_Data_2012!AW185,FALSE)","v":3.2181818181818178},2.5745454545454542]
[3,"Female 85+",{"$f":"'III Tool Overview'!$H$8/160","v":17.90230113636364},null,null,{"$f":"HLOOKUP('III Tool Overview'!$H$6,Baseline_Data_2012!$B$2:$AV$270,Baseline_Data_2012!AW186,FALSE)","v":1.7454545454545454},1.3963636363636365]
[3,"Female 90+",{"$f":"'III Tool Overview'!$H$8/160","v":17.90230113636364},null,null,{"$f":"HLOOKUP('III Tool Overview'!$H$6,Baseline_Data_2012!$B$2:$AV$270,Baseline_Data_2012!AW187,FALSE)","v":1.0909090909090908},0.87272727272727268]
[null,"TOTAL",null,null,null,null,0]
[null,"age/sex breakdown: Q4",null,null,null,null,0]
[4,"Male <1",null,null,null,null,0]
[4,"Male 1-4",null,null,null,null,0]
[4,"Male 5-9",null,null,null,null,0]
[4,"Male 10-14",null,null,null,null,0]
[4,"Male 15-19",{"$f":"'III Tool Overview'!$H$8/160","v":17.90230113636364},0,0,{"$f":"HLOOKUP('III Tool Overview'!$H$6,Baseline_Data_2012!$B$2:$AV$270,Baseline_Data_2012!AW193,FALSE)","v":80},{"$f":"F197*0.8","v":64}]
[4,"Male 20-24",{"$f":"'III Tool Overview'!$H$8/160","v":17.90230113636364},0,0,{"$f":"HLOOKUP('III Tool Overview'!$H$6,Baseline_Data_2012!$B$2:$AV$270,Baseline_Data_2012!AW194,FALSE)","v":84.75},67.8]
[4,"Male 25-29",{"$f":"'III Tool Overview'!$H$8/160","v":17.90230113636364},0,0,{"$f":"HLOOKUP('III Tool Overview'!$H$6,Baseline_Data_2012!$B$2:$AV$270,Baseline_Data_2012!AW195,FALSE)","v":102.9},82.320000000000007]
[4,"Male 30-34",{"$f":"'III Tool Overview'!$H$8/160","v":17.90230113636364},0,0,{"$f":"HLOOKUP('III Tool Overview'!$H$6,Baseline_Data_2012!$B$2:$AV$270,Baseline_Data_2012!AW196,FALSE)","v":109.20000000000002},87.360000000000014]
[4,"Male 35-39",{"$f":"'III Tool Overview'!$H$8/160","v":17.90230113636364},0,0,{"$f":"HLOOKUP('III Tool Overview'!$H$6,Baseline_Data_2012!$B$2:$AV$270,Baseline_Data_2012!AW197,FALSE)","v":101.72500000000001},81.38000000000001]
[4,"Male 40-44",{"$f":"'III Tool Overview'!$H$8/160","v":17.90230113636364},0,0,{"$f":"HLOOKUP('III Tool Overview'!$H$6,Baseline_Data_2012!$B$2:$AV$270,Baseline_Data_2012!AW198,FALSE)","v":152.75},122.2]
[4,"Male 45-49",{"$f":"'III Tool Overview'!$H$8/160","v":17.90230113636364},0,0,{"$f":"HLOOKUP('III Tool Overview'!$H$6,Baseline_Data_2012!$B$2:$AV$270,Baseline_Data_2012!AW199,FALSE)","v":164.4},131.52000000000001]
[4,"Male 50-54",{"$f":"'III Tool Overview'!$H$8/160","v":17.90230113636364},0,0,{"$f":"HLOOKUP('III Tool Overview'!$H$6,Baseline_Data_2012!$B$2:$AV$270,Baseline_Data_2012!AW200,FALSE)","v":144.9},115.92000000000002]
[4,"Male 55-59",{"$f":"'III Tool Overview'!$H$8/160","v":17.90230113636364},0,0,{"$f":"HLOOKUP('III Tool Overview'!$H$6,Baseline_Data_2012!$B$2:$AV$270,Baseline_Data_2012!AW201,FALSE)","v":137.4},109.92000000000002]
[4,"Male 60-64",{"$f":"'III Tool Overview'!$H$8/160","v":17.90230113636364},0,0,{"$f":"HLOOKUP('III Tool Overview'!$H$6,Baseline_Data_2012!$B$2:$AV$270,Baseline_Data_2012!AW202,FALSE)","v":134.4},107.52000000000001]
[4,"Male 65-69",{"$f":"'III Tool Overview'!$H$8/160","v":17.90230113636364},0,0,{"$f":"HLOOKUP('III Tool Overview'!$H$6,Baseline_Data_2012!$B$2:$AV$270,Baseline_Data_2012!AW203,FALSE)","v":76.875},61.5]
[4,"Male 70-74",{"$f":"'III Tool Overview'!$H$8/160","v":17.90230113636364},null,null,{"$f":"HLOOKUP('III Tool Overview'!$H$6,Baseline_Data_2012!$B$2:$AV$270,Baseline_Data_2012!AW204,FALSE)","v":60.375},48.300000000000004]
[4,"Male 75-79",{"$f":"'III Tool Overview'!$H$8/160","v":17.90230113636364},null,null,{"$f":"HLOOKUP('III Tool Overview'!$H$6,Baseline_Data_2012!$B$2:$AV$270,Baseline_Data_2012!AW205,FALSE)","v":9.8500000000000014},7.8800000000000017]
[4,"Male 80-84",{"$f":"'III Tool Overview'!$H$8/160","v":17.90230113636364},null,null,{"$f":"HLOOKUP('III Tool Overview'!$H$6,Baseline_Data_2012!$B$2:$AV$270,Baseline_Data_2012!AW206,FALSE)","v":7.2},5.7600000000000007]
[4,"Male 85-89",{"$f":"'III Tool Overview'!$H$8/160","v":17.90230113636364},null,null,{"$f":"HLOOKUP('III Tool Overview'!$H$6,Baseline_Data_2012!$B$2:$AV$270,Baseline_Data_2012!AW207,FALSE)","v":3.6},2.8800000000000003]
[4,"Male 90+",{"$f":"'III Tool Overview'!$H$8/160","v":17.90230113636364},null,null,{"$f":"HLOOKUP('III Tool Overview'!$H$6,Baseline_Data_2012!$B$2:$AV$270,Baseline_Data_2012!AW208,FALSE)","v":1.55},1.2400000000000002]
[null,"TOTAL",null,null,null,null,0]
[4,"Female <1",null,null,null,null,0]
[4,"Female 1-4",null,null,null,null,0]
[4,"Female 5-9",null,null,null,null,0]
[4,"Female 10-14",null,null,null,null,0]
[4,"Female 15-19",{"$f":"'III Tool Overview'!$H$8/160","v":17.90230113636364},0,0,{"$f":"HLOOKUP('III Tool Overview'!$H$6,Baseline_Data_2012!$B$2:$AV$270,Baseline_Data_2012!AW213,FALSE)","v":24.95454545454545},19.963636363636361]
[4,"Female 20-24",{"$f":"'III Tool Overview'!$H$8/160","v":17.90230113636364},0,0,{"$f":"HLOOKUP('III Tool Overview'!$H$6,Baseline_Data_2012!$B$2:$AV$270,Baseline_Data_2012!AW214,FALSE)","v":24.299999999999997},19.439999999999998]
[4,"Female 25-29",{"$f":"'III Tool Overview'!$H$8/160","v":17.90230113636364},0,0,{"$f":"HLOOKUP('III Tool Overview'!$H$6,Baseline_Data_2012!$B$2:$AV$270,Baseline_Data_2012!AW215,FALSE)","v":32.645454545454548},26.116363636363641]
[4,"Female 30-34",{"$f":"'III Tool Overview'!$H$8/160","v":17.90230113636364},0,0,{"$f":"HLOOKUP('III Tool Overview'!$H$6,Baseline_Data_2012!$B$2:$AV$270,Baseline_Data_2012!AW216,FALSE)","v":33.027272727272731},26.421818181818185]
[4,"Female 35-39",{"$f":"'III Tool Overview'!$H$8/160","v":17.90230113636364},0,0,{"$f":"HLOOKUP('III Tool Overview'!$H$6,Baseline_Data_2012!$B$2:$AV$270,Baseline_Data_2012!AW217,FALSE)","v":52.404545454545449},41.923636363636362]
[4,"Female 40-44",{"$f":"'III Tool Overview'!$H$8/160","v":17.90230113636364},0,0,{"$f":"HLOOKUP('III Tool Overview'!$H$6,Baseline_Data_2012!$B$2:$AV$270,Baseline_Data_2012!AW218,FALSE)","v":70.73181818181817},56.585454545454539]
[4,"Female 45-49",{"$f":"'III Tool Overview'!$H$8/160","v":17.90230113636364},0,0,{"$f":"HLOOKUP('III Tool Overview'!$H$6,Baseline_Data_2012!$B$2:$AV$270,Baseline_Data_2012!AW219,FALSE)","v":68.590909090909079},54.872727272727268]
[4,"Female 50-54",{"$f":"'III Tool Overview'!$H$8/160","v":17.90230113636364},0,0,{"$f":"HLOOKUP('III Tool Overview'!$H$6,Baseline_Data_2012!$B$2:$AV$270,Baseline_Data_2012!AW220,FALSE)","v":60.818181818181813},48.654545454545456]
[4,"Female 55-59",{"$f":"'III Tool Overview'!$H$8/160","v":17.90230113636364},0,0,{"$f":"HLOOKUP('III Tool Overview'!$H$6,Baseline_Data_2012!$B$2:$AV$270,Baseline_Data_2012!AW221,FALSE)","v":46.009090909090908},36.807272727272725]
[4,"Female 60-64",{"$f":"'III Tool Overview'!$H$8/160","v":17.90230113636364},0,0,{"$f":"HLOOKUP('III Tool Overview'!$H$6,Baseline_Data_2012!$B$2:$AV$270,Baseline_Data_2012!AW222,FALSE)","v":44.195454545454545},35.356363636363639]
[4,"Female 65-69",{"$f":"'III Tool Overview'!$H$8/160","v":17.90230113636364},0,0,{"$f":"HLOOKUP('III Tool Overview'!$H$6,Baseline_Data_2012!$B$2:$AV$270,Baseline_Data_2012!AW223,FALSE)","v":32.399999999999991},25.919999999999995]
[4,"Female 70-74",{"$f":"'III Tool Overview'!$H$8/160","v":17.90230113636364},null,null,{"$f":"HLOOKUP('III Tool Overview'!$H$6,Baseline_Data_2012!$B$2:$AV$270,Baseline_Data_2012!AW224,FALSE)","v":27.490909090909085},21.992727272727269]
[4,"Female 75-79",{"$f":"'III Tool Overview'!$H$8/160","v":17.90230113636364},null,null,{"$f":"HLOOKUP('III Tool Overview'!$H$6,Baseline_Data_2012!$B$2:$AV$270,Baseline_Data_2012!AW225,FALSE)","v":8.2159090909090899},6.5727272727272723]
[4,"Female 80-84",{"$f":"'III Tool Overview'!$H$8/160","v":17.90230113636364},null,null,{"$f":"HLOOKUP('III Tool Overview'!$H$6,Baseline_Data_2012!$B$2:$AV$270,Baseline_Data_2012!AW226,FALSE)","v":6.0681818181818175},4.8545454545454545]
[4,"Female 85+",{"$f":"'III Tool Overview'!$H$8/160","v":17.90230113636364},null,null,{"$f":"HLOOKUP('III Tool Overview'!$H$6,Baseline_Data_2012!$B$2:$AV$270,Baseline_Data_2012!AW227,FALSE)","v":3.2386363636363633},2.5909090909090908]
[4,"Female 90+",{"$f":"'III Tool Overview'!$H$8/160","v":17.90230113636364},null,null,{"$f":"HLOOKUP('III Tool Overview'!$H$6,Baseline_Data_2012!$B$2:$AV$270,Baseline_Data_2012!AW228,FALSE)","v":2.5568181818181817},2.0454545454545454]
[null,"TOTAL",null,null,null,null,0]
[null,"age/sex breakdown: Q5",null,null,null,null,0]
[5,"Male <1",null,null,null,null,0]
[5,"Male 1-4",null,null,null,null,0]
[5,"Male 5-9",null,null,null,null,0]
[5,"Male 10-14",null,null,null,null,0]
[5,"Male 15-19",{"$f":"'III Tool Overview'!$H$8/160","v":17.90230113636364},0,0,{"$f":"HLOOKUP('III Tool Overview'!$H$6,Baseline_Data_2012!$B$2:$AV$270,Baseline_Data_2012!AW234,FALSE)","v":2.0249999999999999},1.62]
[5,"Male 20-24",{"$f":"'III Tool Overview'!$H$8/160","v":17.90230113636364},0,0,{"$f":"HLOOKUP('III Tool Overview'!$H$6,Baseline_Data_2012!$B$2:$AV$270,Baseline_Data_2012!AW235,FALSE)","v":2.25},1.8]
[5,"Male 25-29",{"$f":"'III Tool Overview'!$H$8/160","v":17.90230113636364},0,0,{"$f":"HLOOKUP('III Tool Overview'!$H$6,Baseline_Data_2012!$B$2:$AV$270,Baseline_Data_2012!AW236,FALSE)","v":1.3},1.04]
[5,"Male 30-34",{"$f":"'III Tool Overview'!$H$8/160","v":17.90230113636364},0,0,{"$f":"HLOOKUP('III Tool Overview'!$H$6,Baseline_Data_2012!$B$2:$AV$270,Baseline_Data_2012!AW237,FALSE)","v":1.7875000000000001},1.4300000000000002]
[5,"Male 35-39",{"$f":"'III Tool Overview'!$H$8/160","v":17.90230113636364},0,0,{"$f":"HLOOKUP('III Tool Overview'!$H$6,Baseline_Data_2012!$B$2:$AV$270,Baseline_Data_2012!AW238,FALSE)","v":2.7625000000000002},2.2100000000000004]
[5,"Male 40-44",{"$f":"'III Tool Overview'!$H$8/160","v":17.90230113636364},0,0,{"$f":"HLOOKUP('III Tool Overview'!$H$6,Baseline_Data_2012!$B$2:$AV$270,Baseline_Data_2012!AW239,FALSE)","v":2.4375},1.9500000000000002]
[5,"Male 45-49",{"$f":"'III Tool Overview'!$H$8/160","v":17.90230113636364},0,0,{"$f":"HLOOKUP('III Tool Overview'!$H$6,Baseline_Data_2012!$B$2:$AV$270,Baseline_Data_2012!AW240,FALSE)","v":5.3625000000000007},4.2900000000000009]
[5,"Male 50-54",{"$f":"'III Tool Overview'!$H$8/160","v":17.90230113636364},0,0,{"$f":"HLOOKUP('III Tool Overview'!$H$6,Baseline_Data_2012!$B$2:$AV$270,Baseline_Data_2012!AW241,FALSE)","v":4.5375000000000005},3.6300000000000008]
[5,"Male 55-59",{"$f":"'III Tool Overview'!$H$8/160","v":17.90230113636364},0,0,{"$f":"HLOOKUP('III Tool Overview'!$H$6,Baseline_Data_2012!$B$2:$AV$270,Baseline_Data_2012!AW242,FALSE)","v":3.7125000000000004},2.9700000000000006]
[5,"Male 60-64",{"$f":"'III Tool Overview'!$H$8/160","v":17.90230113636364},0,0,{"$f":"HLOOKUP('III Tool Overview'!$H$6,Baseline_Data_2012!$B$2:$AV$270,Baseline_Data_2012!AW243,FALSE)","v":3.4375000000000004},2.7500000000000004]
[5,"Male 65-69",{"$f":"'III Tool Overview'!$H$8/160","v":17.90230113636364},0,0,{"$f":"HLOOKUP('III Tool Overview'!$H$6,Baseline_Data_2012!$B$2:$AV$270,Baseline_Data_2012!AW244,FALSE)","v":1.6625000000000001},1.33]
[5,"Male 70-74",{"$f":"'III Tool Overview'!$H$8/160","v":17.90230113636364},null,null,{"$f":"HLOOKUP('III Tool Overview'!$H$6,Baseline_Data_2012!$B$2:$AV$270,Baseline_Data_2012!AW245,FALSE)","v":0.96250000000000013},0.77000000000000013]
[5,"Male 75-79",{"$f":"'III Tool Overview'!$H$8/160","v":17.90230113636364},null,null,{"$f":"HLOOKUP('III Tool Overview'!$H$6,Baseline_Data_2012!$B$2:$AV$270,Baseline_Data_2012!AW246,FALSE)","v":0.1125},9.0000000000000011E-2]
[5,"Male 80-84",{"$f":"'III Tool Overview'!$H$8/160","v":17.90230113636364},null,null,{"$f":"HLOOKUP('III Tool Overview'!$H$6,Baseline_Data_2012!$B$2:$AV$270,Baseline_Data_2012!AW247,FALSE)","v":0.125},0.1]
[5,"Male 85-89",{"$f":"'III Tool Overview'!$H$8/160","v":17.90230113636364},null,null,{"$f":"HLOOKUP('III Tool Overview'!$H$6,Baseline_Data_2012!$B$2:$AV$270,Baseline_Data_2012!AW248,FALSE)","v":0},0]
[5,"Male 90+",{"$f":"'III Tool Overview'!$H$8/160","v":17.90230113636364},null,null,{"$f":"HLOOKUP('III Tool Overview'!$H$6,Baseline_Data_2012!$B$2:$AV$270,Baseline_Data_2012!AW249,FALSE)","v":2.5000000000000001E-2},2.0000000000000004E-2]
[null,"TOTAL",null,null,null,null,0]
[5,"Female <1",null,null,null,null,0]
[5,"Female 1-4",null,null,null,null,0]
[5,"Female 5-9",null,null,null,null,0]
[5,"Female 10-14",null,null,null,null,0]
[5,"Female 15-19",{"$f":"'III Tool Overview'!$H$8/160","v":17.90230113636364},0,0,{"$f":"HLOOKUP('III Tool Overview'!$H$6,Baseline_Data_2012!$B$2:$AV$270,Baseline_Data_2012!AW254,FALSE)","v":1.2},{"$f":"F261*0.8","v":0.96}]
[5,"Female 20-24",{"$f":"'III Tool Overview'!$H$8/160","v":17.90230113636364},0,0,{"$f":"HLOOKUP('III Tool Overview'!$H$6,Baseline_Data_2012!$B$2:$AV$270,Baseline_Data_2012!AW255,FALSE)","v":1.125},0.9]
[5,"Female 25-29",{"$f":"'III Tool Overview'!$H$8/160","v":17.90230113636364},0,0,{"$f":"HLOOKUP('III Tool Overview'!$H$6,Baseline_Data_2012!$B$2:$AV$270,Baseline_Data_2012!AW256,FALSE)","v":2.0045454545454549},1.603636363636364]
[5,"Female 30-34",{"$f":"'III Tool Overview'!$H$8/160","v":17.90230113636364},0,0,{"$f":"HLOOKUP('III Tool Overview'!$H$6,Baseline_Data_2012!$B$2:$AV$270,Baseline_Data_2012!AW257,FALSE)","v":1.4318181818181819},1.1454545454545455]
[5,"Female 35-39",{"$f":"'III Tool Overview'!$H$8/160","v":17.90230113636364},0,0,{"$f":"HLOOKUP('III Tool Overview'!$H$6,Baseline_Data_2012!$B$2:$AV$270,Baseline_Data_2012!AW258,FALSE)","v":2.0454545454545454},1.6363636363636365]
[5,"Female 40-44",{"$f":"'III Tool Overview'!$H$8/160","v":17.90230113636364},0,0,{"$f":"HLOOKUP('III Tool Overview'!$H$6,Baseline_Data_2012!$B$2:$AV$270,Baseline_Data_2012!AW259,FALSE)","v":2.0454545454545454},1.6363636363636365]
[5,"Female 45-49",{"$f":"'III Tool Overview'!$H$8/160","v":17.90230113636364},0,0,{"$f":"HLOOKUP('III Tool Overview'!$H$6,Baseline_Data_2012!$B$2:$AV$270,Baseline_Data_2012!AW260,FALSE)","v":2.9249999999999998},2.34]
[5,"Female 50-54",{"$f":"'III Tool Overview'!$H$8/160","v":17.90230113636364},0,0,{"$f":"HLOOKUP('III Tool Overview'!$H$6,Baseline_Data_2012!$B$2:$AV$270,Baseline_Data_2012!AW261,FALSE)","v":2.1},1.6800000000000002]
[5,"Female 55-59",{"$f":"'III Tool Overview'!$H$8/160","v":17.90230113636364},0,0,{"$f":"HLOOKUP('III Tool Overview'!$H$6,Baseline_Data_2012!$B$2:$AV$270,Baseline_Data_2012!AW262,FALSE)","v":1.3636363636363635},1.0909090909090908]
[5,"Female 60-64",{"$f":"'III Tool Overview'!$H$8/160","v":17.90230113636364},0,0,{"$f":"HLOOKUP('III Tool Overview'!$H$6,Baseline_Data_2012!$B$2:$AV$270,Baseline_Data_2012!AW263,FALSE)","v":1.4318181818181817},1.1454545454545453]
[5,"Female 65-69",{"$f":"'III Tool Overview'!$H$8/160","v":17.90230113636364},0,0,{"$f":"HLOOKUP('III Tool Overview'!$H$6,Baseline_Data_2012!$B$2:$AV$270,Baseline_Data_2012!AW264,FALSE)","v":1.0227272727272725},0.81818181818181801]
[5,"Female 70-74",{"$f":"'III Tool Overview'!$H$8/160","v":17.90230113636364},null,null,{"$f":"HLOOKUP('III Tool Overview'!$H$6,Baseline_Data_2012!$B$2:$AV$270,Baseline_Data_2012!AW265,FALSE)","v":0.53181818181818175},0.42545454545454542]
[5,"Female 75-79",{"$f":"'III Tool Overview'!$H$8/160","v":17.90230113636364},null,null,{"$f":"HLOOKUP('III Tool Overview'!$H$6,Baseline_Data_2012!$B$2:$AV$270,Baseline_Data_2012!AW266,FALSE)","v":0.38181818181818178},0.30545454545454542]
[5,"Female 80-84",{"$f":"'III Tool Overview'!$H$8/160","v":17.90230113636364},null,null,{"$f":"HLOOKUP('III Tool Overview'!$H$6,Baseline_Data_2012!$B$2:$AV$270,Baseline_Data_2012!AW267,FALSE)","v":0.19090909090909089},0.15272727272727271]
[5,"Female 85+",{"$f":"'III Tool Overview'!$H$8/160","v":17.90230113636364},null,null,{"$f":"HLOOKUP('III Tool Overview'!$H$6,Baseline_Data_2012!$B$2:$AV$270,Baseline_Data_2012!AW268,FALSE)","v":0.19090909090909089},0.15272727272727271]
[5,"Female 90+",{"$f":"'III Tool Overview'!$H$8/160","v":17.90230113636364},null,null,{"$f":"HLOOKUP('III Tool Overview'!$H$6,Baseline_Data_2012!$B$2:$AV$270,Baseline_Data_2012!AW269,FALSE)","v":8.1818181818181818E-2},6.545454545454546E-2]
[null,"TOTAL"]
[]
[]
[]
[null,null,"No variation in price elasticity"]
[null,null,"Even distribution"]
[null,null,"Targetting to Q1"]
[null,null,"Targetting to Q1 & Q2"]
[null,null,"No change"]

{"sheet":"RII","index":7,"n_rows":115,"n_cols":20,"rows_kept":115,"cut":false,"hidden":false,"merged":[]}
["This sheet calculates the Relative Index of Inequality for the III Tool Overview page."]
["For more information on measuring inequalities in health, please see: "]
["http://www.scotpho.org.uk/downloads/scotphoreports/scotpho071009_measuringinequalities_rep.pdf"]
["THESE TABLES CALCULATE THE RII FOR YEARS OF LIFE LOST, BEFORE AND AFTER THE POLICY"]
["YEARS OF LIFE LOST: Both sexes combined - 2 YEARS, baseline",null,null,null,null,null,null,null,null,null,null,"YEARS OF LIFE LOST: Both sexes combined - 2 YEARS, policy"]
[null,"Y",null,"a",null,"b",null,null,null,null,null,null,"Y",null,"a",null,"b"]
["SIMD_Q","years of life lost","Pop","proportion of total  population","Cumulative proportion","Relative rank","Y*√a","√a","b*√a",null,null,"SIMD_Q","years of life lost","Pop","proportion of total  population","Cumulative proportion","Relative rank","Y*√a","√a","b*√a"]
[null,null,null,null,0," ",null,null,null,null,null,null,null,null,null,0," "]
[1,{"$f":"Calculations!Q5","v":0},{"$f":"Calculations!F5","v":0},{"$f":"C9/$C$14","v":0},{"$f":"E8+D9","v":0},{"$f":"E8+(0.5*D9)","v":0},{"$f":"SQRT(D9)*B9","v":0},{"$f":"SQRT(D9)","v":0},{"$f":"F9*SQRT(D9)","v":0},null,null,1,{"$f":"Calculations!R5","v":0},{"$f":"C9","v":0},{"$f":"N9/$C$14","v":0},{"$f":"P8+O9","v":0},{"$f":"P8+(0.5*O9)","v":0},{"$f":"SQRT(O9)*M9","v":0},{"$f":"SQRT(O9)","v":0},{"$f":"Q9*SQRT(O9)","v":0}]
[2,{"$f":"Calculations!Q6","v":1302.43832307913},{"$f":"Calculations!F6","v":3661.2},{"$f":"C10/$C$14","v":0.21520267093012321},{"$f":"E9+D10","v":0.21520267093012321},{"$f":"E9+(0.5*D10)","v":0.10760133546506161},604.20038133389266,0.46389941898015263,4.9916197003730574E-2,null,null,2,{"$f":"Calculations!R6","v":1300.7391252956527},{"$f":"C10","v":3661.2},{"$f":"N10/$C$14","v":0.21520267093012321},{"$f":"P9+O10","v":0.21520267093012321},{"$f":"P9+(0.5*O10)","v":0.10760133546506161},603.41212446940528,0.46389941898015263,4.9916197003730574E-2]
[3,{"$f":"Calculations!Q7","v":1051.5656470726415},{"$f":"Calculations!F7","v":3573.5999999999995},{"$f":"C11/$C$14","v":0.21005360669613465},{"$f":"E10+D11","v":0.42525627762625784},{"$f":"E10+(0.5*D11)","v":0.32022947427819054},481.94941942784413,0.45831605546405929,0.14676630949450972,null,null,3,{"$f":"Calculations!R7","v":1050.5497278226917},3573.5999999999995,{"$f":"N11/$C$14","v":0.21005360669613465},{"$f":"P10+O11","v":0.42525627762625784},{"$f":"P10+(0.5*O11)","v":0.32022947427819054},481.48380732453717,0.45831605546405929,0.14676630949450972]
[4,{"$f":"Calculations!Q8","v":2072.4521397403687},{"$f":"Calculations!F8","v":9249},{"$f":"C12/$C$14","v":0.5436494874447475},{"$f":"E11+D12","v":0.96890576507100534},{"$f":"E11+(0.5*D12)","v":0.69708102134863159},1528.0726456534549,0.73732590314239432,0.5139758936293024,null,null,4,{"$f":"Calculations!R8","v":2070.1111434140612},9249,{"$f":"N12/$C$14","v":0.5436494874447475},{"$f":"P11+O12","v":0.96890576507100534},{"$f":"P11+(0.5*O12)","v":0.69708102134863159},1526.3465684229072,0.73732590314239432,0.5139758936293024]
[5,{"$f":"Calculations!Q9","v":84.439564084401496},{"$f":"Calculations!F9","v":528.99999999999989},{"$f":"C13/$C$14","v":3.1094234928994633E-2},{"$f":"E12+D13","v":1},{"$f":"E12+(0.5*D13)","v":0.98445288253550267},{"$f":"SQRT(D13)*B13","v":14.889699066038267},0.17633557476866271,0.17359406487456466,null,null,5,{"$f":"Calculations!R9","v":84.393774453546285},528.99999999999989,{"$f":"N13/$C$14","v":3.1094234928994633E-2},{"$f":"P12+O13","v":1},{"$f":"P12+(0.5*O13)","v":0.98445288253550267},14.881624725162968,0.17633557476866271,0.17359406487456466]
["Total",{"$f":"AVERAGE(B10:B13)","v":1127.7239184941354},{"$f":"SUM(C9:C13)","v":17012.8},null,null,null,0,0,0,null,null,"Total",{"$f":"AVERAGE(M10:M13)","v":1126.4484427464879},{"$f":"SUM(N9:N13)","v":17012.8},null,null,null,0,0,0]
[]
["Regression =",{"$f":"LINEST(G10:G13,H10:I13,0)","v":1077.398265802532},null,null,null,null,null,null,null,null,null,"Regression =",{"$f":"LINEST(R10:R13,S10:T13,0)","v":1076.3789313515099}]
[]
["Slope Index Inequality =",{"$f":"B16","v":1077.398265802532},"Years of life lost difference between the top and bottom positions ",null,null,null,null,null,null,null,null,"Slope Index Inequality =",{"$f":"M16","v":1076.3789313515099},"Years of life lost difference between the top and bottom positions "]
["Relative Index Inequality =",{"$f":"-B18/B14","v":-0.95537413735198251},null,null,null,null,null,null,null,null,null,"Relative Index Inequality =",{"$f":"-M18/M14","v":-0.95555099594891413}]
["According to the regresion equation the YOLL among those at the bottom is ",null,null,null,null,null,null,{"$f":"B19","v":-0.95537413735198251},"times higher than the average",null,null,"According to the regresion equation the YOLL among those at the bottom is ",null,null,null,null,null,null,{"$f":"M19","v":-0.95555099594891413},"times higher than the average"]
[]
[]
[]
["YEARS OF LIFE LOST: Both sexes combined - 10 YEARS, baseline",null,null,null,null,null,null,null,null,null,null,"YEARS OF LIFE LOST: Both sexes combined - 10 YEARS, policy"]
[null,"Y",null,"a",null,"b",null,null,null,null,null,null,"Y",null,"a",null,"b"]
["SIMD_Q","years of life lost","Pop","proportion of total  population","Cumulative proportion","Relative rank","Y*√a","√a","b*√a",null,null,"SIMD_Q","years of life lost","Pop","proportion of total  population","Cumulative proportion","Relative rank","Y*√a","√a","b*√a"]
[null,null,null,null,0," ",null,null,null,null,null,null,null,null,null,0," "]
[1,{"$f":"Calculations!W5","v":0},{"$f":"C9","v":0},{"$f":"C28/$C$14","v":0},{"$f":"E27+D28","v":0},{"$f":"E27+(0.5*D28)","v":0},{"$f":"SQRT(D28)*B28","v":0},{"$f":"SQRT(D28)","v":0},{"$f":"F28*SQRT(D28)","v":0},null,null,1,{"$f":"Calculations!X5","v":0},{"$f":"C28","v":0},{"$f":"N28/$C$14","v":0},{"$f":"P27+O28","v":0},{"$f":"P27+(0.5*O28)","v":0},{"$f":"SQRT(O28)*M28","v":0},{"$f":"SQRT(O28)","v":0},{"$f":"Q28*SQRT(O28)","v":0}]
[2,{"$f":"Calculations!W6","v":11256.005503658449},{"$f":"C10","v":3661.2},{"$f":"C29/$C$14","v":0.21520267093012321},{"$f":"E28+D29","v":0.21520267093012321},{"$f":"E28+(0.5*D29)","v":0.10760133546506161},5221.6544131845549,0.46389941898015263,4.9916197003730574E-2,null,null,2,{"$f":"Calculations!X6","v":11243.353732287498},{"$f":"C29","v":3661.2},{"$f":"N29/$C$14","v":0.21520267093012321},{"$f":"P28+O29","v":0.21520267093012321},{"$f":"P28+(0.5*O29)","v":0.10760133546506161},5215.7852637965007,0.46389941898015263,4.9916197003730574E-2]
[3,{"$f":"Calculations!W7","v":9295.3655892929419},3573.5999999999995,{"$f":"C30/$C$14","v":0.21005360669613465},{"$f":"E29+D30","v":0.42525627762625784},{"$f":"E29+(0.5*D30)","v":0.32022947427819054},4260.215290981092,0.45831605546405929,0.14676630949450972,null,null,3,{"$f":"Calculations!X7","v":9287.5373833192007},3573.5999999999995,{"$f":"N30/$C$14","v":0.21005360669613465},{"$f":"P29+O30","v":0.42525627762625784},{"$f":"P29+(0.5*O30)","v":0.32022947427819054},4256.6274984978472,0.45831605546405929,0.14676630949450972]
[4,{"$f":"Calculations!W8","v":18833.398664722969},9249,{"$f":"C31/$C$14","v":0.5436494874447475},{"$f":"E30+D31","v":0.96890576507100534},{"$f":"E30+(0.5*D31)","v":0.69708102134863159},13886.352679707627,0.73732590314239432,0.5139758936293024,null,null,4,{"$f":"Calculations!X8","v":18813.801166221299},9249,{"$f":"N31/$C$14","v":0.5436494874447475},{"$f":"P30+O31","v":0.96890576507100534},{"$f":"P30+(0.5*O31)","v":0.69708102134863159},13871.902936425551,0.73732590314239432,0.5139758936293024]
[5,{"$f":"Calculations!W9","v":782.32419371657738},528.99999999999989,{"$f":"C32/$C$14","v":3.1094234928994633E-2},{"$f":"E31+D32","v":1},{"$f":"E31+(0.5*D32)","v":0.98445288253550267},137.95158635444329,0.17633557476866271,0.17359406487456466,null,null,5,{"$f":"Calculations!X9","v":781.90453294998497},528.99999999999989,{"$f":"N32/$C$14","v":3.1094234928994633E-2},{"$f":"P31+O32","v":1},{"$f":"P31+(0.5*O32)","v":0.98445288253550267},137.87758523195836,0.17633557476866271,0.17359406487456466]
["Total",{"$f":"AVERAGE(B29:B32)","v":10041.773487847735},{"$f":"SUM(C28:C32)","v":17012.8},null,null,null,0,0,0,null,null,"Total",{"$f":"AVERAGE(M29:M32)","v":10031.649203694496},{"$f":"SUM(N28:N32)","v":17012.8},null,null,null,0,0,0]
[]
["Regression =",{"$f":"LINEST(G29:G32,H29:I32,0)","v":10654.802449653182},null,null,null,null,null,null,null,null,null,"Regression =",{"$f":"LINEST(R29:R32,S29:T32,0)","v":10643.943644124111}]
[]
["Slope Index Inequality =",{"$f":"B35","v":10654.802449653182},"Years of life lost difference between the top and bottom positions ",null,null,null,null,null,null,null,null,"Slope Index Inequality =",{"$f":"M35","v":10643.943644124111},"Years of life lost difference between the top and bottom positions "]
["Relative Index Inequality =",{"$f":"-B37/B33","v":-1.0610478779019779},null,null,null,null,null,null,null,null,null,"Relative Index Inequality =",{"$f":"-M37/M33","v":-1.0610362691115749}]
["According to the regresion equation the YOLL among those at the bottom is ",null,null,null,null,null,null,{"$f":"B38","v":-1.0610478779019779},"times higher than the average",null,null,"According to the regresion equation the YOLL among those at the bottom is ",null,null,null,null,null,null,{"$f":"M38","v":-1.0610362691115749},"times higher than the average"]
[]
[]
[]
["YEARS OF LIFE LOST: Both sexes combined - 20 YEARS, baseline",null,null,null,null,null,null,null,null,null,null,"YEARS OF LIFE LOST: Both sexes combined - 20 YEARS, policy"]
[null,"Y",null,"a",null,"b",null,null,null,null,null,null,"Y",null,"a",null,"b"]
["SIMD_Q","years of life lost","Pop","proportion of total  population","Cumulative proportion","Relative rank","Y*√a","√a","b*√a",null,null,"SIMD_Q","years of life lost","Pop","proportion of total  population","Cumulative proportion","Relative rank","Y*√a","√a","b*√a"]
[null,null,null,null,0," ",null,null,null,null,null,null,null,null,null,0," "]
[1,{"$f":"Calculations!Z5","v":0},{"$f":"C28","v":0},{"$f":"C47/$C$14","v":0},{"$f":"E46+D47","v":0},{"$f":"E46+(0.5*D47)","v":0},{"$f":"SQRT(D47)*B47","v":0},{"$f":"SQRT(D47)","v":0},{"$f":"F47*SQRT(D47)","v":0},null,null,1,{"$f":"Calculations!AA5","v":0},{"$f":"C47","v":0},{"$f":"N47/$C$14","v":0},{"$f":"P46+O47","v":0},{"$f":"P46+(0.5*O47)","v":0},{"$f":"SQRT(O47)*M47","v":0},{"$f":"SQRT(O47)","v":0},{"$f":"Q47*SQRT(O47)","v":0}]
[2,{"$f":"Calculations!Z6","v":22298.02161728713},{"$f":"C29","v":3661.2},{"$f":"C48/$C$14","v":0.21520267093012321},{"$f":"E47+D48","v":0.21520267093012321},{"$f":"E47+(0.5*D48)","v":0.10760133546506161},10344.039272666383,0.46389941898015263,4.9916197003730574E-2,null,null,2,{"$f":"Calculations!AA6","v":22276.29308869769},{"$f":"C48","v":3661.2},{"$f":"N48/$C$14","v":0.21520267093012321},{"$f":"P47+O48","v":0.21520267093012321},{"$f":"P47+(0.5*O48)","v":0.10760133546506161},10333.959420878447,0.46389941898015263,4.9916197003730574E-2]
[3,{"$f":"Calculations!Z7","v":18778.076239356309},3573.5999999999995,{"$f":"C49/$C$14","v":0.21005360669613465},{"$f":"E48+D49","v":0.42525627762625784},{"$f":"E48+(0.5*D49)","v":0.32022947427819054},8606.2938312251608,0.45831605546405929,0.14676630949450972,null,null,3,{"$f":"Calculations!AA7","v":18764.344430781886},3573.5999999999995,{"$f":"N49/$C$14","v":0.21005360669613465},{"$f":"P48+O49","v":0.42525627762625784},{"$f":"P48+(0.5*O49)","v":0.32022947427819054},8600.0003228849437,0.45831605546405929,0.14676630949450972]
[4,{"$f":"Calculations!Z8","v":39011.627539214751},9249,{"$f":"C50/$C$14","v":0.5436494874447475},{"$f":"E49+D50","v":0.96890576507100534},{"$f":"E49+(0.5*D50)","v":0.69708102134863159},28764.283508406217,0.73732590314239432,0.5139758936293024,null,null,4,{"$f":"Calculations!AA8","v":38974.83991873073},9249,{"$f":"N50/$C$14","v":0.5436494874447475},{"$f":"P49+O50","v":0.96890576507100534},{"$f":"P49+(0.5*O50)","v":0.69708102134863159},28737.159042908377,0.73732590314239432,0.5139758936293024]
[5,{"$f":"Calculations!Z9","v":1659.128969449835},528.99999999999989,{"$f":"C51/$C$14","v":3.1094234928994633E-2},{"$f":"E50+D51","v":1},{"$f":"E50+(0.5*D51)","v":0.98445288253550267},292.56346044327569,0.17633557476866271,0.17359406487456466,null,null,5,{"$f":"Calculations!AA9","v":1658.2749774836188},528.99999999999989,{"$f":"N51/$C$14","v":3.1094234928994633E-2},{"$f":"P50+O51","v":1},{"$f":"P50+(0.5*O51)","v":0.98445288253550267},292.41287127906514,0.17633557476866271,0.17359406487456466]
["Total",{"$f":"AVERAGE(B48:B51)","v":20436.713591327007},{"$f":"SUM(C47:C51)","v":17012.8},null,null,null,0,0,0,null,null,"Total",{"$f":"AVERAGE(M48:M51)","v":20418.43810392348},{"$f":"SUM(N47:N51)","v":17012.8},null,null,null,0,0,0]
[]
["Regression =",{"$f":"LINEST(G48:G51,H48:I51,0)","v":23599.811109550516},null,null,null,null,null,null,null,null,null,"Regression =",{"$f":"LINEST(R48:R51,S48:T51,0)","v":23576.383526959729}]
[]
["Slope Index Inequality =",{"$f":"B54","v":23599.811109550516},"Years of life lost difference between the top and bottom positions ",null,null,null,null,null,null,null,null,"Slope Index Inequality =",{"$f":"M54","v":23576.383526959729},"Years of life lost difference between the top and bottom positions "]
["Relative Index Inequality =",{"$f":"-B56/B52","v":-1.1547752530801172},null,null,null,null,null,null,null,null,null,"Relative Index Inequality =",{"$f":"-M56/M52","v":-1.1546614587738442}]
["According to the regresion equation the YOLL among those at the bottom is ",null,null,null,null,null,null,{"$f":"B57","v":-1.1547752530801172},"times higher than the average",null,null,"According to the regresion equation the YOLL among those at the bottom is ",null,null,null,null,null,null,{"$f":"M57","v":-1.1546614587738442},"times higher than the average"]
[]
[]
[]
["Hospital admissions: Both sexes combined - 2 YEARS, baseline",null,null,null,null,null,null,null,null,null,null,"Hospital admissions: Both sexes combined - 2 YEARS, policy"]
[null,"Y",null,"a",null,"b",null,null,null,null,null,null,"Y",null,"a",null,"b"]
["SIMD_Q","hospital admissions","Pop","proportion of total  population","Cumulative proportion","Relative rank","Y*√a","√a","b*√a",null,null,"SIMD_Q","hospital admissions","Pop","proportion of total  population","Cumulative proportion","Relative rank","Y*√a","√a","b*√a"]
[null,null,null,null,0," ",null,null,null,null,null,null,null,null,null,0," "]
[1,{"$f":"Calculations!AC5","v":0},{"$f":"C9","v":0},{"$f":"C66/$C$14","v":0},{"$f":"E65+D66","v":0},{"$f":"E65+(0.5*D66)","v":0},{"$f":"SQRT(D66)*B66","v":0},{"$f":"SQRT(D66)","v":0},{"$f":"F66*SQRT(D66)","v":0},null,null,1,{"$f":"Calculations!AD5","v":0},{"$f":"C66","v":0},{"$f":"N66/$C$14","v":0},{"$f":"P65+O66","v":0},{"$f":"P65+(0.5*O66)","v":0},{"$f":"SQRT(O66)*M66","v":0},{"$f":"SQRT(O66)","v":0},{"$f":"Q66*SQRT(O66)","v":0}]
[2,{"$f":"Calculations!AC6","v":1082.4210661766747},{"$f":"C10","v":3661.2},{"$f":"C67/$C$14","v":0.21520267093012321},{"$f":"E66+D67","v":0.21520267093012321},{"$f":"E66+(0.5*D67)","v":0.10760133546506161},502.13450369123672,0.46389941898015263,4.9916197003730574E-2,null,null,2,{"$f":"Calculations!AD6","v":1081.4737630425543},{"$f":"C67","v":3661.2},{"$f":"N67/$C$14","v":0.21520267093012321},{"$f":"P66+O67","v":0.21520267093012321},{"$f":"P66+(0.5*O67)","v":0.10760133546506161},501.69505031772019,0.46389941898015263,4.9916197003730574E-2]
[3,{"$f":"Calculations!AC7","v":917.74365836117113},3573.5999999999995,{"$f":"C68/$C$14","v":0.21005360669613465},{"$f":"E67+D68","v":0.42525627762625784},{"$f":"E67+(0.5*D68)","v":0.32022947427819054},420.61665342724717,0.45831605546405929,0.14676630949450972,null,null,3,{"$f":"Calculations!AD7","v":917.18143448733963},3573.5999999999995,{"$f":"N68/$C$14","v":0.21005360669613465},{"$f":"P67+O68","v":0.42525627762625784},{"$f":"P67+(0.5*O68)","v":0.32022947427819054},420.35897719910503,0.45831605546405929,0.14676630949450972]
[4,{"$f":"Calculations!AC8","v":2020.8426422967236},9249,{"$f":"C69/$C$14","v":0.5436494874447475},{"$f":"E68+D69","v":0.96890576507100534},{"$f":"E68+(0.5*D69)","v":0.69708102134863159},1490.0196263400942,0.73732590314239432,0.5139758936293024,null,null,4,{"$f":"Calculations!AD8","v":2019.4303464251138},9249,{"$f":"N69/$C$14","v":0.5436494874447475},{"$f":"P68+O69","v":0.96890576507100534},{"$f":"P68+(0.5*O69)","v":0.69708102134863159},1488.9783040110553,0.73732590314239432,0.5139758936293024]
[5,{"$f":"Calculations!AC9","v":101.58353465118947},528.99999999999989,{"$f":"C70/$C$14","v":3.1094234928994633E-2},{"$f":"E69+D70","v":1},{"$f":"E69+(0.5*D70)","v":0.98445288253550267},17.91279096974986,0.17633557476866271,0.17359406487456466,null,null,5,{"$f":"Calculations!AD9","v":101.54977510799213},528.99999999999989,{"$f":"N70/$C$14","v":3.1094234928994633E-2},{"$f":"P69+O70","v":1},{"$f":"P69+(0.5*O70)","v":0.98445288253550267},17.90683796129623,0.17633557476866271,0.17359406487456466]
["Total",{"$f":"AVERAGE(B67:B70)","v":1030.6477253714397},{"$f":"SUM(C66:C70)","v":17012.8},null,null,null,0,0,0,null,null,"Total",{"$f":"AVERAGE(M67:M70)","v":1029.9088297657499},{"$f":"SUM(N66:N70)","v":17012.8},null,null,null,0,0,0]
[]
["Regression =",{"$f":"LINEST(G67:G70,H67:I70,0)","v":1346.0826285535138},null,null,null,null,null,null,null,null,null,"Regression =",{"$f":"LINEST(R67:R70,S67:T70,0)","v":1345.3421846424608}]
[]
["Slope Index Inequality =",{"$f":"B73","v":1346.0826285535138},"Years of life lost difference between the top and bottom positions ",null,null,null,null,null,null,null,null,"Slope Index Inequality =",{"$f":"M73","v":1345.3421846424608},"Years of life lost difference between the top and bottom positions "]
["Relative Index Inequality =",{"$f":"-B75/B71","v":-1.3060550131892963},null,null,null,null,null,null,null,null,null,"Relative Index Inequality =",{"$f":"-M75/M71","v":-1.3062730853064493}]
["According to the regresion equation the YOLL among those at the bottom is ",null,null,null,null,null,null,{"$f":"B76","v":-1.3060550131892963},"times higher than the average",null,null,"According to the regresion equation the YOLL among those at the bottom is ",null,null,null,null,null,null,{"$f":"M76","v":-1.3062730853064493},"times higher than the average"]
[]
[]
[]
["Hospital admissions:  Both sexes combined - 10 YEARS, baseline",null,null,null,null,null,null,null,null,null,null,"Hospital admissions: Both sexes combined - 10 YEARS, policy"]
[null,"Y",null,"a",null,"b",null,null,null,null,null,null,"Y",null,"a",null,"b"]
["SIMD_Q","hospital admissions","Pop","proportion of total  population","Cumulative proportion","Relative rank","Y*√a","√a","b*√a",null,null,"SIMD_Q","hospital admissions","Pop","proportion of total  population","Cumulative proportion","Relative rank","Y*√a","√a","b*√a"]
[null,null,null,null,0," ",null,null,null,null,null,null,null,null,null,0," "]
[1,{"$f":"Calculations!AI5","v":0},{"$f":"C66","v":0},{"$f":"C85/$C$14","v":0},{"$f":"E84+D85","v":0},{"$f":"E84+(0.5*D85)","v":0},{"$f":"SQRT(D85)*B85","v":0},{"$f":"SQRT(D85)","v":0},{"$f":"F85*SQRT(D85)","v":0},null,null,1,{"$f":"Calculations!AJ5","v":0},{"$f":"C85","v":0},{"$f":"N85/$C$14","v":0},{"$f":"P84+O85","v":0},{"$f":"P84+(0.5*O85)","v":0},{"$f":"SQRT(O85)*M85","v":0},{"$f":"SQRT(O85)","v":0},{"$f":"Q85*SQRT(O85)","v":0}]
[2,{"$f":"Calculations!AI6","v":9864.8875017126138},{"$f":"C67","v":3661.2},{"$f":"C86/$C$14","v":0.21520267093012321},{"$f":"E85+D86","v":0.21520267093012321},{"$f":"E85+(0.5*D86)","v":0.10760133546506161},4576.3155803490508,0.46389941898015263,4.9916197003730574E-2,null,null,2,{"$f":"Calculations!AJ6","v":9857.6686855047155},{"$f":"C86","v":3661.2},{"$f":"N86/$C$14","v":0.21520267093012321},{"$f":"P85+O86","v":0.21520267093012321},{"$f":"P85+(0.5*O86)","v":0.10760133546506161},4572.9667757044826,0.46389941898015263,4.9916197003730574E-2]
[3,{"$f":"Calculations!AI7","v":8532.6920523840763},3573.5999999999995,{"$f":"C87/$C$14","v":0.21005360669613465},{"$f":"E86+D87","v":0.42525627762625784},{"$f":"E86+(0.5*D87)","v":0.32022947427819054},3910.6697639381982,0.45831605546405929,0.14676630949450972,null,null,3,{"$f":"Calculations!AJ7","v":8528.2750944260479},3573.5999999999995,{"$f":"N87/$C$14","v":0.21005360669613465},{"$f":"P86+O87","v":0.42525627762625784},{"$f":"P86+(0.5*O87)","v":0.32022947427819054},3908.645401189724,0.45831605546405929,0.14676630949450972]
[4,{"$f":"Calculations!AI8","v":19234.662325200468},9249,{"$f":"C88/$C$14","v":0.5436494874447475},{"$f":"E87+D88","v":0.96890576507100534},{"$f":"E87+(0.5*D88)","v":0.69708102134863159},14182.214770567422,0.73732590314239432,0.5139758936293024,null,null,4,{"$f":"Calculations!AJ8","v":19222.637875663364},9249,{"$f":"N88/$C$14","v":0.5436494874447475},{"$f":"P87+O88","v":0.96890576507100534},{"$f":"P87+(0.5*O88)","v":0.69708102134863159},14173.348832452686,0.73732590314239432,0.5139758936293024]
[5,{"$f":"Calculations!AI9","v":985.12769379348617},528.99999999999989,{"$f":"C89/$C$14","v":3.1094234928994633E-2},{"$f":"E88+D89","v":1},{"$f":"E88+(0.5*D89)","v":0.98445288253550267},173.71305810560153,0.17633557476866271,0.17359406487456466,null,null,5,{"$f":"Calculations!AJ9","v":984.81715286564895},528.99999999999989,{"$f":"N89/$C$14","v":3.1094234928994633E-2},{"$f":"P88+O89","v":1},{"$f":"P88+(0.5*O89)","v":0.98445288253550267},173.65829869260219,0.17633557476866271,0.17359406487456466]
["Total",{"$f":"AVERAGE(B86:B89)","v":9654.3423932726619},{"$f":"SUM(C85:C89)","v":17012.8},null,null,null,0,0,0,null,null,"Total",{"$f":"AVERAGE(M86:M89)","v":9648.3497021149433},{"$f":"SUM(N85:N89)","v":17012.8},null,null,null,0,0,0]
[]
["Regression =",{"$f":"LINEST(G86:G89,H86:I89,0)","v":13469.052855191465},null,null,null,null,null,null,null,null,null,"Regression =",{"$f":"LINEST(R86:R89,S86:T89,0)","v":13461.492971531765}]
[]
["Slope Index Inequality =",{"$f":"B92","v":13469.052855191465},"Years of life lost difference between the top and bottom positions ",null,null,null,null,null,null,null,null,"Slope Index Inequality =",{"$f":"M92","v":13461.492971531765},"Years of life lost difference between the top and bottom positions "]
["Relative Index Inequality =",{"$f":"-B94/B90","v":-1.3951289799476108},null,null,null,null,null,null,null,null,null,"Relative Index Inequality =",{"$f":"-M94/M90","v":-1.395211967553474}]
["According to the regresion equation the YOLL among those at the bottom is ",null,null,null,null,null,null,{"$f":"B95","v":-1.3951289799476108},"times higher than the average",null,null,"According to the regresion equation the YOLL among those at the bottom is ",null,null,null,null,null,null,{"$f":"M95","v":-1.395211967553474},"times higher than the average"]
[]
[]
[]
["Hospital admissions: Both sexes combined - 20 YEARS, baseline",null,null,null,null,null,null,null,null,null,null,"Hospital admissions: Both sexes combined - 20 YEARS, policy"]
[null,"Y",null,"a",null,"b",null,null,null,null,null,null,"Y",null,"a",null,"b"]
["SIMD_Q","hospital admissions","Pop","proportion of total  population","Cumulative proportion","Relative rank","Y*√a","√a","b*√a",null,null,"SIMD_Q","hospital admissions","Pop","proportion of total  population","Cumulative proportion","Relative rank","Y*√a","√a","b*√a"]
[null,null,null,null,0," ",null,null,null,null,null,null,null,null,null,0," "]
[1,{"$f":"Calculations!AL5","v":0},{"$f":"C85","v":0},{"$f":"C104/$C$14","v":0},{"$f":"E103+D104","v":0},{"$f":"E103+(0.5*D104)","v":0},{"$f":"SQRT(D104)*B104","v":0},{"$f":"SQRT(D104)","v":0},{"$f":"F104*SQRT(D104)","v":0},null,null,1,{"$f":"Calculations!AM5","v":0},{"$f":"C104","v":0},{"$f":"N104/$C$14","v":0},{"$f":"P103+O104","v":0},{"$f":"P103+(0.5*O104)","v":0},{"$f":"SQRT(O104)*M104","v":0},{"$f":"SQRT(O104)","v":0},{"$f":"Q104*SQRT(O104)","v":0}]
[2,{"$f":"Calculations!AL6","v":20941.801956390285},{"$f":"C86","v":3661.2},{"$f":"C105/$C$14","v":0.21520267093012321},{"$f":"E104+D105","v":0.21520267093012321},{"$f":"E104+(0.5*D105)","v":0.10760133546506161},9714.8897599668762,0.46389941898015263,4.9916197003730574E-2,null,null,2,{"$f":"Calculations!AM6","v":20929.162027321858},{"$f":"C105","v":3661.2},{"$f":"N105/$C$14","v":0.21520267093012321},{"$f":"P104+O105","v":0.21520267093012321},{"$f":"P104+(0.5*O105)","v":0.10760133546506161},9709.0261042160837,0.46389941898015263,4.9916197003730574E-2]
[3,{"$f":"Calculations!AL7","v":18509.769686967276},3573.5999999999995,{"$f":"C106/$C$14","v":0.21005360669613465},{"$f":"E105+D106","v":0.42525627762625784},{"$f":"E105+(0.5*D106)","v":0.32022947427819054},8483.3246304790573,0.45831605546405929,0.14676630949450972,null,null,3,{"$f":"Calculations!AM7","v":18501.928888377312},3573.5999999999995,{"$f":"N106/$C$14","v":0.21005360669613465},{"$f":"P105+O106","v":0.42525627762625784},{"$f":"P105+(0.5*O106)","v":0.32022947427819054},8479.7310665976165,0.45831605546405929,0.14676630949450972]
[4,{"$f":"Calculations!AL8","v":42879.635755199124},9249,{"$f":"C107/$C$14","v":0.5436494874447475},{"$f":"E106+D107","v":0.96890576507100534},{"$f":"E106+(0.5*D107)","v":0.69708102134863159},31616.266159619099,0.73732590314239432,0.5139758936293024,null,null,4,{"$f":"Calculations!AM8","v":42856.713027521109},9249,{"$f":"N107/$C$14","v":0.5436494874447475},{"$f":"P106+O107","v":0.96890576507100534},{"$f":"P106+(0.5*O107)","v":0.69708102134863159},31599.364638731418,0.73732590314239432,0.5139758936293024]
[5,{"$f":"Calculations!AL9","v":2252.2709364226948},528.99999999999989,{"$f":"C108/$C$14","v":3.1094234928994633E-2},{"$f":"E107+D108","v":1},{"$f":"E107+(0.5*D108)","v":0.98445288253550267},397.15549010885007,0.17633557476866271,0.17359406487456466,null,null,5,{"$f":"Calculations!AM9","v":2251.6298988865437},528.99999999999989,{"$f":"N108/$C$14","v":3.1094234928994633E-2},{"$f":"P107+O108","v":1},{"$f":"P107+(0.5*O108)","v":0.98445288253550267},397.04245238646462,0.17633557476866271,0.17359406487456466]
["Total",{"$f":"AVERAGE(B105:B108)","v":21145.869583744843},{"$f":"SUM(C104:C108)","v":17012.8},null,null,null,0,0,0,null,null,"Total",{"$f":"AVERAGE(M105:M108)","v":21134.858460526706},{"$f":"SUM(N104:N108)","v":17012.8},null,null,null,0,0,0]
[]
["Regression =",{"$f":"LINEST(G105:G108,H105:I108,0)","v":31619.09870560759},null,null,null,null,null,null,null,null,null,"Regression =",{"$f":"LINEST(R105:R108,S105:T108,0)","v":31602.970009548724}]
[]
["Slope Index Inequality =",{"$f":"B111","v":31619.09870560759},"Years of life lost difference between the top and bottom positions ",null,null,null,null,null,null,null,null,"Slope Index Inequality =",{"$f":"M111","v":31602.970009548724},"Years of life lost difference between the top and bottom positions "]
["Relative Index Inequality =",{"$f":"-B113/B109","v":-1.4952848630975044},null,null,null,null,null,null,null,null,null,"Relative Index Inequality =",{"$f":"-M113/M109","v":-1.4953007643071361}]
["According to the regresion equation the YOLL among those at the bottom is ",null,null,null,null,null,null,{"$f":"B114","v":-1.4952848630975044},"times higher than the average",null,null,"According to the regresion equation the YOLL among those at the bottom is ",null,null,null,null,null,null,{"$f":"M114","v":-1.4953007643071361},"times higher than the average"]