{"text_format":"1","workbook":"xlsx","n_sheets":8,"sheets":["III Tool Overview","Notes ","Calculations","Targeting","Baseline_Data_2012","Prevalence","LookUpData_Pop","RII"],"not_rendered":{"charts":0,"images":1,"macros":1,"external_links":0,"defined_names":4,"comments":3,"pivot_tables":0},"unopened":[],"bounds":{"document_bytes":16777216,"sheet_cells":100000,"rows_first":2000,"rows_last":500,"rows_between":2000,"halvings":0,"cell_chars":16384,"cell_head_chars":4096},"cells_cut":0,"cells_raw":0,"read":"whole","date_system":"1900"}

{"sheet":"III Tool Overview","index":0,"n_rows":57,"n_cols":23,"rows_kept":57,"cut":false,"hidden":false,"merged":[[40,3,40,9],[42,3,42,9],[44,3,44,9],[46,3,46,9],[38,3,38,9],[1,2,1,9],[14,2,14,3],[9,8,9,9],[2,2,3,9],[35,6,37,9],[29,2,36,3]]}
[]
[null,null,"Informing Investment to tackle health Inequalities in Scotland (III) - Active Travel - v.1.1."]
[null,null,"What is the nature of the intervention?  An active travel intervention which increases total physical activity (in minutes) through increased walking and cycling for the purposes of commuting.  It was assumed that 33% of the PAR would be eligible for the intervention, based on an assumption that those commuting to work exclusively/ predominantly by car/van, either as a driver or passenger, over distances of 3 miles or less are most likely to shift to walking/cycling as an alternative.  ",null,null,null,null,null,null,null,null,null,null,null,null,null,null,null,null,null,null,"Geographies"]
[null,null,null,null,null,null,null,null,null,null,null,null,null,null,null,null,null,null,null,null,null,"Scotland"]
[null,null,null,null,null,null,null,null,null,null,null,null,null,null,null,null,null,null,null,null,null,"Ayrshire & Arran Health Board"]
[null,null,null,null,null,null,"Geography","Scotland",null,null,null,null,null,null,null,null,null,null,null,null,null,"Borders Health Board"]
[null,null,null,null,null,null,"Intervention name","Active travel",null,null,null,null,null,null,null,null,null,null,null,null,null,"Dumfries & Galloway Health Board"]
[null,null,null,null,null,null,"Additional number of people treated",100000,{"$f":"IF(H8>D22,\"Too high - please check & re-enter\",\"\")","v":""},null,null,null,null,null,null,null,null,null,null,null,null,"Fife Health Board"]
[null,null,null,null,null,null,"Number treated at baseline",0,null,null,null,null,null,null,null,null,null,null,null,null,null,"Forth Valley Health Board"]
[null,null,null,null,null,null,"Targeting strategy","Proportionate to need",{"$f":"IF(H10=\"Even distribution\",\"Interventions are divided evenly across all quintiles\",IF(H10=\"Targeting to Q1\",\"Interventions are targeted at Q1 only\",IF(H10=\"Targeting to Q1 & Q2\",\"Interventions are targeted to Q1 & Q2\",IF(H10=\"Proportionate to need\",\"Targets the distribution of eligible commuters\"))))","v":"Targets the distribution of eligible commuters"},null,null,null,null,null,null,null,null,null,null,null,null,"Grampian Health Board"]
[null,null,null,null,null,null,null,null,null,null,null,null,null,null,null,null,null,null,null,null,null,"Greater Glasgow & Clyde Health Board"]
[null,null,null,null,null,null,null,null,null,null,null,null,null,null,null,null,null,null,null,null,null,"Highland Health Board"]
[null,null,null,null,null,null,null,null,null,null,null,null,null,null,null,null,null,null,null,null,null,"Lanarkshire Health Board"]
[null,null,null,null,null,null,null,null,null,null,null,null,null,null,null,null,null,null,null,null,null,"Lothian Health Board"]
[null,null,"Baseline Information: Active Travel",null,null,null,"Model Outcomes (whole population)","2 years","10 years","20 years",null,null,null,null,null,null,null,null,null,null,null,"Orkney Health Board"]
[null,null,"Baseline year",{"$f":"Calculations!C1","v":2012},null,null,"Years of life gained",{"$f":"Calculations!S86+Calculations!S107+Calculations!S129+Calculations!S150+Calculations!S172+Calculations!S193+Calculations!S215+Calculations!S236+Calculations!S258+Calculations!S279","v":249.46242167422321},{"$f":"Calculations!Y86+Calculations!Y107+Calculations!Y129+Calculations!Y150+Calculations!Y172+Calculations!Y193+Calculations!Y215+Calculations!Y236+Calculations!Y258+Calculations!Y279","v":2452.0388550379053},{"$f":"Calculations!AB86+Calculations!AB107+Calculations!AB129+Calculations!AB150+Calculations!AB172+Calculations!AB193+Calculations!AB215+Calculations!AB236+Calculations!AB258+Calculations!AB279","v":5512.6118923372032},null,null,null,null,null,null,null,null,null,null,null,"Shetland Health Board"]
[null,null,"Age group","16-64",null,null,"Continuous inpatient stays prevented","n/a","n/a","n/a",null,null,null,null,null,null,null,null,null,null,null,"Tayside Health Board"]
[null,null,"Number of non-active commuters in population",{"$f":"HLOOKUP('III Tool Overview'!$H$6,Baseline_Data_2012!$B$2:$AV$278,Baseline_Data_2012!AW271,FALSE)","v":1456279.2720123397},null,null,null,null,null,null,null,null,null,null,null,null,null,null,null,null,null,"Western Isles Health Board"]
[null,null,"Of which, Q1 only:",{"$f":"HLOOKUP('III Tool Overview'!$H$6,Baseline_Data_2012!$B$2:$AV$278,Baseline_Data_2012!AW272,FALSE)","v":198103.10456158576},null,null,"Model Outcomes (Most deprived SIMD quintile)","2 years","10 years","20 years",null,null,null,null,null,null,null,null,null,null,null,"Aberdeen City Local Authority"]
[null,null,"Of which, Q1 & Q2:",{"$f":"HLOOKUP('III Tool Overview'!$H$6,Baseline_Data_2012!$B$2:$AV$278,Baseline_Data_2012!AW273,FALSE)","v":464094.80694761284},null,null,"Years of life gained",{"$f":"Calculations!S86+Calculations!S107","v":58.434185391337678},{"$f":"Calculations!Y86+Calculations!Y107","v":552.26902062593581},{"$f":"Calculations!AB86+Calculations!AB107","v":1165.6042738501565},null,null,null,null,null,null,null,null,null,null,null,"Aberdeenshire Local Authority"]
[null,null,null,null,null,null,"Continuous inpatient stays prevented","n/a","n/a","n/a",null,null,null,null,null,null,null,null,null,null,null,"Angus Local Authority"]
[null,null,"Number of non-active commuters < 3 miles to work",{"$f":"HLOOKUP('III Tool Overview'!$H$6,Baseline_Data_2012!$B$2:$AV$285,Baseline_Data_2012!AW275,FALSE)","v":480572.1597640721},null,null,null,null,null,null,null,null,null,null,null,null,null,null,null,null,null,"Argyll & Bute Local Authority"]
[null,null,"Of which, Q1 only:",{"$f":"HLOOKUP('III Tool Overview'!$H$6,Baseline_Data_2012!$B$2:$AV$285,Baseline_Data_2012!AW276,FALSE)","v":65374.024505323301},null,null,"Model Outcomes (comparative health inequalities)","2 years","10 years","20 years",null,null,null,null,null,null,null,null,null,null,null,"Clackmannanshire Local Authority"]
[null,null,"Of which, Q1 & Q2:",{"$f":"HLOOKUP('III Tool Overview'!$H$6,Baseline_Data_2012!$B$2:$AV$285,Baseline_Data_2012!AW277,FALSE)","v":153151.28629271223},null,null,"RII: Years of life lost (without intervention)",{"$f":"RII!H20","v":1.1578051858354348},{"$f":"RII!H39","v":1.1223485796782553},{"$f":"RII!H58","v":1.0630960403700644},null,null,null,null,null,null,null,null,null,null,null,"Dumfries & Galloway Local Authority"]
[null,null,null,null,null,null,"RII: Years of life lost (with intervention)",{"$f":"RII!S20","v":1.1580588521355004},{"$f":"RII!S39","v":1.1226111284659499},{"$f":"RII!S58","v":1.0633689105077615},null,null,null,null,null,null,null,null,null,null,null,"Dundee City Local Authority"]
[null,null,"Annual continuous inpatient stays (2013)",{"$f":"HLOOKUP('III Tool Overview'!$H$6,Baseline_Data_2012!$B$2:$AV$285,Baseline_Data_2012!AW280,FALSE)","v":608398},null,null,"RII: years of life lost (difference)",{"$f":"H25-H24","v":2.5366630006562474E-4},{"$f":"I25-I24","v":2.6254878769460532E-4},2.7287013769705659E-4,null,null,null,null,null,null,null,null,null,null,null,"East Ayrshire Local Authority"]
[null,null,"Of which, Q1 only:",{"$f":"HLOOKUP('III Tool Overview'!$H$6,Baseline_Data_2012!$B$2:$AV$285,Baseline_Data_2012!AW281,FALSE)","v":166380},null,null,"RII: continuous inpatient stays (without intervention)","n/a","n/a","n/a",null,null,null,null,null,null,null,null,null,null,null,"East Dunbartonshire Local Authority"]
[null,null,"Of which, Q1 & Q2:",{"$f":"HLOOKUP('III Tool Overview'!$H$6,Baseline_Data_2012!$B$2:$AV$285,Baseline_Data_2012!AW282,FALSE)","v":300220},null,null,"RII: continuous inpatient stays (with intervention)","n/a","n/a","n/a",null,null,null,null,null,null,null,null,null,null,null,"East Lothian Local Authority"]
[null,null,null,null,null,null,"RII: hospital admissions (difference)","n/a","n/a","n/a",null,null,null,null,null,null,null,null,null,null,null,"East Renfrewshire Local Authority"]
[null,null,"Please note: This tool was updated in February 2017 to correct two errors: i) the number of non-active commuters ‘eligible to treat’ in local authorities and health boards were over-estimated; (ii) the targeting strategy for quintiles or even distribution was incorrectly modelled.\nNational estimates of the number of commuters eligible to treat, and figures generated by a proportionate to need strategy, are unaffected.  The figures published in reports and papers related to Triple-I are also unaffected.\n",null,null,null,null,null,null,null,null,null,null,null,null,null,null,null,null,null,null,"Edinburgh, City of Local Authority"]
[null,null,null,null,null,null,"Direct financial savings","2 years","10 years","20 years",null,null,null,null,null,null,null,null,null,null,null,"Eilean Siar Local Authority"]
[null,null,null,null,null,null,"Reduced continuous inpatient stays (£m) - all","n/a","n/a","n/a",null,null,null,null,null,null,null,null,null,null,null,"Falkirk Local Authority"]
[null,null,null,null,null,null,"Reduced continuous inpatient stays (£m) - MDQ","n/a","n/a","n/a",null,null,null,null,null,null,null,null,null,null,null,"Fife Local Authority"]
[null,null,null,null,null,null,null,null,null,null,null,null,null,null,null,null,null,null,null,null,null,"Glasgow City Local Authority"]
[null,null,null,null,null,null,"How are costs and financial savings estimated?",null,null,null,null,null,null,null,null,null,null,null,null,null,null,"Highland Local Authority"]
[null,null,null,null,null,null,"We have not attempted to estimate the direct cost of the active travel intervention.  Estimates of the impact of increased physical activity on all-cause hospital admissions are unavailable.",null,null,null,null,null,null,null,null,null,null,null,null,null,null,"Inverclyde Local Authority"]
[null,null,null,null,null,null,null,null,null,null,null,null,null,null,null,null,null,null,null,null,null,"Midlothian Local Authority"]
[null,null,null,null,null,null,null,null,null,null,null,null,null,null,null,null,null,null,null,null,null,"Moray Local Authority"]
[null,null,null,null,null,null,null,null,null,null,null,null,null,null,null,null,null,null,null,null,null,"North Ayrshire Local Authority"]
[null,null,null,null,null,null,null,null,null,null,null,null,null,null,null,null,null,null,null,null,null,"North Lanarkshire Local Authority"]
[null,null,null,null,null,null,null,null,null,null,null,null,null,null,null,null,null,null,null,null,null,"Orkney Islands Local Authority"]
[null,null,null,null,null,null,null,null,null,null,null,null,null,null,null,null,null,null,null,null,null,"Perth & Kinross Local Authority"]
[null,null,null,null,null,null,null,null,null,null,null,null,null,null,null,null,null,null,null,null,null,"Renfrewshire Local Authority"]
[null,null,null,null,null,null,null,null,null,null,null,null,null,null,null,null,null,null,null,null,null,"Scottish Borders Local Authority"]
[null,null,null,null,null,null,null,null,null,null,null,null,null,null,null,null,null,null,null,null,null,"Shetland Islands Local Authority"]
[null,null,null,null,null,null,null,null,null,null,null,null,null,null,null,null,null,null,null,null,null,"South Ayrshire Local Authority"]
[null,null,null,null,null,null,null,null,null,null,null,null,null,null,null,null,null,null,null,null,null,"South Lanarkshire Local Authority"]
[null,null,null,null,null,null,null,null,null,null,null,null,null,null,null,null,null,null,null,null,null,"Stirling Local Authority"]
[null,null,null,null,null,null,null,null,null,null,null,null,null,null,null,null,null,null,null,null,null,"West Dunbartonshire Local Authority"]
[null,null,null,null,null,null,null,null,null,null,null,null,null,null,null,null,null,null,null,null,null,"West Lothian Local Authority"]
[]
[]
[]
[null,null,null,null,null,null,null,null,null,null,null,null,null,null,null,null,null,null,null,null,null,null,"Even distribution"]
[null,null,null,null,null,null,null,null,null,null,null,null,null,null,null,null,null,null,null,null,null,null,"Targeting to Q1"]
[null,null,null,null,null,null,null,null,null,null,null,null,null,null,null,null,null,null,null,null,null,null,"Targeting to Q1 & Q2"]
[null,null,null,null,null,null,null,null,null,null,null,null,null,null,null,null,null,null,null,null,null,null,"Proportionate to need"]

{"sheet":"Notes ","index":1,"n_rows":7,"n_cols":2,"rows_kept":7,"cut":false,"hidden":false,"merged":[]}
["Worksheet name","What it does"]
["III Tool Overview","• Gives the nature of the intervention (e.g. smoking cessation, changes in income distribution) and relevant baseline information (size of the target population, maximum number who might feasibly gain, hospitalisation data).  Where appropriate it also provides cost per intervention and historic statistics on service provision. \n• Allows users to modify inputs (e.g. the geography being targeted, and where appropriate, the number of interventions and targeting strategy).\n• Reports on key outcomes: years of life gained and hospitalisations prevented due to the intervention; and changes in the relative index of inequality (for years of life lost and hospitalisations).\n"]
["Calculations","Based on user inputs, the prevalence and population data in this workbook, and macros that run behind the scenes (incorporating assumptions about mortality, hospitalisations and the impact of interventions), this sheet calculates years of life lost and hospitalisations before and after the intervention, and the difference between the two scenarios."]
["Targeting","Provides the background information for allocating the total number of interventions by age group, sex and deprivation quintile.  The current options are for even distribution, targeting to Q1 only, targeting to Q1 & Q2 only, and targeting according to the distribution of ‘need’ (e.g. the population distribution of smokers)."]
["Baseline_Data_2012","Provides baseline data on the size of the target population, maximum number who might feasibly gain, hospitalisation data and historic statistics on service provision where available.  \nThe size of the target population is calculated for Scotland by applying age/sex/SIMD decile prevalence rates (e.g. for smoking) to the age/sex/SIMD distribution of the total population.  Local estimates are derived by weighting national age/sex/SIMD decile prevalence rates by the difference between local and national prevalence rates (separately for men and women).\nThe number who might feasibly gain (as a proportion of the target population) varies by intervention – see commentary for more details.\n"]
["LookUpData_Pop","Provides aggregate five-year population data by age/sex/SIMD quintile for 2007-2011, used to calculate the before and after impact of interventions.  Five years of data was used to improve robustness of results and avoid disclosure issues."]
["RII","Calculates the Relative Index of Inequality for the III Tool Overview page.  \nFor more information on measuring inequalities in health, please see:    \nhttp://www.scotpho.org.uk/downloads/scotphoreports/scotpho071009_measuringinequalities_rep.pdf\n\n"]

{"sheet":"Calculations","index":2,"n_rows":279,"n_cols":60,"rows_kept":279,"cut":false,"hidden":false,"merged":[[0,51,0,53],[0,54,0,55]]}
["USING Scotland AS EXAMPLE. NEED TO ADD LOOKUP FOR MORTALITY WHEN UPDATE","YEAR START",2012,"AGE GROUP","16+",null,null,null,"Cumulative incidence: years 2, 5, 10 and 20",null,null,null,null,null,null,null,"Years of life lost: years 2,5,10 and 20",null,null,null,null,null,null,null,null,null,null,null,"Hospitalisations: years 2,5,10 and 20",null,null,null,null,null,null,null,null,null,null,null,"starting off with true 5 year pops then can divide by 5 for virtual pop/deaths if needed.",null,null,"WILL VARY BY INTERVENTION",null,"ASSUMPTION",null,null,null,null,null,"Baseline Calculations",null,null,null,null,null,"LE Calculation"]
["Population Group","mid-age","Sex","SIMD","Prevalence exposure (employed adults not working from home who commute to work by car)","Population aged 16+ 2007-11","Number treated at base","Additional number treated under policy","Baseline-2","Policy-2","Baseline-5","Policy-5","Baseline-10","Policy-10","Baseline-20","Policy-20","Baseline-2","Policy-2","Diff YLL-2","Baseline-5","Policy-5","Diff YLL-5","Baseline-10","Policy-10","Diff YLL-10","Baseline-20","Policy-20","Diff YLL-20","Baseline-2","Policy-2","Diff hosp-2 years","Baseline-5","Policy-5","Diff hosp - 5 years","Baseline-10","Policy-10","Diff hosp - 10 years","Baseline-20","Policy-20","Diff hosp - 20 years","Total Population 2007-11","All cause deaths 2007-11","All cause hospital admissions 2007-11","Eligible population",null,"Risk Factor Prevalence (Smoking)",null,"Population Group weighting","Combined age / sex / SIMD weighting","Number of smokers, expected (applying rates from Scotland)",null,"Mortality crude rate (Mx)","hospital admissions crude rate (per 100,000)",null,"EASRs (age and sex standardised) - calculations by age/sex breakdown (Age specific rate*standard pop): mortality","EASRs (age and sex standardised) - calculations by age/sex breakdown (Age specific rate*standard pop): hospital admissions",null,"Ax","Width of interval","LE"]
["All, by SIMD"]
["Total",null,null,null,null,{"$f":"SUM(F5:F9)","v":3484757.1999999997},{"$f":"SUM(G5:G9)","v":0},{"$f":"SUM(H5:H9)","v":100000},{"$f":"SUM(I5:I9)","v":12545.047796164203},{"$f":"SUM(J5:J9)","v":12539.832438494375},{"$f":"SUM(K5:K9)","v":54429.534076582808},{"$f":"SUM(L5:L9)","v":54407.249606095327},{"$f":"SUM(M5:M9)","v":140335.97442962963},{"$f":"SUM(N5:N9)","v":140280.28865831179},{"$f":"SUM(O5:O9)","v":387063.40851196146},{"$f":"SUM(P5:P9)","v":386923.15892315749},{"$f":"SUM(Q5:Q9)","v":588841.3201522521},{"$f":"SUM(R5:R9)","v":588591.85773057782},{"$f":"SUM(S5:S9)","v":249.46242167422321},{"$f":"SUM(T5:T9)","v":2473405.57239389},{"$f":"SUM(U5:U9)","v":2472370.9127548262},{"$f":"SUM(V5:V9)","v":1034.6596390641057},{"$f":"SUM(W5:W9)","v":6008354.9204332158},{"$f":"SUM(X5:X9)","v":6005902.8815781781},{"$f":"SUM(Y5:Y9)","v":2452.0388550379053},{"$f":"SUM(Z5:Z9)","v":14396631.950969247},{"$f":"SUM(AA5:AA9)","v":14391119.339076912},{"$f":"SUM(AB5:AB9)","v":5512.6118923372032},{"$f":"SUM(AC5:AC9)","v":{"$error":"#NAME?"}},{"$f":"SUM(AD5:AD9)","v":{"$error":"#NAME?"}},{"$f":"SUM(AE5:AE9)","v":{"$error":"#NAME?"}},{"$f":"SUM(AF5:AF9)","v":{"$error":"#NAME?"}},{"$f":"SUM(AG5:AG9)","v":{"$error":"#NAME?"}},{"$error":"#NAME?"},{"$f":"SUM(AI5:AI9)","v":{"$error":"#NAME?"}},{"$f":"SUM(AJ5:AJ9)","v":{"$error":"#NAME?"}},{"$f":"SUM(AK5:AK9)","v":{"$error":"#NAME?"}},{"$f":"SUM(AL5:AL9)","v":{"$error":"#NAME?"}},{"$f":"SUM(AM5:AM9)","v":{"$error":"#NAME?"}},{"$f":"SUM(AN5:AN9)","v":{"$error":"#NAME?"}},{"$f":"AO11+AO18","v":26028700},{"$f":"AP11+AP18","v":12984.620553017025},{"$f":"AQ11+AQ18","v":0},null,null,null,null,"n/a","n/a",null,null,{"$f":"IF(AO4=0,0,AP4/AO4)","v":4.9885782052184796E-4},{"$f":"AQ4/AP4*100000","v":0},null,{"$f":"(BC11+BC18)/2","v":49.420494391068615},{"$f":"(BD11+BD18)/2","v":0}]
["Q 1","n/a","both",1,null,{"$f":"F12+F19","v":693113.2},{"$f":"G12+G19","v":0},{"$f":"H12+H19","v":13603.3732244118},{"$f":"I12+I19","v":3860.3098206280033},3859.1141414111758,16647.005960508977,16641.98235072504,42387.111180950145,42374.98059371805,112760.5396060872,112732.79893730476,183298.4409995976,183240.00681420628,{"$f":"S12+S19","v":58.434185391337678},766310.70051536465,766071.57447941857,239.12603594608754,1844495.0294220201,1843942.7604013942,552.26902062593581,4318724.4168897578,4317558.8126159087,1165.6042738501565,{"$error":"#NAME?"},{"$error":"#NAME?"},{"$error":"#NAME?"},{"$error":"#NAME?"},{"$error":"#NAME?"},{"$f":"AH12+AH19","v":{"$error":"#NAME?"}},{"$error":"#NAME?"},{"$error":"#NAME?"},{"$error":"#NAME?"},{"$error":"#NAME?"},{"$error":"#NAME?"},{"$error":"#NAME?"},{"$f":"HLOOKUP('III Tool Overview'!$H$6,LookUpData_Pop!$B$1:$AV$269,LookUpData_Pop!BB6,FALSE)","v":5252913},5636.8487353116998,null,null,null,null,null,{"$f":"AT5/AVERAGE(AT$5:AT$9)","v":{"$error":"#DIV/0!"}},"n/a",null,null,{"$f":"IF(AO5=0,0,AP5/AO5)","v":1.0730900617070376E-3},0,null,{"$f":"(BC12+BC19)/2","v":110.06269057980818},{"$f":"(BD12+BD19)/2","v":0}]
["Q 2","n/a","both",2,null,{"$f":"F13+F20","v":696324.6},{"$f":"G13+G20","v":0},18265.157480300477,{"$f":"I13+I20","v":2827.4486902286758},2826.3021233047893,12264.469392536581,12259.580442531511,31601.03660613851,31588.878245920154,86906.622575024114,86876.535125947994,132847.47261140164,132792.42092993206,55.051681469582945,557933.56397548516,557705.59061661642,227.97335886873907,1354783.3369570691,1354244.9072651344,538.42969193449153,3241064.6793099777,3239867.2203626311,1197.4589473463966,{"$error":"#NAME?"},{"$error":"#NAME?"},{"$error":"#NAME?"},{"$error":"#NAME?"},{"$error":"#NAME?"},{"$f":"AH13+AH20","v":{"$error":"#NAME?"}},{"$error":"#NAME?"},{"$error":"#NAME?"},{"$error":"#NAME?"},{"$error":"#NAME?"},{"$error":"#NAME?"},{"$error":"#NAME?"},{"$f":"HLOOKUP('III Tool Overview'!$H$6,LookUpData_Pop!$B$1:$AV$269,LookUpData_Pop!BB7,FALSE)","v":5226592},2468.7075389103716,null,null,null,null,null,{"$f":"AT6/AVERAGE(AT$5:AT$9)","v":{"$error":"#DIV/0!"}},"n/a",null,null,4.7233599617310315E-4,0,null,{"$f":"(BC14+BC20)/2","v":37.159934996950994},{"$f":"(BD14+BD20)/2","v":0}]
["Q 3","n/a","both",3,null,{"$f":"F14+F21","v":698829.60000000009},0,21747.531768673325,{"$f":"I14+I21","v":2420.88189095904},2419.7632085387354,10525.546717278086,10520.750719377867,27251.82564903055,27239.765273699217,76008.913648914939,75978.103010804611,113085.38845781185,113032.01576534583,53.37269246602375,475779.44148790522,475557.43008738442,222.011400520812,1159308.1848038223,1158779.253800309,528.93100351324301,2797959.2767582098,2796756.758198041,1202.5185601687153,{"$error":"#NAME?"},{"$error":"#NAME?"},{"$error":"#NAME?"},{"$error":"#NAME?"},{"$error":"#NAME?"},{"$f":"AH14+AH21","v":{"$error":"#NAME?"}},{"$error":"#NAME?"},{"$error":"#NAME?"},{"$error":"#NAME?"},{"$error":"#NAME?"},{"$error":"#NAME?"},{"$error":"#NAME?"},{"$f":"HLOOKUP('III Tool Overview'!$H$6,LookUpData_Pop!$B$1:$AV$269,LookUpData_Pop!BB8,FALSE)","v":5199490},1692.6112493160497,null,null,null,null,null,{"$f":"AT7/AVERAGE(AT$5:AT$9)","v":{"$error":"#DIV/0!"}},"n/a",null,null,3.2553409071198322E-4,0,null,{"$f":"(BC14+BC21)/2","v":32.65044237377009},0]
["Q 4","n/a","both",4,null,{"$f":"F15+F22","v":693100.2},0,23969.47582362601,{"$f":"I15+I22","v":1995.5827596986392},1994.544299722236,8696.5658270031854,8692.0919383733872,22624.570388294451,22613.206478886092,64000.53352391407,63970.645248079272,92570.666485406604,92521.754919174651,48.911566231946153,390144.19429996458,389939.99444932485,204.19985063980448,953879.71787533513,953389.75390331331,489.96397202188109,2322330.6276992406,2321196.6657364611,1133.9619627793327,{"$error":"#NAME?"},{"$error":"#NAME?"},{"$error":"#NAME?"},{"$error":"#NAME?"},{"$error":"#NAME?"},{"$f":"AH15+AH22","v":{"$error":"#NAME?"}},{"$error":"#NAME?"},{"$error":"#NAME?"},{"$error":"#NAME?"},{"$error":"#NAME?"},{"$error":"#NAME?"},{"$error":"#NAME?"},{"$f":"HLOOKUP('III Tool Overview'!$H$6,LookUpData_Pop!$B$1:$AV$269,LookUpData_Pop!BB9,FALSE)","v":5176374},1403.8951976666326,null,null,null,null,null,{"$f":"AT8/AVERAGE(AT$5:AT$9)","v":{"$error":"#DIV/0!"}},"n/a",null,null,2.712120873929574E-4,0,null,27.599378559043952,0]
["Q 5","n/a","both",5,null,{"$f":"F16+F23","v":703389.60000000009},0,22414.461702988403,{"$f":"I16+I23","v":1440.8246346498458},1440.108665517439,6295.9461792559823,6292.8441550875223,16471.430605215966,16463.458066088278,47386.799158021182,47365.076601020846,67039.351598034336,67005.659301919019,33.692296115332681,283237.67211517028,283096.32312208158,141.34899308866261,695888.65137496917,695546.20620802674,342.44516694235381,1716552.9503120617,1715739.8821638692,813.06814819260217,{"$error":"#NAME?"},{"$error":"#NAME?"},{"$error":"#NAME?"},{"$error":"#NAME?"},{"$error":"#NAME?"},{"$f":"AH16+AH23","v":{"$error":"#NAME?"}},{"$error":"#NAME?"},{"$error":"#NAME?"},{"$error":"#NAME?"},{"$error":"#NAME?"},{"$error":"#NAME?"},{"$error":"#NAME?"},{"$f":"HLOOKUP('III Tool Overview'!$H$6,LookUpData_Pop!$B$1:$AV$269,LookUpData_Pop!BB10,FALSE)","v":5173331},1782.55783181227,null,null,null,null,null,{"$f":"AT9/AVERAGE(AT$5:AT$9)","v":{"$error":"#DIV/0!"}},"n/a",null,null,3.4456674661108484E-4,0,null,32.301520877902774,0]
["Males, by SIMD"]
["Males",null,null,null,null,{"$f":"SUM(F12:F16)","v":1715336.2000000002},{"$f":"SUM(G12:G16)","v":0},{"$f":"SUM(H12:H16)","v":52611.60363525986},{"$f":"SUM(I12:I16)","v":7827.8537913386463},{"$f":"SUM(J12:J16)","v":7824.3460988239412},{"$f":"SUM(K12:K16)","v":33696.239524187971},{"$f":"SUM(L12:L16)","v":33681.390314104188},{"$f":"SUM(M12:M16)","v":85618.516521433063},{"$f":"SUM(N12:N16)","v":85582.059532300002},{"$f":"SUM(O12:O16)","v":228099.27239035018},{"$f":"SUM(P12:P16)","v":228011.38881302113},{"$f":"SUM(Q12:Q16)","v":370672.37405167631},{"$f":"SUM(R12:R16)","v":370504.21624443738},{"$f":"SUM(S12:S16)","v":168.15780723898501},{"$f":"SUM(T12:T16)","v":1546063.7904687047},{"$f":"SUM(U12:U16)","v":1545372.2765738023},{"$f":"SUM(V12:V16)","v":691.51389490224392},{"$f":"SUM(W12:W16)","v":3708949.6654035971},{"$f":"SUM(X12:X16)","v":3707336.1310315076},{"$f":"SUM(Y12:Y16)","v":1613.5343720898527},{"$f":"SUM(Z12:Z16)","v":8650685.6209442914},{"$f":"SUM(AA12:AA16)","v":8647182.9746393654},{"$f":"SUM(AB12:AB16)","v":3502.6463049243648},{"$f":"SUM(AC12:AC16)","v":{"$error":"#NAME?"}},{"$f":"SUM(AD12:AD16)","v":{"$error":"#NAME?"}},{"$f":"SUM(AE12:AE16)","v":{"$error":"#NAME?"}},{"$f":"SUM(AF12:AF16)","v":{"$error":"#NAME?"}},{"$f":"SUM(AG12:AG16)","v":{"$error":"#NAME?"}},{"$f":"SUM(AH12:AH16)","v":{"$error":"#NAME?"}},{"$f":"SUM(AI12:AI16)","v":{"$error":"#NAME?"}},{"$f":"SUM(AJ12:AJ16)","v":{"$error":"#NAME?"}},{"$f":"SUM(AK12:AK16)","v":{"$error":"#NAME?"}},{"$f":"SUM(AL12:AL16)","v":{"$error":"#NAME?"}},{"$f":"SUM(AM12:AM16)","v":{"$error":"#NAME?"}},{"$f":"SUM(AN12:AN16)","v":{"$error":"#NAME?"}},{"$f":"SUM(AO12:AO16)","v":12601707},{"$f":"SUM(AP12:AP16)","v":6166.3659662940863},{"$f":"SUM(AQ12:AQ16)","v":0},null,null,null,null,{"$f":"AT11/AVERAGE(AT18,AT11)","v":{"$error":"#DIV/0!"}},"n/a",null,null,{"$f":"IF(AO11=0,0,AP11/AO11)","v":4.8932783203847589E-4},{"$f":"AQ11/AP11*100000","v":0},null,{"$f":"SUM(BC26:BC43)","v":58.355135640928765},{"$f":"SUM(BD26:BD43)","v":0},null,null,null,{"$f":"LE(AZ25:AZ43,BG25:BG43,BF25:BF43,19)","v":{"$error":"#NAME?"}}]
["Q 1","n/a","male",1,null,{"$f":"F86","v":333153.2},{"$f":"G86","v":0},{"$f":"H86","v":7590.5832144487913},{"$f":"I86","v":2384.394147392085},{"$f":"J86","v":2383.5448039154981},10189.278402062613,10185.745807037973,25508.651213422243,25500.284878254264,65186.215785586115,65167.993866961275,114184.88956049588,114143.40972502423,41.479835471668139,473529.65720545733,473361.49241978442,168.16478567293234,1123492.2617815277,1123110.4978140891,381.76396743861551,2550516.0222139424,2549741.1632785928,774.85893534988281,{"$error":"#NAME?"},{"$error":"#NAME?"},{"$error":"#NAME?"},{"$error":"#NAME?"},{"$error":"#NAME?"},{"$error":"#NAME?"},{"$error":"#NAME?"},{"$error":"#NAME?"},{"$error":"#NAME?"},{"$error":"#NAME?"},{"$error":"#NAME?"},{"$error":"#NAME?"},{"$f":"HLOOKUP('III Tool Overview'!$H$6,LookUpData_Pop!$B$1:$AV$269,LookUpData_Pop!BB13,FALSE)","v":2489967},2764.0582705117095,null,null,null,null,null,"n/a","n/a",null,null,1.1100782743352459E-3,0,null,{"$f":"SUM(BC67:BC84)","v":133.37850014257003},{"$f":"SUM(BD67:BD84)","v":0},null,null,null,{"$f":"LE(AZ66:AZ84,BG66:BG84,BF66:BF84,19)","v":{"$error":"#NAME?"}}]
["Q 2","n/a","male",2,null,{"$f":"F129","v":342475.39999999997},{"$f":"G129","v":0},{"$f":"H129","v":9746.7332809028994},{"$f":"I129","v":1762.1223628975213},1761.3599197976066,7583.1330219420888,7579.9124845891893,19253.348146345641,19245.480998358245,51121.563073197867,51102.938125020541,83630.838535832911,83594.03253109254,36.806004740378057,348779.88745475432,348628.75254827313,151.13490648114566,836425.26693095989,836073.73682677641,351.53010418341364,1947991.4164854949,1947235.7406577552,755.67582773958566,{"$error":"#NAME?"},{"$error":"#NAME?"},{"$error":"#NAME?"},{"$error":"#NAME?"},{"$error":"#NAME?"},{"$error":"#NAME?"},{"$error":"#NAME?"},{"$error":"#NAME?"},{"$error":"#NAME?"},{"$error":"#NAME?"},{"$error":"#NAME?"},{"$error":"#NAME?"},{"$f":"HLOOKUP('III Tool Overview'!$H$6,LookUpData_Pop!$B$1:$AV$269,LookUpData_Pop!BB14,FALSE)","v":2515468},1161.440471045458,null,null,null,null,null,"n/a","n/a",null,null,4.617194379119345E-4,0,null,{"$f":"SUM(BC110:BC127)","v":55.504601659789287},{"$f":"SUM(BD110:BD127)","v":0},null,null,null,{"$f":"LE(AZ109:AZ127,BG109:BG127,BF109:BF127,19)","v":{"$error":"#NAME?"}}]
["Q 3","n/a","male",3,null,{"$f":"F172","v":347035.2},{"$f":"G172","v":0},{"$f":"H172","v":11248.750000806176},1522.142325976044,1521.4024139318299,6568.8690111041851,6565.7252190241716,16773.811709500565,16766.039955743177,45260.504287549033,45241.483548417767,71755.82067322197,71720.459311525497,35.361361696476706,299893.32063748507,299747.44616167049,145.87447581459492,722136.50773590687,721794.19328205939,342.31445384741892,1698702.9242989453,1697951.0269401234,751.89735882178502,{"$error":"#NAME?"},{"$error":"#NAME?"},{"$error":"#NAME?"},{"$error":"#NAME?"},{"$error":"#NAME?"},{"$error":"#NAME?"},{"$error":"#NAME?"},{"$error":"#NAME?"},{"$error":"#NAME?"},{"$error":"#NAME?"},{"$error":"#NAME?"},{"$error":"#NAME?"},{"$f":"HLOOKUP('III Tool Overview'!$H$6,LookUpData_Pop!$B$1:$AV$269,LookUpData_Pop!BB15,FALSE)","v":2536055},772.34407062496325,null,null,null,null,null,"n/a","n/a",null,null,3.0454547343214687E-4,0,null,{"$f":"SUM(BC153:BC170)","v":37.089329568573973},{"$f":"SUM(BD153:BD170)","v":0},null,null,null,{"$f":"LE(AZ152:AZ170,BG152:BG170,BF152:BF170,19)","v":{"$error":"#NAME?"}}]
["Q 4","n/a","male",4,null,{"$f":"F215","v":343382.2},{"$f":"G215","v":0},{"$f":"H215","v":12446.318697794301},1254.7784576366846,1254.0939177164744,5429.4013676573486,5426.4765064155026,13939.43362347465,13932.119710194173,38202.235104930151,38183.736854523573,58659.874992304729,58627.570949755609,32.304042549112637,245635.46336171127,245501.63135934953,133.83200236179346,593705.15122328582,593388.49172743165,316.65949585418275,1409669.0239836059,1408959.0799608107,709.94402279523638,{"$error":"#NAME?"},{"$error":"#NAME?"},{"$error":"#NAME?"},{"$error":"#NAME?"},{"$error":"#NAME?"},{"$error":"#NAME?"},{"$error":"#NAME?"},{"$error":"#NAME?"},{"$error":"#NAME?"},{"$error":"#NAME?"},{"$error":"#NAME?"},{"$error":"#NAME?"},{"$f":"HLOOKUP('III Tool Overview'!$H$6,LookUpData_Pop!$B$1:$AV$269,LookUpData_Pop!BB16,FALSE)","v":2527989},640.74852711972733,null,null,null,null,null,"n/a","n/a",null,null,2.5346175442999446E-4,0,null,{"$f":"SUM(BC196:BC213)","v":32.339019077397388},{"$f":"SUM(BD196:BD213)","v":0},null,null,null,{"$f":"LE(AZ195:AZ213,BG195:BG213,BF195:BF213,19)","v":{"$error":"#NAME?"}}]
["Q 5","n/a","male",5,null,{"$f":"F258","v":349290.20000000007},{"$f":"G258","v":0},{"$f":"H258","v":11579.218441307688},904.41649743631137,903.94504346253234,3925.5577214217401,3923.5302970373555,10143.271828689965,10138.133989750126,28328.754139087032,28315.236418097978,42440.950289820837,42418.743727039495,22.206562781349476,178225.46180929657,178132.95408472477,92.507724571777544,433190.47773191688,432969.21138115064,221.26635076622188,1043806.2339623013,1043295.9638020834,510.27016021787495,{"$error":"#NAME?"},{"$error":"#NAME?"},{"$error":"#NAME?"},{"$error":"#NAME?"},{"$error":"#NAME?"},{"$error":"#NAME?"},{"$error":"#NAME?"},{"$error":"#NAME?"},{"$error":"#NAME?"},{"$error":"#NAME?"},{"$error":"#NAME?"},{"$error":"#NAME?"},{"$f":"HLOOKUP('III Tool Overview'!$H$6,LookUpData_Pop!$B$1:$AV$269,LookUpData_Pop!BB17,FALSE)","v":2532228},827.77462699222792,null,null,null,null,null,"n/a","n/a",null,null,3.2689577202061899E-4,0,null,{"$f":"SUM(BC239:BC256)","v":42.377999087840529},{"$f":"SUM(BD239:BD256)","v":0},null,null,null,{"$f":"LE(AZ195:AZ213,BG195:BG213,BF195:BF213,19)","v":{"$error":"#NAME?"}}]
["Females, by SIMD"]
["Females",null,null,null,null,{"$f":"SUM(F19:F23)","v":1769421},{"$f":"SUM(G19:G23)","v":0},47388.396364740154,4717.1940048255574,4715.486339670435,20733.294552394837,20725.859291991135,54717.457908196557,54698.2291260118,158964.13612161131,158911.77011013636,218168.9461005757,218087.64148614043,81.304614435238193,927341.78192518547,926998.63618102344,343.14574416186178,2299405.2550296183,2298566.7505466705,838.50448294805256,5745946.3300249595,5743936.3644375447,2009.9655874128384,{"$error":"#NAME?"},{"$error":"#NAME?"},{"$error":"#NAME?"},{"$error":"#NAME?"},{"$error":"#NAME?"},{"$error":"#NAME?"},{"$error":"#NAME?"},{"$error":"#NAME?"},{"$error":"#NAME?"},{"$error":"#NAME?"},{"$error":"#NAME?"},{"$error":"#NAME?"},{"$f":"SUM(AO19:AO23)","v":13426993},{"$f":"SUM(AP19:AP23)","v":6818.2545867229383},{"$f":"SUM(AQ19:AQ23)","v":0},null,null,null,null,{"$f":"AT18/AVERAGE(AT11,AT18)","v":{"$error":"#DIV/0!"}},"n/a",null,null,{"$f":"IF(AO18=0,0,AP18/AO18)","v":5.0780205119068268E-4},{"$f":"AQ18/AP18*100000","v":0},null,{"$f":"SUM(BC46:BC63)","v":40.485853141208473},{"$f":"SUM(BD46:BD63)","v":0},null,null,null,{"$f":"LE(AZ45:AZ63,BG45:BG63,BF45:BF63,19)","v":{"$error":"#NAME?"}}]
["Q 1","n/a","female",1,null,{"$f":"F107","v":359960},{"$f":"G107","v":0},{"$f":"H107","v":6012.7900099630097},1475.9156732359183,1475.5693374956777,6457.7275584463632,{"$f":"L107","v":6456.2365436870687},16878.459967527902,16874.695715463782,47574.323820501093,47564.805070343486,69113.55143910172,69096.597089182047,16.954349919669539,292781.04330990731,292710.08205963415,70.961250273155201,721002.76764049241,720832.26258730516,170.5050531873203,1768208.3946758157,1767817.6493373155,390.74533850027365,{"$error":"#NAME?"},{"$error":"#NAME?"},{"$error":"#NAME?"},{"$error":"#NAME?"},{"$error":"#NAME?"},{"$error":"#NAME?"},{"$error":"#NAME?"},{"$error":"#NAME?"},{"$error":"#NAME?"},{"$error":"#NAME?"},{"$error":"#NAME?"},{"$error":"#NAME?"},{"$f":"HLOOKUP('III Tool Overview'!$H$6,LookUpData_Pop!$B$1:$AV$269,LookUpData_Pop!BB20,FALSE)","v":2762946},2872.7904647999899,null,null,null,null,null,"n/a","n/a",null,null,1.039756283619003E-3,0,null,{"$f":"SUM(BC88:BC105)","v":86.74688101704632},{"$f":"SUM(BD88:BD105)","v":0},null,null,null,{"$f":"LE(AZ87:AZ105,BG87:BG105,BF87:BF105,19)","v":{"$error":"#NAME?"}}]
["Q 2","n/a","female",2,null,{"$f":"F150","v":353849.2},{"$f":"G150","v":0},{"$f":"H150","v":8518.4241993975775},1065.3263273311545,1064.942203507183,4681.3363705944921,4679.6679579423208,12347.688459792869,12343.397247561907,35785.059501826247,35773.597000927461,49216.634075568727,49198.388398839532,18.245676729204888,209153.67652073083,209076.83806834323,76.838452387593406,518358.07002610911,518171.17043835798,186.89958775107789,1293073.2628244828,1292631.479704876,441.78311960681094,{"$error":"#NAME?"},{"$error":"#NAME?"},{"$error":"#NAME?"},{"$error":"#NAME?"},{"$error":"#NAME?"},{"$error":"#NAME?"},{"$error":"#NAME?"},{"$error":"#NAME?"},{"$error":"#NAME?"},{"$error":"#NAME?"},{"$error":"#NAME?"},{"$error":"#NAME?"},{"$f":"HLOOKUP('III Tool Overview'!$H$6,LookUpData_Pop!$B$1:$AV$269,LookUpData_Pop!BB21,FALSE)","v":2711124},1307.2670678649135,null,null,null,null,null,"n/a","n/a",null,null,4.8218638021164413E-4,0,null,{"$f":"SUM(BC131:BC148)","v":37.230540425328016},{"$f":"SUM(BD131:BD148)","v":0},null,null,null,{"$f":"LE(AZ130:AZ148,BG130:BG148,BF130:BF148,19)","v":{"$error":"#NAME?"}}]
["Q 3","n/a","female",3,null,{"$f":"F193","v":351794.4},{"$f":"G193","v":0},{"$f":"H193","v":10498.781767867151},898.73956498299617,898.36079460690542,3956.6777061739017,3955.0255003536954,10478.013939529985,10473.725317956039,30748.409361365902,30736.619462386843,41329.567784589875,41311.556453820333,18.011330769547044,175886.12085042015,175809.98392571392,76.136924706217087,437171.67706791544,436985.06051824964,186.6165496658241,1099256.3524592647,1098805.7312579176,450.62120134693032,{"$error":"#NAME?"},{"$error":"#NAME?"},{"$error":"#NAME?"},{"$error":"#NAME?"},{"$error":"#NAME?"},{"$error":"#NAME?"},{"$error":"#NAME?"},{"$error":"#NAME?"},{"$error":"#NAME?"},{"$error":"#NAME?"},{"$error":"#NAME?"},{"$error":"#NAME?"},{"$f":"HLOOKUP('III Tool Overview'!$H$6,LookUpData_Pop!$B$1:$AV$269,LookUpData_Pop!BB22,FALSE)","v":2663435},920.26717869108643,null,null,null,null,null,"n/a","n/a",null,null,3.455189177476028E-4,0,null,{"$f":"SUM(BC174:BC191)","v":28.211555178966215},{"$f":"SUM(BD174:BD191)","v":0},null,null,null,{"$f":"LE(AZ173:AZ191,BG173:BG191,BF173:BF191,19)","v":{"$error":"#NAME?"}}]
["Q 4","n/a","female",4,null,{"$f":"F236","v":349718},{"$f":"G236","v":0},{"$f":"H236","v":11523.157125831707},740.80430206195456,740.45038200576164,3267.1644593458377,3265.6154319578845,8685.1367648198011,8681.0867686919191,25798.298418983915,25786.908393555699,33910.791493101875,33894.183969419049,16.607523682833516,144508.73093825331,144438.36308997532,70.367848278011024,360174.56665204931,360001.26217588159,173.30447616769834,912661.60371563456,912237.58577565034,424.0179399840963,{"$error":"#NAME?"},{"$error":"#NAME?"},{"$error":"#NAME?"},{"$error":"#NAME?"},{"$error":"#NAME?"},{"$error":"#NAME?"},{"$error":"#NAME?"},{"$error":"#NAME?"},{"$error":"#NAME?"},{"$error":"#NAME?"},{"$error":"#NAME?"},{"$error":"#NAME?"},{"$f":"HLOOKUP('III Tool Overview'!$H$6,LookUpData_Pop!$B$1:$AV$269,LookUpData_Pop!BB23,FALSE)","v":2648385},763.1466705469054,null,null,null,null,null,"n/a","n/a",null,null,2.8815548741852314E-4,0,null,{"$f":"SUM(BC217:BC234)","v":22.859738040690516},{"$f":"SUM(BD217:BD234)","v":0},null,null,null,{"$f":"LE(AZ216:AZ234,BG216:BG234,BF216:BF234,19)","v":{"$error":"#NAME?"}}]
["Q 5","n/a","female",5,null,{"$f":"F279","v":354099.39999999997},{"$f":"G279","v":0},{"$f":"H279","v":10835.243261680715},536.40813721353459,536.16362205490668,2370.3884578342422,2369.3138580501668,6328.1587765260028,6325.3240763381546,19058.045018934146,19049.840182922871,24598.401308213499,24586.915574879516,11.485733333983205,105012.21030587374,104963.36903735684,48.841268516885066,262698.17364305223,262576.99482687615,121.17881617613193,672746.71634976054,672443.91836178582,302.79798797472722,{"$error":"#NAME?"},{"$error":"#NAME?"},{"$error":"#NAME?"},{"$error":"#NAME?"},{"$error":"#NAME?"},{"$error":"#NAME?"},{"$error":"#NAME?"},{"$error":"#NAME?"},{"$error":"#NAME?"},{"$error":"#NAME?"},{"$error":"#NAME?"},{"$error":"#NAME?"},{"$f":"HLOOKUP('III Tool Overview'!$H$6,LookUpData_Pop!$B$1:$AV$269,LookUpData_Pop!BB24,FALSE)","v":2641103},954.7832048200421,null,null,null,null,null,"n/a","n/a",null,null,3.615092651895977E-4,0,null,{"$f":"SUM(BC260:BC277)","v":22.225042667965017},{"$f":"SUM(BD260:BD277)","v":0},null,null,null,{"$f":"LE(AZ259:AZ277,BG259:BG277,BF259:BF277,19)","v":{"$error":"#NAME?"}}]
["age/sex breakdown: All"]
["Male <1",0.5,"male","all",null,{"$f":"F66+F109+F152+F195+F238","v":0},null,null,null,null,null,null,null,null,null,null,null,null,null,null,null,null,null,null,null,null,null,null,null,null,null,null,null,null,null,null,null,null,null,null,{"$f":"HLOOKUP('III Tool Overview'!$H$6,LookUpData_Pop!$B$1:$AV$269,LookUpData_Pop!BB26,FALSE)","v":151126},35.670482048741341,null,null,null,null,null,null,null,null,null,{"$f":"IF(AO25=0,0,AP25/AO25)","v":2.3603140458121927E-4},{"$f":"AQ25/AP25*100000","v":0},null,null,null,null,0.1,1]
["Male 1-4",2.5,"male","all",null,{"$f":"F67+F110+F153+F196+F239","v":0},null,null,null,null,null,null,null,null,null,null,null,null,null,null,null,null,null,null,null,null,null,null,null,null,null,null,null,null,null,null,null,null,null,null,{"$f":"HLOOKUP('III Tool Overview'!$H$6,LookUpData_Pop!$B$1:$AV$269,LookUpData_Pop!BB27,FALSE)","v":582809},5.9228471721624167,null,null,null,null,null,null,null,null,null,{"$f":"IF(AO26=0,0,AP26/AO26)","v":1.0162587009058571E-5},0,null,{"$f":"((AP26+AP25)/(AO26+AO25))*LookUpData_Pop!$B$277","v":0.45337343738509545},{"$f":"((AQ26+AQ25)/(AP26+AP25))*LookUpData_Pop!$B$277","v":0},null,0.5,4]
["Male 5-9",7.5,"male","all",null,0,null,null,null,null,null,null,null,null,null,null,null,null,null,null,null,null,null,null,null,null,null,null,null,null,null,null,null,null,null,null,null,null,null,null,{"$f":"HLOOKUP('III Tool Overview'!$H$6,LookUpData_Pop!$B$1:$AV$269,LookUpData_Pop!BB28,FALSE)","v":691028},3.793157269313129,null,null,null,null,null,null,null,null,null,5.4891513358548842E-6,0,null,{"$f":"(AP27/AO27)*LookUpData_Pop!$B$278","v":3.842405935098419E-2},{"$f":"(AQ27/AP27)*LookUpData_Pop!$B$278","v":0},null,0.5,5]
["Male 10-14",12.5,"male","all",null,0,null,null,null,null,null,null,null,null,null,null,null,null,null,null,null,null,null,null,null,null,null,null,null,null,null,null,null,null,null,null,null,null,null,null,{"$f":"HLOOKUP('III Tool Overview'!$H$6,LookUpData_Pop!$B$1:$AV$269,LookUpData_Pop!BB29,FALSE)","v":754433},5.0117952517612849,null,null,null,null,null,null,null,null,null,6.6431283517042401E-6,0,null,{"$f":"(AP28/AO28)*LookUpData_Pop!$B$279","v":4.6501898461929682E-2},{"$f":"(AQ28/AP28)*LookUpData_Pop!$B$279","v":0},null,0.5,5]
["Male 15-19",17.5,"male","all",null,167219.4,{"$f":"G70+G113+G156+G199+G242","v":0},2521.0032778310037,100.75204181363449,100.72980814033627,440.32682239894467,440.22978783249431,1154.227466396002,1153.9738576480606,3367.5778936163811,3366.844751599926,8160.9153869043948,8159.1144593672379,1.8009275371550757,34974.286306696406,34966.578933916448,7.7073727799624976,88434.984560831625,88415.551706808794,19.432854022825268,236803.91294875258,236752.32793725046,51.585011502134876,{"$error":"#NAME?"},{"$error":"#NAME?"},{"$error":"#NAME?"},{"$error":"#NAME?"},{"$error":"#NAME?"},{"$error":"#NAME?"},{"$error":"#NAME?"},{"$error":"#NAME?"},{"$error":"#NAME?"},{"$error":"#NAME?"},{"$error":"#NAME?"},{"$error":"#NAME?"},{"$f":"HLOOKUP('III Tool Overview'!$H$6,LookUpData_Pop!$B$1:$AV$269,LookUpData_Pop!BB30,FALSE)","v":836097},26.33614267452257,null,null,null,null,null,{"$f":"AT29/AVERAGE(AT$29:AT$42)","v":{"$error":"#DIV/0!"}},"n/a","n/a",null,3.1498908230172543E-5,0,null,{"$f":"(AP29/AO29)*LookUpData_Pop!$B$280","v":0.22049235761120781},{"$f":"(AQ29/AP29)*LookUpData_Pop!$B$280","v":0},null,0.5,5]
["Male 20-24",22.5,"male","all",null,180773.19999999998,{"$f":"G71+G114+G157+G200+G243","v":0},3511.0423120306687,147.22132657375948,147.17940755186757,643.14957706353789,642.96679468595039,1684.4154518429514,1683.9386413774139,4901.1208392176177,4899.7506201164479,11336.042146179481,11332.814381493803,3.2277646856771298,48511.712848331284,48497.925595979781,13.787252351499774,122322.9327778077,122288.30209990327,34.630677904417098,325097.89721248124,325006.92932393239,90.967888548890187,{"$error":"#NAME?"},{"$error":"#NAME?"},{"$error":"#NAME?"},{"$error":"#NAME?"},{"$error":"#NAME?"},{"$error":"#NAME?"},{"$error":"#NAME?"},{"$error":"#NAME?"},{"$error":"#NAME?"},{"$error":"#NAME?"},{"$error":"#NAME?"},{"$error":"#NAME?"},{"$f":"HLOOKUP('III Tool Overview'!$H$6,LookUpData_Pop!$B$1:$AV$269,LookUpData_Pop!BB31,FALSE)","v":903866},51.487498794002185,null,null,null,null,null,{"$f":"AT30/AVERAGE(AT$29:AT$42)","v":{"$error":"#DIV/0!"}},"n/a","n/a",null,5.6963641506597419E-5,0,null,{"$f":"(AP30/AO30)*LookUpData_Pop!$B$281","v":0.39874549054618191},{"$f":"(AQ30/AP30)*LookUpData_Pop!$B$281","v":0},null,0.5,5]
["Male 25-29",27.5,"male","all",null,171198.4,{"$f":"G72+G115+G158+G201+G244","v":0},5667.5670524331945,219.302485327884,219.19828749912983,957.17702531380723,956.72353516185319,2502.0952245812969,2500.9169010636674,7237.4712155807274,7234.1264779398571,15570.476458279765,15563.078412438219,7.3980458415439898,66455.923770175854,66424.4373154809,31.486454694954773,166701.90397733802,166623.381337967,78.522639371038167,436844.6252773978,436642.44509170047,202.18018569737615,{"$error":"#NAME?"},{"$error":"#NAME?"},{"$error":"#NAME?"},{"$error":"#NAME?"},{"$error":"#NAME?"},{"$error":"#NAME?"},{"$error":"#NAME?"},{"$error":"#NAME?"},{"$error":"#NAME?"},{"$error":"#NAME?"},{"$error":"#NAME?"},{"$error":"#NAME?"},{"$f":"HLOOKUP('III Tool Overview'!$H$6,LookUpData_Pop!$B$1:$AV$269,LookUpData_Pop!BB32,FALSE)","v":855992},65.800267976588103,null,null,null,null,null,{"$error":"#DIV/0!"},"n/a","n/a",null,7.6870190348260389E-5,0,null,{"$f":"(AP31/AO31)*LookUpData_Pop!$B$282","v":0.5380913324378227},{"$f":"(AQ31/AP31)*LookUpData_Pop!$B$282","v":0},null,0.5,5]
["Male 30-34",32.5,"male","all",null,152486.20000000001,{"$f":"G73+G116+G159+G202+G245","v":0},5436.1677145373706,258.31385676356575,258.181373629039,1126.544158159347,1125.9685742375657,2939.872130211676,2938.3820715821175,8459.602606375156,8455.4212386772397,17307.028403158907,17298.152033145612,8.8763700132949452,73709.48315194626,73671.821073334926,37.662078611343532,184121.05164466982,184027.70227083931,93.349373830526019,476977.90274329967,476741.64803913445,236.25470416517783,{"$error":"#NAME?"},{"$error":"#NAME?"},{"$error":"#NAME?"},{"$error":"#NAME?"},{"$error":"#NAME?"},{"$error":"#NAME?"},{"$error":"#NAME?"},{"$error":"#NAME?"},{"$error":"#NAME?"},{"$error":"#NAME?"},{"$error":"#NAME?"},{"$error":"#NAME?"},{"$f":"HLOOKUP('III Tool Overview'!$H$6,LookUpData_Pop!$B$1:$AV$269,LookUpData_Pop!BB33,FALSE)","v":762431},83.924669487737958,null,null,null,null,null,{"$error":"#DIV/0!"},"n/a","n/a",null,1.1007510120619172E-4,0,null,{"$f":"(AP32/AO32)*LookUpData_Pop!$B$283","v":0.77052570844334201},{"$f":"(AQ32/AP32)*LookUpData_Pop!$B$283","v":0},null,0.5,5]
["Male 35-39",37.5,"male","all",null,169450.4,{"$f":"G74+G117+G160+G203+G246","v":0},5874.8621527486712,429.98523789504225,429.77231916317908,1872.1035341600732,1871.1817782653038,4868.4674693516426,4866.0990367425165,13859.536973681157,13853.043051999372,26229.099511597575,26216.111468953921,{"$f":"S74+S117+S160+S203+S246","v":12.988042643656627},111261.14133718147,111206.3561186851,54.785218496370362,275736.69079629018,275602.48089908878,134.20989720137004,698983.54820433259,698654.86775093537,328.68045339730452,{"$error":"#NAME?"},{"$error":"#NAME?"},{"$error":"#NAME?"},{"$error":"#NAME?"},{"$error":"#NAME?"},{"$error":"#NAME?"},{"$error":"#NAME?"},{"$error":"#NAME?"},{"$error":"#NAME?"},{"$error":"#NAME?"},{"$error":"#NAME?"},{"$error":"#NAME?"},{"$f":"HLOOKUP('III Tool Overview'!$H$6,LookUpData_Pop!$B$1:$AV$269,LookUpData_Pop!BB34,FALSE)","v":847252},94.563471173412168,null,null,null,null,null,{"$error":"#DIV/0!"},"n/a","n/a",null,1.1161197751485056E-4,0,null,{"$f":"(AP33/AO33)*LookUpData_Pop!$B$284","v":0.78128384260395389},{"$f":"(AQ33/AP33)*LookUpData_Pop!$B$284","v":0},null,0.5,5]
["Male 40-44",42.5,"male","all",null,191272,{"$f":"G75+G118+G161+G204+G247","v":0},6941.38113360849,638.46787645608902,638.13662916522117,2775.4095288313033,2773.980399030097,7193.6764712846425,7190.0305658296929,20273.086095355415,20263.307972508603,36392.668957997077,36373.787862417601,18.88109557946882,153847.52294513388,153768.29414155742,79.228803576494101,378712.44536528341,378520.3664235897,192.0789416936459,942316.54671692103,941859.6923849117,456.8543320094177,{"$error":"#NAME?"},{"$error":"#NAME?"},{"$error":"#NAME?"},{"$error":"#NAME?"},{"$error":"#NAME?"},{"$error":"#NAME?"},{"$error":"#NAME?"},{"$error":"#NAME?"},{"$error":"#NAME?"},{"$error":"#NAME?"},{"$error":"#NAME?"},{"$error":"#NAME?"},{"$f":"HLOOKUP('III Tool Overview'!$H$6,LookUpData_Pop!$B$1:$AV$269,LookUpData_Pop!BB35,FALSE)","v":956360},136.76609185293489,null,null,null,null,null,{"$error":"#DIV/0!"},"n/a","n/a",null,1.4300691356072492E-4,0,null,{"$f":"(AP34/AO34)*LookUpData_Pop!$B$285","v":1.0010483949250744},{"$f":"(AQ34/AP34)*LookUpData_Pop!$B$285","v":0},null,0.5,5]
["Male 45-49",47.5,"male","all",null,192157.2,{"$f":"G76+G119+G162+G205+G248","v":0},7261.1678638463718,983.84696764339219,983.32574400716658,4261.7505537687757,4259.5178344657916,10965.603105227046,10959.991818048675,30228.595234558557,30214.220056619746,50176.195349812995,50149.612944365494,26.582405447501515,210680.58965158666,210570.19430868764,110.39534289902076,511685.35679158341,511423.19709488581,262.15969669759215,1226881.1503498757,1226292.4352976412,588.71505223432905,{"$error":"#NAME?"},{"$error":"#NAME?"},{"$error":"#NAME?"},{"$error":"#NAME?"},{"$error":"#NAME?"},{"$error":"#NAME?"},{"$error":"#NAME?"},{"$error":"#NAME?"},{"$error":"#NAME?"},{"$error":"#NAME?"},{"$error":"#NAME?"},{"$error":"#NAME?"},{"$f":"HLOOKUP('III Tool Overview'!$H$6,LookUpData_Pop!$B$1:$AV$269,LookUpData_Pop!BB36,FALSE)","v":960786},190.25458515226811,null,null,null,null,null,{"$error":"#DIV/0!"},"n/a","n/a",null,1.9801973087895546E-4,0,null,{"$f":"(AP35/AO35)*LookUpData_Pop!$B$286","v":1.3861381161526882},{"$f":"(AQ35/AP35)*LookUpData_Pop!$B$286","v":0},null,0.5,5]
["Male 50-54",52.5,"male","all",null,175029.8,{"$f":"G77+G120+G163+G206+G249","v":0},6858.5672315835291,1193.4820205722631,1192.8282224829181,5152.5368827223583,5149.7558491325781,13166.004832716299,13159.117073918544,35555.393795099437,35538.514798428077,56093.654966896371,56062.926456697147,30.728510199216544,234120.70068961059,233994.30242177885,126.39826783180251,561918.59768190852,561624.10279741872,294.49488448975899,1304415.3685445662,1303787.6970112214,627.67153334480827,{"$error":"#NAME?"},{"$error":"#NAME?"},{"$error":"#NAME?"},{"$error":"#NAME?"},{"$error":"#NAME?"},{"$error":"#NAME?"},{"$error":"#NAME?"},{"$error":"#NAME?"},{"$error":"#NAME?"},{"$error":"#NAME?"},{"$error":"#NAME?"},{"$error":"#NAME?"},{"$f":"HLOOKUP('III Tool Overview'!$H$6,LookUpData_Pop!$B$1:$AV$269,LookUpData_Pop!BB37,FALSE)","v":875149},268.69860088637557,null,null,null,null,null,{"$error":"#DIV/0!"},"n/a","n/a",null,3.0703183216386644E-4,0,null,{"$f":"(AP36/AO36)*LookUpData_Pop!$B$287","v":2.1492228251470653},{"$f":"(AQ36/AP36)*LookUpData_Pop!$B$287","v":0},null,0.5,5]
["Male 55-59",57.5,"male","all",null,160149.20000000001,{"$f":"G78+G121+G164+G207+G250","v":0},4376.8392117012263,1679.1149185020472,1678.4572149275511,7197.3689786934501,7194.6165126087562,18122.641871273998,18116.051363629933,46900.408352869686,46885.810784014669,68843.711658583939,68816.745812029607,26.965846554334348,283891.50057940721,283782.87845005246,108.62212935475691,665378.34501555283,665135.54028107703,242.8047344757797,1449183.5097810989,1448720.0235427455,463.48623835359467,{"$error":"#NAME?"},{"$error":"#NAME?"},{"$error":"#NAME?"},{"$error":"#NAME?"},{"$error":"#NAME?"},{"$error":"#NAME?"},{"$error":"#NAME?"},{"$error":"#NAME?"},{"$error":"#NAME?"},{"$error":"#NAME?"},{"$error":"#NAME?"},{"$error":"#NAME?"},{"$f":"HLOOKUP('III Tool Overview'!$H$6,LookUpData_Pop!$B$1:$AV$269,LookUpData_Pop!BB38,FALSE)","v":800746},338.37979443844188,null,null,null,null,null,{"$error":"#DIV/0!"},"n/a","n/a",null,4.2258068655783715E-4,0,null,{"$f":"(AP37/AO37)*LookUpData_Pop!$B$288","v":2.5354841193470228},{"$f":"(AQ37/AP37)*LookUpData_Pop!$B$288","v":0},null,0.5,5]
["Male 60-64",62.5,"male","all",null,155600.4,{"$f":"G79+G122+G165+G208+G251","v":0},4163.0056849393277,2177.3670597909691,2176.537092257533,9269.8724630763772,9266.4492486838008,23021.512498547501,23013.558202459364,57316.479383996069,57300.349061117202,80562.581212265854,80531.872413528705,30.708798737136021,328610.92918863491,328489.48821432883,121.4409743060387,753937.35679233191,753675.50611992902,261.85067240289936,1553181.159165564,1552724.9082598926,456.25090567133157,{"$error":"#NAME?"},{"$error":"#NAME?"},{"$error":"#NAME?"},{"$error":"#NAME?"},{"$error":"#NAME?"},{"$error":"#NAME?"},{"$error":"#NAME?"},{"$error":"#NAME?"},{"$error":"#NAME?"},{"$error":"#NAME?"},{"$error":"#NAME?"},{"$error":"#NAME?"},{"$f":"HLOOKUP('III Tool Overview'!$H$6,LookUpData_Pop!$B$1:$AV$269,LookUpData_Pop!BB39,FALSE)","v":778002},500.45472919446263,null,null,null,null,null,{"$error":"#DIV/0!"},"n/a","n/a",null,6.4325635306138366E-4,0,null,{"$f":"(AP38/AO38)*LookUpData_Pop!$B$289","v":3.2162817653069182},{"$f":"(AQ38/AP38)*LookUpData_Pop!$B$289","v":0},null,0.5,5]
["Male 65-69",67.5,"male","all",null,0,{"$f":"G80+G123+G166+G209+G252","v":0},0,0,0,0,0,0,0,0,0,0,0,0,0,0,0,0,0,0,0,0,0,0,0,0,0,0,0,0,0,0,0,0,0,{"$f":"HLOOKUP('III Tool Overview'!$H$6,LookUpData_Pop!$B$1:$AV$269,LookUpData_Pop!BB40,FALSE)","v":595909},589.57401063710597,null,null,null,null,null,{"$error":"#DIV/0!"},"n/a","n/a",null,9.8936920005756918E-4,0,null,{"$f":"(AP39/AO39)*LookUpData_Pop!$B$290","v":3.9574768002302769},{"$f":"(AQ39/AP39)*LookUpData_Pop!$B$290","v":0},null,0.5,5]
["Male 70-74",72.5,"male","all",null,0,0,0,{"$f":"I81+I124+I167+I210+I253","v":0},0,0,0,0,0,0,0,0,0,0,0,0,{"$f":"V81+V124+V167+V210+V253","v":0},0,0,0,0,0,0,0,0,0,0,0,0,0,0,0,0,0,0,{"$f":"HLOOKUP('III Tool Overview'!$H$6,LookUpData_Pop!$B$1:$AV$269,LookUpData_Pop!BB41,FALSE)","v":492020},773.09988618085868,null,null,null,null,null,{"$error":"#DIV/0!"},"n/a","n/a",null,1.5712773590115415E-3,0,null,{"$f":"(AP40/AO40)*LookUpData_Pop!$B$291","v":4.713832077034624},{"$f":"(AQ40/AP40)*LookUpData_Pop!$B$291","v":0},null,0.5,5]
["Male 75-79",77.5,"male","all",null,0,0,0,0,0,0,0,0,0,0,0,0,0,0,0,0,{"$f":"V82+V125+V168+V211+V254","v":0},0,0,0,0,0,0,0,0,0,0,0,0,0,0,0,0,0,0,{"$f":"HLOOKUP('III Tool Overview'!$H$6,LookUpData_Pop!$B$1:$AV$269,LookUpData_Pop!BB42,FALSE)","v":369617},938.42767531855372,null,null,null,null,null,{"$error":"#DIV/0!"},"n/a","n/a",null,2.5389191387802882E-3,0,null,{"$f":"(AP41/AO41)*LookUpData_Pop!$B$292","v":5.0778382775605762},{"$f":"(AQ41/AP41)*LookUpData_Pop!$B$292","v":0},null,0.5,5]
["Male 80-84",82.5,"male","all",null,0,0,0,0,0,0,0,0,0,0,0,0,0,0,0,0,{"$f":"V83+V126+V169+V212+V255","v":0},0,0,0,0,0,0,0,0,0,0,0,0,0,0,0,0,0,0,{"$f":"HLOOKUP('III Tool Overview'!$H$6,LookUpData_Pop!$B$1:$AV$269,LookUpData_Pop!BB43,FALSE)","v":232112},940.69840812286157,null,null,null,null,null,{"$f":"AT42/AVERAGE(AT$29:AT$42)","v":{"$error":"#DIV/0!"}},"n/a","n/a",null,4.0527780042516615E-3,0,null,{"$f":"(AP42/AO42)*LookUpData_Pop!$B$293","v":4.0527780042516612},{"$f":"(AQ42/AP42)*LookUpData_Pop!$B$293","v":0},null,0.5,5]
["Male 85-89",87.5,"male","all",null,0,0,0,0,0,0,0,0,0,0,0,0,0,0,0,0,{"$f":"V84+V127+V170+V213+V256","v":0},0,0,0,0,0,0,0,0,0,0,0,0,0,0,0,0,0,0,{"$f":"HLOOKUP('III Tool Overview'!$H$6,LookUpData_Pop!$B$1:$AV$269,LookUpData_Pop!BB45,FALSE)","v":41362},1117.5018526619817,null,null,null,null,null,null,null,null,null,2.7017597134132338E-2,0,null,{"$f":"(AP43/AO43)*LookUpData_Pop!$B$294","v":27.017597134132338},{"$f":"(AQ43/AP43)*LookUpData_Pop!$B$294","v":0},null,0.5,{"$f":"2/AZ43","v":74.025828058311134}]
["Male 90+",95,"female","all",null,0,0,0,0,0,0,0,0,0,0,0,0,0,0,0,0,0,0,0,0,0,0,0,0,0,0,0,0,0,0,0,0,0,0,0]
["Female <1",0.5,"female","all",null,{"$f":"F87+F130+F173+F216+F259","v":0},null,null,null,null,null,null,null,null,null,null,null,null,null,null,null,null,null,null,null,null,null,null,null,null,null,null,null,null,null,null,null,null,null,null,{"$f":"HLOOKUP('III Tool Overview'!$H$6,LookUpData_Pop!$B$1:$AV$269,LookUpData_Pop!BB46,FALSE)","v":144841},27.498774760517456,null,null,null,null,null,null,null,null,null,1.8985490821326459E-4,0,null,null,null,null,0.1,1]
["Female 1-4",2.5,"female","all",null,{"$f":"F88+F131+F174+F217+F260","v":0},null,null,null,null,null,null,null,null,null,null,null,null,null,null,null,null,null,null,null,null,null,null,null,null,null,null,null,null,null,null,null,null,null,null,{"$f":"HLOOKUP('III Tool Overview'!$H$6,LookUpData_Pop!$B$1:$AV$269,LookUpData_Pop!BB47,FALSE)","v":555491},5.9557225517600356,null,null,null,null,null,null,null,null,null,1.0721546436864027E-5,0,null,{"$f":"((AP46+AP45)/(AO46+AO45))*LookUpData_Pop!$B$277","v":0.38215586107477584},{"$f":"((AQ46+AQ45)/(AP46+AP45))*LookUpData_Pop!$B$277","v":0},null,0.5,4]
["Female 5-9",7.5,"female","all",null,0,null,null,null,null,null,null,null,null,null,null,null,null,null,null,null,null,null,null,null,null,null,null,null,null,null,null,null,null,null,null,null,null,null,null,{"$f":"HLOOKUP('III Tool Overview'!$H$6,LookUpData_Pop!$B$1:$AV$269,LookUpData_Pop!BB48,FALSE)","v":660895},2.3957717238933465,null,null,null,null,null,null,null,null,null,3.6250413816012326E-6,0,null,{"$f":"(AP47/AO47)*LookUpData_Pop!$B$278","v":2.5375289671208629E-2},{"$f":"(AQ47/AP47)*LookUpData_Pop!$B$278","v":0},null,0.5,5]
["Female 10-14",12.5,"female","all",null,0,null,null,null,null,null,null,null,null,null,null,null,null,null,null,null,null,null,null,null,null,null,null,null,null,null,null,null,null,null,null,null,null,null,null,{"$f":"HLOOKUP('III Tool Overview'!$H$6,LookUpData_Pop!$B$1:$AV$269,LookUpData_Pop!BB49,FALSE)","v":717767},3.8269822484381515,null,null,null,null,null,null,null,null,null,5.331789074223462E-6,0,null,{"$f":"(AP48/AO48)*LookUpData_Pop!$B$279","v":3.7322523519564235E-2},{"$f":"(AQ48/AP48)*LookUpData_Pop!$B$279","v":0},null,0.5,5]
["Female 15-19",17.5,"female","all",null,159488.6,{"$f":"G91+G134+G177+G220+G263","v":0},1985.917053936543,39.68373820032059,39.676270362284001,176.18363094898578,176.15049665435831,475.16496935200007,475.07572843825432,1480.0536090819749,1479.7769171855675,3214.3827942259682,3213.7778993450042,0.60489488096413879,13991.726931351666,13989.095535224536,2.6313961271298467,36375.044596773398,36368.212702544464,6.8318942289311053,103652.15555743554,103632.77244349933,19.383113936200971,{"$error":"#NAME?"},{"$error":"#NAME?"},{"$error":"#NAME?"},{"$error":"#NAME?"},{"$error":"#NAME?"},{"$error":"#NAME?"},{"$error":"#NAME?"},{"$error":"#NAME?"},{"$error":"#NAME?"},{"$error":"#NAME?"},{"$error":"#NAME?"},{"$error":"#NAME?"},{"$f":"HLOOKUP('III Tool Overview'!$H$6,LookUpData_Pop!$B$1:$AV$269,LookUpData_Pop!BB50,FALSE)","v":797443},11.555220922232749,null,null,null,null,null,{"$f":"AT49/AVERAGE(AT$49:AT$62)","v":{"$error":"#DIV/0!"}},"n/a","n/a",null,1.4490340904908249E-5,0,null,{"$f":"(AP49/AO49)*LookUpData_Pop!$B$280","v":0.10143238633435775},{"$f":"(AQ49/AP49)*LookUpData_Pop!$B$280","v":0},null,0.5,5]
["Female 20-24",22.5,"female","all",null,176551.60000000003,{"$f":"G92+G135+G178+G221+G264","v":0},2897.4223890159501,62.133171818833127,62.117714588586395,275.79566707762581,275.72711636080408,743.48308241381096,743.29864278750165,2312.3138270400227,2311.7439390979744,4784.25423005015,4783.0640233211525,1.1902067289976799,20799.338342571831,20794.168489808595,5.1698527632365767,53942.299372046633,53928.916799952909,13.382572093719318,152703.77421979723,152666.12266830512,37.651551492128419,{"$error":"#NAME?"},{"$error":"#NAME?"},{"$error":"#NAME?"},{"$error":"#NAME?"},{"$error":"#NAME?"},{"$error":"#NAME?"},{"$error":"#NAME?"},{"$error":"#NAME?"},{"$error":"#NAME?"},{"$error":"#NAME?"},{"$error":"#NAME?"},{"$error":"#NAME?"},{"$f":"HLOOKUP('III Tool Overview'!$H$6,LookUpData_Pop!$B$1:$AV$269,LookUpData_Pop!BB51,FALSE)","v":882758},16.677573403038849,null,null,null,null,null,{"$f":"AT50/AVERAGE(AT$49:AT$62)","v":{"$error":"#DIV/0!"}},"n/a","n/a",null,1.8892576904473081E-5,0,null,{"$f":"(AP50/AO50)*LookUpData_Pop!$B$281","v":0.13224803833131157},{"$f":"(AQ50/AP50)*LookUpData_Pop!$B$281","v":0},null,0.5,5]
["Female 25-29",27.5,"female","all",null,168389.99999999997,{"$f":"G93+G136+G179+G222+G265","v":0},5194.7353922727498,99.031521000047235,98.987979856944463,439.37460738545172,439.18168593519874,1183.246466195576,1182.7284458910133,3667.4162867025179,3665.8265271812502,7031.2379910033542,7028.1465698430575,3.0914211602973865,30499.684668828115,30486.292600709126,13.392068118991119,78752.003394583109,78717.522558457626,34.480836125470887,220245.04323685984,220149.50094101904,95.542295840798033,{"$error":"#NAME?"},{"$error":"#NAME?"},{"$error":"#NAME?"},{"$error":"#NAME?"},{"$error":"#NAME?"},{"$error":"#NAME?"},{"$error":"#NAME?"},{"$error":"#NAME?"},{"$error":"#NAME?"},{"$error":"#NAME?"},{"$error":"#NAME?"},{"$error":"#NAME?"},{"$f":"HLOOKUP('III Tool Overview'!$H$6,LookUpData_Pop!$B$1:$AV$269,LookUpData_Pop!BB52,FALSE)","v":841950},22.264774389263071,null,null,null,null,null,{"$error":"#DIV/0!"},"n/a","n/a",null,2.6444295254187388E-5,0,null,{"$f":"(AP51/AO51)*LookUpData_Pop!$B$282","v":0.18511006677931172},{"$f":"(AQ51/AP51)*LookUpData_Pop!$B$282","v":0},null,0.5,5]
["Female 30-34",32.5,"female","all",null,155899.79999999999,{"$f":"G94+G137+G180+G223+G266","v":0},5046.61267374204,124.10621851495029,124.04877315132981,550.39380634662496,550.13950898921803,1480.8685402678702,1480.1870725459025,4575.8204104416409,4573.7429732831479,8315.1166405016684,8311.2678011390963,3.8488393625715389,36004.81765417711,35988.182045691239,16.63560848587349,92640.180628373288,92597.542998180637,42.637630192653887,256557.7672299041,256441.16382088666,116.60340901739619,{"$error":"#NAME?"},{"$error":"#NAME?"},{"$error":"#NAME?"},{"$error":"#NAME?"},{"$error":"#NAME?"},{"$error":"#NAME?"},{"$error":"#NAME?"},{"$error":"#NAME?"},{"$error":"#NAME?"},{"$error":"#NAME?"},{"$error":"#NAME?"},{"$error":"#NAME?"},{"$f":"HLOOKUP('III Tool Overview'!$H$6,LookUpData_Pop!$B$1:$AV$269,LookUpData_Pop!BB53,FALSE)","v":779499},31.432729590215935,null,null,null,null,null,{"$error":"#DIV/0!"},"n/a","n/a",null,4.0324271859509678E-5,0,null,{"$f":"(AP52/AO52)*LookUpData_Pop!$B$283","v":0.28226990301656774},{"$f":"(AQ52/AP52)*LookUpData_Pop!$B$283","v":0},null,0.5,5]
["Female 35-39",37.5,"female","all",null,182100.2,{"$f":"G95+G138+G181+G224+G267","v":0},5520.0063781602812,231.27371433047603,231.17694321228996,1024.6862087320944,1024.2586195572926,2751.2226260602292,2750.0814150681117,8441.9553378397395,8438.5234780264691,14107.696574159036,14101.793535949686,5.9030382093499156,60884.022102683703,60858.614996261545,25.407106422172546,155617.07043583857,155552.50430037215,64.5661354663971,422935.41242717346,422763.16744732682,172.24497984666232,{"$error":"#NAME?"},{"$error":"#NAME?"},{"$error":"#NAME?"},{"$error":"#NAME?"},{"$error":"#NAME?"},{"$error":"#NAME?"},{"$error":"#NAME?"},{"$error":"#NAME?"},{"$error":"#NAME?"},{"$error":"#NAME?"},{"$error":"#NAME?"},{"$error":"#NAME?"},{"$f":"HLOOKUP('III Tool Overview'!$H$6,LookUpData_Pop!$B$1:$AV$269,LookUpData_Pop!BB54,FALSE)","v":910501},47.22955414346314,null,null,null,null,null,{"$error":"#DIV/0!"},"n/a","n/a",null,5.1872050819782892E-5,0,null,{"$f":"(AP53/AO53)*LookUpData_Pop!$B$284","v":0.36310435573848027},{"$f":"(AQ53/AP53)*LookUpData_Pop!$B$284","v":0},null,0.5,5]
["Female 40-44",42.5,"female","all",null,206617,{"$f":"G96+G139+G182+G225+G268","v":0},6745.1425797640841,360.12161889369935,359.9592198378329,1594.0372187210774,1593.3210625703018,4270.9719738699987,4269.0688230051092,13014.543725701442,13008.90258871442,20526.932276940861,20517.675530756478,9.2567461843823367,88338.364254162123,88298.674145693585,39.690108468517792,224515.39379104218,224415.31280389245,100.08098714973312,600364.2308232059,600103.29515398177,260.93566922401078,{"$error":"#NAME?"},{"$error":"#NAME?"},{"$error":"#NAME?"},{"$error":"#NAME?"},{"$error":"#NAME?"},{"$error":"#NAME?"},{"$error":"#NAME?"},{"$error":"#NAME?"},{"$error":"#NAME?"},{"$error":"#NAME?"},{"$error":"#NAME?"},{"$error":"#NAME?"},{"$f":"HLOOKUP('III Tool Overview'!$H$6,LookUpData_Pop!$B$1:$AV$269,LookUpData_Pop!BB55,FALSE)","v":1033085},77.01655543646342,null,null,null,null,null,{"$error":"#DIV/0!"},"n/a","n/a",null,7.4550066486749316E-5,0,null,{"$f":"(AP54/AO54)*LookUpData_Pop!$B$285","v":0.52185046540724522},{"$f":"(AQ54/AP54)*LookUpData_Pop!$B$285","v":0},null,0.5,5]
["Female 45-49",47.5,"female","all",null,205406.59999999998,{"$f":"G97+G140+G183+G226+G269","v":0},6929.2461913327543,580.97190212217436,580.70572289093184,2565.9958298159904,2564.8270821533106,6842.5733438286543,6839.4966344500299,20526.195358766839,20517.357869534208,29629.567008230893,29615.991867437529,13.575140793364426,126810.9141821509,126753.149386693,57.764795457906075,318719.40191011364,318575.99864567956,143.40326443414961,825172.95028488257,824815.8981722598,357.05211262282683,{"$error":"#NAME?"},{"$error":"#NAME?"},{"$error":"#NAME?"},{"$error":"#NAME?"},{"$error":"#NAME?"},{"$error":"#NAME?"},{"$error":"#NAME?"},{"$error":"#NAME?"},{"$error":"#NAME?"},{"$error":"#NAME?"},{"$error":"#NAME?"},{"$error":"#NAME?"},{"$f":"HLOOKUP('III Tool Overview'!$H$6,LookUpData_Pop!$B$1:$AV$269,LookUpData_Pop!BB56,FALSE)","v":1027033},127.8749972874986,null,null,null,null,null,{"$error":"#DIV/0!"},"n/a","n/a",null,1.2450914166097741E-4,0,null,{"$f":"(AP55/AO55)*LookUpData_Pop!$B$286","v":0.87156399162684184},{"$f":"(AQ55/AP55)*LookUpData_Pop!$B$286","v":0},null,0.5,5]
["Female 50-54",52.5,"female","all",null,184153.8,{"$f":"G98+G141+G184+G227+G270","v":0},6463.5170033635568,719.3781003643594,719.03402859813605,3170.4370596795843,3168.9330254159095,8414.8462333978205,8410.9251987814969,24859.304020383839,24848.39798462101,33810.770717124899,33794.599344112394,16.171373012499316,144006.0406369594,143937.7151550267,68.325481932723051,358387.42214391974,358220.25882407755,167.16331984213321,901665.52255015925,901266.84681688133,398.67573327787977,{"$error":"#NAME?"},{"$error":"#NAME?"},{"$error":"#NAME?"},{"$error":"#NAME?"},{"$error":"#NAME?"},{"$error":"#NAME?"},{"$error":"#NAME?"},{"$error":"#NAME?"},{"$error":"#NAME?"},{"$error":"#NAME?"},{"$error":"#NAME?"},{"$error":"#NAME?"},{"$f":"HLOOKUP('III Tool Overview'!$H$6,LookUpData_Pop!$B$1:$AV$269,LookUpData_Pop!BB57,FALSE)","v":920769},176.04337272129933,null,null,null,null,null,{"$error":"#DIV/0!"},"n/a","n/a",null,1.9119168078128102E-4,0,null,{"$f":"(AP56/AO56)*LookUpData_Pop!$B$287","v":1.3383417654689671},{"$f":"(AQ56/AP56)*LookUpData_Pop!$B$287","v":0},null,0.5,5]
["Female 55-59",57.5,"female","all",null,166910,{"$f":"G99+G142+G185+G228+G271","v":0},3377.3974805927792,1057.6772859632654,1057.369122217101,4638.979223043716,4637.6471466336134,12185.292900006765,12181.903618122196,34817.336963459587,34808.633762855898,43364.768724493872,43352.134010901143,12.634713592731714,182893.63657441319,182841.10312336948,52.533451043673267,446157.82793097268,446033.47108398983,124.35684698283148,1059338.3791265639,1059068.9734798558,269.40564670809545,{"$error":"#NAME?"},{"$error":"#NAME?"},{"$error":"#NAME?"},{"$error":"#NAME?"},{"$error":"#NAME?"},{"$error":"#NAME?"},{"$error":"#NAME?"},{"$error":"#NAME?"},{"$error":"#NAME?"},{"$error":"#NAME?"},{"$error":"#NAME?"},{"$error":"#NAME?"},{"$f":"HLOOKUP('III Tool Overview'!$H$6,LookUpData_Pop!$B$1:$AV$269,LookUpData_Pop!BB58,FALSE)","v":834550},222.62608370048545,null,null,null,null,null,{"$error":"#DIV/0!"},"n/a","n/a",null,2.6676182817145222E-4,0,null,{"$f":"(AP57/AO57)*LookUpData_Pop!$B$288","v":1.6005709690287133},{"$f":"(AQ57/AP57)*LookUpData_Pop!$B$288","v":0},null,0.5,5]
["Female 60-64",62.5,"female","all",null,163903.4,{"$f":"G100+G143+G186+G229+G272","v":0},3228.3992225594216,1442.8167336174326,1442.4105649549981,6297.4113006436855,6295.6735477211287,16369.787772803837,16365.463546922187,45269.196582193697,45258.864069636416,53384.21914384501,53369.190903334929,15.02824051007974,223113.23657788726,223051.64070254564,61.59587534163802,534298.6108259554,534157.00982952339,141.60099643203284,1203311.0945689764,1203028.6234935299,282.47107544683968,{"$error":"#NAME?"},{"$error":"#NAME?"},{"$error":"#NAME?"},{"$error":"#NAME?"},{"$error":"#NAME?"},{"$error":"#NAME?"},{"$error":"#NAME?"},{"$error":"#NAME?"},{"$error":"#NAME?"},{"$error":"#NAME?"},{"$error":"#NAME?"},{"$error":"#NAME?"},{"$f":"HLOOKUP('III Tool Overview'!$H$6,LookUpData_Pop!$B$1:$AV$269,LookUpData_Pop!BB59,FALSE)","v":819517},332.19828134545361,null,null,null,null,null,{"$error":"#DIV/0!"},"n/a","n/a",null,4.0535862141414223E-4,0,null,{"$f":"(AP58/AO58)*LookUpData_Pop!$B$289","v":2.026793107070711},{"$f":"(AQ58/AP58)*LookUpData_Pop!$B$289","v":0},null,0.5,5]
["Female 65-69",67.5,"female","all",null,0,{"$f":"G101+G144+G187+G230+G273","v":0},0,0,0,0,0,0,0,0,0,0,0,0,0,0,0,0,0,0,0,0,0,0,0,0,0,0,0,0,0,0,0,0,0,{"$f":"HLOOKUP('III Tool Overview'!$H$6,LookUpData_Pop!$B$1:$AV$269,LookUpData_Pop!BB60,FALSE)","v":667449},436.13381610081535,null,null,null,null,null,{"$error":"#DIV/0!"},"n/a","n/a",null,6.5343391944675227E-4,0,null,{"$f":"(AP59/AO59)*LookUpData_Pop!$B$290","v":2.6137356777870089},{"$f":"(AQ59/AP59)*LookUpData_Pop!$B$290","v":0},null,0.5,5]
["Female 70-74",72.5,"female","all",null,0,0,0,0,0,0,0,0,0,0,0,0,0,0,0,0,{"$f":"V102+V145+V188+V231+V274","v":0},0,0,0,0,0,0,0,0,0,0,0,0,0,0,0,0,0,0,{"$f":"HLOOKUP('III Tool Overview'!$H$6,LookUpData_Pop!$B$1:$AV$269,LookUpData_Pop!BB61,FALSE)","v":593990},650.08001418160109,null,null,null,null,null,{"$error":"#DIV/0!"},"n/a","n/a",null,1.0944292230199179E-3,0,null,{"$f":"(AP60/AO60)*LookUpData_Pop!$B$291","v":3.2832876690597539},{"$f":"(AQ60/AP60)*LookUpData_Pop!$B$291","v":0},null,0.5,5]
["Female 75-79",77.5,"female","all",null,0,0,0,0,0,0,0,0,0,0,0,0,0,0,0,0,{"$f":"V103+V146+V189+V232+V275","v":0},0,0,0,0,0,0,0,0,0,0,0,0,0,0,0,0,0,0,{"$f":"HLOOKUP('III Tool Overview'!$H$6,LookUpData_Pop!$B$1:$AV$269,LookUpData_Pop!BB62,FALSE)","v":504598},982.37699923936111,null,null,null,null,null,{"$f":"AT61/AVERAGE(AT$49:AT$62)","v":{"$error":"#DIV/0!"}},"n/a","n/a",null,1.9468507588998789E-3,0,null,{"$f":"(AP61/AO61)*LookUpData_Pop!$B$292","v":3.8937015177997578},{"$f":"(AQ61/AP61)*LookUpData_Pop!$B$292","v":0},null,0.5,5]
["Female 80-84",82.5,"female","all",null,0,0,0,0,0,0,0,0,0,0,0,0,0,0,0,0,{"$f":"V104+V147+V190+V233+V276","v":0},0,0,0,0,0,0,0,0,0,0,0,0,0,0,0,0,0,0,{"$f":"HLOOKUP('III Tool Overview'!$H$6,LookUpData_Pop!$B$1:$AV$269,LookUpData_Pop!BB63,FALSE)","v":374911},1230.3441406315503,null,null,null,null,null,{"$error":"#DIV/0!"},"n/a","n/a",null,3.2816965643354032E-3,0,null,{"$f":"(AP62/AO62)*LookUpData_Pop!$B$293","v":3.281696564335403},{"$f":"(AQ62/AP62)*LookUpData_Pop!$B$293","v":0},null,0.5,5]
["Female 85-89",87.5,"female","all",null,0,0,0,0,0,0,0,0,0,0,0,0,0,0,0,0,{"$f":"V105+V148+V191+V234+V277","v":0},0,0,0,0,0,0,0,0,0,0,0,0,0,0,0,0,0,0,{"$f":"HLOOKUP('III Tool Overview'!$H$6,LookUpData_Pop!$B$1:$AV$269,LookUpData_Pop!BB65,FALSE)","v":123545},2414.7232223455862,null,null,null,null,null,null,null,null,null,1.9545292989158494E-2,0,null,{"$f":"(AP63/AO63)*LookUpData_Pop!$B$294","v":19.545292989158494},{"$f":"(AQ63/AP63)*LookUpData_Pop!$B$294","v":0},null,0.5,{"$f":"2/AZ63","v":102.3264271919266}]
["Female 90+",95,"female","all",null,0,0,0,0,0,0,0,0,0,0,0,0,0,0,0,0,0,0,0,0,0,0,0,0,0,0,0,0,0,0,0,0,0,0,0]
["age/sex breakdown: Q1"]
["Male <1",0.5,"male",1,null,null,null,null,null,null,null,null,null,null,null,null,null,null,null,null,null,null,null,null,null,null,null,null,null,null,null,null,null,null,null,null,null,null,null,null,{"$f":"HLOOKUP('III Tool Overview'!$H$6,LookUpData_Pop!$B$1:$AV$269,LookUpData_Pop!BB67,FALSE)","v":38398},16.822226453069327,null,null,null,null,null,null,null,null,null,{"$f":"IF(AO66=0,0,AP66/AO66)","v":4.3810163167533014E-4},{"$f":"AQ66/AP66*100000","v":0},null,null,null,null,0.1,1]
["Male 1-4",2.5,"male",1,null,null,null,null,null,null,null,null,null,null,null,null,null,null,null,null,null,null,null,null,null,null,null,null,null,null,null,null,null,null,null,null,null,null,null,null,{"$f":"HLOOKUP('III Tool Overview'!$H$6,LookUpData_Pop!$B$1:$AV$269,LookUpData_Pop!BB68,FALSE)","v":140243},2.5081972364158687,null,null,null,null,null,null,null,null,null,{"$f":"IF(AO67=0,0,AP67/AO67)","v":1.7884651900029726E-5},0,null,{"$f":"((AP67+AP66)/(AO67+AO66))*LookUpData_Pop!$B$277","v":0.86566571792523295},{"$f":"((AQ67+AQ66)/(AP67+AP66))*LookUpData_Pop!$B$277","v":0},null,0.5,4]
["Male 5-9",7.5,"male",1,null,null,null,null,null,null,null,null,null,null,null,null,null,null,null,null,null,null,null,null,null,null,null,null,null,null,null,null,null,null,null,null,null,null,null,null,{"$f":"HLOOKUP('III Tool Overview'!$H$6,LookUpData_Pop!$B$1:$AV$269,LookUpData_Pop!BB69,FALSE)","v":151263},1.8082601518653021,null,null,null,null,null,null,null,null,null,1.1954411533985854E-5,0,null,{"$f":"(AP68/AO68)*LookUpData_Pop!$B$278","v":8.3680880737900976E-2},{"$f":"(AQ68/AP68)*LookUpData_Pop!$B$278","v":0},null,0.5,5]
["Male 10-14",12.5,"male",1,null,null,null,null,null,null,null,null,null,null,null,null,null,null,null,null,null,null,null,null,null,null,null,null,null,null,null,null,null,null,null,null,null,null,null,null,{"$f":"HLOOKUP('III Tool Overview'!$H$6,LookUpData_Pop!$B$1:$AV$269,LookUpData_Pop!BB70,FALSE)","v":156100},2.3703071993378191,null,null,null,null,null,null,null,null,null,1.5184543237269822E-5,0,null,{"$f":"(AP69/AO69)*LookUpData_Pop!$B$279","v":0.10629180266088875},{"$f":"(AQ69/AP69)*LookUpData_Pop!$B$279","v":0},null,0.5,5]
["Male 15-19",17.5,"male",1,{"$f":"HLOOKUP('III Tool Overview'!$H$6,Prevalence!$B$2:$AV$268,Prevalence!AW66,FALSE)","v":0.19089915603341437},{"$f":"HLOOKUP('III Tool Overview'!$H$6,LookUpData_Pop!$B$1:$AV$269,LookUpData_Pop!BB71,FALSE)/5","v":35276.800000000003},{"$f":"'III Tool Overview'!$H$9/110","v":0},{"$f":"IF('III Tool Overview'!$H$10=\"Even distribution\",Targeting!C68,IF('III Tool Overview'!$H$10=\"Targeting to Q1\",Targeting!D68,IF('III Tool Overview'!$H$10=\"Targeting to Q1 & Q2\",Targeting!E68,IF('III Tool Overview'!$H$10=\"Proportionate to need\",Targeting!F68))))","v":336.40834800290975},{"$f":"IF('III Tool Overview'!$H$6=\"Orkney Health Board\",0,IF('III Tool Overview'!$H$6=\"Shetland Health Board\",0,IF('III Tool Overview'!$H$6=\"Western Isles Health Board\",0,IF('III Tool Overview'!$H$6=\"Orkney Islands Local Authority\",0,IF('III Tool Overview'!$H$6=\"Shetland Islands Local Authority\",0,IF('III Tool Overview'!$H$6=\"Eilean Siar Local Authority\",0,new_ci(2,B70,C70,D70,$C$1,G70,1,F70,E70*F70)))))))","v":35.045082262852297},{"$f":"IF('III Tool Overview'!$H$6=\"Orkney Health Board\",0,IF('III Tool Overview'!$H$6=\"Shetland Health Board\",0,IF('III Tool Overview'!$H$6=\"Western Isles Health Board\",0,IF('III Tool Overview'!$H$6=\"Orkney Islands Local Authority\",0,IF('III Tool Overview'!$H$6=\"Shetland Islands Local Authority\",0,IF('III Tool Overview'!$H$6=\"Eilean Siar Local Authority\",0,new_ci(2,B70,C70,D70,$C$1,G70+H70,1,F70,E70*F70)))))))","v":35.039668478159896},{"$f":"IF('III Tool Overview'!$H$6=\"Orkney Health Board\",0,IF('III Tool Overview'!$H$6=\"Shetland Health Board\",0,IF('III Tool Overview'!$H$6=\"Western Isles Health Board\",0,IF('III Tool Overview'!$H$6=\"Orkney Islands Local Authority\",0,IF('III Tool Overview'!$H$6=\"Shetland Islands Local Authority\",0,IF('III Tool Overview'!$H$6=\"Eilean Siar Local Authority\",0,new_ci(5,B70,C70,D70,$C$1,G70,1,F70,E70*F70)))))))","v":153.08303461230997},{"$f":"IF('III Tool Overview'!$H$6=\"Orkney Health Board\",0,IF('III Tool Overview'!$H$6=\"Shetland Health Board\",0,IF('III Tool Overview'!$H$6=\"Western Isles Health Board\",0,IF('III Tool Overview'!$H$6=\"Orkney Islands Local Authority\",0,IF('III Tool Overview'!$H$6=\"Shetland Islands Local Authority\",0,IF('III Tool Overview'!$H$6=\"Eilean Siar Local Authority\",0,new_ci(5,B70,C70,D70,$C$1,G70+H70,1,F70,E70*F70)))))))","v":153.05944295727147},{"$f":"IF('III Tool Overview'!$H$6=\"Orkney Health Board\",0,IF('III Tool Overview'!$H$6=\"Shetland Health Board\",0,IF('III Tool Overview'!$H$6=\"Western Isles Health Board\",0,IF('III Tool Overview'!$H$6=\"Orkney Islands Local Authority\",0,IF('III Tool Overview'!$H$6=\"Shetland Islands Local Authority\",0,IF('III Tool Overview'!$H$6=\"Eilean Siar Local Authority\",0,new_ci(10,B70,C70,D70,$C$1,G70,1,F70,E70*F70)))))))","v":400.8452590656143},{"$f":"IF('III Tool Overview'!$H$6=\"Orkney Health Board\",0,IF('III Tool Overview'!$H$6=\"Shetland Health Board\",0,IF('III Tool Overview'!$H$6=\"Western Isles Health Board\",0,IF('III Tool Overview'!$H$6=\"Orkney Islands Local Authority\",0,IF('III Tool Overview'!$H$6=\"Shetland Islands Local Authority\",0,IF('III Tool Overview'!$H$6=\"Eilean Siar Local Authority\",0,new_ci(10,B70,C70,D70,$C$1,G70+H70,1,F70,E70*F70)))))))","v":400.78379705698757},{"$f":"IF('III Tool Overview'!$H$6=\"Orkney Health Board\",0,IF('III Tool Overview'!$H$6=\"Shetland Health Board\",0,IF('III Tool Overview'!$H$6=\"Western Isles Health Board\",0,IF('III Tool Overview'!$H$6=\"Orkney Islands Local Authority\",0,IF('III Tool Overview'!$H$6=\"Shetland Islands Local Authority\",0,IF('III Tool Overview'!$H$6=\"Eilean Siar Local Authority\",0,new_ci(20,B70,C70,D70,$C$1,G70,1,F70,E70*F70)))))))","v":1165.5878131216871},{"$f":"IF('III Tool Overview'!$H$6=\"Orkney Health Board\",0,IF('III Tool Overview'!$H$6=\"Shetland Health Board\",0,IF('III Tool Overview'!$H$6=\"Western Isles Health Board\",0,IF('III Tool Overview'!$H$6=\"Orkney Islands Local Authority\",0,IF('III Tool Overview'!$H$6=\"Shetland Islands Local Authority\",0,IF('III Tool Overview'!$H$6=\"Eilean Siar Local Authority\",0,new_ci(20,B70,C70,D70,$C$1,G70+H70,1,F70,E70*F70)))))))","v":1165.4119129002186},{"$f":"IF('III Tool Overview'!$H$6=\"Orkney Health Board\",0,IF('III Tool Overview'!$H$6=\"Shetland Health Board\",0,IF('III Tool Overview'!$H$6=\"Western Isles Health Board\",0,IF('III Tool Overview'!$H$6=\"Orkney Islands Local Authority\",0,IF('III Tool Overview'!$H$6=\"Shetland Islands Local Authority\",0,IF('III Tool Overview'!$H$6=\"Eilean Siar Local Authority\",0,new_yll(2,B70,C70,D70,$C$1,G70,1,F70,E70*F70)))))))","v":2838.6516632910361},{"$f":"IF('III Tool Overview'!$H$6=\"Orkney Health Board\",0,IF('III Tool Overview'!$H$6=\"Shetland Health Board\",0,IF('III Tool Overview'!$H$6=\"Western Isles Health Board\",0,IF('III Tool Overview'!$H$6=\"Orkney Islands Local Authority\",0,IF('III Tool Overview'!$H$6=\"Shetland Islands Local Authority\",0,IF('III Tool Overview'!$H$6=\"Eilean Siar Local Authority\",0,new_yll(2,B70,C70,D70,$C$1,G70+H70,1,F70,E70*F70)))))))","v":2838.2131467309514},{"$f":"Q70-R70","v":0.43851656008473583},{"$f":"IF('III Tool Overview'!$H$6=\"Orkney Health Board\",0,IF('III Tool Overview'!$H$6=\"Shetland Health Board\",0,IF('III Tool Overview'!$H$6=\"Western Isles Health Board\",0,IF('III Tool Overview'!$H$6=\"Orkney Islands Local Authority\",0,IF('III Tool Overview'!$H$6=\"Shetland Islands Local Authority\",0,IF('III Tool Overview'!$H$6=\"Eilean Siar Local Authority\",0,new_yll(5,B70,C70,D70,$C$1,G70,1,F70,E70*F70)))))))","v":12159.144978792949},{"$f":"IF('III Tool Overview'!$H$6=\"Orkney Health Board\",0,IF('III Tool Overview'!$H$6=\"Shetland Health Board\",0,IF('III Tool Overview'!$H$6=\"Western Isles Health Board\",0,IF('III Tool Overview'!$H$6=\"Orkney Islands Local Authority\",0,IF('III Tool Overview'!$H$6=\"Shetland Islands Local Authority\",0,IF('III Tool Overview'!$H$6=\"Eilean Siar Local Authority\",0,new_yll(5,B70,C70,D70,$C$1,G70+H70,1,F70,E70*F70)))))))","v":12157.271084818658},{"$f":"T70-U70","v":1.873893974290695},{"$f":"IF('III Tool Overview'!$H$6=\"Orkney Health Board\",0,IF('III Tool Overview'!$H$6=\"Shetland Health Board\",0,IF('III Tool Overview'!$H$6=\"Western Isles Health Board\",0,IF('III Tool Overview'!$H$6=\"Orkney Islands Local Authority\",0,IF('III Tool Overview'!$H$6=\"Shetland Islands Local Authority\",0,IF('III Tool Overview'!$H$6=\"Eilean Siar Local Authority\",0,new_yll(10,B70,C70,D70,$C$1,G70,1,F70,E70*F70)))))))","v":30713.118259722814},{"$f":"IF('III Tool Overview'!$H$6=\"Orkney Health Board\",0,IF('III Tool Overview'!$H$6=\"Shetland Health Board\",0,IF('III Tool Overview'!$H$6=\"Western Isles Health Board\",0,IF('III Tool Overview'!$H$6=\"Orkney Islands Local Authority\",0,IF('III Tool Overview'!$H$6=\"Shetland Islands Local Authority\",0,IF('III Tool Overview'!$H$6=\"Eilean Siar Local Authority\",0,new_yll(10,B70,C70,D70,$C$1,G70+H70,1,F70,E70*F70)))))))","v":30708.408244388218},{"$f":"W70-X70","v":4.7100153345963918},{"$f":"IF('III Tool Overview'!$H$6=\"Orkney Health Board\",0,IF('III Tool Overview'!$H$6=\"Shetland Health Board\",0,IF('III Tool Overview'!$H$6=\"Western Isles Health Board\",0,IF('III Tool Overview'!$H$6=\"Orkney Islands Local Authority\",0,IF('III Tool Overview'!$H$6=\"Shetland Islands Local Authority\",0,IF('III Tool Overview'!$H$6=\"Eilean Siar Local Authority\",0,new_yll(20,B70,C70,D70,$C$1,G70,1,F70,E70*F70)))))))","v":81980.813956946629},{"$f":"IF('III Tool Overview'!$H$6=\"Orkney Health Board\",0,IF('III Tool Overview'!$H$6=\"Shetland Health Board\",0,IF('III Tool Overview'!$H$6=\"Western Isles Health Board\",0,IF('III Tool Overview'!$H$6=\"Orkney Islands Local Authority\",0,IF('III Tool Overview'!$H$6=\"Shetland Islands Local Authority\",0,IF('III Tool Overview'!$H$6=\"Eilean Siar Local Authority\",0,new_yll(20,B70,C70,D70,$C$1,G70+H70,1,F70,E70*F70)))))))","v":81968.429066424127},{"$f":"Z70-AA70","v":12.384890522502246},{"$f":"hosp_count(2,B70,C70,D70,$C$1,G70,1,F70,E70*F70)","v":{"$error":"#NAME?"}},{"$f":"hosp_count(2,B70,C70,D70,$C$1,G70+H70,1,F70,E70*F70)","v":{"$error":"#NAME?"}},{"$f":"AC70-AD70","v":{"$error":"#NAME?"}},{"$f":"hosp_count(5,B70,C70,D70,$C$1,G70,1,F70,E70*F70)","v":{"$error":"#NAME?"}},{"$f":"hosp_count(5,B70,C70,D70,$C$1,G70+H70,1,F70,E70*F70)","v":{"$error":"#NAME?"}},{"$f":"AF70-AG70","v":{"$error":"#NAME?"}},{"$f":"hosp_count(10,B70,C70,D70,$C$1,G70,1,F70,E70*F70)","v":{"$error":"#NAME?"}},{"$f":"hosp_count(10,B70,C70,D70,$C$1,G70+H70,1,F70,E70*F70)","v":{"$error":"#NAME?"}},{"$f":"AI70-AJ70","v":{"$error":"#NAME?"}},{"$f":"hosp_count(20,B70,C70,D70,$C$1,G70,1,F70,E70*F70)","v":{"$error":"#NAME?"}},{"$f":"hosp_count(20,B70,C70,D70,$C$1,G70+H70,1,F70,E70*F70)","v":{"$error":"#NAME?"}},{"$f":"AL70-AM70","v":{"$error":"#NAME?"}},{"$f":"HLOOKUP('III Tool Overview'!$H$6,LookUpData_Pop!$B$1:$AV$269,LookUpData_Pop!BB71,FALSE)","v":176384},12.805518795576992,null,{"$f":"AO70*(0.8)","v":141107.20000000001},null,null,null,{"$f":"AT70/AVERAGE(AT$70:AT$83)","v":{"$error":"#DIV/0!"}},{"$f":"$AV$5*$AV$11*AV29","v":{"$error":"#DIV/0!"}},{"$f":"AW70*AR70*$AT$4","v":{"$error":"#DIV/0!"}},null,7.2600229020642419E-5,0,null,{"$f":"(AP70/AO70)*LookUpData_Pop!$B$280","v":0.50820160314449692},{"$f":"(AQ70/AP70)*LookUpData_Pop!$B$280","v":0},null,0.5,5]
["Male 20-24",22.5,"male",1,{"$f":"HLOOKUP('III Tool Overview'!$H$6,Prevalence!$B$2:$AV$268,Prevalence!AW67,FALSE)","v":0.19089915603341437},{"$f":"HLOOKUP('III Tool Overview'!$H$6,LookUpData_Pop!$B$1:$AV$269,LookUpData_Pop!BB72,FALSE)/5","v":39519.199999999997},{"$f":"'III Tool Overview'!$H$9/110","v":0},{"$f":"IF('III Tool Overview'!$H$10=\"Even distribution\",Targeting!C69,IF('III Tool Overview'!$H$10=\"Targeting to Q1\",Targeting!D69,IF('III Tool Overview'!$H$10=\"Targeting to Q1 & Q2\",Targeting!E69,IF('III Tool Overview'!$H$10=\"Proportionate to need\",Targeting!F69))))","v":478.02154145166617},{"$f":"IF('III Tool Overview'!$H$6=\"Orkney Health Board\",0,IF('III Tool Overview'!$H$6=\"Shetland Health Board\",0,IF('III Tool Overview'!$H$6=\"Western Isles Health Board\",0,IF('III Tool Overview'!$H$6=\"Orkney Islands Local Authority\",0,IF('III Tool Overview'!$H$6=\"Shetland Islands Local Authority\",0,IF('III Tool Overview'!$H$6=\"Eilean Siar Local Authority\",0,new_ci(2,B71,C71,D71,$C$1,G71,1,F71,E71*F71)))))))","v":52.437913003677622},{"$f":"IF('III Tool Overview'!$H$6=\"Orkney Health Board\",0,IF('III Tool Overview'!$H$6=\"Shetland Health Board\",0,IF('III Tool Overview'!$H$6=\"Western Isles Health Board\",0,IF('III Tool Overview'!$H$6=\"Orkney Islands Local Authority\",0,IF('III Tool Overview'!$H$6=\"Shetland Islands Local Authority\",0,IF('III Tool Overview'!$H$6=\"Eilean Siar Local Authority\",0,new_ci(2,B71,C71,D71,$C$1,G71+H71,1,F71,E71*F71)))))))","v":52.427628467469837},{"$f":"IF('III Tool Overview'!$H$6=\"Orkney Health Board\",0,IF('III Tool Overview'!$H$6=\"Shetland Health Board\",0,IF('III Tool Overview'!$H$6=\"Western Isles Health Board\",0,IF('III Tool Overview'!$H$6=\"Orkney Islands Local Authority\",0,IF('III Tool Overview'!$H$6=\"Shetland Islands Local Authority\",0,IF('III Tool Overview'!$H$6=\"Eilean Siar Local Authority\",0,new_ci(5,B71,C71,D71,$C$1,G71,1,F71,E71*F71)))))))","v":228.92746104035697},{"$f":"IF('III Tool Overview'!$H$6=\"Orkney Health Board\",0,IF('III Tool Overview'!$H$6=\"Shetland Health Board\",0,IF('III Tool Overview'!$H$6=\"Western Isles Health Board\",0,IF('III Tool Overview'!$H$6=\"Orkney Islands Local Authority\",0,IF('III Tool Overview'!$H$6=\"Shetland Islands Local Authority\",0,IF('III Tool Overview'!$H$6=\"Eilean Siar Local Authority\",0,new_ci(5,B71,C71,D71,$C$1,G71+H71,1,F71,E71*F71)))))))","v":228.88270575691993},{"$f":"IF('III Tool Overview'!$H$6=\"Orkney Health Board\",0,IF('III Tool Overview'!$H$6=\"Shetland Health Board\",0,IF('III Tool Overview'!$H$6=\"Western Isles Health Board\",0,IF('III Tool Overview'!$H$6=\"Orkney Islands Local Authority\",0,IF('III Tool Overview'!$H$6=\"Shetland Islands Local Authority\",0,IF('III Tool Overview'!$H$6=\"Eilean Siar Local Authority\",0,new_ci(10,B71,C71,D71,$C$1,G71,1,F71,E71*F71)))))))","v":598.72375694506263},{"$f":"IF('III Tool Overview'!$H$6=\"Orkney Health Board\",0,IF('III Tool Overview'!$H$6=\"Shetland Health Board\",0,IF('III Tool Overview'!$H$6=\"Western Isles Health Board\",0,IF('III Tool Overview'!$H$6=\"Orkney Islands Local Authority\",0,IF('III Tool Overview'!$H$6=\"Shetland Islands Local Authority\",0,IF('III Tool Overview'!$H$6=\"Eilean Siar Local Authority\",0,new_ci(10,B71,C71,D71,$C$1,G71+H71,1,F71,E71*F71)))))))","v":598.60749671911606},{"$f":"IF('III Tool Overview'!$H$6=\"Orkney Health Board\",0,IF('III Tool Overview'!$H$6=\"Shetland Health Board\",0,IF('III Tool Overview'!$H$6=\"Western Isles Health Board\",0,IF('III Tool Overview'!$H$6=\"Orkney Islands Local Authority\",0,IF('III Tool Overview'!$H$6=\"Shetland Islands Local Authority\",0,IF('III Tool Overview'!$H$6=\"Eilean Siar Local Authority\",0,new_ci(20,B71,C71,D71,$C$1,G71,1,F71,E71*F71)))))))","v":1734.492172088017},{"$f":"IF('III Tool Overview'!$H$6=\"Orkney Health Board\",0,IF('III Tool Overview'!$H$6=\"Shetland Health Board\",0,IF('III Tool Overview'!$H$6=\"Western Isles Health Board\",0,IF('III Tool Overview'!$H$6=\"Orkney Islands Local Authority\",0,IF('III Tool Overview'!$H$6=\"Shetland Islands Local Authority\",0,IF('III Tool Overview'!$H$6=\"Eilean Siar Local Authority\",0,new_ci(20,B71,C71,D71,$C$1,G71+H71,1,F71,E71*F71)))))))","v":1734.1624568019627},{"$f":"IF('III Tool Overview'!$H$6=\"Orkney Health Board\",0,IF('III Tool Overview'!$H$6=\"Shetland Health Board\",0,IF('III Tool Overview'!$H$6=\"Western Isles Health Board\",0,IF('III Tool Overview'!$H$6=\"Orkney Islands Local Authority\",0,IF('III Tool Overview'!$H$6=\"Shetland Islands Local Authority\",0,IF('III Tool Overview'!$H$6=\"Eilean Siar Local Authority\",0,new_yll(2,B71,C71,D71,$C$1,G71,1,F71,E71*F71)))))))","v":4037.7193012831767},{"$f":"IF('III Tool Overview'!$H$6=\"Orkney Health Board\",0,IF('III Tool Overview'!$H$6=\"Shetland Health Board\",0,IF('III Tool Overview'!$H$6=\"Western Isles Health Board\",0,IF('III Tool Overview'!$H$6=\"Orkney Islands Local Authority\",0,IF('III Tool Overview'!$H$6=\"Shetland Islands Local Authority\",0,IF('III Tool Overview'!$H$6=\"Eilean Siar Local Authority\",0,new_yll(2,B71,C71,D71,$C$1,G71+H71,1,F71,E71*F71)))))))","v":4036.9273919951775},0.79190928799926041,{"$f":"IF('III Tool Overview'!$H$6=\"Orkney Health Board\",0,IF('III Tool Overview'!$H$6=\"Shetland Health Board\",0,IF('III Tool Overview'!$H$6=\"Western Isles Health Board\",0,IF('III Tool Overview'!$H$6=\"Orkney Islands Local Authority\",0,IF('III Tool Overview'!$H$6=\"Shetland Islands Local Authority\",0,IF('III Tool Overview'!$H$6=\"Eilean Siar Local Authority\",0,new_yll(5,B71,C71,D71,$C$1,G71,1,F71,E71*F71)))))))","v":17267.744361440164},{"$f":"IF('III Tool Overview'!$H$6=\"Orkney Health Board\",0,IF('III Tool Overview'!$H$6=\"Shetland Health Board\",0,IF('III Tool Overview'!$H$6=\"Western Isles Health Board\",0,IF('III Tool Overview'!$H$6=\"Orkney Islands Local Authority\",0,IF('III Tool Overview'!$H$6=\"Shetland Islands Local Authority\",0,IF('III Tool Overview'!$H$6=\"Eilean Siar Local Authority\",0,new_yll(5,B71,C71,D71,$C$1,G71+H71,1,F71,E71*F71)))))))","v":17264.3684037274},{"$f":"T71-U71","v":3.3759577127639204},{"$f":"IF('III Tool Overview'!$H$6=\"Orkney Health Board\",0,IF('III Tool Overview'!$H$6=\"Shetland Health Board\",0,IF('III Tool Overview'!$H$6=\"Western Isles Health Board\",0,IF('III Tool Overview'!$H$6=\"Orkney Islands Local Authority\",0,IF('III Tool Overview'!$H$6=\"Shetland Islands Local Authority\",0,IF('III Tool Overview'!$H$6=\"Eilean Siar Local Authority\",0,new_yll(10,B71,C71,D71,$C$1,G71,1,F71,E71*F71)))))))","v":43481.556142029513},{"$f":"IF('III Tool Overview'!$H$6=\"Orkney Health Board\",0,IF('III Tool Overview'!$H$6=\"Shetland Health Board\",0,IF('III Tool Overview'!$H$6=\"Western Isles Health Board\",0,IF('III Tool Overview'!$H$6=\"Orkney Islands Local Authority\",0,IF('III Tool Overview'!$H$6=\"Shetland Islands Local Authority\",0,IF('III Tool Overview'!$H$6=\"Eilean Siar Local Authority\",0,new_yll(10,B71,C71,D71,$C$1,G71+H71,1,F71,E71*F71)))))))","v":43473.111011420158},{"$f":"W71-X71","v":8.4451306093542371},{"$f":"IF('III Tool Overview'!$H$6=\"Orkney Health Board\",0,IF('III Tool Overview'!$H$6=\"Shetland Health Board\",0,IF('III Tool Overview'!$H$6=\"Western Isles Health Board\",0,IF('III Tool Overview'!$H$6=\"Orkney Islands Local Authority\",0,IF('III Tool Overview'!$H$6=\"Shetland Islands Local Authority\",0,IF('III Tool Overview'!$H$6=\"Eilean Siar Local Authority\",0,new_yll(20,B71,C71,D71,$C$1,G71,1,F71,E71*F71)))))))","v":115086.42201168885},{"$f":"IF('III Tool Overview'!$H$6=\"Orkney Health Board\",0,IF('III Tool Overview'!$H$6=\"Shetland Health Board\",0,IF('III Tool Overview'!$H$6=\"Western Isles Health Board\",0,IF('III Tool Overview'!$H$6=\"Orkney Islands Local Authority\",0,IF('III Tool Overview'!$H$6=\"Shetland Islands Local Authority\",0,IF('III Tool Overview'!$H$6=\"Eilean Siar Local Authority\",0,new_yll(20,B71,C71,D71,$C$1,G71+H71,1,F71,E71*F71)))))))","v":115064.51191834344},{"$f":"Z71-AA71","v":21.910093345402856},{"$f":"hosp_count(2,B71,C71,D71,$C$1,G71,1,F71,E71*F71)","v":{"$error":"#NAME?"}},{"$f":"hosp_count(2,B71,C71,D71,$C$1,G71+H71,1,F71,E71*F71)","v":{"$error":"#NAME?"}},{"$f":"AC71-AD71","v":{"$error":"#NAME?"}},{"$f":"hosp_count(5,B71,C71,D71,$C$1,G71,1,F71,E71*F71)","v":{"$error":"#NAME?"}},{"$f":"hosp_count(5,B71,C71,D71,$C$1,G71+H71,1,F71,E71*F71)","v":{"$error":"#NAME?"}},{"$f":"AF71-AG71","v":{"$error":"#NAME?"}},{"$f":"hosp_count(10,B71,C71,D71,$C$1,G71,1,F71,E71*F71)","v":{"$error":"#NAME?"}},{"$f":"hosp_count(10,B71,C71,D71,$C$1,G71+H71,1,F71,E71*F71)","v":{"$error":"#NAME?"}},{"$f":"AI71-AJ71","v":{"$error":"#NAME?"}},{"$f":"hosp_count(20,B71,C71,D71,$C$1,G71,1,F71,E71*F71)","v":{"$error":"#NAME?"}},{"$f":"hosp_count(20,B71,C71,D71,$C$1,G71+H71,1,F71,E71*F71)","v":{"$error":"#NAME?"}},{"$f":"AL71-AM71","v":{"$error":"#NAME?"}},{"$f":"HLOOKUP('III Tool Overview'!$H$6,LookUpData_Pop!$B$1:$AV$269,LookUpData_Pop!BB72,FALSE)","v":197596},27.097659162069483,null,{"$f":"AO71","v":197596},null,null,null,{"$f":"AT71/AVERAGE(AT$70:AT$83)","v":{"$error":"#DIV/0!"}},{"$error":"#DIV/0!"},{"$f":"AW71*AR71*$AT$4","v":{"$error":"#DIV/0!"}},null,{"$f":"IF(AO71=0,0,AP71/AO71)","v":1.3713667868817933E-4},0,null,{"$f":"(AP71/AO71)*LookUpData_Pop!$B$281","v":0.95995675081725529},{"$f":"(AQ71/AP71)*LookUpData_Pop!$B$281","v":0},null,0.5,5]
["Male 25-29",27.5,"male",1,{"$f":"HLOOKUP('III Tool Overview'!$H$6,Prevalence!$B$2:$AV$268,Prevalence!AW68,FALSE)","v":0.38321724685444308},{"$f":"HLOOKUP('III Tool Overview'!$H$6,LookUpData_Pop!$B$1:$AV$269,LookUpData_Pop!BB73,FALSE)/5","v":38481.800000000003},{"$f":"'III Tool Overview'!$H$9/110","v":0},{"$f":"IF('III Tool Overview'!$H$10=\"Even distribution\",Targeting!C70,IF('III Tool Overview'!$H$10=\"Targeting to Q1\",Targeting!D70,IF('III Tool Overview'!$H$10=\"Targeting to Q1 & Q2\",Targeting!E70,IF('III Tool Overview'!$H$10=\"Proportionate to need\",Targeting!F70))))","v":974.62193169413888},{"$f":"IF('III Tool Overview'!$H$6=\"Orkney Health Board\",0,IF('III Tool Overview'!$H$6=\"Shetland Health Board\",0,IF('III Tool Overview'!$H$6=\"Western Isles Health Board\",0,IF('III Tool Overview'!$H$6=\"Orkney Islands Local Authority\",0,IF('III Tool Overview'!$H$6=\"Shetland Islands Local Authority\",0,IF('III Tool Overview'!$H$6=\"Eilean Siar Local Authority\",0,new_ci(2,B72,C72,D72,$C$1,G72,1,F72,E72*F72)))))))","v":78.811735719684464},{"$f":"IF('III Tool Overview'!$H$6=\"Orkney Health Board\",0,IF('III Tool Overview'!$H$6=\"Shetland Health Board\",0,IF('III Tool Overview'!$H$6=\"Western Isles Health Board\",0,IF('III Tool Overview'!$H$6=\"Orkney Islands Local Authority\",0,IF('III Tool Overview'!$H$6=\"Shetland Islands Local Authority\",0,IF('III Tool Overview'!$H$6=\"Eilean Siar Local Authority\",0,new_ci(2,B72,C72,D72,$C$1,G72+H72,1,F72,E72*F72)))))))","v":78.781044283460787},{"$f":"IF('III Tool Overview'!$H$6=\"Orkney Health Board\",0,IF('III Tool Overview'!$H$6=\"Shetland Health Board\",0,IF('III Tool Overview'!$H$6=\"Western Isles Health Board\",0,IF('III Tool Overview'!$H$6=\"Orkney Islands Local Authority\",0,IF('III Tool Overview'!$H$6=\"Shetland Islands Local Authority\",0,IF('III Tool Overview'!$H$6=\"Eilean Siar Local Authority\",0,new_ci(5,B72,C72,D72,$C$1,G72,1,F72,E72*F72)))))))","v":343.63799183514266},{"$f":"IF('III Tool Overview'!$H$6=\"Orkney Health Board\",0,IF('III Tool Overview'!$H$6=\"Shetland Health Board\",0,IF('III Tool Overview'!$H$6=\"Western Isles Health Board\",0,IF('III Tool Overview'!$H$6=\"Orkney Islands Local Authority\",0,IF('III Tool Overview'!$H$6=\"Shetland Islands Local Authority\",0,IF('III Tool Overview'!$H$6=\"Eilean Siar Local Authority\",0,new_ci(5,B72,C72,D72,$C$1,G72+H72,1,F72,E72*F72)))))))","v":343.50477066202859},{"$f":"IF('III Tool Overview'!$H$6=\"Orkney Health Board\",0,IF('III Tool Overview'!$H$6=\"Shetland Health Board\",0,IF('III Tool Overview'!$H$6=\"Western Isles Health Board\",0,IF('III Tool Overview'!$H$6=\"Orkney Islands Local Authority\",0,IF('III Tool Overview'!$H$6=\"Shetland Islands Local Authority\",0,IF('III Tool Overview'!$H$6=\"Eilean Siar Local Authority\",0,new_ci(10,B72,C72,D72,$C$1,G72,1,F72,E72*F72)))))))","v":896.3741915607925},{"$f":"IF('III Tool Overview'!$H$6=\"Orkney Health Board\",0,IF('III Tool Overview'!$H$6=\"Shetland Health Board\",0,IF('III Tool Overview'!$H$6=\"Western Isles Health Board\",0,IF('III Tool Overview'!$H$6=\"Orkney Islands Local Authority\",0,IF('III Tool Overview'!$H$6=\"Shetland Islands Local Authority\",0,IF('III Tool Overview'!$H$6=\"Eilean Siar Local Authority\",0,new_ci(10,B72,C72,D72,$C$1,G72+H72,1,F72,E72*F72)))))))","v":896.02997523319505},{"$f":"IF('III Tool Overview'!$H$6=\"Orkney Health Board\",0,IF('III Tool Overview'!$H$6=\"Shetland Health Board\",0,IF('III Tool Overview'!$H$6=\"Western Isles Health Board\",0,IF('III Tool Overview'!$H$6=\"Orkney Islands Local Authority\",0,IF('III Tool Overview'!$H$6=\"Shetland Islands Local Authority\",0,IF('III Tool Overview'!$H$6=\"Eilean Siar Local Authority\",0,new_ci(20,B72,C72,D72,$C$1,G72,1,F72,E72*F72)))))))","v":2575.6995509616918},{"$f":"IF('III Tool Overview'!$H$6=\"Orkney Health Board\",0,IF('III Tool Overview'!$H$6=\"Shetland Health Board\",0,IF('III Tool Overview'!$H$6=\"Western Isles Health Board\",0,IF('III Tool Overview'!$H$6=\"Orkney Islands Local Authority\",0,IF('III Tool Overview'!$H$6=\"Shetland Islands Local Authority\",0,IF('III Tool Overview'!$H$6=\"Eilean Siar Local Authority\",0,new_ci(20,B72,C72,D72,$C$1,G72+H72,1,F72,E72*F72)))))))","v":2574.7396095188888},{"$f":"IF('III Tool Overview'!$H$6=\"Orkney Health Board\",0,IF('III Tool Overview'!$H$6=\"Shetland Health Board\",0,IF('III Tool Overview'!$H$6=\"Western Isles Health Board\",0,IF('III Tool Overview'!$H$6=\"Orkney Islands Local Authority\",0,IF('III Tool Overview'!$H$6=\"Shetland Islands Local Authority\",0,IF('III Tool Overview'!$H$6=\"Eilean Siar Local Authority\",0,new_yll(2,B72,C72,D72,$C$1,G72,1,F72,E72*F72)))))))","v":5595.6332360975966},{"$f":"IF('III Tool Overview'!$H$6=\"Orkney Health Board\",0,IF('III Tool Overview'!$H$6=\"Shetland Health Board\",0,IF('III Tool Overview'!$H$6=\"Western Isles Health Board\",0,IF('III Tool Overview'!$H$6=\"Orkney Islands Local Authority\",0,IF('III Tool Overview'!$H$6=\"Shetland Islands Local Authority\",0,IF('III Tool Overview'!$H$6=\"Eilean Siar Local Authority\",0,new_yll(2,B72,C72,D72,$C$1,G72+H72,1,F72,E72*F72)))))))","v":5593.4541441257161},2.1790919718805526,{"$f":"IF('III Tool Overview'!$H$6=\"Orkney Health Board\",0,IF('III Tool Overview'!$H$6=\"Shetland Health Board\",0,IF('III Tool Overview'!$H$6=\"Western Isles Health Board\",0,IF('III Tool Overview'!$H$6=\"Orkney Islands Local Authority\",0,IF('III Tool Overview'!$H$6=\"Shetland Islands Local Authority\",0,IF('III Tool Overview'!$H$6=\"Eilean Siar Local Authority\",0,new_yll(5,B72,C72,D72,$C$1,G72,1,F72,E72*F72)))))))","v":23858.751823328952},{"$f":"IF('III Tool Overview'!$H$6=\"Orkney Health Board\",0,IF('III Tool Overview'!$H$6=\"Shetland Health Board\",0,IF('III Tool Overview'!$H$6=\"Western Isles Health Board\",0,IF('III Tool Overview'!$H$6=\"Orkney Islands Local Authority\",0,IF('III Tool Overview'!$H$6=\"Shetland Islands Local Authority\",0,IF('III Tool Overview'!$H$6=\"Eilean Siar Local Authority\",0,new_yll(5,B72,C72,D72,$C$1,G72+H72,1,F72,E72*F72)))))))","v":23849.501803903127},9.2500194258245756,{"$f":"IF('III Tool Overview'!$H$6=\"Orkney Health Board\",0,IF('III Tool Overview'!$H$6=\"Shetland Health Board\",0,IF('III Tool Overview'!$H$6=\"Western Isles Health Board\",0,IF('III Tool Overview'!$H$6=\"Orkney Islands Local Authority\",0,IF('III Tool Overview'!$H$6=\"Shetland Islands Local Authority\",0,IF('III Tool Overview'!$H$6=\"Eilean Siar Local Authority\",0,new_yll(10,B72,C72,D72,$C$1,G72,1,F72,E72*F72)))))))","v":59725.40055534993},{"$f":"IF('III Tool Overview'!$H$6=\"Orkney Health Board\",0,IF('III Tool Overview'!$H$6=\"Shetland Health Board\",0,IF('III Tool Overview'!$H$6=\"Western Isles Health Board\",0,IF('III Tool Overview'!$H$6=\"Orkney Islands Local Authority\",0,IF('III Tool Overview'!$H$6=\"Shetland Islands Local Authority\",0,IF('III Tool Overview'!$H$6=\"Eilean Siar Local Authority\",0,new_yll(10,B72,C72,D72,$C$1,G72+H72,1,F72,E72*F72)))))))","v":59702.457590020975},22.942965328955324,{"$f":"IF('III Tool Overview'!$H$6=\"Orkney Health Board\",0,IF('III Tool Overview'!$H$6=\"Shetland Health Board\",0,IF('III Tool Overview'!$H$6=\"Western Isles Health Board\",0,IF('III Tool Overview'!$H$6=\"Orkney Islands Local Authority\",0,IF('III Tool Overview'!$H$6=\"Shetland Islands Local Authority\",0,IF('III Tool Overview'!$H$6=\"Eilean Siar Local Authority\",0,new_yll(20,B72,C72,D72,$C$1,G72,1,F72,E72*F72)))))))","v":155545.64823598583},{"$f":"IF('III Tool Overview'!$H$6=\"Orkney Health Board\",0,IF('III Tool Overview'!$H$6=\"Shetland Health Board\",0,IF('III Tool Overview'!$H$6=\"Western Isles Health Board\",0,IF('III Tool Overview'!$H$6=\"Orkney Islands Local Authority\",0,IF('III Tool Overview'!$H$6=\"Shetland Islands Local Authority\",0,IF('III Tool Overview'!$H$6=\"Eilean Siar Local Authority\",0,new_yll(20,B72,C72,D72,$C$1,G72+H72,1,F72,E72*F72)))))))","v":155487.54135240527},58.10688358056359,{"$error":"#NAME?"},{"$error":"#NAME?"},{"$error":"#NAME?"},{"$error":"#NAME?"},{"$error":"#NAME?"},{"$error":"#NAME?"},{"$error":"#NAME?"},{"$error":"#NAME?"},{"$error":"#NAME?"},{"$error":"#NAME?"},{"$error":"#NAME?"},{"$error":"#NAME?"},{"$f":"HLOOKUP('III Tool Overview'!$H$6,LookUpData_Pop!$B$1:$AV$269,LookUpData_Pop!BB73,FALSE)","v":192409},37.017258871991615,null,{"$f":"AO72","v":192409},null,null,null,{"$error":"#DIV/0!"},{"$error":"#DIV/0!"},{"$error":"#DIV/0!"},null,1.9238839592738185E-4,0,null,{"$f":"(AP72/AO72)*LookUpData_Pop!$B$282","v":1.3467187714916729},{"$f":"(AQ72/AP72)*LookUpData_Pop!$B$282","v":0},null,0.5,5]
["Male 30-34",32.5,"male",1,{"$f":"HLOOKUP('III Tool Overview'!$H$6,Prevalence!$B$2:$AV$268,Prevalence!AW69,FALSE)","v":0.38321724685444308},{"$f":"HLOOKUP('III Tool Overview'!$H$6,LookUpData_Pop!$B$1:$AV$269,LookUpData_Pop!BB74,FALSE)/5","v":32307.4},{"$f":"'III Tool Overview'!$H$9/110","v":0},{"$f":"IF('III Tool Overview'!$H$10=\"Even distribution\",Targeting!C71,IF('III Tool Overview'!$H$10=\"Targeting to Q1\",Targeting!D71,IF('III Tool Overview'!$H$10=\"Targeting to Q1 & Q2\",Targeting!E71,IF('III Tool Overview'!$H$10=\"Proportionate to need\",Targeting!F71))))","v":913.51892320549814},{"$f":"IF('III Tool Overview'!$H$6=\"Orkney Health Board\",0,IF('III Tool Overview'!$H$6=\"Shetland Health Board\",0,IF('III Tool Overview'!$H$6=\"Western Isles Health Board\",0,IF('III Tool Overview'!$H$6=\"Orkney Islands Local Authority\",0,IF('III Tool Overview'!$H$6=\"Shetland Islands Local Authority\",0,IF('III Tool Overview'!$H$6=\"Eilean Siar Local Authority\",0,new_ci(2,B73,C73,D73,$C$1,G73,1,F73,E73*F73)))))))","v":88.360513183199728},{"$f":"IF('III Tool Overview'!$H$6=\"Orkney Health Board\",0,IF('III Tool Overview'!$H$6=\"Shetland Health Board\",0,IF('III Tool Overview'!$H$6=\"Western Isles Health Board\",0,IF('III Tool Overview'!$H$6=\"Orkney Islands Local Authority\",0,IF('III Tool Overview'!$H$6=\"Shetland Islands Local Authority\",0,IF('III Tool Overview'!$H$6=\"Eilean Siar Local Authority\",0,new_ci(2,B73,C73,D73,$C$1,G73+H73,1,F73,E73*F73)))))))","v":88.322108466374502},{"$f":"IF('III Tool Overview'!$H$6=\"Orkney Health Board\",0,IF('III Tool Overview'!$H$6=\"Shetland Health Board\",0,IF('III Tool Overview'!$H$6=\"Western Isles Health Board\",0,IF('III Tool Overview'!$H$6=\"Orkney Islands Local Authority\",0,IF('III Tool Overview'!$H$6=\"Shetland Islands Local Authority\",0,IF('III Tool Overview'!$H$6=\"Eilean Siar Local Authority\",0,new_ci(5,B73,C73,D73,$C$1,G73,1,F73,E73*F73)))))))","v":384.8188114157939},{"$f":"IF('III Tool Overview'!$H$6=\"Orkney Health Board\",0,IF('III Tool Overview'!$H$6=\"Shetland Health Board\",0,IF('III Tool Overview'!$H$6=\"Western Isles Health Board\",0,IF('III Tool Overview'!$H$6=\"Orkney Islands Local Authority\",0,IF('III Tool Overview'!$H$6=\"Shetland Islands Local Authority\",0,IF('III Tool Overview'!$H$6=\"Eilean Siar Local Authority\",0,new_ci(5,B73,C73,D73,$C$1,G73+H73,1,F73,E73*F73)))))))","v":384.65255772581253},{"$f":"IF('III Tool Overview'!$H$6=\"Orkney Health Board\",0,IF('III Tool Overview'!$H$6=\"Shetland Health Board\",0,IF('III Tool Overview'!$H$6=\"Western Isles Health Board\",0,IF('III Tool Overview'!$H$6=\"Orkney Islands Local Authority\",0,IF('III Tool Overview'!$H$6=\"Shetland Islands Local Authority\",0,IF('III Tool Overview'!$H$6=\"Eilean Siar Local Authority\",0,new_ci(10,B73,C73,D73,$C$1,G73,1,F73,E73*F73)))))))","v":1001.3100172518739},{"$f":"IF('III Tool Overview'!$H$6=\"Orkney Health Board\",0,IF('III Tool Overview'!$H$6=\"Shetland Health Board\",0,IF('III Tool Overview'!$H$6=\"Western Isles Health Board\",0,IF('III Tool Overview'!$H$6=\"Orkney Islands Local Authority\",0,IF('III Tool Overview'!$H$6=\"Shetland Islands Local Authority\",0,IF('III Tool Overview'!$H$6=\"Eilean Siar Local Authority\",0,new_ci(10,B73,C73,D73,$C$1,G73+H73,1,F73,E73*F73)))))))","v":1000.8828852468873},{"$f":"IF('III Tool Overview'!$H$6=\"Orkney Health Board\",0,IF('III Tool Overview'!$H$6=\"Shetland Health Board\",0,IF('III Tool Overview'!$H$6=\"Western Isles Health Board\",0,IF('III Tool Overview'!$H$6=\"Orkney Islands Local Authority\",0,IF('III Tool Overview'!$H$6=\"Shetland Islands Local Authority\",0,IF('III Tool Overview'!$H$6=\"Eilean Siar Local Authority\",0,new_ci(20,B73,C73,D73,$C$1,G73,1,F73,E73*F73)))))))","v":2855.2706135947274},{"$f":"IF('III Tool Overview'!$H$6=\"Orkney Health Board\",0,IF('III Tool Overview'!$H$6=\"Shetland Health Board\",0,IF('III Tool Overview'!$H$6=\"Western Isles Health Board\",0,IF('III Tool Overview'!$H$6=\"Orkney Islands Local Authority\",0,IF('III Tool Overview'!$H$6=\"Shetland Islands Local Authority\",0,IF('III Tool Overview'!$H$6=\"Eilean Siar Local Authority\",0,new_ci(20,B73,C73,D73,$C$1,G73+H73,1,F73,E73*F73)))))))","v":2854.1004513351345},{"$f":"IF('III Tool Overview'!$H$6=\"Orkney Health Board\",0,IF('III Tool Overview'!$H$6=\"Shetland Health Board\",0,IF('III Tool Overview'!$H$6=\"Western Isles Health Board\",0,IF('III Tool Overview'!$H$6=\"Orkney Islands Local Authority\",0,IF('III Tool Overview'!$H$6=\"Shetland Islands Local Authority\",0,IF('III Tool Overview'!$H$6=\"Eilean Siar Local Authority\",0,new_yll(2,B73,C73,D73,$C$1,G73,1,F73,E73*F73)))))))","v":5920.1543832743819},{"$f":"IF('III Tool Overview'!$H$6=\"Orkney Health Board\",0,IF('III Tool Overview'!$H$6=\"Shetland Health Board\",0,IF('III Tool Overview'!$H$6=\"Western Isles Health Board\",0,IF('III Tool Overview'!$H$6=\"Orkney Islands Local Authority\",0,IF('III Tool Overview'!$H$6=\"Shetland Islands Local Authority\",0,IF('III Tool Overview'!$H$6=\"Eilean Siar Local Authority\",0,new_yll(2,B73,C73,D73,$C$1,G73+H73,1,F73,E73*F73)))))))","v":5917.581267247092},2.5731160272898705,{"$f":"IF('III Tool Overview'!$H$6=\"Orkney Health Board\",0,IF('III Tool Overview'!$H$6=\"Shetland Health Board\",0,IF('III Tool Overview'!$H$6=\"Western Isles Health Board\",0,IF('III Tool Overview'!$H$6=\"Orkney Islands Local Authority\",0,IF('III Tool Overview'!$H$6=\"Shetland Islands Local Authority\",0,IF('III Tool Overview'!$H$6=\"Eilean Siar Local Authority\",0,new_yll(5,B73,C73,D73,$C$1,G73,1,F73,E73*F73)))))))","v":25179.02452749608},{"$f":"IF('III Tool Overview'!$H$6=\"Orkney Health Board\",0,IF('III Tool Overview'!$H$6=\"Shetland Health Board\",0,IF('III Tool Overview'!$H$6=\"Western Isles Health Board\",0,IF('III Tool Overview'!$H$6=\"Orkney Islands Local Authority\",0,IF('III Tool Overview'!$H$6=\"Shetland Islands Local Authority\",0,IF('III Tool Overview'!$H$6=\"Eilean Siar Local Authority\",0,new_yll(5,B73,C73,D73,$C$1,G73+H73,1,F73,E73*F73)))))))","v":25168.145593689547},10.878933806532586,{"$f":"IF('III Tool Overview'!$H$6=\"Orkney Health Board\",0,IF('III Tool Overview'!$H$6=\"Shetland Health Board\",0,IF('III Tool Overview'!$H$6=\"Western Isles Health Board\",0,IF('III Tool Overview'!$H$6=\"Orkney Islands Local Authority\",0,IF('III Tool Overview'!$H$6=\"Shetland Islands Local Authority\",0,IF('III Tool Overview'!$H$6=\"Eilean Siar Local Authority\",0,new_yll(10,B73,C73,D73,$C$1,G73,1,F73,E73*F73)))))))","v":62717.950000457051},{"$f":"IF('III Tool Overview'!$H$6=\"Orkney Health Board\",0,IF('III Tool Overview'!$H$6=\"Shetland Health Board\",0,IF('III Tool Overview'!$H$6=\"Western Isles Health Board\",0,IF('III Tool Overview'!$H$6=\"Orkney Islands Local Authority\",0,IF('III Tool Overview'!$H$6=\"Shetland Islands Local Authority\",0,IF('III Tool Overview'!$H$6=\"Eilean Siar Local Authority\",0,new_yll(10,B73,C73,D73,$C$1,G73+H73,1,F73,E73*F73)))))))","v":62691.183158992419},26.766841464632307,{"$f":"IF('III Tool Overview'!$H$6=\"Orkney Health Board\",0,IF('III Tool Overview'!$H$6=\"Shetland Health Board\",0,IF('III Tool Overview'!$H$6=\"Western Isles Health Board\",0,IF('III Tool Overview'!$H$6=\"Orkney Islands Local Authority\",0,IF('III Tool Overview'!$H$6=\"Shetland Islands Local Authority\",0,IF('III Tool Overview'!$H$6=\"Eilean Siar Local Authority\",0,new_yll(20,B73,C73,D73,$C$1,G73,1,F73,E73*F73)))))))","v":161110.43249494699},{"$f":"IF('III Tool Overview'!$H$6=\"Orkney Health Board\",0,IF('III Tool Overview'!$H$6=\"Shetland Health Board\",0,IF('III Tool Overview'!$H$6=\"Western Isles Health Board\",0,IF('III Tool Overview'!$H$6=\"Orkney Islands Local Authority\",0,IF('III Tool Overview'!$H$6=\"Shetland Islands Local Authority\",0,IF('III Tool Overview'!$H$6=\"Eilean Siar Local Authority\",0,new_yll(20,B73,C73,D73,$C$1,G73+H73,1,F73,E73*F73)))))))","v":161044.18040557904},66.25208936794661,{"$error":"#NAME?"},{"$error":"#NAME?"},{"$error":"#NAME?"},{"$error":"#NAME?"},{"$error":"#NAME?"},{"$error":"#NAME?"},{"$error":"#NAME?"},{"$error":"#NAME?"},{"$error":"#NAME?"},{"$error":"#NAME?"},{"$error":"#NAME?"},{"$error":"#NAME?"},{"$f":"HLOOKUP('III Tool Overview'!$H$6,LookUpData_Pop!$B$1:$AV$269,LookUpData_Pop!BB74,FALSE)","v":161537},51.417656077750607,null,161537,null,null,null,{"$error":"#DIV/0!"},{"$error":"#DIV/0!"},{"$error":"#DIV/0!"},null,3.1830265560057824E-4,0,null,{"$f":"(AP73/AO73)*LookUpData_Pop!$B$283","v":2.2281185892040476},{"$f":"(AQ73/AP73)*LookUpData_Pop!$B$283","v":0},null,0.5,5]
["Male 35-39",37.5,"male",1,{"$f":"HLOOKUP('III Tool Overview'!$H$6,Prevalence!$B$2:$AV$268,Prevalence!AW70,FALSE)","v":0.45455462876033059},{"$f":"HLOOKUP('III Tool Overview'!$H$6,LookUpData_Pop!$B$1:$AV$269,LookUpData_Pop!BB75,FALSE)/5","v":32289.599999999999},{"$f":"'III Tool Overview'!$H$9/110","v":0},{"$f":"IF('III Tool Overview'!$H$10=\"Even distribution\",Targeting!C72,IF('III Tool Overview'!$H$10=\"Targeting to Q1\",Targeting!D72,IF('III Tool Overview'!$H$10=\"Targeting to Q1 & Q2\",Targeting!E72,IF('III Tool Overview'!$H$10=\"Proportionate to need\",Targeting!F72))))","v":955.91112043701241},{"$f":"IF('III Tool Overview'!$H$6=\"Orkney Health Board\",0,IF('III Tool Overview'!$H$6=\"Shetland Health Board\",0,IF('III Tool Overview'!$H$6=\"Western Isles Health Board\",0,IF('III Tool Overview'!$H$6=\"Orkney Islands Local Authority\",0,IF('III Tool Overview'!$H$6=\"Shetland Islands Local Authority\",0,IF('III Tool Overview'!$H$6=\"Eilean Siar Local Authority\",0,new_ci(2,B74,C74,D74,$C$1,G74,1,F74,E74*F74)))))))","v":136.25390300830077},{"$f":"IF('III Tool Overview'!$H$6=\"Orkney Health Board\",0,IF('III Tool Overview'!$H$6=\"Shetland Health Board\",0,IF('III Tool Overview'!$H$6=\"Western Isles Health Board\",0,IF('III Tool Overview'!$H$6=\"Orkney Islands Local Authority\",0,IF('III Tool Overview'!$H$6=\"Shetland Islands Local Authority\",0,IF('III Tool Overview'!$H$6=\"Eilean Siar Local Authority\",0,new_ci(2,B74,C74,D74,$C$1,G74+H74,1,F74,E74*F74)))))))","v":136.19314674013529},{"$f":"IF('III Tool Overview'!$H$6=\"Orkney Health Board\",0,IF('III Tool Overview'!$H$6=\"Shetland Health Board\",0,IF('III Tool Overview'!$H$6=\"Western Isles Health Board\",0,IF('III Tool Overview'!$H$6=\"Orkney Islands Local Authority\",0,IF('III Tool Overview'!$H$6=\"Shetland Islands Local Authority\",0,IF('III Tool Overview'!$H$6=\"Eilean Siar Local Authority\",0,new_ci(5,B74,C74,D74,$C$1,G74,1,F74,E74*F74)))))))","v":591.88778170794717},{"$f":"IF('III Tool Overview'!$H$6=\"Orkney Health Board\",0,IF('III Tool Overview'!$H$6=\"Shetland Health Board\",0,IF('III Tool Overview'!$H$6=\"Western Isles Health Board\",0,IF('III Tool Overview'!$H$6=\"Orkney Islands Local Authority\",0,IF('III Tool Overview'!$H$6=\"Shetland Islands Local Authority\",0,IF('III Tool Overview'!$H$6=\"Eilean Siar Local Authority\",0,new_ci(5,B74,C74,D74,$C$1,G74+H74,1,F74,E74*F74)))))))","v":591.62621471666},{"$f":"IF('III Tool Overview'!$H$6=\"Orkney Health Board\",0,IF('III Tool Overview'!$H$6=\"Shetland Health Board\",0,IF('III Tool Overview'!$H$6=\"Western Isles Health Board\",0,IF('III Tool Overview'!$H$6=\"Orkney Islands Local Authority\",0,IF('III Tool Overview'!$H$6=\"Shetland Islands Local Authority\",0,IF('III Tool Overview'!$H$6=\"Eilean Siar Local Authority\",0,new_ci(10,B74,C74,D74,$C$1,G74,1,F74,E74*F74)))))))","v":1531.8980626721391},{"$f":"IF('III Tool Overview'!$H$6=\"Orkney Health Board\",0,IF('III Tool Overview'!$H$6=\"Shetland Health Board\",0,IF('III Tool Overview'!$H$6=\"Western Isles Health Board\",0,IF('III Tool Overview'!$H$6=\"Orkney Islands Local Authority\",0,IF('III Tool Overview'!$H$6=\"Shetland Islands Local Authority\",0,IF('III Tool Overview'!$H$6=\"Eilean Siar Local Authority\",0,new_ci(10,B74,C74,D74,$C$1,G74+H74,1,F74,E74*F74)))))))","v":1531.2338299220232},{"$f":"IF('III Tool Overview'!$H$6=\"Orkney Health Board\",0,IF('III Tool Overview'!$H$6=\"Shetland Health Board\",0,IF('III Tool Overview'!$H$6=\"Western Isles Health Board\",0,IF('III Tool Overview'!$H$6=\"Orkney Islands Local Authority\",0,IF('III Tool Overview'!$H$6=\"Shetland Islands Local Authority\",0,IF('III Tool Overview'!$H$6=\"Eilean Siar Local Authority\",0,new_ci(20,B74,C74,D74,$C$1,G74,1,F74,E74*F74)))))))","v":4297.0554337458016},{"$f":"IF('III Tool Overview'!$H$6=\"Orkney Health Board\",0,IF('III Tool Overview'!$H$6=\"Shetland Health Board\",0,IF('III Tool Overview'!$H$6=\"Western Isles Health Board\",0,IF('III Tool Overview'!$H$6=\"Orkney Islands Local Authority\",0,IF('III Tool Overview'!$H$6=\"Shetland Islands Local Authority\",0,IF('III Tool Overview'!$H$6=\"Eilean Siar Local Authority\",0,new_ci(20,B74,C74,D74,$C$1,G74+H74,1,F74,E74*F74)))))))","v":4295.3008509809752},{"$f":"IF('III Tool Overview'!$H$6=\"Orkney Health Board\",0,IF('III Tool Overview'!$H$6=\"Shetland Health Board\",0,IF('III Tool Overview'!$H$6=\"Western Isles Health Board\",0,IF('III Tool Overview'!$H$6=\"Orkney Islands Local Authority\",0,IF('III Tool Overview'!$H$6=\"Shetland Islands Local Authority\",0,IF('III Tool Overview'!$H$6=\"Eilean Siar Local Authority\",0,new_yll(2,B74,C74,D74,$C$1,G74,1,F74,E74*F74)))))))","v":8311.4880835063468},{"$f":"IF('III Tool Overview'!$H$6=\"Orkney Health Board\",0,IF('III Tool Overview'!$H$6=\"Shetland Health Board\",0,IF('III Tool Overview'!$H$6=\"Western Isles Health Board\",0,IF('III Tool Overview'!$H$6=\"Orkney Islands Local Authority\",0,IF('III Tool Overview'!$H$6=\"Shetland Islands Local Authority\",0,IF('III Tool Overview'!$H$6=\"Eilean Siar Local Authority\",0,new_yll(2,B74,C74,D74,$C$1,G74+H74,1,F74,E74*F74)))))))","v":8307.7819511482521},3.7061323580946919,{"$f":"IF('III Tool Overview'!$H$6=\"Orkney Health Board\",0,IF('III Tool Overview'!$H$6=\"Shetland Health Board\",0,IF('III Tool Overview'!$H$6=\"Western Isles Health Board\",0,IF('III Tool Overview'!$H$6=\"Orkney Islands Local Authority\",0,IF('III Tool Overview'!$H$6=\"Shetland Islands Local Authority\",0,IF('III Tool Overview'!$H$6=\"Eilean Siar Local Authority\",0,new_yll(5,B74,C74,D74,$C$1,G74,1,F74,E74*F74)))))))","v":35177.622268813881},{"$f":"IF('III Tool Overview'!$H$6=\"Orkney Health Board\",0,IF('III Tool Overview'!$H$6=\"Shetland Health Board\",0,IF('III Tool Overview'!$H$6=\"Western Isles Health Board\",0,IF('III Tool Overview'!$H$6=\"Orkney Islands Local Authority\",0,IF('III Tool Overview'!$H$6=\"Shetland Islands Local Authority\",0,IF('III Tool Overview'!$H$6=\"Eilean Siar Local Authority\",0,new_yll(5,B74,C74,D74,$C$1,G74+H74,1,F74,E74*F74)))))))","v":35162.074663697487},15.547605116393242,{"$f":"IF('III Tool Overview'!$H$6=\"Orkney Health Board\",0,IF('III Tool Overview'!$H$6=\"Shetland Health Board\",0,IF('III Tool Overview'!$H$6=\"Western Isles Health Board\",0,IF('III Tool Overview'!$H$6=\"Orkney Islands Local Authority\",0,IF('III Tool Overview'!$H$6=\"Shetland Islands Local Authority\",0,IF('III Tool Overview'!$H$6=\"Eilean Siar Local Authority\",0,new_yll(10,B74,C74,D74,$C$1,G74,1,F74,E74*F74)))))))","v":86780.014820729062},{"$f":"IF('III Tool Overview'!$H$6=\"Orkney Health Board\",0,IF('III Tool Overview'!$H$6=\"Shetland Health Board\",0,IF('III Tool Overview'!$H$6=\"Western Isles Health Board\",0,IF('III Tool Overview'!$H$6=\"Orkney Islands Local Authority\",0,IF('III Tool Overview'!$H$6=\"Shetland Islands Local Authority\",0,IF('III Tool Overview'!$H$6=\"Eilean Siar Local Authority\",0,new_yll(10,B74,C74,D74,$C$1,G74+H74,1,F74,E74*F74)))))))","v":86742.356358124161},37.658462604900706,{"$f":"IF('III Tool Overview'!$H$6=\"Orkney Health Board\",0,IF('III Tool Overview'!$H$6=\"Shetland Health Board\",0,IF('III Tool Overview'!$H$6=\"Western Isles Health Board\",0,IF('III Tool Overview'!$H$6=\"Orkney Islands Local Authority\",0,IF('III Tool Overview'!$H$6=\"Shetland Islands Local Authority\",0,IF('III Tool Overview'!$H$6=\"Eilean Siar Local Authority\",0,new_yll(20,B74,C74,D74,$C$1,G74,1,F74,E74*F74)))))))","v":217016.32006443318},{"$f":"IF('III Tool Overview'!$H$6=\"Orkney Health Board\",0,IF('III Tool Overview'!$H$6=\"Shetland Health Board\",0,IF('III Tool Overview'!$H$6=\"Western Isles Health Board\",0,IF('III Tool Overview'!$H$6=\"Orkney Islands Local Authority\",0,IF('III Tool Overview'!$H$6=\"Shetland Islands Local Authority\",0,IF('III Tool Overview'!$H$6=\"Eilean Siar Local Authority\",0,new_yll(20,B74,C74,D74,$C$1,G74+H74,1,F74,E74*F74)))))))","v":216927.18994825659},89.130116176587762,{"$error":"#NAME?"},{"$error":"#NAME?"},{"$error":"#NAME?"},{"$error":"#NAME?"},{"$error":"#NAME?"},{"$error":"#NAME?"},{"$error":"#NAME?"},{"$error":"#NAME?"},{"$error":"#NAME?"},{"$error":"#NAME?"},{"$error":"#NAME?"},{"$error":"#NAME?"},{"$f":"HLOOKUP('III Tool Overview'!$H$6,LookUpData_Pop!$B$1:$AV$269,LookUpData_Pop!BB75,FALSE)","v":161448},56.123681266465375,null,161448,null,null,null,{"$error":"#DIV/0!"},{"$error":"#DIV/0!"},{"$error":"#DIV/0!"},null,3.4762698371280769E-4,0,null,{"$f":"(AP74/AO74)*LookUpData_Pop!$B$284","v":2.433388885989654},{"$f":"(AQ74/AP74)*LookUpData_Pop!$B$284","v":0},null,0.5,5]
["Male 40-44",42.5,"male",1,{"$f":"HLOOKUP('III Tool Overview'!$H$6,Prevalence!$B$2:$AV$268,Prevalence!AW71,FALSE)","v":0.45455462876033059},{"$f":"HLOOKUP('III Tool Overview'!$H$6,LookUpData_Pop!$B$1:$AV$269,LookUpData_Pop!BB76,FALSE)/5","v":34672.6},{"$f":"'III Tool Overview'!$H$9/110","v":0},{"$f":"IF('III Tool Overview'!$H$10=\"Even distribution\",Targeting!C73,IF('III Tool Overview'!$H$10=\"Targeting to Q1\",Targeting!D73,IF('III Tool Overview'!$H$10=\"Targeting to Q1 & Q2\",Targeting!E73,IF('III Tool Overview'!$H$10=\"Proportionate to need\",Targeting!F73))))","v":1080.4838969811467},{"$f":"IF('III Tool Overview'!$H$6=\"Orkney Health Board\",0,IF('III Tool Overview'!$H$6=\"Shetland Health Board\",0,IF('III Tool Overview'!$H$6=\"Western Isles Health Board\",0,IF('III Tool Overview'!$H$6=\"Orkney Islands Local Authority\",0,IF('III Tool Overview'!$H$6=\"Shetland Islands Local Authority\",0,IF('III Tool Overview'!$H$6=\"Eilean Siar Local Authority\",0,new_ci(2,B75,C75,D75,$C$1,G75,1,F75,E75*F75)))))))","v":195.31335319967641},{"$f":"IF('III Tool Overview'!$H$6=\"Orkney Health Board\",0,IF('III Tool Overview'!$H$6=\"Shetland Health Board\",0,IF('III Tool Overview'!$H$6=\"Western Isles Health Board\",0,IF('III Tool Overview'!$H$6=\"Orkney Islands Local Authority\",0,IF('III Tool Overview'!$H$6=\"Shetland Islands Local Authority\",0,IF('III Tool Overview'!$H$6=\"Eilean Siar Local Authority\",0,new_ci(2,B75,C75,D75,$C$1,G75+H75,1,F75,E75*F75)))))))","v":195.22181003719766},{"$f":"IF('III Tool Overview'!$H$6=\"Orkney Health Board\",0,IF('III Tool Overview'!$H$6=\"Shetland Health Board\",0,IF('III Tool Overview'!$H$6=\"Western Isles Health Board\",0,IF('III Tool Overview'!$H$6=\"Orkney Islands Local Authority\",0,IF('III Tool Overview'!$H$6=\"Shetland Islands Local Authority\",0,IF('III Tool Overview'!$H$6=\"Eilean Siar Local Authority\",0,new_ci(5,B75,C75,D75,$C$1,G75,1,F75,E75*F75)))))))","v":846.38559567851723},{"$f":"IF('III Tool Overview'!$H$6=\"Orkney Health Board\",0,IF('III Tool Overview'!$H$6=\"Shetland Health Board\",0,IF('III Tool Overview'!$H$6=\"Western Isles Health Board\",0,IF('III Tool Overview'!$H$6=\"Orkney Islands Local Authority\",0,IF('III Tool Overview'!$H$6=\"Shetland Islands Local Authority\",0,IF('III Tool Overview'!$H$6=\"Eilean Siar Local Authority\",0,new_ci(5,B75,C75,D75,$C$1,G75+H75,1,F75,E75*F75)))))))","v":845.99362706181557},{"$f":"IF('III Tool Overview'!$H$6=\"Orkney Health Board\",0,IF('III Tool Overview'!$H$6=\"Shetland Health Board\",0,IF('III Tool Overview'!$H$6=\"Western Isles Health Board\",0,IF('III Tool Overview'!$H$6=\"Orkney Islands Local Authority\",0,IF('III Tool Overview'!$H$6=\"Shetland Islands Local Authority\",0,IF('III Tool Overview'!$H$6=\"Eilean Siar Local Authority\",0,new_ci(10,B75,C75,D75,$C$1,G75,1,F75,E75*F75)))))))","v":2179.4926864909357},{"$f":"IF('III Tool Overview'!$H$6=\"Orkney Health Board\",0,IF('III Tool Overview'!$H$6=\"Shetland Health Board\",0,IF('III Tool Overview'!$H$6=\"Western Isles Health Board\",0,IF('III Tool Overview'!$H$6=\"Orkney Islands Local Authority\",0,IF('III Tool Overview'!$H$6=\"Shetland Islands Local Authority\",0,IF('III Tool Overview'!$H$6=\"Eilean Siar Local Authority\",0,new_ci(10,B75,C75,D75,$C$1,G75+H75,1,F75,E75*F75)))))))","v":2178.5086864048994},{"$f":"IF('III Tool Overview'!$H$6=\"Orkney Health Board\",0,IF('III Tool Overview'!$H$6=\"Shetland Health Board\",0,IF('III Tool Overview'!$H$6=\"Western Isles Health Board\",0,IF('III Tool Overview'!$H$6=\"Orkney Islands Local Authority\",0,IF('III Tool Overview'!$H$6=\"Shetland Islands Local Authority\",0,IF('III Tool Overview'!$H$6=\"Eilean Siar Local Authority\",0,new_ci(20,B75,C75,D75,$C$1,G75,1,F75,E75*F75)))))))","v":6019.7344306451123},{"$f":"IF('III Tool Overview'!$H$6=\"Orkney Health Board\",0,IF('III Tool Overview'!$H$6=\"Shetland Health Board\",0,IF('III Tool Overview'!$H$6=\"Western Isles Health Board\",0,IF('III Tool Overview'!$H$6=\"Orkney Islands Local Authority\",0,IF('III Tool Overview'!$H$6=\"Shetland Islands Local Authority\",0,IF('III Tool Overview'!$H$6=\"Eilean Siar Local Authority\",0,new_ci(20,B75,C75,D75,$C$1,G75+H75,1,F75,E75*F75)))))))","v":6017.227131400794},{"$f":"IF('III Tool Overview'!$H$6=\"Orkney Health Board\",0,IF('III Tool Overview'!$H$6=\"Shetland Health Board\",0,IF('III Tool Overview'!$H$6=\"Western Isles Health Board\",0,IF('III Tool Overview'!$H$6=\"Orkney Islands Local Authority\",0,IF('III Tool Overview'!$H$6=\"Shetland Islands Local Authority\",0,IF('III Tool Overview'!$H$6=\"Eilean Siar Local Authority\",0,new_yll(2,B75,C75,D75,$C$1,G75,1,F75,E75*F75)))))))","v":11132.861132381555},{"$f":"IF('III Tool Overview'!$H$6=\"Orkney Health Board\",0,IF('III Tool Overview'!$H$6=\"Shetland Health Board\",0,IF('III Tool Overview'!$H$6=\"Western Isles Health Board\",0,IF('III Tool Overview'!$H$6=\"Orkney Islands Local Authority\",0,IF('III Tool Overview'!$H$6=\"Shetland Islands Local Authority\",0,IF('III Tool Overview'!$H$6=\"Eilean Siar Local Authority\",0,new_yll(2,B75,C75,D75,$C$1,G75+H75,1,F75,E75*F75)))))))","v":11127.643172120266},5.2179602612886811,{"$f":"IF('III Tool Overview'!$H$6=\"Orkney Health Board\",0,IF('III Tool Overview'!$H$6=\"Shetland Health Board\",0,IF('III Tool Overview'!$H$6=\"Western Isles Health Board\",0,IF('III Tool Overview'!$H$6=\"Orkney Islands Local Authority\",0,IF('III Tool Overview'!$H$6=\"Shetland Islands Local Authority\",0,IF('III Tool Overview'!$H$6=\"Eilean Siar Local Authority\",0,new_yll(5,B75,C75,D75,$C$1,G75,1,F75,E75*F75)))))))","v":46919.297797958992},{"$f":"IF('III Tool Overview'!$H$6=\"Orkney Health Board\",0,IF('III Tool Overview'!$H$6=\"Shetland Health Board\",0,IF('III Tool Overview'!$H$6=\"Western Isles Health Board\",0,IF('III Tool Overview'!$H$6=\"Orkney Islands Local Authority\",0,IF('III Tool Overview'!$H$6=\"Shetland Islands Local Authority\",0,IF('III Tool Overview'!$H$6=\"Eilean Siar Local Authority\",0,new_yll(5,B75,C75,D75,$C$1,G75+H75,1,F75,E75*F75)))))))","v":46897.565214650487},21.732583308505127,{"$f":"IF('III Tool Overview'!$H$6=\"Orkney Health Board\",0,IF('III Tool Overview'!$H$6=\"Shetland Health Board\",0,IF('III Tool Overview'!$H$6=\"Western Isles Health Board\",0,IF('III Tool Overview'!$H$6=\"Orkney Islands Local Authority\",0,IF('III Tool Overview'!$H$6=\"Shetland Islands Local Authority\",0,IF('III Tool Overview'!$H$6=\"Eilean Siar Local Authority\",0,new_yll(10,B75,C75,D75,$C$1,G75,1,F75,E75*F75)))))))","v":114773.99763098665},{"$f":"IF('III Tool Overview'!$H$6=\"Orkney Health Board\",0,IF('III Tool Overview'!$H$6=\"Shetland Health Board\",0,IF('III Tool Overview'!$H$6=\"Western Isles Health Board\",0,IF('III Tool Overview'!$H$6=\"Orkney Islands Local Authority\",0,IF('III Tool Overview'!$H$6=\"Shetland Islands Local Authority\",0,IF('III Tool Overview'!$H$6=\"Eilean Siar Local Authority\",0,new_yll(10,B75,C75,D75,$C$1,G75+H75,1,F75,E75*F75)))))))","v":114722.11832966485},51.879301321794628,{"$f":"IF('III Tool Overview'!$H$6=\"Orkney Health Board\",0,IF('III Tool Overview'!$H$6=\"Shetland Health Board\",0,IF('III Tool Overview'!$H$6=\"Western Isles Health Board\",0,IF('III Tool Overview'!$H$6=\"Orkney Islands Local Authority\",0,IF('III Tool Overview'!$H$6=\"Shetland Islands Local Authority\",0,IF('III Tool Overview'!$H$6=\"Eilean Siar Local Authority\",0,new_yll(20,B75,C75,D75,$C$1,G75,1,F75,E75*F75)))))))","v":280385.54411576758},{"$f":"IF('III Tool Overview'!$H$6=\"Orkney Health Board\",0,IF('III Tool Overview'!$H$6=\"Shetland Health Board\",0,IF('III Tool Overview'!$H$6=\"Western Isles Health Board\",0,IF('III Tool Overview'!$H$6=\"Orkney Islands Local Authority\",0,IF('III Tool Overview'!$H$6=\"Shetland Islands Local Authority\",0,IF('III Tool Overview'!$H$6=\"Eilean Siar Local Authority\",0,new_yll(20,B75,C75,D75,$C$1,G75+H75,1,F75,E75*F75)))))))","v":280267.74486039067},117.79925537691452,{"$error":"#NAME?"},{"$error":"#NAME?"},{"$error":"#NAME?"},{"$error":"#NAME?"},{"$error":"#NAME?"},{"$error":"#NAME?"},{"$error":"#NAME?"},{"$error":"#NAME?"},{"$error":"#NAME?"},{"$error":"#NAME?"},{"$error":"#NAME?"},{"$error":"#NAME?"},{"$f":"HLOOKUP('III Tool Overview'!$H$6,LookUpData_Pop!$B$1:$AV$269,LookUpData_Pop!BB76,FALSE)","v":173363},80.3854984823585,null,173363,null,null,null,{"$error":"#DIV/0!"},{"$error":"#DIV/0!"},{"$error":"#DIV/0!"},null,4.6368313009326385E-4,0,null,{"$f":"(AP75/AO75)*LookUpData_Pop!$B$285","v":3.2457819106528469},{"$f":"(AQ75/AP75)*LookUpData_Pop!$B$285","v":0},null,0.5,5]
["Male 45-49",47.5,"male",1,{"$f":"HLOOKUP('III Tool Overview'!$H$6,Prevalence!$B$2:$AV$268,Prevalence!AW72,FALSE)","v":0.38041678123803879},{"$f":"HLOOKUP('III Tool Overview'!$H$6,LookUpData_Pop!$B$1:$AV$269,LookUpData_Pop!BB77,FALSE)/5","v":34460.800000000003},{"$f":"'III Tool Overview'!$H$9/110","v":0},{"$f":"IF('III Tool Overview'!$H$10=\"Even distribution\",Targeting!C74,IF('III Tool Overview'!$H$10=\"Targeting to Q1\",Targeting!D74,IF('III Tool Overview'!$H$10=\"Targeting to Q1 & Q2\",Targeting!E74,IF('III Tool Overview'!$H$10=\"Proportionate to need\",Targeting!F74))))","v":946.627723366184},{"$f":"IF('III Tool Overview'!$H$6=\"Orkney Health Board\",0,IF('III Tool Overview'!$H$6=\"Shetland Health Board\",0,IF('III Tool Overview'!$H$6=\"Western Isles Health Board\",0,IF('III Tool Overview'!$H$6=\"Orkney Islands Local Authority\",0,IF('III Tool Overview'!$H$6=\"Shetland Islands Local Authority\",0,IF('III Tool Overview'!$H$6=\"Eilean Siar Local Authority\",0,new_ci(2,B76,C76,D76,$C$1,G76,1,F76,E76*F76)))))))","v":299.26250674473164},{"$f":"IF('III Tool Overview'!$H$6=\"Orkney Health Board\",0,IF('III Tool Overview'!$H$6=\"Shetland Health Board\",0,IF('III Tool Overview'!$H$6=\"Western Isles Health Board\",0,IF('III Tool Overview'!$H$6=\"Orkney Islands Local Authority\",0,IF('III Tool Overview'!$H$6=\"Shetland Islands Local Authority\",0,IF('III Tool Overview'!$H$6=\"Eilean Siar Local Authority\",0,new_ci(2,B76,C76,D76,$C$1,G76+H76,1,F76,E76*F76)))))))","v":299.13655744747672},{"$f":"IF('III Tool Overview'!$H$6=\"Orkney Health Board\",0,IF('III Tool Overview'!$H$6=\"Shetland Health Board\",0,IF('III Tool Overview'!$H$6=\"Western Isles Health Board\",0,IF('III Tool Overview'!$H$6=\"Orkney Islands Local Authority\",0,IF('III Tool Overview'!$H$6=\"Shetland Islands Local Authority\",0,IF('III Tool Overview'!$H$6=\"Eilean Siar Local Authority\",0,new_ci(5,B76,C76,D76,$C$1,G76,1,F76,E76*F76)))))))","v":1290.0725431959543},{"$f":"IF('III Tool Overview'!$H$6=\"Orkney Health Board\",0,IF('III Tool Overview'!$H$6=\"Shetland Health Board\",0,IF('III Tool Overview'!$H$6=\"Western Isles Health Board\",0,IF('III Tool Overview'!$H$6=\"Orkney Islands Local Authority\",0,IF('III Tool Overview'!$H$6=\"Shetland Islands Local Authority\",0,IF('III Tool Overview'!$H$6=\"Eilean Siar Local Authority\",0,new_ci(5,B76,C76,D76,$C$1,G76+H76,1,F76,E76*F76)))))))","v":1289.5399317675049},{"$f":"IF('III Tool Overview'!$H$6=\"Orkney Health Board\",0,IF('III Tool Overview'!$H$6=\"Shetland Health Board\",0,IF('III Tool Overview'!$H$6=\"Western Isles Health Board\",0,IF('III Tool Overview'!$H$6=\"Orkney Islands Local Authority\",0,IF('III Tool Overview'!$H$6=\"Shetland Islands Local Authority\",0,IF('III Tool Overview'!$H$6=\"Eilean Siar Local Authority\",0,new_ci(10,B76,C76,D76,$C$1,G76,1,F76,E76*F76)))))))","v":3286.0016074557825},{"$f":"IF('III Tool Overview'!$H$6=\"Orkney Health Board\",0,IF('III Tool Overview'!$H$6=\"Shetland Health Board\",0,IF('III Tool Overview'!$H$6=\"Western Isles Health Board\",0,IF('III Tool Overview'!$H$6=\"Orkney Islands Local Authority\",0,IF('III Tool Overview'!$H$6=\"Shetland Islands Local Authority\",0,IF('III Tool Overview'!$H$6=\"Eilean Siar Local Authority\",0,new_ci(10,B76,C76,D76,$C$1,G76+H76,1,F76,E76*F76)))))))","v":3284.6992289347222},{"$f":"IF('III Tool Overview'!$H$6=\"Orkney Health Board\",0,IF('III Tool Overview'!$H$6=\"Shetland Health Board\",0,IF('III Tool Overview'!$H$6=\"Western Isles Health Board\",0,IF('III Tool Overview'!$H$6=\"Orkney Islands Local Authority\",0,IF('III Tool Overview'!$H$6=\"Shetland Islands Local Authority\",0,IF('III Tool Overview'!$H$6=\"Eilean Siar Local Authority\",0,new_ci(20,B76,C76,D76,$C$1,G76,1,F76,E76*F76)))))))","v":8782.871321590088},{"$f":"IF('III Tool Overview'!$H$6=\"Orkney Health Board\",0,IF('III Tool Overview'!$H$6=\"Shetland Health Board\",0,IF('III Tool Overview'!$H$6=\"Western Isles Health Board\",0,IF('III Tool Overview'!$H$6=\"Orkney Islands Local Authority\",0,IF('III Tool Overview'!$H$6=\"Shetland Islands Local Authority\",0,IF('III Tool Overview'!$H$6=\"Eilean Siar Local Authority\",0,new_ci(20,B76,C76,D76,$C$1,G76+H76,1,F76,E76*F76)))))))","v":8779.8151102525298},{"$f":"IF('III Tool Overview'!$H$6=\"Orkney Health Board\",0,IF('III Tool Overview'!$H$6=\"Shetland Health Board\",0,IF('III Tool Overview'!$H$6=\"Western Isles Health Board\",0,IF('III Tool Overview'!$H$6=\"Orkney Islands Local Authority\",0,IF('III Tool Overview'!$H$6=\"Shetland Islands Local Authority\",0,IF('III Tool Overview'!$H$6=\"Eilean Siar Local Authority\",0,new_yll(2,B76,C76,D76,$C$1,G76,1,F76,E76*F76)))))))","v":15262.387843981314},{"$f":"IF('III Tool Overview'!$H$6=\"Orkney Health Board\",0,IF('III Tool Overview'!$H$6=\"Shetland Health Board\",0,IF('III Tool Overview'!$H$6=\"Western Isles Health Board\",0,IF('III Tool Overview'!$H$6=\"Orkney Islands Local Authority\",0,IF('III Tool Overview'!$H$6=\"Shetland Islands Local Authority\",0,IF('III Tool Overview'!$H$6=\"Eilean Siar Local Authority\",0,new_yll(2,B76,C76,D76,$C$1,G76+H76,1,F76,E76*F76)))))))","v":15255.964429821313},6.4234141600009025,{"$f":"IF('III Tool Overview'!$H$6=\"Orkney Health Board\",0,IF('III Tool Overview'!$H$6=\"Shetland Health Board\",0,IF('III Tool Overview'!$H$6=\"Western Isles Health Board\",0,IF('III Tool Overview'!$H$6=\"Orkney Islands Local Authority\",0,IF('III Tool Overview'!$H$6=\"Shetland Islands Local Authority\",0,IF('III Tool Overview'!$H$6=\"Eilean Siar Local Authority\",0,new_yll(5,B76,C76,D76,$C$1,G76,1,F76,E76*F76)))))))","v":63780.101160776023},{"$f":"IF('III Tool Overview'!$H$6=\"Orkney Health Board\",0,IF('III Tool Overview'!$H$6=\"Shetland Health Board\",0,IF('III Tool Overview'!$H$6=\"Western Isles Health Board\",0,IF('III Tool Overview'!$H$6=\"Orkney Islands Local Authority\",0,IF('III Tool Overview'!$H$6=\"Shetland Islands Local Authority\",0,IF('III Tool Overview'!$H$6=\"Eilean Siar Local Authority\",0,new_yll(5,B76,C76,D76,$C$1,G76+H76,1,F76,E76*F76)))))))","v":63753.760882099326},26.340278676696471,{"$f":"IF('III Tool Overview'!$H$6=\"Orkney Health Board\",0,IF('III Tool Overview'!$H$6=\"Shetland Health Board\",0,IF('III Tool Overview'!$H$6=\"Western Isles Health Board\",0,IF('III Tool Overview'!$H$6=\"Orkney Islands Local Authority\",0,IF('III Tool Overview'!$H$6=\"Shetland Islands Local Authority\",0,IF('III Tool Overview'!$H$6=\"Eilean Siar Local Authority\",0,new_yll(10,B76,C76,D76,$C$1,G76,1,F76,E76*F76)))))))","v":153414.32636459},{"$f":"IF('III Tool Overview'!$H$6=\"Orkney Health Board\",0,IF('III Tool Overview'!$H$6=\"Shetland Health Board\",0,IF('III Tool Overview'!$H$6=\"Western Isles Health Board\",0,IF('III Tool Overview'!$H$6=\"Orkney Islands Local Authority\",0,IF('III Tool Overview'!$H$6=\"Shetland Islands Local Authority\",0,IF('III Tool Overview'!$H$6=\"Eilean Siar Local Authority\",0,new_yll(10,B76,C76,D76,$C$1,G76+H76,1,F76,E76*F76)))))))","v":153353.3902145485},60.936150041496148,{"$f":"IF('III Tool Overview'!$H$6=\"Orkney Health Board\",0,IF('III Tool Overview'!$H$6=\"Shetland Health Board\",0,IF('III Tool Overview'!$H$6=\"Western Isles Health Board\",0,IF('III Tool Overview'!$H$6=\"Orkney Islands Local Authority\",0,IF('III Tool Overview'!$H$6=\"Shetland Islands Local Authority\",0,IF('III Tool Overview'!$H$6=\"Eilean Siar Local Authority\",0,new_yll(20,B76,C76,D76,$C$1,G76,1,F76,E76*F76)))))))","v":357798.57431209006},{"$f":"IF('III Tool Overview'!$H$6=\"Orkney Health Board\",0,IF('III Tool Overview'!$H$6=\"Shetland Health Board\",0,IF('III Tool Overview'!$H$6=\"Western Isles Health Board\",0,IF('III Tool Overview'!$H$6=\"Orkney Islands Local Authority\",0,IF('III Tool Overview'!$H$6=\"Shetland Islands Local Authority\",0,IF('III Tool Overview'!$H$6=\"Eilean Siar Local Authority\",0,new_yll(20,B76,C76,D76,$C$1,G76+H76,1,F76,E76*F76)))))))","v":357671.96962232364},126.60468976642005,{"$error":"#NAME?"},{"$error":"#NAME?"},{"$error":"#NAME?"},{"$error":"#NAME?"},{"$error":"#NAME?"},{"$error":"#NAME?"},{"$error":"#NAME?"},{"$error":"#NAME?"},{"$error":"#NAME?"},{"$error":"#NAME?"},{"$error":"#NAME?"},{"$error":"#NAME?"},{"$f":"HLOOKUP('III Tool Overview'!$H$6,LookUpData_Pop!$B$1:$AV$269,LookUpData_Pop!BB77,FALSE)","v":172304},106.36869241770451,null,172304,null,null,null,{"$error":"#DIV/0!"},{"$error":"#DIV/0!"},{"$error":"#DIV/0!"},null,6.1733153274273669E-4,0,null,{"$f":"(AP76/AO76)*LookUpData_Pop!$B$286","v":4.3213207291991571},{"$f":"(AQ76/AP76)*LookUpData_Pop!$B$286","v":0},null,0.5,5]
["Male 50-54",52.5,"male",1,{"$f":"HLOOKUP('III Tool Overview'!$H$6,Prevalence!$B$2:$AV$268,Prevalence!AW73,FALSE)","v":0.38041678123803879},{"$f":"HLOOKUP('III Tool Overview'!$H$6,LookUpData_Pop!$B$1:$AV$269,LookUpData_Pop!BB78,FALSE)/5","v":31296.6},{"$f":"'III Tool Overview'!$H$9/110","v":0},{"$f":"IF('III Tool Overview'!$H$10=\"Even distribution\",Targeting!C75,IF('III Tool Overview'!$H$10=\"Targeting to Q1\",Targeting!D75,IF('III Tool Overview'!$H$10=\"Targeting to Q1 & Q2\",Targeting!E75,IF('III Tool Overview'!$H$10=\"Proportionate to need\",Targeting!F75))))","v":881.32143415553605},{"$f":"IF('III Tool Overview'!$H$6=\"Orkney Health Board\",0,IF('III Tool Overview'!$H$6=\"Shetland Health Board\",0,IF('III Tool Overview'!$H$6=\"Western Isles Health Board\",0,IF('III Tool Overview'!$H$6=\"Orkney Islands Local Authority\",0,IF('III Tool Overview'!$H$6=\"Shetland Islands Local Authority\",0,IF('III Tool Overview'!$H$6=\"Eilean Siar Local Authority\",0,new_ci(2,B77,C77,D77,$C$1,G77,1,F77,E77*F77)))))))","v":362.53583810878308},{"$f":"IF('III Tool Overview'!$H$6=\"Orkney Health Board\",0,IF('III Tool Overview'!$H$6=\"Shetland Health Board\",0,IF('III Tool Overview'!$H$6=\"Western Isles Health Board\",0,IF('III Tool Overview'!$H$6=\"Orkney Islands Local Authority\",0,IF('III Tool Overview'!$H$6=\"Shetland Islands Local Authority\",0,IF('III Tool Overview'!$H$6=\"Eilean Siar Local Authority\",0,new_ci(2,B77,C77,D77,$C$1,G77+H77,1,F77,E77*F77)))))))","v":362.37984084167192},{"$f":"IF('III Tool Overview'!$H$6=\"Orkney Health Board\",0,IF('III Tool Overview'!$H$6=\"Shetland Health Board\",0,IF('III Tool Overview'!$H$6=\"Western Isles Health Board\",0,IF('III Tool Overview'!$H$6=\"Orkney Islands Local Authority\",0,IF('III Tool Overview'!$H$6=\"Shetland Islands Local Authority\",0,IF('III Tool Overview'!$H$6=\"Eilean Siar Local Authority\",0,new_ci(5,B77,C77,D77,$C$1,G77,1,F77,E77*F77)))))))","v":1555.0704788219455},{"$f":"IF('III Tool Overview'!$H$6=\"Orkney Health Board\",0,IF('III Tool Overview'!$H$6=\"Shetland Health Board\",0,IF('III Tool Overview'!$H$6=\"Western Isles Health Board\",0,IF('III Tool Overview'!$H$6=\"Orkney Islands Local Authority\",0,IF('III Tool Overview'!$H$6=\"Shetland Islands Local Authority\",0,IF('III Tool Overview'!$H$6=\"Eilean Siar Local Authority\",0,new_ci(5,B77,C77,D77,$C$1,G77+H77,1,F77,E77*F77)))))))","v":1554.418320539299},{"$f":"IF('III Tool Overview'!$H$6=\"Orkney Health Board\",0,IF('III Tool Overview'!$H$6=\"Shetland Health Board\",0,IF('III Tool Overview'!$H$6=\"Western Isles Health Board\",0,IF('III Tool Overview'!$H$6=\"Orkney Islands Local Authority\",0,IF('III Tool Overview'!$H$6=\"Shetland Islands Local Authority\",0,IF('III Tool Overview'!$H$6=\"Eilean Siar Local Authority\",0,new_ci(10,B77,C77,D77,$C$1,G77,1,F77,E77*F77)))))))","v":3920.3885597955386},{"$f":"IF('III Tool Overview'!$H$6=\"Orkney Health Board\",0,IF('III Tool Overview'!$H$6=\"Shetland Health Board\",0,IF('III Tool Overview'!$H$6=\"Western Isles Health Board\",0,IF('III Tool Overview'!$H$6=\"Orkney Islands Local Authority\",0,IF('III Tool Overview'!$H$6=\"Shetland Islands Local Authority\",0,IF('III Tool Overview'!$H$6=\"Eilean Siar Local Authority\",0,new_ci(10,B77,C77,D77,$C$1,G77+H77,1,F77,E77*F77)))))))","v":3918.8319702120066},{"$f":"IF('III Tool Overview'!$H$6=\"Orkney Health Board\",0,IF('III Tool Overview'!$H$6=\"Shetland Health Board\",0,IF('III Tool Overview'!$H$6=\"Western Isles Health Board\",0,IF('III Tool Overview'!$H$6=\"Orkney Islands Local Authority\",0,IF('III Tool Overview'!$H$6=\"Shetland Islands Local Authority\",0,IF('III Tool Overview'!$H$6=\"Eilean Siar Local Authority\",0,new_ci(20,B77,C77,D77,$C$1,G77,1,F77,E77*F77)))))))","v":10163.730863049383},{"$f":"IF('III Tool Overview'!$H$6=\"Orkney Health Board\",0,IF('III Tool Overview'!$H$6=\"Shetland Health Board\",0,IF('III Tool Overview'!$H$6=\"Western Isles Health Board\",0,IF('III Tool Overview'!$H$6=\"Orkney Islands Local Authority\",0,IF('III Tool Overview'!$H$6=\"Shetland Islands Local Authority\",0,IF('III Tool Overview'!$H$6=\"Eilean Siar Local Authority\",0,new_ci(20,B77,C77,D77,$C$1,G77+H77,1,F77,E77*F77)))))))","v":10160.344678236574},{"$f":"IF('III Tool Overview'!$H$6=\"Orkney Health Board\",0,IF('III Tool Overview'!$H$6=\"Shetland Health Board\",0,IF('III Tool Overview'!$H$6=\"Western Isles Health Board\",0,IF('III Tool Overview'!$H$6=\"Orkney Islands Local Authority\",0,IF('III Tool Overview'!$H$6=\"Shetland Islands Local Authority\",0,IF('III Tool Overview'!$H$6=\"Eilean Siar Local Authority\",0,new_yll(2,B77,C77,D77,$C$1,G77,1,F77,E77*F77)))))))","v":17039.184391112805},{"$f":"IF('III Tool Overview'!$H$6=\"Orkney Health Board\",0,IF('III Tool Overview'!$H$6=\"Shetland Health Board\",0,IF('III Tool Overview'!$H$6=\"Western Isles Health Board\",0,IF('III Tool Overview'!$H$6=\"Orkney Islands Local Authority\",0,IF('III Tool Overview'!$H$6=\"Shetland Islands Local Authority\",0,IF('III Tool Overview'!$H$6=\"Eilean Siar Local Authority\",0,new_yll(2,B77,C77,D77,$C$1,G77+H77,1,F77,E77*F77)))))))","v":17031.852519558579},7.3318715542263817,{"$f":"IF('III Tool Overview'!$H$6=\"Orkney Health Board\",0,IF('III Tool Overview'!$H$6=\"Shetland Health Board\",0,IF('III Tool Overview'!$H$6=\"Western Isles Health Board\",0,IF('III Tool Overview'!$H$6=\"Orkney Islands Local Authority\",0,IF('III Tool Overview'!$H$6=\"Shetland Islands Local Authority\",0,IF('III Tool Overview'!$H$6=\"Eilean Siar Local Authority\",0,new_yll(5,B77,C77,D77,$C$1,G77,1,F77,E77*F77)))))))","v":70667.414258893565},{"$f":"IF('III Tool Overview'!$H$6=\"Orkney Health Board\",0,IF('III Tool Overview'!$H$6=\"Shetland Health Board\",0,IF('III Tool Overview'!$H$6=\"Western Isles Health Board\",0,IF('III Tool Overview'!$H$6=\"Orkney Islands Local Authority\",0,IF('III Tool Overview'!$H$6=\"Shetland Islands Local Authority\",0,IF('III Tool Overview'!$H$6=\"Eilean Siar Local Authority\",0,new_yll(5,B77,C77,D77,$C$1,G77+H77,1,F77,E77*F77)))))))","v":70637.764220893296},29.650038000268978,{"$f":"IF('III Tool Overview'!$H$6=\"Orkney Health Board\",0,IF('III Tool Overview'!$H$6=\"Shetland Health Board\",0,IF('III Tool Overview'!$H$6=\"Western Isles Health Board\",0,IF('III Tool Overview'!$H$6=\"Orkney Islands Local Authority\",0,IF('III Tool Overview'!$H$6=\"Shetland Islands Local Authority\",0,IF('III Tool Overview'!$H$6=\"Eilean Siar Local Authority\",0,new_yll(10,B77,C77,D77,$C$1,G77,1,F77,E77*F77)))))))","v":167449.05563330944},{"$f":"IF('III Tool Overview'!$H$6=\"Orkney Health Board\",0,IF('III Tool Overview'!$H$6=\"Shetland Health Board\",0,IF('III Tool Overview'!$H$6=\"Western Isles Health Board\",0,IF('III Tool Overview'!$H$6=\"Orkney Islands Local Authority\",0,IF('III Tool Overview'!$H$6=\"Shetland Islands Local Authority\",0,IF('III Tool Overview'!$H$6=\"Eilean Siar Local Authority\",0,new_yll(10,B77,C77,D77,$C$1,G77+H77,1,F77,E77*F77)))))))","v":167382.3558547943},66.699778515147045,{"$f":"IF('III Tool Overview'!$H$6=\"Orkney Health Board\",0,IF('III Tool Overview'!$H$6=\"Shetland Health Board\",0,IF('III Tool Overview'!$H$6=\"Western Isles Health Board\",0,IF('III Tool Overview'!$H$6=\"Orkney Islands Local Authority\",0,IF('III Tool Overview'!$H$6=\"Shetland Islands Local Authority\",0,IF('III Tool Overview'!$H$6=\"Eilean Siar Local Authority\",0,new_yll(20,B77,C77,D77,$C$1,G77,1,F77,E77*F77)))))))","v":374951.74112542742},{"$f":"IF('III Tool Overview'!$H$6=\"Orkney Health Board\",0,IF('III Tool Overview'!$H$6=\"Shetland Health Board\",0,IF('III Tool Overview'!$H$6=\"Western Isles Health Board\",0,IF('III Tool Overview'!$H$6=\"Orkney Islands Local Authority\",0,IF('III Tool Overview'!$H$6=\"Shetland Islands Local Authority\",0,IF('III Tool Overview'!$H$6=\"Eilean Siar Local Authority\",0,new_yll(20,B77,C77,D77,$C$1,G77+H77,1,F77,E77*F77)))))))","v":374823.53433458059},128.2067908468307,{"$error":"#NAME?"},{"$error":"#NAME?"},{"$error":"#NAME?"},{"$error":"#NAME?"},{"$error":"#NAME?"},{"$error":"#NAME?"},{"$error":"#NAME?"},{"$error":"#NAME?"},{"$error":"#NAME?"},{"$error":"#NAME?"},{"$error":"#NAME?"},{"$error":"#NAME?"},{"$f":"HLOOKUP('III Tool Overview'!$H$6,LookUpData_Pop!$B$1:$AV$269,LookUpData_Pop!BB78,FALSE)","v":156483},145.71391111867868,null,156483,null,null,null,{"$error":"#DIV/0!"},{"$error":"#DIV/0!"},{"$error":"#DIV/0!"},null,9.3118045486524853E-4,0,null,{"$f":"(AP77/AO77)*LookUpData_Pop!$B$287","v":6.5182631840567398},{"$f":"(AQ77/AP77)*LookUpData_Pop!$B$287","v":0},null,0.5,5]
["Male 55-59",57.5,"male",1,{"$f":"HLOOKUP('III Tool Overview'!$H$6,Prevalence!$B$2:$AV$268,Prevalence!AW74,FALSE)","v":0.27297057783087963},{"$f":"HLOOKUP('III Tool Overview'!$H$6,LookUpData_Pop!$B$1:$AV$269,LookUpData_Pop!BB79,FALSE)/5","v":28058.400000000001},{"$f":"'III Tool Overview'!$H$9/110","v":0},{"$f":"IF('III Tool Overview'!$H$10=\"Even distribution\",Targeting!C76,IF('III Tool Overview'!$H$10=\"Targeting to Q1\",Targeting!D76,IF('III Tool Overview'!$H$10=\"Targeting to Q1 & Q2\",Targeting!E76,IF('III Tool Overview'!$H$10=\"Proportionate to need\",Targeting!F76))))","v":534.42113021232808},{"$f":"IF('III Tool Overview'!$H$6=\"Orkney Health Board\",0,IF('III Tool Overview'!$H$6=\"Shetland Health Board\",0,IF('III Tool Overview'!$H$6=\"Western Isles Health Board\",0,IF('III Tool Overview'!$H$6=\"Orkney Islands Local Authority\",0,IF('III Tool Overview'!$H$6=\"Shetland Islands Local Authority\",0,IF('III Tool Overview'!$H$6=\"Eilean Siar Local Authority\",0,new_ci(2,B78,C78,D78,$C$1,G78,1,F78,E78*F78)))))))","v":500.24933640101312},{"$f":"IF('III Tool Overview'!$H$6=\"Orkney Health Board\",0,IF('III Tool Overview'!$H$6=\"Shetland Health Board\",0,IF('III Tool Overview'!$H$6=\"Western Isles Health Board\",0,IF('III Tool Overview'!$H$6=\"Orkney Islands Local Authority\",0,IF('III Tool Overview'!$H$6=\"Shetland Islands Local Authority\",0,IF('III Tool Overview'!$H$6=\"Eilean Siar Local Authority\",0,new_ci(2,B78,C78,D78,$C$1,G78+H78,1,F78,E78*F78)))))))","v":500.10018339886517},{"$f":"IF('III Tool Overview'!$H$6=\"Orkney Health Board\",0,IF('III Tool Overview'!$H$6=\"Shetland Health Board\",0,IF('III Tool Overview'!$H$6=\"Western Isles Health Board\",0,IF('III Tool Overview'!$H$6=\"Orkney Islands Local Authority\",0,IF('III Tool Overview'!$H$6=\"Shetland Islands Local Authority\",0,IF('III Tool Overview'!$H$6=\"Eilean Siar Local Authority\",0,new_ci(5,B78,C78,D78,$C$1,G78,1,F78,E78*F78)))))))","v":2123.0040587453386},{"$f":"IF('III Tool Overview'!$H$6=\"Orkney Health Board\",0,IF('III Tool Overview'!$H$6=\"Shetland Health Board\",0,IF('III Tool Overview'!$H$6=\"Western Isles Health Board\",0,IF('III Tool Overview'!$H$6=\"Orkney Islands Local Authority\",0,IF('III Tool Overview'!$H$6=\"Shetland Islands Local Authority\",0,IF('III Tool Overview'!$H$6=\"Eilean Siar Local Authority\",0,new_ci(5,B78,C78,D78,$C$1,G78+H78,1,F78,E78*F78)))))))","v":2122.3970648580084},{"$f":"IF('III Tool Overview'!$H$6=\"Orkney Health Board\",0,IF('III Tool Overview'!$H$6=\"Shetland Health Board\",0,IF('III Tool Overview'!$H$6=\"Western Isles Health Board\",0,IF('III Tool Overview'!$H$6=\"Orkney Islands Local Authority\",0,IF('III Tool Overview'!$H$6=\"Shetland Islands Local Authority\",0,IF('III Tool Overview'!$H$6=\"Eilean Siar Local Authority\",0,new_ci(10,B78,C78,D78,$C$1,G78,1,F78,E78*F78)))))))","v":5236.315383044448},{"$f":"IF('III Tool Overview'!$H$6=\"Orkney Health Board\",0,IF('III Tool Overview'!$H$6=\"Shetland Health Board\",0,IF('III Tool Overview'!$H$6=\"Western Isles Health Board\",0,IF('III Tool Overview'!$H$6=\"Orkney Islands Local Authority\",0,IF('III Tool Overview'!$H$6=\"Shetland Islands Local Authority\",0,IF('III Tool Overview'!$H$6=\"Eilean Siar Local Authority\",0,new_ci(10,B78,C78,D78,$C$1,G78+H78,1,F78,E78*F78)))))))","v":5234.9465467858954},{"$f":"IF('III Tool Overview'!$H$6=\"Orkney Health Board\",0,IF('III Tool Overview'!$H$6=\"Shetland Health Board\",0,IF('III Tool Overview'!$H$6=\"Western Isles Health Board\",0,IF('III Tool Overview'!$H$6=\"Orkney Islands Local Authority\",0,IF('III Tool Overview'!$H$6=\"Shetland Islands Local Authority\",0,IF('III Tool Overview'!$H$6=\"Eilean Siar Local Authority\",0,new_ci(20,B78,C78,D78,$C$1,G78,1,F78,E78*F78)))))))","v":12745.52008554754},{"$f":"IF('III Tool Overview'!$H$6=\"Orkney Health Board\",0,IF('III Tool Overview'!$H$6=\"Shetland Health Board\",0,IF('III Tool Overview'!$H$6=\"Western Isles Health Board\",0,IF('III Tool Overview'!$H$6=\"Orkney Islands Local Authority\",0,IF('III Tool Overview'!$H$6=\"Shetland Islands Local Authority\",0,IF('III Tool Overview'!$H$6=\"Eilean Siar Local Authority\",0,new_ci(20,B78,C78,D78,$C$1,G78+H78,1,F78,E78*F78)))))))","v":12743.027453597533},{"$f":"IF('III Tool Overview'!$H$6=\"Orkney Health Board\",0,IF('III Tool Overview'!$H$6=\"Shetland Health Board\",0,IF('III Tool Overview'!$H$6=\"Western Isles Health Board\",0,IF('III Tool Overview'!$H$6=\"Orkney Islands Local Authority\",0,IF('III Tool Overview'!$H$6=\"Shetland Islands Local Authority\",0,IF('III Tool Overview'!$H$6=\"Eilean Siar Local Authority\",0,new_yll(2,B78,C78,D78,$C$1,G78,1,F78,E78*F78)))))))","v":20510.222792441538},{"$f":"IF('III Tool Overview'!$H$6=\"Orkney Health Board\",0,IF('III Tool Overview'!$H$6=\"Shetland Health Board\",0,IF('III Tool Overview'!$H$6=\"Western Isles Health Board\",0,IF('III Tool Overview'!$H$6=\"Orkney Islands Local Authority\",0,IF('III Tool Overview'!$H$6=\"Shetland Islands Local Authority\",0,IF('III Tool Overview'!$H$6=\"Eilean Siar Local Authority\",0,new_yll(2,B78,C78,D78,$C$1,G78+H78,1,F78,E78*F78)))))))","v":20504.107519353471},6.1152730880676245,{"$f":"IF('III Tool Overview'!$H$6=\"Orkney Health Board\",0,IF('III Tool Overview'!$H$6=\"Shetland Health Board\",0,IF('III Tool Overview'!$H$6=\"Western Isles Health Board\",0,IF('III Tool Overview'!$H$6=\"Orkney Islands Local Authority\",0,IF('III Tool Overview'!$H$6=\"Shetland Islands Local Authority\",0,IF('III Tool Overview'!$H$6=\"Eilean Siar Local Authority\",0,new_yll(5,B78,C78,D78,$C$1,G78,1,F78,E78*F78)))))))","v":83756.692861313932},{"$f":"IF('III Tool Overview'!$H$6=\"Orkney Health Board\",0,IF('III Tool Overview'!$H$6=\"Shetland Health Board\",0,IF('III Tool Overview'!$H$6=\"Western Isles Health Board\",0,IF('III Tool Overview'!$H$6=\"Orkney Islands Local Authority\",0,IF('III Tool Overview'!$H$6=\"Shetland Islands Local Authority\",0,IF('III Tool Overview'!$H$6=\"Eilean Siar Local Authority\",0,new_yll(5,B78,C78,D78,$C$1,G78+H78,1,F78,E78*F78)))))))","v":83732.724428581074},23.968432732857764,{"$f":"IF('III Tool Overview'!$H$6=\"Orkney Health Board\",0,IF('III Tool Overview'!$H$6=\"Shetland Health Board\",0,IF('III Tool Overview'!$H$6=\"Western Isles Health Board\",0,IF('III Tool Overview'!$H$6=\"Orkney Islands Local Authority\",0,IF('III Tool Overview'!$H$6=\"Shetland Islands Local Authority\",0,IF('III Tool Overview'!$H$6=\"Eilean Siar Local Authority\",0,new_yll(10,B78,C78,D78,$C$1,G78,1,F78,E78*F78)))))))","v":192520.62863236669},{"$f":"IF('III Tool Overview'!$H$6=\"Orkney Health Board\",0,IF('III Tool Overview'!$H$6=\"Shetland Health Board\",0,IF('III Tool Overview'!$H$6=\"Western Isles Health Board\",0,IF('III Tool Overview'!$H$6=\"Orkney Islands Local Authority\",0,IF('III Tool Overview'!$H$6=\"Shetland Islands Local Authority\",0,IF('III Tool Overview'!$H$6=\"Eilean Siar Local Authority\",0,new_yll(10,B78,C78,D78,$C$1,G78+H78,1,F78,E78*F78)))))))","v":192469.98217602109},50.646456345595652,{"$f":"IF('III Tool Overview'!$H$6=\"Orkney Health Board\",0,IF('III Tool Overview'!$H$6=\"Shetland Health Board\",0,IF('III Tool Overview'!$H$6=\"Western Isles Health Board\",0,IF('III Tool Overview'!$H$6=\"Orkney Islands Local Authority\",0,IF('III Tool Overview'!$H$6=\"Shetland Islands Local Authority\",0,IF('III Tool Overview'!$H$6=\"Eilean Siar Local Authority\",0,new_yll(20,B78,C78,D78,$C$1,G78,1,F78,E78*F78)))))))","v":397908.60262920364},{"$f":"IF('III Tool Overview'!$H$6=\"Orkney Health Board\",0,IF('III Tool Overview'!$H$6=\"Shetland Health Board\",0,IF('III Tool Overview'!$H$6=\"Western Isles Health Board\",0,IF('III Tool Overview'!$H$6=\"Orkney Islands Local Authority\",0,IF('III Tool Overview'!$H$6=\"Shetland Islands Local Authority\",0,IF('III Tool Overview'!$H$6=\"Eilean Siar Local Authority\",0,new_yll(20,B78,C78,D78,$C$1,G78+H78,1,F78,E78*F78)))))))","v":397826.32748111873},82.275148084911052,{"$error":"#NAME?"},{"$error":"#NAME?"},{"$error":"#NAME?"},{"$error":"#NAME?"},{"$error":"#NAME?"},{"$error":"#NAME?"},{"$error":"#NAME?"},{"$error":"#NAME?"},{"$error":"#NAME?"},{"$error":"#NAME?"},{"$error":"#NAME?"},{"$error":"#NAME?"},{"$f":"HLOOKUP('III Tool Overview'!$H$6,LookUpData_Pop!$B$1:$AV$269,LookUpData_Pop!BB79,FALSE)","v":140292},176.05727107596965,null,140292,null,null,null,{"$error":"#DIV/0!"},{"$error":"#DIV/0!"},{"$error":"#DIV/0!"},null,1.2549345014396377E-3,0,null,{"$f":"(AP78/AO78)*LookUpData_Pop!$B$288","v":7.5296070086378259},{"$f":"(AQ78/AP78)*LookUpData_Pop!$B$288","v":0},null,0.5,5]
["Male 60-64",62.5,"male",1,{"$f":"HLOOKUP('III Tool Overview'!$H$6,Prevalence!$B$2:$AV$268,Prevalence!AW75,FALSE)","v":0.27297057783087963},{"$f":"HLOOKUP('III Tool Overview'!$H$6,LookUpData_Pop!$B$1:$AV$269,LookUpData_Pop!BB80,FALSE)/5","v":26790},{"$f":"'III Tool Overview'!$H$9/110","v":0},{"$f":"IF('III Tool Overview'!$H$10=\"Even distribution\",Targeting!C77,IF('III Tool Overview'!$H$10=\"Targeting to Q1\",Targeting!D77,IF('III Tool Overview'!$H$10=\"Targeting to Q1 & Q2\",Targeting!E77,IF('III Tool Overview'!$H$10=\"Proportionate to need\",Targeting!F77))))","v":489.24716494237219},{"$f":"IF('III Tool Overview'!$H$6=\"Orkney Health Board\",0,IF('III Tool Overview'!$H$6=\"Shetland Health Board\",0,IF('III Tool Overview'!$H$6=\"Western Isles Health Board\",0,IF('III Tool Overview'!$H$6=\"Orkney Islands Local Authority\",0,IF('III Tool Overview'!$H$6=\"Shetland Islands Local Authority\",0,IF('III Tool Overview'!$H$6=\"Eilean Siar Local Authority\",0,new_ci(2,B79,C79,D79,$C$1,G79,1,F79,E79*F79)))))))","v":636.12396576016579},{"$f":"IF('III Tool Overview'!$H$6=\"Orkney Health Board\",0,IF('III Tool Overview'!$H$6=\"Shetland Health Board\",0,IF('III Tool Overview'!$H$6=\"Western Isles Health Board\",0,IF('III Tool Overview'!$H$6=\"Orkney Islands Local Authority\",0,IF('III Tool Overview'!$H$6=\"Shetland Islands Local Authority\",0,IF('III Tool Overview'!$H$6=\"Eilean Siar Local Authority\",0,new_ci(2,B79,C79,D79,$C$1,G79+H79,1,F79,E79*F79)))))))","v":635.94281575468642},{"$f":"IF('III Tool Overview'!$H$6=\"Orkney Health Board\",0,IF('III Tool Overview'!$H$6=\"Shetland Health Board\",0,IF('III Tool Overview'!$H$6=\"Western Isles Health Board\",0,IF('III Tool Overview'!$H$6=\"Orkney Islands Local Authority\",0,IF('III Tool Overview'!$H$6=\"Shetland Islands Local Authority\",0,IF('III Tool Overview'!$H$6=\"Eilean Siar Local Authority\",0,new_ci(5,B79,C79,D79,$C$1,G79,1,F79,E79*F79)))))))","v":2672.3906450093064},{"$f":"IF('III Tool Overview'!$H$6=\"Orkney Health Board\",0,IF('III Tool Overview'!$H$6=\"Shetland Health Board\",0,IF('III Tool Overview'!$H$6=\"Western Isles Health Board\",0,IF('III Tool Overview'!$H$6=\"Orkney Islands Local Authority\",0,IF('III Tool Overview'!$H$6=\"Shetland Islands Local Authority\",0,IF('III Tool Overview'!$H$6=\"Eilean Siar Local Authority\",0,new_ci(5,B79,C79,D79,$C$1,G79+H79,1,F79,E79*F79)))))))","v":2671.6711709926503},{"$f":"IF('III Tool Overview'!$H$6=\"Orkney Health Board\",0,IF('III Tool Overview'!$H$6=\"Shetland Health Board\",0,IF('III Tool Overview'!$H$6=\"Western Isles Health Board\",0,IF('III Tool Overview'!$H$6=\"Orkney Islands Local Authority\",0,IF('III Tool Overview'!$H$6=\"Shetland Islands Local Authority\",0,IF('III Tool Overview'!$H$6=\"Eilean Siar Local Authority\",0,new_ci(10,B79,C79,D79,$C$1,G79,1,F79,E79*F79)))))))","v":6457.3016891400566},{"$f":"IF('III Tool Overview'!$H$6=\"Orkney Health Board\",0,IF('III Tool Overview'!$H$6=\"Shetland Health Board\",0,IF('III Tool Overview'!$H$6=\"Western Isles Health Board\",0,IF('III Tool Overview'!$H$6=\"Orkney Islands Local Authority\",0,IF('III Tool Overview'!$H$6=\"Shetland Islands Local Authority\",0,IF('III Tool Overview'!$H$6=\"Eilean Siar Local Authority\",0,new_ci(10,B79,C79,D79,$C$1,G79+H79,1,F79,E79*F79)))))))","v":6455.7604617385332},{"$f":"IF('III Tool Overview'!$H$6=\"Orkney Health Board\",0,IF('III Tool Overview'!$H$6=\"Shetland Health Board\",0,IF('III Tool Overview'!$H$6=\"Western Isles Health Board\",0,IF('III Tool Overview'!$H$6=\"Orkney Islands Local Authority\",0,IF('III Tool Overview'!$H$6=\"Shetland Islands Local Authority\",0,IF('III Tool Overview'!$H$6=\"Eilean Siar Local Authority\",0,new_ci(20,B79,C79,D79,$C$1,G79,1,F79,E79*F79)))))))","v":14846.25350124207},{"$f":"IF('III Tool Overview'!$H$6=\"Orkney Health Board\",0,IF('III Tool Overview'!$H$6=\"Shetland Health Board\",0,IF('III Tool Overview'!$H$6=\"Western Isles Health Board\",0,IF('III Tool Overview'!$H$6=\"Orkney Islands Local Authority\",0,IF('III Tool Overview'!$H$6=\"Shetland Islands Local Authority\",0,IF('III Tool Overview'!$H$6=\"Eilean Siar Local Authority\",0,new_ci(20,B79,C79,D79,$C$1,G79+H79,1,F79,E79*F79)))))))","v":14843.864211936663},{"$f":"IF('III Tool Overview'!$H$6=\"Orkney Health Board\",0,IF('III Tool Overview'!$H$6=\"Shetland Health Board\",0,IF('III Tool Overview'!$H$6=\"Western Isles Health Board\",0,IF('III Tool Overview'!$H$6=\"Orkney Islands Local Authority\",0,IF('III Tool Overview'!$H$6=\"Shetland Islands Local Authority\",0,IF('III Tool Overview'!$H$6=\"Eilean Siar Local Authority\",0,new_yll(2,B79,C79,D79,$C$1,G79,1,F79,E79*F79)))))))","v":23536.586733126132},{"$f":"IF('III Tool Overview'!$H$6=\"Orkney Health Board\",0,IF('III Tool Overview'!$H$6=\"Shetland Health Board\",0,IF('III Tool Overview'!$H$6=\"Western Isles Health Board\",0,IF('III Tool Overview'!$H$6=\"Orkney Islands Local Authority\",0,IF('III Tool Overview'!$H$6=\"Shetland Islands Local Authority\",0,IF('III Tool Overview'!$H$6=\"Eilean Siar Local Authority\",0,new_yll(2,B79,C79,D79,$C$1,G79+H79,1,F79,E79*F79)))))))","v":23529.884182923397},6.7025502027354378,{"$f":"IF('III Tool Overview'!$H$6=\"Orkney Health Board\",0,IF('III Tool Overview'!$H$6=\"Shetland Health Board\",0,IF('III Tool Overview'!$H$6=\"Western Isles Health Board\",0,IF('III Tool Overview'!$H$6=\"Orkney Islands Local Authority\",0,IF('III Tool Overview'!$H$6=\"Shetland Islands Local Authority\",0,IF('III Tool Overview'!$H$6=\"Eilean Siar Local Authority\",0,new_yll(5,B79,C79,D79,$C$1,G79,1,F79,E79*F79)))))))","v":94763.863166642812},{"$f":"IF('III Tool Overview'!$H$6=\"Orkney Health Board\",0,IF('III Tool Overview'!$H$6=\"Shetland Health Board\",0,IF('III Tool Overview'!$H$6=\"Western Isles Health Board\",0,IF('III Tool Overview'!$H$6=\"Orkney Islands Local Authority\",0,IF('III Tool Overview'!$H$6=\"Shetland Islands Local Authority\",0,IF('III Tool Overview'!$H$6=\"Eilean Siar Local Authority\",0,new_yll(5,B79,C79,D79,$C$1,G79+H79,1,F79,E79*F79)))))))","v":94738.316123724013},25.547042918798979,{"$f":"IF('III Tool Overview'!$H$6=\"Orkney Health Board\",0,IF('III Tool Overview'!$H$6=\"Shetland Health Board\",0,IF('III Tool Overview'!$H$6=\"Western Isles Health Board\",0,IF('III Tool Overview'!$H$6=\"Orkney Islands Local Authority\",0,IF('III Tool Overview'!$H$6=\"Shetland Islands Local Authority\",0,IF('III Tool Overview'!$H$6=\"Eilean Siar Local Authority\",0,new_yll(10,B79,C79,D79,$C$1,G79,1,F79,E79*F79)))))))","v":211916.21374198669},{"$f":"IF('III Tool Overview'!$H$6=\"Orkney Health Board\",0,IF('III Tool Overview'!$H$6=\"Shetland Health Board\",0,IF('III Tool Overview'!$H$6=\"Western Isles Health Board\",0,IF('III Tool Overview'!$H$6=\"Orkney Islands Local Authority\",0,IF('III Tool Overview'!$H$6=\"Shetland Islands Local Authority\",0,IF('III Tool Overview'!$H$6=\"Eilean Siar Local Authority\",0,new_yll(10,B79,C79,D79,$C$1,G79+H79,1,F79,E79*F79)))))))","v":211865.13487611455},51.078865872143069,{"$f":"IF('III Tool Overview'!$H$6=\"Orkney Health Board\",0,IF('III Tool Overview'!$H$6=\"Shetland Health Board\",0,IF('III Tool Overview'!$H$6=\"Western Isles Health Board\",0,IF('III Tool Overview'!$H$6=\"Orkney Islands Local Authority\",0,IF('III Tool Overview'!$H$6=\"Shetland Islands Local Authority\",0,IF('III Tool Overview'!$H$6=\"Eilean Siar Local Authority\",0,new_yll(20,B79,C79,D79,$C$1,G79,1,F79,E79*F79)))))))","v":408731.92326745228},{"$f":"IF('III Tool Overview'!$H$6=\"Orkney Health Board\",0,IF('III Tool Overview'!$H$6=\"Shetland Health Board\",0,IF('III Tool Overview'!$H$6=\"Western Isles Health Board\",0,IF('III Tool Overview'!$H$6=\"Orkney Islands Local Authority\",0,IF('III Tool Overview'!$H$6=\"Shetland Islands Local Authority\",0,IF('III Tool Overview'!$H$6=\"Eilean Siar Local Authority\",0,new_yll(20,B79,C79,D79,$C$1,G79+H79,1,F79,E79*F79)))))))","v":408659.73428917048},72.188978281803429,{"$error":"#NAME?"},{"$error":"#NAME?"},{"$error":"#NAME?"},{"$error":"#NAME?"},{"$error":"#NAME?"},{"$error":"#NAME?"},{"$error":"#NAME?"},{"$error":"#NAME?"},{"$error":"#NAME?"},{"$error":"#NAME?"},{"$error":"#NAME?"},{"$error":"#NAME?"},{"$f":"HLOOKUP('III Tool Overview'!$H$6,LookUpData_Pop!$B$1:$AV$269,LookUpData_Pop!BB80,FALSE)","v":133950},248.37190122426711,null,133950,null,null,null,{"$error":"#DIV/0!"},{"$error":"#DIV/0!"},{"$error":"#DIV/0!"},null,1.854213521644398E-3,0,null,{"$f":"(AP79/AO79)*LookUpData_Pop!$B$289","v":9.2710676082219905},{"$f":"(AQ79/AP79)*LookUpData_Pop!$B$289","v":0},null,0.5,5]
["Male 65-69",67.5,"male",1,null,null,null,null,null,null,null,null,null,null,null,null,null,null,null,null,null,null,null,null,null,null,null,null,null,null,null,null,null,null,null,null,null,null,null,null,{"$f":"HLOOKUP('III Tool Overview'!$H$6,LookUpData_Pop!$B$1:$AV$269,LookUpData_Pop!BB81,FALSE)","v":107896},287.93665019404193,null,107896,null,null,null,{"$error":"#DIV/0!"},{"$error":"#DIV/0!"},{"$error":"#DIV/0!"},null,2.6686499054093009E-3,0,null,{"$f":"(AP80/AO80)*LookUpData_Pop!$B$290","v":10.674599621637203},{"$f":"(AQ80/AP80)*LookUpData_Pop!$B$290","v":0},null,0.5,5]
["Male 70-74",72.5,"male",1,null,null,null,null,null,null,null,null,null,null,null,null,null,null,null,null,null,null,null,null,null,null,null,null,null,null,null,null,null,null,null,null,null,null,null,null,{"$f":"HLOOKUP('III Tool Overview'!$H$6,LookUpData_Pop!$B$1:$AV$269,LookUpData_Pop!BB82,FALSE)","v":92303},359.53053573988109,null,92303,null,null,null,{"$error":"#DIV/0!"},{"$error":"#DIV/0!"},{"$error":"#DIV/0!"},null,3.8951121387157633E-3,0,null,{"$f":"(AP81/AO81)*LookUpData_Pop!$B$291","v":11.68533641614729},{"$f":"(AQ81/AP81)*LookUpData_Pop!$B$291","v":0},null,0.5,5]
["Male 75-79",77.5,"male",1,null,null,null,null,null,null,null,null,null,null,null,null,null,null,null,null,null,null,null,null,null,null,null,null,null,null,null,null,null,null,null,null,null,null,null,null,{"$f":"HLOOKUP('III Tool Overview'!$H$6,LookUpData_Pop!$B$1:$AV$269,LookUpData_Pop!BB83,FALSE)","v":68682},410.50712493346515,null,68682,null,null,null,{"$error":"#DIV/0!"},{"$error":"#DIV/0!"},{"$error":"#DIV/0!"},null,5.9769244479407294E-3,0,null,{"$f":"(AP82/AO82)*LookUpData_Pop!$B$292","v":11.953848895881459},{"$f":"(AQ82/AP82)*LookUpData_Pop!$B$292","v":0},null,0.5,5]
["Male 80-84",82.5,"male",1,null,null,null,null,null,null,null,null,null,null,null,null,null,null,null,null,null,null,null,null,null,null,null,null,null,null,null,null,null,null,null,null,null,null,null,null,{"$f":"HLOOKUP('III Tool Overview'!$H$6,LookUpData_Pop!$B$1:$AV$269,LookUpData_Pop!BB84,FALSE)","v":41736},366.6132325141777,null,41736,null,null,null,{"$error":"#DIV/0!"},{"$error":"#DIV/0!"},{"$error":"#DIV/0!"},null,8.7841008365482486E-3,0,null,{"$f":"(AP83/AO83)*LookUpData_Pop!$B$293","v":8.784100836548248},{"$f":"(AQ83/AP83)*LookUpData_Pop!$B$293","v":0},null,0.5,5]
["Male 85-89",87.5,"male",1,null,null,null,null,null,null,null,null,null,null,null,null,null,null,null,null,null,null,null,null,null,null,null,null,null,null,null,null,null,null,null,null,null,null,null,null,{"$f":"HLOOKUP('III Tool Overview'!$H$6,LookUpData_Pop!$B$1:$AV$269,LookUpData_Pop!BB86,FALSE)","v":7365},374.60268759662273,null,null,null,null,null,null,null,null,null,5.086255092961612E-2,0,null,{"$f":"(AP84/AO84)*LookUpData_Pop!$B$294","v":50.86255092961612},{"$f":"(AQ84/AP84)*LookUpData_Pop!$B$294","v":0},null,0.5,{"$f":"2/AZ84","v":39.321661290005117}]
["Male 90+",95,"male",1,null,null,null,null,null,null,null,null,null,null,null,null,null,null,null,null,null,null,null,null,null,null,null,null,null,null,null,null,null,null,null,null,null,null,null,null,{"$f":"HLOOKUP('III Tool Overview'!$H$6,LookUpData_Pop!$B$1:$AV$269,LookUpData_Pop!BB87,FALSE)","v":36506},375.60268759662301]
["TOTAL",null,null,null,null,{"$f":"SUM(F70:F85)","v":333153.2},{"$f":"SUM(G70:G85)","v":0},7590.5832144487913,2384.394147392085,2383.5448039154981,10189.278402062613,10185.745807037973,25508.651213422243,25500.284878254264,65186.215785586115,65167.993866961275,114184.88956049588,114143.40972502423,41.479835471668139,473529.65720545733,473361.49241978442,168.16478567293234,1123492.2617815277,1123110.4978140891,381.76396743861551,2550516.0222139424,2549741.1632785928,774.85893534988281,{"$error":"#NAME?"},{"$error":"#NAME?"},{"$error":"#NAME?"},{"$error":"#NAME?"},{"$error":"#NAME?"},{"$error":"#NAME?"},{"$error":"#NAME?"},{"$error":"#NAME?"},{"$error":"#NAME?"},{"$error":"#NAME?"},{"$error":"#NAME?"},{"$error":"#NAME?"}]
["Female <1",0.5,"female",1,null,null,null,null,null,null,null,null,null,null,null,null,null,null,null,null,null,null,null,null,null,null,null,null,null,null,null,null,null,null,null,null,null,null,null,null,{"$f":"HLOOKUP('III Tool Overview'!$H$6,LookUpData_Pop!$B$1:$AV$269,LookUpData_Pop!BB87,FALSE)","v":36506},13.41836336508665,null,null,null,null,null,null,null,null,null,3.6756597176044076E-4,0,null,null,null,null,0.1,1]
["Female 1-4",2.5,"female",1,null,null,null,null,null,null,null,null,null,null,null,null,null,null,null,null,null,null,null,null,null,null,null,null,null,null,null,null,null,null,null,null,null,null,null,null,{"$f":"HLOOKUP('III Tool Overview'!$H$6,LookUpData_Pop!$B$1:$AV$269,LookUpData_Pop!BB88,FALSE)","v":133201},3.0591765504824773,null,null,null,null,null,null,null,null,null,2.2966618497477324E-5,0,null,{"$f":"((AP88+AP87)/(AO88+AO87))*LookUpData_Pop!$B$277","v":0.7767523986904078},{"$f":"((AQ88+AQ87)/(AP88+AP87))*LookUpData_Pop!$B$277","v":0},null,0.5,4]
["Female 5-9",7.5,"female",1,null,null,null,null,null,null,null,null,null,null,null,null,null,null,null,null,null,null,null,null,null,null,null,null,null,null,null,null,null,null,null,null,null,null,null,null,{"$f":"HLOOKUP('III Tool Overview'!$H$6,LookUpData_Pop!$B$1:$AV$269,LookUpData_Pop!BB89,FALSE)","v":145745},0.77960813420475705,null,null,null,null,null,null,null,null,null,5.3491243898916398E-6,0,null,{"$f":"(AP89/AO89)*LookUpData_Pop!$B$278","v":3.7443870729241477E-2},{"$f":"(AQ89/AP89)*LookUpData_Pop!$B$278","v":0},null,0.5,5]
["Female 10-14",12.5,"female",1,null,null,null,null,null,null,null,null,null,null,null,null,null,null,null,null,null,null,null,null,null,null,null,null,null,null,null,null,null,null,null,null,null,null,null,null,{"$f":"HLOOKUP('III Tool Overview'!$H$6,LookUpData_Pop!$B$1:$AV$269,LookUpData_Pop!BB90,FALSE)","v":150444},1.6832274476382323,null,null,null,null,null,null,null,null,null,1.1188398657561832E-5,0,null,{"$f":"(AP90/AO90)*LookUpData_Pop!$B$279","v":7.8318790602932828E-2},{"$f":"(AQ90/AP90)*LookUpData_Pop!$B$279","v":0},null,0.5,5]
["Female 15-19",17.5,"female",1,{"$f":"HLOOKUP('III Tool Overview'!$H$6,Prevalence!$B$2:$AV$268,Prevalence!AW86,FALSE)","v":0.17728741513394902},{"$f":"HLOOKUP('III Tool Overview'!$H$6,LookUpData_Pop!$B$1:$AV$269,LookUpData_Pop!BB91,FALSE)/5","v":34546.199999999997},{"$f":"'III Tool Overview'!$H$9/110","v":0},{"$f":"IF('III Tool Overview'!$H$10=\"Even distribution\",Targeting!C89,IF('III Tool Overview'!$H$10=\"Targeting to Q1\",Targeting!D89,IF('III Tool Overview'!$H$10=\"Targeting to Q1 & Q2\",Targeting!E89,IF('III Tool Overview'!$H$10=\"Proportionate to need\",Targeting!F89))))","v":309.86478102986888},{"$f":"IF('III Tool Overview'!$H$6=\"Orkney Health Board\",0,IF('III Tool Overview'!$H$6=\"Shetland Health Board\",0,IF('III Tool Overview'!$H$6=\"Western Isles Health Board\",0,IF('III Tool Overview'!$H$6=\"Orkney Islands Local Authority\",0,IF('III Tool Overview'!$H$6=\"Shetland Islands Local Authority\",0,IF('III Tool Overview'!$H$6=\"Eilean Siar Local Authority\",0,new_ci(2,B91,C91,D91,$C$1,G91,1,F91,E91*F91)))))))","v":14.076809513829678},{"$f":"IF('III Tool Overview'!$H$6=\"Orkney Health Board\",0,IF('III Tool Overview'!$H$6=\"Shetland Health Board\",0,IF('III Tool Overview'!$H$6=\"Western Isles Health Board\",0,IF('III Tool Overview'!$H$6=\"Orkney Islands Local Authority\",0,IF('III Tool Overview'!$H$6=\"Shetland Islands Local Authority\",0,IF('III Tool Overview'!$H$6=\"Eilean Siar Local Authority\",0,new_ci(2,B91,C91,D91,$C$1,G91+H91,1,F91,E91*F91)))))))","v":14.07475197113977},{"$f":"IF('III Tool Overview'!$H$6=\"Orkney Health Board\",0,IF('III Tool Overview'!$H$6=\"Shetland Health Board\",0,IF('III Tool Overview'!$H$6=\"Western Isles Health Board\",0,IF('III Tool Overview'!$H$6=\"Orkney Islands Local Authority\",0,IF('III Tool Overview'!$H$6=\"Shetland Islands Local Authority\",0,IF('III Tool Overview'!$H$6=\"Eilean Siar Local Authority\",0,new_ci(5,B91,C91,D91,$C$1,G91,1,F91,E91*F91)))))))","v":62.483581317415393},{"$f":"IF('III Tool Overview'!$H$6=\"Orkney Health Board\",0,IF('III Tool Overview'!$H$6=\"Shetland Health Board\",0,IF('III Tool Overview'!$H$6=\"Western Isles Health Board\",0,IF('III Tool Overview'!$H$6=\"Orkney Islands Local Authority\",0,IF('III Tool Overview'!$H$6=\"Shetland Islands Local Authority\",0,IF('III Tool Overview'!$H$6=\"Eilean Siar Local Authority\",0,new_ci(5,B91,C91,D91,$C$1,G91+H91,1,F91,E91*F91)))))))","v":62.474457603463414},{"$f":"IF('III Tool Overview'!$H$6=\"Orkney Health Board\",0,IF('III Tool Overview'!$H$6=\"Shetland Health Board\",0,IF('III Tool Overview'!$H$6=\"Western Isles Health Board\",0,IF('III Tool Overview'!$H$6=\"Orkney Islands Local Authority\",0,IF('III Tool Overview'!$H$6=\"Shetland Islands Local Authority\",0,IF('III Tool Overview'!$H$6=\"Eilean Siar Local Authority\",0,new_ci(10,B91,C91,D91,$C$1,G91,1,F91,E91*F91)))))))","v":168.43973491194743},{"$f":"IF('III Tool Overview'!$H$6=\"Orkney Health Board\",0,IF('III Tool Overview'!$H$6=\"Shetland Health Board\",0,IF('III Tool Overview'!$H$6=\"Western Isles Health Board\",0,IF('III Tool Overview'!$H$6=\"Orkney Islands Local Authority\",0,IF('III Tool Overview'!$H$6=\"Shetland Islands Local Authority\",0,IF('III Tool Overview'!$H$6=\"Eilean Siar Local Authority\",0,new_ci(10,B91,C91,D91,$C$1,G91+H91,1,F91,E91*F91)))))))","v":168.41519419707052},{"$f":"IF('III Tool Overview'!$H$6=\"Orkney Health Board\",0,IF('III Tool Overview'!$H$6=\"Shetland Health Board\",0,IF('III Tool Overview'!$H$6=\"Western Isles Health Board\",0,IF('III Tool Overview'!$H$6=\"Orkney Islands Local Authority\",0,IF('III Tool Overview'!$H$6=\"Shetland Islands Local Authority\",0,IF('III Tool Overview'!$H$6=\"Eilean Siar Local Authority\",0,new_ci(20,B91,C91,D91,$C$1,G91,1,F91,E91*F91)))))))","v":523.84420223265317},{"$f":"IF('III Tool Overview'!$H$6=\"Orkney Health Board\",0,IF('III Tool Overview'!$H$6=\"Shetland Health Board\",0,IF('III Tool Overview'!$H$6=\"Western Isles Health Board\",0,IF('III Tool Overview'!$H$6=\"Orkney Islands Local Authority\",0,IF('III Tool Overview'!$H$6=\"Shetland Islands Local Authority\",0,IF('III Tool Overview'!$H$6=\"Eilean Siar Local Authority\",0,new_ci(20,B91,C91,D91,$C$1,G91+H91,1,F91,E91*F91)))))))","v":523.76845102668108},{"$f":"IF('III Tool Overview'!$H$6=\"Orkney Health Board\",0,IF('III Tool Overview'!$H$6=\"Shetland Health Board\",0,IF('III Tool Overview'!$H$6=\"Western Isles Health Board\",0,IF('III Tool Overview'!$H$6=\"Orkney Islands Local Authority\",0,IF('III Tool Overview'!$H$6=\"Shetland Islands Local Authority\",0,IF('III Tool Overview'!$H$6=\"Eilean Siar Local Authority\",0,new_yll(2,B91,C91,D91,$C$1,G91,1,F91,E91*F91)))))))","v":1140.2215706202039},{"$f":"IF('III Tool Overview'!$H$6=\"Orkney Health Board\",0,IF('III Tool Overview'!$H$6=\"Shetland Health Board\",0,IF('III Tool Overview'!$H$6=\"Western Isles Health Board\",0,IF('III Tool Overview'!$H$6=\"Orkney Islands Local Authority\",0,IF('III Tool Overview'!$H$6=\"Shetland Islands Local Authority\",0,IF('III Tool Overview'!$H$6=\"Eilean Siar Local Authority\",0,new_yll(2,B91,C91,D91,$C$1,G91+H91,1,F91,E91*F91)))))))","v":1140.0549096623215},{"$f":"Q91-R91","v":0.16666095788241364},{"$f":"IF('III Tool Overview'!$H$6=\"Orkney Health Board\",0,IF('III Tool Overview'!$H$6=\"Shetland Health Board\",0,IF('III Tool Overview'!$H$6=\"Western Isles Health Board\",0,IF('III Tool Overview'!$H$6=\"Orkney Islands Local Authority\",0,IF('III Tool Overview'!$H$6=\"Shetland Islands Local Authority\",0,IF('III Tool Overview'!$H$6=\"Eilean Siar Local Authority\",0,new_yll(5,B91,C91,D91,$C$1,G91,1,F91,E91*F91)))))))","v":4962.1810184798433},{"$f":"IF('III Tool Overview'!$H$6=\"Orkney Health Board\",0,IF('III Tool Overview'!$H$6=\"Shetland Health Board\",0,IF('III Tool Overview'!$H$6=\"Western Isles Health Board\",0,IF('III Tool Overview'!$H$6=\"Orkney Islands Local Authority\",0,IF('III Tool Overview'!$H$6=\"Shetland Islands Local Authority\",0,IF('III Tool Overview'!$H$6=\"Eilean Siar Local Authority\",0,new_yll(5,B91,C91,D91,$C$1,G91+H91,1,F91,E91*F91)))))))","v":4961.4564443932722},{"$f":"T91-U91","v":0.72457408657101041},{"$f":"IF('III Tool Overview'!$H$6=\"Orkney Health Board\",0,IF('III Tool Overview'!$H$6=\"Shetland Health Board\",0,IF('III Tool Overview'!$H$6=\"Western Isles Health Board\",0,IF('III Tool Overview'!$H$6=\"Orkney Islands Local Authority\",0,IF('III Tool Overview'!$H$6=\"Shetland Islands Local Authority\",0,IF('III Tool Overview'!$H$6=\"Eilean Siar Local Authority\",0,new_yll(10,B91,C91,D91,$C$1,G91,1,F91,E91*F91)))))))","v":12894.655681051281},{"$f":"IF('III Tool Overview'!$H$6=\"Orkney Health Board\",0,IF('III Tool Overview'!$H$6=\"Shetland Health Board\",0,IF('III Tool Overview'!$H$6=\"Western Isles Health Board\",0,IF('III Tool Overview'!$H$6=\"Orkney Islands Local Authority\",0,IF('III Tool Overview'!$H$6=\"Shetland Islands Local Authority\",0,IF('III Tool Overview'!$H$6=\"Eilean Siar Local Authority\",0,new_yll(10,B91,C91,D91,$C$1,G91+H91,1,F91,E91*F91)))))))","v":12892.77687609136},{"$f":"W91-X91","v":1.8788049599206715},{"$f":"IF('III Tool Overview'!$H$6=\"Orkney Health Board\",0,IF('III Tool Overview'!$H$6=\"Shetland Health Board\",0,IF('III Tool Overview'!$H$6=\"Western Isles Health Board\",0,IF('III Tool Overview'!$H$6=\"Orkney Islands Local Authority\",0,IF('III Tool Overview'!$H$6=\"Shetland Islands Local Authority\",0,IF('III Tool Overview'!$H$6=\"Eilean Siar Local Authority\",0,new_yll(20,B91,C91,D91,$C$1,G91,1,F91,E91*F91)))))))","v":36689.820947431523},{"$f":"IF('III Tool Overview'!$H$6=\"Orkney Health Board\",0,IF('III Tool Overview'!$H$6=\"Shetland Health Board\",0,IF('III Tool Overview'!$H$6=\"Western Isles Health Board\",0,IF('III Tool Overview'!$H$6=\"Orkney Islands Local Authority\",0,IF('III Tool Overview'!$H$6=\"Shetland Islands Local Authority\",0,IF('III Tool Overview'!$H$6=\"Eilean Siar Local Authority\",0,new_yll(20,B91,C91,D91,$C$1,G91+H91,1,F91,E91*F91)))))))","v":36684.512850094696},{"$f":"Z91-AA91","v":5.3080973368269042},{"$f":"hosp_count(2,B91,C91,D91,$C$1,G91,1,F91,E91*F91)","v":{"$error":"#NAME?"}},{"$f":"hosp_count(2,B91,C91,D91,$C$1,G91+H91,1,F91,E91*F91)","v":{"$error":"#NAME?"}},{"$f":"AC91-AD91","v":{"$error":"#NAME?"}},{"$f":"hosp_count(5,B91,C91,D91,$C$1,G91,1,F91,E91*F91)","v":{"$error":"#NAME?"}},{"$f":"hosp_count(5,B91,C91,D91,$C$1,G91+H91,1,F91,E91*F91)","v":{"$error":"#NAME?"}},{"$f":"AF91-AG91","v":{"$error":"#NAME?"}},{"$f":"hosp_count(10,B91,C91,D91,$C$1,G91,1,F91,E91*F91)","v":{"$error":"#NAME?"}},{"$f":"hosp_count(10,B91,C91,D91,$C$1,G91+H91,1,F91,E91*F91)","v":{"$error":"#NAME?"}},{"$f":"AI91-AJ91","v":{"$error":"#NAME?"}},{"$f":"hosp_count(20,B91,C91,D91,$C$1,G91,1,F91,E91*F91)","v":{"$error":"#NAME?"}},{"$f":"hosp_count(20,B91,C91,D91,$C$1,G91+H91,1,F91,E91*F91)","v":{"$error":"#NAME?"}},{"$f":"AL91-AM91","v":{"$error":"#NAME?"}},{"$f":"HLOOKUP('III Tool Overview'!$H$6,LookUpData_Pop!$B$1:$AV$269,LookUpData_Pop!BB91,FALSE)","v":172731},5.2663512050366919,null,{"$f":"AO91*(0.8)","v":138184.80000000002},null,null,null,{"$f":"AT91/AVERAGE(AT$91:AT$104)","v":{"$error":"#DIV/0!"}},{"$f":"$AV$5*$AV$18*AV49","v":{"$error":"#DIV/0!"}},{"$f":"AW91*AR91*$AT$4","v":{"$error":"#DIV/0!"}},null,3.0488743798372567E-5,0,null,{"$f":"(AP91/AO91)*LookUpData_Pop!$B$280","v":0.21342120658860797},{"$f":"(AQ91/AP91)*LookUpData_Pop!$B$280","v":0},null,0.5,5]
["Female 20-24",22.5,"female",1,{"$f":"HLOOKUP('III Tool Overview'!$H$6,Prevalence!$B$2:$AV$268,Prevalence!AW87,FALSE)","v":0.17728741513394902},{"$f":"HLOOKUP('III Tool Overview'!$H$6,LookUpData_Pop!$B$1:$AV$269,LookUpData_Pop!BB92,FALSE)/5","v":40857.199999999997},{"$f":"'III Tool Overview'!$H$9/110","v":0},{"$f":"IF('III Tool Overview'!$H$10=\"Even distribution\",Targeting!C90,IF('III Tool Overview'!$H$10=\"Targeting to Q1\",Targeting!D90,IF('III Tool Overview'!$H$10=\"Targeting to Q1 & Q2\",Targeting!E90,IF('III Tool Overview'!$H$10=\"Proportionate to need\",Targeting!F90))))","v":489.01734134242724},{"$f":"IF('III Tool Overview'!$H$6=\"Orkney Health Board\",0,IF('III Tool Overview'!$H$6=\"Shetland Health Board\",0,IF('III Tool Overview'!$H$6=\"Western Isles Health Board\",0,IF('III Tool Overview'!$H$6=\"Orkney Islands Local Authority\",0,IF('III Tool Overview'!$H$6=\"Shetland Islands Local Authority\",0,IF('III Tool Overview'!$H$6=\"Eilean Siar Local Authority\",0,new_ci(2,B92,C92,D92,$C$1,G92,1,F92,E92*F92)))))))","v":23.102582194593314},{"$f":"IF('III Tool Overview'!$H$6=\"Orkney Health Board\",0,IF('III Tool Overview'!$H$6=\"Shetland Health Board\",0,IF('III Tool Overview'!$H$6=\"Western Isles Health Board\",0,IF('III Tool Overview'!$H$6=\"Orkney Islands Local Authority\",0,IF('III Tool Overview'!$H$6=\"Shetland Islands Local Authority\",0,IF('III Tool Overview'!$H$6=\"Eilean Siar Local Authority\",0,new_ci(2,B92,C92,D92,$C$1,G92+H92,1,F92,E92*F92)))))))","v":23.098078827266949},{"$f":"IF('III Tool Overview'!$H$6=\"Orkney Health Board\",0,IF('III Tool Overview'!$H$6=\"Shetland Health Board\",0,IF('III Tool Overview'!$H$6=\"Western Isles Health Board\",0,IF('III Tool Overview'!$H$6=\"Orkney Islands Local Authority\",0,IF('III Tool Overview'!$H$6=\"Shetland Islands Local Authority\",0,IF('III Tool Overview'!$H$6=\"Eilean Siar Local Authority\",0,new_ci(5,B92,C92,D92,$C$1,G92,1,F92,E92*F92)))))))","v":102.51861680742132},{"$f":"IF('III Tool Overview'!$H$6=\"Orkney Health Board\",0,IF('III Tool Overview'!$H$6=\"Shetland Health Board\",0,IF('III Tool Overview'!$H$6=\"Western Isles Health Board\",0,IF('III Tool Overview'!$H$6=\"Orkney Islands Local Authority\",0,IF('III Tool Overview'!$H$6=\"Shetland Islands Local Authority\",0,IF('III Tool Overview'!$H$6=\"Eilean Siar Local Authority\",0,new_ci(5,B92,C92,D92,$C$1,G92+H92,1,F92,E92*F92)))))))","v":102.49866094581841},{"$f":"IF('III Tool Overview'!$H$6=\"Orkney Health Board\",0,IF('III Tool Overview'!$H$6=\"Shetland Health Board\",0,IF('III Tool Overview'!$H$6=\"Western Isles Health Board\",0,IF('III Tool Overview'!$H$6=\"Orkney Islands Local Authority\",0,IF('III Tool Overview'!$H$6=\"Shetland Islands Local Authority\",0,IF('III Tool Overview'!$H$6=\"Eilean Siar Local Authority\",0,new_ci(10,B92,C92,D92,$C$1,G92,1,F92,E92*F92)))))))","v":276.19736706607193},{"$f":"IF('III Tool Overview'!$H$6=\"Orkney Health Board\",0,IF('III Tool Overview'!$H$6=\"Shetland Health Board\",0,IF('III Tool Overview'!$H$6=\"Western Isles Health Board\",0,IF('III Tool Overview'!$H$6=\"Orkney Islands Local Authority\",0,IF('III Tool Overview'!$H$6=\"Shetland Islands Local Authority\",0,IF('III Tool Overview'!$H$6=\"Eilean Siar Local Authority\",0,new_ci(10,B92,C92,D92,$C$1,G92+H92,1,F92,E92*F92)))))))","v":276.14376883107826},{"$f":"IF('III Tool Overview'!$H$6=\"Orkney Health Board\",0,IF('III Tool Overview'!$H$6=\"Shetland Health Board\",0,IF('III Tool Overview'!$H$6=\"Western Isles Health Board\",0,IF('III Tool Overview'!$H$6=\"Orkney Islands Local Authority\",0,IF('III Tool Overview'!$H$6=\"Shetland Islands Local Authority\",0,IF('III Tool Overview'!$H$6=\"Eilean Siar Local Authority\",0,new_ci(20,B92,C92,D92,$C$1,G92,1,F92,E92*F92)))))))","v":857.22608495799557},{"$f":"IF('III Tool Overview'!$H$6=\"Orkney Health Board\",0,IF('III Tool Overview'!$H$6=\"Shetland Health Board\",0,IF('III Tool Overview'!$H$6=\"Western Isles Health Board\",0,IF('III Tool Overview'!$H$6=\"Orkney Islands Local Authority\",0,IF('III Tool Overview'!$H$6=\"Shetland Islands Local Authority\",0,IF('III Tool Overview'!$H$6=\"Eilean Siar Local Authority\",0,new_ci(20,B92,C92,D92,$C$1,G92+H92,1,F92,E92*F92)))))))","v":857.06145590340259},{"$f":"IF('III Tool Overview'!$H$6=\"Orkney Health Board\",0,IF('III Tool Overview'!$H$6=\"Shetland Health Board\",0,IF('III Tool Overview'!$H$6=\"Western Isles Health Board\",0,IF('III Tool Overview'!$H$6=\"Orkney Islands Local Authority\",0,IF('III Tool Overview'!$H$6=\"Shetland Islands Local Authority\",0,IF('III Tool Overview'!$H$6=\"Eilean Siar Local Authority\",0,new_yll(2,B92,C92,D92,$C$1,G92,1,F92,E92*F92)))))))","v":1778.8988289836852},{"$f":"IF('III Tool Overview'!$H$6=\"Orkney Health Board\",0,IF('III Tool Overview'!$H$6=\"Shetland Health Board\",0,IF('III Tool Overview'!$H$6=\"Western Isles Health Board\",0,IF('III Tool Overview'!$H$6=\"Orkney Islands Local Authority\",0,IF('III Tool Overview'!$H$6=\"Shetland Islands Local Authority\",0,IF('III Tool Overview'!$H$6=\"Eilean Siar Local Authority\",0,new_yll(2,B92,C92,D92,$C$1,G92+H92,1,F92,E92*F92)))))))","v":1778.5520696995552},{"$f":"Q92-R92","v":0.34675928413003021},{"$f":"IF('III Tool Overview'!$H$6=\"Orkney Health Board\",0,IF('III Tool Overview'!$H$6=\"Shetland Health Board\",0,IF('III Tool Overview'!$H$6=\"Western Isles Health Board\",0,IF('III Tool Overview'!$H$6=\"Orkney Islands Local Authority\",0,IF('III Tool Overview'!$H$6=\"Shetland Islands Local Authority\",0,IF('III Tool Overview'!$H$6=\"Eilean Siar Local Authority\",0,new_yll(5,B92,C92,D92,$C$1,G92,1,F92,E92*F92)))))))","v":7731.5419594218129},{"$f":"IF('III Tool Overview'!$H$6=\"Orkney Health Board\",0,IF('III Tool Overview'!$H$6=\"Shetland Health Board\",0,IF('III Tool Overview'!$H$6=\"Western Isles Health Board\",0,IF('III Tool Overview'!$H$6=\"Orkney Islands Local Authority\",0,IF('III Tool Overview'!$H$6=\"Shetland Islands Local Authority\",0,IF('III Tool Overview'!$H$6=\"Eilean Siar Local Authority\",0,new_yll(5,B92,C92,D92,$C$1,G92+H92,1,F92,E92*F92)))))))","v":7730.0369460276443},{"$f":"T92-U92","v":1.5050133941685999},{"$f":"IF('III Tool Overview'!$H$6=\"Orkney Health Board\",0,IF('III Tool Overview'!$H$6=\"Shetland Health Board\",0,IF('III Tool Overview'!$H$6=\"Western Isles Health Board\",0,IF('III Tool Overview'!$H$6=\"Orkney Islands Local Authority\",0,IF('III Tool Overview'!$H$6=\"Shetland Islands Local Authority\",0,IF('III Tool Overview'!$H$6=\"Eilean Siar Local Authority\",0,new_yll(10,B92,C92,D92,$C$1,G92,1,F92,E92*F92)))))))","v":20039.480304553144},{"$f":"IF('III Tool Overview'!$H$6=\"Orkney Health Board\",0,IF('III Tool Overview'!$H$6=\"Shetland Health Board\",0,IF('III Tool Overview'!$H$6=\"Western Isles Health Board\",0,IF('III Tool Overview'!$H$6=\"Orkney Islands Local Authority\",0,IF('III Tool Overview'!$H$6=\"Shetland Islands Local Authority\",0,IF('III Tool Overview'!$H$6=\"Eilean Siar Local Authority\",0,new_yll(10,B92,C92,D92,$C$1,G92+H92,1,F92,E92*F92)))))))","v":20035.591104001567},{"$f":"W92-X92","v":3.8892005515772325},{"$f":"IF('III Tool Overview'!$H$6=\"Orkney Health Board\",0,IF('III Tool Overview'!$H$6=\"Shetland Health Board\",0,IF('III Tool Overview'!$H$6=\"Western Isles Health Board\",0,IF('III Tool Overview'!$H$6=\"Orkney Islands Local Authority\",0,IF('III Tool Overview'!$H$6=\"Shetland Islands Local Authority\",0,IF('III Tool Overview'!$H$6=\"Eilean Siar Local Authority\",0,new_yll(20,B92,C92,D92,$C$1,G92,1,F92,E92*F92)))))))","v":56618.52922586559},{"$f":"IF('III Tool Overview'!$H$6=\"Orkney Health Board\",0,IF('III Tool Overview'!$H$6=\"Shetland Health Board\",0,IF('III Tool Overview'!$H$6=\"Western Isles Health Board\",0,IF('III Tool Overview'!$H$6=\"Orkney Islands Local Authority\",0,IF('III Tool Overview'!$H$6=\"Shetland Islands Local Authority\",0,IF('III Tool Overview'!$H$6=\"Eilean Siar Local Authority\",0,new_yll(20,B92,C92,D92,$C$1,G92+H92,1,F92,E92*F92)))))))","v":56607.64810401159},{"$f":"Z92-AA92","v":10.881121853999502},{"$f":"hosp_count(2,B92,C92,D92,$C$1,G92,1,F92,E92*F92)","v":{"$error":"#NAME?"}},{"$f":"hosp_count(2,B92,C92,D92,$C$1,G92+H92,1,F92,E92*F92)","v":{"$error":"#NAME?"}},{"$f":"AC92-AD92","v":{"$error":"#NAME?"}},{"$f":"hosp_count(5,B92,C92,D92,$C$1,G92,1,F92,E92*F92)","v":{"$error":"#NAME?"}},{"$f":"hosp_count(5,B92,C92,D92,$C$1,G92+H92,1,F92,E92*F92)","v":{"$error":"#NAME?"}},{"$f":"AF92-AG92","v":{"$error":"#NAME?"}},{"$f":"hosp_count(10,B92,C92,D92,$C$1,G92,1,F92,E92*F92)","v":{"$error":"#NAME?"}},{"$f":"hosp_count(10,B92,C92,D92,$C$1,G92+H92,1,F92,E92*F92)","v":{"$error":"#NAME?"}},{"$f":"AI92-AJ92","v":{"$error":"#NAME?"}},{"$f":"hosp_count(20,B92,C92,D92,$C$1,G92,1,F92,E92*F92)","v":{"$error":"#NAME?"}},{"$f":"hosp_count(20,B92,C92,D92,$C$1,G92+H92,1,F92,E92*F92)","v":{"$error":"#NAME?"}},{"$f":"AL92-AM92","v":{"$error":"#NAME?"}},{"$f":"HLOOKUP('III Tool Overview'!$H$6,LookUpData_Pop!$B$1:$AV$269,LookUpData_Pop!BB92,FALSE)","v":204286},8.4996187143946518,null,{"$f":"AO92","v":204286},null,null,null,{"$f":"AT92/AVERAGE(AT$91:AT$104)","v":{"$error":"#DIV/0!"}},{"$error":"#DIV/0!"},{"$error":"#DIV/0!"},null,4.1606466984495521E-5,0,null,{"$f":"(AP92/AO92)*LookUpData_Pop!$B$281","v":0.29124526889146862},{"$f":"(AQ92/AP92)*LookUpData_Pop!$B$281","v":0},null,0.5,5]
["Female 25-29",27.5,"female",1,{"$f":"HLOOKUP('III Tool Overview'!$H$6,Prevalence!$B$2:$AV$268,Prevalence!AW88,FALSE)","v":0.31622058883379389},{"$f":"HLOOKUP('III Tool Overview'!$H$6,LookUpData_Pop!$B$1:$AV$269,LookUpData_Pop!BB93,FALSE)/5","v":40641.4},{"$f":"'III Tool Overview'!$H$9/110","v":0},{"$f":"IF('III Tool Overview'!$H$10=\"Even distribution\",Targeting!C91,IF('III Tool Overview'!$H$10=\"Targeting to Q1\",Targeting!D91,IF('III Tool Overview'!$H$10=\"Targeting to Q1 & Q2\",Targeting!E91,IF('III Tool Overview'!$H$10=\"Proportionate to need\",Targeting!F91))))","v":907.28784767942875},{"$f":"IF('III Tool Overview'!$H$6=\"Orkney Health Board\",0,IF('III Tool Overview'!$H$6=\"Shetland Health Board\",0,IF('III Tool Overview'!$H$6=\"Western Isles Health Board\",0,IF('III Tool Overview'!$H$6=\"Orkney Islands Local Authority\",0,IF('III Tool Overview'!$H$6=\"Shetland Islands Local Authority\",0,IF('III Tool Overview'!$H$6=\"Eilean Siar Local Authority\",0,new_ci(2,B93,C93,D93,$C$1,G93,1,F93,E93*F93)))))))","v":37.563396587562728},{"$f":"IF('III Tool Overview'!$H$6=\"Orkney Health Board\",0,IF('III Tool Overview'!$H$6=\"Shetland Health Board\",0,IF('III Tool Overview'!$H$6=\"Western Isles Health Board\",0,IF('III Tool Overview'!$H$6=\"Orkney Islands Local Authority\",0,IF('III Tool Overview'!$H$6=\"Shetland Islands Local Authority\",0,IF('III Tool Overview'!$H$6=\"Eilean Siar Local Authority\",0,new_ci(2,B93,C93,D93,$C$1,G93+H93,1,F93,E93*F93)))))))","v":37.55026585223635},{"$f":"IF('III Tool Overview'!$H$6=\"Orkney Health Board\",0,IF('III Tool Overview'!$H$6=\"Shetland Health Board\",0,IF('III Tool Overview'!$H$6=\"Western Isles Health Board\",0,IF('III Tool Overview'!$H$6=\"Orkney Islands Local Authority\",0,IF('III Tool Overview'!$H$6=\"Shetland Islands Local Authority\",0,IF('III Tool Overview'!$H$6=\"Eilean Siar Local Authority\",0,new_ci(5,B93,C93,D93,$C$1,G93,1,F93,E93*F93)))))))","v":166.5837639833741},{"$f":"IF('III Tool Overview'!$H$6=\"Orkney Health Board\",0,IF('III Tool Overview'!$H$6=\"Shetland Health Board\",0,IF('III Tool Overview'!$H$6=\"Western Isles Health Board\",0,IF('III Tool Overview'!$H$6=\"Orkney Islands Local Authority\",0,IF('III Tool Overview'!$H$6=\"Shetland Islands Local Authority\",0,IF('III Tool Overview'!$H$6=\"Eilean Siar Local Authority\",0,new_ci(5,B93,C93,D93,$C$1,G93+H93,1,F93,E93*F93)))))))","v":166.52565697704259},{"$f":"IF('III Tool Overview'!$H$6=\"Orkney Health Board\",0,IF('III Tool Overview'!$H$6=\"Shetland Health Board\",0,IF('III Tool Overview'!$H$6=\"Western Isles Health Board\",0,IF('III Tool Overview'!$H$6=\"Orkney Islands Local Authority\",0,IF('III Tool Overview'!$H$6=\"Shetland Islands Local Authority\",0,IF('III Tool Overview'!$H$6=\"Eilean Siar Local Authority\",0,new_ci(10,B93,C93,D93,$C$1,G93,1,F93,E93*F93)))))))","v":448.17577602264441},{"$f":"IF('III Tool Overview'!$H$6=\"Orkney Health Board\",0,IF('III Tool Overview'!$H$6=\"Shetland Health Board\",0,IF('III Tool Overview'!$H$6=\"Western Isles Health Board\",0,IF('III Tool Overview'!$H$6=\"Orkney Islands Local Authority\",0,IF('III Tool Overview'!$H$6=\"Shetland Islands Local Authority\",0,IF('III Tool Overview'!$H$6=\"Eilean Siar Local Authority\",0,new_ci(10,B93,C93,D93,$C$1,G93+H93,1,F93,E93*F93)))))))","v":448.02017726689814},{"$f":"IF('III Tool Overview'!$H$6=\"Orkney Health Board\",0,IF('III Tool Overview'!$H$6=\"Shetland Health Board\",0,IF('III Tool Overview'!$H$6=\"Western Isles Health Board\",0,IF('III Tool Overview'!$H$6=\"Orkney Islands Local Authority\",0,IF('III Tool Overview'!$H$6=\"Shetland Islands Local Authority\",0,IF('III Tool Overview'!$H$6=\"Eilean Siar Local Authority\",0,new_ci(20,B93,C93,D93,$C$1,G93,1,F93,E93*F93)))))))","v":1384.5331252274932},{"$f":"IF('III Tool Overview'!$H$6=\"Orkney Health Board\",0,IF('III Tool Overview'!$H$6=\"Shetland Health Board\",0,IF('III Tool Overview'!$H$6=\"Western Isles Health Board\",0,IF('III Tool Overview'!$H$6=\"Orkney Islands Local Authority\",0,IF('III Tool Overview'!$H$6=\"Shetland Islands Local Authority\",0,IF('III Tool Overview'!$H$6=\"Eilean Siar Local Authority\",0,new_ci(20,B93,C93,D93,$C$1,G93+H93,1,F93,E93*F93)))))))","v":1384.0600134900931},{"$f":"IF('III Tool Overview'!$H$6=\"Orkney Health Board\",0,IF('III Tool Overview'!$H$6=\"Shetland Health Board\",0,IF('III Tool Overview'!$H$6=\"Western Isles Health Board\",0,IF('III Tool Overview'!$H$6=\"Orkney Islands Local Authority\",0,IF('III Tool Overview'!$H$6=\"Shetland Islands Local Authority\",0,IF('III Tool Overview'!$H$6=\"Eilean Siar Local Authority\",0,new_yll(2,B93,C93,D93,$C$1,G93,1,F93,E93*F93)))))))","v":2667.0011577169539},{"$f":"IF('III Tool Overview'!$H$6=\"Orkney Health Board\",0,IF('III Tool Overview'!$H$6=\"Shetland Health Board\",0,IF('III Tool Overview'!$H$6=\"Western Isles Health Board\",0,IF('III Tool Overview'!$H$6=\"Orkney Islands Local Authority\",0,IF('III Tool Overview'!$H$6=\"Shetland Islands Local Authority\",0,IF('III Tool Overview'!$H$6=\"Eilean Siar Local Authority\",0,new_yll(2,B93,C93,D93,$C$1,G93+H93,1,F93,E93*F93)))))))","v":2666.0688755087808},0.93228220817309193,{"$f":"IF('III Tool Overview'!$H$6=\"Orkney Health Board\",0,IF('III Tool Overview'!$H$6=\"Shetland Health Board\",0,IF('III Tool Overview'!$H$6=\"Western Isles Health Board\",0,IF('III Tool Overview'!$H$6=\"Orkney Islands Local Authority\",0,IF('III Tool Overview'!$H$6=\"Shetland Islands Local Authority\",0,IF('III Tool Overview'!$H$6=\"Eilean Siar Local Authority\",0,new_yll(5,B93,C93,D93,$C$1,G93,1,F93,E93*F93)))))))","v":11563.659937822322},{"$f":"IF('III Tool Overview'!$H$6=\"Orkney Health Board\",0,IF('III Tool Overview'!$H$6=\"Shetland Health Board\",0,IF('III Tool Overview'!$H$6=\"Western Isles Health Board\",0,IF('III Tool Overview'!$H$6=\"Orkney Islands Local Authority\",0,IF('III Tool Overview'!$H$6=\"Shetland Islands Local Authority\",0,IF('III Tool Overview'!$H$6=\"Eilean Siar Local Authority\",0,new_yll(5,B93,C93,D93,$C$1,G93+H93,1,F93,E93*F93)))))))","v":11559.626253411036},4.0336844112862309,{"$f":"IF('III Tool Overview'!$H$6=\"Orkney Health Board\",0,IF('III Tool Overview'!$H$6=\"Shetland Health Board\",0,IF('III Tool Overview'!$H$6=\"Western Isles Health Board\",0,IF('III Tool Overview'!$H$6=\"Orkney Islands Local Authority\",0,IF('III Tool Overview'!$H$6=\"Shetland Islands Local Authority\",0,IF('III Tool Overview'!$H$6=\"Eilean Siar Local Authority\",0,new_yll(10,B93,C93,D93,$C$1,G93,1,F93,E93*F93)))))))","v":29829.750938926762},{"$f":"IF('III Tool Overview'!$H$6=\"Orkney Health Board\",0,IF('III Tool Overview'!$H$6=\"Shetland Health Board\",0,IF('III Tool Overview'!$H$6=\"Western Isles Health Board\",0,IF('III Tool Overview'!$H$6=\"Orkney Islands Local Authority\",0,IF('III Tool Overview'!$H$6=\"Shetland Islands Local Authority\",0,IF('III Tool Overview'!$H$6=\"Eilean Siar Local Authority\",0,new_yll(10,B93,C93,D93,$C$1,G93+H93,1,F93,E93*F93)))))))","v":29819.392868753079},10.35807017368279,{"$f":"IF('III Tool Overview'!$H$6=\"Orkney Health Board\",0,IF('III Tool Overview'!$H$6=\"Shetland Health Board\",0,IF('III Tool Overview'!$H$6=\"Western Isles Health Board\",0,IF('III Tool Overview'!$H$6=\"Orkney Islands Local Authority\",0,IF('III Tool Overview'!$H$6=\"Shetland Islands Local Authority\",0,IF('III Tool Overview'!$H$6=\"Eilean Siar Local Authority\",0,new_yll(20,B93,C93,D93,$C$1,G93,1,F93,E93*F93)))))))","v":83167.728228245818},{"$f":"IF('III Tool Overview'!$H$6=\"Orkney Health Board\",0,IF('III Tool Overview'!$H$6=\"Shetland Health Board\",0,IF('III Tool Overview'!$H$6=\"Western Isles Health Board\",0,IF('III Tool Overview'!$H$6=\"Orkney Islands Local Authority\",0,IF('III Tool Overview'!$H$6=\"Shetland Islands Local Authority\",0,IF('III Tool Overview'!$H$6=\"Eilean Siar Local Authority\",0,new_yll(20,B93,C93,D93,$C$1,G93+H93,1,F93,E93*F93)))))))","v":83139.275209621817},28.453018624000833,{"$error":"#NAME?"},{"$error":"#NAME?"},{"$error":"#NAME?"},{"$error":"#NAME?"},{"$error":"#NAME?"},{"$error":"#NAME?"},{"$error":"#NAME?"},{"$error":"#NAME?"},{"$error":"#NAME?"},{"$error":"#NAME?"},{"$error":"#NAME?"},{"$error":"#NAME?"},{"$f":"HLOOKUP('III Tool Overview'!$H$6,LookUpData_Pop!$B$1:$AV$269,LookUpData_Pop!BB93,FALSE)","v":203207},13.397932352661645,null,{"$f":"AO93","v":203207},null,null,null,{"$error":"#DIV/0!"},{"$error":"#DIV/0!"},{"$error":"#DIV/0!"},null,6.5932435165430551E-5,0,null,{"$f":"(AP93/AO93)*LookUpData_Pop!$B$282","v":0.46152704615801388},{"$f":"(AQ93/AP93)*LookUpData_Pop!$B$282","v":0},null,0.5,5]
["Female 30-34",32.5,"female",1,{"$f":"HLOOKUP('III Tool Overview'!$H$6,Prevalence!$B$2:$AV$268,Prevalence!AW89,FALSE)","v":0.31622058883379389},{"$f":"HLOOKUP('III Tool Overview'!$H$6,LookUpData_Pop!$B$1:$AV$269,LookUpData_Pop!BB94,FALSE)/5","v":34168.199999999997},{"$f":"'III Tool Overview'!$H$9/110","v":0},{"$f":"IF('III Tool Overview'!$H$10=\"Even distribution\",Targeting!C92,IF('III Tool Overview'!$H$10=\"Targeting to Q1\",Targeting!D92,IF('III Tool Overview'!$H$10=\"Targeting to Q1 & Q2\",Targeting!E92,IF('III Tool Overview'!$H$10=\"Proportionate to need\",Targeting!F92))))","v":813.72100624509756},{"$f":"IF('III Tool Overview'!$H$6=\"Orkney Health Board\",0,IF('III Tool Overview'!$H$6=\"Shetland Health Board\",0,IF('III Tool Overview'!$H$6=\"Western Isles Health Board\",0,IF('III Tool Overview'!$H$6=\"Orkney Islands Local Authority\",0,IF('III Tool Overview'!$H$6=\"Shetland Islands Local Authority\",0,IF('III Tool Overview'!$H$6=\"Eilean Siar Local Authority\",0,new_ci(2,B94,C94,D94,$C$1,G94,1,F94,E94*F94)))))))","v":43.818940960052039},{"$f":"IF('III Tool Overview'!$H$6=\"Orkney Health Board\",0,IF('III Tool Overview'!$H$6=\"Shetland Health Board\",0,IF('III Tool Overview'!$H$6=\"Western Isles Health Board\",0,IF('III Tool Overview'!$H$6=\"Orkney Islands Local Authority\",0,IF('III Tool Overview'!$H$6=\"Shetland Islands Local Authority\",0,IF('III Tool Overview'!$H$6=\"Eilean Siar Local Authority\",0,new_ci(2,B94,C94,D94,$C$1,G94+H94,1,F94,E94*F94)))))))","v":43.802593694463035},{"$f":"IF('III Tool Overview'!$H$6=\"Orkney Health Board\",0,IF('III Tool Overview'!$H$6=\"Shetland Health Board\",0,IF('III Tool Overview'!$H$6=\"Western Isles Health Board\",0,IF('III Tool Overview'!$H$6=\"Orkney Islands Local Authority\",0,IF('III Tool Overview'!$H$6=\"Shetland Islands Local Authority\",0,IF('III Tool Overview'!$H$6=\"Eilean Siar Local Authority\",0,new_ci(5,B94,C94,D94,$C$1,G94,1,F94,E94*F94)))))))","v":194.20375816806461},{"$f":"IF('III Tool Overview'!$H$6=\"Orkney Health Board\",0,IF('III Tool Overview'!$H$6=\"Shetland Health Board\",0,IF('III Tool Overview'!$H$6=\"Western Isles Health Board\",0,IF('III Tool Overview'!$H$6=\"Orkney Islands Local Authority\",0,IF('III Tool Overview'!$H$6=\"Shetland Islands Local Authority\",0,IF('III Tool Overview'!$H$6=\"Eilean Siar Local Authority\",0,new_ci(5,B94,C94,D94,$C$1,G94+H94,1,F94,E94*F94)))))))","v":194.13152239382927},{"$f":"IF('III Tool Overview'!$H$6=\"Orkney Health Board\",0,IF('III Tool Overview'!$H$6=\"Shetland Health Board\",0,IF('III Tool Overview'!$H$6=\"Western Isles Health Board\",0,IF('III Tool Overview'!$H$6=\"Orkney Islands Local Authority\",0,IF('III Tool Overview'!$H$6=\"Shetland Islands Local Authority\",0,IF('III Tool Overview'!$H$6=\"Eilean Siar Local Authority\",0,new_ci(10,B94,C94,D94,$C$1,G94,1,F94,E94*F94)))))))","v":521.7684190051981},{"$f":"IF('III Tool Overview'!$H$6=\"Orkney Health Board\",0,IF('III Tool Overview'!$H$6=\"Shetland Health Board\",0,IF('III Tool Overview'!$H$6=\"Western Isles Health Board\",0,IF('III Tool Overview'!$H$6=\"Orkney Islands Local Authority\",0,IF('III Tool Overview'!$H$6=\"Shetland Islands Local Authority\",0,IF('III Tool Overview'!$H$6=\"Eilean Siar Local Authority\",0,new_ci(10,B94,C94,D94,$C$1,G94+H94,1,F94,E94*F94)))))))","v":521.57560307187032},{"$f":"IF('III Tool Overview'!$H$6=\"Orkney Health Board\",0,IF('III Tool Overview'!$H$6=\"Shetland Health Board\",0,IF('III Tool Overview'!$H$6=\"Western Isles Health Board\",0,IF('III Tool Overview'!$H$6=\"Orkney Islands Local Authority\",0,IF('III Tool Overview'!$H$6=\"Shetland Islands Local Authority\",0,IF('III Tool Overview'!$H$6=\"Eilean Siar Local Authority\",0,new_ci(20,B94,C94,D94,$C$1,G94,1,F94,E94*F94)))))))","v":1604.4817567282321},{"$f":"IF('III Tool Overview'!$H$6=\"Orkney Health Board\",0,IF('III Tool Overview'!$H$6=\"Shetland Health Board\",0,IF('III Tool Overview'!$H$6=\"Western Isles Health Board\",0,IF('III Tool Overview'!$H$6=\"Orkney Islands Local Authority\",0,IF('III Tool Overview'!$H$6=\"Shetland Islands Local Authority\",0,IF('III Tool Overview'!$H$6=\"Eilean Siar Local Authority\",0,new_ci(20,B94,C94,D94,$C$1,G94+H94,1,F94,E94*F94)))))))","v":1603.9017723878699},{"$f":"IF('III Tool Overview'!$H$6=\"Orkney Health Board\",0,IF('III Tool Overview'!$H$6=\"Shetland Health Board\",0,IF('III Tool Overview'!$H$6=\"Western Isles Health Board\",0,IF('III Tool Overview'!$H$6=\"Orkney Islands Local Authority\",0,IF('III Tool Overview'!$H$6=\"Shetland Islands Local Authority\",0,IF('III Tool Overview'!$H$6=\"Eilean Siar Local Authority\",0,new_yll(2,B94,C94,D94,$C$1,G94,1,F94,E94*F94)))))))","v":2935.8690443234868},{"$f":"IF('III Tool Overview'!$H$6=\"Orkney Health Board\",0,IF('III Tool Overview'!$H$6=\"Shetland Health Board\",0,IF('III Tool Overview'!$H$6=\"Western Isles Health Board\",0,IF('III Tool Overview'!$H$6=\"Orkney Islands Local Authority\",0,IF('III Tool Overview'!$H$6=\"Shetland Islands Local Authority\",0,IF('III Tool Overview'!$H$6=\"Eilean Siar Local Authority\",0,new_yll(2,B94,C94,D94,$C$1,G94+H94,1,F94,E94*F94)))))))","v":2934.7737775290234},1.0952667944634413,{"$f":"IF('III Tool Overview'!$H$6=\"Orkney Health Board\",0,IF('III Tool Overview'!$H$6=\"Shetland Health Board\",0,IF('III Tool Overview'!$H$6=\"Western Isles Health Board\",0,IF('III Tool Overview'!$H$6=\"Orkney Islands Local Authority\",0,IF('III Tool Overview'!$H$6=\"Shetland Islands Local Authority\",0,IF('III Tool Overview'!$H$6=\"Eilean Siar Local Authority\",0,new_yll(5,B94,C94,D94,$C$1,G94,1,F94,E94*F94)))))))","v":12704.225852338423},{"$f":"IF('III Tool Overview'!$H$6=\"Orkney Health Board\",0,IF('III Tool Overview'!$H$6=\"Shetland Health Board\",0,IF('III Tool Overview'!$H$6=\"Western Isles Health Board\",0,IF('III Tool Overview'!$H$6=\"Orkney Islands Local Authority\",0,IF('III Tool Overview'!$H$6=\"Shetland Islands Local Authority\",0,IF('III Tool Overview'!$H$6=\"Eilean Siar Local Authority\",0,new_yll(5,B94,C94,D94,$C$1,G94+H94,1,F94,E94*F94)))))))","v":12699.500232415423},4.7256199229996128,{"$f":"IF('III Tool Overview'!$H$6=\"Orkney Health Board\",0,IF('III Tool Overview'!$H$6=\"Shetland Health Board\",0,IF('III Tool Overview'!$H$6=\"Western Isles Health Board\",0,IF('III Tool Overview'!$H$6=\"Orkney Islands Local Authority\",0,IF('III Tool Overview'!$H$6=\"Shetland Islands Local Authority\",0,IF('III Tool Overview'!$H$6=\"Eilean Siar Local Authority\",0,new_yll(10,B94,C94,D94,$C$1,G94,1,F94,E94*F94)))))))","v":32642.535024567474},{"$f":"IF('III Tool Overview'!$H$6=\"Orkney Health Board\",0,IF('III Tool Overview'!$H$6=\"Shetland Health Board\",0,IF('III Tool Overview'!$H$6=\"Western Isles Health Board\",0,IF('III Tool Overview'!$H$6=\"Orkney Islands Local Authority\",0,IF('III Tool Overview'!$H$6=\"Shetland Islands Local Authority\",0,IF('III Tool Overview'!$H$6=\"Eilean Siar Local Authority\",0,new_yll(10,B94,C94,D94,$C$1,G94+H94,1,F94,E94*F94)))))))","v":32630.469261521925},12.065763045549829,{"$f":"IF('III Tool Overview'!$H$6=\"Orkney Health Board\",0,IF('III Tool Overview'!$H$6=\"Shetland Health Board\",0,IF('III Tool Overview'!$H$6=\"Western Isles Health Board\",0,IF('III Tool Overview'!$H$6=\"Orkney Islands Local Authority\",0,IF('III Tool Overview'!$H$6=\"Shetland Islands Local Authority\",0,IF('III Tool Overview'!$H$6=\"Eilean Siar Local Authority\",0,new_yll(20,B94,C94,D94,$C$1,G94,1,F94,E94*F94)))))))","v":89994.742968315972},{"$f":"IF('III Tool Overview'!$H$6=\"Orkney Health Board\",0,IF('III Tool Overview'!$H$6=\"Shetland Health Board\",0,IF('III Tool Overview'!$H$6=\"Western Isles Health Board\",0,IF('III Tool Overview'!$H$6=\"Orkney Islands Local Authority\",0,IF('III Tool Overview'!$H$6=\"Shetland Islands Local Authority\",0,IF('III Tool Overview'!$H$6=\"Eilean Siar Local Authority\",0,new_yll(20,B94,C94,D94,$C$1,G94+H94,1,F94,E94*F94)))))))","v":89962.154274765839},32.58869355013303,{"$error":"#NAME?"},{"$error":"#NAME?"},{"$error":"#NAME?"},{"$error":"#NAME?"},{"$error":"#NAME?"},{"$error":"#NAME?"},{"$error":"#NAME?"},{"$error":"#NAME?"},{"$error":"#NAME?"},{"$error":"#NAME?"},{"$error":"#NAME?"},{"$error":"#NAME?"},{"$f":"HLOOKUP('III Tool Overview'!$H$6,LookUpData_Pop!$B$1:$AV$269,LookUpData_Pop!BB94,FALSE)","v":170841},19.278833922673854,null,170841,null,null,null,{"$error":"#DIV/0!"},{"$error":"#DIV/0!"},{"$error":"#DIV/0!"},null,1.1284664642956816E-4,0,null,{"$f":"(AP94/AO94)*LookUpData_Pop!$B$283","v":0.78992652500697713},{"$f":"(AQ94/AP94)*LookUpData_Pop!$B$283","v":0},null,0.5,5]
["Female 35-39",37.5,"female",1,{"$f":"HLOOKUP('III Tool Overview'!$H$6,Prevalence!$B$2:$AV$268,Prevalence!AW90,FALSE)","v":0.31784229841423955},{"$f":"HLOOKUP('III Tool Overview'!$H$6,LookUpData_Pop!$B$1:$AV$269,LookUpData_Pop!BB95,FALSE)/5","v":36858.6},{"$f":"'III Tool Overview'!$H$9/110","v":0},{"$f":"IF('III Tool Overview'!$H$10=\"Even distribution\",Targeting!C93,IF('III Tool Overview'!$H$10=\"Targeting to Q1\",Targeting!D93,IF('III Tool Overview'!$H$10=\"Targeting to Q1 & Q2\",Targeting!E93,IF('III Tool Overview'!$H$10=\"Proportionate to need\",Targeting!F93))))","v":698.63879599005907},{"$f":"IF('III Tool Overview'!$H$6=\"Orkney Health Board\",0,IF('III Tool Overview'!$H$6=\"Shetland Health Board\",0,IF('III Tool Overview'!$H$6=\"Western Isles Health Board\",0,IF('III Tool Overview'!$H$6=\"Orkney Islands Local Authority\",0,IF('III Tool Overview'!$H$6=\"Shetland Islands Local Authority\",0,IF('III Tool Overview'!$H$6=\"Eilean Siar Local Authority\",0,new_ci(2,B95,C95,D95,$C$1,G95,1,F95,E95*F95)))))))","v":77.247228981357495},{"$f":"IF('III Tool Overview'!$H$6=\"Orkney Health Board\",0,IF('III Tool Overview'!$H$6=\"Shetland Health Board\",0,IF('III Tool Overview'!$H$6=\"Western Isles Health Board\",0,IF('III Tool Overview'!$H$6=\"Orkney Islands Local Authority\",0,IF('III Tool Overview'!$H$6=\"Shetland Islands Local Authority\",0,IF('III Tool Overview'!$H$6=\"Eilean Siar Local Authority\",0,new_ci(2,B95,C95,D95,$C$1,G95+H95,1,F95,E95*F95)))))))","v":77.224311128917407},{"$f":"IF('III Tool Overview'!$H$6=\"Orkney Health Board\",0,IF('III Tool Overview'!$H$6=\"Shetland Health Board\",0,IF('III Tool Overview'!$H$6=\"Western Isles Health Board\",0,IF('III Tool Overview'!$H$6=\"Orkney Islands Local Authority\",0,IF('III Tool Overview'!$H$6=\"Shetland Islands Local Authority\",0,IF('III Tool Overview'!$H$6=\"Eilean Siar Local Authority\",0,new_ci(5,B95,C95,D95,$C$1,G95,1,F95,E95*F95)))))))","v":341.86987651981957},{"$f":"IF('III Tool Overview'!$H$6=\"Orkney Health Board\",0,IF('III Tool Overview'!$H$6=\"Shetland Health Board\",0,IF('III Tool Overview'!$H$6=\"Western Isles Health Board\",0,IF('III Tool Overview'!$H$6=\"Orkney Islands Local Authority\",0,IF('III Tool Overview'!$H$6=\"Shetland Islands Local Authority\",0,IF('III Tool Overview'!$H$6=\"Eilean Siar Local Authority\",0,new_ci(5,B95,C95,D95,$C$1,G95+H95,1,F95,E95*F95)))))))","v":341.76894047530038},{"$f":"IF('III Tool Overview'!$H$6=\"Orkney Health Board\",0,IF('III Tool Overview'!$H$6=\"Shetland Health Board\",0,IF('III Tool Overview'!$H$6=\"Western Isles Health Board\",0,IF('III Tool Overview'!$H$6=\"Orkney Islands Local Authority\",0,IF('III Tool Overview'!$H$6=\"Shetland Islands Local Authority\",0,IF('III Tool Overview'!$H$6=\"Eilean Siar Local Authority\",0,new_ci(10,B95,C95,D95,$C$1,G95,1,F95,E95*F95)))))))","v":915.65135928867267},{"$f":"IF('III Tool Overview'!$H$6=\"Orkney Health Board\",0,IF('III Tool Overview'!$H$6=\"Shetland Health Board\",0,IF('III Tool Overview'!$H$6=\"Western Isles Health Board\",0,IF('III Tool Overview'!$H$6=\"Orkney Islands Local Authority\",0,IF('III Tool Overview'!$H$6=\"Shetland Islands Local Authority\",0,IF('III Tool Overview'!$H$6=\"Eilean Siar Local Authority\",0,new_ci(10,B95,C95,D95,$C$1,G95+H95,1,F95,E95*F95)))))))","v":915.38388068860138},{"$f":"IF('III Tool Overview'!$H$6=\"Orkney Health Board\",0,IF('III Tool Overview'!$H$6=\"Shetland Health Board\",0,IF('III Tool Overview'!$H$6=\"Western Isles Health Board\",0,IF('III Tool Overview'!$H$6=\"Orkney Islands Local Authority\",0,IF('III Tool Overview'!$H$6=\"Shetland Islands Local Authority\",0,IF('III Tool Overview'!$H$6=\"Eilean Siar Local Authority\",0,new_ci(20,B95,C95,D95,$C$1,G95,1,F95,E95*F95)))))))","v":2786.5787303539028},{"$f":"IF('III Tool Overview'!$H$6=\"Orkney Health Board\",0,IF('III Tool Overview'!$H$6=\"Shetland Health Board\",0,IF('III Tool Overview'!$H$6=\"Western Isles Health Board\",0,IF('III Tool Overview'!$H$6=\"Orkney Islands Local Authority\",0,IF('III Tool Overview'!$H$6=\"Shetland Islands Local Authority\",0,IF('III Tool Overview'!$H$6=\"Eilean Siar Local Authority\",0,new_ci(20,B95,C95,D95,$C$1,G95+H95,1,F95,E95*F95)))))))","v":2785.7936183471161},{"$f":"IF('III Tool Overview'!$H$6=\"Orkney Health Board\",0,IF('III Tool Overview'!$H$6=\"Shetland Health Board\",0,IF('III Tool Overview'!$H$6=\"Western Isles Health Board\",0,IF('III Tool Overview'!$H$6=\"Orkney Islands Local Authority\",0,IF('III Tool Overview'!$H$6=\"Shetland Islands Local Authority\",0,IF('III Tool Overview'!$H$6=\"Eilean Siar Local Authority\",0,new_yll(2,B95,C95,D95,$C$1,G95,1,F95,E95*F95)))))))","v":4712.0809678628075},{"$f":"IF('III Tool Overview'!$H$6=\"Orkney Health Board\",0,IF('III Tool Overview'!$H$6=\"Shetland Health Board\",0,IF('III Tool Overview'!$H$6=\"Western Isles Health Board\",0,IF('III Tool Overview'!$H$6=\"Orkney Islands Local Authority\",0,IF('III Tool Overview'!$H$6=\"Shetland Islands Local Authority\",0,IF('III Tool Overview'!$H$6=\"Eilean Siar Local Authority\",0,new_yll(2,B95,C95,D95,$C$1,G95+H95,1,F95,E95*F95)))))))","v":4710.6829788639616},1.3979889988459036,{"$f":"IF('III Tool Overview'!$H$6=\"Orkney Health Board\",0,IF('III Tool Overview'!$H$6=\"Shetland Health Board\",0,IF('III Tool Overview'!$H$6=\"Western Isles Health Board\",0,IF('III Tool Overview'!$H$6=\"Orkney Islands Local Authority\",0,IF('III Tool Overview'!$H$6=\"Shetland Islands Local Authority\",0,IF('III Tool Overview'!$H$6=\"Eilean Siar Local Authority\",0,new_yll(5,B95,C95,D95,$C$1,G95,1,F95,E95*F95)))))))","v":20313.271737688399},{"$f":"IF('III Tool Overview'!$H$6=\"Orkney Health Board\",0,IF('III Tool Overview'!$H$6=\"Shetland Health Board\",0,IF('III Tool Overview'!$H$6=\"Western Isles Health Board\",0,IF('III Tool Overview'!$H$6=\"Orkney Islands Local Authority\",0,IF('III Tool Overview'!$H$6=\"Shetland Islands Local Authority\",0,IF('III Tool Overview'!$H$6=\"Eilean Siar Local Authority\",0,new_yll(5,B95,C95,D95,$C$1,G95+H95,1,F95,E95*F95)))))))","v":20307.273910592776},5.9978270956235065,{"$f":"IF('III Tool Overview'!$H$6=\"Orkney Health Board\",0,IF('III Tool Overview'!$H$6=\"Shetland Health Board\",0,IF('III Tool Overview'!$H$6=\"Western Isles Health Board\",0,IF('III Tool Overview'!$H$6=\"Orkney Islands Local Authority\",0,IF('III Tool Overview'!$H$6=\"Shetland Islands Local Authority\",0,IF('III Tool Overview'!$H$6=\"Eilean Siar Local Authority\",0,new_yll(10,B95,C95,D95,$C$1,G95,1,F95,E95*F95)))))))","v":51797.123529224016},{"$f":"IF('III Tool Overview'!$H$6=\"Orkney Health Board\",0,IF('III Tool Overview'!$H$6=\"Shetland Health Board\",0,IF('III Tool Overview'!$H$6=\"Western Isles Health Board\",0,IF('III Tool Overview'!$H$6=\"Orkney Islands Local Authority\",0,IF('III Tool Overview'!$H$6=\"Shetland Islands Local Authority\",0,IF('III Tool Overview'!$H$6=\"Eilean Siar Local Authority\",0,new_yll(10,B95,C95,D95,$C$1,G95+H95,1,F95,E95*F95)))))))","v":51781.985941910185},15.137587313831318,{"$f":"IF('III Tool Overview'!$H$6=\"Orkney Health Board\",0,IF('III Tool Overview'!$H$6=\"Shetland Health Board\",0,IF('III Tool Overview'!$H$6=\"Western Isles Health Board\",0,IF('III Tool Overview'!$H$6=\"Orkney Islands Local Authority\",0,IF('III Tool Overview'!$H$6=\"Shetland Islands Local Authority\",0,IF('III Tool Overview'!$H$6=\"Eilean Siar Local Authority\",0,new_yll(20,B95,C95,D95,$C$1,G95,1,F95,E95*F95)))))))","v":139708.17233400603},{"$f":"IF('III Tool Overview'!$H$6=\"Orkney Health Board\",0,IF('III Tool Overview'!$H$6=\"Shetland Health Board\",0,IF('III Tool Overview'!$H$6=\"Western Isles Health Board\",0,IF('III Tool Overview'!$H$6=\"Orkney Islands Local Authority\",0,IF('III Tool Overview'!$H$6=\"Shetland Islands Local Authority\",0,IF('III Tool Overview'!$H$6=\"Eilean Siar Local Authority\",0,new_yll(20,B95,C95,D95,$C$1,G95+H95,1,F95,E95*F95)))))))","v":139668.68025686115},39.492077144881478,{"$error":"#NAME?"},{"$error":"#NAME?"},{"$error":"#NAME?"},{"$error":"#NAME?"},{"$error":"#NAME?"},{"$error":"#NAME?"},{"$error":"#NAME?"},{"$error":"#NAME?"},{"$error":"#NAME?"},{"$error":"#NAME?"},{"$error":"#NAME?"},{"$error":"#NAME?"},{"$f":"HLOOKUP('III Tool Overview'!$H$6,LookUpData_Pop!$B$1:$AV$269,LookUpData_Pop!BB95,FALSE)","v":184293},27.274045358026086,null,184293,null,null,null,{"$error":"#DIV/0!"},{"$error":"#DIV/0!"},{"$error":"#DIV/0!"},null,1.479928448613137E-4,0,null,{"$f":"(AP95/AO95)*LookUpData_Pop!$B$284","v":1.0359499140291959},{"$f":"(AQ95/AP95)*LookUpData_Pop!$B$284","v":0},null,0.5,5]
["Female 40-44",42.5,"female",1,{"$f":"HLOOKUP('III Tool Overview'!$H$6,Prevalence!$B$2:$AV$268,Prevalence!AW91,FALSE)","v":0.31784229841423955},{"$f":"HLOOKUP('III Tool Overview'!$H$6,LookUpData_Pop!$B$1:$AV$269,LookUpData_Pop!BB96,FALSE)/5","v":40493.199999999997},{"$f":"'III Tool Overview'!$H$9/110","v":0},{"$f":"IF('III Tool Overview'!$H$10=\"Even distribution\",Targeting!C94,IF('III Tool Overview'!$H$10=\"Targeting to Q1\",Targeting!D94,IF('III Tool Overview'!$H$10=\"Targeting to Q1 & Q2\",Targeting!E94,IF('III Tool Overview'!$H$10=\"Proportionate to need\",Targeting!F94))))","v":818.78895443820898},{"$f":"IF('III Tool Overview'!$H$6=\"Orkney Health Board\",0,IF('III Tool Overview'!$H$6=\"Shetland Health Board\",0,IF('III Tool Overview'!$H$6=\"Western Isles Health Board\",0,IF('III Tool Overview'!$H$6=\"Orkney Islands Local Authority\",0,IF('III Tool Overview'!$H$6=\"Shetland Islands Local Authority\",0,IF('III Tool Overview'!$H$6=\"Eilean Siar Local Authority\",0,new_ci(2,B96,C96,D96,$C$1,G96,1,F96,E96*F96)))))))","v":117.72519251883986},{"$f":"IF('III Tool Overview'!$H$6=\"Orkney Health Board\",0,IF('III Tool Overview'!$H$6=\"Shetland Health Board\",0,IF('III Tool Overview'!$H$6=\"Western Isles Health Board\",0,IF('III Tool Overview'!$H$6=\"Orkney Islands Local Authority\",0,IF('III Tool Overview'!$H$6=\"Shetland Islands Local Authority\",0,IF('III Tool Overview'!$H$6=\"Eilean Siar Local Authority\",0,new_ci(2,B96,C96,D96,$C$1,G96+H96,1,F96,E96*F96)))))))","v":117.68796300472883},{"$f":"IF('III Tool Overview'!$H$6=\"Orkney Health Board\",0,IF('III Tool Overview'!$H$6=\"Shetland Health Board\",0,IF('III Tool Overview'!$H$6=\"Western Isles Health Board\",0,IF('III Tool Overview'!$H$6=\"Orkney Islands Local Authority\",0,IF('III Tool Overview'!$H$6=\"Shetland Islands Local Authority\",0,IF('III Tool Overview'!$H$6=\"Eilean Siar Local Authority\",0,new_ci(5,B96,C96,D96,$C$1,G96,1,F96,E96*F96)))))))","v":520.27253359157032},{"$f":"IF('III Tool Overview'!$H$6=\"Orkney Health Board\",0,IF('III Tool Overview'!$H$6=\"Shetland Health Board\",0,IF('III Tool Overview'!$H$6=\"Western Isles Health Board\",0,IF('III Tool Overview'!$H$6=\"Orkney Islands Local Authority\",0,IF('III Tool Overview'!$H$6=\"Shetland Islands Local Authority\",0,IF('III Tool Overview'!$H$6=\"Eilean Siar Local Authority\",0,new_ci(5,B96,C96,D96,$C$1,G96+H96,1,F96,E96*F96)))))))","v":520.10910580712402},{"$f":"IF('III Tool Overview'!$H$6=\"Orkney Health Board\",0,IF('III Tool Overview'!$H$6=\"Shetland Health Board\",0,IF('III Tool Overview'!$H$6=\"Western Isles Health Board\",0,IF('III Tool Overview'!$H$6=\"Orkney Islands Local Authority\",0,IF('III Tool Overview'!$H$6=\"Shetland Islands Local Authority\",0,IF('III Tool Overview'!$H$6=\"Eilean Siar Local Authority\",0,new_ci(10,B96,C96,D96,$C$1,G96,1,F96,E96*F96)))))))","v":1389.1674377506436},{"$f":"IF('III Tool Overview'!$H$6=\"Orkney Health Board\",0,IF('III Tool Overview'!$H$6=\"Shetland Health Board\",0,IF('III Tool Overview'!$H$6=\"Western Isles Health Board\",0,IF('III Tool Overview'!$H$6=\"Orkney Islands Local Authority\",0,IF('III Tool Overview'!$H$6=\"Shetland Islands Local Authority\",0,IF('III Tool Overview'!$H$6=\"Eilean Siar Local Authority\",0,new_ci(10,B96,C96,D96,$C$1,G96+H96,1,F96,E96*F96)))))))","v":1388.7374827063818},{"$f":"IF('III Tool Overview'!$H$6=\"Orkney Health Board\",0,IF('III Tool Overview'!$H$6=\"Shetland Health Board\",0,IF('III Tool Overview'!$H$6=\"Western Isles Health Board\",0,IF('III Tool Overview'!$H$6=\"Orkney Islands Local Authority\",0,IF('III Tool Overview'!$H$6=\"Shetland Islands Local Authority\",0,IF('III Tool Overview'!$H$6=\"Eilean Siar Local Authority\",0,new_ci(20,B96,C96,D96,$C$1,G96,1,F96,E96*F96)))))))","v":4184.2701305293413},{"$f":"IF('III Tool Overview'!$H$6=\"Orkney Health Board\",0,IF('III Tool Overview'!$H$6=\"Shetland Health Board\",0,IF('III Tool Overview'!$H$6=\"Western Isles Health Board\",0,IF('III Tool Overview'!$H$6=\"Orkney Islands Local Authority\",0,IF('III Tool Overview'!$H$6=\"Shetland Islands Local Authority\",0,IF('III Tool Overview'!$H$6=\"Eilean Siar Local Authority\",0,new_ci(20,B96,C96,D96,$C$1,G96+H96,1,F96,E96*F96)))))))","v":4183.0386079876744},{"$f":"IF('III Tool Overview'!$H$6=\"Orkney Health Board\",0,IF('III Tool Overview'!$H$6=\"Shetland Health Board\",0,IF('III Tool Overview'!$H$6=\"Western Isles Health Board\",0,IF('III Tool Overview'!$H$6=\"Orkney Islands Local Authority\",0,IF('III Tool Overview'!$H$6=\"Shetland Islands Local Authority\",0,IF('III Tool Overview'!$H$6=\"Eilean Siar Local Authority\",0,new_yll(2,B96,C96,D96,$C$1,G96,1,F96,E96*F96)))))))","v":6710.3359735738723},{"$f":"IF('III Tool Overview'!$H$6=\"Orkney Health Board\",0,IF('III Tool Overview'!$H$6=\"Shetland Health Board\",0,IF('III Tool Overview'!$H$6=\"Western Isles Health Board\",0,IF('III Tool Overview'!$H$6=\"Orkney Islands Local Authority\",0,IF('III Tool Overview'!$H$6=\"Shetland Islands Local Authority\",0,IF('III Tool Overview'!$H$6=\"Eilean Siar Local Authority\",0,new_yll(2,B96,C96,D96,$C$1,G96+H96,1,F96,E96*F96)))))))","v":6708.2138912695436},2.1220823043286146,{"$f":"IF('III Tool Overview'!$H$6=\"Orkney Health Board\",0,IF('III Tool Overview'!$H$6=\"Shetland Health Board\",0,IF('III Tool Overview'!$H$6=\"Western Isles Health Board\",0,IF('III Tool Overview'!$H$6=\"Orkney Islands Local Authority\",0,IF('III Tool Overview'!$H$6=\"Shetland Islands Local Authority\",0,IF('III Tool Overview'!$H$6=\"Eilean Siar Local Authority\",0,new_yll(5,B96,C96,D96,$C$1,G96,1,F96,E96*F96)))))))","v":28833.130717352753},{"$f":"IF('III Tool Overview'!$H$6=\"Orkney Health Board\",0,IF('III Tool Overview'!$H$6=\"Shetland Health Board\",0,IF('III Tool Overview'!$H$6=\"Western Isles Health Board\",0,IF('III Tool Overview'!$H$6=\"Orkney Islands Local Authority\",0,IF('III Tool Overview'!$H$6=\"Shetland Islands Local Authority\",0,IF('III Tool Overview'!$H$6=\"Eilean Siar Local Authority\",0,new_yll(5,B96,C96,D96,$C$1,G96+H96,1,F96,E96*F96)))))))","v":28824.072776981364},9.0579403713891224,{"$f":"IF('III Tool Overview'!$H$6=\"Orkney Health Board\",0,IF('III Tool Overview'!$H$6=\"Shetland Health Board\",0,IF('III Tool Overview'!$H$6=\"Western Isles Health Board\",0,IF('III Tool Overview'!$H$6=\"Orkney Islands Local Authority\",0,IF('III Tool Overview'!$H$6=\"Shetland Islands Local Authority\",0,IF('III Tool Overview'!$H$6=\"Eilean Siar Local Authority\",0,new_yll(10,B96,C96,D96,$C$1,G96,1,F96,E96*F96)))))))","v":73036.673280051662},{"$f":"IF('III Tool Overview'!$H$6=\"Orkney Health Board\",0,IF('III Tool Overview'!$H$6=\"Shetland Health Board\",0,IF('III Tool Overview'!$H$6=\"Western Isles Health Board\",0,IF('III Tool Overview'!$H$6=\"Orkney Islands Local Authority\",0,IF('III Tool Overview'!$H$6=\"Shetland Islands Local Authority\",0,IF('III Tool Overview'!$H$6=\"Eilean Siar Local Authority\",0,new_yll(10,B96,C96,D96,$C$1,G96+H96,1,F96,E96*F96)))))))","v":73014.05300819398},22.620271857682383,{"$f":"IF('III Tool Overview'!$H$6=\"Orkney Health Board\",0,IF('III Tool Overview'!$H$6=\"Shetland Health Board\",0,IF('III Tool Overview'!$H$6=\"Western Isles Health Board\",0,IF('III Tool Overview'!$H$6=\"Orkney Islands Local Authority\",0,IF('III Tool Overview'!$H$6=\"Shetland Islands Local Authority\",0,IF('III Tool Overview'!$H$6=\"Eilean Siar Local Authority\",0,new_yll(20,B96,C96,D96,$C$1,G96,1,F96,E96*F96)))))))","v":193240.23939714429},{"$f":"IF('III Tool Overview'!$H$6=\"Orkney Health Board\",0,IF('III Tool Overview'!$H$6=\"Shetland Health Board\",0,IF('III Tool Overview'!$H$6=\"Western Isles Health Board\",0,IF('III Tool Overview'!$H$6=\"Orkney Islands Local Authority\",0,IF('III Tool Overview'!$H$6=\"Shetland Islands Local Authority\",0,IF('III Tool Overview'!$H$6=\"Eilean Siar Local Authority\",0,new_yll(20,B96,C96,D96,$C$1,G96+H96,1,F96,E96*F96)))))))","v":193183.07739355494},57.162003589357482,{"$error":"#NAME?"},{"$error":"#NAME?"},{"$error":"#NAME?"},{"$error":"#NAME?"},{"$error":"#NAME?"},{"$error":"#NAME?"},{"$error":"#NAME?"},{"$error":"#NAME?"},{"$error":"#NAME?"},{"$error":"#NAME?"},{"$error":"#NAME?"},{"$error":"#NAME?"},{"$f":"HLOOKUP('III Tool Overview'!$H$6,LookUpData_Pop!$B$1:$AV$269,LookUpData_Pop!BB96,FALSE)","v":202466},41.137899774105335,null,202466,null,null,null,{"$error":"#DIV/0!"},{"$error":"#DIV/0!"},{"$error":"#DIV/0!"},null,2.0318423722553582E-4,0,null,{"$f":"(AP96/AO96)*LookUpData_Pop!$B$285","v":1.4222896605787507},{"$f":"(AQ96/AP96)*LookUpData_Pop!$B$285","v":0},null,0.5,5]
["Female 45-49",47.5,"female",1,{"$f":"HLOOKUP('III Tool Overview'!$H$6,Prevalence!$B$2:$AV$268,Prevalence!AW92,FALSE)","v":0.26336207017099428},{"$f":"HLOOKUP('III Tool Overview'!$H$6,LookUpData_Pop!$B$1:$AV$269,LookUpData_Pop!BB97,FALSE)/5","v":39361},{"$f":"'III Tool Overview'!$H$9/110","v":0},{"$f":"IF('III Tool Overview'!$H$10=\"Even distribution\",Targeting!C95,IF('III Tool Overview'!$H$10=\"Targeting to Q1\",Targeting!D95,IF('III Tool Overview'!$H$10=\"Targeting to Q1 & Q2\",Targeting!E95,IF('III Tool Overview'!$H$10=\"Proportionate to need\",Targeting!F95))))","v":698.17350809174002},{"$f":"IF('III Tool Overview'!$H$6=\"Orkney Health Board\",0,IF('III Tool Overview'!$H$6=\"Shetland Health Board\",0,IF('III Tool Overview'!$H$6=\"Western Isles Health Board\",0,IF('III Tool Overview'!$H$6=\"Orkney Islands Local Authority\",0,IF('III Tool Overview'!$H$6=\"Shetland Islands Local Authority\",0,IF('III Tool Overview'!$H$6=\"Eilean Siar Local Authority\",0,new_ci(2,B97,C97,D97,$C$1,G97,1,F97,E97*F97)))))))","v":186.90940085741283},{"$f":"IF('III Tool Overview'!$H$6=\"Orkney Health Board\",0,IF('III Tool Overview'!$H$6=\"Shetland Health Board\",0,IF('III Tool Overview'!$H$6=\"Western Isles Health Board\",0,IF('III Tool Overview'!$H$6=\"Orkney Islands Local Authority\",0,IF('III Tool Overview'!$H$6=\"Shetland Islands Local Authority\",0,IF('III Tool Overview'!$H$6=\"Eilean Siar Local Authority\",0,new_ci(2,B97,C97,D97,$C$1,G97+H97,1,F97,E97*F97)))))))","v":186.85686112437963},{"$f":"IF('III Tool Overview'!$H$6=\"Orkney Health Board\",0,IF('III Tool Overview'!$H$6=\"Shetland Health Board\",0,IF('III Tool Overview'!$H$6=\"Western Isles Health Board\",0,IF('III Tool Overview'!$H$6=\"Orkney Islands Local Authority\",0,IF('III Tool Overview'!$H$6=\"Shetland Islands Local Authority\",0,IF('III Tool Overview'!$H$6=\"Eilean Siar Local Authority\",0,new_ci(5,B97,C97,D97,$C$1,G97,1,F97,E97*F97)))))))","v":823.3763057993051},{"$f":"IF('III Tool Overview'!$H$6=\"Orkney Health Board\",0,IF('III Tool Overview'!$H$6=\"Shetland Health Board\",0,IF('III Tool Overview'!$H$6=\"Western Isles Health Board\",0,IF('III Tool Overview'!$H$6=\"Orkney Islands Local Authority\",0,IF('III Tool Overview'!$H$6=\"Shetland Islands Local Authority\",0,IF('III Tool Overview'!$H$6=\"Eilean Siar Local Authority\",0,new_ci(5,B97,C97,D97,$C$1,G97+H97,1,F97,E97*F97)))))))","v":823.14746070935917},{"$f":"IF('III Tool Overview'!$H$6=\"Orkney Health Board\",0,IF('III Tool Overview'!$H$6=\"Shetland Health Board\",0,IF('III Tool Overview'!$H$6=\"Western Isles Health Board\",0,IF('III Tool Overview'!$H$6=\"Orkney Islands Local Authority\",0,IF('III Tool Overview'!$H$6=\"Shetland Islands Local Authority\",0,IF('III Tool Overview'!$H$6=\"Eilean Siar Local Authority\",0,new_ci(10,B97,C97,D97,$C$1,G97,1,F97,E97*F97)))))))","v":2183.1647608306707},{"$f":"IF('III Tool Overview'!$H$6=\"Orkney Health Board\",0,IF('III Tool Overview'!$H$6=\"Shetland Health Board\",0,IF('III Tool Overview'!$H$6=\"Western Isles Health Board\",0,IF('III Tool Overview'!$H$6=\"Orkney Islands Local Authority\",0,IF('III Tool Overview'!$H$6=\"Shetland Islands Local Authority\",0,IF('III Tool Overview'!$H$6=\"Eilean Siar Local Authority\",0,new_ci(10,B97,C97,D97,$C$1,G97+H97,1,F97,E97*F97)))))))","v":2182.5729088738426},{"$f":"IF('III Tool Overview'!$H$6=\"Orkney Health Board\",0,IF('III Tool Overview'!$H$6=\"Shetland Health Board\",0,IF('III Tool Overview'!$H$6=\"Western Isles Health Board\",0,IF('III Tool Overview'!$H$6=\"Orkney Islands Local Authority\",0,IF('III Tool Overview'!$H$6=\"Shetland Islands Local Authority\",0,IF('III Tool Overview'!$H$6=\"Eilean Siar Local Authority\",0,new_ci(20,B97,C97,D97,$C$1,G97,1,F97,E97*F97)))))))","v":6425.9179453257802},{"$f":"IF('III Tool Overview'!$H$6=\"Orkney Health Board\",0,IF('III Tool Overview'!$H$6=\"Shetland Health Board\",0,IF('III Tool Overview'!$H$6=\"Western Isles Health Board\",0,IF('III Tool Overview'!$H$6=\"Orkney Islands Local Authority\",0,IF('III Tool Overview'!$H$6=\"Shetland Islands Local Authority\",0,IF('III Tool Overview'!$H$6=\"Eilean Siar Local Authority\",0,new_ci(20,B97,C97,D97,$C$1,G97+H97,1,F97,E97*F97)))))))","v":6424.3178176314996},{"$f":"IF('III Tool Overview'!$H$6=\"Orkney Health Board\",0,IF('III Tool Overview'!$H$6=\"Shetland Health Board\",0,IF('III Tool Overview'!$H$6=\"Western Isles Health Board\",0,IF('III Tool Overview'!$H$6=\"Orkney Islands Local Authority\",0,IF('III Tool Overview'!$H$6=\"Shetland Islands Local Authority\",0,IF('III Tool Overview'!$H$6=\"Eilean Siar Local Authority\",0,new_yll(2,B97,C97,D97,$C$1,G97,1,F97,E97*F97)))))))","v":9532.379443728054},{"$f":"IF('III Tool Overview'!$H$6=\"Orkney Health Board\",0,IF('III Tool Overview'!$H$6=\"Shetland Health Board\",0,IF('III Tool Overview'!$H$6=\"Western Isles Health Board\",0,IF('III Tool Overview'!$H$6=\"Orkney Islands Local Authority\",0,IF('III Tool Overview'!$H$6=\"Shetland Islands Local Authority\",0,IF('III Tool Overview'!$H$6=\"Eilean Siar Local Authority\",0,new_yll(2,B97,C97,D97,$C$1,G97+H97,1,F97,E97*F97)))))))","v":9529.6999173433614},2.6795263846925081,{"$f":"IF('III Tool Overview'!$H$6=\"Orkney Health Board\",0,IF('III Tool Overview'!$H$6=\"Shetland Health Board\",0,IF('III Tool Overview'!$H$6=\"Western Isles Health Board\",0,IF('III Tool Overview'!$H$6=\"Orkney Islands Local Authority\",0,IF('III Tool Overview'!$H$6=\"Shetland Islands Local Authority\",0,IF('III Tool Overview'!$H$6=\"Eilean Siar Local Authority\",0,new_yll(5,B97,C97,D97,$C$1,G97,1,F97,E97*F97)))))))","v":40692.800176995108},{"$f":"IF('III Tool Overview'!$H$6=\"Orkney Health Board\",0,IF('III Tool Overview'!$H$6=\"Shetland Health Board\",0,IF('III Tool Overview'!$H$6=\"Western Isles Health Board\",0,IF('III Tool Overview'!$H$6=\"Orkney Islands Local Authority\",0,IF('III Tool Overview'!$H$6=\"Shetland Islands Local Authority\",0,IF('III Tool Overview'!$H$6=\"Eilean Siar Local Authority\",0,new_yll(5,B97,C97,D97,$C$1,G97+H97,1,F97,E97*F97)))))))","v":40681.488121382856},11.312055612252152,{"$f":"IF('III Tool Overview'!$H$6=\"Orkney Health Board\",0,IF('III Tool Overview'!$H$6=\"Shetland Health Board\",0,IF('III Tool Overview'!$H$6=\"Western Isles Health Board\",0,IF('III Tool Overview'!$H$6=\"Orkney Islands Local Authority\",0,IF('III Tool Overview'!$H$6=\"Shetland Islands Local Authority\",0,IF('III Tool Overview'!$H$6=\"Eilean Siar Local Authority\",0,new_yll(10,B97,C97,D97,$C$1,G97,1,F97,E97*F97)))))))","v":101718.63424207334},{"$f":"IF('III Tool Overview'!$H$6=\"Orkney Health Board\",0,IF('III Tool Overview'!$H$6=\"Shetland Health Board\",0,IF('III Tool Overview'!$H$6=\"Western Isles Health Board\",0,IF('III Tool Overview'!$H$6=\"Orkney Islands Local Authority\",0,IF('III Tool Overview'!$H$6=\"Shetland Islands Local Authority\",0,IF('III Tool Overview'!$H$6=\"Eilean Siar Local Authority\",0,new_yll(10,B97,C97,D97,$C$1,G97+H97,1,F97,E97*F97)))))))","v":101691.02335545704},27.610886616297648,{"$f":"IF('III Tool Overview'!$H$6=\"Orkney Health Board\",0,IF('III Tool Overview'!$H$6=\"Shetland Health Board\",0,IF('III Tool Overview'!$H$6=\"Western Isles Health Board\",0,IF('III Tool Overview'!$H$6=\"Orkney Islands Local Authority\",0,IF('III Tool Overview'!$H$6=\"Shetland Islands Local Authority\",0,IF('III Tool Overview'!$H$6=\"Eilean Siar Local Authority\",0,new_yll(20,B97,C97,D97,$C$1,G97,1,F97,E97*F97)))))))","v":258886.32132076618},{"$f":"IF('III Tool Overview'!$H$6=\"Orkney Health Board\",0,IF('III Tool Overview'!$H$6=\"Shetland Health Board\",0,IF('III Tool Overview'!$H$6=\"Western Isles Health Board\",0,IF('III Tool Overview'!$H$6=\"Orkney Islands Local Authority\",0,IF('III Tool Overview'!$H$6=\"Shetland Islands Local Authority\",0,IF('III Tool Overview'!$H$6=\"Eilean Siar Local Authority\",0,new_yll(20,B97,C97,D97,$C$1,G97+H97,1,F97,E97*F97)))))))","v":258821.20323955739},65.118081208784133,{"$error":"#NAME?"},{"$error":"#NAME?"},{"$error":"#NAME?"},{"$error":"#NAME?"},{"$error":"#NAME?"},{"$error":"#NAME?"},{"$error":"#NAME?"},{"$error":"#NAME?"},{"$error":"#NAME?"},{"$error":"#NAME?"},{"$error":"#NAME?"},{"$error":"#NAME?"},{"$f":"HLOOKUP('III Tool Overview'!$H$6,LookUpData_Pop!$B$1:$AV$269,LookUpData_Pop!BB97,FALSE)","v":196805},66.611004348059467,null,196805,null,null,null,{"$error":"#DIV/0!"},{"$error":"#DIV/0!"},{"$error":"#DIV/0!"},null,3.384619514141382E-4,0,null,{"$f":"(AP97/AO97)*LookUpData_Pop!$B$286","v":2.3692336598989674},{"$f":"(AQ97/AP97)*LookUpData_Pop!$B$286","v":0},null,0.5,5]
["Female 50-54",52.5,"female",1,{"$f":"HLOOKUP('III Tool Overview'!$H$6,Prevalence!$B$2:$AV$268,Prevalence!AW93,FALSE)","v":0.26336207017099428},{"$f":"HLOOKUP('III Tool Overview'!$H$6,LookUpData_Pop!$B$1:$AV$269,LookUpData_Pop!BB98,FALSE)/5","v":34448.800000000003},{"$f":"'III Tool Overview'!$H$9/110","v":0},{"$f":"IF('III Tool Overview'!$H$10=\"Even distribution\",Targeting!C96,IF('III Tool Overview'!$H$10=\"Targeting to Q1\",Targeting!D96,IF('III Tool Overview'!$H$10=\"Targeting to Q1 & Q2\",Targeting!E96,IF('III Tool Overview'!$H$10=\"Proportionate to need\",Targeting!F96))))","v":643.93783615558687},{"$f":"IF('III Tool Overview'!$H$6=\"Orkney Health Board\",0,IF('III Tool Overview'!$H$6=\"Shetland Health Board\",0,IF('III Tool Overview'!$H$6=\"Western Isles Health Board\",0,IF('III Tool Overview'!$H$6=\"Orkney Islands Local Authority\",0,IF('III Tool Overview'!$H$6=\"Shetland Islands Local Authority\",0,IF('III Tool Overview'!$H$6=\"Eilean Siar Local Authority\",0,new_ci(2,B98,C98,D98,$C$1,G98,1,F98,E98*F98)))))))","v":226.80644383438658},{"$f":"IF('III Tool Overview'!$H$6=\"Orkney Health Board\",0,IF('III Tool Overview'!$H$6=\"Shetland Health Board\",0,IF('III Tool Overview'!$H$6=\"Western Isles Health Board\",0,IF('III Tool Overview'!$H$6=\"Orkney Islands Local Authority\",0,IF('III Tool Overview'!$H$6=\"Shetland Islands Local Authority\",0,IF('III Tool Overview'!$H$6=\"Eilean Siar Local Authority\",0,new_ci(2,B98,C98,D98,$C$1,G98+H98,1,F98,E98*F98)))))))","v":226.73931961923239},{"$f":"IF('III Tool Overview'!$H$6=\"Orkney Health Board\",0,IF('III Tool Overview'!$H$6=\"Shetland Health Board\",0,IF('III Tool Overview'!$H$6=\"Western Isles Health Board\",0,IF('III Tool Overview'!$H$6=\"Orkney Islands Local Authority\",0,IF('III Tool Overview'!$H$6=\"Shetland Islands Local Authority\",0,IF('III Tool Overview'!$H$6=\"Eilean Siar Local Authority\",0,new_ci(5,B98,C98,D98,$C$1,G98,1,F98,E98*F98)))))))","v":995.93292579122522},{"$f":"IF('III Tool Overview'!$H$6=\"Orkney Health Board\",0,IF('III Tool Overview'!$H$6=\"Shetland Health Board\",0,IF('III Tool Overview'!$H$6=\"Western Isles Health Board\",0,IF('III Tool Overview'!$H$6=\"Orkney Islands Local Authority\",0,IF('III Tool Overview'!$H$6=\"Shetland Islands Local Authority\",0,IF('III Tool Overview'!$H$6=\"Eilean Siar Local Authority\",0,new_ci(5,B98,C98,D98,$C$1,G98+H98,1,F98,E98*F98)))))))","v":995.64277043455456},{"$f":"IF('III Tool Overview'!$H$6=\"Orkney Health Board\",0,IF('III Tool Overview'!$H$6=\"Shetland Health Board\",0,IF('III Tool Overview'!$H$6=\"Western Isles Health Board\",0,IF('III Tool Overview'!$H$6=\"Orkney Islands Local Authority\",0,IF('III Tool Overview'!$H$6=\"Shetland Islands Local Authority\",0,IF('III Tool Overview'!$H$6=\"Eilean Siar Local Authority\",0,new_ci(10,B98,C98,D98,$C$1,G98,1,F98,E98*F98)))))))","v":2622.3929275226201},{"$f":"IF('III Tool Overview'!$H$6=\"Orkney Health Board\",0,IF('III Tool Overview'!$H$6=\"Shetland Health Board\",0,IF('III Tool Overview'!$H$6=\"Western Isles Health Board\",0,IF('III Tool Overview'!$H$6=\"Orkney Islands Local Authority\",0,IF('III Tool Overview'!$H$6=\"Shetland Islands Local Authority\",0,IF('III Tool Overview'!$H$6=\"Eilean Siar Local Authority\",0,new_ci(10,B98,C98,D98,$C$1,G98+H98,1,F98,E98*F98)))))))","v":2621.6549260302681},{"$f":"IF('III Tool Overview'!$H$6=\"Orkney Health Board\",0,IF('III Tool Overview'!$H$6=\"Shetland Health Board\",0,IF('III Tool Overview'!$H$6=\"Western Isles Health Board\",0,IF('III Tool Overview'!$H$6=\"Orkney Islands Local Authority\",0,IF('III Tool Overview'!$H$6=\"Shetland Islands Local Authority\",0,IF('III Tool Overview'!$H$6=\"Eilean Siar Local Authority\",0,new_ci(20,B98,C98,D98,$C$1,G98,1,F98,E98*F98)))))))","v":7545.5987499687672},{"$f":"IF('III Tool Overview'!$H$6=\"Orkney Health Board\",0,IF('III Tool Overview'!$H$6=\"Shetland Health Board\",0,IF('III Tool Overview'!$H$6=\"Western Isles Health Board\",0,IF('III Tool Overview'!$H$6=\"Orkney Islands Local Authority\",0,IF('III Tool Overview'!$H$6=\"Shetland Islands Local Authority\",0,IF('III Tool Overview'!$H$6=\"Eilean Siar Local Authority\",0,new_ci(20,B98,C98,D98,$C$1,G98+H98,1,F98,E98*F98)))))))","v":7543.712793199832},{"$f":"IF('III Tool Overview'!$H$6=\"Orkney Health Board\",0,IF('III Tool Overview'!$H$6=\"Shetland Health Board\",0,IF('III Tool Overview'!$H$6=\"Western Isles Health Board\",0,IF('III Tool Overview'!$H$6=\"Orkney Islands Local Authority\",0,IF('III Tool Overview'!$H$6=\"Shetland Islands Local Authority\",0,IF('III Tool Overview'!$H$6=\"Eilean Siar Local Authority\",0,new_yll(2,B98,C98,D98,$C$1,G98,1,F98,E98*F98)))))))","v":10659.902860216169},{"$f":"IF('III Tool Overview'!$H$6=\"Orkney Health Board\",0,IF('III Tool Overview'!$H$6=\"Shetland Health Board\",0,IF('III Tool Overview'!$H$6=\"Western Isles Health Board\",0,IF('III Tool Overview'!$H$6=\"Orkney Islands Local Authority\",0,IF('III Tool Overview'!$H$6=\"Shetland Islands Local Authority\",0,IF('III Tool Overview'!$H$6=\"Eilean Siar Local Authority\",0,new_yll(2,B98,C98,D98,$C$1,G98+H98,1,F98,E98*F98)))))))","v":10656.748022103922},3.1548381122465798,{"$f":"IF('III Tool Overview'!$H$6=\"Orkney Health Board\",0,IF('III Tool Overview'!$H$6=\"Shetland Health Board\",0,IF('III Tool Overview'!$H$6=\"Western Isles Health Board\",0,IF('III Tool Overview'!$H$6=\"Orkney Islands Local Authority\",0,IF('III Tool Overview'!$H$6=\"Shetland Islands Local Authority\",0,IF('III Tool Overview'!$H$6=\"Eilean Siar Local Authority\",0,new_yll(5,B98,C98,D98,$C$1,G98,1,F98,E98*F98)))))))","v":45239.722088701179},{"$f":"IF('III Tool Overview'!$H$6=\"Orkney Health Board\",0,IF('III Tool Overview'!$H$6=\"Shetland Health Board\",0,IF('III Tool Overview'!$H$6=\"Western Isles Health Board\",0,IF('III Tool Overview'!$H$6=\"Orkney Islands Local Authority\",0,IF('III Tool Overview'!$H$6=\"Shetland Islands Local Authority\",0,IF('III Tool Overview'!$H$6=\"Eilean Siar Local Authority\",0,new_yll(5,B98,C98,D98,$C$1,G98+H98,1,F98,E98*F98)))))))","v":45226.538220651564},13.18386804961483,{"$f":"IF('III Tool Overview'!$H$6=\"Orkney Health Board\",0,IF('III Tool Overview'!$H$6=\"Shetland Health Board\",0,IF('III Tool Overview'!$H$6=\"Western Isles Health Board\",0,IF('III Tool Overview'!$H$6=\"Orkney Islands Local Authority\",0,IF('III Tool Overview'!$H$6=\"Shetland Islands Local Authority\",0,IF('III Tool Overview'!$H$6=\"Eilean Siar Local Authority\",0,new_yll(10,B98,C98,D98,$C$1,G98,1,F98,E98*F98)))))))","v":111736.80110585825},{"$f":"IF('III Tool Overview'!$H$6=\"Orkney Health Board\",0,IF('III Tool Overview'!$H$6=\"Shetland Health Board\",0,IF('III Tool Overview'!$H$6=\"Western Isles Health Board\",0,IF('III Tool Overview'!$H$6=\"Orkney Islands Local Authority\",0,IF('III Tool Overview'!$H$6=\"Shetland Islands Local Authority\",0,IF('III Tool Overview'!$H$6=\"Eilean Siar Local Authority\",0,new_yll(10,B98,C98,D98,$C$1,G98+H98,1,F98,E98*F98)))))))","v":111705.29423322175},31.506872636498883,{"$f":"IF('III Tool Overview'!$H$6=\"Orkney Health Board\",0,IF('III Tool Overview'!$H$6=\"Shetland Health Board\",0,IF('III Tool Overview'!$H$6=\"Western Isles Health Board\",0,IF('III Tool Overview'!$H$6=\"Orkney Islands Local Authority\",0,IF('III Tool Overview'!$H$6=\"Shetland Islands Local Authority\",0,IF('III Tool Overview'!$H$6=\"Eilean Siar Local Authority\",0,new_yll(20,B98,C98,D98,$C$1,G98,1,F98,E98*F98)))))))","v":274608.82810989668},{"$f":"IF('III Tool Overview'!$H$6=\"Orkney Health Board\",0,IF('III Tool Overview'!$H$6=\"Shetland Health Board\",0,IF('III Tool Overview'!$H$6=\"Western Isles Health Board\",0,IF('III Tool Overview'!$H$6=\"Orkney Islands Local Authority\",0,IF('III Tool Overview'!$H$6=\"Shetland Islands Local Authority\",0,IF('III Tool Overview'!$H$6=\"Eilean Siar Local Authority\",0,new_yll(20,B98,C98,D98,$C$1,G98+H98,1,F98,E98*F98)))))))","v":274539.08160972816},69.74650016851956,{"$error":"#NAME?"},{"$error":"#NAME?"},{"$error":"#NAME?"},{"$error":"#NAME?"},{"$error":"#NAME?"},{"$error":"#NAME?"},{"$error":"#NAME?"},{"$error":"#NAME?"},{"$error":"#NAME?"},{"$error":"#NAME?"},{"$error":"#NAME?"},{"$error":"#NAME?"},{"$f":"HLOOKUP('III Tool Overview'!$H$6,LookUpData_Pop!$B$1:$AV$269,LookUpData_Pop!BB98,FALSE)","v":172244},85.946649521900554,null,172244,null,null,null,{"$error":"#DIV/0!"},{"$error":"#DIV/0!"},{"$error":"#DIV/0!"},null,4.9898196466582607E-4,0,null,{"$f":"(AP98/AO98)*LookUpData_Pop!$B$287","v":3.4928737526607825},{"$f":"(AQ98/AP98)*LookUpData_Pop!$B$287","v":0},null,0.5,5]
["Female 55-59",57.5,"female",1,{"$f":"HLOOKUP('III Tool Overview'!$H$6,Prevalence!$B$2:$AV$268,Prevalence!AW94,FALSE)","v":0.16089539665683983},{"$f":"HLOOKUP('III Tool Overview'!$H$6,LookUpData_Pop!$B$1:$AV$269,LookUpData_Pop!BB99,FALSE)/5","v":29704.2},{"$f":"'III Tool Overview'!$H$9/110","v":0},{"$f":"IF('III Tool Overview'!$H$10=\"Even distribution\",Targeting!C97,IF('III Tool Overview'!$H$10=\"Targeting to Q1\",Targeting!D97,IF('III Tool Overview'!$H$10=\"Targeting to Q1 & Q2\",Targeting!E97,IF('III Tool Overview'!$H$10=\"Proportionate to need\",Targeting!F97))))","v":331.21964921674237},{"$f":"IF('III Tool Overview'!$H$6=\"Orkney Health Board\",0,IF('III Tool Overview'!$H$6=\"Shetland Health Board\",0,IF('III Tool Overview'!$H$6=\"Western Isles Health Board\",0,IF('III Tool Overview'!$H$6=\"Orkney Islands Local Authority\",0,IF('III Tool Overview'!$H$6=\"Shetland Islands Local Authority\",0,IF('III Tool Overview'!$H$6=\"Eilean Siar Local Authority\",0,new_ci(2,B99,C99,D99,$C$1,G99,1,F99,E99*F99)))))))","v":319.05787848119758},{"$f":"IF('III Tool Overview'!$H$6=\"Orkney Health Board\",0,IF('III Tool Overview'!$H$6=\"Shetland Health Board\",0,IF('III Tool Overview'!$H$6=\"Western Isles Health Board\",0,IF('III Tool Overview'!$H$6=\"Orkney Islands Local Authority\",0,IF('III Tool Overview'!$H$6=\"Shetland Islands Local Authority\",0,IF('III Tool Overview'!$H$6=\"Eilean Siar Local Authority\",0,new_ci(2,B99,C99,D99,$C$1,G99+H99,1,F99,E99*F99)))))))","v":319.00013327224667},{"$f":"IF('III Tool Overview'!$H$6=\"Orkney Health Board\",0,IF('III Tool Overview'!$H$6=\"Shetland Health Board\",0,IF('III Tool Overview'!$H$6=\"Western Isles Health Board\",0,IF('III Tool Overview'!$H$6=\"Orkney Islands Local Authority\",0,IF('III Tool Overview'!$H$6=\"Shetland Islands Local Authority\",0,IF('III Tool Overview'!$H$6=\"Eilean Siar Local Authority\",0,new_ci(5,B99,C99,D99,$C$1,G99,1,F99,E99*F99)))))))","v":1390.9791947927379},{"$f":"IF('III Tool Overview'!$H$6=\"Orkney Health Board\",0,IF('III Tool Overview'!$H$6=\"Shetland Health Board\",0,IF('III Tool Overview'!$H$6=\"Western Isles Health Board\",0,IF('III Tool Overview'!$H$6=\"Orkney Islands Local Authority\",0,IF('III Tool Overview'!$H$6=\"Shetland Islands Local Authority\",0,IF('III Tool Overview'!$H$6=\"Eilean Siar Local Authority\",0,new_ci(5,B99,C99,D99,$C$1,G99+H99,1,F99,E99*F99)))))))","v":1390.7341771383994},{"$f":"IF('III Tool Overview'!$H$6=\"Orkney Health Board\",0,IF('III Tool Overview'!$H$6=\"Shetland Health Board\",0,IF('III Tool Overview'!$H$6=\"Western Isles Health Board\",0,IF('III Tool Overview'!$H$6=\"Orkney Islands Local Authority\",0,IF('III Tool Overview'!$H$6=\"Shetland Islands Local Authority\",0,IF('III Tool Overview'!$H$6=\"Eilean Siar Local Authority\",0,new_ci(10,B99,C99,D99,$C$1,G99,1,F99,E99*F99)))))))","v":3606.2158099515309},{"$f":"IF('III Tool Overview'!$H$6=\"Orkney Health Board\",0,IF('III Tool Overview'!$H$6=\"Shetland Health Board\",0,IF('III Tool Overview'!$H$6=\"Western Isles Health Board\",0,IF('III Tool Overview'!$H$6=\"Orkney Islands Local Authority\",0,IF('III Tool Overview'!$H$6=\"Shetland Islands Local Authority\",0,IF('III Tool Overview'!$H$6=\"Eilean Siar Local Authority\",0,new_ci(10,B99,C99,D99,$C$1,G99+H99,1,F99,E99*F99)))))))","v":3605.6175087143906},{"$f":"IF('III Tool Overview'!$H$6=\"Orkney Health Board\",0,IF('III Tool Overview'!$H$6=\"Shetland Health Board\",0,IF('III Tool Overview'!$H$6=\"Western Isles Health Board\",0,IF('III Tool Overview'!$H$6=\"Orkney Islands Local Authority\",0,IF('III Tool Overview'!$H$6=\"Shetland Islands Local Authority\",0,IF('III Tool Overview'!$H$6=\"Eilean Siar Local Authority\",0,new_ci(20,B99,C99,D99,$C$1,G99,1,F99,E99*F99)))))))","v":9873.331948567904},{"$f":"IF('III Tool Overview'!$H$6=\"Orkney Health Board\",0,IF('III Tool Overview'!$H$6=\"Shetland Health Board\",0,IF('III Tool Overview'!$H$6=\"Western Isles Health Board\",0,IF('III Tool Overview'!$H$6=\"Orkney Islands Local Authority\",0,IF('III Tool Overview'!$H$6=\"Shetland Islands Local Authority\",0,IF('III Tool Overview'!$H$6=\"Eilean Siar Local Authority\",0,new_ci(20,B99,C99,D99,$C$1,G99+H99,1,F99,E99*F99)))))))","v":9871.9996404604299},{"$f":"IF('III Tool Overview'!$H$6=\"Orkney Health Board\",0,IF('III Tool Overview'!$H$6=\"Shetland Health Board\",0,IF('III Tool Overview'!$H$6=\"Western Isles Health Board\",0,IF('III Tool Overview'!$H$6=\"Orkney Islands Local Authority\",0,IF('III Tool Overview'!$H$6=\"Shetland Islands Local Authority\",0,IF('III Tool Overview'!$H$6=\"Eilean Siar Local Authority\",0,new_yll(2,B99,C99,D99,$C$1,G99,1,F99,E99*F99)))))))","v":13081.3730177291},{"$f":"IF('III Tool Overview'!$H$6=\"Orkney Health Board\",0,IF('III Tool Overview'!$H$6=\"Shetland Health Board\",0,IF('III Tool Overview'!$H$6=\"Western Isles Health Board\",0,IF('III Tool Overview'!$H$6=\"Orkney Islands Local Authority\",0,IF('III Tool Overview'!$H$6=\"Shetland Islands Local Authority\",0,IF('III Tool Overview'!$H$6=\"Eilean Siar Local Authority\",0,new_yll(2,B99,C99,D99,$C$1,G99+H99,1,F99,E99*F99)))))))","v":13079.005464162114},2.3675535669863166,{"$f":"IF('III Tool Overview'!$H$6=\"Orkney Health Board\",0,IF('III Tool Overview'!$H$6=\"Shetland Health Board\",0,IF('III Tool Overview'!$H$6=\"Western Isles Health Board\",0,IF('III Tool Overview'!$H$6=\"Orkney Islands Local Authority\",0,IF('III Tool Overview'!$H$6=\"Shetland Islands Local Authority\",0,IF('III Tool Overview'!$H$6=\"Eilean Siar Local Authority\",0,new_yll(5,B99,C99,D99,$C$1,G99,1,F99,E99*F99)))))))","v":54846.725654079128},{"$f":"IF('III Tool Overview'!$H$6=\"Orkney Health Board\",0,IF('III Tool Overview'!$H$6=\"Shetland Health Board\",0,IF('III Tool Overview'!$H$6=\"Western Isles Health Board\",0,IF('III Tool Overview'!$H$6=\"Orkney Islands Local Authority\",0,IF('III Tool Overview'!$H$6=\"Shetland Islands Local Authority\",0,IF('III Tool Overview'!$H$6=\"Eilean Siar Local Authority\",0,new_yll(5,B99,C99,D99,$C$1,G99+H99,1,F99,E99*F99)))))))","v":54837.059074020668},9.6665800584596582,{"$f":"IF('III Tool Overview'!$H$6=\"Orkney Health Board\",0,IF('III Tool Overview'!$H$6=\"Shetland Health Board\",0,IF('III Tool Overview'!$H$6=\"Western Isles Health Board\",0,IF('III Tool Overview'!$H$6=\"Orkney Islands Local Authority\",0,IF('III Tool Overview'!$H$6=\"Shetland Islands Local Authority\",0,IF('III Tool Overview'!$H$6=\"Eilean Siar Local Authority\",0,new_yll(10,B99,C99,D99,$C$1,G99,1,F99,E99*F99)))))))","v":132152.30084905543},{"$f":"IF('III Tool Overview'!$H$6=\"Orkney Health Board\",0,IF('III Tool Overview'!$H$6=\"Shetland Health Board\",0,IF('III Tool Overview'!$H$6=\"Western Isles Health Board\",0,IF('III Tool Overview'!$H$6=\"Orkney Islands Local Authority\",0,IF('III Tool Overview'!$H$6=\"Shetland Islands Local Authority\",0,IF('III Tool Overview'!$H$6=\"Eilean Siar Local Authority\",0,new_yll(10,B99,C99,D99,$C$1,G99+H99,1,F99,E99*F99)))))))","v":132130.28723878184},22.013610273599625,{"$f":"IF('III Tool Overview'!$H$6=\"Orkney Health Board\",0,IF('III Tool Overview'!$H$6=\"Shetland Health Board\",0,IF('III Tool Overview'!$H$6=\"Western Isles Health Board\",0,IF('III Tool Overview'!$H$6=\"Orkney Islands Local Authority\",0,IF('III Tool Overview'!$H$6=\"Shetland Islands Local Authority\",0,IF('III Tool Overview'!$H$6=\"Eilean Siar Local Authority\",0,new_yll(20,B99,C99,D99,$C$1,G99,1,F99,E99*F99)))))))","v":302427.61214926036},{"$f":"IF('III Tool Overview'!$H$6=\"Orkney Health Board\",0,IF('III Tool Overview'!$H$6=\"Shetland Health Board\",0,IF('III Tool Overview'!$H$6=\"Western Isles Health Board\",0,IF('III Tool Overview'!$H$6=\"Orkney Islands Local Authority\",0,IF('III Tool Overview'!$H$6=\"Shetland Islands Local Authority\",0,IF('III Tool Overview'!$H$6=\"Eilean Siar Local Authority\",0,new_yll(20,B99,C99,D99,$C$1,G99+H99,1,F99,E99*F99)))))))","v":302385.32100468746},42.291144572896883,{"$error":"#NAME?"},{"$error":"#NAME?"},{"$error":"#NAME?"},{"$error":"#NAME?"},{"$error":"#NAME?"},{"$error":"#NAME?"},{"$error":"#NAME?"},{"$error":"#NAME?"},{"$error":"#NAME?"},{"$error":"#NAME?"},{"$error":"#NAME?"},{"$error":"#NAME?"},{"$f":"HLOOKUP('III Tool Overview'!$H$6,LookUpData_Pop!$B$1:$AV$269,LookUpData_Pop!BB99,FALSE)","v":148521},112.01467190856403,null,148521,null,null,null,{"$error":"#DIV/0!"},{"$error":"#DIV/0!"},{"$error":"#DIV/0!"},null,7.5420090026706002E-4,0,null,{"$f":"(AP99/AO99)*LookUpData_Pop!$B$288","v":4.52520540160236},{"$f":"(AQ99/AP99)*LookUpData_Pop!$B$288","v":0},null,0.5,5]
["Female 60-64",62.5,"female",1,{"$f":"HLOOKUP('III Tool Overview'!$H$6,Prevalence!$B$2:$AV$268,Prevalence!AW95,FALSE)","v":0.16089539665683983},{"$f":"HLOOKUP('III Tool Overview'!$H$6,LookUpData_Pop!$B$1:$AV$269,LookUpData_Pop!BB100,FALSE)/5","v":28881.200000000001},{"$f":"'III Tool Overview'!$H$9/110","v":0},{"$f":"IF('III Tool Overview'!$H$10=\"Even distribution\",Targeting!C98,IF('III Tool Overview'!$H$10=\"Targeting to Q1\",Targeting!D98,IF('III Tool Overview'!$H$10=\"Targeting to Q1 & Q2\",Targeting!E98,IF('III Tool Overview'!$H$10=\"Proportionate to need\",Targeting!F98))))","v":302.14028977385016},{"$f":"IF('III Tool Overview'!$H$6=\"Orkney Health Board\",0,IF('III Tool Overview'!$H$6=\"Shetland Health Board\",0,IF('III Tool Overview'!$H$6=\"Western Isles Health Board\",0,IF('III Tool Overview'!$H$6=\"Orkney Islands Local Authority\",0,IF('III Tool Overview'!$H$6=\"Shetland Islands Local Authority\",0,IF('III Tool Overview'!$H$6=\"Eilean Siar Local Authority\",0,new_ci(2,B100,C100,D100,$C$1,G100,1,F100,E100*F100)))))))","v":429.60779930668622},{"$f":"IF('III Tool Overview'!$H$6=\"Orkney Health Board\",0,IF('III Tool Overview'!$H$6=\"Shetland Health Board\",0,IF('III Tool Overview'!$H$6=\"Western Isles Health Board\",0,IF('III Tool Overview'!$H$6=\"Orkney Islands Local Authority\",0,IF('III Tool Overview'!$H$6=\"Shetland Islands Local Authority\",0,IF('III Tool Overview'!$H$6=\"Eilean Siar Local Authority\",0,new_ci(2,B100,C100,D100,$C$1,G100+H100,1,F100,E100*F100)))))))","v":429.53505900106671},{"$f":"IF('III Tool Overview'!$H$6=\"Orkney Health Board\",0,IF('III Tool Overview'!$H$6=\"Shetland Health Board\",0,IF('III Tool Overview'!$H$6=\"Western Isles Health Board\",0,IF('III Tool Overview'!$H$6=\"Orkney Islands Local Authority\",0,IF('III Tool Overview'!$H$6=\"Shetland Islands Local Authority\",0,IF('III Tool Overview'!$H$6=\"Eilean Siar Local Authority\",0,new_ci(5,B100,C100,D100,$C$1,G100,1,F100,E100*F100)))))))","v":1859.5070016754298},{"$f":"IF('III Tool Overview'!$H$6=\"Orkney Health Board\",0,IF('III Tool Overview'!$H$6=\"Shetland Health Board\",0,IF('III Tool Overview'!$H$6=\"Western Isles Health Board\",0,IF('III Tool Overview'!$H$6=\"Orkney Islands Local Authority\",0,IF('III Tool Overview'!$H$6=\"Shetland Islands Local Authority\",0,IF('III Tool Overview'!$H$6=\"Eilean Siar Local Authority\",0,new_ci(5,B100,C100,D100,$C$1,G100+H100,1,F100,E100*F100)))))))","v":1859.2037912021781},{"$f":"IF('III Tool Overview'!$H$6=\"Orkney Health Board\",0,IF('III Tool Overview'!$H$6=\"Shetland Health Board\",0,IF('III Tool Overview'!$H$6=\"Western Isles Health Board\",0,IF('III Tool Overview'!$H$6=\"Orkney Islands Local Authority\",0,IF('III Tool Overview'!$H$6=\"Shetland Islands Local Authority\",0,IF('III Tool Overview'!$H$6=\"Eilean Siar Local Authority\",0,new_ci(10,B100,C100,D100,$C$1,G100,1,F100,E100*F100)))))))","v":4747.2863751779041},{"$f":"IF('III Tool Overview'!$H$6=\"Orkney Health Board\",0,IF('III Tool Overview'!$H$6=\"Shetland Health Board\",0,IF('III Tool Overview'!$H$6=\"Western Isles Health Board\",0,IF('III Tool Overview'!$H$6=\"Orkney Islands Local Authority\",0,IF('III Tool Overview'!$H$6=\"Shetland Islands Local Authority\",0,IF('III Tool Overview'!$H$6=\"Eilean Siar Local Authority\",0,new_ci(10,B100,C100,D100,$C$1,G100+H100,1,F100,E100*F100)))))))","v":4746.5742650833809},{"$f":"IF('III Tool Overview'!$H$6=\"Orkney Health Board\",0,IF('III Tool Overview'!$H$6=\"Shetland Health Board\",0,IF('III Tool Overview'!$H$6=\"Western Isles Health Board\",0,IF('III Tool Overview'!$H$6=\"Orkney Islands Local Authority\",0,IF('III Tool Overview'!$H$6=\"Shetland Islands Local Authority\",0,IF('III Tool Overview'!$H$6=\"Eilean Siar Local Authority\",0,new_ci(20,B100,C100,D100,$C$1,G100,1,F100,E100*F100)))))))","v":12388.541146609025},{"$f":"IF('III Tool Overview'!$H$6=\"Orkney Health Board\",0,IF('III Tool Overview'!$H$6=\"Shetland Health Board\",0,IF('III Tool Overview'!$H$6=\"Western Isles Health Board\",0,IF('III Tool Overview'!$H$6=\"Orkney Islands Local Authority\",0,IF('III Tool Overview'!$H$6=\"Shetland Islands Local Authority\",0,IF('III Tool Overview'!$H$6=\"Eilean Siar Local Authority\",0,new_ci(20,B100,C100,D100,$C$1,G100+H100,1,F100,E100*F100)))))))","v":12387.150899908884},{"$f":"IF('III Tool Overview'!$H$6=\"Orkney Health Board\",0,IF('III Tool Overview'!$H$6=\"Shetland Health Board\",0,IF('III Tool Overview'!$H$6=\"Western Isles Health Board\",0,IF('III Tool Overview'!$H$6=\"Orkney Islands Local Authority\",0,IF('III Tool Overview'!$H$6=\"Shetland Islands Local Authority\",0,IF('III Tool Overview'!$H$6=\"Eilean Siar Local Authority\",0,new_yll(2,B100,C100,D100,$C$1,G100,1,F100,E100*F100)))))))","v":15895.48857434739},{"$f":"IF('III Tool Overview'!$H$6=\"Orkney Health Board\",0,IF('III Tool Overview'!$H$6=\"Shetland Health Board\",0,IF('III Tool Overview'!$H$6=\"Western Isles Health Board\",0,IF('III Tool Overview'!$H$6=\"Orkney Islands Local Authority\",0,IF('III Tool Overview'!$H$6=\"Shetland Islands Local Authority\",0,IF('III Tool Overview'!$H$6=\"Eilean Siar Local Authority\",0,new_yll(2,B100,C100,D100,$C$1,G100+H100,1,F100,E100*F100)))))))","v":15892.797183039469},2.6913913079206395,{"$f":"IF('III Tool Overview'!$H$6=\"Orkney Health Board\",0,IF('III Tool Overview'!$H$6=\"Shetland Health Board\",0,IF('III Tool Overview'!$H$6=\"Western Isles Health Board\",0,IF('III Tool Overview'!$H$6=\"Orkney Islands Local Authority\",0,IF('III Tool Overview'!$H$6=\"Shetland Islands Local Authority\",0,IF('III Tool Overview'!$H$6=\"Eilean Siar Local Authority\",0,new_yll(5,B100,C100,D100,$C$1,G100,1,F100,E100*F100)))))))","v":65893.784167028323},{"$f":"IF('III Tool Overview'!$H$6=\"Orkney Health Board\",0,IF('III Tool Overview'!$H$6=\"Shetland Health Board\",0,IF('III Tool Overview'!$H$6=\"Western Isles Health Board\",0,IF('III Tool Overview'!$H$6=\"Orkney Islands Local Authority\",0,IF('III Tool Overview'!$H$6=\"Shetland Islands Local Authority\",0,IF('III Tool Overview'!$H$6=\"Eilean Siar Local Authority\",0,new_yll(5,B100,C100,D100,$C$1,G100+H100,1,F100,E100*F100)))))))","v":65883.030079757533},10.754087270790478,{"$f":"IF('III Tool Overview'!$H$6=\"Orkney Health Board\",0,IF('III Tool Overview'!$H$6=\"Shetland Health Board\",0,IF('III Tool Overview'!$H$6=\"Western Isles Health Board\",0,IF('III Tool Overview'!$H$6=\"Orkney Islands Local Authority\",0,IF('III Tool Overview'!$H$6=\"Shetland Islands Local Authority\",0,IF('III Tool Overview'!$H$6=\"Eilean Siar Local Authority\",0,new_yll(10,B100,C100,D100,$C$1,G100,1,F100,E100*F100)))))))","v":155154.81268513115},{"$f":"IF('III Tool Overview'!$H$6=\"Orkney Health Board\",0,IF('III Tool Overview'!$H$6=\"Shetland Health Board\",0,IF('III Tool Overview'!$H$6=\"Western Isles Health Board\",0,IF('III Tool Overview'!$H$6=\"Orkney Islands Local Authority\",0,IF('III Tool Overview'!$H$6=\"Shetland Islands Local Authority\",0,IF('III Tool Overview'!$H$6=\"Eilean Siar Local Authority\",0,new_yll(10,B100,C100,D100,$C$1,G100+H100,1,F100,E100*F100)))))))","v":155131.38869937247},23.423985758679919,{"$f":"IF('III Tool Overview'!$H$6=\"Orkney Health Board\",0,IF('III Tool Overview'!$H$6=\"Shetland Health Board\",0,IF('III Tool Overview'!$H$6=\"Western Isles Health Board\",0,IF('III Tool Overview'!$H$6=\"Orkney Islands Local Authority\",0,IF('III Tool Overview'!$H$6=\"Shetland Islands Local Authority\",0,IF('III Tool Overview'!$H$6=\"Eilean Siar Local Authority\",0,new_yll(20,B100,C100,D100,$C$1,G100,1,F100,E100*F100)))))))","v":332866.39999488345},{"$f":"IF('III Tool Overview'!$H$6=\"Orkney Health Board\",0,IF('III Tool Overview'!$H$6=\"Shetland Health Board\",0,IF('III Tool Overview'!$H$6=\"Western Isles Health Board\",0,IF('III Tool Overview'!$H$6=\"Orkney Islands Local Authority\",0,IF('III Tool Overview'!$H$6=\"Shetland Islands Local Authority\",0,IF('III Tool Overview'!$H$6=\"Eilean Siar Local Authority\",0,new_yll(20,B100,C100,D100,$C$1,G100+H100,1,F100,E100*F100)))))))","v":332826.69539443258},39.704600450873841,{"$error":"#NAME?"},{"$error":"#NAME?"},{"$error":"#NAME?"},{"$error":"#NAME?"},{"$error":"#NAME?"},{"$error":"#NAME?"},{"$error":"#NAME?"},{"$error":"#NAME?"},{"$error":"#NAME?"},{"$error":"#NAME?"},{"$error":"#NAME?"},{"$error":"#NAME?"},{"$f":"HLOOKUP('III Tool Overview'!$H$6,LookUpData_Pop!$B$1:$AV$269,LookUpData_Pop!BB100,FALSE)","v":144406},159.62128116180622,null,144406,null,null,null,{"$error":"#DIV/0!"},{"$error":"#DIV/0!"},{"$error":"#DIV/0!"},null,1.1053646050843194E-3,0,null,{"$f":"(AP100/AO100)*LookUpData_Pop!$B$289","v":5.5268230254215966},{"$f":"(AQ100/AP100)*LookUpData_Pop!$B$289","v":0},null,0.5,5]
["Female 65-69",67.5,"female",1,null,null,null,null,null,null,null,null,null,null,null,null,null,null,null,null,null,null,null,null,null,null,null,null,null,null,null,null,null,null,null,null,null,null,null,null,{"$f":"HLOOKUP('III Tool Overview'!$H$6,LookUpData_Pop!$B$1:$AV$269,LookUpData_Pop!BB101,FALSE)","v":126534},209.47261433777339,null,126534,null,null,null,{"$error":"#DIV/0!"},{"$error":"#DIV/0!"},{"$error":"#DIV/0!"},null,1.6554650476375788E-3,0,null,{"$f":"(AP101/AO101)*LookUpData_Pop!$B$290","v":6.6218601905503149},{"$f":"(AQ101/AP101)*LookUpData_Pop!$B$290","v":0},null,0.5,5]
["Female 70-74",72.5,"female",1,null,null,null,null,null,null,null,null,null,null,null,null,null,null,null,null,null,null,null,null,null,null,null,null,null,null,null,null,null,null,null,null,null,null,null,null,{"$f":"HLOOKUP('III Tool Overview'!$H$6,LookUpData_Pop!$B$1:$AV$269,LookUpData_Pop!BB102,FALSE)","v":121724},309.3737843308266,null,121724,null,null,null,{"$error":"#DIV/0!"},{"$error":"#DIV/0!"},{"$error":"#DIV/0!"},null,2.5416005416419654E-3,0,null,{"$f":"(AP102/AO102)*LookUpData_Pop!$B$291","v":7.6248016249258965},{"$f":"(AQ102/AP102)*LookUpData_Pop!$B$291","v":0},null,0.5,5]
["Female 75-79",77.5,"female",1,null,null,null,null,null,null,null,null,null,null,null,null,null,null,null,null,null,null,null,null,null,null,null,null,null,null,null,null,null,null,null,null,null,null,null,null,{"$f":"HLOOKUP('III Tool Overview'!$H$6,LookUpData_Pop!$B$1:$AV$269,LookUpData_Pop!BB103,FALSE)","v":105266},439.36598049837482,null,105266,null,null,null,{"$error":"#DIV/0!"},{"$error":"#DIV/0!"},{"$f":"AW103*AR103*$AT$4","v":{"$error":"#DIV/0!"}},null,4.1738641204033099E-3,0,null,{"$f":"(AP103/AO103)*LookUpData_Pop!$B$292","v":8.3477282408066191},{"$f":"(AQ103/AP103)*LookUpData_Pop!$B$292","v":0},null,0.5,5]
["Female 80-84",82.5,"female",1,null,null,null,null,null,null,null,null,null,null,null,null,null,null,null,null,null,null,null,null,null,null,null,null,null,null,null,null,null,null,null,null,null,null,null,null,{"$f":"HLOOKUP('III Tool Overview'!$H$6,LookUpData_Pop!$B$1:$AV$269,LookUpData_Pop!BB104,FALSE)","v":74638},507.51557823598375,null,74638,null,null,null,{"$error":"#DIV/0!"},{"$error":"#DIV/0!"},{"$error":"#DIV/0!"},null,6.7996942339824725E-3,0,null,{"$f":"(AP104/AO104)*LookUpData_Pop!$B$293","v":6.7996942339824722},{"$f":"(AQ104/AP104)*LookUpData_Pop!$B$293","v":0},null,0.5,5]
["Female 85-89",87.5,"female",1,null,null,null,null,null,null,null,null,null,null,null,null,null,null,null,null,null,null,null,null,null,null,null,null,null,null,null,null,null,null,null,null,null,null,null,null,{"$f":"HLOOKUP('III Tool Overview'!$H$6,LookUpData_Pop!$B$1:$AV$269,LookUpData_Pop!BB106,FALSE)","v":23370},849.07384363239044,null,null,null,null,null,null,null,null,null,3.6331786205921715E-2,0,null,{"$f":"(AP105/AO105)*LookUpData_Pop!$B$294","v":36.331786205921716},{"$f":"(AQ105/AP105)*LookUpData_Pop!$B$294","v":0},null,0.5,{"$f":"2/AZ105","v":55.048215594586431}]
["Female 90+",95,"male",1,null,null,null,null,null,null,null,null,null,null,null,null,null,null,null,null,null,null,null,null,null,null,null,null,null,null,null,null,null,null,null,null,null,null,null,null,{"$f":"HLOOKUP('III Tool Overview'!$H$6,LookUpData_Pop!$B$1:$AV$269,LookUpData_Pop!BB107,FALSE)","v":0},850.07384363238998]
["TOTAL",null,null,null,null,{"$f":"SUM(F91:F106)","v":359960},{"$f":"SUM(G91:G106)","v":0},{"$f":"SUM(H91:H106)","v":6012.7900099630097},{"$f":"SUM(I91:I106)","v":1475.9156732359183},{"$f":"SUM(J91:J106)","v":1475.5693374956777},{"$f":"SUM(K91:K106)","v":6457.7275584463632},{"$f":"SUM(L91:L106)","v":6456.2365436870687},{"$f":"SUM(M91:M106)","v":16878.459967527902},{"$f":"SUM(N91:N106)","v":16874.695715463782},{"$f":"SUM(O91:O106)","v":47574.323820501093},{"$f":"SUM(P91:P106)","v":47564.805070343486},{"$f":"SUM(Q91:Q106)","v":69113.55143910172},{"$f":"SUM(R91:R106)","v":69096.597089182047},{"$f":"SUM(S91:S106)","v":16.954349919669539},{"$f":"SUM(T91:T106)","v":292781.04330990731},{"$f":"SUM(U91:U106)","v":292710.08205963415},{"$f":"SUM(V91:V106)","v":70.961250273155201},{"$f":"SUM(W91:W106)","v":721002.76764049241},{"$f":"SUM(X91:X106)","v":720832.26258730516},{"$f":"SUM(Y91:Y106)","v":170.5050531873203},{"$f":"SUM(Z91:Z106)","v":1768208.3946758157},{"$f":"SUM(AA91:AA106)","v":1767817.6493373155},{"$f":"SUM(AB91:AB106)","v":390.74533850027365},{"$f":"SUM(AC91:AC106)","v":{"$error":"#NAME?"}},{"$f":"SUM(AD91:AD106)","v":{"$error":"#NAME?"}},{"$f":"SUM(AE91:AE106)","v":{"$error":"#NAME?"}},{"$f":"SUM(AF91:AF106)","v":{"$error":"#NAME?"}},{"$f":"SUM(AG91:AG106)","v":{"$error":"#NAME?"}},{"$f":"SUM(AH91:AH106)","v":{"$error":"#NAME?"}},{"$f":"SUM(AI91:AI106)","v":{"$error":"#NAME?"}},{"$f":"SUM(AJ91:AJ106)","v":{"$error":"#NAME?"}},{"$f":"SUM(AK91:AK106)","v":{"$error":"#NAME?"}},{"$f":"SUM(AL91:AL106)","v":{"$error":"#NAME?"}},{"$f":"SUM(AM91:AM106)","v":{"$error":"#NAME?"}},{"$f":"SUM(AN91:AN106)","v":{"$error":"#NAME?"}}]
["age/sex breakdown: Q2"]
["Male <1",0.5,"male",2,null,null,null,null,null,null,null,null,null,null,null,null,null,null,null,null,null,null,null,null,null,null,null,null,null,null,null,null,null,null,null,null,null,null,null,null,{"$f":"HLOOKUP('III Tool Overview'!$H$6,LookUpData_Pop!$B$1:$AV$269,LookUpData_Pop!BB108,FALSE)","v":31272},7.1547294810452717,null,null,null,null,null,null,null,null,null,{"$f":"IF(AO109=0,0,AP109/AO109)","v":2.2879027503982065E-4},{"$f":"AQ109/AP109*100000","v":0},null,null,null,null,0.1,1]
["Male 1-4",2.5,"male",2,null,null,null,null,null,null,null,null,null,null,null,null,null,null,null,null,null,null,null,null,null,null,null,null,null,null,null,null,null,null,null,null,null,null,null,null,{"$f":"HLOOKUP('III Tool Overview'!$H$6,LookUpData_Pop!$B$1:$AV$269,LookUpData_Pop!BB109,FALSE)","v":116436},1.1186888828189021,null,null,null,null,null,null,null,null,null,{"$f":"IF(AO110=0,0,AP110/AO110)","v":9.6077577623664684E-6},0,null,{"$f":"((AP110+AP109)/(AO110+AO109))*LookUpData_Pop!$B$277","v":0.448095884521579},{"$f":"((AQ110+AQ109)/(AP110+AP109))*LookUpData_Pop!$B$277","v":0},null,0.5,4]
["Male 5-9",7.5,"male",2,null,null,null,null,null,null,null,null,null,null,null,null,null,null,null,null,null,null,null,null,null,null,null,null,null,null,null,null,null,null,null,null,null,null,null,null,{"$f":"HLOOKUP('III Tool Overview'!$H$6,LookUpData_Pop!$B$1:$AV$269,LookUpData_Pop!BB110,FALSE)","v":132379},0.43105373654352969,null,null,null,null,null,null,null,null,null,3.2562093424450227E-6,0,null,{"$f":"(AP111/AO111)*LookUpData_Pop!$B$278","v":2.2793465397115159E-2},{"$f":"(AQ111/AP111)*LookUpData_Pop!$B$278","v":0},null,0.5,5]
["Male 10-14",12.5,"male",2,null,null,null,null,null,null,null,null,null,null,null,null,null,null,null,null,null,null,null,null,null,null,null,null,null,null,null,null,null,null,null,null,null,null,null,null,{"$f":"HLOOKUP('III Tool Overview'!$H$6,LookUpData_Pop!$B$1:$AV$269,LookUpData_Pop!BB111,FALSE)","v":144032},0.52250532790202053,null,null,null,null,null,null,null,null,null,3.6277030653050746E-6,0,null,{"$f":"(AP112/AO112)*LookUpData_Pop!$B$279","v":2.5393921457135524E-2},{"$f":"(AQ112/AP112)*LookUpData_Pop!$B$279","v":0},null,0.5,5]
["Male 15-19",17.5,"male",2,{"$f":"HLOOKUP('III Tool Overview'!$H$6,Prevalence!$B$2:$AV$268,Prevalence!AW107,FALSE)","v":0.25597052004112225},{"$f":"HLOOKUP('III Tool Overview'!$H$6,LookUpData_Pop!$B$1:$AV$269,LookUpData_Pop!BB112,FALSE)/5","v":32829},{"$f":"'III Tool Overview'!$H$9/110","v":0},{"$f":"IF('III Tool Overview'!$H$10=\"Even distribution\",Targeting!C111,IF('III Tool Overview'!$H$10=\"Targeting to Q1\",Targeting!D111,IF('III Tool Overview'!$H$10=\"Targeting to Q1 & Q2\",Targeting!E111,IF('III Tool Overview'!$H$10=\"Proportionate to need\",Targeting!F111))))","v":439.70676864062756},{"$f":"new_ci(2,B113,C113,D113,$C$1,G113,1,F113,E113*F113)","v":22.371472443894802},{"$f":"new_ci(2,B113,C113,D113,$C$1,G113+H113,1,F113,E113*F113)","v":22.366696365127641},{"$f":"new_ci(5,B113,C113,D113,$C$1,G113,1,F113,E113*F113)","v":97.774344020497153},{"$f":"new_ci(5,B113,C113,D113,$C$1,G113+H113,1,F113,E113*F113)","v":97.753503423101193},{"$f":"new_ci(10,B113,C113,D113,$C$1,G113,1,F113,E113*F113)","v":256.3066847733636},{"$f":"new_ci(10,B113,C113,D113,$C$1,G113+H113,1,F113,E113*F113)","v":256.2522363865196},{"$f":"new_ci(20,B113,C113,D113,$C$1,G113,1,F113,E113*F113)","v":747.8971421073054},{"$f":"new_ci(20,B113,C113,D113,$C$1,G113+H113,1,F113,E113*F113)","v":747.7399297034533},{"$f":"new_yll(2,B113,C113,D113,$C$1,G113,1,F113,E113*F113)","v":1812.089267955479},{"$f":"new_yll(2,B113,C113,D113,$C$1,G113+H113,1,F113,E113*F113)","v":1811.7024055753388},{"$f":"Q113-R113","v":0.38686238014020091},{"$f":"new_yll(5,B113,C113,D113,$C$1,G113,1,F113,E113*F113)","v":7766.0206064790582},{"$f":"new_yll(5,B113,C113,D113,$C$1,G113+H113,1,F113,E113*F113)","v":7764.3652526403584},{"$f":"T113-U113","v":1.6553538386997388},{"$f":"new_yll(10,B113,C113,D113,$C$1,G113,1,F113,E113*F113)","v":19637.764733627828},{"$f":"new_yll(10,B113,C113,D113,$C$1,G113+H113,1,F113,E113*F113)","v":19633.592559360364},{"$f":"W113-X113","v":4.1721742674635607},{"$f":"new_yll(20,B113,C113,D113,$C$1,G113,1,F113,E113*F113)","v":52590.761439657865},{"$f":"new_yll(20,B113,C113,D113,$C$1,G113+H113,1,F113,E113*F113)","v":52579.698846806925},{"$f":"Z113-AA113","v":11.062592850939836},{"$f":"hosp_count(2,B113,C113,D113,$C$1,G113,1,F113,E113*F113)","v":{"$error":"#NAME?"}},{"$f":"hosp_count(2,B113,C113,D113,$C$1,G113+H113,1,F113,E113*F113)","v":{"$error":"#NAME?"}},{"$f":"AC113-AD113","v":{"$error":"#NAME?"}},{"$f":"hosp_count(5,B113,C113,D113,$C$1,G113,1,F113,E113*F113)","v":{"$error":"#NAME?"}},{"$f":"hosp_count(5,B113,C113,D113,$C$1,G113+H113,1,F113,E113*F113)","v":{"$error":"#NAME?"}},{"$f":"AF113-AG113","v":{"$error":"#NAME?"}},{"$f":"hosp_count(10,B113,C113,D113,$C$1,G113,1,F113,E113*F113)","v":{"$error":"#NAME?"}},{"$f":"hosp_count(10,B113,C113,D113,$C$1,G113+H113,1,F113,E113*F113)","v":{"$error":"#NAME?"}},{"$f":"AI113-AJ113","v":{"$error":"#NAME?"}},{"$f":"hosp_count(20,B113,C113,D113,$C$1,G113,1,F113,E113*F113)","v":{"$error":"#NAME?"}},{"$f":"hosp_count(20,B113,C113,D113,$C$1,G113+H113,1,F113,E113*F113)","v":{"$error":"#NAME?"}},{"$f":"AL113-AM113","v":{"$error":"#NAME?"}},{"$f":"HLOOKUP('III Tool Overview'!$H$6,LookUpData_Pop!$B$1:$AV$269,LookUpData_Pop!BB112,FALSE)","v":164145},4.6968896018277153,null,{"$f":"AO113*(0.8)","v":131316},null,null,null,{"$f":"AT113/AVERAGE(AT$113:AT$126)","v":{"$error":"#DIV/0!"}},{"$f":"$AV$6*$AV$11*AV29","v":{"$error":"#DIV/0!"}},{"$f":"AW113*AR113*$AT$4","v":{"$error":"#DIV/0!"}},null,2.8614271539356759E-5,0,null,{"$f":"(AP113/AO113)*LookUpData_Pop!$B$280","v":0.20029990077549731},{"$f":"(AQ113/AP113)*LookUpData_Pop!$B$280","v":0},null,0.5,5]
["Male 20-24",22.5,"male",2,{"$f":"HLOOKUP('III Tool Overview'!$H$6,Prevalence!$B$2:$AV$268,Prevalence!AW108,FALSE)","v":0.25597052004112225},{"$f":"HLOOKUP('III Tool Overview'!$H$6,LookUpData_Pop!$B$1:$AV$269,LookUpData_Pop!BB113,FALSE)/5","v":37321.800000000003},{"$f":"'III Tool Overview'!$H$9/110","v":0},{"$f":"IF('III Tool Overview'!$H$10=\"Even distribution\",Targeting!C112,IF('III Tool Overview'!$H$10=\"Targeting to Q1\",Targeting!D112,IF('III Tool Overview'!$H$10=\"Targeting to Q1 & Q2\",Targeting!E112,IF('III Tool Overview'!$H$10=\"Proportionate to need\",Targeting!F112))))","v":667.34677346413127},{"$f":"new_ci(2,B114,C114,D114,$C$1,G114,1,F114,E114*F114)","v":33.97205223965301},33.962382871982669,148.41641404084268,148.3742604897084,388.73923447971788,388.62931883632706,1131.414588996553,1131.0991610811341,2615.8480224532818,2615.1034811426657,0.74454131061611406,11194.800343331544,11191.620699274235,{"$f":"T114-U114","v":3.1796440573089058},28230.317514418202,28222.334244057183,{"$f":"W114-X114","v":7.9832703610190947},75046.834848287268,75025.891745964153,{"$f":"Z114-AA114","v":20.943102323115454},{"$f":"hosp_count(2,B114,C114,D114,$C$1,G114,1,F114,E114*F114)","v":{"$error":"#NAME?"}},{"$f":"hosp_count(2,B114,C114,D114,$C$1,G114+H114,1,F114,E114*F114)","v":{"$error":"#NAME?"}},{"$f":"AC114-AD114","v":{"$error":"#NAME?"}},{"$f":"hosp_count(5,B114,C114,D114,$C$1,G114,1,F114,E114*F114)","v":{"$error":"#NAME?"}},{"$f":"hosp_count(5,B114,C114,D114,$C$1,G114+H114,1,F114,E114*F114)","v":{"$error":"#NAME?"}},{"$f":"AF114-AG114","v":{"$error":"#NAME?"}},{"$f":"hosp_count(10,B114,C114,D114,$C$1,G114,1,F114,E114*F114)","v":{"$error":"#NAME?"}},{"$f":"hosp_count(10,B114,C114,D114,$C$1,G114+H114,1,F114,E114*F114)","v":{"$error":"#NAME?"}},{"$f":"AI114-AJ114","v":{"$error":"#NAME?"}},{"$f":"hosp_count(20,B114,C114,D114,$C$1,G114,1,F114,E114*F114)","v":{"$error":"#NAME?"}},{"$f":"hosp_count(20,B114,C114,D114,$C$1,G114+H114,1,F114,E114*F114)","v":{"$error":"#NAME?"}},{"$f":"AL114-AM114","v":{"$error":"#NAME?"}},{"$f":"HLOOKUP('III Tool Overview'!$H$6,LookUpData_Pop!$B$1:$AV$269,LookUpData_Pop!BB113,FALSE)","v":186609},9.6730344758041902,null,{"$f":"AO114","v":186609},null,null,null,{"$f":"AT114/AVERAGE(AT$113:AT$126)","v":{"$error":"#DIV/0!"}},{"$error":"#DIV/0!"},{"$error":"#DIV/0!"},null,5.1835841121297417E-5,0,null,{"$f":"(AP114/AO114)*LookUpData_Pop!$B$281","v":0.36285088784908193},{"$f":"(AQ114/AP114)*LookUpData_Pop!$B$281","v":0},null,0.5,5]
["Male 25-29",27.5,"male",2,{"$f":"HLOOKUP('III Tool Overview'!$H$6,Prevalence!$B$2:$AV$268,Prevalence!AW109,FALSE)","v":0.462609324013317},{"$f":"HLOOKUP('III Tool Overview'!$H$6,LookUpData_Pop!$B$1:$AV$269,LookUpData_Pop!BB114,FALSE)/5","v":37609},{"$f":"'III Tool Overview'!$H$9/110","v":0},{"$f":"IF('III Tool Overview'!$H$10=\"Even distribution\",Targeting!C113,IF('III Tool Overview'!$H$10=\"Targeting to Q1\",Targeting!D113,IF('III Tool Overview'!$H$10=\"Targeting to Q1 & Q2\",Targeting!E113,IF('III Tool Overview'!$H$10=\"Proportionate to need\",Targeting!F113))))","v":1197.0897410376738},52.844547901050419,52.819225912144901,230.66923856791556,230.55903455833175,603.09498739779667,602.80865623835007,1745.4988034014414,1744.6862707683047,3751.9629009745795,3750.165039762288,1.7978612122915365,16015.136358502215,16007.484738149396,7.651620352819009,40180.879083346372,40161.798137987353,19.080945359019097,105351.43881115613,105302.32229214914,49.116519006987801,{"$error":"#NAME?"},{"$error":"#NAME?"},{"$error":"#NAME?"},{"$error":"#NAME?"},{"$error":"#NAME?"},{"$error":"#NAME?"},{"$error":"#NAME?"},{"$error":"#NAME?"},{"$error":"#NAME?"},{"$error":"#NAME?"},{"$error":"#NAME?"},{"$error":"#NAME?"},{"$f":"HLOOKUP('III Tool Overview'!$H$6,LookUpData_Pop!$B$1:$AV$269,LookUpData_Pop!BB114,FALSE)","v":188045},12.793373320618656,null,{"$f":"AO115","v":188045},null,null,null,{"$error":"#DIV/0!"},{"$error":"#DIV/0!"},{"$error":"#DIV/0!"},null,6.8033573456452738E-5,0,null,{"$f":"(AP115/AO115)*LookUpData_Pop!$B$282","v":0.47623501419516917},{"$f":"(AQ115/AP115)*LookUpData_Pop!$B$282","v":0},null,0.5,5]
["Male 30-34",32.5,"male",2,{"$f":"HLOOKUP('III Tool Overview'!$H$6,Prevalence!$B$2:$AV$268,Prevalence!AW110,FALSE)","v":0.462609324013317},{"$f":"HLOOKUP('III Tool Overview'!$H$6,LookUpData_Pop!$B$1:$AV$269,LookUpData_Pop!BB115,FALSE)/5","v":33158.6},{"$f":"'III Tool Overview'!$H$9/110","v":0},{"$f":"IF('III Tool Overview'!$H$10=\"Even distribution\",Targeting!C114,IF('III Tool Overview'!$H$10=\"Targeting to Q1\",Targeting!D114,IF('III Tool Overview'!$H$10=\"Targeting to Q1 & Q2\",Targeting!E114,IF('III Tool Overview'!$H$10=\"Proportionate to need\",Targeting!F114))))","v":1102.4572620399233},62.226163257433313,62.195037051062059,271.40066473526736,271.26544485174816,708.38167274348473,708.03168335692385,2039.409899864107,2038.4285209891304,4169.1529382480321,4167.0674824211583,2.0854558268738401,17757.654100957217,17748.806274145289,8.8478268119288259,44364.89251091778,44342.966176145135,21.926334772644623,114983.39990153824,114927.94654910312,55.453352435128181,{"$error":"#NAME?"},{"$error":"#NAME?"},{"$error":"#NAME?"},{"$error":"#NAME?"},{"$error":"#NAME?"},{"$error":"#NAME?"},{"$error":"#NAME?"},{"$error":"#NAME?"},{"$error":"#NAME?"},{"$error":"#NAME?"},{"$error":"#NAME?"},{"$error":"#NAME?"},{"$f":"HLOOKUP('III Tool Overview'!$H$6,LookUpData_Pop!$B$1:$AV$269,LookUpData_Pop!BB115,FALSE)","v":165793},16.222435601514171,null,165793,null,null,null,{"$error":"#DIV/0!"},{"$error":"#DIV/0!"},{"$error":"#DIV/0!"},null,9.7847530363249182E-5,0,null,{"$f":"(AP116/AO116)*LookUpData_Pop!$B$283","v":0.68493271254274424},{"$f":"(AQ116/AP116)*LookUpData_Pop!$B$283","v":0},null,0.5,5]
["Male 35-39",37.5,"male",2,{"$f":"HLOOKUP('III Tool Overview'!$H$6,Prevalence!$B$2:$AV$268,Prevalence!AW111,FALSE)","v":0.53112222087830874},{"$f":"HLOOKUP('III Tool Overview'!$H$6,LookUpData_Pop!$B$1:$AV$269,LookUpData_Pop!BB116,FALSE)/5","v":34236.400000000001},{"$f":"'III Tool Overview'!$H$9/110","v":0},{"$f":"IF('III Tool Overview'!$H$10=\"Even distribution\",Targeting!C115,IF('III Tool Overview'!$H$10=\"Targeting to Q1\",Targeting!D115,IF('III Tool Overview'!$H$10=\"Targeting to Q1 & Q2\",Targeting!E115,IF('III Tool Overview'!$H$10=\"Proportionate to need\",Targeting!F115))))","v":1142.6785110622168},99.151378216238712,99.102467875249914,431.69559298813181,431.48390237783804,1122.6376929902106,1122.0940530919891,3195.5494800743763,3194.0620792933164,6048.2340711905617,6045.2505403902451,2.9835308003166574,25656.134991765473,25643.552968898468,12.582022867005435,63583.136503333131,63552.32981901009,30.806684323040827,161164.37247209647,161089.07393617995,75.298535916517721,{"$error":"#NAME?"},{"$error":"#NAME?"},{"$error":"#NAME?"},{"$error":"#NAME?"},{"$error":"#NAME?"},{"$error":"#NAME?"},{"$error":"#NAME?"},{"$error":"#NAME?"},{"$error":"#NAME?"},{"$error":"#NAME?"},{"$error":"#NAME?"},{"$error":"#NAME?"},{"$f":"HLOOKUP('III Tool Overview'!$H$6,LookUpData_Pop!$B$1:$AV$269,LookUpData_Pop!BB116,FALSE)","v":171182},16.758884568431522,null,171182,null,null,null,{"$error":"#DIV/0!"},{"$error":"#DIV/0!"},{"$error":"#DIV/0!"},null,9.790097421709947E-5,0,null,{"$f":"(AP117/AO117)*LookUpData_Pop!$B$284","v":0.6853068195196963},{"$f":"(AQ117/AP117)*LookUpData_Pop!$B$284","v":0},null,0.5,5]
["Male 40-44",42.5,"male",2,{"$f":"HLOOKUP('III Tool Overview'!$H$6,Prevalence!$B$2:$AV$268,Prevalence!AW112,FALSE)","v":0.53112222087830874},{"$f":"HLOOKUP('III Tool Overview'!$H$6,LookUpData_Pop!$B$1:$AV$269,LookUpData_Pop!BB117,FALSE)/5","v":37008.6},{"$f":"'III Tool Overview'!$H$9/110","v":0},{"$f":"IF('III Tool Overview'!$H$10=\"Even distribution\",Targeting!C116,IF('III Tool Overview'!$H$10=\"Targeting to Q1\",Targeting!D116,IF('III Tool Overview'!$H$10=\"Targeting to Q1 & Q2\",Targeting!E116,IF('III Tool Overview'!$H$10=\"Proportionate to need\",Targeting!F116))))","v":1290.0950168141389},{"$f":"new_ci(2,B118,C118,D118,$C$1,G118,1,F118,E118*F118)","v":143.11037205942392},143.03670949786294,622.05149558780192,621.73383979012976,1612.0228380485478,1611.2133518361775,4539.5239740567049,4537.3622020296034,8157.2912073871639,8153.0924413781877,4.1987660089762358,34481.826270026693,34464.2157849012,17.610485125493142,84865.95542319685,84823.306685816817,42.648737380033708,211019.22811067142,210918.17883654634,101.04927412507823,{"$error":"#NAME?"},{"$error":"#NAME?"},{"$error":"#NAME?"},{"$error":"#NAME?"},{"$error":"#NAME?"},{"$error":"#NAME?"},{"$error":"#NAME?"},{"$error":"#NAME?"},{"$error":"#NAME?"},{"$error":"#NAME?"},{"$error":"#NAME?"},{"$error":"#NAME?"},{"$f":"HLOOKUP('III Tool Overview'!$H$6,LookUpData_Pop!$B$1:$AV$269,LookUpData_Pop!BB117,FALSE)","v":185043},24.659671134537341,null,185043,null,null,null,{"$error":"#DIV/0!"},{"$error":"#DIV/0!"},{"$error":"#DIV/0!"},null,1.3326454464387922E-4,0,null,{"$f":"(AP118/AO118)*LookUpData_Pop!$B$285","v":0.93285181250715454},{"$f":"(AQ118/AP118)*LookUpData_Pop!$B$285","v":0},null,0.5,5]
["Male 45-49",47.5,"male",2,{"$f":"HLOOKUP('III Tool Overview'!$H$6,Prevalence!$B$2:$AV$268,Prevalence!AW113,FALSE)","v":0.50111041406885515},{"$f":"HLOOKUP('III Tool Overview'!$H$6,LookUpData_Pop!$B$1:$AV$269,LookUpData_Pop!BB118,FALSE)/5","v":36537.4},{"$f":"'III Tool Overview'!$H$9/110","v":0},{"$f":"IF('III Tool Overview'!$H$10=\"Even distribution\",Targeting!C117,IF('III Tool Overview'!$H$10=\"Targeting to Q1\",Targeting!D117,IF('III Tool Overview'!$H$10=\"Targeting to Q1 & Q2\",Targeting!E117,IF('III Tool Overview'!$H$10=\"Proportionate to need\",Targeting!F117))))","v":1278.5499940141024},217.92137136254067,217.80799282436831,943.82234708304577,943.33736907708283,2427.5275334403095,2426.3126078389232,6680.785082570088,6677.7097601612295,11113.989939489575,11108.207634042785,5.7823054467899055,46658.194295019159,46634.214304028756,23.979990990403167,113277.47565193125,113220.70453080694,56.771121124314959,271206.98002554465,271080.83977676631,126.14024877833435,{"$error":"#NAME?"},{"$error":"#NAME?"},{"$error":"#NAME?"},{"$error":"#NAME?"},{"$error":"#NAME?"},{"$error":"#NAME?"},{"$error":"#NAME?"},{"$error":"#NAME?"},{"$error":"#NAME?"},{"$error":"#NAME?"},{"$error":"#NAME?"},{"$error":"#NAME?"},{"$f":"HLOOKUP('III Tool Overview'!$H$6,LookUpData_Pop!$B$1:$AV$269,LookUpData_Pop!BB118,FALSE)","v":182687},33.397495097368541,null,182687,null,null,null,{"$error":"#DIV/0!"},{"$error":"#DIV/0!"},{"$error":"#DIV/0!"},null,1.8281265277424525E-4,0,null,{"$f":"(AP119/AO119)*LookUpData_Pop!$B$286","v":1.2796885694197166},{"$f":"(AQ119/AP119)*LookUpData_Pop!$B$286","v":0},null,0.5,5]
["Male 50-54",52.5,"male",2,{"$f":"HLOOKUP('III Tool Overview'!$H$6,Prevalence!$B$2:$AV$268,Prevalence!AW114,FALSE)","v":0.50111041406885515},{"$f":"HLOOKUP('III Tool Overview'!$H$6,LookUpData_Pop!$B$1:$AV$269,LookUpData_Pop!BB119,FALSE)/5","v":33133.800000000003},{"$f":"'III Tool Overview'!$H$9/110","v":0},{"$f":"IF('III Tool Overview'!$H$10=\"Even distribution\",Targeting!C118,IF('III Tool Overview'!$H$10=\"Targeting to Q1\",Targeting!D118,IF('III Tool Overview'!$H$10=\"Targeting to Q1 & Q2\",Targeting!E118,IF('III Tool Overview'!$H$10=\"Proportionate to need\",Targeting!F118))))","v":1199.4406594183865},263.73207334726646,263.59040572743322,1138.3230170804372,1137.7216293066399,2906.9769056168793,2905.494374975327,7830.0542408756864,7826.4857563991281,12395.407447321524,12388.749069189362,6.6583781321623974,51723.28547725526,51695.951327321134,27.33414993412589,124072.57581638903,124009.17095739019,63.404858998837881,287363.60688646499,287230.55458964413,133.05229682085337,{"$error":"#NAME?"},{"$error":"#NAME?"},{"$error":"#NAME?"},{"$error":"#NAME?"},{"$error":"#NAME?"},{"$error":"#NAME?"},{"$error":"#NAME?"},{"$error":"#NAME?"},{"$error":"#NAME?"},{"$error":"#NAME?"},{"$error":"#NAME?"},{"$error":"#NAME?"},{"$f":"HLOOKUP('III Tool Overview'!$H$6,LookUpData_Pop!$B$1:$AV$269,LookUpData_Pop!BB119,FALSE)","v":165669},48.93542798695902,null,165669,null,null,null,{"$error":"#DIV/0!"},{"$error":"#DIV/0!"},{"$error":"#DIV/0!"},null,2.9538071689307608E-4,0,null,{"$f":"(AP120/AO120)*LookUpData_Pop!$B$287","v":2.0676650182515326},{"$f":"(AQ120/AP120)*LookUpData_Pop!$B$287","v":0},null,0.5,5]
["Male 55-59",57.5,"male",2,{"$f":"HLOOKUP('III Tool Overview'!$H$6,Prevalence!$B$2:$AV$268,Prevalence!AW115,FALSE)","v":0.34615355669937142},{"$f":"HLOOKUP('III Tool Overview'!$H$6,LookUpData_Pop!$B$1:$AV$269,LookUpData_Pop!BB120,FALSE)/5","v":30488.799999999999},{"$f":"'III Tool Overview'!$H$9/110","v":0},{"$f":"IF('III Tool Overview'!$H$10=\"Even distribution\",Targeting!C119,IF('III Tool Overview'!$H$10=\"Targeting to Q1\",Targeting!D119,IF('III Tool Overview'!$H$10=\"Targeting to Q1 & Q2\",Targeting!E119,IF('III Tool Overview'!$H$10=\"Proportionate to need\",Targeting!F119))))","v":730.63376169067124},373.88106355549689,373.74284382815881,1601.8781309889137,1601.3021040317615,4028.757919753999,4027.3921191296754,10371.850670975227,10368.940538974468,15329.123605775372,15323.456596954511,5.667008820861156,63184.753146773728,63162.019033150769,22.73411362295883,147928.80851487289,147878.45549548281,50.35301939008059,320767.81821694528,320674.7338017344,93.084415210876614,{"$error":"#NAME?"},{"$error":"#NAME?"},{"$error":"#NAME?"},{"$error":"#NAME?"},{"$error":"#NAME?"},{"$error":"#NAME?"},{"$error":"#NAME?"},{"$error":"#NAME?"},{"$error":"#NAME?"},{"$error":"#NAME?"},{"$error":"#NAME?"},{"$error":"#NAME?"},{"$f":"HLOOKUP('III Tool Overview'!$H$6,LookUpData_Pop!$B$1:$AV$269,LookUpData_Pop!BB120,FALSE)","v":152444},61.462581032956095,null,152444,null,null,null,{"$error":"#DIV/0!"},{"$error":"#DIV/0!"},{"$error":"#DIV/0!"},null,4.0318137173621854E-4,0,null,{"$f":"(AP121/AO121)*LookUpData_Pop!$B$288","v":2.4190882304173114},{"$f":"(AQ121/AP121)*LookUpData_Pop!$B$288","v":0},null,0.5,5]
["Male 60-64",62.5,"male",2,{"$f":"HLOOKUP('III Tool Overview'!$H$6,Prevalence!$B$2:$AV$268,Prevalence!AW116,FALSE)","v":0.34615355669937142},{"$f":"HLOOKUP('III Tool Overview'!$H$6,LookUpData_Pop!$B$1:$AV$269,LookUpData_Pop!BB121,FALSE)/5","v":30152},{"$f":"'III Tool Overview'!$H$9/110","v":0},{"$f":"IF('III Tool Overview'!$H$10=\"Even distribution\",Targeting!C120,IF('III Tool Overview'!$H$10=\"Targeting to Q1\",Targeting!D120,IF('III Tool Overview'!$H$10=\"Targeting to Q1 & Q2\",Targeting!E120,IF('III Tool Overview'!$H$10=\"Proportionate to need\",Targeting!F120))))","v":698.73479272102827},492.91186851452301,492.73615784421622,2097.1017768492361,2096.3813966828479,5198.9026771013305,5197.2525966680305,12839.579190276383,12836.423905620775,18237.739135037351,18231.237840236001,6.5012948013500136,74342.081864643929,74316.522165763527,25.559698880402721,170283.46117892655,170229.07822071959,54.382958206959302,348496.97577313264,348406.50028286088,90.475490271754097,{"$error":"#NAME?"},{"$error":"#NAME?"},{"$error":"#NAME?"},{"$error":"#NAME?"},{"$error":"#NAME?"},{"$error":"#NAME?"},{"$error":"#NAME?"},{"$error":"#NAME?"},{"$error":"#NAME?"},{"$error":"#NAME?"},{"$error":"#NAME?"},{"$error":"#NAME?"},{"$f":"HLOOKUP('III Tool Overview'!$H$6,LookUpData_Pop!$B$1:$AV$269,LookUpData_Pop!BB121,FALSE)","v":150760},88.433155725201672,null,150760,null,null,null,{"$error":"#DIV/0!"},{"$error":"#DIV/0!"},{"$error":"#DIV/0!"},null,5.8658235423986248E-4,0,null,{"$f":"(AP122/AO122)*LookUpData_Pop!$B$289","v":2.9329117711993122},{"$f":"(AQ122/AP122)*LookUpData_Pop!$B$289","v":0},null,0.5,5]
["Male 65-69",67.5,"male",2,null,null,null,null,null,null,null,null,null,null,null,null,null,null,null,null,null,null,null,null,null,null,null,null,null,null,null,null,null,null,null,null,null,null,null,null,{"$f":"HLOOKUP('III Tool Overview'!$H$6,LookUpData_Pop!$B$1:$AV$269,LookUpData_Pop!BB122,FALSE)","v":120137},110.66137831833929,null,120137,null,null,null,{"$error":"#DIV/0!"},{"$error":"#DIV/0!"},{"$error":"#DIV/0!"},null,9.2112653319409747E-4,0,null,{"$f":"(AP123/AO123)*LookUpData_Pop!$B$290","v":3.6845061327763897},{"$f":"(AQ123/AP123)*LookUpData_Pop!$B$290","v":0},null,0.5,5]
["Male 70-74",72.5,"male",2,null,null,null,null,null,null,null,null,null,null,null,null,null,null,null,null,null,null,null,null,null,null,null,null,null,null,null,null,null,null,null,null,null,null,null,null,{"$f":"HLOOKUP('III Tool Overview'!$H$6,LookUpData_Pop!$B$1:$AV$269,LookUpData_Pop!BB123,FALSE)","v":101827},150.31567576218293,null,101827,null,null,null,{"$error":"#DIV/0!"},{"$error":"#DIV/0!"},{"$error":"#DIV/0!"},null,1.4761868243411171E-3,0,null,{"$f":"(AP124/AO124)*LookUpData_Pop!$B$291","v":4.4285604730233512},{"$f":"(AQ124/AP124)*LookUpData_Pop!$B$291","v":0},null,0.5,5]
["Male 75-79",77.5,"male",2,null,null,null,null,null,null,null,null,null,null,null,null,null,null,null,null,null,null,null,null,null,null,null,null,null,null,null,null,null,null,null,null,null,null,null,null,{"$f":"HLOOKUP('III Tool Overview'!$H$6,LookUpData_Pop!$B$1:$AV$269,LookUpData_Pop!BB124,FALSE)","v":76621},175.32717952825274,null,76621,null,null,null,{"$error":"#DIV/0!"},{"$error":"#DIV/0!"},{"$error":"#DIV/0!"},null,2.2882392493996781E-3,0,null,{"$f":"(AP125/AO125)*LookUpData_Pop!$B$292","v":4.5764784987993563},{"$f":"(AQ125/AP125)*LookUpData_Pop!$B$292","v":0},null,0.5,5]
["Male 80-84",82.5,"male",2,null,null,null,null,null,null,null,null,null,null,null,null,null,null,null,null,null,null,null,null,null,null,null,null,null,null,null,null,null,null,null,null,null,null,null,null,{"$f":"HLOOKUP('III Tool Overview'!$H$6,LookUpData_Pop!$B$1:$AV$269,LookUpData_Pop!BB125,FALSE)","v":48275},183.59028879720725,null,48275,null,null,null,{"$f":"AT126/AVERAGE(AT$113:AT$126)","v":{"$error":"#DIV/0!"}},{"$error":"#DIV/0!"},{"$error":"#DIV/0!"},null,3.803009607399425E-3,0,null,{"$f":"(AP126/AO126)*LookUpData_Pop!$B$293","v":3.8030096073994248},{"$f":"(AQ126/AP126)*LookUpData_Pop!$B$293","v":0},null,0.5,5]
["Male 85-89",87.5,"male",2,null,null,null,null,null,null,null,null,null,null,null,null,null,null,null,null,null,null,null,null,null,null,null,null,null,null,null,null,null,null,null,null,null,null,null,null,{"$f":"HLOOKUP('III Tool Overview'!$H$6,LookUpData_Pop!$B$1:$AV$269,LookUpData_Pop!BB127,FALSE)","v":8132},215.28602266594709,null,null,null,null,null,null,null,null,null,2.6473932939737713E-2,0,null,{"$f":"(AP127/AO127)*LookUpData_Pop!$B$294","v":26.473932939737715},{"$f":"(AQ127/AP127)*LookUpData_Pop!$B$294","v":0},null,0.5,{"$f":"2/AZ127","v":75.546009901610589}]
["Male 90+",95,"male",2,null,null,null,null,null,null,null,null,null,null,null,null,null,null,null,null,null,null,null,null,null,null,null,null,null,null,null,null,null,null,null,null,null,null,null,null,{"$f":"HLOOKUP('III Tool Overview'!$H$6,LookUpData_Pop!$B$1:$AV$269,LookUpData_Pop!BB128,FALSE)","v":30074},216.286022665947]
["TOTAL",null,null,null,null,{"$f":"SUM(F113:F128)","v":342475.39999999997},{"$f":"SUM(G113:G128)","v":0},{"$f":"SUM(H113:H128)","v":9746.7332809028994},{"$f":"SUM(I113:I128)","v":1762.1223628975213},{"$f":"SUM(J113:J128)","v":1761.3599197976066},{"$f":"SUM(K113:K128)","v":7583.1330219420888},{"$f":"SUM(L113:L128)","v":7579.9124845891893},{"$f":"SUM(M113:M128)","v":19253.348146345641},{"$f":"SUM(N113:N128)","v":19245.480998358245},{"$f":"SUM(O113:O128)","v":51121.563073197867},{"$f":"SUM(P113:P128)","v":51102.938125020541},{"$f":"SUM(Q113:Q128)","v":83630.838535832911},{"$f":"SUM(R113:R128)","v":83594.03253109254},{"$f":"SUM(S113:S128)","v":36.806004740378057},{"$f":"SUM(T113:T128)","v":348779.88745475432},{"$f":"SUM(U113:U128)","v":348628.75254827313},{"$f":"SUM(V113:V128)","v":151.13490648114566},{"$f":"SUM(W113:W128)","v":836425.26693095989},{"$f":"SUM(X113:X128)","v":836073.73682677641},{"$f":"SUM(Y113:Y128)","v":351.53010418341364},{"$f":"SUM(Z113:Z128)","v":1947991.4164854949},{"$f":"SUM(AA113:AA128)","v":1947235.7406577552},{"$f":"SUM(AB113:AB128)","v":755.67582773958566},{"$f":"SUM(AC113:AC128)","v":{"$error":"#NAME?"}},{"$f":"SUM(AD113:AD128)","v":{"$error":"#NAME?"}},{"$f":"SUM(AE113:AE128)","v":{"$error":"#NAME?"}},{"$f":"SUM(AF113:AF128)","v":{"$error":"#NAME?"}},{"$f":"SUM(AG113:AG128)","v":{"$error":"#NAME?"}},{"$f":"SUM(AH113:AH128)","v":{"$error":"#NAME?"}},{"$f":"SUM(AI113:AI128)","v":{"$error":"#NAME?"}},{"$f":"SUM(AJ113:AJ128)","v":{"$error":"#NAME?"}},{"$f":"SUM(AK113:AK128)","v":{"$error":"#NAME?"}},{"$f":"SUM(AL113:AL128)","v":{"$error":"#NAME?"}},{"$f":"SUM(AM113:AM128)","v":{"$error":"#NAME?"}},{"$f":"SUM(AN113:AN128)","v":{"$error":"#NAME?"}}]
["Female <1",0.5,"female",2,null,null,null,null,null,null,null,null,null,null,null,null,null,null,null,null,null,null,null,null,null,null,null,null,null,null,null,null,null,null,null,null,null,null,null,null,{"$f":"HLOOKUP('III Tool Overview'!$H$6,LookUpData_Pop!$B$1:$AV$269,LookUpData_Pop!BB128,FALSE)","v":30074},4.7936952468071627,null,null,null,null,null,null,null,null,null,1.5939666312453159E-4,0,null,null,null,null,0.1,1]
["Female 1-4",2.5,"female",2,null,null,null,null,null,null,null,null,null,null,null,null,null,null,null,null,null,null,null,null,null,null,null,null,null,null,null,null,null,null,null,null,null,null,null,null,{"$f":"HLOOKUP('III Tool Overview'!$H$6,LookUpData_Pop!$B$1:$AV$269,LookUpData_Pop!BB129,FALSE)","v":110650},0.92092535977218393,null,null,null,null,null,null,null,null,null,8.3228681407336995E-6,0,null,{"$f":"((AP131+AP130)/(AO131+AO130))*LookUpData_Pop!$B$277","v":0.32486970845509494},{"$f":"((AQ131+AQ130)/(AP131+AP130))*LookUpData_Pop!$B$277","v":0},null,0.5,4]
["Female 5-9",7.5,"female",2,null,null,null,null,null,null,null,null,null,null,null,null,null,null,null,null,null,null,null,null,null,null,null,null,null,null,null,null,null,null,null,null,null,null,null,null,{"$f":"HLOOKUP('III Tool Overview'!$H$6,LookUpData_Pop!$B$1:$AV$269,LookUpData_Pop!BB130,FALSE)","v":126577},0.69292811221507888,null,null,null,null,null,null,null,null,null,5.474360367326441E-6,0,null,{"$f":"(AP132/AO132)*LookUpData_Pop!$B$278","v":3.8320522571285084E-2},{"$f":"(AQ132/AP132)*LookUpData_Pop!$B$278","v":0},null,0.5,5]
["Female 10-14",12.5,"female",2,null,null,null,null,null,null,null,null,null,null,null,null,null,null,null,null,null,null,null,null,null,null,null,null,null,null,null,null,null,null,null,null,null,null,null,null,{"$f":"HLOOKUP('III Tool Overview'!$H$6,LookUpData_Pop!$B$1:$AV$269,LookUpData_Pop!BB131,FALSE)","v":137431},0.69097417181358789,null,null,null,null,null,null,null,null,null,5.0277897404049148E-6,0,null,{"$f":"(AP133/AO133)*LookUpData_Pop!$B$279","v":3.5194528182834403E-2},{"$f":"(AQ133/AP133)*LookUpData_Pop!$B$279","v":0},null,0.5,5]
["Female 15-19",17.5,"female",2,{"$f":"HLOOKUP('III Tool Overview'!$H$6,Prevalence!$B$2:$AV$268,Prevalence!AW127,FALSE)","v":0.2027635984559254},{"$f":"HLOOKUP('III Tool Overview'!$H$6,LookUpData_Pop!$B$1:$AV$269,LookUpData_Pop!BB132,FALSE)/5","v":31638.2},{"$f":"'III Tool Overview'!$H$9/110","v":0},{"$f":"IF('III Tool Overview'!$H$10=\"Even distribution\",Targeting!C132,IF('III Tool Overview'!$H$10=\"Targeting to Q1\",Targeting!D132,IF('III Tool Overview'!$H$10=\"Targeting to Q1 & Q2\",Targeting!E132,IF('III Tool Overview'!$H$10=\"Proportionate to need\",Targeting!F132))))","v":339.53604964201531},{"$f":"new_ci(2,B134,C134,D134,$C$1,G134,1,F134,E134*F134)","v":8.8424885887884663},{"$f":"new_ci(2,B134,C134,D134,$C$1,G134+H134,1,F134,E134*F134)","v":8.8409517528276815},{"$f":"new_ci(5,B134,C134,D134,$C$1,G134,1,F134,E134*F134)","v":39.258414252132916},{"$f":"new_ci(5,B134,C134,D134,$C$1,G134+H134,1,F134,E134*F134)","v":39.251595754607393},{"$f":"new_ci(10,B134,C134,D134,$C$1,G134,1,F134,E134*F134)","v":105.88223402864998},{"$f":"new_ci(10,B134,C134,D134,$C$1,G134+H134,1,F134,E134*F134)","v":105.86387172459115},{"$f":"new_ci(20,B134,C134,D134,$C$1,G134,1,F134,E134*F134)","v":329.83308851982679},{"$f":"new_ci(20,B134,C134,D134,$C$1,G134+H134,1,F134,E134*F134)","v":329.77617760414819},{"$f":"new_yll(2,B134,C134,D134,$C$1,G134,1,F134,E134*F134)","v":716.24157569186582},{"$f":"new_yll(2,B134,C134,D134,$C$1,G134+H134,1,F134,E134*F134)","v":716.11709197904224},{"$f":"Q134-R134","v":0.12448371282357584},{"$f":"new_yll(5,B134,C134,D134,$C$1,G134,1,F134,E134*F134)","v":3117.7297323311841},{"$f":"new_yll(5,B134,C134,D134,$C$1,G134+H134,1,F134,E134*F134)","v":3117.1882336435187},{"$f":"T134-U134","v":0.54149868766535292},{"$f":"new_yll(10,B134,C134,D134,$C$1,G134,1,F134,E134*F134)","v":8105.5383758810494},{"$f":"new_yll(10,B134,C134,D134,$C$1,G134+H134,1,F134,E134*F134)","v":8104.1326334490996},{"$f":"W134-X134","v":1.405742431949875},{"$f":"new_yll(20,B134,C134,D134,$C$1,G134,1,F134,E134*F134)","v":23098.975588159265},{"$f":"new_yll(20,B134,C134,D134,$C$1,G134+H134,1,F134,E134*F134)","v":23094.988708996996},{"$f":"Z134-AA134","v":3.9868791622684512},{"$f":"hosp_count(2,B134,C134,D134,$C$1,G134,1,F134,E134*F134)","v":{"$error":"#NAME?"}},{"$f":"hosp_count(2,B134,C134,D134,$C$1,G134+H134,1,F134,E134*F134)","v":{"$error":"#NAME?"}},{"$f":"AC134-AD134","v":{"$error":"#NAME?"}},{"$f":"hosp_count(5,B134,C134,D134,$C$1,G134,1,F134,E134*F134)","v":{"$error":"#NAME?"}},{"$f":"hosp_count(5,B134,C134,D134,$C$1,G134+H134,1,F134,E134*F134)","v":{"$error":"#NAME?"}},{"$f":"AF134-AG134","v":{"$error":"#NAME?"}},{"$f":"hosp_count(10,B134,C134,D134,$C$1,G134,1,F134,E134*F134)","v":{"$error":"#NAME?"}},{"$f":"hosp_count(10,B134,C134,D134,$C$1,G134+H134,1,F134,E134*F134)","v":{"$error":"#NAME?"}},{"$f":"AI134-AJ134","v":{"$error":"#NAME?"}},{"$f":"hosp_count(20,B134,C134,D134,$C$1,G134,1,F134,E134*F134)","v":{"$error":"#NAME?"}},{"$f":"hosp_count(20,B134,C134,D134,$C$1,G134+H134,1,F134,E134*F134)","v":{"$error":"#NAME?"}},{"$f":"AL134-AM134","v":{"$error":"#NAME?"}},{"$f":"HLOOKUP('III Tool Overview'!$H$6,LookUpData_Pop!$B$1:$AV$269,LookUpData_Pop!BB132,FALSE)","v":158191},1.9349179648761627,null,{"$f":"AO134*(0.8)","v":126552.8},null,null,null,{"$f":"AT134/AVERAGE(AT$134:AT$147)","v":{"$error":"#DIV/0!"}},{"$f":"$AV$6*$AV$18*AV49","v":{"$error":"#DIV/0!"}},{"$f":"AW134*AR134*$AT$4","v":{"$error":"#DIV/0!"}},null,1.2231530016727644E-5,0,null,{"$f":"(AP134/AO134)*LookUpData_Pop!$B$280","v":8.5620710117093504E-2},{"$f":"(AQ134/AP134)*LookUpData_Pop!$B$280","v":0},null,0.5,5]
["Female 20-24",22.5,"female",2,{"$f":"HLOOKUP('III Tool Overview'!$H$6,Prevalence!$B$2:$AV$268,Prevalence!AW128,FALSE)","v":0.2027635984559254},{"$f":"HLOOKUP('III Tool Overview'!$H$6,LookUpData_Pop!$B$1:$AV$269,LookUpData_Pop!BB133,FALSE)/5","v":37017.4},{"$f":"'III Tool Overview'!$H$9/110","v":0},{"$f":"IF('III Tool Overview'!$H$10=\"Even distribution\",Targeting!C133,IF('III Tool Overview'!$H$10=\"Targeting to Q1\",Targeting!D133,IF('III Tool Overview'!$H$10=\"Targeting to Q1 & Q2\",Targeting!E133,IF('III Tool Overview'!$H$10=\"Proportionate to need\",Targeting!F133))))","v":540.10263682700804},14.35712584011803,14.353738906183299,63.729970205559056,63.714950180843871,171.81227979465444,171.77187095333593,534.46480563816976,534.33998587165763,1105.4986896890882,1105.2378957761141,0.26079391297412258,4806.242341741251,4805.1095841096967,{"$f":"T135-U135","v":1.1327576315543411},12465.557462851079,12462.625469853183,{"$f":"W135-X135","v":2.931992997895577},35295.241131186871,35286.99433159639,{"$f":"Z135-AA135","v":8.2467995904808049},{"$f":"hosp_count(2,B135,C135,D135,$C$1,G135,1,F135,E135*F135)","v":{"$error":"#NAME?"}},{"$f":"hosp_count(2,B135,C135,D135,$C$1,G135+H135,1,F135,E135*F135)","v":{"$error":"#NAME?"}},{"$f":"AC135-AD135","v":{"$error":"#NAME?"}},{"$f":"hosp_count(5,B135,C135,D135,$C$1,G135,1,F135,E135*F135)","v":{"$error":"#NAME?"}},{"$f":"hosp_count(5,B135,C135,D135,$C$1,G135+H135,1,F135,E135*F135)","v":{"$error":"#NAME?"}},{"$f":"AF135-AG135","v":{"$error":"#NAME?"}},{"$f":"hosp_count(10,B135,C135,D135,$C$1,G135,1,F135,E135*F135)","v":{"$error":"#NAME?"}},{"$f":"hosp_count(10,B135,C135,D135,$C$1,G135+H135,1,F135,E135*F135)","v":{"$error":"#NAME?"}},{"$f":"AI135-AJ135","v":{"$error":"#NAME?"}},{"$f":"hosp_count(20,B135,C135,D135,$C$1,G135,1,F135,E135*F135)","v":{"$error":"#NAME?"}},{"$f":"hosp_count(20,B135,C135,D135,$C$1,G135+H135,1,F135,E135*F135)","v":{"$error":"#NAME?"}},{"$f":"AL135-AM135","v":{"$error":"#NAME?"}},{"$f":"HLOOKUP('III Tool Overview'!$H$6,LookUpData_Pop!$B$1:$AV$269,LookUpData_Pop!BB133,FALSE)","v":185087},3.0434186673740991,null,{"$f":"AO135","v":185087},null,null,null,{"$f":"AT135/AVERAGE(AT$134:AT$147)","v":{"$error":"#DIV/0!"}},{"$error":"#DIV/0!"},{"$error":"#DIV/0!"},null,1.6443178977313908E-5,0,null,{"$f":"(AP135/AO135)*LookUpData_Pop!$B$281","v":0.11510225284119735},{"$f":"(AQ135/AP135)*LookUpData_Pop!$B$281","v":0},null,0.5,5]
["Female 25-29",27.5,"female",2,{"$f":"HLOOKUP('III Tool Overview'!$H$6,Prevalence!$B$2:$AV$268,Prevalence!AW129,FALSE)","v":0.38526318490269956},{"$f":"HLOOKUP('III Tool Overview'!$H$6,LookUpData_Pop!$B$1:$AV$269,LookUpData_Pop!BB134,FALSE)/5","v":37211.599999999999},{"$f":"'III Tool Overview'!$H$9/110","v":0},{"$f":"IF('III Tool Overview'!$H$10=\"Even distribution\",Targeting!C134,IF('III Tool Overview'!$H$10=\"Targeting to Q1\",Targeting!D134,IF('III Tool Overview'!$H$10=\"Targeting to Q1 & Q2\",Targeting!E134,IF('III Tool Overview'!$H$10=\"Proportionate to need\",Targeting!F134))))","v":1017.2860064534365},23.59224326774472,23.582329223540803,104.67840568989442,104.63447952958499,281.93877304641535,281.82083062538243,874.23859961664721,873.87670996566669,1675.049272009875,1674.3453748713971,0.70389713847794155,7266.364661661024,7263.3154296461544,3.0492320148696308,18764.594872308327,18756.744292531464,7.8505797768630146,52500.316999828348,52478.567645853735,21.749353974613769,{"$error":"#NAME?"},{"$error":"#NAME?"},{"$error":"#NAME?"},{"$error":"#NAME?"},{"$error":"#NAME?"},{"$error":"#NAME?"},{"$error":"#NAME?"},{"$error":"#NAME?"},{"$error":"#NAME?"},{"$error":"#NAME?"},{"$error":"#NAME?"},{"$error":"#NAME?"},{"$f":"HLOOKUP('III Tool Overview'!$H$6,LookUpData_Pop!$B$1:$AV$269,LookUpData_Pop!BB134,FALSE)","v":186058},3.3103820953324479,null,{"$f":"AO136","v":186058},null,null,null,{"$error":"#DIV/0!"},{"$error":"#DIV/0!"},{"$error":"#DIV/0!"},null,1.779220509374737E-5,0,null,{"$f":"(AP136/AO136)*LookUpData_Pop!$B$282","v":0.12454543565623159},{"$f":"(AQ136/AP136)*LookUpData_Pop!$B$282","v":0},null,0.5,5]
["Female 30-34",32.5,"female",2,{"$f":"HLOOKUP('III Tool Overview'!$H$6,Prevalence!$B$2:$AV$268,Prevalence!AW130,FALSE)","v":0.38526318490269956},{"$f":"HLOOKUP('III Tool Overview'!$H$6,LookUpData_Pop!$B$1:$AV$269,LookUpData_Pop!BB135,FALSE)/5","v":32756.799999999999},{"$f":"'III Tool Overview'!$H$9/110","v":0},{"$f":"IF('III Tool Overview'!$H$10=\"Even distribution\",Targeting!C135,IF('III Tool Overview'!$H$10=\"Targeting to Q1\",Targeting!D135,IF('III Tool Overview'!$H$10=\"Targeting to Q1 & Q2\",Targeting!E135,IF('III Tool Overview'!$H$10=\"Proportionate to need\",Targeting!F135))))","v":941.70318793635136},28.817794916010641,28.805054635253672,127.80910269527932,127.7527096148457,343.91431472436511,343.76322359061493,1063.0400515196527,1062.5798033667143,1930.792259372713,1929.9386605619961,0.85359881071690324,8360.8148277012951,8357.1257045195198,3.6891231817753578,21514.509405353914,21505.055959713525,9.4534456403889635,59601.098071188913,59575.263453834443,25.834617354470538,{"$error":"#NAME?"},{"$error":"#NAME?"},{"$error":"#NAME?"},{"$error":"#NAME?"},{"$error":"#NAME?"},{"$error":"#NAME?"},{"$error":"#NAME?"},{"$error":"#NAME?"},{"$error":"#NAME?"},{"$error":"#NAME?"},{"$error":"#NAME?"},{"$error":"#NAME?"},{"$f":"HLOOKUP('III Tool Overview'!$H$6,LookUpData_Pop!$B$1:$AV$269,LookUpData_Pop!BB135,FALSE)","v":163784},5.6113879867666254,null,163784,null,null,null,{"$error":"#DIV/0!"},{"$error":"#DIV/0!"},{"$error":"#DIV/0!"},null,3.42609045252688E-5,0,null,{"$f":"(AP137/AO137)*LookUpData_Pop!$B$283","v":0.23982633167688161},{"$f":"(AQ137/AP137)*LookUpData_Pop!$B$283","v":0},null,0.5,5]
["Female 35-39",37.5,"female",2,{"$f":"HLOOKUP('III Tool Overview'!$H$6,Prevalence!$B$2:$AV$268,Prevalence!AW131,FALSE)","v":0.44763638593890615},{"$f":"HLOOKUP('III Tool Overview'!$H$6,LookUpData_Pop!$B$1:$AV$269,LookUpData_Pop!BB136,FALSE)/5","v":36092},{"$f":"'III Tool Overview'!$H$9/110","v":0},{"$f":"IF('III Tool Overview'!$H$10=\"Even distribution\",Targeting!C136,IF('III Tool Overview'!$H$10=\"Targeting to Q1\",Targeting!D136,IF('III Tool Overview'!$H$10=\"Targeting to Q1 & Q2\",Targeting!E136,IF('III Tool Overview'!$H$10=\"Proportionate to need\",Targeting!F136))))","v":973.08430752339075},51.89563451537461,51.874488323018653,229.93621792629418,229.84281657716531,617.40018312326652,617.15110524886222,1894.7424587161231,1893.9956168876777,3165.6337054378514,3164.3437877041379,1.289917733713537,13662.169424182586,13656.61954113478,5.549883047806361,34921.850600207443,34907.758074337042,14.092525870401005,94923.881200248768,94886.387227449624,37.493972799144103,{"$error":"#NAME?"},{"$error":"#NAME?"},{"$error":"#NAME?"},{"$error":"#NAME?"},{"$error":"#NAME?"},{"$error":"#NAME?"},{"$error":"#NAME?"},{"$error":"#NAME?"},{"$error":"#NAME?"},{"$error":"#NAME?"},{"$error":"#NAME?"},{"$error":"#NAME?"},{"$f":"HLOOKUP('III Tool Overview'!$H$6,LookUpData_Pop!$B$1:$AV$269,LookUpData_Pop!BB136,FALSE)","v":180460},7.2286530847688724,null,180460,null,null,null,{"$error":"#DIV/0!"},{"$error":"#DIV/0!"},{"$error":"#DIV/0!"},null,4.0056816384621923E-5,0,null,{"$f":"(AP138/AO138)*LookUpData_Pop!$B$284","v":0.28039771469235347},{"$f":"(AQ138/AP138)*LookUpData_Pop!$B$284","v":0},null,0.5,5]
["Female 40-44",42.5,"female",2,{"$f":"HLOOKUP('III Tool Overview'!$H$6,Prevalence!$B$2:$AV$268,Prevalence!AW132,FALSE)","v":0.44763638593890615},{"$f":"HLOOKUP('III Tool Overview'!$H$6,LookUpData_Pop!$B$1:$AV$269,LookUpData_Pop!BB137,FALSE)/5","v":39881},{"$f":"'III Tool Overview'!$H$9/110","v":0},{"$f":"IF('III Tool Overview'!$H$10=\"Even distribution\",Targeting!C137,IF('III Tool Overview'!$H$10=\"Targeting to Q1\",Targeting!D137,IF('III Tool Overview'!$H$10=\"Targeting to Q1 & Q2\",Targeting!E137,IF('III Tool Overview'!$H$10=\"Proportionate to need\",Targeting!F137))))","v":1158.1907200042278},79.558280458780303,79.523376480343885,352.15868482226836,352.00485297206393,943.5648868776218,943.15661928069767,2875.1476717991345,2873.9431836158096,4534.8219861504776,4532.8324593796015,1.9895267708761821,19515.929775845445,19507.404184352206,8.5255914932386077,49601.060325975675,49579.589501485876,21.47082448979927,132631.82786869857,132576.08702613006,55.740842568513472,{"$error":"#NAME?"},{"$error":"#NAME?"},{"$error":"#NAME?"},{"$error":"#NAME?"},{"$error":"#NAME?"},{"$error":"#NAME?"},{"$error":"#NAME?"},{"$error":"#NAME?"},{"$error":"#NAME?"},{"$error":"#NAME?"},{"$error":"#NAME?"},{"$error":"#NAME?"},{"$f":"HLOOKUP('III Tool Overview'!$H$6,LookUpData_Pop!$B$1:$AV$269,LookUpData_Pop!BB137,FALSE)","v":199405},12.986748847454409,null,199405,null,null,null,{"$error":"#DIV/0!"},{"$error":"#DIV/0!"},{"$error":"#DIV/0!"},null,6.5127498545444743E-5,0,null,{"$f":"(AP139/AO139)*LookUpData_Pop!$B$285","v":0.4558924898181132},{"$f":"(AQ139/AP139)*LookUpData_Pop!$B$285","v":0},null,0.5,5]
["Female 45-49",47.5,"female",2,{"$f":"HLOOKUP('III Tool Overview'!$H$6,Prevalence!$B$2:$AV$268,Prevalence!AW133,FALSE)","v":0.4564895035619469},{"$f":"HLOOKUP('III Tool Overview'!$H$6,LookUpData_Pop!$B$1:$AV$269,LookUpData_Pop!BB138,FALSE)/5","v":39130.400000000001},{"$f":"'III Tool Overview'!$H$9/110","v":0},{"$f":"IF('III Tool Overview'!$H$10=\"Even distribution\",Targeting!C138,IF('III Tool Overview'!$H$10=\"Targeting to Q1\",Targeting!D138,IF('III Tool Overview'!$H$10=\"Targeting to Q1 & Q2\",Targeting!E138,IF('III Tool Overview'!$H$10=\"Proportionate to need\",Targeting!F138))))","v":1223.4456444197622},127.53746150024359,127.47742209055463,563.28656832199613,563.02326088420136,1501.9818474554177,1501.2905629289221,4503.8030580882432,4501.8368700223291,6504.4105365124233,6501.3485266182861,3.0620098941371907,27837.500578566458,27824.486477839317,13.01410072714134,69960.86801150367,69928.643280447039,32.224731056630844,181065.9438192143,180986.41339099506,79.530428219237365,{"$error":"#NAME?"},{"$error":"#NAME?"},{"$error":"#NAME?"},{"$error":"#NAME?"},{"$error":"#NAME?"},{"$error":"#NAME?"},{"$error":"#NAME?"},{"$error":"#NAME?"},{"$error":"#NAME?"},{"$error":"#NAME?"},{"$error":"#NAME?"},{"$error":"#NAME?"},{"$f":"HLOOKUP('III Tool Overview'!$H$6,LookUpData_Pop!$B$1:$AV$269,LookUpData_Pop!BB138,FALSE)","v":195652},21.92967434701044,null,195652,null,null,null,{"$error":"#DIV/0!"},{"$error":"#DIV/0!"},{"$error":"#DIV/0!"},null,1.12085101849255E-4,0,null,{"$f":"(AP140/AO140)*LookUpData_Pop!$B$286","v":0.78459571294478503},{"$f":"(AQ140/AP140)*LookUpData_Pop!$B$286","v":0},null,0.5,5]
["Female 50-54",52.5,"female",2,{"$f":"HLOOKUP('III Tool Overview'!$H$6,Prevalence!$B$2:$AV$268,Prevalence!AW134,FALSE)","v":0.4564895035619469},{"$f":"HLOOKUP('III Tool Overview'!$H$6,LookUpData_Pop!$B$1:$AV$269,LookUpData_Pop!BB139,FALSE)/5","v":35250},{"$f":"'III Tool Overview'!$H$9/110","v":0},{"$f":"IF('III Tool Overview'!$H$10=\"Even distribution\",Targeting!C139,IF('III Tool Overview'!$H$10=\"Targeting to Q1\",Targeting!D139,IF('III Tool Overview'!$H$10=\"Targeting to Q1 & Q2\",Targeting!E139,IF('III Tool Overview'!$H$10=\"Proportionate to need\",Targeting!F139))))","v":1156.866127413675},159.34037515187913,159.26166270202199,702.19638829675387,701.85289318578668,1863.4022553711957,1862.5101863906593,5499.6818288901814,5497.2359188573137,7488.9976321383192,7485.2981469950337,3.6994851432855285,31894.85978459871,31879.254967541867,15.604817056842876,79362.922182093345,79324.882866738815,38.039315354530117,199502.65406322927,199413.06961454844,89.584448680834612,{"$error":"#NAME?"},{"$error":"#NAME?"},{"$error":"#NAME?"},{"$error":"#NAME?"},{"$error":"#NAME?"},{"$error":"#NAME?"},{"$error":"#NAME?"},{"$error":"#NAME?"},{"$error":"#NAME?"},{"$error":"#NAME?"},{"$error":"#NAME?"},{"$error":"#NAME?"},{"$f":"HLOOKUP('III Tool Overview'!$H$6,LookUpData_Pop!$B$1:$AV$269,LookUpData_Pop!BB139,FALSE)","v":176250},32.612857040161025,null,176250,null,null,null,{"$error":"#DIV/0!"},{"$error":"#DIV/0!"},{"$error":"#DIV/0!"},null,1.8503748675268667E-4,0,null,{"$f":"(AP141/AO141)*LookUpData_Pop!$B$287","v":1.2952624072688066},{"$f":"(AQ141/AP141)*LookUpData_Pop!$B$287","v":0},null,0.5,5]
["Female 55-59",57.5,"female",2,{"$f":"HLOOKUP('III Tool Overview'!$H$6,Prevalence!$B$2:$AV$268,Prevalence!AW135,FALSE)","v":0.26914084925581394},{"$f":"HLOOKUP('III Tool Overview'!$H$6,LookUpData_Pop!$B$1:$AV$269,LookUpData_Pop!BB140,FALSE)/5","v":32318},{"$f":"'III Tool Overview'!$H$9/110","v":0},{"$f":"IF('III Tool Overview'!$H$10=\"Even distribution\",Targeting!C140,IF('III Tool Overview'!$H$10=\"Targeting to Q1\",Targeting!D140,IF('III Tool Overview'!$H$10=\"Targeting to Q1 & Q2\",Targeting!E140,IF('III Tool Overview'!$H$10=\"Proportionate to need\",Targeting!F140))))","v":594.9718248835311},238.48656603854033,238.41720434917335,1045.7650866863132,1045.4662328299994,2745.3276573143112,2744.5729345568116,7822.7682801788042,7820.8855015831696,9777.9492075801536,9775.1053783161078,2.8438292640457803,41229.909327118068,41218.122549388077,11.786777729990717,100522.53494485159,100494.82934578003,27.705599071559845,238117.75878120383,238059.1878595014,58.570921702426858,{"$error":"#NAME?"},{"$error":"#NAME?"},{"$error":"#NAME?"},{"$error":"#NAME?"},{"$error":"#NAME?"},{"$error":"#NAME?"},{"$error":"#NAME?"},{"$error":"#NAME?"},{"$error":"#NAME?"},{"$error":"#NAME?"},{"$error":"#NAME?"},{"$error":"#NAME?"},{"$f":"HLOOKUP('III Tool Overview'!$H$6,LookUpData_Pop!$B$1:$AV$269,LookUpData_Pop!BB140,FALSE)","v":161590},37.777599511971935,null,161590,null,null,null,{"$error":"#DIV/0!"},{"$error":"#DIV/0!"},{"$error":"#DIV/0!"},null,2.3378674120905956E-4,0,null,{"$f":"(AP142/AO142)*LookUpData_Pop!$B$288","v":1.4027204472543573},{"$f":"(AQ142/AP142)*LookUpData_Pop!$B$288","v":0},null,0.5,5]
["Female 60-64",62.5,"female",2,{"$f":"HLOOKUP('III Tool Overview'!$H$6,Prevalence!$B$2:$AV$268,Prevalence!AW136,FALSE)","v":0.26914084925581394},{"$f":"HLOOKUP('III Tool Overview'!$H$6,LookUpData_Pop!$B$1:$AV$269,LookUpData_Pop!BB141,FALSE)/5","v":32553.8},{"$f":"'III Tool Overview'!$H$9/110","v":0},{"$f":"IF('III Tool Overview'!$H$10=\"Even distribution\",Targeting!C141,IF('III Tool Overview'!$H$10=\"Targeting to Q1\",Targeting!D141,IF('III Tool Overview'!$H$10=\"Targeting to Q1 & Q2\",Targeting!E141,IF('III Tool Overview'!$H$10=\"Proportionate to need\",Targeting!F141))))","v":573.23769429417825},332.89835705367477,332.80597504426521,1452.5175316980005,1452.1241664132219,3772.4640280569729,3771.4960422620293,10387.339658859461,10385.127233152976,12317.239210985967,12313.821076637812,3.4181343481541262,51462.156066984797,51448.211396168088,13.944670816708822,123138.63384508299,123106.90901402193,31.724831061059376,276335.56530152459,276274.52044596977,61.04485555482097,{"$error":"#NAME?"},{"$error":"#NAME?"},{"$error":"#NAME?"},{"$error":"#NAME?"},{"$error":"#NAME?"},{"$error":"#NAME?"},{"$error":"#NAME?"},{"$error":"#NAME?"},{"$error":"#NAME?"},{"$error":"#NAME?"},{"$error":"#NAME?"},{"$error":"#NAME?"},{"$f":"HLOOKUP('III Tool Overview'!$H$6,LookUpData_Pop!$B$1:$AV$269,LookUpData_Pop!BB141,FALSE)","v":162769},60.352065368977236,null,162769,null,null,null,{"$error":"#DIV/0!"},{"$error":"#DIV/0!"},{"$error":"#DIV/0!"},null,3.7078353598644237E-4,0,null,{"$f":"(AP143/AO143)*LookUpData_Pop!$B$289","v":1.8539176799322119},{"$f":"(AQ143/AP143)*LookUpData_Pop!$B$289","v":0},null,0.5,5]
["Female 65-69",67.5,"female",2,null,null,null,null,null,null,null,null,null,null,null,null,null,null,null,null,null,null,null,null,null,null,null,null,null,null,null,null,null,null,null,null,null,null,null,null,{"$f":"HLOOKUP('III Tool Overview'!$H$6,LookUpData_Pop!$B$1:$AV$269,LookUpData_Pop!BB142,FALSE)","v":138177},82.912238407133628,null,138177,null,null,null,{"$error":"#DIV/0!"},{"$error":"#DIV/0!"},{"$error":"#DIV/0!"},null,6.0004370052276163E-4,0,null,{"$f":"(AP144/AO144)*LookUpData_Pop!$B$290","v":2.4001748020910467},{"$f":"(AQ144/AP144)*LookUpData_Pop!$B$290","v":0},null,0.5,5]
["Female 70-74",72.5,"female",2,null,null,null,null,null,null,null,null,null,null,null,null,null,null,null,null,null,null,null,null,null,null,null,null,null,null,null,null,null,null,null,null,null,null,null,null,{"$f":"HLOOKUP('III Tool Overview'!$H$6,LookUpData_Pop!$B$1:$AV$269,LookUpData_Pop!BB143,FALSE)","v":127643},125.96287857137338,null,127643,null,null,null,{"$error":"#DIV/0!"},{"$error":"#DIV/0!"},{"$error":"#DIV/0!"},null,9.8683733985704958E-4,0,null,{"$f":"(AP145/AO145)*LookUpData_Pop!$B$291","v":2.9605120195711487},{"$f":"(AQ145/AP145)*LookUpData_Pop!$B$291","v":0},null,0.5,5]
["Female 75-79",77.5,"female",2,null,null,null,null,null,null,null,null,null,null,null,null,null,null,null,null,null,null,null,null,null,null,null,null,null,null,null,null,null,null,null,null,null,null,null,null,{"$f":"HLOOKUP('III Tool Overview'!$H$6,LookUpData_Pop!$B$1:$AV$269,LookUpData_Pop!BB144,FALSE)","v":111446},203.6842464155616,null,111446,null,null,null,{"$error":"#DIV/0!"},{"$error":"#DIV/0!"},{"$error":"#DIV/0!"},null,1.8276496815997129E-3,0,null,{"$f":"(AP146/AO146)*LookUpData_Pop!$B$292","v":3.6552993631994255},{"$f":"(AQ146/AP146)*LookUpData_Pop!$B$292","v":0},null,0.5,5]
["Female 80-84",82.5,"female",2,null,null,null,null,null,null,null,null,null,null,null,null,null,null,null,null,null,null,null,null,null,null,null,null,null,null,null,null,null,null,null,null,null,null,null,null,{"$f":"HLOOKUP('III Tool Overview'!$H$6,LookUpData_Pop!$B$1:$AV$269,LookUpData_Pop!BB145,FALSE)","v":82955},247.68123558366821,null,82955,null,null,null,{"$error":"#DIV/0!"},{"$error":"#DIV/0!"},{"$error":"#DIV/0!"},null,2.9857300413919379E-3,0,null,{"$f":"(AP147/AO147)*LookUpData_Pop!$B$293","v":2.9857300413919377},{"$f":"(AQ147/AP147)*LookUpData_Pop!$B$293","v":0},null,0.5,5]
["Female 85-89",87.5,"female",2,null,null,null,null,null,null,null,null,null,null,null,null,null,null,null,null,null,null,null,null,null,null,null,null,null,null,null,null,null,null,null,null,null,null,null,null,{"$f":"HLOOKUP('III Tool Overview'!$H$6,LookUpData_Pop!$B$1:$AV$269,LookUpData_Pop!BB147,FALSE)","v":24908},453.14024108187533,null,null,null,null,null,null,null,null,null,1.8192558257663215E-2,0,null,{"$f":"(AP148/AO148)*LookUpData_Pop!$B$294","v":18.192558257663215},{"$f":"(AQ148/AP148)*LookUpData_Pop!$B$294","v":0},null,0.5,{"$f":"2/AZ148","v":109.93506090093426}]
["Female 90+",95,"female",2]
["TOTAL",null,null,null,null,{"$f":"SUM(F134:F149)","v":353849.2},{"$f":"SUM(G134:G149)","v":0},{"$f":"SUM(H134:H149)","v":8518.4241993975775},{"$f":"SUM(I134:I149)","v":1065.3263273311545},{"$f":"SUM(J134:J149)","v":1064.942203507183},{"$f":"SUM(K134:K149)","v":4681.3363705944921},{"$f":"SUM(L134:L149)","v":4679.6679579423208},{"$f":"SUM(M134:M149)","v":12347.688459792869},{"$f":"SUM(N134:N149)","v":12343.397247561907},{"$f":"SUM(O134:O149)","v":35785.059501826247},{"$f":"SUM(P134:P149)","v":35773.597000927461},{"$f":"SUM(Q134:Q149)","v":49216.634075568727},{"$f":"SUM(R134:R149)","v":49198.388398839532},{"$f":"SUM(S134:S149)","v":18.245676729204888},{"$f":"SUM(T134:T149)","v":209153.67652073083},{"$f":"SUM(U134:U149)","v":209076.83806834323},{"$f":"SUM(V134:V149)","v":76.838452387593406},{"$f":"SUM(W134:W149)","v":518358.07002610911},{"$f":"SUM(X134:X149)","v":518171.17043835798},{"$f":"SUM(Y134:Y149)","v":186.89958775107789},{"$f":"SUM(Z134:Z149)","v":1293073.2628244828},{"$f":"SUM(AA134:AA149)","v":1292631.479704876},{"$f":"SUM(AB134:AB149)","v":441.78311960681094},{"$f":"SUM(AC134:AC149)","v":{"$error":"#NAME?"}},{"$f":"SUM(AD134:AD149)","v":{"$error":"#NAME?"}},{"$f":"SUM(AE134:AE149)","v":{"$error":"#NAME?"}},{"$f":"SUM(AF134:AF149)","v":{"$error":"#NAME?"}},{"$f":"SUM(AG134:AG149)","v":{"$error":"#NAME?"}},{"$f":"SUM(AH134:AH149)","v":{"$error":"#NAME?"}},{"$f":"SUM(AI134:AI149)","v":{"$error":"#NAME?"}},{"$f":"SUM(AJ134:AJ149)","v":{"$error":"#NAME?"}},{"$f":"SUM(AK134:AK149)","v":{"$error":"#NAME?"}},{"$f":"SUM(AL134:AL149)","v":{"$error":"#NAME?"}},{"$f":"SUM(AM134:AM149)","v":{"$error":"#NAME?"}},{"$f":"SUM(AN134:AN149)","v":{"$error":"#NAME?"}}]
["age/sex breakdown: Q3"]
["Male <1",0.5,"male",3,null,null,null,null,null,null,null,null,null,null,null,null,null,null,null,null,null,null,null,null,null,null,null,null,null,null,null,null,null,null,null,null,null,null,null,null,{"$f":"HLOOKUP('III Tool Overview'!$H$6,LookUpData_Pop!$B$1:$AV$269,LookUpData_Pop!BB149,FALSE)","v":28766},4.1196894227951946,null,null,null,null,null,null,null,null,null,{"$f":"IF(AO152=0,0,AP152/AO152)","v":1.4321384352343722E-4},{"$f":"AQ152/AP152*100000","v":0},null,null,null,null,0.1,1]
["Male 1-4",2.5,"male",3,null,null,null,null,null,null,null,null,null,null,null,null,null,null,null,null,null,null,null,null,null,null,null,null,null,null,null,null,null,null,null,null,null,null,null,null,{"$f":"HLOOKUP('III Tool Overview'!$H$6,LookUpData_Pop!$B$1:$AV$269,LookUpData_Pop!BB150,FALSE)","v":109815},0.88915462804019518,null,null,null,null,null,null,null,null,null,{"$f":"IF(AO153=0,0,AP153/AO153)","v":8.0968413061985621E-6},0,null,{"$f":"((AP153+AP152)/(AO153+AO152))*LookUpData_Pop!$B$277","v":0.28915040594802405},{"$f":"((AQ153+AQ152)/(AP153+AP152))*LookUpData_Pop!$B$277","v":0},null,0.5,4]
["Male 5-9",7.5,"male",3,null,null,null,null,null,null,null,null,null,null,null,null,null,null,null,null,null,null,null,null,null,null,null,null,null,null,null,null,null,null,null,null,null,null,null,null,{"$f":"HLOOKUP('III Tool Overview'!$H$6,LookUpData_Pop!$B$1:$AV$269,LookUpData_Pop!BB151,FALSE)","v":131075},0.75072090129426916,null,null,null,null,null,null,null,null,null,5.7274148487069931E-6,0,null,{"$f":"(AP154/AO154)*LookUpData_Pop!$B$278","v":4.0091903940948949E-2},{"$f":"(AQ154/AP154)*LookUpData_Pop!$B$278","v":0},null,0.5,5]
["Male 10-14",12.5,"male",3,null,null,null,null,null,null,null,null,null,null,null,null,null,null,null,null,null,null,null,null,null,null,null,null,null,null,null,null,null,null,null,null,null,null,null,null,{"$f":"HLOOKUP('III Tool Overview'!$H$6,LookUpData_Pop!$B$1:$AV$269,LookUpData_Pop!BB152,FALSE)","v":146678},0.6927817462673117,null,null,null,null,null,null,null,null,null,4.7231469359229858E-6,0,null,{"$f":"(AP155/AO155)*LookUpData_Pop!$B$279","v":3.3062028551460898E-2},{"$f":"(AQ155/AP155)*LookUpData_Pop!$B$279","v":0},null,0.5,5]
["Male 15-19",17.5,"male",3,{"$f":"HLOOKUP('III Tool Overview'!$H$6,Prevalence!$B$2:$AV$268,Prevalence!AW148,FALSE)","v":0.31367328570319425},{"$f":"HLOOKUP('III Tool Overview'!$H$6,LookUpData_Pop!$B$1:$AV$269,LookUpData_Pop!BB153,FALSE)/5","v":31892.2},{"$f":"'III Tool Overview'!$H$9/110","v":0},{"$f":"IF('III Tool Overview'!$H$10=\"Even distribution\",Targeting!C154,IF('III Tool Overview'!$H$10=\"Targeting to Q1\",Targeting!D154,IF('III Tool Overview'!$H$10=\"Targeting to Q1 & Q2\",Targeting!E154,IF('III Tool Overview'!$H$10=\"Proportionate to need\",Targeting!F154))))","v":553.84165319753947},{"$f":"new_ci(2,B156,C156,D156,$C$1,G156,1,F156,E156*F156)","v":17.804347292520259},{"$f":"new_ci(2,B156,C156,D156,$C$1,G156+H156,1,F156,E156*F156)","v":17.799498352912586},{"$f":"new_ci(5,B156,C156,D156,$C$1,G156,1,F156,E156*F156)","v":77.830076837420734},{"$f":"new_ci(5,B156,C156,D156,$C$1,G156+H156,1,F156,E156*F156)","v":77.80890699018255},{"$f":"new_ci(10,B156,C156,D156,$C$1,G156,1,F156,E156*F156)","v":204.11475798694056},{"$f":"new_ci(10,B156,C156,D156,$C$1,G156+H156,1,F156,E156*F156)","v":204.05938694632178},{"$f":"new_ci(20,B156,C156,D156,$C$1,G156,1,F156,E156*F156)","v":596.4246755707145},{"$f":"new_ci(20,B156,C156,D156,$C$1,G156+H156,1,F156,E156*F156)","v":596.26423293796086},{"$f":"new_yll(2,B156,C156,D156,$C$1,G156,1,F156,E156*F156)","v":1442.1521306941409},{"$f":"new_yll(2,B156,C156,D156,$C$1,G156+H156,1,F156,E156*F156)","v":1441.7593665859195},{"$f":"Q156-R156","v":0.39276410822139951},{"$f":"new_yll(5,B156,C156,D156,$C$1,G156,1,F156,E156*F156)","v":6181.8741513361911},{"$f":"new_yll(5,B156,C156,D156,$C$1,G156+H156,1,F156,E156*F156)","v":6180.1926545839578},{"$f":"T156-U156","v":1.6814967522332154},{"$f":"new_yll(10,B156,C156,D156,$C$1,G156,1,F156,E156*F156)","v":15638.697584375281},{"$f":"new_yll(10,B156,C156,D156,$C$1,G156+H156,1,F156,E156*F156)","v":15634.454859317597},{"$f":"W156-X156","v":4.242725057683856},{"$f":"new_yll(20,B156,C156,D156,$C$1,G156,1,F156,E156*F156)","v":41935.691591641757},{"$f":"new_yll(20,B156,C156,D156,$C$1,G156+H156,1,F156,E156*F156)","v":41924.404339463326},{"$f":"Z156-AA156","v":11.287252178430208},{"$f":"hosp_count(2,B156,C156,D156,$C$1,G156,1,F156,E156*F156)","v":{"$error":"#NAME?"}},{"$f":"hosp_count(2,B156,C156,D156,$C$1,G156+H156,1,F156,E156*F156)","v":{"$error":"#NAME?"}},{"$f":"AC156-AD156","v":{"$error":"#NAME?"}},{"$f":"hosp_count(5,B156,C156,D156,$C$1,G156,1,F156,E156*F156)","v":{"$error":"#NAME?"}},{"$f":"hosp_count(5,B156,C156,D156,$C$1,G156+H156,1,F156,E156*F156)","v":{"$error":"#NAME?"}},{"$f":"AF156-AG156","v":{"$error":"#NAME?"}},{"$f":"hosp_count(10,B156,C156,D156,$C$1,G156,1,F156,E156*F156)","v":{"$error":"#NAME?"}},{"$f":"hosp_count(10,B156,C156,D156,$C$1,G156+H156,1,F156,E156*F156)","v":{"$error":"#NAME?"}},{"$f":"AI156-AJ156","v":{"$error":"#NAME?"}},{"$f":"hosp_count(20,B156,C156,D156,$C$1,G156,1,F156,E156*F156)","v":{"$error":"#NAME?"}},{"$f":"hosp_count(20,B156,C156,D156,$C$1,G156+H156,1,F156,E156*F156)","v":{"$error":"#NAME?"}},{"$f":"AL156-AM156","v":{"$error":"#NAME?"}},{"$f":"HLOOKUP('III Tool Overview'!$H$6,LookUpData_Pop!$B$1:$AV$269,LookUpData_Pop!BB153,FALSE)","v":159461},3.5759853814376421,null,{"$f":"AO156*(0.8)","v":127568.8},null,null,null,{"$f":"AT156/AVERAGE(AT$156:AT$169)","v":{"$error":"#DIV/0!"}},{"$f":"$AV$7*$AV$11*AV29","v":{"$error":"#DIV/0!"}},{"$f":"AW156*AR156*$AT$4","v":{"$error":"#DIV/0!"}},null,2.2425454383439474E-5,0,null,{"$f":"(AP156/AO156)*LookUpData_Pop!$B$280","v":0.15697818068407632},{"$f":"(AQ156/AP156)*LookUpData_Pop!$B$280","v":0},null,0.5,5]
["Male 20-24",22.5,"male",3,{"$f":"HLOOKUP('III Tool Overview'!$H$6,Prevalence!$B$2:$AV$268,Prevalence!AW149,FALSE)","v":0.31367328570319425},{"$f":"HLOOKUP('III Tool Overview'!$H$6,LookUpData_Pop!$B$1:$AV$269,LookUpData_Pop!BB154,FALSE)/5","v":34514.400000000001},{"$f":"'III Tool Overview'!$H$9/110","v":0},{"$f":"IF('III Tool Overview'!$H$10=\"Even distribution\",Targeting!C155,IF('III Tool Overview'!$H$10=\"Targeting to Q1\",Targeting!D155,IF('III Tool Overview'!$H$10=\"Targeting to Q1 & Q2\",Targeting!E155,IF('III Tool Overview'!$H$10=\"Proportionate to need\",Targeting!F155))))","v":805.55065484131683},25.737908757465831,25.728486597274927,112.47474863612632,112.43364342782219,294.77300747203583,294.66566368461667,859.50874723307061,859.19924163943347,1981.818974324869,1981.0934679901693,0.72550633469973036,8483.7555256103242,8480.6549818870408,{"$f":"T157-U157","v":3.1005437232834083},21406.059177966479,21398.263089415588,{"$f":"W157-X157","v":7.7960885508909996},57003.973434046384,56983.430391480666,{"$f":"Z157-AA157","v":20.543042565717769},{"$f":"hosp_count(2,B157,C157,D157,$C$1,G157,1,F157,E157*F157)","v":{"$error":"#NAME?"}},{"$f":"hosp_count(2,B157,C157,D157,$C$1,G157+H157,1,F157,E157*F157)","v":{"$error":"#NAME?"}},{"$f":"AC157-AD157","v":{"$error":"#NAME?"}},{"$f":"hosp_count(5,B157,C157,D157,$C$1,G157,1,F157,E157*F157)","v":{"$error":"#NAME?"}},{"$f":"hosp_count(5,B157,C157,D157,$C$1,G157+H157,1,F157,E157*F157)","v":{"$error":"#NAME?"}},{"$f":"AF157-AG157","v":{"$error":"#NAME?"}},{"$f":"hosp_count(10,B157,C157,D157,$C$1,G157,1,F157,E157*F157)","v":{"$error":"#NAME?"}},{"$f":"hosp_count(10,B157,C157,D157,$C$1,G157+H157,1,F157,E157*F157)","v":{"$error":"#NAME?"}},{"$f":"AI157-AJ157","v":{"$error":"#NAME?"}},{"$f":"hosp_count(20,B157,C157,D157,$C$1,G157,1,F157,E157*F157)","v":{"$error":"#NAME?"}},{"$f":"hosp_count(20,B157,C157,D157,$C$1,G157+H157,1,F157,E157*F157)","v":{"$error":"#NAME?"}},{"$f":"AL157-AM157","v":{"$error":"#NAME?"}},{"$f":"HLOOKUP('III Tool Overview'!$H$6,LookUpData_Pop!$B$1:$AV$269,LookUpData_Pop!BB154,FALSE)","v":172572},5.8948552700769206,null,{"$f":"AO157","v":172572},null,null,null,{"$f":"AT157/AVERAGE(AT$156:AT$169)","v":{"$error":"#DIV/0!"}},{"$error":"#DIV/0!"},{"$error":"#DIV/0!"},null,3.4158816436484019E-5,0,null,{"$f":"(AP157/AO157)*LookUpData_Pop!$B$281","v":0.23911171505538814},{"$f":"(AQ157/AP157)*LookUpData_Pop!$B$281","v":0},null,0.5,5]
["Male 25-29",27.5,"male",3,{"$f":"HLOOKUP('III Tool Overview'!$H$6,Prevalence!$B$2:$AV$268,Prevalence!AW150,FALSE)","v":0.51874565839186215},{"$f":"HLOOKUP('III Tool Overview'!$H$6,LookUpData_Pop!$B$1:$AV$269,LookUpData_Pop!BB155,FALSE)/5","v":34699.4},{"$f":"'III Tool Overview'!$H$9/110","v":0},{"$f":"IF('III Tool Overview'!$H$10=\"Even distribution\",Targeting!C156,IF('III Tool Overview'!$H$10=\"Targeting to Q1\",Targeting!D156,IF('III Tool Overview'!$H$10=\"Targeting to Q1 & Q2\",Targeting!E156,IF('III Tool Overview'!$H$10=\"Proportionate to need\",Targeting!F156))))","v":1308.1567474663145},39.945172171400898,39.922828901741845,174.43896575819841,174.34162450805721,456.49799242090671,456.24452684940724,1324.9974985415345,1324.2732797897791,2836.1072241694637,2834.5208520236711,1.5863721457926658,12111.062639551927,12104.304180700425,6.7584588515019277,30412.935178187148,30396.045702975665,16.889475211482932,79954.01924154142,79910.264630654885,43.754610886535374,{"$error":"#NAME?"},{"$error":"#NAME?"},{"$error":"#NAME?"},{"$error":"#NAME?"},{"$error":"#NAME?"},{"$error":"#NAME?"},{"$error":"#NAME?"},{"$error":"#NAME?"},{"$error":"#NAME?"},{"$error":"#NAME?"},{"$error":"#NAME?"},{"$error":"#NAME?"},{"$f":"HLOOKUP('III Tool Overview'!$H$6,LookUpData_Pop!$B$1:$AV$269,LookUpData_Pop!BB155,FALSE)","v":173497},7.5465168817503789,null,{"$f":"AO158","v":173497},null,null,null,{"$error":"#DIV/0!"},{"$error":"#DIV/0!"},{"$error":"#DIV/0!"},null,4.3496526635909433E-5,0,null,{"$f":"(AP158/AO158)*LookUpData_Pop!$B$282","v":0.30447568645136602},{"$f":"(AQ158/AP158)*LookUpData_Pop!$B$282","v":0},null,0.5,5]
["Male 30-34",32.5,"male",3,{"$f":"HLOOKUP('III Tool Overview'!$H$6,Prevalence!$B$2:$AV$268,Prevalence!AW151,FALSE)","v":0.51874565839186215},{"$f":"HLOOKUP('III Tool Overview'!$H$6,LookUpData_Pop!$B$1:$AV$269,LookUpData_Pop!BB156,FALSE)/5","v":32182},{"$f":"'III Tool Overview'!$H$9/110","v":0},{"$f":"IF('III Tool Overview'!$H$10=\"Even distribution\",Targeting!C157,IF('III Tool Overview'!$H$10=\"Targeting to Q1\",Targeting!D157,IF('III Tool Overview'!$H$10=\"Targeting to Q1 & Q2\",Targeting!E157,IF('III Tool Overview'!$H$10=\"Proportionate to need\",Targeting!F157))))","v":1262.2052660309714},49.481481143034095,49.452694983760026,215.94039962828393,215.81517202705464,564.3169724685838,563.99189669012321,1630.850094533962,1629.9301840937562,3315.2592365832843,3313.3305639119217,1.9286726713626194,14128.805646175433,14120.611784125114,8.1938620503187849,35340.686135292897,35320.322881179171,20.363254113726725,91919.533107626237,91867.593221556424,51.939886069812928,{"$error":"#NAME?"},{"$error":"#NAME?"},{"$error":"#NAME?"},{"$error":"#NAME?"},{"$error":"#NAME?"},{"$error":"#NAME?"},{"$error":"#NAME?"},{"$error":"#NAME?"},{"$error":"#NAME?"},{"$error":"#NAME?"},{"$error":"#NAME?"},{"$error":"#NAME?"},{"$f":"HLOOKUP('III Tool Overview'!$H$6,LookUpData_Pop!$B$1:$AV$269,LookUpData_Pop!BB156,FALSE)","v":160910},8.030089056508098,null,160910,null,null,null,{"$error":"#DIV/0!"},{"$error":"#DIV/0!"},{"$error":"#DIV/0!"},null,4.9904226316003341E-5,0,null,{"$f":"(AP159/AO159)*LookUpData_Pop!$B$283","v":0.34932958421202337},{"$f":"(AQ159/AP159)*LookUpData_Pop!$B$283","v":0},null,0.5,5]
["Male 35-39",37.5,"male",3,{"$f":"HLOOKUP('III Tool Overview'!$H$6,Prevalence!$B$2:$AV$268,Prevalence!AW152,FALSE)","v":0.51213547902535583},{"$f":"HLOOKUP('III Tool Overview'!$H$6,LookUpData_Pop!$B$1:$AV$269,LookUpData_Pop!BB157,FALSE)/5","v":35312.400000000001},{"$f":"'III Tool Overview'!$H$9/110","v":0},{"$f":"IF('III Tool Overview'!$H$10=\"Even distribution\",Targeting!C158,IF('III Tool Overview'!$H$10=\"Targeting to Q1\",Targeting!D158,IF('III Tool Overview'!$H$10=\"Targeting to Q1 & Q2\",Targeting!E158,IF('III Tool Overview'!$H$10=\"Proportionate to need\",Targeting!F158))))","v":1169.9488857430615},83.797523839790642,83.756285122645551,365.17370763392012,364.99487641662455,951.43518710544799,950.97406088048479,2724.0230563725054,2722.7452324174433,5111.6489542272293,5109.1333924813789,2.5155617458503912,21702.402177097887,21691.773462529622,10.628714568265423,53882.41768830338,53856.291367030724,26.126321272655332,137308.89635885437,137244.28659014124,64.609768713125959,{"$error":"#NAME?"},{"$error":"#NAME?"},{"$error":"#NAME?"},{"$error":"#NAME?"},{"$error":"#NAME?"},{"$error":"#NAME?"},{"$error":"#NAME?"},{"$error":"#NAME?"},{"$error":"#NAME?"},{"$error":"#NAME?"},{"$error":"#NAME?"},{"$error":"#NAME?"},{"$f":"HLOOKUP('III Tool Overview'!$H$6,LookUpData_Pop!$B$1:$AV$269,LookUpData_Pop!BB157,FALSE)","v":176562},10.212604587092036,null,176562,null,null,null,{"$error":"#DIV/0!"},{"$error":"#DIV/0!"},{"$error":"#DIV/0!"},null,5.7841464115109914E-5,0,null,{"$f":"(AP160/AO160)*LookUpData_Pop!$B$284","v":0.4048902488057694},{"$f":"(AQ160/AP160)*LookUpData_Pop!$B$284","v":0},null,0.5,5]
["Male 40-44",42.5,"male",3,{"$f":"HLOOKUP('III Tool Overview'!$H$6,Prevalence!$B$2:$AV$268,Prevalence!AW153,FALSE)","v":0.51213547902535583},{"$f":"HLOOKUP('III Tool Overview'!$H$6,LookUpData_Pop!$B$1:$AV$269,LookUpData_Pop!BB158,FALSE)/5","v":39516.6},{"$f":"'III Tool Overview'!$H$9/110","v":0},{"$f":"IF('III Tool Overview'!$H$10=\"Even distribution\",Targeting!C159,IF('III Tool Overview'!$H$10=\"Targeting to Q1\",Targeting!D159,IF('III Tool Overview'!$H$10=\"Targeting to Q1 & Q2\",Targeting!E159,IF('III Tool Overview'!$H$10=\"Proportionate to need\",Targeting!F159))))","v":1358.6219581252767},125.22185176401064,125.15791893446627,544.94814185474775,544.67173269616092,1415.7599424956002,1415.0517271467909,4017.7047463873159,4015.780948713938,7137.6455505486065,7134.0013792645768,3.6441712840296532,30207.270946588724,30191.947709996602,15.323236592121248,74525.072046420784,74487.768222265833,37.303824154951144,186615.66555666394,186525.90218999481,89.763366669125389,{"$error":"#NAME?"},{"$error":"#NAME?"},{"$error":"#NAME?"},{"$error":"#NAME?"},{"$error":"#NAME?"},{"$error":"#NAME?"},{"$error":"#NAME?"},{"$error":"#NAME?"},{"$error":"#NAME?"},{"$error":"#NAME?"},{"$error":"#NAME?"},{"$error":"#NAME?"},{"$f":"HLOOKUP('III Tool Overview'!$H$6,LookUpData_Pop!$B$1:$AV$269,LookUpData_Pop!BB158,FALSE)","v":197583},13.663431247339293,null,197583,null,null,null,{"$error":"#DIV/0!"},{"$error":"#DIV/0!"},{"$error":"#DIV/0!"},null,6.9152868654384701E-5,0,null,{"$f":"(AP161/AO161)*LookUpData_Pop!$B$285","v":0.4840700805806929},{"$f":"(AQ161/AP161)*LookUpData_Pop!$B$285","v":0},null,0.5,5]
["Male 45-49",47.5,"male",3,{"$f":"HLOOKUP('III Tool Overview'!$H$6,Prevalence!$B$2:$AV$268,Prevalence!AW154,FALSE)","v":0.55222552632179711},{"$f":"HLOOKUP('III Tool Overview'!$H$6,LookUpData_Pop!$B$1:$AV$269,LookUpData_Pop!BB159,FALSE)/5","v":38965.599999999999},{"$f":"'III Tool Overview'!$H$9/110","v":0},{"$f":"IF('III Tool Overview'!$H$10=\"Even distribution\",Targeting!C160,IF('III Tool Overview'!$H$10=\"Targeting to Q1\",Targeting!D160,IF('III Tool Overview'!$H$10=\"Targeting to Q1 & Q2\",Targeting!E160,IF('III Tool Overview'!$H$10=\"Proportionate to need\",Targeting!F160))))","v":1548.1722494055366},190.48489887648191,190.37382414548452,826.52378942720634,826.04659761334381,2134.0712401369237,2132.8648121351371,5942.64004712119,5939.497277968354,9714.7298427005771,9709.0650314197101,5.6648112808670703,40858.25444872606,40834.66114885181,23.593299874250079,99563.852585361194,99507.505722430666,56.346862930528005,240905.19284220709,240776.75133427774,128.44150792935397,{"$error":"#NAME?"},{"$error":"#NAME?"},{"$error":"#NAME?"},{"$error":"#NAME?"},{"$error":"#NAME?"},{"$error":"#NAME?"},{"$error":"#NAME?"},{"$error":"#NAME?"},{"$error":"#NAME?"},{"$error":"#NAME?"},{"$error":"#NAME?"},{"$error":"#NAME?"},{"$f":"HLOOKUP('III Tool Overview'!$H$6,LookUpData_Pop!$B$1:$AV$269,LookUpData_Pop!BB159,FALSE)","v":194828},20.629513136332399,null,194828,null,null,null,{"$error":"#DIV/0!"},{"$error":"#DIV/0!"},{"$error":"#DIV/0!"},null,1.0588577173882808E-4,0,null,{"$f":"(AP162/AO162)*LookUpData_Pop!$B$286","v":0.74120040217179661},{"$f":"(AQ162/AP162)*LookUpData_Pop!$B$286","v":0},null,0.5,5]
["Male 50-54",52.5,"male",3,{"$f":"HLOOKUP('III Tool Overview'!$H$6,Prevalence!$B$2:$AV$268,Prevalence!AW155,FALSE)","v":0.55222552632179711},{"$f":"HLOOKUP('III Tool Overview'!$H$6,LookUpData_Pop!$B$1:$AV$269,LookUpData_Pop!BB160,FALSE)/5","v":35122.6},{"$f":"'III Tool Overview'!$H$9/110","v":0},{"$f":"IF('III Tool Overview'!$H$10=\"Even distribution\",Targeting!C161,IF('III Tool Overview'!$H$10=\"Targeting to Q1\",Targeting!D161,IF('III Tool Overview'!$H$10=\"Targeting to Q1 & Q2\",Targeting!E161,IF('III Tool Overview'!$H$10=\"Proportionate to need\",Targeting!F161))))","v":1453.6748519597629},229.17943428282746,229.04031455388608,991.63271114616919,991.03870234401131,2545.4160071593465,2543.9336263251198,6963.0355257242427,6959.3278785190087,10771.43341129289,10764.894784032645,6.5386272602445388,45055.956815395111,45028.960890886388,26.995924508722965,108609.16863626323,108545.81536169612,63.35327456711093,255016.94311477392,254879.46446064455,137.47865412937244,{"$error":"#NAME?"},{"$error":"#NAME?"},{"$error":"#NAME?"},{"$error":"#NAME?"},{"$error":"#NAME?"},{"$error":"#NAME?"},{"$error":"#NAME?"},{"$error":"#NAME?"},{"$error":"#NAME?"},{"$error":"#NAME?"},{"$error":"#NAME?"},{"$error":"#NAME?"},{"$f":"HLOOKUP('III Tool Overview'!$H$6,LookUpData_Pop!$B$1:$AV$269,LookUpData_Pop!BB160,FALSE)","v":175613},29.663753915726502,null,175613,null,null,null,{"$error":"#DIV/0!"},{"$error":"#DIV/0!"},{"$error":"#DIV/0!"},null,1.6891547844252136E-4,0,null,{"$f":"(AP163/AO163)*LookUpData_Pop!$B$287","v":1.1824083490976496},{"$f":"(AQ163/AP163)*LookUpData_Pop!$B$287","v":0},null,0.5,5]
["Male 55-59",57.5,"male",3,{"$f":"HLOOKUP('III Tool Overview'!$H$6,Prevalence!$B$2:$AV$268,Prevalence!AW156,FALSE)","v":0.39251765882938006},{"$f":"HLOOKUP('III Tool Overview'!$H$6,LookUpData_Pop!$B$1:$AV$269,LookUpData_Pop!BB161,FALSE)/5","v":32488},{"$f":"'III Tool Overview'!$H$9/110","v":0},{"$f":"IF('III Tool Overview'!$H$10=\"Even distribution\",Targeting!C162,IF('III Tool Overview'!$H$10=\"Targeting to Q1\",Targeting!D162,IF('III Tool Overview'!$H$10=\"Targeting to Q1 & Q2\",Targeting!E162,IF('III Tool Overview'!$H$10=\"Proportionate to need\",Targeting!F162))))","v":906.60659848169257},326.72653957148782,326.58741681203765,1405.1472182678012,1404.5620056487992,3561.6624132333909,3560.2473078505786,9382.3204591673257,9379.113917892033,13395.788122431,13390.084089293543,5.7040331374573725,55420.527167113927,55397.43505771285,23.092109401077323,130709.90720103719,130657.80777684014,52.099424197047483,289075.24156297516,288973.84010881383,101.40145416132873,{"$error":"#NAME?"},{"$error":"#NAME?"},{"$error":"#NAME?"},{"$error":"#NAME?"},{"$error":"#NAME?"},{"$error":"#NAME?"},{"$error":"#NAME?"},{"$error":"#NAME?"},{"$error":"#NAME?"},{"$error":"#NAME?"},{"$error":"#NAME?"},{"$error":"#NAME?"},{"$f":"HLOOKUP('III Tool Overview'!$H$6,LookUpData_Pop!$B$1:$AV$269,LookUpData_Pop!BB161,FALSE)","v":162440},37.105306848502813,null,162440,null,null,null,{"$error":"#DIV/0!"},{"$error":"#DIV/0!"},{"$error":"#DIV/0!"},null,2.2842469126140613E-4,0,null,{"$f":"(AP164/AO164)*LookUpData_Pop!$B$288","v":1.3705481475684367},{"$f":"(AQ164/AP164)*LookUpData_Pop!$B$288","v":0},null,0.5,5]
["Male 60-64",62.5,"male",3,{"$f":"HLOOKUP('III Tool Overview'!$H$6,Prevalence!$B$2:$AV$268,Prevalence!AW157,FALSE)","v":0.39251765882938006},{"$f":"HLOOKUP('III Tool Overview'!$H$6,LookUpData_Pop!$B$1:$AV$269,LookUpData_Pop!BB162,FALSE)/5","v":32342},{"$f":"'III Tool Overview'!$H$9/110","v":0},{"$f":"IF('III Tool Overview'!$H$10=\"Even distribution\",Targeting!C163,IF('III Tool Overview'!$H$10=\"Targeting to Q1\",Targeting!D163,IF('III Tool Overview'!$H$10=\"Targeting to Q1 & Q2\",Targeting!E163,IF('III Tool Overview'!$H$10=\"Proportionate to need\",Targeting!F163))))","v":881.97113555470162},433.76316827702453,433.58314552762045,1854.7592519143109,1854.011957352116,4645.7641890213872,4644.0069472345967,11818.999436897167,11815.351354446058,16049.237226249908,16042.576384521957,6.6608417279512651,65743.411119889512,65716.904290396691,26.506829492820543,152047.71150269927,151989.91829890793,57.793203791341512,318967.76748861501,318865.08967309602,102.67781551898224,{"$error":"#NAME?"},{"$error":"#NAME?"},{"$error":"#NAME?"},{"$error":"#NAME?"},{"$error":"#NAME?"},{"$error":"#NAME?"},{"$error":"#NAME?"},{"$error":"#NAME?"},{"$error":"#NAME?"},{"$error":"#NAME?"},{"$error":"#NAME?"},{"$error":"#NAME?"},{"$f":"HLOOKUP('III Tool Overview'!$H$6,LookUpData_Pop!$B$1:$AV$269,LookUpData_Pop!BB162,FALSE)","v":161710},59.496799001050491,null,161710,null,null,null,{"$error":"#DIV/0!"},{"$error":"#DIV/0!"},{"$error":"#DIV/0!"},null,3.6792281863243145E-4,0,null,{"$f":"(AP165/AO165)*LookUpData_Pop!$B$289","v":1.8396140931621572},{"$f":"(AQ165/AP165)*LookUpData_Pop!$B$289","v":0},null,0.5,5]
["Male 65-69",67.5,"male",3,null,null,null,null,null,null,null,null,null,null,null,null,null,null,null,null,null,null,null,null,null,null,null,null,null,null,null,null,null,null,null,null,null,null,null,null,{"$f":"HLOOKUP('III Tool Overview'!$H$6,LookUpData_Pop!$B$1:$AV$269,LookUpData_Pop!BB163,FALSE)","v":125415},64.180562905550076,null,125415,null,null,null,{"$error":"#DIV/0!"},{"$error":"#DIV/0!"},{"$error":"#DIV/0!"},null,5.1174550815731828E-4,0,null,{"$f":"(AP166/AO166)*LookUpData_Pop!$B$290","v":2.0469820326292729},{"$f":"(AQ166/AP166)*LookUpData_Pop!$B$290","v":0},null,0.5,5]
["Male 70-74",72.5,"male",3,null,null,null,null,null,null,null,null,null,null,null,null,null,null,null,null,null,null,null,null,null,null,null,null,null,null,null,null,null,null,null,null,null,null,null,null,{"$f":"HLOOKUP('III Tool Overview'!$H$6,LookUpData_Pop!$B$1:$AV$269,LookUpData_Pop!BB164,FALSE)","v":102564},94.439865779713884,null,102564,null,null,null,{"$error":"#DIV/0!"},{"$error":"#DIV/0!"},{"$error":"#DIV/0!"},null,9.2078961214182246E-4,0,null,{"$f":"(AP167/AO167)*LookUpData_Pop!$B$291","v":2.7623688364254675},{"$f":"(AQ167/AP167)*LookUpData_Pop!$B$291","v":0},null,0.5,5]
["Male 75-79",77.5,"male",3,null,null,null,null,null,null,null,null,null,null,null,null,null,null,null,null,null,null,null,null,null,null,null,null,null,null,null,null,null,null,null,null,null,null,null,null,{"$f":"HLOOKUP('III Tool Overview'!$H$6,LookUpData_Pop!$B$1:$AV$269,LookUpData_Pop!BB165,FALSE)","v":76406},119.45139941533131,null,76406,null,null,null,{"$error":"#DIV/0!"},{"$error":"#DIV/0!"},{"$error":"#DIV/0!"},null,1.5633772140320303E-3,0,null,{"$f":"(AP168/AO168)*LookUpData_Pop!$B$292","v":3.1267544280640607},{"$f":"(AQ168/AP168)*LookUpData_Pop!$B$292","v":0},null,0.5,5]
["Male 80-84",82.5,"male",3,null,null,null,null,null,null,null,null,null,null,null,null,null,null,null,null,null,null,null,null,null,null,null,null,null,null,null,null,null,null,null,null,null,null,null,null,{"$f":"HLOOKUP('III Tool Overview'!$H$6,LookUpData_Pop!$B$1:$AV$269,LookUpData_Pop!BB166,FALSE)","v":47593},125.80018465634595,null,47593,null,null,null,{"$error":"#DIV/0!"},{"$error":"#DIV/0!"},{"$error":"#DIV/0!"},null,2.6432497353885225E-3,0,null,{"$f":"(AP169/AO169)*LookUpData_Pop!$B$293","v":2.6432497353885225},{"$f":"(AQ169/AP169)*LookUpData_Pop!$B$293","v":0},null,0.5,5]
["Male 85-89",87.5,"male",3,null,null,null,null,null,null,null,null,null,null,null,null,null,null,null,null,null,null,null,null,null,null,null,null,null,null,null,null,null,null,null,null,null,null,null,null,{"$f":"HLOOKUP('III Tool Overview'!$H$6,LookUpData_Pop!$B$1:$AV$269,LookUpData_Pop!BB168,FALSE)","v":8713},166.20085584380851,null,null,null,null,null,null,null,null,null,1.9075043709836856E-2,0,null,{"$f":"(AP170/AO170)*LookUpData_Pop!$B$294","v":19.075043709836855},{"$f":"(AQ170/AP170)*LookUpData_Pop!$B$294","v":0},null,0.5,{"$f":"2/AZ170","v":104.84903890252241}]
["Male 90+",95,"male",3]
["TOTAL",null,null,null,null,{"$f":"SUM(F156:F171)","v":347035.2},{"$f":"SUM(G156:G171)","v":0},{"$f":"SUM(H156:H171)","v":11248.750000806176},{"$f":"SUM(I156:I171)","v":1522.142325976044},{"$f":"SUM(J156:J171)","v":1521.4024139318299},{"$f":"SUM(K156:K171)","v":6568.8690111041851},{"$f":"SUM(L156:L171)","v":6565.7252190241716},{"$f":"SUM(M156:M171)","v":16773.811709500565},{"$f":"SUM(N156:N171)","v":16766.039955743177},{"$f":"SUM(O156:O171)","v":45260.504287549033},{"$f":"SUM(P156:P171)","v":45241.483548417767},{"$f":"SUM(Q156:Q171)","v":71755.82067322197},{"$f":"SUM(R156:R171)","v":71720.459311525497},{"$f":"SUM(S156:S171)","v":35.361361696476706},{"$f":"SUM(T156:T171)","v":299893.32063748507},{"$f":"SUM(U156:U171)","v":299747.44616167049},{"$f":"SUM(V156:V171)","v":145.87447581459492},{"$f":"SUM(W156:W171)","v":722136.50773590687},{"$f":"SUM(X156:X171)","v":721794.19328205939},{"$f":"SUM(Y156:Y171)","v":342.31445384741892},{"$f":"SUM(Z156:Z171)","v":1698702.9242989453},{"$f":"SUM(AA156:AA171)","v":1697951.0269401234},{"$f":"SUM(AB156:AB171)","v":751.89735882178502},{"$f":"SUM(AC156:AC171)","v":{"$error":"#NAME?"}},{"$f":"SUM(AD156:AD171)","v":{"$error":"#NAME?"}},{"$f":"SUM(AE156:AE171)","v":{"$error":"#NAME?"}},{"$f":"SUM(AF156:AF171)","v":{"$error":"#NAME?"}},{"$f":"SUM(AG156:AG171)","v":{"$error":"#NAME?"}},{"$f":"SUM(AH156:AH171)","v":{"$error":"#NAME?"}},{"$f":"SUM(AI156:AI171)","v":{"$error":"#NAME?"}},{"$f":"SUM(AJ156:AJ171)","v":{"$error":"#NAME?"}},{"$f":"SUM(AK156:AK171)","v":{"$error":"#NAME?"}},{"$f":"SUM(AL156:AL171)","v":{"$error":"#NAME?"}},{"$f":"SUM(AM156:AM171)","v":{"$error":"#NAME?"}},{"$f":"SUM(AN156:AN171)","v":{"$error":"#NAME?"}}]
["Female <1",0.5,"female",3,null,null,null,null,null,null,null,null,null,null,null,null,null,null,null,null,null,null,null,null,null,null,null,null,null,null,null,null,null,null,null,null,null,null,null,null,{"$f":"HLOOKUP('III Tool Overview'!$H$6,LookUpData_Pop!$B$1:$AV$269,LookUpData_Pop!BB169,FALSE)","v":27728},3.0331309891955862,null,null,null,null,null,null,null,null,null,1.093887402335396E-4,0,null,null,null,null,0.1,1]
["Female 1-4",2.5,"female",3,null,null,null,null,null,null,null,null,null,null,null,null,null,null,null,null,null,null,null,null,null,null,null,null,null,null,null,null,null,null,null,null,null,null,null,null,{"$f":"HLOOKUP('III Tool Overview'!$H$6,LookUpData_Pop!$B$1:$AV$269,LookUpData_Pop!BB170,FALSE)","v":104708},0.70497133275095125,null,null,null,null,null,null,null,null,null,6.732736111385484E-6,0,null,{"$f":"((AP174+AP173)/(AO174+AO173))*LookUpData_Pop!$B$277","v":0.22580581243447628},{"$f":"((AQ174+AQ173)/(AP174+AP173))*LookUpData_Pop!$B$277","v":0},null,0.5,4]
["Female 5-9",7.5,"female",3,null,null,null,null,null,null,null,null,null,null,null,null,null,null,null,null,null,null,null,null,null,null,null,null,null,null,null,null,null,null,null,null,null,null,null,null,{"$f":"HLOOKUP('III Tool Overview'!$H$6,LookUpData_Pop!$B$1:$AV$269,LookUpData_Pop!BB171,FALSE)","v":126132},0.29407465007776051,null,null,null,null,null,null,null,null,null,2.3314832879662618E-6,0,null,{"$f":"(AP175/AO175)*LookUpData_Pop!$B$278","v":1.6320383015763832E-2},{"$f":"(AQ175/AP175)*LookUpData_Pop!$B$278","v":0},null,0.5,5]
["Female 10-14",12.5,"female",3,null,null,null,null,null,null,null,null,null,null,null,null,null,null,null,null,null,null,null,null,null,null,null,null,null,null,null,null,null,null,null,null,null,null,null,null,{"$f":"HLOOKUP('III Tool Overview'!$H$6,LookUpData_Pop!$B$1:$AV$269,LookUpData_Pop!BB172,FALSE)","v":139583},0.53480369802247008,null,null,null,null,null,null,null,null,null,3.8314386280741215E-6,0,null,{"$f":"(AP176/AO176)*LookUpData_Pop!$B$279","v":2.682007039651885E-2},{"$f":"(AQ176/AP176)*LookUpData_Pop!$B$279","v":0},null,0.5,5]
["Female 15-19",17.5,"female",3,{"$f":"HLOOKUP('III Tool Overview'!$H$6,Prevalence!$B$2:$AV$268,Prevalence!AW168,FALSE)","v":0.25908436548072067},{"$f":"HLOOKUP('III Tool Overview'!$H$6,LookUpData_Pop!$B$1:$AV$269,LookUpData_Pop!BB173,FALSE)/5","v":30388.799999999999},{"$f":"'III Tool Overview'!$H$9/110","v":0},{"$f":"IF('III Tool Overview'!$H$10=\"Even distribution\",Targeting!C175,IF('III Tool Overview'!$H$10=\"Targeting to Q1\",Targeting!D175,IF('III Tool Overview'!$H$10=\"Targeting to Q1 & Q2\",Targeting!E175,IF('III Tool Overview'!$H$10=\"Proportionate to need\",Targeting!F175))))","v":438.25963755103101},{"$f":"new_ci(2,B177,C177,D177,$C$1,G177,1,F177,E177*F177)","v":6.9576885695983011},{"$f":"new_ci(2,B177,C177,D177,$C$1,G177+H177,1,F177,E177*F177)","v":6.95609207633722},{"$f":"new_ci(5,B177,C177,D177,$C$1,G177,1,F177,E177*F177)","v":30.893076106741638},{"$f":"new_ci(5,B177,C177,D177,$C$1,G177+H177,1,F177,E177*F177)","v":30.885991320151316},{"$f":"new_ci(10,B177,C177,D177,$C$1,G177,1,F177,E177*F177)","v":83.336384273107953},{"$f":"new_ci(10,B177,C177,D177,$C$1,G177+H177,1,F177,E177*F177)","v":83.317295352348282},{"$f":"new_ci(20,B177,C177,D177,$C$1,G177,1,F177,E177*F177)","v":259.76832728943657},{"$f":"new_ci(20,B177,C177,D177,$C$1,G177+H177,1,F177,E177*F177)","v":259.70906483515915},{"$f":"new_yll(2,B177,C177,D177,$C$1,G177,1,F177,E177*F177)","v":563.57277413746237},{"$f":"new_yll(2,B177,C177,D177,$C$1,G177+H177,1,F177,E177*F177)","v":563.44345818331487},{"$f":"Q177-R177","v":0.12931595414750063},{"$f":"new_yll(5,B177,C177,D177,$C$1,G177,1,F177,E177*F177)","v":2453.3893828641885},{"$f":"new_yll(5,B177,C177,D177,$C$1,G177+H177,1,F177,E177*F177)","v":2452.8267378227069},{"$f":"T177-U177","v":0.56264504148157357},{"$f":"new_yll(10,B177,C177,D177,$C$1,G177,1,F177,E177*F177)","v":6379.5625352350507},{"$f":"new_yll(10,B177,C177,D177,$C$1,G177+H177,1,F177,E177*F177)","v":6378.1011881263867},{"$f":"W177-X177","v":1.4613471086640857},{"$f":"new_yll(20,B177,C177,D177,$C$1,G177,1,F177,E177*F177)","v":18191.438569856738},{"$f":"new_yll(20,B177,C177,D177,$C$1,G177+H177,1,F177,E177*F177)","v":18187.287395073901},{"$f":"Z177-AA177","v":4.1511747828371881},{"$f":"hosp_count(2,B177,C177,D177,$C$1,G177,1,F177,E177*F177)","v":{"$error":"#NAME?"}},{"$f":"hosp_count(2,B177,C177,D177,$C$1,G177+H177,1,F177,E177*F177)","v":{"$error":"#NAME?"}},{"$f":"AC177-AD177","v":{"$error":"#NAME?"}},{"$f":"hosp_count(5,B177,C177,D177,$C$1,G177,1,F177,E177*F177)","v":{"$error":"#NAME?"}},{"$f":"hosp_count(5,B177,C177,D177,$C$1,G177+H177,1,F177,E177*F177)","v":{"$error":"#NAME?"}},{"$f":"AF177-AG177","v":{"$error":"#NAME?"}},{"$f":"hosp_count(10,B177,C177,D177,$C$1,G177,1,F177,E177*F177)","v":{"$error":"#NAME?"}},{"$f":"hosp_count(10,B177,C177,D177,$C$1,G177+H177,1,F177,E177*F177)","v":{"$error":"#NAME?"}},{"$f":"AI177-AJ177","v":{"$error":"#NAME?"}},{"$f":"hosp_count(20,B177,C177,D177,$C$1,G177,1,F177,E177*F177)","v":{"$error":"#NAME?"}},{"$f":"hosp_count(20,B177,C177,D177,$C$1,G177+H177,1,F177,E177*F177)","v":{"$error":"#NAME?"}},{"$f":"AL177-AM177","v":{"$error":"#NAME?"}},{"$f":"HLOOKUP('III Tool Overview'!$H$6,LookUpData_Pop!$B$1:$AV$269,LookUpData_Pop!BB173,FALSE)","v":151944},1.7047738610459544,null,{"$f":"AO177*(0.8)","v":121555.20000000001},null,null,null,{"$f":"AT177/AVERAGE(AT$177:AT$190)","v":{"$error":"#DIV/0!"}},{"$f":"$AV$7*$AV$18*AV49","v":{"$error":"#DIV/0!"}},{"$f":"AW177*AR177*$AT$4","v":{"$error":"#DIV/0!"}},null,1.1219751099391581E-5,0,null,{"$f":"(AP177/AO177)*LookUpData_Pop!$B$280","v":7.8538257695741062E-2},{"$f":"(AQ177/AP177)*LookUpData_Pop!$B$280","v":0},null,0.5,5]
["Female 20-24",22.5,"female",3,{"$f":"HLOOKUP('III Tool Overview'!$H$6,Prevalence!$B$2:$AV$268,Prevalence!AW169,FALSE)","v":0.25908436548072067},{"$f":"HLOOKUP('III Tool Overview'!$H$6,LookUpData_Pop!$B$1:$AV$269,LookUpData_Pop!BB174,FALSE)/5","v":33482.6},{"$f":"'III Tool Overview'!$H$9/110","v":0},{"$f":"IF('III Tool Overview'!$H$10=\"Even distribution\",Targeting!C176,IF('III Tool Overview'!$H$10=\"Targeting to Q1\",Targeting!D176,IF('III Tool Overview'!$H$10=\"Targeting to Q1 & Q2\",Targeting!E176,IF('III Tool Overview'!$H$10=\"Proportionate to need\",Targeting!F176))))","v":654.7919931828244},10.638336828643485,10.635023923035499,47.228327902872863,47.213631545796105,127.35864381404697,127.3190784315518,396.53558140068714,396.41308164291314,819.15193580554831,818.89684207373341,0.25509373181489536,3561.7543076265074,3560.6459635980309,{"$f":"T178-U178","v":1.1083440284764947},9240.2183253706189,9237.3475958712716,{"$f":"W178-X178","v":2.8707294993473624},26185.03880913409,26176.946559415414,{"$f":"Z178-AA178","v":8.0922497186766122},{"$f":"hosp_count(2,B178,C178,D178,$C$1,G178,1,F178,E178*F178)","v":{"$error":"#NAME?"}},{"$f":"hosp_count(2,B178,C178,D178,$C$1,G178+H178,1,F178,E178*F178)","v":{"$error":"#NAME?"}},{"$f":"AC178-AD178","v":{"$error":"#NAME?"}},{"$f":"hosp_count(5,B178,C178,D178,$C$1,G178,1,F178,E178*F178)","v":{"$error":"#NAME?"}},{"$f":"hosp_count(5,B178,C178,D178,$C$1,G178+H178,1,F178,E178*F178)","v":{"$error":"#NAME?"}},{"$f":"AF178-AG178","v":{"$error":"#NAME?"}},{"$f":"hosp_count(10,B178,C178,D178,$C$1,G178,1,F178,E178*F178)","v":{"$error":"#NAME?"}},{"$f":"hosp_count(10,B178,C178,D178,$C$1,G178+H178,1,F178,E178*F178)","v":{"$error":"#NAME?"}},{"$f":"AI178-AJ178","v":{"$error":"#NAME?"}},{"$f":"hosp_count(20,B178,C178,D178,$C$1,G178,1,F178,E178*F178)","v":{"$error":"#NAME?"}},{"$f":"hosp_count(20,B178,C178,D178,$C$1,G178+H178,1,F178,E178*F178)","v":{"$error":"#NAME?"}},{"$f":"AL178-AM178","v":{"$error":"#NAME?"}},{"$f":"HLOOKUP('III Tool Overview'!$H$6,LookUpData_Pop!$B$1:$AV$269,LookUpData_Pop!BB174,FALSE)","v":167413},2.228019728448194,null,{"$f":"AO178","v":167413},null,null,null,{"$f":"AT178/AVERAGE(AT$177:AT$190)","v":{"$error":"#DIV/0!"}},{"$error":"#DIV/0!"},{"$error":"#DIV/0!"},null,1.3308522805565839E-5,0,null,{"$f":"(AP178/AO178)*LookUpData_Pop!$B$281","v":9.3159659638960876E-2},{"$f":"(AQ178/AP178)*LookUpData_Pop!$B$281","v":0},null,0.5,5]
["Female 25-29",27.5,"female",3,{"$f":"HLOOKUP('III Tool Overview'!$H$6,Prevalence!$B$2:$AV$268,Prevalence!AW170,FALSE)","v":0.48675309713780529},{"$f":"HLOOKUP('III Tool Overview'!$H$6,LookUpData_Pop!$B$1:$AV$269,LookUpData_Pop!BB175,FALSE)/5","v":33945.4},{"$f":"'III Tool Overview'!$H$9/110","v":0},{"$f":"IF('III Tool Overview'!$H$10=\"Even distribution\",Targeting!C177,IF('III Tool Overview'!$H$10=\"Targeting to Q1\",Targeting!D177,IF('III Tool Overview'!$H$10=\"Targeting to Q1 & Q2\",Targeting!E177,IF('III Tool Overview'!$H$10=\"Proportionate to need\",Targeting!F177))))","v":1241.4168853624965},17.630913909697085,17.621265647479508,78.243779247732817,78.201008797847734,210.8329368252476,210.71796845674922,654.72089460393522,654.36678987568234,1251.7948875884931,1251.109860971045,0.68502661744810212,5431.3638671297686,5428.3948789563747,2.9689881733938819,14031.889955535196,14024.237638257679,7.6523172775177954,39313.419942349712,39292.144446438855,21.275495910856989,{"$error":"#NAME?"},{"$error":"#NAME?"},{"$error":"#NAME?"},{"$error":"#NAME?"},{"$error":"#NAME?"},{"$error":"#NAME?"},{"$error":"#NAME?"},{"$error":"#NAME?"},{"$error":"#NAME?"},{"$error":"#NAME?"},{"$error":"#NAME?"},{"$error":"#NAME?"},{"$f":"HLOOKUP('III Tool Overview'!$H$6,LookUpData_Pop!$B$1:$AV$269,LookUpData_Pop!BB175,FALSE)","v":169727},2.9296399522211476,null,{"$f":"AO179","v":169727},null,null,null,{"$error":"#DIV/0!"},{"$error":"#DIV/0!"},{"$error":"#DIV/0!"},null,1.7260895156463895E-5,0,null,{"$f":"(AP179/AO179)*LookUpData_Pop!$B$282","v":0.12082626609524726},{"$f":"(AQ179/AP179)*LookUpData_Pop!$B$282","v":0},null,0.5,5]
["Female 30-34",32.5,"female",3,{"$f":"HLOOKUP('III Tool Overview'!$H$6,Prevalence!$B$2:$AV$268,Prevalence!AW171,FALSE)","v":0.48675309713780529},{"$f":"HLOOKUP('III Tool Overview'!$H$6,LookUpData_Pop!$B$1:$AV$269,LookUpData_Pop!BB176,FALSE)/5","v":31974},{"$f":"'III Tool Overview'!$H$9/110","v":0},{"$f":"IF('III Tool Overview'!$H$10=\"Even distribution\",Targeting!C178,IF('III Tool Overview'!$H$10=\"Targeting to Q1\",Targeting!D178,IF('III Tool Overview'!$H$10=\"Targeting to Q1 & Q2\",Targeting!E178,IF('III Tool Overview'!$H$10=\"Proportionate to need\",Targeting!F178))))","v":1178.2447060098909},23.044594382667675,23.031887231793039,102.23297577164908,102.17668936236436,275.26073546208579,275.10969490161517,852.5769421263243,852.11441989072489,1543.9878236387342,1543.1364445301335,0.85137910860066768,6687.6930863635625,6684.0109736212471,3.6821127423154394,17219.30443989273,17209.854708524355,9.449731368375069,47793.392381225131,47767.441029777605,25.951351447525667,{"$error":"#NAME?"},{"$error":"#NAME?"},{"$error":"#NAME?"},{"$error":"#NAME?"},{"$error":"#NAME?"},{"$error":"#NAME?"},{"$error":"#NAME?"},{"$error":"#NAME?"},{"$error":"#NAME?"},{"$error":"#NAME?"},{"$error":"#NAME?"},{"$error":"#NAME?"},{"$f":"HLOOKUP('III Tool Overview'!$H$6,LookUpData_Pop!$B$1:$AV$269,LookUpData_Pop!BB176,FALSE)","v":159870},3.2292125217779484,null,159870,null,null,null,{"$error":"#DIV/0!"},{"$error":"#DIV/0!"},{"$error":"#DIV/0!"},null,2.0198989940438785E-5,0,null,{"$f":"(AP180/AO180)*LookUpData_Pop!$B$283","v":0.14139292958307148},{"$f":"(AQ180/AP180)*LookUpData_Pop!$B$283","v":0},null,0.5,5]
["Female 35-39",37.5,"female",3,{"$f":"HLOOKUP('III Tool Overview'!$H$6,Prevalence!$B$2:$AV$268,Prevalence!AW172,FALSE)","v":0.53360565798914239},{"$f":"HLOOKUP('III Tool Overview'!$H$6,LookUpData_Pop!$B$1:$AV$269,LookUpData_Pop!BB177,FALSE)/5","v":36569.199999999997},{"$f":"'III Tool Overview'!$H$9/110","v":0},{"$f":"IF('III Tool Overview'!$H$10=\"Even distribution\",Targeting!C179,IF('III Tool Overview'!$H$10=\"Targeting to Q1\",Targeting!D179,IF('III Tool Overview'!$H$10=\"Targeting to Q1 & Q2\",Targeting!E179,IF('III Tool Overview'!$H$10=\"Proportionate to need\",Targeting!F179))))","v":1222.074381424216},43.079498698392612,43.058220052978179,190.96129249530196,190.86720056759091,513.26101028297217,513.00947223735864,1580.426537488624,1579.6660213560162,2627.8494206019495,2626.5514232316691,1.2979973702804273,11346.317793675016,11340.726961844315,5.5908318307010632,29030.257971605712,29016.027704419397,14.23026718631445,79153.557058377264,79115.405279101033,38.151779276231537,{"$error":"#NAME?"},{"$error":"#NAME?"},{"$error":"#NAME?"},{"$error":"#NAME?"},{"$error":"#NAME?"},{"$error":"#NAME?"},{"$error":"#NAME?"},{"$error":"#NAME?"},{"$error":"#NAME?"},{"$error":"#NAME?"},{"$error":"#NAME?"},{"$error":"#NAME?"},{"$f":"HLOOKUP('III Tool Overview'!$H$6,LookUpData_Pop!$B$1:$AV$269,LookUpData_Pop!BB177,FALSE)","v":182846},5.6748651888912525,null,182846,null,null,null,{"$error":"#DIV/0!"},{"$error":"#DIV/0!"},{"$error":"#DIV/0!"},null,3.1036310276906536E-5,0,null,{"$f":"(AP181/AO181)*LookUpData_Pop!$B$284","v":0.21725417193834576},{"$f":"(AQ181/AP181)*LookUpData_Pop!$B$284","v":0},null,0.5,5]
["Female 40-44",42.5,"female",3,{"$f":"HLOOKUP('III Tool Overview'!$H$6,Prevalence!$B$2:$AV$268,Prevalence!AW173,FALSE)","v":0.53360565798914239},{"$f":"HLOOKUP('III Tool Overview'!$H$6,LookUpData_Pop!$B$1:$AV$269,LookUpData_Pop!BB178,FALSE)/5","v":40999.199999999997},{"$f":"'III Tool Overview'!$H$9/110","v":0},{"$f":"IF('III Tool Overview'!$H$10=\"Even distribution\",Targeting!C180,IF('III Tool Overview'!$H$10=\"Targeting to Q1\",Targeting!D180,IF('III Tool Overview'!$H$10=\"Targeting to Q1 & Q2\",Targeting!E180,IF('III Tool Overview'!$H$10=\"Proportionate to need\",Targeting!F180))))","v":1477.6869649219173},67.011968434900567,66.97626981271317,296.8111676480753,296.65358833459908,796.36904643471507,795.94940167676134,2437.8631816182369,2436.6107587347492,3819.6822007893325,3817.6473793246505,2.0348214646819542,16448.529784315819,16439.796701098665,8.7330832171537622,41860.736780209132,41838.671004443226,22.065775765906437,112409.27748351722,112351.38470493387,57.892778583351173,{"$error":"#NAME?"},{"$error":"#NAME?"},{"$error":"#NAME?"},{"$error":"#NAME?"},{"$error":"#NAME?"},{"$error":"#NAME?"},{"$error":"#NAME?"},{"$error":"#NAME?"},{"$error":"#NAME?"},{"$error":"#NAME?"},{"$error":"#NAME?"},{"$error":"#NAME?"},{"$f":"HLOOKUP('III Tool Overview'!$H$6,LookUpData_Pop!$B$1:$AV$269,LookUpData_Pop!BB178,FALSE)","v":204996},9.5075096642341403,null,204996,null,null,null,{"$error":"#DIV/0!"},{"$error":"#DIV/0!"},{"$error":"#DIV/0!"},null,4.6379000879208081E-5,0,null,{"$f":"(AP182/AO182)*LookUpData_Pop!$B$285","v":0.32465300615445658},{"$f":"(AQ182/AP182)*LookUpData_Pop!$B$285","v":0},null,0.5,5]
["Female 45-49",47.5,"female",3,{"$f":"HLOOKUP('III Tool Overview'!$H$6,Prevalence!$B$2:$AV$268,Prevalence!AW174,FALSE)","v":0.51309313446768856},{"$f":"HLOOKUP('III Tool Overview'!$H$6,LookUpData_Pop!$B$1:$AV$269,LookUpData_Pop!BB179,FALSE)/5","v":40545.800000000003},{"$f":"'III Tool Overview'!$H$9/110","v":0},{"$f":"IF('III Tool Overview'!$H$10=\"Even distribution\",Targeting!C181,IF('III Tool Overview'!$H$10=\"Targeting to Q1\",Targeting!D181,IF('III Tool Overview'!$H$10=\"Targeting to Q1 & Q2\",Targeting!E181,IF('III Tool Overview'!$H$10=\"Proportionate to need\",Targeting!F181))))","v":1485.2888860205242},108.28731545062499,108.22843289267485,478.7596126369923,478.50074216033448,1279.4709268573001,1278.7876106002909,3865.3381121553593,3863.3588140477868,5522.6530879818747,5519.6500775264176,3.0030104554571153,23659.79812842259,23647.003843160368,12.79428526222182,59589.773238740338,59557.928712180685,31.844526559652877,155267.15166173247,155187.26139396682,79.890267765644239,{"$error":"#NAME?"},{"$error":"#NAME?"},{"$error":"#NAME?"},{"$error":"#NAME?"},{"$error":"#NAME?"},{"$error":"#NAME?"},{"$error":"#NAME?"},{"$error":"#NAME?"},{"$error":"#NAME?"},{"$error":"#NAME?"},{"$error":"#NAME?"},{"$error":"#NAME?"},{"$f":"HLOOKUP('III Tool Overview'!$H$6,LookUpData_Pop!$B$1:$AV$269,LookUpData_Pop!BB179,FALSE)","v":202729},14.710436326737698,null,202729,null,null,null,{"$error":"#DIV/0!"},{"$error":"#DIV/0!"},{"$error":"#DIV/0!"},null,7.2562072159077867E-5,0,null,{"$f":"(AP183/AO183)*LookUpData_Pop!$B$286","v":0.5079345051135451},{"$f":"(AQ183/AP183)*LookUpData_Pop!$B$286","v":0},null,0.5,5]
["Female 50-54",52.5,"female",3,{"$f":"HLOOKUP('III Tool Overview'!$H$6,Prevalence!$B$2:$AV$268,Prevalence!AW175,FALSE)","v":0.51309313446768856},{"$f":"HLOOKUP('III Tool Overview'!$H$6,LookUpData_Pop!$B$1:$AV$269,LookUpData_Pop!BB180,FALSE)/5","v":36357.800000000003},{"$f":"'III Tool Overview'!$H$9/110","v":0},{"$f":"IF('III Tool Overview'!$H$10=\"Even distribution\",Targeting!C182,IF('III Tool Overview'!$H$10=\"Targeting to Q1\",Targeting!D182,IF('III Tool Overview'!$H$10=\"Targeting to Q1 & Q2\",Targeting!E182,IF('III Tool Overview'!$H$10=\"Proportionate to need\",Targeting!F182))))","v":1387.9749116588985},134.68621041217483,134.60992021275487,594.39796378166102,594.06389980299105,1582.2582573470863,1581.3841542258726,4718.0273656283189,4715.5692749728041,6330.2518893722172,6326.6662499994791,3.5856393727381146,26997.799828322975,26982.624390771904,15.175437551071809,67377.320807590062,67340.063264460172,37.257543129890109,170926.477058516,170836.74853430782,89.728524208185263,{"$error":"#NAME?"},{"$error":"#NAME?"},{"$error":"#NAME?"},{"$error":"#NAME?"},{"$error":"#NAME?"},{"$error":"#NAME?"},{"$error":"#NAME?"},{"$error":"#NAME?"},{"$error":"#NAME?"},{"$error":"#NAME?"},{"$error":"#NAME?"},{"$error":"#NAME?"},{"$f":"HLOOKUP('III Tool Overview'!$H$6,LookUpData_Pop!$B$1:$AV$269,LookUpData_Pop!BB180,FALSE)","v":181789},22.007195429454121,null,181789,null,null,null,{"$error":"#DIV/0!"},{"$error":"#DIV/0!"},{"$error":"#DIV/0!"},null,1.2105900483227325E-4,0,null,{"$f":"(AP184/AO184)*LookUpData_Pop!$B$287","v":0.84741303382591271},{"$f":"(AQ184/AP184)*LookUpData_Pop!$B$287","v":0},null,0.5,5]
["Female 55-59",57.5,"female",3,{"$f":"HLOOKUP('III Tool Overview'!$H$6,Prevalence!$B$2:$AV$268,Prevalence!AW176,FALSE)","v":0.2982687330812715},{"$f":"HLOOKUP('III Tool Overview'!$H$6,LookUpData_Pop!$B$1:$AV$269,LookUpData_Pop!BB181,FALSE)/5","v":33753.4},{"$f":"'III Tool Overview'!$H$9/110","v":0},{"$f":"IF('III Tool Overview'!$H$10=\"Even distribution\",Targeting!C183,IF('III Tool Overview'!$H$10=\"Targeting to Q1\",Targeting!D183,IF('III Tool Overview'!$H$10=\"Targeting to Q1 & Q2\",Targeting!E183,IF('III Tool Overview'!$H$10=\"Proportionate to need\",Targeting!F183))))","v":719.37388063879064},204.1778369278216,204.10961399143508,897.39809555912973,897.10246522841737,2367.6822912428952,2366.9262997355122,6857.2332043457191,6855.2657787918197,8371.2913140406854,8368.4941736488381,2.7971403918472788,35378.769569052718,35367.111309563341,11.658259489377087,86666.576484017191,86638.847464137347,27.72901987984369,208204.6792758173,208143.90953638274,60.769739434559597,{"$error":"#NAME?"},{"$error":"#NAME?"},{"$error":"#NAME?"},{"$error":"#NAME?"},{"$error":"#NAME?"},{"$error":"#NAME?"},{"$error":"#NAME?"},{"$error":"#NAME?"},{"$error":"#NAME?"},{"$error":"#NAME?"},{"$error":"#NAME?"},{"$error":"#NAME?"},{"$f":"HLOOKUP('III Tool Overview'!$H$6,LookUpData_Pop!$B$1:$AV$269,LookUpData_Pop!BB181,FALSE)","v":168767},27.592312252850679,null,168767,null,null,null,{"$error":"#DIV/0!"},{"$error":"#DIV/0!"},{"$error":"#DIV/0!"},null,1.6349352807628671E-4,0,null,{"$f":"(AP185/AO185)*LookUpData_Pop!$B$288","v":0.98096116845772019},{"$f":"(AQ185/AP185)*LookUpData_Pop!$B$288","v":0},null,0.5,5]
["Female 60-64",62.5,"female",3,{"$f":"HLOOKUP('III Tool Overview'!$H$6,Prevalence!$B$2:$AV$268,Prevalence!AW177,FALSE)","v":0.2982687330812715},{"$f":"HLOOKUP('III Tool Overview'!$H$6,LookUpData_Pop!$B$1:$AV$269,LookUpData_Pop!BB182,FALSE)/5","v":33778.199999999997},{"$f":"'III Tool Overview'!$H$9/110","v":0},{"$f":"IF('III Tool Overview'!$H$10=\"Even distribution\",Targeting!C184,IF('III Tool Overview'!$H$10=\"Targeting to Q1\",Targeting!D184,IF('III Tool Overview'!$H$10=\"Targeting to Q1 & Q2\",Targeting!E184,IF('III Tool Overview'!$H$10=\"Proportionate to need\",Targeting!F184))))","v":693.66952109656245},283.2252013684751,283.134068765704,1239.7514150237453,1239.3602832336028,3242.1837069905268,3241.2043423379805,9125.9192147092617,9123.5454582391885,10479.332450633579,10475.960544331048,3.3719063025309879,43920.705102647022,43906.842165276998,13.862937370024156,105776.03652971939,105743.98123782908,32.055291890312219,241811.92021873873,241747.20237851967,64.717840219062055,{"$error":"#NAME?"},{"$error":"#NAME?"},{"$error":"#NAME?"},{"$error":"#NAME?"},{"$error":"#NAME?"},{"$error":"#NAME?"},{"$error":"#NAME?"},{"$error":"#NAME?"},{"$error":"#NAME?"},{"$error":"#NAME?"},{"$error":"#NAME?"},{"$error":"#NAME?"},{"$f":"HLOOKUP('III Tool Overview'!$H$6,LookUpData_Pop!$B$1:$AV$269,LookUpData_Pop!BB182,FALSE)","v":168891},40.060549737730071,null,168891,null,null,null,{"$error":"#DIV/0!"},{"$error":"#DIV/0!"},{"$error":"#DIV/0!"},null,2.3719765847635498E-4,0,null,{"$f":"(AP186/AO186)*LookUpData_Pop!$B$289","v":1.1859882923817748},{"$f":"(AQ186/AP186)*LookUpData_Pop!$B$289","v":0},null,0.5,5]
["Female 65-69",67.5,"female",3,null,null,null,null,null,null,null,null,null,null,null,null,null,null,null,null,null,null,null,null,null,null,null,null,null,null,null,null,null,null,null,null,null,null,null,null,{"$f":"HLOOKUP('III Tool Overview'!$H$6,LookUpData_Pop!$B$1:$AV$269,LookUpData_Pop!BB183,FALSE)","v":138124},50.255388363323384,null,138124,null,null,null,{"$error":"#DIV/0!"},{"$error":"#DIV/0!"},{"$error":"#DIV/0!"},null,3.6384254990677497E-4,0,null,{"$f":"(AP187/AO187)*LookUpData_Pop!$B$290","v":1.4553701996270998},{"$f":"(AQ187/AP187)*LookUpData_Pop!$B$290","v":0},null,0.5,5]
["Female 70-74",72.5,"female",3,null,null,null,null,null,null,null,null,null,null,null,null,null,null,null,null,null,null,null,null,null,null,null,null,null,null,null,null,null,null,null,null,null,null,null,null,{"$f":"HLOOKUP('III Tool Overview'!$H$6,LookUpData_Pop!$B$1:$AV$269,LookUpData_Pop!BB184,FALSE)","v":120141},77.657044542152562,null,120141,null,null,null,{"$error":"#DIV/0!"},{"$error":"#DIV/0!"},{"$error":"#DIV/0!"},null,6.463825383686881E-4,0,null,{"$f":"(AP188/AO188)*LookUpData_Pop!$B$291","v":1.9391476151060643},{"$f":"(AQ188/AP188)*LookUpData_Pop!$B$291","v":0},null,0.5,5]
["Female 75-79",77.5,"female",3,null,null,null,null,null,null,null,null,null,null,null,null,null,null,null,null,null,null,null,null,null,null,null,null,null,null,null,null,null,null,null,null,null,null,null,null,{"$f":"HLOOKUP('III Tool Overview'!$H$6,LookUpData_Pop!$B$1:$AV$269,LookUpData_Pop!BB185,FALSE)","v":100381},120.31193219805718,null,100381,null,null,null,{"$error":"#DIV/0!"},{"$error":"#DIV/0!"},{"$error":"#DIV/0!"},null,1.1985528356766439E-3,0,null,{"$f":"(AP189/AO189)*LookUpData_Pop!$B$292","v":2.3971056713532879},{"$f":"(AQ189/AP189)*LookUpData_Pop!$B$292","v":0},null,0.5,5]
["Female 80-84",82.5,"female",3,null,null,null,null,null,null,null,null,null,null,null,null,null,null,null,null,null,null,null,null,null,null,null,null,null,null,null,null,null,null,null,null,null,null,null,null,{"$f":"HLOOKUP('III Tool Overview'!$H$6,LookUpData_Pop!$B$1:$AV$269,LookUpData_Pop!BB186,FALSE)","v":75560},163.01077923252899,null,75560,null,null,null,{"$f":"AT190/AVERAGE(AT$177:AT$190)","v":{"$error":"#DIV/0!"}},{"$error":"#DIV/0!"},{"$error":"#DIV/0!"},null,2.157368703447975E-3,0,null,{"$f":"(AP190/AO190)*LookUpData_Pop!$B$293","v":2.1573687034479749},{"$f":"(AQ190/AP190)*LookUpData_Pop!$B$293","v":0},null,0.5,5]
["Female 85-89",87.5,"female",3,null,null,null,null,null,null,null,null,null,null,null,null,null,null,null,null,null,null,null,null,null,null,null,null,null,null,null,null,null,null,null,null,null,null,null,null,{"$f":"HLOOKUP('III Tool Overview'!$H$6,LookUpData_Pop!$B$1:$AV$269,LookUpData_Pop!BB188,FALSE)","v":24189},374.8205390215864,null,null,null,null,null,null,null,null,null,1.5495495432700252E-2,0,null,{"$f":"(AP191/AO191)*LookUpData_Pop!$B$294","v":15.495495432700253},{"$f":"(AQ191/AP191)*LookUpData_Pop!$B$294","v":0},null,0.5,{"$f":"2/AZ191","v":129.06976796491361}]
["Female 90+",95,"female",3]
["TOTAL",null,null,null,null,{"$f":"SUM(F177:F192)","v":351794.4},{"$f":"SUM(G177:G192)","v":0},{"$f":"SUM(H177:H192)","v":10498.781767867151},{"$f":"SUM(I177:I192)","v":898.73956498299617},{"$f":"SUM(J177:J192)","v":898.36079460690542},{"$f":"SUM(K177:K192)","v":3956.6777061739017},{"$f":"SUM(L177:L192)","v":3955.0255003536954},{"$f":"SUM(M177:M192)","v":10478.013939529985},{"$f":"SUM(N177:N192)","v":10473.725317956039},{"$f":"SUM(O177:O192)","v":30748.409361365902},{"$f":"SUM(P177:P192)","v":30736.619462386843},{"$f":"SUM(Q177:Q192)","v":41329.567784589875},{"$f":"SUM(R177:R192)","v":41311.556453820333},{"$f":"SUM(S177:S192)","v":18.011330769547044},{"$f":"SUM(T177:T192)","v":175886.12085042015},{"$f":"SUM(U177:U192)","v":175809.98392571392},{"$f":"SUM(V177:V192)","v":76.136924706217087},{"$f":"SUM(W177:W192)","v":437171.67706791544},{"$f":"SUM(X177:X192)","v":436985.06051824964},{"$f":"SUM(Y177:Y192)","v":186.6165496658241},{"$f":"SUM(Z177:Z192)","v":1099256.3524592647},{"$f":"SUM(AA177:AA192)","v":1098805.7312579176},{"$f":"SUM(AB177:AB192)","v":450.62120134693032},{"$f":"SUM(AC177:AC192)","v":{"$error":"#NAME?"}},{"$f":"SUM(AD177:AD192)","v":{"$error":"#NAME?"}},{"$f":"SUM(AE177:AE192)","v":{"$error":"#NAME?"}},{"$f":"SUM(AF177:AF192)","v":{"$error":"#NAME?"}},{"$f":"SUM(AG177:AG192)","v":{"$error":"#NAME?"}},{"$f":"SUM(AH177:AH192)","v":{"$error":"#NAME?"}},{"$f":"SUM(AI177:AI192)","v":{"$error":"#NAME?"}},{"$f":"SUM(AJ177:AJ192)","v":{"$error":"#NAME?"}},{"$f":"SUM(AK177:AK192)","v":{"$error":"#NAME?"}},{"$f":"SUM(AL177:AL192)","v":{"$error":"#NAME?"}},{"$f":"SUM(AM177:AM192)","v":{"$error":"#NAME?"}},{"$f":"SUM(AN177:AN192)","v":{"$error":"#NAME?"}}]
["age/sex breakdown: Q4"]
["Male <1",0.5,"male",4,null,null,null,null,null,null,null,null,null,null,null,null,null,null,null,null,null,null,null,null,null,null,null,null,null,null,null,null,null,null,null,null,null,null,null,null,{"$f":"HLOOKUP('III Tool Overview'!$H$6,LookUpData_Pop!$B$1:$AV$269,LookUpData_Pop!BB190,FALSE)","v":27546},3.840118447027856,null,null,null,null,null,null,null,null,null,{"$f":"IF(AO195=0,0,AP195/AO195)","v":1.3940748010701575E-4},{"$f":"AQ195/AP195*100000","v":0},null,null,null,null,0.1,1]
["Male 1-4",2.5,"male",4,null,null,null,null,null,null,null,null,null,null,null,null,null,null,null,null,null,null,null,null,null,null,null,null,null,null,null,null,null,null,null,null,null,null,null,null,{"$f":"HLOOKUP('III Tool Overview'!$H$6,LookUpData_Pop!$B$1:$AV$269,LookUpData_Pop!BB191,FALSE)","v":110551},0.6333509695265146,null,null,null,null,null,null,null,null,null,{"$f":"IF(AO196=0,0,AP196/AO196)","v":5.7290388103817659E-6},0,null,{"$f":"((AP196+AP195)/(AO196+AO195))*LookUpData_Pop!$B$277","v":0.25914940463902159},{"$f":"((AQ196+AQ195)/(AP196+AP195))*LookUpData_Pop!$B$277","v":0},null,0.5,4]
["Male 5-9",7.5,"male",4,null,null,null,null,null,null,null,null,null,null,null,null,null,null,null,null,null,null,null,null,null,null,null,null,null,null,null,null,null,null,null,null,null,null,null,null,{"$f":"HLOOKUP('III Tool Overview'!$H$6,LookUpData_Pop!$B$1:$AV$269,LookUpData_Pop!BB192,FALSE)","v":137119},0.58671351691761608,null,null,null,null,null,null,null,null,null,4.2788637381954073E-6,0,null,{"$f":"(AP197/AO197)*LookUpData_Pop!$B$278","v":2.9952046167367852E-2},{"$f":"(AQ197/AP197)*LookUpData_Pop!$B$278","v":0},null,0.5,5]
["Male 10-14",12.5,"male",4,null,null,null,null,null,null,null,null,null,null,null,null,null,null,null,null,null,null,null,null,null,null,null,null,null,null,null,null,null,null,null,null,null,null,null,null,{"$f":"HLOOKUP('III Tool Overview'!$H$6,LookUpData_Pop!$B$1:$AV$269,LookUpData_Pop!BB193,FALSE)","v":150805},0.52896015549076769,null,null,null,null,null,null,null,null,null,3.5075770398247254E-6,0,null,{"$f":"(AP198/AO198)*LookUpData_Pop!$B$279","v":2.4553039278773076E-2},{"$f":"(AQ198/AP198)*LookUpData_Pop!$B$279","v":0},null,0.5,5]
["Male 15-19",17.5,"male",4,{"$f":"HLOOKUP('III Tool Overview'!$H$6,Prevalence!$B$2:$AV$268,Prevalence!AW189,FALSE)","v":0.34095765785605103},{"$f":"HLOOKUP('III Tool Overview'!$H$6,LookUpData_Pop!$B$1:$AV$269,LookUpData_Pop!BB194,FALSE)/5","v":31495.4},{"$f":"'III Tool Overview'!$H$9/110","v":0},{"$f":"IF('III Tool Overview'!$H$10=\"Even distribution\",Targeting!C197,IF('III Tool Overview'!$H$10=\"Targeting to Q1\",Targeting!D197,IF('III Tool Overview'!$H$10=\"Targeting to Q1 & Q2\",Targeting!E197,IF('III Tool Overview'!$H$10=\"Proportionate to need\",Targeting!F197))))","v":618.05454661499641},{"$f":"new_ci(2,B199,C199,D199,$C$1,G199,1,F199,E199*F199)","v":13.987622776633907},{"$f":"new_ci(2,B199,C199,D199,$C$1,G199+H199,1,F199,E199*F199)","v":13.983351297688742},{"$f":"new_ci(5,B199,C199,D199,$C$1,G199,1,F199,E199*F199)","v":61.157566032390967},{"$f":"new_ci(5,B199,C199,D199,$C$1,G199+H199,1,F199,E199*F199)","v":61.138908570962464},{"$f":"new_ci(10,B199,C199,D199,$C$1,G199,1,F199,E199*F199)","v":160.4560418328611},{"$f":"new_ci(10,B199,C199,D199,$C$1,G199+H199,1,F199,E199*F199)","v":160.40719385713496},{"$f":"new_ci(20,B199,C199,D199,$C$1,G199,1,F199,E199*F199)","v":469.457523290278},{"$f":"new_ci(20,B199,C199,D199,$C$1,G199+H199,1,F199,E199*F199)","v":469.31554311012428},{"$f":"new_yll(2,B199,C199,D199,$C$1,G199,1,F199,E199*F199)","v":1132.9974449073466},{"$f":"new_yll(2,B199,C199,D199,$C$1,G199+H199,1,F199,E199*F199)","v":1132.6514551127882},{"$f":"Q199-R199","v":0.34598979455836343},{"$f":"new_yll(5,B199,C199,D199,$C$1,G199,1,F199,E199*F199)","v":4857.603122322651},{"$f":"new_yll(5,B199,C199,D199,$C$1,G199+H199,1,F199,E199*F199)","v":4856.1211885722923},{"$f":"T199-U199","v":1.4819337503586212},{"$f":"new_yll(10,B199,C199,D199,$C$1,G199,1,F199,E199*F199)","v":12293.532950092958},{"$f":"new_yll(10,B199,C199,D199,$C$1,G199+H199,1,F199,E199*F199)","v":12289.790160074266},{"$f":"W199-X199","v":3.7427900186921761},{"$f":"new_yll(20,B199,C199,D199,$C$1,G199,1,F199,E199*F199)","v":33005.613522093918},{"$f":"new_yll(20,B199,C199,D199,$C$1,G199+H199,1,F199,E199*F199)","v":32995.62715808097},{"$f":"Z199-AA199","v":9.9863640129478881},{"$f":"hosp_count(2,B199,C199,D199,$C$1,G199,1,F199,E199*F199)","v":{"$error":"#NAME?"}},{"$f":"hosp_count(2,B199,C199,D199,$C$1,G199+H199,1,F199,E199*F199)","v":{"$error":"#NAME?"}},{"$f":"AC199-AD199","v":{"$error":"#NAME?"}},{"$f":"hosp_count(5,B199,C199,D199,$C$1,G199,1,F199,E199*F199)","v":{"$error":"#NAME?"}},{"$f":"hosp_count(5,B199,C199,D199,$C$1,G199+H199,1,F199,E199*F199)","v":{"$error":"#NAME?"}},{"$f":"AF199-AG199","v":{"$error":"#NAME?"}},{"$f":"hosp_count(10,B199,C199,D199,$C$1,G199,1,F199,E199*F199)","v":{"$error":"#NAME?"}},{"$f":"hosp_count(10,B199,C199,D199,$C$1,G199+H199,1,F199,E199*F199)","v":{"$error":"#NAME?"}},{"$f":"AI199-AJ199","v":{"$error":"#NAME?"}},{"$f":"hosp_count(20,B199,C199,D199,$C$1,G199,1,F199,E199*F199)","v":{"$error":"#NAME?"}},{"$f":"hosp_count(20,B199,C199,D199,$C$1,G199+H199,1,F199,E199*F199)","v":{"$error":"#NAME?"}},{"$f":"AL199-AM199","v":{"$error":"#NAME?"}},{"$f":"HLOOKUP('III Tool Overview'!$H$6,LookUpData_Pop!$B$1:$AV$269,LookUpData_Pop!BB194,FALSE)","v":157477},2.8327209115548526,null,{"$f":"AO199*(0.8)","v":125981.6},null,null,null,{"$f":"AT199/AVERAGE(AT$199:AT$212)","v":{"$error":"#DIV/0!"}},{"$f":"$AV$8*$AV$11*AV29","v":{"$error":"#DIV/0!"}},{"$f":"AW199*AR199*$AT$4","v":{"$error":"#DIV/0!"}},null,1.7988156439066357E-5,0,null,{"$f":"(AP199/AO199)*LookUpData_Pop!$B$280","v":0.12591709507346449},{"$f":"(AQ199/AP199)*LookUpData_Pop!$B$280","v":0},null,0.5,5]
["Male 20-24",22.5,"male",4,{"$f":"HLOOKUP('III Tool Overview'!$H$6,Prevalence!$B$2:$AV$268,Prevalence!AW190,FALSE)","v":0.34095765785605103},{"$f":"HLOOKUP('III Tool Overview'!$H$6,LookUpData_Pop!$B$1:$AV$269,LookUpData_Pop!BB195,FALSE)/5","v":31623.8},{"$f":"'III Tool Overview'!$H$9/110","v":0},{"$f":"IF('III Tool Overview'!$H$10=\"Even distribution\",Targeting!C198,IF('III Tool Overview'!$H$10=\"Targeting to Q1\",Targeting!D198,IF('III Tool Overview'!$H$10=\"Targeting to Q1 & Q2\",Targeting!E198,IF('III Tool Overview'!$H$10=\"Proportionate to need\",Targeting!F198))))","v":791.12293090842968},18.760769048289262,18.753466641701468,82.006029046923288,81.974151564793928,215.0390765591043,214.95572048631198,628.09559963825461,627.85426239626361,1444.5792167182731,1444.016931411013,0.56228530726002646,6185.5408694117632,6183.1363842494993,{"$f":"T200-U200","v":2.4044851622638816},15615.596804110573,15609.543140149959,{"$f":"W200-X200","v":6.0536639606143581},41651.303313153709,41635.289512059295,{"$f":"Z200-AA200","v":16.013801094413793},{"$f":"hosp_count(2,B200,C200,D200,$C$1,G200,1,F200,E200*F200)","v":{"$error":"#NAME?"}},{"$f":"hosp_count(2,B200,C200,D200,$C$1,G200+H200,1,F200,E200*F200)","v":{"$error":"#NAME?"}},{"$f":"AC200-AD200","v":{"$error":"#NAME?"}},{"$f":"hosp_count(5,B200,C200,D200,$C$1,G200,1,F200,E200*F200)","v":{"$error":"#NAME?"}},{"$f":"hosp_count(5,B200,C200,D200,$C$1,G200+H200,1,F200,E200*F200)","v":{"$error":"#NAME?"}},{"$f":"AF200-AG200","v":{"$error":"#NAME?"}},{"$f":"hosp_count(10,B200,C200,D200,$C$1,G200,1,F200,E200*F200)","v":{"$error":"#NAME?"}},{"$f":"hosp_count(10,B200,C200,D200,$C$1,G200+H200,1,F200,E200*F200)","v":{"$error":"#NAME?"}},{"$f":"AI200-AJ200","v":{"$error":"#NAME?"}},{"$f":"hosp_count(20,B200,C200,D200,$C$1,G200,1,F200,E200*F200)","v":{"$error":"#NAME?"}},{"$f":"hosp_count(20,B200,C200,D200,$C$1,G200+H200,1,F200,E200*F200)","v":{"$error":"#NAME?"}},{"$f":"AL200-AM200","v":{"$error":"#NAME?"}},{"$f":"HLOOKUP('III Tool Overview'!$H$6,LookUpData_Pop!$B$1:$AV$269,LookUpData_Pop!BB195,FALSE)","v":158119},5.7732698420804027,null,{"$f":"AO200","v":158119},null,null,null,{"$f":"AT200/AVERAGE(AT$199:AT$212)","v":{"$error":"#DIV/0!"}},{"$error":"#DIV/0!"},{"$error":"#DIV/0!"},null,3.6512182862783108E-5,0,null,{"$f":"(AP200/AO200)*LookUpData_Pop!$B$281","v":0.25558528003948178},{"$f":"(AQ200/AP200)*LookUpData_Pop!$B$281","v":0},null,0.5,5]
["Male 25-29",27.5,"male",4,{"$f":"HLOOKUP('III Tool Overview'!$H$6,Prevalence!$B$2:$AV$268,Prevalence!AW191,FALSE)","v":0.55857086899551978},{"$f":"HLOOKUP('III Tool Overview'!$H$6,LookUpData_Pop!$B$1:$AV$269,LookUpData_Pop!BB196,FALSE)/5","v":29850.400000000001},{"$f":"'III Tool Overview'!$H$9/110","v":0},{"$f":"IF('III Tool Overview'!$H$10=\"Even distribution\",Targeting!C199,IF('III Tool Overview'!$H$10=\"Targeting to Q1\",Targeting!D199,IF('III Tool Overview'!$H$10=\"Targeting to Q1 & Q2\",Targeting!E199,IF('III Tool Overview'!$H$10=\"Proportionate to need\",Targeting!F199))))","v":1176.0341401141986},27.338498063740211,27.32267734822549,119.43445409603959,119.36546545055717,312.82047202742842,312.64048281576913,910.38383146049966,909.86640345489946,1941.033362525555,1939.9100917240098,1.1232708015452317,8292.1343045706708,8287.3444349947022,4.7898695759686234,20840.178293930912,20828.185694221618,11.992599709294154,54923.871682091209,54892.625441385579,31.246240705630044,{"$error":"#NAME?"},{"$error":"#NAME?"},{"$error":"#NAME?"},{"$error":"#NAME?"},{"$error":"#NAME?"},{"$error":"#NAME?"},{"$error":"#NAME?"},{"$error":"#NAME?"},{"$error":"#NAME?"},{"$error":"#NAME?"},{"$error":"#NAME?"},{"$error":"#NAME?"},{"$f":"HLOOKUP('III Tool Overview'!$H$6,LookUpData_Pop!$B$1:$AV$269,LookUpData_Pop!BB196,FALSE)","v":149252},5.2969683285781723,null,{"$f":"AO201","v":149252},null,null,null,{"$error":"#DIV/0!"},{"$error":"#DIV/0!"},{"$error":"#DIV/0!"},null,3.5490099486627799E-5,0,null,{"$f":"(AP201/AO201)*LookUpData_Pop!$B$282","v":0.24843069640639459},{"$f":"(AQ201/AP201)*LookUpData_Pop!$B$282","v":0},null,0.5,5]
["Male 30-34",32.5,"male",4,{"$f":"HLOOKUP('III Tool Overview'!$H$6,Prevalence!$B$2:$AV$268,Prevalence!AW192,FALSE)","v":0.55857086899551978},{"$f":"HLOOKUP('III Tool Overview'!$H$6,LookUpData_Pop!$B$1:$AV$269,LookUpData_Pop!BB197,FALSE)/5","v":28315.8},{"$f":"'III Tool Overview'!$H$9/110","v":0},{"$f":"IF('III Tool Overview'!$H$10=\"Even distribution\",Targeting!C200,IF('III Tool Overview'!$H$10=\"Targeting to Q1\",Targeting!D200,IF('III Tool Overview'!$H$10=\"Targeting to Q1 & Q2\",Targeting!E200,IF('III Tool Overview'!$H$10=\"Proportionate to need\",Targeting!F200))))","v":1186.8505396938667},34.638426973992871,34.617101556613413,151.24607186089423,151.15318592384057,395.70116399826441,395.4594144188909,1147.6101206017047,1146.9204046454047,2320.7746072575223,2319.3458042930988,1.4288029644235394,9895.8419522529475,9889.7643551405745,6.0775971123730415,24779.950324422498,24764.808259061905,15.142065360592824,64663.817510172237,64624.901459381719,38.916050790518057,{"$error":"#NAME?"},{"$error":"#NAME?"},{"$error":"#NAME?"},{"$error":"#NAME?"},{"$error":"#NAME?"},{"$error":"#NAME?"},{"$error":"#NAME?"},{"$error":"#NAME?"},{"$error":"#NAME?"},{"$error":"#NAME?"},{"$error":"#NAME?"},{"$error":"#NAME?"},{"$f":"HLOOKUP('III Tool Overview'!$H$6,LookUpData_Pop!$B$1:$AV$269,LookUpData_Pop!BB197,FALSE)","v":141579},5.3235622461629077,null,141579,null,null,null,{"$error":"#DIV/0!"},{"$error":"#DIV/0!"},{"$error":"#DIV/0!"},null,3.7601355046743566E-5,0,null,{"$f":"(AP202/AO202)*LookUpData_Pop!$B$283","v":0.26320948532720495},{"$f":"(AQ202/AP202)*LookUpData_Pop!$B$283","v":0},null,0.5,5]
["Male 35-39",37.5,"male",4,{"$f":"HLOOKUP('III Tool Overview'!$H$6,Prevalence!$B$2:$AV$268,Prevalence!AW193,FALSE)","v":0.60203040021937837},{"$f":"HLOOKUP('III Tool Overview'!$H$6,LookUpData_Pop!$B$1:$AV$269,LookUpData_Pop!BB198,FALSE)/5","v":34781.4},{"$f":"'III Tool Overview'!$H$9/110","v":0},{"$f":"IF('III Tool Overview'!$H$10=\"Even distribution\",Targeting!C201,IF('III Tool Overview'!$H$10=\"Targeting to Q1\",Targeting!D201,IF('III Tool Overview'!$H$10=\"Targeting to Q1 & Q2\",Targeting!E201,IF('III Tool Overview'!$H$10=\"Proportionate to need\",Targeting!F201))))","v":1343.9322152602838},65.673309238623276,65.636464748546217,286.43139886684332,286.27130341317655,747.59093858451877,747.17637836654478,2152.0900629077228,2150.9259954743065,4006.0718635560197,4003.824349661319,2.2475138947006599,17022.524871721835,17013.009964932222,9.5149067896127235,42335.018329623679,42311.534530873359,23.483798750319693,108424.79407796431,108366.01001185169,58.784066112624714,{"$error":"#NAME?"},{"$error":"#NAME?"},{"$error":"#NAME?"},{"$error":"#NAME?"},{"$error":"#NAME?"},{"$error":"#NAME?"},{"$error":"#NAME?"},{"$error":"#NAME?"},{"$error":"#NAME?"},{"$error":"#NAME?"},{"$error":"#NAME?"},{"$error":"#NAME?"},{"$f":"HLOOKUP('III Tool Overview'!$H$6,LookUpData_Pop!$B$1:$AV$269,LookUpData_Pop!BB198,FALSE)","v":173907},6.6516687347912269,null,173907,null,null,null,{"$error":"#DIV/0!"},{"$error":"#DIV/0!"},{"$error":"#DIV/0!"},null,3.824842435779599E-5,0,null,{"$f":"(AP203/AO203)*LookUpData_Pop!$B$284","v":0.26773897050457196},{"$f":"(AQ203/AP203)*LookUpData_Pop!$B$284","v":0},null,0.5,5]
["Male 40-44",42.5,"male",4,{"$f":"HLOOKUP('III Tool Overview'!$H$6,Prevalence!$B$2:$AV$268,Prevalence!AW194,FALSE)","v":0.60203040021937837},{"$f":"HLOOKUP('III Tool Overview'!$H$6,LookUpData_Pop!$B$1:$AV$269,LookUpData_Pop!BB199,FALSE)/5","v":40610.400000000001},{"$f":"'III Tool Overview'!$H$9/110","v":0},{"$f":"IF('III Tool Overview'!$H$10=\"Even distribution\",Targeting!C202,IF('III Tool Overview'!$H$10=\"Targeting to Q1\",Targeting!D202,IF('III Tool Overview'!$H$10=\"Targeting to Q1 & Q2\",Targeting!E202,IF('III Tool Overview'!$H$10=\"Proportionate to need\",Targeting!F202))))","v":1662.9967462325953},102.40281944677757,102.34195910322271,446.14096589098966,445.87713670459675,1161.7819959613539,1161.102192545015,3320.8807258426887,3319.0012155875538,5836.9607084663212,5833.4916688836938,3.4690395826273743,24729.841014593178,24715.215744969479,14.625269623698841,61149.263605298234,61113.465574127003,35.798031171230832,154136.21469230129,154048.67958159052,87.535110710770823,{"$error":"#NAME?"},{"$error":"#NAME?"},{"$error":"#NAME?"},{"$error":"#NAME?"},{"$error":"#NAME?"},{"$error":"#NAME?"},{"$error":"#NAME?"},{"$error":"#NAME?"},{"$error":"#NAME?"},{"$error":"#NAME?"},{"$error":"#NAME?"},{"$error":"#NAME?"},{"$f":"HLOOKUP('III Tool Overview'!$H$6,LookUpData_Pop!$B$1:$AV$269,LookUpData_Pop!BB199,FALSE)","v":203052},9.910453463852507,null,203052,null,null,null,{"$error":"#DIV/0!"},{"$error":"#DIV/0!"},{"$error":"#DIV/0!"},null,4.8807465397299741E-5,0,null,{"$f":"(AP204/AO204)*LookUpData_Pop!$B$285","v":0.3416522577810982},{"$f":"(AQ204/AP204)*LookUpData_Pop!$B$285","v":0},null,0.5,5]
["Male 45-49",47.5,"male",4,{"$f":"HLOOKUP('III Tool Overview'!$H$6,Prevalence!$B$2:$AV$268,Prevalence!AW195,FALSE)","v":0.5904249102063428},{"$f":"HLOOKUP('III Tool Overview'!$H$6,LookUpData_Pop!$B$1:$AV$269,LookUpData_Pop!BB200,FALSE)/5","v":40998.199999999997},{"$f":"'III Tool Overview'!$H$9/110","v":0},{"$f":"IF('III Tool Overview'!$H$10=\"Even distribution\",Targeting!C203,IF('III Tool Overview'!$H$10=\"Targeting to Q1\",Targeting!D203,IF('III Tool Overview'!$H$10=\"Targeting to Q1 & Q2\",Targeting!E203,IF('III Tool Overview'!$H$10=\"Proportionate to need\",Targeting!F203))))","v":1772.1918965698749},159.51283154862443,159.4125568469922,693.32340852249524,692.89093593708412,1796.590959049232,1795.4885772739117,5058.1388965199594,5055.1923670384067,8135.1544089798463,8130.0403991966023,5.1140097832440006,34272.680597383078,34251.299678917632,21.380918465445575,83803.426708412837,83751.961458354897,51.465250057939556,204783.55691751864,204663.5171264213,120.03979109734064,{"$error":"#NAME?"},{"$error":"#NAME?"},{"$error":"#NAME?"},{"$error":"#NAME?"},{"$error":"#NAME?"},{"$error":"#NAME?"},{"$error":"#NAME?"},{"$error":"#NAME?"},{"$error":"#NAME?"},{"$error":"#NAME?"},{"$error":"#NAME?"},{"$error":"#NAME?"},{"$f":"HLOOKUP('III Tool Overview'!$H$6,LookUpData_Pop!$B$1:$AV$269,LookUpData_Pop!BB200,FALSE)","v":204991},15.634547786075281,null,204991,null,null,null,{"$error":"#DIV/0!"},{"$error":"#DIV/0!"},{"$error":"#DIV/0!"},null,7.6269435175570056E-5,0,null,{"$f":"(AP205/AO205)*LookUpData_Pop!$B$286","v":0.53388604622899039},{"$f":"(AQ205/AP205)*LookUpData_Pop!$B$286","v":0},null,0.5,5]
["Male 50-54",52.5,"male",4,{"$f":"HLOOKUP('III Tool Overview'!$H$6,Prevalence!$B$2:$AV$268,Prevalence!AW196,FALSE)","v":0.5904249102063428},{"$f":"HLOOKUP('III Tool Overview'!$H$6,LookUpData_Pop!$B$1:$AV$269,LookUpData_Pop!BB201,FALSE)/5","v":37249.800000000003},{"$f":"'III Tool Overview'!$H$9/110","v":0},{"$f":"IF('III Tool Overview'!$H$10=\"Even distribution\",Targeting!C204,IF('III Tool Overview'!$H$10=\"Targeting to Q1\",Targeting!D204,IF('III Tool Overview'!$H$10=\"Targeting to Q1 & Q2\",Targeting!E204,IF('III Tool Overview'!$H$10=\"Proportionate to need\",Targeting!F204))))","v":1679.6313488846463},193.48127352678353,193.35445420625069,839.08996151199358,838.54565121342785,2164.1694163706284,2162.7960831287191,6006.5558803609601,6003.0009316731812,9093.619855758825,9087.6593476937833,5.9605080650417221,38123.442329957572,38098.707374254227,24.734955703344895,92317.027106979687,92258.371366982872,58.6557399968151,219565.42341447945,219434.24128960058,131.18212487886194,{"$error":"#NAME?"},{"$error":"#NAME?"},{"$error":"#NAME?"},{"$error":"#NAME?"},{"$error":"#NAME?"},{"$error":"#NAME?"},{"$error":"#NAME?"},{"$error":"#NAME?"},{"$error":"#NAME?"},{"$error":"#NAME?"},{"$error":"#NAME?"},{"$error":"#NAME?"},{"$f":"HLOOKUP('III Tool Overview'!$H$6,LookUpData_Pop!$B$1:$AV$269,LookUpData_Pop!BB201,FALSE)","v":186249},21.194711858391376,null,186249,null,null,null,{"$error":"#DIV/0!"},{"$error":"#DIV/0!"},{"$error":"#DIV/0!"},null,1.1379772164355983E-4,0,null,{"$f":"(AP206/AO206)*LookUpData_Pop!$B$287","v":0.79658405150491884},{"$f":"(AQ206/AP206)*LookUpData_Pop!$B$287","v":0},null,0.5,5]
["Male 55-59",57.5,"male",4,{"$f":"HLOOKUP('III Tool Overview'!$H$6,Prevalence!$B$2:$AV$268,Prevalence!AW197,FALSE)","v":0.440944791301353},{"$f":"HLOOKUP('III Tool Overview'!$H$6,LookUpData_Pop!$B$1:$AV$269,LookUpData_Pop!BB202,FALSE)/5","v":34536},{"$f":"'III Tool Overview'!$H$9/110","v":0},{"$f":"IF('III Tool Overview'!$H$10=\"Even distribution\",Targeting!C205,IF('III Tool Overview'!$H$10=\"Targeting to Q1\",Targeting!D205,IF('III Tool Overview'!$H$10=\"Targeting to Q1 & Q2\",Targeting!E205,IF('III Tool Overview'!$H$10=\"Proportionate to need\",Targeting!F205))))","v":1128.3115140647549},276.57899116147291,276.44278024791691,1193.6682704656423,1193.0904354734778,3047.7603085018141,3046.3378597412802,8204.8320247088031,8201.4233450340907,11339.73863762039,11334.153990164594,5.5846474557965848,47076.14673702146,47053.349792454879,22.796944566580351,111796.12703636635,111743.82139776948,52.305638596866629,251910.76760057296,251804.04302709678,106.72457347618183,{"$error":"#NAME?"},{"$error":"#NAME?"},{"$error":"#NAME?"},{"$error":"#NAME?"},{"$error":"#NAME?"},{"$error":"#NAME?"},{"$error":"#NAME?"},{"$error":"#NAME?"},{"$error":"#NAME?"},{"$error":"#NAME?"},{"$error":"#NAME?"},{"$error":"#NAME?"},{"$f":"HLOOKUP('III Tool Overview'!$H$6,LookUpData_Pop!$B$1:$AV$269,LookUpData_Pop!BB202,FALSE)","v":172680},29.522705773729619,null,172680,null,null,null,{"$error":"#DIV/0!"},{"$error":"#DIV/0!"},{"$error":"#DIV/0!"},null,1.7096771932898785E-4,0,null,{"$f":"(AP207/AO207)*LookUpData_Pop!$B$288","v":1.025806315973927},{"$f":"(AQ207/AP207)*LookUpData_Pop!$B$288","v":0},null,0.5,5]
["Male 60-64",62.5,"male",4,{"$f":"HLOOKUP('III Tool Overview'!$H$6,Prevalence!$B$2:$AV$268,Prevalence!AW198,FALSE)","v":0.440944791301353},{"$f":"HLOOKUP('III Tool Overview'!$H$6,LookUpData_Pop!$B$1:$AV$269,LookUpData_Pop!BB203,FALSE)/5","v":33921},{"$f":"'III Tool Overview'!$H$9/110","v":0},{"$f":"IF('III Tool Overview'!$H$10=\"Even distribution\",Targeting!C206,IF('III Tool Overview'!$H$10=\"Targeting to Q1\",Targeting!D206,IF('III Tool Overview'!$H$10=\"Targeting to Q1 & Q2\",Targeting!E206,IF('III Tool Overview'!$H$10=\"Proportionate to need\",Targeting!F206))))","v":1087.1928194506518},{"$f":"new_ci(2,B208,C208,D208,$C$1,G208,1,F208,E208*F208)","v":362.4039158517466},362.22910571931646,1556.9032413631362,1556.1693321635858,3937.5232505894437,3935.7558075605966,10304.190439599286,10300.236386109345,13408.944886514624,13402.476911614709,6.4679748999151343,55179.707562476142,55153.682440863995,26.025121612146904,128775.0300640481,128717.01014581628,58.019918231817428,276603.66125325806,276494.14535334212,109.51589991594665,{"$error":"#NAME?"},{"$error":"#NAME?"},{"$error":"#NAME?"},{"$error":"#NAME?"},{"$error":"#NAME?"},{"$error":"#NAME?"},{"$error":"#NAME?"},{"$error":"#NAME?"},{"$error":"#NAME?"},{"$error":"#NAME?"},{"$error":"#NAME?"},{"$error":"#NAME?"},{"$f":"HLOOKUP('III Tool Overview'!$H$6,LookUpData_Pop!$B$1:$AV$269,LookUpData_Pop!BB203,FALSE)","v":169605},46.626673866784955,null,169605,null,null,null,{"$error":"#DIV/0!"},{"$error":"#DIV/0!"},{"$error":"#DIV/0!"},null,2.7491332134539051E-4,0,null,{"$f":"(AP208/AO208)*LookUpData_Pop!$B$289","v":1.3745666067269526},{"$f":"(AQ208/AP208)*LookUpData_Pop!$B$289","v":0},null,0.5,5]
["Male 65-69",67.5,"male",4,null,null,null,null,null,null,null,null,null,null,null,null,null,null,null,null,null,null,null,null,null,null,null,null,null,null,null,null,null,null,null,null,null,null,null,null,{"$f":"HLOOKUP('III Tool Overview'!$H$6,LookUpData_Pop!$B$1:$AV$269,LookUpData_Pop!BB204,FALSE)","v":127123},56.535610031181591,null,127123,null,null,null,{"$error":"#DIV/0!"},{"$error":"#DIV/0!"},{"$error":"#DIV/0!"},null,4.4473155944385823E-4,0,null,{"$f":"(AP209/AO209)*LookUpData_Pop!$B$290","v":1.7789262377754329},{"$f":"(AQ209/AP209)*LookUpData_Pop!$B$290","v":0},null,0.5,5]
["Male 70-74",72.5,"male",4,null,null,null,null,null,null,null,null,null,null,null,null,null,null,null,null,null,null,null,null,null,null,null,null,null,null,null,null,null,null,null,null,null,null,null,null,{"$f":"HLOOKUP('III Tool Overview'!$H$6,LookUpData_Pop!$B$1:$AV$269,LookUpData_Pop!BB205,FALSE)","v":100958},70.483532561324864,null,100958,null,null,null,{"$error":"#DIV/0!"},{"$error":"#DIV/0!"},{"$error":"#DIV/0!"},null,6.9814707661923633E-4,0,null,{"$f":"(AP210/AO210)*LookUpData_Pop!$B$291","v":2.0944412298577091},{"$f":"(AQ210/AP210)*LookUpData_Pop!$B$291","v":0},null,0.5,5]
["Male 75-79",77.5,"male",4,null,null,null,null,null,null,null,null,null,null,null,null,null,null,null,null,null,null,null,null,null,null,null,null,null,null,null,null,null,null,null,null,null,null,null,null,{"$f":"HLOOKUP('III Tool Overview'!$H$6,LookUpData_Pop!$B$1:$AV$269,LookUpData_Pop!BB206,FALSE)","v":76200},96.645220814368301,null,76200,null,null,null,{"$error":"#DIV/0!"},{"$error":"#DIV/0!"},{"$error":"#DIV/0!"},null,1.2683099844405289E-3,0,null,{"$f":"(AP211/AO211)*LookUpData_Pop!$B$292","v":2.536619968881058},{"$f":"(AQ211/AP211)*LookUpData_Pop!$B$292","v":0},null,0.5,5]
["Male 80-84",82.5,"male",4,null,null,null,null,null,null,null,null,null,null,null,null,null,null,null,null,null,null,null,null,null,null,null,null,null,null,null,null,null,null,null,null,null,null,null,null,{"$f":"HLOOKUP('III Tool Overview'!$H$6,LookUpData_Pop!$B$1:$AV$269,LookUpData_Pop!BB207,FALSE)","v":48612},107.18665148462819,null,48612,null,null,null,{"$f":"AT212/AVERAGE(AT$199:AT$212)","v":{"$error":"#DIV/0!"}},{"$error":"#DIV/0!"},{"$error":"#DIV/0!"},null,2.204942225883078E-3,0,null,{"$f":"(AP212/AO212)*LookUpData_Pop!$B$293","v":2.204942225883078},{"$f":"(AQ212/AP212)*LookUpData_Pop!$B$293","v":0},null,0.5,5]
["Male 85-89",87.5,"male",4,null,null,null,null,null,null,null,null,null,null,null,null,null,null,null,null,null,null,null,null,null,null,null,null,null,null,null,null,null,null,null,null,null,null,null,null,{"$f":"HLOOKUP('III Tool Overview'!$H$6,LookUpData_Pop!$B$1:$AV$269,LookUpData_Pop!BB209,FALSE)","v":8557},155.54108632726036,null,null,null,null,null,null,null,null,null,1.8177058119347944E-2,0,null,{"$f":"(AP213/AO213)*LookUpData_Pop!$B$294","v":18.177058119347944},{"$f":"(AQ213/AP213)*LookUpData_Pop!$B$294","v":0},null,0.5,{"$f":"2/AZ213","v":110.02880591943362}]
["Male 90+",95,"male",4,null,null,null,null,null,null,null,null,null,null,null,null,null,null,null,null,null,null,null,null,null,null,null,null,null,null,null,null,null,null,null,null,null,null,null,null,{"$f":"HLOOKUP('III Tool Overview'!$H$6,LookUpData_Pop!$B$1:$AV$269,LookUpData_Pop!BB210,FALSE)","v":26555},156.54108632725999]
["TOTAL",null,null,null,null,{"$f":"SUM(F199:F214)","v":343382.2},{"$f":"SUM(G199:G214)","v":0},{"$f":"SUM(H199:H214)","v":12446.318697794301},{"$f":"SUM(I199:I214)","v":1254.7784576366846},{"$f":"SUM(J199:J214)","v":1254.0939177164744},{"$f":"SUM(K199:K214)","v":5429.4013676573486},{"$f":"SUM(L199:L214)","v":5426.4765064155026},{"$f":"SUM(M199:M214)","v":13939.43362347465},{"$f":"SUM(N199:N214)","v":13932.119710194173},{"$f":"SUM(O199:O214)","v":38202.235104930151},{"$f":"SUM(P199:P214)","v":38183.736854523573},{"$f":"SUM(Q199:Q214)","v":58659.874992304729},{"$f":"SUM(R199:R214)","v":58627.570949755609},{"$f":"SUM(S199:S214)","v":32.304042549112637},{"$f":"SUM(T199:T214)","v":245635.46336171127},{"$f":"SUM(U199:U214)","v":245501.63135934953},{"$f":"SUM(V199:V214)","v":133.83200236179346},{"$f":"SUM(W199:W214)","v":593705.15122328582},{"$f":"SUM(X199:X214)","v":593388.49172743165},{"$f":"SUM(Y199:Y214)","v":316.65949585418275},{"$f":"SUM(Z199:Z214)","v":1409669.0239836059},{"$f":"SUM(AA199:AA214)","v":1408959.0799608107},{"$f":"SUM(AB199:AB214)","v":709.94402279523638},{"$f":"SUM(AC199:AC214)","v":{"$error":"#NAME?"}},{"$f":"SUM(AD199:AD214)","v":{"$error":"#NAME?"}},{"$f":"SUM(AE199:AE214)","v":{"$error":"#NAME?"}},{"$f":"SUM(AF199:AF214)","v":{"$error":"#NAME?"}},{"$f":"SUM(AG199:AG214)","v":{"$error":"#NAME?"}},{"$f":"SUM(AH199:AH214)","v":{"$error":"#NAME?"}},{"$f":"SUM(AI199:AI214)","v":{"$error":"#NAME?"}},{"$f":"SUM(AJ199:AJ214)","v":{"$error":"#NAME?"}},{"$f":"SUM(AK199:AK214)","v":{"$error":"#NAME?"}},{"$f":"SUM(AL199:AL214)","v":{"$error":"#NAME?"}},{"$f":"SUM(AM199:AM214)","v":{"$error":"#NAME?"}},{"$f":"SUM(AN199:AN214)","v":{"$error":"#NAME?"}}]
["Female <1",0.5,"female",4,null,null,null,null,null,null,null,null,null,null,null,null,null,null,null,null,null,null,null,null,null,null,null,null,null,null,null,null,null,null,null,null,null,null,null,null,{"$f":"HLOOKUP('III Tool Overview'!$H$6,LookUpData_Pop!$B$1:$AV$269,LookUpData_Pop!BB210,FALSE)","v":26555},3.0090733441533342,null,null,null,null,null,null,null,null,null,1.1331475594627505E-4,0,null,null,null,null,0.1,1]
["Female 1-4",2.5,"female",4,null,null,null,null,null,null,null,null,null,null,null,null,null,null,null,null,null,null,null,null,null,null,null,null,null,null,null,null,null,null,null,null,null,null,null,null,{"$f":"HLOOKUP('III Tool Overview'!$H$6,LookUpData_Pop!$B$1:$AV$269,LookUpData_Pop!BB211,FALSE)","v":106001},0.75764074023623729,null,null,null,null,null,null,null,null,null,7.1474867240520115E-6,0,null,{"$f":"((AP217+AP216)/(AO217+AO216))*LookUpData_Pop!$B$277","v":0.22732816828447275},{"$f":"((AQ217+AQ216)/(AP217+AP216))*LookUpData_Pop!$B$277","v":0},null,0.5,4]
["Female 5-9",7.5,"female",4,null,null,null,null,null,null,null,null,null,null,null,null,null,null,null,null,null,null,null,null,null,null,null,null,null,null,null,null,null,null,null,null,null,null,null,null,{"$f":"HLOOKUP('III Tool Overview'!$H$6,LookUpData_Pop!$B$1:$AV$269,LookUpData_Pop!BB212,FALSE)","v":131633},0.27334471580182473,null,null,null,null,null,null,null,null,null,2.0765667864579909E-6,0,null,{"$f":"(AP218/AO218)*LookUpData_Pop!$B$278","v":1.4535967505205936E-2},{"$f":"(AQ218/AP218)*LookUpData_Pop!$B$278","v":0},null,0.5,5]
["Female 10-14",12.5,"female",4,null,null,null,null,null,null,null,null,null,null,null,null,null,null,null,null,null,null,null,null,null,null,null,null,null,null,null,null,null,null,null,null,null,null,null,null,{"$f":"HLOOKUP('III Tool Overview'!$H$6,LookUpData_Pop!$B$1:$AV$269,LookUpData_Pop!BB213,FALSE)","v":142831},0.34929485077074451,null,null,null,null,null,null,null,null,null,2.4455114839967828E-6,0,null,{"$f":"(AP219/AO219)*LookUpData_Pop!$B$279","v":1.7118580387977481E-2},{"$f":"(AQ219/AP219)*LookUpData_Pop!$B$279","v":0},null,0.5,5]
["Female 15-19",17.5,"female",4,{"$f":"HLOOKUP('III Tool Overview'!$H$6,Prevalence!$B$2:$AV$268,Prevalence!AW209,FALSE)","v":0.28741402946774391},{"$f":"HLOOKUP('III Tool Overview'!$H$6,LookUpData_Pop!$B$1:$AV$269,LookUpData_Pop!BB214,FALSE)/5","v":29622.400000000001},{"$f":"'III Tool Overview'!$H$9/110","v":0},{"$f":"IF('III Tool Overview'!$H$10=\"Even distribution\",Targeting!C218,IF('III Tool Overview'!$H$10=\"Targeting to Q1\",Targeting!D218,IF('III Tool Overview'!$H$10=\"Targeting to Q1 & Q2\",Targeting!E218,IF('III Tool Overview'!$H$10=\"Proportionate to need\",Targeting!F218))))","v":486.4575864306421},{"$f":"new_ci(2,B220,C220,D220,$C$1,G220,1,F220,E220*F220)","v":5.3952555157523268},{"$f":"new_ci(2,B220,C220,D220,$C$1,G220+H220,1,F220,E220*F220)","v":5.3938573085389763},{"$f":"new_ci(5,B220,C220,D220,$C$1,G220,1,F220,E220*F220)","v":23.957615989026735},{"$f":"new_ci(5,B220,C220,D220,$C$1,G220+H220,1,F220,E220*F220)","v":23.95140990488569},{"$f":"new_ci(10,B220,C220,D220,$C$1,G220,1,F220,E220*F220)","v":64.63901922561692},{"$f":"new_ci(10,B220,C220,D220,$C$1,G220+H220,1,F220,E220*F220)","v":64.62229053719679},{"$f":"new_ci(20,B220,C220,D220,$C$1,G220,1,F220,E220*F220)","v":201.60822781966863},{"$f":"new_ci(20,B220,C220,D220,$C$1,G220+H220,1,F220,E220*F220)","v":201.55621617735414},{"$f":"new_yll(2,B220,C220,D220,$C$1,G220,1,F220,E220*F220)","v":437.01569677593847},{"$f":"new_yll(2,B220,C220,D220,$C$1,G220+H220,1,F220,E220*F220)","v":436.9024419916571},{"$f":"Q220-R220","v":0.11325478428136648},{"$f":"new_yll(5,B220,C220,D220,$C$1,G220,1,F220,E220*F220)","v":1902.6047118371134},{"$f":"new_yll(5,B220,C220,D220,$C$1,G220+H220,1,F220,E220*F220)","v":1902.1118507772821},{"$f":"T220-U220","v":0.49286105983128436},{"$f":"new_yll(10,B220,C220,D220,$C$1,G220,1,F220,E220*F220)","v":4948.2159581470387},{"$f":"new_yll(10,B220,C220,D220,$C$1,G220+H220,1,F220,E220*F220)","v":4946.9353149728831},{"$f":"W220-X220","v":1.2806431741555571},{"$f":"new_yll(20,B220,C220,D220,$C$1,G220,1,F220,E220*F220)","v":14117.981755154102},{"$f":"new_yll(20,B220,C220,D220,$C$1,G220+H220,1,F220,E220*F220)","v":14114.33881916666},{"$f":"Z220-AA220","v":3.6429359874418878},{"$f":"hosp_count(2,B220,C220,D220,$C$1,G220,1,F220,E220*F220)","v":{"$error":"#NAME?"}},{"$f":"hosp_count(2,B220,C220,D220,$C$1,G220+H220,1,F220,E220*F220)","v":{"$error":"#NAME?"}},{"$f":"AC220-AD220","v":{"$error":"#NAME?"}},{"$f":"hosp_count(5,B220,C220,D220,$C$1,G220,1,F220,E220*F220)","v":{"$error":"#NAME?"}},{"$f":"hosp_count(5,B220,C220,D220,$C$1,G220+H220,1,F220,E220*F220)","v":{"$error":"#NAME?"}},{"$f":"AF220-AG220","v":{"$error":"#NAME?"}},{"$f":"hosp_count(10,B220,C220,D220,$C$1,G220,1,F220,E220*F220)","v":{"$error":"#NAME?"}},{"$f":"hosp_count(10,B220,C220,D220,$C$1,G220+H220,1,F220,E220*F220)","v":{"$error":"#NAME?"}},{"$f":"AI220-AJ220","v":{"$error":"#NAME?"}},{"$f":"hosp_count(20,B220,C220,D220,$C$1,G220,1,F220,E220*F220)","v":{"$error":"#NAME?"}},{"$f":"hosp_count(20,B220,C220,D220,$C$1,G220+H220,1,F220,E220*F220)","v":{"$error":"#NAME?"}},{"$f":"AL220-AM220","v":{"$error":"#NAME?"}},{"$f":"HLOOKUP('III Tool Overview'!$H$6,LookUpData_Pop!$B$1:$AV$269,LookUpData_Pop!BB214,FALSE)","v":148112},1.2964215702561719,null,{"$f":"AO220*(0.8)","v":118489.60000000001},null,null,null,{"$f":"AT220/AVERAGE(AT$220:AT$233)","v":{"$error":"#DIV/0!"}},{"$f":"$AV$8*$AV$18*AV49","v":{"$error":"#DIV/0!"}},{"$f":"AW220*AR220*$AT$4","v":{"$error":"#DIV/0!"}},null,8.7529813266728678E-6,0,null,{"$f":"(AP220/AO220)*LookUpData_Pop!$B$280","v":6.1270869286710078E-2},{"$f":"(AQ220/AP220)*LookUpData_Pop!$B$280","v":0},null,0.5,5]
["Female 20-24",22.5,"female",4,{"$f":"HLOOKUP('III Tool Overview'!$H$6,Prevalence!$B$2:$AV$268,Prevalence!AW210,FALSE)","v":0.28741402946774391},{"$f":"HLOOKUP('III Tool Overview'!$H$6,LookUpData_Pop!$B$1:$AV$269,LookUpData_Pop!BB215,FALSE)/5","v":29721.200000000001},{"$f":"'III Tool Overview'!$H$9/110","v":0},{"$f":"IF('III Tool Overview'!$H$10=\"Even distribution\",Targeting!C219,IF('III Tool Overview'!$H$10=\"Targeting to Q1\",Targeting!D219,IF('III Tool Overview'!$H$10=\"Targeting to Q1 & Q2\",Targeting!E219,IF('III Tool Overview'!$H$10=\"Proportionate to need\",Targeting!F219))))","v":639.66962162461618},{"$f":"new_ci(2,B221,C221,D221,$C$1,G221,1,F221,E221*F221)","v":7.512166989638982},7.5096119180807763,33.353637846690425,33.342300180802773,89.965669141042497,89.935127491745135,280.345652329144,280.2508975594593,578.43685820220162,578.24011769221977,0.19674050998185066,2515.3827198941126,2514.5276782549167,{"$f":"T221-U221","v":0.85504163919586063},6527.2037373581679,6524.9877823090565,{"$f":"W221-X221","v":2.2159550491114715},18511.457937890522,18505.199361804047,{"$f":"Z221-AA221","v":6.2585760864749318},{"$f":"hosp_count(2,B221,C221,D221,$C$1,G221,1,F221,E221*F221)","v":{"$error":"#NAME?"}},{"$f":"hosp_count(2,B221,C221,D221,$C$1,G221+H221,1,F221,E221*F221)","v":{"$error":"#NAME?"}},{"$f":"AC221-AD221","v":{"$error":"#NAME?"}},{"$f":"hosp_count(5,B221,C221,D221,$C$1,G221,1,F221,E221*F221)","v":{"$error":"#NAME?"}},{"$f":"hosp_count(5,B221,C221,D221,$C$1,G221+H221,1,F221,E221*F221)","v":{"$error":"#NAME?"}},{"$f":"AF221-AG221","v":{"$error":"#NAME?"}},{"$f":"hosp_count(10,B221,C221,D221,$C$1,G221,1,F221,E221*F221)","v":{"$error":"#NAME?"}},{"$f":"hosp_count(10,B221,C221,D221,$C$1,G221+H221,1,F221,E221*F221)","v":{"$error":"#NAME?"}},{"$f":"AI221-AJ221","v":{"$error":"#NAME?"}},{"$f":"hosp_count(20,B221,C221,D221,$C$1,G221,1,F221,E221*F221)","v":{"$error":"#NAME?"}},{"$f":"hosp_count(20,B221,C221,D221,$C$1,G221+H221,1,F221,E221*F221)","v":{"$error":"#NAME?"}},{"$f":"AL221-AM221","v":{"$error":"#NAME?"}},{"$f":"HLOOKUP('III Tool Overview'!$H$6,LookUpData_Pop!$B$1:$AV$269,LookUpData_Pop!BB215,FALSE)","v":148606},2.0190648435853329,null,{"$f":"AO221","v":148606},null,null,null,{"$f":"AT221/AVERAGE(AT$220:AT$233)","v":{"$error":"#DIV/0!"}},{"$error":"#DIV/0!"},{"$error":"#DIV/0!"},null,1.3586698004019574E-5,0,null,{"$f":"(AP221/AO221)*LookUpData_Pop!$B$281","v":9.5106886028137022E-2},{"$f":"(AQ221/AP221)*LookUpData_Pop!$B$281","v":0},null,0.5,5]
["Female 25-29",27.5,"female",4,{"$f":"HLOOKUP('III Tool Overview'!$H$6,Prevalence!$B$2:$AV$268,Prevalence!AW211,FALSE)","v":0.48790819677993741},{"$f":"HLOOKUP('III Tool Overview'!$H$6,LookUpData_Pop!$B$1:$AV$269,LookUpData_Pop!BB216,FALSE)/5","v":28717.8},{"$f":"'III Tool Overview'!$H$9/110","v":0},{"$f":"IF('III Tool Overview'!$H$10=\"Even distribution\",Targeting!C220,IF('III Tool Overview'!$H$10=\"Targeting to Q1\",Targeting!D220,IF('III Tool Overview'!$H$10=\"Targeting to Q1 & Q2\",Targeting!E220,IF('III Tool Overview'!$H$10=\"Proportionate to need\",Targeting!F220))))","v":1043.4743583016809},11.865842440964066,11.85939316507697,52.668907549613174,52.640306309350791,141.97762701427081,141.90067632214357,441.50296883973181,441.26523363123164,842.47481330844869,842.0169147204648,0.45789858798389105,3656.052759207751,3654.0673618614383,1.9853973463127659,9449.1216458632971,9443.999954956902,5.1216909063950879,26507.843873569196,26493.563380232612,14.280493336584186,{"$error":"#NAME?"},{"$error":"#NAME?"},{"$error":"#NAME?"},{"$error":"#NAME?"},{"$error":"#NAME?"},{"$error":"#NAME?"},{"$error":"#NAME?"},{"$error":"#NAME?"},{"$error":"#NAME?"},{"$error":"#NAME?"},{"$error":"#NAME?"},{"$error":"#NAME?"},{"$f":"HLOOKUP('III Tool Overview'!$H$6,LookUpData_Pop!$B$1:$AV$269,LookUpData_Pop!BB216,FALSE)","v":143589},1.6827411167512689,null,{"$f":"AO222","v":143589},null,null,null,{"$error":"#DIV/0!"},{"$error":"#DIV/0!"},{"$error":"#DIV/0!"},null,1.171915060869056E-5,0,null,{"$f":"(AP222/AO222)*LookUpData_Pop!$B$282","v":8.2034054260833919E-2},{"$f":"(AQ222/AP222)*LookUpData_Pop!$B$282","v":0},null,0.5,5]
["Female 30-34",32.5,"female",4,{"$f":"HLOOKUP('III Tool Overview'!$H$6,Prevalence!$B$2:$AV$268,Prevalence!AW212,FALSE)","v":0.48790819677993741},{"$f":"HLOOKUP('III Tool Overview'!$H$6,LookUpData_Pop!$B$1:$AV$269,LookUpData_Pop!BB217,FALSE)/5","v":29745.4},{"$f":"'III Tool Overview'!$H$9/110","v":0},{"$f":"IF('III Tool Overview'!$H$10=\"Even distribution\",Targeting!C221,IF('III Tool Overview'!$H$10=\"Targeting to Q1\",Targeting!D221,IF('III Tool Overview'!$H$10=\"Targeting to Q1 & Q2\",Targeting!E221,IF('III Tool Overview'!$H$10=\"Proportionate to need\",Targeting!F221))))","v":1073.359705150456},17.055110067239887,17.045904042561446,75.681283496998077,75.640481993061258,203.88590724554291,203.77628169785714,632.70645638915789,632.36932960363504,1142.6923745050724,1142.0755708516169,0.61680365345546306,4950.7664880114526,4948.0973769387037,2.6691110727488194,12754.088158395078,12747.229845409576,6.8583129855014704,35462.663110234098,35443.753875206254,18.909235027844261,{"$error":"#NAME?"},{"$error":"#NAME?"},{"$error":"#NAME?"},{"$error":"#NAME?"},{"$error":"#NAME?"},{"$error":"#NAME?"},{"$error":"#NAME?"},{"$error":"#NAME?"},{"$error":"#NAME?"},{"$error":"#NAME?"},{"$error":"#NAME?"},{"$error":"#NAME?"},{"$f":"HLOOKUP('III Tool Overview'!$H$6,LookUpData_Pop!$B$1:$AV$269,LookUpData_Pop!BB217,FALSE)","v":148727},1.874159530044589,null,148727,null,null,null,{"$error":"#DIV/0!"},{"$error":"#DIV/0!"},{"$error":"#DIV/0!"},null,1.2601340241143767E-5,0,null,{"$f":"(AP223/AO223)*LookUpData_Pop!$B$283","v":8.8209381688006364E-2},{"$f":"(AQ223/AP223)*LookUpData_Pop!$B$283","v":0},null,0.5,5]
["Female 35-39",37.5,"female",4,{"$f":"HLOOKUP('III Tool Overview'!$H$6,Prevalence!$B$2:$AV$268,Prevalence!AW213,FALSE)","v":0.58820116104950448},{"$f":"HLOOKUP('III Tool Overview'!$H$6,LookUpData_Pop!$B$1:$AV$269,LookUpData_Pop!BB218,FALSE)/5","v":37438.400000000001},{"$f":"'III Tool Overview'!$H$9/110","v":0},{"$f":"IF('III Tool Overview'!$H$10=\"Even distribution\",Targeting!C222,IF('III Tool Overview'!$H$10=\"Targeting to Q1\",Targeting!D222,IF('III Tool Overview'!$H$10=\"Targeting to Q1 & Q2\",Targeting!E222,IF('III Tool Overview'!$H$10=\"Proportionate to need\",Targeting!F222))))","v":1402.2433815141617},35.087780898860942,35.068625670687055,155.60165692387943,155.51687200972304,418.6095259678716,418.38238388667833,1292.986575036276,1292.2948470320084,2140.3546348305176,2139.1861659119104,1.1684689186072319,9245.3068000906824,9240.2690466408494,5.0377534498329624,23675.827491680262,23662.978513382812,12.84897829745023,64739.664985104566,64704.986499503146,34.678485601420107,{"$error":"#NAME?"},{"$error":"#NAME?"},{"$error":"#NAME?"},{"$error":"#NAME?"},{"$error":"#NAME?"},{"$error":"#NAME?"},{"$error":"#NAME?"},{"$error":"#NAME?"},{"$error":"#NAME?"},{"$error":"#NAME?"},{"$error":"#NAME?"},{"$error":"#NAME?"},{"$f":"HLOOKUP('III Tool Overview'!$H$6,LookUpData_Pop!$B$1:$AV$269,LookUpData_Pop!BB218,FALSE)","v":187192},3.837628126745467,null,187192,null,null,null,{"$error":"#DIV/0!"},{"$error":"#DIV/0!"},{"$error":"#DIV/0!"},null,2.0501026361946381E-5,0,null,{"$f":"(AP224/AO224)*LookUpData_Pop!$B$284","v":0.14350718453362465},{"$f":"(AQ224/AP224)*LookUpData_Pop!$B$284","v":0},null,0.5,5]
["Female 40-44",42.5,"female",4,{"$f":"HLOOKUP('III Tool Overview'!$H$6,Prevalence!$B$2:$AV$268,Prevalence!AW214,FALSE)","v":0.58820116104950448},{"$f":"HLOOKUP('III Tool Overview'!$H$6,LookUpData_Pop!$B$1:$AV$269,LookUpData_Pop!BB219,FALSE)/5","v":42822},{"$f":"'III Tool Overview'!$H$9/110","v":0},{"$f":"IF('III Tool Overview'!$H$10=\"Even distribution\",Targeting!C223,IF('III Tool Overview'!$H$10=\"Targeting to Q1\",Targeting!D223,IF('III Tool Overview'!$H$10=\"Targeting to Q1 & Q2\",Targeting!E223,IF('III Tool Overview'!$H$10=\"Proportionate to need\",Targeting!F223))))","v":1745.4834153911484},55.686263727690829,55.653190007262943,246.79175773256731,246.64556773121774,663.01283873694229,662.62236865444845,2038.3647523820882,2037.1876748812783,3174.117032478377,3172.2318304139876,1.8852020643894321,13676.463096374162,13668.361371016555,8.1017253576064832,34848.950561241792,34828.42156617494,20.528995066852076,93949.449030003845,93895.09269743695,54.356332566894707,{"$error":"#NAME?"},{"$error":"#NAME?"},{"$error":"#NAME?"},{"$error":"#NAME?"},{"$error":"#NAME?"},{"$error":"#NAME?"},{"$error":"#NAME?"},{"$error":"#NAME?"},{"$error":"#NAME?"},{"$error":"#NAME?"},{"$error":"#NAME?"},{"$error":"#NAME?"},{"$f":"HLOOKUP('III Tool Overview'!$H$6,LookUpData_Pop!$B$1:$AV$269,LookUpData_Pop!BB219,FALSE)","v":214110},6.6985049948329314,null,214110,null,null,null,{"$error":"#DIV/0!"},{"$error":"#DIV/0!"},{"$error":"#DIV/0!"},null,3.1285343957932519E-5,0,null,{"$f":"(AP225/AO225)*LookUpData_Pop!$B$285","v":0.21899740770552764},{"$f":"(AQ225/AP225)*LookUpData_Pop!$B$285","v":0},null,0.5,5]
["Female 45-49",47.5,"female",4,{"$f":"HLOOKUP('III Tool Overview'!$H$6,Prevalence!$B$2:$AV$268,Prevalence!AW215,FALSE)","v":0.55068776147912801},{"$f":"HLOOKUP('III Tool Overview'!$H$6,LookUpData_Pop!$B$1:$AV$269,LookUpData_Pop!BB220,FALSE)/5","v":42634.2},{"$f":"'III Tool Overview'!$H$9/110","v":0},{"$f":"IF('III Tool Overview'!$H$10=\"Even distribution\",Targeting!C224,IF('III Tool Overview'!$H$10=\"Targeting to Q1\",Targeting!D224,IF('III Tool Overview'!$H$10=\"Targeting to Q1 & Q2\",Targeting!E224,IF('III Tool Overview'!$H$10=\"Proportionate to need\",Targeting!F224))))","v":1747.3420498023768},90.602635123807644,90.548029690561023,400.9555545283983,400.71496253806913,1073.7824302460706,1073.1443088044452,3266.5758473698083,3264.6972779020034,4620.7343913141895,4617.9495142186124,2.7848770955770306,19814.493959087333,19802.603486207812,11.89047287952053,50004.838606100777,49975.107521124912,29.731084975865087,131113.15904578613,131037.47609168655,75.682954099582275,{"$error":"#NAME?"},{"$error":"#NAME?"},{"$error":"#NAME?"},{"$error":"#NAME?"},{"$error":"#NAME?"},{"$error":"#NAME?"},{"$error":"#NAME?"},{"$error":"#NAME?"},{"$error":"#NAME?"},{"$error":"#NAME?"},{"$error":"#NAME?"},{"$error":"#NAME?"},{"$f":"HLOOKUP('III Tool Overview'!$H$6,LookUpData_Pop!$B$1:$AV$269,LookUpData_Pop!BB220,FALSE)","v":213171},10.818945715697962,null,213171,null,null,null,{"$error":"#DIV/0!"},{"$error":"#DIV/0!"},{"$error":"#DIV/0!"},null,5.0752427467610332E-5,0,null,{"$f":"(AP226/AO226)*LookUpData_Pop!$B$286","v":0.3552669922732723},{"$f":"(AQ226/AP226)*LookUpData_Pop!$B$286","v":0},null,0.5,5]
["Female 50-54",52.5,"female",4,{"$f":"HLOOKUP('III Tool Overview'!$H$6,Prevalence!$B$2:$AV$268,Prevalence!AW216,FALSE)","v":0.55068776147912801},{"$f":"HLOOKUP('III Tool Overview'!$H$6,LookUpData_Pop!$B$1:$AV$269,LookUpData_Pop!BB221,FALSE)/5","v":38614.400000000001},{"$f":"'III Tool Overview'!$H$9/110","v":0},{"$f":"IF('III Tool Overview'!$H$10=\"Even distribution\",Targeting!C225,IF('III Tool Overview'!$H$10=\"Targeting to Q1\",Targeting!D225,IF('III Tool Overview'!$H$10=\"Targeting to Q1 & Q2\",Targeting!E225,IF('III Tool Overview'!$H$10=\"Proportionate to need\",Targeting!F225))))","v":1608.9024020286904},113.83418410431608,113.76445314671231,503.04050214010863,502.73423235031294,1342.9456169265779,1342.1388875905691,4042.930302894486,4040.610103200544,5350.2066529028561,5346.9292978954791,3.2773550073770821,22847.768051544746,22833.855967056978,13.91208448776888,57177.55956972111,57143.186521536751,34.373048184359504,146293.0844677889,146208.63758369107,84.446884097822476,{"$error":"#NAME?"},{"$error":"#NAME?"},{"$error":"#NAME?"},{"$error":"#NAME?"},{"$error":"#NAME?"},{"$error":"#NAME?"},{"$error":"#NAME?"},{"$error":"#NAME?"},{"$error":"#NAME?"},{"$error":"#NAME?"},{"$error":"#NAME?"},{"$error":"#NAME?"},{"$f":"HLOOKUP('III Tool Overview'!$H$6,LookUpData_Pop!$B$1:$AV$269,LookUpData_Pop!BB221,FALSE)","v":193072},17.0978102189781,null,193072,null,null,null,{"$error":"#DIV/0!"},{"$error":"#DIV/0!"},{"$error":"#DIV/0!"},null,8.8556653574718756E-5,0,null,{"$f":"(AP227/AO227)*LookUpData_Pop!$B$287","v":0.6198965750230313},{"$f":"(AQ227/AP227)*LookUpData_Pop!$B$287","v":0},null,0.5,5]
["Female 55-59",57.5,"female",4,{"$f":"HLOOKUP('III Tool Overview'!$H$6,Prevalence!$B$2:$AV$268,Prevalence!AW217,FALSE)","v":0.34319743605625586},{"$f":"HLOOKUP('III Tool Overview'!$H$6,LookUpData_Pop!$B$1:$AV$269,LookUpData_Pop!BB222,FALSE)/5","v":35589.599999999999},{"$f":"'III Tool Overview'!$H$9/110","v":0},{"$f":"IF('III Tool Overview'!$H$10=\"Even distribution\",Targeting!C226,IF('III Tool Overview'!$H$10=\"Targeting to Q1\",Targeting!D226,IF('III Tool Overview'!$H$10=\"Targeting to Q1 & Q2\",Targeting!E226,IF('III Tool Overview'!$H$10=\"Proportionate to need\",Targeting!F226))))","v":904.56188186654686},171.36292515449435,171.2953461601831,754.79273369573775,754.49833654318786,2000.7531009204145,1999.9914524221256,5883.5881134561851,5881.5265295395538,7025.8799313342679,7023.1091925675073,2.7707387667605872,29755.423317238652,29743.814962779528,11.608354459123802,73213.455477264462,73185.540413670024,27.915063594438834,178226.09527104275,178162.82570582515,63.269565217604395,{"$error":"#NAME?"},{"$error":"#NAME?"},{"$error":"#NAME?"},{"$error":"#NAME?"},{"$error":"#NAME?"},{"$error":"#NAME?"},{"$error":"#NAME?"},{"$error":"#NAME?"},{"$error":"#NAME?"},{"$error":"#NAME?"},{"$error":"#NAME?"},{"$error":"#NAME?"},{"$f":"HLOOKUP('III Tool Overview'!$H$6,LookUpData_Pop!$B$1:$AV$269,LookUpData_Pop!BB222,FALSE)","v":177948},21.220527619751806,null,177948,null,null,null,{"$error":"#DIV/0!"},{"$error":"#DIV/0!"},{"$error":"#DIV/0!"},null,1.1925128475595009E-4,0,null,{"$f":"(AP228/AO228)*LookUpData_Pop!$B$288","v":0.71550770853570056},{"$f":"(AQ228/AP228)*LookUpData_Pop!$B$288","v":0},null,0.5,5]
["Female 60-64",62.5,"female",4,{"$f":"HLOOKUP('III Tool Overview'!$H$6,Prevalence!$B$2:$AV$268,Prevalence!AW218,FALSE)","v":0.34319743605625586},{"$f":"HLOOKUP('III Tool Overview'!$H$6,LookUpData_Pop!$B$1:$AV$269,LookUpData_Pop!BB223,FALSE)/5","v":34812.6},{"$f":"'III Tool Overview'!$H$9/110","v":0},{"$f":"IF('III Tool Overview'!$H$10=\"Even distribution\",Targeting!C227,IF('III Tool Overview'!$H$10=\"Targeting to Q1\",Targeting!D227,IF('III Tool Overview'!$H$10=\"Targeting to Q1 & Q2\",Targeting!E227,IF('III Tool Overview'!$H$10=\"Proportionate to need\",Targeting!F227))))","v":871.66272372138621},232.40213803918948,232.31197089609708,1020.3208094428176,1019.9309623972732,2685.5650293954513,2684.572991284711,7717.6895224673681,7715.1502840286284,8598.8791074500114,8595.5429231555918,3.3361842944195814,36144.469034967304,36130.653988441234,13.815046526069636,87575.305446277285,87542.874742343716,32.430703933569021,203740.20423906037,203671.71176109795,68.492477962427074,{"$error":"#NAME?"},{"$error":"#NAME?"},{"$error":"#NAME?"},{"$error":"#NAME?"},{"$error":"#NAME?"},{"$error":"#NAME?"},{"$error":"#NAME?"},{"$error":"#NAME?"},{"$error":"#NAME?"},{"$error":"#NAME?"},{"$error":"#NAME?"},{"$error":"#NAME?"},{"$f":"HLOOKUP('III Tool Overview'!$H$6,LookUpData_Pop!$B$1:$AV$269,LookUpData_Pop!BB223,FALSE)","v":174063},33.673366803215572,null,174063,null,null,null,{"$error":"#DIV/0!"},{"$error":"#DIV/0!"},{"$error":"#DIV/0!"},null,1.9345505249947188E-4,0,null,{"$f":"(AP229/AO229)*LookUpData_Pop!$B$289","v":0.9672752624973594},{"$f":"(AQ229/AP229)*LookUpData_Pop!$B$289","v":0},null,0.5,5]
["Female 65-69",67.5,"female",4,null,null,null,null,null,null,null,null,null,null,null,null,null,null,null,null,null,null,null,null,null,null,null,null,null,null,null,null,null,null,null,null,null,null,null,null,{"$f":"HLOOKUP('III Tool Overview'!$H$6,LookUpData_Pop!$B$1:$AV$269,LookUpData_Pop!BB224,FALSE)","v":136352},41.014545594696678,null,136352,null,null,null,{"$error":"#DIV/0!"},{"$error":"#DIV/0!"},{"$error":"#DIV/0!"},null,3.0079900254265926E-4,0,null,{"$f":"(AP230/AO230)*LookUpData_Pop!$B$290","v":1.2031960101706369},{"$f":"(AQ230/AP230)*LookUpData_Pop!$B$290","v":0},null,0.5,5]
["Female 70-74",72.5,"female",4,null,null,null,null,null,null,null,null,null,null,null,null,null,null,null,null,null,null,null,null,null,null,null,null,null,null,null,null,null,null,null,null,null,null,null,null,{"$f":"HLOOKUP('III Tool Overview'!$H$6,LookUpData_Pop!$B$1:$AV$269,LookUpData_Pop!BB225,FALSE)","v":115107},59.751335755503312,null,115107,null,null,null,{"$error":"#DIV/0!"},{"$error":"#DIV/0!"},{"$error":"#DIV/0!"},null,5.1909384968336684E-4,0,null,{"$f":"(AP231/AO231)*LookUpData_Pop!$B$291","v":1.5572815490501004},{"$f":"(AQ231/AP231)*LookUpData_Pop!$B$291","v":0},null,0.5,5]
["Female 75-79",77.5,"female",4,null,null,null,null,null,null,null,null,null,null,null,null,null,null,null,null,null,null,null,null,null,null,null,null,null,null,null,null,null,null,null,null,null,null,null,null,{"$f":"HLOOKUP('III Tool Overview'!$H$6,LookUpData_Pop!$B$1:$AV$269,LookUpData_Pop!BB226,FALSE)","v":96370},96.448227144769987,null,96370,null,null,null,{"$error":"#DIV/0!"},{"$error":"#DIV/0!"},{"$error":"#DIV/0!"},null,1.0008117375196637E-3,0,null,{"$f":"(AP232/AO232)*LookUpData_Pop!$B$292","v":2.0016234750393274},{"$f":"(AQ232/AP232)*LookUpData_Pop!$B$292","v":0},null,0.5,5]
["Female 80-84",82.5,"female",4,null,null,null,null,null,null,null,null,null,null,null,null,null,null,null,null,null,null,null,null,null,null,null,null,null,null,null,null,null,null,null,null,null,null,null,null,{"$f":"HLOOKUP('III Tool Overview'!$H$6,LookUpData_Pop!$B$1:$AV$269,LookUpData_Pop!BB227,FALSE)","v":72368},134.45293848521402,null,72368,null,null,null,{"$f":"AT233/AVERAGE(AT$220:AT$233)","v":{"$error":"#DIV/0!"}},{"$error":"#DIV/0!"},{"$error":"#DIV/0!"},null,1.857905959612177E-3,0,null,{"$f":"(AP233/AO233)*LookUpData_Pop!$B$293","v":1.857905959612177},{"$f":"(AQ233/AP233)*LookUpData_Pop!$B$293","v":0},null,0.5,5]
["Female 85-89",87.5,"female",4,null,null,null,null,null,null,null,null,null,null,null,null,null,null,null,null,null,null,null,null,null,null,null,null,null,null,null,null,null,null,null,null,null,null,null,null,{"$f":"HLOOKUP('III Tool Overview'!$H$6,LookUpData_Pop!$B$1:$AV$269,LookUpData_Pop!BB229,FALSE)","v":25873},326.87109937590014,null,null,null,null,null,null,null,null,null,1.2633676008808416E-2,0,null,{"$f":"(AP234/AO234)*LookUpData_Pop!$B$294","v":12.633676008808417},{"$f":"(AQ234/AP234)*LookUpData_Pop!$B$294","v":0},null,0.5,{"$f":"2/AZ234","v":158.30705161392186}]
["Female 90+",95,"female",4,null,null,null,null,null,null,null,null,null,null,null,null,null,null,null,null,null,null,null,null,null,null,null,null,null,null,null,null,null,null,null,null,null,null,null,null,{"$f":"HLOOKUP('III Tool Overview'!$H$6,LookUpData_Pop!$B$1:$AV$269,LookUpData_Pop!BB230,FALSE)","v":0},327.87109937589997]
["TOTAL",null,null,null,null,{"$f":"SUM(F220:F235)","v":349718},{"$f":"SUM(G220:G235)","v":0},{"$f":"SUM(H220:H235)","v":11523.157125831707},{"$f":"SUM(I220:I235)","v":740.80430206195456},{"$f":"SUM(J220:J235)","v":740.45038200576164},{"$f":"SUM(K220:K235)","v":3267.1644593458377},{"$f":"SUM(L220:L235)","v":3265.6154319578845},{"$f":"SUM(M220:M235)","v":8685.1367648198011},{"$f":"SUM(N220:N235)","v":8681.0867686919191},{"$f":"SUM(O220:O235)","v":25798.298418983915},{"$f":"SUM(P220:P235)","v":25786.908393555699},{"$f":"SUM(Q220:Q235)","v":33910.791493101875},{"$f":"SUM(R220:R235)","v":33894.183969419049},{"$f":"SUM(S220:S235)","v":16.607523682833516},{"$f":"SUM(T220:T235)","v":144508.73093825331},{"$f":"SUM(U220:U235)","v":144438.36308997532},{"$f":"SUM(V220:V235)","v":70.367848278011024},{"$f":"SUM(W220:W235)","v":360174.56665204931},{"$f":"SUM(X220:X235)","v":360001.26217588159},{"$f":"SUM(Y220:Y235)","v":173.30447616769834},{"$f":"SUM(Z220:Z235)","v":912661.60371563456},{"$f":"SUM(AA220:AA235)","v":912237.58577565034},{"$f":"SUM(AB220:AB235)","v":424.0179399840963},{"$f":"SUM(AC220:AC235)","v":{"$error":"#NAME?"}},{"$f":"SUM(AD220:AD235)","v":{"$error":"#NAME?"}},{"$f":"SUM(AE220:AE235)","v":{"$error":"#NAME?"}},{"$f":"SUM(AF220:AF235)","v":{"$error":"#NAME?"}},{"$f":"SUM(AG220:AG235)","v":{"$error":"#NAME?"}},{"$f":"SUM(AH220:AH235)","v":{"$error":"#NAME?"}},{"$f":"SUM(AI220:AI235)","v":{"$error":"#NAME?"}},{"$f":"SUM(AJ220:AJ235)","v":{"$error":"#NAME?"}},{"$f":"SUM(AK220:AK235)","v":{"$error":"#NAME?"}},{"$f":"SUM(AL220:AL235)","v":{"$error":"#NAME?"}},{"$f":"SUM(AM220:AM235)","v":{"$error":"#NAME?"}},{"$f":"SUM(AN220:AN235)","v":{"$error":"#NAME?"}}]
["age/sex breakdown: Q5"]
["Male <1",0.5,"male",5,null,null,null,null,null,null,null,null,null,null,null,null,null,null,null,null,null,null,null,null,null,null,null,null,null,null,null,null,null,null,null,null,null,null,null,null,{"$f":"HLOOKUP('III Tool Overview'!$H$6,LookUpData_Pop!$B$1:$AV$269,LookUpData_Pop!BB231,FALSE)","v":25144},3.7337182448036947,null,null,null,null,null,null,null,null,null,{"$f":"IF(AO238=0,0,AP238/AO238)","v":1.4849340776343042E-4},{"$f":"AQ238/AP238*100000","v":0},null,null,null,null,0.1,1]
["Male 1-4",2.5,"male",5,null,null,null,null,null,null,null,null,null,null,null,null,null,null,null,null,null,null,null,null,null,null,null,null,null,null,null,null,null,null,null,null,null,null,null,null,{"$f":"HLOOKUP('III Tool Overview'!$H$6,LookUpData_Pop!$B$1:$AV$269,LookUpData_Pop!BB232,FALSE)","v":105764},0.77345545536093663,null,null,null,null,null,null,null,null,null,{"$f":"IF(AO239=0,0,AP239/AO239)","v":7.3130314224210185E-6},0,null,{"$f":"((AP239+AP238)/(AO239+AO238))*LookUpData_Pop!$B$277","v":0.27544068812690625},{"$f":"((AQ239+AQ238)/(AP239+AP238))*LookUpData_Pop!$B$277","v":0},null,0.5,4]
["Male 5-9",7.5,"male",5,null,null,null,null,null,null,null,null,null,null,null,null,null,null,null,null,null,null,null,null,null,null,null,null,null,null,null,null,null,null,null,null,null,null,null,null,{"$f":"HLOOKUP('III Tool Overview'!$H$6,LookUpData_Pop!$B$1:$AV$269,LookUpData_Pop!BB233,FALSE)","v":139192},0.21640896269241164,null,null,null,null,null,null,null,null,null,1.554751441838695E-6,0,null,{"$f":"(AP240/AO240)*LookUpData_Pop!$B$278","v":1.0883260092870866E-2},{"$f":"(AQ240/AP240)*LookUpData_Pop!$B$278","v":0},null,0.5,5]
["Male 10-14",12.5,"male",5,null,null,null,null,null,null,null,null,null,null,null,null,null,null,null,null,null,null,null,null,null,null,null,null,null,null,null,null,null,null,null,null,null,null,null,null,{"$f":"HLOOKUP('III Tool Overview'!$H$6,LookUpData_Pop!$B$1:$AV$269,LookUpData_Pop!BB234,FALSE)","v":156818},0.89724082276336614,null,null,null,null,null,null,null,null,null,5.7215423150618305E-6,0,null,{"$f":"(AP241/AO241)*LookUpData_Pop!$B$279","v":4.0050796205432816E-2},{"$f":"(AQ241/AP241)*LookUpData_Pop!$B$279","v":0},null,0.5,5]
["Male 15-19",17.5,"male",5,{"$f":"HLOOKUP('III Tool Overview'!$H$6,Prevalence!$B$2:$AV$268,Prevalence!AW230,FALSE)","v":0.28844284848422241},{"$f":"HLOOKUP('III Tool Overview'!$H$6,LookUpData_Pop!$B$1:$AV$269,LookUpData_Pop!BB235,FALSE)/5","v":35726},{"$f":"'III Tool Overview'!$H$9/110","v":0},{"$f":"IF('III Tool Overview'!$H$10=\"Even distribution\",Targeting!C240,IF('III Tool Overview'!$H$10=\"Targeting to Q1\",Targeting!D240,IF('III Tool Overview'!$H$10=\"Targeting to Q1 & Q2\",Targeting!E240,IF('III Tool Overview'!$H$10=\"Proportionate to need\",Targeting!F240))))","v":572.99196137493084},{"$f":"IF('III Tool Overview'!$H$6=\"Western Isles Health Board\",0,IF('III Tool Overview'!$H$6=\"Eilean Siar Local Authority\",0,new_ci(2,B242,C242,D242,$C$1,G242,1,F242,E242*F242)))","v":11.543517037733221},{"$f":"IF('III Tool Overview'!$H$6=\"Western Isles Health Board\",0,IF('III Tool Overview'!$H$6=\"Eilean Siar Local Authority\",0,new_ci(2,B242,C242,D242,$C$1,G242+H242,1,F242,E242*F242)))","v":11.540593646447414},{"$f":"IF('III Tool Overview'!$H$6=\"Western Isles Health Board\",0,IF('III Tool Overview'!$H$6=\"Eilean Siar Local Authority\",0,new_ci(5,B242,C242,D242,$C$1,G242,1,F242,E242*F242)))","v":50.481800896325886},{"$f":"IF('III Tool Overview'!$H$6=\"Western Isles Health Board\",0,IF('III Tool Overview'!$H$6=\"Eilean Siar Local Authority\",0,new_ci(5,B242,C242,D242,$C$1,G242+H242,1,F242,E242*F242)))","v":50.469025890976653},{"$f":"IF('III Tool Overview'!$H$6=\"Western Isles Health Board\",0,IF('III Tool Overview'!$H$6=\"Eilean Siar Local Authority\",0,new_ci(10,B242,C242,D242,$C$1,G242,1,F242,E242*F242)))","v":132.50472273722252},{"$f":"IF('III Tool Overview'!$H$6=\"Western Isles Health Board\",0,IF('III Tool Overview'!$H$6=\"Eilean Siar Local Authority\",0,new_ci(10,B242,C242,D242,$C$1,G242+H242,1,F242,E242*F242)))","v":132.4712434010967},{"$f":"IF('III Tool Overview'!$H$6=\"Western Isles Health Board\",0,IF('III Tool Overview'!$H$6=\"Eilean Siar Local Authority\",0,new_ci(20,B242,C242,D242,$C$1,G242,1,F242,E242*F242)))","v":388.21073952639597},{"$f":"IF('III Tool Overview'!$H$6=\"Western Isles Health Board\",0,IF('III Tool Overview'!$H$6=\"Eilean Siar Local Authority\",0,new_ci(20,B242,C242,D242,$C$1,G242+H242,1,F242,E242*F242)))","v":388.11313294816887},{"$f":"IF('III Tool Overview'!$H$6=\"Western Isles Health Board\",0,IF('III Tool Overview'!$H$6=\"Eilean Siar Local Authority\",0,new_yll(2,B242,C242,D242,$C$1,G242,1,F242,E242*F242)))","v":935.02488005639088},{"$f":"IF('III Tool Overview'!$H$6=\"Western Isles Health Board\",0,IF('III Tool Overview'!$H$6=\"Eilean Siar Local Authority\",0,new_yll(2,B242,C242,D242,$C$1,G242+H242,1,F242,E242*F242)))","v":934.78808536224051},{"$f":"Q242-R242","v":0.23679469415037602},{"$f":"IF('III Tool Overview'!$H$6=\"Western Isles Health Board\",0,IF('III Tool Overview'!$H$6=\"Eilean Siar Local Authority\",0,new_yll(5,B242,C242,D242,$C$1,G242,1,F242,E242*F242)))","v":4009.6434477655598},{"$f":"IF('III Tool Overview'!$H$6=\"Western Isles Health Board\",0,IF('III Tool Overview'!$H$6=\"Eilean Siar Local Authority\",0,new_yll(5,B242,C242,D242,$C$1,G242+H242,1,F242,E242*F242)))","v":4008.6287533011796},{"$f":"T242-U242","v":1.0146944643802271},{"$f":"IF('III Tool Overview'!$H$6=\"Western Isles Health Board\",0,IF('III Tool Overview'!$H$6=\"Eilean Siar Local Authority\",0,new_yll(10,B242,C242,D242,$C$1,G242,1,F242,E242*F242)))","v":10151.871033012743},{"$f":"IF('III Tool Overview'!$H$6=\"Western Isles Health Board\",0,IF('III Tool Overview'!$H$6=\"Eilean Siar Local Authority\",0,new_yll(10,B242,C242,D242,$C$1,G242+H242,1,F242,E242*F242)))","v":10149.305883668354},{"$f":"W242-X242","v":2.5651493443892832},{"$f":"IF('III Tool Overview'!$H$6=\"Western Isles Health Board\",0,IF('III Tool Overview'!$H$6=\"Eilean Siar Local Authority\",0,new_yll(20,B242,C242,D242,$C$1,G242,1,F242,E242*F242)))","v":27291.032438412421},{"$f":"IF('III Tool Overview'!$H$6=\"Western Isles Health Board\",0,IF('III Tool Overview'!$H$6=\"Eilean Siar Local Authority\",0,new_yll(20,B242,C242,D242,$C$1,G242+H242,1,F242,E242*F242)))","v":27284.168526475107},{"$f":"Z242-AA242","v":6.8639119373146968},{"$f":"hosp_count(2,B242,C242,D242,$C$1,G242,1,F242,E242*F242)","v":{"$error":"#NAME?"}},{"$f":"hosp_count(2,B242,C242,D242,$C$1,G242+H242,1,F242,E242*F242)","v":{"$error":"#NAME?"}},{"$f":"AC242-AD242","v":{"$error":"#NAME?"}},{"$f":"hosp_count(5,B242,C242,D242,$C$1,G242,1,F242,E242*F242)","v":{"$error":"#NAME?"}},{"$f":"hosp_count(5,B242,C242,D242,$C$1,G242+H242,1,F242,E242*F242)","v":{"$error":"#NAME?"}},{"$f":"AF242-AG242","v":{"$error":"#NAME?"}},{"$f":"hosp_count(10,B242,C242,D242,$C$1,G242,1,F242,E242*F242)","v":{"$error":"#NAME?"}},{"$f":"hosp_count(10,B242,C242,D242,$C$1,G242+H242,1,F242,E242*F242)","v":{"$error":"#NAME?"}},{"$f":"AI242-AJ242","v":{"$error":"#NAME?"}},{"$f":"hosp_count(20,B242,C242,D242,$C$1,G242,1,F242,E242*F242)","v":{"$error":"#NAME?"}},{"$f":"hosp_count(20,B242,C242,D242,$C$1,G242+H242,1,F242,E242*F242)","v":{"$error":"#NAME?"}},{"$f":"AL242-AM242","v":{"$error":"#NAME?"}},{"$f":"HLOOKUP('III Tool Overview'!$H$6,LookUpData_Pop!$B$1:$AV$269,LookUpData_Pop!BB235,FALSE)","v":178630},2.4250279841253688,null,{"$f":"AO242*(0.8)","v":142904},null,null,null,{"$f":"AT242/AVERAGE(AT$242:AT$255)","v":{"$error":"#DIV/0!"}},{"$f":"$AV$9*$AV$11*AV29","v":{"$error":"#DIV/0!"}},{"$f":"AW242*AR242*$AT$4","v":{"$error":"#DIV/0!"}},null,1.357570388022935E-5,0,null,{"$f":"(AP242/AO242)*LookUpData_Pop!$B$280","v":9.5029927161605451E-2},{"$f":"(AQ242/AP242)*LookUpData_Pop!$B$280","v":0},null,0.5,5]
["Male 20-24",22.5,"male",5,{"$f":"HLOOKUP('III Tool Overview'!$H$6,Prevalence!$B$2:$AV$268,Prevalence!AW231,FALSE)","v":0.28844284848422241},{"$f":"HLOOKUP('III Tool Overview'!$H$6,LookUpData_Pop!$B$1:$AV$269,LookUpData_Pop!BB236,FALSE)/5","v":37794},{"$f":"'III Tool Overview'!$H$9/110","v":0},{"$f":"IF('III Tool Overview'!$H$10=\"Even distribution\",Targeting!C241,IF('III Tool Overview'!$H$10=\"Targeting to Q1\",Targeting!D241,IF('III Tool Overview'!$H$10=\"Targeting to Q1 & Q2\",Targeting!E241,IF('III Tool Overview'!$H$10=\"Proportionate to need\",Targeting!F241))))","v":769.00041136512471},{"$f":"IF('III Tool Overview'!$H$6=\"Western Isles Health Board\",0,IF('III Tool Overview'!$H$6=\"Eilean Siar Local Authority\",0,new_ci(2,B243,C243,D243,$C$1,G243,1,F243,E243*F243)))","v":16.312683524673766},{"$f":"IF('III Tool Overview'!$H$6=\"Western Isles Health Board\",0,IF('III Tool Overview'!$H$6=\"Eilean Siar Local Authority\",0,new_ci(2,B243,C243,D243,$C$1,G243+H243,1,F243,E243*F243)))","v":16.307442973438675},{"$f":"IF('III Tool Overview'!$H$6=\"Western Isles Health Board\",0,IF('III Tool Overview'!$H$6=\"Eilean Siar Local Authority\",0,new_ci(5,B243,C243,D243,$C$1,G243,1,F243,E243*F243)))","v":71.324924299288554},{"$f":"IF('III Tool Overview'!$H$6=\"Western Isles Health Board\",0,IF('III Tool Overview'!$H$6=\"Eilean Siar Local Authority\",0,new_ci(5,B243,C243,D243,$C$1,G243+H243,1,F243,E243*F243)))","v":71.302033446706048},{"$f":"IF('III Tool Overview'!$H$6=\"Western Isles Health Board\",0,IF('III Tool Overview'!$H$6=\"Eilean Siar Local Authority\",0,new_ci(10,B243,C243,D243,$C$1,G243,1,F243,E243*F243)))","v":187.14037638703059},{"$f":"IF('III Tool Overview'!$H$6=\"Western Isles Health Board\",0,IF('III Tool Overview'!$H$6=\"Eilean Siar Local Authority\",0,new_ci(10,B243,C243,D243,$C$1,G243+H243,1,F243,E243*F243)))","v":187.08044165104201},{"$f":"IF('III Tool Overview'!$H$6=\"Western Isles Health Board\",0,IF('III Tool Overview'!$H$6=\"Eilean Siar Local Authority\",0,new_ci(20,B243,C243,D243,$C$1,G243,1,F243,E243*F243)))","v":547.609731261722},{"$f":"IF('III Tool Overview'!$H$6=\"Western Isles Health Board\",0,IF('III Tool Overview'!$H$6=\"Eilean Siar Local Authority\",0,new_ci(20,B243,C243,D243,$C$1,G243+H243,1,F243,E243*F243)))","v":547.43549819765383},{"$f":"IF('III Tool Overview'!$H$6=\"Western Isles Health Board\",0,IF('III Tool Overview'!$H$6=\"Eilean Siar Local Authority\",0,new_yll(2,B243,C243,D243,$C$1,G243,1,F243,E243*F243)))","v":1256.0766313998799},{"$f":"IF('III Tool Overview'!$H$6=\"Western Isles Health Board\",0,IF('III Tool Overview'!$H$6=\"Eilean Siar Local Authority\",0,new_yll(2,B243,C243,D243,$C$1,G243+H243,1,F243,E243*F243)))","v":1255.6731089547779},0.40352244510199853,{"$f":"IF('III Tool Overview'!$H$6=\"Western Isles Health Board\",0,IF('III Tool Overview'!$H$6=\"Eilean Siar Local Authority\",0,new_yll(5,B243,C243,D243,$C$1,G243,1,F243,E243*F243)))","v":5379.8717485374873},{"$f":"IF('III Tool Overview'!$H$6=\"Western Isles Health Board\",0,IF('III Tool Overview'!$H$6=\"Eilean Siar Local Authority\",0,new_yll(5,B243,C243,D243,$C$1,G243+H243,1,F243,E243*F243)))","v":5378.1451268416076},{"$f":"T243-U243","v":1.7266216958796576},{"$f":"IF('III Tool Overview'!$H$6=\"Western Isles Health Board\",0,IF('III Tool Overview'!$H$6=\"Eilean Siar Local Authority\",0,new_yll(10,B243,C243,D243,$C$1,G243,1,F243,E243*F243)))","v":13589.403139282924},{"$f":"IF('III Tool Overview'!$H$6=\"Western Isles Health Board\",0,IF('III Tool Overview'!$H$6=\"Eilean Siar Local Authority\",0,new_yll(10,B243,C243,D243,$C$1,G243+H243,1,F243,E243*F243)))","v":13585.050614860385},{"$f":"W243-X243","v":4.3525244225384085},{"$f":"IF('III Tool Overview'!$H$6=\"Western Isles Health Board\",0,IF('III Tool Overview'!$H$6=\"Eilean Siar Local Authority\",0,new_yll(20,B243,C243,D243,$C$1,G243,1,F243,E243*F243)))","v":36309.363605305065},{"$f":"IF('III Tool Overview'!$H$6=\"Western Isles Health Board\",0,IF('III Tool Overview'!$H$6=\"Eilean Siar Local Authority\",0,new_yll(20,B243,C243,D243,$C$1,G243+H243,1,F243,E243*F243)))","v":36297.805756084825},{"$f":"Z243-AA243","v":11.557849220240314},{"$f":"hosp_count(2,B243,C243,D243,$C$1,G243,1,F243,E243*F243)","v":{"$error":"#NAME?"}},{"$f":"hosp_count(2,B243,C243,D243,$C$1,G243+H243,1,F243,E243*F243)","v":{"$error":"#NAME?"}},{"$f":"AC243-AD243","v":{"$error":"#NAME?"}},{"$f":"hosp_count(5,B243,C243,D243,$C$1,G243,1,F243,E243*F243)","v":{"$error":"#NAME?"}},{"$f":"hosp_count(5,B243,C243,D243,$C$1,G243+H243,1,F243,E243*F243)","v":{"$error":"#NAME?"}},{"$f":"AF243-AG243","v":{"$error":"#NAME?"}},{"$f":"hosp_count(10,B243,C243,D243,$C$1,G243,1,F243,E243*F243)","v":{"$error":"#NAME?"}},{"$f":"hosp_count(10,B243,C243,D243,$C$1,G243+H243,1,F243,E243*F243)","v":{"$error":"#NAME?"}},{"$f":"AI243-AJ243","v":{"$error":"#NAME?"}},{"$f":"hosp_count(20,B243,C243,D243,$C$1,G243,1,F243,E243*F243)","v":{"$error":"#NAME?"}},{"$f":"hosp_count(20,B243,C243,D243,$C$1,G243+H243,1,F243,E243*F243)","v":{"$error":"#NAME?"}},{"$f":"AL243-AM243","v":{"$error":"#NAME?"}},{"$f":"HLOOKUP('III Tool Overview'!$H$6,LookUpData_Pop!$B$1:$AV$269,LookUpData_Pop!BB236,FALSE)","v":188970},3.048680043971189,null,{"$f":"AO243","v":188970},null,null,null,{"$f":"AT243/AVERAGE(AT$242:AT$255)","v":{"$error":"#DIV/0!"}},{"$error":"#DIV/0!"},{"$error":"#DIV/0!"},null,1.6133143059592468E-5,0,null,{"$f":"(AP243/AO243)*LookUpData_Pop!$B$281","v":0.11293200141714728},{"$f":"(AQ243/AP243)*LookUpData_Pop!$B$281","v":0},null,0.5,5]
["Male 25-29",27.5,"male",5,{"$f":"HLOOKUP('III Tool Overview'!$H$6,Prevalence!$B$2:$AV$268,Prevalence!AW232,FALSE)","v":0.51457023160438398},{"$f":"HLOOKUP('III Tool Overview'!$H$6,LookUpData_Pop!$B$1:$AV$269,LookUpData_Pop!BB237,FALSE)/5","v":30557.8},{"$f":"'III Tool Overview'!$H$9/110","v":0},{"$f":"IF('III Tool Overview'!$H$10=\"Even distribution\",Targeting!C242,IF('III Tool Overview'!$H$10=\"Targeting to Q1\",Targeting!D242,IF('III Tool Overview'!$H$10=\"Targeting to Q1 & Q2\",Targeting!E242,IF('III Tool Overview'!$H$10=\"Proportionate to need\",Targeting!F242))))","v":1011.6644921208685},{"$f":"IF('III Tool Overview'!$H$6=\"Western Isles Health Board\",0,IF('III Tool Overview'!$H$6=\"Eilean Siar Local Authority\",0,new_ci(2,B244,C244,D244,$C$1,G244,1,F244,E244*F244)))","v":20.362531472008015},{"$f":"IF('III Tool Overview'!$H$6=\"Western Isles Health Board\",0,IF('III Tool Overview'!$H$6=\"Eilean Siar Local Authority\",0,new_ci(2,B244,C244,D244,$C$1,G244+H244,1,F244,E244*F244)))","v":20.352511053556832},{"$f":"IF('III Tool Overview'!$H$6=\"Western Isles Health Board\",0,IF('III Tool Overview'!$H$6=\"Eilean Siar Local Authority\",0,new_ci(5,B244,C244,D244,$C$1,G244,1,F244,E244*F244)))","v":88.996375056511226},{"$f":"IF('III Tool Overview'!$H$6=\"Western Isles Health Board\",0,IF('III Tool Overview'!$H$6=\"Eilean Siar Local Authority\",0,new_ci(5,B244,C244,D244,$C$1,G244+H244,1,F244,E244*F244)))","v":88.952639982878509},{"$f":"IF('III Tool Overview'!$H$6=\"Western Isles Health Board\",0,IF('III Tool Overview'!$H$6=\"Eilean Siar Local Authority\",0,new_ci(10,B244,C244,D244,$C$1,G244,1,F244,E244*F244)))","v":233.3075811743729},{"$f":"IF('III Tool Overview'!$H$6=\"Western Isles Health Board\",0,IF('III Tool Overview'!$H$6=\"Eilean Siar Local Authority\",0,new_ci(10,B244,C244,D244,$C$1,G244+H244,1,F244,E244*F244)))","v":233.19325992694559},{"$f":"IF('III Tool Overview'!$H$6=\"Western Isles Health Board\",0,IF('III Tool Overview'!$H$6=\"Eilean Siar Local Authority\",0,new_ci(20,B244,C244,D244,$C$1,G244,1,F244,E244*F244)))","v":680.89153121555978},{"$f":"IF('III Tool Overview'!$H$6=\"Western Isles Health Board\",0,IF('III Tool Overview'!$H$6=\"Eilean Siar Local Authority\",0,new_ci(20,B244,C244,D244,$C$1,G244+H244,1,F244,E244*F244)))","v":680.56091440798571},{"$f":"IF('III Tool Overview'!$H$6=\"Western Isles Health Board\",0,IF('III Tool Overview'!$H$6=\"Eilean Siar Local Authority\",0,new_yll(2,B244,C244,D244,$C$1,G244,1,F244,E244*F244)))","v":1445.7397345125692},{"$f":"IF('III Tool Overview'!$H$6=\"Western Isles Health Board\",0,IF('III Tool Overview'!$H$6=\"Eilean Siar Local Authority\",0,new_yll(2,B244,C244,D244,$C$1,G244+H244,1,F244,E244*F244)))","v":1445.0282848025352},0.71144971003400315,{"$f":"IF('III Tool Overview'!$H$6=\"Western Isles Health Board\",0,IF('III Tool Overview'!$H$6=\"Eilean Siar Local Authority\",0,new_yll(5,B244,C244,D244,$C$1,G244,1,F244,E244*F244)))","v":6178.8386442220917},{"$f":"IF('III Tool Overview'!$H$6=\"Western Isles Health Board\",0,IF('III Tool Overview'!$H$6=\"Eilean Siar Local Authority\",0,new_yll(5,B244,C244,D244,$C$1,G244+H244,1,F244,E244*F244)))","v":6175.8021577332511},3.0364864888406373,{"$f":"IF('III Tool Overview'!$H$6=\"Western Isles Health Board\",0,IF('III Tool Overview'!$H$6=\"Eilean Siar Local Authority\",0,new_yll(10,B244,C244,D244,$C$1,G244,1,F244,E244*F244)))","v":15542.510866523675},{"$f":"IF('III Tool Overview'!$H$6=\"Western Isles Health Board\",0,IF('III Tool Overview'!$H$6=\"Eilean Siar Local Authority\",0,new_yll(10,B244,C244,D244,$C$1,G244+H244,1,F244,E244*F244)))","v":15534.894212761388},7.6166537622866599,{"$f":"IF('III Tool Overview'!$H$6=\"Western Isles Health Board\",0,IF('III Tool Overview'!$H$6=\"Eilean Siar Local Authority\",0,new_yll(20,B244,C244,D244,$C$1,G244,1,F244,E244*F244)))","v":41069.64730662325},{"$f":"IF('III Tool Overview'!$H$6=\"Western Isles Health Board\",0,IF('III Tool Overview'!$H$6=\"Eilean Siar Local Authority\",0,new_yll(20,B244,C244,D244,$C$1,G244+H244,1,F244,E244*F244)))","v":41049.691375105591},19.955931517659337,{"$error":"#NAME?"},{"$error":"#NAME?"},{"$error":"#NAME?"},{"$error":"#NAME?"},{"$error":"#NAME?"},{"$error":"#NAME?"},{"$error":"#NAME?"},{"$error":"#NAME?"},{"$error":"#NAME?"},{"$error":"#NAME?"},{"$error":"#NAME?"},{"$error":"#NAME?"},{"$f":"HLOOKUP('III Tool Overview'!$H$6,LookUpData_Pop!$B$1:$AV$269,LookUpData_Pop!BB237,FALSE)","v":152789},3.1461505736492734,null,{"$f":"AO244","v":152789},null,null,null,{"$error":"#DIV/0!"},{"$error":"#DIV/0!"},{"$error":"#DIV/0!"},null,2.0591473035684987E-5,0,null,{"$f":"(AP244/AO244)*LookUpData_Pop!$B$282","v":0.1441403112497949},{"$f":"(AQ244/AP244)*LookUpData_Pop!$B$282","v":0},null,0.5,5]
["Male 30-34",32.5,"male",5,{"$f":"HLOOKUP('III Tool Overview'!$H$6,Prevalence!$B$2:$AV$268,Prevalence!AW233,FALSE)","v":0.51457023160438398},{"$f":"HLOOKUP('III Tool Overview'!$H$6,LookUpData_Pop!$B$1:$AV$269,LookUpData_Pop!BB238,FALSE)/5","v":26522.400000000001},{"$f":"'III Tool Overview'!$H$9/110","v":0},{"$f":"IF('III Tool Overview'!$H$10=\"Even distribution\",Targeting!C243,IF('III Tool Overview'!$H$10=\"Targeting to Q1\",Targeting!D243,IF('III Tool Overview'!$H$10=\"Targeting to Q1 & Q2\",Targeting!E243,IF('III Tool Overview'!$H$10=\"Proportionate to need\",Targeting!F243))))","v":971.13572356711074},{"$f":"IF('III Tool Overview'!$H$6=\"Western Isles Health Board\",0,IF('III Tool Overview'!$H$6=\"Eilean Siar Local Authority\",0,new_ci(2,B245,C245,D245,$C$1,G245,1,F245,E245*F245)))","v":23.607272205905783},{"$f":"IF('III Tool Overview'!$H$6=\"Western Isles Health Board\",0,IF('III Tool Overview'!$H$6=\"Eilean Siar Local Authority\",0,new_ci(2,B245,C245,D245,$C$1,G245+H245,1,F245,E245*F245)))","v":23.594431571228991},{"$f":"IF('III Tool Overview'!$H$6=\"Western Isles Health Board\",0,IF('III Tool Overview'!$H$6=\"Eilean Siar Local Authority\",0,new_ci(5,B245,C245,D245,$C$1,G245,1,F245,E245*F245)))","v":103.13821051910756},{"$f":"IF('III Tool Overview'!$H$6=\"Western Isles Health Board\",0,IF('III Tool Overview'!$H$6=\"Eilean Siar Local Authority\",0,new_ci(5,B245,C245,D245,$C$1,G245+H245,1,F245,E245*F245)))","v":103.08221370911001},{"$f":"IF('III Tool Overview'!$H$6=\"Western Isles Health Board\",0,IF('III Tool Overview'!$H$6=\"Eilean Siar Local Authority\",0,new_ci(10,B245,C245,D245,$C$1,G245,1,F245,E245*F245)))","v":270.16230374946912},{"$f":"IF('III Tool Overview'!$H$6=\"Western Isles Health Board\",0,IF('III Tool Overview'!$H$6=\"Eilean Siar Local Authority\",0,new_ci(10,B245,C245,D245,$C$1,G245+H245,1,F245,E245*F245)))","v":270.01619186929236},{"$f":"IF('III Tool Overview'!$H$6=\"Western Isles Health Board\",0,IF('III Tool Overview'!$H$6=\"Eilean Siar Local Authority\",0,new_ci(20,B245,C245,D245,$C$1,G245,1,F245,E245*F245)))","v":786.46187778065541},{"$f":"IF('III Tool Overview'!$H$6=\"Western Isles Health Board\",0,IF('III Tool Overview'!$H$6=\"Eilean Siar Local Authority\",0,new_ci(20,B245,C245,D245,$C$1,G245+H245,1,F245,E245*F245)))","v":786.04167761381279},{"$f":"IF('III Tool Overview'!$H$6=\"Western Isles Health Board\",0,IF('III Tool Overview'!$H$6=\"Eilean Siar Local Authority\",0,new_yll(2,B245,C245,D245,$C$1,G245,1,F245,E245*F245)))","v":1581.6872377956875},{"$f":"IF('III Tool Overview'!$H$6=\"Western Isles Health Board\",0,IF('III Tool Overview'!$H$6=\"Eilean Siar Local Authority\",0,new_yll(2,B245,C245,D245,$C$1,G245+H245,1,F245,E245*F245)))","v":1580.8269152723424},0.86032252334507575,{"$f":"IF('III Tool Overview'!$H$6=\"Western Isles Health Board\",0,IF('III Tool Overview'!$H$6=\"Eilean Siar Local Authority\",0,new_yll(5,B245,C245,D245,$C$1,G245,1,F245,E245*F245)))","v":6748.1569250645834},{"$f":"IF('III Tool Overview'!$H$6=\"Western Isles Health Board\",0,IF('III Tool Overview'!$H$6=\"Eilean Siar Local Authority\",0,new_yll(5,B245,C245,D245,$C$1,G245+H245,1,F245,E245*F245)))","v":6744.4930662343932},3.6638588301902928,{"$f":"IF('III Tool Overview'!$H$6=\"Western Isles Health Board\",0,IF('III Tool Overview'!$H$6=\"Eilean Siar Local Authority\",0,new_yll(10,B245,C245,D245,$C$1,G245,1,F245,E245*F245)))","v":16917.572673579583},{"$f":"IF('III Tool Overview'!$H$6=\"Western Isles Health Board\",0,IF('III Tool Overview'!$H$6=\"Eilean Siar Local Authority\",0,new_yll(10,B245,C245,D245,$C$1,G245+H245,1,F245,E245*F245)))","v":16908.421795460654},9.1508781189295405,{"$f":"IF('III Tool Overview'!$H$6=\"Western Isles Health Board\",0,IF('III Tool Overview'!$H$6=\"Eilean Siar Local Authority\",0,new_yll(20,B245,C245,D245,$C$1,G245,1,F245,E245*F245)))","v":44300.719729015902},{"$f":"IF('III Tool Overview'!$H$6=\"Western Isles Health Board\",0,IF('III Tool Overview'!$H$6=\"Eilean Siar Local Authority\",0,new_yll(20,B245,C245,D245,$C$1,G245+H245,1,F245,E245*F245)))","v":44277.02640351413},23.693325501772051,{"$error":"#NAME?"},{"$error":"#NAME?"},{"$error":"#NAME?"},{"$error":"#NAME?"},{"$error":"#NAME?"},{"$error":"#NAME?"},{"$error":"#NAME?"},{"$error":"#NAME?"},{"$error":"#NAME?"},{"$error":"#NAME?"},{"$error":"#NAME?"},{"$error":"#NAME?"},{"$f":"HLOOKUP('III Tool Overview'!$H$6,LookUpData_Pop!$B$1:$AV$269,LookUpData_Pop!BB238,FALSE)","v":132612},2.9309265058021734,null,132612,null,null,null,{"$error":"#DIV/0!"},{"$error":"#DIV/0!"},{"$error":"#DIV/0!"},null,2.2101518005928374E-5,0,null,{"$f":"(AP245/AO245)*LookUpData_Pop!$B$283","v":0.15471062604149863},{"$f":"(AQ245/AP245)*LookUpData_Pop!$B$283","v":0},null,0.5,5]
["Male 35-39",37.5,"male",5,{"$f":"HLOOKUP('III Tool Overview'!$H$6,Prevalence!$B$2:$AV$268,Prevalence!AW234,FALSE)","v":0.60423811289091511},{"$f":"HLOOKUP('III Tool Overview'!$H$6,LookUpData_Pop!$B$1:$AV$269,LookUpData_Pop!BB239,FALSE)/5","v":32830.6},{"$f":"'III Tool Overview'!$H$9/110","v":0},{"$f":"IF('III Tool Overview'!$H$10=\"Even distribution\",Targeting!C244,IF('III Tool Overview'!$H$10=\"Targeting to Q1\",Targeting!D244,IF('III Tool Overview'!$H$10=\"Targeting to Q1 & Q2\",Targeting!E244,IF('III Tool Overview'!$H$10=\"Proportionate to need\",Targeting!F244))))","v":1262.3914202460967},{"$f":"IF('III Tool Overview'!$H$6=\"Western Isles Health Board\",0,IF('III Tool Overview'!$H$6=\"Eilean Siar Local Authority\",0,new_ci(2,B246,C246,D246,$C$1,G246,1,F246,E246*F246)))","v":45.109123592088849},{"$f":"IF('III Tool Overview'!$H$6=\"Western Isles Health Board\",0,IF('III Tool Overview'!$H$6=\"Eilean Siar Local Authority\",0,new_ci(2,B246,C246,D246,$C$1,G246+H246,1,F246,E246*F246)))","v":45.083954676602062},{"$f":"IF('III Tool Overview'!$H$6=\"Western Isles Health Board\",0,IF('III Tool Overview'!$H$6=\"Eilean Siar Local Authority\",0,new_ci(5,B246,C246,D246,$C$1,G246,1,F246,E246*F246)))","v":196.91505296323072},{"$f":"IF('III Tool Overview'!$H$6=\"Western Isles Health Board\",0,IF('III Tool Overview'!$H$6=\"Eilean Siar Local Authority\",0,new_ci(5,B246,C246,D246,$C$1,G246+H246,1,F246,E246*F246)))","v":196.80548134100465},{"$f":"IF('III Tool Overview'!$H$6=\"Western Isles Health Board\",0,IF('III Tool Overview'!$H$6=\"Eilean Siar Local Authority\",0,new_ci(10,B246,C246,D246,$C$1,G246,1,F246,E246*F246)))","v":514.90558799932671},{"$f":"IF('III Tool Overview'!$H$6=\"Western Isles Health Board\",0,IF('III Tool Overview'!$H$6=\"Eilean Siar Local Authority\",0,new_ci(10,B246,C246,D246,$C$1,G246+H246,1,F246,E246*F246)))","v":514.62071448147424},{"$f":"IF('III Tool Overview'!$H$6=\"Western Isles Health Board\",0,IF('III Tool Overview'!$H$6=\"Eilean Siar Local Authority\",0,new_ci(20,B246,C246,D246,$C$1,G246,1,F246,E246*F246)))","v":1490.8189405807516},{"$f":"IF('III Tool Overview'!$H$6=\"Western Isles Health Board\",0,IF('III Tool Overview'!$H$6=\"Eilean Siar Local Authority\",0,new_ci(20,B246,C246,D246,$C$1,G246+H246,1,F246,E246*F246)))","v":1490.0088938333311},{"$f":"IF('III Tool Overview'!$H$6=\"Western Isles Health Board\",0,IF('III Tool Overview'!$H$6=\"Eilean Siar Local Authority\",0,new_yll(2,B246,C246,D246,$C$1,G246,1,F246,E246*F246)))","v":2751.6565391174199},{"$f":"IF('III Tool Overview'!$H$6=\"Western Isles Health Board\",0,IF('III Tool Overview'!$H$6=\"Eilean Siar Local Authority\",0,new_yll(2,B246,C246,D246,$C$1,G246+H246,1,F246,E246*F246)))","v":2750.1212352727257},1.5353038446942264,{"$f":"IF('III Tool Overview'!$H$6=\"Western Isles Health Board\",0,IF('III Tool Overview'!$H$6=\"Eilean Siar Local Authority\",0,new_yll(5,B246,C246,D246,$C$1,G246,1,F246,E246*F246)))","v":11702.4570277824},{"$f":"IF('III Tool Overview'!$H$6=\"Western Isles Health Board\",0,IF('III Tool Overview'!$H$6=\"Eilean Siar Local Authority\",0,new_yll(5,B246,C246,D246,$C$1,G246+H246,1,F246,E246*F246)))","v":11695.945058627307},6.5119691550935386,{"$f":"IF('III Tool Overview'!$H$6=\"Western Isles Health Board\",0,IF('III Tool Overview'!$H$6=\"Eilean Siar Local Authority\",0,new_yll(10,B246,C246,D246,$C$1,G246,1,F246,E246*F246)))","v":29156.103454300886},{"$f":"IF('III Tool Overview'!$H$6=\"Western Isles Health Board\",0,IF('III Tool Overview'!$H$6=\"Eilean Siar Local Authority\",0,new_yll(10,B246,C246,D246,$C$1,G246+H246,1,F246,E246*F246)))","v":29139.968824050433},16.134630250453483,{"$f":"IF('III Tool Overview'!$H$6=\"Western Isles Health Board\",0,IF('III Tool Overview'!$H$6=\"Eilean Siar Local Authority\",0,new_yll(20,B246,C246,D246,$C$1,G246,1,F246,E246*F246)))","v":75069.165230984305},{"$f":"IF('III Tool Overview'!$H$6=\"Western Isles Health Board\",0,IF('III Tool Overview'!$H$6=\"Eilean Siar Local Authority\",0,new_yll(20,B246,C246,D246,$C$1,G246+H246,1,F246,E246*F246)))","v":75028.307264505856},40.857966478448361,{"$error":"#NAME?"},{"$error":"#NAME?"},{"$error":"#NAME?"},{"$error":"#NAME?"},{"$error":"#NAME?"},{"$error":"#NAME?"},{"$error":"#NAME?"},{"$error":"#NAME?"},{"$error":"#NAME?"},{"$error":"#NAME?"},{"$error":"#NAME?"},{"$error":"#NAME?"},{"$f":"HLOOKUP('III Tool Overview'!$H$6,LookUpData_Pop!$B$1:$AV$269,LookUpData_Pop!BB239,FALSE)","v":164153},4.8166320166320169,null,164153,null,null,null,{"$error":"#DIV/0!"},{"$error":"#DIV/0!"},{"$error":"#DIV/0!"},null,2.9342333168641555E-5,0,null,{"$f":"(AP246/AO246)*LookUpData_Pop!$B$284","v":0.20539633218049089},{"$f":"(AQ246/AP246)*LookUpData_Pop!$B$284","v":0},null,0.5,5]
["Male 40-44",42.5,"male",5,{"$f":"HLOOKUP('III Tool Overview'!$H$6,Prevalence!$B$2:$AV$268,Prevalence!AW235,FALSE)","v":0.60423811289091511},{"$f":"HLOOKUP('III Tool Overview'!$H$6,LookUpData_Pop!$B$1:$AV$269,LookUpData_Pop!BB240,FALSE)/5","v":39463.800000000003},{"$f":"'III Tool Overview'!$H$9/110","v":0},{"$f":"IF('III Tool Overview'!$H$10=\"Even distribution\",Targeting!C245,IF('III Tool Overview'!$H$10=\"Targeting to Q1\",Targeting!D245,IF('III Tool Overview'!$H$10=\"Targeting to Q1 & Q2\",Targeting!E245,IF('III Tool Overview'!$H$10=\"Proportionate to need\",Targeting!F245))))","v":1549.183515455333},{"$f":"IF('III Tool Overview'!$H$6=\"Western Isles Health Board\",0,IF('III Tool Overview'!$H$6=\"Eilean Siar Local Authority\",0,new_ci(2,B247,C247,D247,$C$1,G247,1,F247,E247*F247)))","v":72.419479986200457},{"$f":"IF('III Tool Overview'!$H$6=\"Western Isles Health Board\",0,IF('III Tool Overview'!$H$6=\"Eilean Siar Local Authority\",0,new_ci(2,B247,C247,D247,$C$1,G247+H247,1,F247,E247*F247)))","v":72.378231592471565},{"$f":"IF('III Tool Overview'!$H$6=\"Western Isles Health Board\",0,IF('III Tool Overview'!$H$6=\"Eilean Siar Local Authority\",0,new_ci(5,B247,C247,D247,$C$1,G247,1,F247,E247*F247)))","v":315.88332981924657},{"$f":"IF('III Tool Overview'!$H$6=\"Western Isles Health Board\",0,IF('III Tool Overview'!$H$6=\"Eilean Siar Local Authority\",0,new_ci(5,B247,C247,D247,$C$1,G247+H247,1,F247,E247*F247)))","v":315.70406277739386},{"$f":"IF('III Tool Overview'!$H$6=\"Western Isles Health Board\",0,IF('III Tool Overview'!$H$6=\"Eilean Siar Local Authority\",0,new_ci(10,B247,C247,D247,$C$1,G247,1,F247,E247*F247)))","v":824.61900828820512},{"$f":"IF('III Tool Overview'!$H$6=\"Western Isles Health Board\",0,IF('III Tool Overview'!$H$6=\"Eilean Siar Local Authority\",0,new_ci(10,B247,C247,D247,$C$1,G247+H247,1,F247,E247*F247)))","v":824.15460789681072},{"$f":"IF('III Tool Overview'!$H$6=\"Western Isles Health Board\",0,IF('III Tool Overview'!$H$6=\"Eilean Siar Local Authority\",0,new_ci(20,B247,C247,D247,$C$1,G247,1,F247,E247*F247)))","v":2375.2422184235911},{"$f":"IF('III Tool Overview'!$H$6=\"Western Isles Health Board\",0,IF('III Tool Overview'!$H$6=\"Eilean Siar Local Authority\",0,new_ci(20,B247,C247,D247,$C$1,G247+H247,1,F247,E247*F247)))","v":2373.9364747767145},{"$f":"IF('III Tool Overview'!$H$6=\"Western Isles Health Board\",0,IF('III Tool Overview'!$H$6=\"Eilean Siar Local Authority\",0,new_yll(2,B247,C247,D247,$C$1,G247,1,F247,E247*F247)))","v":4127.9103592134261},{"$f":"IF('III Tool Overview'!$H$6=\"Western Isles Health Board\",0,IF('III Tool Overview'!$H$6=\"Eilean Siar Local Authority\",0,new_yll(2,B247,C247,D247,$C$1,G247+H247,1,F247,E247*F247)))","v":4125.5592007708792},2.3511584425468754,{"$f":"IF('III Tool Overview'!$H$6=\"Western Isles Health Board\",0,IF('III Tool Overview'!$H$6=\"Eilean Siar Local Authority\",0,new_yll(5,B247,C247,D247,$C$1,G247,1,F247,E247*F247)))","v":17509.286915966321},{"$f":"IF('III Tool Overview'!$H$6=\"Western Isles Health Board\",0,IF('III Tool Overview'!$H$6=\"Eilean Siar Local Authority\",0,new_yll(5,B247,C247,D247,$C$1,G247+H247,1,F247,E247*F247)))","v":17499.349687039645},9.9372289266757434,{"$f":"IF('III Tool Overview'!$H$6=\"Western Isles Health Board\",0,IF('III Tool Overview'!$H$6=\"Eilean Siar Local Authority\",0,new_yll(10,B247,C247,D247,$C$1,G247,1,F247,E247*F247)))","v":43398.156659380882},{"$f":"IF('III Tool Overview'!$H$6=\"Western Isles Health Board\",0,IF('III Tool Overview'!$H$6=\"Eilean Siar Local Authority\",0,new_yll(10,B247,C247,D247,$C$1,G247+H247,1,F247,E247*F247)))","v":43373.707611715246},24.44904766563559,{"$f":"IF('III Tool Overview'!$H$6=\"Western Isles Health Board\",0,IF('III Tool Overview'!$H$6=\"Eilean Siar Local Authority\",0,new_yll(20,B247,C247,D247,$C$1,G247,1,F247,E247*F247)))","v":110159.89424151675},{"$f":"IF('III Tool Overview'!$H$6=\"Western Isles Health Board\",0,IF('III Tool Overview'!$H$6=\"Eilean Siar Local Authority\",0,new_yll(20,B247,C247,D247,$C$1,G247+H247,1,F247,E247*F247)))","v":110099.18691638923},60.707325127528748,{"$error":"#NAME?"},{"$error":"#NAME?"},{"$error":"#NAME?"},{"$error":"#NAME?"},{"$error":"#NAME?"},{"$error":"#NAME?"},{"$error":"#NAME?"},{"$error":"#NAME?"},{"$error":"#NAME?"},{"$error":"#NAME?"},{"$error":"#NAME?"},{"$error":"#NAME?"},{"$f":"HLOOKUP('III Tool Overview'!$H$6,LookUpData_Pop!$B$1:$AV$269,LookUpData_Pop!BB240,FALSE)","v":197319},8.1470375248472706,null,197319,null,null,null,{"$error":"#DIV/0!"},{"$error":"#DIV/0!"},{"$error":"#DIV/0!"},null,4.1288662140226087E-5,0,null,{"$f":"(AP247/AO247)*LookUpData_Pop!$B$285","v":0.28902063498158259},{"$f":"(AQ247/AP247)*LookUpData_Pop!$B$285","v":0},null,0.5,5]
["Male 45-49",47.5,"male",5,{"$f":"HLOOKUP('III Tool Overview'!$H$6,Prevalence!$B$2:$AV$268,Prevalence!AW236,FALSE)","v":0.60046879999999991},{"$f":"HLOOKUP('III Tool Overview'!$H$6,LookUpData_Pop!$B$1:$AV$269,LookUpData_Pop!BB241,FALSE)/5","v":41195.199999999997},{"$f":"'III Tool Overview'!$H$9/110","v":0},{"$f":"IF('III Tool Overview'!$H$10=\"Even distribution\",Targeting!C246,IF('III Tool Overview'!$H$10=\"Targeting to Q1\",Targeting!D246,IF('III Tool Overview'!$H$10=\"Targeting to Q1 & Q2\",Targeting!E246,IF('III Tool Overview'!$H$10=\"Proportionate to need\",Targeting!F246))))","v":1715.6260004906735},{"$f":"IF('III Tool Overview'!$H$6=\"Western Isles Health Board\",0,IF('III Tool Overview'!$H$6=\"Eilean Siar Local Authority\",0,new_ci(2,B248,C248,D248,$C$1,G248,1,F248,E248*F248)))","v":116.66535911101343},{"$f":"IF('III Tool Overview'!$H$6=\"Western Isles Health Board\",0,IF('III Tool Overview'!$H$6=\"Eilean Siar Local Authority\",0,new_ci(2,B248,C248,D248,$C$1,G248+H248,1,F248,E248*F248)))","v":116.59481274284481},{"$f":"IF('III Tool Overview'!$H$6=\"Western Isles Health Board\",0,IF('III Tool Overview'!$H$6=\"Eilean Siar Local Authority\",0,new_ci(5,B248,C248,D248,$C$1,G248,1,F248,E248*F248)))","v":508.00846554007433},{"$f":"IF('III Tool Overview'!$H$6=\"Western Isles Health Board\",0,IF('III Tool Overview'!$H$6=\"Eilean Siar Local Authority\",0,new_ci(5,B248,C248,D248,$C$1,G248+H248,1,F248,E248*F248)))","v":507.70300007077589},{"$f":"IF('III Tool Overview'!$H$6=\"Western Isles Health Board\",0,IF('III Tool Overview'!$H$6=\"Eilean Siar Local Authority\",0,new_ci(10,B248,C248,D248,$C$1,G248,1,F248,E248*F248)))","v":1321.4117651447984},{"$f":"IF('III Tool Overview'!$H$6=\"Western Isles Health Board\",0,IF('III Tool Overview'!$H$6=\"Eilean Siar Local Authority\",0,new_ci(10,B248,C248,D248,$C$1,G248+H248,1,F248,E248*F248)))","v":1320.6265918659815},{"$f":"IF('III Tool Overview'!$H$6=\"Western Isles Health Board\",0,IF('III Tool Overview'!$H$6=\"Eilean Siar Local Authority\",0,new_ci(20,B248,C248,D248,$C$1,G248,1,F248,E248*F248)))","v":3764.1598867572316},{"$f":"IF('III Tool Overview'!$H$6=\"Western Isles Health Board\",0,IF('III Tool Overview'!$H$6=\"Eilean Siar Local Authority\",0,new_ci(20,B248,C248,D248,$C$1,G248+H248,1,F248,E248*F248)))","v":3762.0055411992257},{"$f":"IF('III Tool Overview'!$H$6=\"Western Isles Health Board\",0,IF('III Tool Overview'!$H$6=\"Eilean Siar Local Authority\",0,new_yll(2,B248,C248,D248,$C$1,G248,1,F248,E248*F248)))","v":5949.9333146616846},{"$f":"IF('III Tool Overview'!$H$6=\"Western Isles Health Board\",0,IF('III Tool Overview'!$H$6=\"Eilean Siar Local Authority\",0,new_yll(2,B248,C248,D248,$C$1,G248+H248,1,F248,E248*F248)))","v":5946.3354498850849},3.5978647765996357,{"$f":"IF('III Tool Overview'!$H$6=\"Western Isles Health Board\",0,IF('III Tool Overview'!$H$6=\"Eilean Siar Local Authority\",0,new_yll(5,B248,C248,D248,$C$1,G248,1,F248,E248*F248)))","v":25111.359149682343},{"$f":"IF('III Tool Overview'!$H$6=\"Western Isles Health Board\",0,IF('III Tool Overview'!$H$6=\"Eilean Siar Local Authority\",0,new_yll(5,B248,C248,D248,$C$1,G248+H248,1,F248,E248*F248)))","v":25096.258294790117},15.10085489222547,{"$f":"IF('III Tool Overview'!$H$6=\"Western Isles Health Board\",0,IF('III Tool Overview'!$H$6=\"Eilean Siar Local Authority\",0,new_yll(10,B248,C248,D248,$C$1,G248,1,F248,E248*F248)))","v":61626.275481288147},{"$f":"IF('III Tool Overview'!$H$6=\"Western Isles Health Board\",0,IF('III Tool Overview'!$H$6=\"Eilean Siar Local Authority\",0,new_yll(10,B248,C248,D248,$C$1,G248+H248,1,F248,E248*F248)))","v":61589.635168744833},36.640312543313485,{"$f":"IF('III Tool Overview'!$H$6=\"Western Isles Health Board\",0,IF('III Tool Overview'!$H$6=\"Eilean Siar Local Authority\",0,new_yll(20,B248,C248,D248,$C$1,G248,1,F248,E248*F248)))","v":152186.84625251527},{"$f":"IF('III Tool Overview'!$H$6=\"Western Isles Health Board\",0,IF('III Tool Overview'!$H$6=\"Eilean Siar Local Authority\",0,new_yll(20,B248,C248,D248,$C$1,G248+H248,1,F248,E248*F248)))","v":152099.35743785239},87.488814662880031,{"$error":"#NAME?"},{"$error":"#NAME?"},{"$error":"#NAME?"},{"$error":"#NAME?"},{"$error":"#NAME?"},{"$error":"#NAME?"},{"$error":"#NAME?"},{"$error":"#NAME?"},{"$error":"#NAME?"},{"$error":"#NAME?"},{"$error":"#NAME?"},{"$error":"#NAME?"},{"$f":"HLOOKUP('III Tool Overview'!$H$6,LookUpData_Pop!$B$1:$AV$269,LookUpData_Pop!BB241,FALSE)","v":205976},14.224336714787359,null,205976,null,null,null,{"$error":"#DIV/0!"},{"$error":"#DIV/0!"},{"$error":"#DIV/0!"},null,6.9058223845435191E-5,0,null,{"$f":"(AP248/AO248)*LookUpData_Pop!$B$286","v":0.48340756691804632},{"$f":"(AQ248/AP248)*LookUpData_Pop!$B$286","v":0},null,0.5,5]
["Male 50-54",52.5,"male",5,{"$f":"HLOOKUP('III Tool Overview'!$H$6,Prevalence!$B$2:$AV$268,Prevalence!AW237,FALSE)","v":0.60046879999999991},{"$f":"HLOOKUP('III Tool Overview'!$H$6,LookUpData_Pop!$B$1:$AV$269,LookUpData_Pop!BB242,FALSE)/5","v":38227},{"$f":"'III Tool Overview'!$H$9/110","v":0},{"$f":"IF('III Tool Overview'!$H$10=\"Even distribution\",Targeting!C247,IF('III Tool Overview'!$H$10=\"Targeting to Q1\",Targeting!D247,IF('III Tool Overview'!$H$10=\"Targeting to Q1 & Q2\",Targeting!E247,IF('III Tool Overview'!$H$10=\"Proportionate to need\",Targeting!F247))))","v":1644.498937165197},{"$f":"IF('III Tool Overview'!$H$6=\"Western Isles Health Board\",0,IF('III Tool Overview'!$H$6=\"Eilean Siar Local Authority\",0,new_ci(2,B249,C249,D249,$C$1,G249,1,F249,E249*F249)))","v":144.5534013066025},{"$f":"IF('III Tool Overview'!$H$6=\"Western Isles Health Board\",0,IF('III Tool Overview'!$H$6=\"Eilean Siar Local Authority\",0,new_ci(2,B249,C249,D249,$C$1,G249+H249,1,F249,E249*F249)))","v":144.46320715367608},{"$f":"IF('III Tool Overview'!$H$6=\"Western Isles Health Board\",0,IF('III Tool Overview'!$H$6=\"Eilean Siar Local Authority\",0,new_ci(5,B249,C249,D249,$C$1,G249,1,F249,E249*F249)))","v":628.42071416181273},{"$f":"IF('III Tool Overview'!$H$6=\"Western Isles Health Board\",0,IF('III Tool Overview'!$H$6=\"Eilean Siar Local Authority\",0,new_ci(5,B249,C249,D249,$C$1,G249+H249,1,F249,E249*F249)))","v":628.03154572919959},{"$f":"IF('III Tool Overview'!$H$6=\"Western Isles Health Board\",0,IF('III Tool Overview'!$H$6=\"Eilean Siar Local Authority\",0,new_ci(10,B249,C249,D249,$C$1,G249,1,F249,E249*F249)))","v":1629.0539437739051},{"$f":"IF('III Tool Overview'!$H$6=\"Western Isles Health Board\",0,IF('III Tool Overview'!$H$6=\"Eilean Siar Local Authority\",0,new_ci(10,B249,C249,D249,$C$1,G249+H249,1,F249,E249*F249)))","v":1628.0610192773702},{"$f":"IF('III Tool Overview'!$H$6=\"Western Isles Health Board\",0,IF('III Tool Overview'!$H$6=\"Eilean Siar Local Authority\",0,new_ci(20,B249,C249,D249,$C$1,G249,1,F249,E249*F249)))","v":4592.0172850891695},{"$f":"IF('III Tool Overview'!$H$6=\"Western Isles Health Board\",0,IF('III Tool Overview'!$H$6=\"Eilean Siar Local Authority\",0,new_ci(20,B249,C249,D249,$C$1,G249+H249,1,F249,E249*F249)))","v":4589.3555536001859},{"$f":"IF('III Tool Overview'!$H$6=\"Western Isles Health Board\",0,IF('III Tool Overview'!$H$6=\"Eilean Siar Local Authority\",0,new_yll(2,B249,C249,D249,$C$1,G249,1,F249,E249*F249)))","v":6794.0098614103172},{"$f":"IF('III Tool Overview'!$H$6=\"Western Isles Health Board\",0,IF('III Tool Overview'!$H$6=\"Eilean Siar Local Authority\",0,new_yll(2,B249,C249,D249,$C$1,G249+H249,1,F249,E249*F249)))","v":6789.7707362227757},4.2391251875415037,{"$f":"IF('III Tool Overview'!$H$6=\"Western Isles Health Board\",0,IF('III Tool Overview'!$H$6=\"Eilean Siar Local Authority\",0,new_yll(5,B249,C249,D249,$C$1,G249,1,F249,E249*F249)))","v":28550.601808109128},{"$f":"IF('III Tool Overview'!$H$6=\"Western Isles Health Board\",0,IF('III Tool Overview'!$H$6=\"Eilean Siar Local Authority\",0,new_yll(5,B249,C249,D249,$C$1,G249+H249,1,F249,E249*F249)))","v":28532.918608423788},17.683199685339787,{"$f":"IF('III Tool Overview'!$H$6=\"Western Isles Health Board\",0,IF('III Tool Overview'!$H$6=\"Eilean Siar Local Authority\",0,new_yll(10,B249,C249,D249,$C$1,G249,1,F249,E249*F249)))","v":69470.770488967086},{"$f":"IF('III Tool Overview'!$H$6=\"Western Isles Health Board\",0,IF('III Tool Overview'!$H$6=\"Eilean Siar Local Authority\",0,new_yll(10,B249,C249,D249,$C$1,G249+H249,1,F249,E249*F249)))","v":69428.389256555238},42.381232411848032,{"$f":"IF('III Tool Overview'!$H$6=\"Western Isles Health Board\",0,IF('III Tool Overview'!$H$6=\"Eilean Siar Local Authority\",0,new_yll(20,B249,C249,D249,$C$1,G249,1,F249,E249*F249)))","v":167517.65400342041},{"$f":"IF('III Tool Overview'!$H$6=\"Western Isles Health Board\",0,IF('III Tool Overview'!$H$6=\"Eilean Siar Local Authority\",0,new_yll(20,B249,C249,D249,$C$1,G249+H249,1,F249,E249*F249)))","v":167419.90233675152},97.751666668889811,{"$error":"#NAME?"},{"$error":"#NAME?"},{"$error":"#NAME?"},{"$error":"#NAME?"},{"$error":"#NAME?"},{"$error":"#NAME?"},{"$error":"#NAME?"},{"$error":"#NAME?"},{"$error":"#NAME?"},{"$error":"#NAME?"},{"$error":"#NAME?"},{"$error":"#NAME?"},{"$f":"HLOOKUP('III Tool Overview'!$H$6,LookUpData_Pop!$B$1:$AV$269,LookUpData_Pop!BB242,FALSE)","v":191135},23.19079600662004,null,191135,null,null,null,{"$error":"#DIV/0!"},{"$error":"#DIV/0!"},{"$error":"#DIV/0!"},null,1.2133202190399477E-4,0,null,{"$f":"(AP249/AO249)*LookUpData_Pop!$B$287","v":0.8493241533279634},{"$f":"(AQ249/AP249)*LookUpData_Pop!$B$287","v":0},null,0.5,5]
["Male 55-59",57.5,"male",5,{"$f":"HLOOKUP('III Tool Overview'!$H$6,Prevalence!$B$2:$AV$268,Prevalence!AW238,FALSE)","v":0.43502397746159693},{"$f":"HLOOKUP('III Tool Overview'!$H$6,LookUpData_Pop!$B$1:$AV$269,LookUpData_Pop!BB243,FALSE)/5","v":34578},{"$f":"'III Tool Overview'!$H$9/110","v":0},{"$f":"IF('III Tool Overview'!$H$10=\"Even distribution\",Targeting!C248,IF('III Tool Overview'!$H$10=\"Targeting to Q1\",Targeting!D248,IF('III Tool Overview'!$H$10=\"Targeting to Q1 & Q2\",Targeting!E248,IF('III Tool Overview'!$H$10=\"Proportionate to need\",Targeting!F248))))","v":1076.8662072517793},{"$f":"IF('III Tool Overview'!$H$6=\"Western Isles Health Board\",0,IF('III Tool Overview'!$H$6=\"Eilean Siar Local Authority\",0,new_ci(2,B250,C250,D250,$C$1,G250,1,F250,E250*F250)))","v":201.67898781257634},{"$f":"IF('III Tool Overview'!$H$6=\"Western Isles Health Board\",0,IF('III Tool Overview'!$H$6=\"Eilean Siar Local Authority\",0,new_ci(2,B250,C250,D250,$C$1,G250+H250,1,F250,E250*F250)))","v":201.58399064057261},{"$f":"IF('III Tool Overview'!$H$6=\"Western Isles Health Board\",0,IF('III Tool Overview'!$H$6=\"Eilean Siar Local Authority\",0,new_ci(5,B250,C250,D250,$C$1,G250,1,F250,E250*F250)))","v":873.67130022575384},{"$f":"IF('III Tool Overview'!$H$6=\"Western Isles Health Board\",0,IF('III Tool Overview'!$H$6=\"Eilean Siar Local Authority\",0,new_ci(5,B250,C250,D250,$C$1,G250+H250,1,F250,E250*F250)))","v":873.26490259670948},{"$f":"IF('III Tool Overview'!$H$6=\"Western Isles Health Board\",0,IF('III Tool Overview'!$H$6=\"Eilean Siar Local Authority\",0,new_ci(10,B250,C250,D250,$C$1,G250,1,F250,E250*F250)))","v":2248.1458467403477},{"$f":"IF('III Tool Overview'!$H$6=\"Western Isles Health Board\",0,IF('III Tool Overview'!$H$6=\"Eilean Siar Local Authority\",0,new_ci(10,B250,C250,D250,$C$1,G250+H250,1,F250,E250*F250)))","v":2247.1275301225046},{"$f":"IF('III Tool Overview'!$H$6=\"Western Isles Health Board\",0,IF('III Tool Overview'!$H$6=\"Eilean Siar Local Authority\",0,new_ci(20,B250,C250,D250,$C$1,G250,1,F250,E250*F250)))","v":6195.8851124707853},{"$f":"IF('III Tool Overview'!$H$6=\"Western Isles Health Board\",0,IF('III Tool Overview'!$H$6=\"Eilean Siar Local Authority\",0,new_ci(20,B250,C250,D250,$C$1,G250+H250,1,F250,E250*F250)))","v":6193.3055285165456},{"$f":"IF('III Tool Overview'!$H$6=\"Western Isles Health Board\",0,IF('III Tool Overview'!$H$6=\"Eilean Siar Local Authority\",0,new_yll(2,B250,C250,D250,$C$1,G250,1,F250,E250*F250)))","v":8268.8385003156291},{"$f":"IF('III Tool Overview'!$H$6=\"Western Isles Health Board\",0,IF('III Tool Overview'!$H$6=\"Eilean Siar Local Authority\",0,new_yll(2,B250,C250,D250,$C$1,G250+H250,1,F250,E250*F250)))","v":8264.9436162634775},3.8948840521516104,{"$f":"IF('III Tool Overview'!$H$6=\"Western Isles Health Board\",0,IF('III Tool Overview'!$H$6=\"Eilean Siar Local Authority\",0,new_yll(5,B250,C250,D250,$C$1,G250,1,F250,E250*F250)))","v":34453.380667184174},{"$f":"IF('III Tool Overview'!$H$6=\"Western Isles Health Board\",0,IF('III Tool Overview'!$H$6=\"Eilean Siar Local Authority\",0,new_yll(5,B250,C250,D250,$C$1,G250+H250,1,F250,E250*F250)))","v":34437.350138152891},16.03052903128264,{"$f":"IF('III Tool Overview'!$H$6=\"Western Isles Health Board\",0,IF('III Tool Overview'!$H$6=\"Eilean Siar Local Authority\",0,new_yll(10,B250,C250,D250,$C$1,G250,1,F250,E250*F250)))","v":82422.873630909657},{"$f":"IF('III Tool Overview'!$H$6=\"Western Isles Health Board\",0,IF('III Tool Overview'!$H$6=\"Eilean Siar Local Authority\",0,new_yll(10,B250,C250,D250,$C$1,G250+H250,1,F250,E250*F250)))","v":82385.473434963467},37.400195946189342,{"$f":"IF('III Tool Overview'!$H$6=\"Western Isles Health Board\",0,IF('III Tool Overview'!$H$6=\"Eilean Siar Local Authority\",0,new_yll(20,B250,C250,D250,$C$1,G250,1,F250,E250*F250)))","v":189521.07977140209},{"$f":"IF('III Tool Overview'!$H$6=\"Western Isles Health Board\",0,IF('III Tool Overview'!$H$6=\"Eilean Siar Local Authority\",0,new_yll(20,B250,C250,D250,$C$1,G250+H250,1,F250,E250*F250)))","v":189441.07912398179},80.000647420296445,{"$error":"#NAME?"},{"$error":"#NAME?"},{"$error":"#NAME?"},{"$error":"#NAME?"},{"$error":"#NAME?"},{"$error":"#NAME?"},{"$error":"#NAME?"},{"$error":"#NAME?"},{"$error":"#NAME?"},{"$error":"#NAME?"},{"$error":"#NAME?"},{"$error":"#NAME?"},{"$f":"HLOOKUP('III Tool Overview'!$H$6,LookUpData_Pop!$B$1:$AV$269,LookUpData_Pop!BB243,FALSE)","v":172890},34.231929707283633,null,172890,null,null,null,{"$error":"#DIV/0!"},{"$error":"#DIV/0!"},{"$error":"#DIV/0!"},null,1.9799832093980933E-4,0,null,{"$f":"(AP250/AO250)*LookUpData_Pop!$B$288","v":1.187989925638856},{"$f":"(AQ250/AP250)*LookUpData_Pop!$B$288","v":0},null,0.5,5]
["Male 60-64",62.5,"male",5,{"$f":"HLOOKUP('III Tool Overview'!$H$6,Prevalence!$B$2:$AV$268,Prevalence!AW239,FALSE)","v":0.43502397746159693},{"$f":"HLOOKUP('III Tool Overview'!$H$6,LookUpData_Pop!$B$1:$AV$269,LookUpData_Pop!BB244,FALSE)/5","v":32395.4},{"$f":"'III Tool Overview'!$H$9/110","v":0},{"$f":"IF('III Tool Overview'!$H$10=\"Even distribution\",Targeting!C249,IF('III Tool Overview'!$H$10=\"Targeting to Q1\",Targeting!D249,IF('III Tool Overview'!$H$10=\"Targeting to Q1 & Q2\",Targeting!E249,IF('III Tool Overview'!$H$10=\"Proportionate to need\",Targeting!F249))))","v":1005.859772270574},{"$f":"IF('III Tool Overview'!$H$6=\"Western Isles Health Board\",0,IF('III Tool Overview'!$H$6=\"Eilean Siar Local Authority\",0,new_ci(2,B251,C251,D251,$C$1,G251,1,F251,E251*F251)))","v":252.16414138750903},{"$f":"IF('III Tool Overview'!$H$6=\"Western Isles Health Board\",0,IF('III Tool Overview'!$H$6=\"Eilean Siar Local Authority\",0,new_ci(2,B251,C251,D251,$C$1,G251+H251,1,F251,E251*F251)))","v":252.04586741169322},{"$f":"IF('III Tool Overview'!$H$6=\"Western Isles Health Board\",0,IF('III Tool Overview'!$H$6=\"Eilean Siar Local Authority\",0,new_ci(5,B251,C251,D251,$C$1,G251,1,F251,E251*F251)))","v":1088.7175479403886},{"$f":"IF('III Tool Overview'!$H$6=\"Western Isles Health Board\",0,IF('III Tool Overview'!$H$6=\"Eilean Siar Local Authority\",0,new_ci(5,B251,C251,D251,$C$1,G251+H251,1,F251,E251*F251)))","v":1088.2153914926007},{"$f":"IF('III Tool Overview'!$H$6=\"Western Isles Health Board\",0,IF('III Tool Overview'!$H$6=\"Eilean Siar Local Authority\",0,new_ci(10,B251,C251,D251,$C$1,G251,1,F251,E251*F251)))","v":2782.020692695286},{"$f":"IF('III Tool Overview'!$H$6=\"Western Isles Health Board\",0,IF('III Tool Overview'!$H$6=\"Eilean Siar Local Authority\",0,new_ci(10,B251,C251,D251,$C$1,G251+H251,1,F251,E251*F251)))","v":2780.7823892576075},{"$f":"IF('III Tool Overview'!$H$6=\"Western Isles Health Board\",0,IF('III Tool Overview'!$H$6=\"Eilean Siar Local Authority\",0,new_ci(20,B251,C251,D251,$C$1,G251,1,F251,E251*F251)))","v":7507.4568159811697},{"$f":"IF('III Tool Overview'!$H$6=\"Western Isles Health Board\",0,IF('III Tool Overview'!$H$6=\"Eilean Siar Local Authority\",0,new_ci(20,B251,C251,D251,$C$1,G251+H251,1,F251,E251*F251)))","v":7504.473203004356},{"$f":"IF('III Tool Overview'!$H$6=\"Western Isles Health Board\",0,IF('III Tool Overview'!$H$6=\"Eilean Siar Local Authority\",0,new_yll(2,B251,C251,D251,$C$1,G251,1,F251,E251*F251)))","v":9330.0732313378339},{"$f":"IF('III Tool Overview'!$H$6=\"Western Isles Health Board\",0,IF('III Tool Overview'!$H$6=\"Eilean Siar Local Authority\",0,new_yll(2,B251,C251,D251,$C$1,G251+H251,1,F251,E251*F251)))","v":9325.6970942326498},4.3761371051841707,{"$f":"IF('III Tool Overview'!$H$6=\"Western Isles Health Board\",0,IF('III Tool Overview'!$H$6=\"Eilean Siar Local Authority\",0,new_yll(5,B251,C251,D251,$C$1,G251,1,F251,E251*F251)))","v":38581.865474982464},{"$f":"IF('III Tool Overview'!$H$6=\"Western Isles Health Board\",0,IF('III Tool Overview'!$H$6=\"Eilean Siar Local Authority\",0,new_yll(5,B251,C251,D251,$C$1,G251+H251,1,F251,E251*F251)))","v":38564.063193580594},17.80228140186955,{"$f":"IF('III Tool Overview'!$H$6=\"Western Isles Health Board\",0,IF('III Tool Overview'!$H$6=\"Eilean Siar Local Authority\",0,new_yll(10,B251,C251,D251,$C$1,G251,1,F251,E251*F251)))","v":90914.940304671312},{"$f":"IF('III Tool Overview'!$H$6=\"Western Isles Health Board\",0,IF('III Tool Overview'!$H$6=\"Eilean Siar Local Authority\",0,new_yll(10,B251,C251,D251,$C$1,G251+H251,1,F251,E251*F251)))","v":90874.364578370674},40.575726300638053,{"$f":"IF('III Tool Overview'!$H$6=\"Western Isles Health Board\",0,IF('III Tool Overview'!$H$6=\"Eilean Siar Local Authority\",0,new_yll(20,B251,C251,D251,$C$1,G251,1,F251,E251*F251)))","v":200380.83138310586},{"$f":"IF('III Tool Overview'!$H$6=\"Western Isles Health Board\",0,IF('III Tool Overview'!$H$6=\"Eilean Siar Local Authority\",0,new_yll(20,B251,C251,D251,$C$1,G251+H251,1,F251,E251*F251)))","v":200299.43866142302},81.392721682845149,{"$error":"#NAME?"},{"$error":"#NAME?"},{"$error":"#NAME?"},{"$error":"#NAME?"},{"$error":"#NAME?"},{"$error":"#NAME?"},{"$error":"#NAME?"},{"$error":"#NAME?"},{"$error":"#NAME?"},{"$error":"#NAME?"},{"$error":"#NAME?"},{"$error":"#NAME?"},{"$f":"HLOOKUP('III Tool Overview'!$H$6,LookUpData_Pop!$B$1:$AV$269,LookUpData_Pop!BB244,FALSE)","v":161977},57.526199377158406,null,161977,null,null,null,{"$error":"#DIV/0!"},{"$error":"#DIV/0!"},{"$error":"#DIV/0!"},null,3.5515041874561456E-4,0,null,{"$f":"(AP251/AO251)*LookUpData_Pop!$B$289","v":1.7757520937280729},{"$f":"(AQ251/AP251)*LookUpData_Pop!$B$289","v":0},null,0.5,5]
["Male 65-69",67.5,"male",5,null,null,null,null,null,null,null,null,null,null,null,null,null,null,null,null,null,null,null,null,null,null,null,null,null,null,null,null,null,null,null,null,null,null,null,null,{"$f":"HLOOKUP('III Tool Overview'!$H$6,LookUpData_Pop!$B$1:$AV$269,LookUpData_Pop!BB245,FALSE)","v":115338},70.259809187992985,null,115338,null,null,null,{"$error":"#DIV/0!"},{"$error":"#DIV/0!"},{"$error":"#DIV/0!"},null,6.0916444873322748E-4,0,null,{"$f":"(AP252/AO252)*LookUpData_Pop!$B$290","v":2.43665779493291},{"$f":"(AQ252/AP252)*LookUpData_Pop!$B$290","v":0},null,0.5,5]
["Male 70-74",72.5,"male",5,null,null,null,null,null,null,null,null,null,null,null,null,null,null,null,null,null,null,null,null,null,null,null,null,null,null,null,null,null,null,null,null,null,null,null,null,{"$f":"HLOOKUP('III Tool Overview'!$H$6,LookUpData_Pop!$B$1:$AV$269,LookUpData_Pop!BB246,FALSE)","v":94368},98.330276337755919,null,94368,null,null,null,{"$error":"#DIV/0!"},{"$error":"#DIV/0!"},{"$error":"#DIV/0!"},null,1.0419874993404111E-3,0,null,{"$f":"(AP253/AO253)*LookUpData_Pop!$B$291","v":3.1259624980212335},{"$f":"(AQ253/AP253)*LookUpData_Pop!$B$291","v":0},null,0.5,5]
["Male 75-79",77.5,"male",5,null,null,null,null,null,null,null,null,null,null,null,null,null,null,null,null,null,null,null,null,null,null,null,null,null,null,null,null,null,null,null,null,null,null,null,null,{"$f":"HLOOKUP('III Tool Overview'!$H$6,LookUpData_Pop!$B$1:$AV$269,LookUpData_Pop!BB247,FALSE)","v":71708},136.49675062713632,null,71708,null,null,null,{"$error":"#DIV/0!"},{"$error":"#DIV/0!"},{"$error":"#DIV/0!"},null,1.9035079855404741E-3,0,null,{"$f":"(AP254/AO254)*LookUpData_Pop!$B$292","v":3.8070159710809484},{"$f":"(AQ254/AP254)*LookUpData_Pop!$B$292","v":0},null,0.5,5]
["Male 80-84",82.5,"male",5,null,null,null,null,null,null,null,null,null,null,null,null,null,null,null,null,null,null,null,null,null,null,null,null,null,null,null,null,null,null,null,null,null,null,null,null,{"$f":"HLOOKUP('III Tool Overview'!$H$6,LookUpData_Pop!$B$1:$AV$269,LookUpData_Pop!BB248,FALSE)","v":45896},157.50805067050254,null,45896,null,null,null,{"$error":"#DIV/0!"},{"$error":"#DIV/0!"},{"$error":"#DIV/0!"},null,3.4318470165265501E-3,0,null,{"$f":"(AP255/AO255)*LookUpData_Pop!$B$293","v":3.4318470165265502},{"$f":"(AQ255/AP255)*LookUpData_Pop!$B$293","v":0},null,0.5,5]
["Male 85-89",87.5,"male",5,null,null,null,null,null,null,null,null,null,null,null,null,null,null,null,null,null,null,null,null,null,null,null,null,null,null,null,null,null,null,null,null,null,null,null,null,{"$f":"HLOOKUP('III Tool Overview'!$H$6,LookUpData_Pop!$B$1:$AV$269,LookUpData_Pop!BB250,FALSE)","v":8595},205.87120022834307,null,null,null,null,null,null,null,null,null,2.3952437490208617E-2,0,null,{"$f":"(AP256/AO256)*LookUpData_Pop!$B$294","v":23.952437490208617},{"$f":"(AQ256/AP256)*LookUpData_Pop!$B$294","v":0},null,0.5,{"$f":"2/AZ256","v":83.498808871438186}]
["Male 90+",95,"male",5,null,null,null,null,null,null,null,null,null,null,null,null,null,null,null,null,null,null,null,null,null,null,null,null,null,null,null,null,null,null,null,null,null,null,null,null,{"$f":"HLOOKUP('III Tool Overview'!$H$6,LookUpData_Pop!$B$1:$AV$269,LookUpData_Pop!BB251,FALSE)","v":23978},206.87120022834301]
["TOTAL",null,null,null,null,{"$f":"SUM(F242:F257)","v":349290.20000000007},{"$f":"SUM(G242:G257)","v":0},{"$f":"SUM(H242:H257)","v":11579.218441307688},{"$f":"SUM(I242:I257)","v":904.41649743631137},{"$f":"SUM(J242:J257)","v":903.94504346253234},{"$f":"SUM(K242:K257)","v":3925.5577214217401},{"$f":"SUM(L242:L257)","v":3923.5302970373555},{"$f":"SUM(M242:M257)","v":10143.271828689965},{"$f":"SUM(N242:N257)","v":10138.133989750126},{"$f":"SUM(O242:O257)","v":28328.754139087032},{"$f":"SUM(P242:P257)","v":28315.236418097978},{"$f":"SUM(Q242:Q257)","v":42440.950289820837},{"$f":"SUM(R242:R257)","v":42418.743727039495},{"$f":"SUM(S242:S257)","v":22.206562781349476},{"$f":"SUM(T242:T257)","v":178225.46180929657},{"$f":"SUM(U242:U257)","v":178132.95408472477},{"$f":"SUM(V242:V257)","v":92.507724571777544},{"$f":"SUM(W242:W257)","v":433190.47773191688},{"$f":"SUM(X242:X257)","v":432969.21138115064},{"$f":"SUM(Y242:Y257)","v":221.26635076622188},{"$f":"SUM(Z242:Z257)","v":1043806.2339623013},{"$f":"SUM(AA242:AA257)","v":1043295.9638020834},{"$f":"SUM(AB242:AB257)","v":510.27016021787495},{"$f":"SUM(AC242:AC257)","v":{"$error":"#NAME?"}},{"$f":"SUM(AD242:AD257)","v":{"$error":"#NAME?"}},{"$f":"SUM(AE242:AE257)","v":{"$error":"#NAME?"}},{"$f":"SUM(AF242:AF257)","v":{"$error":"#NAME?"}},{"$f":"SUM(AG242:AG257)","v":{"$error":"#NAME?"}},{"$f":"SUM(AH242:AH257)","v":{"$error":"#NAME?"}},{"$f":"SUM(AI242:AI257)","v":{"$error":"#NAME?"}},{"$f":"SUM(AJ242:AJ257)","v":{"$error":"#NAME?"}},{"$f":"SUM(AK242:AK257)","v":{"$error":"#NAME?"}},{"$f":"SUM(AL242:AL257)","v":{"$error":"#NAME?"}},{"$f":"SUM(AM242:AM257)","v":{"$error":"#NAME?"}},{"$f":"SUM(AN242:AN257)","v":{"$error":"#NAME?"}}]
["Female <1",0.5,"female",5,null,null,null,null,null,null,null,null,null,null,null,null,null,null,null,null,null,null,null,null,null,null,null,null,null,null,null,null,null,null,null,null,null,null,null,null,{"$f":"HLOOKUP('III Tool Overview'!$H$6,LookUpData_Pop!$B$1:$AV$269,LookUpData_Pop!BB251,FALSE)","v":23978},3.2445118152747208,null,null,null,null,null,null,null,null,null,1.3531202832908168E-4,0,null,null,null,null,0.1,1]
["Female 1-4",2.5,"female",5,null,null,null,null,null,null,null,null,null,null,null,null,null,null,null,null,null,null,null,null,null,null,null,null,null,null,null,null,null,null,null,null,null,null,null,null,{"$f":"HLOOKUP('III Tool Overview'!$H$6,LookUpData_Pop!$B$1:$AV$269,LookUpData_Pop!BB252,FALSE)","v":100931},0.51300856851818566,null,null,null,null,null,null,null,null,null,5.0827651417125135E-6,0,null,{"$f":"((AP260+AP259)/(AO260+AO259))*LookUpData_Pop!$B$277","v":0.24065650249656348},{"$f":"((AQ260+AQ259)/(AP260+AP259))*LookUpData_Pop!$B$277","v":0},null,0.5,4]
["Female 5-9",7.5,"female",5,null,null,null,null,null,null,null,null,null,null,null,null,null,null,null,null,null,null,null,null,null,null,null,null,null,null,null,null,null,null,null,null,null,null,null,null,{"$f":"HLOOKUP('III Tool Overview'!$H$6,LookUpData_Pop!$B$1:$AV$269,LookUpData_Pop!BB253,FALSE)","v":130808},0.35581611159392545,null,null,null,null,null,null,null,null,null,2.7201402941251718E-6,0,null,{"$f":"(AP261/AO261)*LookUpData_Pop!$B$278","v":1.9040982058876204E-2},{"$f":"(AQ261/AP261)*LookUpData_Pop!$B$278","v":0},null,0.5,5]
["Female 10-14",12.5,"female",5,null,null,null,null,null,null,null,null,null,null,null,null,null,null,null,null,null,null,null,null,null,null,null,null,null,null,null,null,null,null,null,null,null,null,null,null,{"$f":"HLOOKUP('III Tool Overview'!$H$6,LookUpData_Pop!$B$1:$AV$269,LookUpData_Pop!BB254,FALSE)","v":147478},0.56868208019311661,null,null,null,null,null,null,null,null,null,3.8560468693168925E-6,0,null,{"$f":"(AP262/AO262)*LookUpData_Pop!$B$279","v":2.6992328085218249E-2},{"$f":"(AQ262/AP262)*LookUpData_Pop!$B$279","v":0},null,0.5,5]
["Female 15-19",17.5,"female",5,{"$f":"HLOOKUP('III Tool Overview'!$H$6,Prevalence!$B$2:$AV$268,Prevalence!AW250,FALSE)","v":0.21982124808153514},{"$f":"HLOOKUP('III Tool Overview'!$H$6,LookUpData_Pop!$B$1:$AV$269,LookUpData_Pop!BB255,FALSE)/5","v":33293},{"$f":"'III Tool Overview'!$H$9/110","v":0},{"$f":"IF('III Tool Overview'!$H$10=\"Even distribution\",Targeting!C261,IF('III Tool Overview'!$H$10=\"Targeting to Q1\",Targeting!D261,IF('III Tool Overview'!$H$10=\"Targeting to Q1 & Q2\",Targeting!E261,IF('III Tool Overview'!$H$10=\"Proportionate to need\",Targeting!F261))))","v":411.79899928298545},{"$f":"IF('III Tool Overview'!$H$6=\"Western Isles Health Board\",0,IF('III Tool Overview'!$H$6=\"Eilean Siar Local Authority\",0,new_ci(2,B263,C263,D263,$C$1,G263,1,F263,E263*F263)))","v":4.4114960123518223},{"$f":"IF('III Tool Overview'!$H$6=\"Western Isles Health Board\",0,IF('III Tool Overview'!$H$6=\"Eilean Siar Local Authority\",0,new_ci(2,B263,C263,D263,$C$1,G263+H263,1,F263,E263*F263)))","v":4.4106172534403498},{"$f":"IF('III Tool Overview'!$H$6=\"Western Isles Health Board\",0,IF('III Tool Overview'!$H$6=\"Eilean Siar Local Authority\",0,new_ci(5,B263,C263,D263,$C$1,G263,1,F263,E263*F263)))","v":19.590943283669066},{"$f":"IF('III Tool Overview'!$H$6=\"Western Isles Health Board\",0,IF('III Tool Overview'!$H$6=\"Eilean Siar Local Authority\",0,new_ci(5,B263,C263,D263,$C$1,G263+H263,1,F263,E263*F263)))","v":19.587042071250533},{"$f":"IF('III Tool Overview'!$H$6=\"Western Isles Health Board\",0,IF('III Tool Overview'!$H$6=\"Eilean Siar Local Authority\",0,new_ci(10,B263,C263,D263,$C$1,G263,1,F263,E263*F263)))","v":52.867596912677762},{"$f":"IF('III Tool Overview'!$H$6=\"Western Isles Health Board\",0,IF('III Tool Overview'!$H$6=\"Eilean Siar Local Authority\",0,new_ci(10,B263,C263,D263,$C$1,G263+H263,1,F263,E263*F263)))","v":52.857076627047569},{"$f":"IF('III Tool Overview'!$H$6=\"Western Isles Health Board\",0,IF('III Tool Overview'!$H$6=\"Eilean Siar Local Authority\",0,new_ci(20,B263,C263,D263,$C$1,G263,1,F263,E263*F263)))","v":164.9997632203897},{"$f":"IF('III Tool Overview'!$H$6=\"Western Isles Health Board\",0,IF('III Tool Overview'!$H$6=\"Eilean Siar Local Authority\",0,new_ci(20,B263,C263,D263,$C$1,G263+H263,1,F263,E263*F263)))","v":164.96700754222508},{"$f":"IF('III Tool Overview'!$H$6=\"Western Isles Health Board\",0,IF('III Tool Overview'!$H$6=\"Eilean Siar Local Authority\",0,new_yll(2,B263,C263,D263,$C$1,G263,1,F263,E263*F263)))","v":357.33117700049763},{"$f":"IF('III Tool Overview'!$H$6=\"Western Isles Health Board\",0,IF('III Tool Overview'!$H$6=\"Eilean Siar Local Authority\",0,new_yll(2,B263,C263,D263,$C$1,G263+H263,1,F263,E263*F263)))","v":357.25999752866835},{"$f":"Q263-R263","v":7.1179471829282193E-2},{"$f":"IF('III Tool Overview'!$H$6=\"Western Isles Health Board\",0,IF('III Tool Overview'!$H$6=\"Eilean Siar Local Authority\",0,new_yll(5,B263,C263,D263,$C$1,G263,1,F263,E263*F263)))","v":1555.822085839337},{"$f":"IF('III Tool Overview'!$H$6=\"Western Isles Health Board\",0,IF('III Tool Overview'!$H$6=\"Eilean Siar Local Authority\",0,new_yll(5,B263,C263,D263,$C$1,G263+H263,1,F263,E263*F263)))","v":1555.5122685877564},{"$f":"T263-U263","v":0.30981725158062545},{"$f":"IF('III Tool Overview'!$H$6=\"Western Isles Health Board\",0,IF('III Tool Overview'!$H$6=\"Eilean Siar Local Authority\",0,new_yll(10,B263,C263,D263,$C$1,G263,1,F263,E263*F263)))","v":4047.0720464589749},{"$f":"IF('III Tool Overview'!$H$6=\"Western Isles Health Board\",0,IF('III Tool Overview'!$H$6=\"Eilean Siar Local Authority\",0,new_yll(10,B263,C263,D263,$C$1,G263+H263,1,F263,E263*F263)))","v":4046.266689904734},{"$f":"W263-X263","v":0.80535655424091601},{"$f":"IF('III Tool Overview'!$H$6=\"Western Isles Health Board\",0,IF('III Tool Overview'!$H$6=\"Eilean Siar Local Authority\",0,new_yll(20,B263,C263,D263,$C$1,G263,1,F263,E263*F263)))","v":11553.938696833908},{"$f":"IF('III Tool Overview'!$H$6=\"Western Isles Health Board\",0,IF('III Tool Overview'!$H$6=\"Eilean Siar Local Authority\",0,new_yll(20,B263,C263,D263,$C$1,G263+H263,1,F263,E263*F263)))","v":11551.644670167081},{"$f":"Z263-AA263","v":2.2940266668265394},{"$f":"hosp_count(2,B263,C263,D263,$C$1,G263,1,F263,E263*F263)","v":{"$error":"#NAME?"}},{"$f":"hosp_count(2,B263,C263,D263,$C$1,G263+H263,1,F263,E263*F263)","v":{"$error":"#NAME?"}},{"$f":"AC263-AD263","v":{"$error":"#NAME?"}},{"$f":"hosp_count(5,B263,C263,D263,$C$1,G263,1,F263,E263*F263)","v":{"$error":"#NAME?"}},{"$f":"hosp_count(5,B263,C263,D263,$C$1,G263+H263,1,F263,E263*F263)","v":{"$error":"#NAME?"}},{"$f":"AF263-AG263","v":{"$error":"#NAME?"}},{"$f":"hosp_count(10,B263,C263,D263,$C$1,G263,1,F263,E263*F263)","v":{"$error":"#NAME?"}},{"$f":"hosp_count(10,B263,C263,D263,$C$1,G263+H263,1,F263,E263*F263)","v":{"$error":"#NAME?"}},{"$f":"AI263-AJ263","v":{"$error":"#NAME?"}},{"$f":"hosp_count(20,B263,C263,D263,$C$1,G263,1,F263,E263*F263)","v":{"$error":"#NAME?"}},{"$f":"hosp_count(20,B263,C263,D263,$C$1,G263+H263,1,F263,E263*F263)","v":{"$error":"#NAME?"}},{"$f":"AL263-AM263","v":{"$error":"#NAME?"}},{"$f":"HLOOKUP('III Tool Overview'!$H$6,LookUpData_Pop!$B$1:$AV$269,LookUpData_Pop!BB255,FALSE)","v":166465},1.3527563210177691,null,{"$f":"AO263*(0.8)","v":133172},null,null,null,{"$f":"AT263/AVERAGE(AT$263:AT$276)","v":{"$error":"#DIV/0!"}},{"$f":"$AV$9*$AV$18*AV49","v":{"$error":"#DIV/0!"}},{"$f":"AW263*AR263*$AT$4","v":{"$error":"#DIV/0!"}},null,8.1263708348167436E-6,0,null,{"$f":"(AP263/AO263)*LookUpData_Pop!$B$280","v":5.6884595843717203E-2},{"$f":"(AQ263/AP263)*LookUpData_Pop!$B$280","v":0},null,0.5,5]
["Female 20-24",22.5,"female",5,{"$f":"HLOOKUP('III Tool Overview'!$H$6,Prevalence!$B$2:$AV$268,Prevalence!AW251,FALSE)","v":0.21982124808153514},{"$f":"HLOOKUP('III Tool Overview'!$H$6,LookUpData_Pop!$B$1:$AV$269,LookUpData_Pop!BB256,FALSE)/5","v":35473.199999999997},{"$f":"'III Tool Overview'!$H$9/110","v":0},{"$f":"IF('III Tool Overview'!$H$10=\"Even distribution\",Targeting!C262,IF('III Tool Overview'!$H$10=\"Targeting to Q1\",Targeting!D262,IF('III Tool Overview'!$H$10=\"Targeting to Q1 & Q2\",Targeting!E262,IF('III Tool Overview'!$H$10=\"Proportionate to need\",Targeting!F262))))","v":573.84079603907389},{"$f":"IF('III Tool Overview'!$H$6=\"Western Isles Health Board\",0,IF('III Tool Overview'!$H$6=\"Eilean Siar Local Authority\",0,new_ci(2,B264,C264,D264,$C$1,G264,1,F264,E264*F264)))","v":6.52295996583931},{"$f":"IF('III Tool Overview'!$H$6=\"Western Isles Health Board\",0,IF('III Tool Overview'!$H$6=\"Eilean Siar Local Authority\",0,new_ci(2,B264,C264,D264,$C$1,G264+H264,1,F264,E264*F264)))","v":6.5212610140198715},{"$f":"IF('III Tool Overview'!$H$6=\"Western Isles Health Board\",0,IF('III Tool Overview'!$H$6=\"Eilean Siar Local Authority\",0,new_ci(5,B264,C264,D264,$C$1,G264,1,F264,E264*F264)))","v":28.965114315082147},{"$f":"IF('III Tool Overview'!$H$6=\"Western Isles Health Board\",0,IF('III Tool Overview'!$H$6=\"Eilean Siar Local Authority\",0,new_ci(5,B264,C264,D264,$C$1,G264+H264,1,F264,E264*F264)))","v":28.95757350754295},{"$f":"IF('III Tool Overview'!$H$6=\"Western Isles Health Board\",0,IF('III Tool Overview'!$H$6=\"Eilean Siar Local Authority\",0,new_ci(10,B264,C264,D264,$C$1,G264,1,F264,E264*F264)))","v":78.14912259799506},{"$f":"IF('III Tool Overview'!$H$6=\"Western Isles Health Board\",0,IF('III Tool Overview'!$H$6=\"Eilean Siar Local Authority\",0,new_ci(10,B264,C264,D264,$C$1,G264+H264,1,F264,E264*F264)))","v":78.128797079790488},{"$f":"IF('III Tool Overview'!$H$6=\"Western Isles Health Board\",0,IF('III Tool Overview'!$H$6=\"Eilean Siar Local Authority\",0,new_ci(20,B264,C264,D264,$C$1,G264,1,F264,E264*F264)))","v":243.74170271402639},{"$f":"IF('III Tool Overview'!$H$6=\"Western Isles Health Board\",0,IF('III Tool Overview'!$H$6=\"Eilean Siar Local Authority\",0,new_ci(20,B264,C264,D264,$C$1,G264+H264,1,F264,E264*F264)))","v":243.67851812054192},{"$f":"IF('III Tool Overview'!$H$6=\"Western Isles Health Board\",0,IF('III Tool Overview'!$H$6=\"Eilean Siar Local Authority\",0,new_yll(2,B264,C264,D264,$C$1,G264,1,F264,E264*F264)))","v":502.2679173696269},{"$f":"IF('III Tool Overview'!$H$6=\"Western Isles Health Board\",0,IF('III Tool Overview'!$H$6=\"Eilean Siar Local Authority\",0,new_yll(2,B264,C264,D264,$C$1,G264+H264,1,F264,E264*F264)))","v":502.13709807953012},0.13081929009678106,{"$f":"IF('III Tool Overview'!$H$6=\"Western Isles Health Board\",0,IF('III Tool Overview'!$H$6=\"Eilean Siar Local Authority\",0,new_yll(5,B264,C264,D264,$C$1,G264,1,F264,E264*F264)))","v":2184.4170138881491},{"$f":"IF('III Tool Overview'!$H$6=\"Western Isles Health Board\",0,IF('III Tool Overview'!$H$6=\"Eilean Siar Local Authority\",0,new_yll(5,B264,C264,D264,$C$1,G264+H264,1,F264,E264*F264)))","v":2183.8483178183078},{"$f":"T264-U264","v":0.5686960698412804},{"$f":"IF('III Tool Overview'!$H$6=\"Western Isles Health Board\",0,IF('III Tool Overview'!$H$6=\"Eilean Siar Local Authority\",0,new_yll(10,B264,C264,D264,$C$1,G264,1,F264,E264*F264)))","v":5669.8395419136195},{"$f":"IF('III Tool Overview'!$H$6=\"Western Isles Health Board\",0,IF('III Tool Overview'!$H$6=\"Eilean Siar Local Authority\",0,new_yll(10,B264,C264,D264,$C$1,G264+H264,1,F264,E264*F264)))","v":5668.3648479178319},{"$f":"W264-X264","v":1.4746939957876748},{"$f":"IF('III Tool Overview'!$H$6=\"Western Isles Health Board\",0,IF('III Tool Overview'!$H$6=\"Eilean Siar Local Authority\",0,new_yll(20,B264,C264,D264,$C$1,G264,1,F264,E264*F264)))","v":16093.507115720164},{"$f":"IF('III Tool Overview'!$H$6=\"Western Isles Health Board\",0,IF('III Tool Overview'!$H$6=\"Eilean Siar Local Authority\",0,new_yll(20,B264,C264,D264,$C$1,G264+H264,1,F264,E264*F264)))","v":16089.334311477667},{"$f":"Z264-AA264","v":4.1728042424965679},{"$f":"hosp_count(2,B264,C264,D264,$C$1,G264,1,F264,E264*F264)","v":{"$error":"#NAME?"}},{"$f":"hosp_count(2,B264,C264,D264,$C$1,G264+H264,1,F264,E264*F264)","v":{"$error":"#NAME?"}},{"$f":"AC264-AD264","v":{"$error":"#NAME?"}},{"$f":"hosp_count(5,B264,C264,D264,$C$1,G264,1,F264,E264*F264)","v":{"$error":"#NAME?"}},{"$f":"hosp_count(5,B264,C264,D264,$C$1,G264+H264,1,F264,E264*F264)","v":{"$error":"#NAME?"}},{"$f":"AF264-AG264","v":{"$error":"#NAME?"}},{"$f":"hosp_count(10,B264,C264,D264,$C$1,G264,1,F264,E264*F264)","v":{"$error":"#NAME?"}},{"$f":"hosp_count(10,B264,C264,D264,$C$1,G264+H264,1,F264,E264*F264)","v":{"$error":"#NAME?"}},{"$f":"AI264-AJ264","v":{"$error":"#NAME?"}},{"$f":"hosp_count(20,B264,C264,D264,$C$1,G264,1,F264,E264*F264)","v":{"$error":"#NAME?"}},{"$f":"hosp_count(20,B264,C264,D264,$C$1,G264+H264,1,F264,E264*F264)","v":{"$error":"#NAME?"}},{"$f":"AL264-AM264","v":{"$error":"#NAME?"}},{"$f":"HLOOKUP('III Tool Overview'!$H$6,LookUpData_Pop!$B$1:$AV$269,LookUpData_Pop!BB256,FALSE)","v":177366},0.88745144923657082,null,{"$f":"AO264","v":177366},null,null,null,{"$f":"AT264/AVERAGE(AT$263:AT$276)","v":{"$error":"#DIV/0!"}},{"$error":"#DIV/0!"},{"$error":"#DIV/0!"},null,5.0035037675573157E-6,0,null,{"$f":"(AP264/AO264)*LookUpData_Pop!$B$281","v":3.502452637290121E-2},{"$f":"(AQ264/AP264)*LookUpData_Pop!$B$281","v":0},null,0.5,5]
["Female 25-29",27.5,"female",5,{"$f":"HLOOKUP('III Tool Overview'!$H$6,Prevalence!$B$2:$AV$268,Prevalence!AW252,FALSE)","v":0.51629257931505412},{"$f":"HLOOKUP('III Tool Overview'!$H$6,LookUpData_Pop!$B$1:$AV$269,LookUpData_Pop!BB257,FALSE)/5","v":27873.8},{"$f":"'III Tool Overview'!$H$9/110","v":0},{"$f":"IF('III Tool Overview'!$H$10=\"Even distribution\",Targeting!C263,IF('III Tool Overview'!$H$10=\"Targeting to Q1\",Targeting!D263,IF('III Tool Overview'!$H$10=\"Targeting to Q1 & Q2\",Targeting!E263,IF('III Tool Overview'!$H$10=\"Proportionate to need\",Targeting!F263))))","v":985.2702944757076},{"$f":"IF('III Tool Overview'!$H$6=\"Western Isles Health Board\",0,IF('III Tool Overview'!$H$6=\"Eilean Siar Local Authority\",0,new_ci(2,B265,C265,D265,$C$1,G265,1,F265,E265*F265)))","v":8.3791247940786437},{"$f":"IF('III Tool Overview'!$H$6=\"Western Isles Health Board\",0,IF('III Tool Overview'!$H$6=\"Eilean Siar Local Authority\",0,new_ci(2,B265,C265,D265,$C$1,G265+H265,1,F265,E265*F265)))","v":8.3747259686108357},{"$f":"IF('III Tool Overview'!$H$6=\"Western Isles Health Board\",0,IF('III Tool Overview'!$H$6=\"Eilean Siar Local Authority\",0,new_ci(5,B265,C265,D265,$C$1,G265,1,F265,E265*F265)))","v":37.199750914837196},{"$f":"IF('III Tool Overview'!$H$6=\"Western Isles Health Board\",0,IF('III Tool Overview'!$H$6=\"Eilean Siar Local Authority\",0,new_ci(5,B265,C265,D265,$C$1,G265+H265,1,F265,E265*F265)))","v":37.180234321372602},{"$f":"IF('III Tool Overview'!$H$6=\"Western Isles Health Board\",0,IF('III Tool Overview'!$H$6=\"Eilean Siar Local Authority\",0,new_ci(10,B265,C265,D265,$C$1,G265,1,F265,E265*F265)))","v":100.32135328699763},{"$f":"IF('III Tool Overview'!$H$6=\"Western Isles Health Board\",0,IF('III Tool Overview'!$H$6=\"Eilean Siar Local Authority\",0,new_ci(10,B265,C265,D265,$C$1,G265+H265,1,F265,E265*F265)))","v":100.26879321983975},{"$f":"IF('III Tool Overview'!$H$6=\"Western Isles Health Board\",0,IF('III Tool Overview'!$H$6=\"Eilean Siar Local Authority\",0,new_ci(20,B265,C265,D265,$C$1,G265,1,F265,E265*F265)))","v":312.4206984147105},{"$f":"IF('III Tool Overview'!$H$6=\"Western Isles Health Board\",0,IF('III Tool Overview'!$H$6=\"Eilean Siar Local Authority\",0,new_ci(20,B265,C265,D265,$C$1,G265+H265,1,F265,E265*F265)))","v":312.25778021857622},{"$f":"IF('III Tool Overview'!$H$6=\"Western Isles Health Board\",0,IF('III Tool Overview'!$H$6=\"Eilean Siar Local Authority\",0,new_yll(2,B265,C265,D265,$C$1,G265,1,F265,E265*F265)))","v":594.91786037958366},{"$f":"IF('III Tool Overview'!$H$6=\"Western Isles Health Board\",0,IF('III Tool Overview'!$H$6=\"Eilean Siar Local Authority\",0,new_yll(2,B265,C265,D265,$C$1,G265+H265,1,F265,E265*F265)))","v":594.6055437713693},0.3123166082143598,{"$f":"IF('III Tool Overview'!$H$6=\"Western Isles Health Board\",0,IF('III Tool Overview'!$H$6=\"Eilean Siar Local Authority\",0,new_yll(5,B265,C265,D265,$C$1,G265,1,F265,E265*F265)))","v":2582.2434430072503},{"$f":"IF('III Tool Overview'!$H$6=\"Western Isles Health Board\",0,IF('III Tool Overview'!$H$6=\"Eilean Siar Local Authority\",0,new_yll(5,B265,C265,D265,$C$1,G265+H265,1,F265,E265*F265)))","v":2580.8886768341217},1.3547661731286098,{"$f":"IF('III Tool Overview'!$H$6=\"Western Isles Health Board\",0,IF('III Tool Overview'!$H$6=\"Eilean Siar Local Authority\",0,new_yll(10,B265,C265,D265,$C$1,G265,1,F265,E265*F265)))","v":6676.6459819495185},{"$f":"IF('III Tool Overview'!$H$6=\"Western Isles Health Board\",0,IF('III Tool Overview'!$H$6=\"Eilean Siar Local Authority\",0,new_yll(10,B265,C265,D265,$C$1,G265+H265,1,F265,E265*F265)))","v":6673.1478039585063},3.4981779910121986,{"$f":"IF('III Tool Overview'!$H$6=\"Western Isles Health Board\",0,IF('III Tool Overview'!$H$6=\"Eilean Siar Local Authority\",0,new_yll(20,B265,C265,D265,$C$1,G265,1,F265,E265*F265)))","v":18755.734192866788},{"$f":"IF('III Tool Overview'!$H$6=\"Western Isles Health Board\",0,IF('III Tool Overview'!$H$6=\"Eilean Siar Local Authority\",0,new_yll(20,B265,C265,D265,$C$1,G265+H265,1,F265,E265*F265)))","v":18745.950258872046},9.7839339947422559,{"$error":"#NAME?"},{"$error":"#NAME?"},{"$error":"#NAME?"},{"$error":"#NAME?"},{"$error":"#NAME?"},{"$error":"#NAME?"},{"$error":"#NAME?"},{"$error":"#NAME?"},{"$error":"#NAME?"},{"$error":"#NAME?"},{"$error":"#NAME?"},{"$error":"#NAME?"},{"$f":"HLOOKUP('III Tool Overview'!$H$6,LookUpData_Pop!$B$1:$AV$269,LookUpData_Pop!BB257,FALSE)","v":139369},0.9440788722965624,null,{"$f":"AO265","v":139369},null,null,null,{"$error":"#DIV/0!"},{"$error":"#DIV/0!"},{"$error":"#DIV/0!"},null,6.7739516843527786E-6,0,null,{"$f":"(AP265/AO265)*LookUpData_Pop!$B$282","v":4.7417661790469447E-2},{"$f":"(AQ265/AP265)*LookUpData_Pop!$B$282","v":0},null,0.5,5]
["Female 30-34",32.5,"female",5,{"$f":"HLOOKUP('III Tool Overview'!$H$6,Prevalence!$B$2:$AV$268,Prevalence!AW253,FALSE)","v":0.51629257931505412},{"$f":"HLOOKUP('III Tool Overview'!$H$6,LookUpData_Pop!$B$1:$AV$269,LookUpData_Pop!BB258,FALSE)/5","v":27255.4},{"$f":"'III Tool Overview'!$H$9/110","v":0},{"$f":"IF('III Tool Overview'!$H$10=\"Even distribution\",Targeting!C264,IF('III Tool Overview'!$H$10=\"Targeting to Q1\",Targeting!D264,IF('III Tool Overview'!$H$10=\"Targeting to Q1 & Q2\",Targeting!E264,IF('III Tool Overview'!$H$10=\"Proportionate to need\",Targeting!F264))))","v":1039.5840684002437},{"$f":"IF('III Tool Overview'!$H$6=\"Western Isles Health Board\",0,IF('III Tool Overview'!$H$6=\"Eilean Siar Local Authority\",0,new_ci(2,B266,C266,D266,$C$1,G266,1,F266,E266*F266)))","v":11.369778188980039},{"$f":"IF('III Tool Overview'!$H$6=\"Western Isles Health Board\",0,IF('III Tool Overview'!$H$6=\"Eilean Siar Local Authority\",0,new_ci(2,B266,C266,D266,$C$1,G266+H266,1,F266,E266*F266)))","v":11.36333354725862},{"$f":"IF('III Tool Overview'!$H$6=\"Western Isles Health Board\",0,IF('III Tool Overview'!$H$6=\"Eilean Siar Local Authority\",0,new_ci(5,B266,C266,D266,$C$1,G266,1,F266,E266*F266)))","v":50.46668621463396},{"$f":"IF('III Tool Overview'!$H$6=\"Western Isles Health Board\",0,IF('III Tool Overview'!$H$6=\"Eilean Siar Local Authority\",0,new_ci(5,B266,C266,D266,$C$1,G266+H266,1,F266,E266*F266)))","v":50.438105625117466},{"$f":"IF('III Tool Overview'!$H$6=\"Western Isles Health Board\",0,IF('III Tool Overview'!$H$6=\"Eilean Siar Local Authority\",0,new_ci(10,B266,C266,D266,$C$1,G266,1,F266,E266*F266)))","v":136.03916383067826},{"$f":"IF('III Tool Overview'!$H$6=\"Western Isles Health Board\",0,IF('III Tool Overview'!$H$6=\"Eilean Siar Local Authority\",0,new_ci(10,B266,C266,D266,$C$1,G266+H266,1,F266,E266*F266)))","v":135.96226928394526},{"$f":"IF('III Tool Overview'!$H$6=\"Western Isles Health Board\",0,IF('III Tool Overview'!$H$6=\"Eilean Siar Local Authority\",0,new_ci(20,B266,C266,D266,$C$1,G266,1,F266,E266*F266)))","v":423.01520367827413},{"$f":"IF('III Tool Overview'!$H$6=\"Western Isles Health Board\",0,IF('III Tool Overview'!$H$6=\"Eilean Siar Local Authority\",0,new_ci(20,B266,C266,D266,$C$1,G266+H266,1,F266,E266*F266)))","v":422.77764803420388},{"$f":"IF('III Tool Overview'!$H$6=\"Western Isles Health Board\",0,IF('III Tool Overview'!$H$6=\"Eilean Siar Local Authority\",0,new_yll(2,B266,C266,D266,$C$1,G266,1,F266,E266*F266)))","v":761.7751386616626},{"$f":"IF('III Tool Overview'!$H$6=\"Western Isles Health Board\",0,IF('III Tool Overview'!$H$6=\"Eilean Siar Local Authority\",0,new_yll(2,B266,C266,D266,$C$1,G266+H266,1,F266,E266*F266)))","v":761.34334766632753},0.4317909953350636,{"$f":"IF('III Tool Overview'!$H$6=\"Western Isles Health Board\",0,IF('III Tool Overview'!$H$6=\"Eilean Siar Local Authority\",0,new_yll(5,B266,C266,D266,$C$1,G266,1,F266,E266*F266)))","v":3301.3173997623762},{"$f":"IF('III Tool Overview'!$H$6=\"Western Isles Health Board\",0,IF('III Tool Overview'!$H$6=\"Eilean Siar Local Authority\",0,new_yll(5,B266,C266,D266,$C$1,G266+H266,1,F266,E266*F266)))","v":3299.447758196342},1.8696415660342609,{"$f":"IF('III Tool Overview'!$H$6=\"Western Isles Health Board\",0,IF('III Tool Overview'!$H$6=\"Eilean Siar Local Authority\",0,new_yll(10,B266,C266,D266,$C$1,G266,1,F266,E266*F266)))","v":8509.7436001640945},{"$f":"IF('III Tool Overview'!$H$6=\"Western Isles Health Board\",0,IF('III Tool Overview'!$H$6=\"Eilean Siar Local Authority\",0,new_yll(10,B266,C266,D266,$C$1,G266+H266,1,F266,E266*F266)))","v":8504.9332230112559},4.810377152838555,{"$f":"IF('III Tool Overview'!$H$6=\"Western Isles Health Board\",0,IF('III Tool Overview'!$H$6=\"Eilean Siar Local Authority\",0,new_yll(20,B266,C266,D266,$C$1,G266,1,F266,E266*F266)))","v":23705.870698939972},{"$f":"IF('III Tool Overview'!$H$6=\"Western Isles Health Board\",0,IF('III Tool Overview'!$H$6=\"Eilean Siar Local Authority\",0,new_yll(20,B266,C266,D266,$C$1,G266+H266,1,F266,E266*F266)))","v":23692.55118730255},13.319511637422693,{"$error":"#NAME?"},{"$error":"#NAME?"},{"$error":"#NAME?"},{"$error":"#NAME?"},{"$error":"#NAME?"},{"$error":"#NAME?"},{"$error":"#NAME?"},{"$error":"#NAME?"},{"$error":"#NAME?"},{"$error":"#NAME?"},{"$error":"#NAME?"},{"$error":"#NAME?"},{"$f":"HLOOKUP('III Tool Overview'!$H$6,LookUpData_Pop!$B$1:$AV$269,LookUpData_Pop!BB258,FALSE)","v":136277},1.4391356289529162,null,136277,null,null,null,{"$error":"#DIV/0!"},{"$error":"#DIV/0!"},{"$error":"#DIV/0!"},null,1.0560370634464482E-5,0,null,{"$f":"(AP266/AO266)*LookUpData_Pop!$B$283","v":7.3922594441251377E-2},{"$f":"(AQ266/AP266)*LookUpData_Pop!$B$283","v":0},null,0.5,5]
["Female 35-39",37.5,"female",5,{"$f":"HLOOKUP('III Tool Overview'!$H$6,Prevalence!$B$2:$AV$268,Prevalence!AW254,FALSE)","v":0.55503381838419308},{"$f":"HLOOKUP('III Tool Overview'!$H$6,LookUpData_Pop!$B$1:$AV$269,LookUpData_Pop!BB259,FALSE)/5","v":35142},{"$f":"'III Tool Overview'!$H$9/110","v":0},{"$f":"IF('III Tool Overview'!$H$10=\"Even distribution\",Targeting!C265,IF('III Tool Overview'!$H$10=\"Targeting to Q1\",Targeting!D265,IF('III Tool Overview'!$H$10=\"Targeting to Q1 & Q2\",Targeting!E265,IF('III Tool Overview'!$H$10=\"Proportionate to need\",Targeting!F265))))","v":1223.9655117084537},{"$f":"IF('III Tool Overview'!$H$6=\"Western Isles Health Board\",0,IF('III Tool Overview'!$H$6=\"Eilean Siar Local Authority\",0,new_ci(2,B267,C267,D267,$C$1,G267,1,F267,E267*F267)))","v":23.963571236490338},{"$f":"IF('III Tool Overview'!$H$6=\"Western Isles Health Board\",0,IF('III Tool Overview'!$H$6=\"Eilean Siar Local Authority\",0,new_ci(2,B267,C267,D267,$C$1,G267+H267,1,F267,E267*F267)))","v":23.951298036688652},{"$f":"IF('III Tool Overview'!$H$6=\"Western Isles Health Board\",0,IF('III Tool Overview'!$H$6=\"Eilean Siar Local Authority\",0,new_ci(5,B267,C267,D267,$C$1,G267,1,F267,E267*F267)))","v":106.31716486679932},{"$f":"IF('III Tool Overview'!$H$6=\"Western Isles Health Board\",0,IF('III Tool Overview'!$H$6=\"Eilean Siar Local Authority\",0,new_ci(5,B267,C267,D267,$C$1,G267+H267,1,F267,E267*F267)))","v":106.26278992751314},{"$f":"IF('III Tool Overview'!$H$6=\"Western Isles Health Board\",0,IF('III Tool Overview'!$H$6=\"Eilean Siar Local Authority\",0,new_ci(10,B267,C267,D267,$C$1,G267,1,F267,E267*F267)))","v":286.30054739744651},{"$f":"IF('III Tool Overview'!$H$6=\"Western Isles Health Board\",0,IF('III Tool Overview'!$H$6=\"Eilean Siar Local Authority\",0,new_ci(10,B267,C267,D267,$C$1,G267+H267,1,F267,E267*F267)))","v":286.15457300661092},{"$f":"IF('III Tool Overview'!$H$6=\"Western Isles Health Board\",0,IF('III Tool Overview'!$H$6=\"Eilean Siar Local Authority\",0,new_ci(20,B267,C267,D267,$C$1,G267,1,F267,E267*F267)))","v":887.22103624481315},{"$f":"IF('III Tool Overview'!$H$6=\"Western Isles Health Board\",0,IF('III Tool Overview'!$H$6=\"Eilean Siar Local Authority\",0,new_ci(20,B267,C267,D267,$C$1,G267+H267,1,F267,E267*F267)))","v":886.77337440364954},{"$f":"IF('III Tool Overview'!$H$6=\"Western Isles Health Board\",0,IF('III Tool Overview'!$H$6=\"Eilean Siar Local Authority\",0,new_yll(2,B267,C267,D267,$C$1,G267,1,F267,E267*F267)))","v":1461.7778454259105},{"$f":"IF('III Tool Overview'!$H$6=\"Western Isles Health Board\",0,IF('III Tool Overview'!$H$6=\"Eilean Siar Local Authority\",0,new_yll(2,B267,C267,D267,$C$1,G267+H267,1,F267,E267*F267)))","v":1461.0291802380077},0.74866518790281589,{"$f":"IF('III Tool Overview'!$H$6=\"Western Isles Health Board\",0,IF('III Tool Overview'!$H$6=\"Eilean Siar Local Authority\",0,new_yll(5,B267,C267,D267,$C$1,G267,1,F267,E267*F267)))","v":6316.9563470470266},{"$f":"IF('III Tool Overview'!$H$6=\"Western Isles Health Board\",0,IF('III Tool Overview'!$H$6=\"Eilean Siar Local Authority\",0,new_yll(5,B267,C267,D267,$C$1,G267+H267,1,F267,E267*F267)))","v":6313.725536048818},3.2308109982086535,{"$f":"IF('III Tool Overview'!$H$6=\"Western Isles Health Board\",0,IF('III Tool Overview'!$H$6=\"Eilean Siar Local Authority\",0,new_yll(10,B267,C267,D267,$C$1,G267,1,F267,E267*F267)))","v":16192.010843121119},{"$f":"IF('III Tool Overview'!$H$6=\"Western Isles Health Board\",0,IF('III Tool Overview'!$H$6=\"Eilean Siar Local Authority\",0,new_yll(10,B267,C267,D267,$C$1,G267+H267,1,F267,E267*F267)))","v":16183.754066322719},8.2567767984000966,{"$f":"IF('III Tool Overview'!$H$6=\"Western Isles Health Board\",0,IF('III Tool Overview'!$H$6=\"Eilean Siar Local Authority\",0,new_yll(20,B267,C267,D267,$C$1,G267,1,F267,E267*F267)))","v":44410.136849436836},{"$f":"IF('III Tool Overview'!$H$6=\"Western Isles Health Board\",0,IF('III Tool Overview'!$H$6=\"Eilean Siar Local Authority\",0,new_yll(20,B267,C267,D267,$C$1,G267+H267,1,F267,E267*F267)))","v":44387.708184411851},22.428665024985094,{"$error":"#NAME?"},{"$error":"#NAME?"},{"$error":"#NAME?"},{"$error":"#NAME?"},{"$error":"#NAME?"},{"$error":"#NAME?"},{"$error":"#NAME?"},{"$error":"#NAME?"},{"$error":"#NAME?"},{"$error":"#NAME?"},{"$error":"#NAME?"},{"$error":"#NAME?"},{"$f":"HLOOKUP('III Tool Overview'!$H$6,LookUpData_Pop!$B$1:$AV$269,LookUpData_Pop!BB259,FALSE)","v":175710},3.2143623850314649,null,175710,null,null,null,{"$error":"#DIV/0!"},{"$error":"#DIV/0!"},{"$error":"#DIV/0!"},null,1.8293565448929855E-5,0,null,{"$f":"(AP267/AO267)*LookUpData_Pop!$B$284","v":0.128054958142509},{"$f":"(AQ267/AP267)*LookUpData_Pop!$B$284","v":0},null,0.5,5]
["Female 40-44",42.5,"female",5,{"$f":"HLOOKUP('III Tool Overview'!$H$6,Prevalence!$B$2:$AV$268,Prevalence!AW255,FALSE)","v":0.55503381838419308},{"$f":"HLOOKUP('III Tool Overview'!$H$6,LookUpData_Pop!$B$1:$AV$269,LookUpData_Pop!BB260,FALSE)/5","v":42421.599999999999},{"$f":"'III Tool Overview'!$H$9/110","v":0},{"$f":"IF('III Tool Overview'!$H$10=\"Even distribution\",Targeting!C266,IF('III Tool Overview'!$H$10=\"Targeting to Q1\",Targeting!D266,IF('III Tool Overview'!$H$10=\"Targeting to Q1 & Q2\",Targeting!E266,IF('III Tool Overview'!$H$10=\"Proportionate to need\",Targeting!F266))))","v":1544.9925250085814},{"$f":"IF('III Tool Overview'!$H$6=\"Western Isles Health Board\",0,IF('III Tool Overview'!$H$6=\"Eilean Siar Local Authority\",0,new_ci(2,B268,C268,D268,$C$1,G268,1,F268,E268*F268)))","v":40.13991375348774},{"$f":"IF('III Tool Overview'!$H$6=\"Western Isles Health Board\",0,IF('III Tool Overview'!$H$6=\"Eilean Siar Local Authority\",0,new_ci(2,B268,C268,D268,$C$1,G268+H268,1,F268,E268*F268)))","v":40.118420532784121},{"$f":"IF('III Tool Overview'!$H$6=\"Western Isles Health Board\",0,IF('III Tool Overview'!$H$6=\"Eilean Siar Local Authority\",0,new_ci(5,B268,C268,D268,$C$1,G268,1,F268,E268*F268)))","v":178.00307492659604},{"$f":"IF('III Tool Overview'!$H$6=\"Western Isles Health Board\",0,IF('III Tool Overview'!$H$6=\"Eilean Siar Local Authority\",0,new_ci(5,B268,C268,D268,$C$1,G268+H268,1,F268,E268*F268)))","v":177.90794772529722},{"$f":"IF('III Tool Overview'!$H$6=\"Western Isles Health Board\",0,IF('III Tool Overview'!$H$6=\"Eilean Siar Local Authority\",0,new_ci(10,B268,C268,D268,$C$1,G268,1,F268,E268*F268)))","v":478.85776407007552},{"$f":"IF('III Tool Overview'!$H$6=\"Western Isles Health Board\",0,IF('III Tool Overview'!$H$6=\"Eilean Siar Local Authority\",0,new_ci(10,B268,C268,D268,$C$1,G268+H268,1,F268,E268*F268)))","v":478.60295068682035},{"$f":"IF('III Tool Overview'!$H$6=\"Western Isles Health Board\",0,IF('III Tool Overview'!$H$6=\"Eilean Siar Local Authority\",0,new_ci(20,B268,C268,D268,$C$1,G268,1,F268,E268*F268)))","v":1478.8979893726423},{"$f":"IF('III Tool Overview'!$H$6=\"Western Isles Health Board\",0,IF('III Tool Overview'!$H$6=\"Eilean Siar Local Authority\",0,new_ci(20,B268,C268,D268,$C$1,G268+H268,1,F268,E268*F268)))","v":1478.1223634949092},{"$f":"IF('III Tool Overview'!$H$6=\"Western Isles Health Board\",0,IF('III Tool Overview'!$H$6=\"Eilean Siar Local Authority\",0,new_yll(2,B268,C268,D268,$C$1,G268,1,F268,E268*F268)))","v":2287.9750839488011},{"$f":"IF('III Tool Overview'!$H$6=\"Western Isles Health Board\",0,IF('III Tool Overview'!$H$6=\"Eilean Siar Local Authority\",0,new_yll(2,B268,C268,D268,$C$1,G268+H268,1,F268,E268*F268)))","v":2286.7499703686949},1.2251135801061537,{"$f":"IF('III Tool Overview'!$H$6=\"Western Isles Health Board\",0,IF('III Tool Overview'!$H$6=\"Eilean Siar Local Authority\",0,new_yll(5,B268,C268,D268,$C$1,G268,1,F268,E268*F268)))","v":9864.3108802739407},{"$f":"IF('III Tool Overview'!$H$6=\"Western Isles Health Board\",0,IF('III Tool Overview'!$H$6=\"Eilean Siar Local Authority\",0,new_yll(5,B268,C268,D268,$C$1,G268+H268,1,F268,E268*F268)))","v":9859.0391122448109},5.2717680291298166,{"$f":"IF('III Tool Overview'!$H$6=\"Western Isles Health Board\",0,IF('III Tool Overview'!$H$6=\"Eilean Siar Local Authority\",0,new_yll(10,B268,C268,D268,$C$1,G268,1,F268,E268*F268)))","v":25167.972843563901},{"$f":"IF('III Tool Overview'!$H$6=\"Western Isles Health Board\",0,IF('III Tool Overview'!$H$6=\"Eilean Siar Local Authority\",0,new_yll(10,B268,C268,D268,$C$1,G268+H268,1,F268,E268*F268)))","v":25154.577723594408},13.395119969492953,{"$f":"IF('III Tool Overview'!$H$6=\"Western Isles Health Board\",0,IF('III Tool Overview'!$H$6=\"Eilean Siar Local Authority\",0,new_yll(20,B268,C268,D268,$C$1,G268,1,F268,E268*F268)))","v":68133.437043841885},{"$f":"IF('III Tool Overview'!$H$6=\"Western Isles Health Board\",0,IF('III Tool Overview'!$H$6=\"Eilean Siar Local Authority\",0,new_yll(20,B268,C268,D268,$C$1,G268+H268,1,F268,E268*F268)))","v":68097.653331925991},35.783711915893946,{"$error":"#NAME?"},{"$error":"#NAME?"},{"$error":"#NAME?"},{"$error":"#NAME?"},{"$error":"#NAME?"},{"$error":"#NAME?"},{"$error":"#NAME?"},{"$error":"#NAME?"},{"$error":"#NAME?"},{"$error":"#NAME?"},{"$error":"#NAME?"},{"$error":"#NAME?"},{"$f":"HLOOKUP('III Tool Overview'!$H$6,LookUpData_Pop!$B$1:$AV$269,LookUpData_Pop!BB260,FALSE)","v":212108},6.6858921558365907,null,212108,null,null,null,{"$error":"#DIV/0!"},{"$error":"#DIV/0!"},{"$error":"#DIV/0!"},null,3.1521169196053854E-5,0,null,{"$f":"(AP268/AO268)*LookUpData_Pop!$B$285","v":0.22064818437237699},{"$f":"(AQ268/AP268)*LookUpData_Pop!$B$285","v":0},null,0.5,5]
["Female 45-49",47.5,"female",5,{"$f":"HLOOKUP('III Tool Overview'!$H$6,Prevalence!$B$2:$AV$268,Prevalence!AW256,FALSE)","v":0.57743550378625663},{"$f":"HLOOKUP('III Tool Overview'!$H$6,LookUpData_Pop!$B$1:$AV$269,LookUpData_Pop!BB261,FALSE)/5","v":43735.199999999997},{"$f":"'III Tool Overview'!$H$9/110","v":0},{"$f":"IF('III Tool Overview'!$H$10=\"Even distribution\",Targeting!C267,IF('III Tool Overview'!$H$10=\"Targeting to Q1\",Targeting!D267,IF('III Tool Overview'!$H$10=\"Targeting to Q1 & Q2\",Targeting!E267,IF('III Tool Overview'!$H$10=\"Proportionate to need\",Targeting!F267))))","v":1774.9961029983504},{"$f":"IF('III Tool Overview'!$H$6=\"Western Isles Health Board\",0,IF('III Tool Overview'!$H$6=\"Eilean Siar Local Authority\",0,new_ci(2,B269,C269,D269,$C$1,G269,1,F269,E269*F269)))","v":67.635089190085324},{"$f":"IF('III Tool Overview'!$H$6=\"Western Isles Health Board\",0,IF('III Tool Overview'!$H$6=\"Eilean Siar Local Authority\",0,new_ci(2,B269,C269,D269,$C$1,G269+H269,1,F269,E269*F269)))","v":67.594977092761781},{"$f":"IF('III Tool Overview'!$H$6=\"Western Isles Health Board\",0,IF('III Tool Overview'!$H$6=\"Eilean Siar Local Authority\",0,new_ci(5,B269,C269,D269,$C$1,G269,1,F269,E269*F269)))","v":299.61778852929854},{"$f":"IF('III Tool Overview'!$H$6=\"Western Isles Health Board\",0,IF('III Tool Overview'!$H$6=\"Eilean Siar Local Authority\",0,new_ci(5,B269,C269,D269,$C$1,G269+H269,1,F269,E269*F269)))","v":299.44065586134616},{"$f":"IF('III Tool Overview'!$H$6=\"Western Isles Health Board\",0,IF('III Tool Overview'!$H$6=\"Eilean Siar Local Authority\",0,new_ci(10,B269,C269,D269,$C$1,G269,1,F269,E269*F269)))","v":804.17337843919563},{"$f":"IF('III Tool Overview'!$H$6=\"Western Isles Health Board\",0,IF('III Tool Overview'!$H$6=\"Eilean Siar Local Authority\",0,new_ci(10,B269,C269,D269,$C$1,G269+H269,1,F269,E269*F269)))","v":803.70124324252856},{"$f":"IF('III Tool Overview'!$H$6=\"Western Isles Health Board\",0,IF('III Tool Overview'!$H$6=\"Eilean Siar Local Authority\",0,new_ci(20,B269,C269,D269,$C$1,G269,1,F269,E269*F269)))","v":2464.5603958276474},{"$f":"IF('III Tool Overview'!$H$6=\"Western Isles Health Board\",0,IF('III Tool Overview'!$H$6=\"Eilean Siar Local Authority\",0,new_ci(20,B269,C269,D269,$C$1,G269+H269,1,F269,E269*F269)))","v":2463.1470899305887},{"$f":"IF('III Tool Overview'!$H$6=\"Western Isles Health Board\",0,IF('III Tool Overview'!$H$6=\"Eilean Siar Local Authority\",0,new_yll(2,B269,C269,D269,$C$1,G269,1,F269,E269*F269)))","v":3449.3895486943516},{"$f":"IF('III Tool Overview'!$H$6=\"Western Isles Health Board\",0,IF('III Tool Overview'!$H$6=\"Eilean Siar Local Authority\",0,new_yll(2,B269,C269,D269,$C$1,G269+H269,1,F269,E269*F269)))","v":3447.343831730851},2.0457169635005812,{"$f":"IF('III Tool Overview'!$H$6=\"Western Isles Health Board\",0,IF('III Tool Overview'!$H$6=\"Eilean Siar Local Authority\",0,new_yll(5,B269,C269,D269,$C$1,G269,1,F269,E269*F269)))","v":14806.321339079423},{"$f":"IF('III Tool Overview'!$H$6=\"Western Isles Health Board\",0,IF('III Tool Overview'!$H$6=\"Eilean Siar Local Authority\",0,new_yll(5,B269,C269,D269,$C$1,G269+H269,1,F269,E269*F269)))","v":14797.567458102652},8.7538809767702332,{"$f":"IF('III Tool Overview'!$H$6=\"Western Isles Health Board\",0,IF('III Tool Overview'!$H$6=\"Eilean Siar Local Authority\",0,new_yll(10,B269,C269,D269,$C$1,G269,1,F269,E269*F269)))","v":37445.287811695569},{"$f":"IF('III Tool Overview'!$H$6=\"Western Isles Health Board\",0,IF('III Tool Overview'!$H$6=\"Eilean Siar Local Authority\",0,new_yll(10,B269,C269,D269,$C$1,G269+H269,1,F269,E269*F269)))","v":37423.295776469866},21.992035225703148,{"$f":"IF('III Tool Overview'!$H$6=\"Western Isles Health Board\",0,IF('III Tool Overview'!$H$6=\"Eilean Siar Local Authority\",0,new_yll(20,B269,C269,D269,$C$1,G269,1,F269,E269*F269)))","v":98840.374437383507},{"$f":"IF('III Tool Overview'!$H$6=\"Western Isles Health Board\",0,IF('III Tool Overview'!$H$6=\"Eilean Siar Local Authority\",0,new_yll(20,B269,C269,D269,$C$1,G269+H269,1,F269,E269*F269)))","v":98783.544056053928},56.830381329578813,{"$error":"#NAME?"},{"$error":"#NAME?"},{"$error":"#NAME?"},{"$error":"#NAME?"},{"$error":"#NAME?"},{"$error":"#NAME?"},{"$error":"#NAME?"},{"$error":"#NAME?"},{"$error":"#NAME?"},{"$error":"#NAME?"},{"$error":"#NAME?"},{"$error":"#NAME?"},{"$f":"HLOOKUP('III Tool Overview'!$H$6,LookUpData_Pop!$B$1:$AV$269,LookUpData_Pop!BB261,FALSE)","v":218676},13.804936549993029,null,218676,null,null,null,{"$error":"#DIV/0!"},{"$error":"#DIV/0!"},{"$error":"#DIV/0!"},null,6.3129637225818239E-5,0,null,{"$f":"(AP269/AO269)*LookUpData_Pop!$B$286","v":0.44190746058072766},{"$f":"(AQ269/AP269)*LookUpData_Pop!$B$286","v":0},null,0.5,5]
["Female 50-54",52.5,"female",5,{"$f":"HLOOKUP('III Tool Overview'!$H$6,Prevalence!$B$2:$AV$268,Prevalence!AW257,FALSE)","v":0.57743550378625663},{"$f":"HLOOKUP('III Tool Overview'!$H$6,LookUpData_Pop!$B$1:$AV$269,LookUpData_Pop!BB262,FALSE)/5","v":39482.800000000003},{"$f":"'III Tool Overview'!$H$9/110","v":0},{"$f":"IF('III Tool Overview'!$H$10=\"Even distribution\",Targeting!C268,IF('III Tool Overview'!$H$10=\"Targeting to Q1\",Targeting!D268,IF('III Tool Overview'!$H$10=\"Targeting to Q1 & Q2\",Targeting!E268,IF('III Tool Overview'!$H$10=\"Proportionate to need\",Targeting!F268))))","v":1665.8357261067063},{"$f":"IF('III Tool Overview'!$H$6=\"Western Isles Health Board\",0,IF('III Tool Overview'!$H$6=\"Eilean Siar Local Authority\",0,new_ci(2,B270,C270,D270,$C$1,G270,1,F270,E270*F270)))","v":84.710886861602859},{"$f":"IF('III Tool Overview'!$H$6=\"Western Isles Health Board\",0,IF('III Tool Overview'!$H$6=\"Eilean Siar Local Authority\",0,new_ci(2,B270,C270,D270,$C$1,G270+H270,1,F270,E270*F270)))","v":84.65867291741452},{"$f":"IF('III Tool Overview'!$H$6=\"Western Isles Health Board\",0,IF('III Tool Overview'!$H$6=\"Eilean Siar Local Authority\",0,new_ci(5,B270,C270,D270,$C$1,G270,1,F270,E270*F270)))","v":374.86927966983592},{"$f":"IF('III Tool Overview'!$H$6=\"Western Isles Health Board\",0,IF('III Tool Overview'!$H$6=\"Eilean Siar Local Authority\",0,new_ci(5,B270,C270,D270,$C$1,G270+H270,1,F270,E270*F270)))","v":374.63922964226407},{"$f":"IF('III Tool Overview'!$H$6=\"Western Isles Health Board\",0,IF('III Tool Overview'!$H$6=\"Eilean Siar Local Authority\",0,new_ci(10,B270,C270,D270,$C$1,G270,1,F270,E270*F270)))","v":1003.8471762303411},{"$f":"IF('III Tool Overview'!$H$6=\"Western Isles Health Board\",0,IF('III Tool Overview'!$H$6=\"Eilean Siar Local Authority\",0,new_ci(10,B270,C270,D270,$C$1,G270+H270,1,F270,E270*F270)))","v":1003.2370445441293},{"$f":"IF('III Tool Overview'!$H$6=\"Western Isles Health Board\",0,IF('III Tool Overview'!$H$6=\"Eilean Siar Local Authority\",0,new_ci(20,B270,C270,D270,$C$1,G270,1,F270,E270*F270)))","v":3053.0657730020848},{"$f":"IF('III Tool Overview'!$H$6=\"Western Isles Health Board\",0,IF('III Tool Overview'!$H$6=\"Eilean Siar Local Authority\",0,new_ci(20,B270,C270,D270,$C$1,G270+H270,1,F270,E270*F270)))","v":3051.269894390517},{"$f":"IF('III Tool Overview'!$H$6=\"Western Isles Health Board\",0,IF('III Tool Overview'!$H$6=\"Eilean Siar Local Authority\",0,new_yll(2,B270,C270,D270,$C$1,G270,1,F270,E270*F270)))","v":3981.4116824953344},{"$f":"IF('III Tool Overview'!$H$6=\"Western Isles Health Board\",0,IF('III Tool Overview'!$H$6=\"Eilean Siar Local Authority\",0,new_yll(2,B270,C270,D270,$C$1,G270+H270,1,F270,E270*F270)))","v":3978.9576271184824},2.4540553768520112,{"$f":"IF('III Tool Overview'!$H$6=\"Western Isles Health Board\",0,IF('III Tool Overview'!$H$6=\"Eilean Siar Local Authority\",0,new_yll(5,B270,C270,D270,$C$1,G270,1,F270,E270*F270)))","v":17025.890883791802},{"$f":"IF('III Tool Overview'!$H$6=\"Western Isles Health Board\",0,IF('III Tool Overview'!$H$6=\"Eilean Siar Local Authority\",0,new_yll(5,B270,C270,D270,$C$1,G270+H270,1,F270,E270*F270)))","v":17015.441609004378},10.449274787424656,{"$f":"IF('III Tool Overview'!$H$6=\"Western Isles Health Board\",0,IF('III Tool Overview'!$H$6=\"Eilean Siar Local Authority\",0,new_yll(10,B270,C270,D270,$C$1,G270,1,F270,E270*F270)))","v":42732.818478656911},{"$f":"IF('III Tool Overview'!$H$6=\"Western Isles Health Board\",0,IF('III Tool Overview'!$H$6=\"Eilean Siar Local Authority\",0,new_yll(10,B270,C270,D270,$C$1,G270+H270,1,F270,E270*F270)))","v":42706.831938120056},25.986540536854591,{"$f":"IF('III Tool Overview'!$H$6=\"Western Isles Health Board\",0,IF('III Tool Overview'!$H$6=\"Eilean Siar Local Authority\",0,new_yll(20,B270,C270,D270,$C$1,G270,1,F270,E270*F270)))","v":110334.47885072841},{"$f":"IF('III Tool Overview'!$H$6=\"Western Isles Health Board\",0,IF('III Tool Overview'!$H$6=\"Eilean Siar Local Authority\",0,new_yll(20,B270,C270,D270,$C$1,G270+H270,1,F270,E270*F270)))","v":110269.30947460589},65.16937612251786,{"$error":"#NAME?"},{"$error":"#NAME?"},{"$error":"#NAME?"},{"$error":"#NAME?"},{"$error":"#NAME?"},{"$error":"#NAME?"},{"$error":"#NAME?"},{"$error":"#NAME?"},{"$error":"#NAME?"},{"$error":"#NAME?"},{"$error":"#NAME?"},{"$error":"#NAME?"},{"$f":"HLOOKUP('III Tool Overview'!$H$6,LookUpData_Pop!$B$1:$AV$269,LookUpData_Pop!BB262,FALSE)","v":197414},18.378860510805502,null,197414,null,null,null,{"$error":"#DIV/0!"},{"$error":"#DIV/0!"},{"$error":"#DIV/0!"},null,9.3098060475981965E-5,0,null,{"$f":"(AP270/AO270)*LookUpData_Pop!$B$287","v":0.65168642333187377},{"$f":"(AQ270/AP270)*LookUpData_Pop!$B$287","v":0},null,0.5,5]
["Female 55-59",57.5,"female",5,{"$f":"HLOOKUP('III Tool Overview'!$H$6,Prevalence!$B$2:$AV$268,Prevalence!AW258,FALSE)","v":0.32201873962127231},{"$f":"HLOOKUP('III Tool Overview'!$H$6,LookUpData_Pop!$B$1:$AV$269,LookUpData_Pop!BB263,FALSE)/5","v":35544.800000000003},{"$f":"'III Tool Overview'!$H$9/110","v":0},{"$f":"IF('III Tool Overview'!$H$10=\"Even distribution\",Targeting!C269,IF('III Tool Overview'!$H$10=\"Targeting to Q1\",Targeting!D269,IF('III Tool Overview'!$H$10=\"Targeting to Q1 & Q2\",Targeting!E269,IF('III Tool Overview'!$H$10=\"Proportionate to need\",Targeting!F269))))","v":827.27024398716821},{"$f":"IF('III Tool Overview'!$H$6=\"Western Isles Health Board\",0,IF('III Tool Overview'!$H$6=\"Eilean Siar Local Authority\",0,new_ci(2,B271,C271,D271,$C$1,G271,1,F271,E271*F271)))","v":124.59207936121146},{"$f":"IF('III Tool Overview'!$H$6=\"Western Isles Health Board\",0,IF('III Tool Overview'!$H$6=\"Eilean Siar Local Authority\",0,new_ci(2,B271,C271,D271,$C$1,G271+H271,1,F271,E271*F271)))","v":124.54682444406288},{"$f":"IF('III Tool Overview'!$H$6=\"Western Isles Health Board\",0,IF('III Tool Overview'!$H$6=\"Eilean Siar Local Authority\",0,new_ci(5,B271,C271,D271,$C$1,G271,1,F271,E271*F271)))","v":550.04411230979713},{"$f":"IF('III Tool Overview'!$H$6=\"Western Isles Health Board\",0,IF('III Tool Overview'!$H$6=\"Eilean Siar Local Authority\",0,new_ci(5,B271,C271,D271,$C$1,G271+H271,1,F271,E271*F271)))","v":549.8459348936093},{"$f":"IF('III Tool Overview'!$H$6=\"Western Isles Health Board\",0,IF('III Tool Overview'!$H$6=\"Eilean Siar Local Authority\",0,new_ci(10,B271,C271,D271,$C$1,G271,1,F271,E271*F271)))","v":1465.3140405776146},{"$f":"IF('III Tool Overview'!$H$6=\"Western Isles Health Board\",0,IF('III Tool Overview'!$H$6=\"Eilean Siar Local Authority\",0,new_ci(10,B271,C271,D271,$C$1,G271+H271,1,F271,E271*F271)))","v":1464.7954226933557},{"$f":"IF('III Tool Overview'!$H$6=\"Western Isles Health Board\",0,IF('III Tool Overview'!$H$6=\"Eilean Siar Local Authority\",0,new_ci(20,B271,C271,D271,$C$1,G271,1,F271,E271*F271)))","v":4380.4154169109743},{"$f":"IF('III Tool Overview'!$H$6=\"Western Isles Health Board\",0,IF('III Tool Overview'!$H$6=\"Eilean Siar Local Authority\",0,new_ci(20,B271,C271,D271,$C$1,G271+H271,1,F271,E271*F271)))","v":4378.956312480921},{"$f":"IF('III Tool Overview'!$H$6=\"Western Isles Health Board\",0,IF('III Tool Overview'!$H$6=\"Eilean Siar Local Authority\",0,new_yll(2,B271,C271,D271,$C$1,G271,1,F271,E271*F271)))","v":5108.2752538096702},{"$f":"IF('III Tool Overview'!$H$6=\"Western Isles Health Board\",0,IF('III Tool Overview'!$H$6=\"Eilean Siar Local Authority\",0,new_yll(2,B271,C271,D271,$C$1,G271+H271,1,F271,E271*F271)))","v":5106.4198022065784},1.8554516030917512,{"$f":"IF('III Tool Overview'!$H$6=\"Western Isles Health Board\",0,IF('III Tool Overview'!$H$6=\"Eilean Siar Local Authority\",0,new_yll(5,B271,C271,D271,$C$1,G271,1,F271,E271*F271)))","v":21682.80870692461},{"$f":"IF('III Tool Overview'!$H$6=\"Western Isles Health Board\",0,IF('III Tool Overview'!$H$6=\"Eilean Siar Local Authority\",0,new_yll(5,B271,C271,D271,$C$1,G271+H271,1,F271,E271*F271)))","v":21674.995227617888},7.8134793067220016,{"$f":"IF('III Tool Overview'!$H$6=\"Western Isles Health Board\",0,IF('III Tool Overview'!$H$6=\"Eilean Siar Local Authority\",0,new_yll(10,B271,C271,D271,$C$1,G271,1,F271,E271*F271)))","v":53602.96017578397},{"$f":"IF('III Tool Overview'!$H$6=\"Western Isles Health Board\",0,IF('III Tool Overview'!$H$6=\"Eilean Siar Local Authority\",0,new_yll(10,B271,C271,D271,$C$1,G271+H271,1,F271,E271*F271)))","v":53583.966621620581},18.99355416338949,{"$f":"IF('III Tool Overview'!$H$6=\"Western Isles Health Board\",0,IF('III Tool Overview'!$H$6=\"Eilean Siar Local Authority\",0,new_yll(20,B271,C271,D271,$C$1,G271,1,F271,E271*F271)))","v":132362.23364923973},{"$f":"IF('III Tool Overview'!$H$6=\"Western Isles Health Board\",0,IF('III Tool Overview'!$H$6=\"Eilean Siar Local Authority\",0,new_yll(20,B271,C271,D271,$C$1,G271+H271,1,F271,E271*F271)))","v":132317.72937345912},44.504275780607713,{"$error":"#NAME?"},{"$error":"#NAME?"},{"$error":"#NAME?"},{"$error":"#NAME?"},{"$error":"#NAME?"},{"$error":"#NAME?"},{"$error":"#NAME?"},{"$error":"#NAME?"},{"$error":"#NAME?"},{"$error":"#NAME?"},{"$error":"#NAME?"},{"$error":"#NAME?"},{"$f":"HLOOKUP('III Tool Overview'!$H$6,LookUpData_Pop!$B$1:$AV$269,LookUpData_Pop!BB263,FALSE)","v":177724},24.020972407346978,null,177724,null,null,null,{"$error":"#DIV/0!"},{"$error":"#DIV/0!"},{"$error":"#DIV/0!"},null,1.3515885534506864E-4,0,null,{"$f":"(AP271/AO271)*LookUpData_Pop!$B$288","v":0.81095313207041186},{"$f":"(AQ271/AP271)*LookUpData_Pop!$B$288","v":0},null,0.5,5]
["Female 60-64",62.5,"female",5,{"$f":"HLOOKUP('III Tool Overview'!$H$6,Prevalence!$B$2:$AV$268,Prevalence!AW259,FALSE)","v":0.32201873962127231},{"$f":"HLOOKUP('III Tool Overview'!$H$6,LookUpData_Pop!$B$1:$AV$269,LookUpData_Pop!BB264,FALSE)/5","v":33877.599999999999},{"$f":"'III Tool Overview'!$H$9/110","v":0},{"$f":"IF('III Tool Overview'!$H$10=\"Even distribution\",Targeting!C270,IF('III Tool Overview'!$H$10=\"Targeting to Q1\",Targeting!D270,IF('III Tool Overview'!$H$10=\"Targeting to Q1 & Q2\",Targeting!E270,IF('III Tool Overview'!$H$10=\"Proportionate to need\",Targeting!F270))))","v":787.68899367344454},{"$f":"IF('III Tool Overview'!$H$6=\"Western Isles Health Board\",0,IF('III Tool Overview'!$H$6=\"Eilean Siar Local Authority\",0,new_ci(2,B272,C272,D272,$C$1,G272,1,F272,E272*F272)))","v":164.68323784940711},{"$f":"IF('III Tool Overview'!$H$6=\"Western Isles Health Board\",0,IF('III Tool Overview'!$H$6=\"Eilean Siar Local Authority\",0,new_ci(2,B272,C272,D272,$C$1,G272+H272,1,F272,E272*F272)))","v":164.6234912478651},{"$f":"IF('III Tool Overview'!$H$6=\"Western Isles Health Board\",0,IF('III Tool Overview'!$H$6=\"Eilean Siar Local Authority\",0,new_ci(5,B272,C272,D272,$C$1,G272,1,F272,E272*F272)))","v":725.31454280369292},{"$f":"IF('III Tool Overview'!$H$6=\"Western Isles Health Board\",0,IF('III Tool Overview'!$H$6=\"Eilean Siar Local Authority\",0,new_ci(5,B272,C272,D272,$C$1,G272+H272,1,F272,E272*F272)))","v":725.05434447485311},{"$f":"IF('III Tool Overview'!$H$6=\"Western Isles Health Board\",0,IF('III Tool Overview'!$H$6=\"Eilean Siar Local Authority\",0,new_ci(10,B272,C272,D272,$C$1,G272,1,F272,E272*F272)))","v":1922.2886331829804},{"$f":"IF('III Tool Overview'!$H$6=\"Western Isles Health Board\",0,IF('III Tool Overview'!$H$6=\"Eilean Siar Local Authority\",0,new_ci(10,B272,C272,D272,$C$1,G272+H272,1,F272,E272*F272)))","v":1921.6159059540864},{"$f":"IF('III Tool Overview'!$H$6=\"Western Isles Health Board\",0,IF('III Tool Overview'!$H$6=\"Eilean Siar Local Authority\",0,new_ci(20,B272,C272,D272,$C$1,G272,1,F272,E272*F272)))","v":5649.7070395485835},{"$f":"IF('III Tool Overview'!$H$6=\"Western Isles Health Board\",0,IF('III Tool Overview'!$H$6=\"Eilean Siar Local Authority\",0,new_ci(20,B272,C272,D272,$C$1,G272+H272,1,F272,E272*F272)))","v":5647.8901943067403},{"$f":"IF('III Tool Overview'!$H$6=\"Western Isles Health Board\",0,IF('III Tool Overview'!$H$6=\"Eilean Siar Local Authority\",0,new_yll(2,B272,C272,D272,$C$1,G272,1,F272,E272*F272)))","v":6093.279800428063},{"$f":"IF('III Tool Overview'!$H$6=\"Western Isles Health Board\",0,IF('III Tool Overview'!$H$6=\"Eilean Siar Local Authority\",0,new_yll(2,B272,C272,D272,$C$1,G272+H272,1,F272,E272*F272)))","v":6091.0691761710086},2.2106242570544055,{"$f":"IF('III Tool Overview'!$H$6=\"Western Isles Health Board\",0,IF('III Tool Overview'!$H$6=\"Eilean Siar Local Authority\",0,new_yll(5,B272,C272,D272,$C$1,G272,1,F272,E272*F272)))","v":25692.122206259821},{"$f":"IF('III Tool Overview'!$H$6=\"Western Isles Health Board\",0,IF('III Tool Overview'!$H$6=\"Eilean Siar Local Authority\",0,new_yll(5,B272,C272,D272,$C$1,G272+H272,1,F272,E272*F272)))","v":25682.903072901776},9.2191333580449282,{"$f":"IF('III Tool Overview'!$H$6=\"Western Isles Health Board\",0,IF('III Tool Overview'!$H$6=\"Eilean Siar Local Authority\",0,new_yll(10,B272,C272,D272,$C$1,G272,1,F272,E272*F272)))","v":62653.822319744591},{"$f":"IF('III Tool Overview'!$H$6=\"Western Isles Health Board\",0,IF('III Tool Overview'!$H$6=\"Eilean Siar Local Authority\",0,new_yll(10,B272,C272,D272,$C$1,G272+H272,1,F272,E272*F272)))","v":62631.856135956179},21.966183788412309,{"$f":"IF('III Tool Overview'!$H$6=\"Western Isles Health Board\",0,IF('III Tool Overview'!$H$6=\"Eilean Siar Local Authority\",0,new_yll(20,B272,C272,D272,$C$1,G272,1,F272,E272*F272)))","v":148557.0048147694},{"$f":"IF('III Tool Overview'!$H$6=\"Western Isles Health Board\",0,IF('III Tool Overview'!$H$6=\"Eilean Siar Local Authority\",0,new_yll(20,B272,C272,D272,$C$1,G272+H272,1,F272,E272*F272)))","v":148508.49351350975},48.511301259655738,{"$error":"#NAME?"},{"$error":"#NAME?"},{"$error":"#NAME?"},{"$error":"#NAME?"},{"$error":"#NAME?"},{"$error":"#NAME?"},{"$error":"#NAME?"},{"$error":"#NAME?"},{"$error":"#NAME?"},{"$error":"#NAME?"},{"$error":"#NAME?"},{"$error":"#NAME?"},{"$f":"HLOOKUP('III Tool Overview'!$H$6,LookUpData_Pop!$B$1:$AV$269,LookUpData_Pop!BB264,FALSE)","v":169388},38.491018273724492,null,169388,null,null,null,{"$error":"#DIV/0!"},{"$error":"#DIV/0!"},{"$error":"#DIV/0!"},null,2.2723580344371792E-4,0,null,{"$f":"(AP272/AO272)*LookUpData_Pop!$B$289","v":1.1361790172185895},{"$f":"(AQ272/AP272)*LookUpData_Pop!$B$289","v":0},null,0.5,5]
["Female 65-69",67.5,"female",5,null,null,null,null,null,null,null,null,null,null,null,null,null,null,null,null,null,null,null,null,null,null,null,null,null,null,null,null,null,null,null,null,null,null,null,null,{"$f":"HLOOKUP('III Tool Overview'!$H$6,LookUpData_Pop!$B$1:$AV$269,LookUpData_Pop!BB265,FALSE)","v":128262},52.479029397888297,null,128262,null,null,null,{"$error":"#DIV/0!"},{"$error":"#DIV/0!"},{"$error":"#DIV/0!"},null,4.0915492817738923E-4,0,null,{"$f":"(AP273/AO273)*LookUpData_Pop!$B$290","v":1.636619712709557},{"$f":"(AQ273/AP273)*LookUpData_Pop!$B$290","v":0},null,0.5,5]
["Female 70-74",72.5,"female",5,null,null,null,null,null,null,null,null,null,null,null,null,null,null,null,null,null,null,null,null,null,null,null,null,null,null,null,null,null,null,null,null,null,null,null,null,{"$f":"HLOOKUP('III Tool Overview'!$H$6,LookUpData_Pop!$B$1:$AV$269,LookUpData_Pop!BB266,FALSE)","v":109375},77.334970981745215,null,109375,null,null,null,{"$error":"#DIV/0!"},{"$error":"#DIV/0!"},{"$error":"#DIV/0!"},null,7.0706259183309908E-4,0,null,{"$f":"(AP274/AO274)*LookUpData_Pop!$B$291","v":2.1211877754992972},{"$f":"(AQ274/AP274)*LookUpData_Pop!$B$291","v":0},null,0.5,5]
["Female 75-79",77.5,"female",5,null,null,null,null,null,null,null,null,null,null,null,null,null,null,null,null,null,null,null,null,null,null,null,null,null,null,null,null,null,null,null,null,null,null,null,null,{"$f":"HLOOKUP('III Tool Overview'!$H$6,LookUpData_Pop!$B$1:$AV$269,LookUpData_Pop!BB267,FALSE)","v":91135},122.56661298259741,null,91135,null,null,null,{"$error":"#DIV/0!"},{"$error":"#DIV/0!"},{"$error":"#DIV/0!"},null,1.3448906894453E-3,0,null,{"$f":"(AP275/AO275)*LookUpData_Pop!$B$292","v":2.6897813788905998},{"$f":"(AQ275/AP275)*LookUpData_Pop!$B$292","v":0},null,0.5,5]
["Female 80-84",82.5,"female",5,null,null,null,null,null,null,null,null,null,null,null,null,null,null,null,null,null,null,null,null,null,null,null,null,null,null,null,null,null,null,null,null,null,null,null,null,{"$f":"HLOOKUP('III Tool Overview'!$H$6,LookUpData_Pop!$B$1:$AV$269,LookUpData_Pop!BB268,FALSE)","v":69390},177.68360909415546,null,69390,null,null,null,{"$error":"#DIV/0!"},{"$error":"#DIV/0!"},{"$error":"#DIV/0!"},null,2.5606515217488899E-3,0,null,{"$f":"(AP276/AO276)*LookUpData_Pop!$B$293","v":2.5606515217488899},{"$f":"(AQ276/AP276)*LookUpData_Pop!$B$293","v":0},null,0.5,5]
["Female 85-89",87.5,"female",5,null,null,null,null,null,null,null,null,null,null,null,null,null,null,null,null,null,null,null,null,null,null,null,null,null,null,null,null,null,null,null,null,null,null,null,null,{"$f":"HLOOKUP('III Tool Overview'!$H$6,LookUpData_Pop!$B$1:$AV$269,LookUpData_Pop!BB269,FALSE)","v":44044},410.81749923383393,null,null,null,null,null,null,null,null,null,9.327433912311188E-3,0,null,{"$f":"(AP277/AO277)*LookUpData_Pop!$B$294","v":9.3274339123111876},{"$f":"(AQ277/AP277)*LookUpData_Pop!$B$294","v":0},null,0.5,{"$f":"2/AZ277","v":214.4212458434275}]
["Female 90+",95,"female",5,null,null,null,null,null,null,null,null,null,null,null,null,null,null,null,null,null,null,null,null,null,null,null,null,null,null,null,null,null,null,null,null,null,null,null,null,{"$f":"HLOOKUP('III Tool Overview'!$H$6,LookUpData_Pop!$B$1:$AV$269,LookUpData_Pop!BB270,FALSE)","v":25205}]
["TOTAL",null,null,null,null,{"$f":"SUM(F263:F278)","v":354099.39999999997},{"$f":"SUM(G263:G278)","v":0},{"$f":"SUM(H263:H278)","v":10835.243261680715},{"$f":"SUM(I263:I278)","v":536.40813721353459},{"$f":"SUM(J263:J278)","v":536.16362205490668},{"$f":"SUM(K263:K278)","v":2370.3884578342422},{"$f":"SUM(L263:L278)","v":2369.3138580501668},{"$f":"SUM(M263:M278)","v":6328.1587765260028},{"$f":"SUM(N263:N278)","v":6325.3240763381546},{"$f":"SUM(O263:O278)","v":19058.045018934146},{"$f":"SUM(P263:P278)","v":19049.840182922871},{"$f":"SUM(Q263:Q278)","v":24598.401308213499},{"$f":"SUM(R263:R278)","v":24586.915574879516},{"$f":"SUM(S263:S278)","v":11.485733333983205},{"$f":"SUM(T263:T278)","v":105012.21030587374},{"$f":"SUM(U263:U278)","v":104963.36903735684},{"$f":"SUM(V263:V278)","v":48.841268516885066},{"$f":"SUM(W263:W278)","v":262698.17364305223},{"$f":"SUM(X263:X278)","v":262576.99482687615},{"$f":"SUM(Y263:Y278)","v":121.17881617613193},{"$f":"SUM(Z263:Z278)","v":672746.71634976054},{"$f":"SUM(AA263:AA278)","v":672443.91836178582},{"$f":"SUM(AB263:AB278)","v":302.79798797472722},{"$f":"SUM(AC263:AC278)","v":{"$error":"#NAME?"}},{"$f":"SUM(AD263:AD278)","v":{"$error":"#NAME?"}},{"$f":"SUM(AE263:AE278)","v":{"$error":"#NAME?"}},{"$f":"SUM(AF263:AF278)","v":{"$error":"#NAME?"}},{"$f":"SUM(AG263:AG278)","v":{"$error":"#NAME?"}},{"$f":"SUM(AH263:AH278)","v":{"$error":"#NAME?"}},{"$f":"SUM(AI263:AI278)","v":{"$error":"#NAME?"}},{"$f":"SUM(AJ263:AJ278)","v":{"$error":"#NAME?"}},{"$f":"SUM(AK263:AK278)","v":{"$error":"#NAME?"}},{"$f":"SUM(AL263:AL278)","v":{"$error":"#NAME?"}},{"$f":"SUM(AM263:AM278)","v":{"$error":"#NAME?"}},{"$f":"SUM(AN263:AN278)","v":{"$error":"#NAME?"}}]

{"sheet":"Targeting","index":3,"n_rows":285,"n_cols":56,"rows_kept":285,"cut":false,"hidden":false,"merged":[]}
[null,null,"Even distribution","Targetting to Q1","Targetting to Q1 & Q2","Proportionate to need",null,null,"Scotland","Ayrshire & Arran Health Board","Borders Health Board","Dumfries & Galloway Health Board","Fife Health Board","Forth Valley Health Board","Grampian Health Board","Greater Glasgow & Clyde Health Board","Highland Health Board","Lanarkshire Health Board","Lothian Health Board","Orkney Health Board","Shetland Health Board","Tayside Health Board","Western Isles Health Board","Aberdeen City Local Authority","Aberdeenshire Local Authority","Angus Local Authority","Argyll & Bute Local Authority","Clackmannanshire Local Authority","Dumfries & Galloway Local Authority","Dundee City Local Authority","East Ayrshire Local Authority","East Dunbartonshire Local Authority","East Lothian Local Authority","East Renfrewshire Local Authority","Edinburgh, City of Local Authority","Eilean Siar Local Authority","Falkirk Local Authority","Fife Local Authority","Glasgow City Local Authority","Highland Local Authority","Inverclyde Local Authority","Midlothian Local Authority","Moray Local Authority","North Ayrshire Local Authority","North Lanarkshire Local Authority","Orkney Islands Local Authority","Perth & Kinross Local Authority","Renfrewshire Local Authority","Scottish Borders Local Authority","Shetland Islands Local Authority","South Ayrshire Local Authority","South Lanarkshire Local Authority","Stirling Local Authority","West Dunbartonshire Local Authority","West Lothian Local Authority",1]
["SIMD","Population Group",null,null,null,null,null,null,null,null,null,null,null,null,null,null,null,null,null,null,null,null,null,null,null,null,null,null,null,null,null,null,null,null,null,null,null,null,null,null,null,null,null,null,null,null,null,null,null,null,null,null,null,null,null,2]
[null,"All, by SIMD",null,null,null,null,null,null,null,null,null,null,null,null,null,null,null,null,null,null,null,null,null,null,null,null,null,null,null,null,null,null,null,null,null,null,null,null,null,null,null,null,null,null,null,null,null,null,null,null,null,null,null,null,null,3]
[null,"Total",null,null,null,null,null,null,null,null,null,null,null,null,null,null,null,null,null,null,null,null,null,null,null,null,null,null,null,null,null,null,null,null,null,null,null,null,null,null,null,null,null,null,null,null,null,null,null,null,null,null,null,null,null,4]
[null,"Q 1",null,null,null,null,null,null,null,null,null,null,null,null,null,null,null,null,null,null,null,null,null,null,null,null,null,null,null,null,null,null,null,null,null,null,null,null,null,null,null,null,null,null,null,null,null,null,null,null,null,null,null,null,null,5]
[null,"Q 2",null,null,null,null,null,null,null,null,null,null,null,null,null,null,null,null,null,null,null,null,null,null,null,null,null,null,null,null,null,null,null,null,null,null,null,null,null,null,null,null,null,null,null,null,null,null,null,null,null,null,null,null,null,6]
[null,"Q 3",null,null,null,null,null,null,null,null,null,null,null,null,null,null,null,null,null,null,null,null,null,null,null,null,null,null,null,null,null,null,null,null,null,null,null,null,null,null,null,null,null,null,null,null,null,null,null,null,null,null,null,null,null,7]
[null,"Q 4",null,null,null,null,null,null,null,null,null,null,null,null,null,null,null,null,null,null,null,null,null,null,null,null,null,null,null,null,null,null,null,null,null,null,null,null,null,null,null,null,null,null,null,null,null,null,null,null,null,null,null,null,null,8]
[null,"Q 5",null,null,null,null,null,null,null,null,null,null,null,null,null,null,null,null,null,null,null,null,null,null,null,null,null,null,null,null,null,null,null,null,null,null,null,null,null,null,null,null,null,null,null,null,null,null,null,null,null,null,null,null,null,9]
[null,"Males, by SIMD",null,null,null,null,null,null,null,null,null,null,null,null,null,null,null,null,null,null,null,null,null,null,null,null,null,null,null,null,null,null,null,null,null,null,null,null,null,null,null,null,null,null,null,null,null,null,null,null,null,null,null,null,null,10]
[null,"Males",null,null,null,null,null,null,null,null,null,null,null,null,null,null,null,null,null,null,null,null,null,null,null,null,null,null,null,null,null,null,null,null,null,null,null,null,null,null,null,null,null,null,null,null,null,null,null,null,null,null,null,null,null,11]
[null,"Q 1",null,null,null,null,null,null,null,null,null,null,null,null,null,null,null,null,null,null,null,null,null,null,null,null,null,null,null,null,null,null,null,null,null,null,null,null,null,null,null,null,null,null,null,null,null,null,null,null,null,null,null,null,null,12]
[null,"Q 2",null,null,null,null,null,null,null,null,null,null,null,null,null,null,null,null,null,null,null,null,null,null,null,null,null,null,null,null,null,null,null,null,null,null,null,null,null,null,null,null,null,null,null,null,null,null,null,null,null,null,null,null,null,13]
[null,"Q 3",null,null,null,null,null,null,null,null,null,null,null,null,null,null,null,null,null,null,null,null,null,null,null,null,null,null,null,null,null,null,null,null,null,null,null,null,null,null,null,null,null,null,null,null,null,null,null,null,null,null,null,null,null,14]
[null,"Q 4",null,null,null,null,null,null,null,null,null,null,null,null,null,null,null,null,null,null,null,null,null,null,null,null,null,null,null,null,null,null,null,null,null,null,null,null,null,null,null,null,null,null,null,null,null,null,null,null,null,null,null,null,null,15]
[null,"Q 5",null,null,null,null,null,null,null,null,null,null,null,null,null,null,null,null,null,null,null,null,null,null,null,null,null,null,null,null,null,null,null,null,null,null,null,null,null,null,null,null,null,null,null,null,null,null,null,null,null,null,null,null,null,16]
[null,"Females, by SIMD",null,null,null,null,null,null,null,null,null,null,null,null,null,null,null,null,null,null,null,null,null,null,null,null,null,null,null,null,null,null,null,null,null,null,null,null,null,null,null,null,null,null,null,null,null,null,null,null,null,null,null,null,null,17]
[null,"Females",null,null,null,null,null,null,null,null,null,null,null,null,null,null,null,null,null,null,null,null,null,null,null,null,null,null,null,null,null,null,null,null,null,null,null,null,null,null,null,null,null,null,null,null,null,null,null,null,null,null,null,null,null,18]
[null,"Q 1",null,null,null,null,null,null,null,null,null,null,null,null,null,null,null,null,null,null,null,null,null,null,null,null,null,null,null,null,null,null,null,null,null,null,null,null,null,null,null,null,null,null,null,null,null,null,null,null,null,null,null,null,null,19]
[null,"Q 2",null,null,null,null,null,null,null,null,null,null,null,null,null,null,null,null,null,null,null,null,null,null,null,null,null,null,null,null,null,null,null,null,null,null,null,null,null,null,null,null,null,null,null,null,null,null,null,null,null,null,null,null,null,20]
[null,"Q 3",null,null,null,null,null,null,null,null,null,null,null,null,null,null,null,null,null,null,null,null,null,null,null,null,null,null,null,null,null,null,null,null,null,null,null,null,null,null,null,null,null,null,null,null,null,null,null,null,null,null,null,null,null,21]
[null,"Q 4",null,null,null,null,null,null,null,null,null,null,null,null,null,null,null,null,null,null,null,null,null,null,null,null,null,null,null,null,null,null,null,null,null,null,null,null,null,null,null,null,null,null,null,null,null,null,null,null,null,null,null,null,null,22]
[null,"Q 5",null,null,null,null,null,null,null,null,null,null,null,null,null,null,null,null,null,null,null,null,null,null,null,null,null,null,null,null,null,null,null,null,null,null,null,null,null,null,null,null,null,null,null,null,null,null,null,null,null,null,null,null,null,23]
[null,"age/sex breakdown: All",null,null,null,null,null,null,null,null,null,null,null,null,null,null,null,null,null,null,null,null,null,null,null,null,null,null,null,null,null,null,null,null,null,null,null,null,null,null,null,null,null,null,null,null,null,null,null,null,null,null,null,null,null,24]
[null,"Male <1",null,null,null,null,null,null,null,null,null,null,null,null,null,null,null,null,null,null,null,null,null,null,null,null,null,null,null,null,null,null,null,null,null,null,null,null,null,null,null,null,null,null,null,null,null,null,null,null,null,null,null,null,null,25]
[null,"Male 1-4",null,null,null,null,null,null,null,null,null,null,null,null,null,null,null,null,null,null,null,null,null,null,null,null,null,null,null,null,null,null,null,null,null,null,null,null,null,null,null,null,null,null,null,null,null,null,null,null,null,null,null,null,null,26]
[null,"Male 5-9",null,null,null,null,null,null,null,null,null,null,null,null,null,null,null,null,null,null,null,null,null,null,null,null,null,null,null,null,null,null,null,null,null,null,null,null,null,null,null,null,null,null,null,null,null,null,null,null,null,null,null,null,null,27]
[null,"Male 10-14",null,null,null,null,null,null,null,null,null,null,null,null,null,null,null,null,null,null,null,null,null,null,null,null,null,null,null,null,null,null,null,null,null,null,null,null,null,null,null,null,null,null,null,null,null,null,null,null,null,null,null,null,null,28]
[null,"Male 15-19",null,null,null,null,null,null,null,null,null,null,null,null,null,null,null,null,null,null,null,null,null,null,null,null,null,null,null,null,null,null,null,null,null,null,null,null,null,null,null,null,null,null,null,null,null,null,null,null,null,null,null,null,null,29]
[null,"Male 20-24",null,null,null,null,null,null,null,null,null,null,null,null,null,null,null,null,null,null,null,null,null,null,null,null,null,null,null,null,null,null,null,null,null,null,null,null,null,null,null,null,null,null,null,null,null,null,null,null,null,null,null,null,null,30]
[null,"Male 25-29",null,null,null,null,null,null,null,null,null,null,null,null,null,null,null,null,null,null,null,null,null,null,null,null,null,null,null,null,null,null,null,null,null,null,null,null,null,null,null,null,null,null,null,null,null,null,null,null,null,null,null,null,null,31]
[null,"Male 30-34",null,null,null,null,null,null,null,null,null,null,null,null,null,null,null,null,null,null,null,null,null,null,null,null,null,null,null,null,null,null,null,null,null,null,null,null,null,null,null,null,null,null,null,null,null,null,null,null,null,null,null,null,null,32]
[null,"Male 35-39",null,null,null,null,null,null,null,null,null,null,null,null,null,null,null,null,null,null,null,null,null,null,null,null,null,null,null,null,null,null,null,null,null,null,null,null,null,null,null,null,null,null,null,null,null,null,null,null,null,null,null,null,null,33]
[null,"Male 40-44",null,null,null,null,null,null,null,null,null,null,null,null,null,null,null,null,null,null,null,null,null,null,null,null,null,null,null,null,null,null,null,null,null,null,null,null,null,null,null,null,null,null,null,null,null,null,null,null,null,null,null,null,null,34]
[null,"Male 45-49",null,null,null,null,null,null,null,null,null,null,null,null,null,null,null,null,null,null,null,null,null,null,null,null,null,null,null,null,null,null,null,null,null,null,null,null,null,null,null,null,null,null,null,null,null,null,null,null,null,null,null,null,null,35]
[null,"Male 50-54",null,null,null,null,null,null,null,null,null,null,null,null,null,null,null,null,null,null,null,null,null,null,null,null,null,null,null,null,null,null,null,null,null,null,null,null,null,null,null,null,null,null,null,null,null,null,null,null,null,null,null,null,null,36]
[null,"Male 55-59",null,null,null,null,null,null,null,null,null,null,null,null,null,null,null,null,null,null,null,null,null,null,null,null,null,null,null,null,null,null,null,null,null,null,null,null,null,null,null,null,null,null,null,null,null,null,null,null,null,null,null,null,null,37]
[null,"Male 60-64",null,null,null,null,null,null,null,null,null,null,null,null,null,null,null,null,null,null,null,null,null,null,null,null,null,null,null,null,null,null,null,null,null,null,null,null,null,null,null,null,null,null,null,null,null,null,null,null,null,null,null,null,null,38]
[null,"Male 65-69",null,null,null,null,null,null,null,null,null,null,null,null,null,null,null,null,null,null,null,null,null,null,null,null,null,null,null,null,null,null,null,null,null,null,null,null,null,null,null,null,null,null,null,null,null,null,null,null,null,null,null,null,null,39]
[null,"Male 70-74",null,null,null,null,null,null,null,null,null,null,null,null,null,null,null,null,null,null,null,null,null,null,null,null,null,null,null,null,null,null,null,null,null,null,null,null,null,null,null,null,null,null,null,null,null,null,null,null,null,null,null,null,null,40]
[null,"Male 75-79",null,null,null,null,null,null,null,null,null,null,null,null,null,null,null,null,null,null,null,null,null,null,null,null,null,null,null,null,null,null,null,null,null,null,null,null,null,null,null,null,null,null,null,null,null,null,null,null,null,null,null,null,null,41]
[null,"Male 80-84",null,null,null,null,null,null,null,null,null,null,null,null,null,null,null,null,null,null,null,null,null,null,null,null,null,null,null,null,null,null,null,null,null,null,null,null,null,null,null,null,null,null,null,null,null,null,null,null,null,null,null,null,null,42]
[null,"Male 85+",null,null,null,null,null,null,null,null,null,null,null,null,null,null,null,null,null,null,null,null,null,null,null,null,null,null,null,null,null,null,null,null,null,null,null,null,null,null,null,null,null,null,null,null,null,null,null,null,null,null,null,null,null,43]
[null,"Female <1",null,null,null,null,null,null,null,null,null,null,null,null,null,null,null,null,null,null,null,null,null,null,null,null,null,null,null,null,null,null,null,null,null,null,null,null,null,null,null,null,null,null,null,null,null,null,null,null,null,null,null,null,null,44]
[null,"Female 1-4",null,null,null,null,null,null,null,null,null,null,null,null,null,null,null,null,null,null,null,null,null,null,null,null,null,null,null,null,null,null,null,null,null,null,null,null,null,null,null,null,null,null,null,null,null,null,null,null,null,null,null,null,null,45]
[null,"Female 5-9",null,null,null,null,null,null,null,null,null,null,null,null,null,null,null,null,null,null,null,null,null,null,null,null,null,null,null,null,null,null,null,null,null,null,null,null,null,null,null,null,null,null,null,null,null,null,null,null,null,null,null,null,null,46]
[null,"Female 10-14",null,null,null,null,null,null,null,null,null,null,null,null,null,null,null,null,null,null,null,null,null,null,null,null,null,null,null,null,null,null,null,null,null,null,null,null,null,null,null,null,null,null,null,null,null,null,null,null,null,null,null,null,null,47]
[null,"Female 15-19",null,null,null,null,null,null,null,null,null,null,null,null,null,null,null,null,null,null,null,null,null,null,null,null,null,null,null,null,null,null,null,null,null,null,null,null,null,null,null,null,null,null,null,null,null,null,null,null,null,null,null,null,null,48]
[null,"Female 20-24",null,null,null,null,null,null,null,null,null,null,null,null,null,null,null,null,null,null,null,null,null,null,null,null,null,null,null,null,null,null,null,null,null,null,null,null,null,null,null,null,null,null,null,null,null,null,null,null,null,null,null,null,null,49]
[null,"Female 25-29",null,null,null,null,null,null,null,null,null,null,null,null,null,null,null,null,null,null,null,null,null,null,null,null,null,null,null,null,null,null,null,null,null,null,null,null,null,null,null,null,null,null,null,null,null,null,null,null,null,null,null,null,null,50]
[null,"Female 30-34",null,null,null,null,null,null,null,null,null,null,null,null,null,null,null,null,null,null,null,null,null,null,null,null,null,null,null,null,null,null,null,null,null,null,null,null,null,null,null,null,null,null,null,null,null,null,null,null,null,null,null,null,null,51]
[null,"Female 35-39",null,null,null,null,null,null,null,null,null,null,null,null,null,null,null,null,null,null,null,null,null,null,null,null,null,null,null,null,null,null,null,null,null,null,null,null,null,null,null,null,null,null,null,null,null,null,null,null,null,null,null,null,null,52]
[null,"Female 40-44",null,null,null,null,null,null,null,null,null,null,null,null,null,null,null,null,null,null,null,null,null,null,null,null,null,null,null,null,null,null,null,null,null,null,null,null,null,null,null,null,null,null,null,null,null,null,null,null,null,null,null,null,null,53]
[null,"Female 45-49",null,null,null,null,null,null,null,null,null,null,null,null,null,null,null,null,null,null,null,null,null,null,null,null,null,null,null,null,null,null,null,null,null,null,null,null,null,null,null,null,null,null,null,null,null,null,null,null,null,null,null,null,null,54]
[null,"Female 50-54",null,null,null,null,null,null,null,null,null,null,null,null,null,null,null,null,null,null,null,null,null,null,null,null,null,null,null,null,null,null,null,null,null,null,null,null,null,null,null,null,null,null,null,null,null,null,null,null,null,null,null,null,null,55]
[null,"Female 55-59",null,null,null,null,null,null,null,null,null,null,null,null,null,null,null,null,null,null,null,null,null,null,null,null,null,null,null,null,null,null,null,null,null,null,null,null,null,null,null,null,null,null,null,null,null,null,null,null,null,null,null,null,null,56]
[null,"Female 60-64",null,null,null,null,null,null,null,null,null,null,null,null,null,null,null,null,null,null,null,null,null,null,null,null,null,null,null,null,null,null,null,null,null,null,null,null,null,null,null,null,null,null,null,null,null,null,null,null,null,null,null,null,null,57]
[null,"Female 65-69",null,null,null,null,null,null,null,null,null,null,null,null,null,null,null,null,null,null,null,null,null,null,null,null,null,null,null,null,null,null,null,null,null,null,null,null,null,null,null,null,null,null,null,null,null,null,null,null,null,null,null,null,null,58]
[null,"Female 70-74",null,null,null,null,null,null,null,null,null,null,null,null,null,null,null,null,null,null,null,null,null,null,null,null,null,null,null,null,null,null,null,null,null,null,null,null,null,null,null,null,null,null,null,null,null,null,null,null,null,null,null,null,null,59]
[null,"Female 75-79",null,null,null,null,null,null,null,null,null,null,null,null,null,null,null,null,null,null,null,null,null,null,null,null,null,null,null,null,null,null,null,null,null,null,null,null,null,null,null,null,null,null,null,null,null,null,null,null,null,null,null,null,null,60]
[null,"Female 80-84",null,null,null,null,null,null,null,null,null,null,null,null,null,null,null,null,null,null,null,null,null,null,null,null,null,null,null,null,null,null,null,null,null,null,null,null,null,null,null,null,null,null,null,null,null,null,null,null,null,null,null,null,null,61]
[null,"Female 85+",null,null,null,null,null,null,null,null,null,null,null,null,null,null,null,null,null,null,null,null,null,null,null,null,null,null,null,null,null,null,null,null,null,null,null,null,null,null,null,null,null,null,null,null,null,null,null,null,null,null,null,null,null,62]
[null,"age/sex breakdown: Q1",null,null,null,null,null,null,null,null,null,null,null,null,null,null,null,null,null,null,null,null,null,null,null,null,null,null,null,null,null,null,null,null,null,null,null,null,null,null,null,null,null,null,null,null,null,null,null,null,null,null,null,null,null,63]
[1,"Male <1",null,null,null,null,null,null,null,null,null,null,null,null,null,null,null,null,null,null,null,null,null,null,null,null,null,null,null,null,null,null,null,null,null,null,null,null,null,null,null,null,null,null,null,null,null,null,null,null,null,null,null,null,null,64]
[1,"Male 1-4",null,null,null,null,null,null,null,null,null,null,null,null,null,null,null,null,null,null,null,null,null,null,null,null,null,null,null,null,null,null,null,null,null,null,null,null,null,null,null,null,null,null,null,null,null,null,null,null,null,null,null,null,null,65]
[1,"Male 5-9",null,null,null,null,null,null,null,null,null,null,null,null,null,null,null,null,null,null,null,null,null,null,null,null,null,null,null,null,null,null,null,null,null,null,null,null,null,null,null,null,null,null,null,null,null,null,null,null,null,null,null,null,null,66]
[1,"Male 10-14",null,null,null,null,null,null,null,null,null,null,null,null,null,null,null,null,null,null,null,null,null,null,null,null,null,null,null,null,null,null,null,null,null,null,null,null,null,null,null,null,null,null,null,null,null,null,null,null,null,null,null,null,null,67]
[1,"Male 15-19",{"$f":"'III Tool Overview'!$H$8/100","v":1000},{"$f":"'III Tool Overview'!$H$8/20","v":5000},{"$f":"'III Tool Overview'!$H$8/40","v":2500},{"$f":"G68*'III Tool Overview'!$H$8","v":336.40834800290975},{"$f":"HLOOKUP('III Tool Overview'!$H$6,Targeting!$I$1:$BC$277,Targeting!BD68,FALSE)","v":3.3640834800290976E-3},{"$f":"Baseline_Data_2012!B68","v":4899.0450412855125},{"$f":"Baseline_Data_2012!B68/Baseline_Data_2012!B$271","v":3.3640834800290976E-3},{"$f":"Baseline_Data_2012!C68/Baseline_Data_2012!C$271","v":5.7905007560415268E-3},{"$f":"Baseline_Data_2012!D68/Baseline_Data_2012!D$271","v":8.2364038826636681E-4},{"$f":"Baseline_Data_2012!E68/Baseline_Data_2012!E$271","v":1.4069902573772967E-3},{"$f":"Baseline_Data_2012!F68/Baseline_Data_2012!F$271","v":3.3308073327537055E-3},{"$f":"Baseline_Data_2012!G68/Baseline_Data_2012!G$271","v":2.496769221123676E-3},{"$f":"Baseline_Data_2012!H68/Baseline_Data_2012!H$271","v":8.4024778138481516E-4},{"$f":"Baseline_Data_2012!I68/Baseline_Data_2012!I$271","v":6.1473502277133319E-3},{"$f":"Baseline_Data_2012!J68/Baseline_Data_2012!J$271","v":1.5306991638730726E-3},{"$f":"Baseline_Data_2012!K68/Baseline_Data_2012!K$271","v":4.5074225079465759E-3},{"$f":"Baseline_Data_2012!L68/Baseline_Data_2012!L$271","v":1.9217588924152547E-3},{"$f":"Baseline_Data_2012!M68/Baseline_Data_2012!M$271","v":0},{"$f":"Baseline_Data_2012!N68/Baseline_Data_2012!N$271","v":0},{"$f":"Baseline_Data_2012!O68/Baseline_Data_2012!O$271","v":3.0918074266878264E-3},{"$f":"Baseline_Data_2012!P68/Baseline_Data_2012!P$271","v":0},{"$f":"Baseline_Data_2012!Q68/Baseline_Data_2012!Q$271","v":1.7745296552662206E-3},{"$f":"Baseline_Data_2012!R68/Baseline_Data_2012!R$271","v":3.238916694211313E-4},{"$f":"Baseline_Data_2012!S68/Baseline_Data_2012!S$271","v":1.4397261316930433E-3},{"$f":"Baseline_Data_2012!T68/Baseline_Data_2012!T$271","v":1.4925669534776075E-3},{"$f":"Baseline_Data_2012!U68/Baseline_Data_2012!U$271","v":4.9660133443690828E-3},{"$f":"Baseline_Data_2012!V68/Baseline_Data_2012!V$271","v":1.4069902573772964E-3},{"$f":"Baseline_Data_2012!W68/Baseline_Data_2012!W$271","v":6.7921883065349747E-3},{"$f":"Baseline_Data_2012!X68/Baseline_Data_2012!X$271","v":6.4685504872423966E-3},{"$f":"Baseline_Data_2012!Y68/Baseline_Data_2012!Y$271","v":7.6655655056705673E-4},{"$f":"Baseline_Data_2012!Z68/Baseline_Data_2012!Z$271","v":8.5930157835723442E-4},{"$f":"Baseline_Data_2012!AA68/Baseline_Data_2012!AA$271","v":1.2930757804354757E-3},{"$f":"Baseline_Data_2012!AB68/Baseline_Data_2012!AB$271","v":1.9989626385776278E-3},{"$f":"Baseline_Data_2012!AC68/Baseline_Data_2012!AC$271","v":0},{"$f":"Baseline_Data_2012!AD68/Baseline_Data_2012!AD$271","v":2.1443525578792584E-3},{"$f":"Baseline_Data_2012!AE68/Baseline_Data_2012!AE$271","v":3.3308073327537055E-3},{"$f":"Baseline_Data_2012!AF68/Baseline_Data_2012!AF$271","v":8.4772552838399823E-3},{"$f":"Baseline_Data_2012!AG68/Baseline_Data_2012!AG$271","v":1.5419901350937331E-3},{"$f":"Baseline_Data_2012!AH68/Baseline_Data_2012!AH$271","v":8.2830995172918191E-3},{"$f":"Baseline_Data_2012!AI68/Baseline_Data_2012!AI$271","v":1.4167959196461192E-3},{"$f":"Baseline_Data_2012!AJ68/Baseline_Data_2012!AJ$271","v":1.5283530679767094E-4},{"$f":"Baseline_Data_2012!AK68/Baseline_Data_2012!AK$271","v":7.9443838584920459E-3},{"$f":"Baseline_Data_2012!AL68/Baseline_Data_2012!AL$271","v":5.9850817387886454E-3},{"$f":"Baseline_Data_2012!AM68/Baseline_Data_2012!AM$271","v":0},{"$f":"Baseline_Data_2012!AN68/Baseline_Data_2012!AN$271","v":9.3347620176342447E-4},{"$f":"Baseline_Data_2012!AO68/Baseline_Data_2012!AO$271","v":4.4521790856878341E-3},{"$f":"Baseline_Data_2012!AP68/Baseline_Data_2012!AP$271","v":8.2364038826636681E-4},{"$f":"Baseline_Data_2012!AQ68/Baseline_Data_2012!AQ$271","v":0},{"$f":"Baseline_Data_2012!AR68/Baseline_Data_2012!AR$271","v":2.717549250099897E-3},{"$f":"Baseline_Data_2012!AS68/Baseline_Data_2012!AS$271","v":3.1065973426520578E-3},{"$f":"Baseline_Data_2012!AT68/Baseline_Data_2012!AT$271","v":1.747460788547513E-3},{"$f":"Baseline_Data_2012!AU68/Baseline_Data_2012!AU$271","v":6.527837143534632E-3},{"$f":"Baseline_Data_2012!AV68/Baseline_Data_2012!AV$271","v":2.5009116858013382E-3},68]
[1,"Male 20-24",{"$f":"'III Tool Overview'!$H$8/100","v":1000},{"$f":"'III Tool Overview'!$H$8/20","v":5000},{"$f":"'III Tool Overview'!$H$8/40","v":2500},{"$f":"G69*'III Tool Overview'!$H$8","v":478.02154145166617},{"$f":"HLOOKUP('III Tool Overview'!$H$6,Targeting!$I$1:$BC$277,Targeting!BD69,FALSE)","v":4.7802154145166614E-3},{"$f":"Baseline_Data_2012!B69","v":6961.3286239144882},{"$f":"Baseline_Data_2012!B69/Baseline_Data_2012!B$271","v":4.7802154145166614E-3},{"$f":"Baseline_Data_2012!C69/Baseline_Data_2012!C$271","v":7.5360243432353565E-3},{"$f":"Baseline_Data_2012!D69/Baseline_Data_2012!D$271","v":9.9321340938003048E-4},{"$f":"Baseline_Data_2012!E69/Baseline_Data_2012!E$271","v":1.9484817759893793E-3},{"$f":"Baseline_Data_2012!F69/Baseline_Data_2012!F$271","v":4.1927091093066594E-3},{"$f":"Baseline_Data_2012!G69/Baseline_Data_2012!G$271","v":3.5221028862998157E-3},{"$f":"Baseline_Data_2012!H69/Baseline_Data_2012!H$271","v":1.541739048412505E-3},{"$f":"Baseline_Data_2012!I69/Baseline_Data_2012!I$271","v":9.2803672585698247E-3},{"$f":"Baseline_Data_2012!J69/Baseline_Data_2012!J$271","v":1.8493345000262431E-3},{"$f":"Baseline_Data_2012!K69/Baseline_Data_2012!K$271","v":5.7206724714754945E-3},{"$f":"Baseline_Data_2012!L69/Baseline_Data_2012!L$271","v":2.5786906482672088E-3},{"$f":"Baseline_Data_2012!M69/Baseline_Data_2012!M$271","v":0},{"$f":"Baseline_Data_2012!N69/Baseline_Data_2012!N$271","v":0},{"$f":"Baseline_Data_2012!O69/Baseline_Data_2012!O$271","v":4.9216173091116977E-3},{"$f":"Baseline_Data_2012!P69/Baseline_Data_2012!P$271","v":0},{"$f":"Baseline_Data_2012!Q69/Baseline_Data_2012!Q$271","v":3.4963505088908705E-3},{"$f":"Baseline_Data_2012!R69/Baseline_Data_2012!R$271","v":4.0607313778171688E-4},{"$f":"Baseline_Data_2012!S69/Baseline_Data_2012!S$271","v":1.4742795588536764E-3},{"$f":"Baseline_Data_2012!T69/Baseline_Data_2012!T$271","v":1.9647054795776673E-3},{"$f":"Baseline_Data_2012!U69/Baseline_Data_2012!U$271","v":5.9536518526329615E-3},{"$f":"Baseline_Data_2012!V69/Baseline_Data_2012!V$271","v":1.948481775989379E-3},{"$f":"Baseline_Data_2012!W69/Baseline_Data_2012!W$271","v":1.1242765901286112E-2},{"$f":"Baseline_Data_2012!X69/Baseline_Data_2012!X$271","v":8.1426869174753228E-3},{"$f":"Baseline_Data_2012!Y69/Baseline_Data_2012!Y$271","v":7.2044788587129389E-4},{"$f":"Baseline_Data_2012!Z69/Baseline_Data_2012!Z$271","v":9.4589786144749842E-4},{"$f":"Baseline_Data_2012!AA69/Baseline_Data_2012!AA$271","v":1.5431180584202363E-3},{"$f":"Baseline_Data_2012!AB69/Baseline_Data_2012!AB$271","v":2.8231543816840884E-3},{"$f":"Baseline_Data_2012!AC69/Baseline_Data_2012!AC$271","v":0},{"$f":"Baseline_Data_2012!AD69/Baseline_Data_2012!AD$271","v":3.3010572571502274E-3},{"$f":"Baseline_Data_2012!AE69/Baseline_Data_2012!AE$271","v":4.1927091093066594E-3},{"$f":"Baseline_Data_2012!AF69/Baseline_Data_2012!AF$271","v":1.3568807705340252E-2},{"$f":"Baseline_Data_2012!AG69/Baseline_Data_2012!AG$271","v":1.8023261319277401E-3},{"$f":"Baseline_Data_2012!AH69/Baseline_Data_2012!AH$271","v":1.0422193476819969E-2},{"$f":"Baseline_Data_2012!AI69/Baseline_Data_2012!AI$271","v":1.5220436165341166E-3},{"$f":"Baseline_Data_2012!AJ69/Baseline_Data_2012!AJ$271","v":2.5251050688310846E-4},{"$f":"Baseline_Data_2012!AK69/Baseline_Data_2012!AK$271","v":9.7876283732233789E-3},{"$f":"Baseline_Data_2012!AL69/Baseline_Data_2012!AL$271","v":7.6479686329902373E-3},{"$f":"Baseline_Data_2012!AM69/Baseline_Data_2012!AM$271","v":0},{"$f":"Baseline_Data_2012!AN69/Baseline_Data_2012!AN$271","v":1.7605457898543341E-3},{"$f":"Baseline_Data_2012!AO69/Baseline_Data_2012!AO$271","v":7.0171146283095334E-3},{"$f":"Baseline_Data_2012!AP69/Baseline_Data_2012!AP$271","v":9.9321340938003048E-4},{"$f":"Baseline_Data_2012!AQ69/Baseline_Data_2012!AQ$271","v":0},{"$f":"Baseline_Data_2012!AR69/Baseline_Data_2012!AR$271","v":4.4102319946876679E-3},{"$f":"Baseline_Data_2012!AS69/Baseline_Data_2012!AS$271","v":3.9243537356014003E-3},{"$f":"Baseline_Data_2012!AT69/Baseline_Data_2012!AT$271","v":2.5680075936046062E-3},{"$f":"Baseline_Data_2012!AU69/Baseline_Data_2012!AU$271","v":8.0173560927451516E-3},{"$f":"Baseline_Data_2012!AV69/Baseline_Data_2012!AV$271","v":3.2465963627604528E-3},69]
[1,"Male 25-29",{"$f":"'III Tool Overview'!$H$8/100","v":1000},{"$f":"'III Tool Overview'!$H$8/20","v":5000},{"$f":"'III Tool Overview'!$H$8/40","v":2500},{"$f":"G70*'III Tool Overview'!$H$8","v":974.62193169413888},{"$f":"HLOOKUP('III Tool Overview'!$H$6,Targeting!$I$1:$BC$277,Targeting!BD70,FALSE)","v":9.7462193169413885E-3},{"$f":"Baseline_Data_2012!B70","v":14193.217171748009},{"$f":"Baseline_Data_2012!B70/Baseline_Data_2012!B$271","v":9.7462193169413885E-3},{"$f":"Baseline_Data_2012!C70/Baseline_Data_2012!C$271","v":1.3464407264400501E-2},{"$f":"Baseline_Data_2012!D70/Baseline_Data_2012!D$271","v":1.8236060460875545E-3},{"$f":"Baseline_Data_2012!E70/Baseline_Data_2012!E$271","v":3.00263655084782E-3},{"$f":"Baseline_Data_2012!F70/Baseline_Data_2012!F$271","v":8.6106244573435735E-3},{"$f":"Baseline_Data_2012!G70/Baseline_Data_2012!G$271","v":6.3624089806407413E-3},{"$f":"Baseline_Data_2012!H70/Baseline_Data_2012!H$271","v":3.2894766333182814E-3},{"$f":"Baseline_Data_2012!I70/Baseline_Data_2012!I$271","v":1.9243711663807624E-2},{"$f":"Baseline_Data_2012!J70/Baseline_Data_2012!J$271","v":4.0635893074156895E-3},{"$f":"Baseline_Data_2012!K70/Baseline_Data_2012!K$271","v":1.1251793228641222E-2},{"$f":"Baseline_Data_2012!L70/Baseline_Data_2012!L$271","v":5.8796715442694823E-3},{"$f":"Baseline_Data_2012!M70/Baseline_Data_2012!M$271","v":0},{"$f":"Baseline_Data_2012!N70/Baseline_Data_2012!N$271","v":0},{"$f":"Baseline_Data_2012!O70/Baseline_Data_2012!O$271","v":1.0328109284166847E-2},{"$f":"Baseline_Data_2012!P70/Baseline_Data_2012!P$271","v":0},{"$f":"Baseline_Data_2012!Q70/Baseline_Data_2012!Q$271","v":7.2067946189066541E-3},{"$f":"Baseline_Data_2012!R70/Baseline_Data_2012!R$271","v":1.1111469539196418E-3},{"$f":"Baseline_Data_2012!S70/Baseline_Data_2012!S$271","v":3.4335024852938409E-3},{"$f":"Baseline_Data_2012!T70/Baseline_Data_2012!T$271","v":3.6382768709709379E-3},{"$f":"Baseline_Data_2012!U70/Baseline_Data_2012!U$271","v":1.1448921059470131E-2},{"$f":"Baseline_Data_2012!V70/Baseline_Data_2012!V$271","v":3.00263655084782E-3},{"$f":"Baseline_Data_2012!W70/Baseline_Data_2012!W$271","v":2.3848318323756917E-2},{"$f":"Baseline_Data_2012!X70/Baseline_Data_2012!X$271","v":1.3952858218474874E-2},{"$f":"Baseline_Data_2012!Y70/Baseline_Data_2012!Y$271","v":9.2560050594210316E-4},{"$f":"Baseline_Data_2012!Z70/Baseline_Data_2012!Z$271","v":2.0058026295873771E-3},{"$f":"Baseline_Data_2012!AA70/Baseline_Data_2012!AA$271","v":3.2984832010235455E-3},{"$f":"Baseline_Data_2012!AB70/Baseline_Data_2012!AB$271","v":6.7189556117249541E-3},{"$f":"Baseline_Data_2012!AC70/Baseline_Data_2012!AC$271","v":0},{"$f":"Baseline_Data_2012!AD70/Baseline_Data_2012!AD$271","v":5.7692944933632169E-3},{"$f":"Baseline_Data_2012!AE70/Baseline_Data_2012!AE$271","v":8.6106244573435735E-3},{"$f":"Baseline_Data_2012!AF70/Baseline_Data_2012!AF$271","v":2.7916885648249432E-2},{"$f":"Baseline_Data_2012!AG70/Baseline_Data_2012!AG$271","v":4.2153139731181876E-3},{"$f":"Baseline_Data_2012!AH70/Baseline_Data_2012!AH$271","v":2.1356937865334543E-2},{"$f":"Baseline_Data_2012!AI70/Baseline_Data_2012!AI$271","v":3.1691653444604231E-3},{"$f":"Baseline_Data_2012!AJ70/Baseline_Data_2012!AJ$271","v":4.4020080764205509E-4},{"$f":"Baseline_Data_2012!AK70/Baseline_Data_2012!AK$271","v":1.7255217902232233E-2},{"$f":"Baseline_Data_2012!AL70/Baseline_Data_2012!AL$271","v":1.5168550463649226E-2},{"$f":"Baseline_Data_2012!AM70/Baseline_Data_2012!AM$271","v":0},{"$f":"Baseline_Data_2012!AN70/Baseline_Data_2012!AN$271","v":3.1652249438500401E-3},{"$f":"Baseline_Data_2012!AO70/Baseline_Data_2012!AO$271","v":1.5532910610789994E-2},{"$f":"Baseline_Data_2012!AP70/Baseline_Data_2012!AP$271","v":1.8236060460875545E-3},{"$f":"Baseline_Data_2012!AQ70/Baseline_Data_2012!AQ$271","v":0},{"$f":"Baseline_Data_2012!AR70/Baseline_Data_2012!AR$271","v":8.7337857377414539E-3},{"$f":"Baseline_Data_2012!AS70/Baseline_Data_2012!AS$271","v":7.7546474514383554E-3},{"$f":"Baseline_Data_2012!AT70/Baseline_Data_2012!AT$271","v":4.5907869349450696E-3},{"$f":"Baseline_Data_2012!AU70/Baseline_Data_2012!AU$271","v":1.7107346921641065E-2},{"$f":"Baseline_Data_2012!AV70/Baseline_Data_2012!AV$271","v":6.8167067503540815E-3},70]
[1,"Male 30-34",{"$f":"'III Tool Overview'!$H$8/100","v":1000},{"$f":"'III Tool Overview'!$H$8/20","v":5000},{"$f":"'III Tool Overview'!$H$8/40","v":2500},{"$f":"G71*'III Tool Overview'!$H$8","v":913.51892320549814},{"$f":"HLOOKUP('III Tool Overview'!$H$6,Targeting!$I$1:$BC$277,Targeting!BD71,FALSE)","v":9.1351892320549813E-3},{"$f":"Baseline_Data_2012!B71","v":13303.386724551992},{"$f":"Baseline_Data_2012!B71/Baseline_Data_2012!B$271","v":9.1351892320549813E-3},{"$f":"Baseline_Data_2012!C71/Baseline_Data_2012!C$271","v":1.2701539119138374E-2},{"$f":"Baseline_Data_2012!D71/Baseline_Data_2012!D$271","v":2.2491141235079838E-3},{"$f":"Baseline_Data_2012!E71/Baseline_Data_2012!E$271","v":2.7175197270284425E-3},{"$f":"Baseline_Data_2012!F71/Baseline_Data_2012!F$271","v":8.1982846945975445E-3},{"$f":"Baseline_Data_2012!G71/Baseline_Data_2012!G$271","v":6.2029971122974951E-3},{"$f":"Baseline_Data_2012!H71/Baseline_Data_2012!H$271","v":3.3580073965124124E-3},{"$f":"Baseline_Data_2012!I71/Baseline_Data_2012!I$271","v":1.7879405404180732E-2},{"$f":"Baseline_Data_2012!J71/Baseline_Data_2012!J$271","v":3.2776275895204736E-3},{"$f":"Baseline_Data_2012!K71/Baseline_Data_2012!K$271","v":1.1012234091371415E-2},{"$f":"Baseline_Data_2012!L71/Baseline_Data_2012!L$271","v":5.7890467901988915E-3},{"$f":"Baseline_Data_2012!M71/Baseline_Data_2012!M$271","v":0},{"$f":"Baseline_Data_2012!N71/Baseline_Data_2012!N$271","v":0},{"$f":"Baseline_Data_2012!O71/Baseline_Data_2012!O$271","v":8.4167835418075716E-3},{"$f":"Baseline_Data_2012!P71/Baseline_Data_2012!P$271","v":0},{"$f":"Baseline_Data_2012!Q71/Baseline_Data_2012!Q$271","v":7.424291683261911E-3},{"$f":"Baseline_Data_2012!R71/Baseline_Data_2012!R$271","v":1.086886103397379E-3},{"$f":"Baseline_Data_2012!S71/Baseline_Data_2012!S$271","v":3.3410175698650501E-3},{"$f":"Baseline_Data_2012!T71/Baseline_Data_2012!T$271","v":2.7363510920327644E-3},{"$f":"Baseline_Data_2012!U71/Baseline_Data_2012!U$271","v":1.2007405013590626E-2},{"$f":"Baseline_Data_2012!V71/Baseline_Data_2012!V$271","v":2.7175197270284425E-3},{"$f":"Baseline_Data_2012!W71/Baseline_Data_2012!W$271","v":1.7858319255635767E-2},{"$f":"Baseline_Data_2012!X71/Baseline_Data_2012!X$271","v":1.2906720770041893E-2},{"$f":"Baseline_Data_2012!Y71/Baseline_Data_2012!Y$271","v":1.4578207968588125E-3},{"$f":"Baseline_Data_2012!Z71/Baseline_Data_2012!Z$271","v":1.5778980686087366E-3},{"$f":"Baseline_Data_2012!AA71/Baseline_Data_2012!AA$271","v":2.7678576425980185E-3},{"$f":"Baseline_Data_2012!AB71/Baseline_Data_2012!AB$271","v":6.798627022140665E-3},{"$f":"Baseline_Data_2012!AC71/Baseline_Data_2012!AC$271","v":0},{"$f":"Baseline_Data_2012!AD71/Baseline_Data_2012!AD$271","v":6.0282875898145074E-3},{"$f":"Baseline_Data_2012!AE71/Baseline_Data_2012!AE$271","v":8.1982846945975445E-3},{"$f":"Baseline_Data_2012!AF71/Baseline_Data_2012!AF$271","v":2.5906492156222212E-2},{"$f":"Baseline_Data_2012!AG71/Baseline_Data_2012!AG$271","v":3.4744754138099506E-3},{"$f":"Baseline_Data_2012!AH71/Baseline_Data_2012!AH$271","v":1.8046517912780471E-2},{"$f":"Baseline_Data_2012!AI71/Baseline_Data_2012!AI$271","v":2.8603748750001766E-3},{"$f":"Baseline_Data_2012!AJ71/Baseline_Data_2012!AJ$271","v":4.2686138922865945E-4},{"$f":"Baseline_Data_2012!AK71/Baseline_Data_2012!AK$271","v":1.7131878246033291E-2},{"$f":"Baseline_Data_2012!AL71/Baseline_Data_2012!AL$271","v":1.4392138250790375E-2},{"$f":"Baseline_Data_2012!AM71/Baseline_Data_2012!AM$271","v":0},{"$f":"Baseline_Data_2012!AN71/Baseline_Data_2012!AN$271","v":3.6312703343555673E-3},{"$f":"Baseline_Data_2012!AO71/Baseline_Data_2012!AO$271","v":1.4637443480234474E-2},{"$f":"Baseline_Data_2012!AP71/Baseline_Data_2012!AP$271","v":2.2491141235079838E-3},{"$f":"Baseline_Data_2012!AQ71/Baseline_Data_2012!AQ$271","v":0},{"$f":"Baseline_Data_2012!AR71/Baseline_Data_2012!AR$271","v":7.5790146751525365E-3},{"$f":"Baseline_Data_2012!AS71/Baseline_Data_2012!AS$271","v":8.529231986882822E-3},{"$f":"Baseline_Data_2012!AT71/Baseline_Data_2012!AT$271","v":3.3248888764718441E-3},{"$f":"Baseline_Data_2012!AU71/Baseline_Data_2012!AU$271","v":1.437866789975562E-2},{"$f":"Baseline_Data_2012!AV71/Baseline_Data_2012!AV$271","v":6.5326773024226613E-3},71]
[1,"Male 35-39",{"$f":"'III Tool Overview'!$H$8/100","v":1000},{"$f":"'III Tool Overview'!$H$8/20","v":5000},{"$f":"'III Tool Overview'!$H$8/40","v":2500},{"$f":"G72*'III Tool Overview'!$H$8","v":955.91112043701241},{"$f":"HLOOKUP('III Tool Overview'!$H$6,Targeting!$I$1:$BC$277,Targeting!BD72,FALSE)","v":9.5591112043701236E-3},{"$f":"Baseline_Data_2012!B72","v":13920.735505785124},{"$f":"Baseline_Data_2012!B72/Baseline_Data_2012!B$271","v":9.5591112043701236E-3},{"$f":"Baseline_Data_2012!C72/Baseline_Data_2012!C$271","v":1.4130427173487999E-2},{"$f":"Baseline_Data_2012!D72/Baseline_Data_2012!D$271","v":2.1342363765566199E-3},{"$f":"Baseline_Data_2012!E72/Baseline_Data_2012!E$271","v":3.2445336271382293E-3},{"$f":"Baseline_Data_2012!F72/Baseline_Data_2012!F$271","v":9.2497141297170089E-3},{"$f":"Baseline_Data_2012!G72/Baseline_Data_2012!G$271","v":6.5957997508350229E-3},{"$f":"Baseline_Data_2012!H72/Baseline_Data_2012!H$271","v":3.3668978196198592E-3},{"$f":"Baseline_Data_2012!I72/Baseline_Data_2012!I$271","v":1.7981013768997401E-2},{"$f":"Baseline_Data_2012!J72/Baseline_Data_2012!J$271","v":3.5902372476135204E-3},{"$f":"Baseline_Data_2012!K72/Baseline_Data_2012!K$271","v":1.2218622128494255E-2},{"$f":"Baseline_Data_2012!L72/Baseline_Data_2012!L$271","v":6.3681464252776897E-3},{"$f":"Baseline_Data_2012!M72/Baseline_Data_2012!M$271","v":0},{"$f":"Baseline_Data_2012!N72/Baseline_Data_2012!N$271","v":0},{"$f":"Baseline_Data_2012!O72/Baseline_Data_2012!O$271","v":7.9555528778891618E-3},{"$f":"Baseline_Data_2012!P72/Baseline_Data_2012!P$271","v":0},{"$f":"Baseline_Data_2012!Q72/Baseline_Data_2012!Q$271","v":7.3002779415806398E-3},{"$f":"Baseline_Data_2012!R72/Baseline_Data_2012!R$271","v":1.1165515678936474E-3},{"$f":"Baseline_Data_2012!S72/Baseline_Data_2012!S$271","v":3.1676262608882609E-3},{"$f":"Baseline_Data_2012!T72/Baseline_Data_2012!T$271","v":3.1188053715526273E-3},{"$f":"Baseline_Data_2012!U72/Baseline_Data_2012!U$271","v":1.2785244772749348E-2},{"$f":"Baseline_Data_2012!V72/Baseline_Data_2012!V$271","v":3.2445336271382293E-3},{"$f":"Baseline_Data_2012!W72/Baseline_Data_2012!W$271","v":1.747363234771851E-2},{"$f":"Baseline_Data_2012!X72/Baseline_Data_2012!X$271","v":1.5138736070929729E-2},{"$f":"Baseline_Data_2012!Y72/Baseline_Data_2012!Y$271","v":1.3312093788772432E-3},{"$f":"Baseline_Data_2012!Z72/Baseline_Data_2012!Z$271","v":2.0143813706558185E-3},{"$f":"Baseline_Data_2012!AA72/Baseline_Data_2012!AA$271","v":3.0619633194178724E-3},{"$f":"Baseline_Data_2012!AB72/Baseline_Data_2012!AB$271","v":7.2357455152492001E-3},{"$f":"Baseline_Data_2012!AC72/Baseline_Data_2012!AC$271","v":0},{"$f":"Baseline_Data_2012!AD72/Baseline_Data_2012!AD$271","v":6.4725056532752376E-3},{"$f":"Baseline_Data_2012!AE72/Baseline_Data_2012!AE$271","v":9.2497141297170089E-3},{"$f":"Baseline_Data_2012!AF72/Baseline_Data_2012!AF$271","v":2.5676841481878279E-2},{"$f":"Baseline_Data_2012!AG72/Baseline_Data_2012!AG$271","v":3.7602263120547277E-3},{"$f":"Baseline_Data_2012!AH72/Baseline_Data_2012!AH$271","v":1.9162137449806202E-2},{"$f":"Baseline_Data_2012!AI72/Baseline_Data_2012!AI$271","v":3.4313998444129258E-3},{"$f":"Baseline_Data_2012!AJ72/Baseline_Data_2012!AJ$271","v":6.8037193181068507E-4},{"$f":"Baseline_Data_2012!AK72/Baseline_Data_2012!AK$271","v":1.8082656913169553E-2},{"$f":"Baseline_Data_2012!AL72/Baseline_Data_2012!AL$271","v":1.6072300296666654E-2},{"$f":"Baseline_Data_2012!AM72/Baseline_Data_2012!AM$271","v":0},{"$f":"Baseline_Data_2012!AN72/Baseline_Data_2012!AN$271","v":2.8561413607958814E-3},{"$f":"Baseline_Data_2012!AO72/Baseline_Data_2012!AO$271","v":1.3593628701242234E-2},{"$f":"Baseline_Data_2012!AP72/Baseline_Data_2012!AP$271","v":2.1342363765566199E-3},{"$f":"Baseline_Data_2012!AQ72/Baseline_Data_2012!AQ$271","v":0},{"$f":"Baseline_Data_2012!AR72/Baseline_Data_2012!AR$271","v":8.6907399642965864E-3},{"$f":"Baseline_Data_2012!AS72/Baseline_Data_2012!AS$271","v":9.4696619357724394E-3},{"$f":"Baseline_Data_2012!AT72/Baseline_Data_2012!AT$271","v":3.4191919607222047E-3},{"$f":"Baseline_Data_2012!AU72/Baseline_Data_2012!AU$271","v":1.6299452430615854E-2},{"$f":"Baseline_Data_2012!AV72/Baseline_Data_2012!AV$271","v":7.5939675035359379E-3},72]
[1,"Male 40-44",{"$f":"'III Tool Overview'!$H$8/100","v":1000},{"$f":"'III Tool Overview'!$H$8/20","v":5000},{"$f":"'III Tool Overview'!$H$8/40","v":2500},{"$f":"G73*'III Tool Overview'!$H$8","v":1080.4838969811467},{"$f":"HLOOKUP('III Tool Overview'!$H$6,Targeting!$I$1:$BC$277,Targeting!BD73,FALSE)","v":1.0804838969811468E-2},{"$f":"Baseline_Data_2012!B73","v":15734.863029167604},{"$f":"Baseline_Data_2012!B73/Baseline_Data_2012!B$271","v":1.0804838969811468E-2},{"$f":"Baseline_Data_2012!C73/Baseline_Data_2012!C$271","v":1.6599673311257428E-2},{"$f":"Baseline_Data_2012!D73/Baseline_Data_2012!D$271","v":2.8552621794473701E-3},{"$f":"Baseline_Data_2012!E73/Baseline_Data_2012!E$271","v":3.7201167320933446E-3},{"$f":"Baseline_Data_2012!F73/Baseline_Data_2012!F$271","v":1.0880042177463916E-2},{"$f":"Baseline_Data_2012!G73/Baseline_Data_2012!G$271","v":8.0973730499289982E-3},{"$f":"Baseline_Data_2012!H73/Baseline_Data_2012!H$271","v":3.049612277428268E-3},{"$f":"Baseline_Data_2012!I73/Baseline_Data_2012!I$271","v":2.0629870594456083E-2},{"$f":"Baseline_Data_2012!J73/Baseline_Data_2012!J$271","v":4.1307563912459429E-3},{"$f":"Baseline_Data_2012!K73/Baseline_Data_2012!K$271","v":1.396498527185947E-2},{"$f":"Baseline_Data_2012!L73/Baseline_Data_2012!L$271","v":6.3922401108215225E-3},{"$f":"Baseline_Data_2012!M73/Baseline_Data_2012!M$271","v":0},{"$f":"Baseline_Data_2012!N73/Baseline_Data_2012!N$271","v":0},{"$f":"Baseline_Data_2012!O73/Baseline_Data_2012!O$271","v":9.3075846623179945E-3},{"$f":"Baseline_Data_2012!P73/Baseline_Data_2012!P$271","v":0},{"$f":"Baseline_Data_2012!Q73/Baseline_Data_2012!Q$271","v":6.7076097228276734E-3},{"$f":"Baseline_Data_2012!R73/Baseline_Data_2012!R$271","v":9.5539979520796621E-4},{"$f":"Baseline_Data_2012!S73/Baseline_Data_2012!S$271","v":3.4830176201974816E-3},{"$f":"Baseline_Data_2012!T73/Baseline_Data_2012!T$271","v":4.1704955549831642E-3},{"$f":"Baseline_Data_2012!U73/Baseline_Data_2012!U$271","v":1.503756768608343E-2},{"$f":"Baseline_Data_2012!V73/Baseline_Data_2012!V$271","v":3.7201167320933442E-3},{"$f":"Baseline_Data_2012!W73/Baseline_Data_2012!W$271","v":2.0713058330858604E-2},{"$f":"Baseline_Data_2012!X73/Baseline_Data_2012!X$271","v":1.9140574089679598E-2},{"$f":"Baseline_Data_2012!Y73/Baseline_Data_2012!Y$271","v":1.8527140840044107E-3},{"$f":"Baseline_Data_2012!Z73/Baseline_Data_2012!Z$271","v":2.4267744071680333E-3},{"$f":"Baseline_Data_2012!AA73/Baseline_Data_2012!AA$271","v":3.7253887052917452E-3},{"$f":"Baseline_Data_2012!AB73/Baseline_Data_2012!AB$271","v":6.8325346201896023E-3},{"$f":"Baseline_Data_2012!AC73/Baseline_Data_2012!AC$271","v":0},{"$f":"Baseline_Data_2012!AD73/Baseline_Data_2012!AD$271","v":7.9767541029725931E-3},{"$f":"Baseline_Data_2012!AE73/Baseline_Data_2012!AE$271","v":1.0880042177463916E-2},{"$f":"Baseline_Data_2012!AF73/Baseline_Data_2012!AF$271","v":2.8456460528762814E-2},{"$f":"Baseline_Data_2012!AG73/Baseline_Data_2012!AG$271","v":4.1076385256684795E-3},{"$f":"Baseline_Data_2012!AH73/Baseline_Data_2012!AH$271","v":2.4771662464386467E-2},{"$f":"Baseline_Data_2012!AI73/Baseline_Data_2012!AI$271","v":3.8747829703763932E-3},{"$f":"Baseline_Data_2012!AJ73/Baseline_Data_2012!AJ$271","v":5.5379110728776698E-4},{"$f":"Baseline_Data_2012!AK73/Baseline_Data_2012!AK$271","v":2.1988861925965889E-2},{"$f":"Baseline_Data_2012!AL73/Baseline_Data_2012!AL$271","v":1.8783102645181814E-2},{"$f":"Baseline_Data_2012!AM73/Baseline_Data_2012!AM$271","v":0},{"$f":"Baseline_Data_2012!AN73/Baseline_Data_2012!AN$271","v":3.2707425260727033E-3},{"$f":"Baseline_Data_2012!AO73/Baseline_Data_2012!AO$271","v":1.760737481663532E-2},{"$f":"Baseline_Data_2012!AP73/Baseline_Data_2012!AP$271","v":2.8552621794473701E-3},{"$f":"Baseline_Data_2012!AQ73/Baseline_Data_2012!AQ$271","v":0},{"$f":"Baseline_Data_2012!AR73/Baseline_Data_2012!AR$271","v":8.0294880104914111E-3},{"$f":"Baseline_Data_2012!AS73/Baseline_Data_2012!AS$271","v":1.0299692943373222E-2},{"$f":"Baseline_Data_2012!AT73/Baseline_Data_2012!AT$271","v":4.5046497260308408E-3},{"$f":"Baseline_Data_2012!AU73/Baseline_Data_2012!AU$271","v":1.8838368326466837E-2},{"$f":"Baseline_Data_2012!AV73/Baseline_Data_2012!AV$271","v":8.4316713528468559E-3},73]
[1,"Male 45-49",{"$f":"'III Tool Overview'!$H$8/100","v":1000},{"$f":"'III Tool Overview'!$H$8/20","v":5000},{"$f":"'III Tool Overview'!$H$8/40","v":2500},{"$f":"G74*'III Tool Overview'!$H$8","v":946.627723366184},{"$f":"HLOOKUP('III Tool Overview'!$H$6,Targeting!$I$1:$BC$277,Targeting!BD74,FALSE)","v":9.4662772336618402E-3},{"$f":"Baseline_Data_2012!B74","v":13785.543318504049},{"$f":"Baseline_Data_2012!B74/Baseline_Data_2012!B$271","v":9.4662772336618402E-3},{"$f":"Baseline_Data_2012!C74/Baseline_Data_2012!C$271","v":1.4910548402370995E-2},{"$f":"Baseline_Data_2012!D74/Baseline_Data_2012!D$271","v":2.667145192559318E-3},{"$f":"Baseline_Data_2012!E74/Baseline_Data_2012!E$271","v":3.7590354056595081E-3},{"$f":"Baseline_Data_2012!F74/Baseline_Data_2012!F$271","v":9.3663528993414985E-3},{"$f":"Baseline_Data_2012!G74/Baseline_Data_2012!G$271","v":7.1257658199599333E-3},{"$f":"Baseline_Data_2012!H74/Baseline_Data_2012!H$271","v":2.5500260836608443E-3},{"$f":"Baseline_Data_2012!I74/Baseline_Data_2012!I$271","v":1.8100568207375468E-2},{"$f":"Baseline_Data_2012!J74/Baseline_Data_2012!J$271","v":3.8139384102024703E-3},{"$f":"Baseline_Data_2012!K74/Baseline_Data_2012!K$271","v":1.2380904660057337E-2},{"$f":"Baseline_Data_2012!L74/Baseline_Data_2012!L$271","v":5.3248486852592461E-3},{"$f":"Baseline_Data_2012!M74/Baseline_Data_2012!M$271","v":0},{"$f":"Baseline_Data_2012!N74/Baseline_Data_2012!N$271","v":0},{"$f":"Baseline_Data_2012!O74/Baseline_Data_2012!O$271","v":8.0965449130320846E-3},{"$f":"Baseline_Data_2012!P74/Baseline_Data_2012!P$271","v":0},{"$f":"Baseline_Data_2012!Q74/Baseline_Data_2012!Q$271","v":5.6311047856756483E-3},{"$f":"Baseline_Data_2012!R74/Baseline_Data_2012!R$271","v":7.1769001864522815E-4},{"$f":"Baseline_Data_2012!S74/Baseline_Data_2012!S$271","v":2.8690330133627905E-3},{"$f":"Baseline_Data_2012!T74/Baseline_Data_2012!T$271","v":3.960717944708373E-3},{"$f":"Baseline_Data_2012!U74/Baseline_Data_2012!U$271","v":1.394322737058269E-2},{"$f":"Baseline_Data_2012!V74/Baseline_Data_2012!V$271","v":3.7590354056595073E-3},{"$f":"Baseline_Data_2012!W74/Baseline_Data_2012!W$271","v":1.802008676812988E-2},{"$f":"Baseline_Data_2012!X74/Baseline_Data_2012!X$271","v":1.7005314864252365E-2},{"$f":"Baseline_Data_2012!Y74/Baseline_Data_2012!Y$271","v":1.4356819144079149E-3},{"$f":"Baseline_Data_2012!Z74/Baseline_Data_2012!Z$271","v":1.8982245894304025E-3},{"$f":"Baseline_Data_2012!AA74/Baseline_Data_2012!AA$271","v":3.801126492183365E-3},{"$f":"Baseline_Data_2012!AB74/Baseline_Data_2012!AB$271","v":5.7972376000859473E-3},{"$f":"Baseline_Data_2012!AC74/Baseline_Data_2012!AC$271","v":0},{"$f":"Baseline_Data_2012!AD74/Baseline_Data_2012!AD$271","v":6.4718384868820214E-3},{"$f":"Baseline_Data_2012!AE74/Baseline_Data_2012!AE$271","v":9.3663528993414985E-3},{"$f":"Baseline_Data_2012!AF74/Baseline_Data_2012!AF$271","v":2.4708221395001888E-2},{"$f":"Baseline_Data_2012!AG74/Baseline_Data_2012!AG$271","v":3.751235951482594E-3},{"$f":"Baseline_Data_2012!AH74/Baseline_Data_2012!AH$271","v":2.4937777021475201E-2},{"$f":"Baseline_Data_2012!AI74/Baseline_Data_2012!AI$271","v":3.2428059738530478E-3},{"$f":"Baseline_Data_2012!AJ74/Baseline_Data_2012!AJ$271","v":6.3561297302536137E-4},{"$f":"Baseline_Data_2012!AK74/Baseline_Data_2012!AK$271","v":1.9835007463901804E-2},{"$f":"Baseline_Data_2012!AL74/Baseline_Data_2012!AL$271","v":1.6729812456719662E-2},{"$f":"Baseline_Data_2012!AM74/Baseline_Data_2012!AM$271","v":0},{"$f":"Baseline_Data_2012!AN74/Baseline_Data_2012!AN$271","v":2.9782426529413597E-3},{"$f":"Baseline_Data_2012!AO74/Baseline_Data_2012!AO$271","v":1.4487739633970591E-2},{"$f":"Baseline_Data_2012!AP74/Baseline_Data_2012!AP$271","v":2.667145192559318E-3},{"$f":"Baseline_Data_2012!AQ74/Baseline_Data_2012!AQ$271","v":0},{"$f":"Baseline_Data_2012!AR74/Baseline_Data_2012!AR$271","v":7.3128092121879191E-3},{"$f":"Baseline_Data_2012!AS74/Baseline_Data_2012!AS$271","v":8.43632006778588E-3},{"$f":"Baseline_Data_2012!AT74/Baseline_Data_2012!AT$271","v":4.5118175128790877E-3},{"$f":"Baseline_Data_2012!AU74/Baseline_Data_2012!AU$271","v":1.909092906250022E-2},{"$f":"Baseline_Data_2012!AV74/Baseline_Data_2012!AV$271","v":6.7821325348884571E-3},74]
[1,"Male 50-54",{"$f":"'III Tool Overview'!$H$8/100","v":1000},{"$f":"'III Tool Overview'!$H$8/20","v":5000},{"$f":"'III Tool Overview'!$H$8/40","v":2500},{"$f":"G75*'III Tool Overview'!$H$8","v":881.32143415553605},{"$f":"HLOOKUP('III Tool Overview'!$H$6,Targeting!$I$1:$BC$277,Targeting!BD75,FALSE)","v":8.8132143415553602E-3},{"$f":"Baseline_Data_2012!B75","v":12834.501365408953},{"$f":"Baseline_Data_2012!B75/Baseline_Data_2012!B$271","v":8.8132143415553602E-3},{"$f":"Baseline_Data_2012!C75/Baseline_Data_2012!C$271","v":1.4730851692787183E-2},{"$f":"Baseline_Data_2012!D75/Baseline_Data_2012!D$271","v":1.9913074967071831E-3},{"$f":"Baseline_Data_2012!E75/Baseline_Data_2012!E$271","v":3.2725720002212185E-3},{"$f":"Baseline_Data_2012!F75/Baseline_Data_2012!F$271","v":9.2258977358980754E-3},{"$f":"Baseline_Data_2012!G75/Baseline_Data_2012!G$271","v":6.7161855507525689E-3},{"$f":"Baseline_Data_2012!H75/Baseline_Data_2012!H$271","v":2.4600509808810726E-3},{"$f":"Baseline_Data_2012!I75/Baseline_Data_2012!I$271","v":1.6827421564953298E-2},{"$f":"Baseline_Data_2012!J75/Baseline_Data_2012!J$271","v":3.6105836962743733E-3},{"$f":"Baseline_Data_2012!K75/Baseline_Data_2012!K$271","v":1.1541143419609269E-2},{"$f":"Baseline_Data_2012!L75/Baseline_Data_2012!L$271","v":4.5182884416429311E-3},{"$f":"Baseline_Data_2012!M75/Baseline_Data_2012!M$271","v":0},{"$f":"Baseline_Data_2012!N75/Baseline_Data_2012!N$271","v":0},{"$f":"Baseline_Data_2012!O75/Baseline_Data_2012!O$271","v":7.4307446709293186E-3},{"$f":"Baseline_Data_2012!P75/Baseline_Data_2012!P$271","v":0},{"$f":"Baseline_Data_2012!Q75/Baseline_Data_2012!Q$271","v":5.2926549643604283E-3},{"$f":"Baseline_Data_2012!R75/Baseline_Data_2012!R$271","v":8.0439082626679943E-4},{"$f":"Baseline_Data_2012!S75/Baseline_Data_2012!S$271","v":2.3985115991712927E-3},{"$f":"Baseline_Data_2012!T75/Baseline_Data_2012!T$271","v":3.5813388312305595E-3},{"$f":"Baseline_Data_2012!U75/Baseline_Data_2012!U$271","v":1.2751261611268465E-2},{"$f":"Baseline_Data_2012!V75/Baseline_Data_2012!V$271","v":3.2725720002212189E-3},{"$f":"Baseline_Data_2012!W75/Baseline_Data_2012!W$271","v":1.6971938544480265E-2},{"$f":"Baseline_Data_2012!X75/Baseline_Data_2012!X$271","v":1.6070671604537731E-2},{"$f":"Baseline_Data_2012!Y75/Baseline_Data_2012!Y$271","v":1.619449199452128E-3},{"$f":"Baseline_Data_2012!Z75/Baseline_Data_2012!Z$271","v":2.0973390568531721E-3},{"$f":"Baseline_Data_2012!AA75/Baseline_Data_2012!AA$271","v":3.3740336278930993E-3},{"$f":"Baseline_Data_2012!AB75/Baseline_Data_2012!AB$271","v":4.6688984946576684E-3},{"$f":"Baseline_Data_2012!AC75/Baseline_Data_2012!AC$271","v":0},{"$f":"Baseline_Data_2012!AD75/Baseline_Data_2012!AD$271","v":6.3565865686224781E-3},{"$f":"Baseline_Data_2012!AE75/Baseline_Data_2012!AE$271","v":9.2258977358980754E-3},{"$f":"Baseline_Data_2012!AF75/Baseline_Data_2012!AF$271","v":2.2608910651476872E-2},{"$f":"Baseline_Data_2012!AG75/Baseline_Data_2012!AG$271","v":3.6144127556838371E-3},{"$f":"Baseline_Data_2012!AH75/Baseline_Data_2012!AH$271","v":2.311626770590058E-2},{"$f":"Baseline_Data_2012!AI75/Baseline_Data_2012!AI$271","v":3.0330722541511094E-3},{"$f":"Baseline_Data_2012!AJ75/Baseline_Data_2012!AJ$271","v":6.2237103608733314E-4},{"$f":"Baseline_Data_2012!AK75/Baseline_Data_2012!AK$271","v":1.9737056809759079E-2},{"$f":"Baseline_Data_2012!AL75/Baseline_Data_2012!AL$271","v":1.5388640609590651E-2},{"$f":"Baseline_Data_2012!AM75/Baseline_Data_2012!AM$271","v":0},{"$f":"Baseline_Data_2012!AN75/Baseline_Data_2012!AN$271","v":2.5156030175329937E-3},{"$f":"Baseline_Data_2012!AO75/Baseline_Data_2012!AO$271","v":1.506041134811574E-2},{"$f":"Baseline_Data_2012!AP75/Baseline_Data_2012!AP$271","v":1.9913074967071831E-3},{"$f":"Baseline_Data_2012!AQ75/Baseline_Data_2012!AQ$271","v":0},{"$f":"Baseline_Data_2012!AR75/Baseline_Data_2012!AR$271","v":7.8135060591485329E-3},{"$f":"Baseline_Data_2012!AS75/Baseline_Data_2012!AS$271","v":8.392631201562235E-3},{"$f":"Baseline_Data_2012!AT75/Baseline_Data_2012!AT$271","v":4.0273270416974405E-3},{"$f":"Baseline_Data_2012!AU75/Baseline_Data_2012!AU$271","v":1.5717170995380385E-2},{"$f":"Baseline_Data_2012!AV75/Baseline_Data_2012!AV$271","v":6.0658174132260803E-3},75]
[1,"Male 55-59",{"$f":"'III Tool Overview'!$H$8/100","v":1000},{"$f":"'III Tool Overview'!$H$8/20","v":5000},{"$f":"'III Tool Overview'!$H$8/40","v":2500},{"$f":"G76*'III Tool Overview'!$H$8","v":534.42113021232808},{"$f":"HLOOKUP('III Tool Overview'!$H$6,Targeting!$I$1:$BC$277,Targeting!BD76,FALSE)","v":5.344211302123281E-3},{"$f":"Baseline_Data_2012!B76","v":7782.6641445362093},{"$f":"Baseline_Data_2012!B76/Baseline_Data_2012!B$271","v":5.344211302123281E-3},{"$f":"Baseline_Data_2012!C76/Baseline_Data_2012!C$271","v":9.3421956703804016E-3},{"$f":"Baseline_Data_2012!D76/Baseline_Data_2012!D$271","v":1.1431006933944783E-3},{"$f":"Baseline_Data_2012!E76/Baseline_Data_2012!E$271","v":2.0816969331566423E-3},{"$f":"Baseline_Data_2012!F76/Baseline_Data_2012!F$271","v":5.4394851504294527E-3},{"$f":"Baseline_Data_2012!G76/Baseline_Data_2012!G$271","v":4.0243854886939439E-3},{"$f":"Baseline_Data_2012!H76/Baseline_Data_2012!H$271","v":1.4833566056933671E-3},{"$f":"Baseline_Data_2012!I76/Baseline_Data_2012!I$271","v":1.007949828482744E-2},{"$f":"Baseline_Data_2012!J76/Baseline_Data_2012!J$271","v":2.3257625357497244E-3},{"$f":"Baseline_Data_2012!K76/Baseline_Data_2012!K$271","v":6.9429580131995421E-3},{"$f":"Baseline_Data_2012!L76/Baseline_Data_2012!L$271","v":2.6800699091823004E-3},{"$f":"Baseline_Data_2012!M76/Baseline_Data_2012!M$271","v":0},{"$f":"Baseline_Data_2012!N76/Baseline_Data_2012!N$271","v":0},{"$f":"Baseline_Data_2012!O76/Baseline_Data_2012!O$271","v":4.7997721477705032E-3},{"$f":"Baseline_Data_2012!P76/Baseline_Data_2012!P$271","v":0},{"$f":"Baseline_Data_2012!Q76/Baseline_Data_2012!Q$271","v":3.3078785762153872E-3},{"$f":"Baseline_Data_2012!R76/Baseline_Data_2012!R$271","v":4.1475158689271345E-4},{"$f":"Baseline_Data_2012!S76/Baseline_Data_2012!S$271","v":1.6634244428313932E-3},{"$f":"Baseline_Data_2012!T76/Baseline_Data_2012!T$271","v":2.5262572100786078E-3},{"$f":"Baseline_Data_2012!U76/Baseline_Data_2012!U$271","v":8.0557600175022205E-3},{"$f":"Baseline_Data_2012!V76/Baseline_Data_2012!V$271","v":2.0816969331566427E-3},{"$f":"Baseline_Data_2012!W76/Baseline_Data_2012!W$271","v":1.1006777521790179E-2},{"$f":"Baseline_Data_2012!X76/Baseline_Data_2012!X$271","v":9.9108563708248752E-3},{"$f":"Baseline_Data_2012!Y76/Baseline_Data_2012!Y$271","v":9.7249280364257581E-4},{"$f":"Baseline_Data_2012!Z76/Baseline_Data_2012!Z$271","v":9.7155614202919303E-4},{"$f":"Baseline_Data_2012!AA76/Baseline_Data_2012!AA$271","v":1.6446864302628534E-3},{"$f":"Baseline_Data_2012!AB76/Baseline_Data_2012!AB$271","v":2.8999746280797107E-3},{"$f":"Baseline_Data_2012!AC76/Baseline_Data_2012!AC$271","v":0},{"$f":"Baseline_Data_2012!AD76/Baseline_Data_2012!AD$271","v":3.4988366912027287E-3},{"$f":"Baseline_Data_2012!AE76/Baseline_Data_2012!AE$271","v":5.4394851504294527E-3},{"$f":"Baseline_Data_2012!AF76/Baseline_Data_2012!AF$271","v":1.3649415172315875E-2},{"$f":"Baseline_Data_2012!AG76/Baseline_Data_2012!AG$271","v":2.2458306536267737E-3},{"$f":"Baseline_Data_2012!AH76/Baseline_Data_2012!AH$271","v":1.3339852557437453E-2},{"$f":"Baseline_Data_2012!AI76/Baseline_Data_2012!AI$271","v":1.7133370044535921E-3},{"$f":"Baseline_Data_2012!AJ76/Baseline_Data_2012!AJ$271","v":3.0405886224556342E-4},{"$f":"Baseline_Data_2012!AK76/Baseline_Data_2012!AK$271","v":1.2220828686688071E-2},{"$f":"Baseline_Data_2012!AL76/Baseline_Data_2012!AL$271","v":8.9643836055613175E-3},{"$f":"Baseline_Data_2012!AM76/Baseline_Data_2012!AM$271","v":0},{"$f":"Baseline_Data_2012!AN76/Baseline_Data_2012!AN$271","v":1.4869495439585119E-3},{"$f":"Baseline_Data_2012!AO76/Baseline_Data_2012!AO$271","v":8.0099587458823257E-3},{"$f":"Baseline_Data_2012!AP76/Baseline_Data_2012!AP$271","v":1.1431006933944783E-3},{"$f":"Baseline_Data_2012!AQ76/Baseline_Data_2012!AQ$271","v":0},{"$f":"Baseline_Data_2012!AR76/Baseline_Data_2012!AR$271","v":5.5593594939286452E-3},{"$f":"Baseline_Data_2012!AS76/Baseline_Data_2012!AS$271","v":5.6428622928407961E-3},{"$f":"Baseline_Data_2012!AT76/Baseline_Data_2012!AT$271","v":2.716010488253295E-3},{"$f":"Baseline_Data_2012!AU76/Baseline_Data_2012!AU$271","v":1.034685908650798E-2},{"$f":"Baseline_Data_2012!AV76/Baseline_Data_2012!AV$271","v":3.4175309439282557E-3},76]
[1,"Male 60-64",{"$f":"'III Tool Overview'!$H$8/100","v":1000},{"$f":"'III Tool Overview'!$H$8/20","v":5000},{"$f":"'III Tool Overview'!$H$8/40","v":2500},{"$f":"G77*'III Tool Overview'!$H$8","v":489.24716494237219},{"$f":"HLOOKUP('III Tool Overview'!$H$6,Targeting!$I$1:$BC$277,Targeting!BD77,FALSE)","v":4.8924716494237221E-3},{"$f":"Baseline_Data_2012!B77","v":7124.8050519637891},{"$f":"Baseline_Data_2012!B77/Baseline_Data_2012!B$271","v":4.8924716494237221E-3},{"$f":"Baseline_Data_2012!C77/Baseline_Data_2012!C$271","v":8.6575720639082265E-3},{"$f":"Baseline_Data_2012!D77/Baseline_Data_2012!D$271","v":1.4721751354322824E-3},{"$f":"Baseline_Data_2012!E77/Baseline_Data_2012!E$271","v":2.2530561319225855E-3},{"$f":"Baseline_Data_2012!F77/Baseline_Data_2012!F$271","v":5.2321569710589277E-3},{"$f":"Baseline_Data_2012!G77/Baseline_Data_2012!G$271","v":3.9909880987462759E-3},{"$f":"Baseline_Data_2012!H77/Baseline_Data_2012!H$271","v":1.3810018505234429E-3},{"$f":"Baseline_Data_2012!I77/Baseline_Data_2012!I$271","v":8.8653653870571399E-3},{"$f":"Baseline_Data_2012!J77/Baseline_Data_2012!J$271","v":2.1083737199882268E-3},{"$f":"Baseline_Data_2012!K77/Baseline_Data_2012!K$271","v":6.4719175949973203E-3},{"$f":"Baseline_Data_2012!L77/Baseline_Data_2012!L$271","v":2.4641506557016666E-3},{"$f":"Baseline_Data_2012!M77/Baseline_Data_2012!M$271","v":0},{"$f":"Baseline_Data_2012!N77/Baseline_Data_2012!N$271","v":0},{"$f":"Baseline_Data_2012!O77/Baseline_Data_2012!O$271","v":4.4655951287147942E-3},{"$f":"Baseline_Data_2012!P77/Baseline_Data_2012!P$271","v":0},{"$f":"Baseline_Data_2012!Q77/Baseline_Data_2012!Q$271","v":3.0231497873765942E-3},{"$f":"Baseline_Data_2012!R77/Baseline_Data_2012!R$271","v":3.8710148109986583E-4},{"$f":"Baseline_Data_2012!S77/Baseline_Data_2012!S$271","v":1.7540069619954789E-3},{"$f":"Baseline_Data_2012!T77/Baseline_Data_2012!T$271","v":2.1995860191201672E-3},{"$f":"Baseline_Data_2012!U77/Baseline_Data_2012!U$271","v":7.339692460390913E-3},{"$f":"Baseline_Data_2012!V77/Baseline_Data_2012!V$271","v":2.2530561319225855E-3},{"$f":"Baseline_Data_2012!W77/Baseline_Data_2012!W$271","v":9.994327552637336E-3},{"$f":"Baseline_Data_2012!X77/Baseline_Data_2012!X$271","v":9.3240293488681385E-3},{"$f":"Baseline_Data_2012!Y77/Baseline_Data_2012!Y$271","v":7.9942205045194789E-4},{"$f":"Baseline_Data_2012!Z77/Baseline_Data_2012!Z$271","v":9.1440578073335814E-4},{"$f":"Baseline_Data_2012!AA77/Baseline_Data_2012!AA$271","v":1.6140400992641667E-3},{"$f":"Baseline_Data_2012!AB77/Baseline_Data_2012!AB$271","v":2.5178514220313727E-3},{"$f":"Baseline_Data_2012!AC77/Baseline_Data_2012!AC$271","v":0},{"$f":"Baseline_Data_2012!AD77/Baseline_Data_2012!AD$271","v":3.670597765134499E-3},{"$f":"Baseline_Data_2012!AE77/Baseline_Data_2012!AE$271","v":5.2321569710589277E-3},{"$f":"Baseline_Data_2012!AF77/Baseline_Data_2012!AF$271","v":1.1742993159530998E-2},{"$f":"Baseline_Data_2012!AG77/Baseline_Data_2012!AG$271","v":2.0699277062570993E-3},{"$f":"Baseline_Data_2012!AH77/Baseline_Data_2012!AH$271","v":1.4040531681666493E-2},{"$f":"Baseline_Data_2012!AI77/Baseline_Data_2012!AI$271","v":1.5628411864948306E-3},{"$f":"Baseline_Data_2012!AJ77/Baseline_Data_2012!AJ$271","v":4.0857909614247588E-4},{"$f":"Baseline_Data_2012!AK77/Baseline_Data_2012!AK$271","v":1.1544334215893692E-2},{"$f":"Baseline_Data_2012!AL77/Baseline_Data_2012!AL$271","v":8.4769511055726235E-3},{"$f":"Baseline_Data_2012!AM77/Baseline_Data_2012!AM$271","v":0},{"$f":"Baseline_Data_2012!AN77/Baseline_Data_2012!AN$271","v":1.4454532776154835E-3},{"$f":"Baseline_Data_2012!AO77/Baseline_Data_2012!AO$271","v":7.1635771938671957E-3},{"$f":"Baseline_Data_2012!AP77/Baseline_Data_2012!AP$271","v":1.4721751354322824E-3},{"$f":"Baseline_Data_2012!AQ77/Baseline_Data_2012!AQ$271","v":0},{"$f":"Baseline_Data_2012!AR77/Baseline_Data_2012!AR$271","v":4.7746199735271529E-3},{"$f":"Baseline_Data_2012!AS77/Baseline_Data_2012!AS$271","v":4.8998854242834258E-3},{"$f":"Baseline_Data_2012!AT77/Baseline_Data_2012!AT$271","v":2.7051464463002822E-3},{"$f":"Baseline_Data_2012!AU77/Baseline_Data_2012!AU$271","v":8.9152914063724553E-3},{"$f":"Baseline_Data_2012!AV77/Baseline_Data_2012!AV$271","v":3.5651682807059559E-3},77]
[1,"Male 65-69",null,null,null,{"$f":"G78*'III Tool Overview'!$H$8","v":0},{"$f":"HLOOKUP('III Tool Overview'!$H$6,Targeting!$I$1:$BC$277,Targeting!BD78,FALSE)","v":0},{"$f":"Baseline_Data_2012!B78","v":0},{"$f":"Baseline_Data_2012!B78/Baseline_Data_2012!B$271","v":0},{"$f":"Baseline_Data_2012!C78/Baseline_Data_2012!C$271","v":0},{"$f":"Baseline_Data_2012!D78/Baseline_Data_2012!D$271","v":0},{"$f":"Baseline_Data_2012!E78/Baseline_Data_2012!E$271","v":0},{"$f":"Baseline_Data_2012!F78/Baseline_Data_2012!F$271","v":0},{"$f":"Baseline_Data_2012!G78/Baseline_Data_2012!G$271","v":0},{"$f":"Baseline_Data_2012!H78/Baseline_Data_2012!H$271","v":0},{"$f":"Baseline_Data_2012!I78/Baseline_Data_2012!I$271","v":0},{"$f":"Baseline_Data_2012!J78/Baseline_Data_2012!J$271","v":0},{"$f":"Baseline_Data_2012!K78/Baseline_Data_2012!K$271","v":0},{"$f":"Baseline_Data_2012!L78/Baseline_Data_2012!L$271","v":0},{"$f":"Baseline_Data_2012!M78/Baseline_Data_2012!M$271","v":0},{"$f":"Baseline_Data_2012!N78/Baseline_Data_2012!N$271","v":0},{"$f":"Baseline_Data_2012!O78/Baseline_Data_2012!O$271","v":0},{"$f":"Baseline_Data_2012!P78/Baseline_Data_2012!P$271","v":0},{"$f":"Baseline_Data_2012!Q78/Baseline_Data_2012!Q$271","v":0},{"$f":"Baseline_Data_2012!R78/Baseline_Data_2012!R$271","v":0},{"$f":"Baseline_Data_2012!S78/Baseline_Data_2012!S$271","v":0},{"$f":"Baseline_Data_2012!T78/Baseline_Data_2012!T$271","v":0},{"$f":"Baseline_Data_2012!U78/Baseline_Data_2012!U$271","v":0},{"$f":"Baseline_Data_2012!V78/Baseline_Data_2012!V$271","v":0},{"$f":"Baseline_Data_2012!W78/Baseline_Data_2012!W$271","v":0},{"$f":"Baseline_Data_2012!X78/Baseline_Data_2012!X$271","v":0},{"$f":"Baseline_Data_2012!Y78/Baseline_Data_2012!Y$271","v":0},{"$f":"Baseline_Data_2012!Z78/Baseline_Data_2012!Z$271","v":0},{"$f":"Baseline_Data_2012!AA78/Baseline_Data_2012!AA$271","v":0},{"$f":"Baseline_Data_2012!AB78/Baseline_Data_2012!AB$271","v":0},{"$f":"Baseline_Data_2012!AC78/Baseline_Data_2012!AC$271","v":0},{"$f":"Baseline_Data_2012!AD78/Baseline_Data_2012!AD$271","v":0},{"$f":"Baseline_Data_2012!AE78/Baseline_Data_2012!AE$271","v":0},{"$f":"Baseline_Data_2012!AF78/Baseline_Data_2012!AF$271","v":0},{"$f":"Baseline_Data_2012!AG78/Baseline_Data_2012!AG$271","v":0},{"$f":"Baseline_Data_2012!AH78/Baseline_Data_2012!AH$271","v":0},{"$f":"Baseline_Data_2012!AI78/Baseline_Data_2012!AI$271","v":0},{"$f":"Baseline_Data_2012!AJ78/Baseline_Data_2012!AJ$271","v":0},{"$f":"Baseline_Data_2012!AK78/Baseline_Data_2012!AK$271","v":0},{"$f":"Baseline_Data_2012!AL78/Baseline_Data_2012!AL$271","v":0},{"$f":"Baseline_Data_2012!AM78/Baseline_Data_2012!AM$271","v":0},{"$f":"Baseline_Data_2012!AN78/Baseline_Data_2012!AN$271","v":0},{"$f":"Baseline_Data_2012!AO78/Baseline_Data_2012!AO$271","v":0},{"$f":"Baseline_Data_2012!AP78/Baseline_Data_2012!AP$271","v":0},{"$f":"Baseline_Data_2012!AQ78/Baseline_Data_2012!AQ$271","v":0},{"$f":"Baseline_Data_2012!AR78/Baseline_Data_2012!AR$271","v":0},{"$f":"Baseline_Data_2012!AS78/Baseline_Data_2012!AS$271","v":0},{"$f":"Baseline_Data_2012!AT78/Baseline_Data_2012!AT$271","v":0},{"$f":"Baseline_Data_2012!AU78/Baseline_Data_2012!AU$271","v":0},{"$f":"Baseline_Data_2012!AV78/Baseline_Data_2012!AV$271","v":0},78]
[1,"Male 70-74",null,null,null,{"$f":"G79*'III Tool Overview'!$H$8","v":0},{"$f":"HLOOKUP('III Tool Overview'!$H$6,Targeting!$I$1:$BC$277,Targeting!BD79,FALSE)","v":0},{"$f":"Baseline_Data_2012!B79","v":0},{"$f":"Baseline_Data_2012!B79/Baseline_Data_2012!B$271","v":0},{"$f":"Baseline_Data_2012!C79/Baseline_Data_2012!C$271","v":0},{"$f":"Baseline_Data_2012!D79/Baseline_Data_2012!D$271","v":0},{"$f":"Baseline_Data_2012!E79/Baseline_Data_2012!E$271","v":0},{"$f":"Baseline_Data_2012!F79/Baseline_Data_2012!F$271","v":0},{"$f":"Baseline_Data_2012!G79/Baseline_Data_2012!G$271","v":0},{"$f":"Baseline_Data_2012!H79/Baseline_Data_2012!H$271","v":0},{"$f":"Baseline_Data_2012!I79/Baseline_Data_2012!I$271","v":0},{"$f":"Baseline_Data_2012!J79/Baseline_Data_2012!J$271","v":0},{"$f":"Baseline_Data_2012!K79/Baseline_Data_2012!K$271","v":0},{"$f":"Baseline_Data_2012!L79/Baseline_Data_2012!L$271","v":0},{"$f":"Baseline_Data_2012!M79/Baseline_Data_2012!M$271","v":0},{"$f":"Baseline_Data_2012!N79/Baseline_Data_2012!N$271","v":0},{"$f":"Baseline_Data_2012!O79/Baseline_Data_2012!O$271","v":0},{"$f":"Baseline_Data_2012!P79/Baseline_Data_2012!P$271","v":0},{"$f":"Baseline_Data_2012!Q79/Baseline_Data_2012!Q$271","v":0},{"$f":"Baseline_Data_2012!R79/Baseline_Data_2012!R$271","v":0},{"$f":"Baseline_Data_2012!S79/Baseline_Data_2012!S$271","v":0},{"$f":"Baseline_Data_2012!T79/Baseline_Data_2012!T$271","v":0},{"$f":"Baseline_Data_2012!U79/Baseline_Data_2012!U$271","v":0},{"$f":"Baseline_Data_2012!V79/Baseline_Data_2012!V$271","v":0},{"$f":"Baseline_Data_2012!W79/Baseline_Data_2012!W$271","v":0},{"$f":"Baseline_Data_2012!X79/Baseline_Data_2012!X$271","v":0},{"$f":"Baseline_Data_2012!Y79/Baseline_Data_2012!Y$271","v":0},{"$f":"Baseline_Data_2012!Z79/Baseline_Data_2012!Z$271","v":0},{"$f":"Baseline_Data_2012!AA79/Baseline_Data_2012!AA$271","v":0},{"$f":"Baseline_Data_2012!AB79/Baseline_Data_2012!AB$271","v":0},{"$f":"Baseline_Data_2012!AC79/Baseline_Data_2012!AC$271","v":0},{"$f":"Baseline_Data_2012!AD79/Baseline_Data_2012!AD$271","v":0},{"$f":"Baseline_Data_2012!AE79/Baseline_Data_2012!AE$271","v":0},{"$f":"Baseline_Data_2012!AF79/Baseline_Data_2012!AF$271","v":0},{"$f":"Baseline_Data_2012!AG79/Baseline_Data_2012!AG$271","v":0},{"$f":"Baseline_Data_2012!AH79/Baseline_Data_2012!AH$271","v":0},{"$f":"Baseline_Data_2012!AI79/Baseline_Data_2012!AI$271","v":0},{"$f":"Baseline_Data_2012!AJ79/Baseline_Data_2012!AJ$271","v":0},{"$f":"Baseline_Data_2012!AK79/Baseline_Data_2012!AK$271","v":0},{"$f":"Baseline_Data_2012!AL79/Baseline_Data_2012!AL$271","v":0},{"$f":"Baseline_Data_2012!AM79/Baseline_Data_2012!AM$271","v":0},{"$f":"Baseline_Data_2012!AN79/Baseline_Data_2012!AN$271","v":0},{"$f":"Baseline_Data_2012!AO79/Baseline_Data_2012!AO$271","v":0},{"$f":"Baseline_Data_2012!AP79/Baseline_Data_2012!AP$271","v":0},{"$f":"Baseline_Data_2012!AQ79/Baseline_Data_2012!AQ$271","v":0},{"$f":"Baseline_Data_2012!AR79/Baseline_Data_2012!AR$271","v":0},{"$f":"Baseline_Data_2012!AS79/Baseline_Data_2012!AS$271","v":0},{"$f":"Baseline_Data_2012!AT79/Baseline_Data_2012!AT$271","v":0},{"$f":"Baseline_Data_2012!AU79/Baseline_Data_2012!AU$271","v":0},{"$f":"Baseline_Data_2012!AV79/Baseline_Data_2012!AV$271","v":0},79]
[1,"Male 75-79",null,null,null,{"$f":"G80*'III Tool Overview'!$H$8","v":0},{"$f":"HLOOKUP('III Tool Overview'!$H$6,Targeting!$I$1:$BC$277,Targeting!BD80,FALSE)","v":0},{"$f":"Baseline_Data_2012!B80","v":0},{"$f":"Baseline_Data_2012!B80/Baseline_Data_2012!B$271","v":0},{"$f":"Baseline_Data_2012!C80/Baseline_Data_2012!C$271","v":0},{"$f":"Baseline_Data_2012!D80/Baseline_Data_2012!D$271","v":0},{"$f":"Baseline_Data_2012!E80/Baseline_Data_2012!E$271","v":0},{"$f":"Baseline_Data_2012!F80/Baseline_Data_2012!F$271","v":0},{"$f":"Baseline_Data_2012!G80/Baseline_Data_2012!G$271","v":0},{"$f":"Baseline_Data_2012!H80/Baseline_Data_2012!H$271","v":0},{"$f":"Baseline_Data_2012!I80/Baseline_Data_2012!I$271","v":0},{"$f":"Baseline_Data_2012!J80/Baseline_Data_2012!J$271","v":0},{"$f":"Baseline_Data_2012!K80/Baseline_Data_2012!K$271","v":0},{"$f":"Baseline_Data_2012!L80/Baseline_Data_2012!L$271","v":0},{"$f":"Baseline_Data_2012!M80/Baseline_Data_2012!M$271","v":0},{"$f":"Baseline_Data_2012!N80/Baseline_Data_2012!N$271","v":0},{"$f":"Baseline_Data_2012!O80/Baseline_Data_2012!O$271","v":0},{"$f":"Baseline_Data_2012!P80/Baseline_Data_2012!P$271","v":0},{"$f":"Baseline_Data_2012!Q80/Baseline_Data_2012!Q$271","v":0},{"$f":"Baseline_Data_2012!R80/Baseline_Data_2012!R$271","v":0},{"$f":"Baseline_Data_2012!S80/Baseline_Data_2012!S$271","v":0},{"$f":"Baseline_Data_2012!T80/Baseline_Data_2012!T$271","v":0},{"$f":"Baseline_Data_2012!U80/Baseline_Data_2012!U$271","v":0},{"$f":"Baseline_Data_2012!V80/Baseline_Data_2012!V$271","v":0},{"$f":"Baseline_Data_2012!W80/Baseline_Data_2012!W$271","v":0},{"$f":"Baseline_Data_2012!X80/Baseline_Data_2012!X$271","v":0},{"$f":"Baseline_Data_2012!Y80/Baseline_Data_2012!Y$271","v":0},{"$f":"Baseline_Data_2012!Z80/Baseline_Data_2012!Z$271","v":0},{"$f":"Baseline_Data_2012!AA80/Baseline_Data_2012!AA$271","v":0},{"$f":"Baseline_Data_2012!AB80/Baseline_Data_2012!AB$271","v":0},{"$f":"Baseline_Data_2012!AC80/Baseline_Data_2012!AC$271","v":0},{"$f":"Baseline_Data_2012!AD80/Baseline_Data_2012!AD$271","v":0},{"$f":"Baseline_Data_2012!AE80/Baseline_Data_2012!AE$271","v":0},{"$f":"Baseline_Data_2012!AF80/Baseline_Data_2012!AF$271","v":0},{"$f":"Baseline_Data_2012!AG80/Baseline_Data_2012!AG$271","v":0},{"$f":"Baseline_Data_2012!AH80/Baseline_Data_2012!AH$271","v":0},{"$f":"Baseline_Data_2012!AI80/Baseline_Data_2012!AI$271","v":0},{"$f":"Baseline_Data_2012!AJ80/Baseline_Data_2012!AJ$271","v":0},{"$f":"Baseline_Data_2012!AK80/Baseline_Data_2012!AK$271","v":0},{"$f":"Baseline_Data_2012!AL80/Baseline_Data_2012!AL$271","v":0},{"$f":"Baseline_Data_2012!AM80/Baseline_Data_2012!AM$271","v":0},{"$f":"Baseline_Data_2012!AN80/Baseline_Data_2012!AN$271","v":0},{"$f":"Baseline_Data_2012!AO80/Baseline_Data_2012!AO$271","v":0},{"$f":"Baseline_Data_2012!AP80/Baseline_Data_2012!AP$271","v":0},{"$f":"Baseline_Data_2012!AQ80/Baseline_Data_2012!AQ$271","v":0},{"$f":"Baseline_Data_2012!AR80/Baseline_Data_2012!AR$271","v":0},{"$f":"Baseline_Data_2012!AS80/Baseline_Data_2012!AS$271","v":0},{"$f":"Baseline_Data_2012!AT80/Baseline_Data_2012!AT$271","v":0},{"$f":"Baseline_Data_2012!AU80/Baseline_Data_2012!AU$271","v":0},{"$f":"Baseline_Data_2012!AV80/Baseline_Data_2012!AV$271","v":0},80]
[1,"Male 80-84",null,null,null,{"$f":"G81*'III Tool Overview'!$H$8","v":0},{"$f":"HLOOKUP('III Tool Overview'!$H$6,Targeting!$I$1:$BC$277,Targeting!BD81,FALSE)","v":0},{"$f":"Baseline_Data_2012!B81","v":0},{"$f":"Baseline_Data_2012!B81/Baseline_Data_2012!B$271","v":0},{"$f":"Baseline_Data_2012!C81/Baseline_Data_2012!C$271","v":0},{"$f":"Baseline_Data_2012!D81/Baseline_Data_2012!D$271","v":0},{"$f":"Baseline_Data_2012!E81/Baseline_Data_2012!E$271","v":0},{"$f":"Baseline_Data_2012!F81/Baseline_Data_2012!F$271","v":0},{"$f":"Baseline_Data_2012!G81/Baseline_Data_2012!G$271","v":0},{"$f":"Baseline_Data_2012!H81/Baseline_Data_2012!H$271","v":0},{"$f":"Baseline_Data_2012!I81/Baseline_Data_2012!I$271","v":0},{"$f":"Baseline_Data_2012!J81/Baseline_Data_2012!J$271","v":0},{"$f":"Baseline_Data_2012!K81/Baseline_Data_2012!K$271","v":0},{"$f":"Baseline_Data_2012!L81/Baseline_Data_2012!L$271","v":0},{"$f":"Baseline_Data_2012!M81/Baseline_Data_2012!M$271","v":0},{"$f":"Baseline_Data_2012!N81/Baseline_Data_2012!N$271","v":0},{"$f":"Baseline_Data_2012!O81/Baseline_Data_2012!O$271","v":0},{"$f":"Baseline_Data_2012!P81/Baseline_Data_2012!P$271","v":0},{"$f":"Baseline_Data_2012!Q81/Baseline_Data_2012!Q$271","v":0},{"$f":"Baseline_Data_2012!R81/Baseline_Data_2012!R$271","v":0},{"$f":"Baseline_Data_2012!S81/Baseline_Data_2012!S$271","v":0},{"$f":"Baseline_Data_2012!T81/Baseline_Data_2012!T$271","v":0},{"$f":"Baseline_Data_2012!U81/Baseline_Data_2012!U$271","v":0},{"$f":"Baseline_Data_2012!V81/Baseline_Data_2012!V$271","v":0},{"$f":"Baseline_Data_2012!W81/Baseline_Data_2012!W$271","v":0},{"$f":"Baseline_Data_2012!X81/Baseline_Data_2012!X$271","v":0},{"$f":"Baseline_Data_2012!Y81/Baseline_Data_2012!Y$271","v":0},{"$f":"Baseline_Data_2012!Z81/Baseline_Data_2012!Z$271","v":0},{"$f":"Baseline_Data_2012!AA81/Baseline_Data_2012!AA$271","v":0},{"$f":"Baseline_Data_2012!AB81/Baseline_Data_2012!AB$271","v":0},{"$f":"Baseline_Data_2012!AC81/Baseline_Data_2012!AC$271","v":0},{"$f":"Baseline_Data_2012!AD81/Baseline_Data_2012!AD$271","v":0},{"$f":"Baseline_Data_2012!AE81/Baseline_Data_2012!AE$271","v":0},{"$f":"Baseline_Data_2012!AF81/Baseline_Data_2012!AF$271","v":0},{"$f":"Baseline_Data_2012!AG81/Baseline_Data_2012!AG$271","v":0},{"$f":"Baseline_Data_2012!AH81/Baseline_Data_2012!AH$271","v":0},{"$f":"Baseline_Data_2012!AI81/Baseline_Data_2012!AI$271","v":0},{"$f":"Baseline_Data_2012!AJ81/Baseline_Data_2012!AJ$271","v":0},{"$f":"Baseline_Data_2012!AK81/Baseline_Data_2012!AK$271","v":0},{"$f":"Baseline_Data_2012!AL81/Baseline_Data_2012!AL$271","v":0},{"$f":"Baseline_Data_2012!AM81/Baseline_Data_2012!AM$271","v":0},{"$f":"Baseline_Data_2012!AN81/Baseline_Data_2012!AN$271","v":0},{"$f":"Baseline_Data_2012!AO81/Baseline_Data_2012!AO$271","v":0},{"$f":"Baseline_Data_2012!AP81/Baseline_Data_2012!AP$271","v":0},{"$f":"Baseline_Data_2012!AQ81/Baseline_Data_2012!AQ$271","v":0},{"$f":"Baseline_Data_2012!AR81/Baseline_Data_2012!AR$271","v":0},{"$f":"Baseline_Data_2012!AS81/Baseline_Data_2012!AS$271","v":0},{"$f":"Baseline_Data_2012!AT81/Baseline_Data_2012!AT$271","v":0},{"$f":"Baseline_Data_2012!AU81/Baseline_Data_2012!AU$271","v":0},{"$f":"Baseline_Data_2012!AV81/Baseline_Data_2012!AV$271","v":0},81]
[1,"Male 85-89",null,null,null,{"$f":"G82*'III Tool Overview'!$H$8","v":0},{"$f":"HLOOKUP('III Tool Overview'!$H$6,Targeting!$I$1:$BC$277,Targeting!BD82,FALSE)","v":0},{"$f":"Baseline_Data_2012!B82","v":0},{"$f":"Baseline_Data_2012!B82/Baseline_Data_2012!B$271","v":0},{"$f":"Baseline_Data_2012!C82/Baseline_Data_2012!C$271","v":0},{"$f":"Baseline_Data_2012!D82/Baseline_Data_2012!D$271","v":0},{"$f":"Baseline_Data_2012!E82/Baseline_Data_2012!E$271","v":0},{"$f":"Baseline_Data_2012!F82/Baseline_Data_2012!F$271","v":0},{"$f":"Baseline_Data_2012!G82/Baseline_Data_2012!G$271","v":0},{"$f":"Baseline_Data_2012!H82/Baseline_Data_2012!H$271","v":0},{"$f":"Baseline_Data_2012!I82/Baseline_Data_2012!I$271","v":0},{"$f":"Baseline_Data_2012!J82/Baseline_Data_2012!J$271","v":0},{"$f":"Baseline_Data_2012!K82/Baseline_Data_2012!K$271","v":0},{"$f":"Baseline_Data_2012!L82/Baseline_Data_2012!L$271","v":0},{"$f":"Baseline_Data_2012!M82/Baseline_Data_2012!M$271","v":0},{"$f":"Baseline_Data_2012!N82/Baseline_Data_2012!N$271","v":0},{"$f":"Baseline_Data_2012!O82/Baseline_Data_2012!O$271","v":0},{"$f":"Baseline_Data_2012!P82/Baseline_Data_2012!P$271","v":0},{"$f":"Baseline_Data_2012!Q82/Baseline_Data_2012!Q$271","v":0},{"$f":"Baseline_Data_2012!R82/Baseline_Data_2012!R$271","v":0},{"$f":"Baseline_Data_2012!S82/Baseline_Data_2012!S$271","v":0},{"$f":"Baseline_Data_2012!T82/Baseline_Data_2012!T$271","v":0},{"$f":"Baseline_Data_2012!U82/Baseline_Data_2012!U$271","v":0},{"$f":"Baseline_Data_2012!V82/Baseline_Data_2012!V$271","v":0},{"$f":"Baseline_Data_2012!W82/Baseline_Data_2012!W$271","v":0},{"$f":"Baseline_Data_2012!X82/Baseline_Data_2012!X$271","v":0},{"$f":"Baseline_Data_2012!Y82/Baseline_Data_2012!Y$271","v":0},{"$f":"Baseline_Data_2012!Z82/Baseline_Data_2012!Z$271","v":0},{"$f":"Baseline_Data_2012!AA82/Baseline_Data_2012!AA$271","v":0},{"$f":"Baseline_Data_2012!AB82/Baseline_Data_2012!AB$271","v":0},{"$f":"Baseline_Data_2012!AC82/Baseline_Data_2012!AC$271","v":0},{"$f":"Baseline_Data_2012!AD82/Baseline_Data_2012!AD$271","v":0},{"$f":"Baseline_Data_2012!AE82/Baseline_Data_2012!AE$271","v":0},{"$f":"Baseline_Data_2012!AF82/Baseline_Data_2012!AF$271","v":0},{"$f":"Baseline_Data_2012!AG82/Baseline_Data_2012!AG$271","v":0},{"$f":"Baseline_Data_2012!AH82/Baseline_Data_2012!AH$271","v":0},{"$f":"Baseline_Data_2012!AI82/Baseline_Data_2012!AI$271","v":0},{"$f":"Baseline_Data_2012!AJ82/Baseline_Data_2012!AJ$271","v":0},{"$f":"Baseline_Data_2012!AK82/Baseline_Data_2012!AK$271","v":0},{"$f":"Baseline_Data_2012!AL82/Baseline_Data_2012!AL$271","v":0},{"$f":"Baseline_Data_2012!AM82/Baseline_Data_2012!AM$271","v":0},{"$f":"Baseline_Data_2012!AN82/Baseline_Data_2012!AN$271","v":0},{"$f":"Baseline_Data_2012!AO82/Baseline_Data_2012!AO$271","v":0},{"$f":"Baseline_Data_2012!AP82/Baseline_Data_2012!AP$271","v":0},{"$f":"Baseline_Data_2012!AQ82/Baseline_Data_2012!AQ$271","v":0},{"$f":"Baseline_Data_2012!AR82/Baseline_Data_2012!AR$271","v":0},{"$f":"Baseline_Data_2012!AS82/Baseline_Data_2012!AS$271","v":0},{"$f":"Baseline_Data_2012!AT82/Baseline_Data_2012!AT$271","v":0},{"$f":"Baseline_Data_2012!AU82/Baseline_Data_2012!AU$271","v":0},{"$f":"Baseline_Data_2012!AV82/Baseline_Data_2012!AV$271","v":0},82]
[1,"Male 90+",null,null,null,{"$f":"G83*'III Tool Overview'!$H$8","v":0},{"$f":"HLOOKUP('III Tool Overview'!$H$6,Targeting!$I$1:$BC$277,Targeting!BD83,FALSE)","v":0},{"$f":"Baseline_Data_2012!B83","v":0},{"$f":"Baseline_Data_2012!B83/Baseline_Data_2012!B$271","v":0},{"$f":"Baseline_Data_2012!C83/Baseline_Data_2012!C$271","v":0},{"$f":"Baseline_Data_2012!D83/Baseline_Data_2012!D$271","v":0},{"$f":"Baseline_Data_2012!E83/Baseline_Data_2012!E$271","v":0},{"$f":"Baseline_Data_2012!F83/Baseline_Data_2012!F$271","v":0},{"$f":"Baseline_Data_2012!G83/Baseline_Data_2012!G$271","v":0},{"$f":"Baseline_Data_2012!H83/Baseline_Data_2012!H$271","v":0},{"$f":"Baseline_Data_2012!I83/Baseline_Data_2012!I$271","v":0},{"$f":"Baseline_Data_2012!J83/Baseline_Data_2012!J$271","v":0},{"$f":"Baseline_Data_2012!K83/Baseline_Data_2012!K$271","v":0},{"$f":"Baseline_Data_2012!L83/Baseline_Data_2012!L$271","v":0},{"$f":"Baseline_Data_2012!M83/Baseline_Data_2012!M$271","v":0},{"$f":"Baseline_Data_2012!N83/Baseline_Data_2012!N$271","v":0},{"$f":"Baseline_Data_2012!O83/Baseline_Data_2012!O$271","v":0},{"$f":"Baseline_Data_2012!P83/Baseline_Data_2012!P$271","v":0},{"$f":"Baseline_Data_2012!Q83/Baseline_Data_2012!Q$271","v":0},{"$f":"Baseline_Data_2012!R83/Baseline_Data_2012!R$271","v":0},{"$f":"Baseline_Data_2012!S83/Baseline_Data_2012!S$271","v":0},{"$f":"Baseline_Data_2012!T83/Baseline_Data_2012!T$271","v":0},{"$f":"Baseline_Data_2012!U83/Baseline_Data_2012!U$271","v":0},{"$f":"Baseline_Data_2012!V83/Baseline_Data_2012!V$271","v":0},{"$f":"Baseline_Data_2012!W83/Baseline_Data_2012!W$271","v":0},{"$f":"Baseline_Data_2012!X83/Baseline_Data_2012!X$271","v":0},{"$f":"Baseline_Data_2012!Y83/Baseline_Data_2012!Y$271","v":0},{"$f":"Baseline_Data_2012!Z83/Baseline_Data_2012!Z$271","v":0},{"$f":"Baseline_Data_2012!AA83/Baseline_Data_2012!AA$271","v":0},{"$f":"Baseline_Data_2012!AB83/Baseline_Data_2012!AB$271","v":0},{"$f":"Baseline_Data_2012!AC83/Baseline_Data_2012!AC$271","v":0},{"$f":"Baseline_Data_2012!AD83/Baseline_Data_2012!AD$271","v":0},{"$f":"Baseline_Data_2012!AE83/Baseline_Data_2012!AE$271","v":0},{"$f":"Baseline_Data_2012!AF83/Baseline_Data_2012!AF$271","v":0},{"$f":"Baseline_Data_2012!AG83/Baseline_Data_2012!AG$271","v":0},{"$f":"Baseline_Data_2012!AH83/Baseline_Data_2012!AH$271","v":0},{"$f":"Baseline_Data_2012!AI83/Baseline_Data_2012!AI$271","v":0},{"$f":"Baseline_Data_2012!AJ83/Baseline_Data_2012!AJ$271","v":0},{"$f":"Baseline_Data_2012!AK83/Baseline_Data_2012!AK$271","v":0},{"$f":"Baseline_Data_2012!AL83/Baseline_Data_2012!AL$271","v":0},{"$f":"Baseline_Data_2012!AM83/Baseline_Data_2012!AM$271","v":0},{"$f":"Baseline_Data_2012!AN83/Baseline_Data_2012!AN$271","v":0},{"$f":"Baseline_Data_2012!AO83/Baseline_Data_2012!AO$271","v":0},{"$f":"Baseline_Data_2012!AP83/Baseline_Data_2012!AP$271","v":0},{"$f":"Baseline_Data_2012!AQ83/Baseline_Data_2012!AQ$271","v":0},{"$f":"Baseline_Data_2012!AR83/Baseline_Data_2012!AR$271","v":0},{"$f":"Baseline_Data_2012!AS83/Baseline_Data_2012!AS$271","v":0},{"$f":"Baseline_Data_2012!AT83/Baseline_Data_2012!AT$271","v":0},{"$f":"Baseline_Data_2012!AU83/Baseline_Data_2012!AU$271","v":0},{"$f":"Baseline_Data_2012!AV83/Baseline_Data_2012!AV$271","v":0},83]
[null,"TOTAL",null,null,null,null,{"$f":"HLOOKUP('III Tool Overview'!$H$6,Targeting!$I$1:$BC$277,Targeting!BD84,FALSE)","v":0},null,null,null,null,null,null,null,null,null,null,null,null,null,null,null,null,null,null,null,null,null,null,null,null,null,null,null,null,null,null,null,null,null,null,null,null,null,null,null,null,null,null,null,null,null,null,null,null,84]
[1,"Female <1",null,null,null,null,{"$f":"HLOOKUP('III Tool Overview'!$H$6,Targeting!$I$1:$BC$277,Targeting!BD85,FALSE)","v":0},null,null,null,null,null,null,null,null,null,null,null,null,null,null,null,null,null,null,null,null,null,null,null,null,null,null,null,null,null,null,null,null,null,null,null,null,null,null,null,null,null,null,null,null,null,null,null,null,85]
[1,"Female 1-4",null,null,null,null,{"$f":"HLOOKUP('III Tool Overview'!$H$6,Targeting!$I$1:$BC$277,Targeting!BD86,FALSE)","v":0},null,null,null,null,null,null,null,null,null,null,null,null,null,null,null,null,null,null,null,null,null,null,null,null,null,null,null,null,null,null,null,null,null,null,null,null,null,null,null,null,null,null,null,null,null,null,null,null,86]
[1,"Female 5-9",null,null,null,null,{"$f":"HLOOKUP('III Tool Overview'!$H$6,Targeting!$I$1:$BC$277,Targeting!BD87,FALSE)","v":0},null,null,null,null,null,null,null,null,null,null,null,null,null,null,null,null,null,null,null,null,null,null,null,null,null,null,null,null,null,null,null,null,null,null,null,null,null,null,null,null,null,null,null,null,null,null,null,null,87]
[1,"Female 10-14",null,null,null,null,{"$f":"HLOOKUP('III Tool Overview'!$H$6,Targeting!$I$1:$BC$277,Targeting!BD88,FALSE)","v":0},null,null,null,null,null,null,null,null,null,null,null,null,null,null,null,null,null,null,null,null,null,null,null,null,null,null,null,null,null,null,null,null,null,null,null,null,null,null,null,null,null,null,null,null,null,null,null,null,88]
[1,"Female 15-19",{"$f":"'III Tool Overview'!$H$8/100","v":1000},{"$f":"'III Tool Overview'!$H$8/20","v":5000},{"$f":"'III Tool Overview'!$H$8/40","v":2500},{"$f":"G89*'III Tool Overview'!$H$8","v":309.86478102986888},{"$f":"HLOOKUP('III Tool Overview'!$H$6,Targeting!$I$1:$BC$277,Targeting!BD89,FALSE)","v":3.0986478102986888E-3},{"$f":"Baseline_Data_2012!B88","v":4512.4965774044049},{"$f":"Baseline_Data_2012!B88/Baseline_Data_2012!B$271","v":3.0986478102986888E-3},{"$f":"Baseline_Data_2012!C88/Baseline_Data_2012!C$271","v":5.007844243344114E-3},{"$f":"Baseline_Data_2012!D88/Baseline_Data_2012!D$271","v":8.789046917316172E-4},{"$f":"Baseline_Data_2012!E88/Baseline_Data_2012!E$271","v":1.4457818135552986E-3},{"$f":"Baseline_Data_2012!F88/Baseline_Data_2012!F$271","v":2.946711304787708E-3},{"$f":"Baseline_Data_2012!G88/Baseline_Data_2012!G$271","v":2.3483800099396773E-3},{"$f":"Baseline_Data_2012!H88/Baseline_Data_2012!H$271","v":8.3292900246259322E-4},{"$f":"Baseline_Data_2012!I88/Baseline_Data_2012!I$271","v":5.7622404387572372E-3},{"$f":"Baseline_Data_2012!J88/Baseline_Data_2012!J$271","v":1.3766743254380826E-3},{"$f":"Baseline_Data_2012!K88/Baseline_Data_2012!K$271","v":4.1030713306997703E-3},{"$f":"Baseline_Data_2012!L88/Baseline_Data_2012!L$271","v":1.6829482597778126E-3},{"$f":"Baseline_Data_2012!M88/Baseline_Data_2012!M$271","v":0},{"$f":"Baseline_Data_2012!N88/Baseline_Data_2012!N$271","v":0},{"$f":"Baseline_Data_2012!O88/Baseline_Data_2012!O$271","v":2.8696471935581E-3},{"$f":"Baseline_Data_2012!P88/Baseline_Data_2012!P$271","v":0},{"$f":"Baseline_Data_2012!Q88/Baseline_Data_2012!Q$271","v":1.6574840428446509E-3},{"$f":"Baseline_Data_2012!R88/Baseline_Data_2012!R$271","v":2.4120770286601643E-4},{"$f":"Baseline_Data_2012!S88/Baseline_Data_2012!S$271","v":1.3563452761768909E-3},{"$f":"Baseline_Data_2012!T88/Baseline_Data_2012!T$271","v":1.5864193347704955E-3},{"$f":"Baseline_Data_2012!U88/Baseline_Data_2012!U$271","v":4.8429572012503421E-3},{"$f":"Baseline_Data_2012!V88/Baseline_Data_2012!V$271","v":1.4457818135552984E-3},{"$f":"Baseline_Data_2012!W88/Baseline_Data_2012!W$271","v":6.4833804665181361E-3},{"$f":"Baseline_Data_2012!X88/Baseline_Data_2012!X$271","v":5.2348594987766204E-3},{"$f":"Baseline_Data_2012!Y88/Baseline_Data_2012!Y$271","v":7.0576553115542153E-4},{"$f":"Baseline_Data_2012!Z88/Baseline_Data_2012!Z$271","v":7.506802546043749E-4},{"$f":"Baseline_Data_2012!AA88/Baseline_Data_2012!AA$271","v":1.3795976593046688E-3},{"$f":"Baseline_Data_2012!AB88/Baseline_Data_2012!AB$271","v":1.65645637760635E-3},{"$f":"Baseline_Data_2012!AC88/Baseline_Data_2012!AC$271","v":0},{"$f":"Baseline_Data_2012!AD88/Baseline_Data_2012!AD$271","v":1.9719532795520311E-3},{"$f":"Baseline_Data_2012!AE88/Baseline_Data_2012!AE$271","v":2.946711304787708E-3},{"$f":"Baseline_Data_2012!AF88/Baseline_Data_2012!AF$271","v":7.5920795573621823E-3},{"$f":"Baseline_Data_2012!AG88/Baseline_Data_2012!AG$271","v":1.3066177579877795E-3},{"$f":"Baseline_Data_2012!AH88/Baseline_Data_2012!AH$271","v":7.4303235042330797E-3},{"$f":"Baseline_Data_2012!AI88/Baseline_Data_2012!AI$271","v":1.3180039701589815E-3},{"$f":"Baseline_Data_2012!AJ88/Baseline_Data_2012!AJ$271","v":2.1683510430488311E-4},{"$f":"Baseline_Data_2012!AK88/Baseline_Data_2012!AK$271","v":6.4088323283542914E-3},{"$f":"Baseline_Data_2012!AL88/Baseline_Data_2012!AL$271","v":5.4051681893844475E-3},{"$f":"Baseline_Data_2012!AM88/Baseline_Data_2012!AM$271","v":0},{"$f":"Baseline_Data_2012!AN88/Baseline_Data_2012!AN$271","v":9.0834402983167993E-4},{"$f":"Baseline_Data_2012!AO88/Baseline_Data_2012!AO$271","v":4.06324035714238E-3},{"$f":"Baseline_Data_2012!AP88/Baseline_Data_2012!AP$271","v":8.789046917316172E-4},{"$f":"Baseline_Data_2012!AQ88/Baseline_Data_2012!AQ$271","v":0},{"$f":"Baseline_Data_2012!AR88/Baseline_Data_2012!AR$271","v":2.9897401868507366E-3},{"$f":"Baseline_Data_2012!AS88/Baseline_Data_2012!AS$271","v":2.9037350615440461E-3},{"$f":"Baseline_Data_2012!AT88/Baseline_Data_2012!AT$271","v":1.6684288587452394E-3},{"$f":"Baseline_Data_2012!AU88/Baseline_Data_2012!AU$271","v":6.5922403260768913E-3},{"$f":"Baseline_Data_2012!AV88/Baseline_Data_2012!AV$271","v":2.5277010995890217E-3},89]
[1,"Female 20-24",{"$f":"'III Tool Overview'!$H$8/100","v":1000},{"$f":"'III Tool Overview'!$H$8/20","v":5000},{"$f":"'III Tool Overview'!$H$8/40","v":2500},{"$f":"G90*'III Tool Overview'!$H$8","v":489.01734134242724},{"$f":"HLOOKUP('III Tool Overview'!$H$6,Targeting!$I$1:$BC$277,Targeting!BD90,FALSE)","v":4.8901734134242725E-3},{"$f":"Baseline_Data_2012!B89","v":7121.4581785155979},{"$f":"Baseline_Data_2012!B89/Baseline_Data_2012!B$271","v":4.8901734134242725E-3},{"$f":"Baseline_Data_2012!C89/Baseline_Data_2012!C$271","v":6.6377220192536781E-3},{"$f":"Baseline_Data_2012!D89/Baseline_Data_2012!D$271","v":1.2644886855235524E-3},{"$f":"Baseline_Data_2012!E89/Baseline_Data_2012!E$271","v":2.4902262006052801E-3},{"$f":"Baseline_Data_2012!F89/Baseline_Data_2012!F$271","v":4.1042860921646765E-3},{"$f":"Baseline_Data_2012!G89/Baseline_Data_2012!G$271","v":3.6565521628261106E-3},{"$f":"Baseline_Data_2012!H89/Baseline_Data_2012!H$271","v":1.7430003656038243E-3},{"$f":"Baseline_Data_2012!I89/Baseline_Data_2012!I$271","v":9.6833747861066743E-3},{"$f":"Baseline_Data_2012!J89/Baseline_Data_2012!J$271","v":1.9812231432344671E-3},{"$f":"Baseline_Data_2012!K89/Baseline_Data_2012!K$271","v":5.5407293619766842E-3},{"$f":"Baseline_Data_2012!L89/Baseline_Data_2012!L$271","v":2.7634815528789678E-3},{"$f":"Baseline_Data_2012!M89/Baseline_Data_2012!M$271","v":0},{"$f":"Baseline_Data_2012!N89/Baseline_Data_2012!N$271","v":0},{"$f":"Baseline_Data_2012!O89/Baseline_Data_2012!O$271","v":5.0040167719433166E-3},{"$f":"Baseline_Data_2012!P89/Baseline_Data_2012!P$271","v":0},{"$f":"Baseline_Data_2012!Q89/Baseline_Data_2012!Q$271","v":3.5165539827920291E-3},{"$f":"Baseline_Data_2012!R89/Baseline_Data_2012!R$271","v":5.0583362931125775E-4},{"$f":"Baseline_Data_2012!S89/Baseline_Data_2012!S$271","v":1.8218705616443831E-3},{"$f":"Baseline_Data_2012!T89/Baseline_Data_2012!T$271","v":1.9257603689460025E-3},{"$f":"Baseline_Data_2012!U89/Baseline_Data_2012!U$271","v":6.4615926294757245E-3},{"$f":"Baseline_Data_2012!V89/Baseline_Data_2012!V$271","v":2.4902262006052801E-3},{"$f":"Baseline_Data_2012!W89/Baseline_Data_2012!W$271","v":1.1862077802952453E-2},{"$f":"Baseline_Data_2012!X89/Baseline_Data_2012!X$271","v":6.7380420456140842E-3},{"$f":"Baseline_Data_2012!Y89/Baseline_Data_2012!Y$271","v":8.8553599663840625E-4},{"$f":"Baseline_Data_2012!Z89/Baseline_Data_2012!Z$271","v":8.6235169743808355E-4},{"$f":"Baseline_Data_2012!AA89/Baseline_Data_2012!AA$271","v":1.9919324492634256E-3},{"$f":"Baseline_Data_2012!AB89/Baseline_Data_2012!AB$271","v":3.070851794588277E-3},{"$f":"Baseline_Data_2012!AC89/Baseline_Data_2012!AC$271","v":0},{"$f":"Baseline_Data_2012!AD89/Baseline_Data_2012!AD$271","v":3.2196762129212807E-3},{"$f":"Baseline_Data_2012!AE89/Baseline_Data_2012!AE$271","v":4.1042860921646765E-3},{"$f":"Baseline_Data_2012!AF89/Baseline_Data_2012!AF$271","v":1.3560136087882882E-2},{"$f":"Baseline_Data_2012!AG89/Baseline_Data_2012!AG$271","v":1.9995211144964507E-3},{"$f":"Baseline_Data_2012!AH89/Baseline_Data_2012!AH$271","v":1.0708672298828039E-2},{"$f":"Baseline_Data_2012!AI89/Baseline_Data_2012!AI$271","v":1.9693431414584783E-3},{"$f":"Baseline_Data_2012!AJ89/Baseline_Data_2012!AJ$271","v":3.1079698283699919E-4},{"$f":"Baseline_Data_2012!AK89/Baseline_Data_2012!AK$271","v":8.2120779264463727E-3},{"$f":"Baseline_Data_2012!AL89/Baseline_Data_2012!AL$271","v":7.4224469116829332E-3},{"$f":"Baseline_Data_2012!AM89/Baseline_Data_2012!AM$271","v":0},{"$f":"Baseline_Data_2012!AN89/Baseline_Data_2012!AN$271","v":1.5005683312197355E-3},{"$f":"Baseline_Data_2012!AO89/Baseline_Data_2012!AO$271","v":6.5222828651354398E-3},{"$f":"Baseline_Data_2012!AP89/Baseline_Data_2012!AP$271","v":1.2644886855235524E-3},{"$f":"Baseline_Data_2012!AQ89/Baseline_Data_2012!AQ$271","v":0},{"$f":"Baseline_Data_2012!AR89/Baseline_Data_2012!AR$271","v":4.5555010269746274E-3},{"$f":"Baseline_Data_2012!AS89/Baseline_Data_2012!AS$271","v":3.8905430723363103E-3},{"$f":"Baseline_Data_2012!AT89/Baseline_Data_2012!AT$271","v":2.9162454001597461E-3},{"$f":"Baseline_Data_2012!AU89/Baseline_Data_2012!AU$271","v":9.4682667428457323E-3},{"$f":"Baseline_Data_2012!AV89/Baseline_Data_2012!AV$271","v":3.383622941668878E-3},90]
[1,"Female 25-29",{"$f":"'III Tool Overview'!$H$8/100","v":1000},{"$f":"'III Tool Overview'!$H$8/20","v":5000},{"$f":"'III Tool Overview'!$H$8/40","v":2500},{"$f":"G91*'III Tool Overview'!$H$8","v":907.28784767942875},{"$f":"HLOOKUP('III Tool Overview'!$H$6,Targeting!$I$1:$BC$277,Targeting!BD91,FALSE)","v":9.0728784767942876E-3},{"$f":"Baseline_Data_2012!B90","v":13212.644863242411},{"$f":"Baseline_Data_2012!B90/Baseline_Data_2012!B$271","v":9.0728784767942876E-3},{"$f":"Baseline_Data_2012!C90/Baseline_Data_2012!C$271","v":1.1385800661424994E-2},{"$f":"Baseline_Data_2012!D90/Baseline_Data_2012!D$271","v":2.1542788767635623E-3},{"$f":"Baseline_Data_2012!E90/Baseline_Data_2012!E$271","v":3.5188760328146518E-3},{"$f":"Baseline_Data_2012!F90/Baseline_Data_2012!F$271","v":7.5984187671010008E-3},{"$f":"Baseline_Data_2012!G90/Baseline_Data_2012!G$271","v":5.9650585676784672E-3},{"$f":"Baseline_Data_2012!H90/Baseline_Data_2012!H$271","v":3.175859686356722E-3},{"$f":"Baseline_Data_2012!I90/Baseline_Data_2012!I$271","v":1.8050968276111776E-2},{"$f":"Baseline_Data_2012!J90/Baseline_Data_2012!J$271","v":3.89704998237586E-3},{"$f":"Baseline_Data_2012!K90/Baseline_Data_2012!K$271","v":1.0870013325329133E-2},{"$f":"Baseline_Data_2012!L90/Baseline_Data_2012!L$271","v":5.616896602733748E-3},{"$f":"Baseline_Data_2012!M90/Baseline_Data_2012!M$271","v":0},{"$f":"Baseline_Data_2012!N90/Baseline_Data_2012!N$271","v":0},{"$f":"Baseline_Data_2012!O90/Baseline_Data_2012!O$271","v":8.9367982153471127E-3},{"$f":"Baseline_Data_2012!P90/Baseline_Data_2012!P$271","v":0},{"$f":"Baseline_Data_2012!Q90/Baseline_Data_2012!Q$271","v":6.4632169909632706E-3},{"$f":"Baseline_Data_2012!R90/Baseline_Data_2012!R$271","v":9.481827284828037E-4},{"$f":"Baseline_Data_2012!S90/Baseline_Data_2012!S$271","v":3.3828631646268146E-3},{"$f":"Baseline_Data_2012!T90/Baseline_Data_2012!T$271","v":3.6618789915025935E-3},{"$f":"Baseline_Data_2012!U90/Baseline_Data_2012!U$271","v":1.1178837047249188E-2},{"$f":"Baseline_Data_2012!V90/Baseline_Data_2012!V$271","v":3.5188760328146522E-3},{"$f":"Baseline_Data_2012!W90/Baseline_Data_2012!W$271","v":2.0693290530724433E-2},{"$f":"Baseline_Data_2012!X90/Baseline_Data_2012!X$271","v":1.2308996624691189E-2},{"$f":"Baseline_Data_2012!Y90/Baseline_Data_2012!Y$271","v":1.5082402787063164E-3},{"$f":"Baseline_Data_2012!Z90/Baseline_Data_2012!Z$271","v":1.5160112512936025E-3},{"$f":"Baseline_Data_2012!AA90/Baseline_Data_2012!AA$271","v":3.2502744250625265E-3},{"$f":"Baseline_Data_2012!AB90/Baseline_Data_2012!AB$271","v":6.4170587739674767E-3},{"$f":"Baseline_Data_2012!AC90/Baseline_Data_2012!AC$271","v":0},{"$f":"Baseline_Data_2012!AD90/Baseline_Data_2012!AD$271","v":5.3847617713409183E-3},{"$f":"Baseline_Data_2012!AE90/Baseline_Data_2012!AE$271","v":7.5984187671010008E-3},{"$f":"Baseline_Data_2012!AF90/Baseline_Data_2012!AF$271","v":2.5309561769434785E-2},{"$f":"Baseline_Data_2012!AG90/Baseline_Data_2012!AG$271","v":3.9750723100623817E-3},{"$f":"Baseline_Data_2012!AH90/Baseline_Data_2012!AH$271","v":1.9148830923828443E-2},{"$f":"Baseline_Data_2012!AI90/Baseline_Data_2012!AI$271","v":3.088936252691128E-3},{"$f":"Baseline_Data_2012!AJ90/Baseline_Data_2012!AJ$271","v":3.2230020534415409E-4},{"$f":"Baseline_Data_2012!AK90/Baseline_Data_2012!AK$271","v":1.330015868158836E-2},{"$f":"Baseline_Data_2012!AL90/Baseline_Data_2012!AL$271","v":1.4352664094255429E-2},{"$f":"Baseline_Data_2012!AM90/Baseline_Data_2012!AM$271","v":0},{"$f":"Baseline_Data_2012!AN90/Baseline_Data_2012!AN$271","v":2.9976852730135921E-3},{"$f":"Baseline_Data_2012!AO90/Baseline_Data_2012!AO$271","v":1.2489996282704025E-2},{"$f":"Baseline_Data_2012!AP90/Baseline_Data_2012!AP$271","v":2.1542788767635623E-3},{"$f":"Baseline_Data_2012!AQ90/Baseline_Data_2012!AQ$271","v":0},{"$f":"Baseline_Data_2012!AR90/Baseline_Data_2012!AR$271","v":7.9275540226667485E-3},{"$f":"Baseline_Data_2012!AS90/Baseline_Data_2012!AS$271","v":7.9805071896066355E-3},{"$f":"Baseline_Data_2012!AT90/Baseline_Data_2012!AT$271","v":4.1762783615047873E-3},{"$f":"Baseline_Data_2012!AU90/Baseline_Data_2012!AU$271","v":1.6974633191711695E-2},{"$f":"Baseline_Data_2012!AV90/Baseline_Data_2012!AV$271","v":6.912260707019776E-3},91]
[1,"Female 30-34",{"$f":"'III Tool Overview'!$H$8/100","v":1000},{"$f":"'III Tool Overview'!$H$8/20","v":5000},{"$f":"'III Tool Overview'!$H$8/40","v":2500},{"$f":"G92*'III Tool Overview'!$H$8","v":813.72100624509756},{"$f":"HLOOKUP('III Tool Overview'!$H$6,Targeting!$I$1:$BC$277,Targeting!BD92,FALSE)","v":8.1372100624509756E-3},{"$f":"Baseline_Data_2012!B91","v":11850.050345957592},{"$f":"Baseline_Data_2012!B91/Baseline_Data_2012!B$271","v":8.1372100624509756E-3},{"$f":"Baseline_Data_2012!C91/Baseline_Data_2012!C$271","v":1.0044039640718346E-2},{"$f":"Baseline_Data_2012!D91/Baseline_Data_2012!D$271","v":1.8913152580036906E-3},{"$f":"Baseline_Data_2012!E91/Baseline_Data_2012!E$271","v":3.579248905926668E-3},{"$f":"Baseline_Data_2012!F91/Baseline_Data_2012!F$271","v":6.8361078672334354E-3},{"$f":"Baseline_Data_2012!G91/Baseline_Data_2012!G$271","v":5.310219330595784E-3},{"$f":"Baseline_Data_2012!H91/Baseline_Data_2012!H$271","v":2.5325063775280183E-3},{"$f":"Baseline_Data_2012!I91/Baseline_Data_2012!I$271","v":1.628016447788861E-2},{"$f":"Baseline_Data_2012!J91/Baseline_Data_2012!J$271","v":3.371137411938729E-3},{"$f":"Baseline_Data_2012!K91/Baseline_Data_2012!K$271","v":9.9894523074412055E-3},{"$f":"Baseline_Data_2012!L91/Baseline_Data_2012!L$271","v":5.225137274756579E-3},{"$f":"Baseline_Data_2012!M91/Baseline_Data_2012!M$271","v":0},{"$f":"Baseline_Data_2012!N91/Baseline_Data_2012!N$271","v":0},{"$f":"Baseline_Data_2012!O91/Baseline_Data_2012!O$271","v":7.6168147071532114E-3},{"$f":"Baseline_Data_2012!P91/Baseline_Data_2012!P$271","v":0},{"$f":"Baseline_Data_2012!Q91/Baseline_Data_2012!Q$271","v":5.2025345559127429E-3},{"$f":"Baseline_Data_2012!R91/Baseline_Data_2012!R$271","v":6.8920771013067231E-4},{"$f":"Baseline_Data_2012!S91/Baseline_Data_2012!S$271","v":3.1368367526539553E-3},{"$f":"Baseline_Data_2012!T91/Baseline_Data_2012!T$271","v":2.8901606916404764E-3},{"$f":"Baseline_Data_2012!U91/Baseline_Data_2012!U$271","v":1.043974038296825E-2},{"$f":"Baseline_Data_2012!V91/Baseline_Data_2012!V$271","v":3.579248905926668E-3},{"$f":"Baseline_Data_2012!W91/Baseline_Data_2012!W$271","v":1.7526915929765349E-2},{"$f":"Baseline_Data_2012!X91/Baseline_Data_2012!X$271","v":1.027468415891968E-2},{"$f":"Baseline_Data_2012!Y91/Baseline_Data_2012!Y$271","v":1.57949572494441E-3},{"$f":"Baseline_Data_2012!Z91/Baseline_Data_2012!Z$271","v":1.7151952113175794E-3},{"$f":"Baseline_Data_2012!AA91/Baseline_Data_2012!AA$271","v":3.5660905635301401E-3},{"$f":"Baseline_Data_2012!AB91/Baseline_Data_2012!AB$271","v":5.9853041598878706E-3},{"$f":"Baseline_Data_2012!AC91/Baseline_Data_2012!AC$271","v":0},{"$f":"Baseline_Data_2012!AD91/Baseline_Data_2012!AD$271","v":4.9003438284171592E-3},{"$f":"Baseline_Data_2012!AE91/Baseline_Data_2012!AE$271","v":6.8361078672334354E-3},{"$f":"Baseline_Data_2012!AF91/Baseline_Data_2012!AF$271","v":2.2416924184148149E-2},{"$f":"Baseline_Data_2012!AG91/Baseline_Data_2012!AG$271","v":3.5311556053853645E-3},{"$f":"Baseline_Data_2012!AH91/Baseline_Data_2012!AH$271","v":1.718896735612117E-2},{"$f":"Baseline_Data_2012!AI91/Baseline_Data_2012!AI$271","v":2.9112540788637621E-3},{"$f":"Baseline_Data_2012!AJ91/Baseline_Data_2012!AJ$271","v":3.2230020534415409E-4},{"$f":"Baseline_Data_2012!AK91/Baseline_Data_2012!AK$271","v":1.301329251394626E-2},{"$f":"Baseline_Data_2012!AL91/Baseline_Data_2012!AL$271","v":1.2840139220031393E-2},{"$f":"Baseline_Data_2012!AM91/Baseline_Data_2012!AM$271","v":0},{"$f":"Baseline_Data_2012!AN91/Baseline_Data_2012!AN$271","v":2.4695216772921496E-3},{"$f":"Baseline_Data_2012!AO91/Baseline_Data_2012!AO$271","v":1.1724375731348663E-2},{"$f":"Baseline_Data_2012!AP91/Baseline_Data_2012!AP$271","v":1.8913152580036906E-3},{"$f":"Baseline_Data_2012!AQ91/Baseline_Data_2012!AQ$271","v":0},{"$f":"Baseline_Data_2012!AR91/Baseline_Data_2012!AR$271","v":6.0583665277245203E-3},{"$f":"Baseline_Data_2012!AS91/Baseline_Data_2012!AS$271","v":7.8419437142357076E-3},{"$f":"Baseline_Data_2012!AT91/Baseline_Data_2012!AT$271","v":3.2634989591399689E-3},{"$f":"Baseline_Data_2012!AU91/Baseline_Data_2012!AU$271","v":1.5519252926547959E-2},{"$f":"Baseline_Data_2012!AV91/Baseline_Data_2012!AV$271","v":6.1846543168071677E-3},92]
[1,"Female 35-39",{"$f":"'III Tool Overview'!$H$8/100","v":1000},{"$f":"'III Tool Overview'!$H$8/20","v":5000},{"$f":"'III Tool Overview'!$H$8/40","v":2500},{"$f":"G93*'III Tool Overview'!$H$8","v":698.63879599005907},{"$f":"HLOOKUP('III Tool Overview'!$H$6,Targeting!$I$1:$BC$277,Targeting!BD93,FALSE)","v":6.9863879599005906E-3},{"$f":"Baseline_Data_2012!B92","v":10174.131972239808},{"$f":"Baseline_Data_2012!B92/Baseline_Data_2012!B$271","v":6.9863879599005906E-3},{"$f":"Baseline_Data_2012!C92/Baseline_Data_2012!C$271","v":9.9414190893716402E-3},{"$f":"Baseline_Data_2012!D92/Baseline_Data_2012!D$271","v":1.9111805565989804E-3},{"$f":"Baseline_Data_2012!E92/Baseline_Data_2012!E$271","v":2.8000634718259539E-3},{"$f":"Baseline_Data_2012!F92/Baseline_Data_2012!F$271","v":5.9002068634597532E-3},{"$f":"Baseline_Data_2012!G92/Baseline_Data_2012!G$271","v":5.1785770610084754E-3},{"$f":"Baseline_Data_2012!H92/Baseline_Data_2012!H$271","v":2.1567549252669393E-3},{"$f":"Baseline_Data_2012!I92/Baseline_Data_2012!I$271","v":1.362428554545596E-2},{"$f":"Baseline_Data_2012!J92/Baseline_Data_2012!J$271","v":2.9472841144044144E-3},{"$f":"Baseline_Data_2012!K92/Baseline_Data_2012!K$271","v":9.1556054403490392E-3},{"$f":"Baseline_Data_2012!L92/Baseline_Data_2012!L$271","v":4.0655640935809935E-3},{"$f":"Baseline_Data_2012!M92/Baseline_Data_2012!M$271","v":0},{"$f":"Baseline_Data_2012!N92/Baseline_Data_2012!N$271","v":0},{"$f":"Baseline_Data_2012!O92/Baseline_Data_2012!O$271","v":6.0330245800978297E-3},{"$f":"Baseline_Data_2012!P92/Baseline_Data_2012!P$271","v":0},{"$f":"Baseline_Data_2012!Q92/Baseline_Data_2012!Q$271","v":4.4394788583694035E-3},{"$f":"Baseline_Data_2012!R92/Baseline_Data_2012!R$271","v":5.5839223907097786E-4},{"$f":"Baseline_Data_2012!S92/Baseline_Data_2012!S$271","v":2.4522740239426117E-3},{"$f":"Baseline_Data_2012!T92/Baseline_Data_2012!T$271","v":2.9962386262614971E-3},{"$f":"Baseline_Data_2012!U92/Baseline_Data_2012!U$271","v":1.0493279676721586E-2},{"$f":"Baseline_Data_2012!V92/Baseline_Data_2012!V$271","v":2.8000634718259544E-3},{"$f":"Baseline_Data_2012!W92/Baseline_Data_2012!W$271","v":1.3923932205929046E-2},{"$f":"Baseline_Data_2012!X92/Baseline_Data_2012!X$271","v":1.0186035138112158E-2},{"$f":"Baseline_Data_2012!Y92/Baseline_Data_2012!Y$271","v":1.444354283263198E-3},{"$f":"Baseline_Data_2012!Z92/Baseline_Data_2012!Z$271","v":1.5793986092385586E-3},{"$f":"Baseline_Data_2012!AA92/Baseline_Data_2012!AA$271","v":3.002413361090583E-3},{"$f":"Baseline_Data_2012!AB92/Baseline_Data_2012!AB$271","v":4.3396882978465135E-3},{"$f":"Baseline_Data_2012!AC92/Baseline_Data_2012!AC$271","v":0},{"$f":"Baseline_Data_2012!AD92/Baseline_Data_2012!AD$271","v":4.6784954163056648E-3},{"$f":"Baseline_Data_2012!AE92/Baseline_Data_2012!AE$271","v":5.9002068634597532E-3},{"$f":"Baseline_Data_2012!AF92/Baseline_Data_2012!AF$271","v":1.84201246575567E-2},{"$f":"Baseline_Data_2012!AG92/Baseline_Data_2012!AG$271","v":2.9306786718366461E-3},{"$f":"Baseline_Data_2012!AH92/Baseline_Data_2012!AH$271","v":1.566243540647062E-2},{"$f":"Baseline_Data_2012!AI92/Baseline_Data_2012!AI$271","v":2.3766660324999662E-3},{"$f":"Baseline_Data_2012!AJ92/Baseline_Data_2012!AJ$271","v":3.3691121745334137E-4},{"$f":"Baseline_Data_2012!AK92/Baseline_Data_2012!AK$271","v":1.3167404994486924E-2},{"$f":"Baseline_Data_2012!AL92/Baseline_Data_2012!AL$271","v":1.1914342155747017E-2},{"$f":"Baseline_Data_2012!AM92/Baseline_Data_2012!AM$271","v":0},{"$f":"Baseline_Data_2012!AN92/Baseline_Data_2012!AN$271","v":1.9441402172360141E-3},{"$f":"Baseline_Data_2012!AO92/Baseline_Data_2012!AO$271","v":9.384560074331267E-3},{"$f":"Baseline_Data_2012!AP92/Baseline_Data_2012!AP$271","v":1.9111805565989804E-3},{"$f":"Baseline_Data_2012!AQ92/Baseline_Data_2012!AQ$271","v":0},{"$f":"Baseline_Data_2012!AR92/Baseline_Data_2012!AR$271","v":5.6142171604902551E-3},{"$f":"Baseline_Data_2012!AS92/Baseline_Data_2012!AS$271","v":7.0088742744667514E-3},{"$f":"Baseline_Data_2012!AT92/Baseline_Data_2012!AT$271","v":3.192259862091343E-3},{"$f":"Baseline_Data_2012!AU92/Baseline_Data_2012!AU$271","v":1.4150481604464563E-2},{"$f":"Baseline_Data_2012!AV92/Baseline_Data_2012!AV$271","v":5.5895107552493394E-3},93]
[1,"Female 40-44",{"$f":"'III Tool Overview'!$H$8/100","v":1000},{"$f":"'III Tool Overview'!$H$8/20","v":5000},{"$f":"'III Tool Overview'!$H$8/40","v":2500},{"$f":"G94*'III Tool Overview'!$H$8","v":818.78895443820898},{"$f":"HLOOKUP('III Tool Overview'!$H$6,Targeting!$I$1:$BC$277,Targeting!BD94,FALSE)","v":8.18788954438209E-3},{"$f":"Baseline_Data_2012!B93","v":11923.853825010197},{"$f":"Baseline_Data_2012!B93/Baseline_Data_2012!B$271","v":8.18788954438209E-3},{"$f":"Baseline_Data_2012!C93/Baseline_Data_2012!C$271","v":1.2105668593969989E-2},{"$f":"Baseline_Data_2012!D93/Baseline_Data_2012!D$271","v":1.9620098267212937E-3},{"$f":"Baseline_Data_2012!E93/Baseline_Data_2012!E$271","v":3.3375369555820201E-3},{"$f":"Baseline_Data_2012!F93/Baseline_Data_2012!F$271","v":7.6466929118971039E-3},{"$f":"Baseline_Data_2012!G93/Baseline_Data_2012!G$271","v":5.8254263505865978E-3},{"$f":"Baseline_Data_2012!H93/Baseline_Data_2012!H$271","v":2.1604928020871597E-3},{"$f":"Baseline_Data_2012!I93/Baseline_Data_2012!I$271","v":1.6338459311835075E-2},{"$f":"Baseline_Data_2012!J93/Baseline_Data_2012!J$271","v":3.4416672561754773E-3},{"$f":"Baseline_Data_2012!K93/Baseline_Data_2012!K$271","v":1.0908940672783276E-2},{"$f":"Baseline_Data_2012!L93/Baseline_Data_2012!L$271","v":4.2922025154903667E-3},{"$f":"Baseline_Data_2012!M93/Baseline_Data_2012!M$271","v":0},{"$f":"Baseline_Data_2012!N93/Baseline_Data_2012!N$271","v":0},{"$f":"Baseline_Data_2012!O93/Baseline_Data_2012!O$271","v":6.5796695632874408E-3},{"$f":"Baseline_Data_2012!P93/Baseline_Data_2012!P$271","v":0},{"$f":"Baseline_Data_2012!Q93/Baseline_Data_2012!Q$271","v":4.3591666780169926E-3},{"$f":"Baseline_Data_2012!R93/Baseline_Data_2012!R$271","v":6.0037661794849501E-4},{"$f":"Baseline_Data_2012!S93/Baseline_Data_2012!S$271","v":2.8025988845058422E-3},{"$f":"Baseline_Data_2012!T93/Baseline_Data_2012!T$271","v":3.7871239489295069E-3},{"$f":"Baseline_Data_2012!U93/Baseline_Data_2012!U$271","v":1.1700471143955041E-2},{"$f":"Baseline_Data_2012!V93/Baseline_Data_2012!V$271","v":3.3375369555820192E-3},{"$f":"Baseline_Data_2012!W93/Baseline_Data_2012!W$271","v":1.5177950944972346E-2},{"$f":"Baseline_Data_2012!X93/Baseline_Data_2012!X$271","v":1.2946912377211937E-2},{"$f":"Baseline_Data_2012!Y93/Baseline_Data_2012!Y$271","v":1.8143954632727777E-3},{"$f":"Baseline_Data_2012!Z93/Baseline_Data_2012!Z$271","v":1.5905211346557316E-3},{"$f":"Baseline_Data_2012!AA93/Baseline_Data_2012!AA$271","v":3.5976054370777033E-3},{"$f":"Baseline_Data_2012!AB93/Baseline_Data_2012!AB$271","v":4.5141267490344623E-3},{"$f":"Baseline_Data_2012!AC93/Baseline_Data_2012!AC$271","v":0},{"$f":"Baseline_Data_2012!AD93/Baseline_Data_2012!AD$271","v":5.0172100165811881E-3},{"$f":"Baseline_Data_2012!AE93/Baseline_Data_2012!AE$271","v":7.6466929118971039E-3},{"$f":"Baseline_Data_2012!AF93/Baseline_Data_2012!AF$271","v":2.1730390149907047E-2},{"$f":"Baseline_Data_2012!AG93/Baseline_Data_2012!AG$271","v":3.326168181184844E-3},{"$f":"Baseline_Data_2012!AH93/Baseline_Data_2012!AH$271","v":2.1507591712802955E-2},{"$f":"Baseline_Data_2012!AI93/Baseline_Data_2012!AI$271","v":3.0223498679190323E-3},{"$f":"Baseline_Data_2012!AJ93/Baseline_Data_2012!AJ$271","v":4.6649245493539572E-4},{"$f":"Baseline_Data_2012!AK93/Baseline_Data_2012!AK$271","v":1.538672872945685E-2},{"$f":"Baseline_Data_2012!AL93/Baseline_Data_2012!AL$271","v":1.4349709524180007E-2},{"$f":"Baseline_Data_2012!AM93/Baseline_Data_2012!AM$271","v":0},{"$f":"Baseline_Data_2012!AN93/Baseline_Data_2012!AN$271","v":2.0374015560702141E-3},{"$f":"Baseline_Data_2012!AO93/Baseline_Data_2012!AO$271","v":1.2032323375358712E-2},{"$f":"Baseline_Data_2012!AP93/Baseline_Data_2012!AP$271","v":1.9620098267212937E-3},{"$f":"Baseline_Data_2012!AQ93/Baseline_Data_2012!AQ$271","v":0},{"$f":"Baseline_Data_2012!AR93/Baseline_Data_2012!AR$271","v":7.0177714506128178E-3},{"$f":"Baseline_Data_2012!AS93/Baseline_Data_2012!AS$271","v":7.7955846522130192E-3},{"$f":"Baseline_Data_2012!AT93/Baseline_Data_2012!AT$271","v":4.0845844692113638E-3},{"$f":"Baseline_Data_2012!AU93/Baseline_Data_2012!AU$271","v":1.6858915647488999E-2},{"$f":"Baseline_Data_2012!AV93/Baseline_Data_2012!AV$271","v":5.9094710671736585E-3},94]
[1,"Female 45-49",{"$f":"'III Tool Overview'!$H$8/100","v":1000},{"$f":"'III Tool Overview'!$H$8/20","v":5000},{"$f":"'III Tool Overview'!$H$8/40","v":2500},{"$f":"G95*'III Tool Overview'!$H$8","v":698.17350809174002},{"$f":"HLOOKUP('III Tool Overview'!$H$6,Targeting!$I$1:$BC$277,Targeting!BD95,FALSE)","v":6.9817350809174006E-3},{"$f":"Baseline_Data_2012!B94","v":10167.356081021406},{"$f":"Baseline_Data_2012!B94/Baseline_Data_2012!B$271","v":6.9817350809174006E-3},{"$f":"Baseline_Data_2012!C94/Baseline_Data_2012!C$271","v":1.0727770855642473E-2},{"$f":"Baseline_Data_2012!D94/Baseline_Data_2012!D$271","v":1.4909348637686087E-3},{"$f":"Baseline_Data_2012!E94/Baseline_Data_2012!E$271","v":3.1030633025376586E-3},{"$f":"Baseline_Data_2012!F94/Baseline_Data_2012!F$271","v":6.487652971853268E-3},{"$f":"Baseline_Data_2012!G94/Baseline_Data_2012!G$271","v":5.0557186470623957E-3},{"$f":"Baseline_Data_2012!H94/Baseline_Data_2012!H$271","v":1.8025590669187288E-3},{"$f":"Baseline_Data_2012!I94/Baseline_Data_2012!I$271","v":1.4096629071630418E-2},{"$f":"Baseline_Data_2012!J94/Baseline_Data_2012!J$271","v":2.8864052728432453E-3},{"$f":"Baseline_Data_2012!K94/Baseline_Data_2012!K$271","v":9.0652071332601811E-3},{"$f":"Baseline_Data_2012!L94/Baseline_Data_2012!L$271","v":3.3907314414791927E-3},{"$f":"Baseline_Data_2012!M94/Baseline_Data_2012!M$271","v":0},{"$f":"Baseline_Data_2012!N94/Baseline_Data_2012!N$271","v":0},{"$f":"Baseline_Data_2012!O94/Baseline_Data_2012!O$271","v":5.7373222457671709E-3},{"$f":"Baseline_Data_2012!P94/Baseline_Data_2012!P$271","v":0},{"$f":"Baseline_Data_2012!Q94/Baseline_Data_2012!Q$271","v":3.5491281360739467E-3},{"$f":"Baseline_Data_2012!R94/Baseline_Data_2012!R$271","v":5.6008654970778331E-4},{"$f":"Baseline_Data_2012!S94/Baseline_Data_2012!S$271","v":2.2368397245221927E-3},{"$f":"Baseline_Data_2012!T94/Baseline_Data_2012!T$271","v":2.9741557651045782E-3},{"$f":"Baseline_Data_2012!U94/Baseline_Data_2012!U$271","v":1.0021946303127811E-2},{"$f":"Baseline_Data_2012!V94/Baseline_Data_2012!V$271","v":3.1030633025376582E-3},{"$f":"Baseline_Data_2012!W94/Baseline_Data_2012!W$271","v":1.3414775320599084E-2},{"$f":"Baseline_Data_2012!X94/Baseline_Data_2012!X$271","v":1.163341655964409E-2},{"$f":"Baseline_Data_2012!Y94/Baseline_Data_2012!Y$271","v":1.6418670458478795E-3},{"$f":"Baseline_Data_2012!Z94/Baseline_Data_2012!Z$271","v":1.5575128780775719E-3},{"$f":"Baseline_Data_2012!AA94/Baseline_Data_2012!AA$271","v":3.2330184097725937E-3},{"$f":"Baseline_Data_2012!AB94/Baseline_Data_2012!AB$271","v":3.4001817499537132E-3},{"$f":"Baseline_Data_2012!AC94/Baseline_Data_2012!AC$271","v":0},{"$f":"Baseline_Data_2012!AD94/Baseline_Data_2012!AD$271","v":4.4905075892419334E-3},{"$f":"Baseline_Data_2012!AE94/Baseline_Data_2012!AE$271","v":6.487652971853268E-3},{"$f":"Baseline_Data_2012!AF94/Baseline_Data_2012!AF$271","v":1.8839193204725709E-2},{"$f":"Baseline_Data_2012!AG94/Baseline_Data_2012!AG$271","v":2.8568721986885681E-3},{"$f":"Baseline_Data_2012!AH94/Baseline_Data_2012!AH$271","v":1.8168909570583119E-2},{"$f":"Baseline_Data_2012!AI94/Baseline_Data_2012!AI$271","v":2.1741873177612502E-3},{"$f":"Baseline_Data_2012!AJ94/Baseline_Data_2012!AJ$271","v":4.6169174919160461E-4},{"$f":"Baseline_Data_2012!AK94/Baseline_Data_2012!AK$271","v":1.4110432159910294E-2},{"$f":"Baseline_Data_2012!AL94/Baseline_Data_2012!AL$271","v":1.1959555998374031E-2},{"$f":"Baseline_Data_2012!AM94/Baseline_Data_2012!AM$271","v":0},{"$f":"Baseline_Data_2012!AN94/Baseline_Data_2012!AN$271","v":1.7713977646923087E-3},{"$f":"Baseline_Data_2012!AO94/Baseline_Data_2012!AO$271","v":9.7699667505962325E-3},{"$f":"Baseline_Data_2012!AP94/Baseline_Data_2012!AP$271","v":1.4909348637686087E-3},{"$f":"Baseline_Data_2012!AQ94/Baseline_Data_2012!AQ$271","v":0},{"$f":"Baseline_Data_2012!AR94/Baseline_Data_2012!AR$271","v":5.4302737432635291E-3},{"$f":"Baseline_Data_2012!AS94/Baseline_Data_2012!AS$271","v":6.6683414351686133E-3},{"$f":"Baseline_Data_2012!AT94/Baseline_Data_2012!AT$271","v":3.3740465162680087E-3},{"$f":"Baseline_Data_2012!AU94/Baseline_Data_2012!AU$271","v":1.4881265918463858E-2},{"$f":"Baseline_Data_2012!AV94/Baseline_Data_2012!AV$271","v":5.1021504291818781E-3},95]
[1,"Female 50-54",{"$f":"'III Tool Overview'!$H$8/100","v":1000},{"$f":"'III Tool Overview'!$H$8/20","v":5000},{"$f":"'III Tool Overview'!$H$8/40","v":2500},{"$f":"G96*'III Tool Overview'!$H$8","v":643.93783615558687},{"$f":"HLOOKUP('III Tool Overview'!$H$6,Targeting!$I$1:$BC$277,Targeting!BD96,FALSE)","v":6.4393783615558685E-3},{"$f":"Baseline_Data_2012!B95","v":9377.533232578593},{"$f":"Baseline_Data_2012!B95/Baseline_Data_2012!B$271","v":6.4393783615558685E-3},{"$f":"Baseline_Data_2012!C95/Baseline_Data_2012!C$271","v":9.7326849677430959E-3},{"$f":"Baseline_Data_2012!D95/Baseline_Data_2012!D$271","v":1.4235479772705924E-3},{"$f":"Baseline_Data_2012!E95/Baseline_Data_2012!E$271","v":2.643350220680228E-3},{"$f":"Baseline_Data_2012!F95/Baseline_Data_2012!F$271","v":5.7396707948289809E-3},{"$f":"Baseline_Data_2012!G95/Baseline_Data_2012!G$271","v":4.6639239595963073E-3},{"$f":"Baseline_Data_2012!H95/Baseline_Data_2012!H$271","v":1.6182768255412986E-3},{"$f":"Baseline_Data_2012!I95/Baseline_Data_2012!I$271","v":1.294167421345122E-2},{"$f":"Baseline_Data_2012!J95/Baseline_Data_2012!J$271","v":2.7761168617629907E-3},{"$f":"Baseline_Data_2012!K95/Baseline_Data_2012!K$271","v":8.3858391889920277E-3},{"$f":"Baseline_Data_2012!L95/Baseline_Data_2012!L$271","v":3.2270698991305686E-3},{"$f":"Baseline_Data_2012!M95/Baseline_Data_2012!M$271","v":0},{"$f":"Baseline_Data_2012!N95/Baseline_Data_2012!N$271","v":0},{"$f":"Baseline_Data_2012!O95/Baseline_Data_2012!O$271","v":5.6099310445864858E-3},{"$f":"Baseline_Data_2012!P95/Baseline_Data_2012!P$271","v":0},{"$f":"Baseline_Data_2012!Q95/Baseline_Data_2012!Q$271","v":3.1942153224665524E-3},{"$f":"Baseline_Data_2012!R95/Baseline_Data_2012!R$271","v":5.1834096836310384E-4},{"$f":"Baseline_Data_2012!S95/Baseline_Data_2012!S$271","v":2.4588161857343185E-3},{"$f":"Baseline_Data_2012!T95/Baseline_Data_2012!T$271","v":3.2009981539684873E-3},{"$f":"Baseline_Data_2012!U95/Baseline_Data_2012!U$271","v":9.0409112523417885E-3},{"$f":"Baseline_Data_2012!V95/Baseline_Data_2012!V$271","v":2.6433502206802272E-3},{"$f":"Baseline_Data_2012!W95/Baseline_Data_2012!W$271","v":1.3171130897041194E-2},{"$f":"Baseline_Data_2012!X95/Baseline_Data_2012!X$271","v":9.9235385552400249E-3},{"$f":"Baseline_Data_2012!Y95/Baseline_Data_2012!Y$271","v":1.4836148004649513E-3},{"$f":"Baseline_Data_2012!Z95/Baseline_Data_2012!Z$271","v":1.3639757748845007E-3},{"$f":"Baseline_Data_2012!AA95/Baseline_Data_2012!AA$271","v":2.7398461099767744E-3},{"$f":"Baseline_Data_2012!AB95/Baseline_Data_2012!AB$271","v":3.3279124644440693E-3},{"$f":"Baseline_Data_2012!AC95/Baseline_Data_2012!AC$271","v":0},{"$f":"Baseline_Data_2012!AD95/Baseline_Data_2012!AD$271","v":4.2507799705454241E-3},{"$f":"Baseline_Data_2012!AE95/Baseline_Data_2012!AE$271","v":5.7396707948289809E-3},{"$f":"Baseline_Data_2012!AF95/Baseline_Data_2012!AF$271","v":1.7195846315464565E-2},{"$f":"Baseline_Data_2012!AG95/Baseline_Data_2012!AG$271","v":2.634204218496665E-3},{"$f":"Baseline_Data_2012!AH95/Baseline_Data_2012!AH$271","v":1.7272505342873938E-2},{"$f":"Baseline_Data_2012!AI95/Baseline_Data_2012!AI$271","v":2.2880191145026769E-3},{"$f":"Baseline_Data_2012!AJ95/Baseline_Data_2012!AJ$271","v":3.4358455753793831E-4},{"$f":"Baseline_Data_2012!AK95/Baseline_Data_2012!AK$271","v":1.2901380250877446E-2},{"$f":"Baseline_Data_2012!AL95/Baseline_Data_2012!AL$271","v":1.0790485987924233E-2},{"$f":"Baseline_Data_2012!AM95/Baseline_Data_2012!AM$271","v":0},{"$f":"Baseline_Data_2012!AN95/Baseline_Data_2012!AN$271","v":1.497960525847187E-3},{"$f":"Baseline_Data_2012!AO95/Baseline_Data_2012!AO$271","v":9.4403384476170454E-3},{"$f":"Baseline_Data_2012!AP95/Baseline_Data_2012!AP$271","v":1.4235479772705924E-3},{"$f":"Baseline_Data_2012!AQ95/Baseline_Data_2012!AQ$271","v":0},{"$f":"Baseline_Data_2012!AR95/Baseline_Data_2012!AR$271","v":5.5401612389113578E-3},{"$f":"Baseline_Data_2012!AS95/Baseline_Data_2012!AS$271","v":6.4094675628023848E-3},{"$f":"Baseline_Data_2012!AT95/Baseline_Data_2012!AT$271","v":3.030393630351823E-3},{"$f":"Baseline_Data_2012!AU95/Baseline_Data_2012!AU$271","v":1.3153118908577731E-2},{"$f":"Baseline_Data_2012!AV95/Baseline_Data_2012!AV$271","v":4.5394530329624563E-3},96]
[1,"Female 55-59",{"$f":"'III Tool Overview'!$H$8/100","v":1000},{"$f":"'III Tool Overview'!$H$8/20","v":5000},{"$f":"'III Tool Overview'!$H$8/40","v":2500},{"$f":"G97*'III Tool Overview'!$H$8","v":331.21964921674237},{"$f":"HLOOKUP('III Tool Overview'!$H$6,Targeting!$I$1:$BC$277,Targeting!BD97,FALSE)","v":3.3121964921674239E-3},{"$f":"Baseline_Data_2012!B96","v":4823.4830963754011},{"$f":"Baseline_Data_2012!B96/Baseline_Data_2012!B$271","v":3.3121964921674239E-3},{"$f":"Baseline_Data_2012!C96/Baseline_Data_2012!C$271","v":5.3624304437995029E-3},{"$f":"Baseline_Data_2012!D96/Baseline_Data_2012!D$271","v":8.5424782839726922E-4},{"$f":"Baseline_Data_2012!E96/Baseline_Data_2012!E$271","v":1.4613071640142562E-3},{"$f":"Baseline_Data_2012!F96/Baseline_Data_2012!F$271","v":2.9930332970936331E-3},{"$f":"Baseline_Data_2012!G96/Baseline_Data_2012!G$271","v":2.4050746496138676E-3},{"$f":"Baseline_Data_2012!H96/Baseline_Data_2012!H$271","v":8.7606817212897451E-4},{"$f":"Baseline_Data_2012!I96/Baseline_Data_2012!I$271","v":6.4008625961315254E-3},{"$f":"Baseline_Data_2012!J96/Baseline_Data_2012!J$271","v":1.5266005492807376E-3},{"$f":"Baseline_Data_2012!K96/Baseline_Data_2012!K$271","v":4.559112380666322E-3},{"$f":"Baseline_Data_2012!L96/Baseline_Data_2012!L$271","v":1.5991270980709505E-3},{"$f":"Baseline_Data_2012!M96/Baseline_Data_2012!M$271","v":0},{"$f":"Baseline_Data_2012!N96/Baseline_Data_2012!N$271","v":0},{"$f":"Baseline_Data_2012!O96/Baseline_Data_2012!O$271","v":2.8464474090406336E-3},{"$f":"Baseline_Data_2012!P96/Baseline_Data_2012!P$271","v":0},{"$f":"Baseline_Data_2012!Q96/Baseline_Data_2012!Q$271","v":1.7346108461823912E-3},{"$f":"Baseline_Data_2012!R96/Baseline_Data_2012!R$271","v":2.6991273737859739E-4},{"$f":"Baseline_Data_2012!S96/Baseline_Data_2012!S$271","v":1.1057573323979084E-3},{"$f":"Baseline_Data_2012!T96/Baseline_Data_2012!T$271","v":1.6707129247154758E-3},{"$f":"Baseline_Data_2012!U96/Baseline_Data_2012!U$271","v":4.9122563350100902E-3},{"$f":"Baseline_Data_2012!V96/Baseline_Data_2012!V$271","v":1.4613071640142557E-3},{"$f":"Baseline_Data_2012!W96/Baseline_Data_2012!W$271","v":6.6500624558379767E-3},{"$f":"Baseline_Data_2012!X96/Baseline_Data_2012!X$271","v":5.4090931040383225E-3},{"$f":"Baseline_Data_2012!Y96/Baseline_Data_2012!Y$271","v":8.0365921814245535E-4},{"$f":"Baseline_Data_2012!Z96/Baseline_Data_2012!Z$271","v":6.8127225632892588E-4},{"$f":"Baseline_Data_2012!AA96/Baseline_Data_2012!AA$271","v":1.2520398723900562E-3},{"$f":"Baseline_Data_2012!AB96/Baseline_Data_2012!AB$271","v":1.5916029295790772E-3},{"$f":"Baseline_Data_2012!AC96/Baseline_Data_2012!AC$271","v":0},{"$f":"Baseline_Data_2012!AD96/Baseline_Data_2012!AD$271","v":2.0289574614019618E-3},{"$f":"Baseline_Data_2012!AE96/Baseline_Data_2012!AE$271","v":2.9930332970936331E-3},{"$f":"Baseline_Data_2012!AF96/Baseline_Data_2012!AF$271","v":8.3060194796087672E-3},{"$f":"Baseline_Data_2012!AG96/Baseline_Data_2012!AG$271","v":1.4784096033149344E-3},{"$f":"Baseline_Data_2012!AH96/Baseline_Data_2012!AH$271","v":9.1300395318855854E-3},{"$f":"Baseline_Data_2012!AI96/Baseline_Data_2012!AI$271","v":1.1196437453555726E-3},{"$f":"Baseline_Data_2012!AJ96/Baseline_Data_2012!AJ$271","v":2.0334605115408477E-4},{"$f":"Baseline_Data_2012!AK96/Baseline_Data_2012!AK$271","v":6.9839480048603979E-3},{"$f":"Baseline_Data_2012!AL96/Baseline_Data_2012!AL$271","v":5.8558510095869541E-3},{"$f":"Baseline_Data_2012!AM96/Baseline_Data_2012!AM$271","v":0},{"$f":"Baseline_Data_2012!AN96/Baseline_Data_2012!AN$271","v":8.860945104293285E-4},{"$f":"Baseline_Data_2012!AO96/Baseline_Data_2012!AO$271","v":4.4369478039870576E-3},{"$f":"Baseline_Data_2012!AP96/Baseline_Data_2012!AP$271","v":8.5424782839726922E-4},{"$f":"Baseline_Data_2012!AQ96/Baseline_Data_2012!AQ$271","v":0},{"$f":"Baseline_Data_2012!AR96/Baseline_Data_2012!AR$271","v":3.2783478851014128E-3},{"$f":"Baseline_Data_2012!AS96/Baseline_Data_2012!AS$271","v":3.6337179333555273E-3},{"$f":"Baseline_Data_2012!AT96/Baseline_Data_2012!AT$271","v":1.7177510040996007E-3},{"$f":"Baseline_Data_2012!AU96/Baseline_Data_2012!AU$271","v":6.9211869123873958E-3},{"$f":"Baseline_Data_2012!AV96/Baseline_Data_2012!AV$271","v":2.4295133887946014E-3},97]
[1,"Female 60-64",{"$f":"'III Tool Overview'!$H$8/100","v":1000},{"$f":"'III Tool Overview'!$H$8/20","v":5000},{"$f":"'III Tool Overview'!$H$8/40","v":2500},{"$f":"G98*'III Tool Overview'!$H$8","v":302.14028977385016},{"$f":"HLOOKUP('III Tool Overview'!$H$6,Targeting!$I$1:$BC$277,Targeting!BD98,FALSE)","v":3.0214028977385014E-3},{"$f":"Baseline_Data_2012!B97","v":4400.0064123745988},{"$f":"Baseline_Data_2012!B97/Baseline_Data_2012!B$271","v":3.0214028977385014E-3},{"$f":"Baseline_Data_2012!C97/Baseline_Data_2012!C$271","v":4.9544370999396441E-3},{"$f":"Baseline_Data_2012!D97/Baseline_Data_2012!D$271","v":8.2337140086483779E-4},{"$f":"Baseline_Data_2012!E97/Baseline_Data_2012!E$271","v":1.2726098425349377E-3},{"$f":"Baseline_Data_2012!F97/Baseline_Data_2012!F$271","v":3.0024552277245677E-3},{"$f":"Baseline_Data_2012!G97/Baseline_Data_2012!G$271","v":2.1886945258826835E-3},{"$f":"Baseline_Data_2012!H97/Baseline_Data_2012!H$271","v":7.313182473603643E-4},{"$f":"Baseline_Data_2012!I97/Baseline_Data_2012!I$271","v":5.629453043656564E-3},{"$f":"Baseline_Data_2012!J97/Baseline_Data_2012!J$271","v":1.4341959763104028E-3},{"$f":"Baseline_Data_2012!K97/Baseline_Data_2012!K$271","v":4.3207274195857298E-3},{"$f":"Baseline_Data_2012!L97/Baseline_Data_2012!L$271","v":1.4933732018057374E-3},{"$f":"Baseline_Data_2012!M97/Baseline_Data_2012!M$271","v":0},{"$f":"Baseline_Data_2012!N97/Baseline_Data_2012!N$271","v":0},{"$f":"Baseline_Data_2012!O97/Baseline_Data_2012!O$271","v":2.6691749881231665E-3},{"$f":"Baseline_Data_2012!P97/Baseline_Data_2012!P$271","v":0},{"$f":"Baseline_Data_2012!Q97/Baseline_Data_2012!Q$271","v":1.4568020778484925E-3},{"$f":"Baseline_Data_2012!R97/Baseline_Data_2012!R$271","v":2.082791201819098E-4},{"$f":"Baseline_Data_2012!S97/Baseline_Data_2012!S$271","v":9.7536142055853255E-4},{"$f":"Baseline_Data_2012!T97/Baseline_Data_2012!T$271","v":1.8015982690480245E-3},{"$f":"Baseline_Data_2012!U97/Baseline_Data_2012!U$271","v":4.4656875772818997E-3},{"$f":"Baseline_Data_2012!V97/Baseline_Data_2012!V$271","v":1.2726098425349375E-3},{"$f":"Baseline_Data_2012!W97/Baseline_Data_2012!W$271","v":6.3479858860862846E-3},{"$f":"Baseline_Data_2012!X97/Baseline_Data_2012!X$271","v":5.1467473185690914E-3},{"$f":"Baseline_Data_2012!Y97/Baseline_Data_2012!Y$271","v":5.6195719764848382E-4},{"$f":"Baseline_Data_2012!Z97/Baseline_Data_2012!Z$271","v":6.6438120865134915E-4},{"$f":"Baseline_Data_2012!AA97/Baseline_Data_2012!AA$271","v":1.2989076750998443E-3},{"$f":"Baseline_Data_2012!AB97/Baseline_Data_2012!AB$271","v":1.4548413787965721E-3},{"$f":"Baseline_Data_2012!AC97/Baseline_Data_2012!AC$271","v":0},{"$f":"Baseline_Data_2012!AD97/Baseline_Data_2012!AD$271","v":1.9789479465082515E-3},{"$f":"Baseline_Data_2012!AE97/Baseline_Data_2012!AE$271","v":3.0024552277245677E-3},{"$f":"Baseline_Data_2012!AF97/Baseline_Data_2012!AF$271","v":7.1768148375834506E-3},{"$f":"Baseline_Data_2012!AG97/Baseline_Data_2012!AG$271","v":1.3115751862741866E-3},{"$f":"Baseline_Data_2012!AH97/Baseline_Data_2012!AH$271","v":8.6477903533884962E-3},{"$f":"Baseline_Data_2012!AI97/Baseline_Data_2012!AI$271","v":1.0779178914913899E-3},{"$f":"Baseline_Data_2012!AJ97/Baseline_Data_2012!AJ$271","v":1.9678650111685622E-4},{"$f":"Baseline_Data_2012!AK97/Baseline_Data_2012!AK$271","v":6.4753007467483357E-3},{"$f":"Baseline_Data_2012!AL97/Baseline_Data_2012!AL$271","v":5.5494938499300248E-3},{"$f":"Baseline_Data_2012!AM97/Baseline_Data_2012!AM$271","v":0},{"$f":"Baseline_Data_2012!AN97/Baseline_Data_2012!AN$271","v":7.8077999894387543E-4},{"$f":"Baseline_Data_2012!AO97/Baseline_Data_2012!AO$271","v":3.9318488352296024E-3},{"$f":"Baseline_Data_2012!AP97/Baseline_Data_2012!AP$271","v":8.2337140086483779E-4},{"$f":"Baseline_Data_2012!AQ97/Baseline_Data_2012!AQ$271","v":0},{"$f":"Baseline_Data_2012!AR97/Baseline_Data_2012!AR$271","v":2.8251974095157228E-3},{"$f":"Baseline_Data_2012!AS97/Baseline_Data_2012!AS$271","v":3.3612367249287625E-3},{"$f":"Baseline_Data_2012!AT97/Baseline_Data_2012!AT$271","v":1.3296665179882096E-3},{"$f":"Baseline_Data_2012!AU97/Baseline_Data_2012!AU$271","v":6.2539962248585254E-3},{"$f":"Baseline_Data_2012!AV97/Baseline_Data_2012!AV$271","v":2.3336550373999846E-3},98]
[1,"Female 65-69",null,null,null,{"$f":"G99*'III Tool Overview'!$H$8","v":0},{"$f":"HLOOKUP('III Tool Overview'!$H$6,Targeting!$I$1:$BC$277,Targeting!BD99,FALSE)","v":0},{"$f":"Baseline_Data_2012!B98","v":0},{"$f":"Baseline_Data_2012!B98/Baseline_Data_2012!B$271","v":0},{"$f":"Baseline_Data_2012!C98/Baseline_Data_2012!C$271","v":0},{"$f":"Baseline_Data_2012!D98/Baseline_Data_2012!D$271","v":0},{"$f":"Baseline_Data_2012!E98/Baseline_Data_2012!E$271","v":0},{"$f":"Baseline_Data_2012!F98/Baseline_Data_2012!F$271","v":0},{"$f":"Baseline_Data_2012!G98/Baseline_Data_2012!G$271","v":0},{"$f":"Baseline_Data_2012!H98/Baseline_Data_2012!H$271","v":0},{"$f":"Baseline_Data_2012!I98/Baseline_Data_2012!I$271","v":0},{"$f":"Baseline_Data_2012!J98/Baseline_Data_2012!J$271","v":0},{"$f":"Baseline_Data_2012!K98/Baseline_Data_2012!K$271","v":0},{"$f":"Baseline_Data_2012!L98/Baseline_Data_2012!L$271","v":0},{"$f":"Baseline_Data_2012!M98/Baseline_Data_2012!M$271","v":0},{"$f":"Baseline_Data_2012!N98/Baseline_Data_2012!N$271","v":0},{"$f":"Baseline_Data_2012!O98/Baseline_Data_2012!O$271","v":0},{"$f":"Baseline_Data_2012!P98/Baseline_Data_2012!P$271","v":0},{"$f":"Baseline_Data_2012!Q98/Baseline_Data_2012!Q$271","v":0},{"$f":"Baseline_Data_2012!R98/Baseline_Data_2012!R$271","v":0},{"$f":"Baseline_Data_2012!S98/Baseline_Data_2012!S$271","v":0},{"$f":"Baseline_Data_2012!T98/Baseline_Data_2012!T$271","v":0},{"$f":"Baseline_Data_2012!U98/Baseline_Data_2012!U$271","v":0},{"$f":"Baseline_Data_2012!V98/Baseline_Data_2012!V$271","v":0},{"$f":"Baseline_Data_2012!W98/Baseline_Data_2012!W$271","v":0},{"$f":"Baseline_Data_2012!X98/Baseline_Data_2012!X$271","v":0},{"$f":"Baseline_Data_2012!Y98/Baseline_Data_2012!Y$271","v":0},{"$f":"Baseline_Data_2012!Z98/Baseline_Data_2012!Z$271","v":0},{"$f":"Baseline_Data_2012!AA98/Baseline_Data_2012!AA$271","v":0},{"$f":"Baseline_Data_2012!AB98/Baseline_Data_2012!AB$271","v":0},{"$f":"Baseline_Data_2012!AC98/Baseline_Data_2012!AC$271","v":0},{"$f":"Baseline_Data_2012!AD98/Baseline_Data_2012!AD$271","v":0},{"$f":"Baseline_Data_2012!AE98/Baseline_Data_2012!AE$271","v":0},{"$f":"Baseline_Data_2012!AF98/Baseline_Data_2012!AF$271","v":0},{"$f":"Baseline_Data_2012!AG98/Baseline_Data_2012!AG$271","v":0},{"$f":"Baseline_Data_2012!AH98/Baseline_Data_2012!AH$271","v":0},{"$f":"Baseline_Data_2012!AI98/Baseline_Data_2012!AI$271","v":0},{"$f":"Baseline_Data_2012!AJ98/Baseline_Data_2012!AJ$271","v":0},{"$f":"Baseline_Data_2012!AK98/Baseline_Data_2012!AK$271","v":0},{"$f":"Baseline_Data_2012!AL98/Baseline_Data_2012!AL$271","v":0},{"$f":"Baseline_Data_2012!AM98/Baseline_Data_2012!AM$271","v":0},{"$f":"Baseline_Data_2012!AN98/Baseline_Data_2012!AN$271","v":0},{"$f":"Baseline_Data_2012!AO98/Baseline_Data_2012!AO$271","v":0},{"$f":"Baseline_Data_2012!AP98/Baseline_Data_2012!AP$271","v":0},{"$f":"Baseline_Data_2012!AQ98/Baseline_Data_2012!AQ$271","v":0},{"$f":"Baseline_Data_2012!AR98/Baseline_Data_2012!AR$271","v":0},{"$f":"Baseline_Data_2012!AS98/Baseline_Data_2012!AS$271","v":0},{"$f":"Baseline_Data_2012!AT98/Baseline_Data_2012!AT$271","v":0},{"$f":"Baseline_Data_2012!AU98/Baseline_Data_2012!AU$271","v":0},{"$f":"Baseline_Data_2012!AV98/Baseline_Data_2012!AV$271","v":0},99]
[1,"Female 70-74",null,null,null,{"$f":"G100*'III Tool Overview'!$H$8","v":0},{"$f":"HLOOKUP('III Tool Overview'!$H$6,Targeting!$I$1:$BC$277,Targeting!BD100,FALSE)","v":0},{"$f":"Baseline_Data_2012!B99","v":0},{"$f":"Baseline_Data_2012!B99/Baseline_Data_2012!B$271","v":0},{"$f":"Baseline_Data_2012!C99/Baseline_Data_2012!C$271","v":0},{"$f":"Baseline_Data_2012!D99/Baseline_Data_2012!D$271","v":0},{"$f":"Baseline_Data_2012!E99/Baseline_Data_2012!E$271","v":0},{"$f":"Baseline_Data_2012!F99/Baseline_Data_2012!F$271","v":0},{"$f":"Baseline_Data_2012!G99/Baseline_Data_2012!G$271","v":0},{"$f":"Baseline_Data_2012!H99/Baseline_Data_2012!H$271","v":0},{"$f":"Baseline_Data_2012!I99/Baseline_Data_2012!I$271","v":0},{"$f":"Baseline_Data_2012!J99/Baseline_Data_2012!J$271","v":0},{"$f":"Baseline_Data_2012!K99/Baseline_Data_2012!K$271","v":0},{"$f":"Baseline_Data_2012!L99/Baseline_Data_2012!L$271","v":0},{"$f":"Baseline_Data_2012!M99/Baseline_Data_2012!M$271","v":0},{"$f":"Baseline_Data_2012!N99/Baseline_Data_2012!N$271","v":0},{"$f":"Baseline_Data_2012!O99/Baseline_Data_2012!O$271","v":0},{"$f":"Baseline_Data_2012!P99/Baseline_Data_2012!P$271","v":0},{"$f":"Baseline_Data_2012!Q99/Baseline_Data_2012!Q$271","v":0},{"$f":"Baseline_Data_2012!R99/Baseline_Data_2012!R$271","v":0},{"$f":"Baseline_Data_2012!S99/Baseline_Data_2012!S$271","v":0},{"$f":"Baseline_Data_2012!T99/Baseline_Data_2012!T$271","v":0},{"$f":"Baseline_Data_2012!U99/Baseline_Data_2012!U$271","v":0},{"$f":"Baseline_Data_2012!V99/Baseline_Data_2012!V$271","v":0},{"$f":"Baseline_Data_2012!W99/Baseline_Data_2012!W$271","v":0},{"$f":"Baseline_Data_2012!X99/Baseline_Data_2012!X$271","v":0},{"$f":"Baseline_Data_2012!Y99/Baseline_Data_2012!Y$271","v":0},{"$f":"Baseline_Data_2012!Z99/Baseline_Data_2012!Z$271","v":0},{"$f":"Baseline_Data_2012!AA99/Baseline_Data_2012!AA$271","v":0},{"$f":"Baseline_Data_2012!AB99/Baseline_Data_2012!AB$271","v":0},{"$f":"Baseline_Data_2012!AC99/Baseline_Data_2012!AC$271","v":0},{"$f":"Baseline_Data_2012!AD99/Baseline_Data_2012!AD$271","v":0},{"$f":"Baseline_Data_2012!AE99/Baseline_Data_2012!AE$271","v":0},{"$f":"Baseline_Data_2012!AF99/Baseline_Data_2012!AF$271","v":0},{"$f":"Baseline_Data_2012!AG99/Baseline_Data_2012!AG$271","v":0},{"$f":"Baseline_Data_2012!AH99/Baseline_Data_2012!AH$271","v":0},{"$f":"Baseline_Data_2012!AI99/Baseline_Data_2012!AI$271","v":0},{"$f":"Baseline_Data_2012!AJ99/Baseline_Data_2012!AJ$271","v":0},{"$f":"Baseline_Data_2012!AK99/Baseline_Data_2012!AK$271","v":0},{"$f":"Baseline_Data_2012!AL99/Baseline_Data_2012!AL$271","v":0},{"$f":"Baseline_Data_2012!AM99/Baseline_Data_2012!AM$271","v":0},{"$f":"Baseline_Data_2012!AN99/Baseline_Data_2012!AN$271","v":0},{"$f":"Baseline_Data_2012!AO99/Baseline_Data_2012!AO$271","v":0},{"$f":"Baseline_Data_2012!AP99/Baseline_Data_2012!AP$271","v":0},{"$f":"Baseline_Data_2012!AQ99/Baseline_Data_2012!AQ$271","v":0},{"$f":"Baseline_Data_2012!AR99/Baseline_Data_2012!AR$271","v":0},{"$f":"Baseline_Data_2012!AS99/Baseline_Data_2012!AS$271","v":0},{"$f":"Baseline_Data_2012!AT99/Baseline_Data_2012!AT$271","v":0},{"$f":"Baseline_Data_2012!AU99/Baseline_Data_2012!AU$271","v":0},{"$f":"Baseline_Data_2012!AV99/Baseline_Data_2012!AV$271","v":0},100]
[1,"Female 75-79",null,null,null,{"$f":"G101*'III Tool Overview'!$H$8","v":0},{"$f":"HLOOKUP('III Tool Overview'!$H$6,Targeting!$I$1:$BC$277,Targeting!BD101,FALSE)","v":0},{"$f":"Baseline_Data_2012!B100","v":0},{"$f":"Baseline_Data_2012!B100/Baseline_Data_2012!B$271","v":0},{"$f":"Baseline_Data_2012!C100/Baseline_Data_2012!C$271","v":0},{"$f":"Baseline_Data_2012!D100/Baseline_Data_2012!D$271","v":0},{"$f":"Baseline_Data_2012!E100/Baseline_Data_2012!E$271","v":0},{"$f":"Baseline_Data_2012!F100/Baseline_Data_2012!F$271","v":0},{"$f":"Baseline_Data_2012!G100/Baseline_Data_2012!G$271","v":0},{"$f":"Baseline_Data_2012!H100/Baseline_Data_2012!H$271","v":0},{"$f":"Baseline_Data_2012!I100/Baseline_Data_2012!I$271","v":0},{"$f":"Baseline_Data_2012!J100/Baseline_Data_2012!J$271","v":0},{"$f":"Baseline_Data_2012!K100/Baseline_Data_2012!K$271","v":0},{"$f":"Baseline_Data_2012!L100/Baseline_Data_2012!L$271","v":0},{"$f":"Baseline_Data_2012!M100/Baseline_Data_2012!M$271","v":0},{"$f":"Baseline_Data_2012!N100/Baseline_Data_2012!N$271","v":0},{"$f":"Baseline_Data_2012!O100/Baseline_Data_2012!O$271","v":0},{"$f":"Baseline_Data_2012!P100/Baseline_Data_2012!P$271","v":0},{"$f":"Baseline_Data_2012!Q100/Baseline_Data_2012!Q$271","v":0},{"$f":"Baseline_Data_2012!R100/Baseline_Data_2012!R$271","v":0},{"$f":"Baseline_Data_2012!S100/Baseline_Data_2012!S$271","v":0},{"$f":"Baseline_Data_2012!T100/Baseline_Data_2012!T$271","v":0},{"$f":"Baseline_Data_2012!U100/Baseline_Data_2012!U$271","v":0},{"$f":"Baseline_Data_2012!V100/Baseline_Data_2012!V$271","v":0},{"$f":"Baseline_Data_2012!W100/Baseline_Data_2012!W$271","v":0},{"$f":"Baseline_Data_2012!X100/Baseline_Data_2012!X$271","v":0},{"$f":"Baseline_Data_2012!Y100/Baseline_Data_2012!Y$271","v":0},{"$f":"Baseline_Data_2012!Z100/Baseline_Data_2012!Z$271","v":0},{"$f":"Baseline_Data_2012!AA100/Baseline_Data_2012!AA$271","v":0},{"$f":"Baseline_Data_2012!AB100/Baseline_Data_2012!AB$271","v":0},{"$f":"Baseline_Data_2012!AC100/Baseline_Data_2012!AC$271","v":0},{"$f":"Baseline_Data_2012!AD100/Baseline_Data_2012!AD$271","v":0},{"$f":"Baseline_Data_2012!AE100/Baseline_Data_2012!AE$271","v":0},{"$f":"Baseline_Data_2012!AF100/Baseline_Data_2012!AF$271","v":0},{"$f":"Baseline_Data_2012!AG100/Baseline_Data_2012!AG$271","v":0},{"$f":"Baseline_Data_2012!AH100/Baseline_Data_2012!AH$271","v":0},{"$f":"Baseline_Data_2012!AI100/Baseline_Data_2012!AI$271","v":0},{"$f":"Baseline_Data_2012!AJ100/Baseline_Data_2012!AJ$271","v":0},{"$f":"Baseline_Data_2012!AK100/Baseline_Data_2012!AK$271","v":0},{"$f":"Baseline_Data_2012!AL100/Baseline_Data_2012!AL$271","v":0},{"$f":"Baseline_Data_2012!AM100/Baseline_Data_2012!AM$271","v":0},{"$f":"Baseline_Data_2012!AN100/Baseline_Data_2012!AN$271","v":0},{"$f":"Baseline_Data_2012!AO100/Baseline_Data_2012!AO$271","v":0},{"$f":"Baseline_Data_2012!AP100/Baseline_Data_2012!AP$271","v":0},{"$f":"Baseline_Data_2012!AQ100/Baseline_Data_2012!AQ$271","v":0},{"$f":"Baseline_Data_2012!AR100/Baseline_Data_2012!AR$271","v":0},{"$f":"Baseline_Data_2012!AS100/Baseline_Data_2012!AS$271","v":0},{"$f":"Baseline_Data_2012!AT100/Baseline_Data_2012!AT$271","v":0},{"$f":"Baseline_Data_2012!AU100/Baseline_Data_2012!AU$271","v":0},{"$f":"Baseline_Data_2012!AV100/Baseline_Data_2012!AV$271","v":0},101]
[1,"Female 80-84",null,null,null,{"$f":"G102*'III Tool Overview'!$H$8","v":0},{"$f":"HLOOKUP('III Tool Overview'!$H$6,Targeting!$I$1:$BC$277,Targeting!BD102,FALSE)","v":0},{"$f":"Baseline_Data_2012!B101","v":0},{"$f":"Baseline_Data_2012!B101/Baseline_Data_2012!B$271","v":0},{"$f":"Baseline_Data_2012!C101/Baseline_Data_2012!C$271","v":0},{"$f":"Baseline_Data_2012!D101/Baseline_Data_2012!D$271","v":0},{"$f":"Baseline_Data_2012!E101/Baseline_Data_2012!E$271","v":0},{"$f":"Baseline_Data_2012!F101/Baseline_Data_2012!F$271","v":0},{"$f":"Baseline_Data_2012!G101/Baseline_Data_2012!G$271","v":0},{"$f":"Baseline_Data_2012!H101/Baseline_Data_2012!H$271","v":0},{"$f":"Baseline_Data_2012!I101/Baseline_Data_2012!I$271","v":0},{"$f":"Baseline_Data_2012!J101/Baseline_Data_2012!J$271","v":0},{"$f":"Baseline_Data_2012!K101/Baseline_Data_2012!K$271","v":0},{"$f":"Baseline_Data_2012!L101/Baseline_Data_2012!L$271","v":0},{"$f":"Baseline_Data_2012!M101/Baseline_Data_2012!M$271","v":0},{"$f":"Baseline_Data_2012!N101/Baseline_Data_2012!N$271","v":0},{"$f":"Baseline_Data_2012!O101/Baseline_Data_2012!O$271","v":0},{"$f":"Baseline_Data_2012!P101/Baseline_Data_2012!P$271","v":0},{"$f":"Baseline_Data_2012!Q101/Baseline_Data_2012!Q$271","v":0},{"$f":"Baseline_Data_2012!R101/Baseline_Data_2012!R$271","v":0},{"$f":"Baseline_Data_2012!S101/Baseline_Data_2012!S$271","v":0},{"$f":"Baseline_Data_2012!T101/Baseline_Data_2012!T$271","v":0},{"$f":"Baseline_Data_2012!U101/Baseline_Data_2012!U$271","v":0},{"$f":"Baseline_Data_2012!V101/Baseline_Data_2012!V$271","v":0},{"$f":"Baseline_Data_2012!W101/Baseline_Data_2012!W$271","v":0},{"$f":"Baseline_Data_2012!X101/Baseline_Data_2012!X$271","v":0},{"$f":"Baseline_Data_2012!Y101/Baseline_Data_2012!Y$271","v":0},{"$f":"Baseline_Data_2012!Z101/Baseline_Data_2012!Z$271","v":0},{"$f":"Baseline_Data_2012!AA101/Baseline_Data_2012!AA$271","v":0},{"$f":"Baseline_Data_2012!AB101/Baseline_Data_2012!AB$271","v":0},{"$f":"Baseline_Data_2012!AC101/Baseline_Data_2012!AC$271","v":0},{"$f":"Baseline_Data_2012!AD101/Baseline_Data_2012!AD$271","v":0},{"$f":"Baseline_Data_2012!AE101/Baseline_Data_2012!AE$271","v":0},{"$f":"Baseline_Data_2012!AF101/Baseline_Data_2012!AF$271","v":0},{"$f":"Baseline_Data_2012!AG101/Baseline_Data_2012!AG$271","v":0},{"$f":"Baseline_Data_2012!AH101/Baseline_Data_2012!AH$271","v":0},{"$f":"Baseline_Data_2012!AI101/Baseline_Data_2012!AI$271","v":0},{"$f":"Baseline_Data_2012!AJ101/Baseline_Data_2012!AJ$271","v":0},{"$f":"Baseline_Data_2012!AK101/Baseline_Data_2012!AK$271","v":0},{"$f":"Baseline_Data_2012!AL101/Baseline_Data_2012!AL$271","v":0},{"$f":"Baseline_Data_2012!AM101/Baseline_Data_2012!AM$271","v":0},{"$f":"Baseline_Data_2012!AN101/Baseline_Data_2012!AN$271","v":0},{"$f":"Baseline_Data_2012!AO101/Baseline_Data_2012!AO$271","v":0},{"$f":"Baseline_Data_2012!AP101/Baseline_Data_2012!AP$271","v":0},{"$f":"Baseline_Data_2012!AQ101/Baseline_Data_2012!AQ$271","v":0},{"$f":"Baseline_Data_2012!AR101/Baseline_Data_2012!AR$271","v":0},{"$f":"Baseline_Data_2012!AS101/Baseline_Data_2012!AS$271","v":0},{"$f":"Baseline_Data_2012!AT101/Baseline_Data_2012!AT$271","v":0},{"$f":"Baseline_Data_2012!AU101/Baseline_Data_2012!AU$271","v":0},{"$f":"Baseline_Data_2012!AV101/Baseline_Data_2012!AV$271","v":0},102]
[1,"Female 85+",null,null,null,{"$f":"G103*'III Tool Overview'!$H$8","v":0},{"$f":"HLOOKUP('III Tool Overview'!$H$6,Targeting!$I$1:$BC$277,Targeting!BD103,FALSE)","v":0},{"$f":"Baseline_Data_2012!B102","v":0},{"$f":"Baseline_Data_2012!B102/Baseline_Data_2012!B$271","v":0},{"$f":"Baseline_Data_2012!C102/Baseline_Data_2012!C$271","v":0},{"$f":"Baseline_Data_2012!D102/Baseline_Data_2012!D$271","v":0},{"$f":"Baseline_Data_2012!E102/Baseline_Data_2012!E$271","v":0},{"$f":"Baseline_Data_2012!F102/Baseline_Data_2012!F$271","v":0},{"$f":"Baseline_Data_2012!G102/Baseline_Data_2012!G$271","v":0},{"$f":"Baseline_Data_2012!H102/Baseline_Data_2012!H$271","v":0},{"$f":"Baseline_Data_2012!I102/Baseline_Data_2012!I$271","v":0},{"$f":"Baseline_Data_2012!J102/Baseline_Data_2012!J$271","v":0},{"$f":"Baseline_Data_2012!K102/Baseline_Data_2012!K$271","v":0},{"$f":"Baseline_Data_2012!L102/Baseline_Data_2012!L$271","v":0},{"$f":"Baseline_Data_2012!M102/Baseline_Data_2012!M$271","v":0},{"$f":"Baseline_Data_2012!N102/Baseline_Data_2012!N$271","v":0},{"$f":"Baseline_Data_2012!O102/Baseline_Data_2012!O$271","v":0},{"$f":"Baseline_Data_2012!P102/Baseline_Data_2012!P$271","v":0},{"$f":"Baseline_Data_2012!Q102/Baseline_Data_2012!Q$271","v":0},{"$f":"Baseline_Data_2012!R102/Baseline_Data_2012!R$271","v":0},{"$f":"Baseline_Data_2012!S102/Baseline_Data_2012!S$271","v":0},{"$f":"Baseline_Data_2012!T102/Baseline_Data_2012!T$271","v":0},{"$f":"Baseline_Data_2012!U102/Baseline_Data_2012!U$271","v":0},{"$f":"Baseline_Data_2012!V102/Baseline_Data_2012!V$271","v":0},{"$f":"Baseline_Data_2012!W102/Baseline_Data_2012!W$271","v":0},{"$f":"Baseline_Data_2012!X102/Baseline_Data_2012!X$271","v":0},{"$f":"Baseline_Data_2012!Y102/Baseline_Data_2012!Y$271","v":0},{"$f":"Baseline_Data_2012!Z102/Baseline_Data_2012!Z$271","v":0},{"$f":"Baseline_Data_2012!AA102/Baseline_Data_2012!AA$271","v":0},{"$f":"Baseline_Data_2012!AB102/Baseline_Data_2012!AB$271","v":0},{"$f":"Baseline_Data_2012!AC102/Baseline_Data_2012!AC$271","v":0},{"$f":"Baseline_Data_2012!AD102/Baseline_Data_2012!AD$271","v":0},{"$f":"Baseline_Data_2012!AE102/Baseline_Data_2012!AE$271","v":0},{"$f":"Baseline_Data_2012!AF102/Baseline_Data_2012!AF$271","v":0},{"$f":"Baseline_Data_2012!AG102/Baseline_Data_2012!AG$271","v":0},{"$f":"Baseline_Data_2012!AH102/Baseline_Data_2012!AH$271","v":0},{"$f":"Baseline_Data_2012!AI102/Baseline_Data_2012!AI$271","v":0},{"$f":"Baseline_Data_2012!AJ102/Baseline_Data_2012!AJ$271","v":0},{"$f":"Baseline_Data_2012!AK102/Baseline_Data_2012!AK$271","v":0},{"$f":"Baseline_Data_2012!AL102/Baseline_Data_2012!AL$271","v":0},{"$f":"Baseline_Data_2012!AM102/Baseline_Data_2012!AM$271","v":0},{"$f":"Baseline_Data_2012!AN102/Baseline_Data_2012!AN$271","v":0},{"$f":"Baseline_Data_2012!AO102/Baseline_Data_2012!AO$271","v":0},{"$f":"Baseline_Data_2012!AP102/Baseline_Data_2012!AP$271","v":0},{"$f":"Baseline_Data_2012!AQ102/Baseline_Data_2012!AQ$271","v":0},{"$f":"Baseline_Data_2012!AR102/Baseline_Data_2012!AR$271","v":0},{"$f":"Baseline_Data_2012!AS102/Baseline_Data_2012!AS$271","v":0},{"$f":"Baseline_Data_2012!AT102/Baseline_Data_2012!AT$271","v":0},{"$f":"Baseline_Data_2012!AU102/Baseline_Data_2012!AU$271","v":0},{"$f":"Baseline_Data_2012!AV102/Baseline_Data_2012!AV$271","v":0},103]
[1,"Female 90+",null,null,null,{"$f":"G104*'III Tool Overview'!$H$8","v":0},{"$f":"HLOOKUP('III Tool Overview'!$H$6,Targeting!$I$1:$BC$277,Targeting!BD104,FALSE)","v":0},{"$f":"Baseline_Data_2012!B103","v":0},{"$f":"Baseline_Data_2012!B103/Baseline_Data_2012!B$271","v":0},{"$f":"Baseline_Data_2012!C103/Baseline_Data_2012!C$271","v":0},{"$f":"Baseline_Data_2012!D103/Baseline_Data_2012!D$271","v":0},{"$f":"Baseline_Data_2012!E103/Baseline_Data_2012!E$271","v":0},{"$f":"Baseline_Data_2012!F103/Baseline_Data_2012!F$271","v":0},{"$f":"Baseline_Data_2012!G103/Baseline_Data_2012!G$271","v":0},{"$f":"Baseline_Data_2012!H103/Baseline_Data_2012!H$271","v":0},{"$f":"Baseline_Data_2012!I103/Baseline_Data_2012!I$271","v":0},{"$f":"Baseline_Data_2012!J103/Baseline_Data_2012!J$271","v":0},{"$f":"Baseline_Data_2012!K103/Baseline_Data_2012!K$271","v":0},{"$f":"Baseline_Data_2012!L103/Baseline_Data_2012!L$271","v":0},{"$f":"Baseline_Data_2012!M103/Baseline_Data_2012!M$271","v":0},{"$f":"Baseline_Data_2012!N103/Baseline_Data_2012!N$271","v":0},{"$f":"Baseline_Data_2012!O103/Baseline_Data_2012!O$271","v":0},{"$f":"Baseline_Data_2012!P103/Baseline_Data_2012!P$271","v":0},{"$f":"Baseline_Data_2012!Q103/Baseline_Data_2012!Q$271","v":0},{"$f":"Baseline_Data_2012!R103/Baseline_Data_2012!R$271","v":0},{"$f":"Baseline_Data_2012!S103/Baseline_Data_2012!S$271","v":0},{"$f":"Baseline_Data_2012!T103/Baseline_Data_2012!T$271","v":0},{"$f":"Baseline_Data_2012!U103/Baseline_Data_2012!U$271","v":0},{"$f":"Baseline_Data_2012!V103/Baseline_Data_2012!V$271","v":0},{"$f":"Baseline_Data_2012!W103/Baseline_Data_2012!W$271","v":0},{"$f":"Baseline_Data_2012!X103/Baseline_Data_2012!X$271","v":0},{"$f":"Baseline_Data_2012!Y103/Baseline_Data_2012!Y$271","v":0},{"$f":"Baseline_Data_2012!Z103/Baseline_Data_2012!Z$271","v":0},{"$f":"Baseline_Data_2012!AA103/Baseline_Data_2012!AA$271","v":0},{"$f":"Baseline_Data_2012!AB103/Baseline_Data_2012!AB$271","v":0},{"$f":"Baseline_Data_2012!AC103/Baseline_Data_2012!AC$271","v":0},{"$f":"Baseline_Data_2012!AD103/Baseline_Data_2012!AD$271","v":0},{"$f":"Baseline_Data_2012!AE103/Baseline_Data_2012!AE$271","v":0},{"$f":"Baseline_Data_2012!AF103/Baseline_Data_2012!AF$271","v":0},{"$f":"Baseline_Data_2012!AG103/Baseline_Data_2012!AG$271","v":0},{"$f":"Baseline_Data_2012!AH103/Baseline_Data_2012!AH$271","v":0},{"$f":"Baseline_Data_2012!AI103/Baseline_Data_2012!AI$271","v":0},{"$f":"Baseline_Data_2012!AJ103/Baseline_Data_2012!AJ$271","v":0},{"$f":"Baseline_Data_2012!AK103/Baseline_Data_2012!AK$271","v":0},{"$f":"Baseline_Data_2012!AL103/Baseline_Data_2012!AL$271","v":0},{"$f":"Baseline_Data_2012!AM103/Baseline_Data_2012!AM$271","v":0},{"$f":"Baseline_Data_2012!AN103/Baseline_Data_2012!AN$271","v":0},{"$f":"Baseline_Data_2012!AO103/Baseline_Data_2012!AO$271","v":0},{"$f":"Baseline_Data_2012!AP103/Baseline_Data_2012!AP$271","v":0},{"$f":"Baseline_Data_2012!AQ103/Baseline_Data_2012!AQ$271","v":0},{"$f":"Baseline_Data_2012!AR103/Baseline_Data_2012!AR$271","v":0},{"$f":"Baseline_Data_2012!AS103/Baseline_Data_2012!AS$271","v":0},{"$f":"Baseline_Data_2012!AT103/Baseline_Data_2012!AT$271","v":0},{"$f":"Baseline_Data_2012!AU103/Baseline_Data_2012!AU$271","v":0},{"$f":"Baseline_Data_2012!AV103/Baseline_Data_2012!AV$271","v":0},104]
[null,"TOTAL",null,null,null,null,{"$f":"HLOOKUP('III Tool Overview'!$H$6,Targeting!$I$1:$BC$277,Targeting!BD105,FALSE)","v":0},null,null,null,null,null,null,null,null,null,null,null,null,null,null,null,null,null,null,null,null,null,null,null,null,null,null,null,null,null,null,null,null,null,null,null,null,null,null,null,null,null,null,null,null,null,null,null,null,105]
[null,"age/sex breakdown: Q2",null,null,null,null,{"$f":"HLOOKUP('III Tool Overview'!$H$6,Targeting!$I$1:$BC$277,Targeting!BD106,FALSE)","v":0},null,null,null,null,null,null,null,null,null,null,null,null,null,null,null,null,null,null,null,null,null,null,null,null,null,null,null,null,null,null,null,null,null,null,null,null,null,null,null,null,null,null,null,null,null,null,null,null,106]
[2,"Male <1",null,null,null,null,{"$f":"HLOOKUP('III Tool Overview'!$H$6,Targeting!$I$1:$BC$277,Targeting!BD107,FALSE)","v":0},null,null,null,null,null,null,null,null,null,null,null,null,null,null,null,null,null,null,null,null,null,null,null,null,null,null,null,null,null,null,null,null,null,null,null,null,null,null,null,null,null,null,null,null,null,null,null,null,107]
[2,"Male 1-4",null,null,null,null,{"$f":"HLOOKUP('III Tool Overview'!$H$6,Targeting!$I$1:$BC$277,Targeting!BD108,FALSE)","v":0},null,null,null,null,null,null,null,null,null,null,null,null,null,null,null,null,null,null,null,null,null,null,null,null,null,null,null,null,null,null,null,null,null,null,null,null,null,null,null,null,null,null,null,null,null,null,null,null,108]
[2,"Male 5-9",null,null,null,null,{"$f":"HLOOKUP('III Tool Overview'!$H$6,Targeting!$I$1:$BC$277,Targeting!BD109,FALSE)","v":0},null,null,null,null,null,null,null,null,null,null,null,null,null,null,null,null,null,null,null,null,null,null,null,null,null,null,null,null,null,null,null,null,null,null,null,null,null,null,null,null,null,null,null,null,null,null,null,null,109]
[2,"Male 10-14",null,null,null,null,{"$f":"HLOOKUP('III Tool Overview'!$H$6,Targeting!$I$1:$BC$277,Targeting!BD110,FALSE)","v":0},null,null,null,null,null,null,null,null,null,null,null,null,null,null,null,null,null,null,null,null,null,null,null,null,null,null,null,null,null,null,null,null,null,null,null,null,null,null,null,null,null,null,null,null,null,null,null,null,110]
[2,"Male 15-19",{"$f":"'III Tool Overview'!$H$8/100","v":1000},0,{"$f":"'III Tool Overview'!$H$8/40","v":2500},{"$f":"G111*'III Tool Overview'!$H$8","v":439.70676864062756},{"$f":"HLOOKUP('III Tool Overview'!$H$6,Targeting!$I$1:$BC$277,Targeting!BD111,FALSE)","v":4.3970676864062757E-3},{"$f":"Baseline_Data_2012!B109","v":6403.358529348714},{"$f":"Baseline_Data_2012!B109/Baseline_Data_2012!B$271","v":4.3970676864062757E-3},{"$f":"Baseline_Data_2012!C109/Baseline_Data_2012!C$271","v":6.9495772108220145E-3},{"$f":"Baseline_Data_2012!D109/Baseline_Data_2012!D$271","v":2.7447409953138069E-3},{"$f":"Baseline_Data_2012!E109/Baseline_Data_2012!E$271","v":4.7551535967353675E-3},{"$f":"Baseline_Data_2012!F109/Baseline_Data_2012!F$271","v":4.7469954998168515E-3},{"$f":"Baseline_Data_2012!G109/Baseline_Data_2012!G$271","v":5.3333647609463694E-3},{"$f":"Baseline_Data_2012!H109/Baseline_Data_2012!H$271","v":2.2208366459830504E-3},{"$f":"Baseline_Data_2012!I109/Baseline_Data_2012!I$271","v":4.1914606123748081E-3},{"$f":"Baseline_Data_2012!J109/Baseline_Data_2012!J$271","v":3.8843251633842463E-3},{"$f":"Baseline_Data_2012!K109/Baseline_Data_2012!K$271","v":6.4772283480124954E-3},{"$f":"Baseline_Data_2012!L109/Baseline_Data_2012!L$271","v":3.997261178950523E-3},{"$f":"Baseline_Data_2012!M109/Baseline_Data_2012!M$271","v":4.3893137738700789E-3},{"$f":"Baseline_Data_2012!N109/Baseline_Data_2012!N$271","v":9.501782207693765E-4},{"$f":"Baseline_Data_2012!O109/Baseline_Data_2012!O$271","v":4.1201713822717071E-3},{"$f":"Baseline_Data_2012!P109/Baseline_Data_2012!P$271","v":5.1410694917927904E-3},{"$f":"Baseline_Data_2012!Q109/Baseline_Data_2012!Q$271","v":3.6633483966992484E-3},{"$f":"Baseline_Data_2012!R109/Baseline_Data_2012!R$271","v":1.1602830520471199E-3},{"$f":"Baseline_Data_2012!S109/Baseline_Data_2012!S$271","v":3.8455207920922259E-3},{"$f":"Baseline_Data_2012!T109/Baseline_Data_2012!T$271","v":3.6657103134776709E-3},{"$f":"Baseline_Data_2012!U109/Baseline_Data_2012!U$271","v":4.2340059667392302E-3},{"$f":"Baseline_Data_2012!V109/Baseline_Data_2012!V$271","v":4.7551535967353667E-3},{"$f":"Baseline_Data_2012!W109/Baseline_Data_2012!W$271","v":6.0897012042932007E-3},{"$f":"Baseline_Data_2012!X109/Baseline_Data_2012!X$271","v":7.782540154342584E-3},{"$f":"Baseline_Data_2012!Y109/Baseline_Data_2012!Y$271","v":3.6708962501203922E-3},{"$f":"Baseline_Data_2012!Z109/Baseline_Data_2012!Z$271","v":4.3230195867972375E-3},{"$f":"Baseline_Data_2012!AA109/Baseline_Data_2012!AA$271","v":2.3181776311963485E-3},{"$f":"Baseline_Data_2012!AB109/Baseline_Data_2012!AB$271","v":2.5135990604448506E-3},{"$f":"Baseline_Data_2012!AC109/Baseline_Data_2012!AC$271","v":5.1410694917927886E-3},{"$f":"Baseline_Data_2012!AD109/Baseline_Data_2012!AD$271","v":6.3172934987988051E-3},{"$f":"Baseline_Data_2012!AE109/Baseline_Data_2012!AE$271","v":4.7469954998168515E-3},{"$f":"Baseline_Data_2012!AF109/Baseline_Data_2012!AF$271","v":4.4501460705968056E-3},{"$f":"Baseline_Data_2012!AG109/Baseline_Data_2012!AG$271","v":3.9587535863629501E-3},{"$f":"Baseline_Data_2012!AH109/Baseline_Data_2012!AH$271","v":3.4242009026826969E-3},{"$f":"Baseline_Data_2012!AI109/Baseline_Data_2012!AI$271","v":6.4265353067816571E-3},{"$f":"Baseline_Data_2012!AJ109/Baseline_Data_2012!AJ$271","v":1.8978478967807077E-3},{"$f":"Baseline_Data_2012!AK109/Baseline_Data_2012!AK$271","v":6.804993037139319E-3},{"$f":"Baseline_Data_2012!AL109/Baseline_Data_2012!AL$271","v":7.1169106084681489E-3},{"$f":"Baseline_Data_2012!AM109/Baseline_Data_2012!AM$271","v":4.3893137738700797E-3},{"$f":"Baseline_Data_2012!AN109/Baseline_Data_2012!AN$271","v":2.4579389616748853E-3},{"$f":"Baseline_Data_2012!AO109/Baseline_Data_2012!AO$271","v":3.9568505957180058E-3},{"$f":"Baseline_Data_2012!AP109/Baseline_Data_2012!AP$271","v":2.7447409953138069E-3},{"$f":"Baseline_Data_2012!AQ109/Baseline_Data_2012!AQ$271","v":9.5017822076937672E-4},{"$f":"Baseline_Data_2012!AR109/Baseline_Data_2012!AR$271","v":6.1795140237895273E-3},{"$f":"Baseline_Data_2012!AS109/Baseline_Data_2012!AS$271","v":5.0474421923762825E-3},{"$f":"Baseline_Data_2012!AT109/Baseline_Data_2012!AT$271","v":4.2481671928277769E-3},{"$f":"Baseline_Data_2012!AU109/Baseline_Data_2012!AU$271","v":7.3887258675683753E-3},{"$f":"Baseline_Data_2012!AV109/Baseline_Data_2012!AV$271","v":6.8554814049785985E-3},111]
[2,"Male 20-24",{"$f":"'III Tool Overview'!$H$8/100","v":1000},0,{"$f":"'III Tool Overview'!$H$8/40","v":2500},{"$f":"G112*'III Tool Overview'!$H$8","v":667.34677346413127},{"$f":"HLOOKUP('III Tool Overview'!$H$6,Targeting!$I$1:$BC$277,Targeting!BD112,FALSE)","v":6.6734677346413128E-3},{"$f":"Baseline_Data_2012!B110","v":9718.4327344012891},{"$f":"Baseline_Data_2012!B110/Baseline_Data_2012!B$271","v":6.6734677346413128E-3},{"$f":"Baseline_Data_2012!C110/Baseline_Data_2012!C$271","v":8.1846097805994156E-3},{"$f":"Baseline_Data_2012!D110/Baseline_Data_2012!D$271","v":3.8978570347651693E-3},{"$f":"Baseline_Data_2012!E110/Baseline_Data_2012!E$271","v":5.1419933761944403E-3},{"$f":"Baseline_Data_2012!F110/Baseline_Data_2012!F$271","v":6.3455286829178616E-3},{"$f":"Baseline_Data_2012!G110/Baseline_Data_2012!G$271","v":7.1936223463850918E-3},{"$f":"Baseline_Data_2012!H110/Baseline_Data_2012!H$271","v":4.5568496605742637E-3},{"$f":"Baseline_Data_2012!I110/Baseline_Data_2012!I$271","v":7.3069493750674546E-3},{"$f":"Baseline_Data_2012!J110/Baseline_Data_2012!J$271","v":4.6271220673815214E-3},{"$f":"Baseline_Data_2012!K110/Baseline_Data_2012!K$271","v":8.1123701414762776E-3},{"$f":"Baseline_Data_2012!L110/Baseline_Data_2012!L$271","v":6.5354698440177996E-3},{"$f":"Baseline_Data_2012!M110/Baseline_Data_2012!M$271","v":6.0301787360645008E-3},{"$f":"Baseline_Data_2012!N110/Baseline_Data_2012!N$271","v":1.0963594855031265E-3},{"$f":"Baseline_Data_2012!O110/Baseline_Data_2012!O$271","v":8.3587251535551643E-3},{"$f":"Baseline_Data_2012!P110/Baseline_Data_2012!P$271","v":6.8368149262584763E-3},{"$f":"Baseline_Data_2012!Q110/Baseline_Data_2012!Q$271","v":8.787324449960254E-3},{"$f":"Baseline_Data_2012!R110/Baseline_Data_2012!R$271","v":1.7663526909655874E-3},{"$f":"Baseline_Data_2012!S110/Baseline_Data_2012!S$271","v":4.8493716012729272E-3},{"$f":"Baseline_Data_2012!T110/Baseline_Data_2012!T$271","v":4.2068876020969377E-3},{"$f":"Baseline_Data_2012!U110/Baseline_Data_2012!U$271","v":4.289961992731379E-3},{"$f":"Baseline_Data_2012!V110/Baseline_Data_2012!V$271","v":5.1419933761944394E-3},{"$f":"Baseline_Data_2012!W110/Baseline_Data_2012!W$271","v":1.4722429080757838E-2},{"$f":"Baseline_Data_2012!X110/Baseline_Data_2012!X$271","v":9.4421166182315757E-3},{"$f":"Baseline_Data_2012!Y110/Baseline_Data_2012!Y$271","v":4.5982805659402813E-3},{"$f":"Baseline_Data_2012!Z110/Baseline_Data_2012!Z$271","v":5.0107727028786166E-3},{"$f":"Baseline_Data_2012!AA110/Baseline_Data_2012!AA$271","v":2.4427078345250781E-3},{"$f":"Baseline_Data_2012!AB110/Baseline_Data_2012!AB$271","v":5.9868714389565078E-3},{"$f":"Baseline_Data_2012!AC110/Baseline_Data_2012!AC$271","v":6.8368149262584728E-3},{"$f":"Baseline_Data_2012!AD110/Baseline_Data_2012!AD$271","v":7.3015743555521597E-3},{"$f":"Baseline_Data_2012!AE110/Baseline_Data_2012!AE$271","v":6.3455286829178616E-3},{"$f":"Baseline_Data_2012!AF110/Baseline_Data_2012!AF$271","v":9.5742046009706736E-3},{"$f":"Baseline_Data_2012!AG110/Baseline_Data_2012!AG$271","v":4.7758219137808838E-3},{"$f":"Baseline_Data_2012!AH110/Baseline_Data_2012!AH$271","v":5.5343173261070897E-3},{"$f":"Baseline_Data_2012!AI110/Baseline_Data_2012!AI$271","v":8.0657360353695463E-3},{"$f":"Baseline_Data_2012!AJ110/Baseline_Data_2012!AJ$271","v":2.6997554588007251E-3},{"$f":"Baseline_Data_2012!AK110/Baseline_Data_2012!AK$271","v":7.513503208076343E-3},{"$f":"Baseline_Data_2012!AL110/Baseline_Data_2012!AL$271","v":8.9071256688938536E-3},{"$f":"Baseline_Data_2012!AM110/Baseline_Data_2012!AM$271","v":6.0301787360645025E-3},{"$f":"Baseline_Data_2012!AN110/Baseline_Data_2012!AN$271","v":5.2012323146787814E-3},{"$f":"Baseline_Data_2012!AO110/Baseline_Data_2012!AO$271","v":5.325644842492548E-3},{"$f":"Baseline_Data_2012!AP110/Baseline_Data_2012!AP$271","v":3.8978570347651693E-3},{"$f":"Baseline_Data_2012!AQ110/Baseline_Data_2012!AQ$271","v":1.0963594855031267E-3},{"$f":"Baseline_Data_2012!AR110/Baseline_Data_2012!AR$271","v":7.5359927119384475E-3},{"$f":"Baseline_Data_2012!AS110/Baseline_Data_2012!AS$271","v":6.4173362294452103E-3},{"$f":"Baseline_Data_2012!AT110/Baseline_Data_2012!AT$271","v":8.5880214473712628E-3},{"$f":"Baseline_Data_2012!AU110/Baseline_Data_2012!AU$271","v":9.7243053884836367E-3},{"$f":"Baseline_Data_2012!AV110/Baseline_Data_2012!AV$271","v":8.1168489634114594E-3},112]
[2,"Male 25-29",{"$f":"'III Tool Overview'!$H$8/100","v":1000},0,{"$f":"'III Tool Overview'!$H$8/40","v":2500},{"$f":"G113*'III Tool Overview'!$H$8","v":1197.0897410376738},{"$f":"HLOOKUP('III Tool Overview'!$H$6,Targeting!$I$1:$BC$277,Targeting!BD113,FALSE)","v":1.1970897410376737E-2},{"$f":"Baseline_Data_2012!B111","v":17432.969766117836},{"$f":"Baseline_Data_2012!B111/Baseline_Data_2012!B$271","v":1.1970897410376737E-2},{"$f":"Baseline_Data_2012!C111/Baseline_Data_2012!C$271","v":1.4812658716522134E-2},{"$f":"Baseline_Data_2012!D111/Baseline_Data_2012!D$271","v":6.2813482004361026E-3},{"$f":"Baseline_Data_2012!E111/Baseline_Data_2012!E$271","v":9.0563728264336212E-3},{"$f":"Baseline_Data_2012!F111/Baseline_Data_2012!F$271","v":1.0828833658200246E-2},{"$f":"Baseline_Data_2012!G111/Baseline_Data_2012!G$271","v":1.2972559863681881E-2},{"$f":"Baseline_Data_2012!H111/Baseline_Data_2012!H$271","v":8.5450486077939761E-3},{"$f":"Baseline_Data_2012!I111/Baseline_Data_2012!I$271","v":1.3404566252534653E-2},{"$f":"Baseline_Data_2012!J111/Baseline_Data_2012!J$271","v":8.5290288602690809E-3},{"$f":"Baseline_Data_2012!K111/Baseline_Data_2012!K$271","v":1.4832996252046834E-2},{"$f":"Baseline_Data_2012!L111/Baseline_Data_2012!L$271","v":1.212261974719004E-2},{"$f":"Baseline_Data_2012!M111/Baseline_Data_2012!M$271","v":1.1565432535981907E-2},{"$f":"Baseline_Data_2012!N111/Baseline_Data_2012!N$271","v":1.1888543736584406E-3},{"$f":"Baseline_Data_2012!O111/Baseline_Data_2012!O$271","v":1.2820197179849602E-2},{"$f":"Baseline_Data_2012!P111/Baseline_Data_2012!P$271","v":1.045882744853765E-2},{"$f":"Baseline_Data_2012!Q111/Baseline_Data_2012!Q$271","v":1.6349462728187557E-2},{"$f":"Baseline_Data_2012!R111/Baseline_Data_2012!R$271","v":3.3328642084932344E-3},{"$f":"Baseline_Data_2012!S111/Baseline_Data_2012!S$271","v":8.9874423894274087E-3},{"$f":"Baseline_Data_2012!T111/Baseline_Data_2012!T$271","v":7.1970203540690208E-3},{"$f":"Baseline_Data_2012!U111/Baseline_Data_2012!U$271","v":9.27006401947994E-3},{"$f":"Baseline_Data_2012!V111/Baseline_Data_2012!V$271","v":9.0563728264336195E-3},{"$f":"Baseline_Data_2012!W111/Baseline_Data_2012!W$271","v":1.872696646625421E-2},{"$f":"Baseline_Data_2012!X111/Baseline_Data_2012!X$271","v":1.7995874196405713E-2},{"$f":"Baseline_Data_2012!Y111/Baseline_Data_2012!Y$271","v":7.2628366316687459E-3},{"$f":"Baseline_Data_2012!Z111/Baseline_Data_2012!Z$271","v":8.9912788711900334E-3},{"$f":"Baseline_Data_2012!AA111/Baseline_Data_2012!AA$271","v":3.5663420668097692E-3},{"$f":"Baseline_Data_2012!AB111/Baseline_Data_2012!AB$271","v":1.12206658810771E-2},{"$f":"Baseline_Data_2012!AC111/Baseline_Data_2012!AC$271","v":1.0458827448537643E-2},{"$f":"Baseline_Data_2012!AD111/Baseline_Data_2012!AD$271","v":1.4629833149933826E-2},{"$f":"Baseline_Data_2012!AE111/Baseline_Data_2012!AE$271","v":1.0828833658200246E-2},{"$f":"Baseline_Data_2012!AF111/Baseline_Data_2012!AF$271","v":1.8416178547861217E-2},{"$f":"Baseline_Data_2012!AG111/Baseline_Data_2012!AG$271","v":9.01252652478483E-3},{"$f":"Baseline_Data_2012!AH111/Baseline_Data_2012!AH$271","v":8.5862241629578347E-3},{"$f":"Baseline_Data_2012!AI111/Baseline_Data_2012!AI$271","v":1.2830907394585306E-2},{"$f":"Baseline_Data_2012!AJ111/Baseline_Data_2012!AJ$271","v":5.2978801394350187E-3},{"$f":"Baseline_Data_2012!AK111/Baseline_Data_2012!AK$271","v":1.3042960381141959E-2},{"$f":"Baseline_Data_2012!AL111/Baseline_Data_2012!AL$271","v":1.6372986828076731E-2},{"$f":"Baseline_Data_2012!AM111/Baseline_Data_2012!AM$271","v":1.156543253598191E-2},{"$f":"Baseline_Data_2012!AN111/Baseline_Data_2012!AN$271","v":1.0361164763077916E-2},{"$f":"Baseline_Data_2012!AO111/Baseline_Data_2012!AO$271","v":9.9990955206746036E-3},{"$f":"Baseline_Data_2012!AP111/Baseline_Data_2012!AP$271","v":6.2813482004361026E-3},{"$f":"Baseline_Data_2012!AQ111/Baseline_Data_2012!AQ$271","v":1.1888543736584408E-3},{"$f":"Baseline_Data_2012!AR111/Baseline_Data_2012!AR$271","v":1.3315178685637884E-2},{"$f":"Baseline_Data_2012!AS111/Baseline_Data_2012!AS$271","v":1.1481014264220749E-2},{"$f":"Baseline_Data_2012!AT111/Baseline_Data_2012!AT$271","v":1.2151612510607923E-2},{"$f":"Baseline_Data_2012!AU111/Baseline_Data_2012!AU$271","v":1.6489655925773651E-2},{"$f":"Baseline_Data_2012!AV111/Baseline_Data_2012!AV$271","v":1.5901872408581638E-2},113]
[2,"Male 30-34",{"$f":"'III Tool Overview'!$H$8/100","v":1000},0,{"$f":"'III Tool Overview'!$H$8/40","v":2500},{"$f":"G114*'III Tool Overview'!$H$8","v":1102.4572620399233},{"$f":"HLOOKUP('III Tool Overview'!$H$6,Targeting!$I$1:$BC$277,Targeting!BD114,FALSE)","v":1.1024572620399234E-2},{"$f":"Baseline_Data_2012!B112","v":16054.856589882167},{"$f":"Baseline_Data_2012!B112/Baseline_Data_2012!B$271","v":1.1024572620399234E-2},{"$f":"Baseline_Data_2012!C112/Baseline_Data_2012!C$271","v":1.3256991362732139E-2},{"$f":"Baseline_Data_2012!D112/Baseline_Data_2012!D$271","v":6.5748691443817155E-3},{"$f":"Baseline_Data_2012!E112/Baseline_Data_2012!E$271","v":8.2712003604839129E-3},{"$f":"Baseline_Data_2012!F112/Baseline_Data_2012!F$271","v":1.1209477653396109E-2},{"$f":"Baseline_Data_2012!G112/Baseline_Data_2012!G$271","v":1.2400906920299739E-2},{"$f":"Baseline_Data_2012!H112/Baseline_Data_2012!H$271","v":6.9358467619164725E-3},{"$f":"Baseline_Data_2012!I112/Baseline_Data_2012!I$271","v":1.184060479715246E-2},{"$f":"Baseline_Data_2012!J112/Baseline_Data_2012!J$271","v":8.6451044009709689E-3},{"$f":"Baseline_Data_2012!K112/Baseline_Data_2012!K$271","v":1.5104111130739811E-2},{"$f":"Baseline_Data_2012!L112/Baseline_Data_2012!L$271","v":1.1228560036567964E-2},{"$f":"Baseline_Data_2012!M112/Baseline_Data_2012!M$271","v":8.8964865661399287E-3},{"$f":"Baseline_Data_2012!N112/Baseline_Data_2012!N$271","v":9.9071197804870043E-4},{"$f":"Baseline_Data_2012!O112/Baseline_Data_2012!O$271","v":1.0672310741340767E-2},{"$f":"Baseline_Data_2012!P112/Baseline_Data_2012!P$271","v":1.0653410284789512E-2},{"$f":"Baseline_Data_2012!Q112/Baseline_Data_2012!Q$271","v":1.2560134127123253E-2},{"$f":"Baseline_Data_2012!R112/Baseline_Data_2012!R$271","v":3.0282790787188093E-3},{"$f":"Baseline_Data_2012!S112/Baseline_Data_2012!S$271","v":9.3084224747641033E-3},{"$f":"Baseline_Data_2012!T112/Baseline_Data_2012!T$271","v":6.9017579805687535E-3},{"$f":"Baseline_Data_2012!U112/Baseline_Data_2012!U$271","v":8.5958775453359431E-3},{"$f":"Baseline_Data_2012!V112/Baseline_Data_2012!V$271","v":8.2712003604839129E-3},{"$f":"Baseline_Data_2012!W112/Baseline_Data_2012!W$271","v":1.3591757729761726E-2},{"$f":"Baseline_Data_2012!X112/Baseline_Data_2012!X$271","v":1.6275216049556396E-2},{"$f":"Baseline_Data_2012!Y112/Baseline_Data_2012!Y$271","v":6.4806849944121113E-3},{"$f":"Baseline_Data_2012!Z112/Baseline_Data_2012!Z$271","v":8.8459978840433381E-3},{"$f":"Baseline_Data_2012!AA112/Baseline_Data_2012!AA$271","v":3.7740901483715034E-3},{"$f":"Baseline_Data_2012!AB112/Baseline_Data_2012!AB$271","v":1.0355071655965437E-2},{"$f":"Baseline_Data_2012!AC112/Baseline_Data_2012!AC$271","v":1.0653410284789508E-2},{"$f":"Baseline_Data_2012!AD112/Baseline_Data_2012!AD$271","v":1.5114978685488006E-2},{"$f":"Baseline_Data_2012!AE112/Baseline_Data_2012!AE$271","v":1.1209477653396109E-2},{"$f":"Baseline_Data_2012!AF112/Baseline_Data_2012!AF$271","v":1.5779296165784329E-2},{"$f":"Baseline_Data_2012!AG112/Baseline_Data_2012!AG$271","v":9.2829023205283755E-3},{"$f":"Baseline_Data_2012!AH112/Baseline_Data_2012!AH$271","v":9.2027881321064021E-3},{"$f":"Baseline_Data_2012!AI112/Baseline_Data_2012!AI$271","v":1.1791093798388025E-2},{"$f":"Baseline_Data_2012!AJ112/Baseline_Data_2012!AJ$271","v":5.0241294939322983E-3},{"$f":"Baseline_Data_2012!AK112/Baseline_Data_2012!AK$271","v":1.088402287513102E-2},{"$f":"Baseline_Data_2012!AL112/Baseline_Data_2012!AL$271","v":1.6960762228437832E-2},{"$f":"Baseline_Data_2012!AM112/Baseline_Data_2012!AM$271","v":8.8964865661399304E-3},{"$f":"Baseline_Data_2012!AN112/Baseline_Data_2012!AN$271","v":9.0015549072894104E-3},{"$f":"Baseline_Data_2012!AO112/Baseline_Data_2012!AO$271","v":8.3984087117516416E-3},{"$f":"Baseline_Data_2012!AP112/Baseline_Data_2012!AP$271","v":6.5748691443817155E-3},{"$f":"Baseline_Data_2012!AQ112/Baseline_Data_2012!AQ$271","v":9.9071197804870064E-4},{"$f":"Baseline_Data_2012!AR112/Baseline_Data_2012!AR$271","v":1.2594140128653881E-2},{"$f":"Baseline_Data_2012!AS112/Baseline_Data_2012!AS$271","v":1.1337567996227245E-2},{"$f":"Baseline_Data_2012!AT112/Baseline_Data_2012!AT$271","v":9.8317592131282293E-3},{"$f":"Baseline_Data_2012!AU112/Baseline_Data_2012!AU$271","v":1.5759850579776493E-2},{"$f":"Baseline_Data_2012!AV112/Baseline_Data_2012!AV$271","v":1.4585983199946095E-2},114]
[2,"Male 35-39",{"$f":"'III Tool Overview'!$H$8/100","v":1000},0,{"$f":"'III Tool Overview'!$H$8/40","v":2500},{"$f":"G115*'III Tool Overview'!$H$8","v":1142.6785110622168},{"$f":"HLOOKUP('III Tool Overview'!$H$6,Targeting!$I$1:$BC$277,Targeting!BD115,FALSE)","v":1.1426785110622168E-2},{"$f":"Baseline_Data_2012!B113","v":16640.590302338293},{"$f":"Baseline_Data_2012!B113/Baseline_Data_2012!B$271","v":1.1426785110622168E-2},{"$f":"Baseline_Data_2012!C113/Baseline_Data_2012!C$271","v":1.5477223441019731E-2},{"$f":"Baseline_Data_2012!D113/Baseline_Data_2012!D$271","v":6.9757278806961785E-3},{"$f":"Baseline_Data_2012!E113/Baseline_Data_2012!E$271","v":9.9777737522848131E-3},{"$f":"Baseline_Data_2012!F113/Baseline_Data_2012!F$271","v":1.2253305264878714E-2},{"$f":"Baseline_Data_2012!G113/Baseline_Data_2012!G$271","v":1.3776123291518894E-2},{"$f":"Baseline_Data_2012!H113/Baseline_Data_2012!H$271","v":6.6057488257678272E-3},{"$f":"Baseline_Data_2012!I113/Baseline_Data_2012!I$271","v":1.1062647782388567E-2},{"$f":"Baseline_Data_2012!J113/Baseline_Data_2012!J$271","v":8.8882923082160004E-3},{"$f":"Baseline_Data_2012!K113/Baseline_Data_2012!K$271","v":1.7264957324510652E-2},{"$f":"Baseline_Data_2012!L113/Baseline_Data_2012!L$271","v":1.1845560058028129E-2},{"$f":"Baseline_Data_2012!M113/Baseline_Data_2012!M$271","v":1.0639651037037574E-2},{"$f":"Baseline_Data_2012!N113/Baseline_Data_2012!N$271","v":1.6682415178140041E-3},{"$f":"Baseline_Data_2012!O113/Baseline_Data_2012!O$271","v":9.285995616463729E-3},{"$f":"Baseline_Data_2012!P113/Baseline_Data_2012!P$271","v":1.3962546630912001E-2},{"$f":"Baseline_Data_2012!Q113/Baseline_Data_2012!Q$271","v":1.1259241738617476E-2},{"$f":"Baseline_Data_2012!R113/Baseline_Data_2012!R$271","v":3.3489972092557024E-3},{"$f":"Baseline_Data_2012!S113/Baseline_Data_2012!S$271","v":9.1969163065849305E-3},{"$f":"Baseline_Data_2012!T113/Baseline_Data_2012!T$271","v":7.5637371794003757E-3},{"$f":"Baseline_Data_2012!U113/Baseline_Data_2012!U$271","v":1.0255952560214655E-2},{"$f":"Baseline_Data_2012!V113/Baseline_Data_2012!V$271","v":9.9777737522848096E-3},{"$f":"Baseline_Data_2012!W113/Baseline_Data_2012!W$271","v":1.0947217968767936E-2},{"$f":"Baseline_Data_2012!X113/Baseline_Data_2012!X$271","v":1.8286868974520452E-2},{"$f":"Baseline_Data_2012!Y113/Baseline_Data_2012!Y$271","v":7.6649780962989265E-3},{"$f":"Baseline_Data_2012!Z113/Baseline_Data_2012!Z$271","v":1.0044900726848121E-2},{"$f":"Baseline_Data_2012!AA113/Baseline_Data_2012!AA$271","v":4.3727892488756503E-3},{"$f":"Baseline_Data_2012!AB113/Baseline_Data_2012!AB$271","v":9.5293378906878279E-3},{"$f":"Baseline_Data_2012!AC113/Baseline_Data_2012!AC$271","v":1.3962546630911996E-2},{"$f":"Baseline_Data_2012!AD113/Baseline_Data_2012!AD$271","v":1.6623238194115219E-2},{"$f":"Baseline_Data_2012!AE113/Baseline_Data_2012!AE$271","v":1.2253305264878714E-2},{"$f":"Baseline_Data_2012!AF113/Baseline_Data_2012!AF$271","v":1.3697381889390202E-2},{"$f":"Baseline_Data_2012!AG113/Baseline_Data_2012!AG$271","v":9.3682777078886118E-3},{"$f":"Baseline_Data_2012!AH113/Baseline_Data_2012!AH$271","v":8.7567093346601742E-3},{"$f":"Baseline_Data_2012!AI113/Baseline_Data_2012!AI$271","v":1.414553428743328E-2},{"$f":"Baseline_Data_2012!AJ113/Baseline_Data_2012!AJ$271","v":5.102645559781618E-3},{"$f":"Baseline_Data_2012!AK113/Baseline_Data_2012!AK$271","v":1.3795126695625751E-2},{"$f":"Baseline_Data_2012!AL113/Baseline_Data_2012!AL$271","v":1.9314600594028185E-2},{"$f":"Baseline_Data_2012!AM113/Baseline_Data_2012!AM$271","v":1.0639651037037578E-2},{"$f":"Baseline_Data_2012!AN113/Baseline_Data_2012!AN$271","v":7.7510205461941185E-3},{"$f":"Baseline_Data_2012!AO113/Baseline_Data_2012!AO$271","v":8.926214786331179E-3},{"$f":"Baseline_Data_2012!AP113/Baseline_Data_2012!AP$271","v":6.9757278806961785E-3},{"$f":"Baseline_Data_2012!AQ113/Baseline_Data_2012!AQ$271","v":1.6682415178140043E-3},{"$f":"Baseline_Data_2012!AR113/Baseline_Data_2012!AR$271","v":1.4256987454049155E-2},{"$f":"Baseline_Data_2012!AS113/Baseline_Data_2012!AS$271","v":1.2858081849179758E-2},{"$f":"Baseline_Data_2012!AT113/Baseline_Data_2012!AT$271","v":1.0822809833401498E-2},{"$f":"Baseline_Data_2012!AU113/Baseline_Data_2012!AU$271","v":1.5489646545015784E-2},{"$f":"Baseline_Data_2012!AV113/Baseline_Data_2012!AV$271","v":1.8203759129286241E-2},115]
[2,"Male 40-44",{"$f":"'III Tool Overview'!$H$8/100","v":1000},0,{"$f":"'III Tool Overview'!$H$8/40","v":2500},{"$f":"G116*'III Tool Overview'!$H$8","v":1290.0950168141389},{"$f":"HLOOKUP('III Tool Overview'!$H$6,Targeting!$I$1:$BC$277,Targeting!BD116,FALSE)","v":1.2900950168141389E-2},{"$f":"Baseline_Data_2012!B114","v":18787.386319128414},{"$f":"Baseline_Data_2012!B114/Baseline_Data_2012!B$271","v":1.2900950168141389E-2},{"$f":"Baseline_Data_2012!C114/Baseline_Data_2012!C$271","v":1.9987182413605566E-2},{"$f":"Baseline_Data_2012!D114/Baseline_Data_2012!D$271","v":8.7112350587437784E-3},{"$f":"Baseline_Data_2012!E114/Baseline_Data_2012!E$271","v":1.281798162731638E-2},{"$f":"Baseline_Data_2012!F114/Baseline_Data_2012!F$271","v":1.5144345738896735E-2},{"$f":"Baseline_Data_2012!G114/Baseline_Data_2012!G$271","v":1.6986219945297351E-2},{"$f":"Baseline_Data_2012!H114/Baseline_Data_2012!H$271","v":6.6394516258992961E-3},{"$f":"Baseline_Data_2012!I114/Baseline_Data_2012!I$271","v":1.1918549103241617E-2},{"$f":"Baseline_Data_2012!J114/Baseline_Data_2012!J$271","v":1.0580196711083713E-2},{"$f":"Baseline_Data_2012!K114/Baseline_Data_2012!K$271","v":1.9793139176317E-2},{"$f":"Baseline_Data_2012!L114/Baseline_Data_2012!L$271","v":1.2304656718412401E-2},{"$f":"Baseline_Data_2012!M114/Baseline_Data_2012!M$271","v":1.1150354286815376E-2},{"$f":"Baseline_Data_2012!N114/Baseline_Data_2012!N$271","v":4.5497495940381927E-4},{"$f":"Baseline_Data_2012!O114/Baseline_Data_2012!O$271","v":9.7580016177155164E-3},{"$f":"Baseline_Data_2012!P114/Baseline_Data_2012!P$271","v":1.8933213231516671E-2},{"$f":"Baseline_Data_2012!Q114/Baseline_Data_2012!Q$271","v":1.0680800231061873E-2},{"$f":"Baseline_Data_2012!R114/Baseline_Data_2012!R$271","v":3.4229710431950854E-3},{"$f":"Baseline_Data_2012!S114/Baseline_Data_2012!S$271","v":1.0286446461371994E-2},{"$f":"Baseline_Data_2012!T114/Baseline_Data_2012!T$271","v":9.4070008617752575E-3},{"$f":"Baseline_Data_2012!U114/Baseline_Data_2012!U$271","v":1.4900157493142045E-2},{"$f":"Baseline_Data_2012!V114/Baseline_Data_2012!V$271","v":1.2817981627316379E-2},{"$f":"Baseline_Data_2012!W114/Baseline_Data_2012!W$271","v":1.08205792004917E-2},{"$f":"Baseline_Data_2012!X114/Baseline_Data_2012!X$271","v":2.3234654138092389E-2},{"$f":"Baseline_Data_2012!Y114/Baseline_Data_2012!Y$271","v":8.6752157951835128E-3},{"$f":"Baseline_Data_2012!Z114/Baseline_Data_2012!Z$271","v":1.173140619943701E-2},{"$f":"Baseline_Data_2012!AA114/Baseline_Data_2012!AA$271","v":4.9889550066717653E-3},{"$f":"Baseline_Data_2012!AB114/Baseline_Data_2012!AB$271","v":8.9882746732559572E-3},{"$f":"Baseline_Data_2012!AC114/Baseline_Data_2012!AC$271","v":1.8933213231516664E-2},{"$f":"Baseline_Data_2012!AD114/Baseline_Data_2012!AD$271","v":1.9531995435825629E-2},{"$f":"Baseline_Data_2012!AE114/Baseline_Data_2012!AE$271","v":1.5144345738896735E-2},{"$f":"Baseline_Data_2012!AF114/Baseline_Data_2012!AF$271","v":1.3425294092241137E-2},{"$f":"Baseline_Data_2012!AG114/Baseline_Data_2012!AG$271","v":1.0999965838829277E-2},{"$f":"Baseline_Data_2012!AH114/Baseline_Data_2012!AH$271","v":9.7005462689349238E-3},{"$f":"Baseline_Data_2012!AI114/Baseline_Data_2012!AI$271","v":1.5474493718895959E-2},{"$f":"Baseline_Data_2012!AJ114/Baseline_Data_2012!AJ$271","v":6.4152826421892076E-3},{"$f":"Baseline_Data_2012!AK114/Baseline_Data_2012!AK$271","v":1.7572974278938377E-2},{"$f":"Baseline_Data_2012!AL114/Baseline_Data_2012!AL$271","v":2.1412031253436346E-2},{"$f":"Baseline_Data_2012!AM114/Baseline_Data_2012!AM$271","v":1.115035428681538E-2},{"$f":"Baseline_Data_2012!AN114/Baseline_Data_2012!AN$271","v":8.2758292290093464E-3},{"$f":"Baseline_Data_2012!AO114/Baseline_Data_2012!AO$271","v":1.045369539147876E-2},{"$f":"Baseline_Data_2012!AP114/Baseline_Data_2012!AP$271","v":8.7112350587437784E-3},{"$f":"Baseline_Data_2012!AQ114/Baseline_Data_2012!AQ$271","v":4.5497495940381938E-4},{"$f":"Baseline_Data_2012!AR114/Baseline_Data_2012!AR$271","v":1.905837290631603E-2},{"$f":"Baseline_Data_2012!AS114/Baseline_Data_2012!AS$271","v":1.5962808443692328E-2},{"$f":"Baseline_Data_2012!AT114/Baseline_Data_2012!AT$271","v":1.3761033596766359E-2},{"$f":"Baseline_Data_2012!AU114/Baseline_Data_2012!AU$271","v":2.0449050921270837E-2},{"$f":"Baseline_Data_2012!AV114/Baseline_Data_2012!AV$271","v":2.0427362669917931E-2},116]
[2,"Male 45-49",{"$f":"'III Tool Overview'!$H$8/100","v":1000},0,{"$f":"'III Tool Overview'!$H$8/40","v":2500},{"$f":"G117*'III Tool Overview'!$H$8","v":1278.5499940141024},{"$f":"HLOOKUP('III Tool Overview'!$H$6,Targeting!$I$1:$BC$277,Targeting!BD117,FALSE)","v":1.2785499940141023E-2},{"$f":"Baseline_Data_2012!B115","v":18619.25854514238},{"$f":"Baseline_Data_2012!B115/Baseline_Data_2012!B$271","v":1.2785499940141023E-2},{"$f":"Baseline_Data_2012!C115/Baseline_Data_2012!C$271","v":2.0711995333549053E-2},{"$f":"Baseline_Data_2012!D115/Baseline_Data_2012!D$271","v":8.8866884339555783E-3},{"$f":"Baseline_Data_2012!E115/Baseline_Data_2012!E$271","v":1.3375287811245364E-2},{"$f":"Baseline_Data_2012!F115/Baseline_Data_2012!F$271","v":1.4817213020546604E-2},{"$f":"Baseline_Data_2012!G115/Baseline_Data_2012!G$271","v":1.6473951501808054E-2},{"$f":"Baseline_Data_2012!H115/Baseline_Data_2012!H$271","v":6.1862295302054261E-3},{"$f":"Baseline_Data_2012!I115/Baseline_Data_2012!I$271","v":1.1803066056028658E-2},{"$f":"Baseline_Data_2012!J115/Baseline_Data_2012!J$271","v":1.1715318413460072E-2},{"$f":"Baseline_Data_2012!K115/Baseline_Data_2012!K$271","v":1.913479663335042E-2},{"$f":"Baseline_Data_2012!L115/Baseline_Data_2012!L$271","v":1.1776905805952429E-2},{"$f":"Baseline_Data_2012!M115/Baseline_Data_2012!M$271","v":1.349166687678624E-2},{"$f":"Baseline_Data_2012!N115/Baseline_Data_2012!N$271","v":2.0747854758372537E-3},{"$f":"Baseline_Data_2012!O115/Baseline_Data_2012!O$271","v":9.9654986150911201E-3},{"$f":"Baseline_Data_2012!P115/Baseline_Data_2012!P$271","v":1.9391499941037067E-2},{"$f":"Baseline_Data_2012!Q115/Baseline_Data_2012!Q$271","v":9.8312921464794988E-3},{"$f":"Baseline_Data_2012!R115/Baseline_Data_2012!R$271","v":3.1914818918952355E-3},{"$f":"Baseline_Data_2012!S115/Baseline_Data_2012!S$271","v":1.0823863854829689E-2},{"$f":"Baseline_Data_2012!T115/Baseline_Data_2012!T$271","v":1.0914398667459545E-2},{"$f":"Baseline_Data_2012!U115/Baseline_Data_2012!U$271","v":1.3875629106333534E-2},{"$f":"Baseline_Data_2012!V115/Baseline_Data_2012!V$271","v":1.3375287811245362E-2},{"$f":"Baseline_Data_2012!W115/Baseline_Data_2012!W$271","v":1.1430527597080967E-2},{"$f":"Baseline_Data_2012!X115/Baseline_Data_2012!X$271","v":2.4042103604739493E-2},{"$f":"Baseline_Data_2012!Y115/Baseline_Data_2012!Y$271","v":1.028799846854204E-2},{"$f":"Baseline_Data_2012!Z115/Baseline_Data_2012!Z$271","v":1.349903177125694E-2},{"$f":"Baseline_Data_2012!AA115/Baseline_Data_2012!AA$271","v":6.1322884520887506E-3},{"$f":"Baseline_Data_2012!AB115/Baseline_Data_2012!AB$271","v":7.7858358097111233E-3},{"$f":"Baseline_Data_2012!AC115/Baseline_Data_2012!AC$271","v":1.939149994103706E-2},{"$f":"Baseline_Data_2012!AD115/Baseline_Data_2012!AD$271","v":1.9350896067611433E-2},{"$f":"Baseline_Data_2012!AE115/Baseline_Data_2012!AE$271","v":1.4817213020546604E-2},{"$f":"Baseline_Data_2012!AF115/Baseline_Data_2012!AF$271","v":1.205576682644598E-2},{"$f":"Baseline_Data_2012!AG115/Baseline_Data_2012!AG$271","v":1.1992981568383739E-2},{"$f":"Baseline_Data_2012!AH115/Baseline_Data_2012!AH$271","v":1.1131301288942515E-2},{"$f":"Baseline_Data_2012!AI115/Baseline_Data_2012!AI$271","v":1.7447846258763885E-2},{"$f":"Baseline_Data_2012!AJ115/Baseline_Data_2012!AJ$271","v":6.2446528988988372E-3},{"$f":"Baseline_Data_2012!AK115/Baseline_Data_2012!AK$271","v":1.9160531681492263E-2},{"$f":"Baseline_Data_2012!AL115/Baseline_Data_2012!AL$271","v":2.071261640219663E-2},{"$f":"Baseline_Data_2012!AM115/Baseline_Data_2012!AM$271","v":1.3491666876786244E-2},{"$f":"Baseline_Data_2012!AN115/Baseline_Data_2012!AN$271","v":7.8208881257569793E-3},{"$f":"Baseline_Data_2012!AO115/Baseline_Data_2012!AO$271","v":1.1022684666855027E-2},{"$f":"Baseline_Data_2012!AP115/Baseline_Data_2012!AP$271","v":8.8866884339555783E-3},{"$f":"Baseline_Data_2012!AQ115/Baseline_Data_2012!AQ$271","v":2.0747854758372541E-3},{"$f":"Baseline_Data_2012!AR115/Baseline_Data_2012!AR$271","v":1.8762500446102726E-2},{"$f":"Baseline_Data_2012!AS115/Baseline_Data_2012!AS$271","v":1.5676591417363994E-2},{"$f":"Baseline_Data_2012!AT115/Baseline_Data_2012!AT$271","v":1.29635032211812E-2},{"$f":"Baseline_Data_2012!AU115/Baseline_Data_2012!AU$271","v":2.1323323909669224E-2},{"$f":"Baseline_Data_2012!AV115/Baseline_Data_2012!AV$271","v":1.9363428451322634E-2},117]
[2,"Male 50-54",{"$f":"'III Tool Overview'!$H$8/100","v":1000},0,{"$f":"'III Tool Overview'!$H$8/40","v":2500},{"$f":"G118*'III Tool Overview'!$H$8","v":1199.4406594183865},{"$f":"HLOOKUP('III Tool Overview'!$H$6,Targeting!$I$1:$BC$277,Targeting!BD118,FALSE)","v":1.1994406594183864E-2},{"$f":"Baseline_Data_2012!B116","v":17467.205703198084},{"$f":"Baseline_Data_2012!B116/Baseline_Data_2012!B$271","v":1.1994406594183864E-2},{"$f":"Baseline_Data_2012!C116/Baseline_Data_2012!C$271","v":1.9201569551401801E-2},{"$f":"Baseline_Data_2012!D116/Baseline_Data_2012!D$271","v":8.5369439875387226E-3},{"$f":"Baseline_Data_2012!E116/Baseline_Data_2012!E$271","v":1.2711183799711404E-2},{"$f":"Baseline_Data_2012!F116/Baseline_Data_2012!F$271","v":1.3680680448510386E-2},{"$f":"Baseline_Data_2012!G116/Baseline_Data_2012!G$271","v":1.4959598684187442E-2},{"$f":"Baseline_Data_2012!H116/Baseline_Data_2012!H$271","v":6.1746664843545752E-3},{"$f":"Baseline_Data_2012!I116/Baseline_Data_2012!I$271","v":1.1029628109612596E-2},{"$f":"Baseline_Data_2012!J116/Baseline_Data_2012!J$271","v":1.1748119118304106E-2},{"$f":"Baseline_Data_2012!K116/Baseline_Data_2012!K$271","v":1.8051448665705065E-2},{"$f":"Baseline_Data_2012!L116/Baseline_Data_2012!L$271","v":1.060411886413829E-2},{"$f":"Baseline_Data_2012!M116/Baseline_Data_2012!M$271","v":1.1564285894388205E-2},{"$f":"Baseline_Data_2012!N116/Baseline_Data_2012!N$271","v":1.4308865350601749E-3},{"$f":"Baseline_Data_2012!O116/Baseline_Data_2012!O$271","v":9.6065043649350788E-3},{"$f":"Baseline_Data_2012!P116/Baseline_Data_2012!P$271","v":2.0708857273987958E-2},{"$f":"Baseline_Data_2012!Q116/Baseline_Data_2012!Q$271","v":9.6698713997429315E-3},{"$f":"Baseline_Data_2012!R116/Baseline_Data_2012!R$271","v":3.3564491467446911E-3},{"$f":"Baseline_Data_2012!S116/Baseline_Data_2012!S$271","v":9.7203134897423053E-3},{"$f":"Baseline_Data_2012!T116/Baseline_Data_2012!T$271","v":1.0694511514818419E-2},{"$f":"Baseline_Data_2012!U116/Baseline_Data_2012!U$271","v":1.2049888434447544E-2},{"$f":"Baseline_Data_2012!V116/Baseline_Data_2012!V$271","v":1.2711183799711402E-2},{"$f":"Baseline_Data_2012!W116/Baseline_Data_2012!W$271","v":1.1244665359730057E-2},{"$f":"Baseline_Data_2012!X116/Baseline_Data_2012!X$271","v":2.1665252679377623E-2},{"$f":"Baseline_Data_2012!Y116/Baseline_Data_2012!Y$271","v":9.6071750404767581E-3},{"$f":"Baseline_Data_2012!Z116/Baseline_Data_2012!Z$271","v":1.1837881488524545E-2},{"$f":"Baseline_Data_2012!AA116/Baseline_Data_2012!AA$271","v":6.0197693979219848E-3},{"$f":"Baseline_Data_2012!AB116/Baseline_Data_2012!AB$271","v":7.0878193075916167E-3},{"$f":"Baseline_Data_2012!AC116/Baseline_Data_2012!AC$271","v":2.0708857273987944E-2},{"$f":"Baseline_Data_2012!AD116/Baseline_Data_2012!AD$271","v":1.7190415818662659E-2},{"$f":"Baseline_Data_2012!AE116/Baseline_Data_2012!AE$271","v":1.3680680448510386E-2},{"$f":"Baseline_Data_2012!AF116/Baseline_Data_2012!AF$271","v":1.1298625675351124E-2},{"$f":"Baseline_Data_2012!AG116/Baseline_Data_2012!AG$271","v":1.2120646369049064E-2},{"$f":"Baseline_Data_2012!AH116/Baseline_Data_2012!AH$271","v":1.0661313012298277E-2},{"$f":"Baseline_Data_2012!AI116/Baseline_Data_2012!AI$271","v":1.672528015304163E-2},{"$f":"Baseline_Data_2012!AJ116/Baseline_Data_2012!AJ$271","v":6.0876644182002631E-3},{"$f":"Baseline_Data_2012!AK116/Baseline_Data_2012!AK$271","v":1.7579949101705863E-2},{"$f":"Baseline_Data_2012!AL116/Baseline_Data_2012!AL$271","v":1.8676344227513773E-2},{"$f":"Baseline_Data_2012!AM116/Baseline_Data_2012!AM$271","v":1.1564285894388208E-2},{"$f":"Baseline_Data_2012!AN116/Baseline_Data_2012!AN$271","v":7.9224581014161605E-3},{"$f":"Baseline_Data_2012!AO116/Baseline_Data_2012!AO$271","v":9.6265530032288542E-3},{"$f":"Baseline_Data_2012!AP116/Baseline_Data_2012!AP$271","v":8.5369439875387226E-3},{"$f":"Baseline_Data_2012!AQ116/Baseline_Data_2012!AQ$271","v":1.4308865350601753E-3},{"$f":"Baseline_Data_2012!AR116/Baseline_Data_2012!AR$271","v":1.8224445391681651E-2},{"$f":"Baseline_Data_2012!AS116/Baseline_Data_2012!AS$271","v":1.5331292046937476E-2},{"$f":"Baseline_Data_2012!AT116/Baseline_Data_2012!AT$271","v":1.2724177007867083E-2},{"$f":"Baseline_Data_2012!AU116/Baseline_Data_2012!AU$271","v":2.1558350525908064E-2},{"$f":"Baseline_Data_2012!AV116/Baseline_Data_2012!AV$271","v":1.6914140456443044E-2},118]
[2,"Male 55-59",{"$f":"'III Tool Overview'!$H$8/100","v":1000},0,{"$f":"'III Tool Overview'!$H$8/40","v":2500},{"$f":"G119*'III Tool Overview'!$H$8","v":730.63376169067124},{"$f":"HLOOKUP('III Tool Overview'!$H$6,Targeting!$I$1:$BC$277,Targeting!BD119,FALSE)","v":7.3063376169067119E-3},{"$f":"Baseline_Data_2012!B117","v":10640.06802582528},{"$f":"Baseline_Data_2012!B117/Baseline_Data_2012!B$271","v":7.3063376169067119E-3},{"$f":"Baseline_Data_2012!C117/Baseline_Data_2012!C$271","v":1.1866289206412547E-2},{"$f":"Baseline_Data_2012!D117/Baseline_Data_2012!D$271","v":5.5456811272950992E-3},{"$f":"Baseline_Data_2012!E117/Baseline_Data_2012!E$271","v":8.4988572770420025E-3},{"$f":"Baseline_Data_2012!F117/Baseline_Data_2012!F$271","v":9.0266637136382031E-3},{"$f":"Baseline_Data_2012!G117/Baseline_Data_2012!G$271","v":8.4575300888584271E-3},{"$f":"Baseline_Data_2012!H117/Baseline_Data_2012!H$271","v":3.7481062965991287E-3},{"$f":"Baseline_Data_2012!I117/Baseline_Data_2012!I$271","v":6.3994633443245899E-3},{"$f":"Baseline_Data_2012!J117/Baseline_Data_2012!J$271","v":7.6054823365035761E-3},{"$f":"Baseline_Data_2012!K117/Baseline_Data_2012!K$271","v":1.1360456828439291E-2},{"$f":"Baseline_Data_2012!L117/Baseline_Data_2012!L$271","v":6.2721530839019773E-3},{"$f":"Baseline_Data_2012!M117/Baseline_Data_2012!M$271","v":8.9868338458456293E-3},{"$f":"Baseline_Data_2012!N117/Baseline_Data_2012!N$271","v":7.413133654356589E-4},{"$f":"Baseline_Data_2012!O117/Baseline_Data_2012!O$271","v":5.4776111982680082E-3},{"$f":"Baseline_Data_2012!P117/Baseline_Data_2012!P$271","v":1.4050321413305448E-2},{"$f":"Baseline_Data_2012!Q117/Baseline_Data_2012!Q$271","v":5.9734873691629341E-3},{"$f":"Baseline_Data_2012!R117/Baseline_Data_2012!R$271","v":1.8802563399813927E-3},{"$f":"Baseline_Data_2012!S117/Baseline_Data_2012!S$271","v":5.8373599824376446E-3},{"$f":"Baseline_Data_2012!T117/Baseline_Data_2012!T$271","v":7.2770130806847954E-3},{"$f":"Baseline_Data_2012!U117/Baseline_Data_2012!U$271","v":7.0877889284620852E-3},{"$f":"Baseline_Data_2012!V117/Baseline_Data_2012!V$271","v":8.4988572770420025E-3},{"$f":"Baseline_Data_2012!W117/Baseline_Data_2012!W$271","v":5.9242177500649753E-3},{"$f":"Baseline_Data_2012!X117/Baseline_Data_2012!X$271","v":1.3465651329632426E-2},{"$f":"Baseline_Data_2012!Y117/Baseline_Data_2012!Y$271","v":5.3927097971117532E-3},{"$f":"Baseline_Data_2012!Z117/Baseline_Data_2012!Z$271","v":7.1143623981960351E-3},{"$f":"Baseline_Data_2012!AA117/Baseline_Data_2012!AA$271","v":3.3162721042141493E-3},{"$f":"Baseline_Data_2012!AB117/Baseline_Data_2012!AB$271","v":4.0972538217609669E-3},{"$f":"Baseline_Data_2012!AC117/Baseline_Data_2012!AC$271","v":1.405032141330544E-2},{"$f":"Baseline_Data_2012!AD117/Baseline_Data_2012!AD$271","v":1.0285469642303511E-2},{"$f":"Baseline_Data_2012!AE117/Baseline_Data_2012!AE$271","v":9.0266637136382031E-3},{"$f":"Baseline_Data_2012!AF117/Baseline_Data_2012!AF$271","v":6.4938870955678586E-3},{"$f":"Baseline_Data_2012!AG117/Baseline_Data_2012!AG$271","v":7.7138038028569684E-3},{"$f":"Baseline_Data_2012!AH117/Baseline_Data_2012!AH$271","v":6.0146651965797817E-3},{"$f":"Baseline_Data_2012!AI117/Baseline_Data_2012!AI$271","v":1.1039562924471781E-2},{"$f":"Baseline_Data_2012!AJ117/Baseline_Data_2012!AJ$271","v":3.8919134110426434E-3},{"$f":"Baseline_Data_2012!AK117/Baseline_Data_2012!AK$271","v":1.0584006323958773E-2},{"$f":"Baseline_Data_2012!AL117/Baseline_Data_2012!AL$271","v":1.2013568820750461E-2},{"$f":"Baseline_Data_2012!AM117/Baseline_Data_2012!AM$271","v":8.986833845845631E-3},{"$f":"Baseline_Data_2012!AN117/Baseline_Data_2012!AN$271","v":4.7359214566907223E-3},{"$f":"Baseline_Data_2012!AO117/Baseline_Data_2012!AO$271","v":5.7320180521498124E-3},{"$f":"Baseline_Data_2012!AP117/Baseline_Data_2012!AP$271","v":5.5456811272950992E-3},{"$f":"Baseline_Data_2012!AQ117/Baseline_Data_2012!AQ$271","v":7.4131336543565901E-4},{"$f":"Baseline_Data_2012!AR117/Baseline_Data_2012!AR$271","v":1.1485923004477417E-2},{"$f":"Baseline_Data_2012!AS117/Baseline_Data_2012!AS$271","v":9.3342192701248976E-3},{"$f":"Baseline_Data_2012!AT117/Baseline_Data_2012!AT$271","v":6.0755133952312143E-3},{"$f":"Baseline_Data_2012!AU117/Baseline_Data_2012!AU$271","v":1.3032281022129616E-2},{"$f":"Baseline_Data_2012!AV117/Baseline_Data_2012!AV$271","v":9.6729647485151362E-3},119]
[2,"Male 60-64",{"$f":"'III Tool Overview'!$H$8/100","v":1000},0,{"$f":"'III Tool Overview'!$H$8/40","v":2500},{"$f":"G120*'III Tool Overview'!$H$8","v":698.73479272102827},{"$f":"HLOOKUP('III Tool Overview'!$H$6,Targeting!$I$1:$BC$277,Targeting!BD120,FALSE)","v":6.987347927210283E-3},{"$f":"Baseline_Data_2012!B118","v":10175.529952734722},{"$f":"Baseline_Data_2012!B118/Baseline_Data_2012!B$271","v":6.987347927210283E-3},{"$f":"Baseline_Data_2012!C118/Baseline_Data_2012!C$271","v":1.2360717923346405E-2},{"$f":"Baseline_Data_2012!D118/Baseline_Data_2012!D$271","v":5.2711424576270252E-3},{"$f":"Baseline_Data_2012!E118/Baseline_Data_2012!E$271","v":8.6034833609449825E-3},{"$f":"Baseline_Data_2012!F118/Baseline_Data_2012!F$271","v":8.4497167610674776E-3},{"$f":"Baseline_Data_2012!G118/Baseline_Data_2012!G$271","v":8.9869198039847688E-3},{"$f":"Baseline_Data_2012!H118/Baseline_Data_2012!H$271","v":3.6901973554156575E-3},{"$f":"Baseline_Data_2012!I118/Baseline_Data_2012!I$271","v":5.6221485730380497E-3},{"$f":"Baseline_Data_2012!J118/Baseline_Data_2012!J$271","v":7.5866008014079866E-3},{"$f":"Baseline_Data_2012!K118/Baseline_Data_2012!K$271","v":1.026498420569693E-2},{"$f":"Baseline_Data_2012!L118/Baseline_Data_2012!L$271","v":5.9969348455219396E-3},{"$f":"Baseline_Data_2012!M118/Baseline_Data_2012!M$271","v":8.3211424498570632E-3},{"$f":"Baseline_Data_2012!N118/Baseline_Data_2012!N$271","v":9.8841782058087854E-4},{"$f":"Baseline_Data_2012!O118/Baseline_Data_2012!O$271","v":5.5215576491423638E-3},{"$f":"Baseline_Data_2012!P118/Baseline_Data_2012!P$271","v":1.4414319377380719E-2},{"$f":"Baseline_Data_2012!Q118/Baseline_Data_2012!Q$271","v":5.4212716479247608E-3},{"$f":"Baseline_Data_2012!R118/Baseline_Data_2012!R$271","v":2.1651436642209977E-3},{"$f":"Baseline_Data_2012!S118/Baseline_Data_2012!S$271","v":6.2759451689535315E-3},{"$f":"Baseline_Data_2012!T118/Baseline_Data_2012!T$271","v":7.0146539753090636E-3},{"$f":"Baseline_Data_2012!U118/Baseline_Data_2012!U$271","v":7.0625654803180915E-3},{"$f":"Baseline_Data_2012!V118/Baseline_Data_2012!V$271","v":8.6034833609449808E-3},{"$f":"Baseline_Data_2012!W118/Baseline_Data_2012!W$271","v":6.538649002780692E-3},{"$f":"Baseline_Data_2012!X118/Baseline_Data_2012!X$271","v":1.4032626122459054E-2},{"$f":"Baseline_Data_2012!Y118/Baseline_Data_2012!Y$271","v":4.5043758189053599E-3},{"$f":"Baseline_Data_2012!Z118/Baseline_Data_2012!Z$271","v":6.8848668369639052E-3},{"$f":"Baseline_Data_2012!AA118/Baseline_Data_2012!AA$271","v":3.0571883460724192E-3},{"$f":"Baseline_Data_2012!AB118/Baseline_Data_2012!AB$271","v":3.8309803005575319E-3},{"$f":"Baseline_Data_2012!AC118/Baseline_Data_2012!AC$271","v":1.441431937738071E-2},{"$f":"Baseline_Data_2012!AD118/Baseline_Data_2012!AD$271","v":1.115670942376922E-2},{"$f":"Baseline_Data_2012!AE118/Baseline_Data_2012!AE$271","v":8.4497167610674776E-3},{"$f":"Baseline_Data_2012!AF118/Baseline_Data_2012!AF$271","v":5.36256352274857E-3},{"$f":"Baseline_Data_2012!AG118/Baseline_Data_2012!AG$271","v":7.7864287209739799E-3},{"$f":"Baseline_Data_2012!AH118/Baseline_Data_2012!AH$271","v":6.1171878987942097E-3},{"$f":"Baseline_Data_2012!AI118/Baseline_Data_2012!AI$271","v":9.7476991779910389E-3},{"$f":"Baseline_Data_2012!AJ118/Baseline_Data_2012!AJ$271","v":4.0124060863071217E-3},{"$f":"Baseline_Data_2012!AK118/Baseline_Data_2012!AK$271","v":1.1453008948452229E-2},{"$f":"Baseline_Data_2012!AL118/Baseline_Data_2012!AL$271","v":1.0749608248910289E-2},{"$f":"Baseline_Data_2012!AM118/Baseline_Data_2012!AM$271","v":8.3211424498570649E-3},{"$f":"Baseline_Data_2012!AN118/Baseline_Data_2012!AN$271","v":3.9027500893099474E-3},{"$f":"Baseline_Data_2012!AO118/Baseline_Data_2012!AO$271","v":5.3042555109446025E-3},{"$f":"Baseline_Data_2012!AP118/Baseline_Data_2012!AP$271","v":5.2711424576270252E-3},{"$f":"Baseline_Data_2012!AQ118/Baseline_Data_2012!AQ$271","v":9.8841782058087875E-4},{"$f":"Baseline_Data_2012!AR118/Baseline_Data_2012!AR$271","v":1.1497912485692947E-2},{"$f":"Baseline_Data_2012!AS118/Baseline_Data_2012!AS$271","v":8.8213937650797047E-3},{"$f":"Baseline_Data_2012!AT118/Baseline_Data_2012!AT$271","v":6.32349353381208E-3},{"$f":"Baseline_Data_2012!AU118/Baseline_Data_2012!AU$271","v":1.1467816935667849E-2},{"$f":"Baseline_Data_2012!AV118/Baseline_Data_2012!AV$271","v":9.8324473214297225E-3},120]
[2,"Male 65-69",null,null,null,{"$f":"G121*'III Tool Overview'!$H$8","v":0},{"$f":"HLOOKUP('III Tool Overview'!$H$6,Targeting!$I$1:$BC$277,Targeting!BD121,FALSE)","v":0},{"$f":"Baseline_Data_2012!B119","v":0},{"$f":"Baseline_Data_2012!B119/Baseline_Data_2012!B$271","v":0},{"$f":"Baseline_Data_2012!C119/Baseline_Data_2012!C$271","v":0},{"$f":"Baseline_Data_2012!D119/Baseline_Data_2012!D$271","v":0},{"$f":"Baseline_Data_2012!E119/Baseline_Data_2012!E$271","v":0},{"$f":"Baseline_Data_2012!F119/Baseline_Data_2012!F$271","v":0},{"$f":"Baseline_Data_2012!G119/Baseline_Data_2012!G$271","v":0},{"$f":"Baseline_Data_2012!H119/Baseline_Data_2012!H$271","v":0},{"$f":"Baseline_Data_2012!I119/Baseline_Data_2012!I$271","v":0},{"$f":"Baseline_Data_2012!J119/Baseline_Data_2012!J$271","v":0},{"$f":"Baseline_Data_2012!K119/Baseline_Data_2012!K$271","v":0},{"$f":"Baseline_Data_2012!L119/Baseline_Data_2012!L$271","v":0},{"$f":"Baseline_Data_2012!M119/Baseline_Data_2012!M$271","v":0},{"$f":"Baseline_Data_2012!N119/Baseline_Data_2012!N$271","v":0},{"$f":"Baseline_Data_2012!O119/Baseline_Data_2012!O$271","v":0},{"$f":"Baseline_Data_2012!P119/Baseline_Data_2012!P$271","v":0},{"$f":"Baseline_Data_2012!Q119/Baseline_Data_2012!Q$271","v":0},{"$f":"Baseline_Data_2012!R119/Baseline_Data_2012!R$271","v":0},{"$f":"Baseline_Data_2012!S119/Baseline_Data_2012!S$271","v":0},{"$f":"Baseline_Data_2012!T119/Baseline_Data_2012!T$271","v":0},{"$f":"Baseline_Data_2012!U119/Baseline_Data_2012!U$271","v":0},{"$f":"Baseline_Data_2012!V119/Baseline_Data_2012!V$271","v":0},{"$f":"Baseline_Data_2012!W119/Baseline_Data_2012!W$271","v":0},{"$f":"Baseline_Data_2012!X119/Baseline_Data_2012!X$271","v":0},{"$f":"Baseline_Data_2012!Y119/Baseline_Data_2012!Y$271","v":0},{"$f":"Baseline_Data_2012!Z119/Baseline_Data_2012!Z$271","v":0},{"$f":"Baseline_Data_2012!AA119/Baseline_Data_2012!AA$271","v":0},{"$f":"Baseline_Data_2012!AB119/Baseline_Data_2012!AB$271","v":0},{"$f":"Baseline_Data_2012!AC119/Baseline_Data_2012!AC$271","v":0},{"$f":"Baseline_Data_2012!AD119/Baseline_Data_2012!AD$271","v":0},{"$f":"Baseline_Data_2012!AE119/Baseline_Data_2012!AE$271","v":0},{"$f":"Baseline_Data_2012!AF119/Baseline_Data_2012!AF$271","v":0},{"$f":"Baseline_Data_2012!AG119/Baseline_Data_2012!AG$271","v":0},{"$f":"Baseline_Data_2012!AH119/Baseline_Data_2012!AH$271","v":0},{"$f":"Baseline_Data_2012!AI119/Baseline_Data_2012!AI$271","v":0},{"$f":"Baseline_Data_2012!AJ119/Baseline_Data_2012!AJ$271","v":0},{"$f":"Baseline_Data_2012!AK119/Baseline_Data_2012!AK$271","v":0},{"$f":"Baseline_Data_2012!AL119/Baseline_Data_2012!AL$271","v":0},{"$f":"Baseline_Data_2012!AM119/Baseline_Data_2012!AM$271","v":0},{"$f":"Baseline_Data_2012!AN119/Baseline_Data_2012!AN$271","v":0},{"$f":"Baseline_Data_2012!AO119/Baseline_Data_2012!AO$271","v":0},{"$f":"Baseline_Data_2012!AP119/Baseline_Data_2012!AP$271","v":0},{"$f":"Baseline_Data_2012!AQ119/Baseline_Data_2012!AQ$271","v":0},{"$f":"Baseline_Data_2012!AR119/Baseline_Data_2012!AR$271","v":0},{"$f":"Baseline_Data_2012!AS119/Baseline_Data_2012!AS$271","v":0},{"$f":"Baseline_Data_2012!AT119/Baseline_Data_2012!AT$271","v":0},{"$f":"Baseline_Data_2012!AU119/Baseline_Data_2012!AU$271","v":0},{"$f":"Baseline_Data_2012!AV119/Baseline_Data_2012!AV$271","v":0},121]
[2,"Male 70-74",null,null,null,{"$f":"G122*'III Tool Overview'!$H$8","v":0},{"$f":"HLOOKUP('III Tool Overview'!$H$6,Targeting!$I$1:$BC$277,Targeting!BD122,FALSE)","v":0},{"$f":"Baseline_Data_2012!B120","v":0},{"$f":"Baseline_Data_2012!B120/Baseline_Data_2012!B$271","v":0},{"$f":"Baseline_Data_2012!C120/Baseline_Data_2012!C$271","v":0},{"$f":"Baseline_Data_2012!D120/Baseline_Data_2012!D$271","v":0},{"$f":"Baseline_Data_2012!E120/Baseline_Data_2012!E$271","v":0},{"$f":"Baseline_Data_2012!F120/Baseline_Data_2012!F$271","v":0},{"$f":"Baseline_Data_2012!G120/Baseline_Data_2012!G$271","v":0},{"$f":"Baseline_Data_2012!H120/Baseline_Data_2012!H$271","v":0},{"$f":"Baseline_Data_2012!I120/Baseline_Data_2012!I$271","v":0},{"$f":"Baseline_Data_2012!J120/Baseline_Data_2012!J$271","v":0},{"$f":"Baseline_Data_2012!K120/Baseline_Data_2012!K$271","v":0},{"$f":"Baseline_Data_2012!L120/Baseline_Data_2012!L$271","v":0},{"$f":"Baseline_Data_2012!M120/Baseline_Data_2012!M$271","v":0},{"$f":"Baseline_Data_2012!N120/Baseline_Data_2012!N$271","v":0},{"$f":"Baseline_Data_2012!O120/Baseline_Data_2012!O$271","v":0},{"$f":"Baseline_Data_2012!P120/Baseline_Data_2012!P$271","v":0},{"$f":"Baseline_Data_2012!Q120/Baseline_Data_2012!Q$271","v":0},{"$f":"Baseline_Data_2012!R120/Baseline_Data_2012!R$271","v":0},{"$f":"Baseline_Data_2012!S120/Baseline_Data_2012!S$271","v":0},{"$f":"Baseline_Data_2012!T120/Baseline_Data_2012!T$271","v":0},{"$f":"Baseline_Data_2012!U120/Baseline_Data_2012!U$271","v":0},{"$f":"Baseline_Data_2012!V120/Baseline_Data_2012!V$271","v":0},{"$f":"Baseline_Data_2012!W120/Baseline_Data_2012!W$271","v":0},{"$f":"Baseline_Data_2012!X120/Baseline_Data_2012!X$271","v":0},{"$f":"Baseline_Data_2012!Y120/Baseline_Data_2012!Y$271","v":0},{"$f":"Baseline_Data_2012!Z120/Baseline_Data_2012!Z$271","v":0},{"$f":"Baseline_Data_2012!AA120/Baseline_Data_2012!AA$271","v":0},{"$f":"Baseline_Data_2012!AB120/Baseline_Data_2012!AB$271","v":0},{"$f":"Baseline_Data_2012!AC120/Baseline_Data_2012!AC$271","v":0},{"$f":"Baseline_Data_2012!AD120/Baseline_Data_2012!AD$271","v":0},{"$f":"Baseline_Data_2012!AE120/Baseline_Data_2012!AE$271","v":0},{"$f":"Baseline_Data_2012!AF120/Baseline_Data_2012!AF$271","v":0},{"$f":"Baseline_Data_2012!AG120/Baseline_Data_2012!AG$271","v":0},{"$f":"Baseline_Data_2012!AH120/Baseline_Data_2012!AH$271","v":0},{"$f":"Baseline_Data_2012!AI120/Baseline_Data_2012!AI$271","v":0},{"$f":"Baseline_Data_2012!AJ120/Baseline_Data_2012!AJ$271","v":0},{"$f":"Baseline_Data_2012!AK120/Baseline_Data_2012!AK$271","v":0},{"$f":"Baseline_Data_2012!AL120/Baseline_Data_2012!AL$271","v":0},{"$f":"Baseline_Data_2012!AM120/Baseline_Data_2012!AM$271","v":0},{"$f":"Baseline_Data_2012!AN120/Baseline_Data_2012!AN$271","v":0},{"$f":"Baseline_Data_2012!AO120/Baseline_Data_2012!AO$271","v":0},{"$f":"Baseline_Data_2012!AP120/Baseline_Data_2012!AP$271","v":0},{"$f":"Baseline_Data_2012!AQ120/Baseline_Data_2012!AQ$271","v":0},{"$f":"Baseline_Data_2012!AR120/Baseline_Data_2012!AR$271","v":0},{"$f":"Baseline_Data_2012!AS120/Baseline_Data_2012!AS$271","v":0},{"$f":"Baseline_Data_2012!AT120/Baseline_Data_2012!AT$271","v":0},{"$f":"Baseline_Data_2012!AU120/Baseline_Data_2012!AU$271","v":0},{"$f":"Baseline_Data_2012!AV120/Baseline_Data_2012!AV$271","v":0},122]
[2,"Male 75-79",null,null,null,{"$f":"G123*'III Tool Overview'!$H$8","v":0},{"$f":"HLOOKUP('III Tool Overview'!$H$6,Targeting!$I$1:$BC$277,Targeting!BD123,FALSE)","v":0},{"$f":"Baseline_Data_2012!B121","v":0},{"$f":"Baseline_Data_2012!B121/Baseline_Data_2012!B$271","v":0},{"$f":"Baseline_Data_2012!C121/Baseline_Data_2012!C$271","v":0},{"$f":"Baseline_Data_2012!D121/Baseline_Data_2012!D$271","v":0},{"$f":"Baseline_Data_2012!E121/Baseline_Data_2012!E$271","v":0},{"$f":"Baseline_Data_2012!F121/Baseline_Data_2012!F$271","v":0},{"$f":"Baseline_Data_2012!G121/Baseline_Data_2012!G$271","v":0},{"$f":"Baseline_Data_2012!H121/Baseline_Data_2012!H$271","v":0},{"$f":"Baseline_Data_2012!I121/Baseline_Data_2012!I$271","v":0},{"$f":"Baseline_Data_2012!J121/Baseline_Data_2012!J$271","v":0},{"$f":"Baseline_Data_2012!K121/Baseline_Data_2012!K$271","v":0},{"$f":"Baseline_Data_2012!L121/Baseline_Data_2012!L$271","v":0},{"$f":"Baseline_Data_2012!M121/Baseline_Data_2012!M$271","v":0},{"$f":"Baseline_Data_2012!N121/Baseline_Data_2012!N$271","v":0},{"$f":"Baseline_Data_2012!O121/Baseline_Data_2012!O$271","v":0},{"$f":"Baseline_Data_2012!P121/Baseline_Data_2012!P$271","v":0},{"$f":"Baseline_Data_2012!Q121/Baseline_Data_2012!Q$271","v":0},{"$f":"Baseline_Data_2012!R121/Baseline_Data_2012!R$271","v":0},{"$f":"Baseline_Data_2012!S121/Baseline_Data_2012!S$271","v":0},{"$f":"Baseline_Data_2012!T121/Baseline_Data_2012!T$271","v":0},{"$f":"Baseline_Data_2012!U121/Baseline_Data_2012!U$271","v":0},{"$f":"Baseline_Data_2012!V121/Baseline_Data_2012!V$271","v":0},{"$f":"Baseline_Data_2012!W121/Baseline_Data_2012!W$271","v":0},{"$f":"Baseline_Data_2012!X121/Baseline_Data_2012!X$271","v":0},{"$f":"Baseline_Data_2012!Y121/Baseline_Data_2012!Y$271","v":0},{"$f":"Baseline_Data_2012!Z121/Baseline_Data_2012!Z$271","v":0},{"$f":"Baseline_Data_2012!AA121/Baseline_Data_2012!AA$271","v":0},{"$f":"Baseline_Data_2012!AB121/Baseline_Data_2012!AB$271","v":0},{"$f":"Baseline_Data_2012!AC121/Baseline_Data_2012!AC$271","v":0},{"$f":"Baseline_Data_2012!AD121/Baseline_Data_2012!AD$271","v":0},{"$f":"Baseline_Data_2012!AE121/Baseline_Data_2012!AE$271","v":0},{"$f":"Baseline_Data_2012!AF121/Baseline_Data_2012!AF$271","v":0},{"$f":"Baseline_Data_2012!AG121/Baseline_Data_2012!AG$271","v":0},{"$f":"Baseline_Data_2012!AH121/Baseline_Data_2012!AH$271","v":0},{"$f":"Baseline_Data_2012!AI121/Baseline_Data_2012!AI$271","v":0},{"$f":"Baseline_Data_2012!AJ121/Baseline_Data_2012!AJ$271","v":0},{"$f":"Baseline_Data_2012!AK121/Baseline_Data_2012!AK$271","v":0},{"$f":"Baseline_Data_2012!AL121/Baseline_Data_2012!AL$271","v":0},{"$f":"Baseline_Data_2012!AM121/Baseline_Data_2012!AM$271","v":0},{"$f":"Baseline_Data_2012!AN121/Baseline_Data_2012!AN$271","v":0},{"$f":"Baseline_Data_2012!AO121/Baseline_Data_2012!AO$271","v":0},{"$f":"Baseline_Data_2012!AP121/Baseline_Data_2012!AP$271","v":0},{"$f":"Baseline_Data_2012!AQ121/Baseline_Data_2012!AQ$271","v":0},{"$f":"Baseline_Data_2012!AR121/Baseline_Data_2012!AR$271","v":0},{"$f":"Baseline_Data_2012!AS121/Baseline_Data_2012!AS$271","v":0},{"$f":"Baseline_Data_2012!AT121/Baseline_Data_2012!AT$271","v":0},{"$f":"Baseline_Data_2012!AU121/Baseline_Data_2012!AU$271","v":0},{"$f":"Baseline_Data_2012!AV121/Baseline_Data_2012!AV$271","v":0},123]
[2,"Male 80-84",null,null,null,{"$f":"G124*'III Tool Overview'!$H$8","v":0},{"$f":"HLOOKUP('III Tool Overview'!$H$6,Targeting!$I$1:$BC$277,Targeting!BD124,FALSE)","v":0},{"$f":"Baseline_Data_2012!B122","v":0},{"$f":"Baseline_Data_2012!B122/Baseline_Data_2012!B$271","v":0},{"$f":"Baseline_Data_2012!C122/Baseline_Data_2012!C$271","v":0},{"$f":"Baseline_Data_2012!D122/Baseline_Data_2012!D$271","v":0},{"$f":"Baseline_Data_2012!E122/Baseline_Data_2012!E$271","v":0},{"$f":"Baseline_Data_2012!F122/Baseline_Data_2012!F$271","v":0},{"$f":"Baseline_Data_2012!G122/Baseline_Data_2012!G$271","v":0},{"$f":"Baseline_Data_2012!H122/Baseline_Data_2012!H$271","v":0},{"$f":"Baseline_Data_2012!I122/Baseline_Data_2012!I$271","v":0},{"$f":"Baseline_Data_2012!J122/Baseline_Data_2012!J$271","v":0},{"$f":"Baseline_Data_2012!K122/Baseline_Data_2012!K$271","v":0},{"$f":"Baseline_Data_2012!L122/Baseline_Data_2012!L$271","v":0},{"$f":"Baseline_Data_2012!M122/Baseline_Data_2012!M$271","v":0},{"$f":"Baseline_Data_2012!N122/Baseline_Data_2012!N$271","v":0},{"$f":"Baseline_Data_2012!O122/Baseline_Data_2012!O$271","v":0},{"$f":"Baseline_Data_2012!P122/Baseline_Data_2012!P$271","v":0},{"$f":"Baseline_Data_2012!Q122/Baseline_Data_2012!Q$271","v":0},{"$f":"Baseline_Data_2012!R122/Baseline_Data_2012!R$271","v":0},{"$f":"Baseline_Data_2012!S122/Baseline_Data_2012!S$271","v":0},{"$f":"Baseline_Data_2012!T122/Baseline_Data_2012!T$271","v":0},{"$f":"Baseline_Data_2012!U122/Baseline_Data_2012!U$271","v":0},{"$f":"Baseline_Data_2012!V122/Baseline_Data_2012!V$271","v":0},{"$f":"Baseline_Data_2012!W122/Baseline_Data_2012!W$271","v":0},{"$f":"Baseline_Data_2012!X122/Baseline_Data_2012!X$271","v":0},{"$f":"Baseline_Data_2012!Y122/Baseline_Data_2012!Y$271","v":0},{"$f":"Baseline_Data_2012!Z122/Baseline_Data_2012!Z$271","v":0},{"$f":"Baseline_Data_2012!AA122/Baseline_Data_2012!AA$271","v":0},{"$f":"Baseline_Data_2012!AB122/Baseline_Data_2012!AB$271","v":0},{"$f":"Baseline_Data_2012!AC122/Baseline_Data_2012!AC$271","v":0},{"$f":"Baseline_Data_2012!AD122/Baseline_Data_2012!AD$271","v":0},{"$f":"Baseline_Data_2012!AE122/Baseline_Data_2012!AE$271","v":0},{"$f":"Baseline_Data_2012!AF122/Baseline_Data_2012!AF$271","v":0},{"$f":"Baseline_Data_2012!AG122/Baseline_Data_2012!AG$271","v":0},{"$f":"Baseline_Data_2012!AH122/Baseline_Data_2012!AH$271","v":0},{"$f":"Baseline_Data_2012!AI122/Baseline_Data_2012!AI$271","v":0},{"$f":"Baseline_Data_2012!AJ122/Baseline_Data_2012!AJ$271","v":0},{"$f":"Baseline_Data_2012!AK122/Baseline_Data_2012!AK$271","v":0},{"$f":"Baseline_Data_2012!AL122/Baseline_Data_2012!AL$271","v":0},{"$f":"Baseline_Data_2012!AM122/Baseline_Data_2012!AM$271","v":0},{"$f":"Baseline_Data_2012!AN122/Baseline_Data_2012!AN$271","v":0},{"$f":"Baseline_Data_2012!AO122/Baseline_Data_2012!AO$271","v":0},{"$f":"Baseline_Data_2012!AP122/Baseline_Data_2012!AP$271","v":0},{"$f":"Baseline_Data_2012!AQ122/Baseline_Data_2012!AQ$271","v":0},{"$f":"Baseline_Data_2012!AR122/Baseline_Data_2012!AR$271","v":0},{"$f":"Baseline_Data_2012!AS122/Baseline_Data_2012!AS$271","v":0},{"$f":"Baseline_Data_2012!AT122/Baseline_Data_2012!AT$271","v":0},{"$f":"Baseline_Data_2012!AU122/Baseline_Data_2012!AU$271","v":0},{"$f":"Baseline_Data_2012!AV122/Baseline_Data_2012!AV$271","v":0},124]
[2,"Male 85-89",null,null,null,{"$f":"G125*'III Tool Overview'!$H$8","v":0},{"$f":"HLOOKUP('III Tool Overview'!$H$6,Targeting!$I$1:$BC$277,Targeting!BD125,FALSE)","v":0},{"$f":"Baseline_Data_2012!B123","v":0},{"$f":"Baseline_Data_2012!B123/Baseline_Data_2012!B$271","v":0},{"$f":"Baseline_Data_2012!C123/Baseline_Data_2012!C$271","v":0},{"$f":"Baseline_Data_2012!D123/Baseline_Data_2012!D$271","v":0},{"$f":"Baseline_Data_2012!E123/Baseline_Data_2012!E$271","v":0},{"$f":"Baseline_Data_2012!F123/Baseline_Data_2012!F$271","v":0},{"$f":"Baseline_Data_2012!G123/Baseline_Data_2012!G$271","v":0},{"$f":"Baseline_Data_2012!H123/Baseline_Data_2012!H$271","v":0},{"$f":"Baseline_Data_2012!I123/Baseline_Data_2012!I$271","v":0},{"$f":"Baseline_Data_2012!J123/Baseline_Data_2012!J$271","v":0},{"$f":"Baseline_Data_2012!K123/Baseline_Data_2012!K$271","v":0},{"$f":"Baseline_Data_2012!L123/Baseline_Data_2012!L$271","v":0},{"$f":"Baseline_Data_2012!M123/Baseline_Data_2012!M$271","v":0},{"$f":"Baseline_Data_2012!N123/Baseline_Data_2012!N$271","v":0},{"$f":"Baseline_Data_2012!O123/Baseline_Data_2012!O$271","v":0},{"$f":"Baseline_Data_2012!P123/Baseline_Data_2012!P$271","v":0},{"$f":"Baseline_Data_2012!Q123/Baseline_Data_2012!Q$271","v":0},{"$f":"Baseline_Data_2012!R123/Baseline_Data_2012!R$271","v":0},{"$f":"Baseline_Data_2012!S123/Baseline_Data_2012!S$271","v":0},{"$f":"Baseline_Data_2012!T123/Baseline_Data_2012!T$271","v":0},{"$f":"Baseline_Data_2012!U123/Baseline_Data_2012!U$271","v":0},{"$f":"Baseline_Data_2012!V123/Baseline_Data_2012!V$271","v":0},{"$f":"Baseline_Data_2012!W123/Baseline_Data_2012!W$271","v":0},{"$f":"Baseline_Data_2012!X123/Baseline_Data_2012!X$271","v":0},{"$f":"Baseline_Data_2012!Y123/Baseline_Data_2012!Y$271","v":0},{"$f":"Baseline_Data_2012!Z123/Baseline_Data_2012!Z$271","v":0},{"$f":"Baseline_Data_2012!AA123/Baseline_Data_2012!AA$271","v":0},{"$f":"Baseline_Data_2012!AB123/Baseline_Data_2012!AB$271","v":0},{"$f":"Baseline_Data_2012!AC123/Baseline_Data_2012!AC$271","v":0},{"$f":"Baseline_Data_2012!AD123/Baseline_Data_2012!AD$271","v":0},{"$f":"Baseline_Data_2012!AE123/Baseline_Data_2012!AE$271","v":0},{"$f":"Baseline_Data_2012!AF123/Baseline_Data_2012!AF$271","v":0},{"$f":"Baseline_Data_2012!AG123/Baseline_Data_2012!AG$271","v":0},{"$f":"Baseline_Data_2012!AH123/Baseline_Data_2012!AH$271","v":0},{"$f":"Baseline_Data_2012!AI123/Baseline_Data_2012!AI$271","v":0},{"$f":"Baseline_Data_2012!AJ123/Baseline_Data_2012!AJ$271","v":0},{"$f":"Baseline_Data_2012!AK123/Baseline_Data_2012!AK$271","v":0},{"$f":"Baseline_Data_2012!AL123/Baseline_Data_2012!AL$271","v":0},{"$f":"Baseline_Data_2012!AM123/Baseline_Data_2012!AM$271","v":0},{"$f":"Baseline_Data_2012!AN123/Baseline_Data_2012!AN$271","v":0},{"$f":"Baseline_Data_2012!AO123/Baseline_Data_2012!AO$271","v":0},{"$f":"Baseline_Data_2012!AP123/Baseline_Data_2012!AP$271","v":0},{"$f":"Baseline_Data_2012!AQ123/Baseline_Data_2012!AQ$271","v":0},{"$f":"Baseline_Data_2012!AR123/Baseline_Data_2012!AR$271","v":0},{"$f":"Baseline_Data_2012!AS123/Baseline_Data_2012!AS$271","v":0},{"$f":"Baseline_Data_2012!AT123/Baseline_Data_2012!AT$271","v":0},{"$f":"Baseline_Data_2012!AU123/Baseline_Data_2012!AU$271","v":0},{"$f":"Baseline_Data_2012!AV123/Baseline_Data_2012!AV$271","v":0},125]
[2,"Male 90+",null,null,null,{"$f":"G126*'III Tool Overview'!$H$8","v":0},{"$f":"HLOOKUP('III Tool Overview'!$H$6,Targeting!$I$1:$BC$277,Targeting!BD126,FALSE)","v":0},{"$f":"Baseline_Data_2012!B124","v":0},{"$f":"Baseline_Data_2012!B124/Baseline_Data_2012!B$271","v":0},{"$f":"Baseline_Data_2012!C124/Baseline_Data_2012!C$271","v":0},{"$f":"Baseline_Data_2012!D124/Baseline_Data_2012!D$271","v":0},{"$f":"Baseline_Data_2012!E124/Baseline_Data_2012!E$271","v":0},{"$f":"Baseline_Data_2012!F124/Baseline_Data_2012!F$271","v":0},{"$f":"Baseline_Data_2012!G124/Baseline_Data_2012!G$271","v":0},{"$f":"Baseline_Data_2012!H124/Baseline_Data_2012!H$271","v":0},{"$f":"Baseline_Data_2012!I124/Baseline_Data_2012!I$271","v":0},{"$f":"Baseline_Data_2012!J124/Baseline_Data_2012!J$271","v":0},{"$f":"Baseline_Data_2012!K124/Baseline_Data_2012!K$271","v":0},{"$f":"Baseline_Data_2012!L124/Baseline_Data_2012!L$271","v":0},{"$f":"Baseline_Data_2012!M124/Baseline_Data_2012!M$271","v":0},{"$f":"Baseline_Data_2012!N124/Baseline_Data_2012!N$271","v":0},{"$f":"Baseline_Data_2012!O124/Baseline_Data_2012!O$271","v":0},{"$f":"Baseline_Data_2012!P124/Baseline_Data_2012!P$271","v":0},{"$f":"Baseline_Data_2012!Q124/Baseline_Data_2012!Q$271","v":0},{"$f":"Baseline_Data_2012!R124/Baseline_Data_2012!R$271","v":0},{"$f":"Baseline_Data_2012!S124/Baseline_Data_2012!S$271","v":0},{"$f":"Baseline_Data_2012!T124/Baseline_Data_2012!T$271","v":0},{"$f":"Baseline_Data_2012!U124/Baseline_Data_2012!U$271","v":0},{"$f":"Baseline_Data_2012!V124/Baseline_Data_2012!V$271","v":0},{"$f":"Baseline_Data_2012!W124/Baseline_Data_2012!W$271","v":0},{"$f":"Baseline_Data_2012!X124/Baseline_Data_2012!X$271","v":0},{"$f":"Baseline_Data_2012!Y124/Baseline_Data_2012!Y$271","v":0},{"$f":"Baseline_Data_2012!Z124/Baseline_Data_2012!Z$271","v":0},{"$f":"Baseline_Data_2012!AA124/Baseline_Data_2012!AA$271","v":0},{"$f":"Baseline_Data_2012!AB124/Baseline_Data_2012!AB$271","v":0},{"$f":"Baseline_Data_2012!AC124/Baseline_Data_2012!AC$271","v":0},{"$f":"Baseline_Data_2012!AD124/Baseline_Data_2012!AD$271","v":0},{"$f":"Baseline_Data_2012!AE124/Baseline_Data_2012!AE$271","v":0},{"$f":"Baseline_Data_2012!AF124/Baseline_Data_2012!AF$271","v":0},{"$f":"Baseline_Data_2012!AG124/Baseline_Data_2012!AG$271","v":0},{"$f":"Baseline_Data_2012!AH124/Baseline_Data_2012!AH$271","v":0},{"$f":"Baseline_Data_2012!AI124/Baseline_Data_2012!AI$271","v":0},{"$f":"Baseline_Data_2012!AJ124/Baseline_Data_2012!AJ$271","v":0},{"$f":"Baseline_Data_2012!AK124/Baseline_Data_2012!AK$271","v":0},{"$f":"Baseline_Data_2012!AL124/Baseline_Data_2012!AL$271","v":0},{"$f":"Baseline_Data_2012!AM124/Baseline_Data_2012!AM$271","v":0},{"$f":"Baseline_Data_2012!AN124/Baseline_Data_2012!AN$271","v":0},{"$f":"Baseline_Data_2012!AO124/Baseline_Data_2012!AO$271","v":0},{"$f":"Baseline_Data_2012!AP124/Baseline_Data_2012!AP$271","v":0},{"$f":"Baseline_Data_2012!AQ124/Baseline_Data_2012!AQ$271","v":0},{"$f":"Baseline_Data_2012!AR124/Baseline_Data_2012!AR$271","v":0},{"$f":"Baseline_Data_2012!AS124/Baseline_Data_2012!AS$271","v":0},{"$f":"Baseline_Data_2012!AT124/Baseline_Data_2012!AT$271","v":0},{"$f":"Baseline_Data_2012!AU124/Baseline_Data_2012!AU$271","v":0},{"$f":"Baseline_Data_2012!AV124/Baseline_Data_2012!AV$271","v":0},126]
[null,"TOTAL",null,null,null,null,{"$f":"HLOOKUP('III Tool Overview'!$H$6,Targeting!$I$1:$BC$277,Targeting!BD127,FALSE)","v":0},null,null,null,null,null,null,null,null,null,null,null,null,null,null,null,null,null,null,null,null,null,null,null,null,null,null,null,null,null,null,null,null,null,null,null,null,null,null,null,null,null,null,null,null,null,null,null,null,127]
[2,"Female <1",null,null,null,null,{"$f":"HLOOKUP('III Tool Overview'!$H$6,Targeting!$I$1:$BC$277,Targeting!BD128,FALSE)","v":0},null,null,null,null,null,null,null,null,null,null,null,null,null,null,null,null,null,null,null,null,null,null,null,null,null,null,null,null,null,null,null,null,null,null,null,null,null,null,null,null,null,null,null,null,null,null,null,null,128]
[2,"Female 1-4",null,null,null,null,{"$f":"HLOOKUP('III Tool Overview'!$H$6,Targeting!$I$1:$BC$277,Targeting!BD129,FALSE)","v":0},null,null,null,null,null,null,null,null,null,null,null,null,null,null,null,null,null,null,null,null,null,null,null,null,null,null,null,null,null,null,null,null,null,null,null,null,null,null,null,null,null,null,null,null,null,null,null,null,129]
[2,"Female 5-9",null,null,null,null,{"$f":"HLOOKUP('III Tool Overview'!$H$6,Targeting!$I$1:$BC$277,Targeting!BD130,FALSE)","v":0},null,null,null,null,null,null,null,null,null,null,null,null,null,null,null,null,null,null,null,null,null,null,null,null,null,null,null,null,null,null,null,null,null,null,null,null,null,null,null,null,null,null,null,null,null,null,null,null,130]
[2,"Female 10-14",null,null,null,null,{"$f":"HLOOKUP('III Tool Overview'!$H$6,Targeting!$I$1:$BC$277,Targeting!BD131,FALSE)","v":0},null,null,null,null,null,null,null,null,null,null,null,null,null,null,null,null,null,null,null,null,null,null,null,null,null,null,null,null,null,null,null,null,null,null,null,null,null,null,null,null,null,null,null,null,null,null,null,null,131]
[2,"Female 15-19",{"$f":"'III Tool Overview'!$H$8/100","v":1000},0,{"$f":"'III Tool Overview'!$H$8/40","v":2500},{"$f":"G132*'III Tool Overview'!$H$8","v":339.53604964201531},{"$f":"HLOOKUP('III Tool Overview'!$H$6,Targeting!$I$1:$BC$277,Targeting!BD132,FALSE)","v":3.3953604964201529E-3},{"$f":"Baseline_Data_2012!B129","v":4944.5931119461966},{"$f":"Baseline_Data_2012!B129/Baseline_Data_2012!B$271","v":3.3953604964201529E-3},{"$f":"Baseline_Data_2012!C129/Baseline_Data_2012!C$271","v":4.7524079381011499E-3},{"$f":"Baseline_Data_2012!D129/Baseline_Data_2012!D$271","v":2.0558026848872587E-3},{"$f":"Baseline_Data_2012!E129/Baseline_Data_2012!E$271","v":3.9319976710985496E-3},{"$f":"Baseline_Data_2012!F129/Baseline_Data_2012!F$271","v":3.4117113855505815E-3},{"$f":"Baseline_Data_2012!G129/Baseline_Data_2012!G$271","v":3.9792932777919787E-3},{"$f":"Baseline_Data_2012!H129/Baseline_Data_2012!H$271","v":1.8778195028378891E-3},{"$f":"Baseline_Data_2012!I129/Baseline_Data_2012!I$271","v":3.260417407375964E-3},{"$f":"Baseline_Data_2012!J129/Baseline_Data_2012!J$271","v":3.2969932273185934E-3},{"$f":"Baseline_Data_2012!K129/Baseline_Data_2012!K$271","v":4.8214326152963803E-3},{"$f":"Baseline_Data_2012!L129/Baseline_Data_2012!L$271","v":3.1428238109887353E-3},{"$f":"Baseline_Data_2012!M129/Baseline_Data_2012!M$271","v":3.7195428350887357E-3},{"$f":"Baseline_Data_2012!N129/Baseline_Data_2012!N$271","v":3.2269294907227473E-4},{"$f":"Baseline_Data_2012!O129/Baseline_Data_2012!O$271","v":3.347401225166041E-3},{"$f":"Baseline_Data_2012!P129/Baseline_Data_2012!P$271","v":7.4500474195459193E-3},{"$f":"Baseline_Data_2012!Q129/Baseline_Data_2012!Q$271","v":2.607250038552774E-3},{"$f":"Baseline_Data_2012!R129/Baseline_Data_2012!R$271","v":1.044553376067194E-3},{"$f":"Baseline_Data_2012!S129/Baseline_Data_2012!S$271","v":3.5691941119066553E-3},{"$f":"Baseline_Data_2012!T129/Baseline_Data_2012!T$271","v":3.0078083706294632E-3},{"$f":"Baseline_Data_2012!U129/Baseline_Data_2012!U$271","v":2.9915928072383738E-3},{"$f":"Baseline_Data_2012!V129/Baseline_Data_2012!V$271","v":3.9319976710985478E-3},{"$f":"Baseline_Data_2012!W129/Baseline_Data_2012!W$271","v":4.9709467686611239E-3},{"$f":"Baseline_Data_2012!X129/Baseline_Data_2012!X$271","v":5.1635803255604589E-3},{"$f":"Baseline_Data_2012!Y129/Baseline_Data_2012!Y$271","v":2.9926726264336298E-3},{"$f":"Baseline_Data_2012!Z129/Baseline_Data_2012!Z$271","v":3.4767845925166435E-3},{"$f":"Baseline_Data_2012!AA129/Baseline_Data_2012!AA$271","v":1.8647267376219992E-3},{"$f":"Baseline_Data_2012!AB129/Baseline_Data_2012!AB$271","v":2.1631915816684708E-3},{"$f":"Baseline_Data_2012!AC129/Baseline_Data_2012!AC$271","v":7.4500474195459193E-3},{"$f":"Baseline_Data_2012!AD129/Baseline_Data_2012!AD$271","v":4.5106455260440796E-3},{"$f":"Baseline_Data_2012!AE129/Baseline_Data_2012!AE$271","v":3.4117113855505815E-3},{"$f":"Baseline_Data_2012!AF129/Baseline_Data_2012!AF$271","v":3.5752244448200377E-3},{"$f":"Baseline_Data_2012!AG129/Baseline_Data_2012!AG$271","v":3.3930804039185862E-3},{"$f":"Baseline_Data_2012!AH129/Baseline_Data_2012!AH$271","v":2.6472745193964475E-3},{"$f":"Baseline_Data_2012!AI129/Baseline_Data_2012!AI$271","v":4.8377055513260242E-3},{"$f":"Baseline_Data_2012!AJ129/Baseline_Data_2012!AJ$271","v":2.223682102225222E-3},{"$f":"Baseline_Data_2012!AK129/Baseline_Data_2012!AK$271","v":4.3031109014241451E-3},{"$f":"Baseline_Data_2012!AL129/Baseline_Data_2012!AL$271","v":5.1352948786726775E-3},{"$f":"Baseline_Data_2012!AM129/Baseline_Data_2012!AM$271","v":3.7195428350887357E-3},{"$f":"Baseline_Data_2012!AN129/Baseline_Data_2012!AN$271","v":1.8260366362429963E-3},{"$f":"Baseline_Data_2012!AO129/Baseline_Data_2012!AO$271","v":2.4213323641344062E-3},{"$f":"Baseline_Data_2012!AP129/Baseline_Data_2012!AP$271","v":2.0558026848872587E-3},{"$f":"Baseline_Data_2012!AQ129/Baseline_Data_2012!AQ$271","v":3.2269294907227473E-4},{"$f":"Baseline_Data_2012!AR129/Baseline_Data_2012!AR$271","v":4.8576141442734158E-3},{"$f":"Baseline_Data_2012!AS129/Baseline_Data_2012!AS$271","v":3.9765571001626927E-3},{"$f":"Baseline_Data_2012!AT129/Baseline_Data_2012!AT$271","v":3.5678191252163944E-3},{"$f":"Baseline_Data_2012!AU129/Baseline_Data_2012!AU$271","v":5.6176998853489125E-3},{"$f":"Baseline_Data_2012!AV129/Baseline_Data_2012!AV$271","v":5.2278372002776278E-3},132]
[2,"Female 20-24",{"$f":"'III Tool Overview'!$H$8/100","v":1000},0,{"$f":"'III Tool Overview'!$H$8/40","v":2500},{"$f":"G133*'III Tool Overview'!$H$8","v":540.10263682700804},{"$f":"HLOOKUP('III Tool Overview'!$H$6,Targeting!$I$1:$BC$277,Targeting!BD133,FALSE)","v":5.40102636827008E-3},{"$f":"Baseline_Data_2012!B130","v":7865.4027477038026},{"$f":"Baseline_Data_2012!B130/Baseline_Data_2012!B$271","v":5.40102636827008E-3},{"$f":"Baseline_Data_2012!C130/Baseline_Data_2012!C$271","v":6.2436807738501304E-3},{"$f":"Baseline_Data_2012!D130/Baseline_Data_2012!D$271","v":3.8975943647231621E-3},{"$f":"Baseline_Data_2012!E130/Baseline_Data_2012!E$271","v":4.8500168179373103E-3},{"$f":"Baseline_Data_2012!F130/Baseline_Data_2012!F$271","v":4.8048928330143917E-3},{"$f":"Baseline_Data_2012!G130/Baseline_Data_2012!G$271","v":5.941188629426229E-3},{"$f":"Baseline_Data_2012!H130/Baseline_Data_2012!H$271","v":3.8653275099685314E-3},{"$f":"Baseline_Data_2012!I130/Baseline_Data_2012!I$271","v":5.6470609522743225E-3},{"$f":"Baseline_Data_2012!J130/Baseline_Data_2012!J$271","v":3.9423208200093564E-3},{"$f":"Baseline_Data_2012!K130/Baseline_Data_2012!K$271","v":6.6051615105242488E-3},{"$f":"Baseline_Data_2012!L130/Baseline_Data_2012!L$271","v":5.6313974839921508E-3},{"$f":"Baseline_Data_2012!M130/Baseline_Data_2012!M$271","v":4.0487059178399513E-3},{"$f":"Baseline_Data_2012!N130/Baseline_Data_2012!N$271","v":9.3874312457389007E-4},{"$f":"Baseline_Data_2012!O130/Baseline_Data_2012!O$271","v":6.2879560724497206E-3},{"$f":"Baseline_Data_2012!P130/Baseline_Data_2012!P$271","v":7.5940096885226526E-3},{"$f":"Baseline_Data_2012!Q130/Baseline_Data_2012!Q$271","v":6.7429861804929273E-3},{"$f":"Baseline_Data_2012!R130/Baseline_Data_2012!R$271","v":1.4221995966453333E-3},{"$f":"Baseline_Data_2012!S130/Baseline_Data_2012!S$271","v":3.9438608971344253E-3},{"$f":"Baseline_Data_2012!T130/Baseline_Data_2012!T$271","v":3.9392587047598774E-3},{"$f":"Baseline_Data_2012!U130/Baseline_Data_2012!U$271","v":4.2800510955044065E-3},{"$f":"Baseline_Data_2012!V130/Baseline_Data_2012!V$271","v":4.8500168179373094E-3},{"$f":"Baseline_Data_2012!W130/Baseline_Data_2012!W$271","v":1.2231508308681143E-2},{"$f":"Baseline_Data_2012!X130/Baseline_Data_2012!X$271","v":6.7685581450303576E-3},{"$f":"Baseline_Data_2012!Y130/Baseline_Data_2012!Y$271","v":4.363362378998651E-3},{"$f":"Baseline_Data_2012!Z130/Baseline_Data_2012!Z$271","v":4.9029758233244906E-3},{"$f":"Baseline_Data_2012!AA130/Baseline_Data_2012!AA$271","v":2.1937961619082342E-3},{"$f":"Baseline_Data_2012!AB130/Baseline_Data_2012!AB$271","v":5.3170543393833564E-3},{"$f":"Baseline_Data_2012!AC130/Baseline_Data_2012!AC$271","v":7.5940096885226526E-3},{"$f":"Baseline_Data_2012!AD130/Baseline_Data_2012!AD$271","v":5.8701414829954888E-3},{"$f":"Baseline_Data_2012!AE130/Baseline_Data_2012!AE$271","v":4.8048928330143917E-3},{"$f":"Baseline_Data_2012!AF130/Baseline_Data_2012!AF$271","v":7.2156664096112546E-3},{"$f":"Baseline_Data_2012!AG130/Baseline_Data_2012!AG$271","v":3.9429599736670699E-3},{"$f":"Baseline_Data_2012!AH130/Baseline_Data_2012!AH$271","v":3.7185451420315859E-3},{"$f":"Baseline_Data_2012!AI130/Baseline_Data_2012!AI$271","v":6.6255532550769458E-3},{"$f":"Baseline_Data_2012!AJ130/Baseline_Data_2012!AJ$271","v":2.8271348660261187E-3},{"$f":"Baseline_Data_2012!AK130/Baseline_Data_2012!AK$271","v":5.3844626046317678E-3},{"$f":"Baseline_Data_2012!AL130/Baseline_Data_2012!AL$271","v":7.2354630287820194E-3},{"$f":"Baseline_Data_2012!AM130/Baseline_Data_2012!AM$271","v":4.0487059178399513E-3},{"$f":"Baseline_Data_2012!AN130/Baseline_Data_2012!AN$271","v":2.9518637352800316E-3},{"$f":"Baseline_Data_2012!AO130/Baseline_Data_2012!AO$271","v":3.5695930728991761E-3},{"$f":"Baseline_Data_2012!AP130/Baseline_Data_2012!AP$271","v":3.8975943647231621E-3},{"$f":"Baseline_Data_2012!AQ130/Baseline_Data_2012!AQ$271","v":9.3874312457389007E-4},{"$f":"Baseline_Data_2012!AR130/Baseline_Data_2012!AR$271","v":6.7400277531573082E-3},{"$f":"Baseline_Data_2012!AS130/Baseline_Data_2012!AS$271","v":5.2324383582454757E-3},{"$f":"Baseline_Data_2012!AT130/Baseline_Data_2012!AT$271","v":6.9672692580068458E-3},{"$f":"Baseline_Data_2012!AU130/Baseline_Data_2012!AU$271","v":7.7058580664161064E-3},{"$f":"Baseline_Data_2012!AV130/Baseline_Data_2012!AV$271","v":6.694130980753903E-3},133]
[2,"Female 25-29",{"$f":"'III Tool Overview'!$H$8/100","v":1000},0,{"$f":"'III Tool Overview'!$H$8/40","v":2500},{"$f":"G134*'III Tool Overview'!$H$8","v":1017.2860064534365},{"$f":"HLOOKUP('III Tool Overview'!$H$6,Targeting!$I$1:$BC$277,Targeting!BD134,FALSE)","v":1.0172860064534365E-2},{"$f":"Baseline_Data_2012!B131","v":14814.525249063507},{"$f":"Baseline_Data_2012!B131/Baseline_Data_2012!B$271","v":1.0172860064534365E-2},{"$f":"Baseline_Data_2012!C131/Baseline_Data_2012!C$271","v":1.1493616313842747E-2},{"$f":"Baseline_Data_2012!D131/Baseline_Data_2012!D$271","v":6.1980870610521249E-3},{"$f":"Baseline_Data_2012!E131/Baseline_Data_2012!E$271","v":9.7197009814949838E-3},{"$f":"Baseline_Data_2012!F131/Baseline_Data_2012!F$271","v":9.1559098804681761E-3},{"$f":"Baseline_Data_2012!G131/Baseline_Data_2012!G$271","v":1.0706307135846209E-2},{"$f":"Baseline_Data_2012!H131/Baseline_Data_2012!H$271","v":6.943385633333677E-3},{"$f":"Baseline_Data_2012!I131/Baseline_Data_2012!I$271","v":1.0712656589978132E-2},{"$f":"Baseline_Data_2012!J131/Baseline_Data_2012!J$271","v":8.3756987009991832E-3},{"$f":"Baseline_Data_2012!K131/Baseline_Data_2012!K$271","v":1.3760635368384923E-2},{"$f":"Baseline_Data_2012!L131/Baseline_Data_2012!L$271","v":1.0707671708757749E-2},{"$f":"Baseline_Data_2012!M131/Baseline_Data_2012!M$271","v":7.6302448105171842E-3},{"$f":"Baseline_Data_2012!N131/Baseline_Data_2012!N$271","v":1.3377518279894668E-3},{"$f":"Baseline_Data_2012!O131/Baseline_Data_2012!O$271","v":1.0066682820324356E-2},{"$f":"Baseline_Data_2012!P131/Baseline_Data_2012!P$271","v":1.44290808659038E-2},{"$f":"Baseline_Data_2012!Q131/Baseline_Data_2012!Q$271","v":1.1584417362531862E-2},{"$f":"Baseline_Data_2012!R131/Baseline_Data_2012!R$271","v":2.8549362288791437E-3},{"$f":"Baseline_Data_2012!S131/Baseline_Data_2012!S$271","v":8.817440948140182E-3},{"$f":"Baseline_Data_2012!T131/Baseline_Data_2012!T$271","v":7.5032669762279628E-3},{"$f":"Baseline_Data_2012!U131/Baseline_Data_2012!U$271","v":7.5695648044543521E-3},{"$f":"Baseline_Data_2012!V131/Baseline_Data_2012!V$271","v":9.7197009814949803E-3},{"$f":"Baseline_Data_2012!W131/Baseline_Data_2012!W$271","v":1.5326013883997095E-2},{"$f":"Baseline_Data_2012!X131/Baseline_Data_2012!X$271","v":1.275787865630037E-2},{"$f":"Baseline_Data_2012!Y131/Baseline_Data_2012!Y$271","v":7.8131820051735891E-3},{"$f":"Baseline_Data_2012!Z131/Baseline_Data_2012!Z$271","v":8.9384610754611477E-3},{"$f":"Baseline_Data_2012!AA131/Baseline_Data_2012!AA$271","v":3.6392869660810227E-3},{"$f":"Baseline_Data_2012!AB131/Baseline_Data_2012!AB$271","v":9.8758153567619338E-3},{"$f":"Baseline_Data_2012!AC131/Baseline_Data_2012!AC$271","v":1.44290808659038E-2},{"$f":"Baseline_Data_2012!AD131/Baseline_Data_2012!AD$271","v":1.2017519130056629E-2},{"$f":"Baseline_Data_2012!AE131/Baseline_Data_2012!AE$271","v":9.1559098804681761E-3},{"$f":"Baseline_Data_2012!AF131/Baseline_Data_2012!AF$271","v":1.3769685880317507E-2},{"$f":"Baseline_Data_2012!AG131/Baseline_Data_2012!AG$271","v":8.6657328422374801E-3},{"$f":"Baseline_Data_2012!AH131/Baseline_Data_2012!AH$271","v":7.3786129008419545E-3},{"$f":"Baseline_Data_2012!AI131/Baseline_Data_2012!AI$271","v":1.1340050432891928E-2},{"$f":"Baseline_Data_2012!AJ131/Baseline_Data_2012!AJ$271","v":5.6858645758683128E-3},{"$f":"Baseline_Data_2012!AK131/Baseline_Data_2012!AK$271","v":9.8495345452038318E-3},{"$f":"Baseline_Data_2012!AL131/Baseline_Data_2012!AL$271","v":1.5126579605583668E-2},{"$f":"Baseline_Data_2012!AM131/Baseline_Data_2012!AM$271","v":7.6302448105171842E-3},{"$f":"Baseline_Data_2012!AN131/Baseline_Data_2012!AN$271","v":6.5130727491405369E-3},{"$f":"Baseline_Data_2012!AO131/Baseline_Data_2012!AO$271","v":6.7112996987357919E-3},{"$f":"Baseline_Data_2012!AP131/Baseline_Data_2012!AP$271","v":6.1980870610521249E-3},{"$f":"Baseline_Data_2012!AQ131/Baseline_Data_2012!AQ$271","v":1.3377518279894668E-3},{"$f":"Baseline_Data_2012!AR131/Baseline_Data_2012!AR$271","v":1.2136669083636946E-2},{"$f":"Baseline_Data_2012!AS131/Baseline_Data_2012!AS$271","v":1.0740410228442269E-2},{"$f":"Baseline_Data_2012!AT131/Baseline_Data_2012!AT$271","v":1.0069590238501496E-2},{"$f":"Baseline_Data_2012!AU131/Baseline_Data_2012!AU$271","v":1.4799602468539739E-2},{"$f":"Baseline_Data_2012!AV131/Baseline_Data_2012!AV$271","v":1.4270578411103831E-2},134]
[2,"Female 30-34",{"$f":"'III Tool Overview'!$H$8/100","v":1000},0,{"$f":"'III Tool Overview'!$H$8/40","v":2500},{"$f":"G135*'III Tool Overview'!$H$8","v":941.70318793635136},{"$f":"HLOOKUP('III Tool Overview'!$H$6,Targeting!$I$1:$BC$277,Targeting!BD135,FALSE)","v":9.4170318793635136E-3},{"$f":"Baseline_Data_2012!B132","v":13713.828329796494},{"$f":"Baseline_Data_2012!B132/Baseline_Data_2012!B$271","v":9.4170318793635136E-3},{"$f":"Baseline_Data_2012!C132/Baseline_Data_2012!C$271","v":1.1867265879074345E-2},{"$f":"Baseline_Data_2012!D132/Baseline_Data_2012!D$271","v":5.3848191763017465E-3},{"$f":"Baseline_Data_2012!E132/Baseline_Data_2012!E$271","v":9.9403644632370322E-3},{"$f":"Baseline_Data_2012!F132/Baseline_Data_2012!F$271","v":8.9679035174195475E-3},{"$f":"Baseline_Data_2012!G132/Baseline_Data_2012!G$271","v":1.1082288799717468E-2},{"$f":"Baseline_Data_2012!H132/Baseline_Data_2012!H$271","v":5.3191091246549667E-3},{"$f":"Baseline_Data_2012!I132/Baseline_Data_2012!I$271","v":9.8623875756521217E-3},{"$f":"Baseline_Data_2012!J132/Baseline_Data_2012!J$271","v":7.974660843549029E-3},{"$f":"Baseline_Data_2012!K132/Baseline_Data_2012!K$271","v":1.3544032774623311E-2},{"$f":"Baseline_Data_2012!L132/Baseline_Data_2012!L$271","v":9.5627780446136627E-3},{"$f":"Baseline_Data_2012!M132/Baseline_Data_2012!M$271","v":6.4419279957645082E-3},{"$f":"Baseline_Data_2012!N132/Baseline_Data_2012!N$271","v":7.2461557349429444E-4},{"$f":"Baseline_Data_2012!O132/Baseline_Data_2012!O$271","v":7.9546465206882556E-3},{"$f":"Baseline_Data_2012!P132/Baseline_Data_2012!P$271","v":1.6685761759623354E-2},{"$f":"Baseline_Data_2012!Q132/Baseline_Data_2012!Q$271","v":8.4206058979748415E-3},{"$f":"Baseline_Data_2012!R132/Baseline_Data_2012!R$271","v":2.5648624943940971E-3},{"$f":"Baseline_Data_2012!S132/Baseline_Data_2012!S$271","v":8.3803156886714768E-3},{"$f":"Baseline_Data_2012!T132/Baseline_Data_2012!T$271","v":7.1345560683052124E-3},{"$f":"Baseline_Data_2012!U132/Baseline_Data_2012!U$271","v":8.3574748956243214E-3},{"$f":"Baseline_Data_2012!V132/Baseline_Data_2012!V$271","v":9.9403644632370287E-3},{"$f":"Baseline_Data_2012!W132/Baseline_Data_2012!W$271","v":1.0524841271910453E-2},{"$f":"Baseline_Data_2012!X132/Baseline_Data_2012!X$271","v":1.3568809170711585E-2},{"$f":"Baseline_Data_2012!Y132/Baseline_Data_2012!Y$271","v":7.7553065829130442E-3},{"$f":"Baseline_Data_2012!Z132/Baseline_Data_2012!Z$271","v":8.331778197036184E-3},{"$f":"Baseline_Data_2012!AA132/Baseline_Data_2012!AA$271","v":4.0881857989015892E-3},{"$f":"Baseline_Data_2012!AB132/Baseline_Data_2012!AB$271","v":8.2023416840364786E-3},{"$f":"Baseline_Data_2012!AC132/Baseline_Data_2012!AC$271","v":1.6685761759623354E-2},{"$f":"Baseline_Data_2012!AD132/Baseline_Data_2012!AD$271","v":1.2436635455588853E-2},{"$f":"Baseline_Data_2012!AE132/Baseline_Data_2012!AE$271","v":8.9679035174195475E-3},{"$f":"Baseline_Data_2012!AF132/Baseline_Data_2012!AF$271","v":1.2034844246728189E-2},{"$f":"Baseline_Data_2012!AG132/Baseline_Data_2012!AG$271","v":8.2539568844857709E-3},{"$f":"Baseline_Data_2012!AH132/Baseline_Data_2012!AH$271","v":6.3804451078898596E-3},{"$f":"Baseline_Data_2012!AI132/Baseline_Data_2012!AI$271","v":1.2106045028946301E-2},{"$f":"Baseline_Data_2012!AJ132/Baseline_Data_2012!AJ$271","v":4.5078539593210107E-3},{"$f":"Baseline_Data_2012!AK132/Baseline_Data_2012!AK$271","v":9.5635803164721075E-3},{"$f":"Baseline_Data_2012!AL132/Baseline_Data_2012!AL$271","v":1.517960880665495E-2},{"$f":"Baseline_Data_2012!AM132/Baseline_Data_2012!AM$271","v":6.4419279957645074E-3},{"$f":"Baseline_Data_2012!AN132/Baseline_Data_2012!AN$271","v":5.4782854899312929E-3},{"$f":"Baseline_Data_2012!AO132/Baseline_Data_2012!AO$271","v":6.7350145386606526E-3},{"$f":"Baseline_Data_2012!AP132/Baseline_Data_2012!AP$271","v":5.3848191763017465E-3},{"$f":"Baseline_Data_2012!AQ132/Baseline_Data_2012!AQ$271","v":7.2461557349429444E-4},{"$f":"Baseline_Data_2012!AR132/Baseline_Data_2012!AR$271","v":1.2833254947156947E-2},{"$f":"Baseline_Data_2012!AS132/Baseline_Data_2012!AS$271","v":1.0393651019707514E-2},{"$f":"Baseline_Data_2012!AT132/Baseline_Data_2012!AT$271","v":1.0145759604904684E-2},{"$f":"Baseline_Data_2012!AU132/Baseline_Data_2012!AU$271","v":1.4922493592240543E-2},{"$f":"Baseline_Data_2012!AV132/Baseline_Data_2012!AV$271","v":1.3494917465852485E-2},135]
[2,"Female 35-39",{"$f":"'III Tool Overview'!$H$8/100","v":1000},0,{"$f":"'III Tool Overview'!$H$8/40","v":2500},{"$f":"G136*'III Tool Overview'!$H$8","v":973.08430752339075},{"$f":"HLOOKUP('III Tool Overview'!$H$6,Targeting!$I$1:$BC$277,Targeting!BD136,FALSE)","v":9.7308430752339071E-3},{"$f":"Baseline_Data_2012!B133","v":14170.825069667952},{"$f":"Baseline_Data_2012!B133/Baseline_Data_2012!B$271","v":9.7308430752339071E-3},{"$f":"Baseline_Data_2012!C133/Baseline_Data_2012!C$271","v":1.3015231822543853E-2},{"$f":"Baseline_Data_2012!D133/Baseline_Data_2012!D$271","v":5.9416306890290472E-3},{"$f":"Baseline_Data_2012!E133/Baseline_Data_2012!E$271","v":1.0292162072340788E-2},{"$f":"Baseline_Data_2012!F133/Baseline_Data_2012!F$271","v":9.8081423275694773E-3},{"$f":"Baseline_Data_2012!G133/Baseline_Data_2012!G$271","v":1.2247844237046406E-2},{"$f":"Baseline_Data_2012!H133/Baseline_Data_2012!H$271","v":5.1721514406652047E-3},{"$f":"Baseline_Data_2012!I133/Baseline_Data_2012!I$271","v":9.5613025702312275E-3},{"$f":"Baseline_Data_2012!J133/Baseline_Data_2012!J$271","v":9.5656710829133684E-3},{"$f":"Baseline_Data_2012!K133/Baseline_Data_2012!K$271","v":1.4813002640275076E-2},{"$f":"Baseline_Data_2012!L133/Baseline_Data_2012!L$271","v":9.4561819886869996E-3},{"$f":"Baseline_Data_2012!M133/Baseline_Data_2012!M$271","v":9.4469118732413444E-3},{"$f":"Baseline_Data_2012!N133/Baseline_Data_2012!N$271","v":1.3600393572543307E-3},{"$f":"Baseline_Data_2012!O133/Baseline_Data_2012!O$271","v":7.0411295950720681E-3},{"$f":"Baseline_Data_2012!P133/Baseline_Data_2012!P$271","v":2.2009179445315816E-2},{"$f":"Baseline_Data_2012!Q133/Baseline_Data_2012!Q$271","v":7.3331987476939007E-3},{"$f":"Baseline_Data_2012!R133/Baseline_Data_2012!R$271","v":2.9387172988088474E-3},{"$f":"Baseline_Data_2012!S133/Baseline_Data_2012!S$271","v":8.7793245394322105E-3},{"$f":"Baseline_Data_2012!T133/Baseline_Data_2012!T$271","v":9.8532996901091394E-3},{"$f":"Baseline_Data_2012!U133/Baseline_Data_2012!U$271","v":9.2527949327020423E-3},{"$f":"Baseline_Data_2012!V133/Baseline_Data_2012!V$271","v":1.0292162072340787E-2},{"$f":"Baseline_Data_2012!W133/Baseline_Data_2012!W$271","v":8.1484654787985274E-3},{"$f":"Baseline_Data_2012!X133/Baseline_Data_2012!X$271","v":1.4159815142317813E-2},{"$f":"Baseline_Data_2012!Y133/Baseline_Data_2012!Y$271","v":9.0949290744652689E-3},{"$f":"Baseline_Data_2012!Z133/Baseline_Data_2012!Z$271","v":9.3360539948202977E-3},{"$f":"Baseline_Data_2012!AA133/Baseline_Data_2012!AA$271","v":4.4333832090063304E-3},{"$f":"Baseline_Data_2012!AB133/Baseline_Data_2012!AB$271","v":7.0346120290152823E-3},{"$f":"Baseline_Data_2012!AC133/Baseline_Data_2012!AC$271","v":2.2009179445315816E-2},{"$f":"Baseline_Data_2012!AD133/Baseline_Data_2012!AD$271","v":1.4012817979154187E-2},{"$f":"Baseline_Data_2012!AE133/Baseline_Data_2012!AE$271","v":9.8081423275694773E-3},{"$f":"Baseline_Data_2012!AF133/Baseline_Data_2012!AF$271","v":1.0375139106731995E-2},{"$f":"Baseline_Data_2012!AG133/Baseline_Data_2012!AG$271","v":9.4688574299857976E-3},{"$f":"Baseline_Data_2012!AH133/Baseline_Data_2012!AH$271","v":8.3685278447077141E-3},{"$f":"Baseline_Data_2012!AI133/Baseline_Data_2012!AI$271","v":1.3330761734561601E-2},{"$f":"Baseline_Data_2012!AJ133/Baseline_Data_2012!AJ$271","v":5.4931607320761614E-3},{"$f":"Baseline_Data_2012!AK133/Baseline_Data_2012!AK$271","v":1.1764094964368952E-2},{"$f":"Baseline_Data_2012!AL133/Baseline_Data_2012!AL$271","v":1.652809060716149E-2},{"$f":"Baseline_Data_2012!AM133/Baseline_Data_2012!AM$271","v":9.4469118732413444E-3},{"$f":"Baseline_Data_2012!AN133/Baseline_Data_2012!AN$271","v":4.8698885231475185E-3},{"$f":"Baseline_Data_2012!AO133/Baseline_Data_2012!AO$271","v":7.5957790372021784E-3},{"$f":"Baseline_Data_2012!AP133/Baseline_Data_2012!AP$271","v":5.9416306890290472E-3},{"$f":"Baseline_Data_2012!AQ133/Baseline_Data_2012!AQ$271","v":1.3600393572543307E-3},{"$f":"Baseline_Data_2012!AR133/Baseline_Data_2012!AR$271","v":1.3307770357007087E-2},{"$f":"Baseline_Data_2012!AS133/Baseline_Data_2012!AS$271","v":1.1275862492651561E-2},{"$f":"Baseline_Data_2012!AT133/Baseline_Data_2012!AT$271","v":1.072632207107045E-2},{"$f":"Baseline_Data_2012!AU133/Baseline_Data_2012!AU$271","v":1.664487370734246E-2},{"$f":"Baseline_Data_2012!AV133/Baseline_Data_2012!AV$271","v":1.5357841840562944E-2},136]
[2,"Female 40-44",{"$f":"'III Tool Overview'!$H$8/100","v":1000},0,{"$f":"'III Tool Overview'!$H$8/40","v":2500},{"$f":"G137*'III Tool Overview'!$H$8","v":1158.1907200042278},{"$f":"HLOOKUP('III Tool Overview'!$H$6,Targeting!$I$1:$BC$277,Targeting!BD137,FALSE)","v":1.1581907200042279E-2},{"$f":"Baseline_Data_2012!B134","v":16866.491385792044},{"$f":"Baseline_Data_2012!B134/Baseline_Data_2012!B$271","v":1.1581907200042279E-2},{"$f":"Baseline_Data_2012!C134/Baseline_Data_2012!C$271","v":1.7410925127447477E-2},{"$f":"Baseline_Data_2012!D134/Baseline_Data_2012!D$271","v":6.8292959967876038E-3},{"$f":"Baseline_Data_2012!E134/Baseline_Data_2012!E$271","v":1.4760645249656005E-2},{"$f":"Baseline_Data_2012!F134/Baseline_Data_2012!F$271","v":1.1979477176924503E-2},{"$f":"Baseline_Data_2012!G134/Baseline_Data_2012!G$271","v":1.4432105279755855E-2},{"$f":"Baseline_Data_2012!H134/Baseline_Data_2012!H$271","v":5.7933360411725789E-3},{"$f":"Baseline_Data_2012!I134/Baseline_Data_2012!I$271","v":1.0979316416380426E-2},{"$f":"Baseline_Data_2012!J134/Baseline_Data_2012!J$271","v":1.1574140655193611E-2},{"$f":"Baseline_Data_2012!K134/Baseline_Data_2012!K$271","v":1.8312696648031451E-2},{"$f":"Baseline_Data_2012!L134/Baseline_Data_2012!L$271","v":1.047972497595955E-2},{"$f":"Baseline_Data_2012!M134/Baseline_Data_2012!M$271","v":1.0173597401952218E-2},{"$f":"Baseline_Data_2012!N134/Baseline_Data_2012!N$271","v":1.9429133675061868E-3},{"$f":"Baseline_Data_2012!O134/Baseline_Data_2012!O$271","v":8.2480658183731459E-3},{"$f":"Baseline_Data_2012!P134/Baseline_Data_2012!P$271","v":2.4313389567749602E-2},{"$f":"Baseline_Data_2012!Q134/Baseline_Data_2012!Q$271","v":7.8170516213635077E-3},{"$f":"Baseline_Data_2012!R134/Baseline_Data_2012!R$271","v":3.3880986161317289E-3},{"$f":"Baseline_Data_2012!S134/Baseline_Data_2012!S$271","v":9.9257156776390628E-3},{"$f":"Baseline_Data_2012!T134/Baseline_Data_2012!T$271","v":1.1181353126602111E-2},{"$f":"Baseline_Data_2012!U134/Baseline_Data_2012!U$271","v":1.1639558289900803E-2},{"$f":"Baseline_Data_2012!V134/Baseline_Data_2012!V$271","v":1.4760645249656005E-2},{"$f":"Baseline_Data_2012!W134/Baseline_Data_2012!W$271","v":9.5248131605686799E-3},{"$f":"Baseline_Data_2012!X134/Baseline_Data_2012!X$271","v":1.9680417859472651E-2},{"$f":"Baseline_Data_2012!Y134/Baseline_Data_2012!Y$271","v":1.1683873764793646E-2},{"$f":"Baseline_Data_2012!Z134/Baseline_Data_2012!Z$271","v":1.1638738453274297E-2},{"$f":"Baseline_Data_2012!AA134/Baseline_Data_2012!AA$271","v":6.2402662815845399E-3},{"$f":"Baseline_Data_2012!AB134/Baseline_Data_2012!AB$271","v":6.5282877390222746E-3},{"$f":"Baseline_Data_2012!AC134/Baseline_Data_2012!AC$271","v":2.4313389567749605E-2},{"$f":"Baseline_Data_2012!AD134/Baseline_Data_2012!AD$271","v":1.6079957085298916E-2},{"$f":"Baseline_Data_2012!AE134/Baseline_Data_2012!AE$271","v":1.1979477176924503E-2},{"$f":"Baseline_Data_2012!AF134/Baseline_Data_2012!AF$271","v":1.0864668290230315E-2},{"$f":"Baseline_Data_2012!AG134/Baseline_Data_2012!AG$271","v":1.1703964802222263E-2},{"$f":"Baseline_Data_2012!AH134/Baseline_Data_2012!AH$271","v":9.4600749548869809E-3},{"$f":"Baseline_Data_2012!AI134/Baseline_Data_2012!AI$271","v":1.6310351440109477E-2},{"$f":"Baseline_Data_2012!AJ134/Baseline_Data_2012!AJ$271","v":7.007886116668592E-3},{"$f":"Baseline_Data_2012!AK134/Baseline_Data_2012!AK$271","v":1.5381923332072375E-2},{"$f":"Baseline_Data_2012!AL134/Baseline_Data_2012!AL$271","v":1.9880946514734169E-2},{"$f":"Baseline_Data_2012!AM134/Baseline_Data_2012!AM$271","v":1.0173597401952219E-2},{"$f":"Baseline_Data_2012!AN134/Baseline_Data_2012!AN$271","v":5.9711703675937415E-3},{"$f":"Baseline_Data_2012!AO134/Baseline_Data_2012!AO$271","v":9.4878352423577381E-3},{"$f":"Baseline_Data_2012!AP134/Baseline_Data_2012!AP$271","v":6.8292959967876038E-3},{"$f":"Baseline_Data_2012!AQ134/Baseline_Data_2012!AQ$271","v":1.9429133675061868E-3},{"$f":"Baseline_Data_2012!AR134/Baseline_Data_2012!AR$271","v":1.7385707004417442E-2},{"$f":"Baseline_Data_2012!AS134/Baseline_Data_2012!AS$271","v":1.4769418384827105E-2},{"$f":"Baseline_Data_2012!AT134/Baseline_Data_2012!AT$271","v":1.3009648056496339E-2},{"$f":"Baseline_Data_2012!AU134/Baseline_Data_2012!AU$271","v":2.0602110838744955E-2},{"$f":"Baseline_Data_2012!AV134/Baseline_Data_2012!AV$271","v":1.9422611956448465E-2},137]
[2,"Female 45-49",{"$f":"'III Tool Overview'!$H$8/100","v":1000},0,{"$f":"'III Tool Overview'!$H$8/40","v":2500},{"$f":"G138*'III Tool Overview'!$H$8","v":1223.4456444197622},{"$f":"HLOOKUP('III Tool Overview'!$H$6,Targeting!$I$1:$BC$277,Targeting!BD138,FALSE)","v":1.2234456444197621E-2},{"$f":"Baseline_Data_2012!B135","v":17816.785324022789},{"$f":"Baseline_Data_2012!B135/Baseline_Data_2012!B$271","v":1.2234456444197621E-2},{"$f":"Baseline_Data_2012!C135/Baseline_Data_2012!C$271","v":1.875140905380758E-2},{"$f":"Baseline_Data_2012!D135/Baseline_Data_2012!D$271","v":8.424396241143009E-3},{"$f":"Baseline_Data_2012!E135/Baseline_Data_2012!E$271","v":1.5015222249237088E-2},{"$f":"Baseline_Data_2012!F135/Baseline_Data_2012!F$271","v":1.3192109167959978E-2},{"$f":"Baseline_Data_2012!G135/Baseline_Data_2012!G$271","v":1.5293415844481939E-2},{"$f":"Baseline_Data_2012!H135/Baseline_Data_2012!H$271","v":5.9213345782913786E-3},{"$f":"Baseline_Data_2012!I135/Baseline_Data_2012!I$271","v":1.1769671987156331E-2},{"$f":"Baseline_Data_2012!J135/Baseline_Data_2012!J$271","v":1.2884493329370524E-2},{"$f":"Baseline_Data_2012!K135/Baseline_Data_2012!K$271","v":1.8895290417034853E-2},{"$f":"Baseline_Data_2012!L135/Baseline_Data_2012!L$271","v":1.0483321901872679E-2},{"$f":"Baseline_Data_2012!M135/Baseline_Data_2012!M$271","v":1.3116718349993731E-2},{"$f":"Baseline_Data_2012!N135/Baseline_Data_2012!N$271","v":1.5850714311107272E-3},{"$f":"Baseline_Data_2012!O135/Baseline_Data_2012!O$271","v":8.6688023740003704E-3},{"$f":"Baseline_Data_2012!P135/Baseline_Data_2012!P$271","v":2.95748371465708E-2},{"$f":"Baseline_Data_2012!Q135/Baseline_Data_2012!Q$271","v":8.2279764206961079E-3},{"$f":"Baseline_Data_2012!R135/Baseline_Data_2012!R$271","v":3.443046944169385E-3},{"$f":"Baseline_Data_2012!S135/Baseline_Data_2012!S$271","v":9.6040815903945548E-3},{"$f":"Baseline_Data_2012!T135/Baseline_Data_2012!T$271","v":1.2429153226089368E-2},{"$f":"Baseline_Data_2012!U135/Baseline_Data_2012!U$271","v":1.3703570506266031E-2},{"$f":"Baseline_Data_2012!V135/Baseline_Data_2012!V$271","v":1.5015222249237084E-2},{"$f":"Baseline_Data_2012!W135/Baseline_Data_2012!W$271","v":1.0905601980439069E-2},{"$f":"Baseline_Data_2012!X135/Baseline_Data_2012!X$271","v":2.0556839885419599E-2},{"$f":"Baseline_Data_2012!Y135/Baseline_Data_2012!Y$271","v":1.2463553364899765E-2},{"$f":"Baseline_Data_2012!Z135/Baseline_Data_2012!Z$271","v":1.3434407146197159E-2},{"$f":"Baseline_Data_2012!AA135/Baseline_Data_2012!AA$271","v":7.1045296716113759E-3},{"$f":"Baseline_Data_2012!AB135/Baseline_Data_2012!AB$271","v":6.3457647726022116E-3},{"$f":"Baseline_Data_2012!AC135/Baseline_Data_2012!AC$271","v":2.9574837146570804E-2},{"$f":"Baseline_Data_2012!AD135/Baseline_Data_2012!AD$271","v":1.7198620974218103E-2},{"$f":"Baseline_Data_2012!AE135/Baseline_Data_2012!AE$271","v":1.3192109167959978E-2},{"$f":"Baseline_Data_2012!AF135/Baseline_Data_2012!AF$271","v":1.1179386167339623E-2},{"$f":"Baseline_Data_2012!AG135/Baseline_Data_2012!AG$271","v":1.3035043944176037E-2},{"$f":"Baseline_Data_2012!AH135/Baseline_Data_2012!AH$271","v":1.1850251351741978E-2},{"$f":"Baseline_Data_2012!AI135/Baseline_Data_2012!AI$271","v":1.7284040115146563E-2},{"$f":"Baseline_Data_2012!AJ135/Baseline_Data_2012!AJ$271","v":6.5323334079668734E-3},{"$f":"Baseline_Data_2012!AK135/Baseline_Data_2012!AK$271","v":1.6602209457047986E-2},{"$f":"Baseline_Data_2012!AL135/Baseline_Data_2012!AL$271","v":2.0096114377409036E-2},{"$f":"Baseline_Data_2012!AM135/Baseline_Data_2012!AM$271","v":1.3116718349993733E-2},{"$f":"Baseline_Data_2012!AN135/Baseline_Data_2012!AN$271","v":6.1098716926990216E-3},{"$f":"Baseline_Data_2012!AO135/Baseline_Data_2012!AO$271","v":1.0096968212035576E-2},{"$f":"Baseline_Data_2012!AP135/Baseline_Data_2012!AP$271","v":8.424396241143009E-3},{"$f":"Baseline_Data_2012!AQ135/Baseline_Data_2012!AQ$271","v":1.5850714311107272E-3},{"$f":"Baseline_Data_2012!AR135/Baseline_Data_2012!AR$271","v":1.9427907013884391E-2},{"$f":"Baseline_Data_2012!AS135/Baseline_Data_2012!AS$271","v":1.5623759282362747E-2},{"$f":"Baseline_Data_2012!AT135/Baseline_Data_2012!AT$271","v":1.2761538582625942E-2},{"$f":"Baseline_Data_2012!AU135/Baseline_Data_2012!AU$271","v":2.4213007749160579E-2},{"$f":"Baseline_Data_2012!AV135/Baseline_Data_2012!AV$271","v":1.8484417069533646E-2},138]
[2,"Female 50-54",{"$f":"'III Tool Overview'!$H$8/100","v":1000},0,{"$f":"'III Tool Overview'!$H$8/40","v":2500},{"$f":"G139*'III Tool Overview'!$H$8","v":1156.866127413675},{"$f":"HLOOKUP('III Tool Overview'!$H$6,Targeting!$I$1:$BC$277,Targeting!BD139,FALSE)","v":1.1568661274136751E-2},{"$f":"Baseline_Data_2012!B136","v":16847.201618457213},{"$f":"Baseline_Data_2012!B136/Baseline_Data_2012!B$271","v":1.1568661274136751E-2},{"$f":"Baseline_Data_2012!C136/Baseline_Data_2012!C$271","v":1.6925152785901086E-2},{"$f":"Baseline_Data_2012!D136/Baseline_Data_2012!D$271","v":7.8257822967983583E-3},{"$f":"Baseline_Data_2012!E136/Baseline_Data_2012!E$271","v":1.5687545633531287E-2},{"$f":"Baseline_Data_2012!F136/Baseline_Data_2012!F$271","v":1.2635198108860012E-2},{"$f":"Baseline_Data_2012!G136/Baseline_Data_2012!G$271","v":1.3831984632344942E-2},{"$f":"Baseline_Data_2012!H136/Baseline_Data_2012!H$271","v":5.6931779875593891E-3},{"$f":"Baseline_Data_2012!I136/Baseline_Data_2012!I$271","v":1.1260149844802496E-2},{"$f":"Baseline_Data_2012!J136/Baseline_Data_2012!J$271","v":1.2065216517413942E-2},{"$f":"Baseline_Data_2012!K136/Baseline_Data_2012!K$271","v":1.7744906005259482E-2},{"$f":"Baseline_Data_2012!L136/Baseline_Data_2012!L$271","v":9.8195903330637411E-3},{"$f":"Baseline_Data_2012!M136/Baseline_Data_2012!M$271","v":1.1115863008469262E-2},{"$f":"Baseline_Data_2012!N136/Baseline_Data_2012!N$271","v":1.5850714311107272E-3},{"$f":"Baseline_Data_2012!O136/Baseline_Data_2012!O$271","v":8.7137820089598066E-3},{"$f":"Baseline_Data_2012!P136/Baseline_Data_2012!P$271","v":2.9736891048743788E-2},{"$f":"Baseline_Data_2012!Q136/Baseline_Data_2012!Q$271","v":8.0934067128809843E-3},{"$f":"Baseline_Data_2012!R136/Baseline_Data_2012!R$271","v":2.9727182897994861E-3},{"$f":"Baseline_Data_2012!S136/Baseline_Data_2012!S$271","v":9.9000471247672698E-3},{"$f":"Baseline_Data_2012!T136/Baseline_Data_2012!T$271","v":1.218887082628799E-2},{"$f":"Baseline_Data_2012!U136/Baseline_Data_2012!U$271","v":1.1402971078206771E-2},{"$f":"Baseline_Data_2012!V136/Baseline_Data_2012!V$271","v":1.5687545633531284E-2},{"$f":"Baseline_Data_2012!W136/Baseline_Data_2012!W$271","v":1.1042232529168944E-2},{"$f":"Baseline_Data_2012!X136/Baseline_Data_2012!X$271","v":1.8134407798855997E-2},{"$f":"Baseline_Data_2012!Y136/Baseline_Data_2012!Y$271","v":1.2257827587212286E-2},{"$f":"Baseline_Data_2012!Z136/Baseline_Data_2012!Z$271","v":1.201269224011922E-2},{"$f":"Baseline_Data_2012!AA136/Baseline_Data_2012!AA$271","v":6.1547262395777692E-3},{"$f":"Baseline_Data_2012!AB136/Baseline_Data_2012!AB$271","v":5.9730236545196547E-3},{"$f":"Baseline_Data_2012!AC136/Baseline_Data_2012!AC$271","v":2.9736891048743792E-2},{"$f":"Baseline_Data_2012!AD136/Baseline_Data_2012!AD$271","v":1.590137672866718E-2},{"$f":"Baseline_Data_2012!AE136/Baseline_Data_2012!AE$271","v":1.2635198108860012E-2},{"$f":"Baseline_Data_2012!AF136/Baseline_Data_2012!AF$271","v":1.0920971146923053E-2},{"$f":"Baseline_Data_2012!AG136/Baseline_Data_2012!AG$271","v":1.2022825447952313E-2},{"$f":"Baseline_Data_2012!AH136/Baseline_Data_2012!AH$271","v":1.0760306511170799E-2},{"$f":"Baseline_Data_2012!AI136/Baseline_Data_2012!AI$271","v":1.7382693312150824E-2},{"$f":"Baseline_Data_2012!AJ136/Baseline_Data_2012!AJ$271","v":6.792882318825951E-3},{"$f":"Baseline_Data_2012!AK136/Baseline_Data_2012!AK$271","v":1.4418698916211741E-2},{"$f":"Baseline_Data_2012!AL136/Baseline_Data_2012!AL$271","v":1.865618955880886E-2},{"$f":"Baseline_Data_2012!AM136/Baseline_Data_2012!AM$271","v":1.1115863008469265E-2},{"$f":"Baseline_Data_2012!AN136/Baseline_Data_2012!AN$271","v":5.9038051937884313E-3},{"$f":"Baseline_Data_2012!AO136/Baseline_Data_2012!AO$271","v":9.5818167726460044E-3},{"$f":"Baseline_Data_2012!AP136/Baseline_Data_2012!AP$271","v":7.8257822967983583E-3},{"$f":"Baseline_Data_2012!AQ136/Baseline_Data_2012!AQ$271","v":1.5850714311107272E-3},{"$f":"Baseline_Data_2012!AR136/Baseline_Data_2012!AR$271","v":1.874539067271035E-2},{"$f":"Baseline_Data_2012!AS136/Baseline_Data_2012!AS$271","v":1.4877711261267225E-2},{"$f":"Baseline_Data_2012!AT136/Baseline_Data_2012!AT$271","v":1.1461919377606046E-2},{"$f":"Baseline_Data_2012!AU136/Baseline_Data_2012!AU$271","v":2.2798502141821299E-2},{"$f":"Baseline_Data_2012!AV136/Baseline_Data_2012!AV$271","v":1.699328449010399E-2},139]
[2,"Female 55-59",{"$f":"'III Tool Overview'!$H$8/100","v":1000},0,{"$f":"'III Tool Overview'!$H$8/40","v":2500},{"$f":"G140*'III Tool Overview'!$H$8","v":594.9718248835311},{"$f":"HLOOKUP('III Tool Overview'!$H$6,Targeting!$I$1:$BC$277,Targeting!BD140,FALSE)","v":5.9497182488353105E-3},{"$f":"Baseline_Data_2012!B137","v":8664.4513600924183},{"$f":"Baseline_Data_2012!B137/Baseline_Data_2012!B$271","v":5.9497182488353105E-3},{"$f":"Baseline_Data_2012!C137/Baseline_Data_2012!C$271","v":9.0543981871480349E-3},{"$f":"Baseline_Data_2012!D137/Baseline_Data_2012!D$271","v":4.3987845928429772E-3},{"$f":"Baseline_Data_2012!E137/Baseline_Data_2012!E$271","v":8.155438903244867E-3},{"$f":"Baseline_Data_2012!F137/Baseline_Data_2012!F$271","v":6.6011125912245798E-3},{"$f":"Baseline_Data_2012!G137/Baseline_Data_2012!G$271","v":6.851500686467389E-3},{"$f":"Baseline_Data_2012!H137/Baseline_Data_2012!H$271","v":3.1144976652810437E-3},{"$f":"Baseline_Data_2012!I137/Baseline_Data_2012!I$271","v":5.3057903850488751E-3},{"$f":"Baseline_Data_2012!J137/Baseline_Data_2012!J$271","v":6.701319230392115E-3},{"$f":"Baseline_Data_2012!K137/Baseline_Data_2012!K$271","v":9.4706212231307711E-3},{"$f":"Baseline_Data_2012!L137/Baseline_Data_2012!L$271","v":4.9693338086854513E-3},{"$f":"Baseline_Data_2012!M137/Baseline_Data_2012!M$271","v":6.9470091955772676E-3},{"$f":"Baseline_Data_2012!N137/Baseline_Data_2012!N$271","v":8.5666120569519925E-4},{"$f":"Baseline_Data_2012!O137/Baseline_Data_2012!O$271","v":4.4745569073951627E-3},{"$f":"Baseline_Data_2012!P137/Baseline_Data_2012!P$271","v":1.5812710275599877E-2},{"$f":"Baseline_Data_2012!Q137/Baseline_Data_2012!Q$271","v":4.1219392604484343E-3},{"$f":"Baseline_Data_2012!R137/Baseline_Data_2012!R$271","v":1.7171284712400503E-3},{"$f":"Baseline_Data_2012!S137/Baseline_Data_2012!S$271","v":5.1913096266981776E-3},{"$f":"Baseline_Data_2012!T137/Baseline_Data_2012!T$271","v":6.5424710632477076E-3},{"$f":"Baseline_Data_2012!U137/Baseline_Data_2012!U$271","v":5.1700707685184196E-3},{"$f":"Baseline_Data_2012!V137/Baseline_Data_2012!V$271","v":8.1554389032448653E-3},{"$f":"Baseline_Data_2012!W137/Baseline_Data_2012!W$271","v":5.4192061189614286E-3},{"$f":"Baseline_Data_2012!X137/Baseline_Data_2012!X$271","v":9.6705243268722704E-3},{"$f":"Baseline_Data_2012!Y137/Baseline_Data_2012!Y$271","v":5.5289621335673613E-3},{"$f":"Baseline_Data_2012!Z137/Baseline_Data_2012!Z$271","v":6.103041717938156E-3},{"$f":"Baseline_Data_2012!AA137/Baseline_Data_2012!AA$271","v":3.0015621953257475E-3},{"$f":"Baseline_Data_2012!AB137/Baseline_Data_2012!AB$271","v":3.0136460012309876E-3},{"$f":"Baseline_Data_2012!AC137/Baseline_Data_2012!AC$271","v":1.5812710275599877E-2},{"$f":"Baseline_Data_2012!AD137/Baseline_Data_2012!AD$271","v":8.4371409125416821E-3},{"$f":"Baseline_Data_2012!AE137/Baseline_Data_2012!AE$271","v":6.6011125912245798E-3},{"$f":"Baseline_Data_2012!AF137/Baseline_Data_2012!AF$271","v":4.9343365089633898E-3},{"$f":"Baseline_Data_2012!AG137/Baseline_Data_2012!AG$271","v":6.753626109973529E-3},{"$f":"Baseline_Data_2012!AH137/Baseline_Data_2012!AH$271","v":5.1136039262624135E-3},{"$f":"Baseline_Data_2012!AI137/Baseline_Data_2012!AI$271","v":8.7479808286034296E-3},{"$f":"Baseline_Data_2012!AJ137/Baseline_Data_2012!AJ$271","v":4.3232093916229135E-3},{"$f":"Baseline_Data_2012!AK137/Baseline_Data_2012!AK$271","v":7.7760238350659599E-3},{"$f":"Baseline_Data_2012!AL137/Baseline_Data_2012!AL$271","v":9.7769638500095381E-3},{"$f":"Baseline_Data_2012!AM137/Baseline_Data_2012!AM$271","v":6.9470091955772684E-3},{"$f":"Baseline_Data_2012!AN137/Baseline_Data_2012!AN$271","v":3.1649287877856479E-3},{"$f":"Baseline_Data_2012!AO137/Baseline_Data_2012!AO$271","v":4.4123284147562121E-3},{"$f":"Baseline_Data_2012!AP137/Baseline_Data_2012!AP$271","v":4.3987845928429772E-3},{"$f":"Baseline_Data_2012!AQ137/Baseline_Data_2012!AQ$271","v":8.5666120569519925E-4},{"$f":"Baseline_Data_2012!AR137/Baseline_Data_2012!AR$271","v":9.9852246542013346E-3},{"$f":"Baseline_Data_2012!AS137/Baseline_Data_2012!AS$271","v":8.1788674696210671E-3},{"$f":"Baseline_Data_2012!AT137/Baseline_Data_2012!AT$271","v":4.9379925135182058E-3},{"$f":"Baseline_Data_2012!AU137/Baseline_Data_2012!AU$271","v":1.1847363391838476E-2},{"$f":"Baseline_Data_2012!AV137/Baseline_Data_2012!AV$271","v":8.6367229190239883E-3},140]
[2,"Female 60-64",{"$f":"'III Tool Overview'!$H$8/100","v":1000},0,{"$f":"'III Tool Overview'!$H$8/40","v":2500},{"$f":"G141*'III Tool Overview'!$H$8","v":573.23769429417825},{"$f":"HLOOKUP('III Tool Overview'!$H$6,Targeting!$I$1:$BC$277,Targeting!BD141,FALSE)","v":5.7323769429417828E-3},{"$f":"Baseline_Data_2012!B138","v":8347.9417213675806},{"$f":"Baseline_Data_2012!B138/Baseline_Data_2012!B$271","v":5.7323769429417828E-3},{"$f":"Baseline_Data_2012!C138/Baseline_Data_2012!C$271","v":9.0543981871480349E-3},{"$f":"Baseline_Data_2012!D138/Baseline_Data_2012!D$271","v":4.2438371903553585E-3},{"$f":"Baseline_Data_2012!E138/Baseline_Data_2012!E$271","v":7.8985168855908883E-3},{"$f":"Baseline_Data_2012!F138/Baseline_Data_2012!F$271","v":6.4513858034411327E-3},{"$f":"Baseline_Data_2012!G138/Baseline_Data_2012!G$271","v":7.1622045511646011E-3},{"$f":"Baseline_Data_2012!H138/Baseline_Data_2012!H$271","v":3.1698876135965097E-3},{"$f":"Baseline_Data_2012!I138/Baseline_Data_2012!I$271","v":4.832988732593177E-3},{"$f":"Baseline_Data_2012!J138/Baseline_Data_2012!J$271","v":6.6369144324066069E-3},{"$f":"Baseline_Data_2012!K138/Baseline_Data_2012!K$271","v":8.8155105821322525E-3},{"$f":"Baseline_Data_2012!L138/Baseline_Data_2012!L$271","v":4.8310287253369244E-3},{"$f":"Baseline_Data_2012!M138/Baseline_Data_2012!M$271","v":6.7722416686445061E-3},{"$f":"Baseline_Data_2012!N138/Baseline_Data_2012!N$271","v":6.6196547712810843E-4},{"$f":"Baseline_Data_2012!O138/Baseline_Data_2012!O$271","v":4.0839975221591629E-3},{"$f":"Baseline_Data_2012!P138/Baseline_Data_2012!P$271","v":1.791470197386693E-2},{"$f":"Baseline_Data_2012!Q138/Baseline_Data_2012!Q$271","v":3.9481453044625239E-3},{"$f":"Baseline_Data_2012!R138/Baseline_Data_2012!R$271","v":2.0299800353583202E-3},{"$f":"Baseline_Data_2012!S138/Baseline_Data_2012!S$271","v":4.8859384721865202E-3},{"$f":"Baseline_Data_2012!T138/Baseline_Data_2012!T$271","v":7.1735361854901054E-3},{"$f":"Baseline_Data_2012!U138/Baseline_Data_2012!U$271","v":6.6247674866566821E-3},{"$f":"Baseline_Data_2012!V138/Baseline_Data_2012!V$271","v":7.8985168855908866E-3},{"$f":"Baseline_Data_2012!W138/Baseline_Data_2012!W$271","v":5.1482458130133581E-3},{"$f":"Baseline_Data_2012!X138/Baseline_Data_2012!X$271","v":9.3513651081636139E-3},{"$f":"Baseline_Data_2012!Y138/Baseline_Data_2012!Y$271","v":5.0235725418335984E-3},{"$f":"Baseline_Data_2012!Z138/Baseline_Data_2012!Z$271","v":5.8770031357922988E-3},{"$f":"Baseline_Data_2012!AA138/Baseline_Data_2012!AA$271","v":2.7999647344456599E-3},{"$f":"Baseline_Data_2012!AB138/Baseline_Data_2012!AB$271","v":2.8515251762992553E-3},{"$f":"Baseline_Data_2012!AC138/Baseline_Data_2012!AC$271","v":1.791470197386693E-2},{"$f":"Baseline_Data_2012!AD138/Baseline_Data_2012!AD$271","v":8.4968940351517492E-3},{"$f":"Baseline_Data_2012!AE138/Baseline_Data_2012!AE$271","v":6.4513858034411327E-3},{"$f":"Baseline_Data_2012!AF138/Baseline_Data_2012!AF$271","v":4.2625742052869705E-3},{"$f":"Baseline_Data_2012!AG138/Baseline_Data_2012!AG$271","v":6.4573767764781864E-3},{"$f":"Baseline_Data_2012!AH138/Baseline_Data_2012!AH$271","v":5.195640352886945E-3},{"$f":"Baseline_Data_2012!AI138/Baseline_Data_2012!AI$271","v":8.8875762673577396E-3},{"$f":"Baseline_Data_2012!AJ138/Baseline_Data_2012!AJ$271","v":4.2464011029392582E-3},{"$f":"Baseline_Data_2012!AK138/Baseline_Data_2012!AK$271","v":8.286533487415676E-3},{"$f":"Baseline_Data_2012!AL138/Baseline_Data_2012!AL$271","v":9.1379264275428598E-3},{"$f":"Baseline_Data_2012!AM138/Baseline_Data_2012!AM$271","v":6.772241668644507E-3},{"$f":"Baseline_Data_2012!AN138/Baseline_Data_2012!AN$271","v":2.6182040451739239E-3},{"$f":"Baseline_Data_2012!AO138/Baseline_Data_2012!AO$271","v":4.4068061013460037E-3},{"$f":"Baseline_Data_2012!AP138/Baseline_Data_2012!AP$271","v":4.2438371903553585E-3},{"$f":"Baseline_Data_2012!AQ138/Baseline_Data_2012!AQ$271","v":6.6196547712810843E-4},{"$f":"Baseline_Data_2012!AR138/Baseline_Data_2012!AR$271","v":9.7138361678172323E-3},{"$f":"Baseline_Data_2012!AS138/Baseline_Data_2012!AS$271","v":7.5860111370608489E-3},{"$f":"Baseline_Data_2012!AT138/Baseline_Data_2012!AT$271","v":5.0763414416986731E-3},{"$f":"Baseline_Data_2012!AU138/Baseline_Data_2012!AU$271","v":1.0890743987528538E-2},{"$f":"Baseline_Data_2012!AV138/Baseline_Data_2012!AV$271","v":8.4874325740728687E-3},141]
[2,"Female 65-69",null,0,null,{"$f":"G142*'III Tool Overview'!$H$8","v":0},{"$f":"HLOOKUP('III Tool Overview'!$H$6,Targeting!$I$1:$BC$277,Targeting!BD142,FALSE)","v":0},{"$f":"Baseline_Data_2012!B139","v":0},{"$f":"Baseline_Data_2012!B139/Baseline_Data_2012!B$271","v":0},{"$f":"Baseline_Data_2012!C139/Baseline_Data_2012!C$271","v":0},{"$f":"Baseline_Data_2012!D139/Baseline_Data_2012!D$271","v":0},{"$f":"Baseline_Data_2012!E139/Baseline_Data_2012!E$271","v":0},{"$f":"Baseline_Data_2012!F139/Baseline_Data_2012!F$271","v":0},{"$f":"Baseline_Data_2012!G139/Baseline_Data_2012!G$271","v":0},{"$f":"Baseline_Data_2012!H139/Baseline_Data_2012!H$271","v":0},{"$f":"Baseline_Data_2012!I139/Baseline_Data_2012!I$271","v":0},{"$f":"Baseline_Data_2012!J139/Baseline_Data_2012!J$271","v":0},{"$f":"Baseline_Data_2012!K139/Baseline_Data_2012!K$271","v":0},{"$f":"Baseline_Data_2012!L139/Baseline_Data_2012!L$271","v":0},{"$f":"Baseline_Data_2012!M139/Baseline_Data_2012!M$271","v":0},{"$f":"Baseline_Data_2012!N139/Baseline_Data_2012!N$271","v":0},{"$f":"Baseline_Data_2012!O139/Baseline_Data_2012!O$271","v":0},{"$f":"Baseline_Data_2012!P139/Baseline_Data_2012!P$271","v":0},{"$f":"Baseline_Data_2012!Q139/Baseline_Data_2012!Q$271","v":0},{"$f":"Baseline_Data_2012!R139/Baseline_Data_2012!R$271","v":0},{"$f":"Baseline_Data_2012!S139/Baseline_Data_2012!S$271","v":0},{"$f":"Baseline_Data_2012!T139/Baseline_Data_2012!T$271","v":0},{"$f":"Baseline_Data_2012!U139/Baseline_Data_2012!U$271","v":0},{"$f":"Baseline_Data_2012!V139/Baseline_Data_2012!V$271","v":0},{"$f":"Baseline_Data_2012!W139/Baseline_Data_2012!W$271","v":0},{"$f":"Baseline_Data_2012!X139/Baseline_Data_2012!X$271","v":0},{"$f":"Baseline_Data_2012!Y139/Baseline_Data_2012!Y$271","v":0},{"$f":"Baseline_Data_2012!Z139/Baseline_Data_2012!Z$271","v":0},{"$f":"Baseline_Data_2012!AA139/Baseline_Data_2012!AA$271","v":0},{"$f":"Baseline_Data_2012!AB139/Baseline_Data_2012!AB$271","v":0},{"$f":"Baseline_Data_2012!AC139/Baseline_Data_2012!AC$271","v":0},{"$f":"Baseline_Data_2012!AD139/Baseline_Data_2012!AD$271","v":0},{"$f":"Baseline_Data_2012!AE139/Baseline_Data_2012!AE$271","v":0},{"$f":"Baseline_Data_2012!AF139/Baseline_Data_2012!AF$271","v":0},{"$f":"Baseline_Data_2012!AG139/Baseline_Data_2012!AG$271","v":0},{"$f":"Baseline_Data_2012!AH139/Baseline_Data_2012!AH$271","v":0},{"$f":"Baseline_Data_2012!AI139/Baseline_Data_2012!AI$271","v":0},{"$f":"Baseline_Data_2012!AJ139/Baseline_Data_2012!AJ$271","v":0},{"$f":"Baseline_Data_2012!AK139/Baseline_Data_2012!AK$271","v":0},{"$f":"Baseline_Data_2012!AL139/Baseline_Data_2012!AL$271","v":0},{"$f":"Baseline_Data_2012!AM139/Baseline_Data_2012!AM$271","v":0},{"$f":"Baseline_Data_2012!AN139/Baseline_Data_2012!AN$271","v":0},{"$f":"Baseline_Data_2012!AO139/Baseline_Data_2012!AO$271","v":0},{"$f":"Baseline_Data_2012!AP139/Baseline_Data_2012!AP$271","v":0},{"$f":"Baseline_Data_2012!AQ139/Baseline_Data_2012!AQ$271","v":0},{"$f":"Baseline_Data_2012!AR139/Baseline_Data_2012!AR$271","v":0},{"$f":"Baseline_Data_2012!AS139/Baseline_Data_2012!AS$271","v":0},{"$f":"Baseline_Data_2012!AT139/Baseline_Data_2012!AT$271","v":0},{"$f":"Baseline_Data_2012!AU139/Baseline_Data_2012!AU$271","v":0},{"$f":"Baseline_Data_2012!AV139/Baseline_Data_2012!AV$271","v":0},142]
[2,"Female 70-74",null,null,null,{"$f":"G143*'III Tool Overview'!$H$8","v":0},{"$f":"HLOOKUP('III Tool Overview'!$H$6,Targeting!$I$1:$BC$277,Targeting!BD143,FALSE)","v":0},{"$f":"Baseline_Data_2012!B140","v":0},{"$f":"Baseline_Data_2012!B140/Baseline_Data_2012!B$271","v":0},{"$f":"Baseline_Data_2012!C140/Baseline_Data_2012!C$271","v":0},{"$f":"Baseline_Data_2012!D140/Baseline_Data_2012!D$271","v":0},{"$f":"Baseline_Data_2012!E140/Baseline_Data_2012!E$271","v":0},{"$f":"Baseline_Data_2012!F140/Baseline_Data_2012!F$271","v":0},{"$f":"Baseline_Data_2012!G140/Baseline_Data_2012!G$271","v":0},{"$f":"Baseline_Data_2012!H140/Baseline_Data_2012!H$271","v":0},{"$f":"Baseline_Data_2012!I140/Baseline_Data_2012!I$271","v":0},{"$f":"Baseline_Data_2012!J140/Baseline_Data_2012!J$271","v":0},{"$f":"Baseline_Data_2012!K140/Baseline_Data_2012!K$271","v":0},{"$f":"Baseline_Data_2012!L140/Baseline_Data_2012!L$271","v":0},{"$f":"Baseline_Data_2012!M140/Baseline_Data_2012!M$271","v":0},{"$f":"Baseline_Data_2012!N140/Baseline_Data_2012!N$271","v":0},{"$f":"Baseline_Data_2012!O140/Baseline_Data_2012!O$271","v":0},{"$f":"Baseline_Data_2012!P140/Baseline_Data_2012!P$271","v":0},{"$f":"Baseline_Data_2012!Q140/Baseline_Data_2012!Q$271","v":0},{"$f":"Baseline_Data_2012!R140/Baseline_Data_2012!R$271","v":0},{"$f":"Baseline_Data_2012!S140/Baseline_Data_2012!S$271","v":0},{"$f":"Baseline_Data_2012!T140/Baseline_Data_2012!T$271","v":0},{"$f":"Baseline_Data_2012!U140/Baseline_Data_2012!U$271","v":0},{"$f":"Baseline_Data_2012!V140/Baseline_Data_2012!V$271","v":0},{"$f":"Baseline_Data_2012!W140/Baseline_Data_2012!W$271","v":0},{"$f":"Baseline_Data_2012!X140/Baseline_Data_2012!X$271","v":0},{"$f":"Baseline_Data_2012!Y140/Baseline_Data_2012!Y$271","v":0},{"$f":"Baseline_Data_2012!Z140/Baseline_Data_2012!Z$271","v":0},{"$f":"Baseline_Data_2012!AA140/Baseline_Data_2012!AA$271","v":0},{"$f":"Baseline_Data_2012!AB140/Baseline_Data_2012!AB$271","v":0},{"$f":"Baseline_Data_2012!AC140/Baseline_Data_2012!AC$271","v":0},{"$f":"Baseline_Data_2012!AD140/Baseline_Data_2012!AD$271","v":0},{"$f":"Baseline_Data_2012!AE140/Baseline_Data_2012!AE$271","v":0},{"$f":"Baseline_Data_2012!AF140/Baseline_Data_2012!AF$271","v":0},{"$f":"Baseline_Data_2012!AG140/Baseline_Data_2012!AG$271","v":0},{"$f":"Baseline_Data_2012!AH140/Baseline_Data_2012!AH$271","v":0},{"$f":"Baseline_Data_2012!AI140/Baseline_Data_2012!AI$271","v":0},{"$f":"Baseline_Data_2012!AJ140/Baseline_Data_2012!AJ$271","v":0},{"$f":"Baseline_Data_2012!AK140/Baseline_Data_2012!AK$271","v":0},{"$f":"Baseline_Data_2012!AL140/Baseline_Data_2012!AL$271","v":0},{"$f":"Baseline_Data_2012!AM140/Baseline_Data_2012!AM$271","v":0},{"$f":"Baseline_Data_2012!AN140/Baseline_Data_2012!AN$271","v":0},{"$f":"Baseline_Data_2012!AO140/Baseline_Data_2012!AO$271","v":0},{"$f":"Baseline_Data_2012!AP140/Baseline_Data_2012!AP$271","v":0},{"$f":"Baseline_Data_2012!AQ140/Baseline_Data_2012!AQ$271","v":0},{"$f":"Baseline_Data_2012!AR140/Baseline_Data_2012!AR$271","v":0},{"$f":"Baseline_Data_2012!AS140/Baseline_Data_2012!AS$271","v":0},{"$f":"Baseline_Data_2012!AT140/Baseline_Data_2012!AT$271","v":0},{"$f":"Baseline_Data_2012!AU140/Baseline_Data_2012!AU$271","v":0},{"$f":"Baseline_Data_2012!AV140/Baseline_Data_2012!AV$271","v":0},143]
[2,"Female 75-79",null,null,null,{"$f":"G144*'III Tool Overview'!$H$8","v":0},{"$f":"HLOOKUP('III Tool Overview'!$H$6,Targeting!$I$1:$BC$277,Targeting!BD144,FALSE)","v":0},{"$f":"Baseline_Data_2012!B141","v":0},{"$f":"Baseline_Data_2012!B141/Baseline_Data_2012!B$271","v":0},{"$f":"Baseline_Data_2012!C141/Baseline_Data_2012!C$271","v":0},{"$f":"Baseline_Data_2012!D141/Baseline_Data_2012!D$271","v":0},{"$f":"Baseline_Data_2012!E141/Baseline_Data_2012!E$271","v":0},{"$f":"Baseline_Data_2012!F141/Baseline_Data_2012!F$271","v":0},{"$f":"Baseline_Data_2012!G141/Baseline_Data_2012!G$271","v":0},{"$f":"Baseline_Data_2012!H141/Baseline_Data_2012!H$271","v":0},{"$f":"Baseline_Data_2012!I141/Baseline_Data_2012!I$271","v":0},{"$f":"Baseline_Data_2012!J141/Baseline_Data_2012!J$271","v":0},{"$f":"Baseline_Data_2012!K141/Baseline_Data_2012!K$271","v":0},{"$f":"Baseline_Data_2012!L141/Baseline_Data_2012!L$271","v":0},{"$f":"Baseline_Data_2012!M141/Baseline_Data_2012!M$271","v":0},{"$f":"Baseline_Data_2012!N141/Baseline_Data_2012!N$271","v":0},{"$f":"Baseline_Data_2012!O141/Baseline_Data_2012!O$271","v":0},{"$f":"Baseline_Data_2012!P141/Baseline_Data_2012!P$271","v":0},{"$f":"Baseline_Data_2012!Q141/Baseline_Data_2012!Q$271","v":0},{"$f":"Baseline_Data_2012!R141/Baseline_Data_2012!R$271","v":0},{"$f":"Baseline_Data_2012!S141/Baseline_Data_2012!S$271","v":0},{"$f":"Baseline_Data_2012!T141/Baseline_Data_2012!T$271","v":0},{"$f":"Baseline_Data_2012!U141/Baseline_Data_2012!U$271","v":0},{"$f":"Baseline_Data_2012!V141/Baseline_Data_2012!V$271","v":0},{"$f":"Baseline_Data_2012!W141/Baseline_Data_2012!W$271","v":0},{"$f":"Baseline_Data_2012!X141/Baseline_Data_2012!X$271","v":0},{"$f":"Baseline_Data_2012!Y141/Baseline_Data_2012!Y$271","v":0},{"$f":"Baseline_Data_2012!Z141/Baseline_Data_2012!Z$271","v":0},{"$f":"Baseline_Data_2012!AA141/Baseline_Data_2012!AA$271","v":0},{"$f":"Baseline_Data_2012!AB141/Baseline_Data_2012!AB$271","v":0},{"$f":"Baseline_Data_2012!AC141/Baseline_Data_2012!AC$271","v":0},{"$f":"Baseline_Data_2012!AD141/Baseline_Data_2012!AD$271","v":0},{"$f":"Baseline_Data_2012!AE141/Baseline_Data_2012!AE$271","v":0},{"$f":"Baseline_Data_2012!AF141/Baseline_Data_2012!AF$271","v":0},{"$f":"Baseline_Data_2012!AG141/Baseline_Data_2012!AG$271","v":0},{"$f":"Baseline_Data_2012!AH141/Baseline_Data_2012!AH$271","v":0},{"$f":"Baseline_Data_2012!AI141/Baseline_Data_2012!AI$271","v":0},{"$f":"Baseline_Data_2012!AJ141/Baseline_Data_2012!AJ$271","v":0},{"$f":"Baseline_Data_2012!AK141/Baseline_Data_2012!AK$271","v":0},{"$f":"Baseline_Data_2012!AL141/Baseline_Data_2012!AL$271","v":0},{"$f":"Baseline_Data_2012!AM141/Baseline_Data_2012!AM$271","v":0},{"$f":"Baseline_Data_2012!AN141/Baseline_Data_2012!AN$271","v":0},{"$f":"Baseline_Data_2012!AO141/Baseline_Data_2012!AO$271","v":0},{"$f":"Baseline_Data_2012!AP141/Baseline_Data_2012!AP$271","v":0},{"$f":"Baseline_Data_2012!AQ141/Baseline_Data_2012!AQ$271","v":0},{"$f":"Baseline_Data_2012!AR141/Baseline_Data_2012!AR$271","v":0},{"$f":"Baseline_Data_2012!AS141/Baseline_Data_2012!AS$271","v":0},{"$f":"Baseline_Data_2012!AT141/Baseline_Data_2012!AT$271","v":0},{"$f":"Baseline_Data_2012!AU141/Baseline_Data_2012!AU$271","v":0},{"$f":"Baseline_Data_2012!AV141/Baseline_Data_2012!AV$271","v":0},144]
[2,"Female 80-84",null,null,null,{"$f":"G145*'III Tool Overview'!$H$8","v":0},{"$f":"HLOOKUP('III Tool Overview'!$H$6,Targeting!$I$1:$BC$277,Targeting!BD145,FALSE)","v":0},{"$f":"Baseline_Data_2012!B142","v":0},{"$f":"Baseline_Data_2012!B142/Baseline_Data_2012!B$271","v":0},{"$f":"Baseline_Data_2012!C142/Baseline_Data_2012!C$271","v":0},{"$f":"Baseline_Data_2012!D142/Baseline_Data_2012!D$271","v":0},{"$f":"Baseline_Data_2012!E142/Baseline_Data_2012!E$271","v":0},{"$f":"Baseline_Data_2012!F142/Baseline_Data_2012!F$271","v":0},{"$f":"Baseline_Data_2012!G142/Baseline_Data_2012!G$271","v":0},{"$f":"Baseline_Data_2012!H142/Baseline_Data_2012!H$271","v":0},{"$f":"Baseline_Data_2012!I142/Baseline_Data_2012!I$271","v":0},{"$f":"Baseline_Data_2012!J142/Baseline_Data_2012!J$271","v":0},{"$f":"Baseline_Data_2012!K142/Baseline_Data_2012!K$271","v":0},{"$f":"Baseline_Data_2012!L142/Baseline_Data_2012!L$271","v":0},{"$f":"Baseline_Data_2012!M142/Baseline_Data_2012!M$271","v":0},{"$f":"Baseline_Data_2012!N142/Baseline_Data_2012!N$271","v":0},{"$f":"Baseline_Data_2012!O142/Baseline_Data_2012!O$271","v":0},{"$f":"Baseline_Data_2012!P142/Baseline_Data_2012!P$271","v":0},{"$f":"Baseline_Data_2012!Q142/Baseline_Data_2012!Q$271","v":0},{"$f":"Baseline_Data_2012!R142/Baseline_Data_2012!R$271","v":0},{"$f":"Baseline_Data_2012!S142/Baseline_Data_2012!S$271","v":0},{"$f":"Baseline_Data_2012!T142/Baseline_Data_2012!T$271","v":0},{"$f":"Baseline_Data_2012!U142/Baseline_Data_2012!U$271","v":0},{"$f":"Baseline_Data_2012!V142/Baseline_Data_2012!V$271","v":0},{"$f":"Baseline_Data_2012!W142/Baseline_Data_2012!W$271","v":0},{"$f":"Baseline_Data_2012!X142/Baseline_Data_2012!X$271","v":0},{"$f":"Baseline_Data_2012!Y142/Baseline_Data_2012!Y$271","v":0},{"$f":"Baseline_Data_2012!Z142/Baseline_Data_2012!Z$271","v":0},{"$f":"Baseline_Data_2012!AA142/Baseline_Data_2012!AA$271","v":0},{"$f":"Baseline_Data_2012!AB142/Baseline_Data_2012!AB$271","v":0},{"$f":"Baseline_Data_2012!AC142/Baseline_Data_2012!AC$271","v":0},{"$f":"Baseline_Data_2012!AD142/Baseline_Data_2012!AD$271","v":0},{"$f":"Baseline_Data_2012!AE142/Baseline_Data_2012!AE$271","v":0},{"$f":"Baseline_Data_2012!AF142/Baseline_Data_2012!AF$271","v":0},{"$f":"Baseline_Data_2012!AG142/Baseline_Data_2012!AG$271","v":0},{"$f":"Baseline_Data_2012!AH142/Baseline_Data_2012!AH$271","v":0},{"$f":"Baseline_Data_2012!AI142/Baseline_Data_2012!AI$271","v":0},{"$f":"Baseline_Data_2012!AJ142/Baseline_Data_2012!AJ$271","v":0},{"$f":"Baseline_Data_2012!AK142/Baseline_Data_2012!AK$271","v":0},{"$f":"Baseline_Data_2012!AL142/Baseline_Data_2012!AL$271","v":0},{"$f":"Baseline_Data_2012!AM142/Baseline_Data_2012!AM$271","v":0},{"$f":"Baseline_Data_2012!AN142/Baseline_Data_2012!AN$271","v":0},{"$f":"Baseline_Data_2012!AO142/Baseline_Data_2012!AO$271","v":0},{"$f":"Baseline_Data_2012!AP142/Baseline_Data_2012!AP$271","v":0},{"$f":"Baseline_Data_2012!AQ142/Baseline_Data_2012!AQ$271","v":0},{"$f":"Baseline_Data_2012!AR142/Baseline_Data_2012!AR$271","v":0},{"$f":"Baseline_Data_2012!AS142/Baseline_Data_2012!AS$271","v":0},{"$f":"Baseline_Data_2012!AT142/Baseline_Data_2012!AT$271","v":0},{"$f":"Baseline_Data_2012!AU142/Baseline_Data_2012!AU$271","v":0},{"$f":"Baseline_Data_2012!AV142/Baseline_Data_2012!AV$271","v":0},145]
[2,"Female 85+",null,null,null,{"$f":"G146*'III Tool Overview'!$H$8","v":0},{"$f":"HLOOKUP('III Tool Overview'!$H$6,Targeting!$I$1:$BC$277,Targeting!BD146,FALSE)","v":0},{"$f":"Baseline_Data_2012!B143","v":0},{"$f":"Baseline_Data_2012!B143/Baseline_Data_2012!B$271","v":0},{"$f":"Baseline_Data_2012!C143/Baseline_Data_2012!C$271","v":0},{"$f":"Baseline_Data_2012!D143/Baseline_Data_2012!D$271","v":0},{"$f":"Baseline_Data_2012!E143/Baseline_Data_2012!E$271","v":0},{"$f":"Baseline_Data_2012!F143/Baseline_Data_2012!F$271","v":0},{"$f":"Baseline_Data_2012!G143/Baseline_Data_2012!G$271","v":0},{"$f":"Baseline_Data_2012!H143/Baseline_Data_2012!H$271","v":0},{"$f":"Baseline_Data_2012!I143/Baseline_Data_2012!I$271","v":0},{"$f":"Baseline_Data_2012!J143/Baseline_Data_2012!J$271","v":0},{"$f":"Baseline_Data_2012!K143/Baseline_Data_2012!K$271","v":0},{"$f":"Baseline_Data_2012!L143/Baseline_Data_2012!L$271","v":0},{"$f":"Baseline_Data_2012!M143/Baseline_Data_2012!M$271","v":0},{"$f":"Baseline_Data_2012!N143/Baseline_Data_2012!N$271","v":0},{"$f":"Baseline_Data_2012!O143/Baseline_Data_2012!O$271","v":0},{"$f":"Baseline_Data_2012!P143/Baseline_Data_2012!P$271","v":0},{"$f":"Baseline_Data_2012!Q143/Baseline_Data_2012!Q$271","v":0},{"$f":"Baseline_Data_2012!R143/Baseline_Data_2012!R$271","v":0},{"$f":"Baseline_Data_2012!S143/Baseline_Data_2012!S$271","v":0},{"$f":"Baseline_Data_2012!T143/Baseline_Data_2012!T$271","v":0},{"$f":"Baseline_Data_2012!U143/Baseline_Data_2012!U$271","v":0},{"$f":"Baseline_Data_2012!V143/Baseline_Data_2012!V$271","v":0},{"$f":"Baseline_Data_2012!W143/Baseline_Data_2012!W$271","v":0},{"$f":"Baseline_Data_2012!X143/Baseline_Data_2012!X$271","v":0},{"$f":"Baseline_Data_2012!Y143/Baseline_Data_2012!Y$271","v":0},{"$f":"Baseline_Data_2012!Z143/Baseline_Data_2012!Z$271","v":0},{"$f":"Baseline_Data_2012!AA143/Baseline_Data_2012!AA$271","v":0},{"$f":"Baseline_Data_2012!AB143/Baseline_Data_2012!AB$271","v":0},{"$f":"Baseline_Data_2012!AC143/Baseline_Data_2012!AC$271","v":0},{"$f":"Baseline_Data_2012!AD143/Baseline_Data_2012!AD$271","v":0},{"$f":"Baseline_Data_2012!AE143/Baseline_Data_2012!AE$271","v":0},{"$f":"Baseline_Data_2012!AF143/Baseline_Data_2012!AF$271","v":0},{"$f":"Baseline_Data_2012!AG143/Baseline_Data_2012!AG$271","v":0},{"$f":"Baseline_Data_2012!AH143/Baseline_Data_2012!AH$271","v":0},{"$f":"Baseline_Data_2012!AI143/Baseline_Data_2012!AI$271","v":0},{"$f":"Baseline_Data_2012!AJ143/Baseline_Data_2012!AJ$271","v":0},{"$f":"Baseline_Data_2012!AK143/Baseline_Data_2012!AK$271","v":0},{"$f":"Baseline_Data_2012!AL143/Baseline_Data_2012!AL$271","v":0},{"$f":"Baseline_Data_2012!AM143/Baseline_Data_2012!AM$271","v":0},{"$f":"Baseline_Data_2012!AN143/Baseline_Data_2012!AN$271","v":0},{"$f":"Baseline_Data_2012!AO143/Baseline_Data_2012!AO$271","v":0},{"$f":"Baseline_Data_2012!AP143/Baseline_Data_2012!AP$271","v":0},{"$f":"Baseline_Data_2012!AQ143/Baseline_Data_2012!AQ$271","v":0},{"$f":"Baseline_Data_2012!AR143/Baseline_Data_2012!AR$271","v":0},{"$f":"Baseline_Data_2012!AS143/Baseline_Data_2012!AS$271","v":0},{"$f":"Baseline_Data_2012!AT143/Baseline_Data_2012!AT$271","v":0},{"$f":"Baseline_Data_2012!AU143/Baseline_Data_2012!AU$271","v":0},{"$f":"Baseline_Data_2012!AV143/Baseline_Data_2012!AV$271","v":0},146]
[2,"Female 90+",null,null,null,{"$f":"G147*'III Tool Overview'!$H$8","v":0},{"$f":"HLOOKUP('III Tool Overview'!$H$6,Targeting!$I$1:$BC$277,Targeting!BD147,FALSE)","v":0},{"$f":"Baseline_Data_2012!B144","v":0},{"$f":"Baseline_Data_2012!B144/Baseline_Data_2012!B$271","v":0},{"$f":"Baseline_Data_2012!C144/Baseline_Data_2012!C$271","v":0},{"$f":"Baseline_Data_2012!D144/Baseline_Data_2012!D$271","v":0},{"$f":"Baseline_Data_2012!E144/Baseline_Data_2012!E$271","v":0},{"$f":"Baseline_Data_2012!F144/Baseline_Data_2012!F$271","v":0},{"$f":"Baseline_Data_2012!G144/Baseline_Data_2012!G$271","v":0},{"$f":"Baseline_Data_2012!H144/Baseline_Data_2012!H$271","v":0},{"$f":"Baseline_Data_2012!I144/Baseline_Data_2012!I$271","v":0},{"$f":"Baseline_Data_2012!J144/Baseline_Data_2012!J$271","v":0},{"$f":"Baseline_Data_2012!K144/Baseline_Data_2012!K$271","v":0},{"$f":"Baseline_Data_2012!L144/Baseline_Data_2012!L$271","v":0},{"$f":"Baseline_Data_2012!M144/Baseline_Data_2012!M$271","v":0},{"$f":"Baseline_Data_2012!N144/Baseline_Data_2012!N$271","v":0},{"$f":"Baseline_Data_2012!O144/Baseline_Data_2012!O$271","v":0},{"$f":"Baseline_Data_2012!P144/Baseline_Data_2012!P$271","v":0},{"$f":"Baseline_Data_2012!Q144/Baseline_Data_2012!Q$271","v":0},{"$f":"Baseline_Data_2012!R144/Baseline_Data_2012!R$271","v":0},{"$f":"Baseline_Data_2012!S144/Baseline_Data_2012!S$271","v":0},{"$f":"Baseline_Data_2012!T144/Baseline_Data_2012!T$271","v":0},{"$f":"Baseline_Data_2012!U144/Baseline_Data_2012!U$271","v":0},{"$f":"Baseline_Data_2012!V144/Baseline_Data_2012!V$271","v":0},{"$f":"Baseline_Data_2012!W144/Baseline_Data_2012!W$271","v":0},{"$f":"Baseline_Data_2012!X144/Baseline_Data_2012!X$271","v":0},{"$f":"Baseline_Data_2012!Y144/Baseline_Data_2012!Y$271","v":0},{"$f":"Baseline_Data_2012!Z144/Baseline_Data_2012!Z$271","v":0},{"$f":"Baseline_Data_2012!AA144/Baseline_Data_2012!AA$271","v":0},{"$f":"Baseline_Data_2012!AB144/Baseline_Data_2012!AB$271","v":0},{"$f":"Baseline_Data_2012!AC144/Baseline_Data_2012!AC$271","v":0},{"$f":"Baseline_Data_2012!AD144/Baseline_Data_2012!AD$271","v":0},{"$f":"Baseline_Data_2012!AE144/Baseline_Data_2012!AE$271","v":0},{"$f":"Baseline_Data_2012!AF144/Baseline_Data_2012!AF$271","v":0},{"$f":"Baseline_Data_2012!AG144/Baseline_Data_2012!AG$271","v":0},{"$f":"Baseline_Data_2012!AH144/Baseline_Data_2012!AH$271","v":0},{"$f":"Baseline_Data_2012!AI144/Baseline_Data_2012!AI$271","v":0},{"$f":"Baseline_Data_2012!AJ144/Baseline_Data_2012!AJ$271","v":0},{"$f":"Baseline_Data_2012!AK144/Baseline_Data_2012!AK$271","v":0},{"$f":"Baseline_Data_2012!AL144/Baseline_Data_2012!AL$271","v":0},{"$f":"Baseline_Data_2012!AM144/Baseline_Data_2012!AM$271","v":0},{"$f":"Baseline_Data_2012!AN144/Baseline_Data_2012!AN$271","v":0},{"$f":"Baseline_Data_2012!AO144/Baseline_Data_2012!AO$271","v":0},{"$f":"Baseline_Data_2012!AP144/Baseline_Data_2012!AP$271","v":0},{"$f":"Baseline_Data_2012!AQ144/Baseline_Data_2012!AQ$271","v":0},{"$f":"Baseline_Data_2012!AR144/Baseline_Data_2012!AR$271","v":0},{"$f":"Baseline_Data_2012!AS144/Baseline_Data_2012!AS$271","v":0},{"$f":"Baseline_Data_2012!AT144/Baseline_Data_2012!AT$271","v":0},{"$f":"Baseline_Data_2012!AU144/Baseline_Data_2012!AU$271","v":0},{"$f":"Baseline_Data_2012!AV144/Baseline_Data_2012!AV$271","v":0},147]
[null,"TOTAL",null,null,null,null,{"$f":"HLOOKUP('III Tool Overview'!$H$6,Targeting!$I$1:$BC$277,Targeting!BD148,FALSE)","v":0},null,null,null,null,null,null,null,null,null,null,null,null,null,null,null,null,null,null,null,null,null,null,null,null,null,null,null,null,null,null,null,null,null,null,null,null,null,null,null,null,null,null,null,null,null,null,null,null,148]
[null,"age/sex breakdown: Q3",null,null,null,null,{"$f":"HLOOKUP('III Tool Overview'!$H$6,Targeting!$I$1:$BC$277,Targeting!BD149,FALSE)","v":0},null,null,null,null,null,null,null,null,null,null,null,null,null,null,null,null,null,null,null,null,null,null,null,null,null,null,null,null,null,null,null,null,null,null,null,null,null,null,null,null,null,null,null,null,null,null,null,null,149]
[3,"Male <1",null,null,null,null,{"$f":"HLOOKUP('III Tool Overview'!$H$6,Targeting!$I$1:$BC$277,Targeting!BD150,FALSE)","v":0},null,null,null,null,null,null,null,null,null,null,null,null,null,null,null,null,null,null,null,null,null,null,null,null,null,null,null,null,null,null,null,null,null,null,null,null,null,null,null,null,null,null,null,null,null,null,null,null,150]
[3,"Male 1-4",null,null,null,null,{"$f":"HLOOKUP('III Tool Overview'!$H$6,Targeting!$I$1:$BC$277,Targeting!BD151,FALSE)","v":0},null,null,null,null,null,null,null,null,null,null,null,null,null,null,null,null,null,null,null,null,null,null,null,null,null,null,null,null,null,null,null,null,null,null,null,null,null,null,null,null,null,null,null,null,null,null,null,null,151]
[3,"Male 5-9",null,null,null,null,{"$f":"HLOOKUP('III Tool Overview'!$H$6,Targeting!$I$1:$BC$277,Targeting!BD152,FALSE)","v":0},null,null,null,null,null,null,null,null,null,null,null,null,null,null,null,null,null,null,null,null,null,null,null,null,null,null,null,null,null,null,null,null,null,null,null,null,null,null,null,null,null,null,null,null,null,null,null,null,152]
[3,"Male 10-14",null,null,null,null,{"$f":"HLOOKUP('III Tool Overview'!$H$6,Targeting!$I$1:$BC$277,Targeting!BD153,FALSE)","v":0},null,null,null,null,null,null,null,null,null,null,null,null,null,null,null,null,null,null,null,null,null,null,null,null,null,null,null,null,null,null,null,null,null,null,null,null,null,null,null,null,null,null,null,null,null,null,null,null,153]
[3,"Male 15-19",{"$f":"'III Tool Overview'!$H$8/100","v":1000},0,0,{"$f":"G154*'III Tool Overview'!$H$8","v":553.84165319753947},{"$f":"HLOOKUP('III Tool Overview'!$H$6,Targeting!$I$1:$BC$277,Targeting!BD154,FALSE)","v":5.5384165319753943E-3},{"$f":"Baseline_Data_2012!B150","v":8065.4811952862337},{"$f":"Baseline_Data_2012!B150/Baseline_Data_2012!B$271","v":5.5384165319753943E-3},{"$f":"Baseline_Data_2012!C150/Baseline_Data_2012!C$271","v":5.4469827131435611E-3},{"$f":"Baseline_Data_2012!D150/Baseline_Data_2012!D$271","v":8.9062582990856731E-3},{"$f":"Baseline_Data_2012!E150/Baseline_Data_2012!E$271","v":1.012266393597897E-2},{"$f":"Baseline_Data_2012!F150/Baseline_Data_2012!F$271","v":5.3703927943300157E-3},{"$f":"Baseline_Data_2012!G150/Baseline_Data_2012!G$271","v":5.5109777981386856E-3},{"$f":"Baseline_Data_2012!H150/Baseline_Data_2012!H$271","v":5.3669494887803081E-3},{"$f":"Baseline_Data_2012!I150/Baseline_Data_2012!I$271","v":4.1991006728030215E-3},{"$f":"Baseline_Data_2012!J150/Baseline_Data_2012!J$271","v":7.8944817515240635E-3},{"$f":"Baseline_Data_2012!K150/Baseline_Data_2012!K$271","v":6.4565198398003005E-3},{"$f":"Baseline_Data_2012!L150/Baseline_Data_2012!L$271","v":4.421307426309899E-3},{"$f":"Baseline_Data_2012!M150/Baseline_Data_2012!M$271","v":4.0717907499983668E-3},{"$f":"Baseline_Data_2012!N150/Baseline_Data_2012!N$271","v":1.056893699706174E-2},{"$f":"Baseline_Data_2012!O150/Baseline_Data_2012!O$271","v":5.3789317660096741E-3},{"$f":"Baseline_Data_2012!P150/Baseline_Data_2012!P$271","v":1.3193732685511446E-2},{"$f":"Baseline_Data_2012!Q150/Baseline_Data_2012!Q$271","v":3.7481901910361433E-3},{"$f":"Baseline_Data_2012!R150/Baseline_Data_2012!R$271","v":4.944676183482228E-3},{"$f":"Baseline_Data_2012!S150/Baseline_Data_2012!S$271","v":6.4913872651597383E-3},{"$f":"Baseline_Data_2012!T150/Baseline_Data_2012!T$271","v":8.8840219710364966E-3},{"$f":"Baseline_Data_2012!U150/Baseline_Data_2012!U$271","v":7.1312848628162376E-3},{"$f":"Baseline_Data_2012!V150/Baseline_Data_2012!V$271","v":1.0122663935978968E-2},{"$f":"Baseline_Data_2012!W150/Baseline_Data_2012!W$271","v":5.0110016070384301E-3},{"$f":"Baseline_Data_2012!X150/Baseline_Data_2012!X$271","v":4.3028608486158073E-3},{"$f":"Baseline_Data_2012!Y150/Baseline_Data_2012!Y$271","v":2.0550662023216494E-3},{"$f":"Baseline_Data_2012!Z150/Baseline_Data_2012!Z$271","v":6.5124798069189265E-3},{"$f":"Baseline_Data_2012!AA150/Baseline_Data_2012!AA$271","v":1.9603580410111256E-3},{"$f":"Baseline_Data_2012!AB150/Baseline_Data_2012!AB$271","v":2.9758921351337535E-3},{"$f":"Baseline_Data_2012!AC150/Baseline_Data_2012!AC$271","v":1.3193732685511441E-2},{"$f":"Baseline_Data_2012!AD150/Baseline_Data_2012!AD$271","v":5.6214585997318234E-3},{"$f":"Baseline_Data_2012!AE150/Baseline_Data_2012!AE$271","v":5.3703927943300157E-3},{"$f":"Baseline_Data_2012!AF150/Baseline_Data_2012!AF$271","v":3.9501561199854736E-3},{"$f":"Baseline_Data_2012!AG150/Baseline_Data_2012!AG$271","v":7.5070839246535277E-3},{"$f":"Baseline_Data_2012!AH150/Baseline_Data_2012!AH$271","v":4.7070749387929925E-3},{"$f":"Baseline_Data_2012!AI150/Baseline_Data_2012!AI$271","v":6.4518537177253961E-3},{"$f":"Baseline_Data_2012!AJ150/Baseline_Data_2012!AJ$271","v":1.0285378650551256E-2},{"$f":"Baseline_Data_2012!AK150/Baseline_Data_2012!AK$271","v":5.4213757137210571E-3},{"$f":"Baseline_Data_2012!AL150/Baseline_Data_2012!AL$271","v":5.8776031273047669E-3},{"$f":"Baseline_Data_2012!AM150/Baseline_Data_2012!AM$271","v":4.0717907499983677E-3},{"$f":"Baseline_Data_2012!AN150/Baseline_Data_2012!AN$271","v":4.7842730448717057E-3},{"$f":"Baseline_Data_2012!AO150/Baseline_Data_2012!AO$271","v":6.2513298691615074E-3},{"$f":"Baseline_Data_2012!AP150/Baseline_Data_2012!AP$271","v":8.9062582990856731E-3},{"$f":"Baseline_Data_2012!AQ150/Baseline_Data_2012!AQ$271","v":1.0568936997061741E-2},{"$f":"Baseline_Data_2012!AR150/Baseline_Data_2012!AR$271","v":6.5730131493663812E-3},{"$f":"Baseline_Data_2012!AS150/Baseline_Data_2012!AS$271","v":6.6283657406625259E-3},{"$f":"Baseline_Data_2012!AT150/Baseline_Data_2012!AT$271","v":4.4318135518006336E-3},{"$f":"Baseline_Data_2012!AU150/Baseline_Data_2012!AU$271","v":6.6202389719134426E-3},{"$f":"Baseline_Data_2012!AV150/Baseline_Data_2012!AV$271","v":6.333658808460616E-3},154]
[3,"Male 20-24",{"$f":"'III Tool Overview'!$H$8/100","v":1000},0,0,{"$f":"G155*'III Tool Overview'!$H$8","v":805.55065484131683},{"$f":"HLOOKUP('III Tool Overview'!$H$6,Targeting!$I$1:$BC$277,Targeting!BD155,FALSE)","v":8.0555065484131678E-3},{"$f":"Baseline_Data_2012!B151","v":11731.067212013762},{"$f":"Baseline_Data_2012!B151/Baseline_Data_2012!B$271","v":8.0555065484131678E-3},{"$f":"Baseline_Data_2012!C151/Baseline_Data_2012!C$271","v":5.937352270868273E-3},{"$f":"Baseline_Data_2012!D151/Baseline_Data_2012!D$271","v":9.5232281477374194E-3},{"$f":"Baseline_Data_2012!E151/Baseline_Data_2012!E$271","v":9.9768042250859019E-3},{"$f":"Baseline_Data_2012!F151/Baseline_Data_2012!F$271","v":7.2134665999010689E-3},{"$f":"Baseline_Data_2012!G151/Baseline_Data_2012!G$271","v":7.8212902176926485E-3},{"$f":"Baseline_Data_2012!H151/Baseline_Data_2012!H$271","v":8.8538381148354842E-3},{"$f":"Baseline_Data_2012!I151/Baseline_Data_2012!I$271","v":7.6909129004874201E-3},{"$f":"Baseline_Data_2012!J151/Baseline_Data_2012!J$271","v":8.5104361144518192E-3},{"$f":"Baseline_Data_2012!K151/Baseline_Data_2012!K$271","v":7.6595853841351239E-3},{"$f":"Baseline_Data_2012!L151/Baseline_Data_2012!L$271","v":8.4001004269607816E-3},{"$f":"Baseline_Data_2012!M151/Baseline_Data_2012!M$271","v":4.7755570524672204E-3},{"$f":"Baseline_Data_2012!N151/Baseline_Data_2012!N$271","v":1.1106340573183524E-2},{"$f":"Baseline_Data_2012!O151/Baseline_Data_2012!O$271","v":7.9674182319371227E-3},{"$f":"Baseline_Data_2012!P151/Baseline_Data_2012!P$271","v":1.332567001236656E-2},{"$f":"Baseline_Data_2012!Q151/Baseline_Data_2012!Q$271","v":1.1788274670139346E-2},{"$f":"Baseline_Data_2012!R151/Baseline_Data_2012!R$271","v":5.7469449297178985E-3},{"$f":"Baseline_Data_2012!S151/Baseline_Data_2012!S$271","v":7.6269069033801009E-3},{"$f":"Baseline_Data_2012!T151/Baseline_Data_2012!T$271","v":8.4711026399883222E-3},{"$f":"Baseline_Data_2012!U151/Baseline_Data_2012!U$271","v":1.0216936966919417E-2},{"$f":"Baseline_Data_2012!V151/Baseline_Data_2012!V$271","v":9.9768042250859001E-3},{"$f":"Baseline_Data_2012!W151/Baseline_Data_2012!W$271","v":1.0761603782943227E-2},{"$f":"Baseline_Data_2012!X151/Baseline_Data_2012!X$271","v":5.7371477981544104E-3},{"$f":"Baseline_Data_2012!Y151/Baseline_Data_2012!Y$271","v":3.5703223883652622E-3},{"$f":"Baseline_Data_2012!Z151/Baseline_Data_2012!Z$271","v":7.2677085576372561E-3},{"$f":"Baseline_Data_2012!AA151/Baseline_Data_2012!AA$271","v":2.7233716497879106E-3},{"$f":"Baseline_Data_2012!AB151/Baseline_Data_2012!AB$271","v":8.8842009907170554E-3},{"$f":"Baseline_Data_2012!AC151/Baseline_Data_2012!AC$271","v":1.3325670012366555E-2},{"$f":"Baseline_Data_2012!AD151/Baseline_Data_2012!AD$271","v":5.7969007406857426E-3},{"$f":"Baseline_Data_2012!AE151/Baseline_Data_2012!AE$271","v":7.2134665999010689E-3},{"$f":"Baseline_Data_2012!AF151/Baseline_Data_2012!AF$271","v":9.6496089769367091E-3},{"$f":"Baseline_Data_2012!AG151/Baseline_Data_2012!AG$271","v":8.5083418306968594E-3},{"$f":"Baseline_Data_2012!AH151/Baseline_Data_2012!AH$271","v":6.48771183998113E-3},{"$f":"Baseline_Data_2012!AI151/Baseline_Data_2012!AI$271","v":7.9949774935112634E-3},{"$f":"Baseline_Data_2012!AJ151/Baseline_Data_2012!AJ$271","v":1.0874986343894961E-2},{"$f":"Baseline_Data_2012!AK151/Baseline_Data_2012!AK$271","v":5.1487925772769807E-3},{"$f":"Baseline_Data_2012!AL151/Baseline_Data_2012!AL$271","v":7.1773540937582333E-3},{"$f":"Baseline_Data_2012!AM151/Baseline_Data_2012!AM$271","v":4.7755570524672221E-3},{"$f":"Baseline_Data_2012!AN151/Baseline_Data_2012!AN$271","v":5.5631081917112855E-3},{"$f":"Baseline_Data_2012!AO151/Baseline_Data_2012!AO$271","v":8.1330717801717922E-3},{"$f":"Baseline_Data_2012!AP151/Baseline_Data_2012!AP$271","v":9.5232281477374194E-3},{"$f":"Baseline_Data_2012!AQ151/Baseline_Data_2012!AQ$271","v":1.1106340573183526E-2},{"$f":"Baseline_Data_2012!AR151/Baseline_Data_2012!AR$271","v":6.9206766547874133E-3},{"$f":"Baseline_Data_2012!AS151/Baseline_Data_2012!AS$271","v":7.7198846642607573E-3},{"$f":"Baseline_Data_2012!AT151/Baseline_Data_2012!AT$271","v":9.9622175051743821E-3},{"$f":"Baseline_Data_2012!AU151/Baseline_Data_2012!AU$271","v":8.1449000684753262E-3},{"$f":"Baseline_Data_2012!AV151/Baseline_Data_2012!AV$271","v":7.640604276873123E-3},155]
[3,"Male 25-29",{"$f":"'III Tool Overview'!$H$8/100","v":1000},0,0,{"$f":"G156*'III Tool Overview'!$H$8","v":1308.1567474663145},{"$f":"HLOOKUP('III Tool Overview'!$H$6,Targeting!$I$1:$BC$277,Targeting!BD156,FALSE)","v":1.3081567474663144E-2},{"$f":"Baseline_Data_2012!B152","v":19050.415558782744},{"$f":"Baseline_Data_2012!B152/Baseline_Data_2012!B$271","v":1.3081567474663144E-2},{"$f":"Baseline_Data_2012!C152/Baseline_Data_2012!C$271","v":8.2379725305867652E-3},{"$f":"Baseline_Data_2012!D152/Baseline_Data_2012!D$271","v":1.489353437238636E-2},{"$f":"Baseline_Data_2012!E152/Baseline_Data_2012!E$271","v":1.6173762904735434E-2},{"$f":"Baseline_Data_2012!F152/Baseline_Data_2012!F$271","v":1.2175715415923955E-2},{"$f":"Baseline_Data_2012!G152/Baseline_Data_2012!G$271","v":1.143683748508845E-2},{"$f":"Baseline_Data_2012!H152/Baseline_Data_2012!H$271","v":1.3573953243747832E-2},{"$f":"Baseline_Data_2012!I152/Baseline_Data_2012!I$271","v":1.2768794908148706E-2},{"$f":"Baseline_Data_2012!J152/Baseline_Data_2012!J$271","v":1.3598992781444073E-2},{"$f":"Baseline_Data_2012!K152/Baseline_Data_2012!K$271","v":1.1890321547159298E-2},{"$f":"Baseline_Data_2012!L152/Baseline_Data_2012!L$271","v":1.5990059193145431E-2},{"$f":"Baseline_Data_2012!M152/Baseline_Data_2012!M$271","v":8.3133750617936149E-3},{"$f":"Baseline_Data_2012!N152/Baseline_Data_2012!N$271","v":1.8145223930120035E-2},{"$f":"Baseline_Data_2012!O152/Baseline_Data_2012!O$271","v":1.093245181268503E-2},{"$f":"Baseline_Data_2012!P152/Baseline_Data_2012!P$271","v":2.1437650265360268E-2},{"$f":"Baseline_Data_2012!Q152/Baseline_Data_2012!Q$271","v":1.7203499275984226E-2},{"$f":"Baseline_Data_2012!R152/Baseline_Data_2012!R$271","v":8.7750965647342086E-3},{"$f":"Baseline_Data_2012!S152/Baseline_Data_2012!S$271","v":1.1376921359038812E-2},{"$f":"Baseline_Data_2012!T152/Baseline_Data_2012!T$271","v":1.3326438037805468E-2},{"$f":"Baseline_Data_2012!U152/Baseline_Data_2012!U$271","v":1.6896535137734862E-2},{"$f":"Baseline_Data_2012!V152/Baseline_Data_2012!V$271","v":1.617376290473543E-2},{"$f":"Baseline_Data_2012!W152/Baseline_Data_2012!W$271","v":1.2698608758750068E-2},{"$f":"Baseline_Data_2012!X152/Baseline_Data_2012!X$271","v":8.3196690009975215E-3},{"$f":"Baseline_Data_2012!Y152/Baseline_Data_2012!Y$271","v":6.3743724302672425E-3},{"$f":"Baseline_Data_2012!Z152/Baseline_Data_2012!Z$271","v":1.0444368323030096E-2},{"$f":"Baseline_Data_2012!AA152/Baseline_Data_2012!AA$271","v":2.7178401165126546E-3},{"$f":"Baseline_Data_2012!AB152/Baseline_Data_2012!AB$271","v":1.8406051813741192E-2},{"$f":"Baseline_Data_2012!AC152/Baseline_Data_2012!AC$271","v":2.1437650265360257E-2},{"$f":"Baseline_Data_2012!AD152/Baseline_Data_2012!AD$271","v":1.0445118250132533E-2},{"$f":"Baseline_Data_2012!AE152/Baseline_Data_2012!AE$271","v":1.2175715415923955E-2},{"$f":"Baseline_Data_2012!AF152/Baseline_Data_2012!AF$271","v":1.6069309587895979E-2},{"$f":"Baseline_Data_2012!AG152/Baseline_Data_2012!AG$271","v":1.3674426969022586E-2},{"$f":"Baseline_Data_2012!AH152/Baseline_Data_2012!AH$271","v":8.3990141788143919E-3},{"$f":"Baseline_Data_2012!AI152/Baseline_Data_2012!AI$271","v":1.2517914522564054E-2},{"$f":"Baseline_Data_2012!AJ152/Baseline_Data_2012!AJ$271","v":1.8743197314581333E-2},{"$f":"Baseline_Data_2012!AK152/Baseline_Data_2012!AK$271","v":6.5448278700617245E-3},{"$f":"Baseline_Data_2012!AL152/Baseline_Data_2012!AL$271","v":1.0985004740849872E-2},{"$f":"Baseline_Data_2012!AM152/Baseline_Data_2012!AM$271","v":8.3133750617936167E-3},{"$f":"Baseline_Data_2012!AN152/Baseline_Data_2012!AN$271","v":8.845277698930544E-3},{"$f":"Baseline_Data_2012!AO152/Baseline_Data_2012!AO$271","v":1.4720721242243311E-2},{"$f":"Baseline_Data_2012!AP152/Baseline_Data_2012!AP$271","v":1.489353437238636E-2},{"$f":"Baseline_Data_2012!AQ152/Baseline_Data_2012!AQ$271","v":1.8145223930120039E-2},{"$f":"Baseline_Data_2012!AR152/Baseline_Data_2012!AR$271","v":9.8820889273155098E-3},{"$f":"Baseline_Data_2012!AS152/Baseline_Data_2012!AS$271","v":1.2570369334293089E-2},{"$f":"Baseline_Data_2012!AT152/Baseline_Data_2012!AT$271","v":1.0137049379033387E-2},{"$f":"Baseline_Data_2012!AU152/Baseline_Data_2012!AU$271","v":1.3337140354079282E-2},{"$f":"Baseline_Data_2012!AV152/Baseline_Data_2012!AV$271","v":1.3446379070736052E-2},156]
[3,"Male 30-34",{"$f":"'III Tool Overview'!$H$8/100","v":1000},0,0,{"$f":"G157*'III Tool Overview'!$H$8","v":1262.2052660309714},{"$f":"HLOOKUP('III Tool Overview'!$H$6,Targeting!$I$1:$BC$277,Targeting!BD157,FALSE)","v":1.2622052660309713E-2},{"$f":"Baseline_Data_2012!B153","v":18381.233659457244},{"$f":"Baseline_Data_2012!B153/Baseline_Data_2012!B$271","v":1.2622052660309713E-2},{"$f":"Baseline_Data_2012!C153/Baseline_Data_2012!C$271","v":9.0547686738460774E-3},{"$f":"Baseline_Data_2012!D153/Baseline_Data_2012!D$271","v":1.4021316337318429E-2},{"$f":"Baseline_Data_2012!E153/Baseline_Data_2012!E$271","v":1.4376678137542604E-2},{"$f":"Baseline_Data_2012!F153/Baseline_Data_2012!F$271","v":1.2153826489333532E-2},{"$f":"Baseline_Data_2012!G153/Baseline_Data_2012!G$271","v":1.1963617458042027E-2},{"$f":"Baseline_Data_2012!H153/Baseline_Data_2012!H$271","v":1.2370970615002986E-2},{"$f":"Baseline_Data_2012!I153/Baseline_Data_2012!I$271","v":1.1669696577904691E-2},{"$f":"Baseline_Data_2012!J153/Baseline_Data_2012!J$271","v":1.3797063837353582E-2},{"$f":"Baseline_Data_2012!K153/Baseline_Data_2012!K$271","v":1.3461060046997101E-2},{"$f":"Baseline_Data_2012!L153/Baseline_Data_2012!L$271","v":1.5110182920083461E-2},{"$f":"Baseline_Data_2012!M153/Baseline_Data_2012!M$271","v":6.9001013012887002E-3},{"$f":"Baseline_Data_2012!N153/Baseline_Data_2012!N$271","v":2.1403958023692615E-2},{"$f":"Baseline_Data_2012!O153/Baseline_Data_2012!O$271","v":9.2295483891945036E-3},{"$f":"Baseline_Data_2012!P153/Baseline_Data_2012!P$271","v":2.3128660846088431E-2},{"$f":"Baseline_Data_2012!Q153/Baseline_Data_2012!Q$271","v":1.3678452939600778E-2},{"$f":"Baseline_Data_2012!R153/Baseline_Data_2012!R$271","v":9.169187727821073E-3},{"$f":"Baseline_Data_2012!S153/Baseline_Data_2012!S$271","v":1.1736851470810328E-2},{"$f":"Baseline_Data_2012!T153/Baseline_Data_2012!T$271","v":1.3678222892840704E-2},{"$f":"Baseline_Data_2012!U153/Baseline_Data_2012!U$271","v":1.7123334267100433E-2},{"$f":"Baseline_Data_2012!V153/Baseline_Data_2012!V$271","v":1.4376678137542603E-2},{"$f":"Baseline_Data_2012!W153/Baseline_Data_2012!W$271","v":8.4107668402110848E-3},{"$f":"Baseline_Data_2012!X153/Baseline_Data_2012!X$271","v":8.3550718478102772E-3},{"$f":"Baseline_Data_2012!Y153/Baseline_Data_2012!Y$271","v":5.1057626837029994E-3},{"$f":"Baseline_Data_2012!Z153/Baseline_Data_2012!Z$271","v":1.0281457898580754E-2},{"$f":"Baseline_Data_2012!AA153/Baseline_Data_2012!AA$271","v":3.2031687087470573E-3},{"$f":"Baseline_Data_2012!AB153/Baseline_Data_2012!AB$271","v":1.6234712888838911E-2},{"$f":"Baseline_Data_2012!AC153/Baseline_Data_2012!AC$271","v":2.312866084608842E-2},{"$f":"Baseline_Data_2012!AD153/Baseline_Data_2012!AD$271","v":1.1847472089270698E-2},{"$f":"Baseline_Data_2012!AE153/Baseline_Data_2012!AE$271","v":1.2153826489333532E-2},{"$f":"Baseline_Data_2012!AF153/Baseline_Data_2012!AF$271","v":1.3929874608222158E-2},{"$f":"Baseline_Data_2012!AG153/Baseline_Data_2012!AG$271","v":1.3814358569615199E-2},{"$f":"Baseline_Data_2012!AH153/Baseline_Data_2012!AH$271","v":7.6820251635497487E-3},{"$f":"Baseline_Data_2012!AI153/Baseline_Data_2012!AI$271","v":1.2297916024803703E-2},{"$f":"Baseline_Data_2012!AJ153/Baseline_Data_2012!AJ$271","v":1.8400113741385719E-2},{"$f":"Baseline_Data_2012!AK153/Baseline_Data_2012!AK$271","v":7.8304190588238485E-3},{"$f":"Baseline_Data_2012!AL153/Baseline_Data_2012!AL$271","v":1.3164192167818467E-2},{"$f":"Baseline_Data_2012!AM153/Baseline_Data_2012!AM$271","v":6.900101301288702E-3},{"$f":"Baseline_Data_2012!AN153/Baseline_Data_2012!AN$271","v":7.8858345012753732E-3},{"$f":"Baseline_Data_2012!AO153/Baseline_Data_2012!AO$271","v":1.4417681850083117E-2},{"$f":"Baseline_Data_2012!AP153/Baseline_Data_2012!AP$271","v":1.4021316337318429E-2},{"$f":"Baseline_Data_2012!AQ153/Baseline_Data_2012!AQ$271","v":2.1403958023692618E-2},{"$f":"Baseline_Data_2012!AR153/Baseline_Data_2012!AR$271","v":1.0978102426526864E-2},{"$f":"Baseline_Data_2012!AS153/Baseline_Data_2012!AS$271","v":1.3821448746710886E-2},{"$f":"Baseline_Data_2012!AT153/Baseline_Data_2012!AT$271","v":9.3318662308005916E-3},{"$f":"Baseline_Data_2012!AU153/Baseline_Data_2012!AU$271","v":1.2209123508211878E-2},{"$f":"Baseline_Data_2012!AV153/Baseline_Data_2012!AV$271","v":1.5597384068914075E-2},157]
[3,"Male 35-39",{"$f":"'III Tool Overview'!$H$8/100","v":1000},0,0,{"$f":"G158*'III Tool Overview'!$H$8","v":1169.9488857430615},{"$f":"HLOOKUP('III Tool Overview'!$H$6,Targeting!$I$1:$BC$277,Targeting!BD158,FALSE)","v":1.1699488857430615E-2},{"$f":"Baseline_Data_2012!B154","v":17037.723116215537},{"$f":"Baseline_Data_2012!B154/Baseline_Data_2012!B$271","v":1.1699488857430615E-2},{"$f":"Baseline_Data_2012!C154/Baseline_Data_2012!C$271","v":9.2677023098102253E-3},{"$f":"Baseline_Data_2012!D154/Baseline_Data_2012!D$271","v":1.5743575032351624E-2},{"$f":"Baseline_Data_2012!E154/Baseline_Data_2012!E$271","v":1.5884315790048797E-2},{"$f":"Baseline_Data_2012!F154/Baseline_Data_2012!F$271","v":1.2468972476966397E-2},{"$f":"Baseline_Data_2012!G154/Baseline_Data_2012!G$271","v":1.1742245016702679E-2},{"$f":"Baseline_Data_2012!H154/Baseline_Data_2012!H$271","v":1.0960682585597535E-2},{"$f":"Baseline_Data_2012!I154/Baseline_Data_2012!I$271","v":9.425259814975431E-3},{"$f":"Baseline_Data_2012!J154/Baseline_Data_2012!J$271","v":1.4235829716860163E-2},{"$f":"Baseline_Data_2012!K154/Baseline_Data_2012!K$271","v":1.3569661497299358E-2},{"$f":"Baseline_Data_2012!L154/Baseline_Data_2012!L$271","v":1.2839944821580608E-2},{"$f":"Baseline_Data_2012!M154/Baseline_Data_2012!M$271","v":7.4687711948026965E-3},{"$f":"Baseline_Data_2012!N154/Baseline_Data_2012!N$271","v":1.9303255678728187E-2},{"$f":"Baseline_Data_2012!O154/Baseline_Data_2012!O$271","v":8.7914892706989732E-3},{"$f":"Baseline_Data_2012!P154/Baseline_Data_2012!P$271","v":2.692681731677864E-2},{"$f":"Baseline_Data_2012!Q154/Baseline_Data_2012!Q$271","v":9.6783695352775662E-3},{"$f":"Baseline_Data_2012!R154/Baseline_Data_2012!R$271","v":9.7721266490445758E-3},{"$f":"Baseline_Data_2012!S154/Baseline_Data_2012!S$271","v":1.2081684397114191E-2},{"$f":"Baseline_Data_2012!T154/Baseline_Data_2012!T$271","v":1.509743066522524E-2},{"$f":"Baseline_Data_2012!U154/Baseline_Data_2012!U$271","v":1.6681228992755943E-2},{"$f":"Baseline_Data_2012!V154/Baseline_Data_2012!V$271","v":1.5884315790048797E-2},{"$f":"Baseline_Data_2012!W154/Baseline_Data_2012!W$271","v":6.6347325241347321E-3},{"$f":"Baseline_Data_2012!X154/Baseline_Data_2012!X$271","v":8.3010339157068933E-3},{"$f":"Baseline_Data_2012!Y154/Baseline_Data_2012!Y$271","v":4.7005318186316486E-3},{"$f":"Baseline_Data_2012!Z154/Baseline_Data_2012!Z$271","v":1.1544344337874577E-2},{"$f":"Baseline_Data_2012!AA154/Baseline_Data_2012!AA$271","v":3.5648331000660873E-3},{"$f":"Baseline_Data_2012!AB154/Baseline_Data_2012!AB$271","v":1.2141550257217575E-2},{"$f":"Baseline_Data_2012!AC154/Baseline_Data_2012!AC$271","v":2.6926817316778626E-2},{"$f":"Baseline_Data_2012!AD154/Baseline_Data_2012!AD$271","v":1.17203746583929E-2},{"$f":"Baseline_Data_2012!AE154/Baseline_Data_2012!AE$271","v":1.2468972476966397E-2},{"$f":"Baseline_Data_2012!AF154/Baseline_Data_2012!AF$271","v":9.5313465801876995E-3},{"$f":"Baseline_Data_2012!AG154/Baseline_Data_2012!AG$271","v":1.3883924775400871E-2},{"$f":"Baseline_Data_2012!AH154/Baseline_Data_2012!AH$271","v":7.836940561950112E-3},{"$f":"Baseline_Data_2012!AI154/Baseline_Data_2012!AI$271","v":1.3227184042030082E-2},{"$f":"Baseline_Data_2012!AJ154/Baseline_Data_2012!AJ$271","v":1.7309955122794197E-2},{"$f":"Baseline_Data_2012!AK154/Baseline_Data_2012!AK$271","v":8.6701836072167766E-3},{"$f":"Baseline_Data_2012!AL154/Baseline_Data_2012!AL$271","v":1.3078516329581862E-2},{"$f":"Baseline_Data_2012!AM154/Baseline_Data_2012!AM$271","v":7.4687711948026982E-3},{"$f":"Baseline_Data_2012!AN154/Baseline_Data_2012!AN$271","v":8.0708110712635426E-3},{"$f":"Baseline_Data_2012!AO154/Baseline_Data_2012!AO$271","v":1.3347936006636786E-2},{"$f":"Baseline_Data_2012!AP154/Baseline_Data_2012!AP$271","v":1.5743575032351624E-2},{"$f":"Baseline_Data_2012!AQ154/Baseline_Data_2012!AQ$271","v":1.930325567872819E-2},{"$f":"Baseline_Data_2012!AR154/Baseline_Data_2012!AR$271","v":1.0784997180414351E-2},{"$f":"Baseline_Data_2012!AS154/Baseline_Data_2012!AS$271","v":1.3915881165046178E-2},{"$f":"Baseline_Data_2012!AT154/Baseline_Data_2012!AT$271","v":9.0702753073859249E-3},{"$f":"Baseline_Data_2012!AU154/Baseline_Data_2012!AU$271","v":1.2926992728119292E-2},{"$f":"Baseline_Data_2012!AV154/Baseline_Data_2012!AV$271","v":1.5111382873246447E-2},158]
[3,"Male 40-44",{"$f":"'III Tool Overview'!$H$8/100","v":1000},0,0,{"$f":"G159*'III Tool Overview'!$H$8","v":1358.6219581252767},{"$f":"HLOOKUP('III Tool Overview'!$H$6,Targeting!$I$1:$BC$277,Targeting!BD159,FALSE)","v":1.3586219581252766E-2},{"$f":"Baseline_Data_2012!B155","v":19785.329961186573},{"$f":"Baseline_Data_2012!B155/Baseline_Data_2012!B$271","v":1.3586219581252766E-2},{"$f":"Baseline_Data_2012!C155/Baseline_Data_2012!C$271","v":1.2360776356030294E-2},{"$f":"Baseline_Data_2012!D155/Baseline_Data_2012!D$271","v":2.0780219263547707E-2},{"$f":"Baseline_Data_2012!E155/Baseline_Data_2012!E$271","v":2.1480738894488777E-2},{"$f":"Baseline_Data_2012!F155/Baseline_Data_2012!F$271","v":1.4332835347223507E-2},{"$f":"Baseline_Data_2012!G155/Baseline_Data_2012!G$271","v":1.4330050348558714E-2},{"$f":"Baseline_Data_2012!H155/Baseline_Data_2012!H$271","v":1.2526494383540039E-2},{"$f":"Baseline_Data_2012!I155/Baseline_Data_2012!I$271","v":1.0141262745457598E-2},{"$f":"Baseline_Data_2012!J155/Baseline_Data_2012!J$271","v":1.8465234385487771E-2},{"$f":"Baseline_Data_2012!K155/Baseline_Data_2012!K$271","v":1.6370967876687771E-2},{"$f":"Baseline_Data_2012!L155/Baseline_Data_2012!L$271","v":1.2798182112777286E-2},{"$f":"Baseline_Data_2012!M155/Baseline_Data_2012!M$271","v":8.4536640996118427E-3},{"$f":"Baseline_Data_2012!N155/Baseline_Data_2012!N$271","v":2.1496807460401845E-2},{"$f":"Baseline_Data_2012!O155/Baseline_Data_2012!O$271","v":1.1248276288237142E-2},{"$f":"Baseline_Data_2012!P155/Baseline_Data_2012!P$271","v":3.55433988581478E-2},{"$f":"Baseline_Data_2012!Q155/Baseline_Data_2012!Q$271","v":8.6492571902115241E-3},{"$f":"Baseline_Data_2012!R155/Baseline_Data_2012!R$271","v":1.1451609596690591E-2},{"$f":"Baseline_Data_2012!S155/Baseline_Data_2012!S$271","v":1.5078930909953263E-2},{"$f":"Baseline_Data_2012!T155/Baseline_Data_2012!T$271","v":2.0388681737340715E-2},{"$f":"Baseline_Data_2012!U155/Baseline_Data_2012!U$271","v":2.1234047644022664E-2},{"$f":"Baseline_Data_2012!V155/Baseline_Data_2012!V$271","v":2.1480738894488774E-2},{"$f":"Baseline_Data_2012!W155/Baseline_Data_2012!W$271","v":8.2493197846092384E-3},{"$f":"Baseline_Data_2012!X155/Baseline_Data_2012!X$271","v":1.0345709638102064E-2},{"$f":"Baseline_Data_2012!Y155/Baseline_Data_2012!Y$271","v":6.4168444234609674E-3},{"$f":"Baseline_Data_2012!Z155/Baseline_Data_2012!Z$271","v":1.3742416092609211E-2},{"$f":"Baseline_Data_2012!AA155/Baseline_Data_2012!AA$271","v":4.3506296436290415E-3},{"$f":"Baseline_Data_2012!AB155/Baseline_Data_2012!AB$271","v":1.0239220254917481E-2},{"$f":"Baseline_Data_2012!AC155/Baseline_Data_2012!AC$271","v":3.5543398858147786E-2},{"$f":"Baseline_Data_2012!AD155/Baseline_Data_2012!AD$271","v":1.4334185300132252E-2},{"$f":"Baseline_Data_2012!AE155/Baseline_Data_2012!AE$271","v":1.4332835347223507E-2},{"$f":"Baseline_Data_2012!AF155/Baseline_Data_2012!AF$271","v":9.2490593121333613E-3},{"$f":"Baseline_Data_2012!AG155/Baseline_Data_2012!AG$271","v":1.770603342003859E-2},{"$f":"Baseline_Data_2012!AH155/Baseline_Data_2012!AH$271","v":8.671195524996414E-3},{"$f":"Baseline_Data_2012!AI155/Baseline_Data_2012!AI$271","v":1.6246196491688836E-2},{"$f":"Baseline_Data_2012!AJ155/Baseline_Data_2012!AJ$271","v":2.4476383505248646E-2},{"$f":"Baseline_Data_2012!AK155/Baseline_Data_2012!AK$271","v":1.201628108300576E-2},{"$f":"Baseline_Data_2012!AL155/Baseline_Data_2012!AL$271","v":1.496613724312976E-2},{"$f":"Baseline_Data_2012!AM155/Baseline_Data_2012!AM$271","v":8.4536640996118444E-3},{"$f":"Baseline_Data_2012!AN155/Baseline_Data_2012!AN$271","v":1.0873536459355064E-2},{"$f":"Baseline_Data_2012!AO155/Baseline_Data_2012!AO$271","v":1.5649304283643129E-2},{"$f":"Baseline_Data_2012!AP155/Baseline_Data_2012!AP$271","v":2.0780219263547707E-2},{"$f":"Baseline_Data_2012!AQ155/Baseline_Data_2012!AQ$271","v":2.1496807460401848E-2},{"$f":"Baseline_Data_2012!AR155/Baseline_Data_2012!AR$271","v":1.4634247818818816E-2},{"$f":"Baseline_Data_2012!AS155/Baseline_Data_2012!AS$271","v":1.7180172816187611E-2},{"$f":"Baseline_Data_2012!AT155/Baseline_Data_2012!AT$271","v":1.0537825469479827E-2},{"$f":"Baseline_Data_2012!AU155/Baseline_Data_2012!AU$271","v":1.5438148410101927E-2},{"$f":"Baseline_Data_2012!AV155/Baseline_Data_2012!AV$271","v":1.7717147469176249E-2},159]
[3,"Male 45-49",{"$f":"'III Tool Overview'!$H$8/100","v":1000},0,0,{"$f":"G160*'III Tool Overview'!$H$8","v":1548.1722494055366},{"$f":"HLOOKUP('III Tool Overview'!$H$6,Targeting!$I$1:$BC$277,Targeting!BD160,FALSE)","v":1.5481722494055366E-2},{"$f":"Baseline_Data_2012!B156","v":22545.711563140012},{"$f":"Baseline_Data_2012!B156/Baseline_Data_2012!B$271","v":1.5481722494055366E-2},{"$f":"Baseline_Data_2012!C156/Baseline_Data_2012!C$271","v":1.5483528010867808E-2},{"$f":"Baseline_Data_2012!D156/Baseline_Data_2012!D$271","v":2.5577850903645949E-2},{"$f":"Baseline_Data_2012!E156/Baseline_Data_2012!E$271","v":2.8272330694526546E-2},{"$f":"Baseline_Data_2012!F156/Baseline_Data_2012!F$271","v":1.5746082479154409E-2},{"$f":"Baseline_Data_2012!G156/Baseline_Data_2012!G$271","v":1.5363976226565681E-2},{"$f":"Baseline_Data_2012!H156/Baseline_Data_2012!H$271","v":1.409004062366419E-2},{"$f":"Baseline_Data_2012!I156/Baseline_Data_2012!I$271","v":1.1165713095790277E-2},{"$f":"Baseline_Data_2012!J156/Baseline_Data_2012!J$271","v":2.3971152479568426E-2},{"$f":"Baseline_Data_2012!K156/Baseline_Data_2012!K$271","v":1.8558667790626707E-2},{"$f":"Baseline_Data_2012!L156/Baseline_Data_2012!L$271","v":1.2975942081558271E-2},{"$f":"Baseline_Data_2012!M156/Baseline_Data_2012!M$271","v":1.3186381782027145E-2},{"$f":"Baseline_Data_2012!N156/Baseline_Data_2012!N$271","v":2.7515897161918653E-2},{"$f":"Baseline_Data_2012!O156/Baseline_Data_2012!O$271","v":1.3485895942168849E-2},{"$f":"Baseline_Data_2012!P156/Baseline_Data_2012!P$271","v":3.7222425001910732E-2},{"$f":"Baseline_Data_2012!Q156/Baseline_Data_2012!Q$271","v":9.4195009444360267E-3},{"$f":"Baseline_Data_2012!R156/Baseline_Data_2012!R$271","v":1.3229047660536841E-2},{"$f":"Baseline_Data_2012!S156/Baseline_Data_2012!S$271","v":1.7725315580100431E-2},{"$f":"Baseline_Data_2012!T156/Baseline_Data_2012!T$271","v":2.559742904960962E-2},{"$f":"Baseline_Data_2012!U156/Baseline_Data_2012!U$271","v":2.2735294456533186E-2},{"$f":"Baseline_Data_2012!V156/Baseline_Data_2012!V$271","v":2.8272330694526542E-2},{"$f":"Baseline_Data_2012!W156/Baseline_Data_2012!W$271","v":9.3193496638865093E-3},{"$f":"Baseline_Data_2012!X156/Baseline_Data_2012!X$271","v":1.2757302740347753E-2},{"$f":"Baseline_Data_2012!Y156/Baseline_Data_2012!Y$271","v":6.9858466928871456E-3},{"$f":"Baseline_Data_2012!Z156/Baseline_Data_2012!Z$271","v":1.4606211138467332E-2},{"$f":"Baseline_Data_2012!AA156/Baseline_Data_2012!AA$271","v":5.0218547302977893E-3},{"$f":"Baseline_Data_2012!AB156/Baseline_Data_2012!AB$271","v":9.9079711322962016E-3},{"$f":"Baseline_Data_2012!AC156/Baseline_Data_2012!AC$271","v":3.7222425001910704E-2},{"$f":"Baseline_Data_2012!AD156/Baseline_Data_2012!AD$271","v":1.5379050629871873E-2},{"$f":"Baseline_Data_2012!AE156/Baseline_Data_2012!AE$271","v":1.5746082479154409E-2},{"$f":"Baseline_Data_2012!AF156/Baseline_Data_2012!AF$271","v":9.013369910790341E-3},{"$f":"Baseline_Data_2012!AG156/Baseline_Data_2012!AG$271","v":2.3312677000607754E-2},{"$f":"Baseline_Data_2012!AH156/Baseline_Data_2012!AH$271","v":1.3384370981429975E-2},{"$f":"Baseline_Data_2012!AI156/Baseline_Data_2012!AI$271","v":1.8126864101854583E-2},{"$f":"Baseline_Data_2012!AJ156/Baseline_Data_2012!AJ$271","v":2.7276630583197906E-2},{"$f":"Baseline_Data_2012!AK156/Baseline_Data_2012!AK$271","v":1.4378801439650661E-2},{"$f":"Baseline_Data_2012!AL156/Baseline_Data_2012!AL$271","v":1.6769795751234409E-2},{"$f":"Baseline_Data_2012!AM156/Baseline_Data_2012!AM$271","v":1.3186381782027148E-2},{"$f":"Baseline_Data_2012!AN156/Baseline_Data_2012!AN$271","v":1.3879380531369093E-2},{"$f":"Baseline_Data_2012!AO156/Baseline_Data_2012!AO$271","v":1.9591598459440057E-2},{"$f":"Baseline_Data_2012!AP156/Baseline_Data_2012!AP$271","v":2.5577850903645949E-2},{"$f":"Baseline_Data_2012!AQ156/Baseline_Data_2012!AQ$271","v":2.751589716191866E-2},{"$f":"Baseline_Data_2012!AR156/Baseline_Data_2012!AR$271","v":1.9260942805748943E-2},{"$f":"Baseline_Data_2012!AS156/Baseline_Data_2012!AS$271","v":1.9013375010582506E-2},{"$f":"Baseline_Data_2012!AT156/Baseline_Data_2012!AT$271","v":1.1296793541792256E-2},{"$f":"Baseline_Data_2012!AU156/Baseline_Data_2012!AU$271","v":1.8789287147505291E-2},{"$f":"Baseline_Data_2012!AV156/Baseline_Data_2012!AV$271","v":1.8163779859431125E-2},160]
[3,"Male 50-54",{"$f":"'III Tool Overview'!$H$8/100","v":1000},0,0,{"$f":"G161*'III Tool Overview'!$H$8","v":1453.6748519597629},{"$f":"HLOOKUP('III Tool Overview'!$H$6,Targeting!$I$1:$BC$277,Targeting!BD161,FALSE)","v":1.4536748519597629E-2},{"$f":"Baseline_Data_2012!B157","v":21169.565551546093},{"$f":"Baseline_Data_2012!B157/Baseline_Data_2012!B$271","v":1.4536748519597629E-2},{"$f":"Baseline_Data_2012!C157/Baseline_Data_2012!C$271","v":1.4551907793607412E-2},{"$f":"Baseline_Data_2012!D157/Baseline_Data_2012!D$271","v":2.5332583840186329E-2},{"$f":"Baseline_Data_2012!E157/Baseline_Data_2012!E$271","v":2.8169615596635441E-2},{"$f":"Baseline_Data_2012!F157/Baseline_Data_2012!F$271","v":1.5425684944432434E-2},{"$f":"Baseline_Data_2012!G157/Baseline_Data_2012!G$271","v":1.4485648649849086E-2},{"$f":"Baseline_Data_2012!H157/Baseline_Data_2012!H$271","v":1.2990998341239558E-2},{"$f":"Baseline_Data_2012!I157/Baseline_Data_2012!I$271","v":1.0246766538419133E-2},{"$f":"Baseline_Data_2012!J157/Baseline_Data_2012!J$271","v":2.3441003844684779E-2},{"$f":"Baseline_Data_2012!K157/Baseline_Data_2012!K$271","v":1.6811038930668449E-2},{"$f":"Baseline_Data_2012!L157/Baseline_Data_2012!L$271","v":1.1710545682142037E-2},{"$f":"Baseline_Data_2012!M157/Baseline_Data_2012!M$271","v":1.5398861946796802E-2},{"$f":"Baseline_Data_2012!N157/Baseline_Data_2012!N$271","v":2.609673914210623E-2},{"$f":"Baseline_Data_2012!O157/Baseline_Data_2012!O$271","v":1.2794825151222209E-2},{"$f":"Baseline_Data_2012!P157/Baseline_Data_2012!P$271","v":3.8093464588538906E-2},{"$f":"Baseline_Data_2012!Q157/Baseline_Data_2012!Q$271","v":8.6147773925282726E-3},{"$f":"Baseline_Data_2012!R157/Baseline_Data_2012!R$271","v":1.2585774729897628E-2},{"$f":"Baseline_Data_2012!S157/Baseline_Data_2012!S$271","v":1.8041839072602223E-2},{"$f":"Baseline_Data_2012!T157/Baseline_Data_2012!T$271","v":2.559742904960962E-2},{"$f":"Baseline_Data_2012!U157/Baseline_Data_2012!U$271","v":1.9516137719324946E-2},{"$f":"Baseline_Data_2012!V157/Baseline_Data_2012!V$271","v":2.8169615596635438E-2},{"$f":"Baseline_Data_2012!W157/Baseline_Data_2012!W$271","v":8.4708060524180378E-3},{"$f":"Baseline_Data_2012!X157/Baseline_Data_2012!X$271","v":1.0703320467529576E-2},{"$f":"Baseline_Data_2012!Y157/Baseline_Data_2012!Y$271","v":5.8521054634925731E-3},{"$f":"Baseline_Data_2012!Z157/Baseline_Data_2012!Z$271","v":1.5049407518658292E-2},{"$f":"Baseline_Data_2012!AA157/Baseline_Data_2012!AA$271","v":5.1045190056936375E-3},{"$f":"Baseline_Data_2012!AB157/Baseline_Data_2012!AB$271","v":8.7828481068442585E-3},{"$f":"Baseline_Data_2012!AC157/Baseline_Data_2012!AC$271","v":3.8093464588538885E-2},{"$f":"Baseline_Data_2012!AD157/Baseline_Data_2012!AD$271","v":1.4928618184645498E-2},{"$f":"Baseline_Data_2012!AE157/Baseline_Data_2012!AE$271","v":1.5425684944432434E-2},{"$f":"Baseline_Data_2012!AF157/Baseline_Data_2012!AF$271","v":7.9140037754654967E-3},{"$f":"Baseline_Data_2012!AG157/Baseline_Data_2012!AG$271","v":2.2584414460297679E-2},{"$f":"Baseline_Data_2012!AH157/Baseline_Data_2012!AH$271","v":1.2920960988182909E-2},{"$f":"Baseline_Data_2012!AI157/Baseline_Data_2012!AI$271","v":1.765846968061803E-2},{"$f":"Baseline_Data_2012!AJ157/Baseline_Data_2012!AJ$271","v":2.4239486374497927E-2},{"$f":"Baseline_Data_2012!AK157/Baseline_Data_2012!AK$271","v":1.432548079154318E-2},{"$f":"Baseline_Data_2012!AL157/Baseline_Data_2012!AL$271","v":1.4456284539416922E-2},{"$f":"Baseline_Data_2012!AM157/Baseline_Data_2012!AM$271","v":1.5398861946796806E-2},{"$f":"Baseline_Data_2012!AN157/Baseline_Data_2012!AN$271","v":1.2494240740436088E-2},{"$f":"Baseline_Data_2012!AO157/Baseline_Data_2012!AO$271","v":1.7258969890488359E-2},{"$f":"Baseline_Data_2012!AP157/Baseline_Data_2012!AP$271","v":2.5332583840186329E-2},{"$f":"Baseline_Data_2012!AQ157/Baseline_Data_2012!AQ$271","v":2.6096739142106234E-2},{"$f":"Baseline_Data_2012!AR157/Baseline_Data_2012!AR$271","v":1.8534114775343322E-2},{"$f":"Baseline_Data_2012!AS157/Baseline_Data_2012!AS$271","v":1.8518697475283827E-2},{"$f":"Baseline_Data_2012!AT157/Baseline_Data_2012!AT$271","v":1.0967120578510381E-2},{"$f":"Baseline_Data_2012!AU157/Baseline_Data_2012!AU$271","v":1.8695105257041607E-2},{"$f":"Baseline_Data_2012!AV157/Baseline_Data_2012!AV$271","v":1.5165981843654124E-2},161]
[3,"Male 55-59",{"$f":"'III Tool Overview'!$H$8/100","v":1000},0,0,{"$f":"G162*'III Tool Overview'!$H$8","v":906.60659848169257},{"$f":"HLOOKUP('III Tool Overview'!$H$6,Targeting!$I$1:$BC$277,Targeting!BD162,FALSE)","v":9.0660659848169258E-3},{"$f":"Baseline_Data_2012!B158","v":13202.723972385027},{"$f":"Baseline_Data_2012!B158/Baseline_Data_2012!B$271","v":9.0660659848169258E-3},{"$f":"Baseline_Data_2012!C158/Baseline_Data_2012!C$271","v":9.3898327672130213E-3},{"$f":"Baseline_Data_2012!D158/Baseline_Data_2012!D$271","v":1.5764769434717638E-2},{"$f":"Baseline_Data_2012!E158/Baseline_Data_2012!E$271","v":1.8398293691412083E-2},{"$f":"Baseline_Data_2012!F158/Baseline_Data_2012!F$271","v":9.2709297853376983E-3},{"$f":"Baseline_Data_2012!G158/Baseline_Data_2012!G$271","v":8.1976507019801918E-3},{"$f":"Baseline_Data_2012!H158/Baseline_Data_2012!H$271","v":8.6791430636916442E-3},{"$f":"Baseline_Data_2012!I158/Baseline_Data_2012!I$271","v":6.2100677687361985E-3},{"$f":"Baseline_Data_2012!J158/Baseline_Data_2012!J$271","v":1.6361937712342664E-2},{"$f":"Baseline_Data_2012!K158/Baseline_Data_2012!K$271","v":9.8941577880596373E-3},{"$f":"Baseline_Data_2012!L158/Baseline_Data_2012!L$271","v":6.8289769007653552E-3},{"$f":"Baseline_Data_2012!M158/Baseline_Data_2012!M$271","v":9.7502061334443519E-3},{"$f":"Baseline_Data_2012!N158/Baseline_Data_2012!N$271","v":1.8493321194078493E-2},{"$f":"Baseline_Data_2012!O158/Baseline_Data_2012!O$271","v":8.1761183284460356E-3},{"$f":"Baseline_Data_2012!P158/Baseline_Data_2012!P$271","v":2.4434927950351844E-2},{"$f":"Baseline_Data_2012!Q158/Baseline_Data_2012!Q$271","v":5.9306467852772672E-3},{"$f":"Baseline_Data_2012!R158/Baseline_Data_2012!R$271","v":8.6029468333973288E-3},{"$f":"Baseline_Data_2012!S158/Baseline_Data_2012!S$271","v":1.1142552617069975E-2},{"$f":"Baseline_Data_2012!T158/Baseline_Data_2012!T$271","v":1.8194455786074995E-2},{"$f":"Baseline_Data_2012!U158/Baseline_Data_2012!U$271","v":1.0897323239296462E-2},{"$f":"Baseline_Data_2012!V158/Baseline_Data_2012!V$271","v":1.839829369141208E-2},{"$f":"Baseline_Data_2012!W158/Baseline_Data_2012!W$271","v":5.1578721515103277E-3},{"$f":"Baseline_Data_2012!X158/Baseline_Data_2012!X$271","v":6.897951622195018E-3},{"$f":"Baseline_Data_2012!Y158/Baseline_Data_2012!Y$271","v":3.3774786291905588E-3},{"$f":"Baseline_Data_2012!Z158/Baseline_Data_2012!Z$271","v":9.0808106301649583E-3},{"$f":"Baseline_Data_2012!AA158/Baseline_Data_2012!AA$271","v":3.4372921905739882E-3},{"$f":"Baseline_Data_2012!AB158/Baseline_Data_2012!AB$271","v":5.081270043608992E-3},{"$f":"Baseline_Data_2012!AC158/Baseline_Data_2012!AC$271","v":2.4434927950351834E-2},{"$f":"Baseline_Data_2012!AD158/Baseline_Data_2012!AD$271","v":8.5620979569292661E-3},{"$f":"Baseline_Data_2012!AE158/Baseline_Data_2012!AE$271","v":9.2709297853376983E-3},{"$f":"Baseline_Data_2012!AF158/Baseline_Data_2012!AF$271","v":4.7597956526421268E-3},{"$f":"Baseline_Data_2012!AG158/Baseline_Data_2012!AG$271","v":1.5641066371350636E-2},{"$f":"Baseline_Data_2012!AH158/Baseline_Data_2012!AH$271","v":7.9246940367626896E-3},{"$f":"Baseline_Data_2012!AI158/Baseline_Data_2012!AI$271","v":1.1519417921253555E-2},{"$f":"Baseline_Data_2012!AJ158/Baseline_Data_2012!AJ$271","v":1.5261746010164029E-2},{"$f":"Baseline_Data_2012!AK158/Baseline_Data_2012!AK$271","v":9.3612769716547358E-3},{"$f":"Baseline_Data_2012!AL158/Baseline_Data_2012!AL$271","v":8.5366376221068796E-3},{"$f":"Baseline_Data_2012!AM158/Baseline_Data_2012!AM$271","v":9.7502061334443554E-3},{"$f":"Baseline_Data_2012!AN158/Baseline_Data_2012!AN$271","v":8.5526280294371537E-3},{"$f":"Baseline_Data_2012!AO158/Baseline_Data_2012!AO$271","v":1.0009821307949857E-2},{"$f":"Baseline_Data_2012!AP158/Baseline_Data_2012!AP$271","v":1.5764769434717638E-2},{"$f":"Baseline_Data_2012!AQ158/Baseline_Data_2012!AQ$271","v":1.84933211940785E-2},{"$f":"Baseline_Data_2012!AR158/Baseline_Data_2012!AR$271","v":1.1841560770981575E-2},{"$f":"Baseline_Data_2012!AS158/Baseline_Data_2012!AS$271","v":1.1233584219540918E-2},{"$f":"Baseline_Data_2012!AT158/Baseline_Data_2012!AT$271","v":6.0925542057156268E-3},{"$f":"Baseline_Data_2012!AU158/Baseline_Data_2012!AU$271","v":1.1062456953141609E-2},{"$f":"Baseline_Data_2012!AV158/Baseline_Data_2012!AV$271","v":8.2087361707631566E-3},162]
[3,"Male 60-64",{"$f":"'III Tool Overview'!$H$8/100","v":1000},0,0,{"$f":"G163*'III Tool Overview'!$H$8","v":881.97113555470162},{"$f":"HLOOKUP('III Tool Overview'!$H$6,Targeting!$I$1:$BC$277,Targeting!BD163,FALSE)","v":8.8197113555470164E-3},{"$f":"Baseline_Data_2012!B159","v":12843.962832214975},{"$f":"Baseline_Data_2012!B159/Baseline_Data_2012!B$271","v":8.8197113555470164E-3},{"$f":"Baseline_Data_2012!C159/Baseline_Data_2012!C$271","v":9.5884893137690077E-3},{"$f":"Baseline_Data_2012!D159/Baseline_Data_2012!D$271","v":1.7134536131257084E-2},{"$f":"Baseline_Data_2012!E159/Baseline_Data_2012!E$271","v":1.9785466628462995E-2},{"$f":"Baseline_Data_2012!F159/Baseline_Data_2012!F$271","v":9.1632727177098361E-3},{"$f":"Baseline_Data_2012!G159/Baseline_Data_2012!G$271","v":8.2024530749749084E-3},{"$f":"Baseline_Data_2012!H159/Baseline_Data_2012!H$271","v":8.6044204649173596E-3},{"$f":"Baseline_Data_2012!I159/Baseline_Data_2012!I$271","v":5.3347092425858958E-3},{"$f":"Baseline_Data_2012!J159/Baseline_Data_2012!J$271","v":1.7415336476340647E-2},{"$f":"Baseline_Data_2012!K159/Baseline_Data_2012!K$271","v":9.0200162319975363E-3},{"$f":"Baseline_Data_2012!L159/Baseline_Data_2012!L$271","v":6.2512265700467489E-3},{"$f":"Baseline_Data_2012!M159/Baseline_Data_2012!M$271","v":8.3663059080522524E-3},{"$f":"Baseline_Data_2012!N159/Baseline_Data_2012!N$271","v":1.910976523388111E-2},{"$f":"Baseline_Data_2012!O159/Baseline_Data_2012!O$271","v":8.0337392543764485E-3},{"$f":"Baseline_Data_2012!P159/Baseline_Data_2012!P$271","v":2.715909221508702E-2},{"$f":"Baseline_Data_2012!Q159/Baseline_Data_2012!Q$271","v":5.7379760267707988E-3},{"$f":"Baseline_Data_2012!R159/Baseline_Data_2012!R$271","v":8.7818642718735292E-3},{"$f":"Baseline_Data_2012!S159/Baseline_Data_2012!S$271","v":1.1793817647823269E-2},{"$f":"Baseline_Data_2012!T159/Baseline_Data_2012!T$271","v":2.0167348582155419E-2},{"$f":"Baseline_Data_2012!U159/Baseline_Data_2012!U$271","v":1.1612370695943211E-2},{"$f":"Baseline_Data_2012!V159/Baseline_Data_2012!V$271","v":1.9785466628462992E-2},{"$f":"Baseline_Data_2012!W159/Baseline_Data_2012!W$271","v":4.8147072704622616E-3},{"$f":"Baseline_Data_2012!X159/Baseline_Data_2012!X$271","v":6.496129197601134E-3},{"$f":"Baseline_Data_2012!Y159/Baseline_Data_2012!Y$271","v":3.2945230137367558E-3},{"$f":"Baseline_Data_2012!Z159/Baseline_Data_2012!Z$271","v":8.0535696086530845E-3},{"$f":"Baseline_Data_2012!AA159/Baseline_Data_2012!AA$271","v":2.8203423102145546E-3},{"$f":"Baseline_Data_2012!AB159/Baseline_Data_2012!AB$271","v":4.2298580930470999E-3},{"$f":"Baseline_Data_2012!AC159/Baseline_Data_2012!AC$271","v":2.7159092215087003E-2},{"$f":"Baseline_Data_2012!AD159/Baseline_Data_2012!AD$271","v":8.1687537131814487E-3},{"$f":"Baseline_Data_2012!AE159/Baseline_Data_2012!AE$271","v":9.1632727177098361E-3},{"$f":"Baseline_Data_2012!AF159/Baseline_Data_2012!AF$271","v":3.764565652544228E-3},{"$f":"Baseline_Data_2012!AG159/Baseline_Data_2012!AG$271","v":1.6346943755540966E-2},{"$f":"Baseline_Data_2012!AH159/Baseline_Data_2012!AH$271","v":6.4327589736068785E-3},{"$f":"Baseline_Data_2012!AI159/Baseline_Data_2012!AI$271","v":1.226851301728883E-2},{"$f":"Baseline_Data_2012!AJ159/Baseline_Data_2012!AJ$271","v":1.4756209213050269E-2},{"$f":"Baseline_Data_2012!AK159/Baseline_Data_2012!AK$271","v":9.6771095280533438E-3},{"$f":"Baseline_Data_2012!AL159/Baseline_Data_2012!AL$271","v":8.1547354126968348E-3},{"$f":"Baseline_Data_2012!AM159/Baseline_Data_2012!AM$271","v":8.3663059080522541E-3},{"$f":"Baseline_Data_2012!AN159/Baseline_Data_2012!AN$271","v":7.9360432180126152E-3},{"$f":"Baseline_Data_2012!AO159/Baseline_Data_2012!AO$271","v":9.7540637591123722E-3},{"$f":"Baseline_Data_2012!AP159/Baseline_Data_2012!AP$271","v":1.7134536131257084E-2},{"$f":"Baseline_Data_2012!AQ159/Baseline_Data_2012!AQ$271","v":1.9109765233881113E-2},{"$f":"Baseline_Data_2012!AR159/Baseline_Data_2012!AR$271","v":1.2521328897903593E-2},{"$f":"Baseline_Data_2012!AS159/Baseline_Data_2012!AS$271","v":9.5070742853177355E-3},{"$f":"Baseline_Data_2012!AT159/Baseline_Data_2012!AT$271","v":6.3893709490710042E-3},{"$f":"Baseline_Data_2012!AU159/Baseline_Data_2012!AU$271","v":1.0242395847689358E-2},{"$f":"Baseline_Data_2012!AV159/Baseline_Data_2012!AV$271","v":8.0672062367844796E-3},163]
[3,"Male 65-69",null,0,0,{"$f":"G164*'III Tool Overview'!$H$8","v":0},{"$f":"HLOOKUP('III Tool Overview'!$H$6,Targeting!$I$1:$BC$277,Targeting!BD164,FALSE)","v":0},{"$f":"Baseline_Data_2012!B160","v":0},{"$f":"Baseline_Data_2012!B160/Baseline_Data_2012!B$271","v":0},{"$f":"Baseline_Data_2012!C160/Baseline_Data_2012!C$271","v":0},{"$f":"Baseline_Data_2012!D160/Baseline_Data_2012!D$271","v":0},{"$f":"Baseline_Data_2012!E160/Baseline_Data_2012!E$271","v":0},{"$f":"Baseline_Data_2012!F160/Baseline_Data_2012!F$271","v":0},{"$f":"Baseline_Data_2012!G160/Baseline_Data_2012!G$271","v":0},{"$f":"Baseline_Data_2012!H160/Baseline_Data_2012!H$271","v":0},{"$f":"Baseline_Data_2012!I160/Baseline_Data_2012!I$271","v":0},{"$f":"Baseline_Data_2012!J160/Baseline_Data_2012!J$271","v":0},{"$f":"Baseline_Data_2012!K160/Baseline_Data_2012!K$271","v":0},{"$f":"Baseline_Data_2012!L160/Baseline_Data_2012!L$271","v":0},{"$f":"Baseline_Data_2012!M160/Baseline_Data_2012!M$271","v":0},{"$f":"Baseline_Data_2012!N160/Baseline_Data_2012!N$271","v":0},{"$f":"Baseline_Data_2012!O160/Baseline_Data_2012!O$271","v":0},{"$f":"Baseline_Data_2012!P160/Baseline_Data_2012!P$271","v":0},{"$f":"Baseline_Data_2012!Q160/Baseline_Data_2012!Q$271","v":0},{"$f":"Baseline_Data_2012!R160/Baseline_Data_2012!R$271","v":0},{"$f":"Baseline_Data_2012!S160/Baseline_Data_2012!S$271","v":0},{"$f":"Baseline_Data_2012!T160/Baseline_Data_2012!T$271","v":0},{"$f":"Baseline_Data_2012!U160/Baseline_Data_2012!U$271","v":0},{"$f":"Baseline_Data_2012!V160/Baseline_Data_2012!V$271","v":0},{"$f":"Baseline_Data_2012!W160/Baseline_Data_2012!W$271","v":0},{"$f":"Baseline_Data_2012!X160/Baseline_Data_2012!X$271","v":0},{"$f":"Baseline_Data_2012!Y160/Baseline_Data_2012!Y$271","v":0},{"$f":"Baseline_Data_2012!Z160/Baseline_Data_2012!Z$271","v":0},{"$f":"Baseline_Data_2012!AA160/Baseline_Data_2012!AA$271","v":0},{"$f":"Baseline_Data_2012!AB160/Baseline_Data_2012!AB$271","v":0},{"$f":"Baseline_Data_2012!AC160/Baseline_Data_2012!AC$271","v":0},{"$f":"Baseline_Data_2012!AD160/Baseline_Data_2012!AD$271","v":0},{"$f":"Baseline_Data_2012!AE160/Baseline_Data_2012!AE$271","v":0},{"$f":"Baseline_Data_2012!AF160/Baseline_Data_2012!AF$271","v":0},{"$f":"Baseline_Data_2012!AG160/Baseline_Data_2012!AG$271","v":0},{"$f":"Baseline_Data_2012!AH160/Baseline_Data_2012!AH$271","v":0},{"$f":"Baseline_Data_2012!AI160/Baseline_Data_2012!AI$271","v":0},{"$f":"Baseline_Data_2012!AJ160/Baseline_Data_2012!AJ$271","v":0},{"$f":"Baseline_Data_2012!AK160/Baseline_Data_2012!AK$271","v":0},{"$f":"Baseline_Data_2012!AL160/Baseline_Data_2012!AL$271","v":0},{"$f":"Baseline_Data_2012!AM160/Baseline_Data_2012!AM$271","v":0},{"$f":"Baseline_Data_2012!AN160/Baseline_Data_2012!AN$271","v":0},{"$f":"Baseline_Data_2012!AO160/Baseline_Data_2012!AO$271","v":0},{"$f":"Baseline_Data_2012!AP160/Baseline_Data_2012!AP$271","v":0},{"$f":"Baseline_Data_2012!AQ160/Baseline_Data_2012!AQ$271","v":0},{"$f":"Baseline_Data_2012!AR160/Baseline_Data_2012!AR$271","v":0},{"$f":"Baseline_Data_2012!AS160/Baseline_Data_2012!AS$271","v":0},{"$f":"Baseline_Data_2012!AT160/Baseline_Data_2012!AT$271","v":0},{"$f":"Baseline_Data_2012!AU160/Baseline_Data_2012!AU$271","v":0},{"$f":"Baseline_Data_2012!AV160/Baseline_Data_2012!AV$271","v":0},164]
[3,"Male 70-74",null,null,null,{"$f":"G165*'III Tool Overview'!$H$8","v":0},{"$f":"HLOOKUP('III Tool Overview'!$H$6,Targeting!$I$1:$BC$277,Targeting!BD165,FALSE)","v":0},{"$f":"Baseline_Data_2012!B161","v":0},{"$f":"Baseline_Data_2012!B161/Baseline_Data_2012!B$271","v":0},{"$f":"Baseline_Data_2012!C161/Baseline_Data_2012!C$271","v":0},{"$f":"Baseline_Data_2012!D161/Baseline_Data_2012!D$271","v":0},{"$f":"Baseline_Data_2012!E161/Baseline_Data_2012!E$271","v":0},{"$f":"Baseline_Data_2012!F161/Baseline_Data_2012!F$271","v":0},{"$f":"Baseline_Data_2012!G161/Baseline_Data_2012!G$271","v":0},{"$f":"Baseline_Data_2012!H161/Baseline_Data_2012!H$271","v":0},{"$f":"Baseline_Data_2012!I161/Baseline_Data_2012!I$271","v":0},{"$f":"Baseline_Data_2012!J161/Baseline_Data_2012!J$271","v":0},{"$f":"Baseline_Data_2012!K161/Baseline_Data_2012!K$271","v":0},{"$f":"Baseline_Data_2012!L161/Baseline_Data_2012!L$271","v":0},{"$f":"Baseline_Data_2012!M161/Baseline_Data_2012!M$271","v":0},{"$f":"Baseline_Data_2012!N161/Baseline_Data_2012!N$271","v":0},{"$f":"Baseline_Data_2012!O161/Baseline_Data_2012!O$271","v":0},{"$f":"Baseline_Data_2012!P161/Baseline_Data_2012!P$271","v":0},{"$f":"Baseline_Data_2012!Q161/Baseline_Data_2012!Q$271","v":0},{"$f":"Baseline_Data_2012!R161/Baseline_Data_2012!R$271","v":0},{"$f":"Baseline_Data_2012!S161/Baseline_Data_2012!S$271","v":0},{"$f":"Baseline_Data_2012!T161/Baseline_Data_2012!T$271","v":0},{"$f":"Baseline_Data_2012!U161/Baseline_Data_2012!U$271","v":0},{"$f":"Baseline_Data_2012!V161/Baseline_Data_2012!V$271","v":0},{"$f":"Baseline_Data_2012!W161/Baseline_Data_2012!W$271","v":0},{"$f":"Baseline_Data_2012!X161/Baseline_Data_2012!X$271","v":0},{"$f":"Baseline_Data_2012!Y161/Baseline_Data_2012!Y$271","v":0},{"$f":"Baseline_Data_2012!Z161/Baseline_Data_2012!Z$271","v":0},{"$f":"Baseline_Data_2012!AA161/Baseline_Data_2012!AA$271","v":0},{"$f":"Baseline_Data_2012!AB161/Baseline_Data_2012!AB$271","v":0},{"$f":"Baseline_Data_2012!AC161/Baseline_Data_2012!AC$271","v":0},{"$f":"Baseline_Data_2012!AD161/Baseline_Data_2012!AD$271","v":0},{"$f":"Baseline_Data_2012!AE161/Baseline_Data_2012!AE$271","v":0},{"$f":"Baseline_Data_2012!AF161/Baseline_Data_2012!AF$271","v":0},{"$f":"Baseline_Data_2012!AG161/Baseline_Data_2012!AG$271","v":0},{"$f":"Baseline_Data_2012!AH161/Baseline_Data_2012!AH$271","v":0},{"$f":"Baseline_Data_2012!AI161/Baseline_Data_2012!AI$271","v":0},{"$f":"Baseline_Data_2012!AJ161/Baseline_Data_2012!AJ$271","v":0},{"$f":"Baseline_Data_2012!AK161/Baseline_Data_2012!AK$271","v":0},{"$f":"Baseline_Data_2012!AL161/Baseline_Data_2012!AL$271","v":0},{"$f":"Baseline_Data_2012!AM161/Baseline_Data_2012!AM$271","v":0},{"$f":"Baseline_Data_2012!AN161/Baseline_Data_2012!AN$271","v":0},{"$f":"Baseline_Data_2012!AO161/Baseline_Data_2012!AO$271","v":0},{"$f":"Baseline_Data_2012!AP161/Baseline_Data_2012!AP$271","v":0},{"$f":"Baseline_Data_2012!AQ161/Baseline_Data_2012!AQ$271","v":0},{"$f":"Baseline_Data_2012!AR161/Baseline_Data_2012!AR$271","v":0},{"$f":"Baseline_Data_2012!AS161/Baseline_Data_2012!AS$271","v":0},{"$f":"Baseline_Data_2012!AT161/Baseline_Data_2012!AT$271","v":0},{"$f":"Baseline_Data_2012!AU161/Baseline_Data_2012!AU$271","v":0},{"$f":"Baseline_Data_2012!AV161/Baseline_Data_2012!AV$271","v":0},165]
[3,"Male 75-79",null,null,null,{"$f":"G166*'III Tool Overview'!$H$8","v":0},{"$f":"HLOOKUP('III Tool Overview'!$H$6,Targeting!$I$1:$BC$277,Targeting!BD166,FALSE)","v":0},{"$f":"Baseline_Data_2012!B162","v":0},{"$f":"Baseline_Data_2012!B162/Baseline_Data_2012!B$271","v":0},{"$f":"Baseline_Data_2012!C162/Baseline_Data_2012!C$271","v":0},{"$f":"Baseline_Data_2012!D162/Baseline_Data_2012!D$271","v":0},{"$f":"Baseline_Data_2012!E162/Baseline_Data_2012!E$271","v":0},{"$f":"Baseline_Data_2012!F162/Baseline_Data_2012!F$271","v":0},{"$f":"Baseline_Data_2012!G162/Baseline_Data_2012!G$271","v":0},{"$f":"Baseline_Data_2012!H162/Baseline_Data_2012!H$271","v":0},{"$f":"Baseline_Data_2012!I162/Baseline_Data_2012!I$271","v":0},{"$f":"Baseline_Data_2012!J162/Baseline_Data_2012!J$271","v":0},{"$f":"Baseline_Data_2012!K162/Baseline_Data_2012!K$271","v":0},{"$f":"Baseline_Data_2012!L162/Baseline_Data_2012!L$271","v":0},{"$f":"Baseline_Data_2012!M162/Baseline_Data_2012!M$271","v":0},{"$f":"Baseline_Data_2012!N162/Baseline_Data_2012!N$271","v":0},{"$f":"Baseline_Data_2012!O162/Baseline_Data_2012!O$271","v":0},{"$f":"Baseline_Data_2012!P162/Baseline_Data_2012!P$271","v":0},{"$f":"Baseline_Data_2012!Q162/Baseline_Data_2012!Q$271","v":0},{"$f":"Baseline_Data_2012!R162/Baseline_Data_2012!R$271","v":0},{"$f":"Baseline_Data_2012!S162/Baseline_Data_2012!S$271","v":0},{"$f":"Baseline_Data_2012!T162/Baseline_Data_2012!T$271","v":0},{"$f":"Baseline_Data_2012!U162/Baseline_Data_2012!U$271","v":0},{"$f":"Baseline_Data_2012!V162/Baseline_Data_2012!V$271","v":0},{"$f":"Baseline_Data_2012!W162/Baseline_Data_2012!W$271","v":0},{"$f":"Baseline_Data_2012!X162/Baseline_Data_2012!X$271","v":0},{"$f":"Baseline_Data_2012!Y162/Baseline_Data_2012!Y$271","v":0},{"$f":"Baseline_Data_2012!Z162/Baseline_Data_2012!Z$271","v":0},{"$f":"Baseline_Data_2012!AA162/Baseline_Data_2012!AA$271","v":0},{"$f":"Baseline_Data_2012!AB162/Baseline_Data_2012!AB$271","v":0},{"$f":"Baseline_Data_2012!AC162/Baseline_Data_2012!AC$271","v":0},{"$f":"Baseline_Data_2012!AD162/Baseline_Data_2012!AD$271","v":0},{"$f":"Baseline_Data_2012!AE162/Baseline_Data_2012!AE$271","v":0},{"$f":"Baseline_Data_2012!AF162/Baseline_Data_2012!AF$271","v":0},{"$f":"Baseline_Data_2012!AG162/Baseline_Data_2012!AG$271","v":0},{"$f":"Baseline_Data_2012!AH162/Baseline_Data_2012!AH$271","v":0},{"$f":"Baseline_Data_2012!AI162/Baseline_Data_2012!AI$271","v":0},{"$f":"Baseline_Data_2012!AJ162/Baseline_Data_2012!AJ$271","v":0},{"$f":"Baseline_Data_2012!AK162/Baseline_Data_2012!AK$271","v":0},{"$f":"Baseline_Data_2012!AL162/Baseline_Data_2012!AL$271","v":0},{"$f":"Baseline_Data_2012!AM162/Baseline_Data_2012!AM$271","v":0},{"$f":"Baseline_Data_2012!AN162/Baseline_Data_2012!AN$271","v":0},{"$f":"Baseline_Data_2012!AO162/Baseline_Data_2012!AO$271","v":0},{"$f":"Baseline_Data_2012!AP162/Baseline_Data_2012!AP$271","v":0},{"$f":"Baseline_Data_2012!AQ162/Baseline_Data_2012!AQ$271","v":0},{"$f":"Baseline_Data_2012!AR162/Baseline_Data_2012!AR$271","v":0},{"$f":"Baseline_Data_2012!AS162/Baseline_Data_2012!AS$271","v":0},{"$f":"Baseline_Data_2012!AT162/Baseline_Data_2012!AT$271","v":0},{"$f":"Baseline_Data_2012!AU162/Baseline_Data_2012!AU$271","v":0},{"$f":"Baseline_Data_2012!AV162/Baseline_Data_2012!AV$271","v":0},166]
[3,"Male 80-84",null,null,null,{"$f":"G167*'III Tool Overview'!$H$8","v":0},{"$f":"HLOOKUP('III Tool Overview'!$H$6,Targeting!$I$1:$BC$277,Targeting!BD167,FALSE)","v":0},{"$f":"Baseline_Data_2012!B163","v":0},{"$f":"Baseline_Data_2012!B163/Baseline_Data_2012!B$271","v":0},{"$f":"Baseline_Data_2012!C163/Baseline_Data_2012!C$271","v":0},{"$f":"Baseline_Data_2012!D163/Baseline_Data_2012!D$271","v":0},{"$f":"Baseline_Data_2012!E163/Baseline_Data_2012!E$271","v":0},{"$f":"Baseline_Data_2012!F163/Baseline_Data_2012!F$271","v":0},{"$f":"Baseline_Data_2012!G163/Baseline_Data_2012!G$271","v":0},{"$f":"Baseline_Data_2012!H163/Baseline_Data_2012!H$271","v":0},{"$f":"Baseline_Data_2012!I163/Baseline_Data_2012!I$271","v":0},{"$f":"Baseline_Data_2012!J163/Baseline_Data_2012!J$271","v":0},{"$f":"Baseline_Data_2012!K163/Baseline_Data_2012!K$271","v":0},{"$f":"Baseline_Data_2012!L163/Baseline_Data_2012!L$271","v":0},{"$f":"Baseline_Data_2012!M163/Baseline_Data_2012!M$271","v":0},{"$f":"Baseline_Data_2012!N163/Baseline_Data_2012!N$271","v":0},{"$f":"Baseline_Data_2012!O163/Baseline_Data_2012!O$271","v":0},{"$f":"Baseline_Data_2012!P163/Baseline_Data_2012!P$271","v":0},{"$f":"Baseline_Data_2012!Q163/Baseline_Data_2012!Q$271","v":0},{"$f":"Baseline_Data_2012!R163/Baseline_Data_2012!R$271","v":0},{"$f":"Baseline_Data_2012!S163/Baseline_Data_2012!S$271","v":0},{"$f":"Baseline_Data_2012!T163/Baseline_Data_2012!T$271","v":0},{"$f":"Baseline_Data_2012!U163/Baseline_Data_2012!U$271","v":0},{"$f":"Baseline_Data_2012!V163/Baseline_Data_2012!V$271","v":0},{"$f":"Baseline_Data_2012!W163/Baseline_Data_2012!W$271","v":0},{"$f":"Baseline_Data_2012!X163/Baseline_Data_2012!X$271","v":0},{"$f":"Baseline_Data_2012!Y163/Baseline_Data_2012!Y$271","v":0},{"$f":"Baseline_Data_2012!Z163/Baseline_Data_2012!Z$271","v":0},{"$f":"Baseline_Data_2012!AA163/Baseline_Data_2012!AA$271","v":0},{"$f":"Baseline_Data_2012!AB163/Baseline_Data_2012!AB$271","v":0},{"$f":"Baseline_Data_2012!AC163/Baseline_Data_2012!AC$271","v":0},{"$f":"Baseline_Data_2012!AD163/Baseline_Data_2012!AD$271","v":0},{"$f":"Baseline_Data_2012!AE163/Baseline_Data_2012!AE$271","v":0},{"$f":"Baseline_Data_2012!AF163/Baseline_Data_2012!AF$271","v":0},{"$f":"Baseline_Data_2012!AG163/Baseline_Data_2012!AG$271","v":0},{"$f":"Baseline_Data_2012!AH163/Baseline_Data_2012!AH$271","v":0},{"$f":"Baseline_Data_2012!AI163/Baseline_Data_2012!AI$271","v":0},{"$f":"Baseline_Data_2012!AJ163/Baseline_Data_2012!AJ$271","v":0},{"$f":"Baseline_Data_2012!AK163/Baseline_Data_2012!AK$271","v":0},{"$f":"Baseline_Data_2012!AL163/Baseline_Data_2012!AL$271","v":0},{"$f":"Baseline_Data_2012!AM163/Baseline_Data_2012!AM$271","v":0},{"$f":"Baseline_Data_2012!AN163/Baseline_Data_2012!AN$271","v":0},{"$f":"Baseline_Data_2012!AO163/Baseline_Data_2012!AO$271","v":0},{"$f":"Baseline_Data_2012!AP163/Baseline_Data_2012!AP$271","v":0},{"$f":"Baseline_Data_2012!AQ163/Baseline_Data_2012!AQ$271","v":0},{"$f":"Baseline_Data_2012!AR163/Baseline_Data_2012!AR$271","v":0},{"$f":"Baseline_Data_2012!AS163/Baseline_Data_2012!AS$271","v":0},{"$f":"Baseline_Data_2012!AT163/Baseline_Data_2012!AT$271","v":0},{"$f":"Baseline_Data_2012!AU163/Baseline_Data_2012!AU$271","v":0},{"$f":"Baseline_Data_2012!AV163/Baseline_Data_2012!AV$271","v":0},167]
[3,"Male 85-89",null,null,null,{"$f":"G168*'III Tool Overview'!$H$8","v":0},{"$f":"HLOOKUP('III Tool Overview'!$H$6,Targeting!$I$1:$BC$277,Targeting!BD168,FALSE)","v":0},{"$f":"Baseline_Data_2012!B164","v":0},{"$f":"Baseline_Data_2012!B164/Baseline_Data_2012!B$271","v":0},{"$f":"Baseline_Data_2012!C164/Baseline_Data_2012!C$271","v":0},{"$f":"Baseline_Data_2012!D164/Baseline_Data_2012!D$271","v":0},{"$f":"Baseline_Data_2012!E164/Baseline_Data_2012!E$271","v":0},{"$f":"Baseline_Data_2012!F164/Baseline_Data_2012!F$271","v":0},{"$f":"Baseline_Data_2012!G164/Baseline_Data_2012!G$271","v":0},{"$f":"Baseline_Data_2012!H164/Baseline_Data_2012!H$271","v":0},{"$f":"Baseline_Data_2012!I164/Baseline_Data_2012!I$271","v":0},{"$f":"Baseline_Data_2012!J164/Baseline_Data_2012!J$271","v":0},{"$f":"Baseline_Data_2012!K164/Baseline_Data_2012!K$271","v":0},{"$f":"Baseline_Data_2012!L164/Baseline_Data_2012!L$271","v":0},{"$f":"Baseline_Data_2012!M164/Baseline_Data_2012!M$271","v":0},{"$f":"Baseline_Data_2012!N164/Baseline_Data_2012!N$271","v":0},{"$f":"Baseline_Data_2012!O164/Baseline_Data_2012!O$271","v":0},{"$f":"Baseline_Data_2012!P164/Baseline_Data_2012!P$271","v":0},{"$f":"Baseline_Data_2012!Q164/Baseline_Data_2012!Q$271","v":0},{"$f":"Baseline_Data_2012!R164/Baseline_Data_2012!R$271","v":0},{"$f":"Baseline_Data_2012!S164/Baseline_Data_2012!S$271","v":0},{"$f":"Baseline_Data_2012!T164/Baseline_Data_2012!T$271","v":0},{"$f":"Baseline_Data_2012!U164/Baseline_Data_2012!U$271","v":0},{"$f":"Baseline_Data_2012!V164/Baseline_Data_2012!V$271","v":0},{"$f":"Baseline_Data_2012!W164/Baseline_Data_2012!W$271","v":0},{"$f":"Baseline_Data_2012!X164/Baseline_Data_2012!X$271","v":0},{"$f":"Baseline_Data_2012!Y164/Baseline_Data_2012!Y$271","v":0},{"$f":"Baseline_Data_2012!Z164/Baseline_Data_2012!Z$271","v":0},{"$f":"Baseline_Data_2012!AA164/Baseline_Data_2012!AA$271","v":0},{"$f":"Baseline_Data_2012!AB164/Baseline_Data_2012!AB$271","v":0},{"$f":"Baseline_Data_2012!AC164/Baseline_Data_2012!AC$271","v":0},{"$f":"Baseline_Data_2012!AD164/Baseline_Data_2012!AD$271","v":0},{"$f":"Baseline_Data_2012!AE164/Baseline_Data_2012!AE$271","v":0},{"$f":"Baseline_Data_2012!AF164/Baseline_Data_2012!AF$271","v":0},{"$f":"Baseline_Data_2012!AG164/Baseline_Data_2012!AG$271","v":0},{"$f":"Baseline_Data_2012!AH164/Baseline_Data_2012!AH$271","v":0},{"$f":"Baseline_Data_2012!AI164/Baseline_Data_2012!AI$271","v":0},{"$f":"Baseline_Data_2012!AJ164/Baseline_Data_2012!AJ$271","v":0},{"$f":"Baseline_Data_2012!AK164/Baseline_Data_2012!AK$271","v":0},{"$f":"Baseline_Data_2012!AL164/Baseline_Data_2012!AL$271","v":0},{"$f":"Baseline_Data_2012!AM164/Baseline_Data_2012!AM$271","v":0},{"$f":"Baseline_Data_2012!AN164/Baseline_Data_2012!AN$271","v":0},{"$f":"Baseline_Data_2012!AO164/Baseline_Data_2012!AO$271","v":0},{"$f":"Baseline_Data_2012!AP164/Baseline_Data_2012!AP$271","v":0},{"$f":"Baseline_Data_2012!AQ164/Baseline_Data_2012!AQ$271","v":0},{"$f":"Baseline_Data_2012!AR164/Baseline_Data_2012!AR$271","v":0},{"$f":"Baseline_Data_2012!AS164/Baseline_Data_2012!AS$271","v":0},{"$f":"Baseline_Data_2012!AT164/Baseline_Data_2012!AT$271","v":0},{"$f":"Baseline_Data_2012!AU164/Baseline_Data_2012!AU$271","v":0},{"$f":"Baseline_Data_2012!AV164/Baseline_Data_2012!AV$271","v":0},168]
[3,"Male 90+",null,null,null,{"$f":"G169*'III Tool Overview'!$H$8","v":0},{"$f":"HLOOKUP('III Tool Overview'!$H$6,Targeting!$I$1:$BC$277,Targeting!BD169,FALSE)","v":0},{"$f":"Baseline_Data_2012!B165","v":0},{"$f":"Baseline_Data_2012!B165/Baseline_Data_2012!B$271","v":0},{"$f":"Baseline_Data_2012!C165/Baseline_Data_2012!C$271","v":0},{"$f":"Baseline_Data_2012!D165/Baseline_Data_2012!D$271","v":0},{"$f":"Baseline_Data_2012!E165/Baseline_Data_2012!E$271","v":0},{"$f":"Baseline_Data_2012!F165/Baseline_Data_2012!F$271","v":0},{"$f":"Baseline_Data_2012!G165/Baseline_Data_2012!G$271","v":0},{"$f":"Baseline_Data_2012!H165/Baseline_Data_2012!H$271","v":0},{"$f":"Baseline_Data_2012!I165/Baseline_Data_2012!I$271","v":0},{"$f":"Baseline_Data_2012!J165/Baseline_Data_2012!J$271","v":0},{"$f":"Baseline_Data_2012!K165/Baseline_Data_2012!K$271","v":0},{"$f":"Baseline_Data_2012!L165/Baseline_Data_2012!L$271","v":0},{"$f":"Baseline_Data_2012!M165/Baseline_Data_2012!M$271","v":0},{"$f":"Baseline_Data_2012!N165/Baseline_Data_2012!N$271","v":0},{"$f":"Baseline_Data_2012!O165/Baseline_Data_2012!O$271","v":0},{"$f":"Baseline_Data_2012!P165/Baseline_Data_2012!P$271","v":0},{"$f":"Baseline_Data_2012!Q165/Baseline_Data_2012!Q$271","v":0},{"$f":"Baseline_Data_2012!R165/Baseline_Data_2012!R$271","v":0},{"$f":"Baseline_Data_2012!S165/Baseline_Data_2012!S$271","v":0},{"$f":"Baseline_Data_2012!T165/Baseline_Data_2012!T$271","v":0},{"$f":"Baseline_Data_2012!U165/Baseline_Data_2012!U$271","v":0},{"$f":"Baseline_Data_2012!V165/Baseline_Data_2012!V$271","v":0},{"$f":"Baseline_Data_2012!W165/Baseline_Data_2012!W$271","v":0},{"$f":"Baseline_Data_2012!X165/Baseline_Data_2012!X$271","v":0},{"$f":"Baseline_Data_2012!Y165/Baseline_Data_2012!Y$271","v":0},{"$f":"Baseline_Data_2012!Z165/Baseline_Data_2012!Z$271","v":0},{"$f":"Baseline_Data_2012!AA165/Baseline_Data_2012!AA$271","v":0},{"$f":"Baseline_Data_2012!AB165/Baseline_Data_2012!AB$271","v":0},{"$f":"Baseline_Data_2012!AC165/Baseline_Data_2012!AC$271","v":0},{"$f":"Baseline_Data_2012!AD165/Baseline_Data_2012!AD$271","v":0},{"$f":"Baseline_Data_2012!AE165/Baseline_Data_2012!AE$271","v":0},{"$f":"Baseline_Data_2012!AF165/Baseline_Data_2012!AF$271","v":0},{"$f":"Baseline_Data_2012!AG165/Baseline_Data_2012!AG$271","v":0},{"$f":"Baseline_Data_2012!AH165/Baseline_Data_2012!AH$271","v":0},{"$f":"Baseline_Data_2012!AI165/Baseline_Data_2012!AI$271","v":0},{"$f":"Baseline_Data_2012!AJ165/Baseline_Data_2012!AJ$271","v":0},{"$f":"Baseline_Data_2012!AK165/Baseline_Data_2012!AK$271","v":0},{"$f":"Baseline_Data_2012!AL165/Baseline_Data_2012!AL$271","v":0},{"$f":"Baseline_Data_2012!AM165/Baseline_Data_2012!AM$271","v":0},{"$f":"Baseline_Data_2012!AN165/Baseline_Data_2012!AN$271","v":0},{"$f":"Baseline_Data_2012!AO165/Baseline_Data_2012!AO$271","v":0},{"$f":"Baseline_Data_2012!AP165/Baseline_Data_2012!AP$271","v":0},{"$f":"Baseline_Data_2012!AQ165/Baseline_Data_2012!AQ$271","v":0},{"$f":"Baseline_Data_2012!AR165/Baseline_Data_2012!AR$271","v":0},{"$f":"Baseline_Data_2012!AS165/Baseline_Data_2012!AS$271","v":0},{"$f":"Baseline_Data_2012!AT165/Baseline_Data_2012!AT$271","v":0},{"$f":"Baseline_Data_2012!AU165/Baseline_Data_2012!AU$271","v":0},{"$f":"Baseline_Data_2012!AV165/Baseline_Data_2012!AV$271","v":0},169]
[null,"TOTAL",null,null,null,null,{"$f":"HLOOKUP('III Tool Overview'!$H$6,Targeting!$I$1:$BC$277,Targeting!BD170,FALSE)","v":0},null,null,null,null,null,null,null,null,null,null,null,null,null,null,null,null,null,null,null,null,null,null,null,null,null,null,null,null,null,null,null,null,null,null,null,null,null,null,null,null,null,null,null,null,null,null,null,null,170]
[3,"Female <1",null,null,null,null,{"$f":"HLOOKUP('III Tool Overview'!$H$6,Targeting!$I$1:$BC$277,Targeting!BD171,FALSE)","v":0},null,null,null,null,null,null,null,null,null,null,null,null,null,null,null,null,null,null,null,null,null,null,null,null,null,null,null,null,null,null,null,null,null,null,null,null,null,null,null,null,null,null,null,null,null,null,null,null,171]
[3,"Female 1-4",null,null,null,null,{"$f":"HLOOKUP('III Tool Overview'!$H$6,Targeting!$I$1:$BC$277,Targeting!BD172,FALSE)","v":0},null,null,null,null,null,null,null,null,null,null,null,null,null,null,null,null,null,null,null,null,null,null,null,null,null,null,null,null,null,null,null,null,null,null,null,null,null,null,null,null,null,null,null,null,null,null,null,null,172]
[3,"Female 5-9",null,null,null,null,{"$f":"HLOOKUP('III Tool Overview'!$H$6,Targeting!$I$1:$BC$277,Targeting!BD173,FALSE)","v":0},null,null,null,null,null,null,null,null,null,null,null,null,null,null,null,null,null,null,null,null,null,null,null,null,null,null,null,null,null,null,null,null,null,null,null,null,null,null,null,null,null,null,null,null,null,null,null,null,173]
[3,"Female 10-14",null,null,null,null,{"$f":"HLOOKUP('III Tool Overview'!$H$6,Targeting!$I$1:$BC$277,Targeting!BD174,FALSE)","v":0},null,null,null,null,null,null,null,null,null,null,null,null,null,null,null,null,null,null,null,null,null,null,null,null,null,null,null,null,null,null,null,null,null,null,null,null,null,null,null,null,null,null,null,null,null,null,null,null,174]
[3,"Female 15-19",{"$f":"'III Tool Overview'!$H$8/100","v":1000},0,0,{"$f":"G175*'III Tool Overview'!$H$8","v":438.25963755103101},{"$f":"HLOOKUP('III Tool Overview'!$H$6,Targeting!$I$1:$BC$277,Targeting!BD175,FALSE)","v":4.3825963755103102E-3},{"$f":"Baseline_Data_2012!B170","v":6382.2842592520728},{"$f":"Baseline_Data_2012!B170/Baseline_Data_2012!B$271","v":4.3825963755103102E-3},{"$f":"Baseline_Data_2012!C170/Baseline_Data_2012!C$271","v":3.7507933229583134E-3},{"$f":"Baseline_Data_2012!D170/Baseline_Data_2012!D$271","v":6.794965173493801E-3},{"$f":"Baseline_Data_2012!E170/Baseline_Data_2012!E$271","v":9.1367847186979156E-3},{"$f":"Baseline_Data_2012!F170/Baseline_Data_2012!F$271","v":4.066045964753291E-3},{"$f":"Baseline_Data_2012!G170/Baseline_Data_2012!G$271","v":3.993064055906788E-3},{"$f":"Baseline_Data_2012!H170/Baseline_Data_2012!H$271","v":4.5687876058050966E-3},{"$f":"Baseline_Data_2012!I170/Baseline_Data_2012!I$271","v":3.4471984692704674E-3},{"$f":"Baseline_Data_2012!J170/Baseline_Data_2012!J$271","v":6.7361157413107931E-3},{"$f":"Baseline_Data_2012!K170/Baseline_Data_2012!K$271","v":4.9885074852672436E-3},{"$f":"Baseline_Data_2012!L170/Baseline_Data_2012!L$271","v":3.4811790505132295E-3},{"$f":"Baseline_Data_2012!M170/Baseline_Data_2012!M$271","v":3.028271669089862E-3},{"$f":"Baseline_Data_2012!N170/Baseline_Data_2012!N$271","v":8.3214878120756383E-3},{"$f":"Baseline_Data_2012!O170/Baseline_Data_2012!O$271","v":4.2632697036378304E-3},{"$f":"Baseline_Data_2012!P170/Baseline_Data_2012!P$271","v":1.8486979547615748E-2},{"$f":"Baseline_Data_2012!Q170/Baseline_Data_2012!Q$271","v":3.4005568197024777E-3},{"$f":"Baseline_Data_2012!R170/Baseline_Data_2012!R$271","v":3.9459043484390199E-3},{"$f":"Baseline_Data_2012!S170/Baseline_Data_2012!S$271","v":5.2409032690965045E-3},{"$f":"Baseline_Data_2012!T170/Baseline_Data_2012!T$271","v":8.6039753272147933E-3},{"$f":"Baseline_Data_2012!U170/Baseline_Data_2012!U$271","v":5.7906024997954383E-3},{"$f":"Baseline_Data_2012!V170/Baseline_Data_2012!V$271","v":9.1367847186979156E-3},{"$f":"Baseline_Data_2012!W170/Baseline_Data_2012!W$271","v":4.9347320689590206E-3},{"$f":"Baseline_Data_2012!X170/Baseline_Data_2012!X$271","v":2.8419125748826942E-3},{"$f":"Baseline_Data_2012!Y170/Baseline_Data_2012!Y$271","v":2.1503549382850371E-3},{"$f":"Baseline_Data_2012!Z170/Baseline_Data_2012!Z$271","v":6.4008495815935504E-3},{"$f":"Baseline_Data_2012!AA170/Baseline_Data_2012!AA$271","v":1.6495503310702494E-3},{"$f":"Baseline_Data_2012!AB170/Baseline_Data_2012!AB$271","v":2.1744800106291069E-3},{"$f":"Baseline_Data_2012!AC170/Baseline_Data_2012!AC$271","v":1.8486979547615752E-2},{"$f":"Baseline_Data_2012!AD170/Baseline_Data_2012!AD$271","v":3.669804021212674E-3},{"$f":"Baseline_Data_2012!AE170/Baseline_Data_2012!AE$271","v":4.066045964753291E-3},{"$f":"Baseline_Data_2012!AF170/Baseline_Data_2012!AF$271","v":3.2849753565148644E-3},{"$f":"Baseline_Data_2012!AG170/Baseline_Data_2012!AG$271","v":6.1127699665261539E-3},{"$f":"Baseline_Data_2012!AH170/Baseline_Data_2012!AH$271","v":3.5405387523655355E-3},{"$f":"Baseline_Data_2012!AI170/Baseline_Data_2012!AI$271","v":5.2407980251715581E-3},{"$f":"Baseline_Data_2012!AJ170/Baseline_Data_2012!AJ$271","v":9.6225463930743015E-3},{"$f":"Baseline_Data_2012!AK170/Baseline_Data_2012!AK$271","v":3.525507587703472E-3},{"$f":"Baseline_Data_2012!AL170/Baseline_Data_2012!AL$271","v":4.4903686593975442E-3},{"$f":"Baseline_Data_2012!AM170/Baseline_Data_2012!AM$271","v":3.028271669089862E-3},{"$f":"Baseline_Data_2012!AN170/Baseline_Data_2012!AN$271","v":2.9998889076698625E-3},{"$f":"Baseline_Data_2012!AO170/Baseline_Data_2012!AO$271","v":4.6036312602448738E-3},{"$f":"Baseline_Data_2012!AP170/Baseline_Data_2012!AP$271","v":6.794965173493801E-3},{"$f":"Baseline_Data_2012!AQ170/Baseline_Data_2012!AQ$271","v":8.3214878120756383E-3},{"$f":"Baseline_Data_2012!AR170/Baseline_Data_2012!AR$271","v":5.1168577582554487E-3},{"$f":"Baseline_Data_2012!AS170/Baseline_Data_2012!AS$271","v":5.1608840048797287E-3},{"$f":"Baseline_Data_2012!AT170/Baseline_Data_2012!AT$271","v":3.5958465540830349E-3},{"$f":"Baseline_Data_2012!AU170/Baseline_Data_2012!AU$271","v":5.1238440198929577E-3},{"$f":"Baseline_Data_2012!AV170/Baseline_Data_2012!AV$271","v":5.029923194621878E-3},175]
[3,"Female 20-24",{"$f":"'III Tool Overview'!$H$8/100","v":1000},0,0,{"$f":"G176*'III Tool Overview'!$H$8","v":654.7919931828244},{"$f":"HLOOKUP('III Tool Overview'!$H$6,Targeting!$I$1:$BC$277,Targeting!BD176,FALSE)","v":6.547919931828244E-3},{"$f":"Baseline_Data_2012!B171","v":9535.6000715179234},{"$f":"Baseline_Data_2012!B171/Baseline_Data_2012!B$271","v":6.547919931828244E-3},{"$f":"Baseline_Data_2012!C171/Baseline_Data_2012!C$271","v":3.8083770306380641E-3},{"$f":"Baseline_Data_2012!D171/Baseline_Data_2012!D$271","v":6.6043746869201949E-3},{"$f":"Baseline_Data_2012!E171/Baseline_Data_2012!E$271","v":9.3982395018315755E-3},{"$f":"Baseline_Data_2012!F171/Baseline_Data_2012!F$271","v":5.3632360020160006E-3},{"$f":"Baseline_Data_2012!G171/Baseline_Data_2012!G$271","v":6.1083087990357887E-3},{"$f":"Baseline_Data_2012!H171/Baseline_Data_2012!H$271","v":7.1967164554262338E-3},{"$f":"Baseline_Data_2012!I171/Baseline_Data_2012!I$271","v":6.8138856301547326E-3},{"$f":"Baseline_Data_2012!J171/Baseline_Data_2012!J$271","v":6.4509235424149835E-3},{"$f":"Baseline_Data_2012!K171/Baseline_Data_2012!K$271","v":6.1023961370788929E-3},{"$f":"Baseline_Data_2012!L171/Baseline_Data_2012!L$271","v":7.3865397167278933E-3},{"$f":"Baseline_Data_2012!M171/Baseline_Data_2012!M$271","v":3.9535769013117643E-3},{"$f":"Baseline_Data_2012!N171/Baseline_Data_2012!N$271","v":8.6213612467450317E-3},{"$f":"Baseline_Data_2012!O171/Baseline_Data_2012!O$271","v":6.2034403472095365E-3},{"$f":"Baseline_Data_2012!P171/Baseline_Data_2012!P$271","v":1.4118165972930434E-2},{"$f":"Baseline_Data_2012!Q171/Baseline_Data_2012!Q$271","v":8.906912996204672E-3},{"$f":"Baseline_Data_2012!R171/Baseline_Data_2012!R$271","v":4.5892955171350606E-3},{"$f":"Baseline_Data_2012!S171/Baseline_Data_2012!S$271","v":5.8708195274013728E-3},{"$f":"Baseline_Data_2012!T171/Baseline_Data_2012!T$271","v":7.1534492273817515E-3},{"$f":"Baseline_Data_2012!U171/Baseline_Data_2012!U$271","v":5.7716789622144077E-3},{"$f":"Baseline_Data_2012!V171/Baseline_Data_2012!V$271","v":9.3982395018315755E-3},{"$f":"Baseline_Data_2012!W171/Baseline_Data_2012!W$271","v":9.5381321275736491E-3},{"$f":"Baseline_Data_2012!X171/Baseline_Data_2012!X$271","v":2.9264018676494769E-3},{"$f":"Baseline_Data_2012!Y171/Baseline_Data_2012!Y$271","v":2.850923062975185E-3},{"$f":"Baseline_Data_2012!Z171/Baseline_Data_2012!Z$271","v":8.032794234124483E-3},{"$f":"Baseline_Data_2012!AA171/Baseline_Data_2012!AA$271","v":1.9406474483179405E-3},{"$f":"Baseline_Data_2012!AB171/Baseline_Data_2012!AB$271","v":7.9540189862485743E-3},{"$f":"Baseline_Data_2012!AC171/Baseline_Data_2012!AC$271","v":1.4118165972930436E-2},{"$f":"Baseline_Data_2012!AD171/Baseline_Data_2012!AD$271","v":4.607387180237228E-3},{"$f":"Baseline_Data_2012!AE171/Baseline_Data_2012!AE$271","v":5.3632360020160006E-3},{"$f":"Baseline_Data_2012!AF171/Baseline_Data_2012!AF$271","v":8.8616001880210717E-3},{"$f":"Baseline_Data_2012!AG171/Baseline_Data_2012!AG$271","v":6.2160960308690564E-3},{"$f":"Baseline_Data_2012!AH171/Baseline_Data_2012!AH$271","v":4.85672416216685E-3},{"$f":"Baseline_Data_2012!AI171/Baseline_Data_2012!AI$271","v":6.147859221835866E-3},{"$f":"Baseline_Data_2012!AJ171/Baseline_Data_2012!AJ$271","v":9.8654866422957146E-3},{"$f":"Baseline_Data_2012!AK171/Baseline_Data_2012!AK$271","v":3.5896077256617168E-3},{"$f":"Baseline_Data_2012!AL171/Baseline_Data_2012!AL$271","v":5.3878480340752797E-3},{"$f":"Baseline_Data_2012!AM171/Baseline_Data_2012!AM$271","v":3.9535769013117643E-3},{"$f":"Baseline_Data_2012!AN171/Baseline_Data_2012!AN$271","v":3.6314444671793071E-3},{"$f":"Baseline_Data_2012!AO171/Baseline_Data_2012!AO$271","v":6.0708393755192222E-3},{"$f":"Baseline_Data_2012!AP171/Baseline_Data_2012!AP$271","v":6.6043746869201949E-3},{"$f":"Baseline_Data_2012!AQ171/Baseline_Data_2012!AQ$271","v":8.6213612467450317E-3},{"$f":"Baseline_Data_2012!AR171/Baseline_Data_2012!AR$271","v":5.1348748630380379E-3},{"$f":"Baseline_Data_2012!AS171/Baseline_Data_2012!AS$271","v":6.5999176542784165E-3},{"$f":"Baseline_Data_2012!AT171/Baseline_Data_2012!AT$271","v":8.9640049425146889E-3},{"$f":"Baseline_Data_2012!AU171/Baseline_Data_2012!AU$271","v":6.9655944049236062E-3},{"$f":"Baseline_Data_2012!AV171/Baseline_Data_2012!AV$271","v":6.0412305035934723E-3},176]
[3,"Female 25-29",{"$f":"'III Tool Overview'!$H$8/100","v":1000},0,0,{"$f":"G177*'III Tool Overview'!$H$8","v":1241.4168853624965},{"$f":"HLOOKUP('III Tool Overview'!$H$6,Targeting!$I$1:$BC$277,Targeting!BD177,FALSE)","v":1.2414168853624966E-2},{"$f":"Baseline_Data_2012!B172","v":18078.496780795227},{"$f":"Baseline_Data_2012!B172/Baseline_Data_2012!B$271","v":1.2414168853624966E-2},{"$f":"Baseline_Data_2012!C172/Baseline_Data_2012!C$271","v":6.8599139631386414E-3},{"$f":"Baseline_Data_2012!D172/Baseline_Data_2012!D$271","v":1.3559980193960392E-2},{"$f":"Baseline_Data_2012!E172/Baseline_Data_2012!E$271","v":1.7537399783865888E-2},{"$f":"Baseline_Data_2012!F172/Baseline_Data_2012!F$271","v":1.0964518415069201E-2},{"$f":"Baseline_Data_2012!G172/Baseline_Data_2012!G$271","v":1.0606995153010423E-2},{"$f":"Baseline_Data_2012!H172/Baseline_Data_2012!H$271","v":1.2873939733508848E-2},{"$f":"Baseline_Data_2012!I172/Baseline_Data_2012!I$271","v":1.2099265048445631E-2},{"$f":"Baseline_Data_2012!J172/Baseline_Data_2012!J$271","v":1.3866815178638612E-2},{"$f":"Baseline_Data_2012!K172/Baseline_Data_2012!K$271","v":1.2272946248136501E-2},{"$f":"Baseline_Data_2012!L172/Baseline_Data_2012!L$271","v":1.5240530470108819E-2},{"$f":"Baseline_Data_2012!M172/Baseline_Data_2012!M$271","v":7.980888222778466E-3},{"$f":"Baseline_Data_2012!N172/Baseline_Data_2012!N$271","v":1.5070556785635868E-2},{"$f":"Baseline_Data_2012!O172/Baseline_Data_2012!O$271","v":1.0194024566128404E-2},{"$f":"Baseline_Data_2012!P172/Baseline_Data_2012!P$271","v":3.2140332471411251E-2},{"$f":"Baseline_Data_2012!Q172/Baseline_Data_2012!Q$271","v":1.4000640389585796E-2},{"$f":"Baseline_Data_2012!R172/Baseline_Data_2012!R$271","v":8.860005288362038E-3},{"$f":"Baseline_Data_2012!S172/Baseline_Data_2012!S$271","v":1.2718155000121039E-2},{"$f":"Baseline_Data_2012!T172/Baseline_Data_2012!T$271","v":1.6397583927381082E-2},{"$f":"Baseline_Data_2012!U172/Baseline_Data_2012!U$271","v":1.3545493121653754E-2},{"$f":"Baseline_Data_2012!V172/Baseline_Data_2012!V$271","v":1.7537399783865884E-2},{"$f":"Baseline_Data_2012!W172/Baseline_Data_2012!W$271","v":1.0966382553231345E-2},{"$f":"Baseline_Data_2012!X172/Baseline_Data_2012!X$271","v":4.7187205628072063E-3},{"$f":"Baseline_Data_2012!Y172/Baseline_Data_2012!Y$271","v":3.7840401850249639E-3},{"$f":"Baseline_Data_2012!Z172/Baseline_Data_2012!Z$271","v":1.0952453317655413E-2},{"$f":"Baseline_Data_2012!AA172/Baseline_Data_2012!AA$271","v":3.2408702227378987E-3},{"$f":"Baseline_Data_2012!AB172/Baseline_Data_2012!AB$271","v":1.7279410255757827E-2},{"$f":"Baseline_Data_2012!AC172/Baseline_Data_2012!AC$271","v":3.2140332471411251E-2},{"$f":"Baseline_Data_2012!AD172/Baseline_Data_2012!AD$271","v":1.0114992372862567E-2},{"$f":"Baseline_Data_2012!AE172/Baseline_Data_2012!AE$271","v":1.0964518415069201E-2},{"$f":"Baseline_Data_2012!AF172/Baseline_Data_2012!AF$271","v":1.5139428715446346E-2},{"$f":"Baseline_Data_2012!AG172/Baseline_Data_2012!AG$271","v":1.3021783152228242E-2},{"$f":"Baseline_Data_2012!AH172/Baseline_Data_2012!AH$271","v":7.1463195578808396E-3},{"$f":"Baseline_Data_2012!AI172/Baseline_Data_2012!AI$271","v":1.1865831888206618E-2},{"$f":"Baseline_Data_2012!AJ172/Baseline_Data_2012!AJ$271","v":2.1253410225233298E-2},{"$f":"Baseline_Data_2012!AK172/Baseline_Data_2012!AK$271","v":6.1418139671703294E-3},{"$f":"Baseline_Data_2012!AL172/Baseline_Data_2012!AL$271","v":1.0920786117349078E-2},{"$f":"Baseline_Data_2012!AM172/Baseline_Data_2012!AM$271","v":7.980888222778466E-3},{"$f":"Baseline_Data_2012!AN172/Baseline_Data_2012!AN$271","v":7.7344241289234667E-3},{"$f":"Baseline_Data_2012!AO172/Baseline_Data_2012!AO$271","v":1.2723880562680282E-2},{"$f":"Baseline_Data_2012!AP172/Baseline_Data_2012!AP$271","v":1.3559980193960392E-2},{"$f":"Baseline_Data_2012!AQ172/Baseline_Data_2012!AQ$271","v":1.5070556785635868E-2},{"$f":"Baseline_Data_2012!AR172/Baseline_Data_2012!AR$271","v":1.0307179008483977E-2},{"$f":"Baseline_Data_2012!AS172/Baseline_Data_2012!AS$271","v":1.3529405501464181E-2},{"$f":"Baseline_Data_2012!AT172/Baseline_Data_2012!AT$271","v":9.8929239536624299E-3},{"$f":"Baseline_Data_2012!AU172/Baseline_Data_2012!AU$271","v":1.2931301663617927E-2},{"$f":"Baseline_Data_2012!AV172/Baseline_Data_2012!AV$271","v":1.3489908754606964E-2},177]
[3,"Female 30-34",{"$f":"'III Tool Overview'!$H$8/100","v":1000},0,0,{"$f":"G178*'III Tool Overview'!$H$8","v":1178.2447060098909},{"$f":"HLOOKUP('III Tool Overview'!$H$6,Targeting!$I$1:$BC$277,Targeting!BD178,FALSE)","v":1.178244706009891E-2},{"$f":"Baseline_Data_2012!B173","v":17158.533427204773},{"$f":"Baseline_Data_2012!B173/Baseline_Data_2012!B$271","v":1.178244706009891E-2},{"$f":"Baseline_Data_2012!C173/Baseline_Data_2012!C$271","v":7.5188591036838576E-3},{"$f":"Baseline_Data_2012!D173/Baseline_Data_2012!D$271","v":1.3591116773051002E-2},{"$f":"Baseline_Data_2012!E173/Baseline_Data_2012!E$271","v":1.7391365417762542E-2},{"$f":"Baseline_Data_2012!F173/Baseline_Data_2012!F$271","v":1.1544098677910813E-2},{"$f":"Baseline_Data_2012!G173/Baseline_Data_2012!G$271","v":1.0983540584438975E-2},{"$f":"Baseline_Data_2012!H173/Baseline_Data_2012!H$271","v":1.1122305425614803E-2},{"$f":"Baseline_Data_2012!I173/Baseline_Data_2012!I$271","v":1.077496738145158E-2},{"$f":"Baseline_Data_2012!J173/Baseline_Data_2012!J$271","v":1.4600632361548509E-2},{"$f":"Baseline_Data_2012!K173/Baseline_Data_2012!K$271","v":1.3042420055404241E-2},{"$f":"Baseline_Data_2012!L173/Baseline_Data_2012!L$271","v":1.3365518642552175E-2},{"$f":"Baseline_Data_2012!M173/Baseline_Data_2012!M$271","v":7.9018695275034322E-3},{"$f":"Baseline_Data_2012!N173/Baseline_Data_2012!N$271","v":1.8380445425471782E-2},{"$f":"Baseline_Data_2012!O173/Baseline_Data_2012!O$271","v":9.099627574640709E-3},{"$f":"Baseline_Data_2012!P173/Baseline_Data_2012!P$271","v":3.8620238211615129E-2},{"$f":"Baseline_Data_2012!Q173/Baseline_Data_2012!Q$271","v":9.4430868806283878E-3},{"$f":"Baseline_Data_2012!R173/Baseline_Data_2012!R$271","v":9.1814858866335215E-3},{"$f":"Baseline_Data_2012!S173/Baseline_Data_2012!S$271","v":1.3207314807818001E-2},{"$f":"Baseline_Data_2012!T173/Baseline_Data_2012!T$271","v":1.628112381426048E-2},{"$f":"Baseline_Data_2012!U173/Baseline_Data_2012!U$271","v":1.4078780252427522E-2},{"$f":"Baseline_Data_2012!V173/Baseline_Data_2012!V$271","v":1.7391365417762535E-2},{"$f":"Baseline_Data_2012!W173/Baseline_Data_2012!W$271","v":7.8142097903460064E-3},{"$f":"Baseline_Data_2012!X173/Baseline_Data_2012!X$271","v":5.151630706184014E-3},{"$f":"Baseline_Data_2012!Y173/Baseline_Data_2012!Y$271","v":4.4421341302466975E-3},{"$f":"Baseline_Data_2012!Z173/Baseline_Data_2012!Z$271","v":1.0288152105542566E-2},{"$f":"Baseline_Data_2012!AA173/Baseline_Data_2012!AA$271","v":3.5852126839038003E-3},{"$f":"Baseline_Data_2012!AB173/Baseline_Data_2012!AB$271","v":1.3741431459047233E-2},{"$f":"Baseline_Data_2012!AC173/Baseline_Data_2012!AC$271","v":3.8620238211615136E-2},{"$f":"Baseline_Data_2012!AD173/Baseline_Data_2012!AD$271","v":1.1044361330198231E-2},{"$f":"Baseline_Data_2012!AE173/Baseline_Data_2012!AE$271","v":1.1544098677910813E-2},{"$f":"Baseline_Data_2012!AF173/Baseline_Data_2012!AF$271","v":1.1629335728886811E-2},{"$f":"Baseline_Data_2012!AG173/Baseline_Data_2012!AG$271","v":1.4038988634006357E-2},{"$f":"Baseline_Data_2012!AH173/Baseline_Data_2012!AH$271","v":7.9623352859433567E-3},{"$f":"Baseline_Data_2012!AI173/Baseline_Data_2012!AI$271","v":1.3822431827219411E-2},{"$f":"Baseline_Data_2012!AJ173/Baseline_Data_2012!AJ$271","v":2.1352632495192373E-2},{"$f":"Baseline_Data_2012!AK173/Baseline_Data_2012!AK$271","v":6.8911420328817419E-3},{"$f":"Baseline_Data_2012!AL173/Baseline_Data_2012!AL$271","v":1.2489672057520392E-2},{"$f":"Baseline_Data_2012!AM173/Baseline_Data_2012!AM$271","v":7.9018695275034322E-3},{"$f":"Baseline_Data_2012!AN173/Baseline_Data_2012!AN$271","v":7.2510226208657496E-3},{"$f":"Baseline_Data_2012!AO173/Baseline_Data_2012!AO$271","v":1.2953589552430396E-2},{"$f":"Baseline_Data_2012!AP173/Baseline_Data_2012!AP$271","v":1.3591116773051002E-2},{"$f":"Baseline_Data_2012!AQ173/Baseline_Data_2012!AQ$271","v":1.8380445425471782E-2},{"$f":"Baseline_Data_2012!AR173/Baseline_Data_2012!AR$271","v":1.1119567501763501E-2},{"$f":"Baseline_Data_2012!AS173/Baseline_Data_2012!AS$271","v":1.410009623203297E-2},{"$f":"Baseline_Data_2012!AT173/Baseline_Data_2012!AT$271","v":9.2000343382308194E-3},{"$f":"Baseline_Data_2012!AU173/Baseline_Data_2012!AU$271","v":1.3219649728158292E-2},{"$f":"Baseline_Data_2012!AV173/Baseline_Data_2012!AV$271","v":1.4139904358053556E-2},178]
[3,"Female 35-39",{"$f":"'III Tool Overview'!$H$8/100","v":1000},0,0,{"$f":"G179*'III Tool Overview'!$H$8","v":1222.074381424216},{"$f":"HLOOKUP('III Tool Overview'!$H$6,Targeting!$I$1:$BC$277,Targeting!BD179,FALSE)","v":1.2220743814242161E-2},{"$f":"Baseline_Data_2012!B174","v":17796.815905253876},{"$f":"Baseline_Data_2012!B174/Baseline_Data_2012!B$271","v":1.2220743814242161E-2},{"$f":"Baseline_Data_2012!C174/Baseline_Data_2012!C$271","v":9.5849073711245254E-3},{"$f":"Baseline_Data_2012!D174/Baseline_Data_2012!D$271","v":1.7049752960999993E-2},{"$f":"Baseline_Data_2012!E174/Baseline_Data_2012!E$271","v":2.1917905942748877E-2},{"$f":"Baseline_Data_2012!F174/Baseline_Data_2012!F$271","v":1.2061574792996689E-2},{"$f":"Baseline_Data_2012!G174/Baseline_Data_2012!G$271","v":1.2161426145348056E-2},{"$f":"Baseline_Data_2012!H174/Baseline_Data_2012!H$271","v":1.1581045507868166E-2},{"$f":"Baseline_Data_2012!I174/Baseline_Data_2012!I$271","v":9.6226182492349446E-3},{"$f":"Baseline_Data_2012!J174/Baseline_Data_2012!J$271","v":1.7774535699364349E-2},{"$f":"Baseline_Data_2012!K174/Baseline_Data_2012!K$271","v":1.4297821988926042E-2},{"$f":"Baseline_Data_2012!L174/Baseline_Data_2012!L$271","v":1.2271306323504483E-2},{"$f":"Baseline_Data_2012!M174/Baseline_Data_2012!M$271","v":7.5363456598930619E-3},{"$f":"Baseline_Data_2012!N174/Baseline_Data_2012!N$271","v":1.9686449955426667E-2},{"$f":"Baseline_Data_2012!O174/Baseline_Data_2012!O$271","v":9.5931281014968259E-3},{"$f":"Baseline_Data_2012!P174/Baseline_Data_2012!P$271","v":4.7641684909801078E-2},{"$f":"Baseline_Data_2012!Q174/Baseline_Data_2012!Q$271","v":7.4906179111291953E-3},{"$f":"Baseline_Data_2012!R174/Baseline_Data_2012!R$271","v":1.0720762619937735E-2},{"$f":"Baseline_Data_2012!S174/Baseline_Data_2012!S$271","v":1.4461290539239037E-2},{"$f":"Baseline_Data_2012!T174/Baseline_Data_2012!T$271","v":2.1142154510648912E-2},{"$f":"Baseline_Data_2012!U174/Baseline_Data_2012!U$271","v":1.5745734051854594E-2},{"$f":"Baseline_Data_2012!V174/Baseline_Data_2012!V$271","v":2.191790594274887E-2},{"$f":"Baseline_Data_2012!W174/Baseline_Data_2012!W$271","v":7.4629043662746541E-3},{"$f":"Baseline_Data_2012!X174/Baseline_Data_2012!X$271","v":6.9605071809261711E-3},{"$f":"Baseline_Data_2012!Y174/Baseline_Data_2012!Y$271","v":5.1703126126693135E-3},{"$f":"Baseline_Data_2012!Z174/Baseline_Data_2012!Z$271","v":1.1857301568489664E-2},{"$f":"Baseline_Data_2012!AA174/Baseline_Data_2012!AA$271","v":4.1301545613736633E-3},{"$f":"Baseline_Data_2012!AB174/Baseline_Data_2012!AB$271","v":1.0749879560127296E-2},{"$f":"Baseline_Data_2012!AC174/Baseline_Data_2012!AC$271","v":4.7641684909801078E-2},{"$f":"Baseline_Data_2012!AD174/Baseline_Data_2012!AD$271","v":1.207189911116306E-2},{"$f":"Baseline_Data_2012!AE174/Baseline_Data_2012!AE$271","v":1.2061574792996689E-2},{"$f":"Baseline_Data_2012!AF174/Baseline_Data_2012!AF$271","v":8.9213584843011538E-3},{"$f":"Baseline_Data_2012!AG174/Baseline_Data_2012!AG$271","v":1.6650142282402188E-2},{"$f":"Baseline_Data_2012!AH174/Baseline_Data_2012!AH$271","v":8.3221332928055634E-3},{"$f":"Baseline_Data_2012!AI174/Baseline_Data_2012!AI$271","v":1.508372263234445E-2},{"$f":"Baseline_Data_2012!AJ174/Baseline_Data_2012!AJ$271","v":2.5452867584497867E-2},{"$f":"Baseline_Data_2012!AK174/Baseline_Data_2012!AK$271","v":8.9919969111820052E-3},{"$f":"Baseline_Data_2012!AL174/Baseline_Data_2012!AL$271","v":1.3569456295154967E-2},{"$f":"Baseline_Data_2012!AM174/Baseline_Data_2012!AM$271","v":7.5363456598930628E-3},{"$f":"Baseline_Data_2012!AN174/Baseline_Data_2012!AN$271","v":7.9128402204147862E-3},{"$f":"Baseline_Data_2012!AO174/Baseline_Data_2012!AO$271","v":1.3007034697856976E-2},{"$f":"Baseline_Data_2012!AP174/Baseline_Data_2012!AP$271","v":1.7049752960999993E-2},{"$f":"Baseline_Data_2012!AQ174/Baseline_Data_2012!AQ$271","v":1.9686449955426667E-2},{"$f":"Baseline_Data_2012!AR174/Baseline_Data_2012!AR$271","v":1.3451547047585426E-2},{"$f":"Baseline_Data_2012!AS174/Baseline_Data_2012!AS$271","v":1.5059181536186534E-2},{"$f":"Baseline_Data_2012!AT174/Baseline_Data_2012!AT$271","v":1.0380980059187096E-2},{"$f":"Baseline_Data_2012!AU174/Baseline_Data_2012!AU$271","v":1.4589373444980246E-2},{"$f":"Baseline_Data_2012!AV174/Baseline_Data_2012!AV$271","v":1.6158693687545637E-2},179]
[3,"Female 40-44",{"$f":"'III Tool Overview'!$H$8/100","v":1000},0,0,{"$f":"G180*'III Tool Overview'!$H$8","v":1477.6869649219173},{"$f":"HLOOKUP('III Tool Overview'!$H$6,Targeting!$I$1:$BC$277,Targeting!BD180,FALSE)","v":1.4776869649219173E-2},{"$f":"Baseline_Data_2012!B175","v":21519.248975386134},{"$f":"Baseline_Data_2012!B175/Baseline_Data_2012!B$271","v":1.4776869649219173E-2},{"$f":"Baseline_Data_2012!C175/Baseline_Data_2012!C$271","v":1.2921835190430534E-2},{"$f":"Baseline_Data_2012!D175/Baseline_Data_2012!D$271","v":2.4712755042570561E-2},{"$f":"Baseline_Data_2012!E175/Baseline_Data_2012!E$271","v":2.8801816640571062E-2},{"$f":"Baseline_Data_2012!F175/Baseline_Data_2012!F$271","v":1.4316610149373013E-2},{"$f":"Baseline_Data_2012!G175/Baseline_Data_2012!G$271","v":1.4479400319265569E-2},{"$f":"Baseline_Data_2012!H175/Baseline_Data_2012!H$271","v":1.358286263981612E-2},{"$f":"Baseline_Data_2012!I175/Baseline_Data_2012!I$271","v":1.1534620820297979E-2},{"$f":"Baseline_Data_2012!J175/Baseline_Data_2012!J$271","v":2.3175849349386705E-2},{"$f":"Baseline_Data_2012!K175/Baseline_Data_2012!K$271","v":1.8282576623706963E-2},{"$f":"Baseline_Data_2012!L175/Baseline_Data_2012!L$271","v":1.2577398149346272E-2},{"$f":"Baseline_Data_2012!M175/Baseline_Data_2012!M$271","v":9.6153375660704577E-3},{"$f":"Baseline_Data_2012!N175/Baseline_Data_2012!N$271","v":2.3932547004636338E-2},{"$f":"Baseline_Data_2012!O175/Baseline_Data_2012!O$271","v":1.2054742935712503E-2},{"$f":"Baseline_Data_2012!P175/Baseline_Data_2012!P$271","v":6.2417237287393457E-2},{"$f":"Baseline_Data_2012!Q175/Baseline_Data_2012!Q$271","v":7.7078458305519411E-3},{"$f":"Baseline_Data_2012!R175/Baseline_Data_2012!R$271","v":1.3187736266866206E-2},{"$f":"Baseline_Data_2012!S175/Baseline_Data_2012!S$271","v":1.7730649285550255E-2},{"$f":"Baseline_Data_2012!T175/Baseline_Data_2012!T$271","v":2.8572549393014648E-2},{"$f":"Baseline_Data_2012!U175/Baseline_Data_2012!U$271","v":1.9409345440157395E-2},{"$f":"Baseline_Data_2012!V175/Baseline_Data_2012!V$271","v":2.8801816640571059E-2},{"$f":"Baseline_Data_2012!W175/Baseline_Data_2012!W$271","v":7.9420402497125207E-3},{"$f":"Baseline_Data_2012!X175/Baseline_Data_2012!X$271","v":9.8238067258071653E-3},{"$f":"Baseline_Data_2012!Y175/Baseline_Data_2012!Y$271","v":8.0761084608749339E-3},{"$f":"Baseline_Data_2012!Z175/Baseline_Data_2012!Z$271","v":1.5890651393361741E-2},{"$f":"Baseline_Data_2012!AA175/Baseline_Data_2012!AA$271","v":6.0175907856573263E-3},{"$f":"Baseline_Data_2012!AB175/Baseline_Data_2012!AB$271","v":8.9713280581527471E-3},{"$f":"Baseline_Data_2012!AC175/Baseline_Data_2012!AC$271","v":6.2417237287393464E-2},{"$f":"Baseline_Data_2012!AD175/Baseline_Data_2012!AD$271","v":1.5045448352479968E-2},{"$f":"Baseline_Data_2012!AE175/Baseline_Data_2012!AE$271","v":1.4316610149373013E-2},{"$f":"Baseline_Data_2012!AF175/Baseline_Data_2012!AF$271","v":9.2268609487500958E-3},{"$f":"Baseline_Data_2012!AG175/Baseline_Data_2012!AG$271","v":2.1374492469893609E-2},{"$f":"Baseline_Data_2012!AH175/Baseline_Data_2012!AH$271","v":1.1819055751346012E-2},{"$f":"Baseline_Data_2012!AI175/Baseline_Data_2012!AI$271","v":1.9050695557058892E-2},{"$f":"Baseline_Data_2012!AJ175/Baseline_Data_2012!AJ$271","v":3.1087305793373897E-2},{"$f":"Baseline_Data_2012!AK175/Baseline_Data_2012!AK$271","v":1.1779075888546738E-2},{"$f":"Baseline_Data_2012!AL175/Baseline_Data_2012!AL$271","v":1.6586931240356321E-2},{"$f":"Baseline_Data_2012!AM175/Baseline_Data_2012!AM$271","v":9.6153375660704612E-3},{"$f":"Baseline_Data_2012!AN175/Baseline_Data_2012!AN$271","v":1.1441701992989417E-2},{"$f":"Baseline_Data_2012!AO175/Baseline_Data_2012!AO$271","v":1.797773651000097E-2},{"$f":"Baseline_Data_2012!AP175/Baseline_Data_2012!AP$271","v":2.4712755042570561E-2},{"$f":"Baseline_Data_2012!AQ175/Baseline_Data_2012!AQ$271","v":2.3932547004636338E-2},{"$f":"Baseline_Data_2012!AR175/Baseline_Data_2012!AR$271","v":1.8052903830759474E-2},{"$f":"Baseline_Data_2012!AS175/Baseline_Data_2012!AS$271","v":1.9305832812861884E-2},{"$f":"Baseline_Data_2012!AT175/Baseline_Data_2012!AT$271","v":1.0802971118503644E-2},{"$f":"Baseline_Data_2012!AU175/Baseline_Data_2012!AU$271","v":1.9257972947373924E-2},{"$f":"Baseline_Data_2012!AV175/Baseline_Data_2012!AV$271","v":1.8943163291776702E-2},180]
[3,"Female 45-49",{"$f":"'III Tool Overview'!$H$8/100","v":1000},0,0,{"$f":"G181*'III Tool Overview'!$H$8","v":1485.2888860205242},{"$f":"HLOOKUP('III Tool Overview'!$H$6,Targeting!$I$1:$BC$277,Targeting!BD181,FALSE)","v":1.4852888860205242E-2},{"$f":"Baseline_Data_2012!B176","v":21629.954176619878},{"$f":"Baseline_Data_2012!B176/Baseline_Data_2012!B$271","v":1.4852888860205242E-2},{"$f":"Baseline_Data_2012!C176/Baseline_Data_2012!C$271","v":1.3430721826197273E-2},{"$f":"Baseline_Data_2012!D176/Baseline_Data_2012!D$271","v":2.4566889958221778E-2},{"$f":"Baseline_Data_2012!E176/Baseline_Data_2012!E$271","v":3.3376304431939237E-2},{"$f":"Baseline_Data_2012!F176/Baseline_Data_2012!F$271","v":1.4422273414245786E-2},{"$f":"Baseline_Data_2012!G176/Baseline_Data_2012!G$271","v":1.4087667754013633E-2},{"$f":"Baseline_Data_2012!H176/Baseline_Data_2012!H$271","v":1.3869282822507515E-2},{"$f":"Baseline_Data_2012!I176/Baseline_Data_2012!I$271","v":1.1071690466859177E-2},{"$f":"Baseline_Data_2012!J176/Baseline_Data_2012!J$271","v":2.6170989572212592E-2},{"$f":"Baseline_Data_2012!K176/Baseline_Data_2012!K$271","v":1.8122774107555431E-2},{"$f":"Baseline_Data_2012!L176/Baseline_Data_2012!L$271","v":1.1497079760930928E-2},{"$f":"Baseline_Data_2012!M176/Baseline_Data_2012!M$271","v":1.3160561574280633E-2},{"$f":"Baseline_Data_2012!N176/Baseline_Data_2012!N$271","v":2.3680653732514365E-2},{"$f":"Baseline_Data_2012!O176/Baseline_Data_2012!O$271","v":1.2671423765745548E-2},{"$f":"Baseline_Data_2012!P176/Baseline_Data_2012!P$271","v":5.7558833433134914E-2},{"$f":"Baseline_Data_2012!Q176/Baseline_Data_2012!Q$271","v":7.6924498757410939E-3},{"$f":"Baseline_Data_2012!R176/Baseline_Data_2012!R$271","v":1.3832964049178146E-2},{"$f":"Baseline_Data_2012!S176/Baseline_Data_2012!S$271","v":1.7864087328271869E-2},{"$f":"Baseline_Data_2012!T176/Baseline_Data_2012!T$271","v":3.2875719041636796E-2},{"$f":"Baseline_Data_2012!U176/Baseline_Data_2012!U$271","v":1.9600132770664448E-2},{"$f":"Baseline_Data_2012!V176/Baseline_Data_2012!V$271","v":3.337630443193923E-2},{"$f":"Baseline_Data_2012!W176/Baseline_Data_2012!W$271","v":9.1724616485545831E-3},{"$f":"Baseline_Data_2012!X176/Baseline_Data_2012!X$271","v":9.7199682243670968E-3},{"$f":"Baseline_Data_2012!Y176/Baseline_Data_2012!Y$271","v":6.5516666354282736E-3},{"$f":"Baseline_Data_2012!Z176/Baseline_Data_2012!Z$271","v":1.4399993170477843E-2},{"$f":"Baseline_Data_2012!AA176/Baseline_Data_2012!AA$271","v":5.7008603064674958E-3},{"$f":"Baseline_Data_2012!AB176/Baseline_Data_2012!AB$271","v":8.0151883485696847E-3},{"$f":"Baseline_Data_2012!AC176/Baseline_Data_2012!AC$271","v":5.7558833433134914E-2},{"$f":"Baseline_Data_2012!AD176/Baseline_Data_2012!AD$271","v":1.3851945233787657E-2},{"$f":"Baseline_Data_2012!AE176/Baseline_Data_2012!AE$271","v":1.4422273414245786E-2},{"$f":"Baseline_Data_2012!AF176/Baseline_Data_2012!AF$271","v":8.5619061040069621E-3},{"$f":"Baseline_Data_2012!AG176/Baseline_Data_2012!AG$271","v":2.3933281258238966E-2},{"$f":"Baseline_Data_2012!AH176/Baseline_Data_2012!AH$271","v":1.3684576856127222E-2},{"$f":"Baseline_Data_2012!AI176/Baseline_Data_2012!AI$271","v":1.9382866284272934E-2},{"$f":"Baseline_Data_2012!AJ176/Baseline_Data_2012!AJ$271","v":3.1126448095706676E-2},{"$f":"Baseline_Data_2012!AK176/Baseline_Data_2012!AK$271","v":1.2525192750193634E-2},{"$f":"Baseline_Data_2012!AL176/Baseline_Data_2012!AL$271","v":1.591988039352028E-2},{"$f":"Baseline_Data_2012!AM176/Baseline_Data_2012!AM$271","v":1.3160561574280633E-2},{"$f":"Baseline_Data_2012!AN176/Baseline_Data_2012!AN$271","v":1.1882016885389547E-2},{"$f":"Baseline_Data_2012!AO176/Baseline_Data_2012!AO$271","v":1.740245379529157E-2},{"$f":"Baseline_Data_2012!AP176/Baseline_Data_2012!AP$271","v":2.4566889958221778E-2},{"$f":"Baseline_Data_2012!AQ176/Baseline_Data_2012!AQ$271","v":2.3680653732514365E-2},{"$f":"Baseline_Data_2012!AR176/Baseline_Data_2012!AR$271","v":1.8982422435573885E-2},{"$f":"Baseline_Data_2012!AS176/Baseline_Data_2012!AS$271","v":1.9505547112867765E-2},{"$f":"Baseline_Data_2012!AT176/Baseline_Data_2012!AT$271","v":1.1523843916662252E-2},{"$f":"Baseline_Data_2012!AU176/Baseline_Data_2012!AU$271","v":1.9897143330966188E-2},{"$f":"Baseline_Data_2012!AV176/Baseline_Data_2012!AV$271","v":1.7023821977501446E-2},181]
[3,"Female 50-54",{"$f":"'III Tool Overview'!$H$8/100","v":1000},0,0,{"$f":"G182*'III Tool Overview'!$H$8","v":1387.9749116588985},{"$f":"HLOOKUP('III Tool Overview'!$H$6,Targeting!$I$1:$BC$277,Targeting!BD182,FALSE)","v":1.3879749116588985E-2},{"$f":"Baseline_Data_2012!B177","v":20212.790939220122},{"$f":"Baseline_Data_2012!B177/Baseline_Data_2012!B$271","v":1.3879749116588985E-2},{"$f":"Baseline_Data_2012!C177/Baseline_Data_2012!C$271","v":1.3016033386947647E-2},{"$f":"Baseline_Data_2012!D177/Baseline_Data_2012!D$271","v":2.4041746017899067E-2},{"$f":"Baseline_Data_2012!E177/Baseline_Data_2012!E$271","v":3.1151217469809957E-2},{"$f":"Baseline_Data_2012!F177/Baseline_Data_2012!F$271","v":1.3295533303757835E-2},{"$f":"Baseline_Data_2012!G177/Baseline_Data_2012!G$271","v":1.2561045760730838E-2},{"$f":"Baseline_Data_2012!H177/Baseline_Data_2012!H$271","v":1.2333615005092608E-2},{"$f":"Baseline_Data_2012!I177/Baseline_Data_2012!I$271","v":1.0394861189237808E-2},{"$f":"Baseline_Data_2012!J177/Baseline_Data_2012!J$271","v":2.5084368611789972E-2},{"$f":"Baseline_Data_2012!K177/Baseline_Data_2012!K$271","v":1.6778838050141204E-2},{"$f":"Baseline_Data_2012!L177/Baseline_Data_2012!L$271","v":1.0599796558255608E-2},{"$f":"Baseline_Data_2012!M177/Baseline_Data_2012!M$271","v":1.074501546254558E-2},{"$f":"Baseline_Data_2012!N177/Baseline_Data_2012!N$271","v":2.301254751435565E-2},{"$f":"Baseline_Data_2012!O177/Baseline_Data_2012!O$271","v":1.2570309756733435E-2},{"$f":"Baseline_Data_2012!P177/Baseline_Data_2012!P$271","v":5.5828425465999525E-2},{"$f":"Baseline_Data_2012!Q177/Baseline_Data_2012!Q$271","v":7.2458844335164226E-3},{"$f":"Baseline_Data_2012!R177/Baseline_Data_2012!R$271","v":1.2348682262421647E-2},{"$f":"Baseline_Data_2012!S177/Baseline_Data_2012!S$271","v":1.8928613947461256E-2},{"$f":"Baseline_Data_2012!T177/Baseline_Data_2012!T$271","v":3.0567789549542805E-2},{"$f":"Baseline_Data_2012!U177/Baseline_Data_2012!U$271","v":1.6901835333785212E-2},{"$f":"Baseline_Data_2012!V177/Baseline_Data_2012!V$271","v":3.115121746980995E-2},{"$f":"Baseline_Data_2012!W177/Baseline_Data_2012!W$271","v":9.0747337466673961E-3},{"$f":"Baseline_Data_2012!X177/Baseline_Data_2012!X$271","v":9.1115195092267478E-3},{"$f":"Baseline_Data_2012!Y177/Baseline_Data_2012!Y$271","v":6.6672842819358313E-3},{"$f":"Baseline_Data_2012!Z177/Baseline_Data_2012!Z$271","v":1.4615454414923897E-2},{"$f":"Baseline_Data_2012!AA177/Baseline_Data_2012!AA$271","v":5.7862664533808658E-3},{"$f":"Baseline_Data_2012!AB177/Baseline_Data_2012!AB$271","v":7.4726006197462025E-3},{"$f":"Baseline_Data_2012!AC177/Baseline_Data_2012!AC$271","v":5.5828425465999539E-2},{"$f":"Baseline_Data_2012!AD177/Baseline_Data_2012!AD$271","v":1.2701413598415492E-2},{"$f":"Baseline_Data_2012!AE177/Baseline_Data_2012!AE$271","v":1.3295533303757835E-2},{"$f":"Baseline_Data_2012!AF177/Baseline_Data_2012!AF$271","v":7.8489640382916545E-3},{"$f":"Baseline_Data_2012!AG177/Baseline_Data_2012!AG$271","v":2.3253916571360087E-2},{"$f":"Baseline_Data_2012!AH177/Baseline_Data_2012!AH$271","v":1.433622337308566E-2},{"$f":"Baseline_Data_2012!AI177/Baseline_Data_2012!AI$271","v":1.7076438259599723E-2},{"$f":"Baseline_Data_2012!AJ177/Baseline_Data_2012!AJ$271","v":2.6357072984267746E-2},{"$f":"Baseline_Data_2012!AK177/Baseline_Data_2012!AK$271","v":1.1989204772144805E-2},{"$f":"Baseline_Data_2012!AL177/Baseline_Data_2012!AL$271","v":1.4477968860650605E-2},{"$f":"Baseline_Data_2012!AM177/Baseline_Data_2012!AM$271","v":1.074501546254558E-2},{"$f":"Baseline_Data_2012!AN177/Baseline_Data_2012!AN$271","v":1.0967124747040839E-2},{"$f":"Baseline_Data_2012!AO177/Baseline_Data_2012!AO$271","v":1.497053194005119E-2},{"$f":"Baseline_Data_2012!AP177/Baseline_Data_2012!AP$271","v":2.4041746017899067E-2},{"$f":"Baseline_Data_2012!AQ177/Baseline_Data_2012!AQ$271","v":2.301254751435565E-2},{"$f":"Baseline_Data_2012!AR177/Baseline_Data_2012!AR$271","v":1.8946741190394235E-2},{"$f":"Baseline_Data_2012!AS177/Baseline_Data_2012!AS$271","v":1.8782444275973288E-2},{"$f":"Baseline_Data_2012!AT177/Baseline_Data_2012!AT$271","v":9.9616326814809253E-3},{"$f":"Baseline_Data_2012!AU177/Baseline_Data_2012!AU$271","v":1.9055431039644469E-2},{"$f":"Baseline_Data_2012!AV177/Baseline_Data_2012!AV$271","v":1.5031560458152978E-2},182]
[3,"Female 55-59",{"$f":"'III Tool Overview'!$H$8/100","v":1000},0,0,{"$f":"G183*'III Tool Overview'!$H$8","v":719.37388063879064},{"$f":"HLOOKUP('III Tool Overview'!$H$6,Targeting!$I$1:$BC$277,Targeting!BD183,FALSE)","v":7.1937388063879068E-3},{"$f":"Baseline_Data_2012!B178","v":10476.092712013498},{"$f":"Baseline_Data_2012!B178/Baseline_Data_2012!B$271","v":7.1937388063879068E-3},{"$f":"Baseline_Data_2012!C178/Baseline_Data_2012!C$271","v":6.8914344851274895E-3},{"$f":"Baseline_Data_2012!D178/Baseline_Data_2012!D$271","v":1.2697492402012022E-2},{"$f":"Baseline_Data_2012!E178/Baseline_Data_2012!E$271","v":1.749040438164489E-2},{"$f":"Baseline_Data_2012!F178/Baseline_Data_2012!F$271","v":7.0942794540114814E-3},{"$f":"Baseline_Data_2012!G178/Baseline_Data_2012!G$271","v":6.3754282778462276E-3},{"$f":"Baseline_Data_2012!H178/Baseline_Data_2012!H$271","v":6.8750695131539136E-3},{"$f":"Baseline_Data_2012!I178/Baseline_Data_2012!I$271","v":5.1356706141723191E-3},{"$f":"Baseline_Data_2012!J178/Baseline_Data_2012!J$271","v":1.3968094323271948E-2},{"$f":"Baseline_Data_2012!K178/Baseline_Data_2012!K$271","v":8.3274167230968938E-3},{"$f":"Baseline_Data_2012!L178/Baseline_Data_2012!L$271","v":5.006924869891986E-3},{"$f":"Baseline_Data_2012!M178/Baseline_Data_2012!M$271","v":5.9072954331405667E-3},{"$f":"Baseline_Data_2012!N178/Baseline_Data_2012!N$271","v":1.3550152357307433E-2},{"$f":"Baseline_Data_2012!O178/Baseline_Data_2012!O$271","v":6.3374545781715247E-3},{"$f":"Baseline_Data_2012!P178/Baseline_Data_2012!P$271","v":3.2559786374753742E-2},{"$f":"Baseline_Data_2012!Q178/Baseline_Data_2012!Q$271","v":4.1786451225467669E-3},{"$f":"Baseline_Data_2012!R178/Baseline_Data_2012!R$271","v":7.0484579000047133E-3},{"$f":"Baseline_Data_2012!S178/Baseline_Data_2012!S$271","v":9.8045131360338725E-3},{"$f":"Baseline_Data_2012!T178/Baseline_Data_2012!T$271","v":1.7541151202310389E-2},{"$f":"Baseline_Data_2012!U178/Baseline_Data_2012!U$271","v":8.7577975877985749E-3},{"$f":"Baseline_Data_2012!V178/Baseline_Data_2012!V$271","v":1.7490404381644887E-2},{"$f":"Baseline_Data_2012!W178/Baseline_Data_2012!W$271","v":4.1715281633702668E-3},{"$f":"Baseline_Data_2012!X178/Baseline_Data_2012!X$271","v":4.95180506824294E-3},{"$f":"Baseline_Data_2012!Y178/Baseline_Data_2012!Y$271","v":3.8421871955821277E-3},{"$f":"Baseline_Data_2012!Z178/Baseline_Data_2012!Z$271","v":6.8470465932184378E-3},{"$f":"Baseline_Data_2012!AA178/Baseline_Data_2012!AA$271","v":2.8175168436255244E-3},{"$f":"Baseline_Data_2012!AB178/Baseline_Data_2012!AB$271","v":3.531443314159487E-3},{"$f":"Baseline_Data_2012!AC178/Baseline_Data_2012!AC$271","v":3.2559786374753749E-2},{"$f":"Baseline_Data_2012!AD178/Baseline_Data_2012!AD$271","v":6.4696871539919616E-3},{"$f":"Baseline_Data_2012!AE178/Baseline_Data_2012!AE$271","v":7.0942794540114814E-3},{"$f":"Baseline_Data_2012!AF178/Baseline_Data_2012!AF$271","v":3.68394589886016E-3},{"$f":"Baseline_Data_2012!AG178/Baseline_Data_2012!AG$271","v":1.2775581954954467E-2},{"$f":"Baseline_Data_2012!AH178/Baseline_Data_2012!AH$271","v":6.5155645420681783E-3},{"$f":"Baseline_Data_2012!AI178/Baseline_Data_2012!AI$271","v":9.101705814405352E-3},{"$f":"Baseline_Data_2012!AJ178/Baseline_Data_2012!AJ$271","v":1.3777425455167913E-2},{"$f":"Baseline_Data_2012!AK178/Baseline_Data_2012!AK$271","v":6.7399208382752382E-3},{"$f":"Baseline_Data_2012!AL178/Baseline_Data_2012!AL$271","v":7.3043560797482476E-3},{"$f":"Baseline_Data_2012!AM178/Baseline_Data_2012!AM$271","v":5.9072954331405667E-3},{"$f":"Baseline_Data_2012!AN178/Baseline_Data_2012!AN$271","v":5.6819417489704675E-3},{"$f":"Baseline_Data_2012!AO178/Baseline_Data_2012!AO$271","v":7.4357612987781428E-3},{"$f":"Baseline_Data_2012!AP178/Baseline_Data_2012!AP$271","v":1.2697492402012022E-2},{"$f":"Baseline_Data_2012!AQ178/Baseline_Data_2012!AQ$271","v":1.3550152357307433E-2},{"$f":"Baseline_Data_2012!AR178/Baseline_Data_2012!AR$271","v":9.3857744013780484E-3},{"$f":"Baseline_Data_2012!AS178/Baseline_Data_2012!AS$271","v":9.2936321352879159E-3},{"$f":"Baseline_Data_2012!AT178/Baseline_Data_2012!AT$271","v":4.9180915929712401E-3},{"$f":"Baseline_Data_2012!AU178/Baseline_Data_2012!AU$271","v":1.0193749515049996E-2},{"$f":"Baseline_Data_2012!AV178/Baseline_Data_2012!AV$271","v":6.636277301741822E-3},183]
[3,"Female 60-64",{"$f":"'III Tool Overview'!$H$8/100","v":1000},0,0,{"$f":"G184*'III Tool Overview'!$H$8","v":693.66952109656245},{"$f":"HLOOKUP('III Tool Overview'!$H$6,Targeting!$I$1:$BC$277,Targeting!BD184,FALSE)","v":6.9366952109656248E-3},{"$f":"Baseline_Data_2012!B179","v":10101.765451996504},{"$f":"Baseline_Data_2012!B179/Baseline_Data_2012!B$271","v":6.9366952109656248E-3},{"$f":"Baseline_Data_2012!C179/Baseline_Data_2012!C$271","v":6.5961303401591929E-3},{"$f":"Baseline_Data_2012!D179/Baseline_Data_2012!D$271","v":1.3212642356714236E-2},{"$f":"Baseline_Data_2012!E179/Baseline_Data_2012!E$271","v":1.806799447982944E-2},{"$f":"Baseline_Data_2012!F179/Baseline_Data_2012!F$271","v":6.9283484204133465E-3},{"$f":"Baseline_Data_2012!G179/Baseline_Data_2012!G$271","v":6.4073764150960142E-3},{"$f":"Baseline_Data_2012!H179/Baseline_Data_2012!H$271","v":6.6821466441623484E-3},{"$f":"Baseline_Data_2012!I179/Baseline_Data_2012!I$271","v":4.5010417040232164E-3},{"$f":"Baseline_Data_2012!J179/Baseline_Data_2012!J$271","v":1.4649725906242039E-2},{"$f":"Baseline_Data_2012!K179/Baseline_Data_2012!K$271","v":7.3488811403780935E-3},{"$f":"Baseline_Data_2012!L179/Baseline_Data_2012!L$271","v":4.8643451393777385E-3},{"$f":"Baseline_Data_2012!M179/Baseline_Data_2012!M$271","v":6.3430795224706082E-3},{"$f":"Baseline_Data_2012!N179/Baseline_Data_2012!N$271","v":1.2514471922353998E-2},{"$f":"Baseline_Data_2012!O179/Baseline_Data_2012!O$271","v":6.2679883812775707E-3},{"$f":"Baseline_Data_2012!P179/Baseline_Data_2012!P$271","v":3.3248042021699759E-2},{"$f":"Baseline_Data_2012!Q179/Baseline_Data_2012!Q$271","v":4.0320994519163697E-3},{"$f":"Baseline_Data_2012!R179/Baseline_Data_2012!R$271","v":6.74114671151932E-3},{"$f":"Baseline_Data_2012!S179/Baseline_Data_2012!S$271","v":9.5241079280013463E-3},{"$f":"Baseline_Data_2012!T179/Baseline_Data_2012!T$271","v":1.9610693044731058E-2},{"$f":"Baseline_Data_2012!U179/Baseline_Data_2012!U$271","v":8.2349440004673164E-3},{"$f":"Baseline_Data_2012!V179/Baseline_Data_2012!V$271","v":1.806799447982944E-2},{"$f":"Baseline_Data_2012!W179/Baseline_Data_2012!W$271","v":4.2121072311073326E-3},{"$f":"Baseline_Data_2012!X179/Baseline_Data_2012!X$271","v":4.491994597620382E-3},{"$f":"Baseline_Data_2012!Y179/Baseline_Data_2012!Y$271","v":3.3157067343799118E-3},{"$f":"Baseline_Data_2012!Z179/Baseline_Data_2012!Z$271","v":6.7322333119297145E-3},{"$f":"Baseline_Data_2012!AA179/Baseline_Data_2012!AA$271","v":2.9664604653149794E-3},{"$f":"Baseline_Data_2012!AB179/Baseline_Data_2012!AB$271","v":3.0922587301486972E-3},{"$f":"Baseline_Data_2012!AC179/Baseline_Data_2012!AC$271","v":3.3248042021699759E-2},{"$f":"Baseline_Data_2012!AD179/Baseline_Data_2012!AD$271","v":6.8405187615902738E-3},{"$f":"Baseline_Data_2012!AE179/Baseline_Data_2012!AE$271","v":6.9283484204133465E-3},{"$f":"Baseline_Data_2012!AF179/Baseline_Data_2012!AF$271","v":2.8397082970380398E-3},{"$f":"Baseline_Data_2012!AG179/Baseline_Data_2012!AG$271","v":1.2994455984722772E-2},{"$f":"Baseline_Data_2012!AH179/Baseline_Data_2012!AH$271","v":5.7882457094652192E-3},{"$f":"Baseline_Data_2012!AI179/Baseline_Data_2012!AI$271","v":1.0287763795885935E-2},{"$f":"Baseline_Data_2012!AJ179/Baseline_Data_2012!AJ$271","v":1.3813905840309575E-2},{"$f":"Baseline_Data_2012!AK179/Baseline_Data_2012!AK$271","v":6.0839674720197402E-3},{"$f":"Baseline_Data_2012!AL179/Baseline_Data_2012!AL$271","v":6.5790523378716067E-3},{"$f":"Baseline_Data_2012!AM179/Baseline_Data_2012!AM$271","v":6.343079522470609E-3},{"$f":"Baseline_Data_2012!AN179/Baseline_Data_2012!AN$271","v":5.6684774320297782E-3},{"$f":"Baseline_Data_2012!AO179/Baseline_Data_2012!AO$271","v":7.319481903982435E-3},{"$f":"Baseline_Data_2012!AP179/Baseline_Data_2012!AP$271","v":1.3212642356714236E-2},{"$f":"Baseline_Data_2012!AQ179/Baseline_Data_2012!AQ$271","v":1.2514471922353998E-2},{"$f":"Baseline_Data_2012!AR179/Baseline_Data_2012!AR$271","v":9.738389130269599E-3},{"$f":"Baseline_Data_2012!AS179/Baseline_Data_2012!AS$271","v":8.0608394271102345E-3},{"$f":"Baseline_Data_2012!AT179/Baseline_Data_2012!AT$271","v":4.6468299463565199E-3},{"$f":"Baseline_Data_2012!AU179/Baseline_Data_2012!AU$271","v":9.3238828897657302E-3},{"$f":"Baseline_Data_2012!AV179/Baseline_Data_2012!AV$271","v":6.7527032193162402E-3},184]
[3,"Female 65-69",null,null,0,{"$f":"G185*'III Tool Overview'!$H$8","v":0},{"$f":"HLOOKUP('III Tool Overview'!$H$6,Targeting!$I$1:$BC$277,Targeting!BD185,FALSE)","v":0},{"$f":"Baseline_Data_2012!B180","v":0},{"$f":"Baseline_Data_2012!B180/Baseline_Data_2012!B$271","v":0},{"$f":"Baseline_Data_2012!C180/Baseline_Data_2012!C$271","v":0},{"$f":"Baseline_Data_2012!D180/Baseline_Data_2012!D$271","v":0},{"$f":"Baseline_Data_2012!E180/Baseline_Data_2012!E$271","v":0},{"$f":"Baseline_Data_2012!F180/Baseline_Data_2012!F$271","v":0},{"$f":"Baseline_Data_2012!G180/Baseline_Data_2012!G$271","v":0},{"$f":"Baseline_Data_2012!H180/Baseline_Data_2012!H$271","v":0},{"$f":"Baseline_Data_2012!I180/Baseline_Data_2012!I$271","v":0},{"$f":"Baseline_Data_2012!J180/Baseline_Data_2012!J$271","v":0},{"$f":"Baseline_Data_2012!K180/Baseline_Data_2012!K$271","v":0},{"$f":"Baseline_Data_2012!L180/Baseline_Data_2012!L$271","v":0},{"$f":"Baseline_Data_2012!M180/Baseline_Data_2012!M$271","v":0},{"$f":"Baseline_Data_2012!N180/Baseline_Data_2012!N$271","v":0},{"$f":"Baseline_Data_2012!O180/Baseline_Data_2012!O$271","v":0},{"$f":"Baseline_Data_2012!P180/Baseline_Data_2012!P$271","v":0},{"$f":"Baseline_Data_2012!Q180/Baseline_Data_2012!Q$271","v":0},{"$f":"Baseline_Data_2012!R180/Baseline_Data_2012!R$271","v":0},{"$f":"Baseline_Data_2012!S180/Baseline_Data_2012!S$271","v":0},{"$f":"Baseline_Data_2012!T180/Baseline_Data_2012!T$271","v":0},{"$f":"Baseline_Data_2012!U180/Baseline_Data_2012!U$271","v":0},{"$f":"Baseline_Data_2012!V180/Baseline_Data_2012!V$271","v":0},{"$f":"Baseline_Data_2012!W180/Baseline_Data_2012!W$271","v":0},{"$f":"Baseline_Data_2012!X180/Baseline_Data_2012!X$271","v":0},{"$f":"Baseline_Data_2012!Y180/Baseline_Data_2012!Y$271","v":0},{"$f":"Baseline_Data_2012!Z180/Baseline_Data_2012!Z$271","v":0},{"$f":"Baseline_Data_2012!AA180/Baseline_Data_2012!AA$271","v":0},{"$f":"Baseline_Data_2012!AB180/Baseline_Data_2012!AB$271","v":0},{"$f":"Baseline_Data_2012!AC180/Baseline_Data_2012!AC$271","v":0},{"$f":"Baseline_Data_2012!AD180/Baseline_Data_2012!AD$271","v":0},{"$f":"Baseline_Data_2012!AE180/Baseline_Data_2012!AE$271","v":0},{"$f":"Baseline_Data_2012!AF180/Baseline_Data_2012!AF$271","v":0},{"$f":"Baseline_Data_2012!AG180/Baseline_Data_2012!AG$271","v":0},{"$f":"Baseline_Data_2012!AH180/Baseline_Data_2012!AH$271","v":0},{"$f":"Baseline_Data_2012!AI180/Baseline_Data_2012!AI$271","v":0},{"$f":"Baseline_Data_2012!AJ180/Baseline_Data_2012!AJ$271","v":0},{"$f":"Baseline_Data_2012!AK180/Baseline_Data_2012!AK$271","v":0},{"$f":"Baseline_Data_2012!AL180/Baseline_Data_2012!AL$271","v":0},{"$f":"Baseline_Data_2012!AM180/Baseline_Data_2012!AM$271","v":0},{"$f":"Baseline_Data_2012!AN180/Baseline_Data_2012!AN$271","v":0},{"$f":"Baseline_Data_2012!AO180/Baseline_Data_2012!AO$271","v":0},{"$f":"Baseline_Data_2012!AP180/Baseline_Data_2012!AP$271","v":0},{"$f":"Baseline_Data_2012!AQ180/Baseline_Data_2012!AQ$271","v":0},{"$f":"Baseline_Data_2012!AR180/Baseline_Data_2012!AR$271","v":0},{"$f":"Baseline_Data_2012!AS180/Baseline_Data_2012!AS$271","v":0},{"$f":"Baseline_Data_2012!AT180/Baseline_Data_2012!AT$271","v":0},{"$f":"Baseline_Data_2012!AU180/Baseline_Data_2012!AU$271","v":0},{"$f":"Baseline_Data_2012!AV180/Baseline_Data_2012!AV$271","v":0},185]
[3,"Female 70-74",null,null,null,{"$f":"G186*'III Tool Overview'!$H$8","v":0},{"$f":"HLOOKUP('III Tool Overview'!$H$6,Targeting!$I$1:$BC$277,Targeting!BD186,FALSE)","v":0},{"$f":"Baseline_Data_2012!B181","v":0},{"$f":"Baseline_Data_2012!B181/Baseline_Data_2012!B$271","v":0},{"$f":"Baseline_Data_2012!C181/Baseline_Data_2012!C$271","v":0},{"$f":"Baseline_Data_2012!D181/Baseline_Data_2012!D$271","v":0},{"$f":"Baseline_Data_2012!E181/Baseline_Data_2012!E$271","v":0},{"$f":"Baseline_Data_2012!F181/Baseline_Data_2012!F$271","v":0},{"$f":"Baseline_Data_2012!G181/Baseline_Data_2012!G$271","v":0},{"$f":"Baseline_Data_2012!H181/Baseline_Data_2012!H$271","v":0},{"$f":"Baseline_Data_2012!I181/Baseline_Data_2012!I$271","v":0},{"$f":"Baseline_Data_2012!J181/Baseline_Data_2012!J$271","v":0},{"$f":"Baseline_Data_2012!K181/Baseline_Data_2012!K$271","v":0},{"$f":"Baseline_Data_2012!L181/Baseline_Data_2012!L$271","v":0},{"$f":"Baseline_Data_2012!M181/Baseline_Data_2012!M$271","v":0},{"$f":"Baseline_Data_2012!N181/Baseline_Data_2012!N$271","v":0},{"$f":"Baseline_Data_2012!O181/Baseline_Data_2012!O$271","v":0},{"$f":"Baseline_Data_2012!P181/Baseline_Data_2012!P$271","v":0},{"$f":"Baseline_Data_2012!Q181/Baseline_Data_2012!Q$271","v":0},{"$f":"Baseline_Data_2012!R181/Baseline_Data_2012!R$271","v":0},{"$f":"Baseline_Data_2012!S181/Baseline_Data_2012!S$271","v":0},{"$f":"Baseline_Data_2012!T181/Baseline_Data_2012!T$271","v":0},{"$f":"Baseline_Data_2012!U181/Baseline_Data_2012!U$271","v":0},{"$f":"Baseline_Data_2012!V181/Baseline_Data_2012!V$271","v":0},{"$f":"Baseline_Data_2012!W181/Baseline_Data_2012!W$271","v":0},{"$f":"Baseline_Data_2012!X181/Baseline_Data_2012!X$271","v":0},{"$f":"Baseline_Data_2012!Y181/Baseline_Data_2012!Y$271","v":0},{"$f":"Baseline_Data_2012!Z181/Baseline_Data_2012!Z$271","v":0},{"$f":"Baseline_Data_2012!AA181/Baseline_Data_2012!AA$271","v":0},{"$f":"Baseline_Data_2012!AB181/Baseline_Data_2012!AB$271","v":0},{"$f":"Baseline_Data_2012!AC181/Baseline_Data_2012!AC$271","v":0},{"$f":"Baseline_Data_2012!AD181/Baseline_Data_2012!AD$271","v":0},{"$f":"Baseline_Data_2012!AE181/Baseline_Data_2012!AE$271","v":0},{"$f":"Baseline_Data_2012!AF181/Baseline_Data_2012!AF$271","v":0},{"$f":"Baseline_Data_2012!AG181/Baseline_Data_2012!AG$271","v":0},{"$f":"Baseline_Data_2012!AH181/Baseline_Data_2012!AH$271","v":0},{"$f":"Baseline_Data_2012!AI181/Baseline_Data_2012!AI$271","v":0},{"$f":"Baseline_Data_2012!AJ181/Baseline_Data_2012!AJ$271","v":0},{"$f":"Baseline_Data_2012!AK181/Baseline_Data_2012!AK$271","v":0},{"$f":"Baseline_Data_2012!AL181/Baseline_Data_2012!AL$271","v":0},{"$f":"Baseline_Data_2012!AM181/Baseline_Data_2012!AM$271","v":0},{"$f":"Baseline_Data_2012!AN181/Baseline_Data_2012!AN$271","v":0},{"$f":"Baseline_Data_2012!AO181/Baseline_Data_2012!AO$271","v":0},{"$f":"Baseline_Data_2012!AP181/Baseline_Data_2012!AP$271","v":0},{"$f":"Baseline_Data_2012!AQ181/Baseline_Data_2012!AQ$271","v":0},{"$f":"Baseline_Data_2012!AR181/Baseline_Data_2012!AR$271","v":0},{"$f":"Baseline_Data_2012!AS181/Baseline_Data_2012!AS$271","v":0},{"$f":"Baseline_Data_2012!AT181/Baseline_Data_2012!AT$271","v":0},{"$f":"Baseline_Data_2012!AU181/Baseline_Data_2012!AU$271","v":0},{"$f":"Baseline_Data_2012!AV181/Baseline_Data_2012!AV$271","v":0},186]
[3,"Female 75-79",null,null,null,{"$f":"G187*'III Tool Overview'!$H$8","v":0},{"$f":"HLOOKUP('III Tool Overview'!$H$6,Targeting!$I$1:$BC$277,Targeting!BD187,FALSE)","v":0},{"$f":"Baseline_Data_2012!B182","v":0},{"$f":"Baseline_Data_2012!B182/Baseline_Data_2012!B$271","v":0},{"$f":"Baseline_Data_2012!C182/Baseline_Data_2012!C$271","v":0},{"$f":"Baseline_Data_2012!D182/Baseline_Data_2012!D$271","v":0},{"$f":"Baseline_Data_2012!E182/Baseline_Data_2012!E$271","v":0},{"$f":"Baseline_Data_2012!F182/Baseline_Data_2012!F$271","v":0},{"$f":"Baseline_Data_2012!G182/Baseline_Data_2012!G$271","v":0},{"$f":"Baseline_Data_2012!H182/Baseline_Data_2012!H$271","v":0},{"$f":"Baseline_Data_2012!I182/Baseline_Data_2012!I$271","v":0},{"$f":"Baseline_Data_2012!J182/Baseline_Data_2012!J$271","v":0},{"$f":"Baseline_Data_2012!K182/Baseline_Data_2012!K$271","v":0},{"$f":"Baseline_Data_2012!L182/Baseline_Data_2012!L$271","v":0},{"$f":"Baseline_Data_2012!M182/Baseline_Data_2012!M$271","v":0},{"$f":"Baseline_Data_2012!N182/Baseline_Data_2012!N$271","v":0},{"$f":"Baseline_Data_2012!O182/Baseline_Data_2012!O$271","v":0},{"$f":"Baseline_Data_2012!P182/Baseline_Data_2012!P$271","v":0},{"$f":"Baseline_Data_2012!Q182/Baseline_Data_2012!Q$271","v":0},{"$f":"Baseline_Data_2012!R182/Baseline_Data_2012!R$271","v":0},{"$f":"Baseline_Data_2012!S182/Baseline_Data_2012!S$271","v":0},{"$f":"Baseline_Data_2012!T182/Baseline_Data_2012!T$271","v":0},{"$f":"Baseline_Data_2012!U182/Baseline_Data_2012!U$271","v":0},{"$f":"Baseline_Data_2012!V182/Baseline_Data_2012!V$271","v":0},{"$f":"Baseline_Data_2012!W182/Baseline_Data_2012!W$271","v":0},{"$f":"Baseline_Data_2012!X182/Baseline_Data_2012!X$271","v":0},{"$f":"Baseline_Data_2012!Y182/Baseline_Data_2012!Y$271","v":0},{"$f":"Baseline_Data_2012!Z182/Baseline_Data_2012!Z$271","v":0},{"$f":"Baseline_Data_2012!AA182/Baseline_Data_2012!AA$271","v":0},{"$f":"Baseline_Data_2012!AB182/Baseline_Data_2012!AB$271","v":0},{"$f":"Baseline_Data_2012!AC182/Baseline_Data_2012!AC$271","v":0},{"$f":"Baseline_Data_2012!AD182/Baseline_Data_2012!AD$271","v":0},{"$f":"Baseline_Data_2012!AE182/Baseline_Data_2012!AE$271","v":0},{"$f":"Baseline_Data_2012!AF182/Baseline_Data_2012!AF$271","v":0},{"$f":"Baseline_Data_2012!AG182/Baseline_Data_2012!AG$271","v":0},{"$f":"Baseline_Data_2012!AH182/Baseline_Data_2012!AH$271","v":0},{"$f":"Baseline_Data_2012!AI182/Baseline_Data_2012!AI$271","v":0},{"$f":"Baseline_Data_2012!AJ182/Baseline_Data_2012!AJ$271","v":0},{"$f":"Baseline_Data_2012!AK182/Baseline_Data_2012!AK$271","v":0},{"$f":"Baseline_Data_2012!AL182/Baseline_Data_2012!AL$271","v":0},{"$f":"Baseline_Data_2012!AM182/Baseline_Data_2012!AM$271","v":0},{"$f":"Baseline_Data_2012!AN182/Baseline_Data_2012!AN$271","v":0},{"$f":"Baseline_Data_2012!AO182/Baseline_Data_2012!AO$271","v":0},{"$f":"Baseline_Data_2012!AP182/Baseline_Data_2012!AP$271","v":0},{"$f":"Baseline_Data_2012!AQ182/Baseline_Data_2012!AQ$271","v":0},{"$f":"Baseline_Data_2012!AR182/Baseline_Data_2012!AR$271","v":0},{"$f":"Baseline_Data_2012!AS182/Baseline_Data_2012!AS$271","v":0},{"$f":"Baseline_Data_2012!AT182/Baseline_Data_2012!AT$271","v":0},{"$f":"Baseline_Data_2012!AU182/Baseline_Data_2012!AU$271","v":0},{"$f":"Baseline_Data_2012!AV182/Baseline_Data_2012!AV$271","v":0},187]
[3,"Female 80-84",null,null,null,{"$f":"G188*'III Tool Overview'!$H$8","v":0},{"$f":"HLOOKUP('III Tool Overview'!$H$6,Targeting!$I$1:$BC$277,Targeting!BD188,FALSE)","v":0},{"$f":"Baseline_Data_2012!B183","v":0},{"$f":"Baseline_Data_2012!B183/Baseline_Data_2012!B$271","v":0},{"$f":"Baseline_Data_2012!C183/Baseline_Data_2012!C$271","v":0},{"$f":"Baseline_Data_2012!D183/Baseline_Data_2012!D$271","v":0},{"$f":"Baseline_Data_2012!E183/Baseline_Data_2012!E$271","v":0},{"$f":"Baseline_Data_2012!F183/Baseline_Data_2012!F$271","v":0},{"$f":"Baseline_Data_2012!G183/Baseline_Data_2012!G$271","v":0},{"$f":"Baseline_Data_2012!H183/Baseline_Data_2012!H$271","v":0},{"$f":"Baseline_Data_2012!I183/Baseline_Data_2012!I$271","v":0},{"$f":"Baseline_Data_2012!J183/Baseline_Data_2012!J$271","v":0},{"$f":"Baseline_Data_2012!K183/Baseline_Data_2012!K$271","v":0},{"$f":"Baseline_Data_2012!L183/Baseline_Data_2012!L$271","v":0},{"$f":"Baseline_Data_2012!M183/Baseline_Data_2012!M$271","v":0},{"$f":"Baseline_Data_2012!N183/Baseline_Data_2012!N$271","v":0},{"$f":"Baseline_Data_2012!O183/Baseline_Data_2012!O$271","v":0},{"$f":"Baseline_Data_2012!P183/Baseline_Data_2012!P$271","v":0},{"$f":"Baseline_Data_2012!Q183/Baseline_Data_2012!Q$271","v":0},{"$f":"Baseline_Data_2012!R183/Baseline_Data_2012!R$271","v":0},{"$f":"Baseline_Data_2012!S183/Baseline_Data_2012!S$271","v":0},{"$f":"Baseline_Data_2012!T183/Baseline_Data_2012!T$271","v":0},{"$f":"Baseline_Data_2012!U183/Baseline_Data_2012!U$271","v":0},{"$f":"Baseline_Data_2012!V183/Baseline_Data_2012!V$271","v":0},{"$f":"Baseline_Data_2012!W183/Baseline_Data_2012!W$271","v":0},{"$f":"Baseline_Data_2012!X183/Baseline_Data_2012!X$271","v":0},{"$f":"Baseline_Data_2012!Y183/Baseline_Data_2012!Y$271","v":0},{"$f":"Baseline_Data_2012!Z183/Baseline_Data_2012!Z$271","v":0},{"$f":"Baseline_Data_2012!AA183/Baseline_Data_2012!AA$271","v":0},{"$f":"Baseline_Data_2012!AB183/Baseline_Data_2012!AB$271","v":0},{"$f":"Baseline_Data_2012!AC183/Baseline_Data_2012!AC$271","v":0},{"$f":"Baseline_Data_2012!AD183/Baseline_Data_2012!AD$271","v":0},{"$f":"Baseline_Data_2012!AE183/Baseline_Data_2012!AE$271","v":0},{"$f":"Baseline_Data_2012!AF183/Baseline_Data_2012!AF$271","v":0},{"$f":"Baseline_Data_2012!AG183/Baseline_Data_2012!AG$271","v":0},{"$f":"Baseline_Data_2012!AH183/Baseline_Data_2012!AH$271","v":0},{"$f":"Baseline_Data_2012!AI183/Baseline_Data_2012!AI$271","v":0},{"$f":"Baseline_Data_2012!AJ183/Baseline_Data_2012!AJ$271","v":0},{"$f":"Baseline_Data_2012!AK183/Baseline_Data_2012!AK$271","v":0},{"$f":"Baseline_Data_2012!AL183/Baseline_Data_2012!AL$271","v":0},{"$f":"Baseline_Data_2012!AM183/Baseline_Data_2012!AM$271","v":0},{"$f":"Baseline_Data_2012!AN183/Baseline_Data_2012!AN$271","v":0},{"$f":"Baseline_Data_2012!AO183/Baseline_Data_2012!AO$271","v":0},{"$f":"Baseline_Data_2012!AP183/Baseline_Data_2012!AP$271","v":0},{"$f":"Baseline_Data_2012!AQ183/Baseline_Data_2012!AQ$271","v":0},{"$f":"Baseline_Data_2012!AR183/Baseline_Data_2012!AR$271","v":0},{"$f":"Baseline_Data_2012!AS183/Baseline_Data_2012!AS$271","v":0},{"$f":"Baseline_Data_2012!AT183/Baseline_Data_2012!AT$271","v":0},{"$f":"Baseline_Data_2012!AU183/Baseline_Data_2012!AU$271","v":0},{"$f":"Baseline_Data_2012!AV183/Baseline_Data_2012!AV$271","v":0},188]
[3,"Female 85+",null,null,null,{"$f":"G189*'III Tool Overview'!$H$8","v":0},{"$f":"HLOOKUP('III Tool Overview'!$H$6,Targeting!$I$1:$BC$277,Targeting!BD189,FALSE)","v":0},{"$f":"Baseline_Data_2012!B184","v":0},{"$f":"Baseline_Data_2012!B184/Baseline_Data_2012!B$271","v":0},{"$f":"Baseline_Data_2012!C184/Baseline_Data_2012!C$271","v":0},{"$f":"Baseline_Data_2012!D184/Baseline_Data_2012!D$271","v":0},{"$f":"Baseline_Data_2012!E184/Baseline_Data_2012!E$271","v":0},{"$f":"Baseline_Data_2012!F184/Baseline_Data_2012!F$271","v":0},{"$f":"Baseline_Data_2012!G184/Baseline_Data_2012!G$271","v":0},{"$f":"Baseline_Data_2012!H184/Baseline_Data_2012!H$271","v":0},{"$f":"Baseline_Data_2012!I184/Baseline_Data_2012!I$271","v":0},{"$f":"Baseline_Data_2012!J184/Baseline_Data_2012!J$271","v":0},{"$f":"Baseline_Data_2012!K184/Baseline_Data_2012!K$271","v":0},{"$f":"Baseline_Data_2012!L184/Baseline_Data_2012!L$271","v":0},{"$f":"Baseline_Data_2012!M184/Baseline_Data_2012!M$271","v":0},{"$f":"Baseline_Data_2012!N184/Baseline_Data_2012!N$271","v":0},{"$f":"Baseline_Data_2012!O184/Baseline_Data_2012!O$271","v":0},{"$f":"Baseline_Data_2012!P184/Baseline_Data_2012!P$271","v":0},{"$f":"Baseline_Data_2012!Q184/Baseline_Data_2012!Q$271","v":0},{"$f":"Baseline_Data_2012!R184/Baseline_Data_2012!R$271","v":0},{"$f":"Baseline_Data_2012!S184/Baseline_Data_2012!S$271","v":0},{"$f":"Baseline_Data_2012!T184/Baseline_Data_2012!T$271","v":0},{"$f":"Baseline_Data_2012!U184/Baseline_Data_2012!U$271","v":0},{"$f":"Baseline_Data_2012!V184/Baseline_Data_2012!V$271","v":0},{"$f":"Baseline_Data_2012!W184/Baseline_Data_2012!W$271","v":0},{"$f":"Baseline_Data_2012!X184/Baseline_Data_2012!X$271","v":0},{"$f":"Baseline_Data_2012!Y184/Baseline_Data_2012!Y$271","v":0},{"$f":"Baseline_Data_2012!Z184/Baseline_Data_2012!Z$271","v":0},{"$f":"Baseline_Data_2012!AA184/Baseline_Data_2012!AA$271","v":0},{"$f":"Baseline_Data_2012!AB184/Baseline_Data_2012!AB$271","v":0},{"$f":"Baseline_Data_2012!AC184/Baseline_Data_2012!AC$271","v":0},{"$f":"Baseline_Data_2012!AD184/Baseline_Data_2012!AD$271","v":0},{"$f":"Baseline_Data_2012!AE184/Baseline_Data_2012!AE$271","v":0},{"$f":"Baseline_Data_2012!AF184/Baseline_Data_2012!AF$271","v":0},{"$f":"Baseline_Data_2012!AG184/Baseline_Data_2012!AG$271","v":0},{"$f":"Baseline_Data_2012!AH184/Baseline_Data_2012!AH$271","v":0},{"$f":"Baseline_Data_2012!AI184/Baseline_Data_2012!AI$271","v":0},{"$f":"Baseline_Data_2012!AJ184/Baseline_Data_2012!AJ$271","v":0},{"$f":"Baseline_Data_2012!AK184/Baseline_Data_2012!AK$271","v":0},{"$f":"Baseline_Data_2012!AL184/Baseline_Data_2012!AL$271","v":0},{"$f":"Baseline_Data_2012!AM184/Baseline_Data_2012!AM$271","v":0},{"$f":"Baseline_Data_2012!AN184/Baseline_Data_2012!AN$271","v":0},{"$f":"Baseline_Data_2012!AO184/Baseline_Data_2012!AO$271","v":0},{"$f":"Baseline_Data_2012!AP184/Baseline_Data_2012!AP$271","v":0},{"$f":"Baseline_Data_2012!AQ184/Baseline_Data_2012!AQ$271","v":0},{"$f":"Baseline_Data_2012!AR184/Baseline_Data_2012!AR$271","v":0},{"$f":"Baseline_Data_2012!AS184/Baseline_Data_2012!AS$271","v":0},{"$f":"Baseline_Data_2012!AT184/Baseline_Data_2012!AT$271","v":0},{"$f":"Baseline_Data_2012!AU184/Baseline_Data_2012!AU$271","v":0},{"$f":"Baseline_Data_2012!AV184/Baseline_Data_2012!AV$271","v":0},189]
[3,"Female 90+",null,null,null,{"$f":"G190*'III Tool Overview'!$H$8","v":0},{"$f":"HLOOKUP('III Tool Overview'!$H$6,Targeting!$I$1:$BC$277,Targeting!BD190,FALSE)","v":0},{"$f":"Baseline_Data_2012!B185","v":0},{"$f":"Baseline_Data_2012!B185/Baseline_Data_2012!B$271","v":0},{"$f":"Baseline_Data_2012!C185/Baseline_Data_2012!C$271","v":0},{"$f":"Baseline_Data_2012!D185/Baseline_Data_2012!D$271","v":0},{"$f":"Baseline_Data_2012!E185/Baseline_Data_2012!E$271","v":0},{"$f":"Baseline_Data_2012!F185/Baseline_Data_2012!F$271","v":0},{"$f":"Baseline_Data_2012!G185/Baseline_Data_2012!G$271","v":0},{"$f":"Baseline_Data_2012!H185/Baseline_Data_2012!H$271","v":0},{"$f":"Baseline_Data_2012!I185/Baseline_Data_2012!I$271","v":0},{"$f":"Baseline_Data_2012!J185/Baseline_Data_2012!J$271","v":0},{"$f":"Baseline_Data_2012!K185/Baseline_Data_2012!K$271","v":0},{"$f":"Baseline_Data_2012!L185/Baseline_Data_2012!L$271","v":0},{"$f":"Baseline_Data_2012!M185/Baseline_Data_2012!M$271","v":0},{"$f":"Baseline_Data_2012!N185/Baseline_Data_2012!N$271","v":0},{"$f":"Baseline_Data_2012!O185/Baseline_Data_2012!O$271","v":0},{"$f":"Baseline_Data_2012!P185/Baseline_Data_2012!P$271","v":0},{"$f":"Baseline_Data_2012!Q185/Baseline_Data_2012!Q$271","v":0},{"$f":"Baseline_Data_2012!R185/Baseline_Data_2012!R$271","v":0},{"$f":"Baseline_Data_2012!S185/Baseline_Data_2012!S$271","v":0},{"$f":"Baseline_Data_2012!T185/Baseline_Data_2012!T$271","v":0},{"$f":"Baseline_Data_2012!U185/Baseline_Data_2012!U$271","v":0},{"$f":"Baseline_Data_2012!V185/Baseline_Data_2012!V$271","v":0},{"$f":"Baseline_Data_2012!W185/Baseline_Data_2012!W$271","v":0},{"$f":"Baseline_Data_2012!X185/Baseline_Data_2012!X$271","v":0},{"$f":"Baseline_Data_2012!Y185/Baseline_Data_2012!Y$271","v":0},{"$f":"Baseline_Data_2012!Z185/Baseline_Data_2012!Z$271","v":0},{"$f":"Baseline_Data_2012!AA185/Baseline_Data_2012!AA$271","v":0},{"$f":"Baseline_Data_2012!AB185/Baseline_Data_2012!AB$271","v":0},{"$f":"Baseline_Data_2012!AC185/Baseline_Data_2012!AC$271","v":0},{"$f":"Baseline_Data_2012!AD185/Baseline_Data_2012!AD$271","v":0},{"$f":"Baseline_Data_2012!AE185/Baseline_Data_2012!AE$271","v":0},{"$f":"Baseline_Data_2012!AF185/Baseline_Data_2012!AF$271","v":0},{"$f":"Baseline_Data_2012!AG185/Baseline_Data_2012!AG$271","v":0},{"$f":"Baseline_Data_2012!AH185/Baseline_Data_2012!AH$271","v":0},{"$f":"Baseline_Data_2012!AI185/Baseline_Data_2012!AI$271","v":0},{"$f":"Baseline_Data_2012!AJ185/Baseline_Data_2012!AJ$271","v":0},{"$f":"Baseline_Data_2012!AK185/Baseline_Data_2012!AK$271","v":0},{"$f":"Baseline_Data_2012!AL185/Baseline_Data_2012!AL$271","v":0},{"$f":"Baseline_Data_2012!AM185/Baseline_Data_2012!AM$271","v":0},{"$f":"Baseline_Data_2012!AN185/Baseline_Data_2012!AN$271","v":0},{"$f":"Baseline_Data_2012!AO185/Baseline_Data_2012!AO$271","v":0},{"$f":"Baseline_Data_2012!AP185/Baseline_Data_2012!AP$271","v":0},{"$f":"Baseline_Data_2012!AQ185/Baseline_Data_2012!AQ$271","v":0},{"$f":"Baseline_Data_2012!AR185/Baseline_Data_2012!AR$271","v":0},{"$f":"Baseline_Data_2012!AS185/Baseline_Data_2012!AS$271","v":0},{"$f":"Baseline_Data_2012!AT185/Baseline_Data_2012!AT$271","v":0},{"$f":"Baseline_Data_2012!AU185/Baseline_Data_2012!AU$271","v":0},{"$f":"Baseline_Data_2012!AV185/Baseline_Data_2012!AV$271","v":0},190]
[null,"TOTAL",null,null,null,null,{"$f":"HLOOKUP('III Tool Overview'!$H$6,Targeting!$I$1:$BC$277,Targeting!BD191,FALSE)","v":0},null,null,null,null,null,null,null,null,null,null,null,null,null,null,null,null,null,null,null,null,null,null,null,null,null,null,null,null,null,null,null,null,null,null,null,null,null,null,null,null,null,null,null,null,null,null,null,null,191]
[null,"age/sex breakdown: Q4",null,null,null,null,{"$f":"HLOOKUP('III Tool Overview'!$H$6,Targeting!$I$1:$BC$277,Targeting!BD192,FALSE)","v":0},null,null,null,null,null,null,null,null,null,null,null,null,null,null,null,null,null,null,null,null,null,null,null,null,null,null,null,null,null,null,null,null,null,null,null,null,null,null,null,null,null,null,null,null,null,null,null,null,192]
[4,"Male <1",null,null,null,null,{"$f":"HLOOKUP('III Tool Overview'!$H$6,Targeting!$I$1:$BC$277,Targeting!BD193,FALSE)","v":0},null,null,null,null,null,null,null,null,null,null,null,null,null,null,null,null,null,null,null,null,null,null,null,null,null,null,null,null,null,null,null,null,null,null,null,null,null,null,null,null,null,null,null,null,null,null,null,null,193]
[4,"Male 1-4",null,null,null,null,{"$f":"HLOOKUP('III Tool Overview'!$H$6,Targeting!$I$1:$BC$277,Targeting!BD194,FALSE)","v":0},null,null,null,null,null,null,null,null,null,null,null,null,null,null,null,null,null,null,null,null,null,null,null,null,null,null,null,null,null,null,null,null,null,null,null,null,null,null,null,null,null,null,null,null,null,null,null,null,194]
[4,"Male 5-9",null,null,null,null,{"$f":"HLOOKUP('III Tool Overview'!$H$6,Targeting!$I$1:$BC$277,Targeting!BD195,FALSE)","v":0},null,null,null,null,null,null,null,null,null,null,null,null,null,null,null,null,null,null,null,null,null,null,null,null,null,null,null,null,null,null,null,null,null,null,null,null,null,null,null,null,null,null,null,null,null,null,null,null,195]
[4,"Male 10-14",null,null,null,null,{"$f":"HLOOKUP('III Tool Overview'!$H$6,Targeting!$I$1:$BC$277,Targeting!BD196,FALSE)","v":0},null,null,null,null,null,null,null,null,null,null,null,null,null,null,null,null,null,null,null,null,null,null,null,null,null,null,null,null,null,null,null,null,null,null,null,null,null,null,null,null,null,null,null,null,null,null,null,null,196]
[4,"Male 15-19",{"$f":"'III Tool Overview'!$H$8/100","v":1000},0,0,{"$f":"G197*'III Tool Overview'!$H$8","v":618.05454661499641},{"$f":"HLOOKUP('III Tool Overview'!$H$6,Targeting!$I$1:$BC$277,Targeting!BD197,FALSE)","v":6.1805454661499641E-3},{"$f":"Baseline_Data_2012!B191","v":9000.6002520840357},{"$f":"Baseline_Data_2012!B191/Baseline_Data_2012!B$271","v":6.1805454661499641E-3},{"$f":"Baseline_Data_2012!C191/Baseline_Data_2012!C$271","v":5.3110622324273778E-3},{"$f":"Baseline_Data_2012!D191/Baseline_Data_2012!D$271","v":1.1508978928990315E-2},{"$f":"Baseline_Data_2012!E191/Baseline_Data_2012!E$271","v":7.0077812008300456E-3},{"$f":"Baseline_Data_2012!F191/Baseline_Data_2012!F$271","v":6.4273951402022906E-3},{"$f":"Baseline_Data_2012!G191/Baseline_Data_2012!G$271","v":6.4450400610466555E-3},{"$f":"Baseline_Data_2012!H191/Baseline_Data_2012!H$271","v":7.4013935188197676E-3},{"$f":"Baseline_Data_2012!I191/Baseline_Data_2012!I$271","v":4.5696258208811104E-3},{"$f":"Baseline_Data_2012!J191/Baseline_Data_2012!J$271","v":9.1279553067277405E-3},{"$f":"Baseline_Data_2012!K191/Baseline_Data_2012!K$271","v":4.4360087472655506E-3},{"$f":"Baseline_Data_2012!L191/Baseline_Data_2012!L$271","v":4.8962501935377704E-3},{"$f":"Baseline_Data_2012!M191/Baseline_Data_2012!M$271","v":1.7485309613872364E-2},{"$f":"Baseline_Data_2012!N191/Baseline_Data_2012!N$271","v":1.5139189006445761E-2},{"$f":"Baseline_Data_2012!O191/Baseline_Data_2012!O$271","v":9.3437644620023748E-3},{"$f":"Baseline_Data_2012!P191/Baseline_Data_2012!P$271","v":3.5853421377166701E-4},{"$f":"Baseline_Data_2012!Q191/Baseline_Data_2012!Q$271","v":3.3890820549604054E-3},{"$f":"Baseline_Data_2012!R191/Baseline_Data_2012!R$271","v":9.7998014681291937E-3},{"$f":"Baseline_Data_2012!S191/Baseline_Data_2012!S$271","v":1.0614902677131978E-2},{"$f":"Baseline_Data_2012!T191/Baseline_Data_2012!T$271","v":7.9974496989707478E-3},{"$f":"Baseline_Data_2012!U191/Baseline_Data_2012!U$271","v":5.3664842360550552E-3},{"$f":"Baseline_Data_2012!V191/Baseline_Data_2012!V$271","v":7.0077812008300438E-3},{"$f":"Baseline_Data_2012!W191/Baseline_Data_2012!W$271","v":3.5499537600169459E-3},{"$f":"Baseline_Data_2012!X191/Baseline_Data_2012!X$271","v":5.4333920747583328E-3},{"$f":"Baseline_Data_2012!Y191/Baseline_Data_2012!Y$271","v":5.4558807406122839E-3},{"$f":"Baseline_Data_2012!Z191/Baseline_Data_2012!Z$271","v":1.036264200337254E-2},{"$f":"Baseline_Data_2012!AA191/Baseline_Data_2012!AA$271","v":5.1421754349949582E-3},{"$f":"Baseline_Data_2012!AB191/Baseline_Data_2012!AB$271","v":3.3788793984314961E-3},{"$f":"Baseline_Data_2012!AC191/Baseline_Data_2012!AC$271","v":3.5853421377166685E-4},{"$f":"Baseline_Data_2012!AD191/Baseline_Data_2012!AD$271","v":5.2522701051697955E-3},{"$f":"Baseline_Data_2012!AE191/Baseline_Data_2012!AE$271","v":6.4273951402022906E-3},{"$f":"Baseline_Data_2012!AF191/Baseline_Data_2012!AF$271","v":4.1456174411557134E-3},{"$f":"Baseline_Data_2012!AG191/Baseline_Data_2012!AG$271","v":9.5345655802431765E-3},{"$f":"Baseline_Data_2012!AH191/Baseline_Data_2012!AH$271","v":4.763069081415959E-3},{"$f":"Baseline_Data_2012!AI191/Baseline_Data_2012!AI$271","v":7.1142773509259545E-3},{"$f":"Baseline_Data_2012!AJ191/Baseline_Data_2012!AJ$271","v":1.0028800837471322E-2},{"$f":"Baseline_Data_2012!AK191/Baseline_Data_2012!AK$271","v":6.694034882971934E-3},{"$f":"Baseline_Data_2012!AL191/Baseline_Data_2012!AL$271","v":4.1486591871286145E-3},{"$f":"Baseline_Data_2012!AM191/Baseline_Data_2012!AM$271","v":1.7485309613872367E-2},{"$f":"Baseline_Data_2012!AN191/Baseline_Data_2012!AN$271","v":1.3795812978298528E-2},{"$f":"Baseline_Data_2012!AO191/Baseline_Data_2012!AO$271","v":4.4738823526344123E-3},{"$f":"Baseline_Data_2012!AP191/Baseline_Data_2012!AP$271","v":1.1508978928990315E-2},{"$f":"Baseline_Data_2012!AQ191/Baseline_Data_2012!AQ$271","v":1.5139189006445765E-2},{"$f":"Baseline_Data_2012!AR191/Baseline_Data_2012!AR$271","v":3.6373304545114595E-3},{"$f":"Baseline_Data_2012!AS191/Baseline_Data_2012!AS$271","v":5.3997769794505912E-3},{"$f":"Baseline_Data_2012!AT191/Baseline_Data_2012!AT$271","v":9.0646806095150776E-3},{"$f":"Baseline_Data_2012!AU191/Baseline_Data_2012!AU$271","v":3.111036861041235E-3},{"$f":"Baseline_Data_2012!AV191/Baseline_Data_2012!AV$271","v":4.9790280912892391E-3},197]
[4,"Male 20-24",{"$f":"'III Tool Overview'!$H$8/100","v":1000},0,0,{"$f":"G198*'III Tool Overview'!$H$8","v":791.12293090842968},{"$f":"HLOOKUP('III Tool Overview'!$H$6,Targeting!$I$1:$BC$277,Targeting!BD198,FALSE)","v":7.9112293090842969E-3},{"$f":"Baseline_Data_2012!B192","v":11520.959258955965},{"$f":"Baseline_Data_2012!B192/Baseline_Data_2012!B$271","v":7.9112293090842969E-3},{"$f":"Baseline_Data_2012!C192/Baseline_Data_2012!C$271","v":5.7328794494432705E-3},{"$f":"Baseline_Data_2012!D192/Baseline_Data_2012!D$271","v":9.9730061771889748E-3},{"$f":"Baseline_Data_2012!E192/Baseline_Data_2012!E$271","v":7.4517130416066092E-3},{"$f":"Baseline_Data_2012!F192/Baseline_Data_2012!F$271","v":6.7331190276769381E-3},{"$f":"Baseline_Data_2012!G192/Baseline_Data_2012!G$271","v":6.8329939287989777E-3},{"$f":"Baseline_Data_2012!H192/Baseline_Data_2012!H$271","v":9.8954054725437831E-3},{"$f":"Baseline_Data_2012!I192/Baseline_Data_2012!I$271","v":7.5246434876498312E-3},{"$f":"Baseline_Data_2012!J192/Baseline_Data_2012!J$271","v":9.2246655096515067E-3},{"$f":"Baseline_Data_2012!K192/Baseline_Data_2012!K$271","v":4.9910648968233022E-3},{"$f":"Baseline_Data_2012!L192/Baseline_Data_2012!L$271","v":7.9421571140491989E-3},{"$f":"Baseline_Data_2012!M192/Baseline_Data_2012!M$271","v":1.8523499872196033E-2},{"$f":"Baseline_Data_2012!N192/Baseline_Data_2012!N$271","v":1.6648240000657399E-2},{"$f":"Baseline_Data_2012!O192/Baseline_Data_2012!O$271","v":1.1189637189936001E-2},{"$f":"Baseline_Data_2012!P192/Baseline_Data_2012!P$271","v":5.7365474203466727E-4},{"$f":"Baseline_Data_2012!Q192/Baseline_Data_2012!Q$271","v":9.2467547425462912E-3},{"$f":"Baseline_Data_2012!R192/Baseline_Data_2012!R$271","v":1.0283315901799005E-2},{"$f":"Baseline_Data_2012!S192/Baseline_Data_2012!S$271","v":1.1766907618836224E-2},{"$f":"Baseline_Data_2012!T192/Baseline_Data_2012!T$271","v":7.3990010820409648E-3},{"$f":"Baseline_Data_2012!U192/Baseline_Data_2012!U$271","v":5.5403980770383204E-3},{"$f":"Baseline_Data_2012!V192/Baseline_Data_2012!V$271","v":7.4517130416066075E-3},{"$f":"Baseline_Data_2012!W192/Baseline_Data_2012!W$271","v":8.7258405398889811E-3},{"$f":"Baseline_Data_2012!X192/Baseline_Data_2012!X$271","v":5.8522402860887385E-3},{"$f":"Baseline_Data_2012!Y192/Baseline_Data_2012!Y$271","v":6.1044099607228007E-3},{"$f":"Baseline_Data_2012!Z192/Baseline_Data_2012!Z$271","v":1.0481616079186233E-2},{"$f":"Baseline_Data_2012!AA192/Baseline_Data_2012!AA$271","v":5.9843183102050506E-3},{"$f":"Baseline_Data_2012!AB192/Baseline_Data_2012!AB$271","v":8.2628959834370221E-3},{"$f":"Baseline_Data_2012!AC192/Baseline_Data_2012!AC$271","v":5.7365474203466705E-4},{"$f":"Baseline_Data_2012!AD192/Baseline_Data_2012!AD$271","v":6.3805943940262412E-3},{"$f":"Baseline_Data_2012!AE192/Baseline_Data_2012!AE$271","v":6.7331190276769381E-3},{"$f":"Baseline_Data_2012!AF192/Baseline_Data_2012!AF$271","v":9.3635679270903712E-3},{"$f":"Baseline_Data_2012!AG192/Baseline_Data_2012!AG$271","v":9.8922395301987084E-3},{"$f":"Baseline_Data_2012!AH192/Baseline_Data_2012!AH$271","v":6.5639467906439012E-3},{"$f":"Baseline_Data_2012!AI192/Baseline_Data_2012!AI$271","v":8.6904079022489811E-3},{"$f":"Baseline_Data_2012!AJ192/Baseline_Data_2012!AJ$271","v":1.0456063358357673E-2},{"$f":"Baseline_Data_2012!AK192/Baseline_Data_2012!AK$271","v":6.8696161258039838E-3},{"$f":"Baseline_Data_2012!AL192/Baseline_Data_2012!AL$271","v":4.616993244001083E-3},{"$f":"Baseline_Data_2012!AM192/Baseline_Data_2012!AM$271","v":1.852349987219604E-2},{"$f":"Baseline_Data_2012!AN192/Baseline_Data_2012!AN$271","v":1.3035617898717896E-2},{"$f":"Baseline_Data_2012!AO192/Baseline_Data_2012!AO$271","v":5.6306567280587205E-3},{"$f":"Baseline_Data_2012!AP192/Baseline_Data_2012!AP$271","v":9.9730061771889748E-3},{"$f":"Baseline_Data_2012!AQ192/Baseline_Data_2012!AQ$271","v":1.6648240000657399E-2},{"$f":"Baseline_Data_2012!AR192/Baseline_Data_2012!AR$271","v":4.3222822933480336E-3},{"$f":"Baseline_Data_2012!AS192/Baseline_Data_2012!AS$271","v":5.9714720041059849E-3},{"$f":"Baseline_Data_2012!AT192/Baseline_Data_2012!AT$271","v":8.3047672650048317E-3},{"$f":"Baseline_Data_2012!AU192/Baseline_Data_2012!AU$271","v":3.6780015226328621E-3},{"$f":"Baseline_Data_2012!AV192/Baseline_Data_2012!AV$271","v":5.0131778038495223E-3},198]
[4,"Male 25-29",{"$f":"'III Tool Overview'!$H$8/100","v":1000},0,0,{"$f":"G199*'III Tool Overview'!$H$8","v":1176.0341401141986},{"$f":"HLOOKUP('III Tool Overview'!$H$6,Targeting!$I$1:$BC$277,Targeting!BD199,FALSE)","v":1.1760341401141986E-2},{"$f":"Baseline_Data_2012!B193","v":17126.341414271632},{"$f":"Baseline_Data_2012!B193/Baseline_Data_2012!B$271","v":1.1760341401141986E-2},{"$f":"Baseline_Data_2012!C193/Baseline_Data_2012!C$271","v":7.8338617616412649E-3},{"$f":"Baseline_Data_2012!D193/Baseline_Data_2012!D$271","v":1.4512990199094751E-2},{"$f":"Baseline_Data_2012!E193/Baseline_Data_2012!E$271","v":1.1714200130983709E-2},{"$f":"Baseline_Data_2012!F193/Baseline_Data_2012!F$271","v":9.4572162009787242E-3},{"$f":"Baseline_Data_2012!G193/Baseline_Data_2012!G$271","v":1.0380845908899483E-2},{"$f":"Baseline_Data_2012!H193/Baseline_Data_2012!H$271","v":1.5350723995919099E-2},{"$f":"Baseline_Data_2012!I193/Baseline_Data_2012!I$271","v":9.7166172572407863E-3},{"$f":"Baseline_Data_2012!J193/Baseline_Data_2012!J$271","v":1.5508313314878234E-2},{"$f":"Baseline_Data_2012!K193/Baseline_Data_2012!K$271","v":7.303624750130076E-3},{"$f":"Baseline_Data_2012!L193/Baseline_Data_2012!L$271","v":1.3254857648899849E-2},{"$f":"Baseline_Data_2012!M193/Baseline_Data_2012!M$271","v":2.6317735153725763E-2},{"$f":"Baseline_Data_2012!N193/Baseline_Data_2012!N$271","v":3.0144761700204015E-2},{"$f":"Baseline_Data_2012!O193/Baseline_Data_2012!O$271","v":1.5778412523415577E-2},{"$f":"Baseline_Data_2012!P193/Baseline_Data_2012!P$271","v":1.2334675633383014E-3},{"$f":"Baseline_Data_2012!Q193/Baseline_Data_2012!Q$271","v":1.3554746206193973E-2},{"$f":"Baseline_Data_2012!R193/Baseline_Data_2012!R$271","v":1.6669740381388378E-2},{"$f":"Baseline_Data_2012!S193/Baseline_Data_2012!S$271","v":1.7137012185692566E-2},{"$f":"Baseline_Data_2012!T193/Baseline_Data_2012!T$271","v":1.0717589052146367E-2},{"$f":"Baseline_Data_2012!U193/Baseline_Data_2012!U$271","v":8.1810679055915568E-3},{"$f":"Baseline_Data_2012!V193/Baseline_Data_2012!V$271","v":1.1714200130983709E-2},{"$f":"Baseline_Data_2012!W193/Baseline_Data_2012!W$271","v":9.2044610381913135E-3},{"$f":"Baseline_Data_2012!X193/Baseline_Data_2012!X$271","v":9.0536897320252184E-3},{"$f":"Baseline_Data_2012!Y193/Baseline_Data_2012!Y$271","v":6.7794253860769685E-3},{"$f":"Baseline_Data_2012!Z193/Baseline_Data_2012!Z$271","v":1.4754552859475537E-2},{"$f":"Baseline_Data_2012!AA193/Baseline_Data_2012!AA$271","v":7.0026832654986083E-3},{"$f":"Baseline_Data_2012!AB193/Baseline_Data_2012!AB$271","v":1.4844988138723893E-2},{"$f":"Baseline_Data_2012!AC193/Baseline_Data_2012!AC$271","v":1.2334675633383009E-3},{"$f":"Baseline_Data_2012!AD193/Baseline_Data_2012!AD$271","v":1.0374848111250272E-2},{"$f":"Baseline_Data_2012!AE193/Baseline_Data_2012!AE$271","v":9.4572162009787242E-3},{"$f":"Baseline_Data_2012!AF193/Baseline_Data_2012!AF$271","v":1.2014653641154538E-2},{"$f":"Baseline_Data_2012!AG193/Baseline_Data_2012!AG$271","v":1.7277336706732024E-2},{"$f":"Baseline_Data_2012!AH193/Baseline_Data_2012!AH$271","v":9.4022686713954064E-3},{"$f":"Baseline_Data_2012!AI193/Baseline_Data_2012!AI$271","v":1.0707348974948801E-2},{"$f":"Baseline_Data_2012!AJ193/Baseline_Data_2012!AJ$271","v":1.6040728181953793E-2},{"$f":"Baseline_Data_2012!AK193/Baseline_Data_2012!AK$271","v":8.9888880928708E-3},{"$f":"Baseline_Data_2012!AL193/Baseline_Data_2012!AL$271","v":7.1609452012572992E-3},{"$f":"Baseline_Data_2012!AM193/Baseline_Data_2012!AM$271","v":2.631773515372577E-2},{"$f":"Baseline_Data_2012!AN193/Baseline_Data_2012!AN$271","v":2.0888467214775035E-2},{"$f":"Baseline_Data_2012!AO193/Baseline_Data_2012!AO$271","v":6.7519904799131364E-3},{"$f":"Baseline_Data_2012!AP193/Baseline_Data_2012!AP$271","v":1.4512990199094751E-2},{"$f":"Baseline_Data_2012!AQ193/Baseline_Data_2012!AQ$271","v":3.0144761700204019E-2},{"$f":"Baseline_Data_2012!AR193/Baseline_Data_2012!AR$271","v":5.2623384876353601E-3},{"$f":"Baseline_Data_2012!AS193/Baseline_Data_2012!AS$271","v":8.8012326555576333E-3},{"$f":"Baseline_Data_2012!AT193/Baseline_Data_2012!AT$271","v":1.1582214415988933E-2},{"$f":"Baseline_Data_2012!AU193/Baseline_Data_2012!AU$271","v":4.9299164850821345E-3},{"$f":"Baseline_Data_2012!AV193/Baseline_Data_2012!AV$271","v":8.6827361255203215E-3},199]
[4,"Male 30-34",{"$f":"'III Tool Overview'!$H$8/100","v":1000},0,0,{"$f":"G200*'III Tool Overview'!$H$8","v":1186.8505396938667},{"$f":"HLOOKUP('III Tool Overview'!$H$6,Targeting!$I$1:$BC$277,Targeting!BD200,FALSE)","v":1.1868505396938667E-2},{"$f":"Baseline_Data_2012!B194","v":17283.858399328368},{"$f":"Baseline_Data_2012!B194/Baseline_Data_2012!B$271","v":1.1868505396938667E-2},{"$f":"Baseline_Data_2012!C194/Baseline_Data_2012!C$271","v":8.4997714222138192E-3},{"$f":"Baseline_Data_2012!D194/Baseline_Data_2012!D$271","v":1.5204084970480217E-2},{"$f":"Baseline_Data_2012!E194/Baseline_Data_2012!E$271","v":1.0311612975610937E-2},{"$f":"Baseline_Data_2012!F194/Baseline_Data_2012!F$271","v":1.0435345727061261E-2},{"$f":"Baseline_Data_2012!G194/Baseline_Data_2012!G$271","v":1.1911661895465307E-2},{"$f":"Baseline_Data_2012!H194/Baseline_Data_2012!H$271","v":1.5308834950590187E-2},{"$f":"Baseline_Data_2012!I194/Baseline_Data_2012!I$271","v":8.8268487850716882E-3},{"$f":"Baseline_Data_2012!J194/Baseline_Data_2012!J$271","v":1.6915944110845571E-2},{"$f":"Baseline_Data_2012!K194/Baseline_Data_2012!K$271","v":8.1401953141389989E-3},{"$f":"Baseline_Data_2012!L194/Baseline_Data_2012!L$271","v":1.2920070007252378E-2},{"$f":"Baseline_Data_2012!M194/Baseline_Data_2012!M$271","v":2.7929025061096725E-2},{"$f":"Baseline_Data_2012!N194/Baseline_Data_2012!N$271","v":2.7513076154948111E-2},{"$f":"Baseline_Data_2012!O194/Baseline_Data_2012!O$271","v":1.6198832503975288E-2},{"$f":"Baseline_Data_2012!P194/Baseline_Data_2012!P$271","v":1.2922041139734586E-3},{"$f":"Baseline_Data_2012!Q194/Baseline_Data_2012!Q$271","v":1.1524104707541652E-2},{"$f":"Baseline_Data_2012!R194/Baseline_Data_2012!R$271","v":1.840956054847431E-2},{"$f":"Baseline_Data_2012!S194/Baseline_Data_2012!S$271","v":1.7035908868962817E-2},{"$f":"Baseline_Data_2012!T194/Baseline_Data_2012!T$271","v":1.1185508740493713E-2},{"$f":"Baseline_Data_2012!U194/Baseline_Data_2012!U$271","v":9.5649301383781866E-3},{"$f":"Baseline_Data_2012!V194/Baseline_Data_2012!V$271","v":1.0311612975610937E-2},{"$f":"Baseline_Data_2012!W194/Baseline_Data_2012!W$271","v":8.1241947105579262E-3},{"$f":"Baseline_Data_2012!X194/Baseline_Data_2012!X$271","v":8.9774481342818485E-3},{"$f":"Baseline_Data_2012!Y194/Baseline_Data_2012!Y$271","v":5.8518920621112138E-3},{"$f":"Baseline_Data_2012!Z194/Baseline_Data_2012!Z$271","v":1.693752501305712E-2},{"$f":"Baseline_Data_2012!AA194/Baseline_Data_2012!AA$271","v":6.9190691369553411E-3},{"$f":"Baseline_Data_2012!AB194/Baseline_Data_2012!AB$271","v":1.315339496620177E-2},{"$f":"Baseline_Data_2012!AC194/Baseline_Data_2012!AC$271","v":1.2922041139734582E-3},{"$f":"Baseline_Data_2012!AD194/Baseline_Data_2012!AD$271","v":1.2704958289310245E-2},{"$f":"Baseline_Data_2012!AE194/Baseline_Data_2012!AE$271","v":1.0435345727061261E-2},{"$f":"Baseline_Data_2012!AF194/Baseline_Data_2012!AF$271","v":1.0044206978269982E-2},{"$f":"Baseline_Data_2012!AG194/Baseline_Data_2012!AG$271","v":1.9035205267009993E-2},{"$f":"Baseline_Data_2012!AH194/Baseline_Data_2012!AH$271","v":7.7479105473962145E-3},{"$f":"Baseline_Data_2012!AI194/Baseline_Data_2012!AI$271","v":1.3336808568354369E-2},{"$f":"Baseline_Data_2012!AJ194/Baseline_Data_2012!AJ$271","v":1.5612975430435024E-2},{"$f":"Baseline_Data_2012!AK194/Baseline_Data_2012!AK$271","v":1.0355199082987161E-2},{"$f":"Baseline_Data_2012!AL194/Baseline_Data_2012!AL$271","v":8.0624570524870133E-3},{"$f":"Baseline_Data_2012!AM194/Baseline_Data_2012!AM$271","v":2.7929025061096732E-2},{"$f":"Baseline_Data_2012!AN194/Baseline_Data_2012!AN$271","v":2.3181103860299122E-2},{"$f":"Baseline_Data_2012!AO194/Baseline_Data_2012!AO$271","v":6.8147413208045219E-3},{"$f":"Baseline_Data_2012!AP194/Baseline_Data_2012!AP$271","v":1.5204084970480217E-2},{"$f":"Baseline_Data_2012!AQ194/Baseline_Data_2012!AQ$271","v":2.7513076154948118E-2},{"$f":"Baseline_Data_2012!AR194/Baseline_Data_2012!AR$271","v":5.9201307985897803E-3},{"$f":"Baseline_Data_2012!AS194/Baseline_Data_2012!AS$271","v":1.046910473314144E-2},{"$f":"Baseline_Data_2012!AT194/Baseline_Data_2012!AT$271","v":1.1826752532257413E-2},{"$f":"Baseline_Data_2012!AU194/Baseline_Data_2012!AU$271","v":4.2630678784043577E-3},{"$f":"Baseline_Data_2012!AV194/Baseline_Data_2012!AV$271","v":9.4324053528526165E-3},200]
[4,"Male 35-39",{"$f":"'III Tool Overview'!$H$8/100","v":1000},0,0,{"$f":"G201*'III Tool Overview'!$H$8","v":1343.9322152602838},{"$f":"HLOOKUP('III Tool Overview'!$H$6,Targeting!$I$1:$BC$277,Targeting!BD201,FALSE)","v":1.3439322152602838E-2},{"$f":"Baseline_Data_2012!B195","v":19571.406280731771},{"$f":"Baseline_Data_2012!B195/Baseline_Data_2012!B$271","v":1.3439322152602838E-2},{"$f":"Baseline_Data_2012!C195/Baseline_Data_2012!C$271","v":1.1341340807811861E-2},{"$f":"Baseline_Data_2012!D195/Baseline_Data_2012!D$271","v":2.2365058319957821E-2},{"$f":"Baseline_Data_2012!E195/Baseline_Data_2012!E$271","v":1.2303682533355391E-2},{"$f":"Baseline_Data_2012!F195/Baseline_Data_2012!F$271","v":1.2771458340951301E-2},{"$f":"Baseline_Data_2012!G195/Baseline_Data_2012!G$271","v":1.4760899643207525E-2},{"$f":"Baseline_Data_2012!H195/Baseline_Data_2012!H$271","v":1.7479305803703177E-2},{"$f":"Baseline_Data_2012!I195/Baseline_Data_2012!I$271","v":9.0555366630769817E-3},{"$f":"Baseline_Data_2012!J195/Baseline_Data_2012!J$271","v":1.8501364803839293E-2},{"$f":"Baseline_Data_2012!K195/Baseline_Data_2012!K$271","v":9.7575274003420098E-3},{"$f":"Baseline_Data_2012!L195/Baseline_Data_2012!L$271","v":1.3677393152975141E-2},{"$f":"Baseline_Data_2012!M195/Baseline_Data_2012!M$271","v":3.0198519988525623E-2},{"$f":"Baseline_Data_2012!N195/Baseline_Data_2012!N$271","v":3.6358048302881432E-2},{"$f":"Baseline_Data_2012!O195/Baseline_Data_2012!O$271","v":1.7737610192544811E-2},{"$f":"Baseline_Data_2012!P195/Baseline_Data_2012!P$271","v":6.3306540045634054E-4},{"$f":"Baseline_Data_2012!Q195/Baseline_Data_2012!Q$271","v":9.8627109132621328E-3},{"$f":"Baseline_Data_2012!R195/Baseline_Data_2012!R$271","v":2.3386474040993865E-2},{"$f":"Baseline_Data_2012!S195/Baseline_Data_2012!S$271","v":2.0849525729431138E-2},{"$f":"Baseline_Data_2012!T195/Baseline_Data_2012!T$271","v":1.3376649856474755E-2},{"$f":"Baseline_Data_2012!U195/Baseline_Data_2012!U$271","v":1.3116720611004747E-2},{"$f":"Baseline_Data_2012!V195/Baseline_Data_2012!V$271","v":1.2303682533355389E-2},{"$f":"Baseline_Data_2012!W195/Baseline_Data_2012!W$271","v":7.5441316667330307E-3},{"$f":"Baseline_Data_2012!X195/Baseline_Data_2012!X$271","v":1.2387664921670866E-2},{"$f":"Baseline_Data_2012!Y195/Baseline_Data_2012!Y$271","v":8.2157157826116857E-3},{"$f":"Baseline_Data_2012!Z195/Baseline_Data_2012!Z$271","v":2.5754954265586539E-2},{"$f":"Baseline_Data_2012!AA195/Baseline_Data_2012!AA$271","v":9.3724503134003153E-3},{"$f":"Baseline_Data_2012!AB195/Baseline_Data_2012!AB$271","v":1.1673533568362031E-2},{"$f":"Baseline_Data_2012!AC195/Baseline_Data_2012!AC$271","v":6.3306540045634011E-4},{"$f":"Baseline_Data_2012!AD195/Baseline_Data_2012!AD$271","v":1.5208726423897012E-2},{"$f":"Baseline_Data_2012!AE195/Baseline_Data_2012!AE$271","v":1.2771458340951301E-2},{"$f":"Baseline_Data_2012!AF195/Baseline_Data_2012!AF$271","v":8.4559883495641565E-3},{"$f":"Baseline_Data_2012!AG195/Baseline_Data_2012!AG$271","v":2.0389927563018419E-2},{"$f":"Baseline_Data_2012!AH195/Baseline_Data_2012!AH$271","v":9.8960675542407867E-3},{"$f":"Baseline_Data_2012!AI195/Baseline_Data_2012!AI$271","v":1.6212776195799198E-2},{"$f":"Baseline_Data_2012!AJ195/Baseline_Data_2012!AJ$271","v":1.8797613412261337E-2},{"$f":"Baseline_Data_2012!AK195/Baseline_Data_2012!AK$271","v":1.3544197713572532E-2},{"$f":"Baseline_Data_2012!AL195/Baseline_Data_2012!AL$271","v":9.1583544618427434E-3},{"$f":"Baseline_Data_2012!AM195/Baseline_Data_2012!AM$271","v":3.0198519988525629E-2},{"$f":"Baseline_Data_2012!AN195/Baseline_Data_2012!AN$271","v":2.4832174737844076E-2},{"$f":"Baseline_Data_2012!AO195/Baseline_Data_2012!AO$271","v":8.359458775556175E-3},{"$f":"Baseline_Data_2012!AP195/Baseline_Data_2012!AP$271","v":2.2365058319957821E-2},{"$f":"Baseline_Data_2012!AQ195/Baseline_Data_2012!AQ$271","v":3.6358048302881446E-2},{"$f":"Baseline_Data_2012!AR195/Baseline_Data_2012!AR$271","v":7.7778371737692127E-3},{"$f":"Baseline_Data_2012!AS195/Baseline_Data_2012!AS$271","v":1.2790904553286212E-2},{"$f":"Baseline_Data_2012!AT195/Baseline_Data_2012!AT$271","v":1.4879406789124437E-2},{"$f":"Baseline_Data_2012!AU195/Baseline_Data_2012!AU$271","v":4.8257765166813118E-3},{"$f":"Baseline_Data_2012!AV195/Baseline_Data_2012!AV$271","v":1.1010468497836016E-2},201]
[4,"Male 40-44",{"$f":"'III Tool Overview'!$H$8/100","v":1000},0,0,{"$f":"G202*'III Tool Overview'!$H$8","v":1662.9967462325953},{"$f":"HLOOKUP('III Tool Overview'!$H$6,Targeting!$I$1:$BC$277,Targeting!BD202,FALSE)","v":1.6629967462325954E-2},{"$f":"Baseline_Data_2012!B196","v":24217.876909624934},{"$f":"Baseline_Data_2012!B196/Baseline_Data_2012!B$271","v":1.6629967462325954E-2},{"$f":"Baseline_Data_2012!C196/Baseline_Data_2012!C$271","v":1.4550770982679215E-2},{"$f":"Baseline_Data_2012!D196/Baseline_Data_2012!D$271","v":3.4550290777799912E-2},{"$f":"Baseline_Data_2012!E196/Baseline_Data_2012!E$271","v":1.7678670124718836E-2},{"$f":"Baseline_Data_2012!F196/Baseline_Data_2012!F$271","v":1.6645446201707291E-2},{"$f":"Baseline_Data_2012!G196/Baseline_Data_2012!G$271","v":1.8929896249023619E-2},{"$f":"Baseline_Data_2012!H196/Baseline_Data_2012!H$271","v":1.9754081345413007E-2},{"$f":"Baseline_Data_2012!I196/Baseline_Data_2012!I$271","v":1.1129949133294492E-2},{"$f":"Baseline_Data_2012!J196/Baseline_Data_2012!J$271","v":2.3558535871981381E-2},{"$f":"Baseline_Data_2012!K196/Baseline_Data_2012!K$271","v":1.2795728981404709E-2},{"$f":"Baseline_Data_2012!L196/Baseline_Data_2012!L$271","v":1.4691169781147921E-2},{"$f":"Baseline_Data_2012!M196/Baseline_Data_2012!M$271","v":4.5346020430054451E-2},{"$f":"Baseline_Data_2012!N196/Baseline_Data_2012!N$271","v":3.5498519974208116E-2},{"$f":"Baseline_Data_2012!O196/Baseline_Data_2012!O$271","v":2.4075980593758883E-2},{"$f":"Baseline_Data_2012!P196/Baseline_Data_2012!P$271","v":1.3294373409583149E-3},{"$f":"Baseline_Data_2012!Q196/Baseline_Data_2012!Q$271","v":8.7360716516348118E-3},{"$f":"Baseline_Data_2012!R196/Baseline_Data_2012!R$271","v":2.7075865643288854E-2},{"$f":"Baseline_Data_2012!S196/Baseline_Data_2012!S$271","v":2.8876956367417689E-2},{"$f":"Baseline_Data_2012!T196/Baseline_Data_2012!T$271","v":1.8299833376362231E-2},{"$f":"Baseline_Data_2012!U196/Baseline_Data_2012!U$271","v":1.5880444351785011E-2},{"$f":"Baseline_Data_2012!V196/Baseline_Data_2012!V$271","v":1.7678670124718833E-2},{"$f":"Baseline_Data_2012!W196/Baseline_Data_2012!W$271","v":9.3942781219994807E-3},{"$f":"Baseline_Data_2012!X196/Baseline_Data_2012!X$271","v":1.5428086826160566E-2},{"$f":"Baseline_Data_2012!Y196/Baseline_Data_2012!Y$271","v":1.1178462845810148E-2},{"$f":"Baseline_Data_2012!Z196/Baseline_Data_2012!Z$271","v":3.1742035803671499E-2},{"$f":"Baseline_Data_2012!AA196/Baseline_Data_2012!AA$271","v":1.2436520608165804E-2},{"$f":"Baseline_Data_2012!AB196/Baseline_Data_2012!AB$271","v":1.0438592204446677E-2},{"$f":"Baseline_Data_2012!AC196/Baseline_Data_2012!AC$271","v":1.3294373409583143E-3},{"$f":"Baseline_Data_2012!AD196/Baseline_Data_2012!AD$271","v":1.8253277746762001E-2},{"$f":"Baseline_Data_2012!AE196/Baseline_Data_2012!AE$271","v":1.6645446201707291E-2},{"$f":"Baseline_Data_2012!AF196/Baseline_Data_2012!AF$271","v":9.4202677227600683E-3},{"$f":"Baseline_Data_2012!AG196/Baseline_Data_2012!AG$271","v":2.5487409453773022E-2},{"$f":"Baseline_Data_2012!AH196/Baseline_Data_2012!AH$271","v":1.3729679309487219E-2},{"$f":"Baseline_Data_2012!AI196/Baseline_Data_2012!AI$271","v":1.8306394539193738E-2},{"$f":"Baseline_Data_2012!AJ196/Baseline_Data_2012!AJ$271","v":2.4937748005118159E-2},{"$f":"Baseline_Data_2012!AK196/Baseline_Data_2012!AK$271","v":1.7012597414186956E-2},{"$f":"Baseline_Data_2012!AL196/Baseline_Data_2012!AL$271","v":1.1873472338416138E-2},{"$f":"Baseline_Data_2012!AM196/Baseline_Data_2012!AM$271","v":4.5346020430054465E-2},{"$f":"Baseline_Data_2012!AN196/Baseline_Data_2012!AN$271","v":3.4029841425141365E-2},{"$f":"Baseline_Data_2012!AO196/Baseline_Data_2012!AO$271","v":1.1024205343168742E-2},{"$f":"Baseline_Data_2012!AP196/Baseline_Data_2012!AP$271","v":3.4550290777799912E-2},{"$f":"Baseline_Data_2012!AQ196/Baseline_Data_2012!AQ$271","v":3.5498519974208123E-2},{"$f":"Baseline_Data_2012!AR196/Baseline_Data_2012!AR$271","v":1.0843097400428927E-2},{"$f":"Baseline_Data_2012!AS196/Baseline_Data_2012!AS$271","v":1.6503723874969834E-2},{"$f":"Baseline_Data_2012!AT196/Baseline_Data_2012!AT$271","v":2.1732080447239718E-2},{"$f":"Baseline_Data_2012!AU196/Baseline_Data_2012!AU$271","v":7.033312582822763E-3},{"$f":"Baseline_Data_2012!AV196/Baseline_Data_2012!AV$271","v":1.5134871812469005E-2},202]
[4,"Male 45-49",{"$f":"'III Tool Overview'!$H$8/100","v":1000},0,0,{"$f":"G203*'III Tool Overview'!$H$8","v":1772.1918965698749},{"$f":"HLOOKUP('III Tool Overview'!$H$6,Targeting!$I$1:$BC$277,Targeting!BD203,FALSE)","v":1.772191896569875E-2},{"$f":"Baseline_Data_2012!B197","v":25808.063250029449},{"$f":"Baseline_Data_2012!B197/Baseline_Data_2012!B$271","v":1.772191896569875E-2},{"$f":"Baseline_Data_2012!C197/Baseline_Data_2012!C$271","v":1.5087044352791125E-2},{"$f":"Baseline_Data_2012!D197/Baseline_Data_2012!D$271","v":3.7799021028916906E-2},{"$f":"Baseline_Data_2012!E197/Baseline_Data_2012!E$271","v":2.1607136714330812E-2},{"$f":"Baseline_Data_2012!F197/Baseline_Data_2012!F$271","v":1.9233218363301618E-2},{"$f":"Baseline_Data_2012!G197/Baseline_Data_2012!G$271","v":1.9446274689662701E-2},{"$f":"Baseline_Data_2012!H197/Baseline_Data_2012!H$271","v":2.0916190935965879E-2},{"$f":"Baseline_Data_2012!I197/Baseline_Data_2012!I$271","v":1.1337254141988535E-2},{"$f":"Baseline_Data_2012!J197/Baseline_Data_2012!J$271","v":2.6324965302476789E-2},{"$f":"Baseline_Data_2012!K197/Baseline_Data_2012!K$271","v":1.2933531353329426E-2},{"$f":"Baseline_Data_2012!L197/Baseline_Data_2012!L$271","v":1.4689623896404569E-2},{"$f":"Baseline_Data_2012!M197/Baseline_Data_2012!M$271","v":5.1852312543568153E-2},{"$f":"Baseline_Data_2012!N197/Baseline_Data_2012!N$271","v":4.1220694461426337E-2},{"$f":"Baseline_Data_2012!O197/Baseline_Data_2012!O$271","v":2.7338359852937602E-2},{"$f":"Baseline_Data_2012!P197/Baseline_Data_2012!P$271","v":1.3658956102258989E-3},{"$f":"Baseline_Data_2012!Q197/Baseline_Data_2012!Q$271","v":8.7940824096112528E-3},{"$f":"Baseline_Data_2012!R197/Baseline_Data_2012!R$271","v":2.8863928834228642E-2},{"$f":"Baseline_Data_2012!S197/Baseline_Data_2012!S$271","v":3.2221007010150238E-2},{"$f":"Baseline_Data_2012!T197/Baseline_Data_2012!T$271","v":2.3246392534281023E-2},{"$f":"Baseline_Data_2012!U197/Baseline_Data_2012!U$271","v":1.5488267141049091E-2},{"$f":"Baseline_Data_2012!V197/Baseline_Data_2012!V$271","v":2.1607136714330812E-2},{"$f":"Baseline_Data_2012!W197/Baseline_Data_2012!W$271","v":1.038633792082779E-2},{"$f":"Baseline_Data_2012!X197/Baseline_Data_2012!X$271","v":1.5291854722109454E-2},{"$f":"Baseline_Data_2012!Y197/Baseline_Data_2012!Y$271","v":1.3119915454905302E-2},{"$f":"Baseline_Data_2012!Z197/Baseline_Data_2012!Z$271","v":3.1521581143082199E-2},{"$f":"Baseline_Data_2012!AA197/Baseline_Data_2012!AA$271","v":1.2727073428179763E-2},{"$f":"Baseline_Data_2012!AB197/Baseline_Data_2012!AB$271","v":1.032328998662275E-2},{"$f":"Baseline_Data_2012!AC197/Baseline_Data_2012!AC$271","v":1.3658956102258982E-3},{"$f":"Baseline_Data_2012!AD197/Baseline_Data_2012!AD$271","v":1.8011482579685111E-2},{"$f":"Baseline_Data_2012!AE197/Baseline_Data_2012!AE$271","v":1.9233218363301618E-2},{"$f":"Baseline_Data_2012!AF197/Baseline_Data_2012!AF$271","v":9.0778651655463588E-3},{"$f":"Baseline_Data_2012!AG197/Baseline_Data_2012!AG$271","v":2.7429329262591406E-2},{"$f":"Baseline_Data_2012!AH197/Baseline_Data_2012!AH$271","v":1.6379512943307032E-2},{"$f":"Baseline_Data_2012!AI197/Baseline_Data_2012!AI$271","v":1.9105325909467601E-2},{"$f":"Baseline_Data_2012!AJ197/Baseline_Data_2012!AJ$271","v":2.6902718506300424E-2},{"$f":"Baseline_Data_2012!AK197/Baseline_Data_2012!AK$271","v":1.8128869970319431E-2},{"$f":"Baseline_Data_2012!AL197/Baseline_Data_2012!AL$271","v":1.161079285665708E-2},{"$f":"Baseline_Data_2012!AM197/Baseline_Data_2012!AM$271","v":5.1852312543568167E-2},{"$f":"Baseline_Data_2012!AN197/Baseline_Data_2012!AN$271","v":3.9387413677290505E-2},{"$f":"Baseline_Data_2012!AO197/Baseline_Data_2012!AO$271","v":1.1912756703347419E-2},{"$f":"Baseline_Data_2012!AP197/Baseline_Data_2012!AP$271","v":3.7799021028916906E-2},{"$f":"Baseline_Data_2012!AQ197/Baseline_Data_2012!AQ$271","v":4.1220694461426344E-2},{"$f":"Baseline_Data_2012!AR197/Baseline_Data_2012!AR$271","v":1.143162773370671E-2},{"$f":"Baseline_Data_2012!AS197/Baseline_Data_2012!AS$271","v":1.614489316106537E-2},{"$f":"Baseline_Data_2012!AT197/Baseline_Data_2012!AT$271","v":2.4038972513465172E-2},{"$f":"Baseline_Data_2012!AU197/Baseline_Data_2012!AU$271","v":8.3074846317113312E-3},{"$f":"Baseline_Data_2012!AV197/Baseline_Data_2012!AV$271","v":1.5209755752668915E-2},203]
[4,"Male 50-54",{"$f":"'III Tool Overview'!$H$8/100","v":1000},0,0,{"$f":"G204*'III Tool Overview'!$H$8","v":1679.6313488846463},{"$f":"HLOOKUP('III Tool Overview'!$H$6,Targeting!$I$1:$BC$277,Targeting!BD204,FALSE)","v":1.6796313488846464E-2},{"$f":"Baseline_Data_2012!B198","v":24460.123180028371},{"$f":"Baseline_Data_2012!B198/Baseline_Data_2012!B$271","v":1.6796313488846464E-2},{"$f":"Baseline_Data_2012!C198/Baseline_Data_2012!C$271","v":1.5365942179735328E-2},{"$f":"Baseline_Data_2012!D198/Baseline_Data_2012!D$271","v":3.6506586712269098E-2},{"$f":"Baseline_Data_2012!E198/Baseline_Data_2012!E$271","v":2.0454023954480881E-2},{"$f":"Baseline_Data_2012!F198/Baseline_Data_2012!F$271","v":1.8193079934975397E-2},{"$f":"Baseline_Data_2012!G198/Baseline_Data_2012!G$271","v":1.7712580066512981E-2},{"$f":"Baseline_Data_2012!H198/Baseline_Data_2012!H$271","v":1.9233631365477826E-2},{"$f":"Baseline_Data_2012!I198/Baseline_Data_2012!I$271","v":1.1454133050668829E-2},{"$f":"Baseline_Data_2012!J198/Baseline_Data_2012!J$271","v":2.5455410539610535E-2},{"$f":"Baseline_Data_2012!K198/Baseline_Data_2012!K$271","v":1.1468705120981476E-2},{"$f":"Baseline_Data_2012!L198/Baseline_Data_2012!L$271","v":1.3786869232171249E-2},{"$f":"Baseline_Data_2012!M198/Baseline_Data_2012!M$271","v":4.5701947004641273E-2},{"$f":"Baseline_Data_2012!N198/Baseline_Data_2012!N$271","v":3.8776113399296763E-2},{"$f":"Baseline_Data_2012!O198/Baseline_Data_2012!O$271","v":2.5475110885287332E-2},{"$f":"Baseline_Data_2012!P198/Baseline_Data_2012!P$271","v":1.2417232820235446E-3},{"$f":"Baseline_Data_2012!Q198/Baseline_Data_2012!Q$271","v":8.0695442090253627E-3},{"$f":"Baseline_Data_2012!R198/Baseline_Data_2012!R$271","v":2.626983836401954E-2},{"$f":"Baseline_Data_2012!S198/Baseline_Data_2012!S$271","v":3.0172684287006358E-2},{"$f":"Baseline_Data_2012!T198/Baseline_Data_2012!T$271","v":2.244560494951349E-2},{"$f":"Baseline_Data_2012!U198/Baseline_Data_2012!U$271","v":1.5101060462522865E-2},{"$f":"Baseline_Data_2012!V198/Baseline_Data_2012!V$271","v":2.0454023954480885E-2},{"$f":"Baseline_Data_2012!W198/Baseline_Data_2012!W$271","v":1.0839958101104906E-2},{"$f":"Baseline_Data_2012!X198/Baseline_Data_2012!X$271","v":1.5412738949161703E-2},{"$f":"Baseline_Data_2012!Y198/Baseline_Data_2012!Y$271","v":1.4332081556717205E-2},{"$f":"Baseline_Data_2012!Z198/Baseline_Data_2012!Z$271","v":2.937893771897726E-2},{"$f":"Baseline_Data_2012!AA198/Baseline_Data_2012!AA$271","v":1.3434133063078639E-2},{"$f":"Baseline_Data_2012!AB198/Baseline_Data_2012!AB$271","v":9.6113389530625599E-3},{"$f":"Baseline_Data_2012!AC198/Baseline_Data_2012!AC$271","v":1.2417232820235438E-3},{"$f":"Baseline_Data_2012!AD198/Baseline_Data_2012!AD$271","v":1.6057601352553498E-2},{"$f":"Baseline_Data_2012!AE198/Baseline_Data_2012!AE$271","v":1.8193079934975397E-2},{"$f":"Baseline_Data_2012!AF198/Baseline_Data_2012!AF$271","v":8.5380174268951427E-3},{"$f":"Baseline_Data_2012!AG198/Baseline_Data_2012!AG$271","v":2.6535664018874718E-2},{"$f":"Baseline_Data_2012!AH198/Baseline_Data_2012!AH$271","v":1.7632749698755792E-2},{"$f":"Baseline_Data_2012!AI198/Baseline_Data_2012!AI$271","v":1.8178855321459339E-2},{"$f":"Baseline_Data_2012!AJ198/Baseline_Data_2012!AJ$271","v":2.5525726802769388E-2},{"$f":"Baseline_Data_2012!AK198/Baseline_Data_2012!AK$271","v":1.782482183664531E-2},{"$f":"Baseline_Data_2012!AL198/Baseline_Data_2012!AL$271","v":1.021182072549991E-2},{"$f":"Baseline_Data_2012!AM198/Baseline_Data_2012!AM$271","v":4.5701947004641287E-2},{"$f":"Baseline_Data_2012!AN198/Baseline_Data_2012!AN$271","v":3.5468119190602276E-2},{"$f":"Baseline_Data_2012!AO198/Baseline_Data_2012!AO$271","v":1.2907697407969975E-2},{"$f":"Baseline_Data_2012!AP198/Baseline_Data_2012!AP$271","v":3.6506586712269098E-2},{"$f":"Baseline_Data_2012!AQ198/Baseline_Data_2012!AQ$271","v":3.877611339929677E-2},{"$f":"Baseline_Data_2012!AR198/Baseline_Data_2012!AR$271","v":1.2495034964749192E-2},{"$f":"Baseline_Data_2012!AS198/Baseline_Data_2012!AS$271","v":1.4571766233989702E-2},{"$f":"Baseline_Data_2012!AT198/Baseline_Data_2012!AT$271","v":2.1947605403300558E-2},{"$f":"Baseline_Data_2012!AU198/Baseline_Data_2012!AU$271","v":9.4403234451265125E-3},{"$f":"Baseline_Data_2012!AV198/Baseline_Data_2012!AV$271","v":1.4500124846634595E-2},204]
[4,"Male 55-59",{"$f":"'III Tool Overview'!$H$8/100","v":1000},0,0,{"$f":"G205*'III Tool Overview'!$H$8","v":1128.3115140647549},{"$f":"HLOOKUP('III Tool Overview'!$H$6,Targeting!$I$1:$BC$277,Targeting!BD205,FALSE)","v":1.1283115140647549E-2},{"$f":"Baseline_Data_2012!B199","v":16431.36670305362},{"$f":"Baseline_Data_2012!B199/Baseline_Data_2012!B$271","v":1.1283115140647549E-2},{"$f":"Baseline_Data_2012!C199/Baseline_Data_2012!C$271","v":1.0315225336974173E-2},{"$f":"Baseline_Data_2012!D199/Baseline_Data_2012!D$271","v":2.5921155301114874E-2},{"$f":"Baseline_Data_2012!E199/Baseline_Data_2012!E$271","v":1.5050055171886722E-2},{"$f":"Baseline_Data_2012!F199/Baseline_Data_2012!F$271","v":1.1879963552616868E-2},{"$f":"Baseline_Data_2012!G199/Baseline_Data_2012!G$271","v":1.1415542848933173E-2},{"$f":"Baseline_Data_2012!H199/Baseline_Data_2012!H$271","v":1.3603618482154137E-2},{"$f":"Baseline_Data_2012!I199/Baseline_Data_2012!I$271","v":7.3826749190384743E-3},{"$f":"Baseline_Data_2012!J199/Baseline_Data_2012!J$271","v":1.7803352853807037E-2},{"$f":"Baseline_Data_2012!K199/Baseline_Data_2012!K$271","v":7.385019424692536E-3},{"$f":"Baseline_Data_2012!L199/Baseline_Data_2012!L$271","v":8.7556215006522591E-3},{"$f":"Baseline_Data_2012!M199/Baseline_Data_2012!M$271","v":3.23647751557549E-2},{"$f":"Baseline_Data_2012!N199/Baseline_Data_2012!N$271","v":2.4929936692411947E-2},{"$f":"Baseline_Data_2012!O199/Baseline_Data_2012!O$271","v":1.7641954339391364E-2},{"$f":"Baseline_Data_2012!P199/Baseline_Data_2012!P$271","v":1.0664542003194497E-3},{"$f":"Baseline_Data_2012!Q199/Baseline_Data_2012!Q$271","v":5.8439243896128076E-3},{"$f":"Baseline_Data_2012!R199/Baseline_Data_2012!R$271","v":1.8200896839348373E-2},{"$f":"Baseline_Data_2012!S199/Baseline_Data_2012!S$271","v":2.0405415704406321E-2},{"$f":"Baseline_Data_2012!T199/Baseline_Data_2012!T$271","v":1.609455795057373E-2},{"$f":"Baseline_Data_2012!U199/Baseline_Data_2012!U$271","v":9.8962484759999043E-3},{"$f":"Baseline_Data_2012!V199/Baseline_Data_2012!V$271","v":1.505005517188672E-2},{"$f":"Baseline_Data_2012!W199/Baseline_Data_2012!W$271","v":7.5465148598628136E-3},{"$f":"Baseline_Data_2012!X199/Baseline_Data_2012!X$271","v":1.0216630962754115E-2},{"$f":"Baseline_Data_2012!Y199/Baseline_Data_2012!Y$271","v":9.4255353031472474E-3},{"$f":"Baseline_Data_2012!Z199/Baseline_Data_2012!Z$271","v":1.940220970331839E-2},{"$f":"Baseline_Data_2012!AA199/Baseline_Data_2012!AA$271","v":8.3498010514264052E-3},{"$f":"Baseline_Data_2012!AB199/Baseline_Data_2012!AB$271","v":6.1145923665433975E-3},{"$f":"Baseline_Data_2012!AC199/Baseline_Data_2012!AC$271","v":1.0664542003194495E-3},{"$f":"Baseline_Data_2012!AD199/Baseline_Data_2012!AD$271","v":9.3923778609106782E-3},{"$f":"Baseline_Data_2012!AE199/Baseline_Data_2012!AE$271","v":1.1879963552616868E-2},{"$f":"Baseline_Data_2012!AF199/Baseline_Data_2012!AF$271","v":5.5157420298239017E-3},{"$f":"Baseline_Data_2012!AG199/Baseline_Data_2012!AG$271","v":1.8410015352374312E-2},{"$f":"Baseline_Data_2012!AH199/Baseline_Data_2012!AH$271","v":1.0926672584872637E-2},{"$f":"Baseline_Data_2012!AI199/Baseline_Data_2012!AI$271","v":1.2136519387265385E-2},{"$f":"Baseline_Data_2012!AJ199/Baseline_Data_2012!AJ$271","v":1.8787002074640412E-2},{"$f":"Baseline_Data_2012!AK199/Baseline_Data_2012!AK$271","v":1.2048960874698466E-2},{"$f":"Baseline_Data_2012!AL199/Baseline_Data_2012!AL$271","v":6.5917607954293599E-3},{"$f":"Baseline_Data_2012!AM199/Baseline_Data_2012!AM$271","v":3.2364775155754914E-2},{"$f":"Baseline_Data_2012!AN199/Baseline_Data_2012!AN$271","v":2.4935629711398295E-2},{"$f":"Baseline_Data_2012!AO199/Baseline_Data_2012!AO$271","v":8.6292616023131707E-3},{"$f":"Baseline_Data_2012!AP199/Baseline_Data_2012!AP$271","v":2.5921155301114874E-2},{"$f":"Baseline_Data_2012!AQ199/Baseline_Data_2012!AQ$271","v":2.492993669241195E-2},{"$f":"Baseline_Data_2012!AR199/Baseline_Data_2012!AR$271","v":8.4305301878943723E-3},{"$f":"Baseline_Data_2012!AS199/Baseline_Data_2012!AS$271","v":9.42413931893216E-3},{"$f":"Baseline_Data_2012!AT199/Baseline_Data_2012!AT$271","v":1.5689074691697596E-2},{"$f":"Baseline_Data_2012!AU199/Baseline_Data_2012!AU$271","v":5.6778261963321263E-3},{"$f":"Baseline_Data_2012!AV199/Baseline_Data_2012!AV$271","v":8.4707023832256371E-3},205]
[4,"Male 60-64",{"$f":"'III Tool Overview'!$H$8/100","v":1000},0,0,{"$f":"G206*'III Tool Overview'!$H$8","v":1087.1928194506518},{"$f":"HLOOKUP('III Tool Overview'!$H$6,Targeting!$I$1:$BC$277,Targeting!BD206,FALSE)","v":1.0871928194506518E-2},{"$f":"Baseline_Data_2012!B200","v":15832.563676466381},{"$f":"Baseline_Data_2012!B200/Baseline_Data_2012!B$271","v":1.0871928194506518E-2},{"$f":"Baseline_Data_2012!C200/Baseline_Data_2012!C$271","v":1.0042466974698414E-2},{"$f":"Baseline_Data_2012!D200/Baseline_Data_2012!D$271","v":2.6061042809485704E-2},{"$f":"Baseline_Data_2012!E200/Baseline_Data_2012!E$271","v":1.582921334154843E-2},{"$f":"Baseline_Data_2012!F200/Baseline_Data_2012!F$271","v":1.2140448266378241E-2},{"$f":"Baseline_Data_2012!G200/Baseline_Data_2012!G$271","v":1.0897635422894618E-2},{"$f":"Baseline_Data_2012!H200/Baseline_Data_2012!H$271","v":1.3255133865090727E-2},{"$f":"Baseline_Data_2012!I200/Baseline_Data_2012!I$271","v":6.5152481227132436E-3},{"$f":"Baseline_Data_2012!J200/Baseline_Data_2012!J$271","v":1.7711954933184955E-2},{"$f":"Baseline_Data_2012!K200/Baseline_Data_2012!K$271","v":6.7045180235836199E-3},{"$f":"Baseline_Data_2012!L200/Baseline_Data_2012!L$271","v":8.0023144351957318E-3},{"$f":"Baseline_Data_2012!M200/Baseline_Data_2012!M$271","v":3.1658120676371609E-2},{"$f":"Baseline_Data_2012!N200/Baseline_Data_2012!N$271","v":2.631493317532372E-2},{"$f":"Baseline_Data_2012!O200/Baseline_Data_2012!O$271","v":1.7945850198365466E-2},{"$f":"Baseline_Data_2012!P200/Baseline_Data_2012!P$271","v":1.5764975135157085E-3},{"$f":"Baseline_Data_2012!Q200/Baseline_Data_2012!Q$271","v":5.2013632588104727E-3},{"$f":"Baseline_Data_2012!R200/Baseline_Data_2012!R$271","v":1.8150648964638517E-2},{"$f":"Baseline_Data_2012!S200/Baseline_Data_2012!S$271","v":2.0817780689306321E-2},{"$f":"Baseline_Data_2012!T200/Baseline_Data_2012!T$271","v":1.6657427736823303E-2},{"$f":"Baseline_Data_2012!U200/Baseline_Data_2012!U$271","v":9.9283791528700337E-3},{"$f":"Baseline_Data_2012!V200/Baseline_Data_2012!V$271","v":1.582921334154843E-2},{"$f":"Baseline_Data_2012!W200/Baseline_Data_2012!W$271","v":6.623643847588569E-3},{"$f":"Baseline_Data_2012!X200/Baseline_Data_2012!X$271","v":9.494394900585932E-3},{"$f":"Baseline_Data_2012!Y200/Baseline_Data_2012!Y$271","v":8.9462707962075574E-3},{"$f":"Baseline_Data_2012!Z200/Baseline_Data_2012!Z$271","v":1.6786527189786168E-2},{"$f":"Baseline_Data_2012!AA200/Baseline_Data_2012!AA$271","v":7.3267028988800867E-3},{"$f":"Baseline_Data_2012!AB200/Baseline_Data_2012!AB$271","v":5.5462194629066789E-3},{"$f":"Baseline_Data_2012!AC200/Baseline_Data_2012!AC$271","v":1.5764975135157079E-3},{"$f":"Baseline_Data_2012!AD200/Baseline_Data_2012!AD$271","v":9.731489971862595E-3},{"$f":"Baseline_Data_2012!AE200/Baseline_Data_2012!AE$271","v":1.2140448266378241E-2},{"$f":"Baseline_Data_2012!AF200/Baseline_Data_2012!AF$271","v":4.7437097083866519E-3},{"$f":"Baseline_Data_2012!AG200/Baseline_Data_2012!AG$271","v":1.8073005021085334E-2},{"$f":"Baseline_Data_2012!AH200/Baseline_Data_2012!AH$271","v":9.9254237025934704E-3},{"$f":"Baseline_Data_2012!AI200/Baseline_Data_2012!AI$271","v":1.2360923443732541E-2},{"$f":"Baseline_Data_2012!AJ200/Baseline_Data_2012!AJ$271","v":1.828048976380452E-2},{"$f":"Baseline_Data_2012!AK200/Baseline_Data_2012!AK$271","v":1.1793505873821466E-2},{"$f":"Baseline_Data_2012!AL200/Baseline_Data_2012!AL$271","v":5.8397145791054894E-3},{"$f":"Baseline_Data_2012!AM200/Baseline_Data_2012!AM$271","v":3.1658120676371616E-2},{"$f":"Baseline_Data_2012!AN200/Baseline_Data_2012!AN$271","v":2.6320942473142647E-2},{"$f":"Baseline_Data_2012!AO200/Baseline_Data_2012!AO$271","v":7.6088093117985239E-3},{"$f":"Baseline_Data_2012!AP200/Baseline_Data_2012!AP$271","v":2.6061042809485704E-2},{"$f":"Baseline_Data_2012!AQ200/Baseline_Data_2012!AQ$271","v":2.6314933175323726E-2},{"$f":"Baseline_Data_2012!AR200/Baseline_Data_2012!AR$271","v":8.598529883667631E-3},{"$f":"Baseline_Data_2012!AS200/Baseline_Data_2012!AS$271","v":8.3151191626472908E-3},{"$f":"Baseline_Data_2012!AT200/Baseline_Data_2012!AT$271","v":1.3407665620197946E-2},{"$f":"Baseline_Data_2012!AU200/Baseline_Data_2012!AU$271","v":5.9034351842658529E-3},{"$f":"Baseline_Data_2012!AV200/Baseline_Data_2012!AV$271","v":7.8082386931923485E-3},206]
[4,"Male 65-69",null,null,null,{"$f":"G207*'III Tool Overview'!$H$8","v":0},{"$f":"HLOOKUP('III Tool Overview'!$H$6,Targeting!$I$1:$BC$277,Targeting!BD207,FALSE)","v":0},{"$f":"Baseline_Data_2012!B201","v":0},{"$f":"Baseline_Data_2012!B201/Baseline_Data_2012!B$271","v":0},{"$f":"Baseline_Data_2012!C201/Baseline_Data_2012!C$271","v":0},{"$f":"Baseline_Data_2012!D201/Baseline_Data_2012!D$271","v":0},{"$f":"Baseline_Data_2012!E201/Baseline_Data_2012!E$271","v":0},{"$f":"Baseline_Data_2012!F201/Baseline_Data_2012!F$271","v":0},{"$f":"Baseline_Data_2012!G201/Baseline_Data_2012!G$271","v":0},{"$f":"Baseline_Data_2012!H201/Baseline_Data_2012!H$271","v":0},{"$f":"Baseline_Data_2012!I201/Baseline_Data_2012!I$271","v":0},{"$f":"Baseline_Data_2012!J201/Baseline_Data_2012!J$271","v":0},{"$f":"Baseline_Data_2012!K201/Baseline_Data_2012!K$271","v":0},{"$f":"Baseline_Data_2012!L201/Baseline_Data_2012!L$271","v":0},{"$f":"Baseline_Data_2012!M201/Baseline_Data_2012!M$271","v":0},{"$f":"Baseline_Data_2012!N201/Baseline_Data_2012!N$271","v":0},{"$f":"Baseline_Data_2012!O201/Baseline_Data_2012!O$271","v":0},{"$f":"Baseline_Data_2012!P201/Baseline_Data_2012!P$271","v":0},{"$f":"Baseline_Data_2012!Q201/Baseline_Data_2012!Q$271","v":0},{"$f":"Baseline_Data_2012!R201/Baseline_Data_2012!R$271","v":0},{"$f":"Baseline_Data_2012!S201/Baseline_Data_2012!S$271","v":0},{"$f":"Baseline_Data_2012!T201/Baseline_Data_2012!T$271","v":0},{"$f":"Baseline_Data_2012!U201/Baseline_Data_2012!U$271","v":0},{"$f":"Baseline_Data_2012!V201/Baseline_Data_2012!V$271","v":0},{"$f":"Baseline_Data_2012!W201/Baseline_Data_2012!W$271","v":0},{"$f":"Baseline_Data_2012!X201/Baseline_Data_2012!X$271","v":0},{"$f":"Baseline_Data_2012!Y201/Baseline_Data_2012!Y$271","v":0},{"$f":"Baseline_Data_2012!Z201/Baseline_Data_2012!Z$271","v":0},{"$f":"Baseline_Data_2012!AA201/Baseline_Data_2012!AA$271","v":0},{"$f":"Baseline_Data_2012!AB201/Baseline_Data_2012!AB$271","v":0},{"$f":"Baseline_Data_2012!AC201/Baseline_Data_2012!AC$271","v":0},{"$f":"Baseline_Data_2012!AD201/Baseline_Data_2012!AD$271","v":0},{"$f":"Baseline_Data_2012!AE201/Baseline_Data_2012!AE$271","v":0},{"$f":"Baseline_Data_2012!AF201/Baseline_Data_2012!AF$271","v":0},{"$f":"Baseline_Data_2012!AG201/Baseline_Data_2012!AG$271","v":0},{"$f":"Baseline_Data_2012!AH201/Baseline_Data_2012!AH$271","v":0},{"$f":"Baseline_Data_2012!AI201/Baseline_Data_2012!AI$271","v":0},{"$f":"Baseline_Data_2012!AJ201/Baseline_Data_2012!AJ$271","v":0},{"$f":"Baseline_Data_2012!AK201/Baseline_Data_2012!AK$271","v":0},{"$f":"Baseline_Data_2012!AL201/Baseline_Data_2012!AL$271","v":0},{"$f":"Baseline_Data_2012!AM201/Baseline_Data_2012!AM$271","v":0},{"$f":"Baseline_Data_2012!AN201/Baseline_Data_2012!AN$271","v":0},{"$f":"Baseline_Data_2012!AO201/Baseline_Data_2012!AO$271","v":0},{"$f":"Baseline_Data_2012!AP201/Baseline_Data_2012!AP$271","v":0},{"$f":"Baseline_Data_2012!AQ201/Baseline_Data_2012!AQ$271","v":0},{"$f":"Baseline_Data_2012!AR201/Baseline_Data_2012!AR$271","v":0},{"$f":"Baseline_Data_2012!AS201/Baseline_Data_2012!AS$271","v":0},{"$f":"Baseline_Data_2012!AT201/Baseline_Data_2012!AT$271","v":0},{"$f":"Baseline_Data_2012!AU201/Baseline_Data_2012!AU$271","v":0},{"$f":"Baseline_Data_2012!AV201/Baseline_Data_2012!AV$271","v":0},207]
[4,"Male 70-74",null,null,null,{"$f":"G208*'III Tool Overview'!$H$8","v":0},{"$f":"HLOOKUP('III Tool Overview'!$H$6,Targeting!$I$1:$BC$277,Targeting!BD208,FALSE)","v":0},{"$f":"Baseline_Data_2012!B202","v":0},{"$f":"Baseline_Data_2012!B202/Baseline_Data_2012!B$271","v":0},{"$f":"Baseline_Data_2012!C202/Baseline_Data_2012!C$271","v":0},{"$f":"Baseline_Data_2012!D202/Baseline_Data_2012!D$271","v":0},{"$f":"Baseline_Data_2012!E202/Baseline_Data_2012!E$271","v":0},{"$f":"Baseline_Data_2012!F202/Baseline_Data_2012!F$271","v":0},{"$f":"Baseline_Data_2012!G202/Baseline_Data_2012!G$271","v":0},{"$f":"Baseline_Data_2012!H202/Baseline_Data_2012!H$271","v":0},{"$f":"Baseline_Data_2012!I202/Baseline_Data_2012!I$271","v":0},{"$f":"Baseline_Data_2012!J202/Baseline_Data_2012!J$271","v":0},{"$f":"Baseline_Data_2012!K202/Baseline_Data_2012!K$271","v":0},{"$f":"Baseline_Data_2012!L202/Baseline_Data_2012!L$271","v":0},{"$f":"Baseline_Data_2012!M202/Baseline_Data_2012!M$271","v":0},{"$f":"Baseline_Data_2012!N202/Baseline_Data_2012!N$271","v":0},{"$f":"Baseline_Data_2012!O202/Baseline_Data_2012!O$271","v":0},{"$f":"Baseline_Data_2012!P202/Baseline_Data_2012!P$271","v":0},{"$f":"Baseline_Data_2012!Q202/Baseline_Data_2012!Q$271","v":0},{"$f":"Baseline_Data_2012!R202/Baseline_Data_2012!R$271","v":0},{"$f":"Baseline_Data_2012!S202/Baseline_Data_2012!S$271","v":0},{"$f":"Baseline_Data_2012!T202/Baseline_Data_2012!T$271","v":0},{"$f":"Baseline_Data_2012!U202/Baseline_Data_2012!U$271","v":0},{"$f":"Baseline_Data_2012!V202/Baseline_Data_2012!V$271","v":0},{"$f":"Baseline_Data_2012!W202/Baseline_Data_2012!W$271","v":0},{"$f":"Baseline_Data_2012!X202/Baseline_Data_2012!X$271","v":0},{"$f":"Baseline_Data_2012!Y202/Baseline_Data_2012!Y$271","v":0},{"$f":"Baseline_Data_2012!Z202/Baseline_Data_2012!Z$271","v":0},{"$f":"Baseline_Data_2012!AA202/Baseline_Data_2012!AA$271","v":0},{"$f":"Baseline_Data_2012!AB202/Baseline_Data_2012!AB$271","v":0},{"$f":"Baseline_Data_2012!AC202/Baseline_Data_2012!AC$271","v":0},{"$f":"Baseline_Data_2012!AD202/Baseline_Data_2012!AD$271","v":0},{"$f":"Baseline_Data_2012!AE202/Baseline_Data_2012!AE$271","v":0},{"$f":"Baseline_Data_2012!AF202/Baseline_Data_2012!AF$271","v":0},{"$f":"Baseline_Data_2012!AG202/Baseline_Data_2012!AG$271","v":0},{"$f":"Baseline_Data_2012!AH202/Baseline_Data_2012!AH$271","v":0},{"$f":"Baseline_Data_2012!AI202/Baseline_Data_2012!AI$271","v":0},{"$f":"Baseline_Data_2012!AJ202/Baseline_Data_2012!AJ$271","v":0},{"$f":"Baseline_Data_2012!AK202/Baseline_Data_2012!AK$271","v":0},{"$f":"Baseline_Data_2012!AL202/Baseline_Data_2012!AL$271","v":0},{"$f":"Baseline_Data_2012!AM202/Baseline_Data_2012!AM$271","v":0},{"$f":"Baseline_Data_2012!AN202/Baseline_Data_2012!AN$271","v":0},{"$f":"Baseline_Data_2012!AO202/Baseline_Data_2012!AO$271","v":0},{"$f":"Baseline_Data_2012!AP202/Baseline_Data_2012!AP$271","v":0},{"$f":"Baseline_Data_2012!AQ202/Baseline_Data_2012!AQ$271","v":0},{"$f":"Baseline_Data_2012!AR202/Baseline_Data_2012!AR$271","v":0},{"$f":"Baseline_Data_2012!AS202/Baseline_Data_2012!AS$271","v":0},{"$f":"Baseline_Data_2012!AT202/Baseline_Data_2012!AT$271","v":0},{"$f":"Baseline_Data_2012!AU202/Baseline_Data_2012!AU$271","v":0},{"$f":"Baseline_Data_2012!AV202/Baseline_Data_2012!AV$271","v":0},208]
[4,"Male 75-79",null,null,null,{"$f":"G209*'III Tool Overview'!$H$8","v":0},{"$f":"HLOOKUP('III Tool Overview'!$H$6,Targeting!$I$1:$BC$277,Targeting!BD209,FALSE)","v":0},{"$f":"Baseline_Data_2012!B203","v":0},{"$f":"Baseline_Data_2012!B203/Baseline_Data_2012!B$271","v":0},{"$f":"Baseline_Data_2012!C203/Baseline_Data_2012!C$271","v":0},{"$f":"Baseline_Data_2012!D203/Baseline_Data_2012!D$271","v":0},{"$f":"Baseline_Data_2012!E203/Baseline_Data_2012!E$271","v":0},{"$f":"Baseline_Data_2012!F203/Baseline_Data_2012!F$271","v":0},{"$f":"Baseline_Data_2012!G203/Baseline_Data_2012!G$271","v":0},{"$f":"Baseline_Data_2012!H203/Baseline_Data_2012!H$271","v":0},{"$f":"Baseline_Data_2012!I203/Baseline_Data_2012!I$271","v":0},{"$f":"Baseline_Data_2012!J203/Baseline_Data_2012!J$271","v":0},{"$f":"Baseline_Data_2012!K203/Baseline_Data_2012!K$271","v":0},{"$f":"Baseline_Data_2012!L203/Baseline_Data_2012!L$271","v":0},{"$f":"Baseline_Data_2012!M203/Baseline_Data_2012!M$271","v":0},{"$f":"Baseline_Data_2012!N203/Baseline_Data_2012!N$271","v":0},{"$f":"Baseline_Data_2012!O203/Baseline_Data_2012!O$271","v":0},{"$f":"Baseline_Data_2012!P203/Baseline_Data_2012!P$271","v":0},{"$f":"Baseline_Data_2012!Q203/Baseline_Data_2012!Q$271","v":0},{"$f":"Baseline_Data_2012!R203/Baseline_Data_2012!R$271","v":0},{"$f":"Baseline_Data_2012!S203/Baseline_Data_2012!S$271","v":0},{"$f":"Baseline_Data_2012!T203/Baseline_Data_2012!T$271","v":0},{"$f":"Baseline_Data_2012!U203/Baseline_Data_2012!U$271","v":0},{"$f":"Baseline_Data_2012!V203/Baseline_Data_2012!V$271","v":0},{"$f":"Baseline_Data_2012!W203/Baseline_Data_2012!W$271","v":0},{"$f":"Baseline_Data_2012!X203/Baseline_Data_2012!X$271","v":0},{"$f":"Baseline_Data_2012!Y203/Baseline_Data_2012!Y$271","v":0},{"$f":"Baseline_Data_2012!Z203/Baseline_Data_2012!Z$271","v":0},{"$f":"Baseline_Data_2012!AA203/Baseline_Data_2012!AA$271","v":0},{"$f":"Baseline_Data_2012!AB203/Baseline_Data_2012!AB$271","v":0},{"$f":"Baseline_Data_2012!AC203/Baseline_Data_2012!AC$271","v":0},{"$f":"Baseline_Data_2012!AD203/Baseline_Data_2012!AD$271","v":0},{"$f":"Baseline_Data_2012!AE203/Baseline_Data_2012!AE$271","v":0},{"$f":"Baseline_Data_2012!AF203/Baseline_Data_2012!AF$271","v":0},{"$f":"Baseline_Data_2012!AG203/Baseline_Data_2012!AG$271","v":0},{"$f":"Baseline_Data_2012!AH203/Baseline_Data_2012!AH$271","v":0},{"$f":"Baseline_Data_2012!AI203/Baseline_Data_2012!AI$271","v":0},{"$f":"Baseline_Data_2012!AJ203/Baseline_Data_2012!AJ$271","v":0},{"$f":"Baseline_Data_2012!AK203/Baseline_Data_2012!AK$271","v":0},{"$f":"Baseline_Data_2012!AL203/Baseline_Data_2012!AL$271","v":0},{"$f":"Baseline_Data_2012!AM203/Baseline_Data_2012!AM$271","v":0},{"$f":"Baseline_Data_2012!AN203/Baseline_Data_2012!AN$271","v":0},{"$f":"Baseline_Data_2012!AO203/Baseline_Data_2012!AO$271","v":0},{"$f":"Baseline_Data_2012!AP203/Baseline_Data_2012!AP$271","v":0},{"$f":"Baseline_Data_2012!AQ203/Baseline_Data_2012!AQ$271","v":0},{"$f":"Baseline_Data_2012!AR203/Baseline_Data_2012!AR$271","v":0},{"$f":"Baseline_Data_2012!AS203/Baseline_Data_2012!AS$271","v":0},{"$f":"Baseline_Data_2012!AT203/Baseline_Data_2012!AT$271","v":0},{"$f":"Baseline_Data_2012!AU203/Baseline_Data_2012!AU$271","v":0},{"$f":"Baseline_Data_2012!AV203/Baseline_Data_2012!AV$271","v":0},209]
[4,"Male 80-84",null,null,null,{"$f":"G210*'III Tool Overview'!$H$8","v":0},{"$f":"HLOOKUP('III Tool Overview'!$H$6,Targeting!$I$1:$BC$277,Targeting!BD210,FALSE)","v":0},{"$f":"Baseline_Data_2012!B204","v":0},{"$f":"Baseline_Data_2012!B204/Baseline_Data_2012!B$271","v":0},{"$f":"Baseline_Data_2012!C204/Baseline_Data_2012!C$271","v":0},{"$f":"Baseline_Data_2012!D204/Baseline_Data_2012!D$271","v":0},{"$f":"Baseline_Data_2012!E204/Baseline_Data_2012!E$271","v":0},{"$f":"Baseline_Data_2012!F204/Baseline_Data_2012!F$271","v":0},{"$f":"Baseline_Data_2012!G204/Baseline_Data_2012!G$271","v":0},{"$f":"Baseline_Data_2012!H204/Baseline_Data_2012!H$271","v":0},{"$f":"Baseline_Data_2012!I204/Baseline_Data_2012!I$271","v":0},{"$f":"Baseline_Data_2012!J204/Baseline_Data_2012!J$271","v":0},{"$f":"Baseline_Data_2012!K204/Baseline_Data_2012!K$271","v":0},{"$f":"Baseline_Data_2012!L204/Baseline_Data_2012!L$271","v":0},{"$f":"Baseline_Data_2012!M204/Baseline_Data_2012!M$271","v":0},{"$f":"Baseline_Data_2012!N204/Baseline_Data_2012!N$271","v":0},{"$f":"Baseline_Data_2012!O204/Baseline_Data_2012!O$271","v":0},{"$f":"Baseline_Data_2012!P204/Baseline_Data_2012!P$271","v":0},{"$f":"Baseline_Data_2012!Q204/Baseline_Data_2012!Q$271","v":0},{"$f":"Baseline_Data_2012!R204/Baseline_Data_2012!R$271","v":0},{"$f":"Baseline_Data_2012!S204/Baseline_Data_2012!S$271","v":0},{"$f":"Baseline_Data_2012!T204/Baseline_Data_2012!T$271","v":0},{"$f":"Baseline_Data_2012!U204/Baseline_Data_2012!U$271","v":0},{"$f":"Baseline_Data_2012!V204/Baseline_Data_2012!V$271","v":0},{"$f":"Baseline_Data_2012!W204/Baseline_Data_2012!W$271","v":0},{"$f":"Baseline_Data_2012!X204/Baseline_Data_2012!X$271","v":0},{"$f":"Baseline_Data_2012!Y204/Baseline_Data_2012!Y$271","v":0},{"$f":"Baseline_Data_2012!Z204/Baseline_Data_2012!Z$271","v":0},{"$f":"Baseline_Data_2012!AA204/Baseline_Data_2012!AA$271","v":0},{"$f":"Baseline_Data_2012!AB204/Baseline_Data_2012!AB$271","v":0},{"$f":"Baseline_Data_2012!AC204/Baseline_Data_2012!AC$271","v":0},{"$f":"Baseline_Data_2012!AD204/Baseline_Data_2012!AD$271","v":0},{"$f":"Baseline_Data_2012!AE204/Baseline_Data_2012!AE$271","v":0},{"$f":"Baseline_Data_2012!AF204/Baseline_Data_2012!AF$271","v":0},{"$f":"Baseline_Data_2012!AG204/Baseline_Data_2012!AG$271","v":0},{"$f":"Baseline_Data_2012!AH204/Baseline_Data_2012!AH$271","v":0},{"$f":"Baseline_Data_2012!AI204/Baseline_Data_2012!AI$271","v":0},{"$f":"Baseline_Data_2012!AJ204/Baseline_Data_2012!AJ$271","v":0},{"$f":"Baseline_Data_2012!AK204/Baseline_Data_2012!AK$271","v":0},{"$f":"Baseline_Data_2012!AL204/Baseline_Data_2012!AL$271","v":0},{"$f":"Baseline_Data_2012!AM204/Baseline_Data_2012!AM$271","v":0},{"$f":"Baseline_Data_2012!AN204/Baseline_Data_2012!AN$271","v":0},{"$f":"Baseline_Data_2012!AO204/Baseline_Data_2012!AO$271","v":0},{"$f":"Baseline_Data_2012!AP204/Baseline_Data_2012!AP$271","v":0},{"$f":"Baseline_Data_2012!AQ204/Baseline_Data_2012!AQ$271","v":0},{"$f":"Baseline_Data_2012!AR204/Baseline_Data_2012!AR$271","v":0},{"$f":"Baseline_Data_2012!AS204/Baseline_Data_2012!AS$271","v":0},{"$f":"Baseline_Data_2012!AT204/Baseline_Data_2012!AT$271","v":0},{"$f":"Baseline_Data_2012!AU204/Baseline_Data_2012!AU$271","v":0},{"$f":"Baseline_Data_2012!AV204/Baseline_Data_2012!AV$271","v":0},210]
[4,"Male 85-89",null,null,null,{"$f":"G211*'III Tool Overview'!$H$8","v":0},{"$f":"HLOOKUP('III Tool Overview'!$H$6,Targeting!$I$1:$BC$277,Targeting!BD211,FALSE)","v":0},{"$f":"Baseline_Data_2012!B205","v":0},{"$f":"Baseline_Data_2012!B205/Baseline_Data_2012!B$271","v":0},{"$f":"Baseline_Data_2012!C205/Baseline_Data_2012!C$271","v":0},{"$f":"Baseline_Data_2012!D205/Baseline_Data_2012!D$271","v":0},{"$f":"Baseline_Data_2012!E205/Baseline_Data_2012!E$271","v":0},{"$f":"Baseline_Data_2012!F205/Baseline_Data_2012!F$271","v":0},{"$f":"Baseline_Data_2012!G205/Baseline_Data_2012!G$271","v":0},{"$f":"Baseline_Data_2012!H205/Baseline_Data_2012!H$271","v":0},{"$f":"Baseline_Data_2012!I205/Baseline_Data_2012!I$271","v":0},{"$f":"Baseline_Data_2012!J205/Baseline_Data_2012!J$271","v":0},{"$f":"Baseline_Data_2012!K205/Baseline_Data_2012!K$271","v":0},{"$f":"Baseline_Data_2012!L205/Baseline_Data_2012!L$271","v":0},{"$f":"Baseline_Data_2012!M205/Baseline_Data_2012!M$271","v":0},{"$f":"Baseline_Data_2012!N205/Baseline_Data_2012!N$271","v":0},{"$f":"Baseline_Data_2012!O205/Baseline_Data_2012!O$271","v":0},{"$f":"Baseline_Data_2012!P205/Baseline_Data_2012!P$271","v":0},{"$f":"Baseline_Data_2012!Q205/Baseline_Data_2012!Q$271","v":0},{"$f":"Baseline_Data_2012!R205/Baseline_Data_2012!R$271","v":0},{"$f":"Baseline_Data_2012!S205/Baseline_Data_2012!S$271","v":0},{"$f":"Baseline_Data_2012!T205/Baseline_Data_2012!T$271","v":0},{"$f":"Baseline_Data_2012!U205/Baseline_Data_2012!U$271","v":0},{"$f":"Baseline_Data_2012!V205/Baseline_Data_2012!V$271","v":0},{"$f":"Baseline_Data_2012!W205/Baseline_Data_2012!W$271","v":0},{"$f":"Baseline_Data_2012!X205/Baseline_Data_2012!X$271","v":0},{"$f":"Baseline_Data_2012!Y205/Baseline_Data_2012!Y$271","v":0},{"$f":"Baseline_Data_2012!Z205/Baseline_Data_2012!Z$271","v":0},{"$f":"Baseline_Data_2012!AA205/Baseline_Data_2012!AA$271","v":0},{"$f":"Baseline_Data_2012!AB205/Baseline_Data_2012!AB$271","v":0},{"$f":"Baseline_Data_2012!AC205/Baseline_Data_2012!AC$271","v":0},{"$f":"Baseline_Data_2012!AD205/Baseline_Data_2012!AD$271","v":0},{"$f":"Baseline_Data_2012!AE205/Baseline_Data_2012!AE$271","v":0},{"$f":"Baseline_Data_2012!AF205/Baseline_Data_2012!AF$271","v":0},{"$f":"Baseline_Data_2012!AG205/Baseline_Data_2012!AG$271","v":0},{"$f":"Baseline_Data_2012!AH205/Baseline_Data_2012!AH$271","v":0},{"$f":"Baseline_Data_2012!AI205/Baseline_Data_2012!AI$271","v":0},{"$f":"Baseline_Data_2012!AJ205/Baseline_Data_2012!AJ$271","v":0},{"$f":"Baseline_Data_2012!AK205/Baseline_Data_2012!AK$271","v":0},{"$f":"Baseline_Data_2012!AL205/Baseline_Data_2012!AL$271","v":0},{"$f":"Baseline_Data_2012!AM205/Baseline_Data_2012!AM$271","v":0},{"$f":"Baseline_Data_2012!AN205/Baseline_Data_2012!AN$271","v":0},{"$f":"Baseline_Data_2012!AO205/Baseline_Data_2012!AO$271","v":0},{"$f":"Baseline_Data_2012!AP205/Baseline_Data_2012!AP$271","v":0},{"$f":"Baseline_Data_2012!AQ205/Baseline_Data_2012!AQ$271","v":0},{"$f":"Baseline_Data_2012!AR205/Baseline_Data_2012!AR$271","v":0},{"$f":"Baseline_Data_2012!AS205/Baseline_Data_2012!AS$271","v":0},{"$f":"Baseline_Data_2012!AT205/Baseline_Data_2012!AT$271","v":0},{"$f":"Baseline_Data_2012!AU205/Baseline_Data_2012!AU$271","v":0},{"$f":"Baseline_Data_2012!AV205/Baseline_Data_2012!AV$271","v":0},211]
[4,"Male 90+",null,null,null,{"$f":"G212*'III Tool Overview'!$H$8","v":0},{"$f":"HLOOKUP('III Tool Overview'!$H$6,Targeting!$I$1:$BC$277,Targeting!BD212,FALSE)","v":0},{"$f":"Baseline_Data_2012!B206","v":0},{"$f":"Baseline_Data_2012!B206/Baseline_Data_2012!B$271","v":0},{"$f":"Baseline_Data_2012!C206/Baseline_Data_2012!C$271","v":0},{"$f":"Baseline_Data_2012!D206/Baseline_Data_2012!D$271","v":0},{"$f":"Baseline_Data_2012!E206/Baseline_Data_2012!E$271","v":0},{"$f":"Baseline_Data_2012!F206/Baseline_Data_2012!F$271","v":0},{"$f":"Baseline_Data_2012!G206/Baseline_Data_2012!G$271","v":0},{"$f":"Baseline_Data_2012!H206/Baseline_Data_2012!H$271","v":0},{"$f":"Baseline_Data_2012!I206/Baseline_Data_2012!I$271","v":0},{"$f":"Baseline_Data_2012!J206/Baseline_Data_2012!J$271","v":0},{"$f":"Baseline_Data_2012!K206/Baseline_Data_2012!K$271","v":0},{"$f":"Baseline_Data_2012!L206/Baseline_Data_2012!L$271","v":0},{"$f":"Baseline_Data_2012!M206/Baseline_Data_2012!M$271","v":0},{"$f":"Baseline_Data_2012!N206/Baseline_Data_2012!N$271","v":0},{"$f":"Baseline_Data_2012!O206/Baseline_Data_2012!O$271","v":0},{"$f":"Baseline_Data_2012!P206/Baseline_Data_2012!P$271","v":0},{"$f":"Baseline_Data_2012!Q206/Baseline_Data_2012!Q$271","v":0},{"$f":"Baseline_Data_2012!R206/Baseline_Data_2012!R$271","v":0},{"$f":"Baseline_Data_2012!S206/Baseline_Data_2012!S$271","v":0},{"$f":"Baseline_Data_2012!T206/Baseline_Data_2012!T$271","v":0},{"$f":"Baseline_Data_2012!U206/Baseline_Data_2012!U$271","v":0},{"$f":"Baseline_Data_2012!V206/Baseline_Data_2012!V$271","v":0},{"$f":"Baseline_Data_2012!W206/Baseline_Data_2012!W$271","v":0},{"$f":"Baseline_Data_2012!X206/Baseline_Data_2012!X$271","v":0},{"$f":"Baseline_Data_2012!Y206/Baseline_Data_2012!Y$271","v":0},{"$f":"Baseline_Data_2012!Z206/Baseline_Data_2012!Z$271","v":0},{"$f":"Baseline_Data_2012!AA206/Baseline_Data_2012!AA$271","v":0},{"$f":"Baseline_Data_2012!AB206/Baseline_Data_2012!AB$271","v":0},{"$f":"Baseline_Data_2012!AC206/Baseline_Data_2012!AC$271","v":0},{"$f":"Baseline_Data_2012!AD206/Baseline_Data_2012!AD$271","v":0},{"$f":"Baseline_Data_2012!AE206/Baseline_Data_2012!AE$271","v":0},{"$f":"Baseline_Data_2012!AF206/Baseline_Data_2012!AF$271","v":0},{"$f":"Baseline_Data_2012!AG206/Baseline_Data_2012!AG$271","v":0},{"$f":"Baseline_Data_2012!AH206/Baseline_Data_2012!AH$271","v":0},{"$f":"Baseline_Data_2012!AI206/Baseline_Data_2012!AI$271","v":0},{"$f":"Baseline_Data_2012!AJ206/Baseline_Data_2012!AJ$271","v":0},{"$f":"Baseline_Data_2012!AK206/Baseline_Data_2012!AK$271","v":0},{"$f":"Baseline_Data_2012!AL206/Baseline_Data_2012!AL$271","v":0},{"$f":"Baseline_Data_2012!AM206/Baseline_Data_2012!AM$271","v":0},{"$f":"Baseline_Data_2012!AN206/Baseline_Data_2012!AN$271","v":0},{"$f":"Baseline_Data_2012!AO206/Baseline_Data_2012!AO$271","v":0},{"$f":"Baseline_Data_2012!AP206/Baseline_Data_2012!AP$271","v":0},{"$f":"Baseline_Data_2012!AQ206/Baseline_Data_2012!AQ$271","v":0},{"$f":"Baseline_Data_2012!AR206/Baseline_Data_2012!AR$271","v":0},{"$f":"Baseline_Data_2012!AS206/Baseline_Data_2012!AS$271","v":0},{"$f":"Baseline_Data_2012!AT206/Baseline_Data_2012!AT$271","v":0},{"$f":"Baseline_Data_2012!AU206/Baseline_Data_2012!AU$271","v":0},{"$f":"Baseline_Data_2012!AV206/Baseline_Data_2012!AV$271","v":0},212]
[null,"TOTAL",null,null,null,null,{"$f":"HLOOKUP('III Tool Overview'!$H$6,Targeting!$I$1:$BC$277,Targeting!BD213,FALSE)","v":0},null,null,null,null,null,null,null,null,null,null,null,null,null,null,null,null,null,null,null,null,null,null,null,null,null,null,null,null,null,null,null,null,null,null,null,null,null,null,null,null,null,null,null,null,null,null,null,null,213]
[4,"Female <1",null,null,null,null,{"$f":"HLOOKUP('III Tool Overview'!$H$6,Targeting!$I$1:$BC$277,Targeting!BD214,FALSE)","v":0},null,null,null,null,null,null,null,null,null,null,null,null,null,null,null,null,null,null,null,null,null,null,null,null,null,null,null,null,null,null,null,null,null,null,null,null,null,null,null,null,null,null,null,null,null,null,null,null,214]
[4,"Female 1-4",null,null,null,null,{"$f":"HLOOKUP('III Tool Overview'!$H$6,Targeting!$I$1:$BC$277,Targeting!BD215,FALSE)","v":0},null,null,null,null,null,null,null,null,null,null,null,null,null,null,null,null,null,null,null,null,null,null,null,null,null,null,null,null,null,null,null,null,null,null,null,null,null,null,null,null,null,null,null,null,null,null,null,null,215]
[4,"Female 5-9",null,null,null,null,{"$f":"HLOOKUP('III Tool Overview'!$H$6,Targeting!$I$1:$BC$277,Targeting!BD216,FALSE)","v":0},null,null,null,null,null,null,null,null,null,null,null,null,null,null,null,null,null,null,null,null,null,null,null,null,null,null,null,null,null,null,null,null,null,null,null,null,null,null,null,null,null,null,null,null,null,null,null,null,216]
[4,"Female 10-14",null,null,null,null,{"$f":"HLOOKUP('III Tool Overview'!$H$6,Targeting!$I$1:$BC$277,Targeting!BD217,FALSE)","v":0},null,null,null,null,null,null,null,null,null,null,null,null,null,null,null,null,null,null,null,null,null,null,null,null,null,null,null,null,null,null,null,null,null,null,null,null,null,null,null,null,null,null,null,null,null,null,null,null,217]
[4,"Female 15-19",{"$f":"'III Tool Overview'!$H$8/100","v":1000},0,0,{"$f":"G218*'III Tool Overview'!$H$8","v":486.4575864306421},{"$f":"HLOOKUP('III Tool Overview'!$H$6,Targeting!$I$1:$BC$277,Targeting!BD218,FALSE)","v":4.864575864306421E-3},{"$f":"Baseline_Data_2012!B211","v":7084.1809983209523},{"$f":"Baseline_Data_2012!B211/Baseline_Data_2012!B$271","v":4.864575864306421E-3},{"$f":"Baseline_Data_2012!C211/Baseline_Data_2012!C$271","v":3.5279301592541961E-3},{"$f":"Baseline_Data_2012!D211/Baseline_Data_2012!D$271","v":9.6890400465777602E-3},{"$f":"Baseline_Data_2012!E211/Baseline_Data_2012!E$271","v":6.6710037477811582E-3},{"$f":"Baseline_Data_2012!F211/Baseline_Data_2012!F$271","v":4.3395361482330775E-3},{"$f":"Baseline_Data_2012!G211/Baseline_Data_2012!G$271","v":4.9564605224982263E-3},{"$f":"Baseline_Data_2012!H211/Baseline_Data_2012!H$271","v":6.1651846745952458E-3},{"$f":"Baseline_Data_2012!I211/Baseline_Data_2012!I$271","v":3.8286903838896874E-3},{"$f":"Baseline_Data_2012!J211/Baseline_Data_2012!J$271","v":7.6824499649358058E-3},{"$f":"Baseline_Data_2012!K211/Baseline_Data_2012!K$271","v":3.4295071548701085E-3},{"$f":"Baseline_Data_2012!L211/Baseline_Data_2012!L$271","v":3.7450474232563402E-3},{"$f":"Baseline_Data_2012!M211/Baseline_Data_2012!M$271","v":1.4230787502898509E-2},{"$f":"Baseline_Data_2012!N211/Baseline_Data_2012!N$271","v":1.1019468256805668E-2},{"$f":"Baseline_Data_2012!O211/Baseline_Data_2012!O$271","v":7.1675319877667508E-3},{"$f":"Baseline_Data_2012!P211/Baseline_Data_2012!P$271","v":1.0203206130935771E-3},{"$f":"Baseline_Data_2012!Q211/Baseline_Data_2012!Q$271","v":3.3447195818587425E-3},{"$f":"Baseline_Data_2012!R211/Baseline_Data_2012!R$271","v":7.9688644945695546E-3},{"$f":"Baseline_Data_2012!S211/Baseline_Data_2012!S$271","v":8.7768608781755731E-3},{"$f":"Baseline_Data_2012!T211/Baseline_Data_2012!T$271","v":7.1792147778109248E-3},{"$f":"Baseline_Data_2012!U211/Baseline_Data_2012!U$271","v":3.5897581871198537E-3},{"$f":"Baseline_Data_2012!V211/Baseline_Data_2012!V$271","v":6.6710037477811573E-3},{"$f":"Baseline_Data_2012!W211/Baseline_Data_2012!W$271","v":3.6521547851758192E-3},{"$f":"Baseline_Data_2012!X211/Baseline_Data_2012!X$271","v":3.093017462421918E-3},{"$f":"Baseline_Data_2012!Y211/Baseline_Data_2012!Y$271","v":5.26749893176708E-3},{"$f":"Baseline_Data_2012!Z211/Baseline_Data_2012!Z$271","v":8.3579679512375028E-3},{"$f":"Baseline_Data_2012!AA211/Baseline_Data_2012!AA$271","v":4.8080275865332138E-3},{"$f":"Baseline_Data_2012!AB211/Baseline_Data_2012!AB$271","v":2.660399273454855E-3},{"$f":"Baseline_Data_2012!AC211/Baseline_Data_2012!AC$271","v":1.0203206130935771E-3},{"$f":"Baseline_Data_2012!AD211/Baseline_Data_2012!AD$271","v":4.3646060716708455E-3},{"$f":"Baseline_Data_2012!AE211/Baseline_Data_2012!AE$271","v":4.3395361482330775E-3},{"$f":"Baseline_Data_2012!AF211/Baseline_Data_2012!AF$271","v":3.5572739872971855E-3},{"$f":"Baseline_Data_2012!AG211/Baseline_Data_2012!AG$271","v":7.8494711303494051E-3},{"$f":"Baseline_Data_2012!AH211/Baseline_Data_2012!AH$271","v":4.9643540433230732E-3},{"$f":"Baseline_Data_2012!AI211/Baseline_Data_2012!AI$271","v":4.9815294207201282E-3},{"$f":"Baseline_Data_2012!AJ211/Baseline_Data_2012!AJ$271","v":8.4366666650857128E-3},{"$f":"Baseline_Data_2012!AK211/Baseline_Data_2012!AK$271","v":4.377165593159385E-3},{"$f":"Baseline_Data_2012!AL211/Baseline_Data_2012!AL$271","v":3.0165142763229828E-3},{"$f":"Baseline_Data_2012!AM211/Baseline_Data_2012!AM$271","v":1.4230787502898511E-2},{"$f":"Baseline_Data_2012!AN211/Baseline_Data_2012!AN$271","v":8.9198440710125271E-3},{"$f":"Baseline_Data_2012!AO211/Baseline_Data_2012!AO$271","v":2.9899047627862897E-3},{"$f":"Baseline_Data_2012!AP211/Baseline_Data_2012!AP$271","v":9.6890400465777602E-3},{"$f":"Baseline_Data_2012!AQ211/Baseline_Data_2012!AQ$271","v":1.1019468256805668E-2},{"$f":"Baseline_Data_2012!AR211/Baseline_Data_2012!AR$271","v":2.9780914514832228E-3},{"$f":"Baseline_Data_2012!AS211/Baseline_Data_2012!AS$271","v":4.2785847761166399E-3},{"$f":"Baseline_Data_2012!AT211/Baseline_Data_2012!AT$271","v":6.7506755664348021E-3},{"$f":"Baseline_Data_2012!AU211/Baseline_Data_2012!AU$271","v":2.2526897094311067E-3},{"$f":"Baseline_Data_2012!AV211/Baseline_Data_2012!AV$271","v":3.8734695093690062E-3},218]
[4,"Female 20-24",{"$f":"'III Tool Overview'!$H$8/100","v":1000},0,0,{"$f":"G219*'III Tool Overview'!$H$8","v":639.66962162461618},{"$f":"HLOOKUP('III Tool Overview'!$H$6,Targeting!$I$1:$BC$277,Targeting!BD219,FALSE)","v":6.3966962162461619E-3},{"$f":"Baseline_Data_2012!B212","v":9315.3761090790485},{"$f":"Baseline_Data_2012!B212/Baseline_Data_2012!B$271","v":6.3966962162461619E-3},{"$f":"Baseline_Data_2012!C212/Baseline_Data_2012!C$271","v":4.1289849271271334E-3},{"$f":"Baseline_Data_2012!D212/Baseline_Data_2012!D$271","v":8.2917591290447238E-3},{"$f":"Baseline_Data_2012!E212/Baseline_Data_2012!E$271","v":6.5220624185122478E-3},{"$f":"Baseline_Data_2012!F212/Baseline_Data_2012!F$271","v":5.1726597655732355E-3},{"$f":"Baseline_Data_2012!G212/Baseline_Data_2012!G$271","v":5.3977189126999323E-3},{"$f":"Baseline_Data_2012!H212/Baseline_Data_2012!H$271","v":8.0056139812383978E-3},{"$f":"Baseline_Data_2012!I212/Baseline_Data_2012!I$271","v":6.7633209566401731E-3},{"$f":"Baseline_Data_2012!J212/Baseline_Data_2012!J$271","v":7.4039009733691983E-3},{"$f":"Baseline_Data_2012!K212/Baseline_Data_2012!K$271","v":3.9180788504364159E-3},{"$f":"Baseline_Data_2012!L212/Baseline_Data_2012!L$271","v":6.4447789500183244E-3},{"$f":"Baseline_Data_2012!M212/Baseline_Data_2012!M$271","v":1.3857520945445434E-2},{"$f":"Baseline_Data_2012!N212/Baseline_Data_2012!N$271","v":1.3015447412755374E-2},{"$f":"Baseline_Data_2012!O212/Baseline_Data_2012!O$271","v":8.2514152373536053E-3},{"$f":"Baseline_Data_2012!P212/Baseline_Data_2012!P$271","v":8.6727252112954055E-4},{"$f":"Baseline_Data_2012!Q212/Baseline_Data_2012!Q$271","v":7.6940654313686629E-3},{"$f":"Baseline_Data_2012!R212/Baseline_Data_2012!R$271","v":8.056184115043637E-3},{"$f":"Baseline_Data_2012!S212/Baseline_Data_2012!S$271","v":8.2737287259234682E-3},{"$f":"Baseline_Data_2012!T212/Baseline_Data_2012!T$271","v":6.8491359374518021E-3},{"$f":"Baseline_Data_2012!U212/Baseline_Data_2012!U$271","v":3.6737291388653473E-3},{"$f":"Baseline_Data_2012!V212/Baseline_Data_2012!V$271","v":6.5220624185122469E-3},{"$f":"Baseline_Data_2012!W212/Baseline_Data_2012!W$271","v":7.8048190055791597E-3},{"$f":"Baseline_Data_2012!X212/Baseline_Data_2012!X$271","v":4.3029581777495008E-3},{"$f":"Baseline_Data_2012!Y212/Baseline_Data_2012!Y$271","v":5.7424373600411614E-3},{"$f":"Baseline_Data_2012!Z212/Baseline_Data_2012!Z$271","v":8.4686029060673605E-3},{"$f":"Baseline_Data_2012!AA212/Baseline_Data_2012!AA$271","v":4.7123454455076782E-3},{"$f":"Baseline_Data_2012!AB212/Baseline_Data_2012!AB$271","v":6.6981274549311673E-3},{"$f":"Baseline_Data_2012!AC212/Baseline_Data_2012!AC$271","v":8.6727252112954066E-4},{"$f":"Baseline_Data_2012!AD212/Baseline_Data_2012!AD$271","v":4.6070841867636705E-3},{"$f":"Baseline_Data_2012!AE212/Baseline_Data_2012!AE$271","v":5.1726597655732355E-3},{"$f":"Baseline_Data_2012!AF212/Baseline_Data_2012!AF$271","v":8.9985719834591495E-3},{"$f":"Baseline_Data_2012!AG212/Baseline_Data_2012!AG$271","v":7.5881277574347331E-3},{"$f":"Baseline_Data_2012!AH212/Baseline_Data_2012!AH$271","v":5.4169863237437058E-3},{"$f":"Baseline_Data_2012!AI212/Baseline_Data_2012!AI$271","v":6.7455622829202724E-3},{"$f":"Baseline_Data_2012!AJ212/Baseline_Data_2012!AJ$271","v":8.2960555540009511E-3},{"$f":"Baseline_Data_2012!AK212/Baseline_Data_2012!AK$271","v":4.5588890744638353E-3},{"$f":"Baseline_Data_2012!AL212/Baseline_Data_2012!AL$271","v":3.8472919786545585E-3},{"$f":"Baseline_Data_2012!AM212/Baseline_Data_2012!AM$271","v":1.3857520945445435E-2},{"$f":"Baseline_Data_2012!AN212/Baseline_Data_2012!AN$271","v":8.5565631488476544E-3},{"$f":"Baseline_Data_2012!AO212/Baseline_Data_2012!AO$271","v":3.3319451498505987E-3},{"$f":"Baseline_Data_2012!AP212/Baseline_Data_2012!AP$271","v":8.2917591290447238E-3},{"$f":"Baseline_Data_2012!AQ212/Baseline_Data_2012!AQ$271","v":1.3015447412755374E-2},{"$f":"Baseline_Data_2012!AR212/Baseline_Data_2012!AR$271","v":3.397822461423811E-3},{"$f":"Baseline_Data_2012!AS212/Baseline_Data_2012!AS$271","v":4.6530034916081519E-3},{"$f":"Baseline_Data_2012!AT212/Baseline_Data_2012!AT$271","v":7.739410876670203E-3},{"$f":"Baseline_Data_2012!AU212/Baseline_Data_2012!AU$271","v":2.8682502695663512E-3},{"$f":"Baseline_Data_2012!AV212/Baseline_Data_2012!AV$271","v":4.4993654971633885E-3},219]
[4,"Female 25-29",{"$f":"'III Tool Overview'!$H$8/100","v":1000},0,0,{"$f":"G220*'III Tool Overview'!$H$8","v":1043.4743583016809},{"$f":"HLOOKUP('III Tool Overview'!$H$6,Targeting!$I$1:$BC$277,Targeting!BD220,FALSE)","v":1.0434743583016808E-2},{"$f":"Baseline_Data_2012!B213","v":15195.900788711151},{"$f":"Baseline_Data_2012!B213/Baseline_Data_2012!B$271","v":1.0434743583016808E-2},{"$f":"Baseline_Data_2012!C213/Baseline_Data_2012!C$271","v":6.8022554663725553E-3},{"$f":"Baseline_Data_2012!D213/Baseline_Data_2012!D$271","v":1.4122736952090953E-2},{"$f":"Baseline_Data_2012!E213/Baseline_Data_2012!E$271","v":1.0951953989309227E-2},{"$f":"Baseline_Data_2012!F213/Baseline_Data_2012!F$271","v":7.9095682886952956E-3},{"$f":"Baseline_Data_2012!G213/Baseline_Data_2012!G$271","v":9.5463033346867322E-3},{"$f":"Baseline_Data_2012!H213/Baseline_Data_2012!H$271","v":1.3593036019987731E-2},{"$f":"Baseline_Data_2012!I213/Baseline_Data_2012!I$271","v":8.611343610058806E-3},{"$f":"Baseline_Data_2012!J213/Baseline_Data_2012!J$271","v":1.4868791359602868E-2},{"$f":"Baseline_Data_2012!K213/Baseline_Data_2012!K$271","v":6.7125674991391788E-3},{"$f":"Baseline_Data_2012!L213/Baseline_Data_2012!L$271","v":1.1632447013082775E-2},{"$f":"Baseline_Data_2012!M213/Baseline_Data_2012!M$271","v":2.7088524588308002E-2},{"$f":"Baseline_Data_2012!N213/Baseline_Data_2012!N$271","v":2.4777188880925359E-2},{"$f":"Baseline_Data_2012!O213/Baseline_Data_2012!O$271","v":1.3579125838534609E-2},{"$f":"Baseline_Data_2012!P213/Baseline_Data_2012!P$271","v":1.3856603768265456E-3},{"$f":"Baseline_Data_2012!Q213/Baseline_Data_2012!Q$271","v":1.0684640921597991E-2},{"$f":"Baseline_Data_2012!R213/Baseline_Data_2012!R$271","v":1.5042326325368845E-2},{"$f":"Baseline_Data_2012!S213/Baseline_Data_2012!S$271","v":1.4488183440928559E-2},{"$f":"Baseline_Data_2012!T213/Baseline_Data_2012!T$271","v":1.101992382845911E-2},{"$f":"Baseline_Data_2012!U213/Baseline_Data_2012!U$271","v":7.3768266939243585E-3},{"$f":"Baseline_Data_2012!V213/Baseline_Data_2012!V$271","v":1.0951953989309225E-2},{"$f":"Baseline_Data_2012!W213/Baseline_Data_2012!W$271","v":8.7355114911589066E-3},{"$f":"Baseline_Data_2012!X213/Baseline_Data_2012!X$271","v":7.2033619998200689E-3},{"$f":"Baseline_Data_2012!Y213/Baseline_Data_2012!Y$271","v":7.036326921126811E-3},{"$f":"Baseline_Data_2012!Z213/Baseline_Data_2012!Z$271","v":1.4512717926329464E-2},{"$f":"Baseline_Data_2012!AA213/Baseline_Data_2012!AA$271","v":6.8625851922808423E-3},{"$f":"Baseline_Data_2012!AB213/Baseline_Data_2012!AB$271","v":1.2591915960575868E-2},{"$f":"Baseline_Data_2012!AC213/Baseline_Data_2012!AC$271","v":1.3856603768265458E-3},{"$f":"Baseline_Data_2012!AD213/Baseline_Data_2012!AD$271","v":9.2832473762971615E-3},{"$f":"Baseline_Data_2012!AE213/Baseline_Data_2012!AE$271","v":7.9095682886952956E-3},{"$f":"Baseline_Data_2012!AF213/Baseline_Data_2012!AF$271","v":1.0253957998376927E-2},{"$f":"Baseline_Data_2012!AG213/Baseline_Data_2012!AG$271","v":1.6150459685789906E-2},{"$f":"Baseline_Data_2012!AH213/Baseline_Data_2012!AH$271","v":7.8325118923918552E-3},{"$f":"Baseline_Data_2012!AI213/Baseline_Data_2012!AI$271","v":1.0544317685585761E-2},{"$f":"Baseline_Data_2012!AJ213/Baseline_Data_2012!AJ$271","v":1.6788465068259078E-2},{"$f":"Baseline_Data_2012!AK213/Baseline_Data_2012!AK$271","v":7.6183636402181541E-3},{"$f":"Baseline_Data_2012!AL213/Baseline_Data_2012!AL$271","v":6.5646632666581791E-3},{"$f":"Baseline_Data_2012!AM213/Baseline_Data_2012!AM$271","v":2.7088524588307999E-2},{"$f":"Baseline_Data_2012!AN213/Baseline_Data_2012!AN$271","v":1.6882115609052933E-2},{"$f":"Baseline_Data_2012!AO213/Baseline_Data_2012!AO$271","v":5.6662532045237439E-3},{"$f":"Baseline_Data_2012!AP213/Baseline_Data_2012!AP$271","v":1.4122736952090953E-2},{"$f":"Baseline_Data_2012!AQ213/Baseline_Data_2012!AQ$271","v":2.4777188880925359E-2},{"$f":"Baseline_Data_2012!AR213/Baseline_Data_2012!AR$271","v":5.3269861152337736E-3},{"$f":"Baseline_Data_2012!AS213/Baseline_Data_2012!AS$271","v":8.1299731654708423E-3},{"$f":"Baseline_Data_2012!AT213/Baseline_Data_2012!AT$271","v":1.1189712698970079E-2},{"$f":"Baseline_Data_2012!AU213/Baseline_Data_2012!AU$271","v":4.3354850244037959E-3},{"$f":"Baseline_Data_2012!AV213/Baseline_Data_2012!AV$271","v":7.8084334067793013E-3},220]
[4,"Female 30-34",{"$f":"'III Tool Overview'!$H$8/100","v":1000},0,0,{"$f":"G221*'III Tool Overview'!$H$8","v":1073.359705150456},{"$f":"HLOOKUP('III Tool Overview'!$H$6,Targeting!$I$1:$BC$277,Targeting!BD221,FALSE)","v":1.073359705150456E-2},{"$f":"Baseline_Data_2012!B214","v":15631.114900238856},{"$f":"Baseline_Data_2012!B214/Baseline_Data_2012!B$271","v":1.073359705150456E-2},{"$f":"Baseline_Data_2012!C214/Baseline_Data_2012!C$271","v":7.4923393542654232E-3},{"$f":"Baseline_Data_2012!D214/Baseline_Data_2012!D$271","v":1.5168287643571718E-2},{"$f":"Baseline_Data_2012!E214/Baseline_Data_2012!E$271","v":1.0778958361288548E-2},{"$f":"Baseline_Data_2012!F214/Baseline_Data_2012!F$271","v":8.8190972129221466E-3},{"$f":"Baseline_Data_2012!G214/Baseline_Data_2012!G$271","v":1.0643779812944513E-2},{"$f":"Baseline_Data_2012!H214/Baseline_Data_2012!H$271","v":1.3710662545276775E-2},{"$f":"Baseline_Data_2012!I214/Baseline_Data_2012!I$271","v":8.294181295998071E-3},{"$f":"Baseline_Data_2012!J214/Baseline_Data_2012!J$271","v":1.6129748930735269E-2},{"$f":"Baseline_Data_2012!K214/Baseline_Data_2012!K$271","v":7.6516815098360549E-3},{"$f":"Baseline_Data_2012!L214/Baseline_Data_2012!L$271","v":1.1424481794970853E-2},{"$f":"Baseline_Data_2012!M214/Baseline_Data_2012!M$271","v":2.7405349437294058E-2},{"$f":"Baseline_Data_2012!N214/Baseline_Data_2012!N$271","v":2.4071286063804979E-2},{"$f":"Baseline_Data_2012!O214/Baseline_Data_2012!O$271","v":1.3985581809884374E-2},{"$f":"Baseline_Data_2012!P214/Baseline_Data_2012!P$271","v":9.5264150906825007E-4},{"$f":"Baseline_Data_2012!Q214/Baseline_Data_2012!Q$271","v":8.0956702367492479E-3},{"$f":"Baseline_Data_2012!R214/Baseline_Data_2012!R$271","v":1.7839399858020976E-2},{"$f":"Baseline_Data_2012!S214/Baseline_Data_2012!S$271","v":1.6971420122397756E-2},{"$f":"Baseline_Data_2012!T214/Baseline_Data_2012!T$271","v":1.1720342715861171E-2},{"$f":"Baseline_Data_2012!U214/Baseline_Data_2012!U$271","v":9.0517583587284393E-3},{"$f":"Baseline_Data_2012!V214/Baseline_Data_2012!V$271","v":1.0778958361288544E-2},{"$f":"Baseline_Data_2012!W214/Baseline_Data_2012!W$271","v":7.846029318046982E-3},{"$f":"Baseline_Data_2012!X214/Baseline_Data_2012!X$271","v":8.2448119275048987E-3},{"$f":"Baseline_Data_2012!Y214/Baseline_Data_2012!Y$271","v":7.9525153223151974E-3},{"$f":"Baseline_Data_2012!Z214/Baseline_Data_2012!Z$271","v":1.7398187725799673E-2},{"$f":"Baseline_Data_2012!AA214/Baseline_Data_2012!AA$271","v":7.5732079192921721E-3},{"$f":"Baseline_Data_2012!AB214/Baseline_Data_2012!AB$271","v":1.1115892616649446E-2},{"$f":"Baseline_Data_2012!AC214/Baseline_Data_2012!AC$271","v":9.5264150906825018E-4},{"$f":"Baseline_Data_2012!AD214/Baseline_Data_2012!AD$271","v":1.1048905862103975E-2},{"$f":"Baseline_Data_2012!AE214/Baseline_Data_2012!AE$271","v":8.8190972129221466E-3},{"$f":"Baseline_Data_2012!AF214/Baseline_Data_2012!AF$271","v":8.4806227461323713E-3},{"$f":"Baseline_Data_2012!AG214/Baseline_Data_2012!AG$271","v":1.7598163541961916E-2},{"$f":"Baseline_Data_2012!AH214/Baseline_Data_2012!AH$271","v":8.3778133532545779E-3},{"$f":"Baseline_Data_2012!AI214/Baseline_Data_2012!AI$271","v":1.1472217641917309E-2},{"$f":"Baseline_Data_2012!AJ214/Baseline_Data_2012!AJ$271","v":1.6490091873917982E-2},{"$f":"Baseline_Data_2012!AK214/Baseline_Data_2012!AK$271","v":8.2487564062221214E-3},{"$f":"Baseline_Data_2012!AL214/Baseline_Data_2012!AL$271","v":7.348169538893598E-3},{"$f":"Baseline_Data_2012!AM214/Baseline_Data_2012!AM$271","v":2.7405349437294061E-2},{"$f":"Baseline_Data_2012!AN214/Baseline_Data_2012!AN$271","v":1.6915153017289828E-2},{"$f":"Baseline_Data_2012!AO214/Baseline_Data_2012!AO$271","v":5.9565735983951014E-3},{"$f":"Baseline_Data_2012!AP214/Baseline_Data_2012!AP$271","v":1.5168287643571718E-2},{"$f":"Baseline_Data_2012!AQ214/Baseline_Data_2012!AQ$271","v":2.4071286063804979E-2},{"$f":"Baseline_Data_2012!AR214/Baseline_Data_2012!AR$271","v":5.6832495178449497E-3},{"$f":"Baseline_Data_2012!AS214/Baseline_Data_2012!AS$271","v":1.0279475665510043E-2},{"$f":"Baseline_Data_2012!AT214/Baseline_Data_2012!AT$271","v":1.0784567928834957E-2},{"$f":"Baseline_Data_2012!AU214/Baseline_Data_2012!AU$271","v":4.4021847940100079E-3},{"$f":"Baseline_Data_2012!AV214/Baseline_Data_2012!AV$271","v":9.1315569108805436E-3},221]
[4,"Female 35-39",{"$f":"'III Tool Overview'!$H$8/100","v":1000},0,0,{"$f":"G222*'III Tool Overview'!$H$8","v":1402.2433815141617},{"$f":"HLOOKUP('III Tool Overview'!$H$6,Targeting!$I$1:$BC$277,Targeting!BD222,FALSE)","v":1.4022433815141616E-2},{"$f":"Baseline_Data_2012!B215","v":20420.579708155648},{"$f":"Baseline_Data_2012!B215/Baseline_Data_2012!B$271","v":1.4022433815141616E-2},{"$f":"Baseline_Data_2012!C215/Baseline_Data_2012!C$271","v":1.0892412504314971E-2},{"$f":"Baseline_Data_2012!D215/Baseline_Data_2012!D$271","v":2.6112443913454242E-2},{"$f":"Baseline_Data_2012!E215/Baseline_Data_2012!E$271","v":1.5497322291397362E-2},{"$f":"Baseline_Data_2012!F215/Baseline_Data_2012!F$271","v":1.2750272575846185E-2},{"$f":"Baseline_Data_2012!G215/Baseline_Data_2012!G$271","v":1.5463823917036927E-2},{"$f":"Baseline_Data_2012!H215/Baseline_Data_2012!H$271","v":1.71238770470226E-2},{"$f":"Baseline_Data_2012!I215/Baseline_Data_2012!I$271","v":1.0002838959472809E-2},{"$f":"Baseline_Data_2012!J215/Baseline_Data_2012!J$271","v":2.1261074580307064E-2},{"$f":"Baseline_Data_2012!K215/Baseline_Data_2012!K$271","v":1.0236086379783196E-2},{"$f":"Baseline_Data_2012!L215/Baseline_Data_2012!L$271","v":1.3369847656873629E-2},{"$f":"Baseline_Data_2012!M215/Baseline_Data_2012!M$271","v":3.4948464056629214E-2},{"$f":"Baseline_Data_2012!N215/Baseline_Data_2012!N$271","v":3.3104137682150446E-2},{"$f":"Baseline_Data_2012!O215/Baseline_Data_2012!O$271","v":1.9257757081244553E-2},{"$f":"Baseline_Data_2012!P215/Baseline_Data_2012!P$271","v":1.8793041986788781E-3},{"$f":"Baseline_Data_2012!Q215/Baseline_Data_2012!Q$271","v":7.4147998574068041E-3},{"$f":"Baseline_Data_2012!R215/Baseline_Data_2012!R$271","v":2.4233564121950393E-2},{"$f":"Baseline_Data_2012!S215/Baseline_Data_2012!S$271","v":2.4426168876299267E-2},{"$f":"Baseline_Data_2012!T215/Baseline_Data_2012!T$271","v":1.7141216876147933E-2},{"$f":"Baseline_Data_2012!U215/Baseline_Data_2012!U$271","v":1.2115353950825665E-2},{"$f":"Baseline_Data_2012!V215/Baseline_Data_2012!V$271","v":1.5497322291397362E-2},{"$f":"Baseline_Data_2012!W215/Baseline_Data_2012!W$271","v":8.3545047813567246E-3},{"$f":"Baseline_Data_2012!X215/Baseline_Data_2012!X$271","v":1.1212556225243694E-2},{"$f":"Baseline_Data_2012!Y215/Baseline_Data_2012!Y$271","v":1.1310257931978403E-2},{"$f":"Baseline_Data_2012!Z215/Baseline_Data_2012!Z$271","v":2.6285030723551945E-2},{"$f":"Baseline_Data_2012!AA215/Baseline_Data_2012!AA$271","v":1.2018224264595489E-2},{"$f":"Baseline_Data_2012!AB215/Baseline_Data_2012!AB$271","v":1.0526983867374466E-2},{"$f":"Baseline_Data_2012!AC215/Baseline_Data_2012!AC$271","v":1.8793041986788781E-3},{"$f":"Baseline_Data_2012!AD215/Baseline_Data_2012!AD$271","v":1.5853514402592018E-2},{"$f":"Baseline_Data_2012!AE215/Baseline_Data_2012!AE$271","v":1.2750272575846185E-2},{"$f":"Baseline_Data_2012!AF215/Baseline_Data_2012!AF$271","v":8.1011529206953276E-3},{"$f":"Baseline_Data_2012!AG215/Baseline_Data_2012!AG$271","v":2.2632464802231082E-2},{"$f":"Baseline_Data_2012!AH215/Baseline_Data_2012!AH$271","v":1.2998433015161419E-2},{"$f":"Baseline_Data_2012!AI215/Baseline_Data_2012!AI$271","v":1.5991414721365428E-2},{"$f":"Baseline_Data_2012!AJ215/Baseline_Data_2012!AJ$271","v":2.2397687666523933E-2},{"$f":"Baseline_Data_2012!AK215/Baseline_Data_2012!AK$271","v":1.2288948333872117E-2},{"$f":"Baseline_Data_2012!AL215/Baseline_Data_2012!AL$271","v":9.6210335811055155E-3},{"$f":"Baseline_Data_2012!AM215/Baseline_Data_2012!AM$271","v":3.4948464056629214E-2},{"$f":"Baseline_Data_2012!AN215/Baseline_Data_2012!AN$271","v":2.4587448352544936E-2},{"$f":"Baseline_Data_2012!AO215/Baseline_Data_2012!AO$271","v":9.2568382178851629E-3},{"$f":"Baseline_Data_2012!AP215/Baseline_Data_2012!AP$271","v":2.6112443913454242E-2},{"$f":"Baseline_Data_2012!AQ215/Baseline_Data_2012!AQ$271","v":3.3104137682150446E-2},{"$f":"Baseline_Data_2012!AR215/Baseline_Data_2012!AR$271","v":8.7944388902986698E-3},{"$f":"Baseline_Data_2012!AS215/Baseline_Data_2012!AS$271","v":1.403646762606524E-2},{"$f":"Baseline_Data_2012!AT215/Baseline_Data_2012!AT$271","v":1.6583196062822349E-2},{"$f":"Baseline_Data_2012!AU215/Baseline_Data_2012!AU$271","v":5.5483159959791827E-3},{"$f":"Baseline_Data_2012!AV215/Baseline_Data_2012!AV$271","v":1.3606693647937523E-2},222]
[4,"Female 40-44",{"$f":"'III Tool Overview'!$H$8/100","v":1000},0,0,{"$f":"G223*'III Tool Overview'!$H$8","v":1745.4834153911484},{"$f":"HLOOKUP('III Tool Overview'!$H$6,Targeting!$I$1:$BC$277,Targeting!BD223,FALSE)","v":1.7454834153911483E-2},{"$f":"Baseline_Data_2012!B216","v":25419.113174754337},{"$f":"Baseline_Data_2012!B216/Baseline_Data_2012!B$271","v":1.7454834153911483E-2},{"$f":"Baseline_Data_2012!C216/Baseline_Data_2012!C$271","v":1.4172615287938466E-2},{"$f":"Baseline_Data_2012!D216/Baseline_Data_2012!D$271","v":3.7042796877227238E-2},{"$f":"Baseline_Data_2012!E216/Baseline_Data_2012!E$271","v":2.1818176310869991E-2},{"$f":"Baseline_Data_2012!F216/Baseline_Data_2012!F$271","v":1.7061598422068825E-2},{"$f":"Baseline_Data_2012!G216/Baseline_Data_2012!G$271","v":1.9160020851484865E-2},{"$f":"Baseline_Data_2012!H216/Baseline_Data_2012!H$271","v":2.0468411303631542E-2},{"$f":"Baseline_Data_2012!I216/Baseline_Data_2012!I$271","v":1.1819502234976541E-2},{"$f":"Baseline_Data_2012!J216/Baseline_Data_2012!J$271","v":2.8650723143472379E-2},{"$f":"Baseline_Data_2012!K216/Baseline_Data_2012!K$271","v":1.3099544979372869E-2},{"$f":"Baseline_Data_2012!L216/Baseline_Data_2012!L$271","v":1.4670279737063757E-2},{"$f":"Baseline_Data_2012!M216/Baseline_Data_2012!M$271","v":4.7170877715778228E-2},{"$f":"Baseline_Data_2012!N216/Baseline_Data_2012!N$271","v":3.5401854179369113E-2},{"$f":"Baseline_Data_2012!O216/Baseline_Data_2012!O$271","v":2.5843857314228325E-2},{"$f":"Baseline_Data_2012!P216/Baseline_Data_2012!P$271","v":2.4013331427563444E-3},{"$f":"Baseline_Data_2012!Q216/Baseline_Data_2012!Q$271","v":7.4395709037010363E-3},{"$f":"Baseline_Data_2012!R216/Baseline_Data_2012!R$271","v":2.9734482172075714E-2},{"$f":"Baseline_Data_2012!S216/Baseline_Data_2012!S$271","v":3.2549157120876547E-2},{"$f":"Baseline_Data_2012!T216/Baseline_Data_2012!T$271","v":2.628882850956021E-2},{"$f":"Baseline_Data_2012!U216/Baseline_Data_2012!U$271","v":1.7356748213239605E-2},{"$f":"Baseline_Data_2012!V216/Baseline_Data_2012!V$271","v":2.1818176310869995E-2},{"$f":"Baseline_Data_2012!W216/Baseline_Data_2012!W$271","v":1.0547162166502071E-2},{"$f":"Baseline_Data_2012!X216/Baseline_Data_2012!X$271","v":1.3706172928524949E-2},{"$f":"Baseline_Data_2012!Y216/Baseline_Data_2012!Y$271","v":1.5971321259414816E-2},{"$f":"Baseline_Data_2012!Z216/Baseline_Data_2012!Z$271","v":3.4559566628695158E-2},{"$f":"Baseline_Data_2012!AA216/Baseline_Data_2012!AA$271","v":1.3780570796267332E-2},{"$f":"Baseline_Data_2012!AB216/Baseline_Data_2012!AB$271","v":9.4758601977450799E-3},{"$f":"Baseline_Data_2012!AC216/Baseline_Data_2012!AC$271","v":2.4013331427563444E-3},{"$f":"Baseline_Data_2012!AD216/Baseline_Data_2012!AD$271","v":1.8021293142979393E-2},{"$f":"Baseline_Data_2012!AE216/Baseline_Data_2012!AE$271","v":1.7061598422068825E-2},{"$f":"Baseline_Data_2012!AF216/Baseline_Data_2012!AF$271","v":9.0622425245517578E-3},{"$f":"Baseline_Data_2012!AG216/Baseline_Data_2012!AG$271","v":2.9435340831094069E-2},{"$f":"Baseline_Data_2012!AH216/Baseline_Data_2012!AH$271","v":1.55084752525719E-2},{"$f":"Baseline_Data_2012!AI216/Baseline_Data_2012!AI$271","v":2.1050701731781519E-2},{"$f":"Baseline_Data_2012!AJ216/Baseline_Data_2012!AJ$271","v":2.853666844021786E-2},{"$f":"Baseline_Data_2012!AK216/Baseline_Data_2012!AK$271","v":1.6234347535799481E-2},{"$f":"Baseline_Data_2012!AL216/Baseline_Data_2012!AL$271","v":1.240074314310795E-2},{"$f":"Baseline_Data_2012!AM216/Baseline_Data_2012!AM$271","v":4.7170877715778235E-2},{"$f":"Baseline_Data_2012!AN216/Baseline_Data_2012!AN$271","v":3.3708170284617485E-2},{"$f":"Baseline_Data_2012!AO216/Baseline_Data_2012!AO$271","v":1.1658547220960975E-2},{"$f":"Baseline_Data_2012!AP216/Baseline_Data_2012!AP$271","v":3.7042796877227238E-2},{"$f":"Baseline_Data_2012!AQ216/Baseline_Data_2012!AQ$271","v":3.5401854179369113E-2},{"$f":"Baseline_Data_2012!AR216/Baseline_Data_2012!AR$271","v":1.2169049162157462E-2},{"$f":"Baseline_Data_2012!AS216/Baseline_Data_2012!AS$271","v":1.6711407362248392E-2},{"$f":"Baseline_Data_2012!AT216/Baseline_Data_2012!AT$271","v":2.2165197542594248E-2},{"$f":"Baseline_Data_2012!AU216/Baseline_Data_2012!AU$271","v":8.0678411342499229E-3},{"$f":"Baseline_Data_2012!AV216/Baseline_Data_2012!AV$271","v":1.627727916853627E-2},223]
[4,"Female 45-49",{"$f":"'III Tool Overview'!$H$8/100","v":1000},0,0,{"$f":"G224*'III Tool Overview'!$H$8","v":1747.3420498023768},{"$f":"HLOOKUP('III Tool Overview'!$H$6,Targeting!$I$1:$BC$277,Targeting!BD224,FALSE)","v":1.7473420498023768E-2},{"$f":"Baseline_Data_2012!B217","v":25446.180082427549},{"$f":"Baseline_Data_2012!B217/Baseline_Data_2012!B$271","v":1.7473420498023768E-2},{"$f":"Baseline_Data_2012!C217/Baseline_Data_2012!C$271","v":1.4297966849515497E-2},{"$f":"Baseline_Data_2012!D217/Baseline_Data_2012!D$271","v":3.8696141133306945E-2},{"$f":"Baseline_Data_2012!E217/Baseline_Data_2012!E$271","v":2.4241674543782656E-2},{"$f":"Baseline_Data_2012!F217/Baseline_Data_2012!F$271","v":1.7107521587047026E-2},{"$f":"Baseline_Data_2012!G217/Baseline_Data_2012!G$271","v":1.8016709131298068E-2},{"$f":"Baseline_Data_2012!H217/Baseline_Data_2012!H$271","v":2.0351386580351651E-2},{"$f":"Baseline_Data_2012!I217/Baseline_Data_2012!I$271","v":1.225486104452936E-2},{"$f":"Baseline_Data_2012!J217/Baseline_Data_2012!J$271","v":2.7877707583360233E-2},{"$f":"Baseline_Data_2012!K217/Baseline_Data_2012!K$271","v":1.3174712603655627E-2},{"$f":"Baseline_Data_2012!L217/Baseline_Data_2012!L$271","v":1.4239208453930022E-2},{"$f":"Baseline_Data_2012!M217/Baseline_Data_2012!M$271","v":4.4967064867090775E-2},{"$f":"Baseline_Data_2012!N217/Baseline_Data_2012!N$271","v":3.6410649472491591E-2},{"$f":"Baseline_Data_2012!O217/Baseline_Data_2012!O$271","v":2.5986251454035349E-2},{"$f":"Baseline_Data_2012!P217/Baseline_Data_2012!P$271","v":2.4436788778893458E-3},{"$f":"Baseline_Data_2012!Q217/Baseline_Data_2012!Q$271","v":7.1351703240661269E-3},{"$f":"Baseline_Data_2012!R217/Baseline_Data_2012!R$271","v":2.8972886907276653E-2},{"$f":"Baseline_Data_2012!S217/Baseline_Data_2012!S$271","v":3.277618859319241E-2},{"$f":"Baseline_Data_2012!T217/Baseline_Data_2012!T$271","v":2.6562224112426126E-2},{"$f":"Baseline_Data_2012!U217/Baseline_Data_2012!U$271","v":1.5968240038645547E-2},{"$f":"Baseline_Data_2012!V217/Baseline_Data_2012!V$271","v":2.4241674543782652E-2},{"$f":"Baseline_Data_2012!W217/Baseline_Data_2012!W$271","v":1.1028274581595996E-2},{"$f":"Baseline_Data_2012!X217/Baseline_Data_2012!X$271","v":1.4742154507708686E-2},{"$f":"Baseline_Data_2012!Y217/Baseline_Data_2012!Y$271","v":1.8013589040598098E-2},{"$f":"Baseline_Data_2012!Z217/Baseline_Data_2012!Z$271","v":3.1102884633107966E-2},{"$f":"Baseline_Data_2012!AA217/Baseline_Data_2012!AA$271","v":1.5582863693046329E-2},{"$f":"Baseline_Data_2012!AB217/Baseline_Data_2012!AB$271","v":9.8150669937005653E-3},{"$f":"Baseline_Data_2012!AC217/Baseline_Data_2012!AC$271","v":2.4436788778893462E-3},{"$f":"Baseline_Data_2012!AD217/Baseline_Data_2012!AD$271","v":1.5465961959872161E-2},{"$f":"Baseline_Data_2012!AE217/Baseline_Data_2012!AE$271","v":1.7107521587047026E-2},{"$f":"Baseline_Data_2012!AF217/Baseline_Data_2012!AF$271","v":9.3699092924643176E-3},{"$f":"Baseline_Data_2012!AG217/Baseline_Data_2012!AG$271","v":2.8313555066107655E-2},{"$f":"Baseline_Data_2012!AH217/Baseline_Data_2012!AH$271","v":1.7149117081834944E-2},{"$f":"Baseline_Data_2012!AI217/Baseline_Data_2012!AI$271","v":2.0612642942416638E-2},{"$f":"Baseline_Data_2012!AJ217/Baseline_Data_2012!AJ$271","v":3.0959940793135767E-2},{"$f":"Baseline_Data_2012!AK217/Baseline_Data_2012!AK$271","v":1.5834791815753712E-2},{"$f":"Baseline_Data_2012!AL217/Baseline_Data_2012!AL$271","v":1.1875163604522378E-2},{"$f":"Baseline_Data_2012!AM217/Baseline_Data_2012!AM$271","v":4.4967064867090775E-2},{"$f":"Baseline_Data_2012!AN217/Baseline_Data_2012!AN$271","v":3.3509805999838167E-2},{"$f":"Baseline_Data_2012!AO217/Baseline_Data_2012!AO$271","v":1.1457366669982613E-2},{"$f":"Baseline_Data_2012!AP217/Baseline_Data_2012!AP$271","v":3.8696141133306945E-2},{"$f":"Baseline_Data_2012!AQ217/Baseline_Data_2012!AQ$271","v":3.6410649472491591E-2},{"$f":"Baseline_Data_2012!AR217/Baseline_Data_2012!AR$271","v":1.189079323703196E-2},{"$f":"Baseline_Data_2012!AS217/Baseline_Data_2012!AS$271","v":1.6669523080471087E-2},{"$f":"Baseline_Data_2012!AT217/Baseline_Data_2012!AT$271","v":2.3669429865064276E-2},{"$f":"Baseline_Data_2012!AU217/Baseline_Data_2012!AU$271","v":9.4353547749487111E-3},{"$f":"Baseline_Data_2012!AV217/Baseline_Data_2012!AV$271","v":1.5250485015740818E-2},224]
[4,"Female 50-54",{"$f":"'III Tool Overview'!$H$8/100","v":1000},0,0,{"$f":"G225*'III Tool Overview'!$H$8","v":1608.9024020286904},{"$f":"HLOOKUP('III Tool Overview'!$H$6,Targeting!$I$1:$BC$277,Targeting!BD225,FALSE)","v":1.6089024020286904E-2},{"$f":"Baseline_Data_2012!B218","v":23430.112187652459},{"$f":"Baseline_Data_2012!B218/Baseline_Data_2012!B$271","v":1.6089024020286904E-2},{"$f":"Baseline_Data_2012!C218/Baseline_Data_2012!C$271","v":1.2879296987014933E-2},{"$f":"Baseline_Data_2012!D218/Baseline_Data_2012!D$271","v":3.5014987971330999E-2},{"$f":"Baseline_Data_2012!E218/Baseline_Data_2012!E$271","v":2.3070143803748552E-2},{"$f":"Baseline_Data_2012!F218/Baseline_Data_2012!F$271","v":1.6548557639496638E-2},{"$f":"Baseline_Data_2012!G218/Baseline_Data_2012!G$271","v":1.624059848212318E-2},{"$f":"Baseline_Data_2012!H218/Baseline_Data_2012!H$271","v":1.8291962258139456E-2},{"$f":"Baseline_Data_2012!I218/Baseline_Data_2012!I$271","v":1.1687344680968223E-2},{"$f":"Baseline_Data_2012!J218/Baseline_Data_2012!J$271","v":2.6638991198186114E-2},{"$f":"Baseline_Data_2012!K218/Baseline_Data_2012!K$271","v":1.1502831739658411E-2},{"$f":"Baseline_Data_2012!L218/Baseline_Data_2012!L$271","v":1.2819894346751971E-2},{"$f":"Baseline_Data_2012!M218/Baseline_Data_2012!M$271","v":3.9871393500442318E-2},{"$f":"Baseline_Data_2012!N218/Baseline_Data_2012!N$271","v":3.4976531987798272E-2},{"$f":"Baseline_Data_2012!O218/Baseline_Data_2012!O$271","v":2.3939118888844639E-2},{"$f":"Baseline_Data_2012!P218/Baseline_Data_2012!P$271","v":2.5414260330049198E-3},{"$f":"Baseline_Data_2012!Q218/Baseline_Data_2012!Q$271","v":7.0578662035453675E-3},{"$f":"Baseline_Data_2012!R218/Baseline_Data_2012!R$271","v":2.5030304757202856E-2},{"$f":"Baseline_Data_2012!S218/Baseline_Data_2012!S$271","v":3.0812473590332297E-2},{"$f":"Baseline_Data_2012!T218/Baseline_Data_2012!T$271","v":2.6773035414905694E-2},{"$f":"Baseline_Data_2012!U218/Baseline_Data_2012!U$271","v":1.5525795100547055E-2},{"$f":"Baseline_Data_2012!V218/Baseline_Data_2012!V$271","v":2.3070143803748548E-2},{"$f":"Baseline_Data_2012!W218/Baseline_Data_2012!W$271","v":1.0983322375421012E-2},{"$f":"Baseline_Data_2012!X218/Baseline_Data_2012!X$271","v":1.2227988622673094E-2},{"$f":"Baseline_Data_2012!Y218/Baseline_Data_2012!Y$271","v":1.8199722566849971E-2},{"$f":"Baseline_Data_2012!Z218/Baseline_Data_2012!Z$271","v":2.703677022320352E-2},{"$f":"Baseline_Data_2012!AA218/Baseline_Data_2012!AA$271","v":1.5009964292566685E-2},{"$f":"Baseline_Data_2012!AB218/Baseline_Data_2012!AB$271","v":9.1405806024699235E-3},{"$f":"Baseline_Data_2012!AC218/Baseline_Data_2012!AC$271","v":2.5414260330049198E-3},{"$f":"Baseline_Data_2012!AD218/Baseline_Data_2012!AD$271","v":1.3680957654622093E-2},{"$f":"Baseline_Data_2012!AE218/Baseline_Data_2012!AE$271","v":1.6548557639496638E-2},{"$f":"Baseline_Data_2012!AF218/Baseline_Data_2012!AF$271","v":8.5551345713804645E-3},{"$f":"Baseline_Data_2012!AG218/Baseline_Data_2012!AG$271","v":2.6591725468541071E-2},{"$f":"Baseline_Data_2012!AH218/Baseline_Data_2012!AH$271","v":1.7205068524190036E-2},{"$f":"Baseline_Data_2012!AI218/Baseline_Data_2012!AI$271","v":1.8137221619077919E-2},{"$f":"Baseline_Data_2012!AJ218/Baseline_Data_2012!AJ$271","v":2.9074056074772169E-2},{"$f":"Baseline_Data_2012!AK218/Baseline_Data_2012!AK$271","v":1.4275534113055212E-2},{"$f":"Baseline_Data_2012!AL218/Baseline_Data_2012!AL$271","v":1.0144421674927094E-2},{"$f":"Baseline_Data_2012!AM218/Baseline_Data_2012!AM$271","v":3.9871393500442318E-2},{"$f":"Baseline_Data_2012!AN218/Baseline_Data_2012!AN$271","v":2.9756111114099617E-2},{"$f":"Baseline_Data_2012!AO218/Baseline_Data_2012!AO$271","v":1.1773743658897322E-2},{"$f":"Baseline_Data_2012!AP218/Baseline_Data_2012!AP$271","v":3.5014987971330999E-2},{"$f":"Baseline_Data_2012!AQ218/Baseline_Data_2012!AQ$271","v":3.4976531987798272E-2},{"$f":"Baseline_Data_2012!AR218/Baseline_Data_2012!AR$271","v":1.1929088867424976E-2},{"$f":"Baseline_Data_2012!AS218/Baseline_Data_2012!AS$271","v":1.4706484564343624E-2},{"$f":"Baseline_Data_2012!AT218/Baseline_Data_2012!AT$271","v":2.1187079354836741E-2},{"$f":"Baseline_Data_2012!AU218/Baseline_Data_2012!AU$271","v":9.6110129755461599E-3},{"$f":"Baseline_Data_2012!AV218/Baseline_Data_2012!AV$271","v":1.3564786004357003E-2},225]
[4,"Female 55-59",{"$f":"'III Tool Overview'!$H$8/100","v":1000},0,0,{"$f":"G226*'III Tool Overview'!$H$8","v":904.56188186654686},{"$f":"HLOOKUP('III Tool Overview'!$H$6,Targeting!$I$1:$BC$277,Targeting!BD226,FALSE)","v":9.0456188186654688E-3},{"$f":"Baseline_Data_2012!B219","v":13172.947188147269},{"$f":"Baseline_Data_2012!B219/Baseline_Data_2012!B$271","v":9.0456188186654688E-3},{"$f":"Baseline_Data_2012!C219/Baseline_Data_2012!C$271","v":7.6625274976941382E-3},{"$f":"Baseline_Data_2012!D219/Baseline_Data_2012!D$271","v":2.0197333392128116E-2},{"$f":"Baseline_Data_2012!E219/Baseline_Data_2012!E$271","v":1.4237276184668992E-2},{"$f":"Baseline_Data_2012!F219/Baseline_Data_2012!F$271","v":8.8361658582727445E-3},{"$f":"Baseline_Data_2012!G219/Baseline_Data_2012!G$271","v":9.1533737067578912E-3},{"$f":"Baseline_Data_2012!H219/Baseline_Data_2012!H$271","v":1.0554289940120861E-2},{"$f":"Baseline_Data_2012!I219/Baseline_Data_2012!I$271","v":6.2139784884964232E-3},{"$f":"Baseline_Data_2012!J219/Baseline_Data_2012!J$271","v":1.5521884330449444E-2},{"$f":"Baseline_Data_2012!K219/Baseline_Data_2012!K$271","v":6.1858268299626812E-3},{"$f":"Baseline_Data_2012!L219/Baseline_Data_2012!L$271","v":6.7659736555192368E-3},{"$f":"Baseline_Data_2012!M219/Baseline_Data_2012!M$271","v":2.6854199061439734E-2},{"$f":"Baseline_Data_2012!N219/Baseline_Data_2012!N$271","v":2.0357980415411512E-2},{"$f":"Baseline_Data_2012!O219/Baseline_Data_2012!O$271","v":1.4227540496159506E-2},{"$f":"Baseline_Data_2012!P219/Baseline_Data_2012!P$271","v":1.1574342702291222E-3},{"$f":"Baseline_Data_2012!Q219/Baseline_Data_2012!Q$271","v":3.8300847345868806E-3},{"$f":"Baseline_Data_2012!R219/Baseline_Data_2012!R$271","v":1.4552081121733484E-2},{"$f":"Baseline_Data_2012!S219/Baseline_Data_2012!S$271","v":1.7767621707504365E-2},{"$f":"Baseline_Data_2012!T219/Baseline_Data_2012!T$271","v":1.5732872512771463E-2},{"$f":"Baseline_Data_2012!U219/Baseline_Data_2012!U$271","v":8.3222975504603051E-3},{"$f":"Baseline_Data_2012!V219/Baseline_Data_2012!V$271","v":1.4237276184668989E-2},{"$f":"Baseline_Data_2012!W219/Baseline_Data_2012!W$271","v":6.135270789335635E-3},{"$f":"Baseline_Data_2012!X219/Baseline_Data_2012!X$271","v":6.9389889006763886E-3},{"$f":"Baseline_Data_2012!Y219/Baseline_Data_2012!Y$271","v":9.8601186417955674E-3},{"$f":"Baseline_Data_2012!Z219/Baseline_Data_2012!Z$271","v":1.5120337289540752E-2},{"$f":"Baseline_Data_2012!AA219/Baseline_Data_2012!AA$271","v":7.8120370675800492E-3},{"$f":"Baseline_Data_2012!AB219/Baseline_Data_2012!AB$271","v":4.541166035745163E-3},{"$f":"Baseline_Data_2012!AC219/Baseline_Data_2012!AC$271","v":1.1574342702291222E-3},{"$f":"Baseline_Data_2012!AD219/Baseline_Data_2012!AD$271","v":7.6118550618759122E-3},{"$f":"Baseline_Data_2012!AE219/Baseline_Data_2012!AE$271","v":8.8361658582727445E-3},{"$f":"Baseline_Data_2012!AF219/Baseline_Data_2012!AF$271","v":4.4750930381871352E-3},{"$f":"Baseline_Data_2012!AG219/Baseline_Data_2012!AG$271","v":1.545004386675324E-2},{"$f":"Baseline_Data_2012!AH219/Baseline_Data_2012!AH$271","v":9.1707666912611303E-3},{"$f":"Baseline_Data_2012!AI219/Baseline_Data_2012!AI$271","v":1.0828723343994711E-2},{"$f":"Baseline_Data_2012!AJ219/Baseline_Data_2012!AJ$271","v":1.7139989592708571E-2},{"$f":"Baseline_Data_2012!AK219/Baseline_Data_2012!AK$271","v":8.7929619871577047E-3},{"$f":"Baseline_Data_2012!AL219/Baseline_Data_2012!AL$271","v":5.3537645860164251E-3},{"$f":"Baseline_Data_2012!AM219/Baseline_Data_2012!AM$271","v":2.6854199061439737E-2},{"$f":"Baseline_Data_2012!AN219/Baseline_Data_2012!AN$271","v":1.8389560509439285E-2},{"$f":"Baseline_Data_2012!AO219/Baseline_Data_2012!AO$271","v":6.5418590240150379E-3},{"$f":"Baseline_Data_2012!AP219/Baseline_Data_2012!AP$271","v":2.0197333392128116E-2},{"$f":"Baseline_Data_2012!AQ219/Baseline_Data_2012!AQ$271","v":2.0357980415411512E-2},{"$f":"Baseline_Data_2012!AR219/Baseline_Data_2012!AR$271","v":7.1122022288393648E-3},{"$f":"Baseline_Data_2012!AS219/Baseline_Data_2012!AS$271","v":7.9703708466531218E-3},{"$f":"Baseline_Data_2012!AT219/Baseline_Data_2012!AT$271","v":1.2349183817606302E-2},{"$f":"Baseline_Data_2012!AU219/Baseline_Data_2012!AU$271","v":5.0044802286923545E-3},{"$f":"Baseline_Data_2012!AV219/Baseline_Data_2012!AV$271","v":6.9308402910500709E-3},226]
[4,"Female 60-64",{"$f":"'III Tool Overview'!$H$8/100","v":1000},0,0,{"$f":"G227*'III Tool Overview'!$H$8","v":871.66272372138621},{"$f":"HLOOKUP('III Tool Overview'!$H$6,Targeting!$I$1:$BC$277,Targeting!BD227,FALSE)","v":8.7166272372138625E-3},{"$f":"Baseline_Data_2012!B220","v":12693.843567412736},{"$f":"Baseline_Data_2012!B220/Baseline_Data_2012!B$271","v":8.7166272372138625E-3},{"$f":"Baseline_Data_2012!C220/Baseline_Data_2012!C$271","v":7.8566910903958911E-3},{"$f":"Baseline_Data_2012!D220/Baseline_Data_2012!D$271","v":2.0888872524575979E-2},{"$f":"Baseline_Data_2012!E220/Baseline_Data_2012!E$271","v":1.4892509145173151E-2},{"$f":"Baseline_Data_2012!F220/Baseline_Data_2012!F$271","v":9.4390884718015908E-3},{"$f":"Baseline_Data_2012!G220/Baseline_Data_2012!G$271","v":8.6019656521339211E-3},{"$f":"Baseline_Data_2012!H220/Baseline_Data_2012!H$271","v":9.8822863932642169E-3},{"$f":"Baseline_Data_2012!I220/Baseline_Data_2012!I$271","v":5.4728717720925581E-3},{"$f":"Baseline_Data_2012!J220/Baseline_Data_2012!J$271","v":1.5632754932809797E-2},{"$f":"Baseline_Data_2012!K220/Baseline_Data_2012!K$271","v":5.4367175257837149E-3},{"$f":"Baseline_Data_2012!L220/Baseline_Data_2012!L$271","v":6.3599332078148095E-3},{"$f":"Baseline_Data_2012!M220/Baseline_Data_2012!M$271","v":2.5795631048644393E-2},{"$f":"Baseline_Data_2012!N220/Baseline_Data_2012!N$271","v":1.8371835984639654E-2},{"$f":"Baseline_Data_2012!O220/Baseline_Data_2012!O$271","v":1.4341287038587749E-2},{"$f":"Baseline_Data_2012!P220/Baseline_Data_2012!P$271","v":1.522939829248845E-3},{"$f":"Baseline_Data_2012!Q220/Baseline_Data_2012!Q$271","v":3.6036520521647631E-3},{"$f":"Baseline_Data_2012!R220/Baseline_Data_2012!R$271","v":1.3319007581200304E-2},{"$f":"Baseline_Data_2012!S220/Baseline_Data_2012!S$271","v":1.8446284778360824E-2},{"$f":"Baseline_Data_2012!T220/Baseline_Data_2012!T$271","v":1.6800342985976206E-2},{"$f":"Baseline_Data_2012!U220/Baseline_Data_2012!U$271","v":7.8710886471220973E-3},{"$f":"Baseline_Data_2012!V220/Baseline_Data_2012!V$271","v":1.4892509145173151E-2},{"$f":"Baseline_Data_2012!W220/Baseline_Data_2012!W$271","v":5.8644597499281255E-3},{"$f":"Baseline_Data_2012!X220/Baseline_Data_2012!X$271","v":7.3968400744746842E-3},{"$f":"Baseline_Data_2012!Y220/Baseline_Data_2012!Y$271","v":8.893440343580316E-3},{"$f":"Baseline_Data_2012!Z220/Baseline_Data_2012!Z$271","v":1.4808082508342927E-2},{"$f":"Baseline_Data_2012!AA220/Baseline_Data_2012!AA$271","v":7.212209724182678E-3},{"$f":"Baseline_Data_2012!AB220/Baseline_Data_2012!AB$271","v":4.398752128706114E-3},{"$f":"Baseline_Data_2012!AC220/Baseline_Data_2012!AC$271","v":1.5229398292488452E-3},{"$f":"Baseline_Data_2012!AD220/Baseline_Data_2012!AD$271","v":7.7337666544585095E-3},{"$f":"Baseline_Data_2012!AE220/Baseline_Data_2012!AE$271","v":9.4390884718015908E-3},{"$f":"Baseline_Data_2012!AF220/Baseline_Data_2012!AF$271","v":3.6184891413856509E-3},{"$f":"Baseline_Data_2012!AG220/Baseline_Data_2012!AG$271","v":1.5241999335592142E-2},{"$f":"Baseline_Data_2012!AH220/Baseline_Data_2012!AH$271","v":8.5954144083493101E-3},{"$f":"Baseline_Data_2012!AI220/Baseline_Data_2012!AI$271","v":9.0783269678421409E-3},{"$f":"Baseline_Data_2012!AJ220/Baseline_Data_2012!AJ$271","v":1.6944103997363329E-2},{"$f":"Baseline_Data_2012!AK220/Baseline_Data_2012!AK$271","v":8.6137063243293815E-3},{"$f":"Baseline_Data_2012!AL220/Baseline_Data_2012!AL$271","v":4.7278465204453873E-3},{"$f":"Baseline_Data_2012!AM220/Baseline_Data_2012!AM$271","v":2.5795631048644393E-2},{"$f":"Baseline_Data_2012!AN220/Baseline_Data_2012!AN$271","v":1.8428291681531615E-2},{"$f":"Baseline_Data_2012!AO220/Baseline_Data_2012!AO$271","v":6.1263911204446526E-3},{"$f":"Baseline_Data_2012!AP220/Baseline_Data_2012!AP$271","v":2.0888872524575979E-2},{"$f":"Baseline_Data_2012!AQ220/Baseline_Data_2012!AQ$271","v":1.8371835984639654E-2},{"$f":"Baseline_Data_2012!AR220/Baseline_Data_2012!AR$271","v":7.4701989853245667E-3},{"$f":"Baseline_Data_2012!AS220/Baseline_Data_2012!AS$271","v":6.9258092415588578E-3},{"$f":"Baseline_Data_2012!AT220/Baseline_Data_2012!AT$271","v":1.0544303105802302E-2},{"$f":"Baseline_Data_2012!AU220/Baseline_Data_2012!AU$271","v":5.0357582301216817E-3},{"$f":"Baseline_Data_2012!AV220/Baseline_Data_2012!AV$271","v":6.2892263882163412E-3},227]
[4,"Female 65-69",null,null,0,{"$f":"G228*'III Tool Overview'!$H$8","v":0},{"$f":"HLOOKUP('III Tool Overview'!$H$6,Targeting!$I$1:$BC$277,Targeting!BD228,FALSE)","v":0},{"$f":"Baseline_Data_2012!B221","v":0},{"$f":"Baseline_Data_2012!B221/Baseline_Data_2012!B$271","v":0},{"$f":"Baseline_Data_2012!C221/Baseline_Data_2012!C$271","v":0},{"$f":"Baseline_Data_2012!D221/Baseline_Data_2012!D$271","v":0},{"$f":"Baseline_Data_2012!E221/Baseline_Data_2012!E$271","v":0},{"$f":"Baseline_Data_2012!F221/Baseline_Data_2012!F$271","v":0},{"$f":"Baseline_Data_2012!G221/Baseline_Data_2012!G$271","v":0},{"$f":"Baseline_Data_2012!H221/Baseline_Data_2012!H$271","v":0},{"$f":"Baseline_Data_2012!I221/Baseline_Data_2012!I$271","v":0},{"$f":"Baseline_Data_2012!J221/Baseline_Data_2012!J$271","v":0},{"$f":"Baseline_Data_2012!K221/Baseline_Data_2012!K$271","v":0},{"$f":"Baseline_Data_2012!L221/Baseline_Data_2012!L$271","v":0},{"$f":"Baseline_Data_2012!M221/Baseline_Data_2012!M$271","v":0},{"$f":"Baseline_Data_2012!N221/Baseline_Data_2012!N$271","v":0},{"$f":"Baseline_Data_2012!O221/Baseline_Data_2012!O$271","v":0},{"$f":"Baseline_Data_2012!P221/Baseline_Data_2012!P$271","v":0},{"$f":"Baseline_Data_2012!Q221/Baseline_Data_2012!Q$271","v":0},{"$f":"Baseline_Data_2012!R221/Baseline_Data_2012!R$271","v":0},{"$f":"Baseline_Data_2012!S221/Baseline_Data_2012!S$271","v":0},{"$f":"Baseline_Data_2012!T221/Baseline_Data_2012!T$271","v":0},{"$f":"Baseline_Data_2012!U221/Baseline_Data_2012!U$271","v":0},{"$f":"Baseline_Data_2012!V221/Baseline_Data_2012!V$271","v":0},{"$f":"Baseline_Data_2012!W221/Baseline_Data_2012!W$271","v":0},{"$f":"Baseline_Data_2012!X221/Baseline_Data_2012!X$271","v":0},{"$f":"Baseline_Data_2012!Y221/Baseline_Data_2012!Y$271","v":0},{"$f":"Baseline_Data_2012!Z221/Baseline_Data_2012!Z$271","v":0},{"$f":"Baseline_Data_2012!AA221/Baseline_Data_2012!AA$271","v":0},{"$f":"Baseline_Data_2012!AB221/Baseline_Data_2012!AB$271","v":0},{"$f":"Baseline_Data_2012!AC221/Baseline_Data_2012!AC$271","v":0},{"$f":"Baseline_Data_2012!AD221/Baseline_Data_2012!AD$271","v":0},{"$f":"Baseline_Data_2012!AE221/Baseline_Data_2012!AE$271","v":0},{"$f":"Baseline_Data_2012!AF221/Baseline_Data_2012!AF$271","v":0},{"$f":"Baseline_Data_2012!AG221/Baseline_Data_2012!AG$271","v":0},{"$f":"Baseline_Data_2012!AH221/Baseline_Data_2012!AH$271","v":0},{"$f":"Baseline_Data_2012!AI221/Baseline_Data_2012!AI$271","v":0},{"$f":"Baseline_Data_2012!AJ221/Baseline_Data_2012!AJ$271","v":0},{"$f":"Baseline_Data_2012!AK221/Baseline_Data_2012!AK$271","v":0},{"$f":"Baseline_Data_2012!AL221/Baseline_Data_2012!AL$271","v":0},{"$f":"Baseline_Data_2012!AM221/Baseline_Data_2012!AM$271","v":0},{"$f":"Baseline_Data_2012!AN221/Baseline_Data_2012!AN$271","v":0},{"$f":"Baseline_Data_2012!AO221/Baseline_Data_2012!AO$271","v":0},{"$f":"Baseline_Data_2012!AP221/Baseline_Data_2012!AP$271","v":0},{"$f":"Baseline_Data_2012!AQ221/Baseline_Data_2012!AQ$271","v":0},{"$f":"Baseline_Data_2012!AR221/Baseline_Data_2012!AR$271","v":0},{"$f":"Baseline_Data_2012!AS221/Baseline_Data_2012!AS$271","v":0},{"$f":"Baseline_Data_2012!AT221/Baseline_Data_2012!AT$271","v":0},{"$f":"Baseline_Data_2012!AU221/Baseline_Data_2012!AU$271","v":0},{"$f":"Baseline_Data_2012!AV221/Baseline_Data_2012!AV$271","v":0},228]
[4,"Female 70-74",null,null,null,{"$f":"G229*'III Tool Overview'!$H$8","v":0},{"$f":"HLOOKUP('III Tool Overview'!$H$6,Targeting!$I$1:$BC$277,Targeting!BD229,FALSE)","v":0},{"$f":"Baseline_Data_2012!B222","v":0},{"$f":"Baseline_Data_2012!B222/Baseline_Data_2012!B$271","v":0},{"$f":"Baseline_Data_2012!C222/Baseline_Data_2012!C$271","v":0},{"$f":"Baseline_Data_2012!D222/Baseline_Data_2012!D$271","v":0},{"$f":"Baseline_Data_2012!E222/Baseline_Data_2012!E$271","v":0},{"$f":"Baseline_Data_2012!F222/Baseline_Data_2012!F$271","v":0},{"$f":"Baseline_Data_2012!G222/Baseline_Data_2012!G$271","v":0},{"$f":"Baseline_Data_2012!H222/Baseline_Data_2012!H$271","v":0},{"$f":"Baseline_Data_2012!I222/Baseline_Data_2012!I$271","v":0},{"$f":"Baseline_Data_2012!J222/Baseline_Data_2012!J$271","v":0},{"$f":"Baseline_Data_2012!K222/Baseline_Data_2012!K$271","v":0},{"$f":"Baseline_Data_2012!L222/Baseline_Data_2012!L$271","v":0},{"$f":"Baseline_Data_2012!M222/Baseline_Data_2012!M$271","v":0},{"$f":"Baseline_Data_2012!N222/Baseline_Data_2012!N$271","v":0},{"$f":"Baseline_Data_2012!O222/Baseline_Data_2012!O$271","v":0},{"$f":"Baseline_Data_2012!P222/Baseline_Data_2012!P$271","v":0},{"$f":"Baseline_Data_2012!Q222/Baseline_Data_2012!Q$271","v":0},{"$f":"Baseline_Data_2012!R222/Baseline_Data_2012!R$271","v":0},{"$f":"Baseline_Data_2012!S222/Baseline_Data_2012!S$271","v":0},{"$f":"Baseline_Data_2012!T222/Baseline_Data_2012!T$271","v":0},{"$f":"Baseline_Data_2012!U222/Baseline_Data_2012!U$271","v":0},{"$f":"Baseline_Data_2012!V222/Baseline_Data_2012!V$271","v":0},{"$f":"Baseline_Data_2012!W222/Baseline_Data_2012!W$271","v":0},{"$f":"Baseline_Data_2012!X222/Baseline_Data_2012!X$271","v":0},{"$f":"Baseline_Data_2012!Y222/Baseline_Data_2012!Y$271","v":0},{"$f":"Baseline_Data_2012!Z222/Baseline_Data_2012!Z$271","v":0},{"$f":"Baseline_Data_2012!AA222/Baseline_Data_2012!AA$271","v":0},{"$f":"Baseline_Data_2012!AB222/Baseline_Data_2012!AB$271","v":0},{"$f":"Baseline_Data_2012!AC222/Baseline_Data_2012!AC$271","v":0},{"$f":"Baseline_Data_2012!AD222/Baseline_Data_2012!AD$271","v":0},{"$f":"Baseline_Data_2012!AE222/Baseline_Data_2012!AE$271","v":0},{"$f":"Baseline_Data_2012!AF222/Baseline_Data_2012!AF$271","v":0},{"$f":"Baseline_Data_2012!AG222/Baseline_Data_2012!AG$271","v":0},{"$f":"Baseline_Data_2012!AH222/Baseline_Data_2012!AH$271","v":0},{"$f":"Baseline_Data_2012!AI222/Baseline_Data_2012!AI$271","v":0},{"$f":"Baseline_Data_2012!AJ222/Baseline_Data_2012!AJ$271","v":0},{"$f":"Baseline_Data_2012!AK222/Baseline_Data_2012!AK$271","v":0},{"$f":"Baseline_Data_2012!AL222/Baseline_Data_2012!AL$271","v":0},{"$f":"Baseline_Data_2012!AM222/Baseline_Data_2012!AM$271","v":0},{"$f":"Baseline_Data_2012!AN222/Baseline_Data_2012!AN$271","v":0},{"$f":"Baseline_Data_2012!AO222/Baseline_Data_2012!AO$271","v":0},{"$f":"Baseline_Data_2012!AP222/Baseline_Data_2012!AP$271","v":0},{"$f":"Baseline_Data_2012!AQ222/Baseline_Data_2012!AQ$271","v":0},{"$f":"Baseline_Data_2012!AR222/Baseline_Data_2012!AR$271","v":0},{"$f":"Baseline_Data_2012!AS222/Baseline_Data_2012!AS$271","v":0},{"$f":"Baseline_Data_2012!AT222/Baseline_Data_2012!AT$271","v":0},{"$f":"Baseline_Data_2012!AU222/Baseline_Data_2012!AU$271","v":0},{"$f":"Baseline_Data_2012!AV222/Baseline_Data_2012!AV$271","v":0},229]
[4,"Female 75-79",null,null,null,{"$f":"G230*'III Tool Overview'!$H$8","v":0},{"$f":"HLOOKUP('III Tool Overview'!$H$6,Targeting!$I$1:$BC$277,Targeting!BD230,FALSE)","v":0},{"$f":"Baseline_Data_2012!B223","v":0},{"$f":"Baseline_Data_2012!B223/Baseline_Data_2012!B$271","v":0},{"$f":"Baseline_Data_2012!C223/Baseline_Data_2012!C$271","v":0},{"$f":"Baseline_Data_2012!D223/Baseline_Data_2012!D$271","v":0},{"$f":"Baseline_Data_2012!E223/Baseline_Data_2012!E$271","v":0},{"$f":"Baseline_Data_2012!F223/Baseline_Data_2012!F$271","v":0},{"$f":"Baseline_Data_2012!G223/Baseline_Data_2012!G$271","v":0},{"$f":"Baseline_Data_2012!H223/Baseline_Data_2012!H$271","v":0},{"$f":"Baseline_Data_2012!I223/Baseline_Data_2012!I$271","v":0},{"$f":"Baseline_Data_2012!J223/Baseline_Data_2012!J$271","v":0},{"$f":"Baseline_Data_2012!K223/Baseline_Data_2012!K$271","v":0},{"$f":"Baseline_Data_2012!L223/Baseline_Data_2012!L$271","v":0},{"$f":"Baseline_Data_2012!M223/Baseline_Data_2012!M$271","v":0},{"$f":"Baseline_Data_2012!N223/Baseline_Data_2012!N$271","v":0},{"$f":"Baseline_Data_2012!O223/Baseline_Data_2012!O$271","v":0},{"$f":"Baseline_Data_2012!P223/Baseline_Data_2012!P$271","v":0},{"$f":"Baseline_Data_2012!Q223/Baseline_Data_2012!Q$271","v":0},{"$f":"Baseline_Data_2012!R223/Baseline_Data_2012!R$271","v":0},{"$f":"Baseline_Data_2012!S223/Baseline_Data_2012!S$271","v":0},{"$f":"Baseline_Data_2012!T223/Baseline_Data_2012!T$271","v":0},{"$f":"Baseline_Data_2012!U223/Baseline_Data_2012!U$271","v":0},{"$f":"Baseline_Data_2012!V223/Baseline_Data_2012!V$271","v":0},{"$f":"Baseline_Data_2012!W223/Baseline_Data_2012!W$271","v":0},{"$f":"Baseline_Data_2012!X223/Baseline_Data_2012!X$271","v":0},{"$f":"Baseline_Data_2012!Y223/Baseline_Data_2012!Y$271","v":0},{"$f":"Baseline_Data_2012!Z223/Baseline_Data_2012!Z$271","v":0},{"$f":"Baseline_Data_2012!AA223/Baseline_Data_2012!AA$271","v":0},{"$f":"Baseline_Data_2012!AB223/Baseline_Data_2012!AB$271","v":0},{"$f":"Baseline_Data_2012!AC223/Baseline_Data_2012!AC$271","v":0},{"$f":"Baseline_Data_2012!AD223/Baseline_Data_2012!AD$271","v":0},{"$f":"Baseline_Data_2012!AE223/Baseline_Data_2012!AE$271","v":0},{"$f":"Baseline_Data_2012!AF223/Baseline_Data_2012!AF$271","v":0},{"$f":"Baseline_Data_2012!AG223/Baseline_Data_2012!AG$271","v":0},{"$f":"Baseline_Data_2012!AH223/Baseline_Data_2012!AH$271","v":0},{"$f":"Baseline_Data_2012!AI223/Baseline_Data_2012!AI$271","v":0},{"$f":"Baseline_Data_2012!AJ223/Baseline_Data_2012!AJ$271","v":0},{"$f":"Baseline_Data_2012!AK223/Baseline_Data_2012!AK$271","v":0},{"$f":"Baseline_Data_2012!AL223/Baseline_Data_2012!AL$271","v":0},{"$f":"Baseline_Data_2012!AM223/Baseline_Data_2012!AM$271","v":0},{"$f":"Baseline_Data_2012!AN223/Baseline_Data_2012!AN$271","v":0},{"$f":"Baseline_Data_2012!AO223/Baseline_Data_2012!AO$271","v":0},{"$f":"Baseline_Data_2012!AP223/Baseline_Data_2012!AP$271","v":0},{"$f":"Baseline_Data_2012!AQ223/Baseline_Data_2012!AQ$271","v":0},{"$f":"Baseline_Data_2012!AR223/Baseline_Data_2012!AR$271","v":0},{"$f":"Baseline_Data_2012!AS223/Baseline_Data_2012!AS$271","v":0},{"$f":"Baseline_Data_2012!AT223/Baseline_Data_2012!AT$271","v":0},{"$f":"Baseline_Data_2012!AU223/Baseline_Data_2012!AU$271","v":0},{"$f":"Baseline_Data_2012!AV223/Baseline_Data_2012!AV$271","v":0},230]
[4,"Female 80-84",null,null,null,{"$f":"G231*'III Tool Overview'!$H$8","v":0},{"$f":"HLOOKUP('III Tool Overview'!$H$6,Targeting!$I$1:$BC$277,Targeting!BD231,FALSE)","v":0},{"$f":"Baseline_Data_2012!B224","v":0},{"$f":"Baseline_Data_2012!B224/Baseline_Data_2012!B$271","v":0},{"$f":"Baseline_Data_2012!C224/Baseline_Data_2012!C$271","v":0},{"$f":"Baseline_Data_2012!D224/Baseline_Data_2012!D$271","v":0},{"$f":"Baseline_Data_2012!E224/Baseline_Data_2012!E$271","v":0},{"$f":"Baseline_Data_2012!F224/Baseline_Data_2012!F$271","v":0},{"$f":"Baseline_Data_2012!G224/Baseline_Data_2012!G$271","v":0},{"$f":"Baseline_Data_2012!H224/Baseline_Data_2012!H$271","v":0},{"$f":"Baseline_Data_2012!I224/Baseline_Data_2012!I$271","v":0},{"$f":"Baseline_Data_2012!J224/Baseline_Data_2012!J$271","v":0},{"$f":"Baseline_Data_2012!K224/Baseline_Data_2012!K$271","v":0},{"$f":"Baseline_Data_2012!L224/Baseline_Data_2012!L$271","v":0},{"$f":"Baseline_Data_2012!M224/Baseline_Data_2012!M$271","v":0},{"$f":"Baseline_Data_2012!N224/Baseline_Data_2012!N$271","v":0},{"$f":"Baseline_Data_2012!O224/Baseline_Data_2012!O$271","v":0},{"$f":"Baseline_Data_2012!P224/Baseline_Data_2012!P$271","v":0},{"$f":"Baseline_Data_2012!Q224/Baseline_Data_2012!Q$271","v":0},{"$f":"Baseline_Data_2012!R224/Baseline_Data_2012!R$271","v":0},{"$f":"Baseline_Data_2012!S224/Baseline_Data_2012!S$271","v":0},{"$f":"Baseline_Data_2012!T224/Baseline_Data_2012!T$271","v":0},{"$f":"Baseline_Data_2012!U224/Baseline_Data_2012!U$271","v":0},{"$f":"Baseline_Data_2012!V224/Baseline_Data_2012!V$271","v":0},{"$f":"Baseline_Data_2012!W224/Baseline_Data_2012!W$271","v":0},{"$f":"Baseline_Data_2012!X224/Baseline_Data_2012!X$271","v":0},{"$f":"Baseline_Data_2012!Y224/Baseline_Data_2012!Y$271","v":0},{"$f":"Baseline_Data_2012!Z224/Baseline_Data_2012!Z$271","v":0},{"$f":"Baseline_Data_2012!AA224/Baseline_Data_2012!AA$271","v":0},{"$f":"Baseline_Data_2012!AB224/Baseline_Data_2012!AB$271","v":0},{"$f":"Baseline_Data_2012!AC224/Baseline_Data_2012!AC$271","v":0},{"$f":"Baseline_Data_2012!AD224/Baseline_Data_2012!AD$271","v":0},{"$f":"Baseline_Data_2012!AE224/Baseline_Data_2012!AE$271","v":0},{"$f":"Baseline_Data_2012!AF224/Baseline_Data_2012!AF$271","v":0},{"$f":"Baseline_Data_2012!AG224/Baseline_Data_2012!AG$271","v":0},{"$f":"Baseline_Data_2012!AH224/Baseline_Data_2012!AH$271","v":0},{"$f":"Baseline_Data_2012!AI224/Baseline_Data_2012!AI$271","v":0},{"$f":"Baseline_Data_2012!AJ224/Baseline_Data_2012!AJ$271","v":0},{"$f":"Baseline_Data_2012!AK224/Baseline_Data_2012!AK$271","v":0},{"$f":"Baseline_Data_2012!AL224/Baseline_Data_2012!AL$271","v":0},{"$f":"Baseline_Data_2012!AM224/Baseline_Data_2012!AM$271","v":0},{"$f":"Baseline_Data_2012!AN224/Baseline_Data_2012!AN$271","v":0},{"$f":"Baseline_Data_2012!AO224/Baseline_Data_2012!AO$271","v":0},{"$f":"Baseline_Data_2012!AP224/Baseline_Data_2012!AP$271","v":0},{"$f":"Baseline_Data_2012!AQ224/Baseline_Data_2012!AQ$271","v":0},{"$f":"Baseline_Data_2012!AR224/Baseline_Data_2012!AR$271","v":0},{"$f":"Baseline_Data_2012!AS224/Baseline_Data_2012!AS$271","v":0},{"$f":"Baseline_Data_2012!AT224/Baseline_Data_2012!AT$271","v":0},{"$f":"Baseline_Data_2012!AU224/Baseline_Data_2012!AU$271","v":0},{"$f":"Baseline_Data_2012!AV224/Baseline_Data_2012!AV$271","v":0},231]
[4,"Female 85+",null,null,null,{"$f":"G232*'III Tool Overview'!$H$8","v":0},{"$f":"HLOOKUP('III Tool Overview'!$H$6,Targeting!$I$1:$BC$277,Targeting!BD232,FALSE)","v":0},{"$f":"Baseline_Data_2012!B225","v":0},{"$f":"Baseline_Data_2012!B225/Baseline_Data_2012!B$271","v":0},{"$f":"Baseline_Data_2012!C225/Baseline_Data_2012!C$271","v":0},{"$f":"Baseline_Data_2012!D225/Baseline_Data_2012!D$271","v":0},{"$f":"Baseline_Data_2012!E225/Baseline_Data_2012!E$271","v":0},{"$f":"Baseline_Data_2012!F225/Baseline_Data_2012!F$271","v":0},{"$f":"Baseline_Data_2012!G225/Baseline_Data_2012!G$271","v":0},{"$f":"Baseline_Data_2012!H225/Baseline_Data_2012!H$271","v":0},{"$f":"Baseline_Data_2012!I225/Baseline_Data_2012!I$271","v":0},{"$f":"Baseline_Data_2012!J225/Baseline_Data_2012!J$271","v":0},{"$f":"Baseline_Data_2012!K225/Baseline_Data_2012!K$271","v":0},{"$f":"Baseline_Data_2012!L225/Baseline_Data_2012!L$271","v":0},{"$f":"Baseline_Data_2012!M225/Baseline_Data_2012!M$271","v":0},{"$f":"Baseline_Data_2012!N225/Baseline_Data_2012!N$271","v":0},{"$f":"Baseline_Data_2012!O225/Baseline_Data_2012!O$271","v":0},{"$f":"Baseline_Data_2012!P225/Baseline_Data_2012!P$271","v":0},{"$f":"Baseline_Data_2012!Q225/Baseline_Data_2012!Q$271","v":0},{"$f":"Baseline_Data_2012!R225/Baseline_Data_2012!R$271","v":0},{"$f":"Baseline_Data_2012!S225/Baseline_Data_2012!S$271","v":0},{"$f":"Baseline_Data_2012!T225/Baseline_Data_2012!T$271","v":0},{"$f":"Baseline_Data_2012!U225/Baseline_Data_2012!U$271","v":0},{"$f":"Baseline_Data_2012!V225/Baseline_Data_2012!V$271","v":0},{"$f":"Baseline_Data_2012!W225/Baseline_Data_2012!W$271","v":0},{"$f":"Baseline_Data_2012!X225/Baseline_Data_2012!X$271","v":0},{"$f":"Baseline_Data_2012!Y225/Baseline_Data_2012!Y$271","v":0},{"$f":"Baseline_Data_2012!Z225/Baseline_Data_2012!Z$271","v":0},{"$f":"Baseline_Data_2012!AA225/Baseline_Data_2012!AA$271","v":0},{"$f":"Baseline_Data_2012!AB225/Baseline_Data_2012!AB$271","v":0},{"$f":"Baseline_Data_2012!AC225/Baseline_Data_2012!AC$271","v":0},{"$f":"Baseline_Data_2012!AD225/Baseline_Data_2012!AD$271","v":0},{"$f":"Baseline_Data_2012!AE225/Baseline_Data_2012!AE$271","v":0},{"$f":"Baseline_Data_2012!AF225/Baseline_Data_2012!AF$271","v":0},{"$f":"Baseline_Data_2012!AG225/Baseline_Data_2012!AG$271","v":0},{"$f":"Baseline_Data_2012!AH225/Baseline_Data_2012!AH$271","v":0},{"$f":"Baseline_Data_2012!AI225/Baseline_Data_2012!AI$271","v":0},{"$f":"Baseline_Data_2012!AJ225/Baseline_Data_2012!AJ$271","v":0},{"$f":"Baseline_Data_2012!AK225/Baseline_Data_2012!AK$271","v":0},{"$f":"Baseline_Data_2012!AL225/Baseline_Data_2012!AL$271","v":0},{"$f":"Baseline_Data_2012!AM225/Baseline_Data_2012!AM$271","v":0},{"$f":"Baseline_Data_2012!AN225/Baseline_Data_2012!AN$271","v":0},{"$f":"Baseline_Data_2012!AO225/Baseline_Data_2012!AO$271","v":0},{"$f":"Baseline_Data_2012!AP225/Baseline_Data_2012!AP$271","v":0},{"$f":"Baseline_Data_2012!AQ225/Baseline_Data_2012!AQ$271","v":0},{"$f":"Baseline_Data_2012!AR225/Baseline_Data_2012!AR$271","v":0},{"$f":"Baseline_Data_2012!AS225/Baseline_Data_2012!AS$271","v":0},{"$f":"Baseline_Data_2012!AT225/Baseline_Data_2012!AT$271","v":0},{"$f":"Baseline_Data_2012!AU225/Baseline_Data_2012!AU$271","v":0},{"$f":"Baseline_Data_2012!AV225/Baseline_Data_2012!AV$271","v":0},232]
[4,"Female 90+",null,null,null,{"$f":"G233*'III Tool Overview'!$H$8","v":0},{"$f":"HLOOKUP('III Tool Overview'!$H$6,Targeting!$I$1:$BC$277,Targeting!BD233,FALSE)","v":0},{"$f":"Baseline_Data_2012!B226","v":0},{"$f":"Baseline_Data_2012!B226/Baseline_Data_2012!B$271","v":0},{"$f":"Baseline_Data_2012!C226/Baseline_Data_2012!C$271","v":0},{"$f":"Baseline_Data_2012!D226/Baseline_Data_2012!D$271","v":0},{"$f":"Baseline_Data_2012!E226/Baseline_Data_2012!E$271","v":0},{"$f":"Baseline_Data_2012!F226/Baseline_Data_2012!F$271","v":0},{"$f":"Baseline_Data_2012!G226/Baseline_Data_2012!G$271","v":0},{"$f":"Baseline_Data_2012!H226/Baseline_Data_2012!H$271","v":0},{"$f":"Baseline_Data_2012!I226/Baseline_Data_2012!I$271","v":0},{"$f":"Baseline_Data_2012!J226/Baseline_Data_2012!J$271","v":0},{"$f":"Baseline_Data_2012!K226/Baseline_Data_2012!K$271","v":0},{"$f":"Baseline_Data_2012!L226/Baseline_Data_2012!L$271","v":0},{"$f":"Baseline_Data_2012!M226/Baseline_Data_2012!M$271","v":0},{"$f":"Baseline_Data_2012!N226/Baseline_Data_2012!N$271","v":0},{"$f":"Baseline_Data_2012!O226/Baseline_Data_2012!O$271","v":0},{"$f":"Baseline_Data_2012!P226/Baseline_Data_2012!P$271","v":0},{"$f":"Baseline_Data_2012!Q226/Baseline_Data_2012!Q$271","v":0},{"$f":"Baseline_Data_2012!R226/Baseline_Data_2012!R$271","v":0},{"$f":"Baseline_Data_2012!S226/Baseline_Data_2012!S$271","v":0},{"$f":"Baseline_Data_2012!T226/Baseline_Data_2012!T$271","v":0},{"$f":"Baseline_Data_2012!U226/Baseline_Data_2012!U$271","v":0},{"$f":"Baseline_Data_2012!V226/Baseline_Data_2012!V$271","v":0},{"$f":"Baseline_Data_2012!W226/Baseline_Data_2012!W$271","v":0},{"$f":"Baseline_Data_2012!X226/Baseline_Data_2012!X$271","v":0},{"$f":"Baseline_Data_2012!Y226/Baseline_Data_2012!Y$271","v":0},{"$f":"Baseline_Data_2012!Z226/Baseline_Data_2012!Z$271","v":0},{"$f":"Baseline_Data_2012!AA226/Baseline_Data_2012!AA$271","v":0},{"$f":"Baseline_Data_2012!AB226/Baseline_Data_2012!AB$271","v":0},{"$f":"Baseline_Data_2012!AC226/Baseline_Data_2012!AC$271","v":0},{"$f":"Baseline_Data_2012!AD226/Baseline_Data_2012!AD$271","v":0},{"$f":"Baseline_Data_2012!AE226/Baseline_Data_2012!AE$271","v":0},{"$f":"Baseline_Data_2012!AF226/Baseline_Data_2012!AF$271","v":0},{"$f":"Baseline_Data_2012!AG226/Baseline_Data_2012!AG$271","v":0},{"$f":"Baseline_Data_2012!AH226/Baseline_Data_2012!AH$271","v":0},{"$f":"Baseline_Data_2012!AI226/Baseline_Data_2012!AI$271","v":0},{"$f":"Baseline_Data_2012!AJ226/Baseline_Data_2012!AJ$271","v":0},{"$f":"Baseline_Data_2012!AK226/Baseline_Data_2012!AK$271","v":0},{"$f":"Baseline_Data_2012!AL226/Baseline_Data_2012!AL$271","v":0},{"$f":"Baseline_Data_2012!AM226/Baseline_Data_2012!AM$271","v":0},{"$f":"Baseline_Data_2012!AN226/Baseline_Data_2012!AN$271","v":0},{"$f":"Baseline_Data_2012!AO226/Baseline_Data_2012!AO$271","v":0},{"$f":"Baseline_Data_2012!AP226/Baseline_Data_2012!AP$271","v":0},{"$f":"Baseline_Data_2012!AQ226/Baseline_Data_2012!AQ$271","v":0},{"$f":"Baseline_Data_2012!AR226/Baseline_Data_2012!AR$271","v":0},{"$f":"Baseline_Data_2012!AS226/Baseline_Data_2012!AS$271","v":0},{"$f":"Baseline_Data_2012!AT226/Baseline_Data_2012!AT$271","v":0},{"$f":"Baseline_Data_2012!AU226/Baseline_Data_2012!AU$271","v":0},{"$f":"Baseline_Data_2012!AV226/Baseline_Data_2012!AV$271","v":0},233]
[null,"TOTAL",null,null,null,null,{"$f":"HLOOKUP('III Tool Overview'!$H$6,Targeting!$I$1:$BC$277,Targeting!BD234,FALSE)","v":0},null,null,null,null,null,null,null,null,null,null,null,null,null,null,null,null,null,null,null,null,null,null,null,null,null,null,null,null,null,null,null,null,null,null,null,null,null,null,null,null,null,null,null,null,null,null,null,null,234]
[null,"age/sex breakdown: Q5",null,null,null,null,{"$f":"HLOOKUP('III Tool Overview'!$H$6,Targeting!$I$1:$BC$277,Targeting!BD235,FALSE)","v":0},null,null,null,null,null,null,null,null,null,null,null,null,null,null,null,null,null,null,null,null,null,null,null,null,null,null,null,null,null,null,null,null,null,null,null,null,null,null,null,null,null,null,null,null,null,null,null,null,235]
[5,"Male <1",null,null,null,null,{"$f":"HLOOKUP('III Tool Overview'!$H$6,Targeting!$I$1:$BC$277,Targeting!BD236,FALSE)","v":0},null,null,null,null,null,null,null,null,null,null,null,null,null,null,null,null,null,null,null,null,null,null,null,null,null,null,null,null,null,null,null,null,null,null,null,null,null,null,null,null,null,null,null,null,null,null,null,null,236]
[5,"Male 1-4",null,null,null,null,{"$f":"HLOOKUP('III Tool Overview'!$H$6,Targeting!$I$1:$BC$277,Targeting!BD237,FALSE)","v":0},null,null,null,null,null,null,null,null,null,null,null,null,null,null,null,null,null,null,null,null,null,null,null,null,null,null,null,null,null,null,null,null,null,null,null,null,null,null,null,null,null,null,null,null,null,null,null,null,237]
[5,"Male 5-9",null,null,null,null,{"$f":"HLOOKUP('III Tool Overview'!$H$6,Targeting!$I$1:$BC$277,Targeting!BD238,FALSE)","v":0},null,null,null,null,null,null,null,null,null,null,null,null,null,null,null,null,null,null,null,null,null,null,null,null,null,null,null,null,null,null,null,null,null,null,null,null,null,null,null,null,null,null,null,null,null,null,null,null,238]
[5,"Male 10-14",null,null,null,null,{"$f":"HLOOKUP('III Tool Overview'!$H$6,Targeting!$I$1:$BC$277,Targeting!BD239,FALSE)","v":0},null,null,null,null,null,null,null,null,null,null,null,null,null,null,null,null,null,null,null,null,null,null,null,null,null,null,null,null,null,null,null,null,null,null,null,null,null,null,null,null,null,null,null,null,null,null,null,null,239]
[5,"Male 15-19",{"$f":"'III Tool Overview'!$H$8/100","v":1000},0,0,{"$f":"G240*'III Tool Overview'!$H$8","v":572.99196137493084},{"$f":"HLOOKUP('III Tool Overview'!$H$6,Targeting!$I$1:$BC$277,Targeting!BD240,FALSE)","v":5.7299196137493083E-3},{"$f":"Baseline_Data_2012!B232","v":8344.3631638000697},{"$f":"Baseline_Data_2012!B232/Baseline_Data_2012!B$271","v":5.7299196137493083E-3},{"$f":"Baseline_Data_2012!C232/Baseline_Data_2012!C$271","v":4.1037554175476949E-3},{"$f":"Baseline_Data_2012!D232/Baseline_Data_2012!D$271","v":1.6928801865672518E-3},{"$f":"Baseline_Data_2012!E232/Baseline_Data_2012!E$271","v":1.6631800852759172E-3},{"$f":"Baseline_Data_2012!F232/Baseline_Data_2012!F$271","v":6.8827560178119362E-3},{"$f":"Baseline_Data_2012!G232/Baseline_Data_2012!G$271","v":7.2062977414324471E-3},{"$f":"Baseline_Data_2012!H232/Baseline_Data_2012!H$271","v":8.4911042336728686E-3},{"$f":"Baseline_Data_2012!I232/Baseline_Data_2012!I$271","v":5.3147015009681036E-3},{"$f":"Baseline_Data_2012!J232/Baseline_Data_2012!J$271","v":2.3852147090686619E-3},{"$f":"Baseline_Data_2012!K232/Baseline_Data_2012!K$271","v":3.7659158688144838E-3},{"$f":"Baseline_Data_2012!L232/Baseline_Data_2012!L$271","v":8.2054480403953127E-3},{"$f":"Baseline_Data_2012!M232/Baseline_Data_2012!M$271","v":8.3206102647592197E-4},{"$f":"Baseline_Data_2012!N232/Baseline_Data_2012!N$271","v":1.8531648854157943E-3},{"$f":"Baseline_Data_2012!O232/Baseline_Data_2012!O$271","v":5.3987900872574865E-3},{"$f":"Baseline_Data_2012!P232/Baseline_Data_2012!P$271","v":0},{"$f":"Baseline_Data_2012!Q232/Baseline_Data_2012!Q$271","v":1.0180826196073692E-2},{"$f":"Baseline_Data_2012!R232/Baseline_Data_2012!R$271","v":8.6008556415264562E-3},{"$f":"Baseline_Data_2012!S232/Baseline_Data_2012!S$271","v":3.3848953587981082E-3},{"$f":"Baseline_Data_2012!T232/Baseline_Data_2012!T$271","v":3.2792790749542238E-3},{"$f":"Baseline_Data_2012!U232/Baseline_Data_2012!U$271","v":4.2036391598114578E-3},{"$f":"Baseline_Data_2012!V232/Baseline_Data_2012!V$271","v":1.6631800852759172E-3},{"$f":"Baseline_Data_2012!W232/Baseline_Data_2012!W$271","v":6.0675026529134661E-3},{"$f":"Baseline_Data_2012!X232/Baseline_Data_2012!X$271","v":3.5827365533269082E-3},{"$f":"Baseline_Data_2012!Y232/Baseline_Data_2012!Y$271","v":1.3602832650545241E-2},{"$f":"Baseline_Data_2012!Z232/Baseline_Data_2012!Z$271","v":4.891566204461721E-3},{"$f":"Baseline_Data_2012!AA232/Baseline_Data_2012!AA$271","v":1.6483149851750908E-2},{"$f":"Baseline_Data_2012!AB232/Baseline_Data_2012!AB$271","v":1.0510335076375263E-2},{"$f":"Baseline_Data_2012!AC232/Baseline_Data_2012!AC$271","v":0},{"$f":"Baseline_Data_2012!AD232/Baseline_Data_2012!AD$271","v":6.5002699587228263E-3},{"$f":"Baseline_Data_2012!AE232/Baseline_Data_2012!AE$271","v":6.8827560178119362E-3},{"$f":"Baseline_Data_2012!AF232/Baseline_Data_2012!AF$271","v":2.2707324385397051E-3},{"$f":"Baseline_Data_2012!AG232/Baseline_Data_2012!AG$271","v":2.0446065051840691E-3},{"$f":"Baseline_Data_2012!AH232/Baseline_Data_2012!AH$271","v":3.317536368598746E-3},{"$f":"Baseline_Data_2012!AI232/Baseline_Data_2012!AI$271","v":4.2937043053219931E-3},{"$f":"Baseline_Data_2012!AJ232/Baseline_Data_2012!AJ$271","v":4.4880650975702117E-3},{"$f":"Baseline_Data_2012!AK232/Baseline_Data_2012!AK$271","v":2.9800427565127084E-3},{"$f":"Baseline_Data_2012!AL232/Baseline_Data_2012!AL$271","v":2.7701021343994338E-3},{"$f":"Baseline_Data_2012!AM232/Baseline_Data_2012!AM$271","v":8.3206102647592219E-4},{"$f":"Baseline_Data_2012!AN232/Baseline_Data_2012!AN$271","v":6.4383949964188026E-3},{"$f":"Baseline_Data_2012!AO232/Baseline_Data_2012!AO$271","v":7.0122646720235608E-3},{"$f":"Baseline_Data_2012!AP232/Baseline_Data_2012!AP$271","v":1.6928801865672518E-3},{"$f":"Baseline_Data_2012!AQ232/Baseline_Data_2012!AQ$271","v":1.8531648854157947E-3},{"$f":"Baseline_Data_2012!AR232/Baseline_Data_2012!AR$271","v":5.7945453025119971E-3},{"$f":"Baseline_Data_2012!AS232/Baseline_Data_2012!AS$271","v":4.5283438651391285E-3},{"$f":"Baseline_Data_2012!AT232/Baseline_Data_2012!AT$271","v":1.0044849257730637E-2},{"$f":"Baseline_Data_2012!AU232/Baseline_Data_2012!AU$271","v":1.6971873909853829E-3},{"$f":"Baseline_Data_2012!AV232/Baseline_Data_2012!AV$271","v":5.0961823572288406E-3},240]
[5,"Male 20-24",{"$f":"'III Tool Overview'!$H$8/100","v":1000},0,0,{"$f":"G241*'III Tool Overview'!$H$8","v":769.00041136512471},{"$f":"HLOOKUP('III Tool Overview'!$H$6,Targeting!$I$1:$BC$277,Targeting!BD241,FALSE)","v":7.6900041136512476E-3},{"$f":"Baseline_Data_2012!B233","v":11198.793592399936},{"$f":"Baseline_Data_2012!B233/Baseline_Data_2012!B$271","v":7.6900041136512476E-3},{"$f":"Baseline_Data_2012!C233/Baseline_Data_2012!C$271","v":3.980480551249819E-3},{"$f":"Baseline_Data_2012!D233/Baseline_Data_2012!D$271","v":1.070632334207397E-3},{"$f":"Baseline_Data_2012!E233/Baseline_Data_2012!E$271","v":1.5290526590439884E-3},{"$f":"Baseline_Data_2012!F233/Baseline_Data_2012!F$271","v":1.0427588361203142E-2},{"$f":"Baseline_Data_2012!G233/Baseline_Data_2012!G$271","v":7.8874022782083834E-3},{"$f":"Baseline_Data_2012!H233/Baseline_Data_2012!H$271","v":1.1519481600963603E-2},{"$f":"Baseline_Data_2012!I233/Baseline_Data_2012!I$271","v":6.7020375483082748E-3},{"$f":"Baseline_Data_2012!J233/Baseline_Data_2012!J$271","v":2.6684196217549149E-3},{"$f":"Baseline_Data_2012!K233/Baseline_Data_2012!K$271","v":4.2166988157049954E-3},{"$f":"Baseline_Data_2012!L233/Baseline_Data_2012!L$271","v":1.3882343223280245E-2},{"$f":"Baseline_Data_2012!M233/Baseline_Data_2012!M$271","v":9.2451225163991339E-4},{"$f":"Baseline_Data_2012!N233/Baseline_Data_2012!N$271","v":1.1942618150457341E-3},{"$f":"Baseline_Data_2012!O233/Baseline_Data_2012!O$271","v":5.7806812465305444E-3},{"$f":"Baseline_Data_2012!P233/Baseline_Data_2012!P$271","v":0},{"$f":"Baseline_Data_2012!Q233/Baseline_Data_2012!Q$271","v":1.7760033181677445E-2},{"$f":"Baseline_Data_2012!R233/Baseline_Data_2012!R$271","v":8.8455508975698854E-3},{"$f":"Baseline_Data_2012!S233/Baseline_Data_2012!S$271","v":3.4109999502541346E-3},{"$f":"Baseline_Data_2012!T233/Baseline_Data_2012!T$271","v":4.7290656133550379E-3},{"$f":"Baseline_Data_2012!U233/Baseline_Data_2012!U$271","v":2.6693108664802754E-3},{"$f":"Baseline_Data_2012!V233/Baseline_Data_2012!V$271","v":1.5290526590439884E-3},{"$f":"Baseline_Data_2012!W233/Baseline_Data_2012!W$271","v":8.4746353174824113E-3},{"$f":"Baseline_Data_2012!X233/Baseline_Data_2012!X$271","v":3.6614780160373894E-3},{"$f":"Baseline_Data_2012!Y233/Baseline_Data_2012!Y$271","v":1.4369189419590042E-2},{"$f":"Baseline_Data_2012!Z233/Baseline_Data_2012!Z$271","v":4.3581237994484061E-3},{"$f":"Baseline_Data_2012!AA233/Baseline_Data_2012!AA$271","v":1.7044462092936922E-2},{"$f":"Baseline_Data_2012!AB233/Baseline_Data_2012!AB$271","v":2.0359026769281485E-2},{"$f":"Baseline_Data_2012!AC233/Baseline_Data_2012!AC$271","v":0},{"$f":"Baseline_Data_2012!AD233/Baseline_Data_2012!AD$271","v":6.3523837755874576E-3},{"$f":"Baseline_Data_2012!AE233/Baseline_Data_2012!AE$271","v":1.0427588361203142E-2},{"$f":"Baseline_Data_2012!AF233/Baseline_Data_2012!AF$271","v":4.627505809676467E-3},{"$f":"Baseline_Data_2012!AG233/Baseline_Data_2012!AG$271","v":1.8889916337535694E-3},{"$f":"Baseline_Data_2012!AH233/Baseline_Data_2012!AH$271","v":3.4599199037317384E-3},{"$f":"Baseline_Data_2012!AI233/Baseline_Data_2012!AI$271","v":4.3915665117110992E-3},{"$f":"Baseline_Data_2012!AJ233/Baseline_Data_2012!AJ$271","v":4.8896816611111709E-3},{"$f":"Baseline_Data_2012!AK233/Baseline_Data_2012!AK$271","v":2.8129375552129305E-3},{"$f":"Baseline_Data_2012!AL233/Baseline_Data_2012!AL$271","v":3.2356377731960011E-3},{"$f":"Baseline_Data_2012!AM233/Baseline_Data_2012!AM$271","v":9.2451225163991361E-4},{"$f":"Baseline_Data_2012!AN233/Baseline_Data_2012!AN$271","v":5.1814098211815339E-3},{"$f":"Baseline_Data_2012!AO233/Baseline_Data_2012!AO$271","v":7.5112890525649784E-3},{"$f":"Baseline_Data_2012!AP233/Baseline_Data_2012!AP$271","v":1.070632334207397E-3},{"$f":"Baseline_Data_2012!AQ233/Baseline_Data_2012!AQ$271","v":1.1942618150457343E-3},{"$f":"Baseline_Data_2012!AR233/Baseline_Data_2012!AR$271","v":5.5148086327355562E-3},{"$f":"Baseline_Data_2012!AS233/Baseline_Data_2012!AS$271","v":4.972234192811874E-3},{"$f":"Baseline_Data_2012!AT233/Baseline_Data_2012!AT$271","v":1.3351039641989408E-2},{"$f":"Baseline_Data_2012!AU233/Baseline_Data_2012!AU$271","v":2.1030365496992787E-3},{"$f":"Baseline_Data_2012!AV233/Baseline_Data_2012!AV$271","v":4.7783932079685388E-3},241]
[5,"Male 25-29",{"$f":"'III Tool Overview'!$H$8/100","v":1000},0,0,{"$f":"G242*'III Tool Overview'!$H$8","v":1011.6644921208685},{"$f":"HLOOKUP('III Tool Overview'!$H$6,Targeting!$I$1:$BC$277,Targeting!BD242,FALSE)","v":1.0116644921208685E-2},{"$f":"Baseline_Data_2012!B234","v":14732.660301065118},{"$f":"Baseline_Data_2012!B234/Baseline_Data_2012!B$271","v":1.0116644921208685E-2},{"$f":"Baseline_Data_2012!C234/Baseline_Data_2012!C$271","v":5.1275457965184309E-3},{"$f":"Baseline_Data_2012!D234/Baseline_Data_2012!D$271","v":1.8120173634217154E-3},{"$f":"Baseline_Data_2012!E234/Baseline_Data_2012!E$271","v":2.7756229050674127E-3},{"$f":"Baseline_Data_2012!F234/Baseline_Data_2012!F$271","v":9.8792970669984628E-3},{"$f":"Baseline_Data_2012!G234/Baseline_Data_2012!G$271","v":8.1528812181529773E-3},{"$f":"Baseline_Data_2012!H234/Baseline_Data_2012!H$271","v":1.9030458997561926E-2},{"$f":"Baseline_Data_2012!I234/Baseline_Data_2012!I$271","v":8.5596687403246847E-3},{"$f":"Baseline_Data_2012!J234/Baseline_Data_2012!J$271","v":3.8677854707606409E-3},{"$f":"Baseline_Data_2012!K234/Baseline_Data_2012!K$271","v":5.2506142826909217E-3},{"$f":"Baseline_Data_2012!L234/Baseline_Data_2012!L$271","v":1.8049633259902113E-2},{"$f":"Baseline_Data_2012!M234/Baseline_Data_2012!M$271","v":6.5971680136623343E-4},{"$f":"Baseline_Data_2012!N234/Baseline_Data_2012!N$271","v":1.7631841488195581E-3},{"$f":"Baseline_Data_2012!O234/Baseline_Data_2012!O$271","v":7.4987263996180329E-3},{"$f":"Baseline_Data_2012!P234/Baseline_Data_2012!P$271","v":0},{"$f":"Baseline_Data_2012!Q234/Baseline_Data_2012!Q$271","v":2.9717773460410435E-2},{"$f":"Baseline_Data_2012!R234/Baseline_Data_2012!R$271","v":1.4444460399921172E-2},{"$f":"Baseline_Data_2012!S234/Baseline_Data_2012!S$271","v":4.0360252680142752E-3},{"$f":"Baseline_Data_2012!T234/Baseline_Data_2012!T$271","v":5.5011462923330425E-3},{"$f":"Baseline_Data_2012!U234/Baseline_Data_2012!U$271","v":3.7495600730134897E-3},{"$f":"Baseline_Data_2012!V234/Baseline_Data_2012!V$271","v":2.7756229050674122E-3},{"$f":"Baseline_Data_2012!W234/Baseline_Data_2012!W$271","v":9.5290922366335577E-3},{"$f":"Baseline_Data_2012!X234/Baseline_Data_2012!X$271","v":5.5486260457161618E-3},{"$f":"Baseline_Data_2012!Y234/Baseline_Data_2012!Y$271","v":1.6607754384047223E-2},{"$f":"Baseline_Data_2012!Z234/Baseline_Data_2012!Z$271","v":5.6918809941474682E-3},{"$f":"Baseline_Data_2012!AA234/Baseline_Data_2012!AA$271","v":1.733119711852868E-2},{"$f":"Baseline_Data_2012!AB234/Baseline_Data_2012!AB$271","v":2.6227901237314968E-2},{"$f":"Baseline_Data_2012!AC234/Baseline_Data_2012!AC$271","v":0},{"$f":"Baseline_Data_2012!AD234/Baseline_Data_2012!AD$271","v":8.9340026015677226E-3},{"$f":"Baseline_Data_2012!AE234/Baseline_Data_2012!AE$271","v":9.8792970669984628E-3},{"$f":"Baseline_Data_2012!AF234/Baseline_Data_2012!AF$271","v":7.3776984873299744E-3},{"$f":"Baseline_Data_2012!AG234/Baseline_Data_2012!AG$271","v":3.246501260463558E-3},{"$f":"Baseline_Data_2012!AH234/Baseline_Data_2012!AH$271","v":4.3689100263809757E-3},{"$f":"Baseline_Data_2012!AI234/Baseline_Data_2012!AI$271","v":7.3979194240156839E-3},{"$f":"Baseline_Data_2012!AJ234/Baseline_Data_2012!AJ$271","v":7.6841139959157295E-3},{"$f":"Baseline_Data_2012!AK234/Baseline_Data_2012!AK$271","v":3.5110596371058568E-3},{"$f":"Baseline_Data_2012!AL234/Baseline_Data_2012!AL$271","v":3.9522210210471203E-3},{"$f":"Baseline_Data_2012!AM234/Baseline_Data_2012!AM$271","v":6.5971680136623354E-4},{"$f":"Baseline_Data_2012!AN234/Baseline_Data_2012!AN$271","v":8.4481496272337166E-3},{"$f":"Baseline_Data_2012!AO234/Baseline_Data_2012!AO$271","v":9.2261139223231703E-3},{"$f":"Baseline_Data_2012!AP234/Baseline_Data_2012!AP$271","v":1.8120173634217154E-3},{"$f":"Baseline_Data_2012!AQ234/Baseline_Data_2012!AQ$271","v":1.7631841488195586E-3},{"$f":"Baseline_Data_2012!AR234/Baseline_Data_2012!AR$271","v":6.3805670700860127E-3},{"$f":"Baseline_Data_2012!AS234/Baseline_Data_2012!AS$271","v":6.0454885051723865E-3},{"$f":"Baseline_Data_2012!AT234/Baseline_Data_2012!AT$271","v":9.2157941810247397E-3},{"$f":"Baseline_Data_2012!AU234/Baseline_Data_2012!AU$271","v":2.2159347416784649E-3},{"$f":"Baseline_Data_2012!AV234/Baseline_Data_2012!AV$271","v":6.1021511950916669E-3},242]
[5,"Male 30-34",{"$f":"'III Tool Overview'!$H$8/100","v":1000},0,0,{"$f":"G243*'III Tool Overview'!$H$8","v":971.13572356711074},{"$f":"HLOOKUP('III Tool Overview'!$H$6,Targeting!$I$1:$BC$277,Targeting!BD243,FALSE)","v":9.711357235671108E-3},{"$f":"Baseline_Data_2012!B235","v":14142.448245414889},{"$f":"Baseline_Data_2012!B235/Baseline_Data_2012!B$271","v":9.711357235671108E-3},{"$f":"Baseline_Data_2012!C235/Baseline_Data_2012!C$271","v":5.6252534020495657E-3},{"$f":"Baseline_Data_2012!D235/Baseline_Data_2012!D$271","v":2.1058580169495611E-3},{"$f":"Baseline_Data_2012!E235/Baseline_Data_2012!E$271","v":2.6081284194167929E-3},{"$f":"Baseline_Data_2012!F235/Baseline_Data_2012!F$271","v":1.0405831031558272E-2},{"$f":"Baseline_Data_2012!G235/Baseline_Data_2012!G$271","v":8.492846921458198E-3},{"$f":"Baseline_Data_2012!H235/Baseline_Data_2012!H$271","v":1.8760333936139663E-2},{"$f":"Baseline_Data_2012!I235/Baseline_Data_2012!I$271","v":7.875277227059602E-3},{"$f":"Baseline_Data_2012!J235/Baseline_Data_2012!J$271","v":3.5421954021044475E-3},{"$f":"Baseline_Data_2012!K235/Baseline_Data_2012!K$271","v":5.5622333817912763E-3},{"$f":"Baseline_Data_2012!L235/Baseline_Data_2012!L$271","v":1.6381673427097024E-2},{"$f":"Baseline_Data_2012!M235/Baseline_Data_2012!M$271","v":9.0711060187857089E-4},{"$f":"Baseline_Data_2012!N235/Baseline_Data_2012!N$271","v":2.7917082356309669E-3},{"$f":"Baseline_Data_2012!O235/Baseline_Data_2012!O$271","v":6.9201065654222417E-3},{"$f":"Baseline_Data_2012!P235/Baseline_Data_2012!P$271","v":0},{"$f":"Baseline_Data_2012!Q235/Baseline_Data_2012!Q$271","v":2.6805194866282557E-2},{"$f":"Baseline_Data_2012!R235/Baseline_Data_2012!R$271","v":1.6855128125663543E-2},{"$f":"Baseline_Data_2012!S235/Baseline_Data_2012!S$271","v":3.8652703528290555E-3},{"$f":"Baseline_Data_2012!T235/Baseline_Data_2012!T$271","v":3.7769064096614918E-3},{"$f":"Baseline_Data_2012!U235/Baseline_Data_2012!U$271","v":4.6119588898065923E-3},{"$f":"Baseline_Data_2012!V235/Baseline_Data_2012!V$271","v":2.6081284194167925E-3},{"$f":"Baseline_Data_2012!W235/Baseline_Data_2012!W$271","v":8.3567003448588983E-3},{"$f":"Baseline_Data_2012!X235/Baseline_Data_2012!X$271","v":6.0753943411955436E-3},{"$f":"Baseline_Data_2012!Y235/Baseline_Data_2012!Y$271","v":1.3982206684417679E-2},{"$f":"Baseline_Data_2012!Z235/Baseline_Data_2012!Z$271","v":4.9916180327223862E-3},{"$f":"Baseline_Data_2012!AA235/Baseline_Data_2012!AA$271","v":1.8717692888010975E-2},{"$f":"Baseline_Data_2012!AB235/Baseline_Data_2012!AB$271","v":2.3132616631741973E-2},{"$f":"Baseline_Data_2012!AC235/Baseline_Data_2012!AC$271","v":0},{"$f":"Baseline_Data_2012!AD235/Baseline_Data_2012!AD$271","v":9.8214068868241154E-3},{"$f":"Baseline_Data_2012!AE235/Baseline_Data_2012!AE$271","v":1.0405831031558272E-2},{"$f":"Baseline_Data_2012!AF235/Baseline_Data_2012!AF$271","v":6.3666434707487975E-3},{"$f":"Baseline_Data_2012!AG235/Baseline_Data_2012!AG$271","v":3.4469977753615452E-3},{"$f":"Baseline_Data_2012!AH235/Baseline_Data_2012!AH$271","v":4.1403042691866227E-3},{"$f":"Baseline_Data_2012!AI235/Baseline_Data_2012!AI$271","v":8.379944126318652E-3},{"$f":"Baseline_Data_2012!AJ235/Baseline_Data_2012!AJ$271","v":6.0362387333883459E-3},{"$f":"Baseline_Data_2012!AK235/Baseline_Data_2012!AK$271","v":3.7429220659713379E-3},{"$f":"Baseline_Data_2012!AL235/Baseline_Data_2012!AL$271","v":4.2231631476762821E-3},{"$f":"Baseline_Data_2012!AM235/Baseline_Data_2012!AM$271","v":9.0711060187857111E-4},{"$f":"Baseline_Data_2012!AN235/Baseline_Data_2012!AN$271","v":8.0961433927656465E-3},{"$f":"Baseline_Data_2012!AO235/Baseline_Data_2012!AO$271","v":8.3936825909857408E-3},{"$f":"Baseline_Data_2012!AP235/Baseline_Data_2012!AP$271","v":2.1058580169495611E-3},{"$f":"Baseline_Data_2012!AQ235/Baseline_Data_2012!AQ$271","v":2.7917082356309669E-3},{"$f":"Baseline_Data_2012!AR235/Baseline_Data_2012!AR$271","v":7.1291252179731977E-3},{"$f":"Baseline_Data_2012!AS235/Baseline_Data_2012!AS$271","v":6.660083622022756E-3},{"$f":"Baseline_Data_2012!AT235/Baseline_Data_2012!AT$271","v":8.3351738481712637E-3},{"$f":"Baseline_Data_2012!AU235/Baseline_Data_2012!AU$271","v":2.0842950540540016E-3},{"$f":"Baseline_Data_2012!AV235/Baseline_Data_2012!AV$271","v":6.7927662796712987E-3},243]
[5,"Male 35-39",{"$f":"'III Tool Overview'!$H$8/100","v":1000},0,0,{"$f":"G244*'III Tool Overview'!$H$8","v":1262.3914202460967},{"$f":"HLOOKUP('III Tool Overview'!$H$6,Targeting!$I$1:$BC$277,Targeting!BD244,FALSE)","v":1.2623914202460966E-2},{"$f":"Baseline_Data_2012!B236","v":18383.944584706092},{"$f":"Baseline_Data_2012!B236/Baseline_Data_2012!B$271","v":1.2623914202460966E-2},{"$f":"Baseline_Data_2012!C236/Baseline_Data_2012!C$271","v":8.0326114451320964E-3},{"$f":"Baseline_Data_2012!D236/Baseline_Data_2012!D$271","v":2.9903872448033505E-3},{"$f":"Baseline_Data_2012!E236/Baseline_Data_2012!E$271","v":3.2311994850996815E-3},{"$f":"Baseline_Data_2012!F236/Baseline_Data_2012!F$271","v":1.4042117765895605E-2},{"$f":"Baseline_Data_2012!G236/Baseline_Data_2012!G$271","v":1.3417803672703281E-2},{"$f":"Baseline_Data_2012!H236/Baseline_Data_2012!H$271","v":2.2416378600629474E-2},{"$f":"Baseline_Data_2012!I236/Baseline_Data_2012!I$271","v":1.1049281607982834E-2},{"$f":"Baseline_Data_2012!J236/Baseline_Data_2012!J$271","v":4.4956344184462335E-3},{"$f":"Baseline_Data_2012!K236/Baseline_Data_2012!K$271","v":7.6174555591980555E-3},{"$f":"Baseline_Data_2012!L236/Baseline_Data_2012!L$271","v":2.0091200222951036E-2},{"$f":"Baseline_Data_2012!M236/Baseline_Data_2012!M$271","v":1.646189912592304E-3},{"$f":"Baseline_Data_2012!N236/Baseline_Data_2012!N$271","v":5.6936900789234758E-3},{"$f":"Baseline_Data_2012!O236/Baseline_Data_2012!O$271","v":8.9862591017917017E-3},{"$f":"Baseline_Data_2012!P236/Baseline_Data_2012!P$271","v":0},{"$f":"Baseline_Data_2012!Q236/Baseline_Data_2012!Q$271","v":2.7981942338824114E-2},{"$f":"Baseline_Data_2012!R236/Baseline_Data_2012!R$271","v":2.3923623983277766E-2},{"$f":"Baseline_Data_2012!S236/Baseline_Data_2012!S$271","v":6.3434165305183716E-3},{"$f":"Baseline_Data_2012!T236/Baseline_Data_2012!T$271","v":4.6519942194392476E-3},{"$f":"Baseline_Data_2012!U236/Baseline_Data_2012!U$271","v":6.4283072878354519E-3},{"$f":"Baseline_Data_2012!V236/Baseline_Data_2012!V$271","v":3.2311994850996815E-3},{"$f":"Baseline_Data_2012!W236/Baseline_Data_2012!W$271","v":9.0925594183444008E-3},{"$f":"Baseline_Data_2012!X236/Baseline_Data_2012!X$271","v":8.7835773420922129E-3},{"$f":"Baseline_Data_2012!Y236/Baseline_Data_2012!Y$271","v":2.2894986460945822E-2},{"$f":"Baseline_Data_2012!Z236/Baseline_Data_2012!Z$271","v":9.4668685565195369E-3},{"$f":"Baseline_Data_2012!AA236/Baseline_Data_2012!AA$271","v":3.0662615631636282E-2},{"$f":"Baseline_Data_2012!AB236/Baseline_Data_2012!AB$271","v":2.6694667068538232E-2},{"$f":"Baseline_Data_2012!AC236/Baseline_Data_2012!AC$271","v":0},{"$f":"Baseline_Data_2012!AD236/Baseline_Data_2012!AD$271","v":1.5447559850301181E-2},{"$f":"Baseline_Data_2012!AE236/Baseline_Data_2012!AE$271","v":1.4042117765895605E-2},{"$f":"Baseline_Data_2012!AF236/Baseline_Data_2012!AF$271","v":6.7041793886914803E-3},{"$f":"Baseline_Data_2012!AG236/Baseline_Data_2012!AG$271","v":4.4279814844440397E-3},{"$f":"Baseline_Data_2012!AH236/Baseline_Data_2012!AH$271","v":7.4865517782566893E-3},{"$f":"Baseline_Data_2012!AI236/Baseline_Data_2012!AI$271","v":1.030147490200374E-2},{"$f":"Baseline_Data_2012!AJ236/Baseline_Data_2012!AJ$271","v":5.994387639047684E-3},{"$f":"Baseline_Data_2012!AK236/Baseline_Data_2012!AK$271","v":4.9007928199828596E-3},{"$f":"Baseline_Data_2012!AL236/Baseline_Data_2012!AL$271","v":5.5538955254929873E-3},{"$f":"Baseline_Data_2012!AM236/Baseline_Data_2012!AM$271","v":1.6461899125923046E-3},{"$f":"Baseline_Data_2012!AN236/Baseline_Data_2012!AN$271","v":1.1083798314611292E-2},{"$f":"Baseline_Data_2012!AO236/Baseline_Data_2012!AO$271","v":1.3535507285391494E-2},{"$f":"Baseline_Data_2012!AP236/Baseline_Data_2012!AP$271","v":2.9903872448033505E-3},{"$f":"Baseline_Data_2012!AQ236/Baseline_Data_2012!AQ$271","v":5.6936900789234758E-3},{"$f":"Baseline_Data_2012!AR236/Baseline_Data_2012!AR$271","v":1.0548003010392991E-2},{"$f":"Baseline_Data_2012!AS236/Baseline_Data_2012!AS$271","v":9.4167072860895824E-3},{"$f":"Baseline_Data_2012!AT236/Baseline_Data_2012!AT$271","v":1.3755606354523026E-2},{"$f":"Baseline_Data_2012!AU236/Baseline_Data_2012!AU$271","v":3.0400523137151594E-3},{"$f":"Baseline_Data_2012!AV236/Baseline_Data_2012!AV$271","v":1.1244507241593617E-2},244]
[5,"Male 40-44",{"$f":"'III Tool Overview'!$H$8/100","v":1000},0,0,{"$f":"G245*'III Tool Overview'!$H$8","v":1549.183515455333},{"$f":"HLOOKUP('III Tool Overview'!$H$6,Targeting!$I$1:$BC$277,Targeting!BD245,FALSE)","v":1.5491835154553331E-2},{"$f":"Baseline_Data_2012!B237","v":22560.438421008097},{"$f":"Baseline_Data_2012!B237/Baseline_Data_2012!B$271","v":1.5491835154553331E-2},{"$f":"Baseline_Data_2012!C237/Baseline_Data_2012!C$271","v":1.15188463616742E-2},{"$f":"Baseline_Data_2012!D237/Baseline_Data_2012!D$271","v":5.0606553373595169E-3},{"$f":"Baseline_Data_2012!E237/Baseline_Data_2012!E$271","v":4.9310913881303832E-3},{"$f":"Baseline_Data_2012!F237/Baseline_Data_2012!F$271","v":1.7229162197555981E-2},{"$f":"Baseline_Data_2012!G237/Baseline_Data_2012!G$271","v":1.7676015747346306E-2},{"$f":"Baseline_Data_2012!H237/Baseline_Data_2012!H$271","v":2.5065491916828886E-2},{"$f":"Baseline_Data_2012!I237/Baseline_Data_2012!I$271","v":1.4327434507238902E-2},{"$f":"Baseline_Data_2012!J237/Baseline_Data_2012!J$271","v":6.1435942492549704E-3},{"$f":"Baseline_Data_2012!K237/Baseline_Data_2012!K$271","v":1.0560563388888214E-2},{"$f":"Baseline_Data_2012!L237/Baseline_Data_2012!L$271","v":2.257457604450035E-2},{"$f":"Baseline_Data_2012!M237/Baseline_Data_2012!M$271","v":1.4525205111108564E-3},{"$f":"Baseline_Data_2012!N237/Baseline_Data_2012!N$271","v":8.1954629923898514E-3},{"$f":"Baseline_Data_2012!O237/Baseline_Data_2012!O$271","v":1.198350527781613E-2},{"$f":"Baseline_Data_2012!P237/Baseline_Data_2012!P$271","v":0},{"$f":"Baseline_Data_2012!Q237/Baseline_Data_2012!Q$271","v":2.9307353983226845E-2},{"$f":"Baseline_Data_2012!R237/Baseline_Data_2012!R$271","v":2.7496483721106583E-2},{"$f":"Baseline_Data_2012!S237/Baseline_Data_2012!S$271","v":8.0204117052531144E-3},{"$f":"Baseline_Data_2012!T237/Baseline_Data_2012!T$271","v":6.4115567998489116E-3},{"$f":"Baseline_Data_2012!U237/Baseline_Data_2012!U$271","v":1.0611109975125642E-2},{"$f":"Baseline_Data_2012!V237/Baseline_Data_2012!V$271","v":4.931091388130384E-3},{"$f":"Baseline_Data_2012!W237/Baseline_Data_2012!W$271","v":1.256630130880344E-2},{"$f":"Baseline_Data_2012!X237/Baseline_Data_2012!X$271","v":1.2000098622294994E-2},{"$f":"Baseline_Data_2012!Y237/Baseline_Data_2012!Y$271","v":3.3475936379151854E-2},{"$f":"Baseline_Data_2012!Z237/Baseline_Data_2012!Z$271","v":1.2271085745867194E-2},{"$f":"Baseline_Data_2012!AA237/Baseline_Data_2012!AA$271","v":4.0476461637631966E-2},{"$f":"Baseline_Data_2012!AB237/Baseline_Data_2012!AB$271","v":2.8189568424376373E-2},{"$f":"Baseline_Data_2012!AC237/Baseline_Data_2012!AC$271","v":0},{"$f":"Baseline_Data_2012!AD237/Baseline_Data_2012!AD$271","v":1.8756745415315565E-2},{"$f":"Baseline_Data_2012!AE237/Baseline_Data_2012!AE$271","v":1.7229162197555981E-2},{"$f":"Baseline_Data_2012!AF237/Baseline_Data_2012!AF$271","v":7.4799990958574133E-3},{"$f":"Baseline_Data_2012!AG237/Baseline_Data_2012!AG$271","v":6.0307477886293063E-3},{"$f":"Baseline_Data_2012!AH237/Baseline_Data_2012!AH$271","v":1.046924172975338E-2},{"$f":"Baseline_Data_2012!AI237/Baseline_Data_2012!AI$271","v":1.5452212353005607E-2},{"$f":"Baseline_Data_2012!AJ237/Baseline_Data_2012!AJ$271","v":9.1493285017043603E-3},{"$f":"Baseline_Data_2012!AK237/Baseline_Data_2012!AK$271","v":7.7984838127505033E-3},{"$f":"Baseline_Data_2012!AL237/Baseline_Data_2012!AL$271","v":7.7187389868619847E-3},{"$f":"Baseline_Data_2012!AM237/Baseline_Data_2012!AM$271","v":1.4525205111108569E-3},{"$f":"Baseline_Data_2012!AN237/Baseline_Data_2012!AN$271","v":1.4727367373834342E-2},{"$f":"Baseline_Data_2012!AO237/Baseline_Data_2012!AO$271","v":1.7364005835522285E-2},{"$f":"Baseline_Data_2012!AP237/Baseline_Data_2012!AP$271","v":5.0606553373595169E-3},{"$f":"Baseline_Data_2012!AQ237/Baseline_Data_2012!AQ$271","v":8.1954629923898514E-3},{"$f":"Baseline_Data_2012!AR237/Baseline_Data_2012!AR$271","v":1.4901147109920255E-2},{"$f":"Baseline_Data_2012!AS237/Baseline_Data_2012!AS$271","v":1.2997415436142808E-2},{"$f":"Baseline_Data_2012!AT237/Baseline_Data_2012!AT$271","v":1.967147901748223E-2},{"$f":"Baseline_Data_2012!AU237/Baseline_Data_2012!AU$271","v":5.0753415745922572E-3},{"$f":"Baseline_Data_2012!AV237/Baseline_Data_2012!AV$271","v":1.5081438130275186E-2},245]
[5,"Male 45-49",{"$f":"'III Tool Overview'!$H$8/100","v":1000},0,0,{"$f":"G246*'III Tool Overview'!$H$8","v":1715.6260004906735},{"$f":"HLOOKUP('III Tool Overview'!$H$6,Targeting!$I$1:$BC$277,Targeting!BD246,FALSE)","v":1.7156260004906734E-2},{"$f":"Baseline_Data_2012!B238","v":24984.305830399997},{"$f":"Baseline_Data_2012!B238/Baseline_Data_2012!B$271","v":1.7156260004906734E-2},{"$f":"Baseline_Data_2012!C238/Baseline_Data_2012!C$271","v":1.3121830245151114E-2},{"$f":"Baseline_Data_2012!D238/Baseline_Data_2012!D$271","v":5.5053255731023322E-3},{"$f":"Baseline_Data_2012!E238/Baseline_Data_2012!E$271","v":5.9892929843501606E-3},{"$f":"Baseline_Data_2012!F238/Baseline_Data_2012!F$271","v":1.7698108241261987E-2},{"$f":"Baseline_Data_2012!G238/Baseline_Data_2012!G$271","v":1.9446483358057799E-2},{"$f":"Baseline_Data_2012!H238/Baseline_Data_2012!H$271","v":2.58755670875578E-2},{"$f":"Baseline_Data_2012!I238/Baseline_Data_2012!I$271","v":1.6628402671729884E-2},{"$f":"Baseline_Data_2012!J238/Baseline_Data_2012!J$271","v":7.4940220845953901E-3},{"$f":"Baseline_Data_2012!K238/Baseline_Data_2012!K$271","v":1.2262046579658247E-2},{"$f":"Baseline_Data_2012!L238/Baseline_Data_2012!L$271","v":2.4358115111255668E-2},{"$f":"Baseline_Data_2012!M238/Baseline_Data_2012!M$271","v":3.7529947170725948E-3},{"$f":"Baseline_Data_2012!N238/Baseline_Data_2012!N$271","v":7.0298502201059767E-3},{"$f":"Baseline_Data_2012!O238/Baseline_Data_2012!O$271","v":1.4881854408421418E-2},{"$f":"Baseline_Data_2012!P238/Baseline_Data_2012!P$271","v":0},{"$f":"Baseline_Data_2012!Q238/Baseline_Data_2012!Q$271","v":3.0036399664089716E-2},{"$f":"Baseline_Data_2012!R238/Baseline_Data_2012!R$271","v":2.8609853648122775E-2},{"$f":"Baseline_Data_2012!S238/Baseline_Data_2012!S$271","v":1.1067958631147661E-2},{"$f":"Baseline_Data_2012!T238/Baseline_Data_2012!T$271","v":7.2578304293448147E-3},{"$f":"Baseline_Data_2012!U238/Baseline_Data_2012!U$271","v":1.3257716651364786E-2},{"$f":"Baseline_Data_2012!V238/Baseline_Data_2012!V$271","v":5.9892929843501598E-3},{"$f":"Baseline_Data_2012!W238/Baseline_Data_2012!W$271","v":1.336286033904868E-2},{"$f":"Baseline_Data_2012!X238/Baseline_Data_2012!X$271","v":1.2519453521764484E-2},{"$f":"Baseline_Data_2012!Y238/Baseline_Data_2012!Y$271","v":3.9666722155067058E-2},{"$f":"Baseline_Data_2012!Z238/Baseline_Data_2012!Z$271","v":1.7369881995283602E-2},{"$f":"Baseline_Data_2012!AA238/Baseline_Data_2012!AA$271","v":4.894290194632249E-2},{"$f":"Baseline_Data_2012!AB238/Baseline_Data_2012!AB$271","v":2.9474326683097851E-2},{"$f":"Baseline_Data_2012!AC238/Baseline_Data_2012!AC$271","v":0},{"$f":"Baseline_Data_2012!AD238/Baseline_Data_2012!AD$271","v":1.9325434578102159E-2},{"$f":"Baseline_Data_2012!AE238/Baseline_Data_2012!AE$271","v":1.7698108241261987E-2},{"$f":"Baseline_Data_2012!AF238/Baseline_Data_2012!AF$271","v":7.6280298573572483E-3},{"$f":"Baseline_Data_2012!AG238/Baseline_Data_2012!AG$271","v":7.5678978984819656E-3},{"$f":"Baseline_Data_2012!AH238/Baseline_Data_2012!AH$271","v":1.2478791782039204E-2},{"$f":"Baseline_Data_2012!AI238/Baseline_Data_2012!AI$271","v":1.566140796865912E-2},{"$f":"Baseline_Data_2012!AJ238/Baseline_Data_2012!AJ$271","v":9.3221729094375861E-3},{"$f":"Baseline_Data_2012!AK238/Baseline_Data_2012!AK$271","v":9.1026750795457165E-3},{"$f":"Baseline_Data_2012!AL238/Baseline_Data_2012!AL$271","v":8.8940336517045367E-3},{"$f":"Baseline_Data_2012!AM238/Baseline_Data_2012!AM$271","v":3.7529947170725957E-3},{"$f":"Baseline_Data_2012!AN238/Baseline_Data_2012!AN$271","v":1.9503852544207462E-2},{"$f":"Baseline_Data_2012!AO238/Baseline_Data_2012!AO$271","v":2.2382474375899193E-2},{"$f":"Baseline_Data_2012!AP238/Baseline_Data_2012!AP$271","v":5.5053255731023322E-3},{"$f":"Baseline_Data_2012!AQ238/Baseline_Data_2012!AQ$271","v":7.0298502201059784E-3},{"$f":"Baseline_Data_2012!AR238/Baseline_Data_2012!AR$271","v":1.7907097216850222E-2},{"$f":"Baseline_Data_2012!AS238/Baseline_Data_2012!AS$271","v":1.4785170444125044E-2},{"$f":"Baseline_Data_2012!AT238/Baseline_Data_2012!AT$271","v":2.3014011656174262E-2},{"$f":"Baseline_Data_2012!AU238/Baseline_Data_2012!AU$271","v":6.2982005888000082E-3},{"$f":"Baseline_Data_2012!AV238/Baseline_Data_2012!AV$271","v":1.7104352655171698E-2},246]
[5,"Male 50-54",{"$f":"'III Tool Overview'!$H$8/100","v":1000},0,0,{"$f":"G247*'III Tool Overview'!$H$8","v":1644.498937165197},{"$f":"HLOOKUP('III Tool Overview'!$H$6,Targeting!$I$1:$BC$277,Targeting!BD247,FALSE)","v":1.644498937165197E-2},{"$f":"Baseline_Data_2012!B239","v":23948.497150399995},{"$f":"Baseline_Data_2012!B239/Baseline_Data_2012!B$271","v":1.644498937165197E-2},{"$f":"Baseline_Data_2012!C239/Baseline_Data_2012!C$271","v":1.3716128269635568E-2},{"$f":"Baseline_Data_2012!D239/Baseline_Data_2012!D$271","v":5.1243341839603022E-3},{"$f":"Baseline_Data_2012!E239/Baseline_Data_2012!E$271","v":6.1987088229638028E-3},{"$f":"Baseline_Data_2012!F239/Baseline_Data_2012!F$271","v":1.6842974163749327E-2},{"$f":"Baseline_Data_2012!G239/Baseline_Data_2012!G$271","v":1.6816396073515035E-2},{"$f":"Baseline_Data_2012!H239/Baseline_Data_2012!H$271","v":2.488488272516937E-2},{"$f":"Baseline_Data_2012!I239/Baseline_Data_2012!I$271","v":1.6154791292159781E-2},{"$f":"Baseline_Data_2012!J239/Baseline_Data_2012!J$271","v":7.2385440589841843E-3},{"$f":"Baseline_Data_2012!K239/Baseline_Data_2012!K$271","v":1.2215125483052411E-2},{"$f":"Baseline_Data_2012!L239/Baseline_Data_2012!L$271","v":2.2661444715024875E-2},{"$f":"Baseline_Data_2012!M239/Baseline_Data_2012!M$271","v":3.1756109144460416E-3},{"$f":"Baseline_Data_2012!N239/Baseline_Data_2012!N$271","v":4.4579537981159854E-3},{"$f":"Baseline_Data_2012!O239/Baseline_Data_2012!O$271","v":1.491452587803376E-2},{"$f":"Baseline_Data_2012!P239/Baseline_Data_2012!P$271","v":0},{"$f":"Baseline_Data_2012!Q239/Baseline_Data_2012!Q$271","v":2.9244271368747271E-2},{"$f":"Baseline_Data_2012!R239/Baseline_Data_2012!R$271","v":2.7378177780199343E-2},{"$f":"Baseline_Data_2012!S239/Baseline_Data_2012!S$271","v":1.0578867169542117E-2},{"$f":"Baseline_Data_2012!T239/Baseline_Data_2012!T$271","v":8.2638663304421163E-3},{"$f":"Baseline_Data_2012!U239/Baseline_Data_2012!U$271","v":1.1901316597924825E-2},{"$f":"Baseline_Data_2012!V239/Baseline_Data_2012!V$271","v":6.198708822963802E-3},{"$f":"Baseline_Data_2012!W239/Baseline_Data_2012!W$271","v":1.5240024053343616E-2},{"$f":"Baseline_Data_2012!X239/Baseline_Data_2012!X$271","v":1.2007200922674283E-2},{"$f":"Baseline_Data_2012!Y239/Baseline_Data_2012!Y$271","v":3.9376654717004411E-2},{"$f":"Baseline_Data_2012!Z239/Baseline_Data_2012!Z$271","v":1.5777468205607423E-2},{"$f":"Baseline_Data_2012!AA239/Baseline_Data_2012!AA$271","v":4.719012584356163E-2},{"$f":"Baseline_Data_2012!AB239/Baseline_Data_2012!AB$271","v":2.7647525975222666E-2},{"$f":"Baseline_Data_2012!AC239/Baseline_Data_2012!AC$271","v":0},{"$f":"Baseline_Data_2012!AD239/Baseline_Data_2012!AD$271","v":1.6526675044705758E-2},{"$f":"Baseline_Data_2012!AE239/Baseline_Data_2012!AE$271","v":1.6842974163749327E-2},{"$f":"Baseline_Data_2012!AF239/Baseline_Data_2012!AF$271","v":6.8531559718982941E-3},{"$f":"Baseline_Data_2012!AG239/Baseline_Data_2012!AG$271","v":6.8390040461905992E-3},{"$f":"Baseline_Data_2012!AH239/Baseline_Data_2012!AH$271","v":1.3130890164948615E-2},{"$f":"Baseline_Data_2012!AI239/Baseline_Data_2012!AI$271","v":1.405706861577209E-2},{"$f":"Baseline_Data_2012!AJ239/Baseline_Data_2012!AJ$271","v":8.5279070561671191E-3},{"$f":"Baseline_Data_2012!AK239/Baseline_Data_2012!AK$271","v":9.1993064498169016E-3},{"$f":"Baseline_Data_2012!AL239/Baseline_Data_2012!AL$271","v":8.8802870772814995E-3},{"$f":"Baseline_Data_2012!AM239/Baseline_Data_2012!AM$271","v":3.1756109144460425E-3},{"$f":"Baseline_Data_2012!AN239/Baseline_Data_2012!AN$271","v":1.8210695394240511E-2},{"$f":"Baseline_Data_2012!AO239/Baseline_Data_2012!AO$271","v":2.2422949013106971E-2},{"$f":"Baseline_Data_2012!AP239/Baseline_Data_2012!AP$271","v":5.1243341839603022E-3},{"$f":"Baseline_Data_2012!AQ239/Baseline_Data_2012!AQ$271","v":4.4579537981159862E-3},{"$f":"Baseline_Data_2012!AR239/Baseline_Data_2012!AR$271","v":2.0153283627326209E-2},{"$f":"Baseline_Data_2012!AS239/Baseline_Data_2012!AS$271","v":1.504032497137907E-2},{"$f":"Baseline_Data_2012!AT239/Baseline_Data_2012!AT$271","v":1.9978934314186583E-2},{"$f":"Baseline_Data_2012!AU239/Baseline_Data_2012!AU$271","v":5.4277175805918761E-3},{"$f":"Baseline_Data_2012!AV239/Baseline_Data_2012!AV$271","v":1.5721089254788614E-2},247]
[5,"Male 55-59",{"$f":"'III Tool Overview'!$H$8/100","v":1000},0,0,{"$f":"G248*'III Tool Overview'!$H$8","v":1076.8662072517793},{"$f":"HLOOKUP('III Tool Overview'!$H$6,Targeting!$I$1:$BC$277,Targeting!BD248,FALSE)","v":1.0768662072517794E-2},{"$f":"Baseline_Data_2012!B240","v":15682.179363513107},{"$f":"Baseline_Data_2012!B240/Baseline_Data_2012!B$271","v":1.0768662072517794E-2},{"$f":"Baseline_Data_2012!C240/Baseline_Data_2012!C$271","v":9.3400734406182944E-3},{"$f":"Baseline_Data_2012!D240/Baseline_Data_2012!D$271","v":3.7952519021700925E-3},{"$f":"Baseline_Data_2012!E240/Baseline_Data_2012!E$271","v":3.8637087137956255E-3},{"$f":"Baseline_Data_2012!F240/Baseline_Data_2012!F$271","v":1.1041264565483695E-2},{"$f":"Baseline_Data_2012!G240/Baseline_Data_2012!G$271","v":1.119839078243586E-2},{"$f":"Baseline_Data_2012!H240/Baseline_Data_2012!H$271","v":1.6402274149828998E-2},{"$f":"Baseline_Data_2012!I240/Baseline_Data_2012!I$271","v":1.0677058632019046E-2},{"$f":"Baseline_Data_2012!J240/Baseline_Data_2012!J$271","v":4.9783701108943165E-3},{"$f":"Baseline_Data_2012!K240/Baseline_Data_2012!K$271","v":7.7164360086968116E-3},{"$f":"Baseline_Data_2012!L240/Baseline_Data_2012!L$271","v":1.4407991683044496E-2},{"$f":"Baseline_Data_2012!M240/Baseline_Data_2012!M$271","v":1.8823477465145092E-3},{"$f":"Baseline_Data_2012!N240/Baseline_Data_2012!N$271","v":2.5464715266719814E-3},{"$f":"Baseline_Data_2012!O240/Baseline_Data_2012!O$271","v":1.001225231901625E-2},{"$f":"Baseline_Data_2012!P240/Baseline_Data_2012!P$271","v":0},{"$f":"Baseline_Data_2012!Q240/Baseline_Data_2012!Q$271","v":1.9531812488322198E-2},{"$f":"Baseline_Data_2012!R240/Baseline_Data_2012!R$271","v":1.8017092583365139E-2},{"$f":"Baseline_Data_2012!S240/Baseline_Data_2012!S$271","v":8.0840646378427181E-3},{"$f":"Baseline_Data_2012!T240/Baseline_Data_2012!T$271","v":5.1539878005421366E-3},{"$f":"Baseline_Data_2012!U240/Baseline_Data_2012!U$271","v":9.1293811751027992E-3},{"$f":"Baseline_Data_2012!V240/Baseline_Data_2012!V$271","v":3.8637087137956255E-3},{"$f":"Baseline_Data_2012!W240/Baseline_Data_2012!W$271","v":9.2085165063063822E-3},{"$f":"Baseline_Data_2012!X240/Baseline_Data_2012!X$271","v":8.075432844335307E-3},{"$f":"Baseline_Data_2012!Y240/Baseline_Data_2012!Y$271","v":2.7187676281107812E-2},{"$f":"Baseline_Data_2012!Z240/Baseline_Data_2012!Z$271","v":9.9731064650325357E-3},{"$f":"Baseline_Data_2012!AA240/Baseline_Data_2012!AA$271","v":3.0866893392419464E-2},{"$f":"Baseline_Data_2012!AB240/Baseline_Data_2012!AB$271","v":1.7970845937462808E-2},{"$f":"Baseline_Data_2012!AC240/Baseline_Data_2012!AC$271","v":0},{"$f":"Baseline_Data_2012!AD240/Baseline_Data_2012!AD$271","v":1.0442285505108397E-2},{"$f":"Baseline_Data_2012!AE240/Baseline_Data_2012!AE$271","v":1.1041264565483695E-2},{"$f":"Baseline_Data_2012!AF240/Baseline_Data_2012!AF$271","v":4.6602663574229443E-3},{"$f":"Baseline_Data_2012!AG240/Baseline_Data_2012!AG$271","v":4.9025254540185983E-3},{"$f":"Baseline_Data_2012!AH240/Baseline_Data_2012!AH$271","v":7.9239104128985861E-3},{"$f":"Baseline_Data_2012!AI240/Baseline_Data_2012!AI$271","v":8.5604464677699471E-3},{"$f":"Baseline_Data_2012!AJ240/Baseline_Data_2012!AJ$271","v":5.1182529313700143E-3},{"$f":"Baseline_Data_2012!AK240/Baseline_Data_2012!AK$271","v":7.1687072094280477E-3},{"$f":"Baseline_Data_2012!AL240/Baseline_Data_2012!AL$271","v":5.4276737903446812E-3},{"$f":"Baseline_Data_2012!AM240/Baseline_Data_2012!AM$271","v":1.8823477465145096E-3},{"$f":"Baseline_Data_2012!AN240/Baseline_Data_2012!AN$271","v":1.2377555551997231E-2},{"$f":"Baseline_Data_2012!AO240/Baseline_Data_2012!AO$271","v":1.4172695630169645E-2},{"$f":"Baseline_Data_2012!AP240/Baseline_Data_2012!AP$271","v":3.7952519021700925E-3},{"$f":"Baseline_Data_2012!AQ240/Baseline_Data_2012!AQ$271","v":2.5464715266719819E-3},{"$f":"Baseline_Data_2012!AR240/Baseline_Data_2012!AR$271","v":1.2852683684688586E-2},{"$f":"Baseline_Data_2012!AS240/Baseline_Data_2012!AS$271","v":9.6023534114855792E-3},{"$f":"Baseline_Data_2012!AT240/Baseline_Data_2012!AT$271","v":1.360853378595662E-2},{"$f":"Baseline_Data_2012!AU240/Baseline_Data_2012!AU$271","v":3.8951431592293253E-3},{"$f":"Baseline_Data_2012!AV240/Baseline_Data_2012!AV$271","v":9.0715296319560067E-3},248]
[5,"Male 60-64",{"$f":"'III Tool Overview'!$H$8/100","v":1000},0,0,{"$f":"G249*'III Tool Overview'!$H$8","v":1005.859772270574},{"$f":"HLOOKUP('III Tool Overview'!$H$6,Targeting!$I$1:$BC$277,Targeting!BD249,FALSE)","v":1.005859772270574E-2},{"$f":"Baseline_Data_2012!B241","v":14648.127369086891},{"$f":"Baseline_Data_2012!B241/Baseline_Data_2012!B$271","v":1.005859772270574E-2},{"$f":"Baseline_Data_2012!C241/Baseline_Data_2012!C$271","v":1.0294140659539493E-2},{"$f":"Baseline_Data_2012!D241/Baseline_Data_2012!D$271","v":3.8780573982174402E-3},{"$f":"Baseline_Data_2012!E241/Baseline_Data_2012!E$271","v":4.4098874324997196E-3},{"$f":"Baseline_Data_2012!F241/Baseline_Data_2012!F$271","v":1.116516903068239E-2},{"$f":"Baseline_Data_2012!G241/Baseline_Data_2012!G$271","v":1.0639535729129889E-2},{"$f":"Baseline_Data_2012!H241/Baseline_Data_2012!H$271","v":1.459541408436436E-2},{"$f":"Baseline_Data_2012!I241/Baseline_Data_2012!I$271","v":9.5010347826952092E-3},{"$f":"Baseline_Data_2012!J241/Baseline_Data_2012!J$271","v":4.9783701108943165E-3},{"$f":"Baseline_Data_2012!K241/Baseline_Data_2012!K$271","v":6.9289289564142429E-3},{"$f":"Baseline_Data_2012!L241/Baseline_Data_2012!L$271","v":1.3255068551937895E-2},{"$f":"Baseline_Data_2012!M241/Baseline_Data_2012!M$271","v":1.7429145801060269E-3},{"$f":"Baseline_Data_2012!N241/Baseline_Data_2012!N$271","v":2.9191258964288563E-3},{"$f":"Baseline_Data_2012!O241/Baseline_Data_2012!O$271","v":9.8702345556259501E-3},{"$f":"Baseline_Data_2012!P241/Baseline_Data_2012!P$271","v":0},{"$f":"Baseline_Data_2012!Q241/Baseline_Data_2012!Q$271","v":1.7122866704829095E-2},{"$f":"Baseline_Data_2012!R241/Baseline_Data_2012!R$271","v":1.6116787801567226E-2},{"$f":"Baseline_Data_2012!S241/Baseline_Data_2012!S$271","v":8.7664856786995714E-3},{"$f":"Baseline_Data_2012!T241/Baseline_Data_2012!T$271","v":5.0845738234304577E-3},{"$f":"Baseline_Data_2012!U241/Baseline_Data_2012!U$271","v":9.6365690181640633E-3},{"$f":"Baseline_Data_2012!V241/Baseline_Data_2012!V$271","v":4.4098874324997187E-3},{"$f":"Baseline_Data_2012!W241/Baseline_Data_2012!W$271","v":8.1943119348984201E-3},{"$f":"Baseline_Data_2012!X241/Baseline_Data_2012!X$271","v":8.0308992073261053E-3},{"$f":"Baseline_Data_2012!Y241/Baseline_Data_2012!Y$271","v":2.4403237937342181E-2},{"$f":"Baseline_Data_2012!Z241/Baseline_Data_2012!Z$271","v":8.8953430570914253E-3},{"$f":"Baseline_Data_2012!AA241/Baseline_Data_2012!AA$271","v":2.6048011301619801E-2},{"$f":"Baseline_Data_2012!AB241/Baseline_Data_2012!AB$271","v":1.6602155439961026E-2},{"$f":"Baseline_Data_2012!AC241/Baseline_Data_2012!AC$271","v":0},{"$f":"Baseline_Data_2012!AD241/Baseline_Data_2012!AD$271","v":9.0736364340504999E-3},{"$f":"Baseline_Data_2012!AE241/Baseline_Data_2012!AE$271","v":1.116516903068239E-2},{"$f":"Baseline_Data_2012!AF241/Baseline_Data_2012!AF$271","v":4.1919829340983624E-3},{"$f":"Baseline_Data_2012!AG241/Baseline_Data_2012!AG$271","v":4.9286027170718887E-3},{"$f":"Baseline_Data_2012!AH241/Baseline_Data_2012!AH$271","v":6.6139956833950256E-3},{"$f":"Baseline_Data_2012!AI241/Baseline_Data_2012!AI$271","v":9.2061698004681121E-3},{"$f":"Baseline_Data_2012!AJ241/Baseline_Data_2012!AJ$271","v":4.9062542892422626E-3},{"$f":"Baseline_Data_2012!AK241/Baseline_Data_2012!AK$271","v":8.2048094232906963E-3},{"$f":"Baseline_Data_2012!AL241/Baseline_Data_2012!AL$271","v":4.8649883423548205E-3},{"$f":"Baseline_Data_2012!AM241/Baseline_Data_2012!AM$271","v":1.7429145801060276E-3},{"$f":"Baseline_Data_2012!AN241/Baseline_Data_2012!AN$271","v":1.2377555551997231E-2},{"$f":"Baseline_Data_2012!AO241/Baseline_Data_2012!AO$271","v":1.2872717341333396E-2},{"$f":"Baseline_Data_2012!AP241/Baseline_Data_2012!AP$271","v":3.8780573982174402E-3},{"$f":"Baseline_Data_2012!AQ241/Baseline_Data_2012!AQ$271","v":2.9191258964288568E-3},{"$f":"Baseline_Data_2012!AR241/Baseline_Data_2012!AR$271","v":1.472106912068083E-2},{"$f":"Baseline_Data_2012!AS241/Baseline_Data_2012!AS$271","v":9.0078268475070229E-3},{"$f":"Baseline_Data_2012!AT241/Baseline_Data_2012!AT$271","v":1.3850924972983836E-2},{"$f":"Baseline_Data_2012!AU241/Baseline_Data_2012!AU$271","v":2.9306315198011114E-3},{"$f":"Baseline_Data_2012!AV241/Baseline_Data_2012!AV$271","v":7.6772503417418267E-3},249]
[5,"Male 65-69",null,null,0,{"$f":"G250*'III Tool Overview'!$H$8","v":0},{"$f":"HLOOKUP('III Tool Overview'!$H$6,Targeting!$I$1:$BC$277,Targeting!BD250,FALSE)","v":0},{"$f":"Baseline_Data_2012!B242","v":0},{"$f":"Baseline_Data_2012!B242/Baseline_Data_2012!B$271","v":0},{"$f":"Baseline_Data_2012!C242/Baseline_Data_2012!C$271","v":0},{"$f":"Baseline_Data_2012!D242/Baseline_Data_2012!D$271","v":0},{"$f":"Baseline_Data_2012!E242/Baseline_Data_2012!E$271","v":0},{"$f":"Baseline_Data_2012!F242/Baseline_Data_2012!F$271","v":0},{"$f":"Baseline_Data_2012!G242/Baseline_Data_2012!G$271","v":0},{"$f":"Baseline_Data_2012!H242/Baseline_Data_2012!H$271","v":0},{"$f":"Baseline_Data_2012!I242/Baseline_Data_2012!I$271","v":0},{"$f":"Baseline_Data_2012!J242/Baseline_Data_2012!J$271","v":0},{"$f":"Baseline_Data_2012!K242/Baseline_Data_2012!K$271","v":0},{"$f":"Baseline_Data_2012!L242/Baseline_Data_2012!L$271","v":0},{"$f":"Baseline_Data_2012!M242/Baseline_Data_2012!M$271","v":0},{"$f":"Baseline_Data_2012!N242/Baseline_Data_2012!N$271","v":0},{"$f":"Baseline_Data_2012!O242/Baseline_Data_2012!O$271","v":0},{"$f":"Baseline_Data_2012!P242/Baseline_Data_2012!P$271","v":0},{"$f":"Baseline_Data_2012!Q242/Baseline_Data_2012!Q$271","v":0},{"$f":"Baseline_Data_2012!R242/Baseline_Data_2012!R$271","v":0},{"$f":"Baseline_Data_2012!S242/Baseline_Data_2012!S$271","v":0},{"$f":"Baseline_Data_2012!T242/Baseline_Data_2012!T$271","v":0},{"$f":"Baseline_Data_2012!U242/Baseline_Data_2012!U$271","v":0},{"$f":"Baseline_Data_2012!V242/Baseline_Data_2012!V$271","v":0},{"$f":"Baseline_Data_2012!W242/Baseline_Data_2012!W$271","v":0},{"$f":"Baseline_Data_2012!X242/Baseline_Data_2012!X$271","v":0},{"$f":"Baseline_Data_2012!Y242/Baseline_Data_2012!Y$271","v":0},{"$f":"Baseline_Data_2012!Z242/Baseline_Data_2012!Z$271","v":0},{"$f":"Baseline_Data_2012!AA242/Baseline_Data_2012!AA$271","v":0},{"$f":"Baseline_Data_2012!AB242/Baseline_Data_2012!AB$271","v":0},{"$f":"Baseline_Data_2012!AC242/Baseline_Data_2012!AC$271","v":0},{"$f":"Baseline_Data_2012!AD242/Baseline_Data_2012!AD$271","v":0},{"$f":"Baseline_Data_2012!AE242/Baseline_Data_2012!AE$271","v":0},{"$f":"Baseline_Data_2012!AF242/Baseline_Data_2012!AF$271","v":0},{"$f":"Baseline_Data_2012!AG242/Baseline_Data_2012!AG$271","v":0},{"$f":"Baseline_Data_2012!AH242/Baseline_Data_2012!AH$271","v":0},{"$f":"Baseline_Data_2012!AI242/Baseline_Data_2012!AI$271","v":0},{"$f":"Baseline_Data_2012!AJ242/Baseline_Data_2012!AJ$271","v":0},{"$f":"Baseline_Data_2012!AK242/Baseline_Data_2012!AK$271","v":0},{"$f":"Baseline_Data_2012!AL242/Baseline_Data_2012!AL$271","v":0},{"$f":"Baseline_Data_2012!AM242/Baseline_Data_2012!AM$271","v":0},{"$f":"Baseline_Data_2012!AN242/Baseline_Data_2012!AN$271","v":0},{"$f":"Baseline_Data_2012!AO242/Baseline_Data_2012!AO$271","v":0},{"$f":"Baseline_Data_2012!AP242/Baseline_Data_2012!AP$271","v":0},{"$f":"Baseline_Data_2012!AQ242/Baseline_Data_2012!AQ$271","v":0},{"$f":"Baseline_Data_2012!AR242/Baseline_Data_2012!AR$271","v":0},{"$f":"Baseline_Data_2012!AS242/Baseline_Data_2012!AS$271","v":0},{"$f":"Baseline_Data_2012!AT242/Baseline_Data_2012!AT$271","v":0},{"$f":"Baseline_Data_2012!AU242/Baseline_Data_2012!AU$271","v":0},{"$f":"Baseline_Data_2012!AV242/Baseline_Data_2012!AV$271","v":0},250]
[5,"Male 70-74",null,null,null,{"$f":"G251*'III Tool Overview'!$H$8","v":0},{"$f":"HLOOKUP('III Tool Overview'!$H$6,Targeting!$I$1:$BC$277,Targeting!BD251,FALSE)","v":0},{"$f":"Baseline_Data_2012!B243","v":0},{"$f":"Baseline_Data_2012!B243/Baseline_Data_2012!B$271","v":0},{"$f":"Baseline_Data_2012!C243/Baseline_Data_2012!C$271","v":0},{"$f":"Baseline_Data_2012!D243/Baseline_Data_2012!D$271","v":0},{"$f":"Baseline_Data_2012!E243/Baseline_Data_2012!E$271","v":0},{"$f":"Baseline_Data_2012!F243/Baseline_Data_2012!F$271","v":0},{"$f":"Baseline_Data_2012!G243/Baseline_Data_2012!G$271","v":0},{"$f":"Baseline_Data_2012!H243/Baseline_Data_2012!H$271","v":0},{"$f":"Baseline_Data_2012!I243/Baseline_Data_2012!I$271","v":0},{"$f":"Baseline_Data_2012!J243/Baseline_Data_2012!J$271","v":0},{"$f":"Baseline_Data_2012!K243/Baseline_Data_2012!K$271","v":0},{"$f":"Baseline_Data_2012!L243/Baseline_Data_2012!L$271","v":0},{"$f":"Baseline_Data_2012!M243/Baseline_Data_2012!M$271","v":0},{"$f":"Baseline_Data_2012!N243/Baseline_Data_2012!N$271","v":0},{"$f":"Baseline_Data_2012!O243/Baseline_Data_2012!O$271","v":0},{"$f":"Baseline_Data_2012!P243/Baseline_Data_2012!P$271","v":0},{"$f":"Baseline_Data_2012!Q243/Baseline_Data_2012!Q$271","v":0},{"$f":"Baseline_Data_2012!R243/Baseline_Data_2012!R$271","v":0},{"$f":"Baseline_Data_2012!S243/Baseline_Data_2012!S$271","v":0},{"$f":"Baseline_Data_2012!T243/Baseline_Data_2012!T$271","v":0},{"$f":"Baseline_Data_2012!U243/Baseline_Data_2012!U$271","v":0},{"$f":"Baseline_Data_2012!V243/Baseline_Data_2012!V$271","v":0},{"$f":"Baseline_Data_2012!W243/Baseline_Data_2012!W$271","v":0},{"$f":"Baseline_Data_2012!X243/Baseline_Data_2012!X$271","v":0},{"$f":"Baseline_Data_2012!Y243/Baseline_Data_2012!Y$271","v":0},{"$f":"Baseline_Data_2012!Z243/Baseline_Data_2012!Z$271","v":0},{"$f":"Baseline_Data_2012!AA243/Baseline_Data_2012!AA$271","v":0},{"$f":"Baseline_Data_2012!AB243/Baseline_Data_2012!AB$271","v":0},{"$f":"Baseline_Data_2012!AC243/Baseline_Data_2012!AC$271","v":0},{"$f":"Baseline_Data_2012!AD243/Baseline_Data_2012!AD$271","v":0},{"$f":"Baseline_Data_2012!AE243/Baseline_Data_2012!AE$271","v":0},{"$f":"Baseline_Data_2012!AF243/Baseline_Data_2012!AF$271","v":0},{"$f":"Baseline_Data_2012!AG243/Baseline_Data_2012!AG$271","v":0},{"$f":"Baseline_Data_2012!AH243/Baseline_Data_2012!AH$271","v":0},{"$f":"Baseline_Data_2012!AI243/Baseline_Data_2012!AI$271","v":0},{"$f":"Baseline_Data_2012!AJ243/Baseline_Data_2012!AJ$271","v":0},{"$f":"Baseline_Data_2012!AK243/Baseline_Data_2012!AK$271","v":0},{"$f":"Baseline_Data_2012!AL243/Baseline_Data_2012!AL$271","v":0},{"$f":"Baseline_Data_2012!AM243/Baseline_Data_2012!AM$271","v":0},{"$f":"Baseline_Data_2012!AN243/Baseline_Data_2012!AN$271","v":0},{"$f":"Baseline_Data_2012!AO243/Baseline_Data_2012!AO$271","v":0},{"$f":"Baseline_Data_2012!AP243/Baseline_Data_2012!AP$271","v":0},{"$f":"Baseline_Data_2012!AQ243/Baseline_Data_2012!AQ$271","v":0},{"$f":"Baseline_Data_2012!AR243/Baseline_Data_2012!AR$271","v":0},{"$f":"Baseline_Data_2012!AS243/Baseline_Data_2012!AS$271","v":0},{"$f":"Baseline_Data_2012!AT243/Baseline_Data_2012!AT$271","v":0},{"$f":"Baseline_Data_2012!AU243/Baseline_Data_2012!AU$271","v":0},{"$f":"Baseline_Data_2012!AV243/Baseline_Data_2012!AV$271","v":0},251]
[5,"Male 75-79",null,null,null,{"$f":"G252*'III Tool Overview'!$H$8","v":0},{"$f":"HLOOKUP('III Tool Overview'!$H$6,Targeting!$I$1:$BC$277,Targeting!BD252,FALSE)","v":0},{"$f":"Baseline_Data_2012!B244","v":0},{"$f":"Baseline_Data_2012!B244/Baseline_Data_2012!B$271","v":0},{"$f":"Baseline_Data_2012!C244/Baseline_Data_2012!C$271","v":0},{"$f":"Baseline_Data_2012!D244/Baseline_Data_2012!D$271","v":0},{"$f":"Baseline_Data_2012!E244/Baseline_Data_2012!E$271","v":0},{"$f":"Baseline_Data_2012!F244/Baseline_Data_2012!F$271","v":0},{"$f":"Baseline_Data_2012!G244/Baseline_Data_2012!G$271","v":0},{"$f":"Baseline_Data_2012!H244/Baseline_Data_2012!H$271","v":0},{"$f":"Baseline_Data_2012!I244/Baseline_Data_2012!I$271","v":0},{"$f":"Baseline_Data_2012!J244/Baseline_Data_2012!J$271","v":0},{"$f":"Baseline_Data_2012!K244/Baseline_Data_2012!K$271","v":0},{"$f":"Baseline_Data_2012!L244/Baseline_Data_2012!L$271","v":0},{"$f":"Baseline_Data_2012!M244/Baseline_Data_2012!M$271","v":0},{"$f":"Baseline_Data_2012!N244/Baseline_Data_2012!N$271","v":0},{"$f":"Baseline_Data_2012!O244/Baseline_Data_2012!O$271","v":0},{"$f":"Baseline_Data_2012!P244/Baseline_Data_2012!P$271","v":0},{"$f":"Baseline_Data_2012!Q244/Baseline_Data_2012!Q$271","v":0},{"$f":"Baseline_Data_2012!R244/Baseline_Data_2012!R$271","v":0},{"$f":"Baseline_Data_2012!S244/Baseline_Data_2012!S$271","v":0},{"$f":"Baseline_Data_2012!T244/Baseline_Data_2012!T$271","v":0},{"$f":"Baseline_Data_2012!U244/Baseline_Data_2012!U$271","v":0},{"$f":"Baseline_Data_2012!V244/Baseline_Data_2012!V$271","v":0},{"$f":"Baseline_Data_2012!W244/Baseline_Data_2012!W$271","v":0},{"$f":"Baseline_Data_2012!X244/Baseline_Data_2012!X$271","v":0},{"$f":"Baseline_Data_2012!Y244/Baseline_Data_2012!Y$271","v":0},{"$f":"Baseline_Data_2012!Z244/Baseline_Data_2012!Z$271","v":0},{"$f":"Baseline_Data_2012!AA244/Baseline_Data_2012!AA$271","v":0},{"$f":"Baseline_Data_2012!AB244/Baseline_Data_2012!AB$271","v":0},{"$f":"Baseline_Data_2012!AC244/Baseline_Data_2012!AC$271","v":0},{"$f":"Baseline_Data_2012!AD244/Baseline_Data_2012!AD$271","v":0},{"$f":"Baseline_Data_2012!AE244/Baseline_Data_2012!AE$271","v":0},{"$f":"Baseline_Data_2012!AF244/Baseline_Data_2012!AF$271","v":0},{"$f":"Baseline_Data_2012!AG244/Baseline_Data_2012!AG$271","v":0},{"$f":"Baseline_Data_2012!AH244/Baseline_Data_2012!AH$271","v":0},{"$f":"Baseline_Data_2012!AI244/Baseline_Data_2012!AI$271","v":0},{"$f":"Baseline_Data_2012!AJ244/Baseline_Data_2012!AJ$271","v":0},{"$f":"Baseline_Data_2012!AK244/Baseline_Data_2012!AK$271","v":0},{"$f":"Baseline_Data_2012!AL244/Baseline_Data_2012!AL$271","v":0},{"$f":"Baseline_Data_2012!AM244/Baseline_Data_2012!AM$271","v":0},{"$f":"Baseline_Data_2012!AN244/Baseline_Data_2012!AN$271","v":0},{"$f":"Baseline_Data_2012!AO244/Baseline_Data_2012!AO$271","v":0},{"$f":"Baseline_Data_2012!AP244/Baseline_Data_2012!AP$271","v":0},{"$f":"Baseline_Data_2012!AQ244/Baseline_Data_2012!AQ$271","v":0},{"$f":"Baseline_Data_2012!AR244/Baseline_Data_2012!AR$271","v":0},{"$f":"Baseline_Data_2012!AS244/Baseline_Data_2012!AS$271","v":0},{"$f":"Baseline_Data_2012!AT244/Baseline_Data_2012!AT$271","v":0},{"$f":"Baseline_Data_2012!AU244/Baseline_Data_2012!AU$271","v":0},{"$f":"Baseline_Data_2012!AV244/Baseline_Data_2012!AV$271","v":0},252]
[5,"Male 80-84",null,null,null,{"$f":"G253*'III Tool Overview'!$H$8","v":0},{"$f":"HLOOKUP('III Tool Overview'!$H$6,Targeting!$I$1:$BC$277,Targeting!BD253,FALSE)","v":0},{"$f":"Baseline_Data_2012!B245","v":0},{"$f":"Baseline_Data_2012!B245/Baseline_Data_2012!B$271","v":0},{"$f":"Baseline_Data_2012!C245/Baseline_Data_2012!C$271","v":0},{"$f":"Baseline_Data_2012!D245/Baseline_Data_2012!D$271","v":0},{"$f":"Baseline_Data_2012!E245/Baseline_Data_2012!E$271","v":0},{"$f":"Baseline_Data_2012!F245/Baseline_Data_2012!F$271","v":0},{"$f":"Baseline_Data_2012!G245/Baseline_Data_2012!G$271","v":0},{"$f":"Baseline_Data_2012!H245/Baseline_Data_2012!H$271","v":0},{"$f":"Baseline_Data_2012!I245/Baseline_Data_2012!I$271","v":0},{"$f":"Baseline_Data_2012!J245/Baseline_Data_2012!J$271","v":0},{"$f":"Baseline_Data_2012!K245/Baseline_Data_2012!K$271","v":0},{"$f":"Baseline_Data_2012!L245/Baseline_Data_2012!L$271","v":0},{"$f":"Baseline_Data_2012!M245/Baseline_Data_2012!M$271","v":0},{"$f":"Baseline_Data_2012!N245/Baseline_Data_2012!N$271","v":0},{"$f":"Baseline_Data_2012!O245/Baseline_Data_2012!O$271","v":0},{"$f":"Baseline_Data_2012!P245/Baseline_Data_2012!P$271","v":0},{"$f":"Baseline_Data_2012!Q245/Baseline_Data_2012!Q$271","v":0},{"$f":"Baseline_Data_2012!R245/Baseline_Data_2012!R$271","v":0},{"$f":"Baseline_Data_2012!S245/Baseline_Data_2012!S$271","v":0},{"$f":"Baseline_Data_2012!T245/Baseline_Data_2012!T$271","v":0},{"$f":"Baseline_Data_2012!U245/Baseline_Data_2012!U$271","v":0},{"$f":"Baseline_Data_2012!V245/Baseline_Data_2012!V$271","v":0},{"$f":"Baseline_Data_2012!W245/Baseline_Data_2012!W$271","v":0},{"$f":"Baseline_Data_2012!X245/Baseline_Data_2012!X$271","v":0},{"$f":"Baseline_Data_2012!Y245/Baseline_Data_2012!Y$271","v":0},{"$f":"Baseline_Data_2012!Z245/Baseline_Data_2012!Z$271","v":0},{"$f":"Baseline_Data_2012!AA245/Baseline_Data_2012!AA$271","v":0},{"$f":"Baseline_Data_2012!AB245/Baseline_Data_2012!AB$271","v":0},{"$f":"Baseline_Data_2012!AC245/Baseline_Data_2012!AC$271","v":0},{"$f":"Baseline_Data_2012!AD245/Baseline_Data_2012!AD$271","v":0},{"$f":"Baseline_Data_2012!AE245/Baseline_Data_2012!AE$271","v":0},{"$f":"Baseline_Data_2012!AF245/Baseline_Data_2012!AF$271","v":0},{"$f":"Baseline_Data_2012!AG245/Baseline_Data_2012!AG$271","v":0},{"$f":"Baseline_Data_2012!AH245/Baseline_Data_2012!AH$271","v":0},{"$f":"Baseline_Data_2012!AI245/Baseline_Data_2012!AI$271","v":0},{"$f":"Baseline_Data_2012!AJ245/Baseline_Data_2012!AJ$271","v":0},{"$f":"Baseline_Data_2012!AK245/Baseline_Data_2012!AK$271","v":0},{"$f":"Baseline_Data_2012!AL245/Baseline_Data_2012!AL$271","v":0},{"$f":"Baseline_Data_2012!AM245/Baseline_Data_2012!AM$271","v":0},{"$f":"Baseline_Data_2012!AN245/Baseline_Data_2012!AN$271","v":0},{"$f":"Baseline_Data_2012!AO245/Baseline_Data_2012!AO$271","v":0},{"$f":"Baseline_Data_2012!AP245/Baseline_Data_2012!AP$271","v":0},{"$f":"Baseline_Data_2012!AQ245/Baseline_Data_2012!AQ$271","v":0},{"$f":"Baseline_Data_2012!AR245/Baseline_Data_2012!AR$271","v":0},{"$f":"Baseline_Data_2012!AS245/Baseline_Data_2012!AS$271","v":0},{"$f":"Baseline_Data_2012!AT245/Baseline_Data_2012!AT$271","v":0},{"$f":"Baseline_Data_2012!AU245/Baseline_Data_2012!AU$271","v":0},{"$f":"Baseline_Data_2012!AV245/Baseline_Data_2012!AV$271","v":0},253]
[5,"Male 85-89",null,null,null,{"$f":"G254*'III Tool Overview'!$H$8","v":0},{"$f":"HLOOKUP('III Tool Overview'!$H$6,Targeting!$I$1:$BC$277,Targeting!BD254,FALSE)","v":0},{"$f":"Baseline_Data_2012!B246","v":0},{"$f":"Baseline_Data_2012!B246/Baseline_Data_2012!B$271","v":0},{"$f":"Baseline_Data_2012!C246/Baseline_Data_2012!C$271","v":0},{"$f":"Baseline_Data_2012!D246/Baseline_Data_2012!D$271","v":0},{"$f":"Baseline_Data_2012!E246/Baseline_Data_2012!E$271","v":0},{"$f":"Baseline_Data_2012!F246/Baseline_Data_2012!F$271","v":0},{"$f":"Baseline_Data_2012!G246/Baseline_Data_2012!G$271","v":0},{"$f":"Baseline_Data_2012!H246/Baseline_Data_2012!H$271","v":0},{"$f":"Baseline_Data_2012!I246/Baseline_Data_2012!I$271","v":0},{"$f":"Baseline_Data_2012!J246/Baseline_Data_2012!J$271","v":0},{"$f":"Baseline_Data_2012!K246/Baseline_Data_2012!K$271","v":0},{"$f":"Baseline_Data_2012!L246/Baseline_Data_2012!L$271","v":0},{"$f":"Baseline_Data_2012!M246/Baseline_Data_2012!M$271","v":0},{"$f":"Baseline_Data_2012!N246/Baseline_Data_2012!N$271","v":0},{"$f":"Baseline_Data_2012!O246/Baseline_Data_2012!O$271","v":0},{"$f":"Baseline_Data_2012!P246/Baseline_Data_2012!P$271","v":0},{"$f":"Baseline_Data_2012!Q246/Baseline_Data_2012!Q$271","v":0},{"$f":"Baseline_Data_2012!R246/Baseline_Data_2012!R$271","v":0},{"$f":"Baseline_Data_2012!S246/Baseline_Data_2012!S$271","v":0},{"$f":"Baseline_Data_2012!T246/Baseline_Data_2012!T$271","v":0},{"$f":"Baseline_Data_2012!U246/Baseline_Data_2012!U$271","v":0},{"$f":"Baseline_Data_2012!V246/Baseline_Data_2012!V$271","v":0},{"$f":"Baseline_Data_2012!W246/Baseline_Data_2012!W$271","v":0},{"$f":"Baseline_Data_2012!X246/Baseline_Data_2012!X$271","v":0},{"$f":"Baseline_Data_2012!Y246/Baseline_Data_2012!Y$271","v":0},{"$f":"Baseline_Data_2012!Z246/Baseline_Data_2012!Z$271","v":0},{"$f":"Baseline_Data_2012!AA246/Baseline_Data_2012!AA$271","v":0},{"$f":"Baseline_Data_2012!AB246/Baseline_Data_2012!AB$271","v":0},{"$f":"Baseline_Data_2012!AC246/Baseline_Data_2012!AC$271","v":0},{"$f":"Baseline_Data_2012!AD246/Baseline_Data_2012!AD$271","v":0},{"$f":"Baseline_Data_2012!AE246/Baseline_Data_2012!AE$271","v":0},{"$f":"Baseline_Data_2012!AF246/Baseline_Data_2012!AF$271","v":0},{"$f":"Baseline_Data_2012!AG246/Baseline_Data_2012!AG$271","v":0},{"$f":"Baseline_Data_2012!AH246/Baseline_Data_2012!AH$271","v":0},{"$f":"Baseline_Data_2012!AI246/Baseline_Data_2012!AI$271","v":0},{"$f":"Baseline_Data_2012!AJ246/Baseline_Data_2012!AJ$271","v":0},{"$f":"Baseline_Data_2012!AK246/Baseline_Data_2012!AK$271","v":0},{"$f":"Baseline_Data_2012!AL246/Baseline_Data_2012!AL$271","v":0},{"$f":"Baseline_Data_2012!AM246/Baseline_Data_2012!AM$271","v":0},{"$f":"Baseline_Data_2012!AN246/Baseline_Data_2012!AN$271","v":0},{"$f":"Baseline_Data_2012!AO246/Baseline_Data_2012!AO$271","v":0},{"$f":"Baseline_Data_2012!AP246/Baseline_Data_2012!AP$271","v":0},{"$f":"Baseline_Data_2012!AQ246/Baseline_Data_2012!AQ$271","v":0},{"$f":"Baseline_Data_2012!AR246/Baseline_Data_2012!AR$271","v":0},{"$f":"Baseline_Data_2012!AS246/Baseline_Data_2012!AS$271","v":0},{"$f":"Baseline_Data_2012!AT246/Baseline_Data_2012!AT$271","v":0},{"$f":"Baseline_Data_2012!AU246/Baseline_Data_2012!AU$271","v":0},{"$f":"Baseline_Data_2012!AV246/Baseline_Data_2012!AV$271","v":0},254]
[5,"Male 90+",null,null,null,{"$f":"G255*'III Tool Overview'!$H$8","v":0},{"$f":"HLOOKUP('III Tool Overview'!$H$6,Targeting!$I$1:$BC$277,Targeting!BD255,FALSE)","v":0},{"$f":"Baseline_Data_2012!B247","v":0},{"$f":"Baseline_Data_2012!B247/Baseline_Data_2012!B$271","v":0},{"$f":"Baseline_Data_2012!C247/Baseline_Data_2012!C$271","v":0},{"$f":"Baseline_Data_2012!D247/Baseline_Data_2012!D$271","v":0},{"$f":"Baseline_Data_2012!E247/Baseline_Data_2012!E$271","v":0},{"$f":"Baseline_Data_2012!F247/Baseline_Data_2012!F$271","v":0},{"$f":"Baseline_Data_2012!G247/Baseline_Data_2012!G$271","v":0},{"$f":"Baseline_Data_2012!H247/Baseline_Data_2012!H$271","v":0},{"$f":"Baseline_Data_2012!I247/Baseline_Data_2012!I$271","v":0},{"$f":"Baseline_Data_2012!J247/Baseline_Data_2012!J$271","v":0},{"$f":"Baseline_Data_2012!K247/Baseline_Data_2012!K$271","v":0},{"$f":"Baseline_Data_2012!L247/Baseline_Data_2012!L$271","v":0},{"$f":"Baseline_Data_2012!M247/Baseline_Data_2012!M$271","v":0},{"$f":"Baseline_Data_2012!N247/Baseline_Data_2012!N$271","v":0},{"$f":"Baseline_Data_2012!O247/Baseline_Data_2012!O$271","v":0},{"$f":"Baseline_Data_2012!P247/Baseline_Data_2012!P$271","v":0},{"$f":"Baseline_Data_2012!Q247/Baseline_Data_2012!Q$271","v":0},{"$f":"Baseline_Data_2012!R247/Baseline_Data_2012!R$271","v":0},{"$f":"Baseline_Data_2012!S247/Baseline_Data_2012!S$271","v":0},{"$f":"Baseline_Data_2012!T247/Baseline_Data_2012!T$271","v":0},{"$f":"Baseline_Data_2012!U247/Baseline_Data_2012!U$271","v":0},{"$f":"Baseline_Data_2012!V247/Baseline_Data_2012!V$271","v":0},{"$f":"Baseline_Data_2012!W247/Baseline_Data_2012!W$271","v":0},{"$f":"Baseline_Data_2012!X247/Baseline_Data_2012!X$271","v":0},{"$f":"Baseline_Data_2012!Y247/Baseline_Data_2012!Y$271","v":0},{"$f":"Baseline_Data_2012!Z247/Baseline_Data_2012!Z$271","v":0},{"$f":"Baseline_Data_2012!AA247/Baseline_Data_2012!AA$271","v":0},{"$f":"Baseline_Data_2012!AB247/Baseline_Data_2012!AB$271","v":0},{"$f":"Baseline_Data_2012!AC247/Baseline_Data_2012!AC$271","v":0},{"$f":"Baseline_Data_2012!AD247/Baseline_Data_2012!AD$271","v":0},{"$f":"Baseline_Data_2012!AE247/Baseline_Data_2012!AE$271","v":0},{"$f":"Baseline_Data_2012!AF247/Baseline_Data_2012!AF$271","v":0},{"$f":"Baseline_Data_2012!AG247/Baseline_Data_2012!AG$271","v":0},{"$f":"Baseline_Data_2012!AH247/Baseline_Data_2012!AH$271","v":0},{"$f":"Baseline_Data_2012!AI247/Baseline_Data_2012!AI$271","v":0},{"$f":"Baseline_Data_2012!AJ247/Baseline_Data_2012!AJ$271","v":0},{"$f":"Baseline_Data_2012!AK247/Baseline_Data_2012!AK$271","v":0},{"$f":"Baseline_Data_2012!AL247/Baseline_Data_2012!AL$271","v":0},{"$f":"Baseline_Data_2012!AM247/Baseline_Data_2012!AM$271","v":0},{"$f":"Baseline_Data_2012!AN247/Baseline_Data_2012!AN$271","v":0},{"$f":"Baseline_Data_2012!AO247/Baseline_Data_2012!AO$271","v":0},{"$f":"Baseline_Data_2012!AP247/Baseline_Data_2012!AP$271","v":0},{"$f":"Baseline_Data_2012!AQ247/Baseline_Data_2012!AQ$271","v":0},{"$f":"Baseline_Data_2012!AR247/Baseline_Data_2012!AR$271","v":0},{"$f":"Baseline_Data_2012!AS247/Baseline_Data_2012!AS$271","v":0},{"$f":"Baseline_Data_2012!AT247/Baseline_Data_2012!AT$271","v":0},{"$f":"Baseline_Data_2012!AU247/Baseline_Data_2012!AU$271","v":0},{"$f":"Baseline_Data_2012!AV247/Baseline_Data_2012!AV$271","v":0},255]
[null,"TOTAL",null,null,null,null,{"$f":"HLOOKUP('III Tool Overview'!$H$6,Targeting!$I$1:$BC$277,Targeting!BD256,FALSE)","v":0},null,null,null,null,null,null,null,null,null,null,null,null,null,null,null,null,null,null,null,null,null,null,null,null,null,null,null,null,null,null,null,null,null,null,null,null,null,null,null,null,null,null,null,null,null,null,null,null,256]
[5,"Female <1",null,null,null,null,{"$f":"HLOOKUP('III Tool Overview'!$H$6,Targeting!$I$1:$BC$277,Targeting!BD257,FALSE)","v":0},null,null,null,null,null,null,null,null,null,null,null,null,null,null,null,null,null,null,null,null,null,null,null,null,null,null,null,null,null,null,null,null,null,null,null,null,null,null,null,null,null,null,null,null,null,null,null,null,257]
[5,"Female 1-4",null,null,null,null,{"$f":"HLOOKUP('III Tool Overview'!$H$6,Targeting!$I$1:$BC$277,Targeting!BD258,FALSE)","v":0},null,null,null,null,null,null,null,null,null,null,null,null,null,null,null,null,null,null,null,null,null,null,null,null,null,null,null,null,null,null,null,null,null,null,null,null,null,null,null,null,null,null,null,null,null,null,null,null,258]
[5,"Female 5-9",null,null,null,null,{"$f":"HLOOKUP('III Tool Overview'!$H$6,Targeting!$I$1:$BC$277,Targeting!BD259,FALSE)","v":0},null,null,null,null,null,null,null,null,null,null,null,null,null,null,null,null,null,null,null,null,null,null,null,null,null,null,null,null,null,null,null,null,null,null,null,null,null,null,null,null,null,null,null,null,null,null,null,null,259]
[5,"Female 10-14",null,null,null,null,{"$f":"HLOOKUP('III Tool Overview'!$H$6,Targeting!$I$1:$BC$277,Targeting!BD260,FALSE)","v":0},null,null,null,null,null,null,null,null,null,null,null,null,null,null,null,null,null,null,null,null,null,null,null,null,null,null,null,null,null,null,null,null,null,null,null,null,null,null,null,null,null,null,null,null,null,null,null,null,260]
[5,"Female 15-19",{"$f":"'III Tool Overview'!$H$8/100","v":1000},0,0,{"$f":"G261*'III Tool Overview'!$H$8","v":411.79899928298545},{"$f":"HLOOKUP('III Tool Overview'!$H$6,Targeting!$I$1:$BC$277,Targeting!BD261,FALSE)","v":4.1179899928298546E-3},{"$f":"Baseline_Data_2012!B252","v":5996.94346891236},{"$f":"Baseline_Data_2012!B252/Baseline_Data_2012!B$271","v":4.1179899928298546E-3},{"$f":"Baseline_Data_2012!C252/Baseline_Data_2012!C$271","v":2.4828312933797732E-3},{"$f":"Baseline_Data_2012!D252/Baseline_Data_2012!D$271","v":1.0616437155274692E-3},{"$f":"Baseline_Data_2012!E252/Baseline_Data_2012!E$271","v":1.4149312336231002E-3},{"$f":"Baseline_Data_2012!F252/Baseline_Data_2012!F$271","v":5.3657247967269913E-3},{"$f":"Baseline_Data_2012!G252/Baseline_Data_2012!G$271","v":4.7535700609750882E-3},{"$f":"Baseline_Data_2012!H252/Baseline_Data_2012!H$271","v":6.0841115030483952E-3},{"$f":"Baseline_Data_2012!I252/Baseline_Data_2012!I$271","v":3.7779704651068786E-3},{"$f":"Baseline_Data_2012!J252/Baseline_Data_2012!J$271","v":1.7201092285048648E-3},{"$f":"Baseline_Data_2012!K252/Baseline_Data_2012!K$271","v":2.7232948410083717E-3},{"$f":"Baseline_Data_2012!L252/Baseline_Data_2012!L$271","v":5.822303178658202E-3},{"$f":"Baseline_Data_2012!M252/Baseline_Data_2012!M$271","v":5.7096670387582254E-4},{"$f":"Baseline_Data_2012!N252/Baseline_Data_2012!N$271","v":1.2085373219173729E-3},{"$f":"Baseline_Data_2012!O252/Baseline_Data_2012!O$271","v":4.1370252082815265E-3},{"$f":"Baseline_Data_2012!P252/Baseline_Data_2012!P$271","v":0},{"$f":"Baseline_Data_2012!Q252/Baseline_Data_2012!Q$271","v":6.9121778897592006E-3},{"$f":"Baseline_Data_2012!R252/Baseline_Data_2012!R$271","v":6.1296255178935914E-3},{"$f":"Baseline_Data_2012!S252/Baseline_Data_2012!S$271","v":2.6508976334380344E-3},{"$f":"Baseline_Data_2012!T252/Baseline_Data_2012!T$271","v":2.1563636889119775E-3},{"$f":"Baseline_Data_2012!U252/Baseline_Data_2012!U$271","v":3.0184823410505678E-3},{"$f":"Baseline_Data_2012!V252/Baseline_Data_2012!V$271","v":1.4149312336230999E-3},{"$f":"Baseline_Data_2012!W252/Baseline_Data_2012!W$271","v":5.2336184023195551E-3},{"$f":"Baseline_Data_2012!X252/Baseline_Data_2012!X$271","v":2.3199971467971589E-3},{"$f":"Baseline_Data_2012!Y252/Baseline_Data_2012!Y$271","v":1.1012912018876006E-2},{"$f":"Baseline_Data_2012!Z252/Baseline_Data_2012!Z$271","v":2.9846479317362723E-3},{"$f":"Baseline_Data_2012!AA252/Baseline_Data_2012!AA$271","v":1.2404015297587993E-2},{"$f":"Baseline_Data_2012!AB252/Baseline_Data_2012!AB$271","v":7.6519689685154556E-3},{"$f":"Baseline_Data_2012!AC252/Baseline_Data_2012!AC$271","v":0},{"$f":"Baseline_Data_2012!AD252/Baseline_Data_2012!AD$271","v":3.3967211568077661E-3},{"$f":"Baseline_Data_2012!AE252/Baseline_Data_2012!AE$271","v":5.3657247967269913E-3},{"$f":"Baseline_Data_2012!AF252/Baseline_Data_2012!AF$271","v":1.6431608650541221E-3},{"$f":"Baseline_Data_2012!AG252/Baseline_Data_2012!AG$271","v":1.574507316502689E-3},{"$f":"Baseline_Data_2012!AH252/Baseline_Data_2012!AH$271","v":2.825309674513055E-3},{"$f":"Baseline_Data_2012!AI252/Baseline_Data_2012!AI$271","v":3.2114172302064254E-3},{"$f":"Baseline_Data_2012!AJ252/Baseline_Data_2012!AJ$271","v":3.1904364458850997E-3},{"$f":"Baseline_Data_2012!AK252/Baseline_Data_2012!AK$271","v":1.6074095883106742E-3},{"$f":"Baseline_Data_2012!AL252/Baseline_Data_2012!AL$271","v":1.8935899235928409E-3},{"$f":"Baseline_Data_2012!AM252/Baseline_Data_2012!AM$271","v":5.7096670387582254E-4},{"$f":"Baseline_Data_2012!AN252/Baseline_Data_2012!AN$271","v":4.2371529476180328E-3},{"$f":"Baseline_Data_2012!AO252/Baseline_Data_2012!AO$271","v":4.3885792145256066E-3},{"$f":"Baseline_Data_2012!AP252/Baseline_Data_2012!AP$271","v":1.0616437155274692E-3},{"$f":"Baseline_Data_2012!AQ252/Baseline_Data_2012!AQ$271","v":1.2085373219173729E-3},{"$f":"Baseline_Data_2012!AR252/Baseline_Data_2012!AR$271","v":3.7910991977013037E-3},{"$f":"Baseline_Data_2012!AS252/Baseline_Data_2012!AS$271","v":3.4519944900906156E-3},{"$f":"Baseline_Data_2012!AT252/Baseline_Data_2012!AT$271","v":8.1096879083611215E-3},{"$f":"Baseline_Data_2012!AU252/Baseline_Data_2012!AU$271","v":1.3823363249977692E-3},{"$f":"Baseline_Data_2012!AV252/Baseline_Data_2012!AV$271","v":3.2605825938998908E-3},261]
[5,"Female 20-24",{"$f":"'III Tool Overview'!$H$8/100","v":1000},0,0,{"$f":"G262*'III Tool Overview'!$H$8","v":573.84079603907389},{"$f":"HLOOKUP('III Tool Overview'!$H$6,Targeting!$I$1:$BC$277,Targeting!BD262,FALSE)","v":5.7384079603907392E-3},{"$f":"Baseline_Data_2012!B253","v":8356.7245670676402},{"$f":"Baseline_Data_2012!B253/Baseline_Data_2012!B$271","v":5.7384079603907392E-3},{"$f":"Baseline_Data_2012!C253/Baseline_Data_2012!C$271","v":2.4695066173866798E-3},{"$f":"Baseline_Data_2012!D253/Baseline_Data_2012!D$271","v":6.3276777746670344E-4},{"$f":"Baseline_Data_2012!E253/Baseline_Data_2012!E$271","v":1.4209267049520116E-3},{"$f":"Baseline_Data_2012!F253/Baseline_Data_2012!F$271","v":7.9016251204900093E-3},{"$f":"Baseline_Data_2012!G253/Baseline_Data_2012!G$271","v":5.4520858596984511E-3},{"$f":"Baseline_Data_2012!H253/Baseline_Data_2012!H$271","v":8.3254221778488874E-3},{"$f":"Baseline_Data_2012!I253/Baseline_Data_2012!I$271","v":5.1448708492534819E-3},{"$f":"Baseline_Data_2012!J253/Baseline_Data_2012!J$271","v":1.6043832253638647E-3},{"$f":"Baseline_Data_2012!K253/Baseline_Data_2012!K$271","v":2.8585144994246977E-3},{"$f":"Baseline_Data_2012!L253/Baseline_Data_2012!L$271","v":1.0645471460813318E-2},{"$f":"Baseline_Data_2012!M253/Baseline_Data_2012!M$271","v":5.352812848835836E-4},{"$f":"Baseline_Data_2012!N253/Baseline_Data_2012!N$271","v":1.0177156395093667E-3},{"$f":"Baseline_Data_2012!O253/Baseline_Data_2012!O$271","v":4.3477161636771107E-3},{"$f":"Baseline_Data_2012!P253/Baseline_Data_2012!P$271","v":0},{"$f":"Baseline_Data_2012!Q253/Baseline_Data_2012!Q$271","v":1.304056417951892E-2},{"$f":"Baseline_Data_2012!R253/Baseline_Data_2012!R$271","v":5.6998838899218951E-3},{"$f":"Baseline_Data_2012!S253/Baseline_Data_2012!S$271","v":2.2447117057338194E-3},{"$f":"Baseline_Data_2012!T253/Baseline_Data_2012!T$271","v":2.0406563690191395E-3},{"$f":"Baseline_Data_2012!U253/Baseline_Data_2012!U$271","v":1.7982447989237425E-3},{"$f":"Baseline_Data_2012!V253/Baseline_Data_2012!V$271","v":1.4209267049520114E-3},{"$f":"Baseline_Data_2012!W253/Baseline_Data_2012!W$271","v":7.5065041084697607E-3},{"$f":"Baseline_Data_2012!X253/Baseline_Data_2012!X$271","v":2.567637291680002E-3},{"$f":"Baseline_Data_2012!Y253/Baseline_Data_2012!Y$271","v":1.1640334292814969E-2},{"$f":"Baseline_Data_2012!Z253/Baseline_Data_2012!Z$271","v":3.0308022811961119E-3},{"$f":"Baseline_Data_2012!AA253/Baseline_Data_2012!AA$271","v":1.3016898059341973E-2},{"$f":"Baseline_Data_2012!AB253/Baseline_Data_2012!AB$271","v":1.5861541520777758E-2},{"$f":"Baseline_Data_2012!AC253/Baseline_Data_2012!AC$271","v":0},{"$f":"Baseline_Data_2012!AD253/Baseline_Data_2012!AD$271","v":3.6212170953324181E-3},{"$f":"Baseline_Data_2012!AE253/Baseline_Data_2012!AE$271","v":7.9016251204900093E-3},{"$f":"Baseline_Data_2012!AF253/Baseline_Data_2012!AF$271","v":4.1036599228804317E-3},{"$f":"Baseline_Data_2012!AG253/Baseline_Data_2012!AG$271","v":1.4587862887864556E-3},{"$f":"Baseline_Data_2012!AH253/Baseline_Data_2012!AH$271","v":2.2111119191841298E-3},{"$f":"Baseline_Data_2012!AI253/Baseline_Data_2012!AI$271","v":3.5059554968821624E-3},{"$f":"Baseline_Data_2012!AJ253/Baseline_Data_2012!AJ$271","v":2.2583988324804639E-3},{"$f":"Baseline_Data_2012!AK253/Baseline_Data_2012!AK$271","v":1.5892809087432605E-3},{"$f":"Baseline_Data_2012!AL253/Baseline_Data_2012!AL$271","v":2.0852181981508384E-3},{"$f":"Baseline_Data_2012!AM253/Baseline_Data_2012!AM$271","v":5.352812848835836E-4},{"$f":"Baseline_Data_2012!AN253/Baseline_Data_2012!AN$271","v":3.1654608671900526E-3},{"$f":"Baseline_Data_2012!AO253/Baseline_Data_2012!AO$271","v":4.9027601296909914E-3},{"$f":"Baseline_Data_2012!AP253/Baseline_Data_2012!AP$271","v":6.3276777746670344E-4},{"$f":"Baseline_Data_2012!AQ253/Baseline_Data_2012!AQ$271","v":1.0177156395093667E-3},{"$f":"Baseline_Data_2012!AR253/Baseline_Data_2012!AR$271","v":3.4777220462784138E-3},{"$f":"Baseline_Data_2012!AS253/Baseline_Data_2012!AS$271","v":3.5326972270384354E-3},{"$f":"Baseline_Data_2012!AT253/Baseline_Data_2012!AT$271","v":1.0691228432244567E-2},{"$f":"Baseline_Data_2012!AU253/Baseline_Data_2012!AU$271","v":1.4324209744542103E-3},{"$f":"Baseline_Data_2012!AV253/Baseline_Data_2012!AV$271","v":2.7683339751532316E-3},262]
[5,"Female 25-29",{"$f":"'III Tool Overview'!$H$8/100","v":1000},0,0,{"$f":"G263*'III Tool Overview'!$H$8","v":985.2702944757076},{"$f":"HLOOKUP('III Tool Overview'!$H$6,Targeting!$I$1:$BC$277,Targeting!BD263,FALSE)","v":9.852702944757076E-3},{"$f":"Baseline_Data_2012!B254","v":14348.287071744669},{"$f":"Baseline_Data_2012!B254/Baseline_Data_2012!B$271","v":9.852702944757076E-3},{"$f":"Baseline_Data_2012!C254/Baseline_Data_2012!C$271","v":4.6839036979302575E-3},{"$f":"Baseline_Data_2012!D254/Baseline_Data_2012!D$271","v":1.6017686666543315E-3},{"$f":"Baseline_Data_2012!E254/Baseline_Data_2012!E$271","v":2.9289562123526879E-3},{"$f":"Baseline_Data_2012!F254/Baseline_Data_2012!F$271","v":8.7022840272387211E-3},{"$f":"Baseline_Data_2012!G254/Baseline_Data_2012!G$271","v":7.7360080966764871E-3},{"$f":"Baseline_Data_2012!H254/Baseline_Data_2012!H$271","v":1.8758468367975907E-2},{"$f":"Baseline_Data_2012!I254/Baseline_Data_2012!I$271","v":8.2135250602349032E-3},{"$f":"Baseline_Data_2012!J254/Baseline_Data_2012!J$271","v":3.6261235087043367E-3},{"$f":"Baseline_Data_2012!K254/Baseline_Data_2012!K$271","v":5.0541114559871942E-3},{"$f":"Baseline_Data_2012!L254/Baseline_Data_2012!L$271","v":1.7940335869076191E-2},{"$f":"Baseline_Data_2012!M254/Baseline_Data_2012!M$271","v":1.7600958083031203E-3},{"$f":"Baseline_Data_2012!N254/Baseline_Data_2012!N$271","v":2.0168167889487321E-3},{"$f":"Baseline_Data_2012!O254/Baseline_Data_2012!O$271","v":7.251609124863282E-3},{"$f":"Baseline_Data_2012!P254/Baseline_Data_2012!P$271","v":0},{"$f":"Baseline_Data_2012!Q254/Baseline_Data_2012!Q$271","v":2.5844875273894053E-2},{"$f":"Baseline_Data_2012!R254/Baseline_Data_2012!R$271","v":1.552869476873988E-2},{"$f":"Baseline_Data_2012!S254/Baseline_Data_2012!S$271","v":4.3683430694070342E-3},{"$f":"Baseline_Data_2012!T254/Baseline_Data_2012!T$271","v":3.4587756939396235E-3},{"$f":"Baseline_Data_2012!U254/Baseline_Data_2012!U$271","v":3.6578739705374909E-3},{"$f":"Baseline_Data_2012!V254/Baseline_Data_2012!V$271","v":2.9289562123526879E-3},{"$f":"Baseline_Data_2012!W254/Baseline_Data_2012!W$271","v":9.1313201793763628E-3},{"$f":"Baseline_Data_2012!X254/Baseline_Data_2012!X$271","v":5.265287731595074E-3},{"$f":"Baseline_Data_2012!Y254/Baseline_Data_2012!Y$271","v":1.6423131265089864E-2},{"$f":"Baseline_Data_2012!Z254/Baseline_Data_2012!Z$271","v":4.5890344068552072E-3},{"$f":"Baseline_Data_2012!AA254/Baseline_Data_2012!AA$271","v":1.8713153165986322E-2},{"$f":"Baseline_Data_2012!AB254/Baseline_Data_2012!AB$271","v":2.6293000162159432E-2},{"$f":"Baseline_Data_2012!AC254/Baseline_Data_2012!AC$271","v":0},{"$f":"Baseline_Data_2012!AD254/Baseline_Data_2012!AD$271","v":8.0237042113257707E-3},{"$f":"Baseline_Data_2012!AE254/Baseline_Data_2012!AE$271","v":8.7022840272387211E-3},{"$f":"Baseline_Data_2012!AF254/Baseline_Data_2012!AF$271","v":7.3797937273153537E-3},{"$f":"Baseline_Data_2012!AG254/Baseline_Data_2012!AG$271","v":3.6815616621985736E-3},{"$f":"Baseline_Data_2012!AH254/Baseline_Data_2012!AH$271","v":3.8555743626937661E-3},{"$f":"Baseline_Data_2012!AI254/Baseline_Data_2012!AI$271","v":7.0070609407024906E-3},{"$f":"Baseline_Data_2012!AJ254/Baseline_Data_2012!AJ$271","v":7.0723800573998493E-3},{"$f":"Baseline_Data_2012!AK254/Baseline_Data_2012!AK$271","v":2.7960012276323017E-3},{"$f":"Baseline_Data_2012!AL254/Baseline_Data_2012!AL$271","v":3.5946855146272174E-3},{"$f":"Baseline_Data_2012!AM254/Baseline_Data_2012!AM$271","v":1.7600958083031205E-3},{"$f":"Baseline_Data_2012!AN254/Baseline_Data_2012!AN$271","v":7.6561045145233037E-3},{"$f":"Baseline_Data_2012!AO254/Baseline_Data_2012!AO$271","v":7.2565114806048504E-3},{"$f":"Baseline_Data_2012!AP254/Baseline_Data_2012!AP$271","v":1.6017686666543315E-3},{"$f":"Baseline_Data_2012!AQ254/Baseline_Data_2012!AQ$271","v":2.0168167889487321E-3},{"$f":"Baseline_Data_2012!AR254/Baseline_Data_2012!AR$271","v":6.4088174547617376E-3},{"$f":"Baseline_Data_2012!AS254/Baseline_Data_2012!AS$271","v":6.346731662915924E-3},{"$f":"Baseline_Data_2012!AT254/Baseline_Data_2012!AT$271","v":9.4317153810700508E-3},{"$f":"Baseline_Data_2012!AU254/Baseline_Data_2012!AU$271","v":1.8821352769220886E-3},{"$f":"Baseline_Data_2012!AV254/Baseline_Data_2012!AV$271","v":5.7913106920319604E-3},263]
[5,"Female 30-34",{"$f":"'III Tool Overview'!$H$8/100","v":1000},0,0,{"$f":"G264*'III Tool Overview'!$H$8","v":1039.5840684002437},{"$f":"HLOOKUP('III Tool Overview'!$H$6,Targeting!$I$1:$BC$277,Targeting!BD264,FALSE)","v":1.0395840684002436E-2},{"$f":"Baseline_Data_2012!B255","v":15139.247303255332},{"$f":"Baseline_Data_2012!B255/Baseline_Data_2012!B$271","v":1.0395840684002436E-2},{"$f":"Baseline_Data_2012!C255/Baseline_Data_2012!C$271","v":5.4297814582910889E-3},{"$f":"Baseline_Data_2012!D255/Baseline_Data_2012!D$271","v":2.4439356975756812E-3},{"$f":"Baseline_Data_2012!E255/Baseline_Data_2012!E$271","v":3.4640539819171213E-3},{"$f":"Baseline_Data_2012!F255/Baseline_Data_2012!F$271","v":1.0188777245556857E-2},{"$f":"Baseline_Data_2012!G255/Baseline_Data_2012!G$271","v":9.5056429909122515E-3},{"$f":"Baseline_Data_2012!H255/Baseline_Data_2012!H$271","v":1.9256346473227253E-2},{"$f":"Baseline_Data_2012!I255/Baseline_Data_2012!I$271","v":9.0697486214274189E-3},{"$f":"Baseline_Data_2012!J255/Baseline_Data_2012!J$271","v":3.8299771301476809E-3},{"$f":"Baseline_Data_2012!K255/Baseline_Data_2012!K$271","v":6.1537221916817056E-3},{"$f":"Baseline_Data_2012!L255/Baseline_Data_2012!L$271","v":1.71114976992679E-2},{"$f":"Baseline_Data_2012!M255/Baseline_Data_2012!M$271","v":1.257211291645086E-3},{"$f":"Baseline_Data_2012!N255/Baseline_Data_2012!N$271","v":3.9589366597882515E-3},{"$f":"Baseline_Data_2012!O255/Baseline_Data_2012!O$271","v":7.5198446664717453E-3},{"$f":"Baseline_Data_2012!P255/Baseline_Data_2012!P$271","v":0},{"$f":"Baseline_Data_2012!Q255/Baseline_Data_2012!Q$271","v":2.3837295225977995E-2},{"$f":"Baseline_Data_2012!R255/Baseline_Data_2012!R$271","v":1.8802200912347758E-2},{"$f":"Baseline_Data_2012!S255/Baseline_Data_2012!S$271","v":4.9039253614416127E-3},{"$f":"Baseline_Data_2012!T255/Baseline_Data_2012!T$271","v":3.4340701532686265E-3},{"$f":"Baseline_Data_2012!U255/Baseline_Data_2012!U$271","v":4.8268852394721534E-3},{"$f":"Baseline_Data_2012!V255/Baseline_Data_2012!V$271","v":3.4640539819171213E-3},{"$f":"Baseline_Data_2012!W255/Baseline_Data_2012!W$271","v":8.9065492211147911E-3},{"$f":"Baseline_Data_2012!X255/Baseline_Data_2012!X$271","v":5.8316122841212889E-3},{"$f":"Baseline_Data_2012!Y255/Baseline_Data_2012!Y$271","v":2.1037895422222556E-2},{"$f":"Baseline_Data_2012!Z255/Baseline_Data_2012!Z$271","v":5.5827229595207042E-3},{"$f":"Baseline_Data_2012!AA255/Baseline_Data_2012!AA$271","v":2.3890960184359111E-2},{"$f":"Baseline_Data_2012!AB255/Baseline_Data_2012!AB$271","v":2.3666810107849909E-2},{"$f":"Baseline_Data_2012!AC255/Baseline_Data_2012!AC$271","v":0},{"$f":"Baseline_Data_2012!AD255/Baseline_Data_2012!AD$271","v":1.0832000685289792E-2},{"$f":"Baseline_Data_2012!AE255/Baseline_Data_2012!AE$271","v":1.0188777245556857E-2},{"$f":"Baseline_Data_2012!AF255/Baseline_Data_2012!AF$271","v":6.6092662094318425E-3},{"$f":"Baseline_Data_2012!AG255/Baseline_Data_2012!AG$271","v":3.9615909608892936E-3},{"$f":"Baseline_Data_2012!AH255/Baseline_Data_2012!AH$271","v":5.5341917723019359E-3},{"$f":"Baseline_Data_2012!AI255/Baseline_Data_2012!AI$271","v":9.617972182938769E-3},{"$f":"Baseline_Data_2012!AJ255/Baseline_Data_2012!AJ$271","v":6.2514788007373666E-3},{"$f":"Baseline_Data_2012!AK255/Baseline_Data_2012!AK$271","v":3.5056462092648657E-3},{"$f":"Baseline_Data_2012!AL255/Baseline_Data_2012!AL$271","v":4.4119286794024326E-3},{"$f":"Baseline_Data_2012!AM255/Baseline_Data_2012!AM$271","v":1.257211291645086E-3},{"$f":"Baseline_Data_2012!AN255/Baseline_Data_2012!AN$271","v":8.1455358533512774E-3},{"$f":"Baseline_Data_2012!AO255/Baseline_Data_2012!AO$271","v":8.7290006715597043E-3},{"$f":"Baseline_Data_2012!AP255/Baseline_Data_2012!AP$271","v":2.4439356975756812E-3},{"$f":"Baseline_Data_2012!AQ255/Baseline_Data_2012!AQ$271","v":3.9589366597882515E-3},{"$f":"Baseline_Data_2012!AR255/Baseline_Data_2012!AR$271","v":7.4141221535478927E-3},{"$f":"Baseline_Data_2012!AS255/Baseline_Data_2012!AS$271","v":7.6918963698923244E-3},{"$f":"Baseline_Data_2012!AT255/Baseline_Data_2012!AT$271","v":9.676695001357585E-3},{"$f":"Baseline_Data_2012!AU255/Baseline_Data_2012!AU$271","v":2.7526228424985546E-3},{"$f":"Baseline_Data_2012!AV255/Baseline_Data_2012!AV$271","v":7.7535679777937048E-3},264]
[5,"Female 35-39",{"$f":"'III Tool Overview'!$H$8/100","v":1000},0,0,{"$f":"G265*'III Tool Overview'!$H$8","v":1223.9655117084537},{"$f":"HLOOKUP('III Tool Overview'!$H$6,Targeting!$I$1:$BC$277,Targeting!BD265,FALSE)","v":1.2239655117084537E-2},{"$f":"Baseline_Data_2012!B256","v":17824.356043589978},{"$f":"Baseline_Data_2012!B256/Baseline_Data_2012!B$271","v":1.2239655117084537E-2},{"$f":"Baseline_Data_2012!C256/Baseline_Data_2012!C$271","v":7.3007279849423906E-3},{"$f":"Baseline_Data_2012!D256/Baseline_Data_2012!D$271","v":3.4439223604598832E-3},{"$f":"Baseline_Data_2012!E256/Baseline_Data_2012!E$271","v":3.5877440492060961E-3},{"$f":"Baseline_Data_2012!F256/Baseline_Data_2012!F$271","v":1.2789703190634258E-2},{"$f":"Baseline_Data_2012!G256/Baseline_Data_2012!G$271","v":1.2504472107044759E-2},{"$f":"Baseline_Data_2012!H256/Baseline_Data_2012!H$271","v":2.0459782498790959E-2},{"$f":"Baseline_Data_2012!I256/Baseline_Data_2012!I$271","v":1.1478624330946182E-2},{"$f":"Baseline_Data_2012!J256/Baseline_Data_2012!J$271","v":4.8478694267909354E-3},{"$f":"Baseline_Data_2012!K256/Baseline_Data_2012!K$271","v":8.0472447841505208E-3},{"$f":"Baseline_Data_2012!L256/Baseline_Data_2012!L$271","v":1.8563535355063294E-2},{"$f":"Baseline_Data_2012!M256/Baseline_Data_2012!M$271","v":1.8020654997423708E-3},{"$f":"Baseline_Data_2012!N256/Baseline_Data_2012!N$271","v":5.701440483926748E-3},{"$f":"Baseline_Data_2012!O256/Baseline_Data_2012!O$271","v":9.5806197978358064E-3},{"$f":"Baseline_Data_2012!P256/Baseline_Data_2012!P$271","v":0},{"$f":"Baseline_Data_2012!Q256/Baseline_Data_2012!Q$271","v":2.1706898550421429E-2},{"$f":"Baseline_Data_2012!R256/Baseline_Data_2012!R$271","v":2.3226333546935804E-2},{"$f":"Baseline_Data_2012!S256/Baseline_Data_2012!S$271","v":7.4850227462433597E-3},{"$f":"Baseline_Data_2012!T256/Baseline_Data_2012!T$271","v":4.9134852171056776E-3},{"$f":"Baseline_Data_2012!U256/Baseline_Data_2012!U$271","v":6.7701304605618517E-3},{"$f":"Baseline_Data_2012!V256/Baseline_Data_2012!V$271","v":3.5877440492060957E-3},{"$f":"Baseline_Data_2012!W256/Baseline_Data_2012!W$271","v":1.016386390861297E-2},{"$f":"Baseline_Data_2012!X256/Baseline_Data_2012!X$271","v":7.6842964260594188E-3},{"$f":"Baseline_Data_2012!Y256/Baseline_Data_2012!Y$271","v":3.114201531108866E-2},{"$f":"Baseline_Data_2012!Z256/Baseline_Data_2012!Z$271","v":9.944458069244792E-3},{"$f":"Baseline_Data_2012!AA256/Baseline_Data_2012!AA$271","v":3.5938667655086562E-2},{"$f":"Baseline_Data_2012!AB256/Baseline_Data_2012!AB$271","v":2.3904775747136217E-2},{"$f":"Baseline_Data_2012!AC256/Baseline_Data_2012!AC$271","v":0},{"$f":"Baseline_Data_2012!AD256/Baseline_Data_2012!AD$271","v":1.355480012929389E-2},{"$f":"Baseline_Data_2012!AE256/Baseline_Data_2012!AE$271","v":1.2789703190634258E-2},{"$f":"Baseline_Data_2012!AF256/Baseline_Data_2012!AF$271","v":6.2161645486871224E-3},{"$f":"Baseline_Data_2012!AG256/Baseline_Data_2012!AG$271","v":4.8255255632768581E-3},{"$f":"Baseline_Data_2012!AH256/Baseline_Data_2012!AH$271","v":8.0078080013383651E-3},{"$f":"Baseline_Data_2012!AI256/Baseline_Data_2012!AI$271","v":1.1011398874514779E-2},{"$f":"Baseline_Data_2012!AJ256/Baseline_Data_2012!AJ$271","v":7.1278808257033083E-3},{"$f":"Baseline_Data_2012!AK256/Baseline_Data_2012!AK$271","v":3.9670533610056333E-3},{"$f":"Baseline_Data_2012!AL256/Baseline_Data_2012!AL$271","v":5.8061815515949976E-3},{"$f":"Baseline_Data_2012!AM256/Baseline_Data_2012!AM$271","v":1.802065499742371E-3},{"$f":"Baseline_Data_2012!AN256/Baseline_Data_2012!AN$271","v":1.0498084524950416E-2},{"$f":"Baseline_Data_2012!AO256/Baseline_Data_2012!AO$271","v":1.2014711240356806E-2},{"$f":"Baseline_Data_2012!AP256/Baseline_Data_2012!AP$271","v":3.4439223604598832E-3},{"$f":"Baseline_Data_2012!AQ256/Baseline_Data_2012!AQ$271","v":5.701440483926748E-3},{"$f":"Baseline_Data_2012!AR256/Baseline_Data_2012!AR$271","v":1.1096885190203519E-2},{"$f":"Baseline_Data_2012!AS256/Baseline_Data_2012!AS$271","v":1.0102996756582671E-2},{"$f":"Baseline_Data_2012!AT256/Baseline_Data_2012!AT$271","v":1.3738730579787434E-2},{"$f":"Baseline_Data_2012!AU256/Baseline_Data_2012!AU$271","v":3.4144297276400841E-3},{"$f":"Baseline_Data_2012!AV256/Baseline_Data_2012!AV$271","v":1.1288675239346534E-2},265]
[5,"Female 40-44",{"$f":"'III Tool Overview'!$H$8/100","v":1000},0,0,{"$f":"G266*'III Tool Overview'!$H$8","v":1544.9925250085814},{"$f":"HLOOKUP('III Tool Overview'!$H$6,Targeting!$I$1:$BC$277,Targeting!BD266,FALSE)","v":1.5449925250085815E-2},{"$f":"Baseline_Data_2012!B257","v":22499.405895840035},{"$f":"Baseline_Data_2012!B257/Baseline_Data_2012!B$271","v":1.5449925250085815E-2},{"$f":"Baseline_Data_2012!C257/Baseline_Data_2012!C$271","v":1.0233355278433075E-2},{"$f":"Baseline_Data_2012!D257/Baseline_Data_2012!D$271","v":4.5623095187535571E-3},{"$f":"Baseline_Data_2012!E257/Baseline_Data_2012!E$271","v":5.6616720438948526E-3},{"$f":"Baseline_Data_2012!F257/Baseline_Data_2012!F$271","v":1.5666167567689231E-2},{"$f":"Baseline_Data_2012!G257/Baseline_Data_2012!G$271","v":1.7405855257296852E-2},{"$f":"Baseline_Data_2012!H257/Baseline_Data_2012!H$271","v":2.3958408569727939E-2},{"$f":"Baseline_Data_2012!I257/Baseline_Data_2012!I$271","v":1.5391071722496836E-2},{"$f":"Baseline_Data_2012!J257/Baseline_Data_2012!J$271","v":6.6608397740702853E-3},{"$f":"Baseline_Data_2012!K257/Baseline_Data_2012!K$271","v":1.1064961578206965E-2},{"$f":"Baseline_Data_2012!L257/Baseline_Data_2012!L$271","v":2.1849077701135717E-2},{"$f":"Baseline_Data_2012!M257/Baseline_Data_2012!M$271","v":1.8020654997423708E-3},{"$f":"Baseline_Data_2012!N257/Baseline_Data_2012!N$271","v":6.3438563131015925E-3},{"$f":"Baseline_Data_2012!O257/Baseline_Data_2012!O$271","v":1.2280296263961826E-2},{"$f":"Baseline_Data_2012!P257/Baseline_Data_2012!P$271","v":0},{"$f":"Baseline_Data_2012!Q257/Baseline_Data_2012!Q$271","v":2.450401864360208E-2},{"$f":"Baseline_Data_2012!R257/Baseline_Data_2012!R$271","v":2.7551944908265388E-2},{"$f":"Baseline_Data_2012!S257/Baseline_Data_2012!S$271","v":9.4282498053642316E-3},{"$f":"Baseline_Data_2012!T257/Baseline_Data_2012!T$271","v":7.9943732451286977E-3},{"$f":"Baseline_Data_2012!U257/Baseline_Data_2012!U$271","v":1.0540322872731028E-2},{"$f":"Baseline_Data_2012!V257/Baseline_Data_2012!V$271","v":5.6616720438948517E-3},{"$f":"Baseline_Data_2012!W257/Baseline_Data_2012!W$271","v":1.2232882267424227E-2},{"$f":"Baseline_Data_2012!X257/Baseline_Data_2012!X$271","v":1.0185395048674047E-2},{"$f":"Baseline_Data_2012!Y257/Baseline_Data_2012!Y$271","v":4.273168098241751E-2},{"$f":"Baseline_Data_2012!Z257/Baseline_Data_2012!Z$271","v":1.4081508008207958E-2},{"$f":"Baseline_Data_2012!AA257/Baseline_Data_2012!AA$271","v":5.0558961116313937E-2},{"$f":"Baseline_Data_2012!AB257/Baseline_Data_2012!AB$271","v":2.6505139853273803E-2},{"$f":"Baseline_Data_2012!AC257/Baseline_Data_2012!AC$271","v":0},{"$f":"Baseline_Data_2012!AD257/Baseline_Data_2012!AD$271","v":1.7152983436342813E-2},{"$f":"Baseline_Data_2012!AE257/Baseline_Data_2012!AE$271","v":1.5666167567689231E-2},{"$f":"Baseline_Data_2012!AF257/Baseline_Data_2012!AF$271","v":7.1944695954075542E-3},{"$f":"Baseline_Data_2012!AG257/Baseline_Data_2012!AG$271","v":6.215631092514412E-3},{"$f":"Baseline_Data_2012!AH257/Baseline_Data_2012!AH$271","v":1.1504174875162157E-2},{"$f":"Baseline_Data_2012!AI257/Baseline_Data_2012!AI$271","v":1.5545504293432629E-2},{"$f":"Baseline_Data_2012!AJ257/Baseline_Data_2012!AJ$271","v":9.9111485766922199E-3},{"$f":"Baseline_Data_2012!AK257/Baseline_Data_2012!AK$271","v":6.1641906071010612E-3},{"$f":"Baseline_Data_2012!AL257/Baseline_Data_2012!AL$271","v":8.2445231461792997E-3},{"$f":"Baseline_Data_2012!AM257/Baseline_Data_2012!AM$271","v":1.802065499742371E-3},{"$f":"Baseline_Data_2012!AN257/Baseline_Data_2012!AN$271","v":1.4231293580362377E-2},{"$f":"Baseline_Data_2012!AO257/Baseline_Data_2012!AO$271","v":1.7663333776107494E-2},{"$f":"Baseline_Data_2012!AP257/Baseline_Data_2012!AP$271","v":4.5623095187535571E-3},{"$f":"Baseline_Data_2012!AQ257/Baseline_Data_2012!AQ$271","v":6.3438563131015925E-3},{"$f":"Baseline_Data_2012!AR257/Baseline_Data_2012!AR$271","v":1.5477742473988212E-2},{"$f":"Baseline_Data_2012!AS257/Baseline_Data_2012!AS$271","v":1.3376446584024551E-2},{"$f":"Baseline_Data_2012!AT257/Baseline_Data_2012!AT$271","v":2.1573757443979311E-2},{"$f":"Baseline_Data_2012!AU257/Baseline_Data_2012!AU$271","v":5.4630875642241346E-3},{"$f":"Baseline_Data_2012!AV257/Baseline_Data_2012!AV$271","v":1.5667312907941554E-2},266]
[5,"Female 45-49",{"$f":"'III Tool Overview'!$H$8/100","v":1000},0,0,{"$f":"G267*'III Tool Overview'!$H$8","v":1774.9961029983504},{"$f":"HLOOKUP('III Tool Overview'!$H$6,Targeting!$I$1:$BC$277,Targeting!BD267,FALSE)","v":1.7749961029983503E-2},{"$f":"Baseline_Data_2012!B258","v":25848.900326991778},{"$f":"Baseline_Data_2012!B258/Baseline_Data_2012!B$271","v":1.7749961029983503E-2},{"$f":"Baseline_Data_2012!C258/Baseline_Data_2012!C$271","v":1.2933167846206108E-2},{"$f":"Baseline_Data_2012!D258/Baseline_Data_2012!D$271","v":6.4455663994147112E-3},{"$f":"Baseline_Data_2012!E258/Baseline_Data_2012!E$271","v":7.8430771486159481E-3},{"$f":"Baseline_Data_2012!F258/Baseline_Data_2012!F$271","v":1.6168847488018237E-2},{"$f":"Baseline_Data_2012!G258/Baseline_Data_2012!G$271","v":1.8891808101669353E-2},{"$f":"Baseline_Data_2012!H258/Baseline_Data_2012!H$271","v":2.6419354082388533E-2},{"$f":"Baseline_Data_2012!I258/Baseline_Data_2012!I$271","v":1.8264424397851274E-2},{"$f":"Baseline_Data_2012!J258/Baseline_Data_2012!J$271","v":8.6361883270982542E-3},{"$f":"Baseline_Data_2012!K258/Baseline_Data_2012!K$271","v":1.3379221292268224E-2},{"$f":"Baseline_Data_2012!L258/Baseline_Data_2012!L$271","v":2.4030560010004892E-2},{"$f":"Baseline_Data_2012!M258/Baseline_Data_2012!M$271","v":3.6558571787955506E-3},{"$f":"Baseline_Data_2012!N258/Baseline_Data_2012!N$271","v":6.2657281357156383E-3},{"$f":"Baseline_Data_2012!O258/Baseline_Data_2012!O$271","v":1.5584578477189611E-2},{"$f":"Baseline_Data_2012!P258/Baseline_Data_2012!P$271","v":0},{"$f":"Baseline_Data_2012!Q258/Baseline_Data_2012!Q$271","v":2.7478966846804974E-2},{"$f":"Baseline_Data_2012!R258/Baseline_Data_2012!R$271","v":3.0242849950701225E-2},{"$f":"Baseline_Data_2012!S258/Baseline_Data_2012!S$271","v":1.2560483329851579E-2},{"$f":"Baseline_Data_2012!T258/Baseline_Data_2012!T$271","v":9.6986006970135041E-3},{"$f":"Baseline_Data_2012!U258/Baseline_Data_2012!U$271","v":1.4255462244705905E-2},{"$f":"Baseline_Data_2012!V258/Baseline_Data_2012!V$271","v":7.8430771486159481E-3},{"$f":"Baseline_Data_2012!W258/Baseline_Data_2012!W$271","v":1.5570460927799727E-2},{"$f":"Baseline_Data_2012!X258/Baseline_Data_2012!X$271","v":1.1195642314073403E-2},{"$f":"Baseline_Data_2012!Y258/Baseline_Data_2012!Y$271","v":5.3976541053325527E-2},{"$f":"Baseline_Data_2012!Z258/Baseline_Data_2012!Z$271","v":1.6973620325973885E-2},{"$f":"Baseline_Data_2012!AA258/Baseline_Data_2012!AA$271","v":5.83425087201003E-2},{"$f":"Baseline_Data_2012!AB258/Baseline_Data_2012!AB$271","v":2.8715010133094444E-2},{"$f":"Baseline_Data_2012!AC258/Baseline_Data_2012!AC$271","v":0},{"$f":"Baseline_Data_2012!AD258/Baseline_Data_2012!AD$271","v":1.797349288399594E-2},{"$f":"Baseline_Data_2012!AE258/Baseline_Data_2012!AE$271","v":1.6168847488018237E-2},{"$f":"Baseline_Data_2012!AF258/Baseline_Data_2012!AF$271","v":7.8265849625143956E-3},{"$f":"Baseline_Data_2012!AG258/Baseline_Data_2012!AG$271","v":8.2811728108324219E-3},{"$f":"Baseline_Data_2012!AH258/Baseline_Data_2012!AH$271","v":1.3787235921165991E-2},{"$f":"Baseline_Data_2012!AI258/Baseline_Data_2012!AI$271","v":1.5598896050122971E-2},{"$f":"Baseline_Data_2012!AJ258/Baseline_Data_2012!AJ$271","v":1.0028673969299715E-2},{"$f":"Baseline_Data_2012!AK258/Baseline_Data_2012!AK$271","v":8.6670514451330349E-3},{"$f":"Baseline_Data_2012!AL258/Baseline_Data_2012!AL$271","v":9.6701378798627422E-3},{"$f":"Baseline_Data_2012!AM258/Baseline_Data_2012!AM$271","v":3.6558571787955506E-3},{"$f":"Baseline_Data_2012!AN258/Baseline_Data_2012!AN$271","v":1.760781363912255E-2},{"$f":"Baseline_Data_2012!AO258/Baseline_Data_2012!AO$271","v":2.1812161461414306E-2},{"$f":"Baseline_Data_2012!AP258/Baseline_Data_2012!AP$271","v":6.4455663994147112E-3},{"$f":"Baseline_Data_2012!AQ258/Baseline_Data_2012!AQ$271","v":6.2657281357156383E-3},{"$f":"Baseline_Data_2012!AR258/Baseline_Data_2012!AR$271","v":2.0419177222214736E-2},{"$f":"Baseline_Data_2012!AS258/Baseline_Data_2012!AS$271","v":1.6487605742882192E-2},{"$f":"Baseline_Data_2012!AT258/Baseline_Data_2012!AT$271","v":2.3038143414337433E-2},{"$f":"Baseline_Data_2012!AU258/Baseline_Data_2012!AU$271","v":7.1571043943760753E-3},{"$f":"Baseline_Data_2012!AV258/Baseline_Data_2012!AV$271","v":1.8411261180448845E-2},267]
[5,"Female 50-54",{"$f":"'III Tool Overview'!$H$8/100","v":1000},0,0,{"$f":"G268*'III Tool Overview'!$H$8","v":1665.8357261067063},{"$f":"HLOOKUP('III Tool Overview'!$H$6,Targeting!$I$1:$BC$277,Targeting!BD268,FALSE)","v":1.6658357261067062E-2},{"$f":"Baseline_Data_2012!B259","v":24259.220385068213},{"$f":"Baseline_Data_2012!B259/Baseline_Data_2012!B$271","v":1.6658357261067062E-2},{"$f":"Baseline_Data_2012!C259/Baseline_Data_2012!C$271","v":1.2769826078189071E-2},{"$f":"Baseline_Data_2012!D259/Baseline_Data_2012!D$271","v":5.0234786837845312E-3},{"$f":"Baseline_Data_2012!E259/Baseline_Data_2012!E$271","v":7.5910907342025833E-3},{"$f":"Baseline_Data_2012!F259/Baseline_Data_2012!F$271","v":1.5684176562967847E-2},{"$f":"Baseline_Data_2012!G259/Baseline_Data_2012!G$271","v":1.6837006129170575E-2},{"$f":"Baseline_Data_2012!H259/Baseline_Data_2012!H$271","v":2.4572274192808871E-2},{"$f":"Baseline_Data_2012!I259/Baseline_Data_2012!I$271","v":1.7328773183084158E-2},{"$f":"Baseline_Data_2012!J259/Baseline_Data_2012!J$271","v":8.0696543728406081E-3},{"$f":"Baseline_Data_2012!K259/Baseline_Data_2012!K$271","v":1.2531323168693131E-2},{"$f":"Baseline_Data_2012!L259/Baseline_Data_2012!L$271","v":2.217887045242339E-2},{"$f":"Baseline_Data_2012!M259/Baseline_Data_2012!M$271","v":2.6247179745198823E-3},{"$f":"Baseline_Data_2012!N259/Baseline_Data_2012!N$271","v":4.260695132286634E-3},{"$f":"Baseline_Data_2012!O259/Baseline_Data_2012!O$271","v":1.5336301090231397E-2},{"$f":"Baseline_Data_2012!P259/Baseline_Data_2012!P$271","v":0},{"$f":"Baseline_Data_2012!Q259/Baseline_Data_2012!Q$271","v":2.657921306509543E-2},{"$f":"Baseline_Data_2012!R259/Baseline_Data_2012!R$271","v":2.7283398303570815E-2},{"$f":"Baseline_Data_2012!S259/Baseline_Data_2012!S$271","v":1.1774283181038216E-2},{"$f":"Baseline_Data_2012!T259/Baseline_Data_2012!T$271","v":9.4775499688764444E-3},{"$f":"Baseline_Data_2012!U259/Baseline_Data_2012!U$271","v":1.2905832683076943E-2},{"$f":"Baseline_Data_2012!V259/Baseline_Data_2012!V$271","v":7.5910907342025833E-3},{"$f":"Baseline_Data_2012!W259/Baseline_Data_2012!W$271","v":1.6544596727520802E-2},{"$f":"Baseline_Data_2012!X259/Baseline_Data_2012!X$271","v":1.0562249706090657E-2},{"$f":"Baseline_Data_2012!Y259/Baseline_Data_2012!Y$271","v":5.1699507380927302E-2},{"$f":"Baseline_Data_2012!Z259/Baseline_Data_2012!Z$271","v":1.6731140035602828E-2},{"$f":"Baseline_Data_2012!AA259/Baseline_Data_2012!AA$271","v":5.3825049231064528E-2},{"$f":"Baseline_Data_2012!AB259/Baseline_Data_2012!AB$271","v":2.7130467178239977E-2},{"$f":"Baseline_Data_2012!AC259/Baseline_Data_2012!AC$271","v":0},{"$f":"Baseline_Data_2012!AD259/Baseline_Data_2012!AD$271","v":1.5730011247263212E-2},{"$f":"Baseline_Data_2012!AE259/Baseline_Data_2012!AE$271","v":1.5684176562967847E-2},{"$f":"Baseline_Data_2012!AF259/Baseline_Data_2012!AF$271","v":7.5554218385165076E-3},{"$f":"Baseline_Data_2012!AG259/Baseline_Data_2012!AG$271","v":7.5995189865814758E-3},{"$f":"Baseline_Data_2012!AH259/Baseline_Data_2012!AH$271","v":1.1763152349760771E-2},{"$f":"Baseline_Data_2012!AI259/Baseline_Data_2012!AI$271","v":1.3976610860910184E-2},{"$f":"Baseline_Data_2012!AJ259/Baseline_Data_2012!AJ$271","v":8.9693070007117182E-3},{"$f":"Baseline_Data_2012!AK259/Baseline_Data_2012!AK$271","v":8.8734098128742962E-3},{"$f":"Baseline_Data_2012!AL259/Baseline_Data_2012!AL$271","v":8.9216957014898023E-3},{"$f":"Baseline_Data_2012!AM259/Baseline_Data_2012!AM$271","v":2.6247179745198827E-3},{"$f":"Baseline_Data_2012!AN259/Baseline_Data_2012!AN$271","v":1.6721558030343621E-2},{"$f":"Baseline_Data_2012!AO259/Baseline_Data_2012!AO$271","v":2.1504113553757177E-2},{"$f":"Baseline_Data_2012!AP259/Baseline_Data_2012!AP$271","v":5.0234786837845312E-3},{"$f":"Baseline_Data_2012!AQ259/Baseline_Data_2012!AQ$271","v":4.260695132286634E-3},{"$f":"Baseline_Data_2012!AR259/Baseline_Data_2012!AR$271","v":2.03388658073781E-2},{"$f":"Baseline_Data_2012!AS259/Baseline_Data_2012!AS$271","v":1.5673825119322266E-2},{"$f":"Baseline_Data_2012!AT259/Baseline_Data_2012!AT$271","v":2.093753965406088E-2},{"$f":"Baseline_Data_2012!AU259/Baseline_Data_2012!AU$271","v":6.1045890422619462E-3},{"$f":"Baseline_Data_2012!AV259/Baseline_Data_2012!AV$271","v":1.4638850706619766E-2},268]
[5,"Female 55-59",{"$f":"'III Tool Overview'!$H$8/100","v":1000},0,0,{"$f":"G269*'III Tool Overview'!$H$8","v":827.27024398716821},{"$f":"HLOOKUP('III Tool Overview'!$H$6,Targeting!$I$1:$BC$277,Targeting!BD269,FALSE)","v":8.2727024398716823E-3},{"$f":"Baseline_Data_2012!B260","v":12047.365086711039},{"$f":"Baseline_Data_2012!B260/Baseline_Data_2012!B$271","v":8.2727024398716823E-3},{"$f":"Baseline_Data_2012!C260/Baseline_Data_2012!C$271","v":6.9684525957252755E-3},{"$f":"Baseline_Data_2012!D260/Baseline_Data_2012!D$271","v":3.1207282400376314E-3},{"$f":"Baseline_Data_2012!E260/Baseline_Data_2012!E$271","v":3.8205339559536605E-3},{"$f":"Baseline_Data_2012!F260/Baseline_Data_2012!F$271","v":7.9074565801469619E-3},{"$f":"Baseline_Data_2012!G260/Baseline_Data_2012!G$271","v":8.1132957316836455E-3},{"$f":"Baseline_Data_2012!H260/Baseline_Data_2012!H$271","v":1.199529856665397E-2},{"$f":"Baseline_Data_2012!I260/Baseline_Data_2012!I$271","v":8.5517611806114665E-3},{"$f":"Baseline_Data_2012!J260/Baseline_Data_2012!J$271","v":4.2651801067606996E-3},{"$f":"Baseline_Data_2012!K260/Baseline_Data_2012!K$271","v":6.0852524916468597E-3},{"$f":"Baseline_Data_2012!L260/Baseline_Data_2012!L$271","v":1.0899725934457075E-2},{"$f":"Baseline_Data_2012!M260/Baseline_Data_2012!M$271","v":1.0455198254970743E-3},{"$f":"Baseline_Data_2012!N260/Baseline_Data_2012!N$271","v":2.0499375141542057E-3},{"$f":"Baseline_Data_2012!O260/Baseline_Data_2012!O$271","v":7.6843619311221878E-3},{"$f":"Baseline_Data_2012!P260/Baseline_Data_2012!P$271","v":0},{"$f":"Baseline_Data_2012!Q260/Baseline_Data_2012!Q$271","v":1.223224460398491E-2},{"$f":"Baseline_Data_2012!R260/Baseline_Data_2012!R$271","v":1.395182530033927E-2},{"$f":"Baseline_Data_2012!S260/Baseline_Data_2012!S$271","v":6.6079265059581999E-3},{"$f":"Baseline_Data_2012!T260/Baseline_Data_2012!T$271","v":4.514890750848463E-3},{"$f":"Baseline_Data_2012!U260/Baseline_Data_2012!U$271","v":6.9619993397708338E-3},{"$f":"Baseline_Data_2012!V260/Baseline_Data_2012!V$271","v":3.8205339559536605E-3},{"$f":"Baseline_Data_2012!W260/Baseline_Data_2012!W$271","v":7.0797323280019113E-3},{"$f":"Baseline_Data_2012!X260/Baseline_Data_2012!X$271","v":5.3747383147516774E-3},{"$f":"Baseline_Data_2012!Y260/Baseline_Data_2012!Y$271","v":2.6219058617200405E-2},{"$f":"Baseline_Data_2012!Z260/Baseline_Data_2012!Z$271","v":7.5950870648500033E-3},{"$f":"Baseline_Data_2012!AA260/Baseline_Data_2012!AA$271","v":2.6679970201048075E-2},{"$f":"Baseline_Data_2012!AB260/Baseline_Data_2012!AB$271","v":1.3524199016221981E-2},{"$f":"Baseline_Data_2012!AC260/Baseline_Data_2012!AC$271","v":0},{"$f":"Baseline_Data_2012!AD260/Baseline_Data_2012!AD$271","v":7.3637554622680143E-3},{"$f":"Baseline_Data_2012!AE260/Baseline_Data_2012!AE$271","v":7.9074565801469619E-3},{"$f":"Baseline_Data_2012!AF260/Baseline_Data_2012!AF$271","v":3.6997032054764973E-3},{"$f":"Baseline_Data_2012!AG260/Baseline_Data_2012!AG$271","v":4.1815204346530377E-3},{"$f":"Baseline_Data_2012!AH260/Baseline_Data_2012!AH$271","v":6.0855516366912455E-3},{"$f":"Baseline_Data_2012!AI260/Baseline_Data_2012!AI$271","v":7.1680122430785647E-3},{"$f":"Baseline_Data_2012!AJ260/Baseline_Data_2012!AJ$271","v":4.5818092356717643E-3},{"$f":"Baseline_Data_2012!AK260/Baseline_Data_2012!AK$271","v":4.9749957038421984E-3},{"$f":"Baseline_Data_2012!AL260/Baseline_Data_2012!AL$271","v":4.1332108420644512E-3},{"$f":"Baseline_Data_2012!AM260/Baseline_Data_2012!AM$271","v":1.0455198254970745E-3},{"$f":"Baseline_Data_2012!AN260/Baseline_Data_2012!AN$271","v":8.8890265584972428E-3},{"$f":"Baseline_Data_2012!AO260/Baseline_Data_2012!AO$271","v":1.0069491626471435E-2},{"$f":"Baseline_Data_2012!AP260/Baseline_Data_2012!AP$271","v":3.1207282400376314E-3},{"$f":"Baseline_Data_2012!AQ260/Baseline_Data_2012!AQ$271","v":2.0499375141542057E-3},{"$f":"Baseline_Data_2012!AR260/Baseline_Data_2012!AR$271","v":1.1387172541498096E-2},{"$f":"Baseline_Data_2012!AS260/Baseline_Data_2012!AS$271","v":7.9323411025824207E-3},{"$f":"Baseline_Data_2012!AT260/Baseline_Data_2012!AT$271","v":1.0071878021837103E-2},{"$f":"Baseline_Data_2012!AU260/Baseline_Data_2012!AU$271","v":2.8173924040136434E-3},{"$f":"Baseline_Data_2012!AV260/Baseline_Data_2012!AV$271","v":6.8339186744864533E-3},269]
[5,"Female 60-64",{"$f":"'III Tool Overview'!$H$8/100","v":1000},0,0,{"$f":"G270*'III Tool Overview'!$H$8","v":787.68899367344454},{"$f":"HLOOKUP('III Tool Overview'!$H$6,Targeting!$I$1:$BC$277,Targeting!BD270,FALSE)","v":7.876889936734445E-3},{"$f":"Baseline_Data_2012!B261","v":11470.951542788962},{"$f":"Baseline_Data_2012!B261/Baseline_Data_2012!B$271","v":7.876889936734445E-3},{"$f":"Baseline_Data_2012!C261/Baseline_Data_2012!C$271","v":7.2352187548520132E-3},{"$f":"Baseline_Data_2012!D261/Baseline_Data_2012!D$271","v":3.0589316412250054E-3},{"$f":"Baseline_Data_2012!E261/Baseline_Data_2012!E$271","v":3.5482660188627096E-3},{"$f":"Baseline_Data_2012!F261/Baseline_Data_2012!F$271","v":8.2406006173073656E-3},{"$f":"Baseline_Data_2012!G261/Baseline_Data_2012!G$271","v":8.331745356958074E-3},{"$f":"Baseline_Data_2012!H261/Baseline_Data_2012!H$271","v":1.0957662636973405E-2},{"$f":"Baseline_Data_2012!I261/Baseline_Data_2012!I$271","v":7.6664624410783143E-3},{"$f":"Baseline_Data_2012!J261/Baseline_Data_2012!J$271","v":4.2112392562686949E-3},{"$f":"Baseline_Data_2012!K261/Baseline_Data_2012!K$271","v":5.3951503539872228E-3},{"$f":"Baseline_Data_2012!L261/Baseline_Data_2012!L$271","v":1.0344285034184048E-2},{"$f":"Baseline_Data_2012!M261/Baseline_Data_2012!M$271","v":1.097795816771928E-3},{"$f":"Baseline_Data_2012!N261/Baseline_Data_2012!N$271","v":1.7704005804059049E-3},{"$f":"Baseline_Data_2012!O261/Baseline_Data_2012!O$271","v":8.2410743382943276E-3},{"$f":"Baseline_Data_2012!P261/Baseline_Data_2012!P$271","v":0},{"$f":"Baseline_Data_2012!Q261/Baseline_Data_2012!Q$271","v":1.12739164975382E-2},{"$f":"Baseline_Data_2012!R261/Baseline_Data_2012!R$271","v":1.2467317059540973E-2},{"$f":"Baseline_Data_2012!S261/Baseline_Data_2012!S$271","v":7.9023702448820822E-3},{"$f":"Baseline_Data_2012!T261/Baseline_Data_2012!T$271","v":4.8847111536483379E-3},{"$f":"Baseline_Data_2012!U261/Baseline_Data_2012!U$271","v":7.8087289892024214E-3},{"$f":"Baseline_Data_2012!V261/Baseline_Data_2012!V$271","v":3.54826601886271E-3},{"$f":"Baseline_Data_2012!W261/Baseline_Data_2012!W$271","v":7.3776418566554565E-3},{"$f":"Baseline_Data_2012!X261/Baseline_Data_2012!X$271","v":5.2983654790180832E-3},{"$f":"Baseline_Data_2012!Y261/Baseline_Data_2012!Y$271","v":2.4876662165858501E-2},{"$f":"Baseline_Data_2012!Z261/Baseline_Data_2012!Z$271","v":7.0992653573523773E-3},{"$f":"Baseline_Data_2012!AA261/Baseline_Data_2012!AA$271","v":2.3115494021500715E-2},{"$f":"Baseline_Data_2012!AB261/Baseline_Data_2012!AB$271","v":1.3009094065643963E-2},{"$f":"Baseline_Data_2012!AC261/Baseline_Data_2012!AC$271","v":0},{"$f":"Baseline_Data_2012!AD261/Baseline_Data_2012!AD$271","v":6.8347089533283695E-3},{"$f":"Baseline_Data_2012!AE261/Baseline_Data_2012!AE$271","v":8.2406006173073656E-3},{"$f":"Baseline_Data_2012!AF261/Baseline_Data_2012!AF$271","v":3.0451084613944295E-3},{"$f":"Baseline_Data_2012!AG261/Baseline_Data_2012!AG$271","v":3.9863143209960166E-3},{"$f":"Baseline_Data_2012!AH261/Baseline_Data_2012!AH$271","v":6.0855516366912455E-3},{"$f":"Baseline_Data_2012!AI261/Baseline_Data_2012!AI$271","v":6.9731536578298264E-3},{"$f":"Baseline_Data_2012!AJ261/Baseline_Data_2012!AJ$271","v":4.7524783476022309E-3},{"$f":"Baseline_Data_2012!AK261/Baseline_Data_2012!AK$271","v":5.4884294241675496E-3},{"$f":"Baseline_Data_2012!AL261/Baseline_Data_2012!AL$271","v":3.6124041139759008E-3},{"$f":"Baseline_Data_2012!AM261/Baseline_Data_2012!AM$271","v":1.0977958167719282E-3},{"$f":"Baseline_Data_2012!AN261/Baseline_Data_2012!AN$271","v":9.143414072436247E-3},{"$f":"Baseline_Data_2012!AO261/Baseline_Data_2012!AO$271","v":9.1709018225343518E-3},{"$f":"Baseline_Data_2012!AP261/Baseline_Data_2012!AP$271","v":3.0589316412250054E-3},{"$f":"Baseline_Data_2012!AQ261/Baseline_Data_2012!AQ$271","v":1.7704005804059049E-3},{"$f":"Baseline_Data_2012!AR261/Baseline_Data_2012!AR$271","v":1.1745470989214848E-2},{"$f":"Baseline_Data_2012!AS261/Baseline_Data_2012!AS$271","v":7.2153795029259319E-3},{"$f":"Baseline_Data_2012!AT261/Baseline_Data_2012!AT$271","v":1.12815220320451E-2},{"$f":"Baseline_Data_2012!AU261/Baseline_Data_2012!AU$271","v":2.3331530845737982E-3},{"$f":"Baseline_Data_2012!AV261/Baseline_Data_2012!AV$271","v":5.9341965643894953E-3},270]
[5,"Female 65-69",null,null,0,{"$f":"G271*'III Tool Overview'!$H$8","v":0},{"$f":"HLOOKUP('III Tool Overview'!$H$6,Targeting!$I$1:$BC$277,Targeting!BD271,FALSE)","v":0},{"$f":"Baseline_Data_2012!B262","v":0},{"$f":"Baseline_Data_2012!B262/Baseline_Data_2012!B$271","v":0},{"$f":"Baseline_Data_2012!C262/Baseline_Data_2012!C$271","v":0},{"$f":"Baseline_Data_2012!D262/Baseline_Data_2012!D$271","v":0},{"$f":"Baseline_Data_2012!E262/Baseline_Data_2012!E$271","v":0},{"$f":"Baseline_Data_2012!F262/Baseline_Data_2012!F$271","v":0},{"$f":"Baseline_Data_2012!G262/Baseline_Data_2012!G$271","v":0},{"$f":"Baseline_Data_2012!H262/Baseline_Data_2012!H$271","v":0},{"$f":"Baseline_Data_2012!I262/Baseline_Data_2012!I$271","v":0},{"$f":"Baseline_Data_2012!J262/Baseline_Data_2012!J$271","v":0},{"$f":"Baseline_Data_2012!K262/Baseline_Data_2012!K$271","v":0},{"$f":"Baseline_Data_2012!L262/Baseline_Data_2012!L$271","v":0},{"$f":"Baseline_Data_2012!M262/Baseline_Data_2012!M$271","v":0},{"$f":"Baseline_Data_2012!N262/Baseline_Data_2012!N$271","v":0},{"$f":"Baseline_Data_2012!O262/Baseline_Data_2012!O$271","v":0},{"$f":"Baseline_Data_2012!P262/Baseline_Data_2012!P$271","v":0},{"$f":"Baseline_Data_2012!Q262/Baseline_Data_2012!Q$271","v":0},{"$f":"Baseline_Data_2012!R262/Baseline_Data_2012!R$271","v":0},{"$f":"Baseline_Data_2012!S262/Baseline_Data_2012!S$271","v":0},{"$f":"Baseline_Data_2012!T262/Baseline_Data_2012!T$271","v":0},{"$f":"Baseline_Data_2012!U262/Baseline_Data_2012!U$271","v":0},{"$f":"Baseline_Data_2012!V262/Baseline_Data_2012!V$271","v":0},{"$f":"Baseline_Data_2012!W262/Baseline_Data_2012!W$271","v":0},{"$f":"Baseline_Data_2012!X262/Baseline_Data_2012!X$271","v":0},{"$f":"Baseline_Data_2012!Y262/Baseline_Data_2012!Y$271","v":0},{"$f":"Baseline_Data_2012!Z262/Baseline_Data_2012!Z$271","v":0},{"$f":"Baseline_Data_2012!AA262/Baseline_Data_2012!AA$271","v":0},{"$f":"Baseline_Data_2012!AB262/Baseline_Data_2012!AB$271","v":0},{"$f":"Baseline_Data_2012!AC262/Baseline_Data_2012!AC$271","v":0},{"$f":"Baseline_Data_2012!AD262/Baseline_Data_2012!AD$271","v":0},{"$f":"Baseline_Data_2012!AE262/Baseline_Data_2012!AE$271","v":0},{"$f":"Baseline_Data_2012!AF262/Baseline_Data_2012!AF$271","v":0},{"$f":"Baseline_Data_2012!AG262/Baseline_Data_2012!AG$271","v":0},{"$f":"Baseline_Data_2012!AH262/Baseline_Data_2012!AH$271","v":0},{"$f":"Baseline_Data_2012!AI262/Baseline_Data_2012!AI$271","v":0},{"$f":"Baseline_Data_2012!AJ262/Baseline_Data_2012!AJ$271","v":0},{"$f":"Baseline_Data_2012!AK262/Baseline_Data_2012!AK$271","v":0},{"$f":"Baseline_Data_2012!AL262/Baseline_Data_2012!AL$271","v":0},{"$f":"Baseline_Data_2012!AM262/Baseline_Data_2012!AM$271","v":0},{"$f":"Baseline_Data_2012!AN262/Baseline_Data_2012!AN$271","v":0},{"$f":"Baseline_Data_2012!AO262/Baseline_Data_2012!AO$271","v":0},{"$f":"Baseline_Data_2012!AP262/Baseline_Data_2012!AP$271","v":0},{"$f":"Baseline_Data_2012!AQ262/Baseline_Data_2012!AQ$271","v":0},{"$f":"Baseline_Data_2012!AR262/Baseline_Data_2012!AR$271","v":0},{"$f":"Baseline_Data_2012!AS262/Baseline_Data_2012!AS$271","v":0},{"$f":"Baseline_Data_2012!AT262/Baseline_Data_2012!AT$271","v":0},{"$f":"Baseline_Data_2012!AU262/Baseline_Data_2012!AU$271","v":0},{"$f":"Baseline_Data_2012!AV262/Baseline_Data_2012!AV$271","v":0},271]
[5,"Female 70-74",null,null,null,{"$f":"G272*'III Tool Overview'!$H$8","v":0},{"$f":"HLOOKUP('III Tool Overview'!$H$6,Targeting!$I$1:$BC$277,Targeting!BD272,FALSE)","v":0},{"$f":"Baseline_Data_2012!B263","v":0},{"$f":"Baseline_Data_2012!B263/Baseline_Data_2012!B$271","v":0},{"$f":"Baseline_Data_2012!C263/Baseline_Data_2012!C$271","v":0},{"$f":"Baseline_Data_2012!D263/Baseline_Data_2012!D$271","v":0},{"$f":"Baseline_Data_2012!E263/Baseline_Data_2012!E$271","v":0},{"$f":"Baseline_Data_2012!F263/Baseline_Data_2012!F$271","v":0},{"$f":"Baseline_Data_2012!G263/Baseline_Data_2012!G$271","v":0},{"$f":"Baseline_Data_2012!H263/Baseline_Data_2012!H$271","v":0},{"$f":"Baseline_Data_2012!I263/Baseline_Data_2012!I$271","v":0},{"$f":"Baseline_Data_2012!J263/Baseline_Data_2012!J$271","v":0},{"$f":"Baseline_Data_2012!K263/Baseline_Data_2012!K$271","v":0},{"$f":"Baseline_Data_2012!L263/Baseline_Data_2012!L$271","v":0},{"$f":"Baseline_Data_2012!M263/Baseline_Data_2012!M$271","v":0},{"$f":"Baseline_Data_2012!N263/Baseline_Data_2012!N$271","v":0},{"$f":"Baseline_Data_2012!O263/Baseline_Data_2012!O$271","v":0},{"$f":"Baseline_Data_2012!P263/Baseline_Data_2012!P$271","v":0},{"$f":"Baseline_Data_2012!Q263/Baseline_Data_2012!Q$271","v":0},{"$f":"Baseline_Data_2012!R263/Baseline_Data_2012!R$271","v":0},{"$f":"Baseline_Data_2012!S263/Baseline_Data_2012!S$271","v":0},{"$f":"Baseline_Data_2012!T263/Baseline_Data_2012!T$271","v":0},{"$f":"Baseline_Data_2012!U263/Baseline_Data_2012!U$271","v":0},{"$f":"Baseline_Data_2012!V263/Baseline_Data_2012!V$271","v":0},{"$f":"Baseline_Data_2012!W263/Baseline_Data_2012!W$271","v":0},{"$f":"Baseline_Data_2012!X263/Baseline_Data_2012!X$271","v":0},{"$f":"Baseline_Data_2012!Y263/Baseline_Data_2012!Y$271","v":0},{"$f":"Baseline_Data_2012!Z263/Baseline_Data_2012!Z$271","v":0},{"$f":"Baseline_Data_2012!AA263/Baseline_Data_2012!AA$271","v":0},{"$f":"Baseline_Data_2012!AB263/Baseline_Data_2012!AB$271","v":0},{"$f":"Baseline_Data_2012!AC263/Baseline_Data_2012!AC$271","v":0},{"$f":"Baseline_Data_2012!AD263/Baseline_Data_2012!AD$271","v":0},{"$f":"Baseline_Data_2012!AE263/Baseline_Data_2012!AE$271","v":0},{"$f":"Baseline_Data_2012!AF263/Baseline_Data_2012!AF$271","v":0},{"$f":"Baseline_Data_2012!AG263/Baseline_Data_2012!AG$271","v":0},{"$f":"Baseline_Data_2012!AH263/Baseline_Data_2012!AH$271","v":0},{"$f":"Baseline_Data_2012!AI263/Baseline_Data_2012!AI$271","v":0},{"$f":"Baseline_Data_2012!AJ263/Baseline_Data_2012!AJ$271","v":0},{"$f":"Baseline_Data_2012!AK263/Baseline_Data_2012!AK$271","v":0},{"$f":"Baseline_Data_2012!AL263/Baseline_Data_2012!AL$271","v":0},{"$f":"Baseline_Data_2012!AM263/Baseline_Data_2012!AM$271","v":0},{"$f":"Baseline_Data_2012!AN263/Baseline_Data_2012!AN$271","v":0},{"$f":"Baseline_Data_2012!AO263/Baseline_Data_2012!AO$271","v":0},{"$f":"Baseline_Data_2012!AP263/Baseline_Data_2012!AP$271","v":0},{"$f":"Baseline_Data_2012!AQ263/Baseline_Data_2012!AQ$271","v":0},{"$f":"Baseline_Data_2012!AR263/Baseline_Data_2012!AR$271","v":0},{"$f":"Baseline_Data_2012!AS263/Baseline_Data_2012!AS$271","v":0},{"$f":"Baseline_Data_2012!AT263/Baseline_Data_2012!AT$271","v":0},{"$f":"Baseline_Data_2012!AU263/Baseline_Data_2012!AU$271","v":0},{"$f":"Baseline_Data_2012!AV263/Baseline_Data_2012!AV$271","v":0},272]
[5,"Female 75-79",null,null,null,{"$f":"G273*'III Tool Overview'!$H$8","v":0},{"$f":"HLOOKUP('III Tool Overview'!$H$6,Targeting!$I$1:$BC$277,Targeting!BD273,FALSE)","v":0},{"$f":"Baseline_Data_2012!B264","v":0},{"$f":"Baseline_Data_2012!B264/Baseline_Data_2012!B$271","v":0},{"$f":"Baseline_Data_2012!C264/Baseline_Data_2012!C$271","v":0},{"$f":"Baseline_Data_2012!D264/Baseline_Data_2012!D$271","v":0},{"$f":"Baseline_Data_2012!E264/Baseline_Data_2012!E$271","v":0},{"$f":"Baseline_Data_2012!F264/Baseline_Data_2012!F$271","v":0},{"$f":"Baseline_Data_2012!G264/Baseline_Data_2012!G$271","v":0},{"$f":"Baseline_Data_2012!H264/Baseline_Data_2012!H$271","v":0},{"$f":"Baseline_Data_2012!I264/Baseline_Data_2012!I$271","v":0},{"$f":"Baseline_Data_2012!J264/Baseline_Data_2012!J$271","v":0},{"$f":"Baseline_Data_2012!K264/Baseline_Data_2012!K$271","v":0},{"$f":"Baseline_Data_2012!L264/Baseline_Data_2012!L$271","v":0},{"$f":"Baseline_Data_2012!M264/Baseline_Data_2012!M$271","v":0},{"$f":"Baseline_Data_2012!N264/Baseline_Data_2012!N$271","v":0},{"$f":"Baseline_Data_2012!O264/Baseline_Data_2012!O$271","v":0},{"$f":"Baseline_Data_2012!P264/Baseline_Data_2012!P$271","v":0},{"$f":"Baseline_Data_2012!Q264/Baseline_Data_2012!Q$271","v":0},{"$f":"Baseline_Data_2012!R264/Baseline_Data_2012!R$271","v":0},{"$f":"Baseline_Data_2012!S264/Baseline_Data_2012!S$271","v":0},{"$f":"Baseline_Data_2012!T264/Baseline_Data_2012!T$271","v":0},{"$f":"Baseline_Data_2012!U264/Baseline_Data_2012!U$271","v":0},{"$f":"Baseline_Data_2012!V264/Baseline_Data_2012!V$271","v":0},{"$f":"Baseline_Data_2012!W264/Baseline_Data_2012!W$271","v":0},{"$f":"Baseline_Data_2012!X264/Baseline_Data_2012!X$271","v":0},{"$f":"Baseline_Data_2012!Y264/Baseline_Data_2012!Y$271","v":0},{"$f":"Baseline_Data_2012!Z264/Baseline_Data_2012!Z$271","v":0},{"$f":"Baseline_Data_2012!AA264/Baseline_Data_2012!AA$271","v":0},{"$f":"Baseline_Data_2012!AB264/Baseline_Data_2012!AB$271","v":0},{"$f":"Baseline_Data_2012!AC264/Baseline_Data_2012!AC$271","v":0},{"$f":"Baseline_Data_2012!AD264/Baseline_Data_2012!AD$271","v":0},{"$f":"Baseline_Data_2012!AE264/Baseline_Data_2012!AE$271","v":0},{"$f":"Baseline_Data_2012!AF264/Baseline_Data_2012!AF$271","v":0},{"$f":"Baseline_Data_2012!AG264/Baseline_Data_2012!AG$271","v":0},{"$f":"Baseline_Data_2012!AH264/Baseline_Data_2012!AH$271","v":0},{"$f":"Baseline_Data_2012!AI264/Baseline_Data_2012!AI$271","v":0},{"$f":"Baseline_Data_2012!AJ264/Baseline_Data_2012!AJ$271","v":0},{"$f":"Baseline_Data_2012!AK264/Baseline_Data_2012!AK$271","v":0},{"$f":"Baseline_Data_2012!AL264/Baseline_Data_2012!AL$271","v":0},{"$f":"Baseline_Data_2012!AM264/Baseline_Data_2012!AM$271","v":0},{"$f":"Baseline_Data_2012!AN264/Baseline_Data_2012!AN$271","v":0},{"$f":"Baseline_Data_2012!AO264/Baseline_Data_2012!AO$271","v":0},{"$f":"Baseline_Data_2012!AP264/Baseline_Data_2012!AP$271","v":0},{"$f":"Baseline_Data_2012!AQ264/Baseline_Data_2012!AQ$271","v":0},{"$f":"Baseline_Data_2012!AR264/Baseline_Data_2012!AR$271","v":0},{"$f":"Baseline_Data_2012!AS264/Baseline_Data_2012!AS$271","v":0},{"$f":"Baseline_Data_2012!AT264/Baseline_Data_2012!AT$271","v":0},{"$f":"Baseline_Data_2012!AU264/Baseline_Data_2012!AU$271","v":0},{"$f":"Baseline_Data_2012!AV264/Baseline_Data_2012!AV$271","v":0},273]
[5,"Female 80-84",null,null,null,{"$f":"G274*'III Tool Overview'!$H$8","v":0},{"$f":"HLOOKUP('III Tool Overview'!$H$6,Targeting!$I$1:$BC$277,Targeting!BD274,FALSE)","v":0},{"$f":"Baseline_Data_2012!B265","v":0},{"$f":"Baseline_Data_2012!B265/Baseline_Data_2012!B$271","v":0},{"$f":"Baseline_Data_2012!C265/Baseline_Data_2012!C$271","v":0},{"$f":"Baseline_Data_2012!D265/Baseline_Data_2012!D$271","v":0},{"$f":"Baseline_Data_2012!E265/Baseline_Data_2012!E$271","v":0},{"$f":"Baseline_Data_2012!F265/Baseline_Data_2012!F$271","v":0},{"$f":"Baseline_Data_2012!G265/Baseline_Data_2012!G$271","v":0},{"$f":"Baseline_Data_2012!H265/Baseline_Data_2012!H$271","v":0},{"$f":"Baseline_Data_2012!I265/Baseline_Data_2012!I$271","v":0},{"$f":"Baseline_Data_2012!J265/Baseline_Data_2012!J$271","v":0},{"$f":"Baseline_Data_2012!K265/Baseline_Data_2012!K$271","v":0},{"$f":"Baseline_Data_2012!L265/Baseline_Data_2012!L$271","v":0},{"$f":"Baseline_Data_2012!M265/Baseline_Data_2012!M$271","v":0},{"$f":"Baseline_Data_2012!N265/Baseline_Data_2012!N$271","v":0},{"$f":"Baseline_Data_2012!O265/Baseline_Data_2012!O$271","v":0},{"$f":"Baseline_Data_2012!P265/Baseline_Data_2012!P$271","v":0},{"$f":"Baseline_Data_2012!Q265/Baseline_Data_2012!Q$271","v":0},{"$f":"Baseline_Data_2012!R265/Baseline_Data_2012!R$271","v":0},{"$f":"Baseline_Data_2012!S265/Baseline_Data_2012!S$271","v":0},{"$f":"Baseline_Data_2012!T265/Baseline_Data_2012!T$271","v":0},{"$f":"Baseline_Data_2012!U265/Baseline_Data_2012!U$271","v":0},{"$f":"Baseline_Data_2012!V265/Baseline_Data_2012!V$271","v":0},{"$f":"Baseline_Data_2012!W265/Baseline_Data_2012!W$271","v":0},{"$f":"Baseline_Data_2012!X265/Baseline_Data_2012!X$271","v":0},{"$f":"Baseline_Data_2012!Y265/Baseline_Data_2012!Y$271","v":0},{"$f":"Baseline_Data_2012!Z265/Baseline_Data_2012!Z$271","v":0},{"$f":"Baseline_Data_2012!AA265/Baseline_Data_2012!AA$271","v":0},{"$f":"Baseline_Data_2012!AB265/Baseline_Data_2012!AB$271","v":0},{"$f":"Baseline_Data_2012!AC265/Baseline_Data_2012!AC$271","v":0},{"$f":"Baseline_Data_2012!AD265/Baseline_Data_2012!AD$271","v":0},{"$f":"Baseline_Data_2012!AE265/Baseline_Data_2012!AE$271","v":0},{"$f":"Baseline_Data_2012!AF265/Baseline_Data_2012!AF$271","v":0},{"$f":"Baseline_Data_2012!AG265/Baseline_Data_2012!AG$271","v":0},{"$f":"Baseline_Data_2012!AH265/Baseline_Data_2012!AH$271","v":0},{"$f":"Baseline_Data_2012!AI265/Baseline_Data_2012!AI$271","v":0},{"$f":"Baseline_Data_2012!AJ265/Baseline_Data_2012!AJ$271","v":0},{"$f":"Baseline_Data_2012!AK265/Baseline_Data_2012!AK$271","v":0},{"$f":"Baseline_Data_2012!AL265/Baseline_Data_2012!AL$271","v":0},{"$f":"Baseline_Data_2012!AM265/Baseline_Data_2012!AM$271","v":0},{"$f":"Baseline_Data_2012!AN265/Baseline_Data_2012!AN$271","v":0},{"$f":"Baseline_Data_2012!AO265/Baseline_Data_2012!AO$271","v":0},{"$f":"Baseline_Data_2012!AP265/Baseline_Data_2012!AP$271","v":0},{"$f":"Baseline_Data_2012!AQ265/Baseline_Data_2012!AQ$271","v":0},{"$f":"Baseline_Data_2012!AR265/Baseline_Data_2012!AR$271","v":0},{"$f":"Baseline_Data_2012!AS265/Baseline_Data_2012!AS$271","v":0},{"$f":"Baseline_Data_2012!AT265/Baseline_Data_2012!AT$271","v":0},{"$f":"Baseline_Data_2012!AU265/Baseline_Data_2012!AU$271","v":0},{"$f":"Baseline_Data_2012!AV265/Baseline_Data_2012!AV$271","v":0},274]
[5,"Female 85+",null,null,null,{"$f":"G275*'III Tool Overview'!$H$8","v":0},{"$f":"HLOOKUP('III Tool Overview'!$H$6,Targeting!$I$1:$BC$277,Targeting!BD275,FALSE)","v":0},{"$f":"Baseline_Data_2012!B266","v":0},{"$f":"Baseline_Data_2012!B266/Baseline_Data_2012!B$271","v":0},{"$f":"Baseline_Data_2012!C266/Baseline_Data_2012!C$271","v":0},{"$f":"Baseline_Data_2012!D266/Baseline_Data_2012!D$271","v":0},{"$f":"Baseline_Data_2012!E266/Baseline_Data_2012!E$271","v":0},{"$f":"Baseline_Data_2012!F266/Baseline_Data_2012!F$271","v":0},{"$f":"Baseline_Data_2012!G266/Baseline_Data_2012!G$271","v":0},{"$f":"Baseline_Data_2012!H266/Baseline_Data_2012!H$271","v":0},{"$f":"Baseline_Data_2012!I266/Baseline_Data_2012!I$271","v":0},{"$f":"Baseline_Data_2012!J266/Baseline_Data_2012!J$271","v":0},{"$f":"Baseline_Data_2012!K266/Baseline_Data_2012!K$271","v":0},{"$f":"Baseline_Data_2012!L266/Baseline_Data_2012!L$271","v":0},{"$f":"Baseline_Data_2012!M266/Baseline_Data_2012!M$271","v":0},{"$f":"Baseline_Data_2012!N266/Baseline_Data_2012!N$271","v":0},{"$f":"Baseline_Data_2012!O266/Baseline_Data_2012!O$271","v":0},{"$f":"Baseline_Data_2012!P266/Baseline_Data_2012!P$271","v":0},{"$f":"Baseline_Data_2012!Q266/Baseline_Data_2012!Q$271","v":0},{"$f":"Baseline_Data_2012!R266/Baseline_Data_2012!R$271","v":0},{"$f":"Baseline_Data_2012!S266/Baseline_Data_2012!S$271","v":0},{"$f":"Baseline_Data_2012!T266/Baseline_Data_2012!T$271","v":0},{"$f":"Baseline_Data_2012!U266/Baseline_Data_2012!U$271","v":0},{"$f":"Baseline_Data_2012!V266/Baseline_Data_2012!V$271","v":0},{"$f":"Baseline_Data_2012!W266/Baseline_Data_2012!W$271","v":0},{"$f":"Baseline_Data_2012!X266/Baseline_Data_2012!X$271","v":0},{"$f":"Baseline_Data_2012!Y266/Baseline_Data_2012!Y$271","v":0},{"$f":"Baseline_Data_2012!Z266/Baseline_Data_2012!Z$271","v":0},{"$f":"Baseline_Data_2012!AA266/Baseline_Data_2012!AA$271","v":0},{"$f":"Baseline_Data_2012!AB266/Baseline_Data_2012!AB$271","v":0},{"$f":"Baseline_Data_2012!AC266/Baseline_Data_2012!AC$271","v":0},{"$f":"Baseline_Data_2012!AD266/Baseline_Data_2012!AD$271","v":0},{"$f":"Baseline_Data_2012!AE266/Baseline_Data_2012!AE$271","v":0},{"$f":"Baseline_Data_2012!AF266/Baseline_Data_2012!AF$271","v":0},{"$f":"Baseline_Data_2012!AG266/Baseline_Data_2012!AG$271","v":0},{"$f":"Baseline_Data_2012!AH266/Baseline_Data_2012!AH$271","v":0},{"$f":"Baseline_Data_2012!AI266/Baseline_Data_2012!AI$271","v":0},{"$f":"Baseline_Data_2012!AJ266/Baseline_Data_2012!AJ$271","v":0},{"$f":"Baseline_Data_2012!AK266/Baseline_Data_2012!AK$271","v":0},{"$f":"Baseline_Data_2012!AL266/Baseline_Data_2012!AL$271","v":0},{"$f":"Baseline_Data_2012!AM266/Baseline_Data_2012!AM$271","v":0},{"$f":"Baseline_Data_2012!AN266/Baseline_Data_2012!AN$271","v":0},{"$f":"Baseline_Data_2012!AO266/Baseline_Data_2012!AO$271","v":0},{"$f":"Baseline_Data_2012!AP266/Baseline_Data_2012!AP$271","v":0},{"$f":"Baseline_Data_2012!AQ266/Baseline_Data_2012!AQ$271","v":0},{"$f":"Baseline_Data_2012!AR266/Baseline_Data_2012!AR$271","v":0},{"$f":"Baseline_Data_2012!AS266/Baseline_Data_2012!AS$271","v":0},{"$f":"Baseline_Data_2012!AT266/Baseline_Data_2012!AT$271","v":0},{"$f":"Baseline_Data_2012!AU266/Baseline_Data_2012!AU$271","v":0},{"$f":"Baseline_Data_2012!AV266/Baseline_Data_2012!AV$271","v":0},275]
[5,"Female 90+",null,null,null,{"$f":"G276*'III Tool Overview'!$H$8","v":0},{"$f":"HLOOKUP('III Tool Overview'!$H$6,Targeting!$I$1:$BC$277,Targeting!BD276,FALSE)","v":0},{"$f":"Baseline_Data_2012!B267","v":0},{"$f":"Baseline_Data_2012!B267/Baseline_Data_2012!B$271","v":0},{"$f":"Baseline_Data_2012!C267/Baseline_Data_2012!C$271","v":0},{"$f":"Baseline_Data_2012!D267/Baseline_Data_2012!D$271","v":0},{"$f":"Baseline_Data_2012!E267/Baseline_Data_2012!E$271","v":0},{"$f":"Baseline_Data_2012!F267/Baseline_Data_2012!F$271","v":0},{"$f":"Baseline_Data_2012!G267/Baseline_Data_2012!G$271","v":0},{"$f":"Baseline_Data_2012!H267/Baseline_Data_2012!H$271","v":0},{"$f":"Baseline_Data_2012!I267/Baseline_Data_2012!I$271","v":0},{"$f":"Baseline_Data_2012!J267/Baseline_Data_2012!J$271","v":0},{"$f":"Baseline_Data_2012!K267/Baseline_Data_2012!K$271","v":0},{"$f":"Baseline_Data_2012!L267/Baseline_Data_2012!L$271","v":0},{"$f":"Baseline_Data_2012!M267/Baseline_Data_2012!M$271","v":0},{"$f":"Baseline_Data_2012!N267/Baseline_Data_2012!N$271","v":0},{"$f":"Baseline_Data_2012!O267/Baseline_Data_2012!O$271","v":0},{"$f":"Baseline_Data_2012!P267/Baseline_Data_2012!P$271","v":0},{"$f":"Baseline_Data_2012!Q267/Baseline_Data_2012!Q$271","v":0},{"$f":"Baseline_Data_2012!R267/Baseline_Data_2012!R$271","v":0},{"$f":"Baseline_Data_2012!S267/Baseline_Data_2012!S$271","v":0},{"$f":"Baseline_Data_2012!T267/Baseline_Data_2012!T$271","v":0},{"$f":"Baseline_Data_2012!U267/Baseline_Data_2012!U$271","v":0},{"$f":"Baseline_Data_2012!V267/Baseline_Data_2012!V$271","v":0},{"$f":"Baseline_Data_2012!W267/Baseline_Data_2012!W$271","v":0},{"$f":"Baseline_Data_2012!X267/Baseline_Data_2012!X$271","v":0},{"$f":"Baseline_Data_2012!Y267/Baseline_Data_2012!Y$271","v":0},{"$f":"Baseline_Data_2012!Z267/Baseline_Data_2012!Z$271","v":0},{"$f":"Baseline_Data_2012!AA267/Baseline_Data_2012!AA$271","v":0},{"$f":"Baseline_Data_2012!AB267/Baseline_Data_2012!AB$271","v":0},{"$f":"Baseline_Data_2012!AC267/Baseline_Data_2012!AC$271","v":0},{"$f":"Baseline_Data_2012!AD267/Baseline_Data_2012!AD$271","v":0},{"$f":"Baseline_Data_2012!AE267/Baseline_Data_2012!AE$271","v":0},{"$f":"Baseline_Data_2012!AF267/Baseline_Data_2012!AF$271","v":0},{"$f":"Baseline_Data_2012!AG267/Baseline_Data_2012!AG$271","v":0},{"$f":"Baseline_Data_2012!AH267/Baseline_Data_2012!AH$271","v":0},{"$f":"Baseline_Data_2012!AI267/Baseline_Data_2012!AI$271","v":0},{"$f":"Baseline_Data_2012!AJ267/Baseline_Data_2012!AJ$271","v":0},{"$f":"Baseline_Data_2012!AK267/Baseline_Data_2012!AK$271","v":0},{"$f":"Baseline_Data_2012!AL267/Baseline_Data_2012!AL$271","v":0},{"$f":"Baseline_Data_2012!AM267/Baseline_Data_2012!AM$271","v":0},{"$f":"Baseline_Data_2012!AN267/Baseline_Data_2012!AN$271","v":0},{"$f":"Baseline_Data_2012!AO267/Baseline_Data_2012!AO$271","v":0},{"$f":"Baseline_Data_2012!AP267/Baseline_Data_2012!AP$271","v":0},{"$f":"Baseline_Data_2012!AQ267/Baseline_Data_2012!AQ$271","v":0},{"$f":"Baseline_Data_2012!AR267/Baseline_Data_2012!AR$271","v":0},{"$f":"Baseline_Data_2012!AS267/Baseline_Data_2012!AS$271","v":0},{"$f":"Baseline_Data_2012!AT267/Baseline_Data_2012!AT$271","v":0},{"$f":"Baseline_Data_2012!AU267/Baseline_Data_2012!AU$271","v":0},{"$f":"Baseline_Data_2012!AV267/Baseline_Data_2012!AV$271","v":0},276]
[null,"TOTAL",null,null,null,null,null,{"$f":"SUM(H64:H276)","v":1456279.2720123397}]
[]
[]
[]
[]
[null,null,"Even distribution"]
[null,null,"Targeting to Q1"]
[null,null,"Targeting to Q1 & Q2"]
[null,null,"Proportionate to need"]

{"sheet":"Baseline_Data_2012","index":4,"n_rows":282,"n_cols":96,"rows_kept":282,"cut":false,"hidden":false,"merged":[]}
[null,"Estimated number of people aged 15-64 who would be eligible for the intervention",null,null,null,null,null,null,null,null,null,null,null,null,null,null,null,null,null,null,null,null,null,null,null,null,null,null,null,null,null,null,null,null,null,null,null,null,null,null,null,null,null,null,null,null,null,null,null,"Mid-year population estimates (2012)"]
["Smoking prevalence (2012)","Scotland","Ayrshire & Arran Health Board","Borders Health Board","Dumfries & Galloway Health Board","Fife Health Board","Forth Valley Health Board","Grampian Health Board","Greater Glasgow & Clyde Health Board","Highland Health Board","Lanarkshire Health Board","Lothian Health Board","Orkney Health Board","Shetland Health Board","Tayside Health Board","Western Isles Health Board","Aberdeen City Local Authority","Aberdeenshire Local Authority","Angus Local Authority","Argyll & Bute Local Authority","Clackmannanshire Local Authority","Dumfries & Galloway Local Authority","Dundee City Local Authority","East Ayrshire Local Authority","East Dunbartonshire Local Authority","East Lothian Local Authority","East Renfrewshire Local Authority","Edinburgh, City of Local Authority","Eilean Siar Local Authority","Falkirk Local Authority","Fife Local Authority","Glasgow City Local Authority","Highland Local Authority","Inverclyde Local Authority","Midlothian Local Authority","Moray Local Authority","North Ayrshire Local Authority","North Lanarkshire Local Authority","Orkney Islands Local Authority","Perth & Kinross Local Authority","Renfrewshire Local Authority","Scottish Borders Local Authority","Shetland Islands Local Authority","South Ayrshire Local Authority","South Lanarkshire Local Authority","Stirling Local Authority","West Dunbartonshire Local Authority","West Lothian Local Authority",1,"Scotland","Ayrshire & Arran Health Board","Borders Health Board","Dumfries & Galloway Health Board","Fife Health Board","Forth Valley Health Board","Grampian Health Board","Greater Glasgow & Clyde Health Board","Highland Health Board","Lanarkshire Health Board","Lothian Health Board","Orkney Health Board","Shetland Health Board","Tayside Health Board","Western Isles Health Board","Aberdeen City Local Authority","Aberdeenshire Local Authority","Angus Local Authority","Argyll & Bute Local Authority","Clackmannanshire Local Authority","Dumfries & Galloway Local Authority","Dundee City Local Authority","East Ayrshire Local Authority","East Dunbartonshire Local Authority","East Lothian Local Authority","East Renfrewshire Local Authority","Edinburgh, City of Local Authority","Eilean Siar Local Authority","Falkirk Local Authority","Fife Local Authority","Glasgow City Local Authority","Highland Local Authority","Inverclyde Local Authority","Midlothian Local Authority","Moray Local Authority","North Ayrshire Local Authority","North Lanarkshire Local Authority","Orkney Islands Local Authority","Perth & Kinross Local Authority","Renfrewshire Local Authority","Scottish Borders Local Authority","Shetland Islands Local Authority","South Ayrshire Local Authority","South Lanarkshire Local Authority","Stirling Local Authority","West Dunbartonshire Local Authority","West Lothian Local Authority"]
["All, by SIMD",null,null,null,null,null,null,null,null,null,null,null,null,null,null,null,null,null,null,null,null,null,null,null,null,null,null,null,null,null,null,null,null,null,null,null,null,null,null,null,null,null,null,null,null,null,null,null,2]
["Total",null,null,null,null,null,null,null,null,null,null,null,null,null,null,null,null,null,null,null,null,null,null,null,null,null,null,null,null,null,null,null,null,null,null,null,null,null,null,null,null,null,null,null,null,null,null,null,3]
["Q 1",{"$f":"B12+B19","v":198103.10456158576},{"$f":"C12+C19","v":20201.707475856274},1100.5132572138041,2096.7046159386582,14454.720890898694,8892.3499339306654,8103.9716375767666,72166.490500330576,5098.5575940255821,30169.575261761507,16064.726232142781,0,0,13019.741731792337,0,6196.9509093678444,1229.8830549057491,1642.9885803494722,1257.5350515524774,2924.247796807359,2096.7046159386596,9217.5798128356437,7629.7069493065146,806.47759335437297,809.48312756364476,1487.9726120810419,7787.5741539476858,0,4644.0781965130791,14454.720890898694,38413.412380745271,3848.5188083230214,6790.1739773839236,1268.4446555725117,211.17780495334273,8718.2802701045075,21840.239925201589,0,1577.7929855960106,9983.9784535401268,1100.5132572138041,0,3656.0772714543264,13087.282906304583,1485.5763465047537,5511.6176754414328,5944.2792812018733,4,{"$f":"AX12+AX19","v":669653},{"$f":"AY12+AY19","v":65193},3500,7303,42125,27524,23478,284430,16733,89303,63740,0,0,46324,0,19598,3185,5099,4438,8756,7303,35510,23236,2491,2711,4442,40687,0,13258,42125,189234,12295,22019,3754,695,30419,67355,0,5715,31180,3500,0,11538,37167,5510,19845,16588]
["Q 2",{"$f":"B13+B20","v":265991.70238602714},25913.700383273652,3979.3170515357037,7644.9354396615408,22027.979885598234,19932.361870904911,20219.865377474802,48624.037850927125,15205.371029278576,46617.531728017777,35709.64673669661,1165.8561625898583,216.77042801048623,16388.984251751441,2597.8531335322832,11652.131296507345,5051.6415956540204,5346.0129239467642,3505.8110520356067,2687.1259920579296,7644.9354396615417,6711.7420575755359,10367.330393869073,4880.6887616115273,4983.5041695728842,2357.9662585809647,11924.67296439969,2597.8531335322832,13083.812568434734,22027.979885598234,21116.081549400315,11745.681179827225,3159.8116896389811,6468.1387461920031,2655.8985050566989,7609.4410156964996,27676.556339326919,1165.8561625898581,4359.5870169506225,7128.2842559031324,3979.3170515357037,216.77042801048628,8073.2877102995126,21983.23020392231,4400.22914906814,6517.2794881356403,15889.323782094125,5,{"$f":"AX13+AX20","v":679931},62388,9573,19648,48416,46070,45409,145071,37314,103226,108828,2782,419,44882,5905,28699,10125,12454,9136,5957,19648,20565,23518,11099,12599,5284,48479,5905,28043,48416,79091,28178,7617,14450,6585,19856,63871,2782,11863,16960,9573,419,19014,46843,12070,17532,33300]
["Q 3",316704.79732148815,18212.3817748808,10885.671385135207,15289.408764608146,24289.519815434469,18817.781003084274,41302.022059136711,47660.499559267941,29181.701879681386,42443.410912858904,42330.878303877878,1088.3932044335211,3407.8109546877313,19658.907834131503,5300.7544871191385,12041.82399717232,18167.117066383566,8730.7517941048391,8284.2804239036122,4388.1027847234827,15289.40876460815,5111.6967184422901,5004.9520002916415,3137.7478694518459,6147.8441004935867,2104.2693582352549,16665.286989516047,5300.7544871191394,10531.839119295899,24289.519815434469,17747.350074276528,20872.071279902179,3547.744234840537,6866.6903873221163,10625.657808312699,5636.1832318387806,21154.889871696188,1088.3932044335211,6338.4427637107729,12078.432003426389,10885.671385135207,3407.8109546877313,7576.5518196117464,26543.502073102471,4066.8051529846216,5554.9139122160432,14565.256466478033,6,{"$f":"AX14+AX21","v":710743},38646,22891,34728,46897,38318,81155,125080,63170,82426,112236,2269,5652,46769,10506,26389,31942,17849,19011,8556,34728,13578,9994,6329,13851,4164,58418,10506,19800,46897,58831,44159,7589,13394,22824,12976,42809,2269,15342,25167,22891,5652,15676,49497,9962,13120,26573]
["Q 4",349062.50802947453,19213.235854623941,15418.170938691765,11384.332027960001,26398.063564640808,22374.917899763117,57458.78968410685,47171.816429797625,32976.137285154502,29184.134320462814,44507.769436261297,4207.4669760906345,5149.8970929154384,37059.7566354601,217.87016978377875,10754.030581570754,37802.104582098415,14590.204332766534,7054.2558835715245,3252.2363597620947,11384.332027960003,5378.2408147815913,6885.6474067787976,6557.1351050737121,11705.000523535096,5324.8554809476354,16150.765337317474,217.87016978377875,11869.807807986796,26398.063564640808,16474.469838840188,26071.344879923603,4511.844979369369,7141.5757739242235,10490.550231470343,7359.3050696762402,14765.30492734331,4207.4669760906345,17986.074685830037,7877.4208818787674,15418.170938691765,5149.8970929154384,4864.1223048609554,21761.354526937575,6981.1290509536702,2448.4918056211709,11754.232867992712,7,{"$f":"AX15+AX22","v":715135},37111,29444,23642,46655,41323,102209,114410,64731,51708,108101,8029,7726,79647,399,21508,59959,27168,14778,5786,23642,12811,12530,12138,23430,9588,52389,399,20234,46655,50990,49953,8781,12674,20742,15373,27250,8029,39668,15164,29444,7726,9208,36878,15303,5329,19608]
["Q 5",326417.15971376421,15601.862142582124,2161.3189800437626,3101.3147239623468,26663.16743433048,20969.302220237234,70813.657230455559,57898.063545443671,8682.766943405868,26065.36266167173,69281.50801497919,221.39514988420183,691.37595657318184,19968.310350545809,0,30799.675588814898,36744.13796804694,4831.3951408987041,2400.6534152415088,2315.5133307935539,3101.3147239623477,6598.1979064808265,5132.9752780269391,17792.293779485015,5271.6312562409721,17653.8400972776,40125.802252100955,0,11694.899095373356,26663.16743433048,11995.200055131416,6267.452763975868,3055.4802240798608,5144.3933962100573,3591.9625509530269,3515.5613587917069,10333.042343665085,221.39514988420183,8373.9471429432124,12515.052723969271,2161.3189800437626,691.37595657318207,7116.3933024355701,18909.113921373166,6696.1821512563492,1496.3908716487012,11369.953607252271,8,{"$f":"AX16+AX23","v":697716},31282,4234,6555,50600,40891,129805,143967,17709,48028,178088,428,1027,45102,0,62707,59650,9428,5313,4328,6555,16467,9638,33877,10924,32789,138358,0,20582,50600,37713,12396,6070,9328,7448,7684,19820,428,19207,24872,4234,1027,13960,33524,15981,3330,19478]
["Males, by SIMD",null,null,null,null,null,null,null,null,null,null,null,null,null,null,null,null,null,null,null,null,null,null,null,null,null,null,null,null,null,null,null,null,null,null,null,null,null,null,null,null,null,null,null,null,null,null,null,9]
["Males",null,null,null,null,null,null,null,null,null,null,null,null,null,null,null,null,null,null,null,null,null,null,null,null,null,null,null,null,null,null,null,null,null,null,null,null,null,null,null,null,null,null,null,null,null,null,null,10]
["Q 1",{"$f":"SUM(B68:B77)","v":110540.08997686573},{"$f":"SUM(C68:C77)","v":11685.35151048974},608.93555867728708,1083.019815607307,8392.4935505585127,5016.5320325520652,4615.070915836508,39669.98790726134,2761.7616659511709,16752.289192204029,9130.0857446721839,0,0,7300.8814338367592,0,3655.4380323738264,725.02696388206232,879.38232990072288,661.32930553019958,1623.4864931552602,1083.0198156073077,5082.0936779809908,4484.7745529081849,394.15747998542008,454.33907904756882,755.73212651765823,4474.4464991510586,0,2678.8108986819639,8392.4935505585127,21436.117270945902,2104.2914004881877,3738.5623141826691,694.45823282074116,123.45970287022638,5107.3435862287897,12221.111470535068,0,928.94671132609335,5829.1132051307277,608.93555867728708,0,2053.0502464932438,7206.5437528431085,806.14157445663182,2911.5250288452148,3270.9806690280657,11,{"$f":"SUM(AX68:AX77)","v":323710},{"$f":"SUM(AY68:AY77)","v":31080},1669,3535,20431,13273,11719,137031,8214,43200,31103,0,0,22455,0,9682,1663,2451,2204,4202,3535,17221,11120,1177,1318,2042,20035,0,6483,20431,91359,6010,10617,1785,374,14350,32635,0,2783,15164,1669,0,5610,17909,2588,9328,7965]
["Q 2",{"$f":"SUM(B109:B118)","v":141939.65646811717},{"$f":"SUM(C109:C118)","v":14158.478292344727},2127.632498309752,3683.3230500290174,12123.576825057016,10694.65077278928,10944.366413260183,25869.356924260639,7638.7861030870781,24496.381439244135,19268.546432916675,635.13181311228448,109.65930848526705,9080.3674968451578,1092.0792293619315,6729.8134419538119,2638.5184041962902,2780.7915596261469,1684.150347483243,1426.2987161528888,3683.3230500290174,3633.1324198737939,5821.2278265516497,2260.6706357027515,2552.9353944163399,1156.8257910522657,6615.105360265813,1092.0792293619311,7125.9846583409508,12123.576825057016,11690.630779304001,5986.874111432574,1666.8620859266639,3326.0565467845972,1287.0519823874083,4216.2051537474335,14579.699946727882,635.13181311228448,2605.2443061416593,3904.4474678185134,2127.632498309752,109.65930848526709,4158.3099928722177,11483.2485789317,2303.6832304245791,3287.0657123747646,8325.7437244136818,12,{"$f":"SUM(AX109:AX118)","v":334223},{"$f":"SUM(AY109:AY118)","v":29894},4706,9484,23691,22463,22715,72114,18126,50396,53271,1410,201,22741,3011,14621,4951,6172,4452,2908,9484,10320,11435,5335,5933,2532,24141,3011,13750,23691,40192,13674,3783,6929,3143,9436,31075,1410,6249,8261,4706,201,9023,22875,5805,8457,16268]
["Q 3",{"$f":"SUM(B150:B159)","v":163813.21462222817},{"$f":"SUM(C150:C159)","v":9846.8034625659675},5624.7528018861594,7217.3557751955568,12899.740949647799,9922.5329566772307,21376.478471216102,24302.957459971389,14372.715582258739,21581.781466072352,22312.585512609585,579.32562155622975,1829.184033350765,10189.292590349376,2114.0652034179134,6747.8682611226341,9212.3921731758201,4325.7672429286604,3811.9871847317268,2398.0454925703925,7217.3557751955577,2625.8377167605317,2879.2615402757651,1583.5060677422814,3082.103439963259,1009.7405189888789,8976.6606772201594,2114.0652034179129,5535.0587077694063,12899.740949647799,9287.8315980924326,10525.749288568613,1778.875382981045,3450.1401302109234,5008.3290382695805,3066.3054150182584,10837.93659921345,579.32562155622975,3434.1522041992462,6402.8975723464973,5624.7528018861594,1829.1840333507653,3814.7882866701921,13308.1168918446,2084.5581390824068,2744.1719406756106,7467.3006837725761,13,{"$f":"SUM(AX150:AX159)","v":352691},{"$f":"SUM(AY150:AY159)","v":19081},11405,17007,23013,19155,40613,61883,31246,40630,56144,1164,2927,23095,5328,13510,15887,8811,9203,4512,17007,6706,5192,3379,6609,2033,29705,5328,9773,23013,29335,22043,3710,6528,11216,6285,21142,1164,7578,12272,11405,2927,7604,24219,4870,6423,13302]
["Q 4",{"$f":"SUM(B191:B200)","v":181253.15932457452},{"$f":"SUM(C191:C200)","v":10318.827981423703},7863.0203437122454,5508.9470207880831,14105.864618460895,11713.026245438736,30119.789650024832,23936.50703488346,16418.089488894217,14990.61170057345,23412.318220447596,2187.8987656080876,2769.1743078872059,19386.391329033595,86.610398656881017,6017.2356168550887,19512.888665167266,7376.1032182893186,3317.3241685496291,1682.2567476062011,5508.947020788084,2705.4278207285442,3766.4017381693884,2966.1044122079857,5989.4596318183812,2565.8470261392008,8649.0496080226203,86.610398656880989,6289.8089049941036,14105.864618460895,8599.2680597958661,13215.024764647989,2253.2720875903055,3660.9606840587012,5111.6198331968772,4047.7296269080111,7592.1665675709692,2187.8987656080876,9885.9514944342336,4170.6118463173098,7863.0203437122454,2769.1743078872059,2462.8285188542923,11086.833320614121,3602.9302797353807,1230.7993251030666,5966.6799732203344,14,{"$f":"SUM(AX191:AX200)","v":352837},{"$f":"SUM(AY191:AY200)","v":17995},14326,11738,22840,20299,51377,55711,32081,25499,53435,3985,3975,39377,199,10852,30118,13544,7236,2864,11738,6162,6104,5859,11423,4640,26148,199,9959,22840,24968,24845,4215,6259,10407,7461,13371,3985,19671,7343,14326,3975,4430,18178,7476,2636,9605]
["Q 5",{"$f":"SUM(B232:B241)","v":168625.75802179417},{"$f":"SUM(C232:C241)","v":8413.3314328120214},1108.1722005143181,1470.0160525390995,14299.105745841915,11003.392011055999,37015.17370293045,29209.212554226469,4355.9932971494582,13277.234410002173,36146.100783629001,113.45236078218888,363.91357713821412,10211.38610810225,0,16981.560908601412,18837.539980990841,2374.0934013510591,1217.6168669361487,1186.2050456083534,1470.0160525391,3304.799981601469,2811.6262441621661,8146.5304518839239,2709.188726030884,8498.2563721396436,21014.781302131123,0,6280.1059823025789,14299.105745841915,6150.2377432338199,3118.5110742138622,1545.9654920724981,2627.1305159005369,1823.1761318115546,1951.3368043109294,5317.2232634952652,113.45236078218888,4498.9479322364705,6688.4570183176238,1108.1722005143181,363.91357713821424,3626.1704133376343,9518.1796495495601,3422.2352622562994,748.49973139360145,5873.1187290678854,15,{"$f":"SUM(AX232:AX241)","v":342843},{"$f":"SUM(AY232:AY241)","v":15214},2076,3198,24624,20166,65385,70020,8887,23527,87311,213,519,21703,0,31586,29863,4557,2845,2104,3198,7876,4688,16559,5370,15898,67587,0,10392,24624,18284,6042,2954,4568,3936,3760,9779,213,9270,12129,2076,519,6766,16298,7670,1646,9786]
["Females, by SIMD",null,null,null,null,null,null,null,null,null,null,null,null,null,null,null,null,null,null,null,null,null,null,null,null,null,null,null,null,null,null,null,null,null,null,null,null,null,null,null,null,null,null,null,null,null,null,null,16]
["Females",null,null,null,null,null,null,null,null,null,null,null,null,null,null,null,null,null,null,null,null,null,null,null,null,null,null,null,null,null,null,null,null,null,null,null,null,null,null,null,null,null,null,null,null,null,null,null,17]
["Q 1",{"$f":"SUM(B88:B97)","v":87563.014584720018},{"$f":"SUM(C88:C97)","v":8516.3559653665343},491.577698536517,1013.6848003313513,6062.2273403401805,3875.8179013786007,3488.9007217402586,32496.502593069243,2336.7959280744108,13417.286069557476,6934.6404874705977,0,0,5718.8602979555781,0,2541.5128769940175,504.85609102368676,763.60625044874928,596.20574602227782,1300.7613036520988,1013.6848003313519,4135.4861348546528,3144.9323963983297,412.32011336895289,355.14404851607594,732.2404855633838,3313.1276547966277,0,1965.267297831115,6062.2273403401805,16977.295109799372,1744.2274078348337,3051.611663201254,573.98642275177053,87.718102083116364,3610.9366838757169,9619.1284546665192,0,648.84627426991722,4154.8652484093982,491.577698536517,0,1603.0270249610828,5880.7391534614744,679.43477204812189,2600.0926465962179,2673.2986121738077,18,{"$f":"SUM(AX88:AX97)","v":345943},{"$f":"SUM(AY88:AY97)","v":34113},1831,3768,21694,14251,11759,147399,8519,46103,32637,0,0,23869,0,9916,1522,2648,2234,4554,3768,18289,12116,1314,1393,2400,20652,0,6775,21694,97875,6285,11402,1969,321,16069,34720,0,2932,16016,1831,0,5928,19258,2922,10517,8623]
["Q 2",{"$f":"SUM(B129:B138)","v":124052.04591790999},{"$f":"SUM(C129:C138)","v":11755.222090928923},1851.6845532259517,3961.6123896325234,9904.4030605412172,9237.7110981156311,9275.4989642146174,22754.68092666649,7566.5849261914982,22121.150288773642,16441.100303779938,530.7243494775737,107.11111952521919,7308.6167549062829,1505.7739041703514,4922.317854553532,2413.1231914577297,2565.2213643206173,1821.660704552364,1260.8272759050408,3961.6123896325244,3078.609637701742,4546.1025673174245,2620.0181259087763,2430.5687751565442,1201.140467528699,5309.5676041338766,1505.7739041703519,5957.8279100937834,9904.4030605412172,9425.4507700963131,5758.8070683946498,1492.9496037123172,3142.0821994074058,1368.8465226692908,3393.235861949066,13096.856392599037,530.72434947757358,1754.3427108089631,3223.836788084619,1851.6845532259517,107.11111952521919,3914.9777174272949,10499.981624990611,2096.5459186435614,3230.2137757608753,7563.580057680444,19,{"$f":"SUM(AX129:AX138)","v":345708},{"$f":"SUM(AY129:AY138)","v":32494},4867,10164,24725,23607,22694,72957,19188,52830,55557,1372,218,22141,2894,14078,5174,6282,4684,3049,10164,10245,12083,5764,6666,2752,24338,2894,14293,24725,38899,14504,3834,7521,3442,10420,32796,1372,5614,8699,4867,218,9991,23968,6265,9075,17032]
["Q 3",{"$f":"SUM(B170:B179)","v":152891.58269926001},{"$f":"SUM(C170:C179)","v":8365.578312314834},5260.9185832490484,8072.0529894125903,11389.778865786669,8895.2480464070431,19925.543587920605,23357.542099296552,14808.986297422647,20861.629446786552,20018.292791268294,509.06758287729133,1578.6269213369662,9469.6152437821274,3186.6892837012256,5293.9557360496856,8954.7248932077455,4404.9845511761796,4472.2932391718859,1990.0572921530904,8072.0529894125921,2485.8590016817589,2125.6904600158759,1554.2418017095642,3065.7406605303281,1094.5288392463758,7688.6263122958871,3186.6892837012265,4996.7804115264926,11389.778865786669,8459.5184761840956,10346.321991333563,1768.868851859492,3416.5502571111929,5617.3287700431174,2569.8778168205222,10316.953272482739,509.06758287729122,2904.2905595115271,5675.5344310798919,5260.9185832490484,1578.6269213369662,3761.7635329415543,13235.38518125787,1982.2470139022148,2810.7419715404326,7097.9557827054568,20,{"$f":"SUM(AX170:AX179)","v":358052},{"$f":"SUM(AY170:AY179)","v":19565},11486,17721,23884,19163,40542,63197,31924,41796,56092,1105,2725,23674,5178,12879,16055,9038,9808,4044,17721,6872,4802,2950,7242,2131,28713,5178,10027,23884,29496,22116,3879,6866,11608,6691,21667,1105,7764,12895,11486,2725,8072,25278,5092,6697,13271]
["Q 4",{"$f":"SUM(B211:B220)","v":167809.34870490001},{"$f":"SUM(C211:C220)","v":8894.4078732002363},7555.1505949795201,5875.385007171918,12292.198946179913,10661.891654324383,27339.000034082019,23235.309394914166,16558.047796260289,14193.522619889365,21095.4512158137,2019.5682104825469,2380.7227850282325,17673.365306426505,131.25977112689773,4736.7949647156647,18289.215916931153,7214.1011144772147,3736.9317150218949,1569.9796121558936,5875.3850071719189,2672.8129940530466,3119.2456686094092,3591.0306928657265,5715.5408917167151,2759.0084548084351,7501.7157292948541,131.25977112689776,5579.998902992691,12292.198946179913,7875.2017790443206,12856.320115275614,2258.572891779063,3480.6150898655219,5378.9303982734655,3311.5754427682295,7173.1383597723398,2019.5682104825464,8100.1231913958036,3706.8090355614577,7555.1505949795201,2380.7227850282325,2401.2937860066631,10674.521206323452,3378.1987712182895,1217.6924805181045,5787.5528947723769,21,{"$f":"SUM(AX211:AX220)","v":362298},{"$f":"SUM(AY211:AY220)","v":19116},15118,11904,23815,21024,50832,58699,32650,26209,54666,4044,3751,40270,200,10656,29841,13624,7542,2922,11904,6649,6426,6279,12007,4948,26241,200,10275,23815,26022,25108,4566,6415,10335,7912,13879,4044,19997,7821,15118,3751,4778,18700,7827,2693,10003]
["Q 5",{"$f":"SUM(B252:B261)","v":157791.40169197001},{"$f":"SUM(C252:C261)","v":7188.5307097701025},1053.1467795294445,1631.2986714232475,12364.061688488566,9965.9102091812347,33798.48352752511,28688.850991217198,4326.7736462564098,12788.128251669557,33135.407231350189,107.94278910201297,327.46237943496777,9756.9242424435597,0,13818.114680213488,17906.597987056099,2457.301739547645,1183.0365483053602,1129.3082851852007,1631.2986714232479,3293.3979248793576,2321.349033864773,9645.7633276010911,2562.4425302100881,9155.5837251379544,19111.020949969832,0,5414.7931130707757,12364.061688488566,5844.9623118975969,3148.9416897620058,1509.5147320073629,2517.2628803095204,1768.7864191414724,1564.2245544807772,5015.8190801698202,107.94278910201294,3874.9992107067419,5826.5957056516463,1053.1467795294445,327.46237943496777,3490.2228890979363,9390.9342718236076,3273.9468890000494,747.8911402550998,5496.8348781843861,22,{"$f":"SUM(AX252:AX261)","v":354873},{"$f":"SUM(AY252:AY261)","v":16068},2158,3357,25976,20725,64420,73947,8822,24501,90777,215,508,23399,0,31121,29787,4871,2468,2224,3357,8591,4950,17318,5554,16891,70771,0,10190,25976,19429,6354,3116,4760,3512,3924,10041,215,9937,12743,2158,508,7194,17226,8311,1684,9692]
["age/sex breakdown: All",null,null,null,null,null,null,null,null,null,null,null,null,null,null,null,null,null,null,null,null,null,null,null,null,null,null,null,null,null,null,null,null,null,null,null,null,null,null,null,null,null,null,null,null,null,null,null,23]
["Male <1",null,null,null,null,null,null,null,null,null,null,null,null,null,null,null,null,null,null,null,null,null,null,null,null,null,null,null,null,null,null,null,null,null,null,null,null,null,null,null,null,null,null,null,null,null,null,null,24]
["Male 1-4",null,null,null,null,null,null,null,null,null,null,null,null,null,null,null,null,null,null,null,null,null,null,null,null,null,null,null,null,null,null,null,null,null,null,null,null,null,null,null,null,null,null,null,null,null,null,null,25]
["Male 5-9",null,null,null,null,null,null,null,null,null,null,null,null,null,null,null,null,null,null,null,null,null,null,null,null,null,null,null,null,null,null,null,null,null,null,null,null,null,null,null,null,null,null,null,null,null,null,null,26]
["Male 10-14",null,null,null,null,null,null,null,null,null,null,null,null,null,null,null,null,null,null,null,null,null,null,null,null,null,null,null,null,null,null,null,null,null,null,null,null,null,null,null,null,null,null,null,null,null,null,null,27]
["Male 15-19 (16+)",{"$f":"B68+B109+B150+B191+B232","v":36712.848181804569},{"$f":"C68+C109+C150+C191+C232","v":2736.5299216799417},861.31793682785803,986.16952935249378,3045.9949733931844,2455.9542614013767,4812.9920179697801,6679.9929386812219,2262.45126343216,4474.2076517013857,4873.4688918076936,178.96353513494412,269.88541624014249,2899.9631377480628,151.72404964730165,1625.791919795337,2457.9942723146851,905.81869801959397,569.74233492536928,403.213383543286,986.16952935249401,908.32172518454286,965.5210794108973,847.64535030127786,779.29698062756086,786.77756678217474,1980.7286535494163,151.72404964730163,1338.9177366743088,3045.9949733931844,2463.2494977701012,1691.7102108665774,515.98812054057396,691.13869153951816,740.47611379430111,980.0675444670278,2480.2864955539435,178.96353513494412,1097.640333888399,1296.4266364658556,861.31793682785803,269.88541624014255,779.09324373204299,2527.5034044790541,697.95632590031914,545.64530797758925,1533.6268960570208,28,{"$f":"AX68+AX109+AX150+AX191+AX232","v":131719},{"$f":"AY68+AY109+AY150+AY191+AY232","v":9305},2618,3636,9084,7795,14099,30323,7645,14676,20255,526,618,10538,601,5267,6362,2855,2138,1312,3636,4031,3117,2917,2565,2520,10985,601,3938,9084,14560,5507,1970,2095,2470,3587,8707,526,3652,4279,2618,618,2601,7720,2545,2326,4610]
["Male 20-24",{"$f":"B69+B110+B151+B192+B233","v":51130.581421685434},{"$f":"C69+C110+C151+C192+C233","v":3110.2458705187378},853.98628660410748,1029.3326675933147,3974.2003363947679,3025.9825671961471,7197.0298136426854,10531.898097189312,2449.9630713844076,5356.6048024620122,8178.3132320199957,202.18917037941515,284.40350732864084,4054.7738887814717,168.30441717743651,3649.300605013711,2677.6371466665078,1023.6136865041034,602.41004038736037,446.31642067036933,1029.3326675933149,1780.5414876946206,1149.9252470104593,974.08663300338833,811.54312780613805,860.28710341455371,4291.3812319364297,168.30441717743648,1509.7759500635127,3974.2003363947679,4947.2126556521744,1848.6353976889154,683.94209105409891,824.55141717932406,804.45260418329531,1055.1910797052974,3024.9041105377396,202.18917037941515,1187.7398124815275,1666.8758970588233,853.98628660410748,284.40350732864084,898.04551456153706,2966.7901719011579,1010.7475403383577,681.76205415743186,1714.0030506015694,29,{"$f":"AX69+AX110+AX151+AX192+AX233","v":184447},10758,2640,3839,11911,9716,21333,47520,8360,17712,33660,601,649,15074,674,11664,6964,3226,2302,1455,3839,7764,3742,3340,2681,2751,23278,674,4507,11911,28182,6058,2596,2492,2705,3944,10702,601,4084,5610,2640,649,3072,9142,3754,2909,5209]
["Male 25-29",82535.604211985337,{"$f":"C70+C111+C152+C193+C234","v":4905.2377330771615},1319.1063495848557,1688.2557932354293,5800.0063727594516,4486.148418361212,11832.272722204569,17421.465331302803,4153.2477025575408,8816.361750703305,13574.856068645347,313.14560673667637,485.04954144102629,6085.4263000313986,268.89846504102127,6003.6534063736253,4388.7707449718027,1580.3383909598924,908.6629865243716,771.2960994729101,1688.2557932354293,2443.537716128425,1921.6060985508354,1258.9659672808866,1211.2913338215699,981.16849000313732,7173.1473800493532,268.89846504102121,2599.1559847730668,5800.0063727594516,8649.5071205205495,3263.1564526202042,1097.7706927940803,1253.6640490070536,1329.2956732470859,1620.3619603817424,5137.0766515241176,313.14560673667637,1997.7932344762705,2788.1027966481406,1319.1063495848557,485.04954144102635,1363.2737201659841,4771.8526698644855,1126.6145929157062,1164.271638213246,3032.690000638152,30,170737,9516,2413,3654,9999,8265,20401,44563,8299,16528,32173,558,665,13074,629,11039,6708,2945,2021,1433,3654,6122,3468,2478,2358,1811,22340,629,4409,9999,27678,6278,2346,2209,2654,3379,10191,558,4007,5365,2413,665,2669,8428,2423,2794,5266]
["Male 30-34",79165.783618634654,{"$f":"C71+C112+C153+C194+C235","v":4871.7153327334809},1347.00727597277,1512.902207303327,5965.1876806956188,4637.7774889474604,11227.561237322527,15889.330845843462,4208.866431500177,9296.2662232781549,12770.863850438242,298.28546758985436,498.84536393337407,5457.3062825365823,284.6795760404475,5143.4532742636902,4806.1067528935928,1591.4629853316771,861.36887835478933,807.9936195348597,1512.9022073033275,1860.2609582819534,1841.7287734996371,1090.71823506906,1232.8814941065921,1023.5589603558445,6455.6210896190541,284.67957604044744,2877.1426230762581,5965.1876806956188,7616.5526981114353,3375.1596771266045,986.25631702275825,1308.5955922435714,1254.6825246519609,1640.1140688325959,5439.9977069987663,298.28546758985436,2001.178613355542,2611.1467252194484,1347.00727597277,498.84536393337419,1382.8763701271937,5197.8353117210636,1007.8265806613924,1048.3398482309317,3151.2224476608453,31,163281,9372,2472,3278,10234,8491,19323,40689,8342,17310,30283,526,687,11609,665,9493,7327,2966,1900,1496,3278,4642,3307,2163,2381,1879,20191,665,4852,10234,24507,6442,2101,2283,2503,3391,10679,526,4001,5014,2472,687,2674,9151,2143,2505,5428]
["Male 35-39",85554.399789776828,{"$f":"C72+C113+C154+C195+C236","v":5775.0043177857333},1684.2599758178708,1764.0847703930008,6919.4310098957467,5485.850179394175,12037.958753396026,16021.142443891982,4530.9186408975993,10543.517407250016,13476.190008746613,333.84235146903143,596.56877383005212,5597.2810267004861,337.01587560914965,4721.2416312458945,6092.9147096258312,1814.6702625758812,985.80498011617806,922.6298700135502,1764.0847703930012,1706.7474476045709,2202.7222957783233,1486.4567759090992,1701.0827627976864,1476.3765273539477,6233.2893389050696,337.01587560914959,3393.0705028525672,6919.4310098957467,6774.7284210159578,3566.1899670040611,1119.3634648998379,1541.2475573725255,1320.4399716672795,1937.2562269714572,6050.527299064097,333.84235146903143,2109.2832146719602,2864.0599354126534,1684.2599758178708,596.56877383005224,1628.7267683728558,5978.65457263186,1227.510408852201,1132.0200641275535,3759.7187519327335,32,158158,9821,2858,3558,10638,8999,18614,36248,8305,17614,28782,546,775,10640,760,7748,8394,3083,2018,1543,3558,3759,3489,2586,2990,2358,17480,760,5117,10638,19435,6287,2082,2452,2472,3520,10629,546,3798,4854,2858,775,2812,9495,2339,2423,5860]
["Male 40-44",101085.89464011561,{"$f":"C73+C114+C155+C196+C237","v":7437.4267301701975},2413.8191889476102,2395.8418804304283,8450.0656160967774,6916.7694586428233,13266.138975301827,18639.647384961885,5731.0150031795793,12821.73101542427,14294.999259743208,443.77570740672951,621.39325923718616,7041.9269174123474,452.94856077557876,4578.2488340589962,6969.470490633832,2310.3950531075129,1320.3940835532499,1209.0025861727929,2395.8418804304288,2038.6145887118018,2806.8713519973453,2043.5121178343443,2079.5622994086762,1908.6699309832193,5993.6261512901092,452.9485607755787,4086.5101374388237,8450.0656160967774,7194.0496262381848,4426.3535900580791,1418.5697933129597,1864.8787093004762,1807.0757985061698,2508.5273927858298,7159.1435131740964,443.77570740672951,2749.9957588214484,3574.8763088393207,2413.8191889476102,621.39325923718616,2110.7815006891319,7461.0202994395559,1658.9875362843884,1438.8534936848982,4570.9230005067948,33,186186,12583,4067,4808,12949,11318,20449,41973,10483,21298,30408,719,808,13303,1020,7482,9587,3902,2700,2011,4808,4471,4441,3541,3648,3039,16730,1020,6165,12949,20659,7783,2630,2956,3380,4539,12524,719,4930,6054,4067,808,3603,11771,3142,3053,7074]
["Male 45-49",105742.88250721589,{"$f":"C74+C115+C156+C197+C238","v":7863.5128129315663},2698.2259896814421,2884.8406308476151,8749.3500773025753,7083.9026109566939,13777.29500449554,18882.517017272825,6682.6622981353303,13133.101475906076,14370.799852831833,549.90884162776672,736.8337266271476,7826.4839671532127,470.59192581325254,4551.9062889375145,7386.2065082149602,2625.3112998518941,1597.1572788284802,1234.4831400546504,2884.840630847616,2064.2237719404011,2858.2433027690918,2371.83829826293,2281.4412515945132,2216.6843432217975,5863.9540522042207,470.59192581325243,4070.2240149113231,8749.3500773025753,6607.3861981870577,5095.2989455129436,1649.6414137658817,1978.6247819386579,1940.7951778549052,2646.9982152729608,7155.6544817098656,549.90884162776672,3228.7889375508453,3936.7674011684912,2698.2259896814421,736.83372662714771,2336.3136335001436,7574.815529716845,1791.7411505937307,1589.0162084996823,4560.861094978296,34,199540,13868,4547,5778,13722,11831,21336,44696,12272,22523,31011,904,949,15072,1031,7588,10168,4450,3259,2111,{"$f":"BR74+BR115+BR156+BR197+BR238","v":5778},4790,4763,4148,4032,3591,16636,1031,6272,13722,20573,9013,3252,3174,3580,5042,13118,904,5832,6810,4547,949,4063,12178,3448,3549,7169]
["Male 50-54",99879.892950581503,{"$f":"C75+C116+C157+C198+C239","v":7690.1568283143006},2599.4603124693072,2798.0232632930342,8351.7687874300791,6431.8879526982928,13010.6717251755,17973.808456488005,6516.2564916022166,12228.861346696445,13155.829166531614,506.85189230357196,669.81988412587884,7450.2216349170412,487.34615886363184,4350.3424178309724,6968.708333735869,2491.9511848832281,1588.2908757971418,1110.2493594213242,2798.0232632930347,2072.4196894947863,2656.6350734730522,2348.3276841407428,2143.970620300759,2173.213917702486,5355.2616887498043,487.34615886363162,3682.6391386134251,8351.7687874300791,6050.0450034075066,4932.9203568180883,1631.7451233516015,1872.9096106442692,1792.4780674165734,2583.3149507448616,6475.3353912376751,506.85189230357196,2959.935189190991,3831.6177061040253,2599.4603124693072,669.81988412587884,2415.9503501870217,7349.6221061735923,1645.7097907694929,1525.0639850283219,4069.4212417473627,35,{"$f":"AX75+AX116+AX157+AX198+AX239","v":188241},13538,4366,5589,13115,10768,20166,42386,11967,20973,28287,834,863,14320,1069,7248,9611,4213,3231,1898,5589,4761,4424,4103,3795,3513,15100,1069,5697,13115,18842,8736,3184,3007,3307,4922,11880,834,5346,6643,4366,863,4192,11835,3173,3359,6385]
["Male 55-59",63739.002209313243,{"$f":"C76+C117+C158+C199+C240","v":4982.2886459488054},1750.0408189275759,1892.5577601526986,5311.2761047323702,3939.1332480381411,8691.0006774950689,11145.638637017542,4472.9094332852655,7554.8150609437535,8096.4135609991326,354.09906790063906,442.15993131786161,4891.8296280299264,321.02052355089398,2899.7760378957169,4664.2374415292052,1656.310962853189,1108.1659961204816,701.56043102015042,1892.5577601526988,1282.5267700419238,1700.8293640888314,1537.8262933412061,1345.8778822842148,1377.448168572429,3350.7370778055501,321.02052355089387,2186.0100743955722,5311.2761047323702,3709.493202718118,3365.4789613499634,971.7266692175956,1209.1899952516408,1195.7446948073912,1687.3801839466084,3977.7149267534764,354.09906790063906,2012.4903115225809,2308.2826868155025,1750.0408189275759,442.15993131786172,1569.6421017109787,4627.0593994571182,1044.0098008098744,947.57612107277771,2311.9622413355837,36,166198,12207,4031,5250,11560,9129,18536,36378,11366,18113,24112,802,782,12931,1001,6691,8811,3852,3133,1663,5250,4109,3942,3697,3272,3053,13071,1001,4705,11560,16055,8233,2622,2705,3034,4443,10197,802,4970,5499,4031,782,3822,10423,2761,2945,5064]
["Male 60-64",60624.988882466758,{"$f":"C77+C118+C159+C200+C241","v":5050.6744864762341},1805.2892682663655,2010.6532115577204,5253.5007308655704,3886.7278328769917,8217.9582262645654,9802.5807279542532,4539.0558013663886,6872.8314737307192,7477.9028025113676,334.74692051016223,466.97182278014236,4863.1061748566117,350.22527891801212,2608.2018454913168,4514.3197868259967,1736.2652280089362,1150.4104186235247,709.54758518920266,2010.6532115577213,1194.0974618623031,1659.2093154886802,1391.5916923794266,1201.0785185287223,1182.2168264480572,3032.2967826817676,350.22527891801201,2166.322989290145,5253.5007308655704,3151.8610277509379,3385.547080305786,908.53367679379312,1213.9457052984631,1168.1960624066846,1729.7089631050412,3647.4972709888598,334.74692051016223,2008.3972423781377,2117.3710161984118,1805.2892682663655,466.97182278014247,1630.4442551806906,4147.7687283983578,1008.4447588298355,849.51301739982546,2199.3950540441847,37,157797,12296,4170,5572,11387,9044,17552,31983,11515,16505,22293,756,826,12810,1088,6031,8550,4043,3238,1668,5572,3836,3846,3336,2931,2630,11805,1088,4695,11387,13647,8277,2496,2696,2971,4525,9375,756,4931,5041,4170,826,3925,9336,2681,2627,4861]
["Male 65-69",null,null,null,null,null,null,null,null,null,null,null,null,null,null,null,null,null,null,null,null,null,null,null,null,null,null,null,null,null,null,null,null,null,null,null,null,null,null,null,null,null,null,null,null,null,null,null,38]
["Male 70-74",null,null,null,null,null,null,null,null,null,null,null,null,null,null,null,null,null,null,null,null,null,null,null,null,null,null,null,null,null,null,null,null,null,null,null,null,null,null,null,null,null,null,null,null,null,null,null,39]
["Male 75-79",null,null,null,null,null,null,null,null,null,null,null,null,null,null,null,null,null,null,null,null,null,null,null,null,null,null,null,null,null,null,null,null,null,null,null,null,null,null,null,null,null,null,null,null,null,null,null,40]
["Male 80-84",null,null,null,null,null,null,null,null,null,null,null,null,null,null,null,null,null,null,null,null,null,null,null,null,null,null,null,null,null,null,null,null,null,null,null,null,null,null,null,null,null,null,null,null,null,null,null,41]
["Male 85+",null,null,null,null,null,null,null,null,null,null,null,null,null,null,null,null,null,null,null,null,null,null,null,null,null,null,null,null,null,null,null,null,null,null,null,null,null,null,null,null,null,null,null,null,null,null,null,42]
["Female <1",null,null,null,null,null,null,null,null,null,null,null,null,null,null,null,null,null,null,null,null,null,null,null,null,null,null,null,null,null,null,null,null,null,null,null,null,null,null,null,null,null,null,null,null,null,null,null,43]
["Female 1-4",null,null,null,null,null,null,null,null,null,null,null,null,null,null,null,null,null,null,null,null,null,null,null,null,null,null,null,null,null,null,null,null,null,null,null,null,null,null,null,null,null,null,null,null,null,null,null,44]
["Female 5-9",null,null,null,null,null,null,null,null,null,null,null,null,null,null,null,null,null,null,null,null,null,null,null,null,null,null,null,null,null,null,null,null,null,null,null,null,null,null,null,null,null,null,null,null,null,null,null,45]
["Female 10-14",null,null,null,null,null,null,null,null,null,null,null,null,null,null,null,null,null,null,null,null,null,null,null,null,null,null,null,null,null,null,null,null,null,null,null,null,null,null,null,null,null,null,null,null,null,null,null,46]
["Male 15-19 (16+)",{"$f":"B88+B129+B170+B211+B252","v":28920.498415835988},{"$f":"C88+C129+C170+C211+C252","v":1935.4483134998802},687.0133807168238,893.09704606219168,2291.4365999654397,1822.5337311099083,3864.7228278818875,5491.3472019909359,1896.9312726975149,3501.0834254427864,3715.969533013309,144.01817032132428,197.57307757469704,2311.2816138275534,218.79871292418375,1280.4438011724765,1913.5865006313381,758.84944110354479,507.06722549096799,314.97780748985264,893.09704606219179,834.51070281284444,653.25232902352388,734.12180776771129,635.3435682616049,639.49996416914018,1510.863758341337,218.7987129241838,928.36897088044122,2291.4365999654397,2078.2060164597888,1392.3701011454907,450.95649708609403,526.74559335734261,653.26219616394781,664.066479845819,1909.7440999357664,144.01817032132425,729.88004026629847,915.63689735208118,687.0133807168238,197.57307757469704,617.3877709729943,2022.3437949343802,559.85093129601444,451.43109457736421,1185.6701242769166,47,{"$f":"AX88+AX129+AX170+AX211+AX252","v":126402},{"$f":"AY88+AY129+AY170+AY211+AY252","v":8882},2497,3390,9083,7323,13728,29138,7069,13682,19567,506,536,10372,629,5586,5856,2717,1918,1241,3390,4287,2944,2542,2536,2319,10828,629,3521,9083,14455,5151,1944,1931,2286,3402,8043,506,3368,4045,2497,536,2536,7304,2561,2168,4272]
["Female 20-24",{"$f":"B89+B130+B171+B212+B253","v":42194.561673884018},2308.8664713882572,694.07890632904412,975.33020122173912,3112.9692293634871,2416.229897544401,5765.9809721398842,9314.0743192619648,1948.9209553769679,4366.3414976049116,6833.8401693091655,149.66885028085719,223.33043501129873,3192.9017989230642,183.26558969421433,2850.7173918098706,2006.9625647746932,778.55636907632834,492.99141921360712,342.25008704545093,975.33020122173957,1615.9747785083725,816.10624788142331,845.36828652280519,731.54030382907865,690.1169236360796,3604.3922555505978,183.26558969421436,1136.2770079344509,3112.9692293634871,4519.5673633798424,1459.0452809370724,566.90360235139815,672.07708999268573,649.61416105732008,766.27033186520168,2487.93960871643,149.66885028085719,765.21769570348965,1209.7014118099996,694.07890632904412,223.33043501129873,729.15997154204661,2445.4787852572235,880.87998177424834,612.28445639225185,1392.0466615853045,48,{"$f":"AX89+AX130+AX171+AX212+AX253","v":186192},10743,2613,3791,12448,9838,20816,49104,7403,17238,35828,529,607,14699,535,12364,6173,2819,1902,1380,3791,8282,3688,2941,2952,2527,25356,535,4387,12448,30508,5501,2488,2474,2279,3995,10568,529,3598,5445,2613,607,3060,8907,4071,2958,5046]
["Female 25-29",75649.854753556967,4087.2141327947384,1262.5278762966709,1764.6926087716172,5046.3165217015785,4054.4290973341326,10952.620285879631,15778.808102017443,4068.1887968601782,8491.9901139904996,12710.231095668332,297.12948912327681,408.94681814119178,5307.7812427398103,389.2262907395131,4899.513691032681,4279.9592143032314,1538.312212377833,946.03877165658821,674.50605200155178,1764.6926087716172,2141.2652655997776,1479.7695408369366,1213.0172235655029,1171.4082037825031,1032.9403564450527,6713.456824681848,389.22629073951322,2322.9902079079998,5046.3165217015785,7598.1437857467326,3130.2597522637552,955.54986229572842,1178.9910493508075,1409.71335730646,1303.8920378533346,4842.0733774247583,297.1294891232767,1614.3370369351753,2223.7030187177961,1262.5278762966709,408.94681814119178,1317.3842445746018,4779.4499048352545,1057.6805155976526,1096.3090654517828,2873.3257603989941,49,{"$f":"AX90+AX131+AX172+AX213+AX254","v":176313},10190,2589,3685,10593,8654,20188,45193,8362,17969,34004,586,616,13085,599,10773,6777,3019,1965,1438,3685,6003,3599,2105,2547,1843,23631,599,4665,10593,28322,6397,2321,2285,2638,3684,11116,586,4063,5299,2589,616,2907,9277,2551,2879,5541]
["Female 30-34",73492.774306453037,4198.9278759098461,1290.7936509875954,1784.3365213561121,5276.8617199247583,4324.1864338277228,10279.022047853499,14847.111308228592,4184.0952917223976,8790.5315161406979,11785.418894106217,287.41628710732385,446.17573433757212,4899.1297491802416,456.622014094966,3929.3960102507563,4858.387463664626,1637.5804583619765,932.96083847634111,727.84004622299892,1784.3365213561124,1737.3305807962433,1508.3919806306885,1418.7786492976807,1252.5898817820421,1235.3699899043072,5810.5036442828614,456.62201409496618,2604.812650829158,5276.8617199247583,6468.6192736485136,3260.2494517110481,957.27515851484861,1342.577770247211,1349.1012329595212,1353.6935254307173,5005.8535140106706,287.4162871073238,1555.4605063694405,2285.7123668127092,1290.7936509875954,446.17573433757212,1348.7130689495459,5145.6319621203911,1017.7538683903392,1094.0064911001205,3018.0922997383623,50,{"$f":"AX91+AX132+AX173+AX214+AX255","v":169681},10283,2617,3727,10904,9104,18718,42191,8511,18315,31470,564,668,11907,702,8582,7622,3180,1918,1527,3727,4856,3592,2431,2705,2188,20480,702,5139,10904,24282,6593,2267,2572,2514,3777,11270,564,3871,5375,2617,668,2914,9855,2438,2838,5713]
["Female 35-39",80386.708698907256,5029.984539385513,1826.8243662020552,2137.6634644642568,6068.4498925651396,5236.8443029142109,11179.989999128327,14849.359732947276,5140.2268198229576,9866.803181748608,12001.010086078679,359.10889006019664,566.5509582193489,5464.5290034845266,580.57302441296963,3456.847135664023,6105.7836858466735,2024.2853218733098,1261.1860096286694,846.5036248938809,2137.6634644642577,1586.6100222844057,1758.1471439293102,1929.4818051468983,1706.1951883347442,1721.9306009532438,5240.1397701572805,580.57302441296974,3118.3554994207971,6068.4498925651396,5502.4077295747393,3888.0140423790999,1124.0173860945695,1554.0359394457178,1676.8096224899721,1647.833059563806,5500.9449272310085,359.10889006019659,1924.5442163295334,2541.5798202152509,1826.8243662020552,566.5509582193489,1635.1809673633729,5879.6581154326377,1290.7015078166608,1170.0301343410783,3690.5130875784043,51,{"$f":"AX92+AX133+AX174+AX215+AX256","v":163850},10887,3184,3875,11045,9685,18030,37826,9096,18232,28389,603,736,11464,798,6846,8438,3376,2279,1588,3875,3988,3698,2926,3162,2698,16507,798,5406,11045,19093,6817,2364,2604,2746,4096,11042,603,4100,5276,3184,736,3093,9924,2691,2735,6116]
["Female 40-44",98228.113256782759,6627.1467862452873,2519.5363858367023,2939.2457785266774,7589.3383965786888,6487.6081277633002,13054.06715450827,18069.603670428169,6699.416804421392,12504.759419979289,13277.949768927618,459.54329836858136,640.0921599384626,6896.9241678467188,723.4375737409091,3702.80662719463,7371.4202885766135,2545.5120588950767,1751.2424837478643,1099.7692090167209,2939.2457785266784,1829.9875788163745,2323.3621305990987,2663.1493457131483,2248.650438252962,2319.95327929925,5188.1425751167171,723.43757374090933,3695.9577630879376,7589.3383965786888,6141.6128140499532,4957.7903430100978,1470.3276290139593,2016.1447591032215,2123.5560143089087,2132.7555560322185,6843.9998736369807,459.5432983685813,2603.659436231047,3412.3025432517265,2519.5363858367023,{"$f":"AQ93+AQ134+AQ175+AQ216+AQ257","v":640.0921599384626},2193.278212541316,7360.2574286111221,1692.7568301346339,1512.3891889302763,4536.8369470947864,52,{"$f":"AX93+AX134+AX175+AX216+AX257","v":199274},14227,4344,5307,13820,11901,20945,45845,11770,22935,31327,765,835,14265,988,7296,10172,4212,3125,2022,5307,4553,4883,4023,4141,3630,16355,988,6371,13820,21499,8645,3111,3365,3477,5222,13651,765,5500,7037,4344,{"$f":"CM93+CM134+CM175+CM216+CM257","v":835},4122,12346,3508,3483,7466]
["Female 45-49",100909.17599108341,6953.9848932522946,2670.9840169118311,3302.779401134037,7669.916361621672,6491.4761021433414,13529.103390872935,18450.975639796259,7150.8159374154566,12673.740706210838,13230.595239092407,500.56640061466851,643.13005465484252,7283.2978065505577,727.05256739862284,3863.9883823279442,7627.7374290971638,2637.0661693866937,1902.3610673337175,1144.959402038872,3302.7794011340375,1984.0709943973025,2376.0792375296933,3073.5105694975082,2240.1901293754113,2602.5535609171275,5215.6116811185893,727.05256739862307,3574.8770461370041,7669.916361621672,5898.2211623400108,5258.0782250020075,1572.2976253768538,2018.108475660842,2181.4526341147698,2224.4877575903402,6658.0143428350593,500.5664006146684,2738.5436682655463,3497.542989143205,2670.9840169118311,643.13005465484252,2382.4797754431579,7666.7106257539754,1757.2864525057057,1627.2221226884867,4420.9037485196714,53,{"$f":"AX94+AX135+AX176+AX217+AX258","v":210765},15476,4797,6135,14417,12233,22033,48809,13019,23922,31560,877,875,15590,1022,7625,10721,4492,3503,2190,6135,5134,5205,4593,4266,4044,16433,1022,6348,14417,22273,9516,3477,3432,3687,5752,13842,877,5964,7394,4797,875,4519,13205,3695,3903,7429]
["Female 50-54",94126.858362976593,6476.3102742798437,2459.8389031171937,3167.0002795929427,7274.3145850244882,5835.3927052131303,12370.485819195121,17399.431660228027,6802.5128835303985,11680.344429333147,12192.020704287219,430.10493916272981,604.25136055756309,7020.2934045257898,715.11641907639057,3727.3072753109859,6746.8423587349698,2596.0405187909896,1849.8939538829625,1023.9708196431491,3167.0002795929436,2007.9902211581789,2099.8255378410749,2995.9071382958696,2075.1181028859278,2416.022058325093,4914.7983285523878,715.1164190763908,3226.8246758544656,7274.3145850244882,5506.8911906381991,4960.9961993298566,1502.7232308310788,1851.619706767885,1972.6477609780943,2051.0514385639076,6032.6273603816435,430.10493916272969,2505.4015996576118,3335.486724536675,2459.8389031171937,604.25136055756309,2362.1333989066898,7205.9349966654045,1573.24628075796,1522.5663616917393,3855.1847563336592,54,{"$f":"AX95+AX136+AX177+AX218+AX259","v":196466},14343,4430,5872,13586,11019,20140,45822,12387,22074,29148,753,824,15062,1006,7325,9482,4450,3416,1955,5872,5163,4576,4475,3945,3740,15519,1006,5757,13586,20696,8971,3321,3174,3333,5283,12548,753,5449,7049,4430,824,4484,12445,3307,3622,6510]
["Female 55-59",49184.339443339632,3563.1203510698792,1384.3543865116908,1784.7699981436058,3805.6853926346812,2993.3421207254037,6612.8161956022286,8645.4661606060235,3826.5281601403735,6041.9340245042231,6079.0616616714588,272.3636829433911,348.48288926869645,3773.8624122859719,402.00858427869946,1864.5275266490025,3716.2091059665709,1422.421045092442,1035.1638685439352,531.22259189317003,1784.7699981436062,972.55561426452755,1132.7469391507666,1534.4455952955232,1051.0568145954594,1202.3756791836308,2427.7280814683791,402.00858427869957,1653.7901275051872,3805.6853926346812,2654.1421293570857,2796.1817159470666,758.66904674971033,993.98952926013237,1103.7207583482966,1158.152860035809,3105.261580809366,272.3636829433911,1429.9725757407305,1631.1071516122074,1384.3543865116908,348.48288926869645,1287.3967005146196,3785.4392423887211,803.29675825416257,791.91518367857361,1873.027913139967,55,{"$f":"AX96+AX137+AX178+AX219+AX260","v":173090},13268,4151,5550,12010,9549,18379,38278,11675,19407,24790,783,790,13495,965,6358,8889,4051,3205,1711,5550,4238,4151,3956,3358,3220,13172,965,4986,12010,16608,8470,2819,2864,3132,4946,10954,783,5206,5811,4151,790,4171,11145,2852,3172,5396]
["Female 60-64",47014.508695940378,3539.0913137550892,1416.526336610875,1805.1185586984511,3877.3812019566139,2974.5363908313375,6218.618142420828,7686.7082096589511,3879.5516722176162,5464.1883617215899,5798.7948775283139,267.38292395707526,315.38971762171241,3777.3806461498216,427.62218263800628,1737.1482711140175,3441.6294680805377,1466.5914250122132,1131.2223150991301,544.93412880567769,1805.1185586984516,955.86993453253103,1109.6390387832976,1415.5936403514643,1017.344275030017,1081.7395594519226,2298.4213312210804,427.62218263800639,1652.4136859574189,3877.3812019566139,2214.616981826834,2751.6331608751716,722.79770424524804,976.20693625956596,1101.7324744831712,1147.6473131131581,2835.4368747087728,267.38292395707521,1415.5851711940797,1534.8682853353635,1416.526336610875,315.38971762171241,1298.170839626187,3390.6565818579065,776.92023828485844,728.47791581905528,1773.6209268504022,56,{"$f":"AX97+AX138+AX179+AX220+AX261","v":164841},13057,4238,5582,12188,9464,17270,33993,11811,17665,23646,770,715,13414,1028,5895,8249,4147,3505,1741,5582,4142,4041,3633,3250,2913,12434,1028,4980,12188,13985,8306,2685,2830,3126,4859,10069,770,5125,5443,4238,715,4157,10022,2743,2908,5132]
["Female 65-69",null,null,null,null,null,null,null,null,null,null,null,null,null,null,null,null,null,null,null,null,null,null,null,null,null,null,null,null,null,null,null,null,null,null,null,null,null,null,null,null,null,null,null,null,null,null,null,57]
["Female 70-74",null,null,null,null,null,null,null,null,null,null,null,null,null,null,null,null,null,null,null,null,null,null,null,null,null,null,null,null,null,null,null,null,null,null,null,null,null,null,null,null,null,null,null,null,null,null,null,58]
["Female 75-79",null,null,null,null,null,null,null,null,null,null,null,null,null,null,null,null,null,null,null,null,null,null,null,null,null,null,null,null,null,null,null,null,null,null,null,null,null,null,null,null,null,null,null,null,null,null,null,59]
["Female 80-84",null,null,null,null,null,null,null,null,null,null,null,null,null,null,null,null,null,null,null,null,null,null,null,null,null,null,null,null,null,null,null,null,null,null,null,null,null,null,null,null,null,null,null,null,null,null,null,60]
["Female 85+",null,null,null,null,null,null,null,null,null,null,null,null,null,null,null,null,null,null,null,null,null,null,null,null,null,null,null,null,null,null,null,null,null,null,null,null,null,null,null,null,null,null,null,null,null,null,null,61]
["age/sex breakdown: Q1",null,null,null,null,null,null,null,null,null,null,null,null,null,null,null,null,null,null,null,null,null,null,null,null,null,null,null,null,null,null,null,null,null,null,null,null,null,null,null,null,null,null,null,null,null,null,null,62]
["Male <1",null,null,null,null,null,null,null,null,null,null,null,null,null,null,null,null,null,null,null,null,null,null,null,null,null,null,null,null,null,null,null,null,null,null,null,null,null,null,null,null,null,null,null,null,null,null,null,63]
["Male 1-4",null,null,null,null,null,null,null,null,null,null,null,null,null,null,null,null,null,null,null,null,null,null,null,null,null,null,null,null,null,null,null,null,null,null,null,null,null,null,null,null,null,null,null,null,null,null,null,64]
["Male 5-9",null,null,null,null,null,null,null,null,null,null,null,null,null,null,null,null,null,null,null,null,null,null,null,null,null,null,null,null,null,null,null,null,null,null,null,null,null,null,null,null,null,null,null,null,null,null,null,65]
["Male 10-14",null,null,null,null,null,null,null,null,null,null,null,null,null,null,null,null,null,null,null,null,null,null,null,null,null,null,null,null,null,null,null,null,null,null,null,null,null,null,null,null,null,null,null,null,null,null,null,66]
["Male 15-19 (16+)",{"$f":"Prevalence!B67*AX68","v":4899.0450412855125},{"$f":"Prevalence!C67*AY68","v":574.08696578470108},{"$f":"Prevalence!D67*AZ68","v":27.629009916210556},{"$f":"Prevalence!E67*BA68","v":55.599605673732448},{"$f":"Prevalence!F67*BB68","v":379.15729527164251},{"$f":"Prevalence!G67*BC68","v":227.17282436964675},{"$f":"Prevalence!H67*BD68","v":166.28361254686104},{"$f":"Prevalence!I67*BE68","v":1681.4288153759267},{"$f":"Prevalence!J67*BF68","v":139.5148631051776},{"$f":"Prevalence!K67*BG68","v":786.45514627847808},{"$f":"Prevalence!L67*BH68","v":399.52315925974438},{"$f":"Prevalence!M67*BI68","v":0},{"$f":"Prevalence!N67*BJ68","v":0},{"$f":"Prevalence!O67*BK68","v":328.0274756844712},{"$f":"Prevalence!P67*BL68","v":0},{"$f":"Prevalence!Q67*BM68","v":126.78058336565704},{"$f":"Prevalence!R67*BN68","v":32.063618329419043},{"$f":"Prevalence!S67*BO68","v":50.593923888987646},{"$f":"Prevalence!T67*BP68","v":33.586541343788348},{"$f":"Prevalence!U67*BQ68","v":77.307053362554086},{"$f":"Prevalence!V67*BR68","v":55.599605673732455},{"$f":"Prevalence!W67*BS68","v":224.26078745328692},{"$f":"Prevalence!X67*BT68","v":226.5325969990121},{"$f":"Prevalence!Y67*BU68","v":25.430010020945012},{"$f":"Prevalence!Z67*BV68","v":24.848821750432336},{"$f":"Prevalence!AA67*BW68","v":37.40726486753772},{"$f":"Prevalence!AB67*BX68","v":185.21208760383843},{"$f":"Prevalence!AC67*BY68","v":0},{"$f":"Prevalence!AD67*BZ68","v":111.12986358615028},{"$f":"Prevalence!AE67*CA68","v":379.15729527164251},{"$f":"Prevalence!AF67*CB68","v":896.44019369281648},{"$f":"Prevalence!AG67*CC68","v":106.09673750667432},{"$f":"Prevalence!AH67*CD68","v":174.48394777454104},{"$f":"Prevalence!AI67*CE68","v":38.096569706997343},{"$f":"Prevalence!AJ67*CF68","v":4.2144713200970552},{"$f":"Prevalence!AK67*CG68","v":260.88380183697586},{"$f":"Prevalence!AL67*CH68","v":573.19147806880915},{"$f":"Prevalence!AM67*CI68","v":0},{"$f":"Prevalence!AN67*CJ68","v":36.065641464491144},{"$f":"Prevalence!AO67*CK68","v":220.75314499073443},{"$f":"Prevalence!AP67*CL68","v":27.629009916210556},{"$f":"Prevalence!AQ67*CM68","v":0},{"$f":"Prevalence!AR67*CN68","v":85.022420930460825},{"$f":"Prevalence!AS67*CO68","v":317.75670504459094},{"$f":"Prevalence!AT67*CP68","v":41.292361870658354},{"$f":"Prevalence!AU67*CQ68","v":140.53580673302656},{"$f":"Prevalence!AV67*CR68","v":148.86188132844265},67,25663,2697,136,317,1654,1069,763,10411,735,3626,2469,null,null,1786,null,606,134,250,196,357,317,1343,993,133,129,181,1511,null,482,1654,6848,539,879,175,23,1293,2739,null,193,1038,136,null,411,1417,230,802,654]
["Male 20-24",{"$f":"Prevalence!B68*AX69","v":6961.3286239144882},{"$f":"Prevalence!C68*AY69","v":747.14321464749742},{"$f":"Prevalence!D68*AZ69","v":33.317335487195081},{"$f":"Prevalence!E68*BA69","v":76.997561169616858},{"$f":"Prevalence!F68*BB69","v":477.27054942899622},{"$f":"Prevalence!G68*BC69","v":320.46456421836041},{"$f":"Prevalence!H68*BD69","v":305.10754595754321},{"$f":"Prevalence!I68*BE69","v":2538.3744780773645},{"$f":"Prevalence!J68*BF69","v":168.55673256788805},{"$f":"Prevalence!K68*BG69","v":998.14301797395376},{"$f":"Prevalence!L68*BH69","v":536.09567704638846},{"$f":"Prevalence!M68*BI69","v":0},{"$f":"Prevalence!N68*BJ69","v":0},{"$f":"Prevalence!O68*BK69","v":522.16243749773332},{"$f":"Prevalence!P68*BL69","v":0},{"$f":"Prevalence!Q68*BM69","v":249.79540682936388},{"$f":"Prevalence!R68*BN69","v":40.199163278674625},{"$f":"Prevalence!S68*BO69","v":51.80817806232335},{"$f":"Prevalence!T68*BP69","v":44.210855442333646},{"$f":"Prevalence!U68*BQ69","v":92.681845487879968},{"$f":"Prevalence!V68*BR69","v":76.997561169616873},{"$f":"Prevalence!W68*BS69","v":371.20754319334088},{"$f":"Prevalence!X68*BT69","v":285.1618794045973},{"$f":"Prevalence!Y68*BU69","v":23.900385358031027},{"$f":"Prevalence!Z68*BV69","v":27.352966577995286},{"$f":"Prevalence!AA68*BW69","v":44.640713875072642},{"$f":"Prevalence!AB68*BX69","v":261.57683318768443},{"$f":"Prevalence!AC68*BY69","v":0},{"$f":"Prevalence!AD68*BZ69","v":171.07543315544297},{"$f":"Prevalence!AE68*CA69","v":477.27054942899622},{"$f":"Prevalence!AF68*CB69","v":1434.854112597395},{"$f":"Prevalence!AG68*CC69","v":124.00917370909985},{"$f":"Prevalence!AH68*CD69","v":219.54407990744298},{"$f":"Prevalence!AI68*CE69","v":40.926600599517144},{"$f":"Prevalence!AJ68*CF69","v":6.9630395723342646},{"$f":"Prevalence!AK68*CG69","v":321.4136862539076},{"$f":"Prevalence!AL68*CH69","v":732.44621147894566},{"$f":"Prevalence!AM68*CI69","v":0},{"$f":"Prevalence!AN68*CJ69","v":68.020173539247537},{"$f":"Prevalence!AO68*CK69","v":347.93077572720762},{"$f":"Prevalence!AP68*CL69","v":33.317335487195081},{"$f":"Prevalence!AQ68*CM69","v":0},{"$f":"Prevalence!AR68*CN69","v":137.98042520831478},{"$f":"Prevalence!AS68*CO69","v":401.40049543388699},{"$f":"Prevalence!AT68*CP69","v":60.68181874905445},{"$f":"Prevalence!AU68*CQ69","v":172.60320402996402},{"$f":"Prevalence!AV68*CR69","v":193.24730466031775},68,36466,3510,164,439,2082,1508,1400,15717,888,4602,3313,null,null,2843,null,1194,168,256,258,428,439,2223,1250,125,142,216,2134,null,742,2082,10961,630,1106,188,38,1593,3500,null,364,1636,164,null,667,1790,338,985,849]
["Male 25-29",{"$f":"Prevalence!B69*AX70","v":14193.217171748009},{"$f":"Prevalence!C69*AY70","v":1334.9002164353983},{"$f":"Prevalence!D69*AZ70","v":61.17284952073058},{"$f":"Prevalence!E69*BA70","v":118.65427449360583},{"$f":"Prevalence!F69*BB70","v":980.17710233246214},{"$f":"Prevalence!G69*BC70","v":578.89467945158037},{"$f":"Prevalence!H69*BD70","v":650.98185332326671},{"$f":"Prevalence!I69*BE70","v":5263.5574853765838},{"$f":"Prevalence!J69*BF70","v":370.37395676448801},{"$f":"Prevalence!K69*BG70","v":1963.2130500137052},{"$f":"Prevalence!L69*BH70","v":1222.3515447475688},{"$f":"Prevalence!M69*BI70","v":0},{"$f":"Prevalence!N69*BJ70","v":0},{"$f":"Prevalence!O69*BK70","v":1095.767992480688},{"$f":"Prevalence!P69*BL70","v":0},{"$f":"Prevalence!Q69*BM70","v":514.88664800272954},{"$f":"Prevalence!R69*BN70","v":109.99786410700308},{"$f":"Prevalence!S69*BO70","v":120.6579220794773},{"$f":"Prevalence!T69*BP70","v":81.870455635039349},{"$f":"Prevalence!U69*BQ70","v":178.22794461309965},{"$f":"Prevalence!V69*BR70","v":118.65427449360587},{"$f":"Prevalence!W69*BS70","v":787.41083217269875},{"$f":"Prevalence!X69*BT70","v":488.63763435470861},{"$f":"Prevalence!Y69*BU70","v":30.706188765965546},{"$f":"Prevalence!Z69*BV70","v":58.002723682237466},{"$f":"Prevalence!AA69*BW70","v":95.421503231819628},{"$f":"Prevalence!AB69*BX70","v":622.53879654828654},{"$f":"Prevalence!AC69*BY70","v":0},{"$f":"Prevalence!AD69*BZ70","v":298.9904377803731},{"$f":"Prevalence!AE69*CA70","v":980.17710233246214},{"$f":"Prevalence!AF69*CB70","v":2952.1133362024771},{"$f":"Prevalence!AG69*CC70","v":290.03496840591066},{"$f":"Prevalence!AH69*CD70","v":449.88507301401108},{"$f":"Prevalence!AI69*CE70","v":85.216456925139383},{"$f":"Prevalence!AJ69*CF70","v":12.138645956637511},{"$f":"Prevalence!AK69*CG70","v":566.64014831658187},{"$f":"Prevalence!AL69*CH70","v":1452.6925846429872},{"$f":"Prevalence!AM69*CI70","v":0},{"$f":"Prevalence!AN69*CJ70","v":122.29113903890476},{"$f":"Prevalence!AO69*CK70","v":770.17092129439607},{"$f":"Prevalence!AP69*CL70","v":61.17284952073058},{"$f":"Prevalence!AQ69*CM70","v":0},{"$f":"Prevalence!AR69*CN70","v":273.24899715558507},{"$f":"Prevalence!AS69*CO70","v":793.1801103157859},{"$f":"Prevalence!AT69*CP70","v":108.47993650627663},{"$f":"Prevalence!AU69*CQ70","v":368.29883280341528},{"$f":"Prevalence!AV69*CR70","v":405.75114950404947},69,37037,3124,150,337,2130,1357,1488,16235,972,4509,3763,null,null,2972,null,1226,229,297,238,410,337,2349,1067,80,150,230,2530,null,646,2130,11234,734,1129,195,33,1399,3458,null,326,1804,150,null,658,1762,301,1047,888]
["Male 30-34",{"$f":"Prevalence!B70*AX71","v":13303.386724551992},{"$f":"Prevalence!C70*AY71","v":1259.2672656322404},{"$f":"Prevalence!D70*AZ71","v":75.446514408901052},{"$f":"Prevalence!E70*BA71","v":107.38739976424267},{"$f":"Prevalence!F70*BB71","v":933.23904391090764},{"$f":"Prevalence!G70*BC71","v":564.39031754933001},{"$f":"Prevalence!H70*BD71","v":664.54397526750142},{"$f":"Prevalence!I70*BE71","v":4890.3911986092016},{"$f":"Prevalence!J70*BF71","v":298.73784167012201},{"$f":"Prevalence!K70*BG71","v":1921.414768177086},{"$f":"Prevalence!L70*BH71","v":1203.5111542093389},{"$f":"Prevalence!M70*BI71","v":0},{"$f":"Prevalence!N70*BJ71","v":0},{"$f":"Prevalence!O70*BK71","v":892.98454838096438},{"$f":"Prevalence!P70*BL71","v":0},{"$f":"Prevalence!Q70*BM71","v":530.42564145795052},{"$f":"Prevalence!R70*BN71","v":107.59616401733052},{"$f":"Prevalence!S70*BO71","v":117.40787704029945},{"$f":"Prevalence!T70*BP71","v":61.574838481815313},{"$f":"Prevalence!U70*BQ71","v":186.92199069178744},{"$f":"Prevalence!V70*BR71","v":107.3873997642427},{"$f":"Prevalence!W70*BS71","v":589.63629365337465},{"$f":"Prevalence!X70*BT71","v":452.00126064488978},{"$f":"Prevalence!Y70*BU71","v":48.362247306395737},{"$f":"Prevalence!Z70*BV71","v":45.628809296693468},{"$f":"Prevalence!AA70*BW71","v":80.071087494526907},{"$f":"Prevalence!AB70*BX71","v":629.92067951130969},{"$f":"Prevalence!AC70*BY71","v":0},{"$f":"Prevalence!AD70*BZ71","v":312.41260913583881},{"$f":"Prevalence!AE70*CA71","v":933.23904391090764},{"$f":"Prevalence!AF70*CB71","v":2739.5212328565804},{"$f":"Prevalence!AG70*CC71","v":239.06152028007622},{"$f":"Prevalence!AH70*CD71","v":380.15089429173298},{"$f":"Prevalence!AI70*CE71","v":76.913314968330923},{"$f":"Prevalence!AJ70*CF71","v":11.770808200375768},{"$f":"Prevalence!AK70*CG71","v":562.58982559809317},{"$f":"Prevalence!AL70*CH71","v":1378.3355610797112},{"$f":"Prevalence!AM70*CI71","v":0},{"$f":"Prevalence!AN70*CJ71","v":140.29719632070669},{"$f":"Prevalence!AO70*CK71","v":725.77082383618256},{"$f":"Prevalence!AP70*CL71","v":75.446514408901052},{"$f":"Prevalence!AQ70*CM71","v":0},{"$f":"Prevalence!AR70*CN71","v":237.12033035841802},{"$f":"Prevalence!AS70*CO71","v":872.40808955277703},{"$f":"Prevalence!AT70*CP71","v":78.566864313515964},{"$f":"Prevalence!AU70*CQ71","v":309.55393779083613},{"$f":"Prevalence!AV70*CR71","v":388.84485160804741},70,34715,2947,185,305,2028,1323,1519,15084,784,4413,3705,null,null,2422,null,1263,224,289,179,430,305,1759,987,126,118,193,2560,null,675,2028,10425,605,954,176,32,1389,3281,null,374,1700,185,null,571,1938,218,880,851]
["Male 35-39",{"$f":"Prevalence!B71*AX72","v":13920.735505785124},{"$f":"Prevalence!C71*AY72","v":1400.9313534422133},{"$f":"Prevalence!D71*AZ72","v":71.592941350940833},{"$f":"Prevalence!E71*BA72","v":128.21324761716241},{"$f":"Prevalence!F71*BB72","v":1052.9268856148294},{"$f":"Prevalence!G71*BC72","v":600.13013845927367},{"$f":"Prevalence!H71*BD72","v":666.30337493998843},{"$f":"Prevalence!I71*BE72","v":4918.1832108026447},{"$f":"Prevalence!J71*BF72","v":327.2305035096004},{"$f":"Prevalence!K71*BG72","v":2131.905370851091},{"$f":"Prevalence!L71*BH72","v":1323.9027999282614},{"$f":"Prevalence!M71*BI72","v":0},{"$f":"Prevalence!N71*BJ72","v":0},{"$f":"Prevalence!O71*BK72","v":844.04995786039365},{"$f":"Prevalence!P71*BL72","v":0},{"$f":"Prevalence!Q71*BM72","v":521.56552775455305},{"$f":"Prevalence!R71*BN72","v":110.53289324186804},{"$f":"Prevalence!S71*BO72","v":111.31467188393576},{"$f":"Prevalence!T71*BP72","v":70.181029608634589},{"$f":"Prevalence!U71*BQ72","v":199.03079821985889},{"$f":"Prevalence!V71*BR72","v":128.21324761716247},{"$f":"Prevalence!W71*BS72","v":576.9349100934561},{"$f":"Prevalence!X71*BT72","v":530.16780253845161},{"$f":"Prevalence!Y71*BU72","v":44.161996684761121},{"$f":"Prevalence!Z71*BV72","v":58.250799111192613},{"$f":"Prevalence!AA71*BW72","v":88.57924232837712},{"$f":"Prevalence!AB71*BX72","v":670.42150082555054},{"$f":"Prevalence!AC71*BY72","v":0},{"$f":"Prevalence!AD71*BZ72","v":335.43396008557124},{"$f":"Prevalence!AE71*CA72","v":1052.9268856148294},{"$f":"Prevalence!AF71*CB72","v":2715.2364746302942},{"$f":"Prevalence!AG71*CC72","v":258.72263052546026},{"$f":"Prevalence!AH71*CD72","v":403.65148131574341},{"$f":"Prevalence!AI71*CE72","v":92.267744106652032},{"$f":"Prevalence!AJ71*CF72","v":18.761424004017233},{"$f":"Prevalence!AK71*CG72","v":593.81222846862647},{"$f":"Prevalence!AL71*CH72","v":1539.2447363428475},{"$f":"Prevalence!AM71*CI72","v":0},{"$f":"Prevalence!AN71*CJ72","v":110.34943375714904},{"$f":"Prevalence!AO71*CK72","v":674.01517995584527},{"$f":"Prevalence!AP71*CL72","v":71.592941350940833},{"$f":"Prevalence!AQ71*CM72","v":0},{"$f":"Prevalence!AR71*CN72","v":271.90224847422365},{"$f":"Prevalence!AS71*CO72","v":968.59948126668121},{"$f":"Prevalence!AT71*CP72","v":80.795238824638332},{"$f":"Prevalence!AU71*CQ72","v":350.90591972134689},{"$f":"Prevalence!AV71*CR72","v":452.0160770735888},71,30625,2764,148,307,1929,1186,1284,12789,724,4128,3436,null,null,1930,null,1047,194,231,172,386,307,1451,976,97,127,180,2297,null,611,1929,8711,552,854,178,43,1236,3089,null,248,1331,148,null,552,1814,189,841,834]
["Male 40-44",{"$f":"Prevalence!B72*AX73","v":15734.863029167604},{"$f":"Prevalence!C72*AY73","v":1645.739545812904},{"$f":"Prevalence!D72*AZ73","v":95.77974586139382},{"$f":"Prevalence!E72*BA73","v":147.00672039492238},{"$f":"Prevalence!F72*BB73","v":1238.5127545153177},{"$f":"Prevalence!G72*BC73","v":736.75335716416726},{"$f":"Prevalence!H72*BD73","v":603.51310362555023},{"$f":"Prevalence!I72*BE73","v":5642.7009345615143},{"$f":"Prevalence!J72*BF73","v":376.49586936947117},{"$f":"Prevalence!K72*BG73","v":2436.610838099672},{"$f":"Prevalence!L72*BH73","v":1328.9117453296199},{"$f":"Prevalence!M72*BI73","v":0},{"$f":"Prevalence!N72*BJ73","v":0},{"$f":"Prevalence!O72*BK73","v":987.49471753822218},{"$f":"Prevalence!P72*BL73","v":0},{"$f":"Prevalence!Q72*BM73","v":479.22257659969432},{"$f":"Prevalence!R72*BN73","v":94.579692155412857},{"$f":"Prevalence!S72*BO73","v":122.39795090268261},{"$f":"Prevalence!T72*BP73","v":93.846725639453226},{"$f":"Prevalence!U72*BQ73","v":234.09321863164749},{"$f":"Prevalence!V72*BR73","v":147.00672039492241},{"$f":"Prevalence!W72*BS73","v":683.89251920106437},{"$f":"Prevalence!X72*BT73","v":670.31461919308333},{"$f":"Prevalence!Y72*BU73","v":61.462572705595377},{"$f":"Prevalence!Z72*BV73","v":70.176159559153305},{"$f":"Prevalence!AA72*BW73","v":107.7714114995255},{"$f":"Prevalence!AB72*BX73","v":633.06235754924649},{"$f":"Prevalence!AC72*BY73","v":0},{"$f":"Prevalence!AD72*BZ73","v":413.39078877976294},{"$f":"Prevalence!AE72*CA73","v":1238.5127545153177},{"$f":"Prevalence!AF72*CB73","v":3009.1714988039098},{"$f":"Prevalence!AG72*CC73","v":282.62635182400822},{"$f":"Prevalence!AH72*CD73","v":521.81643486250664},{"$f":"Prevalence!AI72*CE73","v":104.18998070470256},{"$f":"Prevalence!AJ72*CF73","v":15.270926514897749},{"$f":"Prevalence!AK72*CG73","v":722.08720015238316},{"$f":"Prevalence!AL72*CH73","v":1798.8583678205503},{"$f":"Prevalence!AM72*CI73","v":0},{"$f":"Prevalence!AN72*CJ73","v":126.36789994770294},{"$f":"Prevalence!AO72*CK73","v":873.02942918397991},{"$f":"Prevalence!AP72*CL73","v":95.77974586139382},{"$f":"Prevalence!AQ72*CM73","v":0},{"$f":"Prevalence!AR72*CN73","v":251.21403391640231},{"$f":"Prevalence!AS72*CO73","v":1053.4987742773772},{"$f":"Prevalence!AT72*CP73","v":106.44452099119017},{"$f":"Prevalence!AU72*CQ73","v":405.56546250790626},{"$f":"Prevalence!AV72*CR73","v":501.87876183470411},72,34616,3247,198,352,2269,1456,1163,14673,833,4718,3449,null,null,2258,null,962,166,254,230,454,352,1720,1234,135,153,219,2169,null,753,2269,9654,603,1104,201,35,1503,3610,null,284,1724,198,null,510,1973,249,972,926]
["Male 45-49",{"$f":"Prevalence!B73*AX74","v":13785.543318504049},{"$f":"Prevalence!C73*AY74","v":1478.2748247760869},{"$f":"Prevalence!D73*AZ74","v":89.469363114042721},{"$f":"Prevalence!E73*BA74","v":148.54465777030759},{"$f":"Prevalence!F73*BB74","v":1066.2042793505011},{"$f":"Prevalence!G73*BC74","v":648.35000905228014},{"$f":"Prevalence!H73*BD74","v":504.64584218360926},{"$f":"Prevalence!I73*BE74","v":4950.8838493295871},{"$f":"Prevalence!J73*BF74","v":347.61964189267616},{"$f":"Prevalence!K73*BG74","v":2160.2204293737559},{"$f":"Prevalence!L73*BH74","v":1107.0069079483569},{"$f":"Prevalence!M73*BI74","v":0},{"$f":"Prevalence!N73*BJ74","v":0},{"$f":"Prevalence!O73*BK74","v":859.00860663661922},{"$f":"Prevalence!P73*BL74","v":0},{"$f":"Prevalence!Q73*BM74","v":402.3120986467809},{"$f":"Prevalence!R73*BN74","v":71.047640335429094},{"$f":"Prevalence!S73*BO74","v":100.82170123728628},{"$f":"Prevalence!T73*BP74","v":89.126197448688146},{"$f":"Prevalence!U73*BQ74","v":217.05737533027229},{"$f":"Prevalence!V73*BR74","v":148.54465777030762},{"$f":"Prevalence!W73*BS74","v":594.97744559131263},{"$f":"Prevalence!X73*BT74","v":595.53653427960558},{"$f":"Prevalence!Y73*BU74","v":47.62780442392036},{"$f":"Prevalence!Z73*BV74","v":54.891839667300623},{"$f":"Prevalence!AA73*BW74","v":109.96242265107752},{"$f":"Prevalence!AB73*BX74","v":537.1378421616696},{"$f":"Prevalence!AC73*BY74","v":0},{"$f":"Prevalence!AD73*BZ74","v":335.39938456299916},{"$f":"Prevalence!AE73*CA74","v":1066.2042793505011},{"$f":"Prevalence!AF73*CB74","v":2612.8082771511567},{"$f":"Prevalence!AG73*CC74","v":258.10404814675132},{"$f":"Prevalence!AH73*CD74","v":525.31564716137541},{"$f":"Prevalence!AI73*CE74","v":87.196597700547613},{"$f":"Prevalence!AJ73*CF74","v":17.527184664491614},{"$f":"Prevalence!AK73*CG74","v":651.35726682140853},{"$f":"Prevalence!AL73*CH74","v":1602.214697876786},{"$f":"Prevalence!AM73*CI74","v":0},{"$f":"Prevalence!AN73*CJ74","v":115.06692030533418},{"$f":"Prevalence!AO73*CK74","v":718.34803282892096},{"$f":"Prevalence!AP73*CL74","v":89.469363114042721},{"$f":"Prevalence!AQ73*CM74","v":0},{"$f":"Prevalence!AR73*CN74","v":228.79171113455891},{"$f":"Prevalence!AS73*CO74","v":862.90464188472151},{"$f":"Prevalence!AT73*CP74","v":106.6138952342572},{"$f":"Prevalence!AU73*CQ74","v":411.00276524801711},{"$f":"Prevalence!AV73*CR74","v":403.69318688630165},73,36238,3485,221,425,2334,1531,1162,15383,919,4998,3433,null,null,2347,null,965,149,250,261,503,425,1788,1310,125,143,267,2199,null,730,2334,10016,658,1328,201,48,1620,3842,null,309,1695,221,null,555,1931,298,1177,890]
["Male 50-54",{"$f":"Prevalence!B74*AX75","v":12834.501365408953},{"$f":"Prevalence!C74*AY75","v":1460.4591740901196},{"$f":"Prevalence!D74*AZ75","v":66.798393275190264},{"$f":"Prevalence!E74*BA75","v":129.32123147062072},{"$f":"Prevalence!F74*BB75","v":1050.2157833019719},{"$f":"Prevalence!G74*BC75","v":611.08364667696947},{"$f":"Prevalence!H74*BD75","v":486.83992176232874},{"$f":"Prevalence!I74*BE75","v":4602.6516238225595},{"$f":"Prevalence!J74*BF75","v":329.08497110623313},{"$f":"Prevalence!K74*BG75","v":2013.698875640722},{"$f":"Prevalence!L74*BH75","v":939.32744621426264},{"$f":"Prevalence!M74*BI75","v":0},{"$f":"Prevalence!N74*BJ75","v":0},{"$f":"Prevalence!O74*BK75","v":788.37006335546562},{"$f":"Prevalence!P74*BL75","v":0},{"$f":"Prevalence!Q74*BM75","v":378.13168235505731},{"$f":"Prevalence!R74*BN75","v":79.630576751789661},{"$f":"Prevalence!S74*BO75","v":84.286942234371324},{"$f":"Prevalence!T74*BP75","v":80.589205355901925},{"$f":"Prevalence!U74*BQ75","v":198.50177465591503},{"$f":"Prevalence!V74*BR75","v":129.32123147062077},{"$f":"Prevalence!W74*BS75","v":560.37025636228771},{"$f":"Prevalence!X74*BT75","v":562.80475529629905},{"$f":"Prevalence!Y74*BU75","v":53.724163390182163},{"$f":"Prevalence!Z74*BV75","v":60.649724947087407},{"$f":"Prevalence!AA74*BW75","v":97.607094263316},{"$f":"Prevalence!AB74*BX75","v":432.59259593829779},{"$f":"Prevalence!AC74*BY75","v":0},{"$f":"Prevalence!AD74*BZ75","v":329.42651881050739},{"$f":"Prevalence!AE74*CA75","v":1050.2157833019719},{"$f":"Prevalence!AF74*CB75","v":2390.8134844339411},{"$f":"Prevalence!AG74*CC75","v":248.68991873106435},{"$f":"Prevalence!AH74*CD75","v":486.94545305395565},{"$f":"Prevalence!AI74*CE75","v":81.557016754741056},{"$f":"Prevalence!AJ74*CF75","v":17.162034983981375},{"$f":"Prevalence!AK74*CG75","v":648.14068772599421},{"$f":"Prevalence!AL74*CH75","v":1473.7706252724001},{"$f":"Prevalence!AM74*CI75","v":0},{"$f":"Prevalence!AN74*CJ75","v":97.192447248194895},{"$f":"Prevalence!AO74*CK75","v":746.74291082274851},{"$f":"Prevalence!AP74*CL75","v":66.798393275190264},{"$f":"Prevalence!AQ74*CM75","v":0},{"$f":"Prevalence!AR74*CN75","v":244.45672919422239},{"$f":"Prevalence!AS74*CO75","v":858.43594876258419},{"$f":"Prevalence!AT74*CP75","v":95.16542326279334},{"$f":"Prevalence!AU74*CQ75","v":338.37016102406847},{"$f":"Prevalence!AV74*CR75","v":361.05592894550125},74,33738,3443,165,370,2299,1443,1121,14301,870,4659,2913,null,null,2154,null,907,167,209,236,460,370,1684,1238,141,158,237,1771,null,717,2299,9165,634,1231,188,47,1612,3534,null,261,1762,165,null,593,1921,266,969,796]
["Male 55-59",{"$f":"Prevalence!B75*AX76","v":7782.6641445362093},{"$f":"Prevalence!C75*AY76","v":926.21225557736443},{"$f":"Prevalence!D75*AZ76","v":38.345303172298159},{"$f":"Prevalence!E75*BA76","v":82.261783980989136},{"$f":"Prevalence!F75*BB76","v":619.19536955084493},{"$f":"Prevalence!G75*BC76","v":366.16560717108365},{"$f":"Prevalence!H75*BD76","v":293.55375944394058},{"$f":"Prevalence!I75*BE76","v":2756.9535218990322},{"$f":"Prevalence!J75*BF76","v":211.98054421696912},{"$f":"Prevalence!K75*BG76","v":1211.4074174874081},{"$f":"Prevalence!L75*BH76","v":557.17187071671458},{"$f":"Prevalence!M75*BI76","v":0},{"$f":"Prevalence!N75*BJ76","v":0},{"$f":"Prevalence!O75*BK76","v":509.23518971570167},{"$f":"Prevalence!P75*BL76","v":0},{"$f":"Prevalence!Q75*BM76","v":236.33010265609218},{"$f":"Prevalence!R75*BN76","v":41.058285344035546},{"$f":"Prevalence!S75*BO76","v":58.454985155215851},{"$f":"Prevalence!T75*BP76","v":56.847193376254474},{"$f":"Prevalence!U75*BQ76","v":125.40583892210515},{"$f":"Prevalence!V75*BR76","v":82.261783980989179},{"$f":"Prevalence!W75*BS76","v":363.41580694765048},{"$f":"Prevalence!X75*BT76","v":347.08425583059545},{"$f":"Prevalence!Y75*BU76","v":32.261809939049293},{"$f":"Prevalence!Z75*BV76","v":28.094938961911996},{"$f":"Prevalence!AA75*BW76","v":47.578975533953759},{"$f":"Prevalence!AB75*BX76","v":268.69454410963465},{"$f":"Prevalence!AC75*BY76","v":0},{"$f":"Prevalence!AD75*BZ76","v":181.32524093338489},{"$f":"Prevalence!AE75*CA76","v":619.19536955084493},{"$f":"Prevalence!AF75*CB76","v":1443.3780712242469},{"$f":"Prevalence!AG75*CC76","v":154.52453288736413},{"$f":"Prevalence!AH75*CD76","v":281.00472921916622},{"$f":"Prevalence!AI75*CE76","v":46.070334983776419},{"$f":"Prevalence!AJ75*CF76","v":8.38449819878136},{"$f":"Prevalence!AK75*CG76","v":401.3169940137721},{"$f":"Prevalence!AL75*CH76","v":858.5193173798599},{"$f":"Prevalence!AM75*CI76","v":0},{"$f":"Prevalence!AN75*CJ76","v":57.449551501032758},{"$f":"Prevalence!AO75*CK76","v":397.15913272306813},{"$f":"Prevalence!AP75*CL76","v":38.345303172298159},{"$f":"Prevalence!AQ75*CM76","v":0},{"$f":"Prevalence!AR75*CN76","v":173.93252504225254},{"$f":"Prevalence!AS75*CO76","v":577.17725582767343},{"$f":"Prevalence!AT75*CP76","v":64.179115583290354},{"$f":"Prevalence!AU75*CQ76","v":222.75436057952734},{"$f":"Prevalence!AV75*CR76","v":203.42185159901751},75,28511,3043,132,328,1889,1205,942,11938,781,3906,2408,null,null,1939,null,790,120,202,232,405,328,1522,1064,118,102,161,1533,null,550,1889,7711,549,990,148,32,1391,2869,null,215,1306,132,null,588,1800,250,889,625]
["Male 60-64",{"$f":"Prevalence!B76*AX77","v":7124.8050519637891},{"$f":"Prevalence!C76*AY77","v":858.33669429121517},{"$f":"Prevalence!D76*AZ77","v":49.384102570383988},{"$f":"Prevalence!E76*BA77","v":89.033333272107143},{"$f":"Prevalence!F76*BB77","v":595.5944872810403},{"$f":"Prevalence!G76*BC77","v":363.12688843937337},{"$f":"Prevalence!H76*BD77","v":273.29792678591923},{"$f":"Prevalence!I76*BE77","v":2424.8627894069223},{"$f":"Prevalence!J76*BF77","v":192.16674174854563},{"$f":"Prevalence!K76*BG77","v":1129.2202783081548},{"$f":"Prevalence!L76*BH77","v":512.28343927192941},{"$f":"Prevalence!M76*BI77","v":0},{"$f":"Prevalence!N76*BJ77","v":0},{"$f":"Prevalence!O76*BK77","v":473.78044468650114},{"$f":"Prevalence!P76*BL77","v":0},{"$f":"Prevalence!Q76*BM77","v":215.98776470594754},{"$f":"Prevalence!R76*BN77","v":38.321066321099842},{"$f":"Prevalence!S76*BO77","v":61.638177416143449},{"$f":"Prevalence!T76*BP77","v":49.496263198290528},{"$f":"Prevalence!U76*BQ77","v":114.25865324014025},{"$f":"Prevalence!V76*BR77","v":89.033333272107186},{"$f":"Prevalence!W76*BS77","v":329.98728331251834},{"$f":"Prevalence!X76*BT77","v":326.53321436694176},{"$f":"Prevalence!Y76*BU77","v":26.520301390574417},{"$f":"Prevalence!Z76*BV77","v":26.442295493564231},{"$f":"Prevalence!AA76*BW77","v":46.692410772451517},{"$f":"Prevalence!AB76*BX77","v":233.28926171554056},{"$f":"Prevalence!AC76*BY77","v":0},{"$f":"Prevalence!AD76*BZ77","v":190.22666185193287},{"$f":"Prevalence!AE76*CA77","v":595.5944872810403},{"$f":"Prevalence!AF76*CB77","v":1241.7805893530872},{"$f":"Prevalence!AG76*CC77","v":142.42151847177823},{"$f":"Prevalence!AH76*CD77","v":295.76457358219318},{"$f":"Prevalence!AI76*CE77","v":42.023616370336597},{"$f":"Prevalence!AJ76*CF77","v":11.266669454612453},{"$f":"Prevalence!AK76*CG77","v":379.10174704104713},{"$f":"Prevalence!AL76*CH77","v":811.83789057217143},{"$f":"Prevalence!AM76*CI77","v":0},{"$f":"Prevalence!AN76*CJ77","v":55.846308203329514},{"$f":"Prevalence!AO76*CK77","v":355.19285376764441},{"$f":"Prevalence!AP76*CL77","v":49.384102570383988},{"$f":"Prevalence!AQ76*CM77","v":0},{"$f":"Prevalence!AR76*CN77","v":149.38082507880532},{"$f":"Prevalence!AS76*CO77","v":501.18225047702981},{"$f":"Prevalence!AT76*CP77","v":63.922399120957195},{"$f":"Prevalence!AU76*CQ77","v":191.93457840710681},{"$f":"Prevalence!AV76*CR77","v":212.20967558809505},76,26101,2820,170,355,1817,1195,877,10500,708,3641,2214,null,null,1804,null,722,112,213,202,369,355,1382,1001,97,96,158,1331,null,577,1817,6634,506,1042,135,43,1314,2713,null,209,1168,170,null,505,1563,249,766,652]
["Male 65-69",null,null,null,null,null,null,null,null,null,null,null,null,null,null,null,null,null,null,null,null,null,null,null,null,null,null,null,null,null,null,null,null,null,null,null,null,null,null,null,null,null,null,null,null,null,null,null,77]
["Male 70-74",null,null,null,null,null,null,null,null,null,null,null,null,null,null,null,null,null,null,null,null,null,null,null,null,null,null,null,null,null,null,null,null,null,null,null,null,null,null,null,null,null,null,null,null,null,null,null,78]
["Male 75-79",null,null,null,null,null,null,null,null,null,null,null,null,null,null,null,null,null,null,null,null,null,null,null,null,null,null,null,null,null,null,null,null,null,null,null,null,null,null,null,null,null,null,null,null,null,null,null,79]
["Male 80-84",null,null,null,null,null,null,null,null,null,null,null,null,null,null,null,null,null,null,null,null,null,null,null,null,null,null,null,null,null,null,null,null,null,null,null,null,null,null,null,null,null,null,null,null,null,null,null,80]
["Male 85-89",null,null,null,null,null,null,null,null,null,null,null,null,null,null,null,null,null,null,null,null,null,null,null,null,null,null,null,null,null,null,null,null,null,null,null,null,null,null,null,null,null,null,null,null,null,null,null,81]
["Male 90+",null,null,null,null,null,null,null,null,null,null,null,null,null,null,null,null,null,null,null,null,null,null,null,null,null,null,null,null,null,null,null,null,null,null,null,null,null,null,null,null,null,null,null,null,null,null,null,82]
["Female <1",null,null,null,null,null,null,null,null,null,null,null,null,null,null,null,null,null,null,null,null,null,null,null,null,null,null,null,null,null,null,null,null,null,null,null,null,null,null,null,null,null,null,null,null,null,null,null,83]
["Female 1-4",null,null,null,null,null,null,null,null,null,null,null,null,null,null,null,null,null,null,null,null,null,null,null,null,null,null,null,null,null,null,null,null,null,null,null,null,null,null,null,null,null,null,null,null,null,null,null,84]
["Female 5-9",null,null,null,null,null,null,null,null,null,null,null,null,null,null,null,null,null,null,null,null,null,null,null,null,null,null,null,null,null,null,null,null,null,null,null,null,null,null,null,null,null,null,null,null,null,null,null,85]
["Female 10-14",null,null,null,null,null,null,null,null,null,null,null,null,null,null,null,null,null,null,null,null,null,null,null,null,null,null,null,null,null,null,null,null,null,null,null,null,null,null,null,null,null,null,null,null,null,null,null,86]
["Female 15-19 (16+)",{"$f":"Prevalence!B87*AX88","v":4512.4965774044049},{"$f":"Prevalence!C87*AY88","v":496.49213909250147},{"$f":"Prevalence!D87*AZ88","v":29.482850512429682},{"$f":"Prevalence!E87*BA88","v":57.132519789987754},{"$f":"Prevalence!F87*BB88","v":335.43431866591715},{"$f":"Prevalence!G87*BC88","v":213.67137781004774},{"$f":"Prevalence!H87*BD88","v":164.83523859624714},{"$f":"Prevalence!I87*BE88","v":1576.0932362649596},{"$f":"Prevalence!J87*BF88","v":125.47634086891888},{"$f":"Prevalence!K87*BG88","v":715.9039468537801},{"$f":"Prevalence!L87*BH88","v":349.87573533331317},{"$f":"Prevalence!M87*BI88","v":0},{"$f":"Prevalence!N87*BJ88","v":0},{"$f":"Prevalence!O87*BK88","v":304.45723005986366},{"$f":"Prevalence!P87*BL88","v":0},{"$f":"Prevalence!Q87*BM88","v":118.41830495618689},{"$f":"Prevalence!R87*BN88","v":23.878328629551614},{"$f":"Prevalence!S87*BO88","v":47.663807830857841},{"$f":"Prevalence!T87*BP88","v":35.698457916215574},{"$f":"Prevalence!U87*BQ88","v":75.391410539431718},{"$f":"Prevalence!V87*BR88","v":57.132519789987768},{"$f":"Prevalence!W87*BS88","v":214.06473777850184},{"$f":"Prevalence!X87*BT88","v":183.32798352917555},{"$f":"Prevalence!Y87*BU88","v":23.413307885038979},{"$f":"Prevalence!Z87*BV88","v":21.707768620527904},{"$f":"Prevalence!AA87*BW88","v":39.910247978556114},{"$f":"Prevalence!AB87*BX88","v":153.47747766784988},{"$f":"Prevalence!AC87*BY88","v":0},{"$f":"Prevalence!AD87*BZ88","v":102.19536808425238},{"$f":"Prevalence!AE87*CA88","v":335.43431866591715},{"$f":"Prevalence!AF87*CB88","v":802.83594643031097},{"$f":"Prevalence!AG87*CC88","v":89.901924879929254},{"$f":"Prevalence!AH87*CD88","v":156.52017406696984},{"$f":"Prevalence!AI87*CE88","v":35.440128974822613},{"$f":"Prevalence!AJ87*CF88","v":5.9792815379561866},{"$f":"Prevalence!AK87*CG88","v":210.45817686283686},{"$f":"Prevalence!AL87*CH88","v":517.65313806906204},{"$f":"Prevalence!AM87*CI88","v":0},{"$f":"Prevalence!AN87*CJ88","v":35.094638775400668},{"$f":"Prevalence!AO87*CK88","v":201.46833054759713},{"$f":"Prevalence!AP87*CL88","v":29.482850512429682},{"$f":"Prevalence!AQ87*CM88","v":0},{"$f":"Prevalence!AR87*CN88","v":93.538304275366386},{"$f":"Prevalence!AS87*CO88","v":297.00704137312135},{"$f":"Prevalence!AT87*CP88","v":39.424843545715284},{"$f":"Prevalence!AU87*CQ88","v":141.92232312670149},{"$f":"Prevalence!AV87*CR88","v":150.45646883777442},87,25453,2796,155,299,1703,1113,799,10250,649,3499,2383,null,null,1807,null,666,103,236,187,374,299,1344,996,106,121,187,1396,null,501,1703,6657,462,825,172,30,1315,2658,null,227,1117,155,null,485,1383,238,816,694]
["Female 20-24",{"$f":"Prevalence!B88*AX89","v":7121.4581785155979},{"$f":"Prevalence!C88*AY89","v":658.08292828212097},{"$f":"Prevalence!D88*AZ89","v":42.417262350140767},{"$f":"Prevalence!E88*BA89","v":98.405510675062516},{"$f":"Prevalence!F88*BB89","v":467.20505218764271},{"$f":"Prevalence!G88*BC89","v":332.69766194502495},{"$f":"Prevalence!H88*BD89","v":344.93681969076994},{"$f":"Prevalence!I88*BE89","v":2648.6054628940419},{"$f":"Prevalence!J88*BF89","v":180.57766158947649},{"$f":"Prevalence!K88*BG89","v":966.74654155018902},{"$f":"Prevalence!L88*BH89","v":574.51269507312395},{"$f":"Prevalence!M88*BI89","v":0},{"$f":"Prevalence!N88*BJ89","v":0},{"$f":"Prevalence!O88*BK89","v":530.90466625270085},{"$f":"Prevalence!P88*BL89","v":0},{"$f":"Prevalence!Q88*BM89","v":251.23883619082892},{"$f":"Prevalence!R88*BN89","v":50.074941592069408},{"$f":"Prevalence!S88*BO89","v":64.022996111787862},{"$f":"Prevalence!T88*BP89","v":43.334491695085212},{"$f":"Prevalence!U88*BQ89","v":100.58907448977655},{"$f":"Prevalence!V88*BR89","v":98.405510675062544},{"$f":"Prevalence!W88*BS89","v":391.65564746825601},{"$f":"Prevalence!X88*BT89","v":235.97035630964163},{"$f":"Prevalence!Y88*BU89","v":29.377074987831925},{"$f":"Prevalence!Z88*BV89","v":24.937023456639494},{"$f":"Prevalence!AA88*BW89","v":57.624422215027543},{"$f":"Prevalence!AB88*BX89","v":284.52701447306271},{"$f":"Prevalence!AC88*BY89","v":0},{"$f":"Prevalence!AD88*BZ89","v":166.85790637309071},{"$f":"Prevalence!AE88*CA89","v":467.20505218764271},{"$f":"Prevalence!AF88*CB89","v":1433.9371192814176},{"$f":"Prevalence!AG88*CC89","v":137.57718807383114},{"$f":"Prevalence!AH88*CD89","v":225.57877207954806},{"$f":"Prevalence!AI88*CE89","v":52.954146200752398},{"$f":"Prevalence!AJ88*CF89","v":8.5703035377372014},{"$f":"Prevalence!AK88*CG89","v":269.67454601815979},{"$f":"Prevalence!AL88*CH89","v":710.84798869528845},{"$f":"Prevalence!AM88*CI89","v":0},{"$f":"Prevalence!AN88*CJ89","v":57.975724849230176},{"$f":"Prevalence!AO88*CK89","v":323.39544912429869},{"$f":"Prevalence!AP88*CL89","v":42.417262350140767},{"$f":"Prevalence!AQ88*CM89","v":0},{"$f":"Prevalence!AR88*CN89","v":142.52537496803248},{"$f":"Prevalence!AS88*CO89","v":397.94218920057403},{"$f":"Prevalence!AT88*CP89","v":68.910650903435112},{"$f":"Prevalence!AU88*CQ89","v":203.83941507903694},{"$f":"Prevalence!AV88*CR89","v":201.4035440205943},88,40169,3706,223,515,2372,1733,1672,17225,934,4725,3913,null,null,3151,null,1413,216,317,227,499,515,2459,1282,133,139,270,2588,null,818,2372,11890,707,1189,257,43,1685,3650,null,375,1793,223,null,739,1853,416,1172,929]
["Female 25-29",{"$f":"Prevalence!B89*AX90","v":13212.644863242411},{"$f":"Prevalence!C89*AY90","v":1128.8211555670923},{"$f":"Prevalence!D89*AZ90","v":72.265266852278657},{"$f":"Prevalence!E89*BA90","v":139.05435294480358},{"$f":"Prevalence!F89*BB90","v":864.95423489219797},{"$f":"Prevalence!G89*BC90","v":542.74107149559143},{"$f":"Prevalence!H89*BD90","v":628.49725198796034},{"$f":"Prevalence!I89*BE90","v":4937.3172310992704},{"$f":"Prevalence!J89*BF90","v":355.19480746922704},{"$f":"Prevalence!K89*BG90","v":1896.6000868011049},{"$f":"Prevalence!L89*BH90","v":1167.7220721165318},{"$f":"Prevalence!M89*BI90","v":0},{"$f":"Prevalence!N89*BJ90","v":0},{"$f":"Prevalence!O89*BK90","v":948.15586959833945},{"$f":"Prevalence!P89*BL90","v":0},{"$f":"Prevalence!Q89*BM90","v":461.76203260475768},{"$f":"Prevalence!R89*BN90","v":93.865239470207541},{"$f":"Prevalence!S89*BO90","v":118.87838784777955},{"$f":"Prevalence!T89*BP90","v":82.401563197879696},{"$f":"Prevalence!U89*BQ90","v":174.02348568452828},{"$f":"Prevalence!V89*BR90","v":139.05435294480364},{"$f":"Prevalence!W89*BS90","v":683.23983670401947},{"$f":"Prevalence!X89*BT90","v":431.06859525063169},{"$f":"Prevalence!Y89*BU90","v":50.034880496581636},{"$f":"Prevalence!Z89*BV90","v":43.839199535816213},{"$f":"Prevalence!AA89*BW90","v":94.026876189384197},{"$f":"Prevalence!AB89*BX90","v":594.56681624061741},{"$f":"Prevalence!AC89*BY90","v":0},{"$f":"Prevalence!AD89*BZ90","v":279.06224603516324},{"$f":"Prevalence!AE89*CA90","v":864.95423489219797},{"$f":"Prevalence!AF89*CB90","v":2676.3979254137903},{"$f":"Prevalence!AG89*CC90","v":273.505124223834},{"$f":"Prevalence!AH89*CD90","v":403.37117861276164},{"$f":"Prevalence!AI89*CE90","v":83.059157384157174},{"$f":"Prevalence!AJ89*CF90","v":8.8875077385262173},{"$f":"Prevalence!AK89*CG90","v":436.76086449156634},{"$f":"Prevalence!AL89*CH90","v":1374.555119789637},{"$f":"Prevalence!AM89*CI90","v":0},{"$f":"Prevalence!AN89*CJ90","v":115.81810235296517},{"$f":"Prevalence!AO89*CK90","v":619.29358798547173},{"$f":"Prevalence!AP89*CL90","v":72.265266852278657},{"$f":"Prevalence!AQ89*CM90","v":0},{"$f":"Prevalence!AR89*CN90","v":248.02488309618062},{"$f":"Prevalence!AS89*CO90","v":816.28205700750584},{"$f":"Prevalence!AT89*CP90","v":98.685131309409641},{"$f":"Prevalence!AU89*CQ90","v":365.44167955493918},{"$f":"Prevalence!AV89*CR90","v":411.43881206262319},89,41783,3564,213,408,2462,1585,1708,18002,1030,5197,4459,null,null,3155,null,1456,227,330,242,484,408,2405,1313,127,137,247,3032,null,767,2462,12442,788,1192,226,25,1530,3957,null,420,1925,213,null,721,2131,334,1178,1064]
["Female 30-34",{"$f":"Prevalence!B90*AX91","v":11850.050345957592},{"$f":"Prevalence!C90*AY91","v":995.79509346322629},{"$f":"Prevalence!D90*AZ91","v":63.444154466554494},{"$f":"Prevalence!E90*BA91","v":141.440089392386},{"$f":"Prevalence!F90*BB91","v":778.17775397490607},{"$f":"Prevalence!G90*BC91","v":483.15940181721106},{"$f":"Prevalence!H90*BD91","v":501.1787220185023},{"$f":"Prevalence!I90*BE91","v":4452.9653685217054},{"$f":"Prevalence!J90*BF91","v":307.26075092726336},{"$f":"Prevalence!K90*BG91","v":1742.9597872930685},{"$f":"Prevalence!L90*BH91","v":1086.2774512535038},{"$f":"Prevalence!M90*BI91","v":0},{"$f":"Prevalence!N90*BJ91","v":0},{"$f":"Prevalence!O90*BK91","v":808.11129424720593},{"$f":"Prevalence!P90*BL91","v":0},{"$f":"Prevalence!Q90*BM91","v":371.69306470657693},{"$f":"Prevalence!R90*BN91","v":68.228037500371116},{"$f":"Prevalence!S90*BO91","v":110.23268691339558},{"$f":"Prevalence!T90*BP91","v":65.03594450741744},{"$f":"Prevalence!U90*BQ91","v":162.51780068059253},{"$f":"Prevalence!V90*BR91","v":141.44008939238606},{"$f":"Prevalence!W90*BS91","v":578.69419848901771},{"$f":"Prevalence!X90*BT91","v":359.82572764256838},{"$f":"Prevalence!Y90*BU91","v":52.398733118467383},{"$f":"Prevalence!Z90*BV91","v":49.599094365339511},{"$f":"Prevalence!AA90*BW91","v":103.16309087985067},{"$f":"Prevalence!AB90*BX91","v":554.56298031941492},{"$f":"Prevalence!AC90*BY91","v":0},{"$f":"Prevalence!AD90*BZ91","v":253.95755897332978},{"$f":"Prevalence!AE90*CA91","v":778.17775397490607},{"$f":"Prevalence!AF90*CB91","v":2370.5115847982611},{"$f":"Prevalence!AG90*CC91","v":242.96140476736522},{"$f":"Prevalence!AH90*CD91","v":362.08654456011323},{"$f":"Prevalence!AI90*CE91","v":78.281418242590604},{"$f":"Prevalence!AJ90*CF91","v":8.8875077385262173},{"$f":"Prevalence!AK90*CG91","v":427.34053212017966},{"$f":"Prevalence!AL90*CH91","v":1229.70056205593},{"$f":"Prevalence!AM90*CI91","v":0},{"$f":"Prevalence!AN90*CJ91","v":95.412055747918927},{"$f":"Prevalence!AO90*CK91","v":581.33169531934936},{"$f":"Prevalence!AP90*CL91","v":63.444154466554494},{"$f":"Prevalence!AQ90*CM91","v":0},{"$f":"Prevalence!AR90*CN91","v":189.54467487655413},{"$f":"Prevalence!AS90*CO91","v":802.10916347898501},{"$f":"Prevalence!AT90*CP91","v":77.116225364538678},{"$f":"Prevalence!AU90*CQ91","v":334.10924353197754},{"$f":"Prevalence!AV90*CR91","v":368.1294634244523},90,37474,3144,187,415,2215,1411,1362,16236,891,4776,4148,null,null,2689,null,1172,165,306,191,452,415,2037,1096,133,155,271,2828,null,698,2215,11020,700,1070,213,25,1497,3540,null,346,1807,187,null,551,2094,261,1077,952]
["Female 35-39",{"$f":"Prevalence!B91*AX92","v":10174.131972239808},{"$f":"Prevalence!C91*AY92","v":985.62099567240637},{"$f":"Prevalence!D91*AZ92","v":64.110535741315687},{"$f":"Prevalence!E91*BA92","v":110.64925579878958},{"$f":"Prevalence!F91*BB92","v":671.64091236795741},{"$f":"Prevalence!G91*BC92","v":471.18170442509074},{"$f":"Prevalence!H91*BD92","v":426.8181461432219},{"$f":"Prevalence!I91*BE92","v":3726.5269516880453},{"$f":"Prevalence!J91*BF92","v":268.62883932906675},{"$f":"Prevalence!K91*BG92","v":1597.4701735112062},{"$f":"Prevalence!L91*BH92","v":845.20853123206507},{"$f":"Prevalence!M91*BI92","v":0},{"$f":"Prevalence!N91*BJ92","v":0},{"$f":"Prevalence!O91*BK92","v":640.07797079131387},{"$f":"Prevalence!P91*BL92","v":0},{"$f":"Prevalence!Q91*BM92","v":317.17684617625343},{"$f":"Prevalence!R91*BN92","v":55.277975082471976},{"$f":"Prevalence!S91*BO92","v":86.176226569141917},{"$f":"Prevalence!T91*BP92","v":67.422967031607371},{"$f":"Prevalence!U91*BQ92","v":163.3512589804732},{"$f":"Prevalence!V91*BR92","v":110.64925579878962},{"$f":"Prevalence!W91*BS92","v":459.73283719821018},{"$f":"Prevalence!X91*BT92","v":356.72118467818183},{"$f":"Prevalence!Y91*BU92","v":47.915504563893123},{"$f":"Prevalence!Z91*BV92","v":45.672201125102546},{"$f":"Prevalence!AA91*BW92","v":86.856527312208812},{"$f":"Prevalence!AB91*BX92","v":402.0899208831749},{"$f":"Prevalence!AC91*BY92","v":0},{"$f":"Prevalence!AD91*BZ92","v":242.46038996342736},{"$f":"Prevalence!AE91*CA92","v":671.64091236795741},{"$f":"Prevalence!AF91*CB92","v":1947.8639681104646},{"$f":"Prevalence!AG91*CC92","v":201.64554797450808},{"$f":"Prevalence!AH91*CD92","v":329.93006492070401},{"$f":"Prevalence!AI91*CE92","v":63.90675038081924},{"$f":"Prevalence!AJ91*CF92","v":9.2904100049068479},{"$f":"Prevalence!AK91*CG92","v":432.40139656859105},{"$f":"Prevalence!AL91*CH92","v":1141.0369462810972},{"$f":"Prevalence!AM91*CI92","v":0},{"$f":"Prevalence!AN91*CJ92","v":75.113499304079767},{"$f":"Prevalence!AO91*CK92","v":465.3162217626849},{"$f":"Prevalence!AP91*CL92","v":64.110535741315687},{"$f":"Prevalence!AQ91*CM92","v":0},{"$f":"Prevalence!AR91*CN92","v":175.64882571922925},{"$f":"Prevalence!AS91*CO92","v":716.89908600291767},{"$f":"Prevalence!AT91*CP92","v":75.432851068560396},{"$f":"Prevalence!AU91*CQ92","v":304.64138492086897},{"$f":"Prevalence!AV91*CR92","v":332.70470583025485},91,32010,3096,188,323,1902,1369,1154,13518,775,4355,3211,null,null,2119,null,995,133,238,197,452,323,1610,1081,121,142,227,2040,null,663,1902,9009,578,970,173,26,1507,3268,null,271,1439,188,null,508,1862,254,977,856]
["Female 40-44",{"$f":"Prevalence!B92*AX93","v":11923.853825010197},{"$f":"Prevalence!C92*AY93","v":1200.1909411127172},{"$f":"Prevalence!D92*AZ93","v":65.815603181244299},{"$f":"Prevalence!E92*BA93","v":131.88843183447057},{"$f":"Prevalence!F92*BB93","v":870.44944741693746},{"$f":"Prevalence!G92*BC93","v":530.03639504356443},{"$f":"Prevalence!H92*BD93","v":427.55786563393809},{"$f":"Prevalence!I92*BE93","v":4468.9102244277929},{"$f":"Prevalence!J92*BF93","v":313.68916076491018},{"$f":"Prevalence!K92*BG93","v":1903.3921309643283},{"$f":"Prevalence!L92*BH93","v":892.32541914565581},{"$f":"Prevalence!M92*BI93","v":0},{"$f":"Prevalence!N92*BJ93","v":0},{"$f":"Prevalence!O92*BK93","v":698.07465337363215},{"$f":"Prevalence!P92*BL93","v":0},{"$f":"Prevalence!Q92*BM93","v":311.43897358211018},{"$f":"Prevalence!R92*BN93","v":59.434213810477388},{"$f":"Prevalence!S92*BO93","v":98.487116079019344},{"$f":"Prevalence!T92*BP93","v":85.219892339442822},{"$f":"Prevalence!U92*BQ93","v":182.1438816950409},{"$f":"Prevalence!V92*BR93","v":131.88843183447059},{"$f":"Prevalence!W92*BS93","v":501.13734738065767},{"$f":"Prevalence!X92*BT93","v":453.40879532638462},{"$f":"Prevalence!Y92*BU93","v":60.191377633981446},{"$f":"Prevalence!Z92*BV93","v":45.993836344293413},{"$f":"Prevalence!AA92*BW93","v":104.07478162520175},{"$f":"Prevalence!AB92*BX93","v":418.25235887945939},{"$f":"Prevalence!AC92*BY93","v":0},{"$f":"Prevalence!AD92*BZ93","v":260.01408335444472},{"$f":"Prevalence!AE92*CA93","v":870.44944741693746},{"$f":"Prevalence!AF92*CB93","v":2297.9130040046639},{"$f":"Prevalence!AG92*CC93","v":228.85723091916489},{"$f":"Prevalence!AH92*CD93","v":453.05860461276058},{"$f":"Prevalence!AI92*CE93","v":81.268699906244123},{"$f":"Prevalence!AJ92*CF93","v":12.863644622178713},{"$f":"Prevalence!AK92*CG93","v":505.28126035652872},{"$f":"Prevalence!AL92*CH93","v":1374.2721605148099},{"$f":"Prevalence!AM92*CI93","v":0},{"$f":"Prevalence!AN92*CJ93","v":78.716729898002413},{"$f":"Prevalence!AO92*CK93","v":596.60071518565223},{"$f":"Prevalence!AP92*CL93","v":65.815603181244299},{"$f":"Prevalence!AQ92*CM93","v":0},{"$f":"Prevalence!AR92*CN93","v":219.56103214903655},{"$f":"Prevalence!AS92*CO93","v":797.36735075834713},{"$f":"Prevalence!AT92*CP93","v":96.518411800323335},{"$f":"Prevalence!AU92*CQ93","v":362.95043198351226},{"$f":"Prevalence!AV92*CR93","v":351.74971819670634},92,37515,3770,193,385,2465,1540,1156,16211,905,5189,3390,null,null,2311,null,977,143,272,249,504,385,1755,1374,152,143,272,2122,null,711,2465,10628,656,1332,220,36,1761,3936,null,284,1845,193,null,635,2071,325,1164,905]
["Female 45-49",{"$f":"Prevalence!B93*AX94","v":10167.356081021406},{"$f":"Prevalence!C93*AY94","v":1063.5821804744044},{"$f":"Prevalence!D93*AZ94","v":50.013397500081084},{"$f":"Prevalence!E93*BA94","v":122.62280786743115},{"$f":"Prevalence!F93*BB94","v":738.51193051003474},{"$f":"Prevalence!G93*BC94","v":460.00322118459917},{"$f":"Prevalence!H93*BD94","v":356.72338578787952},{"$f":"Prevalence!I93*BE94","v":3855.7227818012479},{"$f":"Prevalence!J93*BF94","v":263.0800656399785},{"$f":"Prevalence!K93*BG94","v":1581.6974755447841},{"$f":"Prevalence!L93*BH94","v":704.91451505582268},{"$f":"Prevalence!M93*BI94","v":0},{"$f":"Prevalence!N93*BJ94","v":0},{"$f":"Prevalence!O93*BK94","v":608.70522440121817},{"$f":"Prevalence!P93*BL94","v":0},{"$f":"Prevalence!Q93*BM94","v":253.56608394544833},{"$f":"Prevalence!R93*BN94","v":55.445703167875031},{"$f":"Prevalence!S93*BO94","v":78.60557385400601},{"$f":"Prevalence!T93*BP94","v":66.926046657276487},{"$f":"Prevalence!U93*BQ94","v":156.01390570789641},{"$f":"Prevalence!V93*BR94","v":122.62280786743118},{"$f":"Prevalence!W93*BS94","v":442.92177147267654},{"$f":"Prevalence!X93*BT94","v":407.40936789858182},{"$f":"Prevalence!Y93*BU94","v":54.467860718279155},{"$f":"Prevalence!Z93*BV94","v":45.039321300144103},{"$f":"Prevalence!AA93*BW94","v":93.527678582967496},{"$f":"Prevalence!AB93*BX94","v":315.04078564945314},{"$f":"Prevalence!AC93*BY94","v":0},{"$f":"Prevalence!AD93*BZ94","v":232.71802670292402},{"$f":"Prevalence!AE93*CA94","v":738.51193051003474},{"$f":"Prevalence!AF93*CB94","v":1992.1790060580522},{"$f":"Prevalence!AG93*CC94","v":196.56728850340644},{"$f":"Prevalence!AH93*CD94","v":382.72908130777637},{"$f":"Prevalence!AI93*CE94","v":58.462251026139121},{"$f":"Prevalence!AJ93*CF94","v":12.731263975995843},{"$f":"Prevalence!AK93*CG94","v":463.36924964988634},{"$f":"Prevalence!AL93*CH94","v":1145.3670774999557},{"$f":"Prevalence!AM93*CI94","v":0},{"$f":"Prevalence!AN93*CJ94","v":68.439448752636707},{"$f":"Prevalence!AO93*CK94","v":484.42590586308819},{"$f":"Prevalence!AP93*CL94","v":50.013397500081084},{"$f":"Prevalence!AQ93*CM94","v":0},{"$f":"Prevalence!AR93*CN94","v":169.89389242914697},{"$f":"Prevalence!AS93*CO94","v":682.06786037569134},{"$f":"Prevalence!AT93*CP94","v":79.728455500267515},{"$f":"Prevalence!AU93*CQ94","v":320.374216616502},{"$f":"Prevalence!AV93*CR94","v":303.69553472072027},93,38606,4032,177,432,2524,1613,1164,16880,916,5204,3232,null,null,2432,null,960,161,262,236,521,432,1872,1490,166,169,295,1929,null,768,2524,11120,680,1358,191,43,1949,3959,null,298,1808,177,null,593,2138,324,1240,943]
["Female 50-54",{"$f":"Prevalence!B94*AX95","v":9377.533232578593},{"$f":"Prevalence!C94*AY95","v":964.92649210698676},{"$f":"Prevalence!D94*AZ95","v":47.752904957704537},{"$f":"Prevalence!E94*BA95","v":104.45646596114506},{"$f":"Prevalence!F94*BB95","v":653.36653757088254},{"$f":"Prevalence!G94*BC95","v":424.35511042943801},{"$f":"Prevalence!H94*BD95","v":320.25424239547601},{"$f":"Prevalence!I94*BE95","v":3539.8184804249963},{"$f":"Prevalence!J94*BF95","v":253.02787972578722},{"$f":"Prevalence!K94*BG95","v":1463.1613465166392},{"$f":"Prevalence!L94*BH95","v":670.89017583901943},{"$f":"Prevalence!M94*BI95","v":0},{"$f":"Prevalence!N94*BJ95","v":0},{"$f":"Prevalence!O94*BK95","v":595.18956563573067},{"$f":"Prevalence!P94*BL95","v":0},{"$f":"Prevalence!Q94*BM95","v":228.20947555090351},{"$f":"Prevalence!R94*BN95","v":51.313104173996145},{"$f":"Prevalence!S94*BO95","v":86.406126984556224},{"$f":"Prevalence!T94*BP95","v":72.030575639611143},{"$f":"Prevalence!U94*BQ95","v":140.74191109925397},{"$f":"Prevalence!V94*BR95","v":104.45646596114507},{"$f":"Prevalence!W94*BS95","v":434.87725211900613},{"$f":"Prevalence!X94*BT95","v":347.52839369066942},{"$f":"Prevalence!Y94*BU95","v":49.217946432179957},{"$f":"Prevalence!Z94*BV95","v":39.442719245096605},{"$f":"Prevalence!AA94*BW95","v":79.260744561836859},{"$f":"Prevalence!AB94*BX95","v":308.34473992025272},{"$f":"Prevalence!AC94*BY95","v":0},{"$f":"Prevalence!AD94*BZ95","v":220.29427788154396},{"$f":"Prevalence!AE94*CA95","v":653.36653757088254},{"$f":"Prevalence!AF94*CB95","v":1818.4008013929163},{"$f":"Prevalence!AG94*CC95","v":181.24660278181742},{"$f":"Prevalence!AH94*CD95","v":363.84627685444718},{"$f":"Prevalence!AI94*CE95","v":61.523101865203991},{"$f":"Prevalence!AJ94*CF95","v":9.4744290053922544},{"$f":"Prevalence!AK94*CG95","v":423.66547094720238},{"$f":"Prevalence!AL94*CH95","v":1033.4052035437842},{"$f":"Prevalence!AM94*CI95","v":0},{"$f":"Prevalence!AN94*CJ95","v":57.87497008612231},{"$f":"Prevalence!AO94*CK95","v":468.08189023385791},{"$f":"Prevalence!AP94*CL95","v":47.752904957704537},{"$f":"Prevalence!AQ94*CM95","v":0},{"$f":"Prevalence!AR94*CN95","v":173.33188013428992},{"$f":"Prevalence!AS94*CO95","v":655.58908001498855},{"$f":"Prevalence!AT94*CP95","v":71.607964662277311},{"$f":"Prevalence!AU94*CQ95","v":283.16946888039206},{"$f":"Prevalence!AV94*CR95","v":270.20207171864723},94,35607,3658,169,368,2233,1488,1045,15497,881,4814,3076,null,null,2378,null,864,149,288,254,470,368,1838,1271,150,148,250,1888,null,727,2233,10150,627,1291,201,32,1782,3572,null,252,1747,169,null,605,2055,291,1096,839]
["Female 55-59",{"$f":"Prevalence!B95*AX96","v":4823.4830963754011},{"$f":"Prevalence!C95*AY96","v":531.6468389198302},{"$f":"Prevalence!D95*AZ96","v":28.655736238685453},{"$f":"Prevalence!E95*BA96","v":57.746030337725017},{"$f":"Prevalence!F95*BB96","v":340.70731093466782},{"$f":"Prevalence!G95*BC96","v":218.82983671463518},{"$f":"Prevalence!H95*BD96","v":173.3724071949853},{"$f":"Prevalence!I95*BE96","v":1750.7697485459421},{"$f":"Prevalence!J95*BF96","v":139.14129678511529},{"$f":"Prevalence!K95*BG96","v":795.47399604001134},{"$f":"Prevalence!L95*BH96","v":332.44977442317042},{"$f":"Prevalence!M95*BI96","v":0},{"$f":"Prevalence!N95*BJ96","v":0},{"$f":"Prevalence!O95*BK96","v":301.99583266298868},{"$f":"Prevalence!P95*BL96","v":0},{"$f":"Prevalence!Q95*BM96","v":123.92859952425376},{"$f":"Prevalence!R95*BN96","v":26.719980199007352},{"$f":"Prevalence!S95*BO96","v":38.857808498093895},{"$f":"Prevalence!T95*BP96","v":37.595277443880327},{"$f":"Prevalence!U95*BQ96","v":76.47020583457892},{"$f":"Prevalence!V95*BR96","v":57.746030337725024},{"$f":"Prevalence!W95*BS96","v":219.56815324523487},{"$f":"Prevalence!X95*BT96","v":189.42975102133289},{"$f":"Prevalence!Y95*BU96","v":26.660866645349582},{"$f":"Prevalence!Z95*BV96","v":19.700665386180138},{"$f":"Prevalence!AA95*BW96","v":36.220141031053856},{"$f":"Prevalence!AB95*BX96","v":147.46853969891157},{"$f":"Prevalence!AC95*BY96","v":0},{"$f":"Prevalence!AD95*BZ96","v":105.14957770316319},{"$f":"Prevalence!AE95*CA96","v":340.70731093466782},{"$f":"Prevalence!AF95*CB96","v":878.33260434077761},{"$f":"Prevalence!AG95*CC96","v":101.72207463617552},{"$f":"Prevalence!AH95*CD96","v":192.32478585285304},{"$f":"Prevalence!AI95*CE96","v":30.106372696638076},{"$f":"Prevalence!AJ95*CF96","v":5.6073175668656345},{"$f":"Prevalence!AK95*CG96","v":229.3442688311367},{"$f":"Prevalence!AL95*CH96","v":560.81504681592207},{"$f":"Prevalence!AM95*CI96","v":0},{"$f":"Prevalence!AN95*CJ96","v":34.235009801457302},{"$f":"Prevalence!AO95*CK96","v":219.99792978645502},{"$f":"Prevalence!AP95*CL96","v":28.655736238685453},{"$f":"Prevalence!AQ95*CM96","v":0},{"$f":"Prevalence!AR95*CN96","v":102.56780951930571},{"$f":"Prevalence!AS95*CO96","v":371.67296247630043},{"$f":"Prevalence!AT95*CP96","v":40.590321985951036},{"$f":"Prevalence!AU95*CQ96","v":149.00411344449583},{"$f":"Prevalence!AV95*CR96","v":144.61203721103064},95,29979,3299,166,333,1906,1256,926,12546,793,4284,2495,null,null,1975,null,768,127,212,217,418,333,1519,1134,133,121,187,1478,null,568,1906,8025,576,1117,161,31,1579,3173,null,244,1344,166,null,586,1907,270,944,735]
["Female 60-64",{"$f":"Prevalence!B96*AX97","v":4400.0064123745988},{"$f":"Prevalence!C96*AY97","v":491.19720067524781},{"$f":"Prevalence!D96*AZ97","v":27.619986736082364},{"$f":"Prevalence!E96*BA97","v":50.289335729550317},{"$f":"Prevalence!F96*BB97","v":341.77984181903719},{"$f":"Prevalence!G96*BC97","v":199.14212051339808},{"$f":"Prevalence!H96*BD97","v":144.72664229127824},{"$f":"Prevalence!I96*BE97","v":1539.7731074012374},{"$f":"Prevalence!J96*BF97","v":130.71912497466695},{"$f":"Prevalence!K96*BG97","v":753.8805844823637},{"$f":"Prevalence!L96*BH97","v":310.4641179983916},{"$f":"Prevalence!M96*BI97","v":0},{"$f":"Prevalence!N96*BJ97","v":0},{"$f":"Prevalence!O96*BK97","v":283.18799093258485},{"$f":"Prevalence!P96*BL97","v":0},{"$f":"Prevalence!Q96*BM97","v":104.08065975669749},{"$f":"Prevalence!R96*BN97","v":20.618567397659216},{"$f":"Prevalence!S96*BO97","v":34.275519760111131},{"$f":"Prevalence!T96*BP97","v":40.540529593861734},{"$f":"Prevalence!U96*BQ97","v":69.518368940526287},{"$f":"Prevalence!V96*BR97","v":50.289335729550324},{"$f":"Prevalence!W96*BS97","v":209.59435299907213},{"$f":"Prevalence!X96*BT97","v":180.24224105116241},{"$f":"Prevalence!Y96*BU97","v":18.642560887349706},{"$f":"Prevalence!Z96*BV97","v":19.212219136936},{"$f":"Prevalence!AA96*BW97","v":37.575975187296514},{"$f":"Prevalence!AB96*BX97","v":134.79702106443136},{"$f":"Prevalence!AC96*BY97","v":0},{"$f":"Prevalence!AD96*BZ97","v":102.55786275977536},{"$f":"Prevalence!AE96*CA97","v":341.77984181903719},{"$f":"Prevalence!AF96*CB97","v":758.92314996871676},{"$f":"Prevalence!AG96*CC97","v":90.243021074801547},{"$f":"Prevalence!AH96*CD97","v":182.16618033332009},{"$f":"Prevalence!AI96*CE97","v":28.984396074403119},{"$f":"Prevalence!AJ96*CF97","v":5.4264363550312593},{"$f":"Prevalence!AK96*CG97","v":212.64091802962895},{"$f":"Prevalence!AL96*CH97","v":531.47521140103299},{"$f":"Prevalence!AM96*CI97","v":0},{"$f":"Prevalence!AN96*CJ97","v":30.166094702103766},{"$f":"Prevalence!AO96*CK97","v":194.95352260094342},{"$f":"Prevalence!AP96*CL97","v":27.619986736082364},{"$f":"Prevalence!AQ96*CM97","v":0},{"$f":"Prevalence!AR96*CN97","v":88.390347793940933},{"$f":"Prevalence!AS96*CO97","v":343.80236277304351},{"$f":"Prevalence!AT96*CP97","v":31.419915907643581},{"$f":"Prevalence!AU96*CQ97","v":134.64036945779125},{"$f":"Prevalence!AV96*CR97","v":138.90625615100359},96,27347,3048,160,290,1912,1143,773,11034,745,4060,2330,null,null,1852,null,645,98,187,234,380,290,1450,1079,93,118,194,1351,null,554,1912,6934,511,1058,155,30,1464,3007,null,215,1191,160,null,505,1764,209,853,706]
["Female 65-69",null,null,null,null,null,null,null,null,null,null,null,null,null,null,null,null,null,null,null,null,null,null,null,null,null,null,null,null,null,null,null,null,null,null,null,null,null,null,null,null,null,null,null,null,null,null,null,97]
["Female 70-74",null,null,null,null,null,null,null,null,null,null,null,null,null,null,null,null,null,null,null,null,null,null,null,null,null,null,null,null,null,null,null,null,null,null,null,null,null,null,null,null,null,null,null,null,null,null,null,98]
["Female 75-79",null,null,null,null,null,null,null,null,null,null,null,null,null,null,null,null,null,null,null,null,null,null,null,null,null,null,null,null,null,null,null,null,null,null,null,null,null,null,null,null,null,null,null,null,null,null,null,99]
["Female 80-84",null,null,null,null,null,null,null,null,null,null,null,null,null,null,null,null,null,null,null,null,null,null,null,null,null,null,null,null,null,null,null,null,null,null,null,null,null,null,null,null,null,null,null,null,null,null,null,100]
["Female 85-89",null,null,null,null,null,null,null,null,null,null,null,null,null,null,null,null,null,null,null,null,null,null,null,null,null,null,null,null,null,null,null,null,null,null,null,null,null,null,null,null,null,null,null,null,null,null,null,101]
["Female 90+",null,null,null,null,null,null,null,null,null,null,null,null,null,null,null,null,null,null,null,null,null,null,null,null,null,null,null,null,null,null,null,null,null,null,null,null,null,null,null,null,null,null,null,null,null,null,null,102]
["age/sex breakdown: Q2",null,null,null,null,null,null,null,null,null,null,null,null,null,null,null,null,null,null,null,null,null,null,null,null,null,null,null,null,null,null,null,null,null,null,null,null,null,null,null,null,null,null,null,null,null,null,null,103]
["Male <1",null,null,null,null,null,null,null,null,null,null,null,null,null,null,null,null,null,null,null,null,null,null,null,null,null,null,null,null,null,null,null,null,null,null,null,null,null,null,null,null,null,null,null,null,null,null,null,104]
["Male 1-4",null,null,null,null,null,null,null,null,null,null,null,null,null,null,null,null,null,null,null,null,null,null,null,null,null,null,null,null,null,null,null,null,null,null,null,null,null,null,null,null,null,null,null,null,null,null,null,105]
["Male 5-9",null,null,null,null,null,null,null,null,null,null,null,null,null,null,null,null,null,null,null,null,null,null,null,null,null,null,null,null,null,null,null,null,null,null,null,null,null,null,null,null,null,null,null,null,null,null,null,106]
["Male 10-14",null,null,null,null,null,null,null,null,null,null,null,null,null,null,null,null,null,null,null,null,null,null,null,null,null,null,null,null,null,null,null,null,null,null,null,null,null,null,null,null,null,null,null,null,null,null,null,107]
["Male 15-19 (16+)",{"$f":"Prevalence!B108*AX109","v":6403.358529348714},{"$f":"Prevalence!C108*AY109","v":689.00115249699218},{"$f":"Prevalence!D108*AZ109","v":92.072313666616594},{"$f":"Prevalence!E108*BA109","v":187.90795708091386},{"$f":"Prevalence!F108*BB109","v":540.36688243063429},{"$f":"Prevalence!G108*BC109","v":485.26532844411292},{"$f":"Prevalence!H108*BD109","v":439.49981011778448},{"$f":"Prevalence!I108*BE109","v":1146.4521120641903},{"$f":"Prevalence!J108*BF109","v":354.03500976269328},{"$f":"Prevalence!K108*BG109","v":1130.146898573292},{"$f":"Prevalence!L108*BH109","v":831.00872898449063},{"$f":"Prevalence!M108*BI109","v":29.334273328526496},{"$f":"Prevalence!N108*BJ109","v":8.9942487224372059},{"$f":"Prevalence!O108*BK109","v":437.13247023338869},{"$f":"Prevalence!P108*BL109","v":41.727376349220158},{"$f":"Prevalence!Q108*BM109","v":261.72650619101552},{"$f":"Prevalence!R108*BN109","v":114.86208645446908},{"$f":"Prevalence!S108*BO109","v":135.13680274722881},{"$f":"Prevalence!T108*BP109","v":82.487777657885985},{"$f":"Prevalence!U108*BQ109","v":65.911728887967158},{"$f":"Prevalence!V108*BR109","v":187.90795708091389},{"$f":"Prevalence!W108*BS109","v":201.06644954411212},{"$f":"Prevalence!X108*BT109","v":272.54931933968732},{"$f":"Prevalence!Y108*BU109","v":121.779571718949},{"$f":"Prevalence!Z108*BV109","v":125.0107597164148},{"$f":"Prevalence!AA108*BW109","v":67.062337700702244},{"$f":"Prevalence!AB108*BX109","v":232.89526297264933},{"$f":"Prevalence!AC108*BY109","v":41.727376349220151},{"$f":"Prevalence!AD108*BZ109","v":327.39017759723953},{"$f":"Prevalence!AE108*CA109","v":540.36688243063429},{"$f":"Prevalence!AF108*CB109","v":470.58743330424738},{"$f":"Prevalence!AG108*CC109","v":272.38231331513947},{"$f":"Prevalence!AH108*CD109","v":72.130980706672432},{"$f":"Prevalence!AI108*CE109","v":172.80466925006334},{"$f":"Prevalence!AJ108*CF109","v":52.333624333789722},{"$f":"Prevalence!AK108*CG109","v":223.46760763647609},{"$f":"Prevalence!AL108*CH109","v":681.58676672928607},{"$f":"Prevalence!AM108*CI109","v":29.334273328526496},{"$f":"Prevalence!AN108*CJ109","v":94.964547747341868},{"$f":"Prevalence!AO108*CK109","v":196.19318909950417},{"$f":"Prevalence!AP108*CL109","v":92.072313666616594},{"$f":"Prevalence!AQ108*CM109","v":8.9942487224372076},{"$f":"Prevalence!AR108*CN109","v":193.33494782367063},{"$f":"Prevalence!AS108*CO109","v":516.27501830776134},{"$f":"Prevalence!AT108*CP109","v":100.3838587755149},{"$f":"Prevalence!AU108*CQ109","v":159.06961642821418},{"$f":"Prevalence!AV108*CR109","v":408.05913505509329},108,25016,2414,338,799,1758,1703,1504,5294,1391,3886,3830,107,26,1775,191,933,358,498,359,227,799,898,891,475,484,242,1417,191,1059,1758,2681,1032,271,592,213,826,2429,107,379,688,338,26,697,1717,417,677,1337]
["Male 20-24",{"$f":"Prevalence!B109*AX110","v":9718.4327344012891},{"$f":"Prevalence!C109*AY110","v":811.44584778332592},{"$f":"Prevalence!D109*AZ110","v":130.75358153839042},{"$f":"Prevalence!E109*BA110","v":203.1945868809882},{"$f":"Prevalence!F109*BB110","v":722.33343214561467},{"$f":"Prevalence!G109*BC110","v":654.52405134241189},{"$f":"Prevalence!H109*BD110","v":901.79282847306035},{"$f":"Prevalence!I109*BE110","v":1998.6034269437876},{"$f":"Prevalence!J109*BF110","v":421.73688797755773},{"$f":"Prevalence!K109*BG110","v":1415.4464630355667},{"$f":"Prevalence!L109*BH110","v":1358.6884232117181},{"$f":"Prevalence!M109*BI110","v":40.30035681582612},{"$f":"Prevalence!N109*BJ110","v":10.377979295119852},{"$f":"Prevalence!O109*BK110","v":886.82480299179304},{"$f":"Prevalence!P109*BL110","v":55.490856506292779},{"$f":"Prevalence!Q109*BM110","v":627.80698912700177},{"$f":"Prevalence!R109*BN110","v":174.85988021699902},{"$f":"Prevalence!S109*BO110","v":170.41347816317207},{"$f":"Prevalence!T109*BP110","v":94.665638983423477},{"$f":"Prevalence!U109*BQ110","v":66.782809005429286},{"$f":"Prevalence!V109*BR110","v":203.19458688098823},{"$f":"Prevalence!W109*BS110","v":486.09717367513076},{"$f":"Prevalence!X109*BT110","v":330.66870281279688},{"$f":"Prevalence!Y109*BU110","v":152.54493720584139},{"$f":"Prevalence!Z109*BV110","v":144.89883512584441},{"$f":"Prevalence!AA109*BW110","v":70.664859973880468},{"$f":"Prevalence!AB109*BX110","v":554.70819515362848},{"$f":"Prevalence!AC109*BY110","v":55.490856506292765},{"$f":"Prevalence!AD109*BZ110","v":378.39997863930233},{"$f":"Prevalence!AE109*CA110","v":722.33343214561467},{"$f":"Prevalence!AF109*CB110","v":1012.4387599026106},{"$f":"Prevalence!AG109*CC110","v":328.60075588890368},{"$f":"Prevalence!AH109*CD110","v":116.58069944473257},{"$f":"Prevalence!AI109*CE110","v":216.88153589999504},{"$f":"Prevalence!AJ109*CF110","v":74.446423348067071},{"$f":"Prevalence!AK109*CG110","v":246.73421085286466},{"$f":"Prevalence!AL109*CH110","v":853.03572287238762},{"$f":"Prevalence!AM109*CI110","v":40.30035681582612},{"$f":"Prevalence!AN109*CJ110","v":200.95400341258096},{"$f":"Prevalence!AO109*CK110","v":264.06234463101868},{"$f":"Prevalence!AP109*CL110","v":130.75358153839042},{"$f":"Prevalence!AQ109*CM110","v":10.377979295119854},{"$f":"Prevalence!AR109*CN110","v":235.77432661423248},{"$f":"Prevalence!AS109*CO110","v":656.39392251941945},{"$f":"Prevalence!AT109*CP110","v":202.93427565409846},{"$f":"Prevalence!AU109*CQ110","v":209.35159266992443},{"$f":"Prevalence!AV109*CR110","v":483.13957426493096},109,37967,2843,480,864,2350,2297,3086,9229,1657,4867,6262,147,30,3601,254,2238,545,628,412,230,864,2171,1081,595,561,255,3375,254,1224,2350,5768,1245,438,743,303,912,3040,147,802,926,480,30,850,2183,843,891,1583]
["Male 25-29",{"$f":"Prevalence!B110*AX111","v":17432.969766117836},{"$f":"Prevalence!C110*AY111","v":1468.5697586517183},{"$f":"Prevalence!D110*AZ111","v":210.70777269957634},{"$f":"Prevalence!E110*BA111","v":357.87792796989424},{"$f":"Prevalence!F110*BB111","v":1232.683512016675},{"$f":"Prevalence!G110*BC111","v":1180.3305802570826},{"$f":"Prevalence!H110*BD111","v":1691.0506440739603},{"$f":"Prevalence!I110*BE111","v":3666.4291312081909},{"$f":"Prevalence!J110*BF111","v":777.37436718115293},{"$f":"Prevalence!K110*BG111","v":2588.0614068429095},{"$f":"Prevalence!L110*BH111","v":2520.2263192418172},{"$f":"Prevalence!M110*BI111","v":77.293075102716188},{"$f":"Prevalence!N110*BJ111","v":11.253522442119456},{"$f":"Prevalence!O110*BK111","v":1360.1678042375211},{"$f":"Prevalence!P110*BL111","v":84.888840700049869},{"$f":"Prevalence!Q110*BM111","v":1168.0810271292523},{"$f":"Prevalence!R110*BN111","v":329.93650659770992},{"$f":"Prevalence!S110*BO111","v":315.83088352549123},{"$f":"Prevalence!T110*BP111","v":161.9512083600824},{"$f":"Prevalence!U110*BQ111","v":144.30918407434837},{"$f":"Prevalence!V110*BR111","v":357.8779279698943},{"$f":"Prevalence!W110*BS111","v":618.31681584752027},{"$f":"Prevalence!X110*BT111","v":630.2265283419332},{"$f":"Prevalence!Y110*BU111","v":240.93983436342194},{"$f":"Prevalence!Z110*BV111","v":260.004975675428},{"$f":"Prevalence!AA110*BW111","v":103.17036659403423},{"$f":"Prevalence!AB110*BX111","v":1039.6407176565383},{"$f":"Prevalence!AC110*BY111","v":84.88884070004984},{"$f":"Prevalence!AD110*BZ111","v":758.18286329193711},{"$f":"Prevalence!AE110*CA111","v":1232.683512016675},{"$f":"Prevalence!AF110*CB111","v":1947.4466807667065},{"$f":"Prevalence!AG110*CC111","v":620.10750860861458},{"$f":"Prevalence!AH110*CD111","v":180.86928513927404},{"$f":"Prevalence!AI110*CE111","v":345.01338632026864},{"$f":"Prevalence!AJ110*CF111","v":146.09035289547984},{"$f":"Prevalence!AK110*CG111","v":428.3147884154788},{"$f":"Prevalence!AL110*CH111","v":1568.0414955010956},{"$f":"Prevalence!AM110*CI111","v":77.293075102716188},{"$f":"Prevalence!AN110*CJ111","v":400.31235160978588},{"$f":"Prevalence!AO110*CK111","v":495.78683623654479},{"$f":"Prevalence!AP110*CL111","v":210.70777269957634},{"$f":"Prevalence!AQ110*CM111","v":11.253522442119458},{"$f":"Prevalence!AR110*CN111","v":416.58443795746797},{"$f":"Prevalence!AS110*CO111","v":1174.3296155833134},{"$f":"Prevalence!AT110*CP111","v":287.14165398647435},{"$f":"Prevalence!AU110*CQ111","v":355.0007525193613},{"$f":"Prevalence!AV110*CR111","v":946.52788294194693},110,37684,2847,428,842,2219,2292,3202,9368,1690,4924,6427,156,18,3056,215,2304,569,644,390,275,842,1528,1140,520,557,206,3500,215,1357,2219,6139,1300,376,654,329,876,3092,156,884,962,428,18,831,2161,660,836,1716]
["Male 30-34",{"$f":"Prevalence!B111*AX112","v":16054.856589882167},{"$f":"Prevalence!C111*AY112","v":1314.3364050033642},{"$f":"Prevalence!D111*AZ112","v":220.5539303023603},{"$f":"Prevalence!E111*BA112","v":326.85050666134043},{"$f":"Prevalence!F111*BB112","v":1276.013531817171},{"$f":"Prevalence!G111*BC112","v":1128.3177580031711},{"$f":"Prevalence!H111*BD112","v":1372.5923247808316},{"$f":"Prevalence!I111*BE112","v":3238.6529740337082},{"$f":"Prevalence!J111*BF112","v":787.95401833213907},{"$f":"Prevalence!K111*BG112","v":2635.3655349127434},{"$f":"Prevalence!L111*BH112","v":2334.3561970509627},{"$f":"Prevalence!M111*BI112","v":59.45621161747399},{"$f":"Prevalence!N111*BJ112","v":9.3779353684328797},{"$f":"Prevalence!O111*BK112","v":1132.2862872972034},{"$f":"Prevalence!P111*BL112","v":86.468167968887997},{"$f":"Prevalence!Q111*BM112","v":897.35391407064958},{"$f":"Prevalence!R111*BN112","v":299.7841369262145},{"$f":"Prevalence!S111*BO112","v":327.11055793711591},{"$f":"Prevalence!T111*BP112","v":155.30705622223286},{"$f":"Prevalence!U111*BQ112","v":133.81397068712303},{"$f":"Prevalence!V111*BR112","v":326.85050666134055},{"$f":"Prevalence!W111*BS112","v":448.76528061184553},{"$f":"Prevalence!X111*BT112","v":569.96802694783605},{"$f":"Prevalence!Y111*BU112","v":214.99246758582265},{"$f":"Prevalence!Z111*BV112","v":255.80381807923618},{"$f":"Prevalence!AA111*BW112","v":109.18029086164788},{"$f":"Prevalence!AB111*BX112","v":959.4398622944625},{"$f":"Prevalence!AC111*BY112","v":86.468167968887983},{"$f":"Prevalence!AD111*BZ112","v":783.32525743205292},{"$f":"Prevalence!AE111*CA112","v":1276.013531817171},{"$f":"Prevalence!AF111*CB112","v":1668.6055613019835},{"$f":"Prevalence!AG111*CC112","v":638.71073386687306},{"$f":"Prevalence!AH111*CD112","v":193.85723912533891},{"$f":"Prevalence!AI111*CE112","v":317.0535858998187},{"$f":"Prevalence!AJ111*CF112","v":138.5416112565037},{"$f":"Prevalence!AK111*CG112","v":357.41793416862447},{"$f":"Prevalence!AL111*CH112","v":1624.332765229628},{"$f":"Prevalence!AM111*CI112","v":59.45621161747399},{"$f":"Prevalence!AN111*CJ112","v":347.78267651166919},{"$f":"Prevalence!AO111*CK112","v":416.41971276416655},{"$f":"Prevalence!AP111*CL112","v":220.5539303023603},{"$f":"Prevalence!AQ111*CM112","v":9.3779353684328814},{"$f":"Prevalence!AR111*CN112","v":394.02571388034875},{"$f":"Prevalence!AS111*CO112","v":1159.657288132712},{"$f":"Prevalence!AT111*CP112","v":232.3237018617838},{"$f":"Prevalence!AU111*CQ112","v":339.2889967260403},{"$f":"Prevalence!AV111*CR112","v":868.2021490388255},111,34705,2548,448,769,2297,2191,2599,8275,1713,5014,5953,120,15,2544,219,1770,517,667,374,255,769,1109,1031,464,548,218,3230,219,1402,2297,5260,1339,403,601,312,731,3203,120,768,808,448,15,786,2134,534,799,1574]
["Male 35-39",{"$f":"Prevalence!B112*AX113","v":16640.590302338293},{"$f":"Prevalence!C112*AY113","v":1534.4566244562541},{"$f":"Prevalence!D112*AZ113","v":234.00073324987449},{"$f":"Prevalence!E112*BA113","v":394.28864785663512},{"$f":"Prevalence!F112*BB113","v":1394.8360316981236},{"$f":"Prevalence!G112*BC113","v":1253.4441751850643},{"$f":"Prevalence!H112*BD113","v":1307.2665024066321},{"$f":"Prevalence!I112*BE113","v":3025.8654650593871},{"$f":"Prevalence!J112*BF113","v":810.11926699032585},{"$f":"Prevalence!K112*BG113","v":3012.3900109655842},{"$f":"Prevalence!L112*BH113","v":2462.6271257350954},{"$f":"Prevalence!M112*BI113","v":71.105974127116198},{"$f":"Prevalence!N112*BJ113","v":15.791331365357788},{"$f":"Prevalence!O112*BK113","v":985.20421258863109},{"$f":"Prevalence!P112*BL113","v":113.32669962771307},{"$f":"Prevalence!Q112*BM113","v":804.41216163430477},{"$f":"Prevalence!R112*BN113","v":331.53359114107127},{"$f":"Prevalence!S112*BO113","v":323.19208034487025},{"$f":"Prevalence!T112*BP113","v":170.20326686020994},{"$f":"Prevalence!U112*BQ113","v":159.65673405919284},{"$f":"Prevalence!V112*BR113","v":394.28864785663518},{"$f":"Prevalence!W112*BS113","v":361.44930194832898},{"$f":"Prevalence!X112*BT113","v":640.41734356854283},{"$f":"Prevalence!Y112*BU113","v":254.28061328940987},{"$f":"Prevalence!Z112*BV113","v":290.4730468893311},{"$f":"Prevalence!AA112*BW113","v":126.49999954954312},{"$f":"Prevalence!AB112*BX113","v":882.93224203155148},{"$f":"Prevalence!AC112*BY113","v":113.32669962771304},{"$f":"Prevalence!AD112*BZ113","v":861.4899569962065},{"$f":"Prevalence!AE112*CA113","v":1394.8360316981236},{"$f":"Prevalence!AF112*CB113","v":1448.4503843380076},{"$f":"Prevalence!AG112*CC113","v":644.58499327757863},{"$f":"Prevalence!AH112*CD113","v":184.4605646758225},{"$f":"Prevalence!AI112*CE113","v":380.36270824278347},{"$f":"Prevalence!AJ112*CF113","v":140.70671115797393},{"$f":"Prevalence!AK112*CG113","v":453.01500573019007},{"$f":"Prevalence!AL112*CH113","v":1849.759944137443},{"$f":"Prevalence!AM112*CI113","v":71.105974127116198},{"$f":"Prevalence!AN112*CJ113","v":299.46722527564555},{"$f":"Prevalence!AO112*CK113","v":442.59001019968537},{"$f":"Prevalence!AP112*CL113","v":234.00073324987449},{"$f":"Prevalence!AQ112*CM113","v":15.79133136535779},{"$f":"Prevalence!AR112*CN113","v":446.05027433225251},{"$f":"Prevalence!AS112*CO113","v":1315.1822624367153},{"$f":"Prevalence!AT112*CP113","v":255.74215056899587},{"$f":"Prevalence!AU112*CQ113","v":333.47185681083499},{"$f":"Prevalence!AV112*CR113","v":1083.5431921167892},112,31331,2591,414,808,2187,2120,2156,6734,1534,4992,5470,125,22,1928,250,1382,498,574,357,265,808,778,1009,478,542,220,2589,250,1343,2187,3977,1177,334,628,276,807,3177,125,576,748,414,22,775,2108,512,684,1711]
["Male 40-44",{"$f":"Prevalence!B113*AX114","v":18787.386319128414},{"$f":"Prevalence!C113*AY114","v":1981.5869800967296},{"$f":"Prevalence!D113*AZ114","v":292.21830698112348},{"$f":"Prevalence!E113*BA114","v":506.52427781582583},{"$f":"Prevalence!F113*BB114","v":1723.9331475445945},{"$f":"Prevalence!G113*BC114","v":1545.520317893282},{"$f":"Prevalence!H113*BD114","v":1313.9362294597272},{"$f":"Prevalence!I113*BE114","v":3259.9723713997405},{"$f":"Prevalence!J113*BF114","v":964.32710659995757},{"$f":"Prevalence!K113*BG114","v":3453.5072181001678},{"$f":"Prevalence!L113*BH114","v":2558.0708095844266},{"$f":"Prevalence!M113*BI114","v":74.519060885217769},{"$f":"Prevalence!N113*BJ114","v":4.3067267360066692},{"$f":"Prevalence!O113*BK114","v":1035.2820200749827},{"$f":"Prevalence!P113*BL114","v":153.67100469517891},{"$f":"Prevalence!Q113*BM114","v":763.08563234629048},{"$f":"Prevalence!R113*BN114","v":338.85662227069332},{"$f":"Prevalence!S113*BO114","v":361.47964387004652},{"$f":"Prevalence!T113*BP114","v":211.68137391017706},{"$f":"Prevalence!U113*BQ114","v":231.95412306712922},{"$f":"Prevalence!V113*BR114","v":506.52427781582594},{"$f":"Prevalence!W113*BS114","v":357.26801182296271},{"$f":"Prevalence!X113*BT114","v":813.69180818124073},{"$f":"Prevalence!Y113*BU114","v":287.79458533383001},{"$f":"Prevalence!Z113*BV114","v":339.24250679141431},{"$f":"Prevalence!AA113*BW114","v":144.32499948606966},{"$f":"Prevalence!AB113*BX114","v":832.80051565896042},{"$f":"Prevalence!AC113*BY114","v":153.67100469517888},{"$f":"Prevalence!AD113*BZ114","v":1012.2346627997125},{"$f":"Prevalence!AE113*CA114","v":1723.9331475445945},{"$f":"Prevalence!AF113*CB114","v":1419.6780483152008},{"$f":"Prevalence!AG113*CC114","v":756.85340756976518},{"$f":"Prevalence!AH113*CD114","v":204.34254170674947},{"$f":"Prevalence!AI113*CE114","v":416.09742127833158},{"$f":"Prevalence!AJ113*CF114","v":176.90300279643822},{"$f":"Prevalence!AK113*CG114","v":577.07487718790003},{"$f":"Prevalence!AL113*CH114","v":2050.6309484583176},{"$f":"Prevalence!AM113*CI114","v":74.519060885217769},{"$f":"Prevalence!AN113*CJ114","v":319.74365198701742},{"$f":"Prevalence!AO113*CK114","v":518.32733814829464},{"$f":"Prevalence!AP113*CL114","v":292.21830698112348},{"$f":"Prevalence!AQ113*CM114","v":4.3067267360066701},{"$f":"Prevalence!AR113*CN114","v":596.26849575253368},{"$f":"Prevalence!AS113*CO114","v":1632.7476189738538},{"$f":"Prevalence!AT113*CP114","v":325.17214847737563},{"$f":"Prevalence!AU113*CQ114","v":440.24135482483041},{"$f":"Prevalence!AV113*CR114","v":1215.8988479627326},113,35373,3346,517,1038,2703,2614,2167,7255,1826,5723,5682,131,6,2026,339,1311,509,642,444,385,1038,769,1282,541,633,251,2442,339,1578,2703,3898,1382,370,687,347,1028,3522,131,615,876,517,6,1036,2617,651,903,1920]
["Male 45-49",{"$f":"Prevalence!B114*AX115","v":18619.25854514238},{"$f":"Prevalence!C114*AY115","v":2053.4470259723407},{"$f":"Prevalence!D114*AZ115","v":298.10388898100922},{"$f":"Prevalence!E114*BA115","v":528.54717662661335},{"$f":"Prevalence!F114*BB115","v":1686.6945010864843},{"$f":"Prevalence!G114*BC115","v":1498.910696083489},{"$f":"Prevalence!H114*BD115","v":1224.2443444852388},{"$f":"Prevalence!I114*BE115","v":3228.3853434806369},{"$f":"Prevalence!J114*BF115","v":1067.7872460267313},{"$f":"Prevalence!K114*BG115","v":3338.6396014040797},{"$f":"Prevalence!L114*BH115","v":2448.3542823549219},{"$f":"Prevalence!M114*BI115","v":90.166313963953471},{"$f":"Prevalence!N114*BJ115","v":19.639617292290946},{"$f":"Prevalence!O114*BK115","v":1057.2965594262071},{"$f":"Prevalence!P114*BL115","v":157.39067859465283},{"$f":"Prevalence!Q114*BM115","v":702.39285653520506},{"$f":"Prevalence!R114*BN115","v":315.94038052867813},{"$f":"Prevalence!S114*BO115","v":380.36521807938772},{"$f":"Prevalence!T114*BP115","v":245.60164703708085},{"$f":"Prevalence!U114*BQ115","v":216.00505785564226},{"$f":"Prevalence!V114*BR115","v":528.54717662661346},{"$f":"Prevalence!W114*BS115","v":377.40695696872245},{"$f":"Prevalence!X114*BT115","v":841.96918268512491},{"$f":"Prevalence!Y114*BU115","v":341.29759110003812},{"$f":"Prevalence!Z114*BV115","v":390.35775417595869},{"$f":"Prevalence!AA114*BW115","v":177.40038274800355},{"$f":"Prevalence!AB114*BX115","v":721.38962291131327},{"$f":"Prevalence!AC114*BY115","v":157.3906785946528},{"$f":"Prevalence!AD114*BZ115","v":1002.8492900394209},{"$f":"Prevalence!AE114*CA115","v":1686.6945010864843},{"$f":"Prevalence!AF114*CB115","v":1274.8553142685639},{"$f":"Prevalence!AG114*CC115","v":825.17792327241204},{"$f":"Prevalence!AH114*CD115","v":234.48147504541217},{"$f":"Prevalence!AI114*CE115","v":469.15937716703593},{"$f":"Prevalence!AJ114*CF115","v":172.19784549659533},{"$f":"Prevalence!AK114*CG115","v":629.20831109416486},{"$f":"Prevalence!AL114*CH115","v":1983.6479647895749},{"$f":"Prevalence!AM114*CI115","v":90.166313963953471},{"$f":"Prevalence!AN114*CJ115","v":302.16661822186717},{"$f":"Prevalence!AO114*CK115","v":546.53962916082128},{"$f":"Prevalence!AP114*CL115","v":298.10388898100922},{"$f":"Prevalence!AQ114*CM115","v":19.63961729229095},{"$f":"Prevalence!AR114*CN115","v":587.01170202448554},{"$f":"Prevalence!AS114*CO115","v":1603.4720582292769},{"$f":"Prevalence!AT114*CP115","v":306.32656802868502},{"$f":"Prevalence!AU114*CQ115","v":459.06331024863448},{"$f":"Prevalence!AV114*CR115","v":1152.5702425229706},114,37156,3675,559,1148,2803,2687,2140,7615,2143,5864,5764,168,29,2193,368,1279,503,716,546,380,1148,861,1406,680,772,327,2242,368,1657,2803,3710,1597,450,821,358,1188,3611,168,616,979,559,29,1081,2724,650,998,1929]
["Male 50-54",{"$f":"Prevalence!B115*AX116","v":17467.205703198084},{"$f":"Prevalence!C115*AY116","v":1903.699052377623},{"$f":"Prevalence!D115*AZ116","v":286.37171445939526},{"$f":"Prevalence!E115*BA116","v":502.30398057459507},{"$f":"Prevalence!F115*BB116","v":1557.3190755661153},{"$f":"Prevalence!G115*BC116","v":1361.1247109950552},{"$f":"Prevalence!H115*BD116","v":1221.9560372992851},{"$f":"Prevalence!I115*BE116","v":3016.8338941836128},{"$f":"Prevalence!J115*BF116","v":1070.7768510086073},{"$f":"Prevalence!K115*BG116","v":3149.6170318839304},{"$f":"Prevalence!L115*BH116","v":2204.5382937928598},{"$f":"Prevalence!M115*BI116","v":77.285411969102967},{"$f":"Prevalence!N115*BJ116","v":13.544563649855824},{"$f":"Prevalence!O115*BK116","v":1019.2088128714098},{"$f":"Prevalence!P115*BL116","v":168.08298012961566},{"$f":"Prevalence!Q115*BM116","v":690.86021385558092},{"$f":"Prevalence!R115*BN116","v":332.2712948303593},{"$f":"Prevalence!S115*BO116","v":341.58496539810938},{"$f":"Prevalence!T115*BP116","v":240.65362850702979},{"$f":"Prevalence!U115*BQ116","v":187.58333971674196},{"$f":"Prevalence!V115*BR116","v":502.30398057459519},{"$f":"Prevalence!W115*BS116","v":371.2702584814262},{"$f":"Prevalence!X115*BT116","v":758.73040857898525},{"$f":"Prevalence!Y115*BU116","v":318.71172110077089},{"$f":"Prevalence!Z115*BV116","v":342.32150204290679},{"$f":"Prevalence!AA115*BW116","v":174.14532985354478},{"$f":"Prevalence!AB115*BX116","v":656.71553093755153},{"$f":"Prevalence!AC115*BY116","v":168.08298012961561},{"$f":"Prevalence!AD115*BZ116","v":890.88361794690854},{"$f":"Prevalence!AE115*CA116","v":1557.3190755661153},{"$f":"Prevalence!AF115*CB116","v":1194.790277011266},{"$f":"Prevalence!AG115*CC116","v":833.96190867982034},{"$f":"Prevalence!AH115*CD116","v":224.58114609905033},{"$f":"Prevalence!AI115*CE116","v":449.73012159617207},{"$f":"Prevalence!AJ115*CF116","v":167.86884938075914},{"$f":"Prevalence!AK115*CG116","v":577.30392179515127},{"$f":"Prevalence!AL115*CH116","v":1788.6341105939784},{"$f":"Prevalence!AM115*CI116","v":77.285411969102967},{"$f":"Prevalence!AN115*CJ116","v":306.09086001695636},{"$f":"Prevalence!AO115*CK116","v":477.31499788815341},{"$f":"Prevalence!AP115*CL116","v":286.37171445939526},{"$f":"Prevalence!AQ115*CM116","v":13.544563649855828},{"$f":"Prevalence!AR115*CN116","v":570.17787893220157},{"$f":"Prevalence!AS115*CO116","v":1568.1532904268699},{"$f":"Prevalence!AT115*CP116","v":300.67130831123234},{"$f":"Prevalence!AU115*CQ116","v":464.12312629345911},{"$f":"Prevalence!AV115*CR116","v":1006.7811605242122},115,34857,3407,537,1091,2588,2440,2136,7116,2149,5532,5190,144,20,2114,393,1258,529,643,535,330,1091,847,1267,635,677,321,2041,393,1472,2588,3477,1614,431,787,349,1090,3256,144,624,855,537,20,1050,2664,638,1009,1685]
["Male 55-59",{"$f":"Prevalence!B116*AX117","v":10640.06802582528},{"$f":"Prevalence!C116*AY117","v":1176.4581773908801},{"$f":"Prevalence!D116*AZ117","v":186.02982690138049},{"$f":"Prevalence!E116*BA117","v":335.84675572785642},{"$f":"Prevalence!F116*BB117","v":1027.5362868737921},{"$f":"Prevalence!G116*BC117","v":769.52286227420893},{"$f":"Prevalence!H116*BD117","v":741.74388676273747},{"$f":"Prevalence!I116*BE117","v":1750.3870239213481},{"$f":"Prevalence!J116*BF117","v":693.19814896960929},{"$f":"Prevalence!K116*BG117","v":1982.1726765239052},{"$f":"Prevalence!L116*BH117","v":1303.9463094623197},{"$f":"Prevalence!M116*BI117","v":60.060012560836277},{"$f":"Prevalence!N116*BJ117","v":7.0171644058484723},{"$f":"Prevalence!O116*BK117","v":581.15099881033632},{"$f":"Prevalence!P116*BL117","v":114.03912169956976},{"$f":"Prevalence!Q116*BM117","v":426.77348960744462},{"$f":"Prevalence!R116*BN117","v":186.13575876891775},{"$f":"Prevalence!S116*BO117","v":205.13272640038412},{"$f":"Prevalence!T116*BP117","v":163.75124755659766},{"$f":"Prevalence!U116*BQ117","v":110.33721396186705},{"$f":"Prevalence!V116*BR117","v":335.84675572785653},{"$f":"Prevalence!W116*BS117","v":195.60260665860116},{"$f":"Prevalence!X116*BT117","v":471.57535092305534},{"$f":"Prevalence!Y116*BU117","v":178.8996050965242},{"$f":"Prevalence!Z116*BV117","v":205.72931268055694},{"$f":"Prevalence!AA116*BW117","v":95.936116701054829},{"$f":"Prevalence!AB116*BX117","v":379.62737228101741},{"$f":"Prevalence!AC116*BY117","v":114.03912169956972},{"$f":"Prevalence!AD116*BZ117","v":533.03867130837682},{"$f":"Prevalence!AE116*CA117","v":1027.5362868737921},{"$f":"Prevalence!AF116*CB117","v":686.70592200606632},{"$f":"Prevalence!AG116*CC117","v":530.74880222885031},{"$f":"Prevalence!AH116*CD117","v":126.69925380595943},{"$f":"Prevalence!AI116*CE117","v":296.84548963972918},{"$f":"Prevalence!AJ116*CF117","v":107.32047322582585},{"$f":"Prevalence!AK116*CG117","v":347.56575936463787},{"$f":"Prevalence!AL116*CH117","v":1150.5398873033653},{"$f":"Prevalence!AM116*CI117","v":60.060012560836277},{"$f":"Prevalence!AN116*CJ117","v":182.97632541497393},{"$f":"Prevalence!AO116*CK117","v":284.21161588567236},{"$f":"Prevalence!AP116*CL117","v":186.02982690138049},{"$f":"Prevalence!AQ116*CM117","v":7.0171644058484741},{"$f":"Prevalence!AR116*CN117","v":359.35355373067989},{"$f":"Prevalence!AS116*CO117","v":954.74579814922947},{"$f":"Prevalence!AT116*CP117","v":143.56390673260495},{"$f":"Prevalence!AU116*CQ117","v":280.56798702928319},{"$f":"Prevalence!AV116*CR117","v":575.76432573079342},116,30738,3048,505,1056,2472,1997,1877,5977,2014,5040,4444,162,15,1745,386,1125,429,559,527,281,1056,646,1140,516,589,256,1708,386,1275,2472,2893,1487,352,752,323,950,3032,162,540,737,505,15,958,2348,441,883,1395]
["Male 60-64",{"$f":"Prevalence!B117*AX118","v":10175.529952734722},{"$f":"Prevalence!C117*AY118","v":1225.4772681155002},{"$f":"Prevalence!D117*AZ118","v":176.82042953002502},{"$f":"Prevalence!E117*BA118","v":339.98123283435467},{"$f":"Prevalence!F117*BB118","v":961.86042387781345},{"$f":"Prevalence!G117*BC118","v":817.6902923114028},{"$f":"Prevalence!H117*BD118","v":730.28380540092633},{"$f":"Prevalence!I117*BE118","v":1537.7751819660364},{"$f":"Prevalence!J117*BF118","v":691.47720023830448},{"$f":"Prevalence!K117*BG118","v":1791.0345970019571},{"$f":"Prevalence!L117*BH118","v":1246.7299434980639},{"$f":"Prevalence!M117*BI118","v":55.611122741515068},{"$f":"Prevalence!N117*BJ118","v":9.3562192077979631},{"$f":"Prevalence!O117*BK118","v":585.81352831368565},{"$f":"Prevalence!P117*BL118","v":116.99350309075032},{"$f":"Prevalence!Q117*BM118","v":387.32065145706753},{"$f":"Prevalence!R117*BN118","v":214.33814646117801},{"$f":"Prevalence!S117*BO118","v":220.5452031603414},{"$f":"Prevalence!T117*BP118","v":157.847502388523},{"$f":"Prevalence!U117*BQ118","v":109.9445548374476},{"$f":"Prevalence!V117*BR118","v":339.98123283435478},{"$f":"Prevalence!W117*BS118","v":215.88956431514339},{"$f":"Prevalence!X117*BT118","v":491.43115517244712},{"$f":"Prevalence!Y117*BU118","v":149.42970890814328},{"$f":"Prevalence!Z117*BV118","v":199.09288323924866},{"$f":"Prevalence!AA117*BW118","v":88.441107583784927},{"$f":"Prevalence!AB117*BX118","v":354.95603836814098},{"$f":"Prevalence!AC117*BY118","v":116.99350309075028},{"$f":"Prevalence!AD117*BZ118","v":578.19018228979235},{"$f":"Prevalence!AE117*CA118","v":961.86042387781345},{"$f":"Prevalence!AF117*CB118","v":567.07239808935094},{"$f":"Prevalence!AG117*CC118","v":535.74576472461615},{"$f":"Prevalence!AH117*CD118","v":128.85890017765192},{"$f":"Prevalence!AI117*CE118","v":262.10825149039914},{"$f":"Prevalence!AJ117*CF118","v":110.64308849597526},{"$f":"Prevalence!AK117*CG118","v":376.10273750194494},{"$f":"Prevalence!AL117*CH118","v":1029.4903411128066},{"$f":"Prevalence!AM117*CI118","v":55.611122741515068},{"$f":"Prevalence!AN117*CJ118","v":150.78604594382111},{"$f":"Prevalence!AO117*CK118","v":263.00179380465204},{"$f":"Prevalence!AP117*CL118","v":176.82042953002502},{"$f":"Prevalence!AQ117*CM118","v":9.3562192077979649},{"$f":"Prevalence!AR117*CN118","v":359.7286618243445},{"$f":"Prevalence!AS117*CO118","v":902.29170617254692},{"$f":"Prevalence!AT117*CP118","v":149.4236580278133},{"$f":"Prevalence!AU117*CQ118","v":246.88711882418235},{"$f":"Prevalence!AV117*CR118","v":585.25721425538711},117,29396,3175,480,1069,2314,2122,1848,5251,2009,4554,4249,150,20,1759,396,1021,494,601,508,280,1069,713,1188,431,570,236,1597,396,1383,2314,2389,1501,358,664,333,1028,2713,150,445,682,480,20,959,2219,459,777,1418]
["Male 65-69",null,null,null,null,null,null,null,null,null,null,null,null,null,null,null,null,null,null,null,null,null,null,null,null,null,null,null,null,null,null,null,null,null,null,null,null,null,null,null,null,null,null,null,null,null,null,null,118]
["Male 70-74",null,null,null,null,null,null,null,null,null,null,null,null,null,null,null,null,null,null,null,null,null,null,null,null,null,null,null,null,null,null,null,null,null,null,null,null,null,null,null,null,null,null,null,null,null,null,null,119]
["Male 75-79",null,null,null,null,null,null,null,null,null,null,null,null,null,null,null,null,null,null,null,null,null,null,null,null,null,null,null,null,null,null,null,null,null,null,null,null,null,null,null,null,null,null,null,null,null,null,null,120]
["Male 80-84",null,null,null,null,null,null,null,null,null,null,null,null,null,null,null,null,null,null,null,null,null,null,null,null,null,null,null,null,null,null,null,null,null,null,null,null,null,null,null,null,null,null,null,null,null,null,null,121]
["Male 85-89",null,null,null,null,null,null,null,null,null,null,null,null,null,null,null,null,null,null,null,null,null,null,null,null,null,null,null,null,null,null,null,null,null,null,null,null,null,null,null,null,null,null,null,null,null,null,null,122]
["Male 90+",null,null,null,null,null,null,null,null,null,null,null,null,null,null,null,null,null,null,null,null,null,null,null,null,null,null,null,null,null,null,null,null,null,null,null,null,null,null,null,null,null,null,null,null,null,null,null,123]
["Female <1",null,null,null,null,null,null,null,null,null,null,null,null,null,null,null,null,null,null,null,null,null,null,null,null,null,null,null,null,null,null,null,null,null,null,null,null,null,null,null,null,null,null,null,null,null,null,null,124]
["Female 1-4",null,null,null,null,null,null,null,null,null,null,null,null,null,null,null,null,null,null,null,null,null,null,null,null,null,null,null,null,null,null,null,null,null,null,null,null,null,null,null,null,null,null,null,null,null,null,null,125]
["Female 5-9",null,null,null,null,null,null,null,null,null,null,null,null,null,null,null,null,null,null,null,null,null,null,null,null,null,null,null,null,null,null,null,null,null,null,null,null,null,null,null,null,null,null,null,null,null,null,null,126]
["Female 10-14",null,null,null,null,null,null,null,null,null,null,null,null,null,null,null,null,null,null,null,null,null,null,null,null,null,null,null,null,null,null,null,null,null,null,null,null,null,null,null,null,null,null,null,null,null,null,null,127]
["Female 15-19 (16+)",{"$f":"Prevalence!B128*AX129","v":4944.5931119461966},{"$f":"Prevalence!C128*AY129","v":471.16744618486507},{"$f":"Prevalence!D128*AZ129","v":68.961883821745275},{"$f":"Prevalence!E128*BA129","v":155.37955495912826},{"$f":"Prevalence!F128*BB129","v":388.36688284920353},{"$f":"Prevalence!G128*BC129","v":362.0628151224613},{"$f":"Prevalence!H128*BD129","v":371.61729856425626},{"$f":"Prevalence!I128*BE129","v":891.79232935203208},{"$f":"Prevalence!J128*BF129","v":300.50291371701127},{"$f":"Prevalence!K128*BG129","v":841.24363448284112},{"$f":"Prevalence!L128*BH129","v":653.37587504793601},{"$f":"Prevalence!M128*BI129","v":24.858119469880698},{"$f":"Prevalence!N128*BJ129","v":3.0545644822112332},{"$f":"Prevalence!O128*BK129","v":355.14487885509226},{"$f":"Prevalence!P128*BL129","v":60.468144418433518},{"$f":"Prevalence!Q128*BM129","v":186.27396836502149},{"$f":"Prevalence!R128*BN129","v":103.40544057456864},{"$f":"Prevalence!S128*BO129","v":125.42630939849373},{"$f":"Prevalence!T128*BP129","v":67.683315618748708},{"$f":"Prevalence!U128*BQ129","v":46.570802120466766},{"$f":"Prevalence!V128*BR129","v":155.37955495912826},{"$f":"Prevalence!W128*BS129","v":164.12802272512721},{"$f":"Prevalence!X128*BT129","v":180.8317432582763},{"$f":"Prevalence!Y128*BU129","v":99.279948522151003},{"$f":"Prevalence!Z128*BV129","v":100.53979042987318},{"$f":"Prevalence!AA128*BW129","v":53.944500419236157},{"$f":"Prevalence!AB128*BX129","v":200.42857279861451},{"$f":"Prevalence!AC128*BY129","v":60.468144418433532},{"$f":"Prevalence!AD128*BZ129","v":233.76166393575957},{"$f":"Prevalence!AE128*CA129","v":388.36688284920353},{"$f":"Prevalence!AF128*CB129","v":378.06752144403913},{"$f":"Prevalence!AG128*CC129","v":233.46113101541189},{"$f":"Prevalence!AH128*CD129","v":55.764983629976307},{"$f":"Prevalence!AI128*CE129","v":130.08223993477728},{"$f":"Prevalence!AJ128*CF129","v":61.318582997630635},{"$f":"Prevalence!AK128*CG129","v":141.30887324756668},{"$f":"Prevalence!AL128*CH129","v":491.80736208647522},{"$f":"Prevalence!AM128*CI129","v":24.858119469880691},{"$f":"Prevalence!AN128*CJ129","v":70.550467702716915},{"$f":"Prevalence!AO128*CK129","v":120.05733016643485},{"$f":"Prevalence!AP128*CL129","v":68.961883821745275},{"$f":"Prevalence!AQ128*CM129","v":3.0545644822112332},{"$f":"Prevalence!AR128*CN129","v":151.97741659217124},{"$f":"Prevalence!AS128*CO129","v":406.74008962187304},{"$f":"Prevalence!AT128*CP129","v":84.307287106537203},{"$f":"Prevalence!AU128*CQ129","v":120.9417404282938},{"$f":"Prevalence!AV128*CR129","v":311.1767941788749},128,24386,2320,317,711,1724,1649,1575,5071,1359,3595,3891,113,11,1843,207,916,390,543,310,202,711,901,859,393,490,221,1594,207,1002,1724,2741,1049,257,552,269,772,2208,113,399,582,317,11,689,1656,445,608,1255]
["Female 20-24",{"$f":"Prevalence!B129*AX130","v":7865.4027477038026},{"$f":"Prevalence!C129*AY130","v":619.01654136701234},{"$f":"Prevalence!D129*AZ130","v":130.74477027403441},{"$f":"Prevalence!E129*BA130","v":191.65663811414271},{"$f":"Prevalence!F129*BB130","v":546.95753570641887},{"$f":"Prevalence!G129*BC130","v":540.56922427622783},{"$f":"Prevalence!H129*BD130","v":764.94176631448818},{"$f":"Prevalence!I129*BE130","v":1544.5892385523364},{"$f":"Prevalence!J129*BF130","v":359.32099690223941},{"$f":"Prevalence!K129*BG130","v":1152.4686786725988},{"$f":"Prevalence!L129*BH130","v":1170.7367259918296},{"$f":"Prevalence!M129*BI130","v":27.05795305128607},{"$f":"Prevalence!N129*BJ130","v":8.8860057664326781},{"$f":"Prevalence!O129*BK130","v":667.12510612931601},{"$f":"Prevalence!P129*BL130","v":61.636610977243834},{"$f":"Prevalence!Q129*BM130","v":481.75003390473353},{"$f":"Prevalence!R129*BN130","v":140.79048447460499},{"$f":"Prevalence!S129*BO130","v":138.59260707015881},{"$f":"Prevalence!T129*BP130","v":88.643310132941863},{"$f":"Prevalence!U129*BQ130","v":66.628523825816316},{"$f":"Prevalence!V129*BR130","v":191.65663811414274},{"$f":"Prevalence!W129*BS130","v":403.85330342020757},{"$f":"Prevalence!X129*BT130","v":237.03904878791516},{"$f":"Prevalence!Y129*BU130","v":144.75168066970107},{"$f":"Prevalence!Z129*BV130","v":141.78162283069869},{"$f":"Prevalence!AA129*BW130","v":63.464118140277833},{"$f":"Prevalence!AB129*BX130","v":492.64689349119931},{"$f":"Prevalence!AC129*BY130","v":61.636610977243841},{"$f":"Prevalence!AD129*BZ130","v":304.21677621979092},{"$f":"Prevalence!AE129*CA130","v":546.95753570641887},{"$f":"Prevalence!AF129*CB130","v":763.03156827012936},{"$f":"Prevalence!AG129*CC130","v":271.29563270523079},{"$f":"Prevalence!AH129*CD130","v":78.331358328488122},{"$f":"Prevalence!AI129*CE130","v":178.15611121502104},{"$f":"Prevalence!AJ129*CF130","v":77.958941952377984},{"$f":"Prevalence!AK129*CG130","v":176.81913414138526},{"$f":"Prevalence!AL129*CH130","v":692.94053598325377},{"$f":"Prevalence!AM129*CI130","v":27.057953051286063},{"$f":"Prevalence!AN129*CJ130","v":114.047748541986},{"$f":"Prevalence!AO129*CK130","v":176.99173416288849},{"$f":"Prevalence!AP129*CL130","v":130.74477027403441},{"$f":"Prevalence!AQ129*CM130","v":8.8860057664326781},{"$f":"Prevalence!AR129*CN130","v":210.87142273166285},{"$f":"Prevalence!AS129*CO130","v":535.19725560752499},{"$f":"Prevalence!AT129*CP130","v":164.6360280799569},{"$f":"Prevalence!AU129*CQ130","v":165.89705841644246},{"$f":"Prevalence!AV129*CR130","v":398.45506633103741},129,38791,3048,601,877,2428,2462,3242,8783,1625,4925,6972,123,32,3462,211,2369,531,600,406,289,877,2217,1126,573,691,260,3918,211,1304,2428,5532,1219,361,756,342,966,3111,123,645,858,601,32,956,2179,869,834,1607]
["Female 25-29",{"$f":"Prevalence!B130*AX131","v":14814.525249063507},{"$f":"Prevalence!C130*AY131","v":1139.5103106796319},{"$f":"Prevalence!D130*AZ131","v":207.91477847728359},{"$f":"Prevalence!E130*BA131","v":384.0904647378772},{"$f":"Prevalence!F130*BB131","v":1042.2488241489414},{"$f":"Prevalence!G130*BC131","v":974.13169388738231},{"$f":"Prevalence!H130*BD131","v":1374.0842546633635},{"$f":"Prevalence!I130*BE131","v":2930.1355563592629},{"$f":"Prevalence!J130*BF131","v":763.3991611541843},{"$f":"Prevalence!K130*BG131","v":2400.9558638997314},{"$f":"Prevalence!L130*BH131","v":2226.0663636230474},{"$f":"Prevalence!M130*BI131","v":50.993776787557387},{"$f":"Prevalence!N130*BJ131","v":12.662964070140138},{"$f":"Prevalence!O130*BK131","v":1068.0317685906907},{"$f":"Prevalence!P130*BL131","v":117.11331438450168},{"$f":"Prevalence!Q130*BM131","v":827.64420803815733},{"$f":"Prevalence!R130*BN131","v":282.62408156780947},{"$f":"Prevalence!S130*BO131","v":309.85680290545707},{"$f":"Prevalence!T130*BP131","v":168.84253394689878},{"$f":"Prevalence!U130*BQ131","v":117.83712803204506},{"$f":"Prevalence!V130*BR131","v":384.0904647378772},{"$f":"Prevalence!W130*BS131","v":506.02600914911761},{"$f":"Prevalence!X130*BT131","v":446.78871872607982},{"$f":"Prevalence!Y130*BU131","v":259.19718061250944},{"$f":"Prevalence!Z130*BV131","v":258.47761901232616},{"$f":"Prevalence!AA130*BW131","v":105.28058256827256},{"$f":"Prevalence!AB130*BX131","v":915.03480040899819},{"$f":"Prevalence!AC130*BY131","v":117.11331438450171},{"$f":"Prevalence!AD130*BZ131","v":622.80116049944002},{"$f":"Prevalence!AE130*CA131","v":1042.2488241489414},{"$f":"Prevalence!AF130*CB131","v":1456.0962793195113},{"$f":"Prevalence!AG130*CC131","v":596.24634538271459},{"$f":"Prevalence!AH130*CD131","v":155.43088735700681},{"$f":"Prevalence!AI130*CE131","v":304.92537125984944},{"$f":"Prevalence!AJ130*CF131","v":156.78911952377476},{"$f":"Prevalence!AK130*CG131","v":323.44660885572404},{"$f":"Prevalence!AL130*CH131","v":1448.6730341639184},{"$f":"Prevalence!AM130*CI131","v":50.993776787557373},{"$f":"Prevalence!AN130*CJ131","v":251.63806657192282},{"$f":"Prevalence!AO130*CK131","v":332.76750259977598},{"$f":"Prevalence!AP130*CL131","v":207.91477847728359},{"$f":"Prevalence!AQ130*CM131","v":12.662964070140138},{"$f":"Prevalence!AR130*CN131","v":379.71307695150637},{"$f":"Prevalence!AS130*CO131","v":1098.577314208203},{"$f":"Prevalence!AT130*CP131","v":237.94363040504203},{"$f":"Prevalence!AU130*CQ131","v":318.61610921226702},{"$f":"Prevalence!AV130*CR131","v":849.42829528236405},130,38453,2953,503,925,2435,2335,3065,8769,1817,5400,6977,122,24,2917,211,2142,561,706,407,269,925,1462,1117,540,663,227,3830,211,1405,2435,5556,1410,377,681,362,930,3423,122,749,849,503,24,906,2354,661,843,1803]
["Female 30-34",{"$f":"Prevalence!B131*AX132","v":13713.828329796494},{"$f":"Prevalence!C131*AY132","v":1176.5550075388412},{"$f":"Prevalence!D131*AZ132","v":180.63371410451873},{"$f":"Prevalence!E131*BA132","v":392.81035636976412},{"$f":"Prevalence!F131*BB132","v":1020.8474109220637},{"$f":"Prevalence!G131*BC132","v":1008.3410296041983},{"$f":"Prevalence!H131*BD132","v":1052.6426851385245},{"$f":"Prevalence!I131*BE132","v":2697.5692036136761},{"$f":"Prevalence!J131*BF132","v":726.84675222715396},{"$f":"Prevalence!K131*BG132","v":2363.1630401161246},{"$f":"Prevalence!L131*BH132","v":1988.0492348767677},{"$f":"Prevalence!M131*BI132","v":43.052123025560746},{"$f":"Prevalence!N131*BJ132","v":6.8591055379925745},{"$f":"Prevalence!O131*BK132","v":843.95379725798489},{"$f":"Prevalence!P131*BL132","v":135.42961473847589},{"$f":"Prevalence!Q131*BM132","v":601.60692433025724},{"$f":"Prevalence!R131*BN132","v":253.90826579354007},{"$f":"Prevalence!S131*BO132","v":294.49562995688626},{"$f":"Prevalence!T131*BP132","v":160.54560353181776},{"$f":"Prevalence!U131*BQ132","v":130.10270269709065},{"$f":"Prevalence!V131*BR132","v":392.81035636976418},{"$f":"Prevalence!W131*BS132","v":347.50349739104928},{"$f":"Prevalence!X131*BT132","v":475.18800165316281},{"$f":"Prevalence!Y131*BU132","v":257.27720149686121},{"$f":"Prevalence!Z131*BV132","v":240.93388921510947},{"$f":"Prevalence!AA131*BW132","v":118.2667337220683},{"$f":"Prevalence!AB131*BX132","v":759.98060054857001},{"$f":"Prevalence!AC131*BY132","v":135.42961473847592},{"$f":"Prevalence!AD131*BZ132","v":644.52162801863756},{"$f":"Prevalence!AE131*CA132","v":1020.8474109220637},{"$f":"Prevalence!AF131*CB132","v":1272.6428244016463},{"$f":"Prevalence!AG131*CC132","v":567.91407223332317},{"$f":"Prevalence!AH131*CD132","v":134.4044277941226},{"$f":"Prevalence!AI131*CE132","v":325.52238605860578},{"$f":"Prevalence!AJ131*CF132","v":124.30518592078275},{"$f":"Prevalence!AK131*CG132","v":314.05622343733205},{"$f":"Prevalence!AL131*CH132","v":1453.751642522074},{"$f":"Prevalence!AM131*CI132","v":43.052123025560732},{"$f":"Prevalence!AN131*CJ132","v":211.65818683619676},{"$f":"Prevalence!AO131*CK132","v":333.94335949942183},{"$f":"Prevalence!AP131*CL132","v":180.63371410451873},{"$f":"Prevalence!AQ131*CM132","v":6.8591055379925745},{"$f":"Prevalence!AR131*CN132","v":401.50676348735442},{"$f":"Prevalence!AS131*CO132","v":1063.1092275982523},{"$f":"Prevalence!AT131*CP132","v":239.74350658057185},{"$f":"Prevalence!AU131*CQ132","v":321.26179457939145},{"$f":"Prevalence!AV131*CR132","v":803.25859315387174},131,35596,3049,437,946,2385,2417,2348,8073,1730,5315,6231,103,13,2305,244,1557,504,671,387,297,946,1004,1188,536,618,255,3181,244,1454,2385,4856,1343,326,727,287,903,3435,103,630,852,437,13,958,2278,666,850,1705]
["Female 35-39",{"$f":"Prevalence!B132*AX133","v":14170.825069667952},{"$f":"Prevalence!C132*AY133","v":1290.3676660767023},{"$f":"Prevalence!D132*AZ133","v":199.31195162876642},{"$f":"Prevalence!E132*BA133","v":406.7122353917207},{"$f":"Prevalence!F132*BB133","v":1116.4946948420634},{"$f":"Prevalence!G132*BC133","v":1114.3910875820229},{"$f":"Prevalence!H132*BD133","v":1023.5600084249204},{"$f":"Prevalence!I132*BE133","v":2615.2161595801622},{"$f":"Prevalence!J132*BF133","v":871.85864024714215},{"$f":"Prevalence!K132*BG133","v":2584.5729211633729},{"$f":"Prevalence!L132*BH133","v":1965.8884980660614},{"$f":"Prevalence!M132*BI133","v":63.134765313400536},{"$f":"Prevalence!N132*BJ133","v":12.873934577814444},{"$f":"Prevalence!O132*BK133","v":747.03357883871126},{"$f":"Prevalence!P132*BL133","v":178.6370161536087},{"$f":"Prevalence!Q132*BM133","v":523.91754198633589},{"$f":"Prevalence!R132*BN133","v":290.91797888927334},{"$f":"Prevalence!S132*BO133","v":308.51734074064598},{"$f":"Prevalence!T132*BP133","v":221.72422928399808},{"$f":"Prevalence!U132*BQ133","v":144.04035229310171},{"$f":"Prevalence!V132*BR133","v":406.71223539172081},{"$f":"Prevalence!W132*BS133","v":269.04161108918345},{"$f":"Prevalence!X132*BT133","v":495.88539249117702},{"$f":"Prevalence!Y132*BU133","v":301.71829766811663},{"$f":"Prevalence!Z132*BV133","v":269.97499761749179},{"$f":"Prevalence!AA132*BW133","v":128.25291639345616},{"$f":"Prevalence!AB132*BX133","v":651.78565833730431},{"$f":"Prevalence!AC132*BY133","v":178.63701615360876},{"$f":"Prevalence!AD132*BZ133","v":726.20639957687513},{"$f":"Prevalence!AE132*CA133","v":1116.4946948420634},{"$f":"Prevalence!AF132*CB133","v":1097.1347917478033},{"$f":"Prevalence!AG132*CC133","v":651.50538798762045},{"$f":"Prevalence!AH132*CD133","v":176.28350019911156},{"$f":"Prevalence!AI132*CE133","v":358.45409111211222},{"$f":"Prevalence!AJ132*CF133","v":151.47526345248338},{"$f":"Prevalence!AK132*CG133","v":386.3184199231714},{"$f":"Prevalence!AL132*CH133","v":1582.8957896056311},{"$f":"Prevalence!AM132*CI133","v":63.134765313400521},{"$f":"Prevalence!AN132*CJ133","v":188.15225617545084},{"$f":"Prevalence!AO132*CK133","v":376.62279051338288},{"$f":"Prevalence!AP132*CL133","v":199.31195162876642},{"$f":"Prevalence!AQ132*CM133","v":12.873934577814444},{"$f":"Prevalence!AR132*CN133","v":416.3526577844994},{"$f":"Prevalence!AS132*CO133","v":1153.3457725622429},{"$f":"Prevalence!AT132*CP133","v":253.46215228555775},{"$f":"Prevalence!AU132*CQ133","v":358.34238860378599},{"$f":"Prevalence!AV132*CR133","v":914.14552641363366},132,31657,2878,415,843,2245,2299,1965,6736,1786,5003,5303,130,21,1756,277,1167,497,605,460,283,843,669,1067,541,596,238,2348,277,1410,2245,3603,1326,368,689,301,956,3219,130,482,827,415,21,855,2127,606,816,1670]
["Female 40-44",{"$f":"Prevalence!B133*AX134","v":16866.491385792044},{"$f":"Prevalence!C133*AY134","v":1726.1693934660543},{"$f":"Prevalence!D133*AZ134","v":229.08867693234117},{"$f":"Prevalence!E133*BA134","v":583.29192477887341},{"$f":"Prevalence!F133*BB134","v":1363.6652353037587},{"$f":"Prevalence!G133*BC134","v":1313.1298200346671},{"$f":"Prevalence!H133*BD134","v":1146.4913885716285},{"$f":"Prevalence!I133*BE134","v":3003.072594173479},{"$f":"Prevalence!J133*BF134","v":1054.919664935092},{"$f":"Prevalence!K133*BG134","v":3195.199583728855},{"$f":"Prevalence!L133*BH134","v":2178.6774850338002},{"$f":"Prevalence!M133*BI134","v":67.991285722123649},{"$f":"Prevalence!N133*BJ134","v":18.391335111163492},{"$f":"Prevalence!O133*BK134","v":875.08432327518733},{"$f":"Prevalence!P133*BL134","v":197.3390864368385},{"$f":"Prevalence!Q133*BM134","v":558.48622299143267},{"$f":"Prevalence!R133*BN134","v":335.40443038944386},{"$f":"Prevalence!S133*BO134","v":348.80307614314358},{"$f":"Prevalence!T133*BP134","v":251.60879931792826},{"$f":"Prevalence!U133*BQ134","v":181.19563751358376},{"$f":"Prevalence!V133*BR134","v":583.29192477887364},{"$f":"Prevalence!W133*BS134","v":314.48511191590649},{"$f":"Prevalence!X133*BT134","v":689.22027841088618},{"$f":"Prevalence!Y133*BU134","v":387.60483711523307},{"$f":"Prevalence!Z133*BV134","v":336.56279065402083},{"$f":"Prevalence!AA133*BW134","v":180.52406299078913},{"$f":"Prevalence!AB133*BX134","v":604.87263608048806},{"$f":"Prevalence!AC133*BY134","v":197.33908643683856},{"$f":"Prevalence!AD133*BZ134","v":833.33471951445665},{"$f":"Prevalence!AE133*CA134","v":1363.6652353037587},{"$f":"Prevalence!AF133*CB134","v":1148.9007963542776},{"$f":"Prevalence!AG133*CC134","v":805.29210475996229},{"$f":"Prevalence!AH133*CD134","v":199.27700022508262},{"$f":"Prevalence!AI133*CE134","v":438.57300262338259},{"$f":"Prevalence!AJ133*CF134","v":193.24418991944725},{"$f":"Prevalence!AK133*CG134","v":505.12345701251496},{"$f":"Prevalence!AL133*CH134","v":1903.9989118835051},{"$f":"Prevalence!AM133*CI134","v":67.991285722123649},{"$f":"Prevalence!AN133*CJ134","v":230.70121037280384},{"$f":"Prevalence!AO133*CK134","v":470.43693180208527},{"$f":"Prevalence!AP133*CL134","v":229.08867693234117},{"$f":"Prevalence!AQ133*CM134","v":18.391335111163492},{"$f":"Prevalence!AR133*CN134","v":543.93674707050968},{"$f":"Prevalence!AS133*CO134","v":1510.682333031692},{"$f":"Prevalence!AT133*CP134","v":307.4169668809983},{"$f":"Prevalence!AU133*CQ134","v":443.53653491399979},{"$f":"Prevalence!AV133*CR134","v":1156.0930250213139},133,37679,3850,477,1209,2742,2709,2201,7735,2161,6185,5877,140,30,2057,306,1244,573,684,522,356,1209,782,1483,695,743,335,2179,306,1618,2742,3773,1639,416,843,384,1250,3872,140,591,1033,477,30,1117,2786,735,1010,2112]
["Female 45-49",{"$f":"Prevalence!B134*AX135","v":17816.785324022789},{"$f":"Prevalence!C134*AY135","v":1859.0688407486264},{"$f":"Prevalence!D134*AZ135","v":282.59630125053172},{"$f":"Prevalence!E134*BA135","v":593.3519665709855},{"$f":"Prevalence!F134*BB135","v":1501.7033203528752},{"$f":"Prevalence!G134*BC135","v":1391.4976371291841},{"$f":"Prevalence!H134*BD135","v":1171.8220822364772},{"$f":"Prevalence!I134*BE135","v":3219.2513674446782},{"$f":"Prevalence!J134*BF135","v":1174.3511497571837},{"$f":"Prevalence!K134*BG135","v":3296.8505532163445},{"$f":"Prevalence!L134*BH135","v":2179.425266251365},{"$f":"Prevalence!M134*BI135","v":87.660491155263699},{"$f":"Prevalence!N134*BJ135","v":15.00405543151221},{"$f":"Prevalence!O134*BK135","v":919.72266299818477},{"$f":"Prevalence!P134*BL135","v":240.04350885587979},{"$f":"Prevalence!Q134*BM135","v":587.84458599438108},{"$f":"Prevalence!R134*BN135","v":340.84403376420164},{"$f":"Prevalence!S134*BO135","v":337.50041921976282},{"$f":"Prevalence!T134*BP135","v":279.68746576070686},{"$f":"Prevalence!U134*BQ135","v":213.32658269769951},{"$f":"Prevalence!V134*BR135","v":593.35196657098561},{"$f":"Prevalence!W134*BS135","v":360.07524783026236},{"$f":"Prevalence!X134*BT135","v":719.91311415460723},{"$f":"Prevalence!Y134*BU135","v":413.47019568422303},{"$f":"Prevalence!Z134*BV135","v":388.48897396043878},{"$f":"Prevalence!AA134*BW135","v":205.52625546489304},{"$f":"Prevalence!AB134*BX135","v":587.96113458771401},{"$f":"Prevalence!AC134*BY135","v":240.04350885587988},{"$f":"Prevalence!AD134*BZ135","v":891.30884551232407},{"$f":"Prevalence!AE134*CA135","v":1501.7033203528752},{"$f":"Prevalence!AF134*CB135","v":1182.1811147200901},{"$f":"Prevalence!AG134*CC135","v":896.87709684935351},{"$f":"Prevalence!AH134*CD135","v":249.62619773625084},{"$f":"Prevalence!AI134*CE135","v":464.75475397309668},{"$f":"Prevalence!AJ134*CF135","v":180.13070656267877},{"$f":"Prevalence!AK134*CG135","v":545.19615355930239},{"$f":"Prevalence!AL134*CH135","v":1924.6055452800404},{"$f":"Prevalence!AM134*CI135","v":87.660491155263685},{"$f":"Prevalence!AN134*CJ135","v":236.06005321469627},{"$f":"Prevalence!AO134*CK135","v":500.63967436610181},{"$f":"Prevalence!AP134*CL135","v":282.59630125053172},{"$f":"Prevalence!AQ134*CM135","v":15.00405543151221},{"$f":"Prevalence!AR134*CN135","v":607.82989963166642},{"$f":"Prevalence!AS134*CO135","v":1598.0681505815171},{"$f":"Prevalence!AT134*CP135","v":301.55415940300577},{"$f":"Prevalence!AU134*CQ135","v":521.27442867221907},{"$f":"Prevalence!AV134*CR135","v":1100.2488076058094},134,39030,4066,577,1206,2961,2815,2206,8131,2359,6258,5765,177,24,2120,365,1284,571,649,569,411,1206,878,1519,727,841,374,2077,365,1697,2961,3807,1790,511,876,351,1323,3838,177,593,1078,577,24,1224,2890,707,1164,1971]
["Female 50-54",{"$f":"Prevalence!B135*AX136","v":16847.201618457213},{"$f":"Prevalence!C135*AY136","v":1678.0085207937675},{"$f":"Prevalence!D135*AZ136","v":262.5158015082929},{"$f":"Prevalence!E135*BA136","v":619.919965074164},{"$f":"Prevalence!F135*BB136","v":1438.3082122663809},{"$f":"Prevalence!G135*BC136","v":1258.5268149665728},{"$f":"Prevalence!H135*BD136","v":1126.6702794304479},{"$f":"Prevalence!I135*BE136","v":3079.8864084801562},{"$f":"Prevalence!J135*BF136","v":1099.6785459150567},{"$f":"Prevalence!K135*BG136","v":3096.131463926567},{"$f":"Prevalence!L135*BH136","v":2041.4391045546176},{"$f":"Prevalence!M135*BI136","v":74.288551826494654},{"$f":"Prevalence!N135*BJ136","v":15.00405543151221},{"$f":"Prevalence!O135*BK136","v":924.49480889109998},{"$f":"Prevalence!P135*BL136","v":241.35881575372022},{"$f":"Prevalence!Q135*BM136","v":578.23030538232342},{"$f":"Prevalence!R135*BN136","v":294.28390305735797},{"$f":"Prevalence!S135*BO136","v":347.90104847152747},{"$f":"Prevalence!T135*BP136","v":274.28050245074587},{"$f":"Prevalence!U135*BQ136","v":177.51263085793974},{"$f":"Prevalence!V135*BR136","v":619.91996507416411},{"$f":"Prevalence!W135*BS136","v":364.58644114020871},{"$f":"Prevalence!X135*BT136","v":635.07805988622363},{"$f":"Prevalence!Y135*BU136","v":406.64537814885762},{"$f":"Prevalence!Z135*BV136","v":347.37658551516046},{"$f":"Prevalence!AA135*BW136","v":178.04948334391804},{"$f":"Prevalence!AB135*BX136","v":553.42514112613424},{"$f":"Prevalence!AC135*BY136","v":241.35881575372031},{"$f":"Prevalence!AD135*BZ136","v":824.07989311068741},{"$f":"Prevalence!AE135*CA136","v":1438.3082122663809},{"$f":"Prevalence!AF135*CB136","v":1154.8546271720556},{"$f":"Prevalence!AG135*CC136","v":827.23133346272778},{"$f":"Prevalence!AH135*CD136","v":226.66644960786772},{"$f":"Prevalence!AI135*CE136","v":467.40746375604817},{"$f":"Prevalence!AJ135*CF136","v":187.31540710933831},{"$f":"Prevalence!AK135*CG136","v":473.49235105036917},{"$f":"Prevalence!AL135*CH136","v":1786.7038972987973},{"$f":"Prevalence!AM135*CI136","v":74.288551826494654},{"$f":"Prevalence!AN135*CJ136","v":228.09849998654462},{"$f":"Prevalence!AO135*CK136","v":475.09683383721904},{"$f":"Prevalence!AP135*CL136","v":262.5158015082929},{"$f":"Prevalence!AQ135*CM136","v":15.00405543151221},{"$f":"Prevalence!AR135*CN136","v":586.47639825571741},{"$f":"Prevalence!AS135*CO136","v":1521.7590139793547},{"$f":"Prevalence!AT135*CP136","v":270.84425915262898},{"$f":"Prevalence!AU135*CQ136","v":490.82197063982136},{"$f":"Prevalence!AV135*CR136","v":1011.4920544808353},135,36906,3670,536,1260,2836,2546,2121,7779,2209,5877,5400,150,24,2131,367,1263,493,669,558,342,1260,889,1340,715,752,324,1955,367,1569,2836,3719,1651,464,881,365,1149,3563,150,573,1023,536,24,1181,2752,635,1096,1812]
["Female 55-59",{"$f":"Prevalence!B136*AX137","v":8664.4513600924183},{"$f":"Prevalence!C136*AY137","v":897.67918203671093},{"$f":"Prevalence!D136*AZ137","v":147.55719227264083},{"$f":"Prevalence!E136*BA137","v":322.27599639663885},{"$f":"Prevalence!F136*BB137","v":751.42743059926113},{"$f":"Prevalence!G136*BC137","v":623.3955260850563},{"$f":"Prevalence!H136*BD137","v":616.35381196503761},{"$f":"Prevalence!I136*BE137","v":1451.2446031701413},{"$f":"Prevalence!J136*BF137","v":610.7886233416508},{"$f":"Prevalence!K136*BG137","v":1652.4341319799014},{"$f":"Prevalence!L136*BH137","v":1033.0973102286919},{"$f":"Prevalence!M136*BI137","v":46.427636996926729},{"$f":"Prevalence!N136*BJ137","v":8.109030270812422},{"$f":"Prevalence!O136*BK137","v":474.73125087604234},{"$f":"Prevalence!P136*BL137","v":128.34351175849284},{"$f":"Prevalence!Q136*BM137","v":294.49035268957397},{"$f":"Prevalence!R136*BN137","v":169.98693428213173},{"$f":"Prevalence!S136*BO137","v":182.42964294082458},{"$f":"Prevalence!T136*BP137","v":147.22218949329346},{"$f":"Prevalence!U136*BQ137","v":80.483661455165304},{"$f":"Prevalence!V136*BR137","v":322.2759963966389},{"$f":"Prevalence!W136*BS137","v":178.92840668752783},{"$f":"Prevalence!X136*BT137","v":338.66768056136942},{"$f":"Prevalence!Y136*BU137","v":183.41968685550225},{"$f":"Prevalence!Z136*BV137","v":176.48448414865038},{"$f":"Prevalence!AA136*BW137","v":86.831904019673971},{"$f":"Prevalence!AB136*BX137","v":279.22666307766275},{"$f":"Prevalence!AC136*BY137","v":128.34351175849287},{"$f":"Prevalence!AD136*BZ137","v":437.25007589012279},{"$f":"Prevalence!AE136*CA137","v":751.42743059926113},{"$f":"Prevalence!AF136*CB137","v":521.78888422444868},{"$f":"Prevalence!AG136*CC137","v":464.68370990228624},{"$f":"Prevalence!AH136*CD137","v":107.71834849346102},{"$f":"Prevalence!AI136*CE137","v":235.22658190292438},{"$f":"Prevalence!AJ136*CF137","v":119.21356637762621},{"$f":"Prevalence!AK136*CG137","v":255.35506559120526},{"$f":"Prevalence!AL136*CH137","v":936.34015453672362},{"$f":"Prevalence!AM136*CI137","v":46.427636996926722},{"$f":"Prevalence!AN136*CJ137","v":122.27969679922502},{"$f":"Prevalence!AO136*CK137","v":218.77722246631799},{"$f":"Prevalence!AP136*CL137","v":147.55719227264083},{"$f":"Prevalence!AQ136*CM137","v":8.109030270812422},{"$f":"Prevalence!AR136*CN137","v":312.40205622897651},{"$f":"Prevalence!AS136*CO137","v":836.57123582180952},{"$f":"Prevalence!AT136*CP137","v":116.68437719411038},{"$f":"Prevalence!AU136*CQ137","v":255.05825824414012},{"$f":"Prevalence!AV136*CR137","v":514.08405564166674},136,32193,3330,511,1111,2513,2139,1968,6217,2081,5320,4635,159,22,1856,331,1091,483,595,508,263,1111,740,1212,547,648,268,1673,331,1412,2513,2850,1573,374,752,394,1051,3167,159,521,799,511,22,1067,2566,464,966,1562]
["Female 60-64",{"$f":"Prevalence!B137*AX138","v":8347.9417213675806},{"$f":"Prevalence!C137*AY138","v":897.67918203671093},{"$f":"Prevalence!D137*AZ138","v":142.35948295579635},{"$f":"Prevalence!E137*BA138","v":312.123287239229},{"$f":"Prevalence!F137*BB138","v":734.38351355025281},{"$f":"Prevalence!G137*BC138","v":651.66544942785697},{"$f":"Prevalence!H137*BD138","v":627.31538890547279},{"$f":"Prevalence!I137*BE138","v":1321.9234659405679},{"$f":"Prevalence!J137*BF138","v":604.91847799478251},{"$f":"Prevalence!K137*BG138","v":1538.1304175873067},{"$f":"Prevalence!L137*BH138","v":1004.3444401058222},{"$f":"Prevalence!M137*BI138","v":45.259646129079513},{"$f":"Prevalence!N137*BJ138","v":6.26606884562778},{"$f":"Prevalence!O137*BK138","v":433.29457919397402},{"$f":"Prevalence!P137*BL138","v":145.40428069315655},{"$f":"Prevalence!Q137*BM138","v":282.07371087131509},{"$f":"Prevalence!R137*BN138","v":200.95763866479754},{"$f":"Prevalence!S137*BO138","v":171.69848747371725},{"$f":"Prevalence!T137*BP138","v":161.42275501528437},{"$f":"Prevalence!U137*BQ138","v":103.12925441213197},{"$f":"Prevalence!V137*BR138","v":312.12328723922906},{"$f":"Prevalence!W137*BS138","v":169.98198635315146},{"$f":"Prevalence!X137*BT138","v":327.49052938772684},{"$f":"Prevalence!Y137*BU138","v":166.65371913562086},{"$f":"Prevalence!Z137*BV138","v":169.94802177277444},{"$f":"Prevalence!AA137*BW138","v":80.999910466113775},{"$f":"Prevalence!AB137*BX138","v":264.20550367719079},{"$f":"Prevalence!AC137*BY138","v":145.40428069315658},{"$f":"Prevalence!AD137*BZ138","v":440.34674781569021},{"$f":"Prevalence!AE137*CA138","v":734.38351355025281},{"$f":"Prevalence!AF137*CB138","v":450.75236244231326},{"$f":"Prevalence!AG137*CC138","v":444.30025409601939},{"$f":"Prevalence!AH137*CD138","v":109.44645034094971},{"$f":"Prevalence!AI137*CE138","v":238.98019757158806},{"$f":"Prevalence!AJ137*CF138","v":117.09555885315061},{"$f":"Prevalence!AK137*CG138","v":272.1195751304947},{"$f":"Prevalence!AL137*CH138","v":875.13951923861759},{"$f":"Prevalence!AM137*CI138","v":45.259646129079506},{"$f":"Prevalence!AN137*CJ138","v":101.15652460742032},{"$f":"Prevalence!AO137*CK138","v":218.50340867099092},{"$f":"Prevalence!AP137*CL138","v":142.35948295579635},{"$f":"Prevalence!AQ137*CM138","v":6.26606884562778},{"$f":"Prevalence!AR137*CN138","v":303.91127869323117},{"$f":"Prevalence!AS137*CO138","v":775.93123197813975},{"$f":"Prevalence!AT137*CP138","v":119.95355155515227},{"$f":"Prevalence!AU137*CQ138","v":234.46349205051391},{"$f":"Prevalence!AV137*CR138","v":505.19783957103613},137,31017,3330,493,1076,2456,2236,2003,5663,2061,4952,4506,155,17,1694,375,1045,571,560,557,337,1076,703,1172,497,624,250,1583,375,1422,2456,2462,1504,380,764,387,1120,2960,155,431,798,493,17,1038,2380,477,888,1535]
["Female 65-69",null,null,null,null,null,null,null,null,null,null,null,null,null,null,null,null,null,null,null,null,null,null,null,null,null,null,null,null,null,null,null,null,null,null,null,null,null,null,null,null,null,null,null,null,null,null,null,138]
["Female 70-74",null,null,null,null,null,null,null,null,null,null,null,null,null,null,null,null,null,null,null,null,null,null,null,null,null,null,null,null,null,null,null,null,null,null,null,null,null,null,null,null,null,null,null,null,null,null,null,139]
["Female 75-79",null,null,null,null,null,null,null,null,null,null,null,null,null,null,null,null,null,null,null,null,null,null,null,null,null,null,null,null,null,null,null,null,null,null,null,null,null,null,null,null,null,null,null,null,null,null,null,140]
["Female 80-84",null,null,null,null,null,null,null,null,null,null,null,null,null,null,null,null,null,null,null,null,null,null,null,null,null,null,null,null,null,null,null,null,null,null,null,null,null,null,null,null,null,null,null,null,null,null,null,141]
["Female 85-89",null,null,null,null,null,null,null,null,null,null,null,null,null,null,null,null,null,null,null,null,null,null,null,null,null,null,null,null,null,null,null,null,null,null,null,null,null,null,null,null,null,null,null,null,null,null,null,142]
["Female 90+",null,null,null,null,null,null,null,null,null,null,null,null,null,null,null,null,null,null,null,null,null,null,null,null,null,null,null,null,null,null,null,null,null,null,null,null,null,null,null,null,null,null,null,null,null,null,null,143]
["age/sex breakdown: Q3",null,null,null,null,null,null,null,null,null,null,null,null,null,null,null,null,null,null,null,null,null,null,null,null,null,null,null,null,null,null,null,null,null,null,null,null,null,null,null,null,null,null,null,null,null,null,null,144]
["Male <1",null,null,null,null,null,null,null,null,null,null,null,null,null,null,null,null,null,null,null,null,null,null,null,null,null,null,null,null,null,null,null,null,null,null,null,null,null,null,null,null,null,null,null,null,null,null,null,145]
["Male 1-4",null,null,null,null,null,null,null,null,null,null,null,null,null,null,null,null,null,null,null,null,null,null,null,null,null,null,null,null,null,null,null,null,null,null,null,null,null,null,null,null,null,null,null,null,null,null,null,146]
["Male 5-9",null,null,null,null,null,null,null,null,null,null,null,null,null,null,null,null,null,null,null,null,null,null,null,null,null,null,null,null,null,null,null,null,null,null,null,null,null,null,null,null,null,null,null,null,null,null,null,147]
["Male 10-14",null,null,null,null,null,null,null,null,null,null,null,null,null,null,null,null,null,null,null,null,null,null,null,null,null,null,null,null,null,null,null,null,null,null,null,null,null,null,null,null,null,null,null,null,null,null,null,148]
["Male 15-19 (16+)",{"$f":"Prevalence!B149*AX150","v":8065.4811952862337},{"$f":"Prevalence!C149*AY150","v":540.02959505837259},{"$f":"Prevalence!D149*AZ150","v":298.76035994265834},{"$f":"Prevalence!E149*BA150","v":400.01422913706728},{"$f":"Prevalence!F149*BB150","v":611.33034817749831},{"$f":"Prevalence!G149*BC150","v":501.42575487138623},{"$f":"Prevalence!H149*BD150","v":1062.1102121568144},{"$f":"Prevalence!I149*BE150","v":1148.5418283288172},{"$f":"Prevalence!J149*BF150","v":719.53886618934064},{"$f":"Prevalence!K149*BG150","v":1126.5336777521868},{"$f":"Prevalence!L149*BH150","v":919.16562373643103},{"$f":"Prevalence!M149*BI150","v":27.21223155839791},{"$f":"Prevalence!N149*BJ150","v":100.04401911714032},{"$f":"Prevalence!O149*BK150","v":570.68153528997902},{"$f":"Prevalence!P149*BL150","v":107.0866383148926},{"$f":"Prevalence!Q149*BM150","v":267.7879953004815},{"$f":"Prevalence!R149*BN150","v":489.49764652205295},{"$f":"Prevalence!S149*BO150","v":228.11612986507717},{"$f":"Prevalence!T149*BP150","v":199.913022684927},{"$f":"Prevalence!U149*BQ150","v":111.01432501352852},{"$f":"Prevalence!V149*BR150","v":400.01422913706733},{"$f":"Prevalence!W149*BS150","v":165.45053164131352},{"$f":"Prevalence!X149*BT150","v":150.68882039101962},{"$f":"Prevalence!Y149*BU150","v":68.175471307479654},{"$f":"Prevalence!Z149*BV150","v":188.32439501017936},{"$f":"Prevalence!AA149*BW150","v":56.71100919592994},{"$f":"Prevalence!AB149*BX150","v":275.72861252882404},{"$f":"Prevalence!AC149*BY150","v":107.08663831489258},{"$f":"Prevalence!AD149*BZ150","v":291.32892585593402},{"$f":"Prevalence!AE149*CA150","v":611.33034817749831},{"$f":"Prevalence!AF149*CB150","v":417.71523904286897},{"$f":"Prevalence!AG149*CC150","v":516.52542676359224},{"$f":"Prevalence!AH149*CD150","v":99.154792970510698},{"$f":"Prevalence!AI149*CE150","v":173.48546215327093},{"$f":"Prevalence!AJ149*CF150","v":283.62185575661368},{"$f":"Prevalence!AK149*CG150","v":178.03131527567712},{"$f":"Prevalence!AL149*CH150","v":562.89824785643509},{"$f":"Prevalence!AM149*CI150","v":27.21223155839791},{"$f":"Prevalence!AN149*CJ150","v":184.84442986185732},{"$f":"Prevalence!AO149*CK150","v":309.96074111846235},{"$f":"Prevalence!AP149*CL150","v":298.76035994265834},{"$f":"Prevalence!AQ149*CM150","v":100.04401911714034},{"$f":"Prevalence!AR149*CN150","v":205.64613161889852},{"$f":"Prevalence!AS149*CO150","v":677.97896710531995},{"$f":"Prevalence!AT149*CP150","v":104.72340788622149},{"$f":"Prevalence!AU149*CQ150","v":142.52509739841707},{"$f":"Prevalence!AV149*CR150","v":376.99866463609499},149,25713,1544,895,1388,1623,1436,2966,4328,2307,3161,3457,81,236,1891,400,779,1245,686,710,312,1388,603,402,217,595,167,1369,400,769,1623,1942,1597,304,485,942,537,1637,81,602,887,895,236,605,1840,355,495,1008]
["Male 20-24",{"$f":"Prevalence!B150*AX151","v":11731.067212013762},{"$f":"Prevalence!C150*AY151","v":588.64624901764319},{"$f":"Prevalence!D150*AZ151","v":319.45660834092075},{"$f":"Prevalence!E150*BA151","v":394.25033534546685},{"$f":"Prevalence!F150*BB151","v":821.13380100243148},{"$f":"Prevalence!G150*BC151","v":711.63348776315127},{"$f":"Prevalence!H150*BD151","v":1752.159564424576},{"$f":"Prevalence!I150*BE151","v":2103.6254790116764},{"$f":"Prevalence!J150*BF151","v":775.67974001425671},{"$f":"Prevalence!K150*BG151","v":1336.4445718350839},{"$f":"Prevalence!L150*BH151","v":1746.3349194969278},{"$f":"Prevalence!M150*BI151","v":31.915580222812366},{"$f":"Prevalence!N150*BJ151","v":105.13100314004576},{"$f":"Prevalence!O150*BK151","v":845.30882091339572},{"$f":"Prevalence!P150*BL151","v":108.15750469804152},{"$f":"Prevalence!Q150*BM151","v":842.20871435966581},{"$f":"Prevalence!R150*BN151","v":568.91814820675552},{"$f":"Prevalence!S150*BO151","v":268.01982605138807},{"$f":"Prevalence!T150*BP151","v":190.62129064464168},{"$f":"Prevalence!U150*BQ151","v":159.04936949053604},{"$f":"Prevalence!V150*BR151","v":394.25033534546697},{"$f":"Prevalence!W150*BS151","v":355.32079349170976},{"$f":"Prevalence!X150*BT151","v":200.91842718802616},{"$f":"Prevalence!Y150*BU151","v":118.44309992128954},{"$f":"Prevalence!Z150*BV151","v":210.16369459959512},{"$f":"Prevalence!AA150*BW151","v":78.784156487758949},{"$f":"Prevalence!AB150*BX151","v":823.15766209299034},{"$f":"Prevalence!AC150*BY151","v":108.15750469804151},{"$f":"Prevalence!AD150*BZ151","v":300.42111599968229},{"$f":"Prevalence!AE150*CA151","v":821.13380100243148},{"$f":"Prevalence!AF150*CB151","v":1020.4125097937026},{"$f":"Prevalence!AG150*CC151","v":585.41704598754029},{"$f":"Prevalence!AH150*CD151","v":136.66400741659203},{"$f":"Prevalence!AI150*CE151","v":214.97889227652749},{"$f":"Prevalence!AJ150*CF151","v":299.88043347514571},{"$f":"Prevalence!AK150*CG151","v":169.08002009421847},{"$f":"Prevalence!AL150*CH151","v":687.37544133476706},{"$f":"Prevalence!AM150*CI151","v":31.915580222812366},{"$f":"Prevalence!AN150*CJ151","v":214.93538356029919},{"$f":"Prevalence!AO150*CK151","v":403.26346702447074},{"$f":"Prevalence!AP150*CL151","v":319.45660834092075},{"$f":"Prevalence!AQ150*CM151","v":105.13100314004578},{"$f":"Prevalence!AR150*CN151","v":216.52328238221216},{"$f":"Prevalence!AS150*CO151","v":789.62441657972863},{"$f":"Prevalence!AT150*CP151","v":235.40642110761902},{"$f":"Prevalence!AU150*CQ151","v":175.34905922350706},{"$f":"Prevalence!AV150*CR151","v":454.79203987846375},150,37399,1683,957,1368,2180,2038,4893,7927,2487,3750,6568,95,248,2801,404,2450,1447,806,677,447,1368,1295,536,377,664,232,4087,404,793,2180,4744,1810,419,601,996,510,1999,95,700,1154,957,248,637,2143,798,609,1216]
["Male 25-29",{"$f":"Prevalence!B151*AX152","v":19050.415558782744},{"$f":"Prevalence!C151*AY152","v":816.73638490901453},{"$f":"Prevalence!D151*AZ152","v":499.60348560397176},{"$f":"Prevalence!E151*BA152","v":639.13366496225035},{"$f":"Prevalence!F151*BB152","v":1386.0037113831868},{"$f":"Prevalence!G151*BC152","v":1040.6002490590195},{"$f":"Prevalence!H151*BD152","v":2686.2623525082035},{"$f":"Prevalence!I151*BE152","v":3492.5323758839918},{"$f":"Prevalence!J151*BF152","v":1239.4738698823719},{"$f":"Prevalence!K151*BG152","v":2074.6234805330878},{"$f":"Prevalence!L151*BH152","v":3324.2458202271578},{"$f":"Prevalence!M151*BI152","v":55.55921242107766},{"$f":"Prevalence!N151*BJ152","v":171.7600483619494},{"$f":"Prevalence!O151*BK152","v":1159.8861365692933},{"$f":"Prevalence!P151*BL152","v":173.99821225791385},{"$f":"Prevalence!Q151*BM152","v":1229.0973372393303},{"$f":"Prevalence!R151*BN152","v":868.68966885839052},{"$f":"Prevalence!S151*BO152","v":399.80040693803909},{"$f":"Prevalence!T151*BP152","v":299.87864938274748},{"$f":"Prevalence!U151*BQ152","v":263.03218556918534},{"$f":"Prevalence!V151*BR152","v":639.13366496225046},{"$f":"Prevalence!W151*BS152","v":419.27577258989419},{"$f":"Prevalence!X151*BT152","v":291.35990028758363},{"$f":"Prevalence!Y151*BU152","v":211.46561810608569},{"$f":"Prevalence!Z151*BV152","v":302.02463639249032},{"$f":"Prevalence!AA151*BW152","v":78.624135293733175},{"$f":"Prevalence!AB151*BX152","v":1705.3961965958158},{"$f":"Prevalence!AC151*BY152","v":173.99821225791382},{"$f":"Prevalence!AD151*BZ152","v":541.31237049304093},{"$f":"Prevalence!AE151*CA152","v":1386.0037113831868},{"$f":"Prevalence!AF151*CB152","v":1699.2734696740338},{"$f":"Prevalence!AG151*CC152","v":940.86988993505247},{"$f":"Prevalence!AH151*CD152","v":176.92569650702771},{"$f":"Prevalence!AI151*CE152","v":336.59724493998482},{"$f":"Prevalence!AJ151*CF152","v":516.84829365898156},{"$f":"Prevalence!AK151*CG152","v":214.92410330665911},{"$f":"Prevalence!AL151*CH152","v":1052.0342710098059},{"$f":"Prevalence!AM151*CI152","v":55.55921242107766},{"$f":"Prevalence!AN151*CJ152","v":341.7447745757708},{"$f":"Prevalence!AO151*CK152","v":729.89999912707287},{"$f":"Prevalence!AP151*CL152","v":499.60348560397176},{"$f":"Prevalence!AQ151*CM152","v":171.76004836194943},{"$f":"Prevalence!AR151*CN152","v":309.17530728084489},{"$f":"Prevalence!AS151*CO152","v":1285.7537364171719},{"$f":"Prevalence!AT151*CP152","v":239.53768462393055},{"$f":"Prevalence!AU151*CQ152","v":287.13121022459092},{"$f":"Prevalence!AV151*CR152","v":800.3694400283465},151,36724,1412,905,1341,2225,1802,4536,7958,2403,3520,7560,100,245,2324,393,2162,1336,727,644,447,1341,924,470,407,577,140,5120,393,864,2225,4777,1759,328,569,1038,392,1850,100,673,1263,905,245,550,2110,491,603,1294]
["Male 30-34",{"$f":"Prevalence!B152*AX153","v":18381.233659457244},{"$f":"Prevalence!C152*AY153","v":897.71591315778369},{"$f":"Prevalence!D152*AZ153","v":470.34493893324191},{"$f":"Prevalence!E152*BA153","v":568.11881329977803},{"$f":"Prevalence!F152*BB153","v":1383.5120193177788},{"$f":"Prevalence!G152*BC153","v":1088.530227234324},{"$f":"Prevalence!H152*BD153","v":2448.1941281457043},{"$f":"Prevalence!I152*BE153","v":3191.9060027399187},{"$f":"Prevalence!J152*BF153","v":1257.52696411703},{"$f":"Prevalence!K152*BG153","v":2348.6859573648735},{"$f":"Prevalence!L152*BH153","v":3141.3243571035468},{"$f":"Prevalence!M152*BI153","v":46.114146309494458},{"$f":"Prevalence!N152*BJ153","v":202.60675092491175},{"$f":"Prevalence!O152*BK153","v":979.21540445307801},{"$f":"Prevalence!P152*BL153","v":187.72326207978492},{"$f":"Prevalence!Q152*BM153","v":977.25176813802443},{"$f":"Prevalence!R152*BN153","v":907.70267793885716},{"$f":"Prevalence!S152*BO153","v":412.44883796909119},{"$f":"Prevalence!T152*BP153","v":307.79470068632929},{"$f":"Prevalence!U152*BQ153","v":266.56281893253009},{"$f":"Prevalence!V152*BR153","v":568.11881329977814},{"$f":"Prevalence!W152*BS153","v":277.70213509200784},{"$f":"Prevalence!X152*BT153","v":292.59972965050952},{"$f":"Prevalence!Y152*BU153","v":169.38032310217181},{"$f":"Prevalence!Z152*BV153","v":297.31368019226085},{"$f":"Prevalence!AA152*BW153","v":92.664159453328381},{"$f":"Prevalence!AB152*BX153","v":1504.212739028653},{"$f":"Prevalence!AC152*BY153","v":187.72326207978489},{"$f":"Prevalence!AD152*BZ153","v":613.98856838331039},{"$f":"Prevalence!AE152*CA153","v":1383.5120193177788},{"$f":"Prevalence!AF152*CB153","v":1473.0356788612464},{"$f":"Prevalence!AG152*CC153","v":950.49789335678702},{"$f":"Prevalence!AH152*CD153","v":161.82228339057411},{"$f":"Prevalence!AI152*CE153","v":330.68165188304312},{"$f":"Prevalence!AJ152*CF153","v":507.38767942052232},{"$f":"Prevalence!AK152*CG153","v":257.14133788475283},{"$f":"Prevalence!AL152*CH153","v":1260.7351236912107},{"$f":"Prevalence!AM152*CI153","v":46.114146309494458},{"$f":"Prevalence!AN152*CJ153","v":304.67587629340636},{"$f":"Prevalence!AO152*CK153","v":714.87434593839203},{"$f":"Prevalence!AP152*CL153","v":470.34493893324191},{"$f":"Prevalence!AQ152*CM153","v":202.60675092491178},{"$f":"Prevalence!AR152*CN153","v":343.46565954290219},{"$f":"Prevalence!AS152*CO153","v":1413.7197480985019},{"$f":"Prevalence!AT152*CP153","v":220.51126975563463},{"$f":"Prevalence!AU152*CQ153","v":262.84648100161553},{"$f":"Prevalence!AV152*CR153","v":928.40380949192274},152,35434,1552,852,1192,2221,1885,4134,7273,2438,3985,7144,83,289,1962,424,1719,1396,750,661,453,1192,612,472,326,568,165,4516,424,980,2221,4141,1777,300,559,1019,469,2217,83,600,1237,852,289,611,2320,452,552,1501]
["Male 35-39",{"$f":"Prevalence!B153*AX154","v":17037.723116215537},{"$f":"Prevalence!C153*AY154","v":918.82676870108367},{"$f":"Prevalence!D153*AZ154","v":528.11809241289268},{"$f":"Prevalence!E153*BA154","v":627.6956714469469},{"$f":"Prevalence!F153*BB154","v":1419.386174845052},{"$f":"Prevalence!G153*BC154","v":1068.388276464028},{"$f":"Prevalence!H153*BD154","v":2169.1005161701519},{"$f":"Prevalence!I153*BE154","v":2578.0056216513158},{"$f":"Prevalence!J153*BF154","v":1297.518076060735},{"$f":"Prevalence!K153*BG154","v":2367.6347400301192},{"$f":"Prevalence!L153*BH154","v":2669.3542775241222},{"$f":"Prevalence!M153*BI154","v":49.914630610559918},{"$f":"Prevalence!N153*BJ154","v":182.72180832212496},{"$f":"Prevalence!O153*BK154","v":932.73921528285177},{"$f":"Prevalence!P153*BL154","v":218.55091471873973},{"$f":"Prevalence!Q153*BM154","v":691.4673598547497},{"$f":"Prevalence!R153*BN154","v":967.39054666550101},{"$f":"Prevalence!S153*BO154","v":424.56673347975919},{"$f":"Prevalence!T153*BP154","v":339.73047442938241},{"$f":"Prevalence!U153*BQ154","v":259.68046609423777},{"$f":"Prevalence!V153*BR154","v":627.69567144694713},{"$f":"Prevalence!W153*BS154","v":219.06199787965602},{"$f":"Prevalence!X153*BT154","v":290.70728819550675},{"$f":"Prevalence!Y153*BU154","v":155.93705534594747},{"$f":"Prevalence!Z153*BV154","v":333.8331522977856},{"$f":"Prevalence!AA153*BW154","v":103.12671384025811},{"$f":"Prevalence!AB153*BX154","v":1124.9644322948959},{"$f":"Prevalence!AC153*BY154","v":218.55091471873968},{"$f":"Prevalence!AD153*BZ154","v":607.40181561091708},{"$f":"Prevalence!AE153*CA154","v":1419.386174845052},{"$f":"Prevalence!AF153*CB154","v":1007.9066736122262},{"$f":"Prevalence!AG153*CC154","v":955.28440093981317},{"$f":"Prevalence!AH153*CD154","v":165.08558479453924},{"$f":"Prevalence!AI153*CE154","v":355.66896537247675},{"$f":"Prevalence!AJ153*CF154","v":477.32628635188485},{"$f":"Prevalence!AK153*CG154","v":284.71817353808979},{"$f":"Prevalence!AL153*CH154","v":1252.5299458010982},{"$f":"Prevalence!AM153*CI154","v":49.914630610559918},{"$f":"Prevalence!AN153*CJ154","v":311.82260230519108},{"$f":"Prevalence!AO153*CK154","v":661.83295772454403},{"$f":"Prevalence!AP153*CL154","v":528.11809241289268},{"$f":"Prevalence!AQ153*CM154","v":182.72180832212499},{"$f":"Prevalence!AR153*CN154","v":337.42408531264499},{"$f":"Prevalence!AS153*CO154","v":1423.3787192460143},{"$f":"Prevalence!AT153*CP154","v":214.32989667847593},{"$f":"Prevalence!AU153*CQ154","v":278.30126759175249},{"$f":"Prevalence!AV153*CR154","v":899.47553796370426},153,33268,1609,969,1334,2308,1874,3710,5950,2548,4069,6149,91,264,1893,500,1232,1507,782,739,447,1334,489,475,304,646,186,3421,500,982,2308,2870,1809,310,609,971,526,2231,91,622,1160,969,264,608,2366,445,592,1473]
["Male 40-44",{"$f":"Prevalence!B154*AX155","v":19785.329961186573},{"$f":"Prevalence!C154*AY155","v":1225.4830613005131},{"$f":"Prevalence!D154*AZ155","v":697.07228090411741},{"$f":"Prevalence!E154*BA155","v":848.84781955794028},{"$f":"Prevalence!F154*BB155","v":1631.5561186585455},{"$f":"Prevalence!G154*BC155","v":1303.8441773069542},{"$f":"Prevalence!H154*BD155","v":2478.9720184801736},{"$f":"Prevalence!I154*BE155","v":2773.8473932456677},{"$f":"Prevalence!J154*BF155","v":1683.0051967742265},{"$f":"Prevalence!K154*BG155","v":2856.4067188026183},{"$f":"Prevalence!L154*BH155","v":2660.6720388592198},{"$f":"Prevalence!M154*BI155","v":56.496779702062319},{"$f":"Prevalence!N154*BJ155","v":203.48565017691189},{"$f":"Prevalence!O154*BK155","v":1193.3937556339497},{"$f":"Prevalence!P154*BL155","v":288.48720742873644},{"$f":"Prevalence!Q154*BM155","v":617.94282727279165},{"$f":"Prevalence!R154*BN155","v":1133.6507666962673},{"$f":"Prevalence!S154*BO155","v":529.89403053228261},{"$f":"Prevalence!T154*BP155","v":458.79704124563415},{"$f":"Prevalence!U154*BQ155","v":330.55522417812369},{"$f":"Prevalence!V154*BR155","v":848.84781955794051},{"$f":"Prevalence!W154*BS155","v":272.37156382582998},{"$f":"Prevalence!X154*BT155","v":362.31308339313682},{"$f":"Prevalence!Y154*BU155","v":212.87459858081644},{"$f":"Prevalence!Z154*BV155","v":397.39581132662096},{"$f":"Prevalence!AA154*BW155","v":125.85894646096015},{"$f":"Prevalence!AB154*BX155","v":948.70575479999263},{"$f":"Prevalence!AC154*BY155","v":288.48720742873638},{"$f":"Prevalence!AD154*BZ155","v":742.86107998850446},{"$f":"Prevalence!AE154*CA155","v":1631.5561186585455},{"$f":"Prevalence!AF154*CB155","v":978.05577909757847},{"$f":"Prevalence!AG154*CC155","v":1218.2648496230786},{"$f":"Prevalence!AH154*CD155","v":182.65921156299018},{"$f":"Prevalence!AI154*CE155","v":436.84792462826374},{"$f":"Prevalence!AJ154*CF155","v":674.94231839458075},{"$f":"Prevalence!AK154*CG155","v":394.59990210887349},{"$f":"Prevalence!AL154*CH155","v":1433.3074637517723},{"$f":"Prevalence!AM154*CI155","v":56.496779702062319},{"$f":"Prevalence!AN154*CJ155","v":420.10826484204205},{"$f":"Prevalence!AO154*CK155","v":775.9420883667068},{"$f":"Prevalence!AP154*CL155","v":697.07228090411741},{"$f":"Prevalence!AQ154*CM155","v":203.48565017691192},{"$f":"Prevalence!AR154*CN155","v":457.85340523508575},{"$f":"Prevalence!AS154*CO155","v":1757.2651052060896},{"$f":"Prevalence!AT154*CP155","v":249.00799232083608},{"$f":"Prevalence!AU154*CQ155","v":332.36316923542063},{"$f":"Prevalence!AV154*CR155","v":1054.5785838854836},154,38633,2146,1279,1804,2653,2287,4240,6402,3305,4909,6129,103,294,2422,660,1101,1766,976,998,569,1804,608,592,415,769,227,2885,660,1201,2653,2785,2307,343,748,1373,729,2553,103,838,1360,1279,294,825,2921,517,707,1727]
["Male 45-49",{"$f":"Prevalence!B155*AX156","v":22545.711563140012},{"$f":"Prevalence!C155*AY156","v":1535.0816777162652},{"$f":"Prevalence!D155*AZ156","v":858.00879403165447},{"$f":"Prevalence!E155*BA156","v":1117.2290851702119},{"$f":"Prevalence!F155*BB156","v":1792.4309176371837},{"$f":"Prevalence!G155*BC156","v":1397.9176943579218},{"$f":"Prevalence!H155*BD156","v":2788.3951707358233},{"$f":"Prevalence!I155*BE156","v":3054.0559831525538},{"$f":"Prevalence!J155*BF156","v":2184.8395397292079},{"$f":"Prevalence!K155*BG156","v":3238.1166323500997},{"$f":"Prevalence!L155*BH156","v":2697.627363794928},{"$f":"Prevalence!M155*BI156","v":88.126059638527906},{"$f":"Prevalence!N155*BJ156","v":260.4614771057449},{"$f":"Prevalence!O155*BK156","v":1430.7955809499249},{"$f":"Prevalence!P155*BL156","v":302.11498583414829},{"$f":"Prevalence!Q155*BM156","v":672.97259372641906},{"$f":"Prevalence!R155*BN156","v":1309.608042118645},{"$f":"Prevalence!S155*BO156","v":622.89156779651262},{"$f":"Prevalence!T155*BP156","v":576.00706425013357},{"$f":"Prevalence!U155*BQ156","v":353.92547298680063},{"$f":"Prevalence!V155*BR156","v":1117.2290851702121},{"$f":"Prevalence!W155*BS156","v":307.70122968541574},{"$f":"Prevalence!X155*BT156","v":446.7685497969423},{"$f":"Prevalence!Y155*BU156","v":231.75087509654674},{"$f":"Prevalence!Z155*BV156","v":422.37457275804906},{"$f":"Prevalence!AA155*BW156","v":145.27675242612781},{"$f":"Prevalence!AB155*BX156","v":918.01416490550525},{"$f":"Prevalence!AC155*BY156","v":302.11498583414817},{"$f":"Prevalence!AD155*BZ156","v":797.0106372211543},{"$f":"Prevalence!AE155*CA156","v":1792.4309176371837},{"$f":"Prevalence!AF155*CB156","v":953.13244654275468},{"$f":"Prevalence!AG155*CC156","v":1604.0303475488925},{"$f":"Prevalence!AH155*CD156","v":281.94251227377038},{"$f":"Prevalence!AI155*CE156","v":487.41765292354785},{"$f":"Prevalence!AJ155*CF156","v":752.1598229521245},{"$f":"Prevalence!AK155*CG156","v":472.18216695625216},{"$f":"Prevalence!AL155*CH156","v":1606.0438993281946},{"$f":"Prevalence!AM155*CI156","v":88.126059638527906},{"$f":"Prevalence!AN155*CJ156","v":536.24158928527015},{"$f":"Prevalence!AO155*CK156","v":971.41352404714621},{"$f":"Prevalence!AP155*CL156","v":858.00879403165447},{"$f":"Prevalence!AQ155*CM156","v":260.46147710574496},{"$f":"Prevalence!AR155*CN156","v":602.60618521917092},{"$f":"Prevalence!AS155*CO156","v":1944.7732450521607},{"$f":"Prevalence!AT155*CP156","v":266.94234855680645},{"$f":"Prevalence!AU155*CQ156","v":404.50880883700387},{"$f":"Prevalence!AV155*CR156","v":1081.1635041979562},155,40827,2493,1460,2202,2703,2274,4423,6537,3979,5161,5763,149,349,2693,641,1112,1892,1064,1162,565,2202,637,677,419,758,243,2589,641,1195,2703,2517,2817,491,774,1419,809,2653,149,992,1579,1460,349,1007,2998,514,798,1642]
["Male 50-54",{"$f":"Prevalence!B156*AX157","v":21169.565551546093},{"$f":"Prevalence!C156*AY157","v":1442.7181592014479},{"$f":"Prevalence!D156*AZ157","v":849.78131244504959},{"$f":"Prevalence!E156*BA157","v":1113.1701239161875},{"$f":"Prevalence!F156*BB157","v":1755.9589603785653},{"$f":"Prevalence!G156*BC157","v":1318.0015552785333},{"$f":"Prevalence!H156*BD157","v":2570.8965648339786},{"$f":"Prevalence!I156*BE157","v":2802.7048864818985},{"$f":"Prevalence!J156*BF157","v":2136.5193890641735},{"$f":"Prevalence!K156*BG157","v":2933.1903228515243},{"$f":"Prevalence!L156*BH157","v":2434.558375689297},{"$f":"Prevalence!M156*BI157","v":102.91231125573059},{"$f":"Prevalence!N156*BJ157","v":247.02793387392998},{"$f":"Prevalence!O156*BK157","v":1357.4759410794868},{"$f":"Prevalence!P156*BL157","v":309.18475929360574},{"$f":"Prevalence!Q156*BM157","v":615.47943149259731},{"$f":"Prevalence!R156*BN157","v":1245.9273127978652},{"$f":"Prevalence!S156*BO157","v":634.01463150716461},{"$f":"Prevalence!T156*BP157","v":576.00706425013357},{"$f":"Prevalence!U156*BQ157","v":303.81213167893503},{"$f":"Prevalence!V156*BR157","v":1113.1701239161878},{"$f":"Prevalence!W156*BS157","v":279.6844772179839},{"$f":"Prevalence!X156*BT157","v":374.83683350762664},{"$f":"Prevalence!Y156*BU157","v":194.1397545558184},{"$f":"Prevalence!Z156*BV157","v":435.19068776258086},{"$f":"Prevalence!AA156*BW157","v":147.66813929733979},{"$f":"Prevalence!AB156*BX157","v":813.76690168332743},{"$f":"Prevalence!AC156*BY157","v":309.18475929360562},{"$f":"Prevalence!AD156*BZ157","v":773.66722943643424},{"$f":"Prevalence!AE156*CA157","v":1755.9589603785653},{"$f":"Prevalence!AF156*CB157","v":836.87831023420256},{"$f":"Prevalence!AG156*CC157","v":1553.9221932768646},{"$f":"Prevalence!AH156*CD157","v":272.18075522966836},{"$f":"Prevalence!AI156*CE157","v":474.82288153017453},{"$f":"Prevalence!AJ156*CF157","v":668.40982152405138},{"$f":"Prevalence!AK156*CG157","v":470.43118240635255},{"$f":"Prevalence!AL156*CH157","v":1384.4788532844257},{"$f":"Prevalence!AM156*CI157","v":102.91231125573059},{"$f":"Prevalence!AN156*CJ157","v":482.72554358038934},{"$f":"Prevalence!AO156*CK157","v":855.75440908776466},{"$f":"Prevalence!AP156*CL157","v":849.78131244504959},{"$f":"Prevalence!AQ156*CM157","v":247.02793387393004},{"$f":"Prevalence!AR156*CN157","v":579.86632917316444},{"$f":"Prevalence!AS156*CO157","v":1894.1754087899631},{"$f":"Prevalence!AT156*CP157","v":259.15220219814478},{"$f":"Prevalence!AU156*CQ157","v":402.48119576012664},{"$f":"Prevalence!AV156*CR157","v":902.72543499110714},156,38335,2343,1446,2194,2648,2144,4078,5999,3891,4675,5201,174,331,2555,656,1017,1800,1083,1162,485,2194,579,568,351,781,247,2295,656,1160,2648,2210,2729,474,754,1261,806,2287,174,893,1391,1446,331,969,2920,499,794,1371]
["Male 55-59",{"$f":"Prevalence!B157*AX158","v":13202.723972385027},{"$f":"Prevalence!C157*AY158","v":930.93513491571821},{"$f":"Prevalence!D157*AZ158","v":528.82905846249514},{"$f":"Prevalence!E157*BA158","v":727.03977085018403},{"$f":"Prevalence!F157*BB158","v":1055.3419369218964},{"$f":"Prevalence!G157*BC158","v":745.87729110443502},{"$f":"Prevalence!H157*BD158","v":1717.5877097385919},{"$f":"Prevalence!I157*BE158","v":1698.583374136864},{"$f":"Prevalence!J157*BF158","v":1491.3012000980073},{"$f":"Prevalence!K157*BG158","v":1726.3327981329353},{"$f":"Prevalence!L157*BH158","v":1419.7069344514071},{"$f":"Prevalence!M157*BI158","v":65.161714669523647},{"$f":"Prevalence!N157*BJ158","v":175.05508639082268},{"$f":"Prevalence!O157*BK158","v":867.45100391030473},{"$f":"Prevalence!P157*BL158","v":198.32555001991503},{"$f":"Prevalence!Q157*BM158","v":423.71276069788161},{"$f":"Prevalence!R157*BN158","v":851.64772612808565},{"$f":"Prevalence!S157*BO158","v":391.56437229776679},{"$f":"Prevalence!T157*BP158","v":409.42139316626975},{"$f":"Prevalence!U157*BQ158","v":169.64109653964729},{"$f":"Prevalence!V157*BR158","v":727.03977085018414},{"$f":"Prevalence!W157*BS158","v":170.29982357352787},{"$f":"Prevalence!X157*BT158","v":241.57048755068794},{"$f":"Prevalence!Y157*BU158","v":112.04563488800311},{"$f":"Prevalence!Z157*BV158","v":262.59400701879377},{"$f":"Prevalence!AA157*BW158","v":99.437095138088267},{"$f":"Prevalence!AB157*BX158","v":470.80051137189935},{"$f":"Prevalence!AC157*BY158","v":198.32555001991497},{"$f":"Prevalence!AD157*BZ158","v":443.72590433815299},{"$f":"Prevalence!AE157*CA158","v":1055.3419369218964},{"$f":"Prevalence!AF157*CB158","v":503.33179713563476},{"$f":"Prevalence!AG157*CC158","v":1076.184649537194},{"$f":"Prevalence!AH157*CD158","v":166.93411657714884},{"$f":"Prevalence!AI157*CE158","v":309.74842723339049},{"$f":"Prevalence!AJ157*CF158","v":420.84641436674985},{"$f":"Prevalence!AK157*CG158","v":307.41283023524289},{"$f":"Prevalence!AL157*CH158","v":817.55407025461864},{"$f":"Prevalence!AM157*CI158","v":65.161714669523647},{"$f":"Prevalence!AN157*CJ158","v":330.4380074244371},{"$f":"Prevalence!AO157*CK158","v":496.31865475236447},{"$f":"Prevalence!AP157*CL158","v":528.82905846249514},{"$f":"Prevalence!AQ157*CM158","v":175.05508639082274},{"$f":"Prevalence!AR157*CN158","v":370.48019067437974},{"$f":"Prevalence!AS157*CO158","v":1149.0213612282832},{"$f":"Prevalence!AT157*CP158","v":143.96657975262536},{"$f":"Prevalence!AU157*CQ158","v":238.16024790062798},{"$f":"Prevalence!AV157*CR158","v":488.60898073539875},157,33636,2127,1266,2016,2239,1707,3833,5115,3821,3871,4267,155,330,2297,592,985,1731,941,1162,381,2016,496,515,285,663,234,1868,592,936,2239,1870,2659,409,692,1117,741,1900,155,860,1135,1266,330,871,2492,390,661,1044]
["Male 60-64",{"$f":"Prevalence!B158*AX159","v":12843.962832214975},{"$f":"Prevalence!C158*AY159","v":950.630518588124},{"$f":"Prevalence!D158*AZ159","v":574.77787080915743},{"$f":"Prevalence!E158*BA159","v":781.85626150952328},{"$f":"Prevalence!F158*BB159","v":1043.0869613256616},{"$f":"Prevalence!G158*BC159","v":746.31424323747808},{"$f":"Prevalence!H158*BD159","v":1702.8002340220842},{"$f":"Prevalence!I158*BE159","v":1459.1545153386862},{"$f":"Prevalence!J158*BF159","v":1587.312740329389},{"$f":"Prevalence!K158*BG159","v":1573.8125664198215},{"$f":"Prevalence!L158*BH159","v":1299.5958017265516},{"$f":"Prevalence!M158*BI159","v":55.912955168042878},{"$f":"Prevalence!N158*BJ159","v":180.89025593718344},{"$f":"Prevalence!O158*BK159","v":852.34519626711267},{"$f":"Prevalence!P158*BL159","v":220.43616877213529},{"$f":"Prevalence!Q158*BM159","v":409.94747304069159},{"$f":"Prevalence!R158*BN159","v":869.35963724340115},{"$f":"Prevalence!S158*BO159","v":414.4507064915789},{"$f":"Prevalence!T158*BP159","v":453.81648399152795},{"$f":"Prevalence!U158*BQ159","v":180.77240208686825},{"$f":"Prevalence!V158*BR159","v":781.85626150952339},{"$f":"Prevalence!W158*BS159","v":158.96939176319236},{"$f":"Prevalence!X158*BT159","v":227.49842031472554},{"$f":"Prevalence!Y158*BU159","v":109.29363683812234},{"$f":"Prevalence!Z158*BV159","v":232.88880260490308},{"$f":"Prevalence!AA158*BW159","v":81.589411395354475},{"$f":"Prevalence!AB158*BX159","v":391.91370191825672},{"$f":"Prevalence!AC158*BY159","v":220.4361687721352},{"$f":"Prevalence!AD158*BZ159","v":423.34106044227633},{"$f":"Prevalence!AE158*CA159","v":1043.0869613256616},{"$f":"Prevalence!AF158*CB159","v":398.08969409818388},{"$f":"Prevalence!AG158*CC159","v":1124.7525915997978},{"$f":"Prevalence!AH158*CD159","v":135.50642225822352},{"$f":"Prevalence!AI158*CE159","v":329.89102727024391},{"$f":"Prevalence!AJ158*CF159","v":406.90611236892556},{"$f":"Prevalence!AK158*CG159","v":317.78438321214043},{"$f":"Prevalence!AL158*CH159","v":780.97928290112247},{"$f":"Prevalence!AM158*CI159","v":55.912955168042878},{"$f":"Prevalence!AN158*CJ159","v":306.61573247058232},{"$f":"Prevalence!AO158*CK159","v":483.63738515957277},{"$f":"Prevalence!AP158*CL159","v":574.77787080915743},{"$f":"Prevalence!AQ158*CM159","v":180.89025593718347},{"$f":"Prevalence!AR158*CN159","v":391.74771023088834},{"$f":"Prevalence!AS158*CO159","v":972.42618412136812},{"$f":"Prevalence!AT158*CP159","v":150.98033620211226},{"$f":"Prevalence!AU158*CQ159","v":220.50540350254815},{"$f":"Prevalence!AV158*CR159","v":480.18468796409871},158,32722,2172,1376,2168,2213,1708,3800,4394,4067,3529,3906,133,341,2257,658,953,1767,996,1288,406,2168,463,485,278,588,192,1555,658,893,2213,1479,2779,332,737,1080,766,1815,133,798,1106,1376,341,921,2109,409,612,1026]
["Male 65-69",null,null,null,null,null,null,null,null,null,null,null,null,null,null,null,null,null,null,null,null,null,null,null,null,null,null,null,null,null,null,null,null,null,null,null,null,null,null,null,null,null,null,null,null,null,null,null,159]
["Male 70-74",null,null,null,null,null,null,null,null,null,null,null,null,null,null,null,null,null,null,null,null,null,null,null,null,null,null,null,null,null,null,null,null,null,null,null,null,null,null,null,null,null,null,null,null,null,null,null,160]
["Male 75-79",null,null,null,null,null,null,null,null,null,null,null,null,null,null,null,null,null,null,null,null,null,null,null,null,null,null,null,null,null,null,null,null,null,null,null,null,null,null,null,null,null,null,null,null,null,null,null,161]
["Male 80-84",null,null,null,null,null,null,null,null,null,null,null,null,null,null,null,null,null,null,null,null,null,null,null,null,null,null,null,null,null,null,null,null,null,null,null,null,null,null,null,null,null,null,null,null,null,null,null,162]
["Male 85-89",null,null,null,null,null,null,null,null,null,null,null,null,null,null,null,null,null,null,null,null,null,null,null,null,null,null,null,null,null,null,null,null,null,null,null,null,null,null,null,null,null,null,null,null,null,null,null,163]
["Male 90+",null,null,null,null,null,null,null,null,null,null,null,null,null,null,null,null,null,null,null,null,null,null,null,null,null,null,null,null,null,null,null,null,null,null,null,null,null,null,null,null,null,null,null,null,null,null,null,164]
["Female <1",null,null,null,null,null,null,null,null,null,null,null,null,null,null,null,null,null,null,null,null,null,null,null,null,null,null,null,null,null,null,null,null,null,null,null,null,null,null,null,null,null,null,null,null,null,null,null,165]
["Female 1-4",null,null,null,null,null,null,null,null,null,null,null,null,null,null,null,null,null,null,null,null,null,null,null,null,null,null,null,null,null,null,null,null,null,null,null,null,null,null,null,null,null,null,null,null,null,null,null,166]
["Female 5-9",null,null,null,null,null,null,null,null,null,null,null,null,null,null,null,null,null,null,null,null,null,null,null,null,null,null,null,null,null,null,null,null,null,null,null,null,null,null,null,null,null,null,null,null,null,null,null,167]
["Female 10-14",null,null,null,null,null,null,null,null,null,null,null,null,null,null,null,null,null,null,null,null,null,null,null,null,null,null,null,null,null,null,null,null,null,null,null,null,null,null,null,null,null,null,null,null,null,null,null,168]
["Female 15-19 (16+)",{"$f":"Prevalence!B169*AX170","v":6382.2842592520728},{"$f":"Prevalence!C169*AY170","v":371.86448094597438},{"$f":"Prevalence!D169*AZ170","v":227.93704975289623},{"$f":"Prevalence!E169*BA170","v":361.05554023688131},{"$f":"Prevalence!F169*BB170","v":462.85204649512883},{"$f":"Prevalence!G169*BC170","v":363.31577295758751},{"$f":"Prevalence!H169*BD170","v":904.15532761122859},{"$f":"Prevalence!I169*BE170","v":942.88085497728434},{"$f":"Prevalence!J169*BF170","v":613.96013513961486},{"$f":"Prevalence!K169*BG170","v":870.39486028222882},{"$f":"Prevalence!L169*BH170","v":723.71807811016254},{"$f":"Prevalence!M169*BI170","v":20.238277195615346},{"$f":"Prevalence!N169*BJ170","v":78.769992288324929},{"$f":"Prevalence!O169*BK170","v":452.31458692255791},{"$f":"Prevalence!P169*BL170","v":150.04915891045297},{"$f":"Prevalence!Q169*BM170","v":242.951463837478},{"$f":"Prevalence!R169*BN170","v":390.62434430272276},{"$f":"Prevalence!S169*BO170","v":184.17243062359589},{"$f":"Prevalence!T169*BP170","v":193.61126304929272},{"$f":"Prevalence!U169*BQ170","v":90.143619320035924},{"$f":"Prevalence!V169*BR170","v":361.05554023688143},{"$f":"Prevalence!W169*BS170","v":162.93230542371435},{"$f":"Prevalence!X169*BT170","v":99.525517703237099},{"$f":"Prevalence!Y169*BU170","v":71.33661252874974},{"$f":"Prevalence!Z169*BV170","v":185.09633207984723},{"$f":"Prevalence!AA169*BW170","v":47.719682852538305},{"$f":"Prevalence!AB169*BX170","v":201.4744920435358},{"$f":"Prevalence!AC169*BY170","v":150.04915891045303},{"$f":"Prevalence!AD169*BZ170","v":190.1855265202307},{"$f":"Prevalence!AE169*CA170","v":462.85204649512883},{"$f":"Prevalence!AF169*CB170","v":347.37469219358002},{"$f":"Prevalence!AG169*CC170","v":420.58955878974189},{"$f":"Prevalence!AH169*CD170","v":74.581643921075013},{"$f":"Prevalence!AI169*CE170","v":140.92109139904323},{"$f":"Prevalence!AJ169*CF170","v":265.34409260290772},{"$f":"Prevalence!AK169*CG170","v":115.77333614135914},{"$f":"Prevalence!AL169*CH170","v":430.04275652129519},{"$f":"Prevalence!AM169*CI170","v":20.238277195615343},{"$f":"Prevalence!AN169*CJ170","v":115.90324163908905},{"$f":"Prevalence!AO169*CK170","v":228.26262365403196},{"$f":"Prevalence!AP169*CL170","v":227.93704975289623},{"$f":"Prevalence!AQ169*CM170","v":78.769992288324929},{"$f":"Prevalence!AR169*CN170","v":160.08822439839739},{"$f":"Prevalence!AS169*CO170","v":527.8783555219137},{"$f":"Prevalence!AT169*CP170","v":84.969573060333872},{"$f":"Prevalence!AU169*CQ170","v":110.30966874273867},{"$f":"Prevalence!AV169*CR170","v":299.39634971519013},169,24634,1433,820,1293,1608,1295,2999,4196,2173,2911,3373,72,222,1837,402,935,1153,624,694,306,1293,700,370,221,706,153,1254,402,638,1608,1971,1479,269,468,911,495,1511,72,513,866,820,222,568,1682,351,434,945]
["Female 20-24",{"$f":"Prevalence!B170*AX171","v":9535.6000715179234},{"$f":"Prevalence!C170*AY171","v":377.57349600585673},{"$f":"Prevalence!D170*AZ171","v":221.5436934793394},{"$f":"Prevalence!E170*BA171","v":371.3873693078516},{"$f":"Prevalence!F170*BB171","v":610.51566580607471},{"$f":"Prevalence!G170*BC171","v":555.77493917295817},{"$f":"Prevalence!H170*BD171","v":1424.2179952102181},{"$f":"Prevalence!I170*BE171","v":1863.7401837897037},{"$f":"Prevalence!J170*BF171","v":587.9664248621898},{"$f":"Prevalence!K170*BG171","v":1064.7461688303047},{"$f":"Prevalence!L170*BH171","v":1535.6211933099416},{"$f":"Prevalence!M170*BI171","v":26.422195227608924},{"$f":"Prevalence!N170*BJ171","v":81.608550568985294},{"$f":"Prevalence!O170*BK171","v":658.15835103102734},{"$f":"Prevalence!P170*BL171","v":114.58978056096782},{"$f":"Prevalence!Q170*BM171","v":636.35094645773654},{"$f":"Prevalence!R170*BN171","v":454.31677858625432},{"$f":"Prevalence!S170*BO171","v":206.30854007354731},{"$f":"Prevalence!T170*BP171","v":160.97074752080965},{"$f":"Prevalence!U170*BQ171","v":89.849032328793982},{"$f":"Prevalence!V170*BR171","v":371.38736930785177},{"$f":"Prevalence!W170*BS171","v":314.92487034040789},{"$f":"Prevalence!X170*BT171","v":102.48438444576577},{"$f":"Prevalence!Y170*BU171","v":94.577499868432923},{"$f":"Prevalence!Z170*BV171","v":232.28803147697542},{"$f":"Prevalence!AA170*BW171","v":56.140803355927417},{"$f":"Prevalence!AB170*BX171","v":736.97248405398614},{"$f":"Prevalence!AC170*BY171","v":114.58978056096785},{"$f":"Prevalence!AD170*BZ171","v":238.77524567822067},{"$f":"Prevalence!AE170*CA171","v":610.51566580607471},{"$f":"Prevalence!AF170*CB171","v":937.0833274445788},{"$f":"Prevalence!AG170*CC171","v":427.6989157672561},{"$f":"Prevalence!AH170*CD171","v":102.30716210734826},{"$f":"Prevalence!AI170*CE171","v":165.31128029503148},{"$f":"Prevalence!AJ170*CF171","v":272.04322995731701},{"$f":"Prevalence!AK170*CG171","v":117.87830588938384},{"$f":"Prevalence!AL170*CH171","v":515.9943862164846},{"$f":"Prevalence!AM170*CI171","v":26.42219522760892},{"$f":"Prevalence!AN170*CJ171","v":140.30392408942359},{"$f":"Prevalence!AO170*CK171","v":301.01145059226849},{"$f":"Prevalence!AP170*CL171","v":221.5436934793394},{"$f":"Prevalence!AQ170*CM171","v":81.608550568985294},{"$f":"Prevalence!AR170*CN171","v":160.65191532937766},{"$f":"Prevalence!AS170*CO171","v":675.06916927921304},{"$f":"Prevalence!AT170*CP171","v":211.81873626151608},{"$f":"Prevalence!AU170*CQ171","v":149.96014875164934},{"$f":"Prevalence!AV170*CR171","v":359.59244119231829},170,36805,1455,797,1330,2121,1981,4724,8294,2081,3561,7157,94,230,2673,307,2449,1341,699,577,305,1330,1353,381,293,886,180,4587,307,801,2121,5317,1504,369,549,934,504,1813,94,621,1142,797,230,570,2151,875,590,1135]
["Female 25-29",{"$f":"Prevalence!B171*AX172","v":18078.496780795227},{"$f":"Prevalence!C171*AY172","v":680.1116792072695},{"$f":"Prevalence!D171*AZ172","v":454.869421873698},{"$f":"Prevalence!E171*BA172","v":693.02008838577899},{"$f":"Prevalence!F171*BB172","v":1248.1289762193405},{"$f":"Prevalence!G171*BC172","v":965.09562301480014},{"$f":"Prevalence!H171*BD172","v":2547.7308646626693},{"$f":"Prevalence!I171*BE172","v":3309.4019608013768},{"$f":"Prevalence!J171*BF172","v":1263.8844176653554},{"$f":"Prevalence!K171*BG172","v":2141.383844054872},{"$f":"Prevalence!L171*BH172","v":3168.4228995863909},{"$f":"Prevalence!M171*BI172","v":53.337165805984874},{"$f":"Prevalence!N171*BJ172","v":142.6556967448347},{"$f":"Prevalence!O171*BK172","v":1081.5421803533354},{"$f":"Prevalence!P171*BL172","v":260.86629468141268},{"$f":"Prevalence!Q171*BM172","v":1000.2703256137888},{"$f":"Prevalence!R171*BN172","v":877.09519812719384},{"$f":"Prevalence!S171*BO172","v":446.93317146907259},{"$f":"Prevalence!T171*BP172","v":368.98721979073122},{"$f":"Prevalence!U171*BQ172","v":210.86575628419598},{"$f":"Prevalence!V171*BR172","v":693.02008838577899},{"$f":"Prevalence!W171*BS172","v":362.08206779771569},{"$f":"Prevalence!X171*BT172","v":165.25248209990508},{"$f":"Prevalence!Y171*BU172","v":125.53304743617296},{"$f":"Prevalence!Z171*BV172","v":316.71716551556057},{"$f":"Prevalence!AA171*BW172","v":93.754822924952322},{"$f":"Prevalence!AB171*BX172","v":1601.008235106041},{"$f":"Prevalence!AC171*BY172","v":260.86629468141274},{"$f":"Prevalence!AD171*BZ172","v":524.20378283451134},{"$f":"Prevalence!AE171*CA172","v":1248.1289762193405},{"$f":"Prevalence!AF171*CB172","v":1600.9418090716883},{"$f":"Prevalence!AG171*CC172","v":895.9646871455584},{"$f":"Prevalence!AH171*CD172","v":150.53761528693363},{"$f":"Prevalence!AI171*CE172","v":319.06323655525892},{"$f":"Prevalence!AJ171*CF172","v":586.06803444365005},{"$f":"Prevalence!AK171*CG172","v":201.68962206151167},{"$f":"Prevalence!AL171*CH172","v":1045.8840512917684},{"$f":"Prevalence!AM171*CI172","v":53.33716580598486},{"$f":"Prevalence!AN171*CJ172","v":298.82600867714234},{"$f":"Prevalence!AO171*CK172","v":630.8903116066366},{"$f":"Prevalence!AP171*CL172","v":454.869421873698},{"$f":"Prevalence!AQ171*CM172","v":142.6556967448347},{"$f":"Prevalence!AR171*CN172","v":322.47485937291486},{"$f":"Prevalence!AS171*CO172","v":1383.8482555603341},{"$f":"Prevalence!AT171*CP172","v":233.76901990062944},{"$f":"Prevalence!AU171*CQ172","v":278.39403334450429},{"$f":"Prevalence!AV171*CR172","v":802.96045940397869},171,37141,1395,871,1321,2308,1831,4498,7839,2381,3812,7860,101,214,2338,372,2049,1378,806,704,381,1321,828,327,207,643,160,5304,372,936,2308,4835,1677,289,564,1071,459,1956,101,704,1274,871,214,609,2347,514,583,1349]
["Female 30-34",{"$f":"Prevalence!B172*AX173","v":17158.533427204773},{"$f":"Prevalence!C172*AY173","v":745.44140323148031},{"$f":"Prevalence!D172*AZ173","v":455.91389815813818},{"$f":"Prevalence!E172*BA173","v":687.24929279740388},{"$f":"Prevalence!F172*BB173","v":1314.1045980125639},{"$f":"Prevalence!G172*BC173","v":999.35625408850956},{"$f":"Prevalence!H172*BD173","v":2201.0854024186601},{"$f":"Prevalence!I172*BE173","v":2947.1788606141613},{"$f":"Prevalence!J172*BF173","v":1330.7678433796916},{"$f":"Prevalence!K172*BG173","v":2275.6416454003902},{"$f":"Prevalence!L172*BH173","v":2778.6181993446557},{"$f":"Prevalence!M172*BI173","v":52.809075055430569},{"$f":"Prevalence!N172*BJ173","v":173.98662079627036},{"$f":"Prevalence!O172*BK173","v":965.43136458400807},{"$f":"Prevalence!P172*BL173","v":313.46030570589102},{"$f":"Prevalence!Q172*BM173","v":674.65768179514691},{"$f":"Prevalence!R172*BN173","v":908.92013274719363},{"$f":"Prevalence!S172*BO173","v":464.12290883326767},{"$f":"Prevalence!T172*BP173","v":366.36657192289931},{"$f":"Prevalence!U172*BQ173","v":219.16755771270763},{"$f":"Prevalence!V172*BR173","v":687.24929279740388},{"$f":"Prevalence!W172*BS173","v":258.00533816503895},{"$f":"Prevalence!X172*BT173","v":180.41326027420828},{"$f":"Prevalence!Y172*BU173","v":147.36488177289871},{"$f":"Prevalence!Z172*BV173","v":297.507259675581},{"$f":"Prevalence!AA172*BW173","v":103.71627286072849},{"$f":"Prevalence!AB172*BX173","v":1273.1999878727906},{"$f":"Prevalence!AC172*BY173","v":313.46030570589113},{"$f":"Prevalence!AD172*BZ173","v":572.36780561631474},{"$f":"Prevalence!AE172*CA173","v":1314.1045980125639},{"$f":"Prevalence!AF172*CB173","v":1229.761712283816},{"$f":"Prevalence!AG172*CC173","v":965.95358041691679},{"$f":"Prevalence!AH172*CD173","v":167.72703156537241},{"$f":"Prevalence!AI172*CE173","v":371.67472768937074},{"$f":"Prevalence!AJ172*CF173","v":588.804113035824},{"$f":"Prevalence!AK172*CG173","v":226.29663477489871},{"$f":"Prevalence!AL172*CH173","v":1196.1363101941133},{"$f":"Prevalence!AM172*CI173","v":52.809075055430554},{"$f":"Prevalence!AN172*CJ173","v":280.14938313482094},{"$f":"Prevalence!AO172*CK173","v":642.28001110973912},{"$f":"Prevalence!AP172*CL173","v":455.91389815813818},{"$f":"Prevalence!AQ172*CM173","v":173.98662079627036},{"$f":"Prevalence!AR172*CN173","v":347.89159705747954},{"$f":"Prevalence!AS172*CO173","v":1442.2210622499263},{"$f":"Prevalence!AT172*CP173","v":217.39609243677211},{"$f":"Prevalence!AU172*CQ173","v":284.60179052028224},{"$f":"Prevalence!AV172*CR173","v":841.65017761099023},172,35251,1529,873,1310,2430,1896,3886,6981,2507,4051,6893,100,261,2087,447,1382,1428,837,699,396,1310,590,357,243,604,177,4218,447,1022,2430,3714,1808,322,657,1076,515,2237,100,660,1297,873,261,657,2446,478,596,1414]
["Female 35-39",{"$f":"Prevalence!B173*AX174","v":17796.815905253876},{"$f":"Prevalence!C173*AY174","v":950.27539445102059},{"$f":"Prevalence!D173*AZ174","v":571.93382007399191},{"$f":"Prevalence!E173*BA174","v":866.12321671820155},{"$f":"Prevalence!F173*BB174","v":1373.0106903086403},{"$f":"Prevalence!G173*BC174","v":1106.5281894808863},{"$f":"Prevalence!H173*BD174","v":2291.8692875857409},{"$f":"Prevalence!I173*BE174","v":2631.9872797688913},{"$f":"Prevalence!J173*BF174","v":1620.0517863878172},{"$f":"Prevalence!K173*BG174","v":2494.6841934476465},{"$f":"Prevalence!L173*BH174","v":2551.1374449522868},{"$f":"Prevalence!M173*BI174","v":50.366238294838546},{"$f":"Prevalence!N173*BJ174","v":186.34906956459989},{"$f":"Prevalence!O173*BK174","v":1017.7896488277936},{"$f":"Prevalence!P173*BL174","v":386.68267746931218},{"$f":"Prevalence!Q173*BM174","v":535.16429309812065},{"$f":"Prevalence!R173*BN174","v":1061.3006548156666},{"$f":"Prevalence!S173*BO174","v":508.18931237874415},{"$f":"Prevalence!T173*BP174","v":475.75208932114697},{"$f":"Prevalence!U173*BQ174","v":245.11740468026406},{"$f":"Prevalence!V173*BR174","v":866.12321671820166},{"$f":"Prevalence!W173*BS174","v":246.40612632295091},{"$f":"Prevalence!X173*BT174","v":243.76122150322348},{"$f":"Prevalence!Y173*BU174","v":171.52172459336037},{"$f":"Prevalence!Z173*BV174","v":342.88308149020037},{"$f":"Prevalence!AA173*BW174","v":119.48084401452689},{"$f":"Prevalence!AB173*BX174","v":996.0204339975661},{"$f":"Prevalence!AC173*BY174","v":386.6826774693123},{"$f":"Prevalence!AD173*BZ174","v":625.61937239280132},{"$f":"Prevalence!AE173*CA174","v":1373.0106903086403},{"$f":"Prevalence!AF173*CB174","v":943.40255895270479},{"$f":"Prevalence!AG173*CC174","v":1145.6141871344867},{"$f":"Prevalence!AH173*CD174","v":175.30619640670645},{"$f":"Prevalence!AI173*CE174","v":405.58988259060931},{"$f":"Prevalence!AJ173*CF174","v":701.86910797452583},{"$f":"Prevalence!AK173*CG174","v":295.28612691441413},{"$f":"Prevalence!AL173*CH174","v":1299.5472827049803},{"$f":"Prevalence!AM173*CI174","v":50.366238294838539},{"$f":"Prevalence!AN173*CJ174","v":305.71926506125374},{"$f":"Prevalence!AO173*CK174","v":644.92999075124351},{"$f":"Prevalence!AP173*CL174","v":571.93382007399191},{"$f":"Prevalence!AQ173*CM174","v":186.34906956459989},{"$f":"Prevalence!AR173*CN174","v":420.85091749621972},{"$f":"Prevalence!AS173*CO174","v":1540.320607343968},{"$f":"Prevalence!AT173*CP174","v":245.30174753296725},{"$f":"Prevalence!AU173*CQ174","v":314.09015294604927},{"$f":"Prevalence!AV173*CR174","v":961.81466774478884},173,33352,1778,999,1506,2316,1915,3691,5687,2784,4051,5773,87,255,2007,503,1000,1521,836,828,404,1506,514,440,258,635,186,3010,503,1019,2316,2599,1956,307,654,1170,613,2217,87,657,1188,999,255,725,2383,492,600,1474]
["Female 40-44",{"$f":"Prevalence!B174*AX175","v":21519.248975386134},{"$f":"Prevalence!C174*AY175","v":1281.1080542739576},{"$f":"Prevalence!D174*AZ175","v":828.98916062776811},{"$f":"Prevalence!E174*BA175","v":1138.1526201097747},{"$f":"Prevalence!F174*BB175","v":1629.7091483844783},{"$f":"Prevalence!G174*BC175","v":1317.4330402174521},{"$f":"Prevalence!H174*BD175","v":2688.0255068975002},{"$f":"Prevalence!I174*BE175","v":3154.9599588859733},{"$f":"Prevalence!J174*BF175","v":2112.3520059582529},{"$f":"Prevalence!K174*BG175","v":3189.9442414363884},{"$f":"Prevalence!L174*BH175","v":2614.7722608319214},{"$f":"Prevalence!M174*BI175","v":64.260372996862969},{"$f":"Prevalence!N174*BJ175","v":226.54200613735671},{"$f":"Prevalence!O174*BK175","v":1278.9563997726434},{"$f":"Prevalence!P174*BL175","v":506.60812018345274},{"$f":"Prevalence!Q174*BM175","v":550.6840575979661},{"$f":"Prevalence!R174*BN175","v":1305.5184254833084},{"$f":"Prevalence!S174*BO175","v":623.07900142130711},{"$f":"Prevalence!T174*BP175","v":642.9548163651732},{"$f":"Prevalence!U174*BQ175","v":302.14967210587008},{"$f":"Prevalence!V174*BR175","v":1138.1526201097749},{"$f":"Prevalence!W174*BS175","v":262.22597490010537},{"$f":"Prevalence!X174*BT175","v":344.03572398523136},{"$f":"Prevalence!Y174*BU175","v":267.91959306637295},{"$f":"Prevalence!Z174*BV175","v":459.51732653253629},{"$f":"Prevalence!AA174*BW175","v":174.08230498890745},{"$f":"Prevalence!AB174*BX175","v":831.23034225976278},{"$f":"Prevalence!AC174*BY175","v":506.60812018345291},{"$f":"Prevalence!AD174*BZ175","v":779.72188708425688},{"$f":"Prevalence!AE174*CA175","v":1629.7091483844783},{"$f":"Prevalence!AF174*CB175","v":975.70837955554839},{"$f":"Prevalence!AG174*CC175","v":1470.6734273490265},{"$f":"Prevalence!AH174*CD175","v":248.9690606948665},{"$f":"Prevalence!AI174*CE175","v":512.25878137590712},{"$f":"Prevalence!AJ174*CF175","v":857.24013273127991},{"$f":"Prevalence!AK174*CG175","v":386.81037506080673},{"$f":"Prevalence!AL174*CH175","v":1588.5309590124027},{"$f":"Prevalence!AM174*CI175","v":64.260372996862969},{"$f":"Prevalence!AN174*CJ175","v":442.05982010379154},{"$f":"Prevalence!AO174*CK175","v":891.39313536493421},{"$f":"Prevalence!AP174*CL175","v":828.98916062776811},{"$f":"Prevalence!AQ174*CM175","v":226.54200613735671},{"$f":"Prevalence!AR174*CN175","v":564.81095548113342},{"$f":"Prevalence!AS174*CO175","v":1974.6871403423511},{"$f":"Prevalence!AT174*CP175","v":255.2733632863399},{"$f":"Prevalence!AU174*CQ175","v":414.59900188878504},{"$f":"Prevalence!AV174*CR175","v":1127.5547800970116},174,40328,2397,1448,1979,2749,2280,4329,6817,3630,5180,5917,111,310,2522,659,1029,1871,1025,1119,498,1979,547,621,403,851,271,2512,659,1270,2749,2688,2511,436,826,1429,803,2710,111,950,1642,1448,310,973,3055,512,792,1728]
["Female 45-49",{"$f":"Prevalence!B175*AX176","v":21629.954176619878},{"$f":"Prevalence!C175*AY176","v":1331.5605448208073},{"$f":"Prevalence!D175*AZ176","v":824.09611759671407},{"$f":"Prevalence!E175*BA176","v":1318.9212615596994},{"$f":"Prevalence!F175*BB176","v":1641.7371625313101},{"$f":"Prevalence!G175*BC176","v":1281.7905817583564},{"$f":"Prevalence!H175*BD176","v":2744.7075758531159},{"$f":"Prevalence!I175*BE176","v":3028.3388283255126},{"$f":"Prevalence!J175*BF176","v":2385.342668023457},{"$f":"Prevalence!K175*BG176","v":3162.061896039645},{"$f":"Prevalence!L175*BH176","v":2390.1799786004881},{"$f":"Prevalence!M175*BI176","v":87.953500311385596},{"$f":"Prevalence!N175*BJ176","v":224.15762109100288},{"$f":"Prevalence!O175*BK176","v":1344.3835846071952},{"$f":"Prevalence!P175*BL176","v":467.17499320339851},{"$f":"Prevalence!Q175*BM176","v":549.58409957438619},{"$f":"Prevalence!R175*BN176","v":1369.3926751191891},{"$f":"Prevalence!S175*BO176","v":627.76819475380148},{"$f":"Prevalence!T175*BP176","v":739.78704554996023},{"$f":"Prevalence!U175*BQ176","v":305.11970164820548},{"$f":"Prevalence!V175*BR176","v":1318.9212615596996},{"$f":"Prevalence!W175*BS176","v":302.85136090982621},{"$f":"Prevalence!X175*BT176","v":340.39923611270149},{"$f":"Prevalence!Y175*BU176","v":217.34723689933102},{"$f":"Prevalence!Z175*BV176","v":416.41127226219351},{"$f":"Prevalence!AA175*BW176","v":164.91963942364103},{"$f":"Prevalence!AB175*BX176","v":742.64007637124428},{"$f":"Prevalence!AC175*BY176","v":467.17499320339863},{"$f":"Prevalence!AD175*BZ176","v":717.86926015377912},{"$f":"Prevalence!AE175*CA176","v":1641.7371625313101},{"$f":"Prevalence!AF175*CB176","v":905.39172282411437},{"$f":"Prevalence!AG175*CC176","v":1646.7310662622588},{"$f":"Prevalence!AH175*CD176","v":288.26636556720649},{"$f":"Prevalence!AI175*CE176","v":521.19060076390656},{"$f":"Prevalence!AJ175*CF176","v":858.31949138236996},{"$f":"Prevalence!AK175*CG176","v":411.31193577945788},{"$f":"Prevalence!AL175*CH176","v":1524.6474771265919},{"$f":"Prevalence!AM175*CI176","v":87.953500311385568},{"$f":"Prevalence!AN175*CJ176","v":459.07175785944065},{"$f":"Prevalence!AO175*CK176","v":862.86879569064922},{"$f":"Prevalence!AP175*CL176","v":824.09611759671407},{"$f":"Prevalence!AQ175*CM176","v":224.15762109100288},{"$f":"Prevalence!AR175*CN176","v":593.89227648325345},{"$f":"Prevalence!AS175*CO176","v":1995.1148143923072},{"$f":"Prevalence!AT175*CP176","v":272.30753117117195},{"$f":"Prevalence!AU175*CQ176","v":428.35950533317066},{"$f":"Prevalence!AV175*CR176","v":1013.3097387480718},175,42156,2591,1497,2385,2880,2307,4597,6805,4263,5340,5625,158,319,2757,632,1068,2041,1074,1339,523,2385,657,639,340,802,267,2334,632,1216,2880,2594,2924,525,874,1488,888,2705,158,1026,1653,1497,319,1064,3210,568,851,1615]
["Female 50-54",{"$f":"Prevalence!B176*AX177","v":20212.790939220122},{"$f":"Prevalence!C176*AY177","v":1290.4471354863169},{"$f":"Prevalence!D176*AZ177","v":806.48016852317039},{"$f":"Prevalence!E176*BA177","v":1230.9931774557194},{"$f":"Prevalence!F176*BB177","v":1513.4764467085515},{"$f":"Prevalence!G176*BC177","v":1142.8882647060855},{"$f":"Prevalence!H176*BD177","v":2440.8015162252636},{"$f":"Prevalence!I176*BE177","v":2843.2118698268482},{"$f":"Prevalence!J176*BF177","v":2286.3031061561919},{"$f":"Prevalence!K176*BG177","v":2927.5719127378284},{"$f":"Prevalence!L176*BH177","v":2203.6397100483791},{"$f":"Prevalence!M176*BI177","v":71.810136330181905},{"$f":"Prevalence!N176*BJ177","v":217.83342488467363},{"$f":"Prevalence!O176*BK177","v":1333.6558229599852},{"$f":"Prevalence!P176*BL177","v":453.13017536975201},{"$f":"Prevalence!Q176*BM177","v":517.67940465527386},{"$f":"Prevalence!R176*BN177","v":1222.4563714194819},{"$f":"Prevalence!S176*BO177","v":665.1771002139908},{"$f":"Prevalence!T176*BP177","v":687.85277946952988},{"$f":"Prevalence!U176*BQ177","v":263.11469492034541},{"$f":"Prevalence!V176*BR177","v":1230.9931774557197},{"$f":"Prevalence!W176*BS177","v":299.62463408125882},{"$f":"Prevalence!X176*BT177","v":319.09098972067011},{"$f":"Prevalence!Y176*BU177","v":221.18277637402508},{"$f":"Prevalence!Z176*BV177","v":422.64186486462035},{"$f":"Prevalence!AA176*BW177","v":167.3903456322349},{"$f":"Prevalence!AB176*BX177","v":692.36709776513612},{"$f":"Prevalence!AC176*BY177","v":453.13017536975218},{"$f":"Prevalence!AD176*BZ177","v":658.24360614429588},{"$f":"Prevalence!AE176*CA177","v":1513.4764467085515},{"$f":"Prevalence!AF176*CB177","v":830.00058476320112},{"$f":"Prevalence!AG176*CC177","v":1599.987332165211},{"$f":"Prevalence!AH176*CD177","v":301.99333535612107},{"$f":"Prevalence!AI176*CE177","v":459.1724972405126},{"$f":"Prevalence!AJ176*CF177","v":726.80279512216805},{"$f":"Prevalence!AK176*CG177","v":393.710749338445},{"$f":"Prevalence!AL176*CH177","v":1386.5555614533887},{"$f":"Prevalence!AM176*CI177","v":71.810136330181891},{"$f":"Prevalence!AN176*CJ177","v":423.72412738098467},{"$f":"Prevalence!AO176*CK177","v":742.28640500429719},{"$f":"Prevalence!AP176*CL177","v":806.48016852317039},{"$f":"Prevalence!AQ176*CM177","v":217.83342488467363},{"$f":"Prevalence!AR176*CN177","v":592.77593761768344},{"$f":"Prevalence!AS176*CO177","v":1921.1526141079817},{"$f":"Prevalence!AT176*CP177","v":235.39260176944617},{"$f":"Prevalence!AU176*CQ177","v":410.23853918511645},{"$f":"Prevalence!AV176*CR177","v":894.72426467786397},176,39394,2511,1465,2226,2655,2057,4088,6389,4086,4944,5186,129,310,2735,613,1006,1822,1138,1245,451,2226,650,599,346,814,271,2176,613,1115,2655,2378,2841,550,770,1260,850,2460,129,947,1422,1465,310,1062,3091,491,815,1426]
["Female 55-59",{"$f":"Prevalence!B177*AX178","v":10476.092712013498},{"$f":"Prevalence!C177*AY178","v":683.2367147768872},{"$f":"Prevalence!D177*AZ178","v":425.93727612680254},{"$f":"Prevalence!E177*BA178","v":691.16298538292199},{"$f":"Prevalence!F177*BB178","v":807.56631680055125},{"$f":"Prevalence!G177*BC178","v":580.07926250893922},{"$f":"Prevalence!H177*BD178","v":1360.5646102080643},{"$f":"Prevalence!I177*BE178","v":1404.713288990667},{"$f":"Prevalence!J177*BF178","v":1273.1154581809697},{"$f":"Prevalence!K177*BG178","v":1452.9677937976512},{"$f":"Prevalence!L177*BH178","v":1040.9122861824578},{"$f":"Prevalence!M177*BI178","v":39.479114001757594},{"$f":"Prevalence!N177*BJ178","v":128.26376974822549},{"$f":"Prevalence!O177*BK178","v":672.37668478260582},{"$f":"Prevalence!P177*BL178","v":264.27078297200336},{"$f":"Prevalence!Q177*BM178","v":298.54168102649072},{"$f":"Prevalence!R177*BN178","v":697.76127407241358},{"$f":"Prevalence!S177*BO178","v":344.54385487172453},{"$f":"Prevalence!T177*BP178","v":394.72038336461753},{"$f":"Prevalence!U177*BQ178","v":136.33461662483867},{"$f":"Prevalence!V177*BR178","v":691.1629853829221},{"$f":"Prevalence!W177*BS178","v":137.73325305202397},{"$f":"Prevalence!X177*BT178","v":173.41524413457179},{"$f":"Prevalence!Y177*BU178","v":127.46203631515759},{"$f":"Prevalence!Z177*BV178","v":197.9992177333786},{"$f":"Prevalence!AA177*BW178","v":81.507673744190186},{"$f":"Prevalence!AB177*BX178","v":327.2027079683192},{"$f":"Prevalence!AC177*BY178","v":264.27078297200347},{"$f":"Prevalence!AD177*BZ178","v":335.28789294762919},{"$f":"Prevalence!AE177*CA178","v":807.56631680055125},{"$f":"Prevalence!AF177*CB178","v":389.56443619474652},{"$f":"Prevalence!AG177*CC178","v":879.0247968009312},{"$f":"Prevalence!AH177*CD178","v":137.25072612088755},{"$f":"Prevalence!AI177*CE178","v":244.73797898689924},{"$f":"Prevalence!AJ177*CF178","v":379.91590858287947},{"$f":"Prevalence!AK177*CG178","v":221.33071660301897},{"$f":"Prevalence!AL177*CH178","v":699.53842577581565},{"$f":"Prevalence!AM177*CI178","v":39.479114001757587},{"$f":"Prevalence!AN177*CJ178","v":219.52661841123961},{"$f":"Prevalence!AO177*CK178","v":368.68860405512339},{"$f":"Prevalence!AP177*CL178","v":425.93727612680254},{"$f":"Prevalence!AQ177*CM178","v":128.26376974822549},{"$f":"Prevalence!AR177*CN178","v":293.64739641166534},{"$f":"Prevalence!AS177*CO178","v":950.59436402034112},{"$f":"Prevalence!AT177*CP178","v":116.21411999682724},{"$f":"Prevalence!AU177*CQ178","v":219.45811150494572},{"$f":"Prevalence!AV177*CR178","v":395.01143913364172},177,35123,2287,1331,2150,2437,1796,3920,5430,3914,4221,4214,122,314,2372,615,998,1789,1014,1229,402,2150,514,560,343,656,227,1769,615,977,2437,1920,2685,430,706,1133,822,2135,122,844,1215,1331,314,905,2631,417,750,1083]
["Female 60-64",{"$f":"Prevalence!B178*AX179","v":10101.765451996504},{"$f":"Prevalence!C178*AY179","v":653.95940911526282},{"$f":"Prevalence!D178*AZ179","v":443.21797703653004},{"$f":"Prevalence!E178*BA179","v":713.98743745835793},{"$f":"Prevalence!F178*BB179","v":788.67781452002953},{"$f":"Prevalence!G178*BC179","v":582.98611850146733},{"$f":"Prevalence!H178*BD179","v":1322.385501248144},{"$f":"Prevalence!I178*BE179","v":1231.1290133161297},{"$f":"Prevalence!J178*BF179","v":1335.2424516691058},{"$f":"Prevalence!K178*BG179","v":1282.2328907595952},{"$f":"Prevalence!L178*BH179","v":1011.2707403016095},{"$f":"Prevalence!M178*BI179","v":42.391507657624956},{"$f":"Prevalence!N178*BJ179","v":118.46016951269232},{"$f":"Prevalence!O178*BK179","v":665.00661994097527},{"$f":"Prevalence!P178*BL179","v":269.8569946445823},{"$f":"Prevalence!Q178*BM179","v":288.07178239329716},{"$f":"Prevalence!R178*BN179","v":667.33903853432059},{"$f":"Prevalence!S178*BO179","v":334.69003653712889},{"$f":"Prevalence!T178*BP179","v":441.29032281772538},{"$f":"Prevalence!U178*BQ179","v":128.19523652783337},{"$f":"Prevalence!V178*BR179","v":713.98743745835816},{"$f":"Prevalence!W178*BS179","v":139.07307068871683},{"$f":"Prevalence!X178*BT179","v":157.31240003636157},{"$f":"Prevalence!Y178*BU179","v":109.99639285506311},{"$f":"Prevalence!Z178*BV179","v":194.67910889943477},{"$f":"Prevalence!AA178*BW179","v":85.816449448728875},{"$f":"Prevalence!AB178*BX179","v":286.51045485750507},{"$f":"Prevalence!AC178*BY179","v":269.85699464458236},{"$f":"Prevalence!AD178*BZ179","v":354.50603215445341},{"$f":"Prevalence!AE178*CA179","v":788.67781452002953},{"$f":"Prevalence!AF178*CB179","v":300.28925290011711},{"$f":"Prevalence!AG178*CC179","v":894.08443950217611},{"$f":"Prevalence!AH178*CD179","v":121.92971483297453},{"$f":"Prevalence!AI178*CE179","v":276.63018021465382},{"$f":"Prevalence!AJ178*CF179","v":380.92186421019511},{"$f":"Prevalence!AK178*CG179","v":199.79001425722635},{"$f":"Prevalence!AL178*CH179","v":630.07606218589865},{"$f":"Prevalence!AM178*CI179","v":42.391507657624949},{"$f":"Prevalence!AN178*CJ179","v":219.00641315434092},{"$f":"Prevalence!AO178*CK179","v":362.92310325096918},{"$f":"Prevalence!AP178*CL179","v":443.21797703653004},{"$f":"Prevalence!AQ178*CM179","v":118.46016951269232},{"$f":"Prevalence!AR178*CN179","v":304.67945329342956},{"$f":"Prevalence!AS178*CO179","v":824.49879843953568},{"$f":"Prevalence!AT178*CP179","v":109.80422848621087},{"$f":"Prevalence!AU178*CQ179","v":200.73101932319034},{"$f":"Prevalence!AV178*CR179","v":401.94146438160038},178,33868,2189,1385,2221,2380,1805,3810,4759,4105,3725,4094,131,290,2346,628,963,1711,985,1374,378,2221,519,508,296,645,239,1549,628,1033,2380,1480,2731,382,798,1136,742,1923,131,842,1196,1385,290,939,2282,394,686,1102]
["Female 65-69",null,null,null,null,null,null,null,null,null,null,null,null,null,null,null,null,null,null,null,null,null,null,null,null,null,null,null,null,null,null,null,null,null,null,null,null,null,null,null,null,null,null,null,null,null,null,null,179]
["Female 70-74",null,null,null,null,null,null,null,null,null,null,null,null,null,null,null,null,null,null,null,null,null,null,null,null,null,null,null,null,null,null,null,null,null,null,null,null,null,null,null,null,null,null,null,null,null,null,null,180]
["Female 75-79",null,null,null,null,null,null,null,null,null,null,null,null,null,null,null,null,null,null,null,null,null,null,null,null,null,null,null,null,null,null,null,null,null,null,null,null,null,null,null,null,null,null,null,null,null,null,null,181]
["Female 80-84",null,null,null,null,null,null,null,null,null,null,null,null,null,null,null,null,null,null,null,null,null,null,null,null,null,null,null,null,null,null,null,null,null,null,null,null,null,null,null,null,null,null,null,null,null,null,null,182]
["Female 85-89",null,null,null,null,null,null,null,null,null,null,null,null,null,null,null,null,null,null,null,null,null,null,null,null,null,null,null,null,null,null,null,null,null,null,null,null,null,null,null,null,null,null,null,null,null,null,null,183]
["Female 90+",null,null,null,null,null,null,null,null,null,null,null,null,null,null,null,null,null,null,null,null,null,null,null,null,null,null,null,null,null,null,null,null,null,null,null,null,null,null,null,null,null,null,null,null,null,null,null,184]
["age/sex breakdown: Q4",null,null,null,null,null,null,null,null,null,null,null,null,null,null,null,null,null,null,null,null,null,null,null,null,null,null,null,null,null,null,null,null,null,null,null,null,null,null,null,null,null,null,null,null,null,null,null,185]
["Male <1",null,null,null,null,null,null,null,null,null,null,null,null,null,null,null,null,null,null,null,null,null,null,null,null,null,null,null,null,null,null,null,null,null,null,null,null,null,null,null,null,null,null,null,null,null,null,null,186]
["Male 1-4",null,null,null,null,null,null,null,null,null,null,null,null,null,null,null,null,null,null,null,null,null,null,null,null,null,null,null,null,null,null,null,null,null,null,null,null,null,null,null,null,null,null,null,null,null,null,null,187]
["Male 5-9",null,null,null,null,null,null,null,null,null,null,null,null,null,null,null,null,null,null,null,null,null,null,null,null,null,null,null,null,null,null,null,null,null,null,null,null,null,null,null,null,null,null,null,null,null,null,null,188]
["Male 10-14",null,null,null,null,null,null,null,null,null,null,null,null,null,null,null,null,null,null,null,null,null,null,null,null,null,null,null,null,null,null,null,null,null,null,null,null,null,null,null,null,null,null,null,null,null,null,null,189]
["Male 15-19 (16+)",{"$f":"Prevalence!B190*AX191","v":9000.6002520840357},{"$f":"Prevalence!C190*AY191","v":526.55404611194706},{"$f":"Prevalence!D190*AZ191","v":386.06860164280323},{"$f":"Prevalence!E190*BA191","v":276.92435634930138},{"$f":"Prevalence!F190*BB191","v":731.65257354782045},{"$f":"Prevalence!G190*BC191","v":586.41300984339716},{"$f":"Prevalence!H190*BD191","v":1464.7232393305505},{"$f":"Prevalence!I190*BE191","v":1249.8882032256442},{"$f":"Prevalence!J190*BF191","v":831.96323948204554},{"$f":"Prevalence!K190*BG191","v":773.99487225187522},{"$f":"Prevalence!L190*BH191","v":1017.9036265001216},{"$f":"Prevalence!M190*BI191","v":116.85627363910258},{"$f":"Prevalence!N190*BJ191","v":143.30535935637886},{"$f":"Prevalence!O190*BK191","v":991.33323874067332},{"$f":"Prevalence!P190*BL191","v":2.910034983188881},{"$f":"Prevalence!Q190*BM191","v":242.13165371840432},{"$f":"Prevalence!R190*BN191","v":970.13021217789537},{"$f":"Prevalence!S190*BO191","v":373.02203961824603},{"$f":"Prevalence!T190*BP191","v":179.96289837015914},{"$f":"Prevalence!U190*BQ191","v":83.541274345633298},{"$f":"Prevalence!V190*BR191","v":276.92435634930143},{"$f":"Prevalence!W190*BS191","v":117.21044672424492},{"$f":"Prevalence!X190*BT191","v":190.28071584760471},{"$f":"Prevalence!Y190*BU191","v":180.99525965072857},{"$f":"Prevalence!Z190*BV191","v":299.66131855316803},{"$f":"Prevalence!AA190*BW191","v":148.75749851831742},{"$f":"Prevalence!AB190*BX191","v":313.0670354051224},{"$f":"Prevalence!AC190*BY191","v":2.9100349831888805},{"$f":"Prevalence!AD190*BZ191","v":272.19594005679357},{"$f":"Prevalence!AE190*CA191","v":731.65257354782045},{"$f":"Prevalence!AF190*CB191","v":438.38459235859614},{"$f":"Prevalence!AG190*CC191","v":656.02644179415631},{"$f":"Prevalence!AH190*CD191","v":100.33431267043822},{"$f":"Prevalence!AI190*CE191","v":191.2975321683306},{"$f":"Prevalence!AJ190*CF191","v":276.546659211681},{"$f":"Prevalence!AK190*CG191","v":219.82387822717041},{"$f":"Prevalence!AL190*CH191","v":397.31722894653183},{"$f":"Prevalence!AM190*CI191","v":116.85627363910258},{"$f":"Prevalence!AN190*CJ191","v":533.0128862916489},{"$f":"Prevalence!AO190*CK191","v":221.8292617288127},{"$f":"Prevalence!AP190*CL191","v":386.06860164280323},{"$f":"Prevalence!AQ190*CM191","v":143.30535935637889},{"$f":"Prevalence!AR190*CN191","v":113.79909341304099},{"$f":"Prevalence!AS190*CO191","v":552.31340006912092},{"$f":"Prevalence!AT190*CP191","v":214.19769440500914},{"$f":"Prevalence!AU190*CQ191","v":66.976559835847127},{"$f":"Prevalence!AV190*CR191","v":296.36691813809125},190,26398,1385,1064,884,1787,1545,3763,4333,2454,1998,3522,320,311,3022,10,648,2270,1032,588,216,884,393,467,530,871,403,1430,10,661,1787,1875,1866,283,492,845,610,1063,320,1597,584,1064,311,308,1379,668,214,729]
["Male 20-24",{"$f":"Prevalence!B191*AX192","v":11520.959258955965},{"$f":"Prevalence!C191*AY192","v":568.37422305946632},{"$f":"Prevalence!D191*AZ192","v":334.54440856641406},{"$f":"Prevalence!E191*BA192","v":294.46707575604444},{"$f":"Prevalence!F191*BB192","v":766.45417889284829},{"$f":"Prevalence!G191*BC192","v":621.71165703785402},{"$f":"Prevalence!H191*BD192","v":1958.2839800882275},{"$f":"Prevalence!I191*BE192","v":2058.1473182587056},{"$f":"Prevalence!J191*BF192","v":840.7778459313256},{"$f":"Prevalence!K191*BG192","v":870.84107748859628},{"$f":"Prevalence!L191*BH192","v":1651.1310102768866},{"$f":"Prevalence!M191*BI192","v":123.7946148864243},{"$f":"Prevalence!N191*BJ192","v":157.58981639833303},{"$f":"Prevalence!O191*BK192","v":1187.1723994051943},{"$f":"Prevalence!P191*BL192","v":4.6560559731022098},{"$f":"Prevalence!Q191*BM192","v":660.63080829342414},{"$f":"Prevalence!R191*BN192","v":1017.9956675805053},{"$f":"Prevalence!S191*BO192","v":413.50505166983862},{"$f":"Prevalence!T191*BP192","v":166.49628692749417},{"$f":"Prevalence!U191*BQ192","v":86.248630458686222},{"$f":"Prevalence!V191*BR192","v":294.46707575604449},{"$f":"Prevalence!W191*BS192","v":288.10506752066306},{"$f":"Prevalence!X191*BT192","v":204.94903655534296},{"$f":"Prevalence!Y191*BU192","v":202.50979051487178},{"$f":"Prevalence!Z191*BV192","v":303.1017470095764},{"$f":"Prevalence!AA191*BW192","v":173.11976874712374},{"$f":"Prevalence!AB191*BX192","v":765.59120476343571},{"$f":"Prevalence!AC191*BY192","v":4.6560559731022089},{"$f":"Prevalence!AD191*BZ192","v":330.67071084055254},{"$f":"Prevalence!AE191*CA192","v":766.45417889284829},{"$f":"Prevalence!AF191*CB192","v":990.16466594061581},{"$f":"Prevalence!AG191*CC192","v":680.63622256885674},{"$f":"Prevalence!AH191*CD192","v":138.26990085325409},{"$f":"Prevalence!AI191*CE192","v":233.67848949830628},{"$f":"Prevalence!AJ191*CF192","v":288.32852871655734},{"$f":"Prevalence!AK191*CG192","v":225.58975044296503},{"$f":"Prevalence!AL191*CH192","v":442.16959721895313},{"$f":"Prevalence!AM191*CI192","v":123.7946148864243},{"$f":"Prevalence!AN191*CJ192","v":503.64210733506462},{"$f":"Prevalence!AO191*CK192","v":279.18580029225569},{"$f":"Prevalence!AP191*CL192","v":334.54440856641406},{"$f":"Prevalence!AQ191*CM192","v":157.58981639833306},{"$f":"Prevalence!AR191*CN192","v":135.22879282199028},{"$f":"Prevalence!AS191*CO192","v":610.78893046077553},{"$f":"Prevalence!AT191*CP192","v":196.24100146087665},{"$f":"Prevalence!AU191*CQ192","v":79.182568404062252},{"$f":"Prevalence!AV191*CR192","v":298.39961304987514},191,33790,1495,922,940,1872,1638,5031,7135,2480,2248,5713,339,342,3619,16,1768,2382,1144,544,223,940,966,503,593,881,469,3497,16,803,1872,4235,1936,390,601,881,626,1183,339,1509,735,922,342,366,1525,612,253,734]
["Male 25-29",{"$f":"Prevalence!B192*AX193","v":17126.341414271632},{"$f":"Prevalence!C192*AY193","v":776.67167635288615},{"$f":"Prevalence!D192*AZ193","v":486.83813450267326},{"$f":"Prevalence!E192*BA193","v":462.90648044709678},{"$f":"Prevalence!F192*BB193","v":1076.547562598812},{"$f":"Prevalence!G192*BC193","v":944.51904666201187},{"$f":"Prevalence!H192*BD193","v":3037.8822744932554},{"$f":"Prevalence!I192*BE193","v":2657.6979737790107},{"$f":"Prevalence!J192*BF193","v":1413.4980015556155},{"$f":"Prevalence!K192*BG193","v":1274.33655511549},{"$f":"Prevalence!L192*BH193","v":2755.6123842211805},{"$f":"Prevalence!M192*BI193","v":175.88435827554781},{"$f":"Prevalence!N192*BJ193","v":285.3459261470922},{"$f":"Prevalence!O192*BK193","v":1674.0217342413559},{"$f":"Prevalence!P192*BL193","v":10.011412083057545},{"$f":"Prevalence!Q192*BM193","v":968.41358852179155},{"$f":"Prevalence!R192*BN193","v":1650.2190198179574},{"$f":"Prevalence!S192*BO193","v":602.21779067662169},{"$f":"Prevalence!T192*BP193","v":241.17293161753483},{"$f":"Prevalence!U192*BQ193","v":127.35653516867391},{"$f":"Prevalence!V192*BR193","v":462.9064804470969},{"$f":"Prevalence!W192*BS193","v":303.90789939110675},{"$f":"Prevalence!X192*BT193","v":317.06575552961391},{"$f":"Prevalence!Y192*BU193","v":224.90298383942263},{"$f":"Prevalence!Z192*BV193","v":426.66423901297685},{"$f":"Prevalence!AA192*BW193","v":202.57995057935565},{"$f":"Prevalence!AB192*BX193","v":1375.4490407002666},{"$f":"Prevalence!AC192*BY193","v":10.011412083057543},{"$f":"Prevalence!AD192*BZ193","v":537.67066012248108},{"$f":"Prevalence!AE192*CA193","v":1076.547562598812},{"$f":"Prevalence!AF192*CB193","v":1270.5077382487352},{"$f":"Prevalence!AG192*CC193","v":1188.768342721693},{"$f":"Prevalence!AH192*CD193","v":198.05930767789928},{"$f":"Prevalence!AI192*CE193","v":287.91250803656339},{"$f":"Prevalence!AJ192*CF193","v":442.32704008513201},{"$f":"Prevalence!AK192*CG193","v":295.18403714197939},{"$f":"Prevalence!AL192*CH193","v":685.80396115177689},{"$f":"Prevalence!AM192*CI193","v":175.88435827554781},{"$f":"Prevalence!AN192*CJ193","v":807.04357313844093},{"$f":"Prevalence!AO192*CK193","v":334.78508045191239},{"$f":"Prevalence!AP192*CL193","v":486.83813450267326},{"$f":"Prevalence!AQ192*CM193","v":285.34592614709226},{"$f":"Prevalence!AR192*CN193","v":164.63979740490487},{"$f":"Prevalence!AS192*CO193","v":900.22953749564078},{"$f":"Prevalence!AT192*CP193","v":273.68682150865169},{"$f":"Prevalence!AU192*CQ193","v":106.13466223550999},{"$f":"Prevalence!AV192*CR193","v":516.82290184878639},192,30661,1247,819,902,1605,1519,4764,5624,2545,2008,5820,294,378,3115,21,1582,2357,1017,481,201,902,622,475,402,757,335,3835,21,797,1605,3317,2064,341,452,825,500,1120,294,1476,538,819,378,272,1372,521,207,776]
["Male 30-34",{"$f":"Prevalence!B193*AX194","v":17283.858399328368},{"$f":"Prevalence!C193*AY194","v":842.69188300357257},{"$f":"Prevalence!D193*AZ194","v":510.02090281232438},{"$f":"Prevalence!E193*BA194","v":407.48087081485016},{"$f":"Prevalence!F193*BB194","v":1187.8914226557608},{"$f":"Prevalence!G193*BC194","v":1083.8029613771473},{"$f":"Prevalence!H193*BD194","v":3029.5925033831777},{"$f":"Prevalence!I193*BE194","v":2414.3276934631872},{"$f":"Prevalence!J193*BF194","v":1541.7958555278542},{"$f":"Prevalence!K193*BG194","v":1420.3013995759297},{"$f":"Prevalence!L193*BH194","v":2686.0118652382744},{"$f":"Prevalence!M193*BI194","v":186.65278837405071},{"$f":"Prevalence!N193*BJ194","v":260.43477386440958},{"$f":"Prevalence!O193*BK194","v":1718.6264867107084},{"$f":"Prevalence!P193*BL194","v":10.488145991774571},{"$f":"Prevalence!Q193*BM194","v":823.33519378116921},{"$f":"Prevalence!R193*BN194","v":1822.4523159041762},{"$f":"Prevalence!S193*BO194","v":598.66488335699569},{"$f":"Prevalence!T193*BP194","v":251.70231116840435},{"$f":"Prevalence!U193*BQ194","v":148.89943166486751},{"$f":"Prevalence!V193*BR194","v":407.48087081485028},{"$f":"Prevalence!W193*BS194","v":268.24025203491573},{"$f":"Prevalence!X193*BT194","v":314.39572811462767},{"$f":"Prevalence!Y193*BU194","v":194.13267510517326},{"$f":"Prevalence!Z193*BV194","v":489.79025588147539},{"$f":"Prevalence!AA193*BW194","v":200.16108549781111},{"$f":"Prevalence!AB193*BX194","v":1218.7159948629742},{"$f":"Prevalence!AC193*BY194","v":10.488145991774569},{"$f":"Prevalence!AD193*BZ194","v":658.42730775350253},{"$f":"Prevalence!AE193*CA194","v":1187.8914226557608},{"$f":"Prevalence!AF193*CB194","v":1062.1398728259701},{"$f":"Prevalence!AG193*CC194","v":1309.7186101497723},{"$f":"Prevalence!AH193*CD194","v":163.21016263193459},{"$f":"Prevalence!AI193*CE194","v":358.61668589509998},{"$f":"Prevalence!AJ193*CF194","v":430.53165234952849},{"$f":"Prevalence!AK193*CG194","v":340.05201078756022},{"$f":"Prevalence!AL193*CH194","v":772.1417812610631},{"$f":"Prevalence!AM193*CI194","v":186.65278837405071},{"$f":"Prevalence!AN193*CJ194","v":895.62152628778199},{"$f":"Prevalence!AO193*CK194","v":337.89646595797103},{"$f":"Prevalence!AP193*CL194","v":510.02090281232438},{"$f":"Prevalence!AQ193*CM194","v":260.43477386440964},{"$f":"Prevalence!AR193*CN194","v":185.21977208051797},{"$f":"Prevalence!AS193*CO194","v":1070.8269717149312},{"$f":"Prevalence!AT193*CP194","v":279.46523808560977},{"$f":"Prevalence!AU193*CQ194","v":91.778282802687386},{"$f":"Prevalence!AV193*CR194","v":561.44549775583369},193,30943,1353,858,794,1771,1743,4751,5109,2776,2238,5673,312,345,3198,22,1345,2603,1011,502,235,794,549,471,347,869,331,3398,22,976,1771,2773,2274,281,563,803,576,1261,312,1638,543,858,345,306,1632,532,179,843]
["Male 35-39",{"$f":"Prevalence!B194*AX195","v":19571.406280731771},{"$f":"Prevalence!C194*AY195","v":1124.413277296225},{"$f":"Prevalence!D194*AZ195","v":750.23569375874774},{"$f":"Prevalence!E194*BA195","v":486.20087708674674},{"$f":"Prevalence!F194*BB195","v":1453.8191847999099},{"$f":"Prevalence!G194*BC195","v":1343.0457383943624},{"$f":"Prevalence!H194*BD195","v":3459.1250084121971},{"$f":"Prevalence!I194*BE195","v":2476.8786094776642},{"$f":"Prevalence!J194*BF195","v":1686.298286944532},{"$f":"Prevalence!K194*BG195","v":1702.4935260502514},{"$f":"Prevalence!L194*BH195","v":2843.4552037100534},{"$f":"Prevalence!M194*BI195","v":201.82007600685193},{"$f":"Prevalence!N194*BJ195","v":344.15999267349332},{"$f":"Prevalence!O194*BK195","v":1881.8841839605607},{"$f":"Prevalence!P194*BL195","v":5.1382612626968527},{"$f":"Prevalence!Q194*BM195","v":704.63755814924161},{"$f":"Prevalence!R194*BN195","v":2315.1412911034618},{"$f":"Prevalence!S194*BO195","v":732.68053878821297},{"$f":"Prevalence!T194*BP195","v":301.008542631257},{"$f":"Prevalence!U194*BQ195","v":204.19095759507763},{"$f":"Prevalence!V194*BR195","v":486.20087708674686},{"$f":"Prevalence!W194*BS195","v":249.08804524825132},{"$f":"Prevalence!X194*BT195","v":433.82360715808193},{"$f":"Prevalence!Y194*BU195","v":272.55097425819321},{"$f":"Prevalence!Z194*BV195","v":744.76794161087889},{"$f":"Prevalence!AA194*BW195","v":271.13471355339277},{"$f":"Prevalence!AB194*BX195","v":1081.6007664096492},{"$f":"Prevalence!AC194*BY195","v":5.1382612626968509},{"$f":"Prevalence!AD194*BZ195","v":788.18368117521129},{"$f":"Prevalence!AE194*CA195","v":1453.8191847999099},{"$f":"Prevalence!AF194*CB195","v":894.19128953184156},{"$f":"Prevalence!AG194*CC195","v":1402.9303710831896},{"$f":"Prevalence!AH194*CD195","v":208.46120835597907},{"$f":"Prevalence!AI194*CE195","v":435.94927817231815},{"$f":"Prevalence!AJ194*CF195","v":518.34883098788282},{"$f":"Prevalence!AK194*CG195","v":444.77480636480442},{"$f":"Prevalence!AL194*CH195","v":877.09591276596166},{"$f":"Prevalence!AM194*CI195","v":201.82007600685193},{"$f":"Prevalence!AN194*CJ195","v":959.4120441279897},{"$f":"Prevalence!AO194*CK195","v":414.48845152178336},{"$f":"Prevalence!AP194*CL195","v":750.23569375874774},{"$f":"Prevalence!AQ194*CM195","v":344.15999267349343},{"$f":"Prevalence!AR194*CN195","v":243.34077702270997},{"$f":"Prevalence!AS194*CO195","v":1308.3110674144741},{"$f":"Prevalence!AT194*CP195","v":351.59921961279042},{"$f":"Prevalence!AU194*CQ195","v":103.89266474835502},{"$f":"Prevalence!AV194*CR195","v":655.37662293350547},194,32509,1675,1171,879,2011,2004,5033,4863,2817,2489,5572,313,423,3249,10,1068,3068,1148,557,299,879,473,603,452,1226,416,2798,10,1084,2011,2166,2260,333,635,897,699,1329,313,1628,618,1171,423,373,1850,621,188,913]
["Male 40-44",{"$f":"Prevalence!B195*AX196","v":24217.876909624934},{"$f":"Prevalence!C195*AY196","v":1442.6054524833357},{"$f":"Prevalence!D195*AZ196","v":1158.9892143548886},{"$f":"Prevalence!E195*BA196","v":698.6026254386361},{"$f":"Prevalence!F195*BB196","v":1894.8085944110212},{"$f":"Prevalence!G195*BC196","v":1722.3690357652251},{"$f":"Prevalence!H195*BD196","v":3909.299234621215},{"$f":"Prevalence!I195*BE196","v":3044.273791661114},{"$f":"Prevalence!J195*BF196","v":2147.2317910081779},{"$f":"Prevalence!K195*BG196","v":2232.5989831370111},{"$f":"Prevalence!L195*BH196","v":3054.2138180553966},{"$f":"Prevalence!M195*BI196","v":303.0525102978288},{"$f":"Prevalence!N195*BJ196","v":336.02382263393088},{"$f":"Prevalence!O195*BK196","v":2554.3580336306777},{"$f":"Prevalence!P195*BL196","v":10.79034865166339},{"$f":"Prevalence!Q195*BM196","v":624.14525281758677},{"$f":"Prevalence!R195*BN196","v":2680.372185788623},{"$f":"Prevalence!S195*BO196","v":1014.7753106909918},{"$f":"Prevalence!T195*BP196","v":411.79265616699792},{"$f":"Prevalence!U195*BQ196","v":247.21447039939164},{"$f":"Prevalence!V195*BR196","v":698.60262543863621},{"$f":"Prevalence!W195*BS196","v":310.17517685247361},{"$f":"Prevalence!X195*BT196","v":540.30104307747854},{"$f":"Prevalence!Y195*BU196","v":370.83816187785141},{"$f":"Prevalence!Z195*BV196","v":917.89915152857907},{"$f":"Prevalence!AA195*BW196","v":359.77490836892508},{"$f":"Prevalence!AB195*BX196","v":967.17838368725597},{"$f":"Prevalence!AC195*BY196","v":10.790348651663386},{"$f":"Prevalence!AD195*BZ196","v":945.96583875364377},{"$f":"Prevalence!AE195*CA196","v":1894.8085944110212},{"$f":"Prevalence!AF195*CB196","v":996.16047167143745},{"$f":"Prevalence!AG195*CC196","v":1753.6629638539869},{"$f":"Prevalence!AH195*CD196","v":289.21645123261959},{"$f":"Prevalence!AI195*CE196","v":492.24509047173558},{"$f":"Prevalence!AJ195*CF196","v":687.66455838972183},{"$f":"Prevalence!AK195*CG196","v":558.67278968283017},{"$f":"Prevalence!AL195*CH196","v":1137.1228425099714},{"$f":"Prevalence!AM195*CI196","v":303.0525102978288},{"$f":"Prevalence!AN195*CJ196","v":1314.771664895298},{"$f":"Prevalence!AO195*CK196","v":546.61502911044249},{"$f":"Prevalence!AP195*CL196","v":1158.9892143548886},{"$f":"Prevalence!AQ195*CM196","v":336.02382263393093},{"$f":"Prevalence!AR195*CN196","v":339.24183391905945},{"$f":"Prevalence!AS195*CO196","v":1688.0748745504595},{"$f":"Prevalence!AT195*CP196","v":513.52736262286783},{"$f":"Prevalence!AU195*CQ196","v":151.41803266515572},{"$f":"Prevalence!AV195*CR196","v":900.87367117365761},195,40227,2149,1809,1263,2621,2570,5688,5977,3587,3264,5985,470,413,4410,21,946,3552,1590,762,362,1263,589,751,615,1511,552,2502,21,1301,2621,2413,2825,462,717,1190,878,1723,470,2231,815,1809,413,520,2387,907,274,1255]
["Male 45-49",{"$f":"Prevalence!B196*AX197","v":25808.063250029449},{"$f":"Prevalence!C196*AY197","v":1495.7731429559547},{"$f":"Prevalence!D196*AZ197","v":1267.9678433802737},{"$f":"Prevalence!E196*BA197","v":853.84264372561893},{"$f":"Prevalence!F196*BB197","v":2189.3836314961545},{"$f":"Prevalence!G196*BC197","v":1769.3526127058203},{"$f":"Prevalence!H196*BD197","v":4139.2787539649089},{"$f":"Prevalence!I196*BE197","v":3100.9760458483756},{"$f":"Prevalence!J196*BF197","v":2399.3767143183372},{"$f":"Prevalence!K196*BG197","v":2256.6427430415929},{"$f":"Prevalence!L196*BH197","v":3053.8924370752156},{"$f":"Prevalence!M196*BI197","v":346.53478589845588},{"$f":"Prevalence!N196*BJ197","v":390.18909336551195},{"$f":"Prevalence!O196*BK197","v":2900.4824474206384},{"$f":"Prevalence!P196*BL197","v":11.086261384451442},{"$f":"Prevalence!Q196*BM197","v":628.28980893470271},{"$f":"Prevalence!R196*BN197","v":2857.3812944379488},{"$f":"Prevalence!S196*BO197","v":1132.2897740149112},{"$f":"Prevalence!T196*BP197","v":523.10278083500123},{"$f":"Prevalence!U196*BQ197","v":241.10935902422452},{"$f":"Prevalence!V196*BR197","v":853.84264372561927},{"$f":"Prevalence!W196*BS197","v":342.93046890936944},{"$f":"Prevalence!X196*BT197","v":535.53011141570926},{"$f":"Prevalence!Y196*BU197","v":435.24457686179159},{"$f":"Prevalence!Z196*BV197","v":911.52416199870038},{"$f":"Prevalence!AA196*BW197","v":368.18028294999704},{"$f":"Prevalence!AB196*BX197","v":956.49516027107575},{"$f":"Prevalence!AC196*BY197","v":11.086261384451438},{"$f":"Prevalence!AD196*BZ197","v":933.43494040191933},{"$f":"Prevalence!AE196*CA197","v":2189.3836314961545},{"$f":"Prevalence!AF196*CB197","v":959.95259489619241},{"$f":"Prevalence!AG196*CC197","v":1887.2768901212203},{"$f":"Prevalence!AH196*CD197","v":345.03534274894491},{"$f":"Prevalence!AI196*CE197","v":513.72775019477274},{"$f":"Prevalence!AJ196*CF197","v":741.84910511250564},{"$f":"Prevalence!AK196*CG197","v":595.32980846709063},{"$f":"Prevalence!AL196*CH197","v":1111.9660197665116},{"$f":"Prevalence!AM196*CI197","v":346.53478589845588},{"$f":"Prevalence!AN196*CJ197","v":1521.7659938359807},{"$f":"Prevalence!AO196*CK197","v":590.67222076200733},{"$f":"Prevalence!AP196*CL197","v":1267.9678433802737},{"$f":"Prevalence!AQ196*CM197","v":390.18909336551201},{"$f":"Prevalence!AR196*CN197","v":357.65484841160213},{"$f":"Prevalence!AS196*CO197","v":1651.3720602675687},{"$f":"Prevalence!AT196*CP197","v":568.03904186593093},{"$f":"Prevalence!AU196*CQ197","v":178.84929249439051},{"$f":"Prevalence!AV196*CR197","v":905.33099139121407},196,43711,2272,2018,1574,3088,2692,6141,6208,4087,3364,6102,548,489,5106,22,971,3861,1809,987,360,1574,664,759,736,1530,576,2523,22,1309,3088,2371,3100,562,763,1309,954,1718,548,2633,898,2018,489,559,2381,1023,330,1286]
["Male 50-54",{"$f":"Prevalence!B197*AX198","v":24460.123180028371},{"$f":"Prevalence!C197*AY198","v":1523.4238788732744},{"$f":"Prevalence!D197*AZ198","v":1224.6131450684607},{"$f":"Prevalence!E197*BA198","v":808.27543783428985},{"$f":"Prevalence!F197*BB198","v":2070.981084067444},{"$f":"Prevalence!G197*BC198","v":1611.6094377246179},{"$f":"Prevalence!H197*BD198","v":3806.3030652401635},{"$f":"Prevalence!I197*BE198","v":3132.9448710633073},{"$f":"Prevalence!J197*BF198","v":2320.1215500332928},{"$f":"Prevalence!K197*BG198","v":2001.0598402179169},{"$f":"Prevalence!L197*BH198","v":2866.214681601075},{"$f":"Prevalence!M197*BI198","v":305.43120727911349},{"$f":"Prevalence!N197*BJ198","v":367.04904488371267},{"$f":"Prevalence!O197*BK198","v":2702.7997424260475},{"$f":"Prevalence!P197*BL198","v":10.078419440410402},{"$f":"Prevalence!Q197*BM198","v":576.52545804409897},{"$f":"Prevalence!R197*BN198","v":2600.579608561241},{"$f":"Prevalence!S197*BO198","v":1060.3089426098727},{"$f":"Prevalence!T197*BP198","v":505.08302951950975},{"$f":"Prevalence!U197*BQ198","v":235.08162504861892},{"$f":"Prevalence!V197*BR198","v":808.27543783429019},{"$f":"Prevalence!W197*BS198","v":357.90785384667623},{"$f":"Prevalence!X197*BT198","v":539.76355103164371},{"$f":"Prevalence!Y197*BU198","v":475.45739102837018},{"$f":"Prevalence!Z197*BV198","v":849.56434967983444},{"$f":"Prevalence!AA197*BW198","v":388.6347431138858},{"$f":"Prevalence!AB197*BX198","v":890.52997680410499},{"$f":"Prevalence!AC197*BY198","v":10.078419440410398},{"$f":"Prevalence!AD197*BZ198","v":832.17614625595104},{"$f":"Prevalence!AE197*CA198","v":2070.981084067444},{"$f":"Prevalence!AF197*CB198","v":902.86557849789506},{"$f":"Prevalence!AG197*CC198","v":1825.7881914430773},{"$f":"Prevalence!AH197*CD198","v":371.43484406247632},{"$f":"Prevalence!AI197*CE198","v":488.81565745924638},{"$f":"Prevalence!AJ197*CF198","v":703.87821890735836},{"$f":"Prevalence!AK197*CG198","v":585.34524144877469},{"$f":"Prevalence!AL197*CH198","v":977.9864120298015},{"$f":"Prevalence!AM197*CI198","v":305.43120727911349},{"$f":"Prevalence!AN197*CJ198","v":1370.3407411261337},{"$f":"Prevalence!AO197*CK198","v":640.00453318645111},{"$f":"Prevalence!AP197*CL198","v":1224.6131450684607},{"$f":"Prevalence!AQ197*CM198","v":367.04904488371272},{"$f":"Prevalence!AR197*CN198","v":390.92506686849532},{"$f":"Prevalence!AS197*CO198","v":1490.4655848446052},{"$f":"Prevalence!AT197*CP198","v":518.62020049147554},{"$f":"Prevalence!AU197*CQ198","v":203.23783237998921},{"$f":"Prevalence!AV197*CR198","v":863.09159832474995},197,41428,2314,1949,1490,2921,2452,5647,6272,3952,2983,5727,483,460,4758,20,891,3514,1694,953,351,1490,693,765,804,1426,608,2349,20,1167,2921,2230,2999,605,726,1242,938,1511,483,2371,973,1949,460,611,2149,934,375,1226]
["Male 55-59",{"$f":"Prevalence!B198*AX199","v":16431.36670305362},{"$f":"Prevalence!C198*AY199","v":1022.6812264743111},{"$f":"Prevalence!D198*AZ199","v":869.52493716532524},{"$f":"Prevalence!E198*BA199","v":594.72844857121868},{"$f":"Prevalence!F198*BB199","v":1352.3372559685001},{"$f":"Prevalence!G198*BC199","v":1038.6627201122546},{"$f":"Prevalence!H198*BD199","v":2692.1330529355637},{"$f":"Prevalence!I198*BE199","v":2019.3159464808843},{"$f":"Prevalence!J198*BF199","v":1622.678312521783},{"$f":"Prevalence!K198*BG199","v":1288.5382991446893},{"$f":"Prevalence!L198*BH199","v":1820.2458055634531},{"$f":"Prevalence!M198*BI199","v":216.29740081172872},{"$f":"Prevalence!N198*BJ199","v":235.98315173400491},{"$f":"Prevalence!O198*BK199","v":1871.7355091842717},{"$f":"Prevalence!P198*BL199","v":8.6558518314091444},{"$f":"Prevalence!Q198*BM199","v":417.51691275553878},{"$f":"Prevalence!R198*BN199","v":1801.7956761685127},{"$f":"Prevalence!S198*BO199","v":717.07391172920472},{"$f":"Prevalence!T198*BP199","v":362.16836689132276},{"$f":"Prevalence!U198*BQ199","v":154.05713919208497},{"$f":"Prevalence!V198*BR199","v":594.72844857121879},{"$f":"Prevalence!W198*BS199","v":249.1667322256757},{"$f":"Prevalence!X198*BT199","v":357.7926691826529},{"$f":"Prevalence!Y198*BU199","v":312.68594213237736},{"$f":"Prevalence!Z198*BV199","v":561.06268465602238},{"$f":"Prevalence!AA198*BW199","v":241.55059142532474},{"$f":"Prevalence!AB198*BX199","v":566.54206296713528},{"$f":"Prevalence!AC198*BY199","v":8.6558518314091444},{"$f":"Prevalence!AD198*BZ199","v":486.75469273805544},{"$f":"Prevalence!AE198*CA199","v":1352.3372559685001},{"$f":"Prevalence!AF198*CB199","v":583.27049121672769},{"$f":"Prevalence!AG198*CC199","v":1266.7023749902069},{"$f":"Prevalence!AH198*CD199","v":230.17096011805143},{"$f":"Prevalence!AI198*CE199","v":326.34181848347396},{"$f":"Prevalence!AJ198*CF199","v":518.05622073303869},{"$f":"Prevalence!AK198*CG199","v":395.67306630283679},{"$f":"Prevalence!AL198*CH199","v":631.29315159075907},{"$f":"Prevalence!AM198*CI199","v":216.29740081172872},{"$f":"Prevalence!AN198*CJ199","v":963.40911440881348},{"$f":"Prevalence!AO198*CK199","v":427.86613049374131},{"$f":"Prevalence!AP198*CL199","v":869.52493716532524},{"$f":"Prevalence!AQ198*CM199","v":235.98315173400493},{"$f":"Prevalence!AR198*CN199","v":263.76121289274272},{"$f":"Prevalence!AS198*CO199","v":963.94322390961213},{"$f":"Prevalence!AT198*CP199","v":370.73160887566905},{"$f":"Prevalence!AU198*CQ199","v":122.23618136395282},{"$f":"Prevalence!AV198*CR199","v":504.20200765156352},198,37264,2080,1853,1468,2554,2116,5348,5413,3701,2572,4870,458,396,4412,23,864,3260,1534,915,308,1468,646,679,708,1261,506,2001,23,914,2554,1929,2786,502,649,1224,849,1306,458,2232,871,1853,396,552,1861,894,302,959]
["Male 60-64",{"$f":"Prevalence!B199*AX200","v":15832.563676466381},{"$f":"Prevalence!C199*AY200","v":995.63917481273074},{"$f":"Prevalence!D199*AZ200","v":874.21746246033501},{"$f":"Prevalence!E199*BA200","v":625.51820476427895},{"$f":"Prevalence!F199*BB200","v":1381.9891300226254},{"$f":"Prevalence!G199*BC200","v":991.54002581604652},{"$f":"Prevalence!H199*BD200","v":2623.1685375555762},{"$f":"Prevalence!I199*BE200","v":1782.0565816255651},{"$f":"Prevalence!J199*BF200","v":1614.3478915712524},{"$f":"Prevalence!K199*BG200","v":1169.8044045500969},{"$f":"Prevalence!L199*BH200","v":1663.6373882059406},{"$f":"Prevalence!M199*BI200","v":211.57475013898355},{"$f":"Prevalence!N199*BJ200","v":249.0933268303385},{"$f":"Prevalence!O199*BK200","v":1903.9775533134657},{"$f":"Prevalence!P199*BL200","v":12.795607055126563},{"$f":"Prevalence!Q199*BM200","v":371.60938183913112},{"$f":"Prevalence!R199*BN200","v":1796.8213936269431},{"$f":"Prevalence!S199*BO200","v":731.56497513442343},{"$f":"Prevalence!T199*BP200","v":374.83436442194824},{"$f":"Prevalence!U199*BQ200","v":154.55732470894239},{"$f":"Prevalence!V199*BR200","v":625.51820476427918},{"$f":"Prevalence!W199*BS200","v":218.69587797516738},{"$f":"Prevalence!X199*BT200","v":332.49952025663328},{"$f":"Prevalence!Y199*BU200","v":296.78665693920561},{"$f":"Prevalence!Z199*BV200","v":485.42378188716918},{"$f":"Prevalence!AA199*BW200","v":211.95348338506756},{"$f":"Prevalence!AB199*BX200","v":513.87998215159939},{"$f":"Prevalence!AC199*BY200","v":12.79560705512656},{"$f":"Prevalence!AD199*BZ200","v":504.32898689599398},{"$f":"Prevalence!AE199*CA200","v":1381.9891300226254},{"$f":"Prevalence!AF199*CB200","v":501.63076460785442},{"$f":"Prevalence!AG199*CC200","v":1243.5143559218291},{"$f":"Prevalence!AH199*CD200","v":209.07959723870806},{"$f":"Prevalence!AI199*CE200","v":332.37587367885408},{"$f":"Prevalence!AJ199*CF200","v":504.08901870347148},{"$f":"Prevalence!AK199*CG200","v":387.28423804199923},{"$f":"Prevalence!AL199*CH200","v":559.26966032963878},{"$f":"Prevalence!AM199*CI200","v":211.57475013898355},{"$f":"Prevalence!AN199*CJ200","v":1016.9318429870809},{"$f":"Prevalence!AO199*CK200","v":377.26887281193262},{"$f":"Prevalence!AP199*CL200","v":874.21746246033501},{"$f":"Prevalence!AQ199*CM200","v":249.09332683033855},{"$f":"Prevalence!AR199*CN200","v":269.01732401922857},{"$f":"Prevalence!AS199*CO200","v":850.50766988693351},{"$f":"Prevalence!AT199*CP200","v":316.82209080650017},{"$f":"Prevalence!AU199*CQ200","v":127.09324817311652},{"$f":"Prevalence!AV199*CR200","v":464.77015095305751},199,35906,2025,1863,1544,2610,2020,5211,4777,3682,2335,4451,448,418,4488,34,769,3251,1565,947,309,1544,567,631,672,1091,444,1815,34,947,2610,1659,2735,456,661,1191,831,1157,448,2356,768,1863,418,563,1642,764,314,884]
["Male 65-69",null,null,null,null,null,null,null,null,null,null,null,null,null,null,null,null,null,null,null,null,null,null,null,null,null,null,null,null,null,null,null,null,null,null,null,null,null,null,null,null,null,null,null,null,null,null,null,200]
["Male 70-74",null,null,null,null,null,null,null,null,null,null,null,null,null,null,null,null,null,null,null,null,null,null,null,null,null,null,null,null,null,null,null,null,null,null,null,null,null,null,null,null,null,null,null,null,null,null,null,201]
["Male 75-79",null,null,null,null,null,null,null,null,null,null,null,null,null,null,null,null,null,null,null,null,null,null,null,null,null,null,null,null,null,null,null,null,null,null,null,null,null,null,null,null,null,null,null,null,null,null,null,202]
["Male 80-84",null,null,null,null,null,null,null,null,null,null,null,null,null,null,null,null,null,null,null,null,null,null,null,null,null,null,null,null,null,null,null,null,null,null,null,null,null,null,null,null,null,null,null,null,null,null,null,203]
["Male 85-89",null,null,null,null,null,null,null,null,null,null,null,null,null,null,null,null,null,null,null,null,null,null,null,null,null,null,null,null,null,null,null,null,null,null,null,null,null,null,null,null,null,null,null,null,null,null,null,204]
["Male 90+",null,null,null,null,null,null,null,null,null,null,null,null,null,null,null,null,null,null,null,null,null,null,null,null,null,null,null,null,null,null,null,null,null,null,null,null,null,null,null,null,null,null,null,null,null,null,null,205]
["Female <1",null,null,null,null,null,null,null,null,null,null,null,null,null,null,null,null,null,null,null,null,null,null,null,null,null,null,null,null,null,null,null,null,null,null,null,null,null,null,null,null,null,null,null,null,null,null,null,206]
["Female 1-4",null,null,null,null,null,null,null,null,null,null,null,null,null,null,null,null,null,null,null,null,null,null,null,null,null,null,null,null,null,null,null,null,null,null,null,null,null,null,null,null,null,null,null,null,null,null,null,207]
["Female 5-9",null,null,null,null,null,null,null,null,null,null,null,null,null,null,null,null,null,null,null,null,null,null,null,null,null,null,null,null,null,null,null,null,null,null,null,null,null,null,null,null,null,null,null,null,null,null,null,208]
["Female 10-14",null,null,null,null,null,null,null,null,null,null,null,null,null,null,null,null,null,null,null,null,null,null,null,null,null,null,null,null,null,null,null,null,null,null,null,null,null,null,null,null,null,null,null,null,null,null,null,209]
["Female 15-19 (16+)",{"$f":"Prevalence!B210*AX211","v":7084.1809983209523},{"$f":"Prevalence!C210*AY211","v":349.76918334971958},{"$f":"Prevalence!D210*AZ211","v":325.0187670967926},{"$f":"Prevalence!E210*BA211","v":263.61602426161096},{"$f":"Prevalence!F210*BB211","v":493.98437805686223},{"$f":"Prevalence!G210*BC211","v":450.97205069911536},{"$f":"Prevalence!H210*BD211","v":1220.0796032102062},{"$f":"Prevalence!I210*BE211","v":1047.2268698150128},{"$f":"Prevalence!J210*BF211","v":700.2133276524554},{"$f":"Prevalence!K210*BG211","v":598.38045942917108},{"$f":"Prevalence!L210*BH211","v":778.57486910674913},{"$f":"Prevalence!M210*BI211","v":95.105939515036411},{"$f":"Prevalence!N210*BJ211","v":104.3086824390261},{"$f":"Prevalence!O210*BK211","v":760.44432927491573},{"$f":"Prevalence!P210*BL211","v":8.2814095952972444},{"$f":"Prevalence!Q210*BM211","v":238.96219402372915},{"$f":"Prevalence!R210*BN211","v":788.87681838002527},{"$f":"Prevalence!S210*BO211","v":308.43076435131559},{"$f":"Prevalence!T210*BP211","v":161.5505377424266},{"$f":"Prevalence!U210*BQ211","v":55.882577932459668},{"$f":"Prevalence!V210*BR211","v":263.61602426161102},{"$f":"Prevalence!W210*BS211","v":120.58486470947811},{"$f":"Prevalence!X210*BT211","v":108.31936454815138},{"$f":"Prevalence!Y210*BU211","v":174.74581688860815},{"$f":"Prevalence!Z210*BV211","v":241.69123046785143},{"$f":"Prevalence!AA210*BW211","v":139.09096755281067},{"$f":"Prevalence!AB210*BX211","v":246.49690483806091},{"$f":"Prevalence!AC210*BY211","v":8.2814095952972462},{"$f":"Prevalence!AD210*BZ211","v":226.19325146409778},{"$f":"Prevalence!AE210*CA211","v":493.98437805686223},{"$f":"Prevalence!AF210*CB211","v":376.16932313811634},{"$f":"Prevalence!AG210*CC211","v":540.0834020460677},{"$f":"Prevalence!AH210*CD211","v":104.57439148488234},{"$f":"Prevalence!AI210*CE211","v":133.94955490225058},{"$f":"Prevalence!AJ210*CF211","v":232.64316630903278},{"$f":"Prevalence!AK210*CG211","v":143.74073830694482},{"$f":"Prevalence!AL210*CH211","v":288.89167301684756},{"$f":"Prevalence!AM210*CI211","v":95.105939515036397},{"$f":"Prevalence!AN210*CJ211","v":344.62570933954555},{"$f":"Prevalence!AO210*CK211","v":148.24895111016824},{"$f":"Prevalence!AP210*CL211","v":325.0187670967926},{"$f":"Prevalence!AQ210*CM211","v":104.3086824390261},{"$f":"Prevalence!AR210*CN211","v":93.173856903644264},{"$f":"Prevalence!AS210*CO211","v":437.6328344992869},{"$f":"Prevalence!AT210*CP211","v":159.51793607474028},{"$f":"Prevalence!AU210*CQ211","v":48.497466875018745},{"$f":"Prevalence!AV210*CR211","v":230.56070380520967},210,24648,1215,1054,851,1547,1449,3648,4201,2234,1804,3271,305,265,2784,20,829,2099,942,522,171,851,467,363,488,831,402,1383,20,684,1547,1924,1712,340,401,720,554,915,305,1375,507,1054,265,298,1257,594,172,656]
["Female 20-24",{"$f":"Prevalence!B211*AX212","v":9315.3761090790485},{"$f":"Prevalence!C211*AY212","v":409.35948866115331},{"$f":"Prevalence!D211*AZ212","v":278.14699043767263},{"$f":"Prevalence!E211*BA212","v":257.73035509478296},{"$f":"Prevalence!F211*BB212","v":588.82171502059077},{"$f":"Prevalence!G211*BC212","v":491.12070117543414},{"$f":"Prevalence!H211*BD212","v":1584.2974452869371},{"$f":"Prevalence!I211*BE212","v":1849.9096883830539},{"$f":"Prevalence!J211*BF212","v":674.82510941617568},{"$f":"Prevalence!K211*BG212","v":683.62645614385895},{"$f":"Prevalence!L211*BH212","v":1339.8342825441428},{"$f":"Prevalence!M211*BI212","v":92.61135749496988},{"$f":"Prevalence!N211*BJ212","v":123.20233057892517},{"$f":"Prevalence!O211*BK212","v":875.43968222920444},{"$f":"Prevalence!P211*BL212","v":7.0391981560026577},{"$f":"Prevalence!Q211*BM212","v":549.69952231996558},{"$f":"Prevalence!R211*BN212","v":797.5210141031032},{"$f":"Prevalence!S211*BO212","v":290.75001989805543},{"$f":"Prevalence!T211*BP212","v":154.12292681174031},{"$f":"Prevalence!U211*BQ212","v":57.189772737897322},{"$f":"Prevalence!V211*BR212","v":257.73035509478302},{"$f":"Prevalence!W211*BS212","v":257.6952783298911},{"$f":"Prevalence!X211*BT212","v":150.69222891684973},{"$f":"Prevalence!Y211*BU212","v":190.50158726381053},{"$f":"Prevalence!Z211*BV212","v":244.89051270027784},{"$f":"Prevalence!AA211*BW212","v":136.32298809902341},{"$f":"Prevalence!AB211*BX212","v":620.60898239054814},{"$f":"Prevalence!AC211*BY212","v":7.0391981560026595},{"$f":"Prevalence!AD211*BZ212","v":238.75954321210321},{"$f":"Prevalence!AE211*CA212","v":588.82171502059077},{"$f":"Prevalence!AF211*CB212","v":951.56761731455936},{"$f":"Prevalence!AG211*CC212","v":522.10165326299182},{"$f":"Prevalence!AH211*CD212","v":114.10911541438632},{"$f":"Prevalence!AI211*CE212","v":181.38306312200015},{"$f":"Prevalence!AJ211*CF212","v":228.76578020388223},{"$f":"Prevalence!AK211*CG212","v":149.70831408503096},{"$f":"Prevalence!AL211*CH212","v":368.45528132312688},{"$f":"Prevalence!AM211*CI212","v":92.611357494969866},{"$f":"Prevalence!AN211*CJ212","v":330.5900440864441},{"$f":"Prevalence!AO211*CK212","v":165.20839719377722},{"$f":"Prevalence!AP211*CL212","v":278.14699043767263},{"$f":"Prevalence!AQ211*CM212","v":123.20233057892517},{"$f":"Prevalence!AR211*CN212","v":106.30574277596997},{"$f":"Prevalence!AS211*CO212","v":475.93005947535812},{"$f":"Prevalence!AT211*CP212","v":182.88167418669718},{"$f":"Prevalence!AU211*CQ212","v":61.74968166063433},{"$f":"Prevalence!AV211*CR212","v":267.81593948105149},211,32411,1422,902,832,1844,1578,4737,7421,2153,2061,5629,297,313,3205,17,1907,2122,888,498,175,832,998,505,532,842,394,3482,17,722,1844,4867,1655,371,543,708,577,1167,297,1319,565,902,313,340,1367,681,219,762]
["Female 25-29",{"$f":"Prevalence!B212*AX213","v":15195.900788711151},{"$f":"Prevalence!C212*AY213","v":674.39524934140456},{"$f":"Prevalence!D212*AZ213","v":473.74709260513299},{"$f":"Prevalence!E212*BA213","v":432.785031715515},{"$f":"Prevalence!F212*BB213","v":900.37345889613459},{"$f":"Prevalence!G212*BC213","v":868.58676103598873},{"$f":"Prevalence!H212*BD213","v":2690.0388015996418},{"$f":"Prevalence!I212*BE213","v":2355.3825223395825},{"$f":"Prevalence!J212*BF213","v":1355.2090704914337},{"$f":"Prevalence!K212*BG213","v":1171.2088771648455},{"$f":"Prevalence!L212*BH213","v":2418.3220896912535},{"$f":"Prevalence!M212*BI213","v":181.03563000448597},{"$f":"Prevalence!N212*BJ213","v":234.53726318563776},{"$f":"Prevalence!O212*BK213","v":1440.6868721407047},{"$f":"Prevalence!P212*BL213","v":11.246681673598726},{"$f":"Prevalence!Q212*BM213","v":763.36002899288974},{"$f":"Prevalence!R212*BN213","v":1489.1133536876703},{"$f":"Prevalence!S212*BO213","v":509.13436532408014},{"$f":"Prevalence!T212*BP213","v":247.97623075305015},{"$f":"Prevalence!U212*BQ213","v":114.83673025570097},{"$f":"Prevalence!V212*BR213","v":432.78503171551512},{"$f":"Prevalence!W212*BS213","v":288.42437774136607},{"$f":"Prevalence!X212*BT213","v":252.26614589490319},{"$f":"Prevalence!Y212*BU213","v":233.42552350838884},{"$f":"Prevalence!Z212*BV213","v":419.67098623871482},{"$f":"Prevalence!AA212*BW213","v":198.52706689567572},{"$f":"Prevalence!AB212*BX213","v":1166.6926619748231},{"$f":"Prevalence!AC212*BY213","v":11.246681673598729},{"$f":"Prevalence!AD212*BZ213","v":481.09906683660171},{"$f":"Prevalence!AE212*CA213","v":900.37345889613459},{"$f":"Prevalence!AF212*CB213","v":1084.3203119889113},{"$f":"Prevalence!AG212*CC213","v":1111.2334916404754},{"$f":"Prevalence!AH212*CD213","v":164.99229462625132},{"$f":"Prevalence!AI212*CE213","v":283.5287200869256},{"$f":"Prevalence!AJ212*CF213","v":462.94606934179541},{"$f":"Prevalence!AK212*CG213","v":250.17769856527946},{"$f":"Prevalence!AL212*CH213","v":628.69802035508962},{"$f":"Prevalence!AM212*CI213","v":181.03563000448591},{"$f":"Prevalence!AN212*CJ213","v":652.25479510671028},{"$f":"Prevalence!AO212*CK213","v":280.9507863763742},{"$f":"Prevalence!AP212*CL213","v":473.74709260513299},{"$f":"Prevalence!AQ212*CM213","v":234.53726318563776},{"$f":"Prevalence!AR212*CN213","v":166.66239103614299},{"$f":"Prevalence!AS212*CO213","v":831.57010716927539},{"$f":"Prevalence!AT212*CP213","v":264.41203660920411},{"$f":"Prevalence!AU212*CQ213","v":93.337329361380128},{"$f":"Prevalence!AV212*CR213","v":464.78174089885147},212,31145,1380,905,823,1661,1644,4738,5566,2547,2080,5985,342,351,3107,16,1560,2334,916,472,207,823,658,498,384,850,338,3856,16,857,1661,3267,2075,316,500,844,568,1173,342,1533,566,905,351,314,1407,580,195,779]
["Female 30-34",{"$f":"Prevalence!B213*AX214","v":15631.114900238856},{"$f":"Prevalence!C213*AY214","v":742.8121586948804},{"$f":"Prevalence!D213*AZ214","v":508.82008178142456},{"$f":"Prevalence!E213*BA214","v":425.94881614771225},{"$f":"Prevalence!F213*BB214","v":1003.9082756626377},{"$f":"Prevalence!G213*BC214","v":968.44253830837431},{"$f":"Prevalence!H213*BD214","v":2713.3168916936866},{"$f":"Prevalence!I213*BE214","v":2268.6319982505393},{"$f":"Prevalence!J213*BF214","v":1470.1384616285166},{"$f":"Prevalence!K213*BG214","v":1335.0655037297349},{"$f":"Prevalence!L213*BH214","v":2375.0872586809005},{"$f":"Prevalence!M213*BI214","v":183.1530057940121},{"$f":"Prevalence!N213*BJ214","v":227.85528987550563},{"$f":"Prevalence!O213*BK214","v":1483.810103266899},{"$f":"Prevalence!P213*BL214","v":7.7320936505991238},{"$f":"Prevalence!Q213*BM214","v":578.39202196768952},{"$f":"Prevalence!R213*BN214","v":1766.009324339105},{"$f":"Prevalence!S213*BO214","v":596.3986615641245},{"$f":"Prevalence!T213*BP214","v":263.73743186023552},{"$f":"Prevalence!U213*BQ214","v":140.91077045868622},{"$f":"Prevalence!V213*BR214","v":425.94881614771231},{"$f":"Prevalence!W213*BS214","v":259.05593806253398},{"$f":"Prevalence!X213*BT214","v":288.73835975922657},{"$f":"Prevalence!Y213*BU214","v":263.81947188187695},{"$f":"Prevalence!Z213*BV214","v":503.11145291441221},{"$f":"Prevalence!AA213*BW214","v":219.08460340854154},{"$f":"Prevalence!AB213*BX214","v":1029.9330449591023},{"$f":"Prevalence!AC213*BY214","v":7.7320936505991265},{"$f":"Prevalence!AD213*BZ214","v":572.60332342279321},{"$f":"Prevalence!AE213*CA214","v":1003.9082756626377},{"$f":"Prevalence!AF213*CB214","v":896.79629109092082},{"$f":"Prevalence!AG213*CC214","v":1210.842855228489},{"$f":"Prevalence!AH213*CD214","v":176.47909994833211},{"$f":"Prevalence!AI213*CE214","v":308.47924745457505},{"$f":"Prevalence!AJ213*CF214","v":454.71835483927538},{"$f":"Prevalence!AK213*CG214","v":270.87902221416704},{"$f":"Prevalence!AL213*CH214","v":703.73444222185231},{"$f":"Prevalence!AM213*CI214","v":183.15300579401207},{"$f":"Prevalence!AN213*CJ214","v":653.53122327717358},{"$f":"Prevalence!AO213*CK214","v":295.34579133205415},{"$f":"Prevalence!AP213*CL214","v":508.82008178142456},{"$f":"Prevalence!AQ213*CM214","v":227.85528987550563},{"$f":"Prevalence!AR213*CN214","v":177.80860190161752},{"$f":"Prevalence!AS213*CO214","v":1051.4308604507044},{"$f":"Prevalence!AT213*CP214","v":254.83849735266398},{"$f":"Prevalence!AU213*CQ214","v":94.773288274632122},{"$f":"Prevalence!AV213*CR214","v":543.53808210379168},213,32037,1520,972,810,1852,1833,4779,5361,2763,2371,5878,346,341,3200,11,1182,2768,1073,502,254,810,591,570,434,1019,373,3404,11,1020,1852,2702,2261,338,544,829,615,1313,346,1536,595,972,341,335,1779,559,198,911]
["Female 35-39",{"$f":"Prevalence!B214*AX215","v":20420.579708155648},{"$f":"Prevalence!C214*AY215","v":1079.9052289481601},{"$f":"Prevalence!D214*AZ215","v":875.9417120618391},{"$f":"Prevalence!E214*BA215","v":612.40296717234446},{"$f":"Prevalence!F214*BB215","v":1451.4075360334004},{"$f":"Prevalence!G214*BC215","v":1407.0025075073449},{"$f":"Prevalence!H214*BD215","v":3388.7862595654233},{"$f":"Prevalence!I214*BE215","v":2735.9855936301228},{"$f":"Prevalence!J214*BF215","v":1937.8307505147857},{"$f":"Prevalence!K214*BG215","v":1785.9925039063912},{"$f":"Prevalence!L214*BH215","v":2779.5181777368539},{"$f":"Prevalence!M214*BI215","v":233.56448179949376},{"$f":"Prevalence!N214*BJ215","v":313.35894840230708},{"$f":"Prevalence!O214*BK215","v":2043.1652334416954},{"$f":"Prevalence!P214*BL215","v":15.253330790048732},{"$f":"Prevalence!Q214*BM215","v":529.74750163901626},{"$f":"Prevalence!R214*BN215","v":2398.998875631552},{"$f":"Prevalence!S214*BO215","v":858.36861735209925},{"$f":"Prevalence!T214*BP215","v":385.72084686197786},{"$f":"Prevalence!U214*BQ215","v":188.60245622269923},{"$f":"Prevalence!V214*BR215","v":612.40296717234469},{"$f":"Prevalence!W214*BS215","v":275.84450496560481},{"$f":"Prevalence!X214*BT215","v":392.6705814094563},{"$f":"Prevalence!Y214*BU215","v":375.21037728647423},{"$f":"Prevalence!Z214*BV215","v":760.09640806530342},{"$f":"Prevalence!AA214*BW215","v":347.67405368290838},{"$f":"Prevalence!AB214*BX215","v":975.36823381335932},{"$f":"Prevalence!AC214*BY215","v":15.253330790048736},{"$f":"Prevalence!AD214*BZ215","v":821.59945501849757},{"$f":"Prevalence!AE214*CA215","v":1451.4075360334004},{"$f":"Prevalence!AF214*CB215","v":856.66867992132154},{"$f":"Prevalence!AG214*CC215","v":1557.2283003648351},{"$f":"Prevalence!AH214*CD215","v":273.81270774709094},{"$f":"Prevalence!AI214*CE215","v":429.99703570445718},{"$f":"Prevalence!AJ214*CF215","v":617.62176741019334},{"$f":"Prevalence!AK214*CG215","v":403.5539595045787},{"$f":"Prevalence!AL214*CH215","v":921.40670747458648},{"$f":"Prevalence!AM214*CI215","v":233.56448179949371},{"$f":"Prevalence!AN214*CJ215","v":949.95683353726849},{"$f":"Prevalence!AO214*CK215","v":458.98336745653859},{"$f":"Prevalence!AP214*CL215","v":875.9417120618391},{"$f":"Prevalence!AQ214*CM215","v":313.35894840230708},{"$f":"Prevalence!AR214*CN215","v":275.14661791343872},{"$f":"Prevalence!AS214*CO215","v":1435.7128431443159},{"$f":"Prevalence!AT214*CP215","v":391.85962700044809},{"$f":"Prevalence!AU214*CQ215","v":119.44799592265647},{"$f":"Prevalence!AV214*CR215","v":809.91185198238475},214,34717,1833,1388,966,2221,2209,4951,5363,3021,2631,5706,366,389,3655,18,898,3119,1281,609,282,966,522,643,512,1277,491,2674,18,1214,2221,2141,2412,435,629,934,760,1426,366,1852,767,1388,389,430,2015,713,207,1126]
["Female 40-44",{"$f":"Prevalence!B215*AX216","v":25419.113174754337},{"$f":"Prevalence!C215*AY216","v":1405.1140049325488},{"$f":"Prevalence!D215*AZ216","v":1242.6003105545831},{"$f":"Prevalence!E215*BA216","v":862.18223121572305},{"$f":"Prevalence!F215*BB216","v":1942.1806380419928},{"$f":"Prevalence!G215*BC216","v":1743.3073169070183},{"$f":"Prevalence!H215*BD216","v":4050.663923269678},{"$f":"Prevalence!I215*BE216","v":3232.8809820686347},{"$f":"Prevalence!J215*BF216","v":2611.3568306341253},{"$f":"Prevalence!K215*BG216","v":2285.6088029847278},{"$f":"Prevalence!L215*BH216","v":3049.8708921854964},{"$f":"Prevalence!M215*BI216","v":315.24823499713091},{"$f":"Prevalence!N215*BJ216","v":335.10879829141322},{"$f":"Prevalence!O215*BK216","v":2741.9221532233969},{"$f":"Prevalence!P215*BL216","v":19.490367120617826},{"$f":"Prevalence!Q215*BM216","v":531.51725943959207},{"$f":"Prevalence!R215*BN216","v":2943.5616213664475},{"$f":"Prevalence!S215*BO216","v":1143.8214128181371},{"$f":"Prevalence!T215*BP216","v":591.56530536795947},{"$f":"Prevalence!U215*BQ216","v":270.19642664528544},{"$f":"Prevalence!V215*BR216","v":862.18223121572339},{"$f":"Prevalence!W215*BS216","v":348.24047657535164},{"$f":"Prevalence!X215*BT216","v":479.99856452229028},{"$f":"Prevalence!Y215*BU216","v":529.83809136351726},{"$f":"Prevalence!Z215*BV216","v":999.37499541240754},{"$f":"Prevalence!AA215*BW216","v":398.65680697245909},{"$f":"Prevalence!AB215*BX216","v":877.97731443109797},{"$f":"Prevalence!AC215*BY216","v":19.490367120617829},{"$f":"Prevalence!AD215*BZ216","v":933.94336731921464},{"$f":"Prevalence!AE215*CA216","v":1942.1806380419928},{"$f":"Prevalence!AF215*CB216","v":958.30055507312716},{"$f":"Prevalence!AG215*CC216","v":2025.3006543302188},{"$f":"Prevalence!AH215*CD216","v":326.68688579480505},{"$f":"Prevalence!AI215*CE216","v":566.03743332796591},{"$f":"Prevalence!AJ215*CF216","v":786.90567796373671},{"$f":"Prevalence!AK215*CG216","v":533.11602018762767},{"$f":"Prevalence!AL215*CH216","v":1187.6195850899649},{"$f":"Prevalence!AM215*CI216","v":315.24823499713085},{"$f":"Prevalence!AN215*CJ216","v":1302.3436286993112},{"$f":"Prevalence!AO215*CK216","v":578.06770920862618},{"$f":"Prevalence!AP215*CL216","v":1242.6003105545831},{"$f":"Prevalence!AQ215*CM216","v":335.10879829141322},{"$f":"Prevalence!AR215*CN216","v":380.72613408952566},{"$f":"Prevalence!AS215*CO216","v":1709.3176728055653},{"$f":"Prevalence!AT215*CP216","v":523.76188573832678},{"$f":"Prevalence!AU215*CQ216","v":173.69008102763092},{"$f":"Prevalence!AV215*CR216","v":968.87323678532164},215,43215,2385,1969,1360,2972,2737,5918,6337,4071,3367,6261,494,416,4905,23,901,3827,1707,934,404,1360,659,786,723,1679,563,2407,23,1380,2972,2395,3137,519,828,1190,1004,1838,494,2539,966,1969,416,595,2399,953,301,1347]
["Female 45-49",{"$f":"Prevalence!B216*AX217","v":25446.180082427549},{"$f":"Prevalence!C216*AY217","v":1417.541720716378},{"$f":"Prevalence!D216*AZ217","v":1298.0617297575507},{"$f":"Prevalence!E216*BA217","v":957.95087310532949},{"$f":"Prevalence!F216*BB217","v":1947.4082304194399},{"$f":"Prevalence!G216*BC217","v":1639.2811416352556},{"$f":"Prevalence!H216*BD217","v":4027.5049287737857},{"$f":"Prevalence!I216*BE217","v":3351.9607189135886},{"$f":"Prevalence!J216*BF217","v":2540.9006870674584},{"$f":"Prevalence!K216*BG217","v":2298.7240511884365},{"$f":"Prevalence!L216*BH217","v":2960.2535309319769},{"$f":"Prevalence!M216*BI217","v":300.51990801965064},{"$f":"Prevalence!N216*BJ217","v":344.65790768798587},{"$f":"Prevalence!O216*BK217","v":2757.0295592765606},{"$f":"Prevalence!P216*BL217","v":19.834065339344484},{"$f":"Prevalence!Q216*BM217","v":509.76947802132764},{"$f":"Prevalence!R216*BN217","v":2868.1675862693014},{"$f":"Prevalence!S216*BO217","v":1151.7996058771505},{"$f":"Prevalence!T216*BP217","v":597.71739971620389},{"$f":"Prevalence!U216*BQ217","v":248.58120572176557},{"$f":"Prevalence!V216*BR217","v":957.95087310532972},{"$f":"Prevalence!W216*BS217","v":364.12558520208205},{"$f":"Prevalence!X216*BT217","v":516.27927347532147},{"$f":"Prevalence!Y216*BU217","v":597.58898345689954},{"$f":"Prevalence!Z216*BV217","v":899.41652108901212},{"$f":"Prevalence!AA216*BW217","v":450.79516481563883},{"$f":"Prevalence!AB216*BX217","v":909.40621539996675},{"$f":"Prevalence!AC216*BY217","v":19.834065339344491},{"$f":"Prevalence!AD216*BZ217","v":801.51476794888083},{"$f":"Prevalence!AE216*CA217","v":1947.4082304194399},{"$f":"Prevalence!AF216*CB217","v":990.83524322226663},{"$f":"Prevalence!AG216*CC217","v":1948.1161074658819},{"$f":"Prevalence!AH216*CD217","v":361.2470963363121},{"$f":"Prevalence!AI216*CE217","v":554.25836411031139},{"$f":"Prevalence!AJ216*CF217","v":853.72801140319996},{"$f":"Prevalence!AK216*CG217","v":519.99510141683754},{"$f":"Prevalence!AL216*CH217","v":1137.2848151214664},{"$f":"Prevalence!AM216*CI217","v":300.51990801965059},{"$f":"Prevalence!AN216*CJ217","v":1294.6796570193731},{"$f":"Prevalence!AO216*CK217","v":568.09254008701373},{"$f":"Prevalence!AP216*CL217","v":1298.0617297575507},{"$f":"Prevalence!AQ216*CM217","v":344.65790768798587},{"$f":"Prevalence!AR216*CN217","v":372.02049889577688},{"$f":"Prevalence!AS216*CO217","v":1705.0335606716915},{"$f":"Prevalence!AT216*CP217","v":559.30677796369207},{"$f":"Prevalence!AU216*CQ217","v":203.13086340137133},{"$f":"Prevalence!AV216*CR217","v":907.75532119079344},216,46208,2570,2197,1614,3183,2749,6285,7018,4231,3617,6491,503,457,5268,25,923,3983,1836,1008,397,1614,736,903,871,1614,680,2663,25,1265,3183,2645,3223,613,866,1379,1046,1880,503,2696,1014,2197,457,621,2556,1087,376,1348]
["Female 50-54",{"$f":"Prevalence!B217*AX218","v":23430.112187652459},{"$f":"Prevalence!C217*AY218","v":1276.8906939526908},{"$f":"Prevalence!D217*AZ218","v":1174.577477814297},{"$f":"Prevalence!E217*BA218","v":911.65584949800882},{"$f":"Prevalence!F217*BB218","v":1883.7794349549026},{"$f":"Prevalence!G217*BC218","v":1477.678671870558},{"$f":"Prevalence!H217*BD218","v":3619.9483440959611},{"$f":"Prevalence!I217*BE218","v":3196.7331279123177},{"$f":"Prevalence!J217*BF218","v":2427.9984584764206},{"$f":"Prevalence!K217*BG218","v":2007.0142531526355},{"$f":"Prevalence!L217*BH218","v":2665.1858935089313},{"$f":"Prevalence!M217*BI218","v":266.46496814466042},{"$f":"Prevalence!N217*BJ218","v":331.08276033922499},{"$f":"Prevalence!O217*BK218","v":2539.8375951346143},{"$f":"Prevalence!P217*BL218","v":20.627427952918264},{"$f":"Prevalence!Q217*BM218","v":504.24651509585283},{"$f":"Prevalence!R217*BN218","v":2477.8721226092562},{"$f":"Prevalence!S217*BO218","v":1082.7920042178441},{"$f":"Prevalence!T217*BP218","v":602.46118860284037},{"$f":"Prevalence!U217*BQ218","v":241.69356526096098},{"$f":"Prevalence!V217*BR218","v":911.65584949800893},{"$f":"Prevalence!W217*BS218","v":362.64137765370401},{"$f":"Prevalence!X217*BT218","v":428.23164544077048},{"$f":"Prevalence!Y217*BU218","v":603.76384092086289},{"$f":"Prevalence!Z217*BV218","v":781.83480736547961},{"$f":"Prevalence!AA217*BW218","v":434.22181316800504},{"$f":"Prevalence!AB217*BX218","v":846.91228471345016},{"$f":"Prevalence!AC217*BY218","v":20.627427952918268},{"$f":"Prevalence!AD217*BZ218","v":709.00792516584795},{"$f":"Prevalence!AE217*CA218","v":1883.7794349549026},{"$f":"Prevalence!AF217*CB218","v":904.67565685511295},{"$f":"Prevalence!AG217*CC218","v":1829.6455033506747},{"$f":"Prevalence!AH217*CD218","v":362.42571655274378},{"$f":"Prevalence!AI217*CE218","v":487.69615872062042},{"$f":"Prevalence!AJ217*CF218","v":801.72427466797967},{"$f":"Prevalence!AK217*CG218","v":468.79099487196731},{"$f":"Prevalence!AL217*CH218","v":971.53160270482704},{"$f":"Prevalence!AM217*CI218","v":266.46496814466036},{"$f":"Prevalence!AN217*CJ218","v":1149.6524847568171},{"$f":"Prevalence!AO217*CK218","v":583.77951358054077},{"$f":"Prevalence!AP217*CL218","v":1174.577477814297},{"$f":"Prevalence!AQ217*CM218","v":331.08276033922499},{"$f":"Prevalence!AR217*CN218","v":373.21863254761513},{"$f":"Prevalence!AS217*CO218","v":1504.2451797005729},{"$f":"Prevalence!AT217*CP218","v":500.64902940080253},{"$f":"Prevalence!AU217*CQ218","v":206.91255500724793},{"$f":"Prevalence!AV217*CR218","v":807.41738138557957},217,42547,2315,1988,1536,3079,2478,5649,6693,4043,3158,5844,446,439,4853,26,913,3441,1726,1016,386,1536,733,749,880,1403,655,2480,26,1119,3079,2415,3027,615,762,1295,943,1606,446,2394,1042,1988,439,623,2255,973,383,1199]
["Female 55-59",{"$f":"Prevalence!B218*AX219","v":13172.947188147269},{"$f":"Prevalence!C218*AY219","v":759.68510267499892},{"$f":"Prevalence!D218*AZ219","v":677.51937923623245},{"$f":"Prevalence!E218*BA219","v":562.61010876591092},{"$f":"Prevalence!F218*BB219","v":1005.8512584768772},{"$f":"Prevalence!G218*BC219","v":832.83538577875277},{"$f":"Prevalence!H218*BD219","v":2088.6761000640313},{"$f":"Prevalence!I218*BE219","v":1699.6530377561674},{"$f":"Prevalence!J218*BF219","v":1414.734925455688},{"$f":"Prevalence!K218*BG219","v":1079.3031573665151},{"$f":"Prevalence!L218*BH219","v":1406.6089044728853},{"$f":"Prevalence!M218*BI219","v":179.4696063827698},{"$f":"Prevalence!N218*BJ219","v":192.70567914559589},{"$f":"Prevalence!O218*BK219","v":1509.4808796527973},{"$f":"Prevalence!P218*BL219","v":9.3942895482032416},{"$f":"Prevalence!Q218*BM219","v":273.63891921996316},{"$f":"Prevalence!R218*BN219","v":1440.5815864912925},{"$f":"Prevalence!S218*BO219","v":624.37826234403417},{"$f":"Prevalence!T218*BP219","v":354.02952736932451},{"$f":"Prevalence!U218*BQ219","v":129.55508900555049},{"$f":"Prevalence!V218*BR219","v":562.61010876591104},{"$f":"Prevalence!W218*BS219","v":202.57104137289039},{"$f":"Prevalence!X218*BT219","v":243.00763815908022},{"$f":"Prevalence!Y218*BU219","v":327.10295891814121},{"$f":"Prevalence!Z218*BV219","v":437.24179680025622},{"$f":"Prevalence!AA218*BW219","v":225.99366886569851},{"$f":"Prevalence!AB218*BX219","v":420.75765970017466},{"$f":"Prevalence!AC218*BY219","v":9.3942895482032451},{"$f":"Prevalence!AD218*BZ219","v":394.48010149059076},{"$f":"Prevalence!AE218*CA219","v":1005.8512584768772},{"$f":"Prevalence!AF218*CB219","v":473.22548815926092},{"$f":"Prevalence!AG218*CC219","v":1063.0413329446365},{"$f":"Prevalence!AH218*CD219","v":193.18270570938176},{"$f":"Prevalence!AI218*CE219","v":291.17617293486103},{"$f":"Prevalence!AJ218*CF219","v":472.63944489515751},{"$f":"Prevalence!AK218*CG219","v":288.75006463410415},{"$f":"Prevalence!AL218*CH219","v":512.73021325725438},{"$f":"Prevalence!AM218*CI219","v":179.46960638276977},{"$f":"Prevalence!AN218*CJ219","v":710.49620201360881},{"$f":"Prevalence!AO218*CK219","v":324.36609710505974},{"$f":"Prevalence!AP218*CL219","v":677.51937923623245},{"$f":"Prevalence!AQ218*CM219","v":192.70567914559589},{"$f":"Prevalence!AR218*CN219","v":222.51543430931875},{"$f":"Prevalence!AS218*CO219","v":815.24526640259251},{"$f":"Prevalence!AT218*CP219","v":291.81024853080004},{"$f":"Prevalence!AU218*CQ219","v":107.73992223677632},{"$f":"Prevalence!AV218*CR219","v":412.54472549761255},218,38383,2210,1840,1521,2638,2241,5230,5710,3780,2725,4949,482,410,4628,19,795,3210,1597,958,332,1521,657,682,765,1259,547,1977,19,999,2638,2027,2822,526,730,1225,932,1360,482,2374,929,1840,410,596,1961,910,320,983]
["Female 60-64",{"$f":"Prevalence!B219*AX220","v":12693.843567412736},{"$f":"Prevalence!C219*AY220","v":778.9350419283021},{"$f":"Prevalence!D219*AZ220","v":700.71705363399474},{"$f":"Prevalence!E219*BA220","v":588.50275019497974},{"$f":"Prevalence!F219*BB220","v":1074.4840206170736},{"$f":"Prevalence!G219*BC220","v":782.66457940653879},{"$f":"Prevalence!H219*BD220","v":1955.6877365226694},{"$f":"Prevalence!I219*BE220","v":1496.9448558451427},{"$f":"Prevalence!J219*BF220","v":1424.8401749232287},{"$f":"Prevalence!K219*BG220","v":948.59855482304727},{"$f":"Prevalence!L219*BH220","v":1322.1953169545086},{"$f":"Prevalence!M219*BI220","v":172.39507833033696},{"$f":"Prevalence!N219*BJ220","v":173.90512508261091},{"$f":"Prevalence!O219*BK220","v":1521.5488987857173},{"$f":"Prevalence!P219*BL220","v":12.360907300267424},{"$f":"Prevalence!Q219*BM220","v":257.46152399563829},{"$f":"Prevalence!R219*BN220","v":1318.5136140534009},{"$f":"Prevalence!S219*BO220","v":648.22740073037482},{"$f":"Prevalence!T219*BP220","v":378.0503199361367},{"$f":"Prevalence!U219*BQ220","v":122.53101791488812},{"$f":"Prevalence!V219*BR220","v":588.50275019497997},{"$f":"Prevalence!W219*BS220","v":193.62954944014484},{"$f":"Prevalence!X219*BT220","v":259.04186648335968},{"$f":"Prevalence!Y219*BU220","v":295.03404137714699},{"$f":"Prevalence!Z219*BV220","v":428.21218066299912},{"$f":"Prevalence!AA219*BW220","v":208.64132134767414},{"$f":"Prevalence!AB219*BX220","v":407.56242707427134},{"$f":"Prevalence!AC219*BY220","v":12.360907300267428},{"$f":"Prevalence!AD219*BZ220","v":400.79810111406368},{"$f":"Prevalence!AE219*CA220","v":1074.4840206170736},{"$f":"Prevalence!AF219*CB220","v":382.64261228072456},{"$f":"Prevalence!AG219*CC220","v":1048.7268146413423},{"$f":"Prevalence!AH219*CD220","v":181.06287816487682},{"$f":"Prevalence!AI219*CE220","v":244.10933950155473},{"$f":"Prevalence!AJ219*CF220","v":467.23785123921283},{"$f":"Prevalence!AK219*CG220","v":282.86352898169213},{"$f":"Prevalence!AL219*CH220","v":452.78601920732535},{"$f":"Prevalence!AM219*CI220","v":172.39507833033693},{"$f":"Prevalence!AN219*CJ220","v":711.9926135595515},{"$f":"Prevalence!AO219*CK220","v":303.76588211130456},{"$f":"Prevalence!AP219*CL220","v":700.71705363399474},{"$f":"Prevalence!AQ219*CM220","v":173.90512508261091},{"$f":"Prevalence!AR219*CN220","v":233.71587563361331},{"$f":"Prevalence!AS219*CO220","v":708.40282200408853},{"$f":"Prevalence!AT219*CP220","v":249.16105836091387},{"$f":"Prevalence!AU219*CQ220","v":108.41329675075617},{"$f":"Prevalence!AV219*CR220","v":374.35391164178066},219,36987,2266,1903,1591,2818,2106,4897,5029,3807,2395,4652,463,370,4665,25,748,2938,1658,1023,314,1591,628,727,690,1233,505,1915,25,1015,2818,1639,2784,493,612,1211,913,1201,463,2379,870,1903,370,626,1704,777,322,892]
["Female 65-69",null,null,null,null,null,null,null,null,null,null,null,null,null,null,null,null,null,null,null,null,null,null,null,null,null,null,null,null,null,null,null,null,null,null,null,null,null,null,null,null,null,null,null,null,null,null,null,220]
["Female 70-74",null,null,null,null,null,null,null,null,null,null,null,null,null,null,null,null,null,null,null,null,null,null,null,null,null,null,null,null,null,null,null,null,null,null,null,null,null,null,null,null,null,null,null,null,null,null,null,221]
["Female 75-79",null,null,null,null,null,null,null,null,null,null,null,null,null,null,null,null,null,null,null,null,null,null,null,null,null,null,null,null,null,null,null,null,null,null,null,null,null,null,null,null,null,null,null,null,null,null,null,222]
["Female 80-84",null,null,null,null,null,null,null,null,null,null,null,null,null,null,null,null,null,null,null,null,null,null,null,null,null,null,null,null,null,null,null,null,null,null,null,null,null,null,null,null,null,null,null,null,null,null,null,223]
["Female 85-89",null,null,null,null,null,null,null,null,null,null,null,null,null,null,null,null,null,null,null,null,null,null,null,null,null,null,null,null,null,null,null,null,null,null,null,null,null,null,null,null,null,null,null,null,null,null,null,224]
["Female 90+",null,null,null,null,null,null,null,null,null,null,null,null,null,null,null,null,null,null,null,null,null,null,null,null,null,null,null,null,null,null,null,null,null,null,null,null,null,null,null,null,null,null,null,null,null,null,null,225]
["age/sex breakdown: Q5",null,null,null,null,null,null,null,null,null,null,null,null,null,null,null,null,null,null,null,null,null,null,null,null,null,null,null,null,null,null,null,null,null,null,null,null,null,null,null,null,null,null,null,null,null,null,null,226]
["Male <1",null,null,null,null,null,null,null,null,null,null,null,null,null,null,null,null,null,null,null,null,null,null,null,null,null,null,null,null,null,null,null,null,null,null,null,null,null,null,null,null,null,null,null,null,null,null,null,227]
["Male 1-4",null,null,null,null,null,null,null,null,null,null,null,null,null,null,null,null,null,null,null,null,null,null,null,null,null,null,null,null,null,null,null,null,null,null,null,null,null,null,null,null,null,null,null,null,null,null,null,228]
["Male 5-9",null,null,null,null,null,null,null,null,null,null,null,null,null,null,null,null,null,null,null,null,null,null,null,null,null,null,null,null,null,null,null,null,null,null,null,null,null,null,null,null,null,null,null,null,null,null,null,229]
["Male 10-14",null,null,null,null,null,null,null,null,null,null,null,null,null,null,null,null,null,null,null,null,null,null,null,null,null,null,null,null,null,null,null,null,null,null,null,null,null,null,null,null,null,null,null,null,null,null,null,230]
["Male 15-19 (16+)",{"$f":"Prevalence!B231*AX232","v":8344.3631638000697},{"$f":"Prevalence!C231*AY232","v":406.85816222792835},{"$f":"Prevalence!D231*AZ232","v":56.787651659569455},{"$f":"Prevalence!E231*BA232","v":65.723381111478787},{"$f":"Prevalence!F231*BB232","v":783.48787396558896},{"$f":"Prevalence!G231*BC232","v":655.6773438728336},{"$f":"Prevalence!H231*BD232","v":1680.3751438177696},{"$f":"Prevalence!I231*BE232","v":1453.6819796866439},{"$f":"Prevalence!J231*BF232","v":217.3992848929029},{"$f":"Prevalence!K231*BG232","v":657.07705684555287},{"$f":"Prevalence!L231*BH232","v":1705.867753326906},{"$f":"Prevalence!M231*BI232","v":5.560756608917127},{"$f":"Prevalence!N231*BJ232","v":17.54178904418611},{"$f":"Prevalence!O231*BK232","v":572.7884177995503},{"$f":"Prevalence!P231*BL232","v":0},{"$f":"Prevalence!Q231*BM232","v":727.36518121977861},{"$f":"Prevalence!R231*BN232","v":851.44070883084851},{"$f":"Prevalence!S231*BO232","v":118.94980190005431},{"$f":"Prevalence!T231*BP232","v":73.792094868608814},{"$f":"Prevalence!U231*BQ232","v":65.439001933602938},{"$f":"Prevalence!V231*BR232","v":65.723381111478815},{"$f":"Prevalence!W231*BS232","v":200.33350982158532},{"$f":"Prevalence!X231*BT232","v":125.46962683357359},{"$f":"Prevalence!Y231*BU232","v":451.26503760317564},{"$f":"Prevalence!Z231*BV232","v":141.45168559736632},{"$f":"Prevalence!AA231*BW232","v":476.8394564996874},{"$f":"Prevalence!AB231*BX232","v":973.82565503898229},{"$f":"Prevalence!AC231*BY232","v":0},{"$f":"Prevalence!AD231*BZ232","v":336.8728295781915},{"$f":"Prevalence!AE231*CA232","v":783.48787396558896},{"$f":"Prevalence!AF231*CB232","v":240.12203937157244},{"$f":"Prevalence!AG231*CC232","v":140.67929148701501},{"$f":"Prevalence!AH231*CD232","v":69.884086418411499},{"$f":"Prevalence!AI231*CE232","v":115.45445826085597},{"$f":"Prevalence!AJ231*CF232","v":123.75950317211975},{"$f":"Prevalence!AK231*CG232","v":97.860941490728322},{"$f":"Prevalence!AL231*CH232","v":265.29277395288142},{"$f":"Prevalence!AM231*CI232","v":5.560756608917127},{"$f":"Prevalence!AN231*CJ232","v":248.75282852305978},{"$f":"Prevalence!AO231*CK232","v":347.69029952834182},{"$f":"Prevalence!AP231*CL232","v":56.787651659569455},{"$f":"Prevalence!AQ231*CM232","v":17.541789044186114},{"$f":"Prevalence!AR231*CN232","v":181.29064994597212},{"$f":"Prevalence!AS231*CO232","v":463.17931395226094},{"$f":"Prevalence!AT231*CP232","v":237.3590029629153},{"$f":"Prevalence!AU231*CQ232","v":36.538227582084282},{"$f":"Prevalence!AV231*CR232","v":303.34029689929838},231,28929,1265,185,248,2262,2042,5103,5957,758,2005,6977,18,45,2064,null,2301,2355,389,285,200,248,794,364,1562,486,1527,5258,null,967,2262,1214,473,233,351,447,321,839,18,881,1082,185,45,580,1367,875,138,882]
["Male 20-24",{"$f":"Prevalence!B232*AX233","v":11198.793592399936},{"$f":"Prevalence!C232*AY233","v":394.63633601080477},{"$f":"Prevalence!D232*AZ233","v":35.914352671187167},{"$f":"Prevalence!E232*BA233","v":60.423108441198238},{"$f":"Prevalence!F232*BB233","v":1187.0083749248777},{"$f":"Prevalence!G232*BC233","v":717.64880683436979},{"$f":"Prevalence!H232*BD233","v":2279.6858946992788},{"$f":"Prevalence!I232*BE233","v":1833.1473948977789},{"$f":"Prevalence!J232*BF233","v":243.2118648933795},{"$f":"Prevalence!K232*BG233","v":735.72967212881099},{"$f":"Prevalence!L232*BH233","v":2886.063201988075},{"$f":"Prevalence!M232*BI233","v":6.1786184543523639},{"$f":"Prevalence!N232*BJ233","v":11.30470849514216},{"$f":"Prevalence!O232*BK233","v":613.30542797335568},{"$f":"Prevalence!P232*BL233","v":0},{"$f":"Prevalence!Q232*BM233","v":1268.8586864042552},{"$f":"Prevalence!R232*BN233","v":875.66428738357331},{"$f":"Prevalence!S232*BO233","v":119.8671525573812},{"$f":"Prevalence!T232*BP233","v":106.41596838946744},{"$f":"Prevalence!U232*BQ233","v":41.553766227837862},{"$f":"Prevalence!V232*BR233","v":60.423108441198259},{"$f":"Prevalence!W232*BS233","v":279.81090981377599},{"$f":"Prevalence!X232*BT233","v":128.22720104969608},{"$f":"Prevalence!Y232*BU233","v":476.68842000335457},{"$f":"Prevalence!Z232*BV233","v":126.0258844931268},{"$f":"Prevalence!AA232*BW233","v":493.07760433071797},{"$f":"Prevalence!AB232*BX233","v":1886.3473367386905},{"$f":"Prevalence!AC232*BY233","v":0},{"$f":"Prevalence!AD232*BZ233","v":329.20871142853258},{"$f":"Prevalence!AE232*CA233","v":1187.0083749248777},{"$f":"Prevalence!AF232*CB233","v":489.34260741785027},{"$f":"Prevalence!AG232*CC233","v":129.97219953451494},{"$f":"Prevalence!AH232*CD233","v":72.883403432077216},{"$f":"Prevalence!AI232*CE233","v":118.08589890497805},{"$f":"Prevalence!AJ232*CF233","v":134.83417907119087},{"$f":"Prevalence!AK232*CG233","v":92.373412061341696},{"$f":"Prevalence!AL232*CH233","v":309.87713763268624},{"$f":"Prevalence!AM232*CI233","v":6.1786184543523639},{"$f":"Prevalence!AN232*CJ233","v":200.18814463433529},{"$f":"Prevalence!AO232*CK233","v":372.43350938387073},{"$f":"Prevalence!AP232*CL233","v":35.914352671187167},{"$f":"Prevalence!AQ232*CM233","v":11.304708495142162},{"$f":"Prevalence!AR232*CN233","v":172.53868753478727},{"$f":"Prevalence!AS232*CO233","v":508.58240690734721},{"$f":"Prevalence!AT232*CP233","v":315.48402336670915},{"$f":"Prevalence!AU232*CQ233","v":45.275629829974001},{"$f":"Prevalence!AV232*CR233","v":284.42451874798161},232,38825,1227,117,228,3427,2235,6923,7512,848,2245,11804,20,29,2210,null,4014,2422,392,411,127,228,1109,372,1650,433,1579,10185,null,945,3427,2474,437,243,359,487,303,980,20,709,1159,117,29,552,1501,1163,171,827]
["Male 25-29",{"$f":"Prevalence!B233*AX234","v":14732.660301065118},{"$f":"Prevalence!C233*AY234","v":508.35969672814491},{"$f":"Prevalence!D233*AZ234","v":60.784107257903692},{"$f":"Prevalence!E233*BA234","v":109.68344536258196},{"$f":"Prevalence!F233*BB234","v":1124.594484428316},{"$f":"Prevalence!G233*BC234","v":741.80386293151707},{"$f":"Prevalence!H233*BD234","v":3766.0955978058837},{"$f":"Prevalence!I233*BE234","v":2341.2483650550266},{"$f":"Prevalence!J233*BF234","v":352.527507173912},{"$f":"Prevalence!K233*BG234","v":916.12725819811214},{"$f":"Prevalence!L233*BH234","v":3752.4200002076227},{"$f":"Prevalence!M233*BI234","v":4.4089609373346956},{"$f":"Prevalence!N233*BJ234","v":16.690044489865191},{"$f":"Prevalence!O233*BK234","v":795.58263250254049},{"$f":"Prevalence!P233*BL234","v":0},{"$f":"Prevalence!Q233*BM234","v":2123.1748054805216},{"$f":"Prevalence!R233*BN234","v":1429.9276855907422},{"$f":"Prevalence!S233*BO234","v":141.83138774026315},{"$f":"Prevalence!T233*BP234","v":123.78974152896765},{"$f":"Prevalence!U233*BQ234","v":58.370250047602887},{"$f":"Prevalence!V233*BR234","v":109.68344536258199},{"$f":"Prevalence!W233*BS234","v":314.62639612720528},{"$f":"Prevalence!X233*BT234","v":194.31628003699612},{"$f":"Prevalence!Y233*BU234","v":550.95134220599073},{"$f":"Prevalence!Z233*BV234","v":164.59475905843749},{"$f":"Prevalence!AA233*BW234","v":501.37253430419469},{"$f":"Prevalence!AB233*BX234","v":2430.1226285484458},{"$f":"Prevalence!AC233*BY234","v":0},{"$f":"Prevalence!AD233*BZ234","v":462.99965308523497},{"$f":"Prevalence!AE233*CA234","v":1124.594484428316},{"$f":"Prevalence!AF233*CB234","v":780.16589562859758},{"$f":"Prevalence!AG233*CC234","v":223.37574294893381},{"$f":"Prevalence!AH233*CD234","v":92.031330455868328},{"$f":"Prevalence!AI233*CE234","v":198.92445278509743},{"$f":"Prevalence!AJ233*CF234","v":211.89134065085497},{"$f":"Prevalence!AK233*CG234","v":115.29888320104337},{"$f":"Prevalence!AL233*CH234","v":378.50433921845155},{"$f":"Prevalence!AM233*CI234","v":4.4089609373346956},{"$f":"Prevalence!AN233*CJ234","v":326.40139611336798},{"$f":"Prevalence!AO233*CK234","v":457.45995953821426},{"$f":"Prevalence!AP233*CL234","v":60.784107257903692},{"$f":"Prevalence!AQ233*CM234","v":16.690044489865194},{"$f":"Prevalence!AR233*CN234","v":199.62518036718123},{"$f":"Prevalence!AS233*CO234","v":618.35967005257316},{"$f":"Prevalence!AT233*CP234","v":217.76849629037284},{"$f":"Prevalence!AU233*CQ234","v":47.706180430368413},{"$f":"Prevalence!AV233*CR234","v":363.2186263150229},233,28631,886,111,232,1820,1295,6411,5378,689,1567,8603,8,24,1607,null,3765,2217,260,268,100,232,699,316,1069,317,900,7355,null,745,1820,2211,421,172,339,429,212,671,8,648,798,111,24,358,1023,450,101,592]
["Male 30-34",{"$f":"Prevalence!B234*AX235","v":14142.448245414889},{"$f":"Prevalence!C234*AY235","v":557.70386593652017},{"$f":"Prevalence!D234*AZ235","v":70.640989515942124},{"$f":"Prevalence!E234*BA235","v":103.06461676311581},{"$f":"Prevalence!F234*BB235","v":1184.5316629940012},{"$f":"Prevalence!G234*BC235","v":772.73622478348773},{"$f":"Prevalence!H234*BD235","v":3712.6383057453104},{"$f":"Prevalence!I234*BE235","v":2154.0529769974473},{"$f":"Prevalence!J234*BF235","v":322.85175185303115},{"$f":"Prevalence!K234*BG235","v":970.49856324752147},{"$f":"Prevalence!L234*BH235","v":3405.6602768361176},{"$f":"Prevalence!M234*BI235","v":6.0623212888352063},{"$f":"Prevalence!N234*BJ235","v":26.425903775619883},{"$f":"Prevalence!O234*BK235","v":734.19355569462823},{"$f":"Prevalence!P234*BL235","v":0},{"$f":"Prevalence!Q234*BM235","v":1915.0867568158967},{"$f":"Prevalence!R234*BN235","v":1668.571458107014},{"$f":"Prevalence!S234*BO235","v":135.83082902817509},{"$f":"Prevalence!T234*BP235","v":84.989971796007637},{"$f":"Prevalence!U234*BQ235","v":71.79540755855156},{"$f":"Prevalence!V234*BR235","v":103.06461676311584},{"$f":"Prevalence!W234*BS235","v":275.91699688980947},{"$f":"Prevalence!X234*BT235","v":212.76402814177422},{"$f":"Prevalence!Y234*BU235","v":463.85052196949641},{"$f":"Prevalence!Z234*BV235","v":144.34493065692627},{"$f":"Prevalence!AA234*BW235","v":541.48233704853033},{"$f":"Prevalence!AB234*BX235","v":2143.3318139216544},{"$f":"Prevalence!AC234*BY235","v":0},{"$f":"Prevalence!AD234*BZ235","v":508.98888037155365},{"$f":"Prevalence!AE234*CA235","v":1184.5316629940012},{"$f":"Prevalence!AF234*CB235","v":673.25035226565547},{"$f":"Prevalence!AG234*CC235","v":237.17091947309598},{"$f":"Prevalence!AH234*CD235","v":87.215737583177543},{"$f":"Prevalence!AI234*CE235","v":225.33035359727853},{"$f":"Prevalence!AJ234*CF235","v":166.45077342503058},{"$f":"Prevalence!AK234*CG235","v":122.9129603935651},{"$f":"Prevalence!AL234*CH235","v":404.45247573715312},{"$f":"Prevalence!AM234*CI235","v":6.0623212888352063},{"$f":"Prevalence!AN234*CJ235","v":312.80133794197769},{"$f":"Prevalence!AO234*CK235","v":416.18537672273629},{"$f":"Prevalence!AP234*CL235","v":70.640989515942124},{"$f":"Prevalence!AQ234*CM235","v":26.425903775619886},{"$f":"Prevalence!AR234*CN235","v":223.04489426500695},{"$f":"Prevalence!AS234*CO235","v":681.22321422214077},{"$f":"Prevalence!AT234*CP235","v":196.95950664484832},{"$f":"Prevalence!AU234*CQ235","v":44.872149909752466},{"$f":"Prevalence!AV234*CR235","v":404.32613976621639},234,27484,972,129,218,1917,1349,6320,4948,631,1660,7808,11,38,1483,null,3396,2587,249,184,123,218,613,346,900,278,972,6487,null,819,1917,1908,447,163,384,337,226,717,11,621,726,129,38,400,1127,407,95,659]
["Male 35-39",{"$f":"Prevalence!B235*AX236","v":18383.944584706092},{"$f":"Prevalence!C235*AY236","v":796.37629388995754},{"$f":"Prevalence!D235*AZ236","v":100.31251504541495},{"$f":"Prevalence!E235*BA236","v":127.68632638550956},{"$f":"Prevalence!F235*BB236","v":1598.4627329378316},{"$f":"Prevalence!G235*BC236","v":1220.8418508914465},{"$f":"Prevalence!H235*BD236","v":4436.1633514670548},{"$f":"Prevalence!I235*BE236","v":3022.2095369009712},{"$f":"Prevalence!J235*BF236","v":409.75250739240602},{"$f":"Prevalence!K235*BG236","v":1329.0937593529713},{"$f":"Prevalence!L235*BH236","v":4176.8506018490807},{"$f":"Prevalence!M235*BI236","v":11.001670724503356},{"$f":"Prevalence!N235*BJ236","v":53.895641469076004},{"$f":"Prevalence!O235*BK236","v":953.4034570080496},{"$f":"Prevalence!P235*BL236","v":0},{"$f":"Prevalence!Q235*BM236","v":1999.1590238530453},{"$f":"Prevalence!R235*BN236","v":2368.3163874739298},{"$f":"Prevalence!S235*BO236","v":222.9162380791031},{"$f":"Prevalence!T235*BP236","v":104.68166658669412},{"$f":"Prevalence!U235*BQ236","v":100.07091404518307},{"$f":"Prevalence!V235*BR236","v":127.68632638550962},{"$f":"Prevalence!W235*BS236","v":300.21319243487847},{"$f":"Prevalence!X235*BT236","v":307.60625431774054},{"$f":"Prevalence!Y235*BU236","v":759.52613633078761},{"$f":"Prevalence!Z235*BV236","v":273.75782288849808},{"$f":"Prevalence!AA235*BW236","v":887.03585808237654},{"$f":"Prevalence!AB235*BX236","v":2473.3703973434226},{"$f":"Prevalence!AC235*BY236","v":0},{"$f":"Prevalence!AD235*BZ236","v":800.56108898466107},{"$f":"Prevalence!AE235*CA236","v":1598.4627329378316},{"$f":"Prevalence!AF235*CB236","v":708.94359890358839},{"$f":"Prevalence!AG235*CC236","v":304.66757117801922},{"$f":"Prevalence!AH235*CD236","v":157.7046257577538},{"$f":"Prevalence!AI235*CE236","v":276.99886147829511},{"$f":"Prevalence!AJ235*CF236","v":165.29671916552041},{"$f":"Prevalence!AK235*CG236","v":160.93601286974652},{"$f":"Prevalence!AL235*CH236","v":531.8967600167457},{"$f":"Prevalence!AM235*CI236","v":11.001670724503356},{"$f":"Prevalence!AN235*CJ236","v":428.23190920598449},{"$f":"Prevalence!AO235*CK236","v":671.1333360107958},{"$f":"Prevalence!AP235*CL236","v":100.31251504541495},{"$f":"Prevalence!AQ235*CM236","v":53.895641469076011},{"$f":"Prevalence!AR235*CN236","v":330.00938323102469},{"$f":"Prevalence!AS235*CO236","v":963.18304226797579},{"$f":"Prevalence!AT235*CP236","v":325.04390316730047},{"$f":"Prevalence!AU235*CQ236","v":65.448355255264232},{"$f":"Prevalence!AV235*CR236","v":669.30732184514602},235,30425,1182,156,230,2203,1815,6431,5912,682,1936,8155,17,66,1640,null,3019,3127,348,193,146,230,568,426,1255,449,1356,6375,null,1097,2203,1711,489,251,402,285,252,803,17,724,997,156,66,504,1357,572,118,929]
["Male 40-44",{"$f":"Prevalence!B236*AX237","v":22560.438421008097},{"$f":"Prevalence!C236*AY237","v":1142.0116904767158},{"$f":"Prevalence!D236*AZ237","v":169.75964084608685},{"$f":"Prevalence!E236*BA237","v":194.86043722310373},{"$f":"Prevalence!F236*BB237","v":1961.2550009672987},{"$f":"Prevalence!G236*BC237","v":1608.2825705131947},{"$f":"Prevalence!H236*BD237","v":4960.4183891151597},{"$f":"Prevalence!I236*BE237","v":3918.8528940938504},{"$f":"Prevalence!J236*BF237","v":559.95503942774553},{"$f":"Prevalence!K236*BG237","v":1842.6072572848013},{"$f":"Prevalence!L236*BH237","v":4693.1308479145464},{"$f":"Prevalence!M236*BI237","v":9.707356521620607},{"$f":"Prevalence!N236*BJ237","v":77.577059690336682},{"$f":"Prevalence!O236*BK237","v":1271.3983905345149},{"$f":"Prevalence!P236*BL237","v":0},{"$f":"Prevalence!Q236*BM237","v":2093.852545022633},{"$f":"Prevalence!R236*BN237","v":2722.0112237228345},{"$f":"Prevalence!S236*BO237","v":281.84811711150968},{"$f":"Prevalence!T236*BP237","v":144.27628659098775},{"$f":"Prevalence!U236*BQ237","v":165.18554989650082},{"$f":"Prevalence!V236*BR237","v":194.86043722310382},{"$f":"Prevalence!W236*BS237","v":414.90731700947111},{"$f":"Prevalence!X236*BT237","v":420.25079815240605},{"$f":"Prevalence!Y236*BU237","v":1110.5421993362511},{"$f":"Prevalence!Z236*BV237","v":354.84867020290841},{"$f":"Prevalence!AA236*BW237","v":1170.9396651677389},{"$f":"Prevalence!AB236*BX237","v":2611.8791395946541},{"$f":"Prevalence!AC236*BY237","v":0},{"$f":"Prevalence!AD236*BZ237","v":972.05776711720011},{"$f":"Prevalence!AE236*CA237","v":1961.2550009672987},{"$f":"Prevalence!AF236*CB237","v":790.9838283500585},{"$f":"Prevalence!AG236*CC237","v":414.9460171872409},{"$f":"Prevalence!AH236*CD237","v":220.53515394809398},{"$f":"Prevalence!AI236*CE237","v":415.49829221744261},{"$f":"Prevalence!AJ236*CF237","v":252.29499241053117},{"$f":"Prevalence!AK236*CG237","v":256.09262365384268},{"$f":"Prevalence!AL236*CH237","v":739.22389063348464},{"$f":"Prevalence!AM236*CI237","v":9.707356521620607},{"$f":"Prevalence!AN236*CJ237","v":569.00427714938826},{"$f":"Prevalence!AO236*CK237","v":860.96242402989742},{"$f":"Prevalence!AP236*CL237","v":169.75964084608685},{"$f":"Prevalence!AQ236*CM237","v":77.577059690336682},{"$f":"Prevalence!AR236*CN237","v":466.20373186605076},{"$f":"Prevalence!AS236*CO237","v":1329.433926431775},{"$f":"Prevalence!AT236*CP237","v":464.8355118721185},{"$f":"Prevalence!AU236*CQ237","v":109.26547445158519},{"$f":"Prevalence!AV236*CR237","v":897.69313565021741},236,37337,1695,264,351,2703,2391,7191,7666,932,2684,9163,15,95,2187,null,3162,3594,440,266,241,351,785,582,1835,582,1790,6732,null,1332,2703,1909,666,351,603,435,401,1116,15,962,1279,264,95,712,1873,818,197,1246]
["Male 45-49",{"$f":"Prevalence!B237*AX238","v":24984.305830399997},{"$f":"Prevalence!C237*AY238","v":1300.936141510919},{"$f":"Prevalence!D237*AZ238","v":184.67610017446148},{"$f":"Prevalence!E237*BA238","v":236.67706755486341},{"$f":"Prevalence!F237*BB238","v":2014.6367477322515},{"$f":"Prevalence!G237*BC238","v":1769.371598757182},{"$f":"Prevalence!H237*BD238","v":5120.7308931259595},{"$f":"Prevalence!I237*BE238","v":4548.2157954616705},{"$f":"Prevalence!J237*BF238","v":683.03915616837685},{"$f":"Prevalence!K237*BG238","v":2139.4820697365471},{"$f":"Prevalence!L237*BH238","v":5063.9188616584106},{"$f":"Prevalence!M237*BI238","v":25.081682126829445},{"$f":"Prevalence!N237*BJ238","v":66.543538863599778},{"$f":"Prevalence!O237*BK238","v":1578.9007727198232},{"$f":"Prevalence!P237*BL238","v":0},{"$f":"Prevalence!Q237*BM238","v":2145.9389310944066},{"$f":"Prevalence!R237*BN238","v":2832.2291507942596},{"$f":"Prevalence!S237*BO238","v":388.94303872379618},{"$f":"Prevalence!T237*BP238","v":163.31958925757624},{"$f":"Prevalence!U237*BQ238","v":206.3858748577108},{"$f":"Prevalence!V237*BR238","v":236.67706755486347},{"$f":"Prevalence!W237*BS238","v":441.20767078558066},{"$f":"Prevalence!X237*BT238","v":438.43892459170974},{"$f":"Prevalence!Y237*BU238","v":1315.9174507806331},{"$f":"Prevalence!Z237*BV238","v":502.29292299450412},{"$f":"Prevalence!AA237*BW238","v":1415.8645024465916},{"$f":"Prevalence!AB237*BX238","v":2730.9172619546566},{"$f":"Prevalence!AC237*BY238","v":0},{"$f":"Prevalence!AD237*BZ238","v":1001.5297626858294},{"$f":"Prevalence!AE237*CA238","v":2014.6367477322515},{"$f":"Prevalence!AF237*CB238","v":806.63756532839068},{"$f":"Prevalence!AG237*CC238","v":520.70973642366755},{"$f":"Prevalence!AH237*CD238","v":262.86643653637884},{"$f":"Prevalence!AI237*CE238","v":421.12340395275373},{"$f":"Prevalence!AJ237*CF238","v":257.06121962918809},{"$f":"Prevalence!AK237*CG238","v":298.92066193404474},{"$f":"Prevalence!AL237*CH238","v":851.78189994879858},{"$f":"Prevalence!AM237*CI238","v":25.081682126829445},{"$f":"Prevalence!AN237*CJ238","v":753.5478159023927},{"$f":"Prevalence!AO237*CK238","v":1109.7939943695951},{"$f":"Prevalence!AP237*CL238","v":184.67610017446148},{"$f":"Prevalence!AQ237*CM238","v":66.543538863599792},{"$f":"Prevalence!AR237*CN238","v":560.24918671032583},{"$f":"Prevalence!AS237*CO238","v":1512.2935242831168},{"$f":"Prevalence!AT237*CP238","v":543.819296908051},{"$f":"Prevalence!AU237*CQ238","v":135.59203167163636},{"$f":"Prevalence!AV237*CR238","v":1018.1031699798535},237,41608,1943,289,429,2794,2647,7470,8953,1144,3136,9949,39,82,2733,null,3261,3763,611,303,303,429,840,611,2188,829,2178,7083,null,1381,2794,1959,841,421,615,446,471,1294,39,1282,1659,289,82,861,2144,963,246,1422]
["Male 50-54",{"$f":"Prevalence!B238*AX239","v":23948.497150399995},{"$f":"Prevalence!C238*AY239","v":1359.8565637718355},{"$f":"Prevalence!D238*AZ239","v":171.89574722121154},{"$f":"Prevalence!E238*BA239","v":244.95248949734116},{"$f":"Prevalence!F238*BB239","v":1917.293884115983},{"$f":"Prevalence!G238*BC239","v":1530.0686020231167},{"$f":"Prevalence!H238*BD239","v":4924.6761360397441},{"$f":"Prevalence!I238*BE239","v":4418.6731809366256},{"$f":"Prevalence!J238*BF239","v":659.75373038990949},{"$f":"Prevalence!K238*BG239","v":2131.2952761023512},{"$f":"Prevalence!L238*BH239","v":4711.1903692341193},{"$f":"Prevalence!M238*BI239","v":21.222961799624915},{"$f":"Prevalence!N238*BJ239","v":42.198341718380348},{"$f":"Prevalence!O238*BK239","v":1582.3670751846307},{"$f":"Prevalence!P238*BL239","v":0},{"$f":"Prevalence!Q238*BM239","v":2089.3456320836372},{"$f":"Prevalence!R238*BN239","v":2710.2995407946132},{"$f":"Prevalence!S238*BO239","v":371.75570313371026},{"$f":"Prevalence!T238*BP239","v":185.957948164567},{"$f":"Prevalence!U238*BQ239","v":185.27048832111333},{"$f":"Prevalence!V238*BR239","v":244.95248949734122},{"$f":"Prevalence!W238*BS239","v":503.18684358641224},{"$f":"Prevalence!X238*BT239","v":420.4995250584974},{"$f":"Prevalence!Y238*BU239","v":1306.2946540656012},{"$f":"Prevalence!Z238*BV239","v":456.24435586834937},{"$f":"Prevalence!AA238*BW239","v":1365.1586111743995},{"$f":"Prevalence!AB238*BX239","v":2561.6566833865227},{"$f":"Prevalence!AC238*BY239","v":0},{"$f":"Prevalence!AD238*BZ239","v":856.48562616362381},{"$f":"Prevalence!AE238*CA239","v":1917.293884115983},{"$f":"Prevalence!AF238*CB239","v":724.69735323020302},{"$f":"Prevalence!AG238*CC239","v":470.55814468726203},{"$f":"Prevalence!AH238*CD239","v":276.60292490645088},{"$f":"Prevalence!AI238*CE239","v":377.98393330393509},{"$f":"Prevalence!AJ238*CF239","v":235.15914262042318},{"$f":"Prevalence!AK238*CG239","v":302.09391736858873},{"$f":"Prevalence!AL238*CH239","v":850.46539005706938},{"$f":"Prevalence!AM238*CI239","v":21.222961799624915},{"$f":"Prevalence!AN238*CJ239","v":703.58559721931681},{"$f":"Prevalence!AO238*CK239","v":1111.8008551189073},{"$f":"Prevalence!AP238*CL239","v":171.89574722121154},{"$f":"Prevalence!AQ238*CM239","v":42.198341718380355},{"$f":"Prevalence!AR238*CN239","v":630.5243460189381},{"$f":"Prevalence!AS238*CO239","v":1538.39187334957},{"$f":"Prevalence!AT238*CP239","v":472.10065650584693},{"$f":"Prevalence!AU238*CQ239","v":116.85166957067848},{"$f":"Prevalence!AV238*CR239","v":935.76711896179233},238,39883,2031,269,444,2659,2289,7184,8698,1105,3124,9256,33,52,2739,null,3175,3601,584,345,272,444,958,586,2172,753,2100,6644,null,1181,2659,1760,760,443,552,408,476,1292,33,1197,1662,269,52,969,2181,836,212,1307]
["Male 55-59",{"$f":"Prevalence!B239*AX240","v":15682.179363513107},{"$f":"Prevalence!C239*AY240","v":926.00185159053217},{"$f":"Prevalence!D239*AZ240","v":127.31169322607678},{"$f":"Prevalence!E239*BA240","v":152.68100102245037},{"$f":"Prevalence!F239*BB240","v":1256.865255417337},{"$f":"Prevalence!G239*BC240","v":1018.9047673761589},{"$f":"Prevalence!H239*BD240","v":3245.9822686142347},{"$f":"Prevalence!I239*BE240","v":2920.3987705794143},{"$f":"Prevalence!J239*BF240","v":453.75122747889725},{"$f":"Prevalence!K239*BG240","v":1346.3638696548157},{"$f":"Prevalence!L239*BH240","v":2995.3426408052383},{"$f":"Prevalence!M239*BI240","v":12.579939858550409},{"$f":"Prevalence!N239*BJ240","v":24.104528787185558},{"$f":"Prevalence!O239*BK240","v":1062.2569264093115},{"$f":"Prevalence!P239*BL240","v":0},{"$f":"Prevalence!Q239*BM240","v":1395.4427721787597},{"$f":"Prevalence!R239*BN240","v":1783.5999951196541},{"$f":"Prevalence!S239*BO240","v":284.08496727061748},{"$f":"Prevalence!T239*BP240","v":115.97779513003687},{"$f":"Prevalence!U239*BQ240","v":142.11914240444599},{"$f":"Prevalence!V239*BR240","v":152.68100102245043},{"$f":"Prevalence!W239*BS240","v":304.04180063646857},{"$f":"Prevalence!X239*BT240","v":282.8066006018397},{"$f":"Prevalence!Y239*BU240","v":901.93330128525201},{"$f":"Prevalence!Z239*BV240","v":288.39693896692984},{"$f":"Prevalence!AA239*BW240","v":892.94538977400759},{"$f":"Prevalence!AB239*BX240","v":1665.0725870758636},{"$f":"Prevalence!AC239*BY240","v":0},{"$f":"Prevalence!AD239*BZ240","v":541.1655650776022},{"$f":"Prevalence!AE239*CA240","v":1256.865255417337},{"$f":"Prevalence!AF239*CB240","v":492.80692113544211},{"$f":"Prevalence!AG239*CC240","v":337.31860170634792},{"$f":"Prevalence!AH239*CD240","v":166.91760949726967},{"$f":"Prevalence!AI239*CE240","v":230.18392491127068},{"$f":"Prevalence!AJ239*CF240","v":141.13708828299565},{"$f":"Prevalence!AK239*CG240","v":235.41153403011882},{"$f":"Prevalence!AL239*CH240","v":519.80850022487346},{"$f":"Prevalence!AM239*CI240","v":12.579939858550409},{"$f":"Prevalence!AN239*CJ240","v":478.21731277332384},{"$f":"Prevalence!AO239*CK240","v":702.72715296065599},{"$f":"Prevalence!AP239*CL240","v":127.31169322607678},{"$f":"Prevalence!AQ239*CM240","v":24.104528787185561},{"$f":"Prevalence!AR239*CN240","v":402.11461937092366},{"$f":"Prevalence!AS239*CO240","v":982.17176034231989},{"$f":"Prevalence!AT239*CP240","v":321.56858986568466},{"$f":"Prevalence!AU239*CQ240","v":83.857344199386404},{"$f":"Prevalence!AV239*CR240","v":539.96507561881037},239,36049,1909,275,382,2406,2104,6536,7935,1049,2724,8123,27,41,2538,null,2927,3271,616,297,288,382,799,544,2070,657,1896,5961,null,1030,2406,1652,752,369,464,338,512,1090,27,1123,1450,275,41,853,1922,786,210,1041]
["Male 60-64",{"$f":"Prevalence!B240*AX241","v":14648.127369086891},{"$f":"Prevalence!C240*AY241","v":1020.590830668664},{"$f":"Prevalence!D240*AZ241","v":130.08940289646392},{"$f":"Prevalence!E240*BA241","v":174.26417917745647},{"$f":"Prevalence!F240*BB241","v":1270.9697283584294},{"$f":"Prevalence!G240*BC241","v":968.05638307269101},{"$f":"Prevalence!H240*BD241","v":2888.4077225000597},{"$f":"Prevalence!I240*BE241","v":2598.731659617044},{"$f":"Prevalence!J240*BF241","v":453.75122747889725},{"$f":"Prevalence!K240*BG241","v":1208.9596274506898},{"$f":"Prevalence!L240*BH241","v":2755.6562298088816},{"$f":"Prevalence!M240*BI241","v":11.648092461620749},{"$f":"Prevalence!N240*BJ241","v":27.632020804822467},{"$f":"Prevalence!O240*BK241","v":1047.1894522758462},{"$f":"Prevalence!P240*BL241","v":0},{"$f":"Prevalence!Q240*BM241","v":1223.3365744484788},{"$f":"Prevalence!R240*BN241","v":1595.4795431733744},{"$f":"Prevalence!S240*BO241","v":308.06616580644885},{"$f":"Prevalence!T240*BP241","v":114.41580462323503},{"$f":"Prevalence!U240*BQ241","v":150.01465031580409},{"$f":"Prevalence!V240*BR241","v":174.2641791774565},{"$f":"Prevalence!W240*BS241","v":270.5553444962818},{"$f":"Prevalence!X240*BT241","v":281.24700537793251},{"$f":"Prevalence!Y240*BU241","v":809.5613883033808},{"$f":"Prevalence!Z240*BV241","v":257.23075530383699},{"$f":"Prevalence!AA240*BW241","v":753.54041331139877},{"$f":"Prevalence!AB240*BX241","v":1538.2577985282303},{"$f":"Prevalence!AC240*BY241","v":0},{"$f":"Prevalence!AD240*BZ241","v":470.23609781014949},{"$f":"Prevalence!AE240*CA241","v":1270.9697283584294},{"$f":"Prevalence!AF240*CB241","v":443.28758160246184},{"$f":"Prevalence!AG240*CC241","v":339.11284958776463},{"$f":"Prevalence!AH240*CD241","v":139.32418353701641},{"$f":"Prevalence!AI240*CE241","v":247.54693648862948},{"$f":"Prevalence!AJ240*CF241","v":135.29117338369997},{"$f":"Prevalence!AK240*CG241","v":269.43585730790943},{"$f":"Prevalence!AL240*CH241","v":465.92009607312059},{"$f":"Prevalence!AM240*CI241","v":11.648092461620749},{"$f":"Prevalence!AN240*CJ241","v":478.21731277332384},{"$f":"Prevalence!AO240*CK241","v":638.27011065460965},{"$f":"Prevalence!AP240*CL241","v":130.08940289646392},{"$f":"Prevalence!AQ240*CM241","v":27.632020804822471},{"$f":"Prevalence!AR240*CN241","v":460.56973402742369},{"$f":"Prevalence!AS240*CO241","v":921.36091774048009},{"$f":"Prevalence!AT240*CP241","v":327.29627467245257},{"$f":"Prevalence!AU240*CQ241","v":63.092668492871674},{"$f":"Prevalence!AV240*CR241","v":456.9733252835465},240,33672,2104,281,436,2433,1999,5816,7061,1049,2446,7473,25,47,2502,null,2566,2926,668,293,304,436,711,541,1858,586,1600,5507,null,895,2433,1486,756,308,499,324,586,977,25,1123,1317,281,47,977,1803,800,158,881]
["Male 65-69",null,null,null,null,null,null,null,null,null,null,null,null,null,null,null,null,null,null,null,null,null,null,null,null,null,null,null,null,null,null,null,null,null,null,null,null,null,null,null,null,null,null,null,null,null,null,null,241]
["Male 70-74",null,null,null,null,null,null,null,null,null,null,null,null,null,null,null,null,null,null,null,null,null,null,null,null,null,null,null,null,null,null,null,null,null,null,null,null,null,null,null,null,null,null,null,null,null,null,null,242]
["Male 75-79",null,null,null,null,null,null,null,null,null,null,null,null,null,null,null,null,null,null,null,null,null,null,null,null,null,null,null,null,null,null,null,null,null,null,null,null,null,null,null,null,null,null,null,null,null,null,null,243]
["Male 80-84",null,null,null,null,null,null,null,null,null,null,null,null,null,null,null,null,null,null,null,null,null,null,null,null,null,null,null,null,null,null,null,null,null,null,null,null,null,null,null,null,null,null,null,null,null,null,null,244]
["Male 85-89",null,null,null,null,null,null,null,null,null,null,null,null,null,null,null,null,null,null,null,null,null,null,null,null,null,null,null,null,null,null,null,null,null,null,null,null,null,null,null,null,null,null,null,null,null,null,null,245]
["Male 90+",null,null,null,null,null,null,null,null,null,null,null,null,null,null,null,null,null,null,null,null,null,null,null,null,null,null,null,null,null,null,null,null,null,null,null,null,null,null,null,null,null,null,null,null,null,null,null,246]
["Female <1",null,null,null,null,null,null,null,null,null,null,null,null,null,null,null,null,null,null,null,null,null,null,null,null,null,null,null,null,null,null,null,null,null,null,null,null,null,null,null,null,null,null,null,null,null,null,null,247]
["Female 1-4",null,null,null,null,null,null,null,null,null,null,null,null,null,null,null,null,null,null,null,null,null,null,null,null,null,null,null,null,null,null,null,null,null,null,null,null,null,null,null,null,null,null,null,null,null,null,null,248]
["Female 5-9",null,null,null,null,null,null,null,null,null,null,null,null,null,null,null,null,null,null,null,null,null,null,null,null,null,null,null,null,null,null,null,null,null,null,null,null,null,null,null,null,null,null,null,null,null,null,null,249]
["Female 10-14",null,null,null,null,null,null,null,null,null,null,null,null,null,null,null,null,null,null,null,null,null,null,null,null,null,null,null,null,null,null,null,null,null,null,null,null,null,null,null,null,null,null,null,null,null,null,null,250]
["Female 15-19 (16+)",{"$f":"Prevalence!B251*AX252","v":5996.94346891236},{"$f":"Prevalence!C251*AY252","v":246.15506392681957},{"$f":"Prevalence!D251*AZ252","v":35.61282953295995},{"$f":"Prevalence!E251*BA252","v":55.913406814583382},{"$f":"Prevalence!F251*BB252","v":610.79897389832797},{"$f":"Prevalence!G251*BC252","v":432.51171452069639},{"$f":"Prevalence!H251*BD252","v":1204.0353598999491},{"$f":"Prevalence!I251*BE252","v":1033.3539115816466},{"$f":"Prevalence!J251*BF252","v":156.77855531951434},{"$f":"Prevalence!K251*BG252","v":475.16052439476545},{"$f":"Prevalence!L251*BH252","v":1210.4249754151481},{"$f":"Prevalence!M251*BI252","v":3.8158341407918184},{"$f":"Prevalence!N251*BJ252","v":11.439838365134776},{"$f":"Prevalence!O251*BK252","v":438.92058871512381},{"$f":"Prevalence!P251*BL252","v":0},{"$f":"Prevalence!Q251*BM252","v":493.83786999006099},{"$f":"Prevalence!R251*BN252","v":606.80156874446971},{"$f":"Prevalence!S251*BO252","v":93.156128899281711},{"$f":"Prevalence!T251*BP252","v":48.523651164284374},{"$f":"Prevalence!U251*BQ252","v":46.989397577458554},{"$f":"Prevalence!V251*BR252","v":55.913406814583396},{"$f":"Prevalence!W251*BS252","v":172.80077217602286},{"$f":"Prevalence!X251*BT252","v":81.24771998468357},{"$f":"Prevalence!Y251*BU252","v":365.34612194316338},{"$f":"Prevalence!Z251*BV252","v":86.308446663505165},{"$f":"Prevalence!AA251*BW252","v":358.83456536599897},{"$f":"Prevalence!AB251*BX252","v":708.98631099327599},{"$f":"Prevalence!AC251*BY252","v":0},{"$f":"Prevalence!AD251*BZ252","v":176.03316087610077},{"$f":"Prevalence!AE251*CA252","v":610.79897389832797},{"$f":"Prevalence!AF251*CB252","v":173.7585332537424},{"$f":"Prevalence!AG251*CC252","v":108.33408441433997},{"$f":"Prevalence!AH251*CD252","v":59.515303983190535},{"$f":"Prevalence!AI251*CE252","v":86.352578146448877},{"$f":"Prevalence!AJ251*CF252","v":87.977072716420508},{"$f":"Prevalence!AK251*CG252","v":52.785355287111557},{"$f":"Prevalence!AL251*CH252","v":181.3491702420863},{"$f":"Prevalence!AM251*CI252","v":3.8158341407918175},{"$f":"Prevalence!AN251*CJ252","v":163.70598280954636},{"$f":"Prevalence!AO251*CK252","v":217.59966187384896},{"$f":"Prevalence!AP251*CL252","v":35.61282953295995},{"$f":"Prevalence!AQ251*CM252","v":11.439838365134776},{"$f":"Prevalence!AR251*CN252","v":118.60996880341497},{"$f":"Prevalence!AS251*CO252","v":353.0854739181853},{"$f":"Prevalence!AT251*CP252","v":191.63129150868778},{"$f":"Prevalence!AU251*CQ252","v":29.759895404611523},{"$f":"Prevalence!AV251*CR252","v":194.07980773986733},251,27281,1118,151,236,2501,1817,4707,5420,654,1873,6649,16,38,2101,null,2240,2111,372,205,188,236,875,356,1334,388,1356,5201,null,696,2501,1162,449,253,338,356,266,751,16,854,973,151,38,496,1326,933,138,722]
["Female 20-24",{"$f":"Prevalence!B252*AX253","v":8356.7245670676402},{"$f":"Prevalence!C252*AY253","v":244.83401707211391},{"$f":"Prevalence!D252*AZ253","v":21.226189787856921},{"$f":"Prevalence!E252*BA253","v":56.150328029899413},{"$f":"Prevalence!F252*BB253","v":899.46926064275976},{"$f":"Prevalence!G252*BC253","v":496.06737097475582},{"$f":"Prevalence!H252*BD253","v":1647.5869456374703},{"$f":"Prevalence!I252*BE253","v":1407.2297456428291},{"$f":"Prevalence!J252*BF253","v":146.23076260688646},{"$f":"Prevalence!K252*BG253","v":498.75365240795986},{"$f":"Prevalence!L252*BH253","v":2213.1352723901268},{"$f":"Prevalence!M252*BI253","v":3.5773445069923295},{"$f":"Prevalence!N252*BJ253","v":9.6335480969556002},{"$f":"Prevalence!O252*BK253","v":461.27399328081549},{"$f":"Prevalence!P252*BL253","v":0},{"$f":"Prevalence!Q252*BM253","v":931.67805293660615},{"$f":"Prevalence!R252*BN253","v":564.25934601866129},{"$f":"Prevalence!S252*BO253","v":78.882205922778866},{"$f":"Prevalence!T252*BP253","v":45.919943053030089},{"$f":"Prevalence!U252*BQ253","v":27.993683663166799},{"$f":"Prevalence!V252*BR253","v":56.150328029899427},{"$f":"Prevalence!W252*BS253","v":247.84567894960992},{"$f":"Prevalence!X252*BT253","v":89.920229421250923},{"$f":"Prevalence!Y252*BU253","v":386.16044373302879},{"$f":"Prevalence!Z252*BV253","v":87.643113364487206},{"$f":"Prevalence!AA252*BW253","v":376.56459182582341},{"$f":"Prevalence!AB252*BX253","v":1469.6368811418013},{"$f":"Prevalence!AC252*BY253","v":0},{"$f":"Prevalence!AD252*BZ253","v":187.66753645124538},{"$f":"Prevalence!AE252*CA253","v":899.46926064275976},{"$f":"Prevalence!AF252*CB253","v":433.94773106915699},{"$f":"Prevalence!AG252*CC253","v":100.37189112776264},{"$f":"Prevalence!AH252*CD253","v":46.577194421627375},{"$f":"Prevalence!AI252*CE253","v":94.272489159880578},{"$f":"Prevalence!AJ252*CF253","v":62.275905406005528},{"$f":"Prevalence!AK252*CG253","v":52.190031731241881},{"$f":"Prevalence!AL252*CH253","v":199.70141649827613},{"$f":"Prevalence!AM252*CI253","v":3.5773445069923291},{"$f":"Prevalence!AN252*CJ253","v":122.30025413640583},{"$f":"Prevalence!AO252*CK253","v":243.09438073676654},{"$f":"Prevalence!AP252*CL253","v":21.226189787856921},{"$f":"Prevalence!AQ252*CM253","v":9.6335480969556002},{"$f":"Prevalence!AR252*CN253","v":108.80551573700366},{"$f":"Prevalence!AS252*CO253","v":361.34011169455312},{"$f":"Prevalence!AT252*CP253","v":252.63289234264306},{"$f":"Prevalence!AU252*CQ253","v":30.838152484488752},{"$f":"Prevalence!AV252*CR253","v":164.77967056030289},252,38016,1112,90,237,3683,2084,6441,7381,610,1966,12157,15,32,2208,null,4226,1963,315,194,112,237,1255,394,1410,394,1423,10781,null,742,3683,2902,416,198,369,252,263,827,15,638,1087,90,32,455,1357,1230,143,613]
["Female 25-29",{"$f":"Prevalence!B253*AX254","v":14348.287071744669},{"$f":"Prevalence!C253*AY254","v":464.3757379993404},{"$f":"Prevalence!D253*AZ254","v":53.731316488277464},{"$f":"Prevalence!E253*BA254","v":115.74267098764216},{"$f":"Prevalence!F253*BB254","v":990.61102754496426},{"$f":"Prevalence!G253*BC254","v":703.87394790036967},{"$f":"Prevalence!H253*BD254","v":3712.269112965997},{"$f":"Prevalence!I253*BE254","v":2246.5708314179492},{"$f":"Prevalence!J253*BF254","v":330.50134007997764},{"$f":"Prevalence!K253*BG254","v":881.84144206994597},{"$f":"Prevalence!L253*BH254","v":3729.6976706511095},{"$f":"Prevalence!M253*BI254","v":11.762916525248569},{"$f":"Prevalence!N253*BJ254","v":19.090894140579181},{"$f":"Prevalence!O253*BK254","v":769.3645520567394},{"$f":"Prevalence!P253*BL254","v":0},{"$f":"Prevalence!Q253*BM254","v":1846.4770957830867},{"$f":"Prevalence!R253*BN254","v":1537.2613414503501},{"$f":"Prevalence!S253*BO254","v":153.50948483144356},{"$f":"Prevalence!T253*BP254","v":77.83122396802834},{"$f":"Prevalence!U253*BQ254","v":56.942951745081487},{"$f":"Prevalence!V253*BR254","v":115.7426709876422},{"$f":"Prevalence!W253*BS254","v":301.49297420755892},{"$f":"Prevalence!X253*BT254","v":184.39359886541658},{"$f":"Prevalence!Y253*BU254","v":544.82659151184998},{"$f":"Prevalence!Z253*BV254","v":132.70323348008546},{"$f":"Prevalence!AA253*BW254","v":541.35100786676799},{"$f":"Prevalence!AB253*BX254","v":2436.1543109513686},{"$f":"Prevalence!AC253*BY254","v":0},{"$f":"Prevalence!AD253*BZ254","v":415.82395170228335},{"$f":"Prevalence!AE253*CA254","v":990.61102754496426},{"$f":"Prevalence!AF253*CB254","v":780.38745995283193},{"$f":"Prevalence!AG253*CC254","v":253.31010387117303},{"$f":"Prevalence!AH253*CD254","v":81.217886412775002},{"$f":"Prevalence!AI253*CE254","v":188.41456406461637},{"$f":"Prevalence!AJ253*CF254","v":195.02262625871376},{"$f":"Prevalence!AK253*CG254","v":91.817243879253184},{"$f":"Prevalence!AL253*CH254","v":344.26315182434541},{"$f":"Prevalence!AM253*CI254","v":11.762916525248567},{"$f":"Prevalence!AN253*CJ254","v":295.80006422643493},{"$f":"Prevalence!AO253*CK254","v":359.80083014953749},{"$f":"Prevalence!AP253*CL254","v":53.731316488277464},{"$f":"Prevalence!AQ253*CM254","v":19.090894140579181},{"$f":"Prevalence!AR253*CN254","v":200.50903411785703},{"$f":"Prevalence!AS253*CO254","v":649.17217088993561},{"$f":"Prevalence!AT253*CP254","v":222.87069737336748},{"$f":"Prevalence!AU253*CQ254","v":40.519913978692045},{"$f":"Prevalence!AV253*CR254","v":344.71645275117675},253,27791,898,97,208,1727,1259,6179,5017,587,1480,8723,21,27,1568,null,3566,2277,261,140,97,208,650,344,847,254,871,7609,null,700,1727,2222,447,147,314,336,197,607,21,657,685,97,27,357,1038,462,80,546]
["Female 30-34",{"$f":"Prevalence!B254*AX255","v":15139.247303255332},{"$f":"Prevalence!C254*AY255","v":538.32421298141799},{"$f":"Prevalence!D254*AZ255","v":81.98180247695943},{"$f":"Prevalence!E254*BA255","v":136.887966648846},{"$f":"Prevalence!F254*BB255","v":1159.8236813525871},{"$f":"Prevalence!G254*BC255","v":864.88721000942962},{"$f":"Prevalence!H254*BD255","v":3810.7983465841266},{"$f":"Prevalence!I254*BE255","v":2480.7658772285108},{"$f":"Prevalence!J254*BF255","v":349.08148355977193},{"$f":"Prevalence!K254*BG255","v":1073.7015396013801},{"$f":"Prevalence!L254*BH255","v":3557.3867499503876},{"$f":"Prevalence!M254*BI255","v":8.4020832323204058},{"$f":"Prevalence!N254*BJ255","v":37.474718127803577},{"$f":"Prevalence!O254*BK255","v":797.82318982414427},{"$f":"Prevalence!P254*BL255","v":0},{"$f":"Prevalence!Q254*BM255","v":1703.0463174510858},{"$f":"Prevalence!R254*BN255","v":1861.3217032844159},{"$f":"Prevalence!S254*BO255","v":172.33057109430254},{"$f":"Prevalence!T254*BP255","v":77.275286653970994},{"$f":"Prevalence!U254*BQ255","v":75.141214673921965},{"$f":"Prevalence!V254*BR255","v":136.88796664884606},{"$f":"Prevalence!W254*BS255","v":294.07160868860359},{"$f":"Prevalence!X254*BT255","v":204.22663130152245},{"$f":"Prevalence!Y254*BU255","v":697.91836102757645},{"$f":"Prevalence!Z254*BV255","v":161.43818561160001},{"$f":"Prevalence!AA254*BW255","v":691.13928903311819},{"$f":"Prevalence!AB254*BX255","v":2192.8270305829838},{"$f":"Prevalence!AC254*BY255","v":0},{"$f":"Prevalence!AD254*BZ255","v":561.36233479808254},{"$f":"Prevalence!AE254*CA255","v":1159.8236813525871},{"$f":"Prevalence!AF254*CB255","v":698.90686107386841},{"$f":"Prevalence!AG254*CC255","v":272.57753906495356},{"$f":"Prevalence!AH254*CD255","v":116.57805464690833},{"$f":"Prevalence!AI254*CE255","v":258.61999080206897},{"$f":"Prevalence!AJ254*CF255","v":172.38607142511304},{"$f":"Prevalence!AK254*CG255","v":115.12111288413978},{"$f":"Prevalence!AL254*CH255","v":422.5305570167007},{"$f":"Prevalence!AM254*CI255","v":8.402083232320404},{"$f":"Prevalence!AN254*CJ255","v":314.70965737333034},{"$f":"Prevalence!AO254*CK255","v":432.8115095521444},{"$f":"Prevalence!AP254*CL255","v":81.98180247695943},{"$f":"Prevalence!AQ254*CM255","v":37.474718127803577},{"$f":"Prevalence!AR254*CN255","v":231.96143162654047},{"$f":"Prevalence!AS254*CO255","v":786.76164834252313},{"$f":"Prevalence!AT254*CP255","v":228.65954665579261},{"$f":"Prevalence!AU254*CQ255","v":59.260374193837116},{"$f":"Prevalence!AV254*CR255","v":461.51598344525672},254,29323,1041,148,246,2022,1547,6343,5540,620,1802,8320,15,53,1626,null,3289,2757,293,139,128,246,634,381,1085,309,1112,6849,null,945,2022,1990,481,211,431,297,247,745,15,699,824,148,53,413,1258,474,117,731]
["Female 35-39",{"$f":"Prevalence!B255*AX256","v":17824.356043589978},{"$f":"Prevalence!C255*AY256","v":723.81525423722337},{"$f":"Prevalence!D255*AZ256","v":115.5263466961421},{"$f":"Prevalence!E255*BA256","v":141.77578938320079},{"$f":"Prevalence!F255*BB256","v":1455.896059013078},{"$f":"Prevalence!G255*BC256","v":1137.7408139188667},{"$f":"Prevalence!H255*BD256","v":4048.9562974090195},{"$f":"Prevalence!I255*BE256","v":3139.6437482800538},{"$f":"Prevalence!J255*BF256","v":441.8568033441461},{"$f":"Prevalence!K255*BG256","v":1404.0833897199923},{"$f":"Prevalence!L255*BH256","v":3859.2574340914111},{"$f":"Prevalence!M255*BI256","v":12.043404652463812},{"$f":"Prevalence!N255*BJ256","v":53.969005674627475},{"$f":"Prevalence!O255*BK256","v":1016.4625715850125},{"$f":"Prevalence!P255*BL256","v":0},{"$f":"Prevalence!Q255*BM256","v":1550.8409527642964},{"$f":"Prevalence!R255*BN256","v":2299.2882014277097},{"$f":"Prevalence!S255*BO256","v":263.03382483267853},{"$f":"Prevalence!T255*BP256","v":110.56587712993912},{"$f":"Prevalence!U255*BQ256","v":105.39215271734267},{"$f":"Prevalence!V255*BR256","v":141.77578938320082},{"$f":"Prevalence!W255*BS256","v":335.58494270845642},{"$f":"Prevalence!X255*BT256","v":269.10876384727152},{"$f":"Prevalence!Y255*BU256","v":1033.1159010350539},{"$f":"Prevalence!Z255*BV256","v":287.56850003664601},{"$f":"Prevalence!AA255*BW256","v":1039.6662595501436},{"$f":"Prevalence!AB255*BX256","v":2214.875523125876},{"$f":"Prevalence!AC255*BY256","v":0},{"$f":"Prevalence!AD255*BZ256","v":702.46988246919591},{"$f":"Prevalence!AE255*CA256","v":1455.896059013078},{"$f":"Prevalence!AF255*CB256","v":657.33773084244524},{"$f":"Prevalence!AG255*CC256","v":332.0206189176497},{"$f":"Prevalence!AH255*CD256","v":168.68491682095646},{"$f":"Prevalence!AI255*CE256","v":296.08817965771971},{"$f":"Prevalence!AJ255*CF256","v":196.55307364786273},{"$f":"Prevalence!AK255*CG256","v":130.27315665305082},{"$f":"Prevalence!AL255*CH256","v":556.0582011647133},{"$f":"Prevalence!AM255*CI256","v":12.04340465246381},{"$f":"Prevalence!AN255*CJ256","v":405.60236225148043},{"$f":"Prevalence!AO255*CK256","v":595.72744973140072},{"$f":"Prevalence!AP255*CL256","v":115.5263466961421},{"$f":"Prevalence!AQ255*CM256","v":53.969005674627475},{"$f":"Prevalence!AR255*CN256","v":347.1819484499859},{"$f":"Prevalence!AS255*CO256","v":1033.379806379193},{"$f":"Prevalence!AT255*CP256","v":324.64512992912728},{"$f":"Prevalence!AU255*CQ256","v":73.508211947717641},{"$f":"Prevalence!AV255*CR256","v":671.93633560734247},255,32114,1302,194,237,2361,1893,6269,6522,730,2192,8396,20,71,1927,null,2786,3168,416,185,167,237,673,467,1494,512,1556,6435,null,1100,2361,1741,545,284,459,315,260,912,20,838,1055,194,71,575,1537,626,135,990]
["Female 40-44",{"$f":"Prevalence!B256*AX257","v":22499.405895840035},{"$f":"Prevalence!C256*AY257","v":1014.5643924600098},{"$f":"Prevalence!D256*AZ257","v":153.04263454076556},{"$f":"Prevalence!E256*BA257","v":223.73057058783587},{"$f":"Prevalence!F256*BB257","v":1783.3339274315213},{"$f":"Prevalence!G256*BC257","v":1583.701555560599},{"$f":"Prevalence!H256*BD257","v":4741.328470135526},{"$f":"Prevalence!I256*BE257","v":4209.7799108722893},{"$f":"Prevalence!J256*BF257","v":607.09914212901174},{"$f":"Prevalence!K256*BG257","v":1930.6146608649894},{"$f":"Prevalence!L256*BH257","v":4542.303711730744},{"$f":"Prevalence!M256*BI257","v":12.043404652463812},{"$f":"Prevalence!N256*BJ257","v":60.050020398529163},{"$f":"Prevalence!O256*BK257","v":1302.8866382018582},{"$f":"Prevalence!P256*BL257","v":0},{"$f":"Prevalence!Q256*BM257","v":1750.680113583529},{"$f":"Prevalence!R256*BN257","v":2727.5015975269357},{"$f":"Prevalence!S256*BO257","v":331.32145243347009},{"$f":"Prevalence!T256*BP257","v":179.89367035736041},{"$f":"Prevalence!U256*BQ257","v":164.08359105694069},{"$f":"Prevalence!V256*BR257","v":223.7305705878359},{"$f":"Prevalence!W256*BS257","v":403.8986680443532},{"$f":"Prevalence!X256*BT257","v":356.69876835430637},{"$f":"Prevalence!Y256*BU257","v":1417.5954465340433},{"$f":"Prevalence!Z256*BV257","v":407.20148930970385},{"$f":"Prevalence!AA256*BW257","v":1462.6153227218924},{"$f":"Prevalence!AB256*BX257","v":2455.8099234659094},{"$f":"Prevalence!AC256*BY257","v":0},{"$f":"Prevalence!AD256*BZ257","v":888.94370581556427},{"$f":"Prevalence!AE256*CA257","v":1783.3339274315213},{"$f":"Prevalence!AF256*CB257","v":760.79007906233608},{"$f":"Prevalence!AG256*CC257","v":427.66692565172497},{"$f":"Prevalence!AH256*CD257","v":242.33607768644447},{"$f":"Prevalence!AI256*CE257","v":418.00684186972194},{"$f":"Prevalence!AJ256*CF257","v":273.30236907226629},{"$f":"Prevalence!AK256*CG257","v":202.42444341474052},{"$f":"Prevalence!AL256*CH257","v":789.57825713629791},{"$f":"Prevalence!AM256*CI257","v":12.04340465246381},{"$f":"Prevalence!AN256*CJ257","v":549.83804715713813},{"$f":"Prevalence!AO256*CK257","v":875.80405169042888},{"$f":"Prevalence!AP256*CL257","v":153.04263454076556},{"$f":"Prevalence!AQ256*CM257","v":60.050020398529163},{"$f":"Prevalence!AR256*CN257","v":484.24334375111079},{"$f":"Prevalence!AS256*CO257","v":1368.2029316731671},{"$f":"Prevalence!AT256*CP257","v":509.78620242864554},{"$f":"Prevalence!AU256*CQ257","v":117.61313911634822},{"$f":"Prevalence!AV256*CR257","v":932.56618699443288},256,40537,1825,257,374,2892,2635,7341,8745,1003,3014,9882,20,79,2470,null,3145,3758,524,301,260,374,810,619,2050,725,2189,7135,null,1392,2892,2015,702,408,648,438,404,1295,20,1136,1551,257,79,802,2035,983,216,1374]
["Female 45-49",{"$f":"Prevalence!B257*AX258","v":25848.900326991778},{"$f":"Prevalence!C257*AY258","v":1282.2316064920785},{"$f":"Prevalence!D257*AZ258","v":216.21647080695337},{"$f":"Prevalence!E257*BA258","v":309.93249203059128},{"$f":"Prevalence!F257*BB258","v":1840.5557178080121},{"$f":"Prevalence!G257*BC258","v":1718.9035204359459},{"$f":"Prevalence!H257*BD258","v":5228.3454182216756},{"$f":"Prevalence!I257*BE258","v":4995.7019433112328},{"$f":"Prevalence!J257*BF258","v":787.14136692737839},{"$f":"Prevalence!K257*BG258","v":2334.4067302216276},{"$f":"Prevalence!L257*BH258","v":4995.821948252752},{"$f":"Prevalence!M257*BI258","v":24.432501128368578},{"$f":"Prevalence!N257*BJ258","v":59.310470444341647},{"$f":"Prevalence!O257*BK258","v":1653.4567752673988},{"$f":"Prevalence!P257*BL258","v":0},{"$f":"Prevalence!Q257*BM258","v":1963.2241347924012},{"$f":"Prevalence!R257*BN258","v":2993.8874307765968},{"$f":"Prevalence!S257*BO258","v":441.39237568197257},{"$f":"Prevalence!T257*BP258","v":218.24310964957027},{"$f":"Prevalence!U257*BQ258","v":221.91800626330502},{"$f":"Prevalence!V257*BR258","v":309.93249203059139},{"$f":"Prevalence!W257*BS258","v":514.09702898245507},{"$f":"Prevalence!X257*BT258","v":392.07824588848092},{"$f":"Prevalence!Y257*BU258","v":1790.6362927387752},{"$f":"Prevalence!Z257*BV258","v":490.83404076362285},{"$f":"Prevalence!AA257*BW258","v":1687.7848226299868},{"$f":"Prevalence!AB257*BX258","v":2660.5634691102118},{"$f":"Prevalence!AC257*BY258","v":0},{"$f":"Prevalence!AD257*BZ258","v":931.46614581909557},{"$f":"Prevalence!AE257*CA258","v":1840.5557178080121},{"$f":"Prevalence!AF257*CB258","v":827.63407551548801},{"$f":"Prevalence!AG257*CC258","v":569.7866659211071},{"$f":"Prevalence!AH257*CD258","v":290.42888442930803},{"$f":"Prevalence!AI257*CE258","v":419.44250578738814},{"$f":"Prevalence!AJ257*CF258","v":276.54316079052512},{"$f":"Prevalence!AK257*CG258","v":284.61531718485571},{"$f":"Prevalence!AL257*CH258","v":926.10942780700475},{"$f":"Prevalence!AM257*CI258","v":24.432501128368571},{"$f":"Prevalence!AN257*CJ258","v":680.29275141939991},{"$f":"Prevalence!AO257*CK258","v":1081.5160731363524},{"$f":"Prevalence!AP257*CL258","v":216.21647080695337},{"$f":"Prevalence!AQ257*CM258","v":59.310470444341647},{"$f":"Prevalence!AR257*CN258","v":638.8432080033142},{"$f":"Prevalence!AS257*CO258","v":1686.4262397327684},{"$f":"Prevalence!AT257*CP258","v":544.38952846756843},{"$f":"Prevalence!AU257*CQ258","v":154.08310866522388},{"$f":"Prevalence!AV257*CR258","v":1095.8943462542768},257,44765,2217,349,498,2869,2749,7781,9975,1250,3503,10447,39,75,3013,null,3390,3965,671,351,338,498,991,654,2489,840,2428,7430,null,1402,2869,2107,899,470,625,426,546,1460,39,1351,1841,349,75,1017,2411,1009,272,1552]
["Female 50-54",{"$f":"Prevalence!B258*AX259","v":24259.220385068213},{"$f":"Prevalence!C258*AY259","v":1266.0374319400812},{"$f":"Prevalence!D258*AZ259","v":168.5125503137287},{"$f":"Prevalence!E258*BA259","v":299.97482160390558},{"$f":"Prevalence!F258*BB259","v":1785.3839535237705},{"$f":"Prevalence!G258*BC259","v":1531.9438432404756},{"$f":"Prevalence!H258*BD259","v":4862.8114370479716},{"$f":"Prevalence!I258*BE259","v":4739.7817735837098},{"$f":"Prevalence!J258*BF259","v":735.50489325694241},{"$f":"Prevalence!K258*BG259","v":2186.4654529994746},{"$f":"Prevalence!L258*BH259","v":4610.865820336272},{"$f":"Prevalence!M258*BI259","v":17.541282861392823},{"$f":"Prevalence!N258*BJ259","v":40.331119902152317},{"$f":"Prevalence!O258*BK259","v":1627.1156119043603},{"$f":"Prevalence!P258*BL259","v":0},{"$f":"Prevalence!Q258*BM259","v":1898.9415746266322},{"$f":"Prevalence!R258*BN259","v":2700.9168574748769},{"$f":"Prevalence!S258*BO259","v":413.76423890307115},{"$f":"Prevalence!T258*BP259","v":213.26890772023535},{"$f":"Prevalence!U258*BQ259","v":200.90801750464891},{"$f":"Prevalence!V258*BR259","v":299.9748216039057},{"$f":"Prevalence!W258*BS259","v":546.26051616400127},{"$f":"Prevalence!X258*BT259","v":369.8964491027412},{"$f":"Prevalence!Y258*BU259","v":1715.0971964199439},{"$f":"Prevalence!Z258*BV259","v":483.82212589557111},{"$f":"Prevalence!AA258*BW259","v":1557.0996716190982},{"$f":"Prevalence!AB258*BX259","v":2513.7490650274144},{"$f":"Prevalence!AC258*BY259","v":0},{"$f":"Prevalence!AD258*BZ259","v":815.19897355209014},{"$f":"Prevalence!AE258*CA259","v":1785.3839535237705},{"$f":"Prevalence!AF258*CB259","v":798.95952045491345},{"$f":"Prevalence!AG258*CC259","v":522.88542756942525},{"$f":"Prevalence!AH258*CD259","v":247.79145245989898},{"$f":"Prevalence!AI258*CE259","v":375.82048518549982},{"$f":"Prevalence!AJ258*CF259","v":247.33085507321613},{"$f":"Prevalence!AK258*CG259","v":291.39187235592368},{"$f":"Prevalence!AL258*CH259","v":854.43109538084616},{"$f":"Prevalence!AM258*CI259","v":17.541282861392823},{"$f":"Prevalence!AN258*CJ259","v":646.05151744714294},{"$f":"Prevalence!AO258*CK259","v":1066.2420818807602},{"$f":"Prevalence!AP258*CL259","v":168.5125503137287},{"$f":"Prevalence!AQ258*CM259","v":40.331119902152317},{"$f":"Prevalence!AR258*CN259","v":636.33055035138375},{"$f":"Prevalence!AS258*CO259","v":1603.1891088625073},{"$f":"Prevalence!AT258*CP259","v":494.752425772805},{"$f":"Prevalence!AU258*CQ259","v":131.42382797916153},{"$f":"Prevalence!AV258*CR259","v":871.34898407073308},258,42012,2189,272,482,2783,2450,7237,9464,1168,3281,9642,28,51,2965,null,3279,3577,629,343,306,482,1053,617,2384,828,2240,7020,null,1227,2783,2034,825,401,560,381,559,1347,28,1283,1815,272,51,1013,2292,917,232,1234]
["Female 55-59",{"$f":"Prevalence!B259*AX260","v":12047.365086711039},{"$f":"Prevalence!C259*AY260","v":690.87251266145211},{"$f":"Prevalence!D259*AZ260","v":104.68480263732948},{"$f":"Prevalence!E259*BA260","v":150.97487726040899},{"$f":"Prevalence!F259*BB260","v":900.13307582332379},{"$f":"Prevalence!G259*BC260","v":738.20210963801992},{"$f":"Prevalence!H259*BD260","v":2373.8492661701098},{"$f":"Prevalence!I259*BE260","v":2339.0854821431062},{"$f":"Prevalence!J259*BF260","v":388.74785637694941},{"$f":"Prevalence!K259*BG260","v":1061.7549453201443},{"$f":"Prevalence!L259*BH260","v":2265.9933863642536},{"$f":"Prevalence!M259*BI260","v":6.987325561936987},{"$f":"Prevalence!N259*BJ260","v":19.404410104062656},{"$f":"Prevalence!O259*BK260","v":815.27776431153768},{"$f":"Prevalence!P259*BL260","v":0},{"$f":"Prevalence!Q259*BM260","v":873.9279741887209},{"$f":"Prevalence!R259*BN260","v":1381.159330921726},{"$f":"Prevalence!S259*BO260","v":232.2114764377647},{"$f":"Prevalence!T259*BP260","v":101.59649087281934},{"$f":"Prevalence!U259*BQ260","v":108.37901897303668},{"$f":"Prevalence!V259*BR260","v":150.97487726040904},{"$f":"Prevalence!W259*BS260","v":233.75475990685055},{"$f":"Prevalence!X259*BT260","v":188.22662527441221},{"$f":"Prevalence!Y259*BU260","v":869.80004656137237},{"$f":"Prevalence!Z259*BV260","v":219.63065052699395},{"$f":"Prevalence!AA259*BW260","v":771.82229152301431},{"$f":"Prevalence!AB259*BX260","v":1253.0725110233107},{"$f":"Prevalence!AC259*BY260","v":0},{"$f":"Prevalence!AD259*BZ260","v":381.62247947368138},{"$f":"Prevalence!AE259*CA260","v":900.13307582332379},{"$f":"Prevalence!AF259*CB260","v":391.23071643785227},{"$f":"Prevalence!AG259*CC260","v":287.7098016630373},{"$f":"Prevalence!AH259*CD260","v":128.19248057312686},{"$f":"Prevalence!AI259*CE260","v":192.74242273880967},{"$f":"Prevalence!AJ259*CF260","v":126.34452092576768},{"$f":"Prevalence!AK259*CG260","v":163.37274437634397},{"$f":"Prevalence!AL259*CH260","v":395.83774042365042},{"$f":"Prevalence!AM259*CI260","v":6.9873255619369861},{"$f":"Prevalence!AN259*CJ260","v":343.43504871519957},{"$f":"Prevalence!AO259*CK260","v":499.27729819925139},{"$f":"Prevalence!AP259*CL260","v":104.68480263732948},{"$f":"Prevalence!AQ259*CM260","v":19.404410104062656},{"$f":"Prevalence!AR259*CN260","v":356.26400404535326},{"$f":"Prevalence!AS259*CO260","v":811.35541366767734},{"$f":"Prevalence!AT259*CP260","v":237.9976905464739},{"$f":"Prevalence!AU259*CQ260","v":60.654778248215635},{"$f":"Prevalence!AV259*CR260","v":406.77565565601554},259,37412,2142,303,435,2516,2117,6335,8375,1107,2857,8497,20,44,2664,null,2706,3280,633,293,296,435,808,563,2168,674,1991,6275,null,1030,2516,1786,814,372,515,349,562,1119,20,1223,1524,303,44,1017,2080,791,192,1033]
["Female 60-64",{"$f":"Prevalence!B260*AX261","v":11470.951542788962},{"$f":"Prevalence!C260*AY261","v":717.32047999956558},{"$f":"Prevalence!D260*AZ261","v":102.61183624847148},{"$f":"Prevalence!E260*BA261","v":140.21574807633385},{"$f":"Prevalence!F260*BB261","v":938.05601145022058},{"$f":"Prevalence!G260*BC261","v":758.07812298207614},{"$f":"Prevalence!H260*BD261","v":2168.5028734532634},{"$f":"Prevalence!I260*BE261","v":2096.9377671558736},{"$f":"Prevalence!J260*BF261","v":383.83144265583172},{"$f":"Prevalence!K260*BG261","v":941.34591406927746},{"$f":"Prevalence!L260*BH261","v":2150.5202621679819},{"$f":"Prevalence!M260*BI261","v":7.3366918400338363},{"$f":"Prevalence!N260*BJ261","v":16.758354180781385},{"$f":"Prevalence!O260*BK261","v":874.34255729657025},{"$f":"Prevalence!P260*BL261","v":0},{"$f":"Prevalence!Q260*BM261","v":805.46059409706947},{"$f":"Prevalence!R260*BN261","v":1234.2006094303592},{"$f":"Prevalence!S260*BO261","v":277.69998051088135},{"$f":"Prevalence!T260*BP261","v":109.91838773612196},{"$f":"Prevalence!U260*BQ261","v":121.56025101029789},{"$f":"Prevalence!V260*BR261","v":140.21574807633391},{"$f":"Prevalence!W260*BS261","v":243.59097505144572},{"$f":"Prevalence!X260*BT261","v":185.55200182468698},{"$f":"Prevalence!Y260*BU261","v":825.26692609628367},{"$f":"Prevalence!Z260*BV261","v":205.29274455787268},{"$f":"Prevalence!AA260*BW261","v":668.70590300210927},{"$f":"Prevalence!AB260*BX261","v":1205.3459245476818},{"$f":"Prevalence!AC260*BY261","v":0},{"$f":"Prevalence!AD260*BZ261","v":354.20494211343629},{"$f":"Prevalence!AE260*CA261","v":938.05601145022058},{"$f":"Prevalence!AF260*CB261","v":322.00960423496241},{"$f":"Prevalence!AG260*CC261","v":274.27863156083163},{"$f":"Prevalence!AH260*CD261","v":128.19248057312686},{"$f":"Prevalence!AI260*CE261","v":187.50282289736629},{"$f":"Prevalence!AJ260*CF261","v":131.05076382558138},{"$f":"Prevalence!AK260*CG261","v":180.23327671411613},{"$f":"Prevalence!AL260*CH261","v":345.9600626758982},{"$f":"Prevalence!AM260*CI261","v":7.3366918400338346},{"$f":"Prevalence!AN260*CJ261","v":353.26352517066317},{"$f":"Prevalence!AO260*CK261","v":454.72236870115546},{"$f":"Prevalence!AP260*CL261","v":102.61183624847148},{"$f":"Prevalence!AQ260*CM261","v":16.758354180781385},{"$f":"Prevalence!AR260*CN261","v":367.47388421197201},{"$f":"Prevalence!AS260*CO261","v":738.02136666309877},{"$f":"Prevalence!AT260*CP261","v":266.5814839749379},{"$f":"Prevalence!AU260*CQ261","v":50.22973823680357},{"$f":"Prevalence!AV260*CR261","v":353.22145510498154},260,35622,2224,297,404,2622,2174,5787,7508,1093,2533,8064,21,38,2857,null,2494,2931,757,317,332,404,842,555,2057,630,1725,6036,null,956,2622,1470,776,372,501,362,620,978,21,1258,1388,297,38,1049,1892,886,159,897]
["Female 65-69",null,null,null,null,null,null,null,null,null,null,null,null,null,null,null,null,null,null,null,null,null,null,null,null,null,null,null,null,null,null,null,null,null,null,null,null,null,null,null,null,null,null,null,null,null,null,null,261]
["Female 70-74",null,null,null,null,null,null,null,null,null,null,null,null,null,null,null,null,null,null,null,null,null,null,null,null,null,null,null,null,null,null,null,null,null,null,null,null,null,null,null,null,null,null,null,null,null,null,null,262]
["Female 75-79",null,null,null,null,null,null,null,null,null,null,null,null,null,null,null,null,null,null,null,null,null,null,null,null,null,null,null,null,null,null,null,null,null,null,null,null,null,null,null,null,null,null,null,null,null,null,null,263]
["Female 80-84",null,null,null,null,null,null,null,null,null,null,null,null,null,null,null,null,null,null,null,null,null,null,null,null,null,null,null,null,null,null,null,null,null,null,null,null,null,null,null,null,null,null,null,null,null,null,null,264]
["Female 85-89",null,null,null,null,null,null,null,null,null,null,null,null,null,null,null,null,null,null,null,null,null,null,null,null,null,null,null,null,null,null,null,null,null,null,null,null,null,null,null,null,null,null,null,null,null,null,null,265]
["Female 90+",null,null,null,null,null,null,null,null,null,null,null,null,null,null,null,null,null,null,null,null,null,null,null,null,null,null,null,null,null,null,null,null,null,null,null,null,null,null,null,null,null,null,null,null,null,null,null,266]
[null,null,null,null,null,null,null,null,null,null,null,null,null,null,null,null,null,null,null,null,null,null,null,null,null,null,null,null,null,null,null,null,null,null,null,null,null,null,null,null,null,null,null,null,null,null,null,null,267]
[null,null,null,null,null,null,null,null,null,null,null,null,null,null,null,null,null,null,null,null,null,null,null,null,null,null,null,null,null,null,null,null,null,null,null,null,null,null,null,null,null,null,null,null,null,null,null,null,268]
["Estimated number of people aged 16-64 who are non-active commuters",null,null,null,null,null,null,null,null,null,null,null,null,null,null,null,null,null,null,null,null,null,null,null,null,null,null,null,null,null,null,null,null,null,null,null,null,null,null,null,null,null,null,null,null,null,null,null,269]
["Total number of non active commuters - 16+",{"$f":"SUM(B64:B267)","v":1456279.2720123397},{"$f":"SUM(C64:C267)","v":99142.887631216814},33544.991612620244,39516.695572130695,113833.45159090265,90986.712927920176,197898.30598875068,273520.90788576694,91144.534731545937,174480.01488477271,207894.52872395774,6683.1114929982159,9465.8544321868376,106095.70080368122,8116.4777904351986,71444.61237343312,98994.884267088695,35141.352772066319,22502.535826304716,15567.226264144427,39516.695572130709,33017.457310115897,35020.612028272975,33174.343108976471,28917.463177406178,28928.903807122493,92654.101697281862,8116.4777904352004,51824.436787603867,113833.45159090265,105746.51389839374,68805.068911951894,21065.05510531268,26889.242959220923,27575.246900746104,32838.770946107732,95770.033407233073,6683.1114929982141,38635.844595030649,49583.168318717675,33544.991612620244,9465.8544321868376,31286.432408662105,102284.48363164008,23629.92185076754,21528.693753062988,59523.046005018987,270]
["Q1",{"$f":"SUM(B64:B103)","v":198103.10456158576},{"$f":"SUM(C64:C103)","v":20201.707475856274},1100.5132572138041,2096.7046159386587,14454.720890898692,8892.3499339306654,8103.9716375767675,72166.490500330576,5098.5575940255812,30169.575261761507,16064.726232142784,0,0,13019.741731792337,0,6196.9509093678425,1229.8830549057491,1642.9885803494724,1257.5350515524774,2924.247796807359,2096.7046159386596,9217.5798128356437,7629.7069493065155,806.47759335437297,809.48312756364487,1487.9726120810417,7787.5741539476867,0,4644.0781965130791,14454.720890898692,38413.412380745278,3848.5188083230214,6790.1739773839226,1268.4446555725115,211.17780495334276,8718.2802701045075,21840.239925201589,0,1577.7929855960106,9983.9784535401268,1100.5132572138041,0,3656.0772714543264,13087.282906304581,1485.5763465047537,5511.6176754414319,5944.2792812018733,271]
["Q1 & Q2",{"$f":"SUM(B64:B144)","v":464094.80694761284},{"$f":"SUM(C64:C144)","v":46115.407859129926},5079.8303087495069,9741.640055600199,36482.700776496931,28824.711804835581,28323.837015051569,120790.52835125769,20303.92862330416,76787.106989779277,51774.372968839409,1165.8561625898581,216.77042801048623,29408.72598354378,2597.8531335322832,17849.082205875187,6281.5246505597688,6989.0015042962386,4763.3461035880846,5611.3737888652886,9741.6400556002027,15929.32187041118,17997.037343175587,5687.1663549659006,5792.9872971365294,3845.9388706620057,19712.247118347375,2597.8531335322828,17727.890764947813,36482.700776496931,59529.493930145603,15594.199988150247,9949.9856670229074,7736.5834017645138,2867.0763100100417,16327.721285801008,49516.796264528508,1165.8561625898581,5937.3800025466335,17112.262709443257,5079.8303087495069,216.77042801048626,11729.364981753837,35070.513110226886,5885.805495572894,12028.897163577072,21833.603063295996,272]
["Estimated number of people aged 16-64 who would be eligible for the intervention",null,null,null,null,null,null,null,null,null,null,null,null,null,null,null,null,null,null,null,null,null,null,null,null,null,null,null,null,null,null,null,null,null,null,null,null,null,null,null,null,null,null,null,null,null,null,null,273]
["Total number of non-active commuters, < 3 miles to work - 16+",{"$f":"0.33*B271","v":480572.1597640721},{"$f":"0.33*C271","v":32717.152918301552},11069.84723216468,13040.50953880313,37565.039024997874,30025.615266213659,65306.440976287726,90261.899602303092,30077.69646141016,57578.404911974998,68605.194478906065,2205.4267926894113,3123.7319626216567,35011.581265214802,2678.4376708436157,23576.722083232929,32668.311808139271,11596.646414781886,7425.8368226805569,5137.1846671676612,13040.509538803135,10895.760912338246,11556.801969330083,10947.533225962236,9542.76284854404,9546.5382563504227,30575.853560103016,2678.4376708436162,17102.064139909278,37565.039024997874,34896.349586469936,22705.672740944126,6951.4681847531847,8873.450176542905,9099.8314772462145,10836.794412215551,31604.111024386915,2205.4267926894108,12749.828716360114,16362.445545176834,11069.84723216468,3123.7319626216567,10324.522694858495,33753.879598441228,7797.874210753288,7104.4689385107858,19642.605181656265,274]
["Q1",{"$f":"0.33*B272","v":65374.024505323301},{"$f":"0.33*C272","v":6666.5634670325708},363.16937488055538,691.91252325975734,4770.057893996569,2934.4754781971196,2674.3106404003333,23814.941865109093,1682.5240060284418,9955.9598363812984,5301.3596566071192,0,0,4296.5147714914719,0,2044.993800091388,405.8614081188972,542.18623151532586,414.98656701231755,965.00177294642856,691.91252325975768,3041.8013382357626,2517.8032932711503,266.1376058069431,267.1294320960028,491.03096198674376,2569.8994708027367,0,1532.5458048493163,4770.057893996569,12676.426085645942,1270.0112067465971,2240.7574125366946,418.5867363389288,69.688675634603115,2877.0324891344876,7207.2791753165247,0,520.67168524668352,3294.712889668242,363.16937488055538,0,1206.5054995799278,4318.8033590805117,490.24019434656873,1818.8338328956727,1961.6121627966183,275]
["Q1 & Q2",{"$f":"0.33*B273","v":153151.28629271223},{"$f":"0.33*C273","v":15218.084593512876},1676.3440018873373,3214.741218348066,12039.291256243989,9512.1548955957423,9346.8662149670181,39860.874355915039,6700.2964456903728,25339.745306627163,17085.543079717005,384.7325336546532,71.534241243460457,9704.8795745694479,857.29153406565354,5890.1971279388117,2072.9031346847237,2306.3704964177587,1571.904214184068,1851.7533503255454,3214.7412183480669,5256.6762172356894,5939.0223232479439,1876.7648971387473,1911.6858080550548,1269.159827318462,6505.0415490546338,857.29153406565331,5850.2039524327784,12039.291256243989,19644.732996948049,5146.0859960895814,3283.4952701175598,2553.0725225822898,946.13518230331374,5388.1480243143333,16340.542767294408,384.7325336546532,1959.3354008403892,5647.0466941162749,1676.3440018873373,71.534241243460471,3870.6904439787663,11573.269326374873,1942.3158135390552,3969.5360639804339,7205.0890108876793,276]
["Number of continuous inpatient stays, 2012",null,null,null,null,null,null,null,null,null,null,null,null,null,null,null,null,null,null,null,null,null,null,null,null,null,null,null,null,null,null,null,null,null,null,null,null,null,null,null,null,null,null,null,null,null,null,null,277]
[null,"Scotland","Ayrshire & Arran Health Board","Borders Health Board","Dumfries & Galloway Health Board","Fife Health Board","Forth Valley Health Board","Grampian Health Board","Greater Glasgow & Clyde Health Board","Highland Health Board","Lanarkshire Health Board","Lothian Health Board","Orkney Health Board","Shetland Health Board","Tayside Health Board","Western Isles Health Board","Aberdeen City Local Authority","Aberdeenshire Local Authority","Angus Local Authority","Argyll & Bute Local Authority","Clackmannanshire Local Authority","Dumfries & Galloway Local Authority","Dundee City Local Authority","East Ayrshire Local Authority","East Dunbartonshire Local Authority","East Lothian Local Authority","East Renfrewshire Local Authority","Edinburgh, City of Local Authority","Eilean Siar Local Authority","Falkirk Local Authority","Fife Local Authority","Glasgow City Local Authority","Highland Local Authority","Inverclyde Local Authority","Midlothian Local Authority","Moray Local Authority","North Ayrshire Local Authority","North Lanarkshire Local Authority","Orkney Islands Local Authority","Perth & Kinross Local Authority","Renfrewshire Local Authority","Scottish Borders Local Authority","Shetland Islands Local Authority","South Ayrshire Local Authority","South Lanarkshire Local Authority","Stirling Local Authority","West Dunbartonshire Local Authority","West Lothian Local Authority",278]
["all admissions, 16+",608398,47938,12156,15218,38719,24445,57598,163950,34610,88849,80751,2771,3319,34653,3421,24702,24160,9340,10911,4257,15218,13491,15992,13232,9641,10110,43161,3421,13215,38719,90404,23699,11637,8762,8736,17323,49095,2771,11822,24564,12156,3319,14623,39754,6973,14003,19187,279]
["all admissions, 16+: Q1 only",166380,16324,970,1565,8960,4774,5330,74218,3849,27896,14165,0,0,8329,0,4641,562,1074,1174,1311,1565,6191,5647,642,682,1050,8884,0,2460,8960,52105,2675,5886,1073,127,7595,18293,0,1064,8581,970,0,3082,9603,1003,5954,3526,280]
["all admissions, 16+: Q1 & Q2",300220,30403,2932,5461,18834,11565,14541,103021,11503,51567,33352,556,272,14745,1468,10371,2795,2876,3210,2130,5461,8947,10811,3422,2907,2165,16374,1468,6593,18834,67378,8293,7672,4428,1375,11534,32190,556,2922,12498,2932,272,8058,19377,2842,9886,9643,281]

{"sheet":"Prevalence","index":5,"n_rows":280,"n_cols":49,"rows_kept":280,"cut":false,"hidden":false,"merged":[]}
[]
["All, by SIMD","Scotland","Ayrshire & Arran Health Board","Borders Health Board","Dumfries & Galloway Health Board","Fife Health Board","Forth Valley Health Board","Grampian Health Board","Greater Glasgow & Clyde Health Board","Highland Health Board","Lanarkshire Health Board","Lothian Health Board","Orkney Health Board","Shetland Health Board","Tayside Health Board","Western Isles Health Board","Aberdeen City Local Authority","Aberdeenshire Local Authority","Angus Local Authority","Argyll & Bute Local Authority","Clackmannanshire Local Authority","Dumfries & Galloway Local Authority","Dundee City Local Authority","East Ayrshire Local Authority","East Dunbartonshire Local Authority","East Lothian Local Authority","East Renfrewshire Local Authority","Edinburgh, City of Local Authority","Eilean Siar Local Authority","Falkirk Local Authority","Fife Local Authority","Glasgow City Local Authority","Highland Local Authority","Inverclyde Local Authority","Midlothian Local Authority","Moray Local Authority","North Ayrshire Local Authority","North Lanarkshire Local Authority","Orkney Islands Local Authority","Perth & Kinross Local Authority","Renfrewshire Local Authority","Scottish Borders Local Authority","Shetland Islands Local Authority","South Ayrshire Local Authority","South Lanarkshire Local Authority","Stirling Local Authority","West Dunbartonshire Local Authority","West Lothian Local Authority"]
["Total",null,null,null,null,null,null,null,null,null,null,null,null,null,null,null,null,null,null,null,null,null,null,null,null,null,null,null,null,null,null,null,null,null,null,null,null,null,null,null,null,null,null,null,null,null,null,null,3]
["Q 1",0.34142857142857141,null,null,null,null,null,null,null,null,null,null,null,null,null,null,null,null,null,null,null,null,null,null,null,null,null,null,null,null,null,null,null,null,null,null,null,null,null,null,null,null,null,null,null,null,null,null,4]
["Q 2",0.27916666666666667,null,null,null,null,null,null,null,null,null,null,null,null,null,null,null,null,null,null,null,null,null,null,null,null,null,null,null,null,null,null,null,null,null,null,null,null,null,null,null,null,null,null,null,null,null,null,5]
["Q 3",0.20714285714285713,null,null,null,null,null,null,null,null,null,null,null,null,null,null,null,null,null,null,null,null,null,null,null,null,null,null,null,null,null,null,null,null,null,null,null,null,null,null,null,null,null,null,null,null,null,null,6]
["Q 4",0.17071428571428571,null,null,null,null,null,null,null,null,null,null,null,null,null,null,null,null,null,null,null,null,null,null,null,null,null,null,null,null,null,null,null,null,null,null,null,null,null,null,null,null,null,null,null,null,null,null,7]
["Q 5",9.7142857142857142E-2,null,null,null,null,null,null,null,null,null,null,null,null,null,null,null,null,null,null,null,null,null,null,null,null,null,null,null,null,null,null,null,null,null,null,null,null,null,null,null,null,null,null,null,null,null,null,8]
["Males, by SIMD",null,null,null,null,null,null,null,null,null,null,null,null,null,null,null,null,null,null,null,null,null,null,null,null,null,null,null,null,null,null,null,null,null,null,null,null,null,null,null,null,null,null,null,null,null,null,null,9]
["Males",null,null,null,null,null,null,null,null,null,null,null,null,null,null,null,null,null,null,null,null,null,null,null,null,null,null,null,null,null,null,null,null,null,null,null,null,null,null,null,null,null,null,null,null,null,null,null,10]
["Q 1",0.37285714285714283,null,null,null,null,null,null,null,null,null,null,null,null,null,null,null,null,null,null,null,null,null,null,null,null,null,null,null,null,null,null,null,null,null,null,null,null,null,null,null,null,null,null,null,null,null,null,11]
["Q 2",0.26,null,null,null,null,null,null,null,null,null,null,null,null,null,null,null,null,null,null,null,null,null,null,null,null,null,null,null,null,null,null,null,null,null,null,null,null,null,null,null,null,null,null,null,null,null,null,12]
["Q 3",0.21285714285714286,null,null,null,null,null,null,null,null,null,null,null,null,null,null,null,null,null,null,null,null,null,null,null,null,null,null,null,null,null,null,null,null,null,null,null,null,null,null,null,null,null,null,null,null,null,null,13]
["Q 4",0.20142857142857143,null,null,null,null,null,null,null,null,null,null,null,null,null,null,null,null,null,null,null,null,null,null,null,null,null,null,null,null,null,null,null,null,null,null,null,null,null,null,null,null,null,null,null,null,null,null,14]
["Q 5",9.285714285714286E-2,null,null,null,null,null,null,null,null,null,null,null,null,null,null,null,null,null,null,null,null,null,null,null,null,null,null,null,null,null,null,null,null,null,null,null,null,null,null,null,null,null,null,null,null,null,null,15]
["Females, by SIMD",null,null,null,null,null,null,null,null,null,null,null,null,null,null,null,null,null,null,null,null,null,null,null,null,null,null,null,null,null,null,null,null,null,null,null,null,null,null,null,null,null,null,null,null,null,null,null,16]
["Females",null,null,null,null,null,null,null,null,null,null,null,null,null,null,null,null,null,null,null,null,null,null,null,null,null,null,null,null,null,null,null,null,null,null,null,null,null,null,null,null,null,null,null,null,null,null,null,17]
["Q 1",0.31,null,null,null,null,null,null,null,null,null,null,null,null,null,null,null,null,null,null,null,null,null,null,null,null,null,null,null,null,null,null,null,null,null,null,null,null,null,null,null,null,null,null,null,null,null,null,18]
["Q 2",0.29833333333333334,null,null,null,null,null,null,null,null,null,null,null,null,null,null,null,null,null,null,null,null,null,null,null,null,null,null,null,null,null,null,null,null,null,null,null,null,null,null,null,null,null,null,null,null,null,null,19]
["Q 3",0.20142857142857143,null,null,null,null,null,null,null,null,null,null,null,null,null,null,null,null,null,null,null,null,null,null,null,null,null,null,null,null,null,null,null,null,null,null,null,null,null,null,null,null,null,null,null,null,null,null,20]
["Q 4",0.14000000000000001,null,null,null,null,null,null,null,null,null,null,null,null,null,null,null,null,null,null,null,null,null,null,null,null,null,null,null,null,null,null,null,null,null,null,null,null,null,null,null,null,null,null,null,null,null,null,21]
["Q 5",0.10142857142857142,null,null,null,null,null,null,null,null,null,null,null,null,null,null,null,null,null,null,null,null,null,null,null,null,null,null,null,null,null,null,null,null,null,null,null,null,null,null,null,null,null,null,null,null,null,null,22]
["age/sex breakdown: All",null,null,null,null,null,null,null,null,null,null,null,null,null,null,null,null,null,null,null,null,null,null,null,null,null,null,null,null,null,null,null,null,null,null,null,null,null,null,null,null,null,null,null,null,null,null,null,23]
["Male <1",null,null,null,null,null,null,null,null,null,null,null,null,null,null,null,null,null,null,null,null,null,null,null,null,null,null,null,null,null,null,null,null,null,null,null,null,null,null,null,null,null,null,null,null,null,null,null,24]
["Male 1-4",null,null,null,null,null,null,null,null,null,null,null,null,null,null,null,null,null,null,null,null,null,null,null,null,null,null,null,null,null,null,null,null,null,null,null,null,null,null,null,null,null,null,null,null,null,null,null,25]
["Male 5-9",null,null,null,null,null,null,null,null,null,null,null,null,null,null,null,null,null,null,null,null,null,null,null,null,null,null,null,null,null,null,null,null,null,null,null,null,null,null,null,null,null,null,null,null,null,null,null,26]
["Male 10-14",null,null,null,null,null,null,null,null,null,null,null,null,null,null,null,null,null,null,null,null,null,null,null,null,null,null,null,null,null,null,null,null,null,null,null,null,null,null,null,null,null,null,null,null,null,null,null,27]
["Male 15-19 (16+)",null,{"$f":"C$269*$B28","v":0},0,0,0,0,0,0,0,0,0,{"$f":"M$269*$B28","v":0},0,0,0,0,0,0,0,0,0,{"$f":"W$269*$B28","v":0},0,0,0,0,0,0,0,0,0,{"$f":"AG$269*$B28","v":0},0,0,0,0,0,0,0,0,0,{"$f":"AQ$269*$B28","v":0},0,0,0,0,0,28]
["Male 20-24",null,0,0,0,0,0,0,0,0,0,0,0,0,0,0,0,0,0,0,0,0,0,0,0,0,0,0,0,0,0,0,0,0,0,0,0,0,0,0,0,0,0,0,0,0,0,0,29]
["Male 25-29",null,0,0,0,0,0,0,0,0,0,0,0,0,0,0,0,0,0,0,0,0,0,0,0,0,0,0,0,0,0,0,0,0,0,0,0,0,0,0,0,0,0,0,0,0,0,0,30]
["Male 30-34",null,0,0,0,0,0,0,0,0,0,0,0,0,0,0,0,0,0,0,0,0,0,0,0,0,0,0,0,0,0,0,0,0,0,0,0,0,0,0,0,0,0,0,0,0,0,0,31]
["Male 35-39",null,0,0,0,0,0,0,0,0,0,0,0,0,0,0,0,0,0,0,0,0,0,0,0,0,0,0,0,0,0,0,0,0,0,0,0,0,0,0,0,0,0,0,0,0,0,0,32]
["Male 40-44",null,0,0,0,0,0,0,0,0,0,0,0,0,0,0,0,0,0,0,0,0,0,0,0,0,0,0,0,0,0,0,0,0,0,0,0,0,0,0,0,0,0,0,0,0,0,0,33]
["Male 45-49",null,0,0,0,0,0,0,0,0,0,0,0,0,0,0,0,0,0,0,0,0,0,0,0,0,0,0,0,0,0,0,0,0,0,0,0,0,0,0,0,0,0,0,0,0,0,0,34]
["Male 50-54",null,0,0,0,0,0,0,0,0,0,0,0,0,0,0,0,0,0,0,0,0,0,0,0,0,0,0,0,0,0,0,0,0,0,0,0,0,0,0,0,0,0,0,0,0,0,0,35]
["Male 55-59",null,0,0,0,0,0,0,0,0,0,0,0,0,0,0,0,0,0,0,0,0,0,0,0,0,0,0,0,0,0,0,0,0,0,0,0,0,0,0,0,0,0,0,0,0,0,0,36]
["Male 60-64",null,0,0,0,0,0,0,0,0,0,0,0,0,0,0,0,0,0,0,0,0,0,0,0,0,0,0,0,0,0,0,0,0,0,0,0,0,0,0,0,0,0,0,0,0,0,0,37]
["Male 65-69",null,{"$f":"C$269*$B38","v":0},0,0,0,0,0,0,0,0,0,0,0,0,0,0,0,0,0,0,1,{"$f":"W$269*$B38","v":0},0,0,0,0,0,0,0,0,0,0,0,0,0,0,0,0,0,0,0,0,0,0,0,0,0,38]
["Male 70-74",null,null,null,null,null,null,null,null,null,null,null,null,null,null,null,null,null,null,null,null,null,null,null,null,null,null,null,null,null,null,null,null,null,null,null,null,null,null,null,null,null,null,null,null,null,null,null,39]
["Male 75-79",null,null,null,null,null,null,null,null,null,null,null,null,null,null,null,null,null,null,null,null,null,null,null,null,null,null,null,null,null,null,null,null,null,null,null,null,null,null,null,null,null,null,null,null,null,null,null,40]
["Male 80-84",null,null,null,null,null,null,null,null,null,null,null,null,null,null,null,null,null,null,null,null,null,null,null,null,null,null,null,null,null,null,null,null,null,null,null,null,null,null,null,null,null,null,null,null,null,null,null,41]
["Male 85+",null,null,null,null,null,null,null,null,null,null,null,null,null,null,null,null,null,null,null,null,null,null,null,null,null,null,null,null,null,null,null,null,null,null,null,null,null,null,null,null,null,null,null,null,null,null,null,42]
["Female <1",null,null,null,null,null,null,null,null,null,null,null,null,null,null,null,null,null,null,null,null,null,null,null,null,null,null,null,null,null,null,null,null,null,null,null,null,null,null,null,null,null,null,null,null,null,null,null,43]
["Female 1-4",null,null,null,null,null,null,null,null,null,null,null,null,null,null,null,null,null,null,null,null,null,null,null,null,null,null,null,null,null,null,null,null,null,null,null,null,null,null,null,null,null,null,null,null,null,null,null,44]
["Female 5-9",null,null,null,null,null,null,null,null,null,null,null,null,null,null,null,null,null,null,null,null,null,null,null,null,null,null,null,null,null,null,null,null,null,null,null,null,null,null,null,null,null,null,null,null,null,null,null,45]
["Female 10-14",null,null,null,null,null,null,null,null,null,null,null,null,null,null,null,null,null,null,null,null,null,null,null,null,null,null,null,null,null,null,null,null,null,null,null,null,null,null,null,null,null,null,null,null,null,null,null,46]
["Male 15-19 (16+)",null,{"$f":"C$270*$B47","v":0},0,0,0,0,0,0,0,0,0,{"$f":"M$270*$B47","v":0},0,0,0,0,0,0,0,0,0,{"$f":"W$270*$B47","v":0},0,0,0,0,0,0,0,0,0,{"$f":"AG$270*$B47","v":0},0,0,0,0,0,0,0,0,0,{"$f":"AQ$270*$B47","v":0},0,0,0,0,0,47]
["Female 20-24",null,0,0,0,0,0,0,0,0,0,0,0,0,0,0,0,0,0,0,0,0,0,0,0,0,0,0,0,0,0,0,0,0,0,0,0,0,0,0,0,0,0,0,0,0,0,0,48]
["Female 25-29",null,0,0,0,0,0,0,0,0,0,0,0,0,0,0,0,0,0,0,0,0,0,0,0,0,0,0,0,0,0,0,0,0,0,0,0,0,0,0,0,0,0,0,0,0,0,0,49]
["Female 30-34",null,0,0,0,0,0,0,0,0,0,0,0,0,0,0,0,0,0,0,0,0,0,0,0,0,0,0,0,0,0,0,0,0,0,0,0,0,0,0,0,0,0,0,0,0,0,0,50]
["Female 35-39",null,0,0,0,0,0,0,0,0,0,0,0,0,0,0,0,0,0,0,0,0,0,0,0,0,0,0,0,0,0,0,0,0,0,0,0,0,0,0,0,0,0,0,0,0,0,0,51]
["Female 40-44",null,0,0,0,0,0,0,0,0,0,0,0,0,0,0,0,0,0,0,0,0,0,0,0,0,0,0,0,0,0,0,0,0,0,0,0,0,0,0,0,0,0,0,0,0,0,0,52]
["Female 45-49",null,0,0,0,0,0,0,0,0,0,0,0,0,0,0,0,0,0,0,0,0,0,0,0,0,0,0,0,0,0,0,0,0,0,0,0,0,0,0,0,0,0,0,0,0,0,0,53]
["Female 50-54",null,0,0,0,0,0,0,0,0,0,0,0,0,0,0,0,0,0,0,0,0,0,0,0,0,0,0,0,0,0,0,0,0,0,0,0,0,0,0,0,0,0,0,0,0,0,0,54]
["Female 55-59",null,0,0,0,0,0,0,0,0,0,0,0,0,0,0,0,0,0,0,0,0,0,0,0,0,0,0,0,0,0,0,0,0,0,0,0,0,0,0,0,0,0,0,0,0,0,0,55]
["Female 60-64",null,0,0,0,0,0,0,0,0,0,0,0,0,0,0,0,0,0,0,0,0,0,0,0,0,0,0,0,0,0,0,0,0,0,0,0,0,0,0,0,0,0,0,0,0,0,0,56]
["Female 65-69",null,{"$f":"C$270*$B57","v":0},0,0,0,0,0,0,0,0,0,0,0,0,0,0,0,0,0,0,0,0,0,0,0,0,0,0,0,0,0,0,0,0,0,1,{"$f":"AL$270*$B57","v":0},0,0,0,0,0,0,0,0,0,0,57]
["Female 70-74",null,null,null,null,null,null,null,null,null,null,null,null,null,null,null,null,null,null,null,null,null,null,null,null,null,null,null,null,null,null,null,null,null,null,null,null,null,null,null,null,null,null,null,null,null,null,null,58]
["Female 75-79",null,null,null,null,null,null,null,null,null,null,null,null,null,null,null,null,null,null,null,null,null,null,null,null,null,null,null,null,null,null,null,null,null,null,null,null,null,null,null,null,null,null,null,null,null,null,null,59]
["Female 80-84",null,null,null,null,null,null,null,null,null,null,null,null,null,null,null,null,null,null,null,null,null,null,null,null,null,null,null,null,null,null,null,null,null,null,null,null,null,null,null,null,null,null,null,null,null,null,null,60]
["Female 85+",null,null,null,null,null,null,null,null,null,null,null,null,null,null,null,null,null,null,null,null,null,null,null,null,null,null,null,null,null,null,null,null,null,null,null,null,null,null,null,null,null,null,null,null,null,null,null,61]
["age/sex breakdown: Q1",null,null,null,null,null,null,null,null,null,null,null,null,null,null,null,null,null,null,null,null,null,null,null,null,null,null,null,null,null,null,null,null,null,null,null,null,null,null,null,null,null,null,null,null,null,null,null,62]
["Male <1",null,null,null,null,null,null,null,null,null,null,null,null,null,null,null,null,null,null,null,null,null,null,null,null,null,null,null,null,null,null,null,null,null,null,null,null,null,null,null,null,null,null,null,null,null,null,null,63]
["Male 1-4",null,null,null,null,null,null,null,null,null,null,null,null,null,null,null,null,null,null,null,null,null,null,null,null,null,null,null,null,null,null,null,null,null,null,null,null,null,null,null,null,null,null,null,null,null,null,null,64]
["Male 5-9",null,null,null,null,null,null,null,null,null,null,null,null,null,null,null,null,null,null,null,null,null,null,null,null,null,null,null,null,null,null,null,null,null,null,null,null,null,null,null,null,null,null,null,null,null,null,null,65]
["Male 10-14",null,null,null,null,null,null,null,null,null,null,null,null,null,null,null,null,null,null,null,null,null,null,null,null,null,null,null,null,null,null,null,null,null,null,null,null,null,null,null,null,null,null,null,null,null,null,null,66]
["Male 15-19 (16+)",0.19089915603341437,{"$f":"$B67*C$269","v":0.21286131471438674},{"$f":"$B67*D$269","v":0.2031544846780188},0.17539307783511812,0.22923657513400394,0.21250965796973503,0.21793396139824514,0.16150502500969424,0.18981614027915319,0.21689331116339716,0.16181577936806171,0.20445870899324148,0.25799162190661024,0.18366599982333215,0.16293026700488569,{"$f":"$B67*Q$269","v":0.20920888344167829},{"$f":"$B67*R$269","v":0.23928073380163467},0.20237569555595059,0.17135990481524668,0.21654636796233637,0.17539307783511815,0.16698494970460678,0.22812950352367783,0.19120308286424822,0.1926265251971499,0.20666997164385481,0.12257583560809955,0.16293026700488566,0.23055988295881802,0.22923657513400394,0.13090540211635754,0.19683995826841247,0.19850278472644031,0.21769468403998482,0.18323788348248066,0.20176628138977251,0.20927034613684162,0.20445870899324148,0.18686860862430643,0.21267162330513914,0.2031544846780188,0.25799162190661029,0.20686720421036697,0.22424608683457373,0.1795320081332972,0.1752316792182376,0.22761755554807744,67]
["Male 20-24",0.19089915603341437,{"$f":"$B68*C$269","v":0.21286131471438674},0.2031544846780188,0.17539307783511812,0.22923657513400394,0.21250965796973503,0.21793396139824514,0.16150502500969424,0.18981614027915319,0.21689331116339716,0.16181577936806171,0.20445870899324148,0.25799162190661024,0.18366599982333215,0.16293026700488569,{"$f":"$B68*Q$269","v":0.20920888344167829},0.23928073380163467,0.20237569555595059,0.17135990481524668,0.21654636796233637,0.17539307783511815,0.16698494970460678,0.22812950352367783,0.19120308286424822,0.1926265251971499,0.20666997164385481,0.12257583560809955,0.16293026700488566,0.23055988295881802,0.22923657513400394,0.13090540211635754,0.19683995826841247,0.19850278472644031,0.21769468403998482,0.18323788348248066,0.20176628138977251,0.20927034613684162,0.20445870899324148,0.18686860862430643,0.21267162330513914,0.2031544846780188,0.25799162190661029,0.20686720421036697,0.22424608683457373,0.1795320081332972,0.1752316792182376,0.22761755554807744,68]
["Male 25-29",0.38321724685444308,0.42730480679750266,0.40781899680487055,0.35208983529259891,0.46017704334857379,0.42659887947795161,0.43748780465273301,0.32421050110111388,0.38104316539556382,0.43539876913144937,0.32483431962465287,0.41043713960730793,0.51790087034883625,0.36869717109040645,0.327071578776088,0.41997279608705507,0.48034001793451125,0.40625562989722996,0.34399351107159393,0.43470230393438941,0.35208983529259902,0.33521108223614249,0.45795467137273532,0.38382735957456932,0.38668482454824976,0.41487610100791145,0.24606276543410535,0.32707157877608795,0.46283349501605747,0.46017704334857379,0.26278381130518758,0.39514300872739871,0.39848102127016038,0.43700747141097118,0.36783775626174275,0.40503227184887913,0.42009617832359375,0.41043713960730793,0.3751261933708735,0.42692401402128383,0.40781899680487055,0.51790087034883636,0.41527203215134506,0.45015897293744944,0.36039846015374294,0.35176583839867742,0.45692697016221789,69]
["Male 30-34",0.38321724685444308,0.42730480679750266,0.40781899680487055,0.35208983529259891,0.46017704334857379,0.42659887947795161,0.43748780465273301,0.32421050110111388,0.38104316539556382,0.43539876913144937,0.32483431962465287,0.41043713960730793,0.51790087034883625,0.36869717109040645,0.327071578776088,0.41997279608705507,0.48034001793451125,0.40625562989722996,0.34399351107159393,0.43470230393438941,0.35208983529259902,0.33521108223614249,0.45795467137273532,0.38382735957456932,0.38668482454824976,0.41487610100791145,0.24606276543410535,0.32707157877608795,0.46283349501605747,0.46017704334857379,0.26278381130518758,0.39514300872739871,0.39848102127016038,0.43700747141097118,0.36783775626174275,0.40503227184887913,0.42009617832359375,0.41043713960730793,0.3751261933708735,0.42692401402128383,0.40781899680487055,0.51790087034883636,0.41527203215134506,0.45015897293744944,0.36039846015374294,0.35176583839867742,0.45692697016221789,70]
["Male 35-39",0.45455462876033059,0.50684925956664739,0.48373609020905972,0.41763272839466586,0.54584079088378923,0.50601192112923576,0.51892786210279473,0.38456354764271206,0.4519758335767961,0.51644994448912085,0.3853034924121832,0.48684161048345254,0.61431013292959769,0.43733158438362363,0.38795722606161764,0.4981523665277488,0.5697571816591136,0.48188169646725437,0.4080292419106662,0.51562382958512665,0.41763272839466598,0.3976119297680607,0.54320471571562667,0.45527831633774352,0.45866770953694969,0.49210690182431732,0.29186830684612564,0.38795722606161753,0.54899175136754708,0.54584079088378923,0.31170204048103478,0.46870041761858744,0.47265981418705316,0.51835811295871925,0.43631218613993566,0.48043060555714118,0.49829871684779786,0.48684161048345254,0.4449573941820526,0.50639758073316699,0.48373609020905972,0.6143101329295978,0.49257653709098492,0.53395781767733252,0.4274880361091975,0.41724841821801056,0.54198570392516643,71]
["Male 40-44",0.45455462876033059,0.50684925956664739,0.48373609020905972,0.41763272839466586,0.54584079088378923,0.50601192112923576,0.51892786210279473,0.38456354764271206,0.4519758335767961,0.51644994448912085,0.3853034924121832,0.48684161048345254,0.61431013292959769,0.43733158438362363,0.38795722606161764,0.4981523665277488,0.5697571816591136,0.48188169646725437,0.4080292419106662,0.51562382958512665,0.41763272839466598,0.3976119297680607,0.54320471571562667,0.45527831633774352,0.45866770953694969,0.49210690182431732,0.29186830684612564,0.38795722606161753,0.54899175136754708,0.54584079088378923,0.31170204048103478,0.46870041761858744,0.47265981418705316,0.51835811295871925,0.43631218613993566,0.48043060555714118,0.49829871684779786,0.48684161048345254,0.4449573941820526,0.50639758073316699,0.48373609020905972,0.6143101329295978,0.49257653709098492,0.53395781767733252,0.4274880361091975,0.41724841821801056,0.54198570392516643,72]
["Male 45-49",0.38041678123803879,0.42418215918969493,0.40483874712236523,0.34951684181248843,0.45681417281512476,0.42348139062853046,0.43429074198245204,0.32184124353699456,0.37825858747842889,0.4322169726638167,0.32246050333479664,0.40743775712491626,0.51411616704536345,0.36600281492825704,0.32468141309856724,0.41690372916764862,0.47682980090892013,0.40328680494914509,0.34147968371144882,0.43152559707807614,0.34951684181248854,0.33276143489447013,0.45460804143481343,0.38102243539136288,0.38385901865245192,0.41184427959205061,0.24426459397984066,0.32468141309856713,0.45945121173013581,0.45681417281512476,0.26086344620119378,0.39225539232029077,0.39556901141669831,0.43381391890819709,0.36514968051024199,0.40207238692679542,0.41702620975449922,0.40743775712491626,0.37238485535706856,0.4238041491616053,0.40483874712236523,0.51411616704536356,0.41223731735956559,0.4468693122137346,0.35776474910824563,0.34919521261513775,0.45358785043404681,73]
["Male 50-54",0.38041678123803879,0.42418215918969493,0.40483874712236523,0.34951684181248843,0.45681417281512476,0.42348139062853046,0.43429074198245204,0.32184124353699456,0.37825858747842889,0.4322169726638167,0.32246050333479664,0.40743775712491626,0.51411616704536345,0.36600281492825704,0.32468141309856724,0.41690372916764862,0.47682980090892013,0.40328680494914509,0.34147968371144882,0.43152559707807614,0.34951684181248854,0.33276143489447013,0.45460804143481343,0.38102243539136288,0.38385901865245192,0.41184427959205061,0.24426459397984066,0.32468141309856713,0.45945121173013581,0.45681417281512476,0.26086344620119378,0.39225539232029077,0.39556901141669831,0.43381391890819709,0.36514968051024199,0.40207238692679542,0.41702620975449922,0.40743775712491626,0.37238485535706856,0.4238041491616053,0.40483874712236523,0.51411616704536356,0.41223731735956559,0.4468693122137346,0.35776474910824563,0.34919521261513775,0.45358785043404681,74]
["Male 55-59",0.27297057783087963,0.30437471428766494,0.29049472100225876,0.25079812189325956,0.32779003152506347,0.30387187317102377,0.31162819473879044,0.23093931327684974,0.27142195162223959,0.31014014784623861,0.23138366724116052,0.29235965782201667,0.36890745653713847,0.26262774095704056,0.23297729573345186,0.29915202867859769,0.3421523778669629,0.28938111462978144,0.24503100593213134,0.30964404672124729,0.25079812189325967,0.23877516882237218,0.32620700735958219,0.27340516897499401,0.27544057805796074,0.29552158716741467,0.17527367521828743,0.2329772957334518,0.32968225624251796,0.32779003152506347,0.18718429143097484,0.28146545152525343,0.28384316082744065,0.31128604718767849,0.2620155687119175,0.28850970094448031,0.29923991543390027,0.29235965782201667,{"$f":"$B75*AN$269","v":0.26720721628387328},0.30410347069147636,0.29049472100225876,0.36890745653713852,0.29580361401743627,0.32065403101537415,0.25671646233316142,0.25056733473512638,0.325474962558428,75]
["Male 60-64",0.27297057783087963,0.30437471428766494,0.29049472100225876,0.25079812189325956,0.32779003152506347,0.30387187317102377,0.31162819473879044,0.23093931327684974,0.27142195162223959,0.31014014784623861,0.23138366724116052,0.29235965782201667,0.36890745653713847,0.26262774095704056,0.23297729573345186,0.29915202867859769,0.3421523778669629,0.28938111462978144,0.24503100593213134,0.30964404672124729,0.25079812189325967,0.23877516882237218,0.32620700735958219,0.27340516897499401,0.27544057805796074,0.29552158716741467,0.17527367521828743,0.2329772957334518,0.32968225624251796,0.32779003152506347,0.18718429143097484,0.28146545152525343,0.28384316082744065,0.31128604718767849,0.2620155687119175,0.28850970094448031,0.29923991543390027,0.29235965782201667,0.26720721628387328,0.30410347069147636,0.29049472100225876,0.36890745653713852,0.29580361401743627,0.32065403101537415,0.25671646233316142,0.25056733473512638,0.325474962558428,76]
["Male 65-69",null,null,null,null,null,null,null,null,null,null,null,null,null,null,null,null,null,null,null,null,null,null,null,null,null,null,null,null,null,null,null,null,null,null,null,null,null,null,null,null,null,null,null,null,null,null,null,77]
["Male 70-74",null,null,null,null,null,null,null,null,null,null,null,null,null,null,null,null,null,null,null,null,null,null,null,null,null,null,null,null,null,null,null,null,null,null,null,null,null,null,null,null,null,null,null,null,null,null,null,78]
["Male 75-79",null,null,null,null,null,null,null,null,null,null,null,null,null,null,null,null,null,null,null,null,null,null,null,null,null,null,null,null,null,null,null,null,null,null,null,null,null,null,null,null,null,null,null,null,null,null,null,79]
["Male 80-84",null,null,null,null,null,null,null,null,null,null,null,null,null,null,null,null,null,null,null,null,null,null,null,null,null,null,null,null,null,null,null,null,null,null,null,null,null,null,null,null,null,null,null,null,null,null,null,80]
["Male 85-89",null,null,null,null,null,null,null,null,null,null,null,null,null,null,null,null,null,null,null,null,null,null,null,null,null,null,null,null,null,null,null,null,null,null,null,null,null,null,null,null,null,null,null,null,null,null,null,81]
["Male 90+",null,null,null,null,null,null,null,null,null,null,null,null,null,null,null,null,null,null,null,null,null,null,null,null,null,null,null,null,null,null,null,null,null,null,null,null,null,null,null,null,null,null,null,null,null,null,null,82]
["Female <1",null,null,null,null,null,null,null,null,null,null,null,null,null,null,null,null,null,null,null,null,null,null,null,null,null,null,null,null,null,null,null,null,null,null,null,null,null,null,null,null,null,null,null,null,null,null,null,83]
["Female 1-4",null,null,null,null,null,null,null,null,null,null,null,null,null,null,null,null,null,null,null,null,null,null,null,null,null,null,null,null,null,null,null,null,null,null,null,null,null,null,null,null,null,null,null,null,null,null,null,84]
["Female 5-9",null,null,null,null,null,null,null,null,null,null,null,null,null,null,null,null,null,null,null,null,null,null,null,null,null,null,null,null,null,null,null,null,null,null,null,null,null,null,null,null,null,null,null,null,null,null,null,85]
["Female 10-14",null,null,null,null,null,null,null,null,null,null,null,null,null,null,null,null,null,null,null,null,null,null,null,null,null,null,null,null,null,null,null,null,null,null,null,null,null,null,null,null,null,null,null,null,null,null,null,86]
["Female 15-19 (16+)",0.17728741513394902,{"$f":"$B87*C$270","v":0.17757229581276876},{"$f":"$B87*D$270","v":0.19021193878986892},0.19107866150497577,0.19696671677387972,0.19197787763705998,0.20630192565237437,0.15376519378194728,0.19333796744055298,0.20460244265612465,0.14682154231360184,0.1923436022748386,0.2427976787366147,0.16848767573871815,0.25541371510893907,{"$f":"$B87*Q$270","v":0.1778052626969773},{"$f":"$B87*R$270","v":0.23182843329661762},0.20196528741888917,0.19090084447174102,0.20158131160275861,0.19107866150497582,0.15927435846614721,0.18406424049114012,0.22088026306640546,0.17940304645064384,0.21342378598158349,0.10994088658155436,0.25541371510893918,0.20398277062725026,0.19696671677387972,0.12060026234494682,0.19459291099551787,0.1897214231114786,0.20604726148152683,0.19930938459853956,0.16004424096033221,0.19475287361514751,0.19234360227483857,0.15460193293128047,0.18036556002470647,0.19021193878986892,0.2427976787366147,0.19286248304199255,0.21475563367543121,0.1656506031332575,0.17392441559644789,0.21679606460774412,87]
["Female 20-24",0.17728741513394902,{"$f":"$B88*C$270","v":0.17757229581276876},0.19021193878986892,0.19107866150497577,0.19696671677387972,0.19197787763705998,0.20630192565237437,0.15376519378194728,0.19333796744055298,0.20460244265612465,0.14682154231360184,0.1923436022748386,0.2427976787366147,0.16848767573871815,0.25541371510893907,{"$f":"$B88*Q$270","v":0.1778052626969773},0.23182843329661762,0.20196528741888917,0.19090084447174102,0.20158131160275861,0.19107866150497582,0.15927435846614721,0.18406424049114012,0.22088026306640546,0.17940304645064384,0.21342378598158349,0.10994088658155436,0.25541371510893918,0.20398277062725026,0.19696671677387972,0.12060026234494682,0.19459291099551787,0.1897214231114786,0.20604726148152683,0.19930938459853956,0.16004424096033221,0.19475287361514751,0.19234360227483857,0.15460193293128047,0.18036556002470647,0.19021193878986892,0.2427976787366147,0.19286248304199255,0.21475563367543121,0.1656506031332575,0.17392441559644789,0.21679606460774412,88]
["Female 25-29",0.31622058883379389,0.3167287192949193,0.33927355329708286,0.34081949251177351,0.35132178509025103,0.34242338895620911,0.36797262996953178,0.27426492784686535,0.34484932764002624,0.36494132899771115,0.26187980984896431,0.34307571760695965,0.43306866919776282,0.30052483980929934,0.45557139702754568,0.3171442531626083,0.41350325757800677,0.3602375389326653,0.34050232726396568,0.35955265637299233,0.34081949251177363,0.28409140819293949,0.32830814565927774,0.39397543698095777,0.31999415719573876,0.38067561210277001,0.19609723490785536,0.45557139702754579,0.36383604437439798,0.35132178509025103,0.21510994417407089,0.34708772109623603,0.33839863977580675,0.36751839550512022,0.35550030954104866,0.28546461731474926,0.34737304012879378,0.3430757176069596,0.27575738655467896,0.32171095479764766,0.33927355329708286,0.43306866919776282,0.34400122482133233,0.38305117644650671,0.29546446499823248,0.31022213884120475,0.38669061284081124,89]
["Female 30-34",0.31622058883379389,0.3167287192949193,0.33927355329708286,0.34081949251177351,0.35132178509025103,0.34242338895620911,0.36797262996953178,0.27426492784686535,0.34484932764002624,0.36494132899771115,0.26187980984896431,0.34307571760695965,0.43306866919776282,0.30052483980929934,0.45557139702754568,0.3171442531626083,0.41350325757800677,0.3602375389326653,0.34050232726396568,0.35955265637299233,0.34081949251177363,0.28409140819293949,0.32830814565927774,0.39397543698095777,0.31999415719573876,0.38067561210277001,0.19609723490785536,0.45557139702754579,0.36383604437439798,0.35132178509025103,0.21510994417407089,0.34708772109623603,0.33839863977580675,0.36751839550512022,0.35550030954104866,0.28546461731474926,0.34737304012879378,0.3430757176069596,0.27575738655467896,0.32171095479764766,0.33927355329708286,0.43306866919776282,0.34400122482133233,0.38305117644650671,0.29546446499823248,0.31022213884120475,0.38669061284081124,90]
["Female 35-39",0.31784229841423955,0.31835303477790905,0.34101348798572173,0.34256735541420924,0.35312350807989351,0.34417947730101589,0.36985974535807792,0.27567147149637855,0.34661785719879579,0.36681289862484645,0.26322283750609315,0.34483515136209036,0.4352896239193354,0.30206605511624063,0.45790775501695191,0.31877069967462657,0.41562387280054119,0.36208498558462993,0.34224856361222017,0.36139659066476371,0.34256735541420935,0.28554834608584484,0.32999184521570935,0.39599590548672003,0.32163521919086302,0.38262787362206524,0.1971029023937132,0.45790775501695208,0.36570194564619513,0.35312350807989351,0.21621311667337825,0.34886773005970256,0.34013408754711755,0.36940318139201872,0.35732346172718649,0.28692859759030592,0.34915451232591715,0.34483515136209031,0.27717158414789583,0.32336082123883592,0.34101348798572173,0.4352896239193354,0.34576540495911268,0.38501562083937574,0.2969797286163795,0.31181308589648821,0.38867372176431642,91]
["Female 40-44",0.31784229841423955,0.31835303477790905,0.34101348798572173,0.34256735541420924,0.35312350807989351,0.34417947730101589,0.36985974535807792,0.27567147149637855,0.34661785719879579,0.36681289862484645,0.26322283750609315,0.34483515136209036,0.4352896239193354,0.30206605511624063,0.45790775501695191,0.31877069967462657,0.41562387280054119,0.36208498558462993,0.34224856361222017,0.36139659066476371,0.34256735541420935,0.28554834608584484,0.32999184521570935,0.39599590548672003,0.32163521919086302,0.38262787362206524,0.1971029023937132,0.45790775501695208,0.36570194564619513,0.35312350807989351,0.21621311667337825,0.34886773005970256,0.34013408754711755,0.36940318139201872,0.35732346172718649,0.28692859759030592,0.34915451232591715,0.34483515136209031,0.27717158414789583,0.32336082123883592,0.34101348798572173,0.4352896239193354,0.34576540495911268,0.38501562083937574,0.2969797286163795,0.31181308589648821,0.38867372176431642,92]
["Female 45-49",0.26336207017099428,0.26378526301448518,0.28256156779706826,0.28384909228572025,0.29259585202457794,0.285184886041289,0.30646338985213017,0.22841959607827297,0.28720531183403769,0.3039387923798586,0.21810473856925208,0.2857281733222567,0.3606781635147332,0.2502899771386588,0.37941940047087891,0.26413133744317535,0.34438324948990701,0.30002127425193131,0.28358494346303598,0.29945087467926373,0.28384909228572031,0.23660351040207081,0.27342910597220255,0.32811964288119971,0.26650485976416627,0.31704297824734745,0.16331818851708302,0.37941940047087902,0.30301826393609899,0.29259585202457794,0.17915278831457304,0.2890695419167742,0.28183290228849511,0.30608508390648753,0.29607590641850795,0.23774717786038294,0.28930716784540433,0.28572817332225664,0.22966257970683457,0.26793468244639834,0.28256156779706826,0.3606781635147332,0.28649897542857838,0.31902145012894823,0.24607547993909729,0.25836630372298547,0.32205252886608726,93]
["Female 50-54",0.26336207017099428,0.26378526301448518,0.28256156779706826,0.28384909228572025,0.29259585202457794,0.285184886041289,0.30646338985213017,0.22841959607827297,0.28720531183403769,0.3039387923798586,0.21810473856925208,0.2857281733222567,0.3606781635147332,0.2502899771386588,0.37941940047087891,0.26413133744317535,0.34438324948990701,0.30002127425193131,0.28358494346303598,0.29945087467926373,0.28384909228572031,0.23660351040207081,0.27342910597220255,0.32811964288119971,0.26650485976416627,0.31704297824734745,0.16331818851708302,0.37941940047087902,0.30301826393609899,0.29259585202457794,0.17915278831457304,0.2890695419167742,0.28183290228849511,0.30608508390648753,0.29607590641850795,0.23774717786038294,0.28930716784540433,0.28572817332225664,0.22966257970683457,0.26793468244639834,0.28256156779706826,0.3606781635147332,0.28649897542857838,0.31902145012894823,0.24607547993909729,0.25836630372298547,0.32205252886608726,94]
["Female 55-59",0.16089539665683983,0.16115393722941201,0.17262491710051478,0.17341150251569074,0.17875514739489393,0.17422757700209807,0.18722722159285671,0.13954804308512211,0.17546191271767375,0.18568487302521272,0.133246402574417,0.17455948669020599,0.22034857239117686,0.15290928236100693,0.23179812832738694,0.16136536396387208,0.21039354487407363,0.18329154951931084,0.17325012646949459,0.18294307615927971,0.17341150251569076,0.1445478296545325,0.16704563582128121,0.20045764394999685,0.16281541641471187,0.19369059374895112,9.9775737279371834E-2,0.23179812832738703,0.18512249595627323,0.17875514739489393,0.10944954571224644,0.17660082402113805,0.17217975456835546,0.18699610370582656,0.18088121183437531,0.14524652870876295,0.17674599647523545,0.17455948669020596,{"$f":"$B95*AN$270","v":0.14030741721908729},0.16368893585301714,0.17262491710051478,0.22034857239117686,0.17503039167117015,0.19489929862417432,0.15033452587389273,0.15784334051323712,0.19675107103541584,95]
["Female 60-64",0.16089539665683983,0.16115393722941201,0.17262491710051478,0.17341150251569074,0.17875514739489393,0.17422757700209807,0.18722722159285671,0.13954804308512211,0.17546191271767375,0.18568487302521272,0.133246402574417,0.17455948669020599,0.22034857239117686,0.15290928236100693,0.23179812832738694,0.16136536396387208,0.21039354487407363,0.18329154951931084,0.17325012646949459,0.18294307615927971,0.17341150251569076,0.1445478296545325,0.16704563582128121,0.20045764394999685,0.16281541641471187,0.19369059374895112,9.9775737279371834E-2,0.23179812832738703,0.18512249595627323,0.17875514739489393,0.10944954571224644,0.17660082402113805,0.17217975456835546,0.18699610370582656,0.18088121183437531,0.14524652870876295,0.17674599647523545,0.17455948669020596,0.14030741721908729,0.16368893585301714,0.17262491710051478,0.22034857239117686,0.17503039167117015,0.19489929862417432,0.15033452587389273,0.15784334051323712,0.19675107103541584,96]
["Female 65-69",null,null,null,null,null,null,null,null,null,null,null,null,null,null,null,null,null,null,null,null,null,null,null,null,null,null,null,null,null,null,null,null,null,null,null,null,null,null,null,null,null,null,null,null,null,null,null,97]
["Female 70-74",null,null,null,null,null,null,null,null,null,null,null,null,null,null,null,null,null,null,null,null,null,null,null,null,null,null,null,null,null,null,null,null,null,null,null,null,null,null,null,null,null,null,null,null,null,null,null,98]
["Female 75-79",null,null,null,null,null,null,null,null,null,null,null,null,null,null,null,null,null,null,null,null,null,null,null,null,null,null,null,null,null,null,null,null,null,null,null,null,null,null,null,null,null,null,null,null,null,null,null,99]
["Female 80-84",null,null,null,null,null,null,null,null,null,null,null,null,null,null,null,null,null,null,null,null,null,null,null,null,null,null,null,null,null,null,null,null,null,null,null,null,null,null,null,null,null,null,null,null,null,null,null,100]
["Female 85-89",null,null,null,null,null,null,null,null,null,null,null,null,null,null,null,null,null,null,null,null,null,null,null,null,null,null,null,null,null,null,null,null,null,null,null,null,null,null,null,null,null,null,null,null,null,null,null,101]
["Female 90+",null,null,null,null,null,null,null,null,null,null,null,null,null,null,null,null,null,null,null,null,null,null,null,null,null,null,null,null,null,null,null,null,null,null,null,null,null,null,null,null,null,null,null,null,null,null,null,102]
["age/sex breakdown: Q2",null,null,null,null,null,null,null,null,null,null,null,null,null,null,null,null,null,null,null,null,null,null,null,null,null,null,null,null,null,null,null,null,null,null,null,null,null,null,null,null,null,null,null,null,null,null,null,103]
["Male <1",null,null,null,null,null,null,null,null,null,null,null,null,null,null,null,null,null,null,null,null,null,null,null,null,null,null,null,null,null,null,null,null,null,null,null,null,null,null,null,null,null,null,null,null,null,null,null,104]
["Male 1-4",null,null,null,null,null,null,null,null,null,null,null,null,null,null,null,null,null,null,null,null,null,null,null,null,null,null,null,null,null,null,null,null,null,null,null,null,null,null,null,null,null,null,null,null,null,null,null,105]
["Male 5-9",null,null,null,null,null,null,null,null,null,null,null,null,null,null,null,null,null,null,null,null,null,null,null,null,null,null,null,null,null,null,null,null,null,null,null,null,null,null,null,null,null,null,null,null,null,null,null,106]
["Male 10-14",null,null,null,null,null,null,null,null,null,null,null,null,null,null,null,null,null,null,null,null,null,null,null,null,null,null,null,null,null,null,null,null,null,null,null,null,null,null,null,null,null,null,null,null,null,null,null,107]
["Male 15-19 (16+)",0.25597052004112225,{"$f":"$B108*C$269","v":0.28541887013131406},{"$f":"$B108*D$269","v":0.27240329487164672},0.23517892000114374,0.30737592857260199,0.28494734494663121,0.29222061842937797,0.2165568779871912,0.25451833915362565,0.29082524410017807,0.21697355848159025,0.27415208718249062,0.34593264317066175,0.24627181421599362,0.21846793900115266,{"$f":"$B108*Q$269","v":0.28052144286282477},{"$f":"$B108*R$269","v":0.32084381691192482},0.27135904166110203,0.22977096840636765,0.29036003915404035,0.23517892000114379,0.2239047322317507,0.30589149196373439,0.25637804572410317,0.25828669362895618,0.27711709793678613,0.16435798374922325,0.21846793900115261,0.30915030934583526,0.30737592857260199,0.17552683077368422,0.26393635011156924,0.26616598046742596,0.29189977913862053,0.24569776682530386,0.27054189786498317,0.28060385620802225,0.27415208718249062,0.25056608904311839,0.28516451903997697,0.27240329487164672,0.3459326431706618,0.27738156072262643,0.30068434380184123,0.24072867811874077,0.23496250580238431,0.30520503743836447,108]
["Male 20-24",0.25597052004112225,{"$f":"$B109*C$269","v":0.28541887013131406},0.27240329487164672,0.23517892000114374,0.30737592857260199,0.28494734494663121,0.29222061842937797,0.2165568779871912,0.25451833915362565,0.29082524410017807,0.21697355848159025,0.27415208718249062,0.34593264317066175,0.24627181421599362,0.21846793900115266,{"$f":"$B109*Q$269","v":0.28052144286282477},0.32084381691192482,0.27135904166110203,0.22977096840636765,0.29036003915404035,0.23517892000114379,0.2239047322317507,0.30589149196373439,0.25637804572410317,0.25828669362895618,0.27711709793678613,0.16435798374922325,0.21846793900115261,0.30915030934583526,0.30737592857260199,0.17552683077368422,0.26393635011156924,0.26616598046742596,0.29189977913862053,0.24569776682530386,0.27054189786498317,0.28060385620802225,0.27415208718249062,0.25056608904311839,0.28516451903997697,0.27240329487164672,0.3459326431706618,0.27738156072262643,0.30068434380184123,0.24072867811874077,0.23496250580238431,0.30520503743836447,109]
["Male 25-29",0.462609324013317,0.5158306142085417,0.49230788013919707,0.4250331686103257,0.55551307436533348,0.51497843815754041,0.52812324924233611,0.39137800290437563,0.45998483265156981,0.52560142299815382,0.39213105947437643,0.49546843014561659,0.62519569122885865,0.44508108777405797,0.39483181720953425,0.50697961246929357,0.57985326291337425,0.49042062659237767,0.41525950861559591,0.52476066936126675,0.42503316861032581,0.40465760199445044,0.55283028801923961,0.46334583531427298,0.46679528846575946,0.50082702230113707,0.29704020504472523,0.39483181720953414,0.5587198697803516,0.55551307436533348,0.31722539188250637,0.47700577585278048,0.48103533281721816,0.52754340415943213,0.4440436258221272,0.4889438223920991,0.50712855611290286,0.49546843014561659,0.45284202670790258,0.51537093163881997,0.49230788013919707,0.62519569122885876,0.50130497949153785,0.54341953520745645,0.43506311210071874,0.42464204846813552,0.55158967537409498,110]
["Male 30-34",0.462609324013317,0.5158306142085417,0.49230788013919707,0.4250331686103257,0.55551307436533348,0.51497843815754041,0.52812324924233611,0.39137800290437563,0.45998483265156981,0.52560142299815382,0.39213105947437643,0.49546843014561659,0.62519569122885865,0.44508108777405797,0.39483181720953425,0.50697961246929357,0.57985326291337425,0.49042062659237767,0.41525950861559591,0.52476066936126675,0.42503316861032581,0.40465760199445044,0.55283028801923961,0.46334583531427298,0.46679528846575946,0.50082702230113707,0.29704020504472523,0.39483181720953414,0.5587198697803516,0.55551307436533348,0.31722539188250637,0.47700577585278048,0.48103533281721816,0.52754340415943213,0.4440436258221272,0.4889438223920991,0.50712855611290286,0.49546843014561659,0.45284202670790258,0.51537093163881997,0.49230788013919707,0.62519569122885876,0.50130497949153785,0.54341953520745645,0.43506311210071874,0.42464204846813552,0.55158967537409498,111]
["Male 35-39",0.53112222087830874,0.59222563660990124,0.56521916243931036,0.48798099982256821,0.63778510822959467,0.59124725244578502,0.60633882300864195,0.44934147090278986,0.52810903975901291,0.60344351181201605,0.4502060558930705,0.56884779301692956,0.71778778933444487,0.51099803557501611,0.45330679851085226,0.5820637927889325,0.66573010269291422,0.56305240478200391,0.47675985114904745,0.60247824173280318,0.48798099982256832,0.4645877917073637,0.63470499858131102,0.53196781022889095,0.53592813079212376,0.5749999979524687,0.34103215219449651,0.45330679851085215,0.6414668332064084,0.63778510822959467,0.3642067850988201,0.54765080142530043,0.55227713974797155,0.60567310229742588,0.50980692448541276,0.56135688442402731,0.58223479513296916,0.56884779301692956,0.51990837721466243,0.59169787459850987,0.56521916243931036,0.71778778933444498,0.57554874107387421,0.62390050400223684,0.49949638783007005,0.48753195440180552,0.63328064998058986,112]
["Male 40-44",0.53112222087830874,0.59222563660990124,0.56521916243931036,0.48798099982256821,0.63778510822959467,0.59124725244578502,0.60633882300864195,0.44934147090278986,0.52810903975901291,0.60344351181201605,0.4502060558930705,0.56884779301692956,0.71778778933444487,0.51099803557501611,0.45330679851085226,0.5820637927889325,0.66573010269291422,0.56305240478200391,0.47675985114904745,0.60247824173280318,0.48798099982256832,0.4645877917073637,0.63470499858131102,0.53196781022889095,0.53592813079212376,0.5749999979524687,0.34103215219449651,0.45330679851085215,0.6414668332064084,0.63778510822959467,0.3642067850988201,0.54765080142530043,0.55227713974797155,0.60567310229742588,0.50980692448541276,0.56135688442402731,0.58223479513296916,0.56884779301692956,0.51990837721466243,0.59169787459850987,0.56521916243931036,0.71778778933444498,0.57554874107387421,0.62390050400223684,0.49949638783007005,0.48753195440180552,0.63328064998058986,113]
["Male 45-49",0.50111041406885515,0.55876109550267772,0.53328066007336172,0.46040694828102208,0.60174616521101831,0.55783799630944886,0.57207679648842935,0.42395080019443687,0.49826749697934264,0.5693450889161118,0.42476653059592678,0.53670424978543729,0.67722818249279126,0.48212337411135753,0.42769206139851312,0.54917346093448405,0.62811208852619904,0.5312363380997035,0.44981986636827997,0.56843436277800596,0.46040694828102219,0.43833560623545004,0.59884010148301914,0.50190822220593845,0.5056447592952833,0.54250881574313015,0.32176165161075526,0.42769206139851301,0.60521984914871507,0.60174616521101831,0.34362676934462638,0.51670502396519224,0.52106994454536038,0.57144869326070147,0.48099956842624397,0.52963662550013879,0.54933480055097617,0.53670424978543729,0.49053022438614802,0.55826315542474081,0.53328066007336172,0.67722818249279138,0.54302655136400146,0.58864613004011634,0.47127164312105385,0.45998327680223894,0.59749623769982918,114]
["Male 50-54",0.50111041406885515,0.55876109550267772,0.53328066007336172,0.46040694828102208,0.60174616521101831,0.55783799630944886,0.57207679648842935,0.42395080019443687,0.49826749697934264,0.5693450889161118,0.42476653059592678,0.53670424978543729,0.67722818249279126,0.48212337411135753,0.42769206139851312,0.54917346093448405,0.62811208852619904,0.5312363380997035,0.44981986636827997,0.56843436277800596,0.46040694828102219,0.43833560623545004,0.59884010148301914,0.50190822220593845,0.5056447592952833,0.54250881574313015,0.32176165161075526,0.42769206139851301,0.60521984914871507,0.60174616521101831,0.34362676934462638,0.51670502396519224,0.52106994454536038,0.57144869326070147,0.48099956842624397,0.52963662550013879,0.54933480055097617,0.53670424978543729,0.49053022438614802,0.55826315542474081,0.53328066007336172,0.67722818249279138,0.54302655136400146,0.58864613004011634,0.47127164312105385,0.45998327680223894,0.59749623769982918,115]
["Male 55-59",0.34615355669937142,0.38597709231984256,0.36837589485421879,0.31803670049986404,0.41567001896188999,0.38533944029755079,0.39517521937279565,0.29285377679795016,0.34418974626097781,0.3932882294690288,0.29341726135515744,0.37074081827676714,0.46781096038989817,0.33303782166781448,0.29543813911805639,0.3793542129843952,0.43388288757323484,0.36696373237993579,0.3107234298986673,0.39265912441945572,0.31803670049986416,0.30279041278421231,0.4136625885289959,0.3467046610397756,0.34928576006885731,0.37475045586349542,0.2222642694853732,0.29543813911805628,0.41806954612421715,0.41567001896188999,0.23736810300935579,0.35692589255470764,0.35994106194874836,0.39474134260602284,0.33226152701494072,0.36585869406803984,0.37946566203936849,0.37074081827676714,{"$f":"$B116*AN$269","v":0.33884504706476654},0.38563312874582412,0.36837589485421879,0.46781096038989828,0.3751080936645928,0.40662086803629877,0.32554173862268693,0.31774403967076237,0.41273428367798809,116]
["Male 60-64",0.34615355669937142,0.38597709231984256,0.36837589485421879,0.31803670049986404,0.41567001896188999,0.38533944029755079,0.39517521937279565,0.29285377679795016,0.34418974626097781,0.3932882294690288,0.29341726135515744,0.37074081827676714,0.46781096038989817,0.33303782166781448,0.29543813911805639,0.3793542129843952,0.43388288757323484,0.36696373237993579,0.3107234298986673,0.39265912441945572,0.31803670049986416,0.30279041278421231,0.4136625885289959,0.3467046610397756,0.34928576006885731,0.37475045586349542,0.2222642694853732,0.29543813911805628,0.41806954612421715,0.41567001896188999,0.23736810300935579,{"$f":"$B117*AG$269","v":0.35692589255470764},0.35994106194874836,0.39474134260602284,0.33226152701494072,0.36585869406803984,0.37946566203936849,0.37074081827676714,0.33884504706476654,0.38563312874582412,0.36837589485421879,0.46781096038989828,0.3751080936645928,0.40662086803629877,0.32554173862268693,0.31774403967076237,0.41273428367798809,117]
["Male 65-69",null,null,null,null,null,null,null,null,null,null,null,null,null,null,null,null,null,null,null,null,null,null,null,null,null,null,null,null,null,null,null,null,null,null,null,null,null,null,null,null,null,null,null,null,null,null,null,118]
["Male 70-74",null,null,null,null,null,null,null,null,null,null,null,null,null,null,null,null,null,null,null,null,null,null,null,null,null,null,null,null,null,null,null,null,null,null,null,null,null,null,null,null,null,null,null,null,null,null,null,119]
["Male 75-79",null,null,null,null,null,null,null,null,null,null,null,null,null,null,null,null,null,null,null,null,null,null,null,null,null,null,null,null,null,null,null,null,null,null,null,null,null,null,null,null,null,null,null,null,null,null,null,120]
["Male 80-84",null,null,null,null,null,null,null,null,null,null,null,null,null,null,null,null,null,null,null,null,null,null,null,null,null,null,null,null,null,null,null,null,null,null,null,null,null,null,null,null,null,null,null,null,null,null,null,121]
["Male 85-89",null,null,null,null,null,null,null,null,null,null,null,null,null,null,null,null,null,null,null,null,null,null,null,null,null,null,null,null,null,null,null,null,null,null,null,null,null,null,null,null,null,null,null,null,null,null,null,122]
["Male 90+",null,null,null,null,null,null,null,null,null,null,null,null,null,null,null,null,null,null,null,null,null,null,null,null,null,null,null,null,null,null,null,null,null,null,null,null,null,null,null,null,null,null,null,null,null,null,null,123]
["Female <1",null,null,null,null,null,null,null,null,null,null,null,null,null,null,null,null,null,null,null,null,null,null,null,null,null,null,null,null,null,null,null,null,null,null,null,null,null,null,null,null,null,null,null,null,null,null,null,124]
["Female 1-4",null,null,null,null,null,null,null,null,null,null,null,null,null,null,null,null,null,null,null,null,null,null,null,null,null,null,null,null,null,null,null,null,null,null,null,null,null,null,null,null,null,null,null,null,null,null,null,125]
["Female 5-9",null,null,null,null,null,null,null,null,null,null,null,null,null,null,null,null,null,null,null,null,null,null,null,null,null,null,null,null,null,null,null,null,null,null,null,null,null,null,null,null,null,null,null,null,null,null,null,126]
["Female 10-14",null,null,null,null,null,null,null,null,null,null,null,null,null,null,null,null,null,null,null,null,null,null,null,null,null,null,null,null,null,null,null,null,null,null,null,null,null,null,null,null,null,null,null,null,null,null,null,127]
["Female 15-19 (16+)",0.2027635984559254,{"$f":"$B128*C$270","v":0.20308941645899356},{"$f":"$B128*D$270","v":0.21754537483200401},0.21853664551213536,0.22527081371763547,0.21956507890992197,0.23594749115190874,0.17586123631473716,0.22112061347830117,0.23400379262387791,0.16791978284449652,0.21998335814053716,0.27768768020102119,0.19269933741459155,0.2921166397025774,{"$f":"$B128*Q$270","v":0.20335586066050382},{"$f":"$B128*R$270","v":0.26514215531940677},0.23098767845026469,0.21833327618951198,0.23054852534884537,0.21853664551213539,0.18216206739747748,0.2105142529199957,0.25262073415305597,0.20518324577525138,0.24409276207799166,0.12573938067667159,0.29211663970257745,0.2332950737881832,0.22527081371763547,0.13793050764102122,0.22255589229305234,0.21698437210107513,0.23565623176590086,0.22795012266777187,0.18304258192689984,0.22273884152467174,0.2199833581405371,0.17681821479377674,0.20628407245091898,0.21754537483200401,0.27768768020102119,0.22057680202056784,0.24561599614847407,0.18945457776749933,0.19891733623074637,0.24794963679591625,128]
["Female 20-24",0.2027635984559254,{"$f":"$B129*C$270","v":0.20308941645899356},0.21754537483200401,0.21853664551213536,0.22527081371763547,0.21956507890992197,0.23594749115190874,0.17586123631473716,0.22112061347830117,0.23400379262387791,0.16791978284449652,0.21998335814053716,0.27768768020102119,0.19269933741459155,0.2921166397025774,{"$f":"$B129*Q$270","v":0.20335586066050382},0.26514215531940677,0.23098767845026469,0.21833327618951198,0.23054852534884537,0.21853664551213539,0.18216206739747748,0.2105142529199957,0.25262073415305597,0.20518324577525138,0.24409276207799166,0.12573938067667159,0.29211663970257745,0.2332950737881832,0.22527081371763547,0.13793050764102122,0.22255589229305234,0.21698437210107513,0.23565623176590086,0.22795012266777187,0.18304258192689984,0.22273884152467174,0.2199833581405371,0.17681821479377674,0.20628407245091898,0.21754537483200401,0.27768768020102119,0.22057680202056784,0.24561599614847407,0.18945457776749933,0.19891733623074637,0.24794963679591625,129]
["Female 25-29",0.38526318490269956,0.38588225895009548,0.41334946019340674,0.41523293485175911,0.42802826453755288,0.41718702093678045,0.44831460184775318,0.33414705854250915,0.42014263134517571,0.44462145627772803,0.31905781333281458,0.41798177694719169,0.5276235029225057,0.36614047603383293,0.55503940466588475,0.38638851915880362,0.50378624165384933,0.43889065567345198,0.41484652075405104,0.43805623803734223,0.41523293485175916,0.346119021305826,0.39998990038145016,0.4799947789120545,0.3898606621603713,0.46379111263556194,0.23891248052454261,0.55503940466588486,0.44327484733056227,0.42802826453755288,0.26207636416837854,0.42286974849837916,0.41228352084086684,0.44776119127731195,0.43311911470656012,0.34779205253303658,0.42321736317964309,0.41798177694719157,0.33596537593047104,0.39195229988195052,0.41334946019340674,0.5276235029225057,0.4191093564586163,0.46668535013092732,0.35997523510596374,0.37795505244634287,0.47111940947441155,130]
["Female 30-34",0.38526318490269956,0.38588225895009548,0.41334946019340674,0.41523293485175911,0.42802826453755288,0.41718702093678045,0.44831460184775318,0.33414705854250915,0.42014263134517571,0.44462145627772803,0.31905781333281458,0.41798177694719169,0.5276235029225057,0.36614047603383293,0.55503940466588475,0.38638851915880362,0.50378624165384933,0.43889065567345198,0.41484652075405104,0.43805623803734223,0.41523293485175916,0.346119021305826,0.39998990038145016,0.4799947789120545,0.3898606621603713,0.46379111263556194,0.23891248052454261,0.55503940466588486,0.44327484733056227,0.42802826453755288,0.26207636416837854,0.42286974849837916,0.41228352084086684,0.44776119127731195,0.43311911470656012,0.34779205253303658,0.42321736317964309,0.41798177694719157,0.33596537593047104,0.39195229988195052,0.41334946019340674,0.5276235029225057,0.4191093564586163,0.46668535013092732,0.35997523510596374,0.37795505244634287,0.47111940947441155,131]
["Female 35-39",0.44763638593890615,0.44835568661455955,0.48026976296088297,0.4824581677244611,0.49732503111005055,0.48472861573815695,0.52089567858774577,0.38824467927258938,0.4881627325011994,0.51660462145979869,0.37071252084971928,0.48565204087231179,0.61304450370544972,0.42541775560291073,0.64489897528378592,0.4489439091571002,0.58534804605487589,0.50994601775313386,0.48200919409564802,0.50897650986961729,0.48245816772446121,0.40215487457277044,0.46474732192237772,0.55770480160465186,0.45297818392196609,0.53887779997250485,0.27759184767346862,0.64489897528378615,0.51503999969991143,0.49732503111005055,0.30450590944984829,0.49133136348990986,0.47903125054106399,0.52025267215110627,0.50324007791522718,0.40409876561001196,0.49173525616826064,0.48565204087231173,0.39035737795736691,0.45540845285777859,0.48026976296088297,0.61304450370544972,0.4869621728473677,0.54224060769263893,0.41825437670884119,0.43914508407326713,0.54739253078660699,132]
["Female 40-44",0.44763638593890615,0.44835568661455955,0.48026976296088297,0.4824581677244611,0.49732503111005055,0.48472861573815695,0.52089567858774577,0.38824467927258938,0.4881627325011994,0.51660462145979869,0.37071252084971928,0.48565204087231179,0.61304450370544972,0.42541775560291073,0.64489897528378592,0.4489439091571002,0.58534804605487589,0.50994601775313386,0.48200919409564802,0.50897650986961729,0.48245816772446121,0.40215487457277044,0.46474732192237772,0.55770480160465186,0.45297818392196609,0.53887779997250485,0.27759184767346862,0.64489897528378615,0.51503999969991143,0.49732503111005055,0.30450590944984829,0.49133136348990986,0.47903125054106399,0.52025267215110627,0.50324007791522718,0.40409876561001196,0.49173525616826064,0.48565204087231173,0.39035737795736691,0.45540845285777859,0.48026976296088297,0.61304450370544972,0.4869621728473677,0.54224060769263893,0.41825437670884119,0.43914508407326713,0.54739253078660699,133]
["Female 45-49",0.4564895035619469,0.45722303018903748,0.48976828639606884,0.4919999722810825,0.50716086469195376,0.49431532402457695,0.53119768007093249,0.39592317887648237,0.49781735894751322,0.52682175666608255,0.37804427862122547,0.49525701217663104,0.62516897631300872,0.43383144481046454,0.6576534489202186,0.45782288628845874,0.59692475265184175,0.52003146258823241,0.49154211908735823,0.51904278028637352,0.49199997228108261,0.41010848272239447,0.47393885066136088,0.56873479461378684,0.46193694882335168,0.54953544241950014,0.28308191361950602,0.65765344892021882,0.52522619063778675,0.50716086469195376,0.31052826759130292,0.50104865745773941,0.48850527932730109,0.53054195659029302,0.513192896189968,0.4120908190168574,0.50146053811361135,0.49525701217663098,0.39807766140758222,0.46441528234332263,0.48976828639606884,0.62516897631300872,0.49659305525462943,0.5529647579866841,0.42652639236634482,0.44783026518231878,0.55821857311304379,134]
["Female 50-54",0.4564895035619469,0.45722303018903748,0.48976828639606884,0.4919999722810825,0.50716086469195376,0.49431532402457695,0.53119768007093249,0.39592317887648237,0.49781735894751322,0.52682175666608255,0.37804427862122547,0.49525701217663104,0.62516897631300872,0.43383144481046454,0.6576534489202186,0.45782288628845874,0.59692475265184175,0.52003146258823241,0.49154211908735823,0.51904278028637352,0.49199997228108261,0.41010848272239447,0.47393885066136088,0.56873479461378684,0.46193694882335168,0.54953544241950014,0.28308191361950602,0.65765344892021882,0.52522619063778675,0.50716086469195376,0.31052826759130292,0.50104865745773941,0.48850527932730109,0.53054195659029302,0.513192896189968,0.4120908190168574,0.50146053811361135,0.49525701217663098,0.39807766140758222,0.46441528234332263,0.48976828639606884,0.62516897631300872,0.49659305525462943,0.5529647579866841,0.42652639236634482,0.44783026518231878,0.55821857311304379,135]
["Female 55-59",0.26914084925581394,0.26957332793895222,0.28876162871358285,0.2900774044974247,0.29901608857909318,0.29144250868866589,0.31318791258386058,0.23343165564904961,0.29350726734341703,0.31060791954509426,0.2228904660687577,0.29199771696180332,0.36859228503692826,0.25578192396338489,0.38774474851508411,0.26992699604910536,0.35193982253029343,0.30660444191735226,0.28980745963246746,0.30602152644549546,0.29007740449742475,0.24179514417233491,0.27942877934106386,0.3353193543976275,0.27235259899483083,0.32399964186445512,0.16690177111635551,0.38774474851508423,0.30966719255674419,0.29901608857909318,0.18308381902612236,0.2954124029893746,0.28801697458144659,0.3128013057219739,0.30257250349651321,0.2429639063665131,0.29565524298601947,0.29199771696180327,{"$f":"$B136*AN$270","v":0.23470191324227452},0.2738137953270563,0.28876162871358285,0.36859228503692826,0.29278543226708204,0.32602152604123519,0.25147495084937582,0.26403546402084899,0.32911911372705938,136]
["Female 60-64",0.26914084925581394,0.26957332793895222,0.28876162871358285,0.2900774044974247,0.29901608857909318,0.29144250868866589,0.31318791258386058,0.23343165564904961,0.29350726734341703,0.31060791954509426,0.2228904660687577,0.29199771696180332,0.36859228503692826,0.25578192396338489,0.38774474851508411,0.26992699604910536,0.35193982253029343,0.30660444191735226,0.28980745963246746,0.30602152644549546,0.29007740449742475,0.24179514417233491,0.27942877934106386,0.3353193543976275,0.27235259899483083,0.32399964186445512,0.16690177111635551,0.38774474851508423,0.30966719255674419,0.29901608857909318,0.18308381902612236,{"$f":"$B137*AG$270","v":0.2954124029893746},0.28801697458144659,0.3128013057219739,0.30257250349651321,0.2429639063665131,0.29565524298601947,0.29199771696180327,0.23470191324227452,0.2738137953270563,0.28876162871358285,0.36859228503692826,0.29278543226708204,0.32602152604123519,0.25147495084937582,0.26403546402084899,0.32911911372705938,137]
["Female 65-69",null,null,null,null,null,null,null,null,null,null,null,null,null,null,null,null,null,null,null,null,null,null,null,null,null,null,null,null,null,null,null,null,null,null,null,null,null,null,null,null,null,null,null,null,null,null,null,138]
["Female 70-74",null,null,null,null,null,null,null,null,null,null,null,null,null,null,null,null,null,null,null,null,null,null,null,null,null,null,null,null,null,null,null,null,null,null,null,null,null,null,null,null,null,null,null,null,null,null,null,139]
["Female 75-79",null,null,null,null,null,null,null,null,null,null,null,null,null,null,null,null,null,null,null,null,null,null,null,null,null,null,null,null,null,null,null,null,null,null,null,null,null,null,null,null,null,null,null,null,null,null,null,140]
["Female 80-84",null,null,null,null,null,null,null,null,null,null,null,null,null,null,null,null,null,null,null,null,null,null,null,null,null,null,null,null,null,null,null,null,null,null,null,null,null,null,null,null,null,null,null,null,null,null,null,141]
["Female 85-89",null,null,null,null,null,null,null,null,null,null,null,null,null,null,null,null,null,null,null,null,null,null,null,null,null,null,null,null,null,null,null,null,null,null,null,null,null,null,null,null,null,null,null,null,null,null,null,142]
["Female 90+",null,null,null,null,null,null,null,null,null,null,null,null,null,null,null,null,null,null,null,null,null,null,null,null,null,null,null,null,null,null,null,null,null,null,null,null,null,null,null,null,null,null,null,null,null,null,null,143]
["age/sex breakdown: Q3",null,null,null,null,null,null,null,null,null,null,null,null,null,null,null,null,null,null,null,null,null,null,null,null,null,null,null,null,null,null,null,null,null,null,null,null,null,null,null,null,null,null,null,null,null,null,null,144]
["Male <1",null,null,null,null,null,null,null,null,null,null,null,null,null,null,null,null,null,null,null,null,null,null,null,null,null,null,null,null,null,null,null,null,null,null,null,null,null,null,null,null,null,null,null,null,null,null,null,145]
["Male 1-4",null,null,null,null,null,null,null,null,null,null,null,null,null,null,null,null,null,null,null,null,null,null,null,null,null,null,null,null,null,null,null,null,null,null,null,null,null,null,null,null,null,null,null,null,null,null,null,146]
["Male 5-9",null,null,null,null,null,null,null,null,null,null,null,null,null,null,null,null,null,null,null,null,null,null,null,null,null,null,null,null,null,null,null,null,null,null,null,null,null,null,null,null,null,null,null,null,null,null,null,147]
["Male 10-14",null,null,null,null,null,null,null,null,null,null,null,null,null,null,null,null,null,null,null,null,null,null,null,null,null,null,null,null,null,null,null,null,null,null,null,null,null,null,null,null,null,null,null,null,null,null,null,148]
["Male 15-19 (16+)",0.31367328570319425,{"$f":"$B149*C$269","v":0.34976010042640715},{"$f":"$B149*D$269","v":0.33381045803648979},0.28819468958001965,0.37666688119377589,0.34918228055110462,0.35809514907512285,0.26537472928115002,0.3118937434717558,0.35638521915602239,0.2658853409709086,0.33595347602960385,0.42391533524211999,0.30178822595979854,0.2677165957872315,{"$f":"$B149*Q$269","v":0.34375865892231255},{"$f":"$B149*R$269","v":0.39317080041931962},0.33253080155259063,0.28156763758440423,0.35581514427412986,0.2881946895800197,0.27437899111328939,0.37484781191795924,0.31417267883631178,0.31651158825240228,0.33958688141275412,0.20140877467408622,0.26771659578723145,0.37884125598951107,0.37666688119377589,0.21509538570693562,0.3234348320373151,0.32616708213983781,0.35770198382117718,0.30108477256540733,0.33152945116513427,0.34385965049262984,0.33595347602960385,0.30705054794328457,0.34944841163299023,0.33381045803648979,0.42391533524212005,0.33991096135355126,0.36846682994854346,0.29499551517245493,0.28792948969377186,0.37400661174215771,149]
["Male 20-24",0.31367328570319425,{"$f":"$B150*C$269","v":0.34976010042640715},0.33381045803648979,0.28819468958001965,0.37666688119377589,0.34918228055110462,0.35809514907512285,0.26537472928115002,0.3118937434717558,0.35638521915602239,0.2658853409709086,0.33595347602960385,0.42391533524211999,0.30178822595979854,0.2677165957872315,{"$f":"$B150*Q$269","v":0.34375865892231255},0.39317080041931962,0.33253080155259063,0.28156763758440423,0.35581514427412986,0.2881946895800197,0.27437899111328939,0.37484781191795924,0.31417267883631178,0.31651158825240228,0.33958688141275412,0.20140877467408622,0.26771659578723145,0.37884125598951107,0.37666688119377589,0.21509538570693562,0.3234348320373151,0.32616708213983781,0.35770198382117718,0.30108477256540733,0.33152945116513427,0.34385965049262984,0.33595347602960385,0.30705054794328457,0.34944841163299023,0.33381045803648979,0.42391533524212005,0.33991096135355126,0.36846682994854346,0.29499551517245493,0.28792948969377186,0.37400661174215771,150]
["Male 25-29",0.51874565839186215,0.57842520177692247,0.55204805039112903,0.47660974270115608,0.6229230163519941,0.57746961656993312,0.59220951333955107,0.438870617728574,0.51580269241879817,0.58938167060599089,0.43971505558560287,0.55559212421077664,0.7010614218855078,0.49909042021053923,0.44274354264100219,0.56850015598488912,0.65021681800777731,0.54993178395878828,0.46565007668128489,0.58843889389079496,0.47660974270115619,0.45376165864707163,0.61991468146294393,0.51957154325819577,0.5234395778032761,0.56160096638380841,0.33308519464762026,0.44274354264100207,0.62651894732990854,0.6229230163519941,0.35571979687545191,0.53488907898524873,0.53940761130191373,0.5915593056941737,0.49792706518206314,0.54827577374147729,0.56866717351881402,0.55559212421077664,0.50779312715567726,0.57790973802618595,0.55204805039112903,0.70106142188550791,0.56213692232880885,0.6093619603872853,0.48785679149476691,0.47617116123481079,0.61852352397862942,151]
["Male 30-34",0.51874565839186215,0.57842520177692247,0.55204805039112903,0.47660974270115608,0.6229230163519941,0.57746961656993312,0.59220951333955107,0.438870617728574,0.51580269241879817,0.58938167060599089,0.43971505558560287,0.55559212421077664,0.7010614218855078,0.49909042021053923,0.44274354264100219,0.56850015598488912,0.65021681800777731,0.54993178395878828,0.46565007668128489,0.58843889389079496,0.47660974270115619,0.45376165864707163,0.61991468146294393,0.51957154325819577,0.5234395778032761,0.56160096638380841,0.33308519464762026,0.44274354264100207,0.62651894732990854,0.6229230163519941,0.35571979687545191,0.53488907898524873,0.53940761130191373,0.5915593056941737,0.49792706518206314,0.54827577374147729,0.56866717351881402,0.55559212421077664,0.50779312715567726,0.57790973802618595,0.55204805039112903,0.70106142188550791,0.56213692232880885,0.6093619603872853,0.48785679149476691,0.47617116123481079,0.61852352397862942,152]
["Male 35-39",0.51213547902535583,0.57105454860228944,0.54501351126201514,0.47053648534253895,0.61498534438693764,0.57011114005551122,0.58466321190570136,0.4332782557397169,0.50923001415256475,0.5818714033005945,0.43411193324510033,0.5485124242918672,0.69212806182623088,0.49273070009659364,0.43710182943747944,0.56125597390807602,0.64193135147014002,0.54292421161094528,0.45971647419402217,0.58094064003185186,0.47053648534253906,0.44797954576616772,0.61201534356948784,0.51295083995377455,0.5167695856002873,0.5544446980659038,0.32884081622183453,0.43710182943747933,0.61853545377893793,0.61498534438693764,0.3511869942899743,0.52807319012703879,0.53253414449851366,0.58402128960997823,0.49158216926043752,0.54128930330435321,0.56142086320085083,0.5485124242918672,0.50132251174468023,0.57054565321081385,0.54501351126201514,0.69212806182623099,0.55497382452737665,0.60159709181995535,0.48164021725500211,0.47010349255363598,0.61064191307787119,153]
["Male 40-44",0.51213547902535583,0.57105454860228944,0.54501351126201514,0.47053648534253895,0.61498534438693764,0.57011114005551122,0.58466321190570136,0.4332782557397169,0.50923001415256475,0.5818714033005945,0.43411193324510033,0.5485124242918672,0.69212806182623088,0.49273070009659364,0.43710182943747944,0.56125597390807602,0.64193135147014002,0.54292421161094528,0.45971647419402217,0.58094064003185186,0.47053648534253906,0.44797954576616772,0.61201534356948784,0.51295083995377455,0.5167695856002873,0.5544446980659038,0.32884081622183453,0.43710182943747933,0.61853545377893793,0.61498534438693764,0.3511869942899743,0.52807319012703879,0.53253414449851366,0.58402128960997823,0.49158216926043752,0.54128930330435321,0.56142086320085083,0.5485124242918672,0.50132251174468023,0.57054565321081385,0.54501351126201514,0.69212806182623099,0.55497382452737665,0.60159709181995535,0.48164021725500211,0.47010349255363598,0.61064191307787119,154]
["Male 45-49",0.55222552632179711,0.6157567900987827,0.5876772561860647,0.50737015675304808,0.66312649561124071,0.61473953137991288,0.63043074174447733,0.46719534697147835,0.54909262119356816,0.62742038991476456,0.46809428488546378,0.59145006468810679,0.74630795732305133,0.53130173819158,0.47131823063049655,0.60519118140865025,0.69218184044325848,0.58542440582379007,0.4957031533994265,0.62641676634831966,0.5073701567530482,0.4830474563350326,0.6599240026542722,0.55310471383424042,0.55722239150138397,0.59784671780299514,0.35458252796659145,0.47131823063049638,0.66695450813485713,0.66312649561124071,0.37867796843176588,0.56941084400031683,0.57422100259423703,0.62973856966866648,0.53006330017767755,0.58366151663319177,0.60536897826166403,0.59145006468810679,0.54056611823111911,0.6152080582945828,0.5876772561860647,0.74630795732305144,0.59841726436859077,0.64869020848971337,0.51934309057744443,0.50690326921930307,0.65844305980387097,155]
["Male 50-54",0.55222552632179711,0.6157567900987827,0.5876772561860647,0.50737015675304808,0.66312649561124071,0.61473953137991288,0.63043074174447733,0.46719534697147835,0.54909262119356816,0.62742038991476456,0.46809428488546378,0.59145006468810679,0.74630795732305133,0.53130173819158,0.47131823063049655,0.60519118140865025,0.69218184044325848,0.58542440582379007,0.4957031533994265,0.62641676634831966,0.5073701567530482,0.4830474563350326,0.6599240026542722,0.55310471383424042,0.55722239150138397,0.59784671780299514,0.35458252796659145,0.47131823063049638,0.66695450813485713,0.66312649561124071,0.37867796843176588,0.56941084400031683,0.57422100259423703,0.62973856966866648,0.53006330017767755,0.58366151663319177,0.60536897826166403,0.59145006468810679,0.54056611823111911,0.6152080582945828,0.5876772561860647,0.74630795732305144,0.59841726436859077,0.64869020848971337,0.51934309057744443,0.50690326921930307,0.65844305980387097,156]
["Male 55-59",0.39251765882938006,0.43767519272013078,0.41771647587874811,0.36063480696933731,0.47134521523979289,0.43695213304301994,0.44810532474265374,0.33207886102382483,0.39029081394870641,0.44596558980442658,0.33271781918242488,0.4203981591582171,0.53046995876006875,0.37764519107980182,0.33500937503364026,0.43016523928718947,0.49199753098098536,0.41611516716021979,0.35234199067665212,0.44525222188883806,0.36063480696933736,0.3433464184950159,0.4690689078654135,0.39314257855439688,0.39606939218520931,0.4249448510174712,0.25203453499566347,0.33500937503364014,0.47406613711341133,0.47134521523979289,0.26916138884258545,0.40473285052169766,0.40815187427175759,0.44761333415229837,0.37676491886011626,0.41486211907590137,0.43029161592348347,0.4203981591582171,{"$f":"$B157*AN$269","v":0.38423024119120591},0.43728515837212728,0.41771647587874811,0.53046995876006886,0.42535039113017192,0.46108401333398202,0.36914507628878301,0.36030294689958847,0.46801626507222099,157]
["Male 60-64",0.39251765882938006,0.43767519272013078,0.41771647587874811,0.36063480696933731,0.47134521523979289,0.43695213304301994,0.44810532474265374,0.33207886102382483,0.39029081394870641,0.44596558980442658,0.33271781918242488,0.4203981591582171,0.53046995876006875,0.37764519107980182,0.33500937503364026,0.43016523928718947,0.49199753098098536,0.41611516716021979,0.35234199067665212,0.44525222188883806,0.36063480696933736,0.3433464184950159,0.4690689078654135,0.39314257855439688,0.39606939218520931,0.4249448510174712,0.25203453499566347,0.33500937503364014,0.47406613711341133,0.47134521523979289,0.26916138884258545,{"$f":"$B158*AG$269","v":0.40473285052169766},0.40815187427175759,0.44761333415229837,0.37676491886011626,0.41486211907590137,0.43029161592348347,0.4203981591582171,0.38423024119120591,0.43728515837212728,0.41771647587874811,0.53046995876006886,0.42535039113017192,0.46108401333398202,0.36914507628878301,0.36030294689958847,0.46801626507222099,158]
["Male 65-69",null,null,null,null,null,null,null,null,null,null,null,null,null,null,null,null,null,null,null,null,null,null,null,null,null,null,null,null,null,null,null,null,null,null,null,null,null,null,null,null,null,null,null,null,null,null,null,159]
["Male 70-74",null,null,null,null,null,null,null,null,null,null,null,null,null,null,null,null,null,null,null,null,null,null,null,null,null,null,null,null,null,null,null,null,null,null,null,null,null,null,null,null,null,null,null,null,null,null,null,160]
["Male 75-79",null,null,null,null,null,null,null,null,null,null,null,null,null,null,null,null,null,null,null,null,null,null,null,null,null,null,null,null,null,null,null,null,null,null,null,null,null,null,null,null,null,null,null,null,null,null,null,161]
["Male 80-84",null,null,null,null,null,null,null,null,null,null,null,null,null,null,null,null,null,null,null,null,null,null,null,null,null,null,null,null,null,null,null,null,null,null,null,null,null,null,null,null,null,null,null,null,null,null,null,162]
["Male 85-89",null,null,null,null,null,null,null,null,null,null,null,null,null,null,null,null,null,null,null,null,null,null,null,null,null,null,null,null,null,null,null,null,null,null,null,null,null,null,null,null,null,null,null,null,null,null,null,163]
["Male 90+",null,null,null,null,null,null,null,null,null,null,null,null,null,null,null,null,null,null,null,null,null,null,null,null,null,null,null,null,null,null,null,null,null,null,null,null,null,null,null,null,null,null,null,null,null,null,null,164]
["Female <1",null,null,null,null,null,null,null,null,null,null,null,null,null,null,null,null,null,null,null,null,null,null,null,null,null,null,null,null,null,null,null,null,null,null,null,null,null,null,null,null,null,null,null,null,null,null,null,165]
["Female 1-4",null,null,null,null,null,null,null,null,null,null,null,null,null,null,null,null,null,null,null,null,null,null,null,null,null,null,null,null,null,null,null,null,null,null,null,null,null,null,null,null,null,null,null,null,null,null,null,166]
["Female 5-9",null,null,null,null,null,null,null,null,null,null,null,null,null,null,null,null,null,null,null,null,null,null,null,null,null,null,null,null,null,null,null,null,null,null,null,null,null,null,null,null,null,null,null,null,null,null,null,167]
["Female 10-14",null,null,null,null,null,null,null,null,null,null,null,null,null,null,null,null,null,null,null,null,null,null,null,null,null,null,null,null,null,null,null,null,null,null,null,null,null,null,null,null,null,null,null,null,null,null,null,168]
["Female 15-19 (16+)",0.25908436548072067,{"$f":"$B169*C$270","v":0.25950068454010772},{"$f":"$B169*D$270","v":0.27797201189377591},0.27923862353973805,0.28784331249697065,0.2805527204305695,0.30148560440521127,0.22470945066188855,0.28254032910244586,0.29900201315088587,0.21456213403799659,0.28108718327243537,0.35481978508254475,0.24622459821587256,0.37325661420510692,{"$f":"$B169*Q$270","v":0.25984113779409412},{"$f":"$B169*R$270","v":0.33878954406133804},0.29514812599935236,0.27897876520070997,0.29458699124194748,0.27923862353973816,0.23276043631959192,0.26898788568442461,0.32279010194004409,0.26217610776182326,0.31189335197737456,0.16066546414955007,0.37325661420510703,0.29809643655208573,0.28784331249697065,0.17624286767812278,0.28437427910056923,0.2772551818627324,0.30111344316034877,0.29126684149605675,0.23388552755830128,0.28460804534830919,0.28108718327243531,0.22593224491050495,0.26358270629795838,0.27797201189377591,0.35481978508254475,0.28184546549013623,0.31383968818187497,0.24207855572744694,0.25416974364686329,0.31682153409014829,169]
["Female 20-24",0.25908436548072067,{"$f":"$B170*C$270","v":0.25950068454010772},0.27797201189377591,0.27923862353973805,0.28784331249697065,0.2805527204305695,0.30148560440521127,0.22470945066188855,0.28254032910244586,0.29900201315088587,0.21456213403799659,0.28108718327243537,0.35481978508254475,0.24622459821587256,0.37325661420510692,{"$f":"$B170*Q$270","v":0.25984113779409412},0.33878954406133804,0.29514812599935236,0.27897876520070997,0.29458699124194748,0.27923862353973816,0.23276043631959192,0.26898788568442461,0.32279010194004409,0.26217610776182326,0.31189335197737456,0.16066546414955007,0.37325661420510703,0.29809643655208573,0.28784331249697065,0.17624286767812278,0.28437427910056923,0.2772551818627324,0.30111344316034877,0.29126684149605675,0.23388552755830128,0.28460804534830919,0.28108718327243531,0.22593224491050495,0.26358270629795838,0.27797201189377591,0.35481978508254475,0.28184546549013623,0.31383968818187497,0.24207855572744694,0.25416974364686329,0.31682153409014829,170]
["Female 25-29",0.48675309713780529,0.48753525391202113,0.52223814222008957,0.524617780761377,0.54078378519035553,0.52708663190322236,0.56641415399347916,0.42217144543964497,0.53082083900266919,0.56174812278459396,0.40310723913312863,0.52809075055430565,0.66661540534969488,0.46259289151126404,0.70125348032637813,0.48817487828881834,0.63649869239999557,0.55450765690951931,0.52412957356637957,0.55345342856744351,0.524617780761377,0.43729718333057449,0.50535927247677392,0.60643984268682594,0.49256168820460428,0.58596764328095197,0.3018492147635824,0.70125348032637835,0.5600467765325976,0.54078378519035553,0.33111516216580938,0.53426636085006463,0.52089140237693299,0.56571495843131014,0.54721571843478067,0.43941094131048292,0.53470554769517809,0.52809075055430554,0.42446876232548625,0.49520432622184973,0.52223814222008957,0.66661540534969488,0.52951536842843161,0.58962430999588156,0.45480354066270318,0.4775197827521514,0.59522643395402419,171]
["Female 30-34",0.48675309713780529,0.48753525391202113,0.52223814222008957,0.524617780761377,0.54078378519035553,0.52708663190322236,0.56641415399347916,0.42217144543964497,0.53082083900266919,0.56174812278459396,0.40310723913312863,0.52809075055430565,0.66661540534969488,0.46259289151126404,0.70125348032637813,0.48817487828881834,0.63649869239999557,0.55450765690951931,0.52412957356637957,0.55345342856744351,0.524617780761377,0.43729718333057449,0.50535927247677392,0.60643984268682594,0.49256168820460428,0.58596764328095197,0.3018492147635824,0.70125348032637835,0.5600467765325976,0.54078378519035553,0.33111516216580938,0.53426636085006463,0.52089140237693299,0.56571495843131014,0.54721571843478067,0.43941094131048292,0.53470554769517809,0.52809075055430554,0.42446876232548625,0.49520432622184973,0.52223814222008957,0.66661540534969488,0.52951536842843161,0.58962430999588156,0.45480354066270318,0.4775197827521514,0.59522643395402419,172]
["Female 35-39",0.53360565798914239,0.53446310149101273,0.57250632640039234,0.57511501774116969,0.59283708562549231,0.57782150886730355,0.62093451302783553,0.4628076806345861,0.58191515315654352,0.61581935162864643,0.44190844360857212,0.5789222792510178,0.73078066495921523,0.5071199047472813,0.76875283791115745,0.53516429309812064,0.69776505905040531,0.6078819526061533,0.5745798180207089,0.60672624920857443,0.5751150177411698,0.47938935082286172,0.55400277614368976,0.66481288602077659,0.53997335667748092,0.64237012911035962,0.33090379867028774,0.76875283791115767,0.61395424179862745,0.59283708562549231,0.3629867483465582,0.58569232471088273,0.57102995572217086,0.62016801619359219,0.59988812647395373,0.48170656919154015,0.5861737856134327,0.57892227925101769,0.46532612642504373,0.54287036258522181,0.57250632640039234,0.73078066495921523,0.58048402413271682,0.64637876934283178,0.49858078766863262,0.52348358824341545,0.65252012737095577,173]
["Female 40-44",0.53360565798914239,0.53446310149101273,0.57250632640039234,0.57511501774116969,0.59283708562549231,0.57782150886730355,0.62093451302783553,0.4628076806345861,0.58191515315654352,0.61581935162864643,0.44190844360857212,0.5789222792510178,0.73078066495921523,0.5071199047472813,0.76875283791115745,0.53516429309812064,0.69776505905040531,0.6078819526061533,0.5745798180207089,0.60672624920857443,0.5751150177411698,0.47938935082286172,0.55400277614368976,0.66481288602077659,0.53997335667748092,0.64237012911035962,0.33090379867028774,0.76875283791115767,0.61395424179862745,0.59283708562549231,0.3629867483465582,0.58569232471088273,0.57102995572217086,0.62016801619359219,0.59988812647395373,0.48170656919154015,0.5861737856134327,0.57892227925101769,0.46532612642504373,0.54287036258522181,0.57250632640039234,0.73078066495921523,0.58048402413271682,0.64637876934283178,0.49858078766863262,0.52348358824341545,0.65252012737095577,174]
["Female 45-49",0.51309313446768856,0.51391761668112979,0.55049840854823917,0.55300681826402487,0.5700476258789271,0.55560926820908385,0.59706495015295102,0.4450167271602517,0.55954554727268524,0.59214642247933424,0.42492088508453124,0.55666772348978222,0.70268846736991497,0.48762552941864173,0.73920093861297231,0.51459185353406944,0.67094202602606035,0.58451414781545763,0.55249219234500391,0.58340287122027812,0.55300681826402498,0.46096097550962895,0.53270615980078484,0.63925657911567946,0.51921605020223627,0.61767655214846828,0.31818340889941915,0.73920093861297254,0.59035300999488416,0.5700476258789271,0.34903304657830159,0.56317751924153858,0.54907879155658379,0.59632791849417222,0.57682761517632386,0.46318911686875885,0.56364047213552382,0.55666772348978211,0.44743836048678426,0.52200169128290941,0.55049840854823917,0.70268846736991497,0.55816943278501263,0.6215310948262639,0.47941466755488021,0.50336017077928397,0.62743637074184011,175]
["Female 50-54",0.51309313446768856,0.51391761668112979,0.55049840854823917,0.55300681826402487,0.5700476258789271,0.55560926820908385,0.59706495015295102,0.4450167271602517,0.55954554727268524,0.59214642247933424,0.42492088508453124,0.55666772348978222,0.70268846736991497,0.48762552941864173,0.73920093861297231,0.51459185353406944,0.67094202602606035,0.58451414781545763,0.55249219234500391,0.58340287122027812,0.55300681826402498,0.46096097550962895,0.53270615980078484,0.63925657911567946,0.51921605020223627,0.61767655214846828,0.31818340889941915,0.73920093861297254,0.59035300999488416,0.5700476258789271,0.34903304657830159,0.56317751924153858,0.54907879155658379,0.59632791849417222,0.57682761517632386,0.46318911686875885,0.56364047213552382,0.55666772348978211,0.44743836048678426,0.52200169128290941,0.55049840854823917,0.70268846736991497,0.55816943278501263,0.6215310948262639,0.47941466755488021,0.50336017077928397,0.62743637074184011,176]
["Female 55-59",0.2982687330812715,0.29874801695535075,0.320012979809769,0.32147115599205672,0.33137723299160904,0.32298399916978798,0.34708280872654701,0.2586948966833641,0.32527221721537292,0.34422359483479065,0.24701288234040292,0.3235992950963737,0.40848334314721491,0.28346403237040718,0.42970859019837943,0.29913996094838752,0.39002866074478121,0.33978683912398872,0.32117199622832998,0.33914083737522055,0.32147115599205678,0.26796352733856804,0.30967007881173536,0.37160943532115914,0.30182807581307713,0.35906464204489069,0.18496478686733703,0.42970859019837959,0.3431810572647177,0.33137723299160904,0.20289814385143048,0.32738353698358702,0.31918773516485477,0.34665436117124537,0.33531854243855203,0.26925877932240749,0.32765265844300501,0.32359929509637364,{"$f":"$B177*AN$270","v":0.26010262844933602},0.30344741074495751,0.320012979809769,0.40848334314721491,0.32447226122835948,0.36130534550374044,0.27869093524419003,0.29261081533992761,0.3647381709451909,177]
["Female 60-64",0.2982687330812715,0.29874801695535075,0.320012979809769,0.32147115599205672,0.33137723299160904,0.32298399916978798,0.34708280872654701,0.2586948966833641,0.32527221721537292,0.34422359483479065,0.24701288234040292,0.3235992950963737,0.40848334314721491,0.28346403237040718,0.42970859019837943,0.29913996094838752,0.39002866074478121,0.33978683912398872,0.32117199622832998,0.33914083737522055,0.32147115599205678,0.26796352733856804,0.30967007881173536,0.37160943532115914,0.30182807581307713,0.35906464204489069,0.18496478686733703,0.42970859019837959,0.3431810572647177,0.33137723299160904,0.20289814385143048,{"$f":"$B178*AG$270","v":0.32738353698358702},0.31918773516485477,0.34665436117124537,0.33531854243855203,0.26925877932240749,0.32765265844300501,0.32359929509637364,0.26010262844933602,0.30344741074495751,0.320012979809769,0.40848334314721491,0.32447226122835948,0.36130534550374044,0.27869093524419003,0.29261081533992761,0.3647381709451909,178]
["Female 65-69",null,null,null,null,null,null,null,null,null,null,null,null,null,null,null,null,null,null,null,null,null,null,null,null,null,null,null,null,null,null,null,null,null,null,null,null,null,null,null,null,null,null,null,null,null,null,null,179]
["Female 70-74",null,null,null,null,null,null,null,null,null,null,null,null,null,null,null,null,null,null,null,null,null,null,null,null,null,null,null,null,null,null,null,null,null,null,null,null,null,null,null,null,null,null,null,null,null,null,null,180]
["Female 75-79",null,null,null,null,null,null,null,null,null,null,null,null,null,null,null,null,null,null,null,null,null,null,null,null,null,null,null,null,null,null,null,null,null,null,null,null,null,null,null,null,null,null,null,null,null,null,null,181]
["Female 80-84",null,null,null,null,null,null,null,null,null,null,null,null,null,null,null,null,null,null,null,null,null,null,null,null,null,null,null,null,null,null,null,null,null,null,null,null,null,null,null,null,null,null,null,null,null,null,null,182]
["Female 85-89",null,null,null,null,null,null,null,null,null,null,null,null,null,null,null,null,null,null,null,null,null,null,null,null,null,null,null,null,null,null,null,null,null,null,null,null,null,null,null,null,null,null,null,null,null,null,null,183]
["Female 90+",null,null,null,null,null,null,null,null,null,null,null,null,null,null,null,null,null,null,null,null,null,null,null,null,null,null,null,null,null,null,null,null,null,null,null,null,null,null,null,null,null,null,null,null,null,null,null,184]
["age/sex breakdown: Q4",null,null,null,null,null,null,null,null,null,null,null,null,null,null,null,null,null,null,null,null,null,null,null,null,null,null,null,null,null,null,null,null,null,null,null,null,null,null,null,null,null,null,null,null,null,null,null,185]
["Male <1",null,null,null,null,null,null,null,null,null,null,null,null,null,null,null,null,null,null,null,null,null,null,null,null,null,null,null,null,null,null,null,null,null,null,null,null,null,null,null,null,null,null,null,null,null,null,null,186]
["Male 1-4",null,null,null,null,null,null,null,null,null,null,null,null,null,null,null,null,null,null,null,null,null,null,null,null,null,null,null,null,null,null,null,null,null,null,null,null,null,null,null,null,null,null,null,null,null,null,null,187]
["Male 5-9",null,null,null,null,null,null,null,null,null,null,null,null,null,null,null,null,null,null,null,null,null,null,null,null,null,null,null,null,null,null,null,null,null,null,null,null,null,null,null,null,null,null,null,null,null,null,null,188]
["Male 10-14",null,null,null,null,null,null,null,null,null,null,null,null,null,null,null,null,null,null,null,null,null,null,null,null,null,null,null,null,null,null,null,null,null,null,null,null,null,null,null,null,null,null,null,null,null,null,null,189]
["Male 15-19 (16+)",0.34095765785605103,{"$f":"$B190*C$269","v":0.38018342679562961},{"$f":"$B190*D$269","v":0.36284643011541656},0.31326284654898345,0.4094306511179745,0.37955534617695608,0.38924348640195339,0.28845792827732386,0.33902332497230869,0.38738482094688448,0.28901295471326566,0.36517585512219558,0.4607889368372311,0.32803879508294947,0.29100349831888811,{"$f":"$B190*Q$269","v":0.37365995944198199},{"$f":"$B190*R$269","v":0.42737013752330194},0.36145546474636242,0.30605935096965842,0.38676515900756153,0.31326284654898351,0.29824541151207357,0.40745335299272956,0.34150048990703502,0.34404284564083587,0.36912530649706554,0.21892799678679889,0.29100349831888805,0.41179416044900691,0.4094306511179745,0.23380511592458461,0.35156829678143425,0.35453820731603614,0.38881612229335488,0.32727415291323197,0.3603670134871646,0.37376973560351068,0.36517585512219558,0.33375885177936687,0.37984462624796694,0.36284643011541656,0.46078893683723116,0.36947757601636688,0.40051733144968887,0.32065523114522326,0.31297457867218281,0.40653898235677816,190]
["Male 20-24",0.34095765785605103,{"$f":"$B191*C$269","v":0.38018342679562961},0.36284643011541656,0.31326284654898345,0.4094306511179745,0.37955534617695608,0.38924348640195339,0.28845792827732386,0.33902332497230869,0.38738482094688448,0.28901295471326566,0.36517585512219558,0.4607889368372311,0.32803879508294947,0.29100349831888811,{"$f":"$B191*Q$269","v":0.37365995944198199},0.42737013752330194,0.36145546474636242,0.30605935096965842,0.38676515900756153,0.31326284654898351,0.29824541151207357,0.40745335299272956,0.34150048990703502,0.34404284564083587,0.36912530649706554,0.21892799678679889,0.29100349831888805,0.41179416044900691,0.4094306511179745,0.23380511592458461,0.35156829678143425,0.35453820731603614,0.38881612229335488,0.32727415291323197,0.3603670134871646,0.37376973560351068,0.36517585512219558,0.33375885177936687,0.37984462624796694,0.36284643011541656,0.46078893683723116,0.36947757601636688,0.40051733144968887,0.32065523114522326,0.31297457867218281,0.40653898235677816,191]
["Male 25-29",0.55857086899551978,0.62283213821402261,0.59442995665772069,0.51320008918746873,0.67074614492137818,0.62180319069256873,0.63767470077524258,0.47256365109868609,0.55540196524778607,0.63462975852365044,0.47347291825106197,0.59824611658349591,0.75488340250553498,0.53740665625725714,0.47673390871702598,0.61214512548785815,0.70013534994397852,0.59215121993768116,0.50139902623188115,0.63361460282922344,0.51320008918746884,0.48859790898891758,0.66750685374655561,0.55946015880453392,0.56362515061159424,0.60471627038613629,0.35865685546291176,0.47673390871702587,0.67461814319006408,0.67074614492137818,0.383029164380083,0.57595365441942492,0.58081908409941141,0.63697457530213142,0.53615398798197822,0.59036807428395877,0.61232496531408653,0.59824611658349591,0.54677748857617947,0.62227710121173307,0.59442995665772069,0.75488340250553509,0.60529337281215023,0.65614397776650202,0.52531059790528156,0.51272783688652168,0.66600889413503406,192]
["Male 30-34",0.55857086899551978,0.62283213821402261,0.59442995665772069,0.51320008918746873,0.67074614492137818,0.62180319069256873,0.63767470077524258,0.47256365109868609,0.55540196524778607,0.63462975852365044,0.47347291825106197,0.59824611658349591,0.75488340250553498,0.53740665625725714,0.47673390871702598,0.61214512548785815,0.70013534994397852,0.59215121993768116,0.50139902623188115,0.63361460282922344,0.51320008918746884,0.48859790898891758,0.66750685374655561,0.55946015880453392,0.56362515061159424,0.60471627038613629,0.35865685546291176,0.47673390871702587,0.67461814319006408,0.67074614492137818,0.383029164380083,0.57595365441942492,0.58081908409941141,0.63697457530213142,0.53615398798197822,0.59036807428395877,0.61232496531408653,0.59824611658349591,0.54677748857617947,0.62227710121173307,0.59442995665772069,0.75488340250553509,0.60529337281215023,0.65614397776650202,0.52531059790528156,0.51272783688652168,0.66600889413503406,193]
["Male 35-39",0.60203040021937837,0.67129150883356714,0.64067949936699209,0.55312955299971189,0.72293345837887113,0.67018250418880354,0.68728889497560042,0.50933140231907548,0.59861494034239693,0.68400704140227053,0.5103114148797655,0.64479257510176335,0.81361700395624903,0.57921950875979089,0.51382612626968527,0.65977299452176186,0.75460928653958981,0.63822346584339107,0.54041030993044348,0.682912901655778,0.553129552999712,0.52661320348467511,0.71944213459051731,0.60298888110219739,0.60747792953579027,0.65176613834950192,0.38656210379186889,0.51382612626968505,0.72710671695130191,0.72293345837887113,0.41283069692144114,0.62076565092176528,0.62600963470263982,0.68653429633435925,0.57786937679808559,0.63630158278226667,0.65996682676144591,0.64479257510176335,0.5893194374250551,0.67069328725207666,0.64067949936699209,0.81361700395624925,0.65238814215203744,0.70719517157539147,0.56618231821705378,0.55262055717210112,0.71782762643319331,194]
["Male 40-44",0.60203040021937837,0.67129150883356714,0.64067949936699209,0.55312955299971189,0.72293345837887113,0.67018250418880354,0.68728889497560042,0.50933140231907548,0.59861494034239693,0.68400704140227053,0.5103114148797655,0.64479257510176335,0.81361700395624903,0.57921950875979089,0.51382612626968527,0.65977299452176186,0.75460928653958981,0.63822346584339107,0.54041030993044348,0.682912901655778,0.553129552999712,0.52661320348467511,0.71944213459051731,0.60298888110219739,0.60747792953579027,0.65176613834950192,0.38656210379186889,0.51382612626968505,0.72710671695130191,0.72293345837887113,0.41283069692144114,0.62076565092176528,0.62600963470263982,0.68653429633435925,0.57786937679808559,0.63630158278226667,0.65996682676144591,0.64479257510176335,0.5893194374250551,0.67069328725207666,0.64067949936699209,0.81361700395624925,0.65238814215203744,0.70719517157539147,0.56618231821705378,0.55262055717210112,0.71782762643319331,195]
["Male 45-49",0.5904249102063428,0.65835085517427583,0.62832896104076996,0.54246673680153679,0.70899728999227807,0.65726322908834334,0.67403985571810932,0.49951289398330795,0.58707529100032718,0.67082126725374347,0.50047401459770824,0.63236274798988301,0.79793270626894064,0.56805374998445723,0.50392097202052011,0.64705438613254651,0.74006249532192403,0.62592027308729203,0.52999268574974789,0.6697482195117348,0.54246673680153701,0.51646154956230339,0.70557326932241005,0.59136491421439075,0.59576742614294143,0.63920188012152268,0.37911024981017666,0.50392097202051989,0.71309009961949532,0.70899728999227807,0.40487245672551347,0.60879899681329686,0.61394189101235752,0.67329980366287379,0.56672964485294552,0.62403543864474909,0.64724448181985539,0.63236274798988301,0.57795897980857602,0.65776416565925089,0.62832896104076996,0.79793270626894075,0.63981189340179268,0.6935623940644976,0.55526788061185817,0.54196755301330457,0.70398988444106847,196]
["Male 50-54",0.5904249102063428,0.65835085517427583,0.62832896104076996,0.54246673680153679,0.70899728999227807,0.65726322908834334,0.67403985571810932,0.49951289398330795,0.58707529100032718,0.67082126725374347,0.50047401459770824,0.63236274798988301,0.79793270626894064,0.56805374998445723,0.50392097202052011,0.64705438613254651,0.74006249532192403,0.62592027308729203,0.52999268574974789,0.6697482195117348,0.54246673680153701,0.51646154956230339,0.70557326932241005,0.59136491421439075,0.59576742614294143,0.63920188012152268,0.37911024981017666,0.50392097202051989,0.71309009961949532,0.70899728999227807,0.40487245672551347,0.60879899681329686,0.61394189101235752,0.67329980366287379,0.56672964485294552,0.62403543864474909,0.64724448181985539,0.63236274798988301,0.57795897980857602,0.65776416565925089,0.62832896104076996,0.79793270626894075,0.63981189340179268,0.6935623940644976,0.55526788061185817,0.54196755301330457,0.70398988444106847,197]
["Male 55-59",0.440944791301353,0.49167366657418804,0.46925252950098501,0.40512837096132059,0.52949775096652318,0.4908613989188349,0.50339062321158634,0.37304931581025019,0.43844320792266495,0.50098689702359611,0.37376710586518547,0.47226506727451684,0.5959170498333457,0.42423742275255477,0.37634138397431066,0.48323716754113283,0.55269806017439038,0.46745365823285839,0.39581242283204671,0.50018551685741874,0.40512837096132071,0.38570701582921935,0.52694060262540932,0.44164681092143693,0.44493472216972429,0.47737271032672873,0.28312946675019252,0.37634138397431061,0.53255436842238013,0.52949775096652318,0.30236935781064161,0.45466704055642743,0.45850788868137732,0.502837932948342,0.42324854635052184,0.46604601449097383,0.48337913598067311,0.47226506727451684,{"$f":"$B198*AN$269","v":0.43163490788925335},0.49123551147387062,0.46925252950098501,0.59591704983334581,0.47782828422598322,0.51797056631360139,0.4146886005320683,0.40475556743030738,0.5257580893134135,198]
["Male 60-64",0.440944791301353,0.49167366657418804,0.46925252950098501,0.40512837096132059,0.52949775096652318,0.4908613989188349,0.50339062321158634,0.37304931581025019,0.43844320792266495,0.50098689702359611,0.37376710586518547,0.47226506727451684,0.5959170498333457,0.42423742275255477,0.37634138397431066,0.48323716754113283,0.55269806017439038,0.46745365823285839,0.39581242283204671,0.50018551685741874,0.40512837096132071,0.38570701582921935,0.52694060262540932,0.44164681092143693,0.44493472216972429,0.47737271032672873,0.28312946675019252,0.37634138397431061,0.53255436842238013,0.52949775096652318,0.30236935781064161,{"$f":"$B199*AG$269","v":0.45466704055642743},0.45850788868137732,0.502837932948342,0.42324854635052184,0.46604601449097383,0.48337913598067311,0.47226506727451684,0.43163490788925335,0.49123551147387062,0.46925252950098501,0.59591704983334581,0.47782828422598322,0.51797056631360139,0.4146886005320683,0.40475556743030738,0.5257580893134135,199]
["Male 65-69",null,null,null,null,null,null,null,null,null,null,null,null,null,null,null,null,null,null,null,null,null,null,null,null,null,null,null,null,null,null,null,null,null,null,null,null,null,null,null,null,null,null,null,null,null,null,null,200]
["Male 70-74",null,null,null,null,null,null,null,null,null,null,null,null,null,null,null,null,null,null,null,null,null,null,null,null,null,null,null,null,null,null,null,null,null,null,null,null,null,null,null,null,null,null,null,null,null,null,null,201]
["Male 75-79",null,null,null,null,null,null,null,null,null,null,null,null,null,null,null,null,null,null,null,null,null,null,null,null,null,null,null,null,null,null,null,null,null,null,null,null,null,null,null,null,null,null,null,null,null,null,null,202]
["Male 80-84",null,null,null,null,null,null,null,null,null,null,null,null,null,null,null,null,null,null,null,null,null,null,null,null,null,null,null,null,null,null,null,null,null,null,null,null,null,null,null,null,null,null,null,null,null,null,null,203]
["Male 85-89",null,null,null,null,null,null,null,null,null,null,null,null,null,null,null,null,null,null,null,null,null,null,null,null,null,null,null,null,null,null,null,null,null,null,null,null,null,null,null,null,null,null,null,null,null,null,null,204]
["Male 90+",null,null,null,null,null,null,null,null,null,null,null,null,null,null,null,null,null,null,null,null,null,null,null,null,null,null,null,null,null,null,null,null,null,null,null,null,null,null,null,null,null,null,null,null,null,null,null,205]
["Female <1",null,null,null,null,null,null,null,null,null,null,null,null,null,null,null,null,null,null,null,null,null,null,null,null,null,null,null,null,null,null,null,null,null,null,null,null,null,null,null,null,null,null,null,null,null,null,null,206]
["Female 1-4",null,null,null,null,null,null,null,null,null,null,null,null,null,null,null,null,null,null,null,null,null,null,null,null,null,null,null,null,null,null,null,null,null,null,null,null,null,null,null,null,null,null,null,null,null,null,null,207]
["Female 5-9",null,null,null,null,null,null,null,null,null,null,null,null,null,null,null,null,null,null,null,null,null,null,null,null,null,null,null,null,null,null,null,null,null,null,null,null,null,null,null,null,null,null,null,null,null,null,null,208]
["Female 10-14",null,null,null,null,null,null,null,null,null,null,null,null,null,null,null,null,null,null,null,null,null,null,null,null,null,null,null,null,null,null,null,null,null,null,null,null,null,null,null,null,null,null,null,null,null,null,null,209]
["Female 15-19 (16+)",0.28741402946774391,{"$f":"$B210*C$270","v":0.28787587106972806},{"$f":"$B210*D$270","v":0.30836695170473682},0.30977206141199876,0.31931763287450693,0.31122984865363379,0.33445164561683283,0.24928037843727988,0.31343479304049032,0.33169648527115914,0.23802350018549348,0.31182275250831609,0.39361766958123057,0.27314810677978296,0.41407047976486222,{"$f":"$B210*Q$270","v":0.28825355129521008},{"$f":"$B210*R$270","v":0.37583459665556229},0.32742119357889127,0.309483788778595,0.32679870135941325,0.30977206141199881,0.25821170173335783,0.29840045330069254,0.35808569034550852,0.29084383931149388,0.34599743172340963,0.1782334814447295,0.41407047976486233,0.33069188810540612,0.31931763287450693,0.19551420121523719,0.31546927689606757,0.30757173966141865,0.33403879027992661,0.32311550876254552,0.25945981643852856,0.31572860438999734,0.31182275250831604,0.25063687951966951,0.29240424282084465,0.30836695170473682,0.39361766958123057,0.31266394934108815,0.3481565906915568,0.2685487139305392,0.28196201671522525,0.35146448750794157,210]
["Female 20-24",0.28741402946774391,{"$f":"$B211*C$270","v":0.28787587106972806},0.30836695170473682,0.30977206141199876,0.31931763287450693,0.31122984865363379,0.33445164561683283,0.24928037843727988,0.31343479304049032,0.33169648527115914,0.23802350018549348,0.31182275250831609,0.39361766958123057,0.27314810677978296,0.41407047976486222,{"$f":"$B211*Q$270","v":0.28825355129521008},0.37583459665556229,0.32742119357889127,0.309483788778595,0.32679870135941325,0.30977206141199881,0.25821170173335783,0.29840045330069254,0.35808569034550852,0.29084383931149388,0.34599743172340963,0.1782334814447295,0.41407047976486233,0.33069188810540612,0.31931763287450693,0.19551420121523719,0.31546927689606757,0.30757173966141865,0.33403879027992661,0.32311550876254552,0.25945981643852856,0.31572860438999734,0.31182275250831604,0.25063687951966951,0.29240424282084465,0.30836695170473682,0.39361766958123057,0.31266394934108815,0.3481565906915568,0.2685487139305392,0.28196201671522525,0.35146448750794157,211]
["Female 25-29",0.48790819677993741,0.48869220966768451,0.52347745039241211,0.52586273598482991,0.54206710348954523,0.52833744588563791,0.56775829497670782,0.42317328823923511,0.53208051452353111,0.56308119094463727,0.40406384121825456,0.52934394738153789,0.66819733101321299,0.46369065727090591,0.70291760459992036,0.48933335191851907,0.63800914896643968,0.55582354293021852,0.52537337023951303,0.55476681282947327,0.52586273598483002,0.43833492057958373,0.50655852589337991,0.60787896746976255,0.49373057204554682,0.58735818608188084,0.3025655243710641,0.70291760459992059,0.56137580727724823,0.54206710348954523,0.33190092194334597,0.53553421283878333,0.52212751464003582,0.56705744017385118,0.54851430016800407,0.44045369465718215,0.5359744419054473,0.52934394738153778,0.42547605682107653,0.49637948123034309,0.52347745039241211,0.66819733101321299,0.53077194597497768,0.59102353032642174,0.4558828217400071,0.47865297108400062,0.59663894852227406,212]
["Female 30-34",0.48790819677993741,0.48869220966768451,0.52347745039241211,0.52586273598482991,0.54206710348954523,0.52833744588563791,0.56775829497670782,0.42317328823923511,0.53208051452353111,0.56308119094463727,0.40406384121825456,0.52934394738153789,0.66819733101321299,0.46369065727090591,0.70291760459992036,0.48933335191851907,0.63800914896643968,0.55582354293021852,0.52537337023951303,0.55476681282947327,0.52586273598483002,0.43833492057958373,0.50655852589337991,0.60787896746976255,0.49373057204554682,0.58735818608188084,0.3025655243710641,0.70291760459992059,0.56137580727724823,0.54206710348954523,0.33190092194334597,0.53553421283878333,0.52212751464003582,0.56705744017385118,0.54851430016800407,0.44045369465718215,0.5359744419054473,0.52934394738153778,0.42547605682107653,0.49637948123034309,0.52347745039241211,0.66819733101321299,0.53077194597497768,0.59102353032642174,0.4558828217400071,0.47865297108400062,0.59663894852227406,213]
["Female 35-39",0.58820116104950448,0.58914633330505195,0.63108192511659877,0.63395752295273755,0.65349281226177414,0.63694092689332049,0.68446500900129736,0.51015953638450917,0.64145340963746633,0.67882649331295752,0.48712200801557204,0.63815432185654031,0.80554999589282028,0.55900553582536128,0.84740726611381845,0.58991926685859275,0.76915642052951327,0.67007698466206034,0.63336756463378963,0.66880303625070647,0.63395752295273777,0.5284377489762544,0.61068519659324461,0.73283276813764497,0.59522036653508492,0.70809379568820441,0.36475999768637224,0.84740726611381867,0.6767705560284164,0.65349281226177414,0.40012549272364389,0.64561703995225339,0.6294545005680251,0.68362008856034528,0.66126527559977877,0.53099205197970878,0.64614776120237483,0.6381543218565402,0.51293565525770435,0.59841377764868131,0.63108192511659877,0.80554999589282028,0.63987585561264815,0.71251257724283668,0.54959274474116138,0.57704345856355788,0.71928228417618534,214]
["Female 40-44",0.58820116104950448,0.58914633330505195,0.63108192511659877,0.63395752295273755,0.65349281226177414,0.63694092689332049,0.68446500900129736,0.51015953638450917,0.64145340963746633,0.67882649331295752,0.48712200801557204,0.63815432185654031,0.80554999589282028,0.55900553582536128,0.84740726611381845,0.58991926685859275,0.76915642052951327,0.67007698466206034,0.63336756463378963,0.66880303625070647,0.63395752295273777,0.5284377489762544,0.61068519659324461,0.73283276813764497,0.59522036653508492,0.70809379568820441,0.36475999768637224,0.84740726611381867,0.6767705560284164,0.65349281226177414,0.40012549272364389,0.64561703995225339,0.6294545005680251,0.68362008856034528,0.66126527559977877,0.53099205197970878,0.64614776120237483,0.6381543218565402,0.51293565525770435,0.59841377764868131,0.63108192511659877,0.80554999589282028,0.63987585561264815,0.71251257724283668,0.54959274474116138,0.57704345856355788,0.71928228417618534,215]
["Female 45-49",0.55068776147912801,0.55157265397524435,0.59083374135528022,0.59352594368359946,0.61181534100516488,0.59631907662250117,0.64081224005947268,0.4776233569269861,0.6005437691012665,0.63553332905403281,0.45605508102480002,0.59745508552614446,0.75417485270894069,0.52335413046252099,0.79336261357377935,0.55229629254748391,0.72010233147609881,0.6273418332664219,0.59297361082956734,0.62614913280041706,0.59352594368359957,0.49473584945935062,0.57173784438020092,0.68609527377370783,0.55725930674659985,0.6629340659053512,0.34149688899735892,0.79336261357377957,0.63360851221255399,0.61181534100516488,0.374606897248494,0.60444185773064907,0.58931010821584351,0.64002120567010556,0.6190921039907179,0.49712724800844887,0.60493873144758847,0.59745508552614435,0.48022242471044996,0.56024905334025021,0.59083374135528022,0.75417485270894069,0.59906682591912541,0.66707103312663985,0.51454165406043428,0.54024165798237056,0.67340899198130078,216]
["Female 50-54",0.55068776147912801,0.55157265397524435,0.59083374135528022,0.59352594368359946,0.61181534100516488,0.59631907662250117,0.64081224005947268,0.4776233569269861,0.6005437691012665,0.63553332905403281,0.45605508102480002,0.59745508552614446,0.75417485270894069,0.52335413046252099,0.79336261357377935,0.55229629254748391,0.72010233147609881,0.6273418332664219,0.59297361082956734,0.62614913280041706,0.59352594368359957,0.49473584945935062,0.57173784438020092,0.68609527377370783,0.55725930674659985,0.6629340659053512,0.34149688899735892,0.79336261357377957,0.63360851221255399,0.61181534100516488,0.374606897248494,0.60444185773064907,0.58931010821584351,0.64002120567010556,0.6190921039907179,0.49712724800844887,0.60493873144758847,0.59745508552614435,0.48022242471044996,0.56024905334025021,0.59083374135528022,0.75417485270894069,0.59906682591912541,0.66707103312663985,0.51454165406043428,0.54024165798237056,0.67340899198130078,217]
["Female 55-59",0.34319743605625586,0.34374891523755607,0.36821705393273502,0.36989487755812683,0.38129312300109069,0.37163560275714091,0.39936445507916468,0.29766252850370706,0.37426849879780105,0.39607455316202389,0.28422083339520821,0.37234358170699128,0.47001385157462411,0.3261626792681066,0.49443629201069694,0.34419989838989079,0.44877931043342445,0.39096948174328999,0.36955065487403393,0.39022617170346535,0.36989487755812694,0.30832730802570835,0.35631618498398859,0.42758556721325647,0.34729292835604147,0.41315113138153292,0.21282633267585971,0.49443629201069711,0.39487497646705783,0.38129312300109069,0.23346102030550614,0.37669785008668905,0.36726750134863451,0.39887146977378224,0.38582811828176122,0.30981766591642074,0.37700750974798114,0.37234358170699122,{"$f":"$B218*AN$270","v":0.29928230918854626},0.34915618633483286,0.36821705393273502,0.47001385157462411,0.37334804414315226,0.41572935563620222,0.32067060278109893,0.33668725698992602,0.41967927314100972,218]
["Female 60-64",0.34319743605625586,0.34374891523755607,0.36821705393273502,0.36989487755812683,0.38129312300109069,0.37163560275714091,0.39936445507916468,0.29766252850370706,0.37426849879780105,0.39607455316202389,0.28422083339520821,0.37234358170699128,0.47001385157462411,0.3261626792681066,0.49443629201069694,0.34419989838989079,0.44877931043342445,0.39096948174328999,0.36955065487403393,0.39022617170346535,0.36989487755812694,0.30832730802570835,0.35631618498398859,0.42758556721325647,0.34729292835604147,0.41315113138153292,0.21282633267585971,0.49443629201069711,0.39487497646705783,0.38129312300109069,0.23346102030550614,{"$f":"$B219*AG$270","v":0.37669785008668905},0.36726750134863451,0.39887146977378224,0.38582811828176122,0.30981766591642074,0.37700750974798114,0.37234358170699122,0.29928230918854626,0.34915618633483286,0.36821705393273502,0.47001385157462411,0.37334804414315226,0.41572935563620222,0.32067060278109893,0.33668725698992602,0.41967927314100972,219]
["Female 65-69",null,null,null,null,null,null,null,null,null,null,null,null,null,null,null,null,null,null,null,null,null,null,null,null,null,null,null,null,null,null,null,null,null,null,null,null,null,null,null,null,null,null,null,null,null,null,null,220]
["Female 70-74",null,null,null,null,null,null,null,null,null,null,null,null,null,null,null,null,null,null,null,null,null,null,null,null,null,null,null,null,null,null,null,null,null,null,null,null,null,null,null,null,null,null,null,null,null,null,null,221]
["Female 75-79",null,null,null,null,null,null,null,null,null,null,null,null,null,null,null,null,null,null,null,null,null,null,null,null,null,null,null,null,null,null,null,null,null,null,null,null,null,null,null,null,null,null,null,null,null,null,null,222]
["Female 80-84",null,null,null,null,null,null,null,null,null,null,null,null,null,null,null,null,null,null,null,null,null,null,null,null,null,null,null,null,null,null,null,null,null,null,null,null,null,null,null,null,null,null,null,null,null,null,null,223]
["Female 85-89",null,null,null,null,null,null,null,null,null,null,null,null,null,null,null,null,null,null,null,null,null,null,null,null,null,null,null,null,null,null,null,null,null,null,null,null,null,null,null,null,null,null,null,null,null,null,null,224]
["Female 90+",null,null,null,null,null,null,null,null,null,null,null,null,null,null,null,null,null,null,null,null,null,null,null,null,null,null,null,null,null,null,null,null,null,null,null,null,null,null,null,null,null,null,null,null,null,null,null,225]
["age/sex breakdown: Q5",null,null,null,null,null,null,null,null,null,null,null,null,null,null,null,null,null,null,null,null,null,null,null,null,null,null,null,null,null,null,null,null,null,null,null,null,null,null,null,null,null,null,null,null,null,null,null,226]
["Male <1",null,null,null,null,null,null,null,null,null,null,null,null,null,null,null,null,null,null,null,null,null,null,null,null,null,null,null,null,null,null,null,null,null,null,null,null,null,null,null,null,null,null,null,null,null,null,null,227]
["Male 1-4",null,null,null,null,null,null,null,null,null,null,null,null,null,null,null,null,null,null,null,null,null,null,null,null,null,null,null,null,null,null,null,null,null,null,null,null,null,null,null,null,null,null,null,null,null,null,null,228]
["Male 5-9",null,null,null,null,null,null,null,null,null,null,null,null,null,null,null,null,null,null,null,null,null,null,null,null,null,null,null,null,null,null,null,null,null,null,null,null,null,null,null,null,null,null,null,null,null,null,null,229]
["Male 10-14",null,null,null,null,null,null,null,null,null,null,null,null,null,null,null,null,null,null,null,null,null,null,null,null,null,null,null,null,null,null,null,null,null,null,null,null,null,null,null,null,null,null,null,null,null,null,null,230]
["Male 15-19 (16+)",0.28844284848422241,{"$f":"$B231*C$269","v":0.32162700571377734},{"$f":"$B231*D$269","v":0.30696027924091596},0.26501363351402735,0.34636952872041954,0.32109566301314085,0.32929162136346651,0.24402920592355948,0.28680644444973996,0.32771923034690914,0.24449874635615682,0.30893092271761818,0.38981753431524691,0.27751376831373559,0.24618270345290635,{"$f":"$B231*Q$269","v":0.31610829257704415},{"$f":"$B231*R$269","v":0.36154594854813099},0.30578355244229899,0.25891963111792565,0.32719500966801468,0.26501363351402746,0.25230920632441478,0.34469677701531204,0.28890207272930579,0.29105285102338752,0.31227207367366561,0.18520837866850176,0.24618270345290627,0.34836900680267996,0.34636952872041954,0.19779410162403002,0.29741922090278017,0.29993170136657293,0.32893008051525918,0.27686689747677795,0.30486274607703528,0.31620116084967986,0.30893092271761818,0.28235281330653778,0.32134038773414214,0.30696027924091596,0.38981753431524696,0.31257008611374504,0.33882905190362905,0.27126743195761749,0.26476976508756728,0.34392323911485079,231]
["Male 20-24",0.28844284848422241,{"$f":"$B232*C$269","v":0.32162700571377734},0.30696027924091596,0.26501363351402735,0.34636952872041954,0.32109566301314085,0.32929162136346651,0.24402920592355948,0.28680644444973996,0.32771923034690914,0.24449874635615682,0.30893092271761818,0.38981753431524691,0.27751376831373559,0.24618270345290635,{"$f":"$B232*Q$269","v":0.31610829257704415},0.36154594854813099,0.30578355244229899,0.25891963111792565,0.32719500966801468,0.26501363351402746,0.25230920632441478,0.34469677701531204,0.28890207272930579,0.29105285102338752,0.31227207367366561,0.18520837866850176,0.24618270345290627,0.34836900680267996,0.34636952872041954,0.19779410162403002,0.29741922090278017,0.29993170136657293,0.32893008051525918,0.27686689747677795,0.30486274607703528,0.31620116084967986,0.30893092271761818,0.28235281330653778,0.32134038773414214,0.30696027924091596,0.38981753431524696,0.31257008611374504,0.33882905190362905,0.27126743195761749,0.26476976508756728,0.34392323911485079,232]
["Male 25-29",0.51457023160438398,0.5737694093997121,0.54760456989102424,0.47277347139043951,0.61790905737819568,0.57282151577723328,0.58744276989640987,0.43533811176181231,0.51165095380829029,0.58463768870332622,0.43617575266856012,0.55112011716683695,0.69541852041104957,0.49507320006380862,0.43917986318071117,0.56392425112364453,0.64498316896289676,0.54550533746255059,0.46190202063047631,0.5837025004760289,0.47277347139043963,0.45010929345809053,0.61492493682593707,0.51538946885499604,0.51922636926951893,0.55708059367132745,0.33040416431657998,0.43917986318071106,0.62147604440971138,0.61790905737819568,0.35285657875558463,0.53058371246777625,0.53506587474342049,0.58679779582624614,0.49391920897635189,0.54386265660869515,0.56408992431959992,0.55112011716683695,0.50370585819964198,0.57325809465941635,0.54760456989102424,0.69541852041104968,0.55761223566251739,0.60445715547661116,0.48392999175638407,0.47233842010265753,0.61354497688348464,233]
["Male 30-34",0.51457023160438398,0.5737694093997121,0.54760456989102424,0.47277347139043951,0.61790905737819568,0.57282151577723328,0.58744276989640987,0.43533811176181231,0.51165095380829029,0.58463768870332622,0.43617575266856012,0.55112011716683695,0.69541852041104957,0.49507320006380862,0.43917986318071117,0.56392425112364453,0.64498316896289676,0.54550533746255059,0.46190202063047631,0.5837025004760289,0.47277347139043963,0.45010929345809053,0.61492493682593707,0.51538946885499604,0.51922636926951893,0.55708059367132745,0.33040416431657998,0.43917986318071106,0.62147604440971138,0.61790905737819568,0.35285657875558463,0.53058371246777625,0.53506587474342049,0.58679779582624614,0.49391920897635189,0.54386265660869515,0.56408992431959992,0.55112011716683695,0.50370585819964198,0.57325809465941635,0.54760456989102424,0.69541852041104968,0.55761223566251739,0.60445715547661116,0.48392999175638407,0.47233842010265753,0.61354497688348464,234]
["Male 35-39",0.60423811289091511,0.67375320972077624,0.64302894259881382,0.55515794080656333,0.72558453605893403,0.67264013823220192,0.68980926006329568,0.51119917741897347,0.60081012814135781,0.68651537156661746,0.51218278379510496,0.64715710144137384,0.81660062831933344,0.58134357134637171,0.51571038402397618,0.66219245573138297,0.75737652301692671,0.64056390252615836,0.54239205485333741,0.6854172194875553,0.55515794080656355,0.52854435287830714,0.72208040919657401,0.60520010863010965,0.60970561890534092,0.65415623752387653,0.38797967017151724,0.51571038402397595,0.72977309843633642,0.72558453605893403,0.41434459316399086,0.62304206784871008,0.62830528190340162,0.68905189422461466,0.57998848830007166,0.63863497170534334,0.66238699877552387,0.64715710144137384,0.59148053757732666,0.67315279439397768,0.64302894259881382,0.81660062831933355,0.65478052228377914,0.70978853520116125,0.56825857197080498,0.55464707843444261,0.72045998045763837,235]
["Male 40-44",0.60423811289091511,0.67375320972077624,0.64302894259881382,0.55515794080656333,0.72558453605893403,0.67264013823220192,0.68980926006329568,0.51119917741897347,0.60081012814135781,0.68651537156661746,0.51218278379510496,0.64715710144137384,0.81660062831933344,0.58134357134637171,0.51571038402397618,0.66219245573138297,0.75737652301692671,0.64056390252615836,0.54239205485333741,0.6854172194875553,0.55515794080656355,0.52854435287830714,0.72208040919657401,0.60520010863010965,0.60970561890534092,0.65415623752387653,0.38797967017151724,0.51571038402397595,0.72977309843633642,0.72558453605893403,0.41434459316399086,0.62304206784871008,0.62830528190340162,0.68905189422461466,0.57998848830007166,0.63863497170534334,0.66238699877552387,0.64715710144137384,0.59148053757732666,0.67315279439397768,0.64302894259881382,0.81660062831933355,0.65478052228377914,0.70978853520116125,0.56825857197080498,0.55464707843444261,0.72045998045763837,236]
["Male 45-49",0.60046879999999991,0.66955025296496085,0.63901764766249647,0.5516947961651828,0.72105824900939564,0.66844412495548999,0.68550614365809359,0.50801025303939129,0.59706219944788186,0.68223280284966425,0.50898772355597655,0.64312005453408838,0.81150657150731442,0.57771707746791923,0.51249331817359456,0.65806161640429517,0.75265191357806527,0.63656798481799703,0.53900854540454202,0.68114150118056371,0.55169479616518291,0.52524722712569127,0.71757598132849387,0.60142479468950327,0.60590219902835241,0.65007552913066646,0.38555940448322135,0.51249331817359434,0.72522068261102779,0.72105824900939564,0.41175985978988805,0.61915545353587109,0.62438583500327516,0.68475350236220123,0.57637044759907641,0.6346510869087999,0.65825494586460476,0.64312005453408838,0.58779080803618777,0.66895358310403563,0.63901764766249647,0.81150657150731453,0.65069591952418793,0.70536078557981197,0.56471370395436238,0.55118712061640796,0.71596566102661996,237]
["Male 50-54",0.60046879999999991,0.66955025296496085,0.63901764766249647,0.5516947961651828,0.72105824900939564,0.66844412495548999,0.68550614365809359,0.50801025303939129,0.59706219944788186,0.68223280284966425,0.50898772355597655,0.64312005453408838,0.81150657150731442,0.57771707746791923,0.51249331817359456,0.65806161640429517,0.75265191357806527,0.63656798481799703,0.53900854540454202,0.68114150118056371,0.55169479616518291,0.52524722712569127,0.71757598132849387,0.60142479468950327,0.60590219902835241,0.65007552913066646,0.38555940448322135,0.51249331817359434,0.72522068261102779,0.72105824900939564,0.41175985978988805,0.61915545353587109,0.62438583500327516,0.68475350236220123,0.57637044759907641,0.6346510869087999,0.65825494586460476,0.64312005453408838,0.58779080803618777,0.66895358310403563,0.63901764766249647,0.81150657150731453,0.65069591952418793,0.70536078557981197,0.56471370395436238,0.55118712061640796,0.71596566102661996,238]
["Male 55-59",0.43502397746159693,0.4850716875801635,0.46295161173118832,0.39968848435196436,0.52238788670712266,0.48427032669969533,0.49663131404746552,0.36804017272582412,0.43255598425061703,0.4942598640436181,0.36874832460977941,0.46592369846482995,0.58791533627281845,0.41854094815181703,0.3712880364381444,0.47674847016698318,0.54527667230805688,0.4611768949198336,0.39049762670046084,0.49346924445988188,0.39968848435196447,0.38052791068394065,0.51986507463573473,0.43571657066920388,0.43896033328299827,0.47096275831962425,0.27932772807848744,0.37128803643814429,0.5254034612403905,0.52238788670712266,0.29830927429506182,0.44856197035418605,0.45235124525005327,0.49608604506739373,0.4175653499496913,0.45978815240257581,0.47688853231639772,0.46592369846482995,{"$f":"$B239*AN$269","v":0.42583910309289746},0.48463941583493519,0.46295161173118832,0.58791533627281856,0.47141221497177449,0.51101548404907382,0.40912034334056574,0.39932068666374476,0.51869843959539896,239]
["Male 60-64",0.43502397746159693,0.4850716875801635,0.46295161173118832,0.39968848435196436,0.52238788670712266,0.48427032669969533,0.49663131404746552,0.36804017272582412,0.43255598425061703,0.4942598640436181,0.36874832460977941,0.46592369846482995,0.58791533627281845,0.41854094815181703,0.3712880364381444,0.47674847016698318,0.54527667230805688,0.4611768949198336,0.39049762670046084,0.49346924445988188,0.39968848435196447,0.38052791068394065,0.51986507463573473,0.43571657066920388,0.43896033328299827,0.47096275831962425,0.27932772807848744,0.37128803643814429,0.5254034612403905,0.52238788670712266,0.29830927429506182,{"$f":"$B240*AG$269","v":0.44856197035418605},0.45235124525005327,0.49608604506739373,0.4175653499496913,0.45978815240257581,0.47688853231639772,0.46592369846482995,0.42583910309289746,0.48463941583493519,0.46295161173118832,0.58791533627281856,0.47141221497177449,0.51101548404907382,0.40912034334056574,0.39932068666374476,0.51869843959539896,240]
["Male 65-69",null,null,null,null,null,null,null,null,null,null,null,null,null,null,null,null,null,null,null,null,null,null,null,null,null,null,null,null,null,null,null,null,null,null,null,null,null,null,null,null,null,null,null,null,null,null,null,241]
["Male 70-74",null,null,null,null,null,null,null,null,null,null,null,null,null,null,null,null,null,null,null,null,null,null,null,null,null,null,null,null,null,null,null,null,null,null,null,null,null,null,null,null,null,null,null,null,null,null,null,242]
["Male 75-79",null,null,null,null,null,null,null,null,null,null,null,null,null,null,null,null,null,null,null,null,null,null,null,null,null,null,null,null,null,null,null,null,null,null,null,null,null,null,null,null,null,null,null,null,null,null,null,243]
["Male 80-84",null,null,null,null,null,null,null,null,null,null,null,null,null,null,null,null,null,null,null,null,null,null,null,null,null,null,null,null,null,null,null,null,null,null,null,null,null,null,null,null,null,null,null,null,null,null,null,244]
["Male 85-89",null,null,null,null,null,null,null,null,null,null,null,null,null,null,null,null,null,null,null,null,null,null,null,null,null,null,null,null,null,null,null,null,null,null,null,null,null,null,null,null,null,null,null,null,null,null,null,245]
["Male 90+",null,null,null,null,null,null,null,null,null,null,null,null,null,null,null,null,null,null,null,null,null,null,null,null,null,null,null,null,null,null,null,null,null,null,null,null,null,null,null,null,null,null,null,null,null,null,null,246]
["Female <1",null,null,null,null,null,null,null,null,null,null,null,null,null,null,null,null,null,null,null,null,null,null,null,null,null,null,null,null,null,null,null,null,null,null,null,null,null,null,null,null,null,null,null,null,null,null,null,247]
["Female 1-4",null,null,null,null,null,null,null,null,null,null,null,null,null,null,null,null,null,null,null,null,null,null,null,null,null,null,null,null,null,null,null,null,null,null,null,null,null,null,null,null,null,null,null,null,null,null,null,248]
["Female 5-9",null,null,null,null,null,null,null,null,null,null,null,null,null,null,null,null,null,null,null,null,null,null,null,null,null,null,null,null,null,null,null,null,null,null,null,null,null,null,null,null,null,null,null,null,null,null,null,249]
["Female 10-14",null,null,null,null,null,null,null,null,null,null,null,null,null,null,null,null,null,null,null,null,null,null,null,null,null,null,null,null,null,null,null,null,null,null,null,null,null,null,null,null,null,null,null,null,null,null,null,250]
["Female 15-19 (16+)",0.21982124808153514,{"$f":"$B251*C$270","v":0.2201744757842751},{"$f":"$B251*D$270","v":0.23584655319841025},0.23692121531603128,0.2442219007990116,0.23803616649460452,0.25579676224770537,0.19065570324384623,0.23972256165063355,0.25368954852897246,0.18204616865921913,0.23848963379948865,0.30104837802986251,0.2089103230438476,0.31669118527092383,{"$f":"$B251*Q$270","v":0.22046333481699151},{"$f":"$B251*R$270","v":0.28744745085005668},0.25041970134215513,0.23670073738675304,0.24994360413541783,0.23692121531603133,0.19748659677259756,0.22822393254124598,0.27387265512980763,0.22244445016367312,0.26462726059439451,0.13631730647823034,0.31669118527092394,0.25292120815531721,0.2442219007990116,0.1495340217329969,0.24127858444173711,0.23523835566478471,0.2554810004332807,0.2471266087539902,0.19844118528989307,0.24147692442355034,0.23848963379948859,0.19169318830157653,0.22363788476243471,0.23584655319841025,0.30104837802986251,0.23913300161978826,0.26627863794734941,0.20539259540052282,0.21565141597544582,0.26880859797765561,251]
["Female 20-24",0.21982124808153514,{"$f":"$B252*C$270","v":0.2201744757842751},0.23584655319841025,0.23692121531603128,0.2442219007990116,0.23803616649460452,0.25579676224770537,0.19065570324384623,0.23972256165063355,0.25368954852897246,0.18204616865921913,0.23848963379948865,0.30104837802986251,0.2089103230438476,0.31669118527092383,{"$f":"$B252*Q$270","v":0.22046333481699151},0.28744745085005668,0.25041970134215513,0.23670073738675304,0.24994360413541783,0.23692121531603133,0.19748659677259756,0.22822393254124598,0.27387265512980763,0.22244445016367312,0.26462726059439451,0.13631730647823034,0.31669118527092394,0.25292120815531721,0.2442219007990116,0.1495340217329969,0.24127858444173711,0.23523835566478471,0.2554810004332807,0.2471266087539902,0.19844118528989307,0.24147692442355034,0.23848963379948859,0.19169318830157653,0.22363788476243471,0.23584655319841025,0.30104837802986251,0.23913300161978826,0.26627863794734941,0.20539259540052282,0.21565141597544582,0.26880859797765561,252]
["Female 25-29",0.51629257931505412,0.51712220267187126,0.55393109781729344,0.5564551489790488,0.57360221629702624,0.55907382676756923,0.6007880098666446,0.44779167458998392,0.56303465090285798,0.59583881220942292,0.42757052283057545,0.56013888215469376,0.70707015335478451,0.49066616840353278,0.74381030185589825,0.51780064379783697,0.67512575382097062,0.58815894571434313,0.55593731405734526,0.58704073964001535,0.55645514897904902,0.46383534493470602,0.53602790367853659,0.6432427290576741,0.52245367511844665,0.6215281376197106,0.32016747416892738,0.74381030185589847,0.59403421671754764,0.57360221629702624,0.35120947792656704,0.56668927040530881,0.55250262865833333,0.60004638237138974,0.58042448291283855,0.46607738009773186,0.56715511008953112,0.56013888215469365,0.4502284082594139,0.52525668634968981,0.55393109781729344,0.70707015335478451,0.56164995551220454,0.62540671569357964,0.48240410686876078,0.50649892473365055,0.63134881456259473,253]
["Female 30-34",0.51629257931505412,0.51712220267187126,0.55393109781729344,0.5564551489790488,0.57360221629702624,0.55907382676756923,0.6007880098666446,0.44779167458998392,0.56303465090285798,0.59583881220942292,0.42757052283057545,0.56013888215469376,0.70707015335478451,0.49066616840353278,0.74381030185589825,0.51780064379783697,0.67512575382097062,0.58815894571434313,0.55593731405734526,0.58704073964001535,0.55645514897904902,0.46383534493470602,0.53602790367853659,0.6432427290576741,0.52245367511844665,0.6215281376197106,0.32016747416892738,0.74381030185589847,0.59403421671754764,0.57360221629702624,0.35120947792656704,0.56668927040530881,0.55250262865833333,0.60004638237138974,0.58042448291283855,0.46607738009773186,0.56715511008953112,0.56013888215469365,0.4502284082594139,0.52525668634968981,0.55393109781729344,0.70707015335478451,0.56164995551220454,0.62540671569357964,0.48240410686876078,0.50649892473365055,0.63134881456259473,254]
["Female 35-39",0.55503381838419308,0.55592569449863549,0.5954966324543407,0.59821008178565738,0.61664381999706819,0.60102525827726716,0.64586956411054708,0.48139278569151395,0.60528329225225497,0.64054899166058044,0.45965429181650919,0.60217023262319058,0.76012684048771095,0.5274844689076349,0.79962387323148743,0.55665504406471511,0.72578541711733258,0.63229284815547726,0.5976533898915628,0.63109073483438727,0.59821008178565749,0.49864033091895454,0.57625002965154504,0.69150997391904545,0.56165722663407425,0.6681659765746425,0.34419200048576165,0.79962387323148765,0.63860898406290534,0.61664381999706819,0.37756331467113452,0.60921214480302699,0.59396097472167764,0.6450722868359906,0.62397801158051658,0.50105060251173394,0.6097129398735891,0.60217023262319047,0.48401236545522724,0.56467056846578267,0.5954966324543407,0.76012684048771095,0.60379469295649724,0.67233559295978729,0.51860244397624167,0.54450527368679735,0.67872357132054795,255]
["Female 40-44",0.55503381838419308,0.55592569449863549,0.5954966324543407,0.59821008178565738,0.61664381999706819,0.60102525827726716,0.64586956411054708,0.48139278569151395,0.60528329225225497,0.64054899166058044,0.45965429181650919,0.60217023262319058,0.76012684048771095,0.5274844689076349,0.79962387323148743,0.55665504406471511,0.72578541711733258,0.63229284815547726,0.5976533898915628,0.63109073483438727,0.59821008178565749,0.49864033091895454,0.57625002965154504,0.69150997391904545,0.56165722663407425,0.6681659765746425,0.34419200048576165,0.79962387323148765,0.63860898406290534,0.61664381999706819,0.37756331467113452,0.60921214480302699,0.59396097472167764,0.6450722868359906,0.62397801158051658,0.50105060251173394,0.6097129398735891,0.60217023262319047,0.48401236545522724,0.56467056846578267,0.5954966324543407,0.76012684048771095,0.60379469295649724,0.67233559295978729,0.51860244397624167,0.54450527368679735,0.67872357132054795,256]
["Female 45-49",0.57743550378625663,0.57836337685704942,0.61953143497694374,0.62235440166785394,0.64153214284001814,0.62528320132264315,0.67193746539283838,0.50082224995601332,0.62971309354190275,0.66640214964933697,0.47820637008258371,0.62647438790688659,0.79080627259122194,0.54877423672996972,0.83189744261552812,0.57912216365557556,0.75507879716938131,0.65781278045003366,0.62177524116686689,0.656562148708003,0.62235440166785416,0.51876592228300211,0.59950802123620939,0.7194199649412516,0.58432623900431291,0.69513378197281173,0.35808391239706755,0.83189744261552834,0.66438384152574581,0.64153214284001814,0.39280212411745991,0.63380051826597006,0.61793379665810222,0.67110800925982106,0.64916234927353311,0.52127347469753793,0.63432152589520874,0.62647438790688648,0.50354755841554399,0.58746120213815989,0.61953143497694374,0.79080627259122194,0.62816441298260983,0.69947168798538717,0.53953372494308072,0.56648201715155833,0.70611749114321964,257]
["Female 50-54",0.57743550378625663,0.57836337685704942,0.61953143497694374,0.62235440166785394,0.64153214284001814,0.62528320132264315,0.67193746539283838,0.50082224995601332,0.62971309354190275,0.66640214964933697,0.47820637008258371,0.62647438790688659,0.79080627259122194,0.54877423672996972,0.83189744261552812,0.57912216365557556,0.75507879716938131,0.65781278045003366,0.62177524116686689,0.656562148708003,0.62235440166785416,0.51876592228300211,0.59950802123620939,0.7194199649412516,0.58432623900431291,0.69513378197281173,0.35808391239706755,0.83189744261552834,0.66438384152574581,0.64153214284001814,0.39280212411745991,0.63380051826597006,0.61793379665810222,0.67110800925982106,0.64916234927353311,0.52127347469753793,0.63432152589520874,0.62647438790688648,0.50354755841554399,0.58746120213815989,0.61953143497694374,0.79080627259122194,0.62816441298260983,0.69947168798538717,0.53953372494308072,0.56648201715155833,0.70611749114321964,258]
["Female 55-59",0.32201873962127231,0.3225361870501644,0.34549439814300159,0.34706868335726204,0.35776354364996971,0.34870198849221534,0.37471969473877026,0.2792937889126097,0.35117240865126415,0.37163281250267566,0.26668158012995807,0.34936627809684934,0.44100932054687858,0.30603519681364028,0.46392465341786965,0.32295934005495969,0.42108516186637984,0.3668427747831986,0.34674570263760868,0.36614533436836716,0.34706868335726215,0.28930044542927047,0.33432793121565224,0.4011992834692677,0.32586149929821062,0.38765559594325177,0.19969283044196187,0.46392465341786981,0.37050726162493336,0.35776354364996971,0.21905415254079075,0.35345184479488612,0.34460344240087865,0.37425713153166923,0.36201868460105352,0.29069883340986474,0.35374239537412905,0.34936627809684928,{"$f":"$B259*AN$270","v":0.28081361301324576},0.32760977572129357,0.34549439814300159,0.44100932054687858,0.35030875520683702,0.39007471810946026,0.3008820360890947,0.31591030337612308,0.39378088640466169,259]
["Female 60-64",0.32201873962127231,{"$f":"$B260*C$270","v":0.3225361870501644},0.34549439814300159,0.34706868335726204,0.35776354364996971,0.34870198849221534,0.37471969473877026,0.2792937889126097,0.35117240865126415,0.37163281250267566,0.26668158012995807,0.34936627809684934,0.44100932054687858,0.30603519681364028,0.46392465341786965,{"$f":"$B260*Q$270","v":0.32295934005495969},0.42108516186637984,0.3668427747831986,0.34674570263760868,0.36614533436836716,0.34706868335726215,0.28930044542927047,0.33432793121565224,0.4011992834692677,0.32586149929821062,{"$f":"$B260*AA$270","v":0.38765559594325177},0.19969283044196187,0.46392465341786981,0.37050726162493336,0.35776354364996971,0.21905415254079075,{"$f":"$B260*AG$270","v":0.35345184479488612},0.34460344240087865,0.37425713153166923,0.36201868460105352,0.29069883340986474,0.35374239537412905,0.34936627809684928,0.28081361301324576,0.32760977572129357,0.34549439814300159,0.44100932054687858,0.35030875520683702,0.39007471810946026,0.3008820360890947,0.31591030337612308,0.39378088640466169,260]
["Female 65-69",null,null,null,null,null,null,null,null,null,null,null,null,null,null,null,null,null,null,null,null,null,null,null,null,null,null,null,null,null,null,null,null,null,null,null,null,null,null,null,null,null,null,null,null,null,null,null,261]
["Female 70-74",null,null,null,null,null,null,null,null,null,null,null,null,null,null,null,null,null,null,null,null,null,null,null,null,null,null,null,null,null,null,null,null,null,null,null,null,null,null,null,null,null,null,null,null,null,null,null,262]
["Female 75-79",null,null,null,null,null,null,null,null,null,null,null,null,null,null,null,null,null,null,null,null,null,null,null,null,null,null,null,null,null,null,null,null,null,null,null,null,null,null,null,null,null,null,null,null,null,null,null,263]
["Female 80-84",null,null,null,null,null,null,null,null,null,null,null,null,null,null,null,null,null,null,null,null,null,null,null,null,null,null,null,null,null,null,null,null,null,null,null,null,null,null,null,null,null,null,null,null,null,null,null,264]
["Female 85-89",null,null,null,null,null,null,null,null,null,null,null,null,null,null,null,null,null,null,null,null,null,null,null,null,null,null,null,null,null,null,null,null,null,null,null,null,null,null,null,null,null,null,null,null,null,null,null,265]
["Female 90+",null,null,null,null,null,null,null,null,null,null,null,null,null,null,null,null,null,null,null,null,null,null,null,null,null,null,null,null,null,null,null,null,null,null,null,null,null,null,null,null,null,null,null,null,null,null,null,266]
["Overall prevalence (aged 16+)","Men",49.842550199999991,47.569646999999996,41.069173599999992,53.676899999999982,49.760208000000013,51.030335999999984,37.817215999999995,44.446406400000008,50.786662499999998,37.889980699999995,47.875037699999993,60.4100392,43.006319999999995,38.150943599999998,48.987314999999995,56.028790400000005,47.387289599999995,40.124785799999991,50.705424000000008,41.069173599999999,39.10036800000001,53.417673600000001,44.771166000000001,45.104472200000004,48.392815999999996,28.701749999999997,38.150943599999991,53.986759199999987,53.676899999999982,30.652160000000002,46.091068800000009,46.480428000000003,50.974308000000001,42.906074400000001,47.2445922,49.001706800000001,47.875037699999993,43.756226999999996,49.798133,47.569646999999996,60.410039200000007,48.43899900000001,52.508352000000002,42.038325000000007,41.031381300000007,53.297798399999998,267]
[null,"Women",39.56347199999999,42.379610399999997,42.572717999999995,43.884588799999996,42.773065200000005,45.964492500000006,34.259200799999995,43.076096000000007,45.585844200000011,32.712140999999995,42.854549399999996,54.095821200000003,37.539400000000001,56.906699999999987,39.615377500000001,51.651850799999991,44.998280599999987,42.533100000000012,44.912729999999996,42.572718000000002,35.486654000000009,41.009890600000006,49.212575999999999,39.971367000000008,47.5512576,24.495055200000003,56.906700000000001,45.447780000000002,43.884588799999996,26.869986000000008,43.355700000000013,42.270322499999999,45.907752799999997,44.40654,35.658185400000008,43.39134,42.854549399999989,34.445627999999999,40.185817,42.379610399999997,54.095821200000003,42.970157099999987,47.847996000000002,36.907294399999998,38.750716799999992,48.302608200000009,268]
["Crude weights","Men",{"$f":"C267/44.7","v":1.1150458657718119},{"$f":"D267/44.7","v":1.0641979194630871},0.9187734586129751,1.2008255033557043,1.113203758389262,1.1416182550335565,0.84602272930648748,0.99432676510067131,1.1361669463087247,0.84765057494407148,1.0710299261744964,1.3514550156599552,0.96211006711409375,0.85348867114093951,{"$f":"Q267/44.7","v":1.095913087248322},{"$f":"R267/44.7","v":1.2534405011185683},1.0601183355704695,0.89764621476510043,1.1343495302013424,0.91877345861297532,0.87472859060402697,1.1950262550335571,1.0015920805369127,1.0090485950782997,1.0826133333333332,0.64209731543624149,0.85348867114093929,1.2077574765100667,1.2008255033557043,0.6857306487695749,1.0311201073825504,1.0398306040268457,1.140364832214765,0.95986743624161075,1.056926,1.0962350514541386,1.0710299261744964,0.97888651006711391,1.1140521923937359,1.0641979194630871,1.3514550156599554,1.0836465100671142,1.174683489932886,0.94045469798657733,0.91792799328859065,1.1923444832214765,269]
[null,"Women",{"$f":"C268/39.5","v":1.0016068860759491},1.0729015291139239,1.0777903291139239,1.1110022481012658,1.0828624101265825,1.1636580379746837,0.86732153924050626,1.0905340759493674,1.1540720050632913,0.82815546835443021,1.0849253012658227,1.3695144607594938,0.95036455696202538,1.4406759493670882,{"$f":"Q268/39.5","v":1.0029209493670885},{"$f":"R268/39.5","v":1.3076417924050632},1.1391969772151895,1.0767873417721523,1.1370311392405061,1.0777903291139241,0.8983963037974686,1.0382250784810128,1.2458879999999999,1.0119333417721521,1.2038293063291139,0.62012797974683553,1.4406759493670886,1.1505767088607595,1.1110022481012658,0.68025281012658245,1.0976126582278485,1.070134746835443,1.1622215898734176,1.1242162025316456,0.90273887088607618,1.0985149367088607,1.0849253012658224,0.87204121518987343,1.0173624556962024,1.0729015291139239,1.3695144607594938,1.0878520784810124,1.211341670886076,0.93436188354430372,0.98103080506329099,1.2228508405063294,270]
[null,null,null,null,null,null,null,null,null,null,null,null,null,null,null,null,null,null,null,null,null,null,null,null,null,null,null,null,null,null,null,null,null,null,null,null,null,null,null,null,null,null,null,null,null,null,null,null,271]
[null,null,null,null,null,null,null,null,null,null,null,null,null,null,null,null,null,null,null,null,null,null,null,null,null,null,null,null,null,null,null,null,null,null,null,null,null,null,null,null,null,null,null,null,null,null,null,null,272]
[null,null,null,null,null,null,null,null,null,null,null,null,null,null,null,null,null,null,null,null,null,null,null,null,null,null,null,null,null,null,null,null,null,null,null,null,null,null,null,null,null,null,null,null,null,null,null,null,273]
[null,null,null,null,null,null,null,null,null,null,null,null,null,null,null,null,null,null,null,null,null,null,null,null,null,null,null,null,null,null,null,null,null,null,null,null,null,null,null,null,null,null,null,null,null,null,null,null,274]
[null,null,null,null,null,null,null,null,null,null,null,null,null,null,null,null,null,null,null,null,null,null,null,null,null,null,null,null,null,null,null,null,null,null,null,null,null,null,null,null,null,null,null,null,null,null,null,null,275]
[null,null,null,null,null,null,null,null,null,null,null,null,null,null,null,null,null,null,null,null,null,null,null,null,null,null,null,null,null,null,null,null,null,null,null,null,null,null,null,null,null,null,null,null,null,null,null,null,276]
[null,null,null,null,null,null,null,null,null,null,null,null,null,null,null,null,null,null,null,null,null,null,null,null,null,null,null,null,null,null,null,null,null,null,null,null,null,null,null,null,null,null,null,null,null,null,null,null,277]
[null,null,null,null,null,null,null,null,null,null,null,null,null,null,null,null,null,null,null,null,null,null,null,null,null,null,null,null,null,null,null,null,null,null,null,null,null,null,null,null,null,null,null,null,null,null,null,null,278]
[null,null,null,null,null,null,null,null,null,null,null,null,null,null,null,null,null,null,null,null,null,null,null,null,null,null,null,null,null,null,null,null,null,null,null,null,null,null,null,null,null,null,null,null,null,null,null,null,279]
[null,null,null,null,null,null,null,null,null,null,null,null,null,null,null,null,null,null,null,null,null,null,null,null,null,null,null,null,null,null,null,null,null,null,null,null,null,null,null,null,null,null,null,null,null,null,null,null,280]

{"sheet":"LookUpData_Pop","index":6,"n_rows":294,"n_cols":56,"rows_kept":294,"cut":false,"hidden":false,"merged":[]}
["POPULATION","Scotland","Ayrshire & Arran Health Board","Borders Health Board","Dumfries & Galloway Health Board","Fife Health Board","Forth Valley Health Board","Grampian Health Board","Greater Glasgow & Clyde Health Board","Highland Health Board","Lanarkshire Health Board","Lothian Health Board","Orkney Health Board","Shetland Health Board","Tayside Health Board","Western Isles Health Board","Aberdeen City Local Authority","Aberdeenshire Local Authority","Angus Local Authority","Argyll & Bute Local Authority","Clackmannanshire Local Authority","Dumfries & Galloway Local Authority","Dundee City Local Authority","East Ayrshire Local Authority","East Dunbartonshire Local Authority","East Lothian Local Authority","East Renfrewshire Local Authority","Edinburgh, City of Local Authority","Eilean Siar Local Authority","Falkirk Local Authority","Fife Local Authority","Glasgow City Local Authority","Highland Local Authority","Inverclyde Local Authority","Midlothian Local Authority","Moray Local Authority","North Ayrshire Local Authority","North Lanarkshire Local Authority","Orkney Islands Local Authority","Perth & Kinross Local Authority","Renfrewshire Local Authority","Scottish Borders Local Authority","Shetland Islands Local Authority","South Ayrshire Local Authority","South Lanarkshire Local Authority","Stirling Local Authority","West Dunbartonshire Local Authority","West Lothian Local Authority","Death Rate (Scotland)",null,"Life expectancy, Scotland",null,null,"Population LookUp Reference"]
[]
["All, by SIMD",null,null,null,null,null,null,null,null,null,null,null,null,null,null,null,null,null,null,null,null,null,null,null,null,null,null,null,null,null,null,null,null,null,null,null,null,null,null,null,null,null,null,null,null,null,null,null,null,null,"National LE"]
["Total",{"$f":"B11+B18","v":26028700},1842310,563290,744990,1816170,1462810,2740100,5623880,1561710,3196900,4127400,101240,111780,2003560,132560,1073050,1223560,557200,450020,253050,744990,719500,602630,523830,484790,448070,2381440,132560,764300,1816170,2940530,1111690,403060,405470,443490,680460,1640600,101240,726860,854260,563290,111780,559220,1556300,445460,454130,855700,1.0669987246485007E-2,"Based on average deaths for 2005-2009 inclusive, supplied by ISD Scotland",null,null,null,3,null,"Scotland"]
["Q 1",{"$f":"B12+B19","v":5252913},{"$f":"C12+C19","v":517418},31103,57195,337361,226030,165297,2077406,133916,840054,513447,0,0,353686,0,138557,21399,48445,38987,66589,57195,264551,178759,20668,24104,31965,312418,0,113376,337361,1440003,94929,175340,42770,5341,248383,534582,0,40690,239460,31103,0,90276,305472,46065,169970,134155,1.3274686939749862E-2,null,null,null,null,4,null,"Ayrshire & Arran Health Board"]
["Q 2",{"$f":"B13+B20","v":5226592},{"$f":"C13+C20","v":512891},86790,171875,403234,345510,354054,992686,300723,832227,803580,21780,6985,335883,58374,195837,102868,95352,75798,45819,171875,151204,191788,87017,99564,40509,332546,58374,210535,403234,543394,224925,60443,130423,55349,150283,466570,21780,89327,134521,86790,6985,170820,365657,89156,126802,241047,1.2350565421834908E-2,null,null,null,null,5,null,"Borders Health Board"]
["Q 3",{"$f":"B14+B21","v":5199490},285226,172634,286916,361361,273321,599274,762939,525596,679083,761694,20767,45086,351407,74186,176873,253919,125199,176950,60904,286916,88915,76172,39685,123150,36343,360804,74186,147202,361361,367308,348646,52877,84227,168482,100046,300385,20767,137293,175756,172634,45086,109008,378698,65215,90970,193513,1.0812425014975131E-2,null,null,null,null,6,null,"Dumfries & Galloway Health Board"]
["Q 4",5176374,280310,235385,174280,337393,320273,720264,758168,457561,453856,732850,55582,52135,598317,0,124011,438626,207869,109451,43903,174280,93869,81268,104396,148200,71641,363963,0,147402,337393,331938,348110,66049,81692,157627,118478,196730,55582,296579,142333,235385,52135,80564,257126,128968,41811,138995,9.3648469224185404E-3,null,null,null,null,7,null,"Fife Health Board"]
["Q 5",{"$f":"B16+B23","v":5173331},{"$f":"C16+C23","v":246465},37378,54724,376821,297676,901211,1032681,143914,391680,1315829,3111,7574,364267,0,437772,406748,80335,48834,35835,54724,120961,74643,272064,89772,267612,1011709,0,145785,376821,257887,95080,48351,66358,56691,63270,142333,3111,162971,162190,37378,7574,108552,249347,116056,24577,147990,7.5394980282599859E-3,null,null,null,null,8,null,"Forth Valley Health Board"]
["Males, by SIMD",null,null,null,null,null,null,null,null,null,null,null,null,null,null,null,null,null,null,null,null,null,null,null,null,null,null,null,null,null,null,null,null,null,null,null,null,null,null,null,null,null,null,null,null,null,null,null,null,null,null,null,null,9,null,"Grampian Health Board"]
["Males",{"$f":"SUM(B25:B44)","v":12601707},{"$f":"SUM(C25:C44)","v":881719},272816,360664,877215,707304,1359925,2703249,768233,1535610,1995974,49915,56486,967406,65191,530543,606876,269930,223465,123571,360664,342436,291443,252488,232415,214048,1153351,65191,370889,877215,1419490,544768,192577,193129,222506,322835,790075,49915,355040,408975,272816,56486,267441,745535,212844,215671,417079,1.5074592828583706E-2,null,75.47334646653772,null,null,10,null,"Greater Glasgow & Clyde Health Board"]
["Q 1",{"$f":"SUM(B66:B85)","v":2489967},{"$f":"SUM(C66:C85)","v":243769},14990,27388,161229,107930,81121,980921,64398,395397,244770,0,0,168054,0,67739,10712,23176,18860,31854,27388,125102,84633,9531,11475,15056,149231,0,54297,161229,682938,45538,82655,20062,2670,116302,252535,0,19776,111860,14990,0,42834,142862,21779,78881,64002,1.4024652873725566E-2,null,69.397490798675804,null,null,11,null,"Highland Health Board"]
["Q 2",{"$f":"SUM(B107:B126)","v":2515468},{"$f":"SUM(C107:C126)","v":243384},42187,82024,193054,164859,172125,483558,145741,396840,386866,10659,3421,162117,28633,95907,49848,44921,36440,21998,82024,72585,91481,41368,47086,18816,162356,28633,100709,193054,270693,109301,29182,61547,26370,70322,222777,10659,44611,63521,42187,3421,81581,174063,42152,59978,115877,1.2355683314045119E-2,null,73.483643760491603,null,null,12,null,"Lanarkshire Health Board"]
["Q 3",{"$f":"SUM(B148:B167)","v":2536055},{"$f":"SUM(C148:C167)","v":140231},84479,139327,175017,133170,295453,369979,258965,329437,370346,10154,22979,169960,36558,86858,124753,61249,86543,31114,139327,42215,39036,18792,58215,17182,177090,36558,71099,175017,179870,172422,25376,39735,83842,48191,146785,10154,66496,84772,84479,22979,53004,182652,30957,43987,95306,1.0514159718652391E-2,null,76.091259232499397,null,null,13,null,"Lothian Health Board"]
["Q 4",{"$f":"SUM(B189:B208)","v":2527989},{"$f":"SUM(C189:C208)","v":135325},113175,85417,163742,154937,359507,367772,225348,221768,355392,27587,26243,291776,0,61731,218453,101536,53830,21251,85417,44727,39835,50647,71747,34112,176414,0,71864,163742,161551,171518,31705,39436,79323,57394,96942,27587,145513,69293,113175,26243,38096,124826,61822,20464,67795,8.836763619667419E-3,null,78.197975247128667,null,null,14,null,"Orkney Health Board"]
["Q 5",{"$f":"SUM(B230:B249)","v":2532228},{"$f":"SUM(C230:C249)","v":119010},17985,26508,184173,146408,451719,501019,73781,192168,638600,1515,3843,175499,0,218308,203110,39048,27792,17354,26508,57807,36458,132150,43892,128882,488260,0,72920,184173,124438,45989,23659,32349,30301,30626,71036,1515,78644,79529,17985,3843,51926,121132,56134,12361,74099,7.052410019778489E-3,null,80.400122020022721,null,null,15,null,"Shetland Health Board"]
["Females, by SIMD",null,null,null,null,null,null,null,null,null,null,null,null,null,null,null,null,null,null,null,null,null,null,null,null,null,null,null,null,null,null,null,null,null,null,null,null,null,null,null,null,null,null,null,null,null,null,null,null,null,null,null,null,16,null,"Tayside Health Board"]
["Females",{"$f":"SUM(B45:B64)","v":13426993},{"$f":"SUM(C45:C64)","v":960591},290474,384326,938955,755506,1380175,2920631,793477,1661290,2131426,51325,55294,1036154,67369,542507,616684,287270,226555,129479,384326,377064,311187,271342,252375,234022,1228089,67369,393411,938955,1521040,566922,210483,212341,220984,357625,850525,51325,371820,445285,290474,55294,291779,810765,232616,238459,438621,1.4821357832814819E-2,null,80.153860442430641,null,null,17,null,"Western Isles Health Board"]
["Q 1",{"$f":"SUM(B86:B105)","v":2762946},{"$f":"SUM(C86:C105)","v":273649},16113,29807,176132,118100,84176,1096485,69518,444657,268677,0,0,185632,0,70818,10687,25269,20127,34735,29807,139449,94126,11137,12629,16909,163187,0,59079,176132,757065,49391,92685,22708,2671,132081,282047,0,20914,127600,16113,0,47442,162610,24286,91089,70153,1.2601400802765186E-2,null,76.387523110784798,null,null,18,null,"Aberdeen City Local Authority"]
["Q 2",{"$f":"SUM(B127:B146)","v":2711124},{"$f":"SUM(C127:C146)","v":269507},{"$f":"SUM(D127:D146)","v":44603},89851,210180,180651,181929,509128,154982,435387,416714,11121,3564,173766,29741,99930,53020,50431,39358,23821,89851,78619,100307,45649,52478,21693,170190,29741,109826,210180,272701,115624,31261,68876,28979,79961,243793,11121,44716,71000,44603,3564,89239,191594,47004,66824,125170,1.2345867551879089E-2,null,78.909902133926195,null,null,19,null,"Aberdeenshire Local Authority"]
["Q 3",{"$f":"SUM(B168:B187)","v":2663435},{"$f":"SUM(C168:C187)","v":144995},88155,147589,186344,140151,303821,392960,266631,349646,391348,10613,22107,181447,37628,90015,129166,63950,90407,29790,147589,46700,37136,20893,64935,19161,183714,37628,76103,186344,187438,176224,27501,44492,84640,51855,153600,10613,70797,90984,88155,22107,56004,196046,34258,46983,98207,1.1094864097283233E-2,null,80.300411181728805,null,null,20,null,"Angus Local Authority"]
["Q 4",{"$f":"SUM(B209:B228)","v":2648385},{"$f":"SUM(C209:C228)","v":144985},122210,88863,173651,165336,360757,390396,232213,232088,377458,27995,25892,306541,0,62280,220173,106333,55621,22652,88863,49142,41433,53749,76453,37529,187549,0,75538,173651,170387,176592,34344,42256,78304,61084,99788,27995,151066,73040,122210,25892,42468,132300,67146,21347,71200,9.8672552757737737E-3,null,81.727055289388218,null,null,21,null,"Argyll & Bute Local Authority"]
["Q 5",{"$f":"SUM(B250:B269)","v":2641103},{"$f":"SUM(C250:C269)","v":127455},19393,28216,192648,151268,449492,531662,70133,199512,677229,1596,3731,188768,0,219464,203638,41287,21042,18481,28216,63154,38185,139914,45880,138730,523449,0,72865,192648,133449,49091,24692,34009,26390,32644,71297,1596,84327,82661,19393,3731,56626,128215,59922,12216,73891,8.0081230210156448E-3,null,83.577579806016075,null,null,22,null,"Clackmannanshire Local Authority"]
["age/sex breakdown: All",null,null,null,null,null,null,null,null,null,null,null,null,null,null,null,null,null,null,null,null,null,null,null,null,null,null,null,null,null,null,null,null,null,null,null,null,null,null,null,null,null,null,null,null,null,null,null,null,null,null,null,null,23,null,"Dumfries & Galloway Local Authority"]
["Male <1",{"$f":"B66+B107+B148+B189+B230","v":151126},{"$f":"C66+C107+C148+C189+C230","v":10078},2888,3807,10867,8505,16288,33179,8283,19350,24961,539,709,11005,667,6458,7287,2893,2034,1542,3807,4390,3522,2476,2927,2330,13714,667,4716,10867,18451,6249,2253,2446,2543,3785,10404,539,3722,4899,2888,709,2771,8946,2247,2770,5874,null,null,null,"LE calculated within spreadsheet using the Chiang method",null,24,null,"Dundee City Local Authority"]
["Male 1-4",{"$f":"B67+B108+B149+B190+B231","v":582809},39813,11966,15224,41408,33902,61770,125685,32770,76641,93513,2077,2678,42672,2690,22314,29599,12041,8246,5993,15224,15931,13653,10669,12020,10161,48856,2690,18337,41408,65881,24524,8950,9734,9857,15300,41252,2077,14700,19364,11966,2678,10860,35389,9572,10660,22903,null,null,null,"LE calculated within spreadsheet using the Chiang method",null,25,null,"East Ayrshire Local Authority"]
["Male 5-9",691028,48419,15358,18658,49425,41396,72534,145777,41394,91320,105585,2441,3345,52019,3357,24843,35963,15249,11012,7209,18658,17665,15991,14986,13976,14196,53543,3357,21563,49425,71160,30382,10620,11739,11728,18304,48905,2441,19105,22928,15358,3345,14124,42415,12624,11887,26327,null,null,null,"LE calculated within spreadsheet using the Chiang method",null,26,null,"East Dunbartonshire Local Authority"]
["Male 10-14",754433,54401,16733,21625,52714,44892,79652,158759,47337,98584,111712,3240,3570,57350,3864,26117,39498,16865,13518,7783,21625,18929,18095,17506,15486,15944,55920,3864,22774,52714,74744,33819,11872,12577,14037,20655,51626,3240,21556,25278,16733,3570,15651,46958,14335,13415,27729,null,null,null,"LE calculated within spreadsheet using the Chiang method",null,27,null,"East Lothian Local Authority"]
["Male 15-19",836097,60263,16823,22638,59075,50460,86055,183987,48465,105021,127785,3169,3840,64440,4076,31608,39114,17626,14373,8267,22638,23798,20187,18676,15969,16003,69745,4076,25447,59075,93412,34092,13263,13655,15333,22998,54489,3169,23016,27353,16823,3840,17078,50532,16746,15280,28416,null,null,null,"LE calculated within spreadsheet using the Chiang method",null,28,null,"East Renfrewshire Local Authority"]
["Male 20-24",903866,55996,13335,19296,62809,47724,94502,222196,43732,102100,161018,2588,3129,72198,3243,46664,33858,15083,14029,8113,19296,33555,19050,16599,13385,13957,108561,3243,22322,62809,134258,29703,13597,12335,13980,20582,53324,2588,23560,27825,13335,{"$f":"AQ71+AQ112+AQ153+AQ194+AQ235","v":3129},16364,48776,17289,15960,26737,null,null,null,"LE calculated within spreadsheet using the Chiang method",null,29,null,"Edinburgh, City of Local Authority"]
["Male 25-29",855992,46857,11626,15987,51583,40455,93778,219213,40430,97892,166136,2405,3099,63726,2805,51962,29730,13275,11650,7219,15987,29051,15989,13359,10170,10227,121000,2805,22056,51583,143102,28780,11837,9998,12086,17190,52205,2405,21400,26534,11626,3099,13678,45687,11180,14154,24968,null,null,null,"LE calculated within spreadsheet using the Chiang method",null,30,null,"Eilean Siar Local Authority"]
["Male 30-34",762431,43723,12252,15365,47357,38973,86364,183098,39122,90237,145919,2355,3347,51082,3237,43294,31209,12991,10135,6915,15365,20219,15523,10111,10721,8583,99670,3237,23024,47357,119940,28987,9982,9671,11861,15892,48266,2355,17872,22589,12252,3347,12308,41971,9034,11893,25857,null,null,null,"LE calculated within spreadsheet using the Chiang method",null,31,null,"Falkirk Local Authority"]
["Male 35-39",847252,55445,17284,20672,58124,48361,95314,183200,46703,106939,147767,2956,3806,56504,4177,38177,41750,16706,13483,8488,20672,19329,19733,13620,15952,11969,87503,4177,26972,58124,106137,33220,11581,12712,15387,19768,56153,2956,20469,26310,17284,3806,15944,50786,12901,13583,31600,null,null,null,"LE calculated within spreadsheet using the Chiang method",null,32,null,"Fife Local Authority"]
["Male 40-44",956360,66008,21921,26241,67135,56498,105267,200493,57299,121764,153053,4052,4249,67396,4984,37977,49381,19630,16534,10154,26241,21717,23103,18172,18878,16031,83774,4984,30382,67135,103079,40765,14184,14717,17909,23706,63294,4052,26049,32520,21921,4249,19199,58470,15962,16507,35684,null,null,null,"LE calculated within spreadsheet using the Chiang method",null,33,null,"Glasgow City Local Authority"]
["Male 45-49",960786,67168,22027,28025,66358,55252,104289,205891,60323,119628,146422,4097,4477,71717,5112,37445,49404,21353,17245,9851,28025,23087,22250,20819,18943,18189,79191,5112,28889,66358,100599,43078,15938,14766,17440,24309,60364,4097,27277,33338,22027,4477,20609,59264,16512,17008,33522,null,null,null,"LE calculated within spreadsheet using the Chiang method",null,34,null,"Highland Local Authority"]
["Male 50-54",875149,62887,20231,26009,60969,48220,97647,184308,57578,108519,130276,3772,3931,65852,4950,35755,46445,19140,16382,8515,{"$f":"V77+V118+V159+V200+V241","v":26009},22068,20332,19646,17247,16865,70889,4950,25140,60969,88689,41196,14248,13752,15447,22808,53727,3772,24644,29219,20231,3931,19747,54792,14565,15641,28388,null,null,null,"LE calculated within spreadsheet using the Chiang method",null,35,null,"Inverclyde Local Authority"]
["Male 55-59",800746,60660,19620,26661,56147,44977,89976,158294,56308,96998,115456,3702,4032,62964,4951,32149,43365,19181,15787,8090,26661,19581,19531,17285,14779,13944,62681,4951,23074,56147,74191,40521,12843,12969,14462,21937,47969,3702,24202,25991,19620,4032,19192,49029,13813,14040,25027,null,null,null,"LE calculated within spreadsheet using the Chiang method",null,36,null,"Midlothian Local Authority"]
["Male 60-64",778002,61807,20706,28413,58308,45165,84479,145722,56446,90559,108918,3720,3992,64671,5096,28506,41550,19823,16931,8252,28413,19810,19596,16780,14767,13130,57046,5096,23106,58308,65137,39515,12296,13091,14423,22641,45299,3720,25038,25132,20706,3992,19570,45260,13807,13247,24014,null,null,null,"LE calculated within spreadsheet using the Chiang method",null,37,null,"Moray Local Authority"]
["Male 65-69",595909,48643,16063,23061,44573,34091,61325,111907,44642,70596,80634,3121,2932,50443,3878,20209,29521,15337,14206,5919,23061,15806,14917,12829,11831,9882,41164,3878,17585,44573,50401,30436,9580,9679,11595,17914,35254,3121,19300,19518,16063,2932,15812,35342,10587,9697,17960,null,null,null,"LE calculated within spreadsheet using the Chiang method",null,38,null,"North Ayrshire Local Authority"]
["Male 70-74",492020,40236,13203,19243,35674,28147,50929,94967,34272,57305,67547,2345,2139,42750,3263,17626,23495,12632,11161,4734,19243,13843,12242,11335,9568,8757,35929,3263,14595,35674,43110,23111,7833,7818,9808,14615,28248,2345,16275,15902,13203,2139,13379,29057,8818,8030,14232,null,null,null,"LE calculated within spreadsheet using the Chiang method",null,39,null,"North Lanarkshire Local Authority"]
["Male 75-79",369617,29280,9948,14615,26277,20116,38519,72617,25794,41794,51850,1585,1525,33347,2350,14263,17050,9643,8111,3391,14615,10933,8872,8864,7583,6741,29317,2350,10408,26277,33149,17683,5907,5719,7206,10385,20408,1585,12771,11874,9948,1525,10023,21386,6317,{"$f":"AU82+AU123+AU164+AU205+AU246","v":6082},9231,null,null,null,"LE calculated within spreadsheet using the Chiang method",null,40,null,"Orkney Islands Local Authority"]
["Male 80-84",232112,17877,6555,9212,17081,12190,24357,44763,16401,24924,33529,1061,962,21670,1530,8997,10928,6155,5162,1981,9212,7295,5408,5318,4971,4327,19544,1530,6357,17081,20593,11239,3530,3535,4432,6033,11855,1061,8220,7497,6555,962,6436,13069,3852,3498,5479,null,null,null,"LE calculated within spreadsheet using the Chiang method",null,41,null,"Perth & Kinross Local Authority"]
["Male 85-89",114610,8973,3280,4374,8318,5905,12312,21569,8060,11323,17477,528,521,11228,742,4511,5690,3031,2477,872,4374,4025,2551,2512,2397,2187,11022,742,3124,8318,10030,5583,1644,1685,2111,2951,5257,528,4172,3555,3280,521,3471,6066,1909,1641,2373,null,null,null,"LE calculated within spreadsheet using the Chiang method",null,42,null,"Renfrewshire Local Authority"]
["Male 90+",41362,3185,997,1538,3013,2075,4568,7624,2874,4116,6416,162,203,4372,219,1668,2039,1276,989,283,1538,1404,898,926,845,625,4282,219,1018,3013,3427,1885,619,531,861,1062,1776,162,1692,1349,997,203,1225,2340,774,678,758,null,null,null,null,null,43,null,"Scottish Borders Local Authority"]
["Female <1",144841,9551,2903,3705,10158,8349,15426,31881,7753,18679,24119,501,619,10618,579,6144,6928,2929,1954,1517,3705,4157,3273,2318,2776,2176,13468,579,4701,10158,18022,5799,1936,2370,2354,3645,9950,501,3532,4770,2903,619,2633,8729,2131,2659,5505,null,null,null,"LE calculated within spreadsheet using the Chiang method",null,44,null,"Shetland Islands Local Authority"]
["Female 1-4",555491,37792,11617,14693,39837,32681,58490,119844,30875,73343,88464,2011,2448,40827,2569,21824,27561,11679,7812,5736,14693,15136,12669,9920,11311,9810,46106,2569,17949,39837,63378,23063,8086,9272,9105,14469,38870,2011,14012,18587,11617,2448,10654,34473,8996,10063,21775,null,null,null,"LE calculated within spreadsheet using the Chiang method",null,45,null,"South Ayrshire Local Authority"]
["Female 5-9",660895,46883,14830,17449,46839,39007,68022,140168,39268,88693,101271,2459,3131,49470,3405,23564,33746,14554,10710,6701,17449,16752,15689,13868,{"$f":"Z88+Z129+Z170+Z211+Z252","v":13635},13368,50077,3405,20433,46839,68594,28558,9989,11444,10712,17921,46862,2459,18164,22673,14830,3131,13273,41831,11873,11676,26115,null,null,null,"LE calculated within spreadsheet using the Chiang method",null,46,null,"South Lanarkshire Local Authority"]
["Female 10-14",717767,51980,16183,20817,50950,42892,73548,150050,44406,94570,107084,2908,3595,54863,3921,23712,36760,16023,12699,7628,20817,17848,16631,16057,15233,14997,52108,3921,21578,50950,71193,31707,11403,12543,13076,20018,49347,2908,20992,23798,16183,3595,15331,45223,13686,12602,27200,null,null,null,"LE calculated within spreadsheet using the Chiang method",null,47,null,"Stirling Local Authority"]
["Female 15-19",797443,57079,16381,21201,57680,48249,83738,175113,43957,98344,123449,3141,3388,62107,3616,33374,36909,15934,12953,8091,21201,25676,19394,16569,15577,14627,68210,3616,22770,57680,91001,31004,12467,12922,13455,21323,50877,3141,20497,26184,16381,3388,16362,47467,17388,14265,26740,null,null,null,"LE calculated within spreadsheet using the Chiang method",null,48,null,"West Dunbartonshire Local Authority"]
["Female 20-24",882758,53556,13065,17635,62826,45921,92063,218316,35029,98375,168992,2252,2519,69756,2453,51974,29413,13451,9796,6991,17635,35823,18198,14354,12623,12112,118795,2453,21547,62826,137048,25233,12668,11869,10676,19959,52508,2252,20482,26856,13065,2519,15399,45867,17383,15278,25705,null,null,null,"LE calculated within spreadsheet using the Chiang method",null,49,null,"West Lothian Local Authority"]
["Female 25-29",841950,48543,11874,16676,51044,41686,84325,213184,36958,98731,171903,2340,2720,59153,2813,45694,28637,12747,8462,6850,16676,27686,16675,11446,10774,9330,124620,2813,23257,51044,140111,28496,11465,10785,9994,18335,52621,2340,18720,26133,11874,2720,13533,46110,11579,14699,25724,null,null,null,"LE calculated within spreadsheet using the Chiang method",null,50]
["Female 30-34",779499,48166,13139,17027,50942,43055,80222,181746,38937,97175,147502,2593,3439,52120,3436,35552,33713,14044,9556,7400,17027,20734,16620,11329,12681,10131,96654,3436,24268,50942,112305,29381,10543,11353,10957,18209,51635,2593,17342,24258,13139,3439,13337,45540,11387,13180,26814,null,null,null,"LE calculated within spreadsheet using the Chiang method",null,51]
["Female 35-39",910501,62054,18914,{"$f":"E94+E135+E176+E217+E258","v":22780},62195,54059,96258,196649,50627,118100,153593,3290,3851,63943,4188,35993,45340,18572,13718,9032,22780,21928,21220,16307,17855,14500,86593,4188,29319,62195,106703,36909,13248,14498,14925,23203,61981,3290,23443,30431,18914,3851,17631,56119,15708,15460,34647,null,null,null,"LE calculated within spreadsheet using the Chiang method",null,52]
["Female 40-44",1033085,74151,22915,28510,71617,60811,105983,224723,61005,133016,162123,3978,4098,75153,5002,37406,51361,21637,16958,10669,28510,25105,25297,21454,21008,19290,85926,5002,31929,71617,111900,44047,16658,17115,17216,27716,68680,3978,28411,36583,22915,4098,21138,64336,18213,18838,38074,null,null,null,"LE calculated within spreadsheet using the Chiang method",null,53]
["Female 45-49",1027033,74265,23109,30223,70237,57710,105216,227120,62646,130225,155619,3954,4297,77431,4981,38488,49805,22356,17596,10046,30223,26874,24181,23481,20067,19988,83541,4981,30163,70237,111192,45050,17190,17023,16923,27460,65674,3954,28201,36462,23109,4297,22624,64551,17501,18807,34988,null,null,null,"LE calculated within spreadsheet using the Chiang method",null,54]
["Female 50-54",920769,68111,21209,27865,63529,50333,96666,197960,58943,117851,135792,3828,3890,70082,4710,35051,45986,20446,16529,9144,27865,23515,21513,21536,17857,17507,73104,4710,26227,63529,95267,42414,15149,15237,15629,25201,58542,3828,26121,31248,21209,3890,21397,59309,14962,17253,29594,null,null,null,"LE calculated within spreadsheet using the Chiang method",null,55]
["Female 55-59",834550,64241,20034,27511,59721,47629,88676,166368,57741,103428,121018,3624,3736,66112,4711,30910,42847,19878,16667,8602,27511,20761,20095,18662,16101,14971,64556,4711,24877,59721,76001,41074,13537,13964,14919,23893,51644,3624,25473,28164,20034,3736,20253,51784,14150,15033,26397,null,null,null,"LE calculated within spreadsheet using the Chiang method",null,56]
["Female 60-64",819517,66240,21455,28884,62142,47153,84850,156286,57555,98217,116928,3622,3415,68077,4693,29083,40424,21005,18097,8685,28884,21126,20643,18249,15794,14448,61420,4693,{"$f":"AD99+AD140+AD181+AD222+AD263","v":24099},62142,68692,39458,13261,14190,15343,24626,49035,3622,25946,27281,21455,3415,20971,49182,14369,14355,25524,null,null,null,"LE calculated within spreadsheet using the Chiang method",null,57]
["Female 65-69",667449,54738,17461,24916,48839,38336,65782,131245,46679,82090,91597,3277,2951,55359,4179,22838,30352,16409,14478,6755,24916,17396,16628,15102,13133,11829,47518,4179,19734,48839,59316,32201,11056,10699,12592,20447,40986,3277,21554,22304,17461,2951,17663,41104,11847,11638,20247,null,null,null,"LE calculated within spreadsheet using the Chiang method",null,58]
["Female 70-74",593990,47248,15018,21050,41856,33173,57399,125294,39534,72794,82052,2526,2244,50088,3714,21605,24881,14427,12632,5607,21050,17245,14431,13673,11482,10832,45298,3714,17247,41856,59789,26902,10085,9232,10913,17184,36446,2526,18416,20475,15018,2244,15633,36348,10319,10440,16040,null,null,null,"LE calculated within spreadsheet using the Chiang method",null,59]
["Female 75-79",504598,39644,12329,17721,34447,26680,49824,110374,32702,59278,71100,1974,1818,43567,3140,20034,20435,12423,10381,4129,17721,15696,11968,11162,9722,9675,41630,3140,13972,34447,54510,22321,8974,7584,9355,14318,28422,1974,15448,16758,12329,1818,13358,30856,8579,9295,12164,null,null,null,"LE calculated within spreadsheet using the Chiang method",null,60]
["Female 80-84",374911,28274,9160,13303,26770,19382,37559,79645,24636,41882,54542,1461,1512,34292,2493,15276,15578,9595,7715,3039,13303,12089,8158,8458,7472,7406,33719,2493,10107,26770,38982,16921,6399,5212,6705,9944,19651,1461,12608,11684,9160,1512,10172,22231,6236,6716,8139,null,null,null,"LE calculated within spreadsheet using the Chiang method",null,61]
["Female 85-89",236401,18194,5980,8041,17369,12481,23909,49153,15603,24421,35461,971,1052,21933,1833,9491,10339,6049,4983,2066,8041,7810,5210,5001,4747,4644,22617,1833,6244,17369,24305,10620,4138,3329,4079,6408,11163,971,8074,6987,5980,1052,6576,13258,4171,4078,4768,null,null,null,"LE calculated within spreadsheet using the Chiang method",null,62]
["Female 90+",123545,9881,2898,4319,9957,5919,12219,{"$f":"I105+I146+I187+I228+I269","v":25512},8623,12078,18817,615,571,11203,933,4494,5669,3112,2859,791,4319,3707,2694,2396,2527,2381,12129,933,2990,9957,12731,5764,2231,1700,2056,3346,5631,615,4384,3649,2898,571,3841,6447,2138,2124,2461,null,null,null,null,null,63]
["age/sex breakdown: Q1",null,null,null,null,null,null,null,null,null,null,null,null,null,null,null,null,null,null,null,null,null,null,null,null,null,null,null,null,null,null,null,null,null,null,null,null,null,null,null,null,null,null,null,null,null,null,null,null,null,null,null,null,64]
["Male <1",38398,3577,241,482,2678,1686,1515,14419,1036,5753,4162,0,0,2849,0,1300,179,388,274,515,482,2115,1276,174,200,226,2584,0,878,2678,9899,762,1125,330,36,1703,3662,0,346,1705,241,0,598,2091,293,1290,1048,5.8204368047433839E-3,"National death rate calcuated from population size and average number of deaths for 2005-2009 inclusive (supplied by ISD Scotland)",null,"LE calculated within spreadsheet using the Chiang method",null,65]
["Male 1-4",140243,13236,953,1739,9221,6347,4983,53195,3787,21781,14769,0,0,10232,0,4244,619,1519,867,1896,1739,7572,4684,645,774,884,8933,0,3266,9221,36387,2920,4403,1164,120,6463,13996,0,1141,6201,953,0,2089,7785,1185,4675,3898,2.1695706494497517E-4,"National death rate calcuated from population size and average number of deaths for 2005-2009 inclusive (supplied by ISD Scotland)",null,"LE calculated within spreadsheet using the Chiang method",null,66]
["Male 5-9",151263,14526,1058,1789,9971,7173,4940,56487,4131,24860,15839,0,0,10489,0,4212,597,1487,993,2198,1789,7804,4884,733,828,956,9331,0,3514,9971,38943,3138,4595,1365,131,7335,16265,0,1198,6386,1058,0,2307,8595,1461,4874,4315,1.5186530207989435E-4,"National death rate calcuated from population size and average number of deaths for 2005-2009 inclusive (supplied by ISD Scotland)",null,"LE calculated within spreadsheet using the Chiang method",null,67]
["Male 10-14",156100,15630,1105,1663,10285,7327,4887,59111,4202,25789,15710,0,0,10391,0,4181,580,1546,1366,2141,1663,7742,5528,773,914,1200,9146,0,3553,10285,40504,2836,5023,1450,126,7747,17039,0,1103,6389,1105,0,2355,8750,1633,5222,4200,2.0066092692806934E-4,"National death rate calcuated from population size and average number of deaths for 2005-2009 inclusive (supplied by ISD Scotland)",null,"LE calculated within spreadsheet using the Chiang method",null,68]
["Male 15-19",176384,18227,1129,2047,11680,7890,4947,68740,4527,28358,17205,0,0,11634,0,4157,601,1592,1477,2376,2047,8764,6496,809,999,1190,10048,0,3691,11680,47745,3050,5831,1621,189,8897,18332,0,1278,7340,1129,0,2834,10026,1823,5825,4537,9.4683861108188787E-4,"National death rate calcuated from population size and average number of deaths for 2005-2009 inclusive (supplied by ISD Scotland)",null,"LE calculated within spreadsheet using the Chiang method",null,69]
["Male 20-24",197596,17853,973,2138,12015,8169,6558,83094,4633,29412,19450,0,0,13301,0,5525,837,1589,1401,2409,2138,10062,5898,781,839,1161,12114,0,3937,12015,60060,3232,6314,1595,196,8620,18774,0,1650,8337,973,0,3335,10638,1823,6441,4902,1.5218274268263216E-3,"National death rate calcuated from population size and average number of deaths for 2005-2009 inclusive (supplied by ISD Scotland)",null,"LE calculated within spreadsheet using the Chiang method",null,70]
["Male 25-29",192409,15617,768,1758,11141,6831,7248,82361,4673,28212,19774,0,0,14026,0,6086,981,1592,1167,2038,1758,10354,5051,616,681,1072,13259,0,3557,11141,60713,3506,5747,1328,181,7370,17905,0,2080,8672,768,0,3196,10307,1236,5541,4506,1.9681656142062748E-3,"National death rate calcuated from population size and average number of deaths for 2005-2009 inclusive (supplied by ISD Scotland)",null,"LE calculated within spreadsheet using the Chiang method",null,71]
["Male 30-34",161537,13373,803,1476,9541,5971,6282,68674,3922,23799,17105,0,0,10591,0,5359,805,1437,886,1834,1476,7620,4501,544,570,827,11385,0,3200,9541,50836,3036,4542,1037,118,6385,14889,0,1534,7367,803,0,2487,8910,937,4558,4113,3.3705444823173129E-3,"National death rate calcuated from population size and average number of deaths for 2005-2009 inclusive (supplied by ISD Scotland)",null,"LE calculated within spreadsheet using the Chiang method",null,72]
["Male 35-39",161448,15106,1060,1759,10280,6657,5695,64841,4059,25098,17060,0,0,9833,0,4691,787,1493,1112,1983,1759,7044,5533,533,831,867,10511,0,3517,10280,46683,2947,4649,1343,217,6829,15777,0,1296,7225,1060,0,2744,9321,1157,4884,4375,4.2163384619085999E-3,"National death rate calcuated from population size and average number of deaths for 2005-2009 inclusive (supplied by ISD Scotland)",null,"LE calculated within spreadsheet using the Chiang method",null,73]
["Male 40-44",173363,16580,1144,1858,11425,8065,5579,68111,4501,28108,17372,0,0,10620,0,4722,692,1583,1324,2436,1858,7749,6111,571,788,1043,10640,0,4040,11425,46741,3177,5670,1312,165,7634,18467,0,1288,8397,1144,0,2835,9641,1589,5689,4632,5.9535993543444309E-3,"National death rate calcuated from population size and average number of deaths for 2005-2009 inclusive (supplied by ISD Scotland)",null,"LE calculated within spreadsheet using the Chiang method",null,74]
["Male 45-49",172304,17178,1017,1768,11547,7620,5437,68544,4515,26958,16783,0,0,10937,0,4460,765,1626,1373,2298,1768,8055,5993,603,799,1156,10426,0,3724,11547,46756,3142,6030,1323,212,8286,17411,0,1256,8184,1017,0,2899,9547,1598,5815,4235,7.875079027001148E-3,"National death rate calcuated from population size and average number of deaths for 2005-2009 inclusive (supplied by ISD Scotland)",null,"LE calculated within spreadsheet using the Chiang method",null,75]
["Male 50-54",156483,16110,956,1578,10254,6545,4937,61652,4186,25761,14418,0,0,10086,0,4071,660,1369,1255,2141,1578,7596,5533,650,709,952,8789,0,2960,10254,42029,2931,5712,1266,206,7758,16097,0,1121,7074,956,0,2819,9664,1444,5235,3654,1.1476247233100629E-2,"National death rate calcuated from population size and average number of deaths for 2005-2009 inclusive (supplied by ISD Scotland)",null,"LE calculated within spreadsheet using the Chiang method",null,76]
["Male 55-59",140292,14873,860,1772,9137,6317,4460,53132,3905,23346,12910,0,0,9580,0,3639,634,1331,1182,1894,1772,7065,4933,529,632,734,7687,0,3063,9137,35611,2723,5292,1103,187,7171,14584,0,1184,6261,860,0,2769,8762,1360,4705,3488,1.6383516757488337E-2,"National death rate calcuated from population size and average number of deaths for 2005-2009 inclusive (supplied by ISD Scotland)",null,"LE calculated within spreadsheet using the Chiang method",null,77]
["Male 60-64",133950,14523,962,1714,9400,6255,4059,49136,3614,22877,12171,0,0,9239,0,3302,603,1293,1151,1841,1714,7078,4962,493,609,827,7046,0,3064,9400,32664,2463,5046,1071,154,6948,14365,0,868,5971,962,0,2613,8512,1350,4135,3445,2.4822296744380083E-2,"National death rate calcuated from population size and average number of deaths for 2005-2009 inclusive (supplied by ISD Scotland)",null,"LE calculated within spreadsheet using the Chiang method",null,78]
["Male 65-69",107896,11925,692,1273,7327,4845,2891,40611,2949,18355,9443,0,0,7585,0,2363,415,1010,981,1370,1273,5792,4133,383,430,646,5249,0,2465,7327,27503,1968,4150,892,113,5771,11401,0,783,4843,692,0,2021,6954,1010,3086,2872,3.6323533517603375E-2,"National death rate calcuated from population size and average number of deaths for 2005-2009 inclusive (supplied by ISD Scotland)",null,"LE calculated within spreadsheet using the Chiang method",null,79]
["Male 70-74",92303,10408,533,1046,5792,4238,2443,35411,2219,15581,8115,0,0,6517,0,1910,401,913,759,1027,1046,4923,3642,274,396,602,4555,0,2412,5792,23914,1460,3374,652,132,4849,9799,0,681,4599,533,0,1917,5782,799,2648,2512,5.1368843511913287E-2,"National death rate calcuated from population size and average number of deaths for 2005-2009 inclusive (supplied by ISD Scotland)",null,"LE calculated within spreadsheet using the Chiang method",null,80]
["Male 75-79",68682,7534,324,760,4534,2938,2101,26976,1661,11087,5953,0,0,4814,0,1690,310,704,607,701,760,3613,2736,199,223,364,3575,0,1745,4534,18192,1054,2761,553,101,3280,7161,0,497,3423,324,0,1518,3926,492,2037,1602,7.6359212227207054E-2,"National death rate calcuated from population size and average number of deaths for 2005-2009 inclusive (supplied by ISD Scotland)",null,"LE calculated within spreadsheet using the Chiang method",null,81]
["Male 80-84",41736,4419,235,483,3042,1853,1270,16037,1137,6304,3843,0,0,3113,0,1049,165,435,411,458,483,2380,1656,121,150,213,2268,0,1084,3042,10814,726,1472,361,56,1929,4064,0,298,2162,235,0,834,2240,311,1255,1064,0.11266540642722117,"National death rate calcuated from population size and average number of deaths for 2005-2009 inclusive (supplied by ISD Scotland)",null,"LE calculated within spreadsheet using the Chiang method",null,82]
["Male 85-89",20215,2308,133,190,1449,891,652,7518,534,2906,2003,0,0,1631,0,557,73,199,186,219,190,1299,808,71,80,101,1229,0,472,1449,5074,348,670,243,22,995,1888,0,133,966,133,0,505,1018,200,636,451,0.17326673801878942,"National death rate calcuated from population size and average number of deaths for 2005-2009 inclusive (supplied by ISD Scotland)",null,"LE calculated within spreadsheet using the Chiang method",null,83]
["Male 90+",7365,766,44,95,510,312,237,2871,207,1052,685,0,0,586,0,221,8,70,88,79,95,475,275,29,23,35,456,0,155,510,1870,119,249,53,8,332,659,0,41,358,44,0,159,393,78,330,153,null,null,null,null,null,84]
["Female <1",36506,3389,245,461,2356,1631,1362,13984,975,5369,4042,0,0,2692,0,1157,178,401,253,518,461,1958,1101,172,181,196,2602,0,829,2356,9782,722,899,295,27,1634,3409,0,333,1697,245,0,654,1960,284,1238,964,4.8490760931940774E-3,"National death rate calcuated from population size and average number of deaths for 2005-2009 inclusive (supplied by ISD Scotland)",null,"LE calculated within spreadsheet using the Chiang method",null,85]
["Female 1-4",133201,12749,900,1718,8938,5933,4659,50579,3623,20574,13911,0,0,9617,0,4044,534,1272,863,1846,1718,7213,4283,563,657,792,8511,0,2968,8938,34852,2760,3869,1105,81,6187,13086,0,1132,5984,900,0,2279,7488,1119,4519,3638,2.7637833825549992E-4,"National death rate calcuated from population size and average number of deaths for 2005-2009 inclusive (supplied by ISD Scotland)",null,"LE calculated within spreadsheet using the Chiang method",null,86]
["Female 5-9",145745,14503,1003,1778,9940,6522,4355,54561,3883,24376,14913,0,0,9911,0,3759,442,1478,1048,1912,1778,7236,5018,637,847,1096,8632,0,3242,9940,36932,2835,4440,1196,154,7177,15849,0,1197,6597,1003,0,2308,8527,1368,4859,4238,6.8724271350913E-5,"National death rate calcuated from population size and average number of deaths for 2005-2009 inclusive (supplied by ISD Scotland)",null,"LE calculated within spreadsheet using the Chiang method",null,87]
["Female 10-14",150444,15248,1027,1806,10158,6798,4478,56554,3896,25385,15231,0,0,9863,0,3786,519,1400,1202,2178,1806,7418,5089,674,918,1136,8577,0,3120,10158,38476,2694,4888,1425,173,7652,16684,0,1045,6346,1027,0,2507,8701,1500,5034,4311,1.4849823093411843E-4,"National death rate calcuated from population size and average number of deaths for 2005-2009 inclusive (supplied by ISD Scotland)",null,"LE calculated within spreadsheet using the Chiang method",null,88]
["Female 15-19",172731,18184,1122,2081,11722,8168,5240,65111,4581,27683,17077,0,0,11762,0,4358,695,1614,1439,2445,2081,8913,6349,705,990,1114,9952,0,3743,11722,44416,3142,5543,1626,187,8751,18067,0,1235,7410,1122,0,3084,9616,1980,5923,4509,4.1819671285926242E-4,"National death rate calcuated from population size and average number of deaths for 2005-2009 inclusive (supplied by ISD Scotland)",null,"LE calculated within spreadsheet using the Chiang method",null,89]
["Female 20-24",204286,19142,1103,2063,12671,8264,7448,82959,4473,30662,20853,0,0,14648,0,6197,1099,1770,1231,2448,2063,11128,6508,825,878,1178,13130,0,3961,12671,58517,3242,6333,1795,152,8983,19675,0,1750,9353,1103,0,3651,10987,1855,6753,5050,5.083808071292931E-4,"National death rate calcuated from population size and average number of deaths for 2005-2009 inclusive (supplied by ISD Scotland)",null,"LE calculated within spreadsheet using the Chiang method",null,90]
["Female 25-29",203207,16807,976,2071,11488,7959,7153,85378,4685,30044,22357,0,0,14289,0,6115,893,1733,931,2268,2071,10625,5663,751,809,1031,14912,0,4152,11488,61554,3754,6051,1461,145,7884,18688,0,1931,9454,976,0,3260,11356,1539,6537,5175,7.1807977021447341E-4,"National death rate calcuated from population size and average number of deaths for 2005-2009 inclusive (supplied by ISD Scotland)",null,"LE calculated within spreadsheet using the Chiang method",null,91]
["Female 30-34",170841,14839,840,1661,10095,7345,5743,70058,4161,26305,18575,0,0,11219,0,4900,723,1494,1035,2179,1661,8365,5149,666,747,937,12117,0,3876,10095,50430,3126,4788,1366,120,7107,16288,0,1360,7833,840,0,2583,10017,1290,5404,4345,1.3012171924050929E-3,"National death rate calcuated from population size and average number of deaths for 2005-2009 inclusive (supplied by ISD Scotland)",null,"LE calculated within spreadsheet using the Chiang method",null,92]
["Female 35-39",184293,17844,1126,1868,11523,7866,5914,72881,4773,29912,19090,0,0,11496,0,4994,758,1580,1378,2440,1868,8501,6315,724,909,1148,11772,0,3773,11523,50935,3395,5746,1514,162,8548,19116,0,1415,8483,1126,0,2981,10796,1653,5845,4895,1.8920600317742689E-3,"National death rate calcuated from population size and average number of deaths for 2005-2009 inclusive (supplied by ISD Scotland)",null,"LE calculated within spreadsheet using the Chiang method",null,93]
["Female 40-44",202466,20386,1245,2140,13003,8667,5781,81434,5062,32476,19495,0,0,12777,0,4842,772,1897,1407,2563,2140,9508,7263,895,945,1390,11643,0,4200,13003,55891,3655,7009,1693,167,9823,20957,0,1372,9342,1245,0,3300,11519,1904,6907,5214,2.5314072841120753E-3,"National death rate calcuated from population size and average number of deaths for 2005-2009 inclusive (supplied by ISD Scotland)",null,"LE calculated within spreadsheet using the Chiang method",null,94]
["Female 45-49",196805,19906,992,2024,12107,8155,5559,80166,4678,31734,18498,0,0,12986,0,4588,773,1798,1355,2457,2024,9930,6824,880,952,1344,10960,0,3969,12107,55354,3323,6854,1697,198,9824,20230,0,1258,9213,992,0,3258,11504,1729,6521,4889,4.0045090987170535E-3,"National death rate calcuated from population size and average number of deaths for 2005-2009 inclusive (supplied by ISD Scotland)",null,"LE calculated within spreadsheet using the Chiang method",null,95]
["Female 50-54",172244,17742,942,1807,10471,7074,5068,68340,4359,29121,16121,0,0,11199,0,4188,705,1572,1283,2159,1807,8378,5938,838,881,1032,9508,0,3326,10471,46903,3076,6135,1453,175,8708,18242,0,1249,7598,942,0,3096,10879,1589,5834,4279,5.9880616959451368E-3,"National death rate calcuated from population size and average number of deaths for 2005-2009 inclusive (supplied by ISD Scotland)",null,"LE calculated within spreadsheet using the Chiang method",null,96]
["Female 55-59",148521,15815,973,1614,9399,6602,4326,56557,3915,25913,13376,0,0,10031,0,3628,527,1396,1189,2029,1614,7419,5282,586,744,938,7702,0,3211,9399,38059,2726,5446,1223,171,7830,16191,0,1216,6557,973,0,2703,9722,1362,4971,3707,9.6664369959064567E-3,"National death rate calcuated from population size and average number of deaths for 2005-2009 inclusive (supplied by ISD Scotland)",null,"LE calculated within spreadsheet using the Chiang method",null,97]
["Female 60-64",144406,15707,970,1635,9829,6187,3840,54072,3835,25191,13260,0,0,9880,0,3193,488,1354,1214,1916,1635,7487,5406,537,581,848,7678,0,3059,9829,36056,2621,5414,1214,159,7802,15536,0,1039,6608,970,0,2499,9655,1212,4609,3787,1.4360888993414865E-2,"National death rate calcuated from population size and average number of deaths for 2005-2009 inclusive (supplied by ISD Scotland)",null,"LE calculated within spreadsheet using the Chiang method",null,98]
["Female 65-69",126534,13882,770,1479,8455,5481,3097,49742,3087,21940,10706,0,0,7895,0,2557,345,1107,993,1557,1479,5928,4750,427,398,739,6143,0,2935,8455,33618,2094,4866,910,195,6763,13569,0,860,6133,770,0,2369,8371,989,3959,3255,2.1763388502625807E-2,"National death rate calcuated from population size and average number of deaths for 2005-2009 inclusive (supplied by ISD Scotland)",null,"LE calculated within spreadsheet using the Chiang method",null,99]
["Female 70-74",121724,12673,587,1272,7460,5295,3111,49833,2969,20295,10336,0,0,7893,0,2590,378,1108,961,1269,1272,6025,4486,326,435,709,6052,0,3029,7460,33982,2008,4817,858,143,6040,12798,0,760,6365,587,0,2147,7497,997,3634,2991,3.2162780364988729E-2,"National death rate calcuated from population size and average number of deaths for 2005-2009 inclusive (supplied by ISD Scotland)",null,"LE calculated within spreadsheet using the Chiang method",null,100]
["Female 75-79",105266,10515,555,1070,6432,4227,3064,44649,2609,16387,8769,0,0,6989,0,2545,401,995,888,992,1070,5322,3726,314,332,534,5437,0,2465,6432,30680,1721,4342,737,118,4872,10291,0,672,5369,555,0,1917,6096,770,3410,2263,4.9069240618536389E-2,"National death rate calcuated from population size and average number of deaths for 2005-2009 inclusive (supplied by ISD Scotland)",null,"LE calculated within spreadsheet using the Chiang method",null,101]
["Female 80-84",74638,7338,429,725,5031,3090,2058,30940,2051,11500,6157,0,0,5319,0,1716,271,696,784,778,725,4082,2552,322,237,390,3855,0,1743,5031,21108,1267,2841,594,71,3407,7198,0,541,3700,429,0,1379,4302,569,2579,1471,8.1111647472588103E-2,"National death rate calcuated from population size and average number of deaths for 2005-2009 inclusive (supplied by ISD Scotland)",null,"LE calculated within spreadsheet using the Chiang method",null,102]
["Female 85-89",45718,4607,227,368,3330,1849,1299,18996,1226,6441,3976,0,0,3399,0,1118,126,412,443,499,368,2653,1611,219,116,250,2670,0,978,3330,12850,783,1612,366,55,2142,4006,0,334,2335,227,0,854,2435,372,1730,824,0.15014568410829185,"National death rate calcuated from population size and average number of deaths for 2005-2009 inclusive (supplied by ISD Scotland)",null,"LE calculated within spreadsheet using the Chiang method",null,103]
["Female 90+",23370,2373,81,166,1724,987,621,9691,677,3349,1934,0,0,1767,0,543,60,192,230,282,166,1360,813,76,72,107,1334,0,500,1724,6670,447,792,180,18,947,2167,0,215,1223,81,0,613,1182,205,823,348,null,null,null,null,null,104]
["age/sex breakdown: Q2",null,null,null,null,null,null,null,null,null,null,null,null,null,null,null,null,null,null,null,null,null,null,null,null,null,null,null,null,null,null,null,null,null,null,null,null,null,null,null,null,null,null,null,null,null,null,null,null,null,null,null,null,105]
["Male <1",31272,2777,500,1000,2511,2052,2241,5802,1921,4925,5066,119,65,2009,284,1217,666,594,436,288,1000,841,1020,517,613,229,1921,284,1193,2511,3306,1485,337,863,358,839,2969,119,574,726,500,65,918,1956,571,687,1669,6.0561448121256743E-3,"National death rate calcuated from population size and average number of deaths for 2005-2009 inclusive (supplied by ISD Scotland)",null,"LE calculated within spreadsheet using the Chiang method",null,106]
["Male 1-4",116436,10794,1869,3838,9445,7780,7897,20833,7180,19626,18425,471,214,7013,1051,4044,2530,2199,1616,1128,3838,2775,4027,1966,2428,918,6485,1051,4543,9445,11023,5564,1269,3274,1323,3294,11700,471,2039,2847,1869,214,3473,7926,2109,2810,6238,2.3672949103159429E-4,"National death rate calcuated from population size and average number of deaths for 2005-2009 inclusive (supplied by ISD Scotland)",null,"LE calculated within spreadsheet using the Chiang method",null,107]
["Male 5-9",132379,13150,2166,4495,10596,9391,8234,23671,8268,22406,20067,452,208,7948,1327,4063,2719,2439,1982,1330,4495,3122,4900,2429,2613,1164,6654,1327,5504,10596,12042,6286,1489,3732,1452,3848,12984,452,2387,3422,2166,208,4402,9422,2557,3125,7068,8.9337561977933619E-5,"National death rate calcuated from population size and average number of deaths for 2005-2009 inclusive (supplied by ISD Scotland)",null,"LE calculated within spreadsheet using the Chiang method",null,108]
["Male 10-14",144032,14711,2175,5100,11569,10014,8985,25639,8854,24088,21760,729,182,8543,1683,4430,2969,2559,2212,1296,5100,3542,5499,2698,2928,1277,7058,1683,6137,11569,12498,6642,1841,4094,1586,4400,13800,729,2442,3651,2175,182,4812,10288,2581,3674,7680,1.0116269659284038E-4,"National death rate calcuated from population size and average number of deaths for 2005-2009 inclusive (supplied by ISD Scotland)",null,"LE calculated within spreadsheet using the Chiang method",null,109]
["Male 15-19",164145,16514,2507,5204,12971,11191,10395,31616,9488,26137,25112,673,257,10318,1762,5526,3235,2875,2207,1347,5204,4403,6178,3116,3210,1256,9526,1762,6850,12971,16698,7281,2037,4475,1634,5197,14705,673,3040,4209,2507,257,5139,11432,2994,4300,7901,7.5952289809633178E-4,"National death rate calcuated from population size and average number of deaths for 2005-2009 inclusive (supplied by ISD Scotland)",null,"LE calculated within spreadsheet using the Chiang method",null,110]
["Male 20-24",186609,15952,2515,4678,12777,11370,14115,41604,8918,26610,31204,534,236,14696,1400,9131,3138,2779,2152,1362,4678,7847,5987,2879,3023,1288,15807,1400,6370,12777,26037,6766,2310,4251,1846,4727,15131,534,4070,4648,2515,236,5238,11479,3638,4442,8123,1.142844337878567E-3,"National death rate calcuated from population size and average number of deaths for 2005-2009 inclusive (supplied by ISD Scotland)",null,"LE calculated within spreadsheet using the Chiang method",null,111]
["Male 25-29",188045,14119,2517,4050,12568,10570,15560,44598,8441,26271,32137,579,242,15120,1273,10634,3236,2879,2078,1197,4050,8167,5461,2769,2416,1046,18530,1273,6495,12568,30215,6363,2076,3417,1690,4030,15388,579,4074,4468,2517,242,4628,10883,2878,4024,7774,1.3542260316098927E-3,"National death rate calcuated from population size and average number of deaths for 2005-2009 inclusive (supplied by ISD Scotland)",null,"LE calculated within spreadsheet using the Chiang method",null,112]
["Male 30-34",165793,12599,2420,3997,11213,10119,12343,39165,8321,23723,28274,580,236,11414,1389,8015,2800,2651,2037,1229,3997,5211,4964,2301,2367,959,15423,1389,6497,11213,26967,6284,1841,3200,1528,3464,13914,580,3552,3743,2420,236,4171,9809,2393,3354,7284,1.8834825962515003E-3,"National death rate calcuated from population size and average number of deaths for 2005-2009 inclusive (supplied by ISD Scotland)",null,"LE calculated within spreadsheet using the Chiang method",null,113]
["Male 35-39",171182,15672,2622,4878,12277,11399,11062,35860,8883,27371,28567,625,173,9992,1801,6298,3106,3106,2399,1627,4878,4003,6066,2562,3102,1132,13346,1801,6850,12277,22357,6484,1818,3776,1658,4477,15645,625,2883,4342,2622,173,5129,11726,2922,3649,8343,2.3115702853008999E-3,"National death rate calcuated from population size and average number of deaths for 2005-2009 inclusive (supplied by ISD Scotland)",null,"LE calculated within spreadsheet using the Chiang method",null,114]
["Male 40-44",185043,18335,3353,5871,14753,12717,11622,35999,10243,29590,28612,786,257,10673,2232,6123,3467,3175,2664,1853,5871,4338,6927,2919,3591,1388,11692,2232,7588,14753,20270,7579,2167,4326,2032,5293,16468,786,3160,4796,3353,257,6115,13122,3276,4459,9003,3.3468609031673917E-3,"National death rate calcuated from population size and average number of deaths for 2005-2009 inclusive (supplied by ISD Scotland)",null,"LE calculated within spreadsheet using the Chiang method",null,115]
["Male 45-49",182687,18103,3094,6106,13986,12313,11548,35450,10969,29629,27257,733,283,10918,2298,6341,3292,3280,2715,1597,6106,4463,6837,3361,3545,1584,10698,2298,7385,13986,19085,8254,2244,4560,1915,5235,16250,733,3175,4694,3094,283,6031,13379,3331,4482,8454,4.4750763898390115E-3,"National death rate calcuated from population size and average number of deaths for 2005-2009 inclusive (supplied by ISD Scotland)",null,"LE calculated within spreadsheet using the Chiang method",null,116]
["Male 50-54",165669,16364,3057,5621,13042,10724,11353,30791,10588,27038,24089,762,199,9895,2146,6238,3279,2967,2670,1368,5621,4133,5978,2848,3210,1487,9329,2146,6682,13042,16282,7918,1975,4225,1836,4872,14688,762,2795,3972,3057,199,5514,12350,2674,4227,7325,7.2939973150930124E-3,"National death rate calcuated from population size and average number of deaths for 2005-2009 inclusive (supplied by ISD Scotland)",null,"LE calculated within spreadsheet using the Chiang method",null,117]
["Male 55-59",152444,16031,2793,5671,12308,10170,10531,25841,10144,24882,21652,781,235,9166,2239,5585,3227,2968,2416,1418,5671,3719,6130,2294,2728,1240,8275,2239,6484,12308,12795,7728,1963,3867,1719,4598,13404,781,2479,3619,2793,235,5303,11478,2268,3930,6782,1.100690921077294E-2,"National death rate calcuated from population size and average number of deaths for 2005-2009 inclusive (supplied by ISD Scotland)",null,"LE calculated within spreadsheet using the Chiang method",null,118]
["Male 60-64",150760,16763,2897,6049,12418,10205,9924,24269,10114,24176,21225,835,212,9382,2291,4880,3495,2857,2485,1551,6049,4148,6232,2280,2868,1088,7511,2291,6408,12418,11322,7629,1834,3868,1549,4859,13242,835,2377,3765,2897,212,5672,10934,2246,3980,6978,1.6729692721377538E-2,"National death rate calcuated from population size and average number of deaths for 2005-2009 inclusive (supplied by ISD Scotland)",null,"LE calculated within spreadsheet using the Chiang method",null,119]
["Male 65-69",120137,13216,2144,5130,9751,8142,7696,19511,8099,19964,16508,694,168,7415,1699,3678,2634,2237,2164,1101,5130,3474,4798,1865,2386,831,5660,1699,5244,9751,8835,5935,1339,3198,1384,3655,11179,694,1704,3480,2144,168,4763,8785,1797,3161,5264,2.6436067443463756E-2,"National death rate calcuated from population size and average number of deaths for 2005-2009 inclusive (supplied by ISD Scotland)",null,"LE calculated within spreadsheet using the Chiang method",null,120]
["Male 70-74",101827,11211,1992,4238,8207,6684,7091,16887,6184,16107,14520,579,96,6547,1484,3592,2364,1928,1600,969,4238,3189,4156,1788,2290,775,5323,1484,4136,8207,7863,4584,1096,2617,1135,3181,8730,579,1430,2969,1992,96,3874,7377,1579,2396,4290,4.1069856765623754E-2,"National death rate calcuated from population size and average number of deaths for 2005-2009 inclusive (supplied by ISD Scotland)",null,"LE calculated within spreadsheet using the Chiang method",null,121]
["Male 75-79",76621,8542,1645,3066,6082,5003,5724,12722,4449,11975,10941,291,71,4960,1150,3007,1849,1476,1266,714,3066,2445,3186,1256,1904,593,4169,1150,3080,6082,6255,3183,795,1819,868,2340,6398,291,1039,2161,1645,71,3016,5577,1209,1662,3049,6.6036602458852262E-2,"National death rate calcuated from population size and average number of deaths for 2005-2009 inclusive (supplied by ISD Scotland)",null,"LE calculated within spreadsheet using the Chiang method",null,122]
["Male 80-84",48275,5055,1178,1780,3998,2997,3420,8163,2813,7616,6867,247,54,3414,673,1800,1109,1063,788,416,1780,1584,1941,884,1130,344,2838,673,1894,3998,4172,2025,489,1236,511,1183,3979,247,767,1260,1178,54,1931,3637,687,1014,1663,0.1025071405902888,"National death rate calcuated from population size and average number of deaths for 2005-2009 inclusive (supplied by ISD Scotland)",null,"LE calculated within spreadsheet using the Chiang method",null,123]
["Male 85-89",23980,2579,606,939,1861,1533,1791,3958,1390,3444,3408,154,22,1967,328,993,547,660,383,172,939,851,904,476,573,179,1546,328,1054,1861,2077,1007,199,557,251,635,1652,154,456,573,606,22,1040,1792,307,454,732,0.17940501888828925,"National death rate calcuated from population size and average number of deaths for 2005-2009 inclusive (supplied by ISD Scotland)",null,"LE calculated within spreadsheet using the Chiang method",null,124]
["Male 90+",8132,897,137,313,721,485,593,1179,474,1262,1175,35,11,727,123,312,186,229,170,35,313,330,290,160,161,38,565,123,315,721,594,304,63,192,95,195,551,35,168,176,137,11,412,711,135,148,257,null,null,null,null,null,125]
["Female <1",30074,2731,496,981,2301,2077,2204,5434,1713,4794,4877,114,39,2064,249,1220,628,669,419,271,981,809,1071,438,569,214,1955,249,1270,2301,3019,1294,322,800,356,786,2850,114,586,771,496,39,874,1944,536,670,1553,4.3626640396861698E-3,"National death rate calcuated from population size and average number of deaths for 2005-2009 inclusive (supplied by ISD Scotland)",null,"LE calculated within spreadsheet using the Chiang method",null,126]
["Female 1-4",110650,10427,1856,3689,8710,7630,7577,19728,6687,18527,17205,415,135,6968,1096,4094,2170,2315,1642,931,3689,2705,3896,1690,2184,847,6220,1096,4691,8710,10619,5045,1179,2907,1313,3257,11090,415,1948,2826,1856,135,3274,7437,2008,2567,5894,2.0952979608941208E-4,"National death rate calcuated from population size and average number of deaths for 2005-2009 inclusive (supplied by ISD Scotland)",null,"LE calculated within spreadsheet using the Chiang method",null,127]
["Female 5-9",126577,12668,1836,4157,10289,8714,8011,22516,7760,21447,19236,585,169,7828,1361,4114,2583,2581,1846,1169,4157,3052,4885,2102,2563,1010,5989,1361,5194,10289,11483,5914,1412,3555,1314,3988,12506,585,2195,3473,1836,169,3795,8941,2351,3036,7129,1.4806156243911943E-4,"National death rate calcuated from population size and average number of deaths for 2005-2009 inclusive (supplied by ISD Scotland)",null,"LE calculated within spreadsheet using the Chiang method",null,128]
["Female 10-14",137431,14255,2136,4888,11289,9776,7935,24021,8466,23454,20620,589,179,8119,1704,3827,2734,2684,2155,1367,4888,3072,5190,2369,2865,1372,6243,1704,5854,11289,11904,6311,1638,3996,1374,4507,13360,589,2363,3370,2136,179,4558,10094,2555,3368,7516,1.4037057832678272E-4,"National death rate calcuated from population size and average number of deaths for 2005-2009 inclusive (supplied by ISD Scotland)",null,"LE calculated within spreadsheet using the Chiang method",null,129]
["Female 15-19",158191,15696,2458,5077,12593,11107,10418,29953,8847,24267,24740,683,203,10590,1559,5322,3356,3085,2304,1410,5077,4971,6047,2688,3260,1355,9867,1559,6634,12593,16480,6543,1837,4283,1740,4610,13373,683,2534,3823,2458,203,5039,10894,3063,3770,7330,3.1382985400635192E-4,"National death rate calcuated from population size and average number of deaths for 2005-2009 inclusive (supplied by ISD Scotland)",null,"LE calculated within spreadsheet using the Chiang method",null,130]
["Female 20-24",185087,15585,2763,4593,13369,11733,15145,38697,7979,25784,32404,491,242,15215,1087,10311,3149,3036,2162,1360,4593,8777,5889,2782,3024,1298,17280,1087,6618,13369,24050,5817,2011,4097,1685,4589,14874,491,3402,4415,2763,242,5107,10910,3755,4141,8003,3.7582349560065438E-4,"National death rate calcuated from population size and average number of deaths for 2005-2009 inclusive (supplied by ISD Scotland)",null,"LE calculated within spreadsheet using the Chiang method",null,131]
["Female 25-29",186058,14818,2361,4543,12518,11073,13910,41532,8306,26849,34292,555,217,13892,1192,9370,3037,3132,1944,1376,4543,7266,5717,2611,2768,1130,19915,1192,6557,12518,27438,6362,1861,3821,1503,4361,15549,555,3494,4494,2361,217,4740,11300,3140,3998,7788,3.6025488032783196E-4,"National death rate calcuated from population size and average number of deaths for 2005-2009 inclusive (supplied by ISD Scotland)",null,"LE calculated within spreadsheet using the Chiang method",null,132]
["Female 30-34",163784,14239,2210,4421,11588,11058,10418,35400,8347,25321,28381,583,331,10039,1448,5989,2871,2675,1983,1328,4421,4676,5325,2456,2829,1054,14135,1448,6626,11588,22656,6364,1670,3874,1558,4275,14971,583,2688,3991,2210,331,4639,10350,3104,3573,7543,7.2237229489786631E-4,"National death rate calcuated from population size and average number of deaths for 2005-2009 inclusive (supplied by ISD Scotland)",null,"LE calculated within spreadsheet using the Chiang method",null,133]
["Female 35-39",180460,17585,2819,5577,13438,12584,11578,34501,10007,29901,29304,727,245,10454,1740,6344,3348,3255,2455,1661,5577,4214,6646,3165,3332,1347,12112,1740,7315,13438,19101,7552,2006,4498,1886,5396,17156,727,2985,4707,2819,245,5543,12745,3608,4175,9362,1.02781929258764E-3,"National death rate calcuated from population size and average number of deaths for 2005-2009 inclusive (supplied by ISD Scotland)",null,"LE calculated within spreadsheet using the Chiang method",null,134]
["Female 40-44",199405,20857,3157,6606,15695,14069,12135,37599,11575,33040,30518,724,228,11141,2061,6278,3774,3257,2714,1985,6606,4773,7979,3613,3979,1750,11326,2061,8274,15695,19170,8861,2336,5272,2083,6339,18494,724,3111,5563,3157,228,6539,14546,3810,5167,9941,1.6632618913235667E-3,"National death rate calcuated from population size and average number of deaths for 2005-2009 inclusive (supplied by ISD Scotland)",null,"LE calculated within spreadsheet using the Chiang method",null,135]
["Female 45-49",195652,20081,3068,6555,15331,13373,12287,37869,11712,32015,28648,788,237,11487,2201,6864,3568,3358,2860,1744,6555,4971,7387,3666,3898,1818,10469,2201,8170,15331,18967,8852,2675,5179,1855,6001,17704,788,3158,5439,3068,237,6693,14311,3459,5304,9102,2.6937322622540769E-3,"National death rate calcuated from population size and average number of deaths for 2005-2009 inclusive (supplied by ISD Scotland)",null,"LE calculated within spreadsheet using the Chiang method",null,136]
["Female 50-54",176250,18002,3003,6190,14121,11326,11440,32911,10722,29629,25504,803,236,10371,1992,6046,3358,3223,2635,1478,6190,4415,6567,3228,3426,1468,9059,1992,7102,14121,16637,8087,2210,4727,2036,5368,16167,803,2733,4476,3003,236,6067,13462,2746,4892,8292,4.4989456532157574E-3,"National death rate calcuated from population size and average number of deaths for 2005-2009 inclusive (supplied by ISD Scotland)",null,"LE calculated within spreadsheet using the Chiang method",null,137]
["Female 55-59",161590,16969,2761,5985,13349,10770,10974,27100,10699,27071,23262,735,254,9601,2060,5408,3576,2865,2596,1449,5985,4076,6042,2514,3119,1310,8083,2060,6953,13349,12630,8103,2082,4439,1990,5207,14880,735,2660,4174,2761,254,5720,12191,2368,4390,7621,6.4236693609882566E-3,"National death rate calcuated from population size and average number of deaths for 2005-2009 inclusive (supplied by ISD Scotland)",null,"LE calculated within spreadsheet using the Chiang method",null,138]
["Female 60-64",162769,18034,3122,6245,13462,11209,10996,26495,10340,26542,23480,820,211,9679,2134,5401,3778,2918,2730,1780,6245,4281,6589,2694,3084,1210,8228,2134,6962,13462,11736,7610,2019,4449,1817,5382,14848,820,2480,4401,3122,211,6063,11694,2467,4435,7719,1.0521629248426994E-2,"National death rate calcuated from population size and average number of deaths for 2005-2009 inclusive (supplied by ISD Scotland)",null,"LE calculated within spreadsheet using the Chiang method",null,139]
["Female 65-69",138177,15319,2685,5488,10947,9589,8792,22853,8772,23498,19055,737,163,8424,1855,4235,2970,2555,2335,1299,5488,3930,5572,2428,2803,1108,6623,1855,6043,10947,10185,6437,1610,3406,1587,4525,13281,737,1939,4001,2685,163,5222,10217,2247,3521,6223,1.6824723702746271E-2,"National death rate calcuated from population size and average number of deaths for 2005-2009 inclusive (supplied by ISD Scotland)",null,"LE calculated within spreadsheet using the Chiang method",null,140]
["Female 70-74",127643,13719,2350,4694,9638,8357,8598,23114,7761,20963,17746,588,118,8205,1792,4513,2626,2444,2288,1201,4694,3966,5171,2251,2825,1161,6750,1792,5165,9638,10979,5473,1486,3072,1459,3903,11617,588,1795,4012,2350,118,4645,9346,1991,3225,5099,2.5172437764063426E-2,"National death rate calcuated from population size and average number of deaths for 2005-2009 inclusive (supplied by ISD Scotland)",null,"LE calculated within spreadsheet using the Chiang method",null,141]
["Female 75-79",111446,11905,2227,4156,8591,6775,7999,21038,6163,17722,15431,480,107,7302,1550,4460,2125,2337,1694,828,4156,3385,4437,2023,2406,1032,6233,1550,4236,8591,10519,4469,1180,2837,1414,3190,9210,480,1580,3396,2227,107,4278,8512,1711,2888,3955,4.4394997039137227E-2,"National death rate calcuated from population size and average number of deaths for 2005-2009 inclusive (supplied by ISD Scotland)",null,"LE calculated within spreadsheet using the Chiang method",null,142]
["Female 80-84",82955,8282,1703,3006,6555,4817,6083,15064,4732,13275,11512,344,98,6276,1208,3340,1644,2040,1266,601,3006,2714,2981,1551,1893,654,5163,1208,3140,6555,7812,3466,867,1801,1099,2093,6506,344,1522,2174,1703,98,3208,6769,1076,2006,2655,7.3692721090053023E-2,"National death rate calcuated from population size and average number of deaths for 2005-2009 inclusive (supplied by ISD Scotland)",null,"LE calculated within spreadsheet using the Chiang method",null,143]
["Female 85-89",52017,5574,1122,1915,4181,3240,3666,8938,2926,7737,7170,210,95,4284,959,1978,1073,1367,845,446,1915,1822,1993,947,1152,373,3248,959,2103,4181,4895,2081,582,1193,615,1489,3668,210,1095,1076,1122,95,2092,4069,691,1065,1577,0.15636309216075753,"National death rate calcuated from population size and average number of deaths for 2005-2009 inclusive (supplied by ISD Scotland)",null,"LE calculated within spreadsheet using the Chiang method",null,144]
["Female 90+",24908,2761,470,1085,2215,1374,1763,4365,1468,3551,3329,150,57,1827,493,816,652,635,485,137,1085,744,923,433,499,182,1292,493,919,2215,2421,983,278,670,295,695,1689,150,448,418,470,57,1143,1862,318,633,868,null,null,null,null,null,145]
["age/sex breakdown: Q3",null,null,null,null,null,null,null,null,null,null,null,null,null,null,null,null,null,null,null,null,null,null,null,null,null,null,null,null,null,null,null,null,null,null,null,null,null,null,null,null,null,null,null,null,null,null,null,null,null,null,null,null,146]
["Male <1",28766,1369,863,1398,2039,1545,3400,4219,2422,4103,4863,89,269,1804,383,941,1414,643,718,342,1398,476,345,234,788,184,2176,383,873,2039,2043,1704,238,441,1045,480,1886,89,685,1055,863,269,544,2217,330,465,1458,4.4682097861119246E-3,"National death rate calcuated from population size and average number of deaths for 2005-2009 inclusive (supplied by ISD Scotland)",null,"LE calculated within spreadsheet using the Chiang method",null,147]
["Male 1-4",109815,5570,3554,5530,7985,6335,12829,15275,9794,15843,16953,372,1011,7125,1639,3037,5692,2664,3109,1349,5530,1788,1435,884,2813,717,6859,1639,3566,7985,6926,6685,1001,1811,4100,2037,7497,372,2673,3942,3554,1011,2098,8346,1420,1805,5470,2.4109398808031324E-4,"National death rate calcuated from population size and average number of deaths for 2005-2009 inclusive (supplied by ISD Scotland)",null,"LE calculated within spreadsheet using the Chiang method",null,148]
["Male 5-9",131075,7316,4530,6934,9774,7254,15127,17466,13113,19469,17663,420,1315,8664,2030,3660,6746,3402,4232,1608,6934,1756,2008,1154,3106,967,6579,2030,4005,9774,7209,8881,1327,2194,4721,2426,9154,420,3506,4716,4530,1315,2882,10315,1641,2093,5784,1.7882822803579542E-4,"National death rate calcuated from population size and average number of deaths for 2005-2009 inclusive (supplied by ISD Scotland)",null,"LE calculated within spreadsheet using the Chiang method",null,149]
["Male 10-14",146678,8709,5152,8578,10116,7733,16717,19332,15980,21050,19106,559,1451,10014,2181,3479,7664,3845,5361,1875,8578,2001,2371,1264,3840,1127,6839,2181,4090,10116,7483,10619,1670,2360,5574,3070,9300,559,4168,5229,5152,1451,3268,11750,1768,2559,6067,1.5170403202933823E-4,"National death rate calcuated from population size and average number of deaths for 2005-2009 inclusive (supplied by ISD Scotland)",null,"LE calculated within spreadsheet using the Chiang method",null,150]
["Male 15-19",159461,9336,5394,8705,10690,8339,18610,23527,15851,21984,21081,562,1500,11568,2314,4916,7978,4136,5309,1901,8705,3015,2663,1286,4202,1261,7877,2314,4449,10690,10530,10542,1930,2687,5716,3195,9531,562,4417,5545,5394,1500,3478,12453,1989,2975,6315,6.7441730963179293E-4,"National death rate calcuated from population size and average number of deaths for 2005-2009 inclusive (supplied by ISD Scotland)",null,"LE calculated within spreadsheet using the Chiang method",null,151]
["Male 20-24",172572,8367,4135,6860,10627,9102,21033,31883,12751,20773,29829,605,1253,13511,1843,8951,7252,3706,4182,2261,6860,5816,2770,1234,4051,1178,17376,1843,3941,10627,19291,8569,1812,2303,4830,2547,9117,605,3989,5490,4135,1253,3050,11656,2900,2878,6099,8.8048622405928608E-4,"National death rate calcuated from population size and average number of deaths for 2005-2009 inclusive (supplied by ISD Scotland)",null,"LE calculated within spreadsheet using the Chiang method",null,152]
["Male 25-29",173497,6674,3777,5475,10231,9114,20290,35350,11999,20984,35693,482,1154,10742,1532,9764,6333,3094,3584,2342,5475,3910,2084,1200,2964,839,24804,1532,4533,10231,23468,8415,1465,2057,4193,2049,9505,482,3738,5563,3777,1154,2541,11479,2239,2815,5868,9.9650295546684E-4,"National death rate calcuated from population size and average number of deaths for 2005-2009 inclusive (supplied by ISD Scotland)",null,"LE calculated within spreadsheet using the Chiang method",null,153]
["Male 30-34",160910,6641,3947,5608,9882,8211,18299,29485,12046,20640,33887,499,1247,8670,1848,7580,6264,3070,3556,2112,5608,2624,2152,1009,3011,763,22153,1848,4518,9882,19145,8490,1154,2059,4455,2051,9945,499,2976,4961,3947,1247,2438,10695,1581,2453,6664,1.1979843438024911E-3,"National death rate calcuated from population size and average number of deaths for 2005-2009 inclusive (supplied by ISD Scotland)",null,"LE calculated within spreadsheet using the Chiang method",null,154]
["Male 35-39",176562,9076,5296,7814,12412,9666,19857,28245,14758,23822,31065,586,1416,10173,2376,6054,8138,3908,4797,2307,7814,2601,2695,1351,4084,987,16384,2376,5191,12412,15446,9961,1483,2517,5665,3107,11408,586,3664,6012,5296,1416,3274,12414,2168,2966,8080,1.6348014386252658E-3,"National death rate calcuated from population size and average number of deaths for 2005-2009 inclusive (supplied by ISD Scotland)",null,"LE calculated within spreadsheet using the Chiang method",null,155]
["Male 40-44",197583,11220,6635,9980,13900,10723,22524,29065,19346,27886,29078,768,1611,12095,2752,6000,9662,4464,6314,2724,9980,2656,3427,1669,4536,1238,13136,2752,5731,13900,13374,13032,2176,2991,6862,3764,12885,768,4975,7068,6635,1611,4029,15001,2268,3540,8415,2.0985150126461823E-3,"National death rate calcuated from population size and average number of deaths for 2005-2009 inclusive (supplied by ISD Scotland)",null,"LE calculated within spreadsheet using the Chiang method",null,156]
["Male 45-49",194828,11355,6857,10934,13609,10513,21420,28669,20458,26583,26211,911,1810,12684,2814,5477,9214,4768,6701,2795,10934,2756,3077,1494,4495,1400,11095,2814,5489,13609,12777,13757,2460,3009,6729,3886,11725,911,5160,6785,6857,1810,4392,14858,2229,3753,7612,3.1664640270656023E-3,"National death rate calcuated from population size and average number of deaths for 2005-2009 inclusive (supplied by ISD Scotland)",null,"LE calculated within spreadsheet using the Chiang method",null,157]
["Male 50-54",175613,10443,6060,10177,12405,9094,19731,24294,19887,23155,23158,854,1683,11868,2804,4930,9061,4444,6468,2085,10177,2623,2864,1324,4248,1337,9813,2804,5018,12405,10665,13419,2052,2909,5740,3641,9847,854,4801,5547,6060,1683,3938,13308,1991,3369,6188,5.1463833996749659E-3,"National death rate calcuated from population size and average number of deaths for 2005-2009 inclusive (supplied by ISD Scotland)",null,"LE calculated within spreadsheet using the Chiang method",null,158]
["Male 55-59",162440,9904,6059,10495,11247,8346,19124,20797,20256,20110,20041,782,1747,10820,2712,4943,8969,4234,6540,1895,10495,2102,2590,1222,3650,1139,8031,2712,4549,11247,8858,13716,1550,2955,5212,3447,8661,782,4484,5042,6059,1747,3867,11449,1902,2986,5405,7.7142010080047431E-3,"National death rate calcuated from population size and average number of deaths for 2005-2009 inclusive (supplied by ISD Scotland)",null,"LE calculated within spreadsheet using the Chiang method",null,159]
["Male 60-64",161710,10384,6603,11478,11972,8335,19480,18839,20878,18519,18638,794,1753,11232,2805,4874,9197,4474,7284,1847,11478,2085,2677,1114,3360,997,7284,2805,4536,11972,7278,13594,1524,2921,5409,3796,8279,794,4673,5098,6603,1753,3911,10240,1952,2828,5073,1.3107909011026765E-2,"National death rate calcuated from population size and average number of deaths for 2005-2009 inclusive (supplied by ISD Scotland)",null,"LE calculated within spreadsheet using the Chiang method",null,160]
["Male 65-69",125415,8336,5189,9425,9343,6334,14906,13580,16924,14570,13743,720,1315,8851,2179,3519,6950,3438,6273,1286,9425,1610,2176,742,2790,866,4963,2179,3577,9343,5146,10651,1118,2057,4437,2976,6088,720,3803,3723,5189,1315,3184,8482,1471,1985,3933,2.0239849544481259E-2,"National death rate calcuated from population size and average number of deaths for 2005-2009 inclusive (supplied by ISD Scotland)",null,"LE calculated within spreadsheet using the Chiang method",null,161]
["Male 70-74",102564,6660,4053,7896,7471,5242,12586,11442,13122,12029,11462,476,1021,7325,1779,3374,5478,2691,5057,982,7896,1428,1708,642,2251,859,4262,1779,3039,7471,4047,8065,980,1739,3734,2412,4859,476,3206,3124,4053,1021,2540,7170,1221,1790,3210,3.3849414257961966E-2,"National death rate calcuated from population size and average number of deaths for 2005-2009 inclusive (supplied by ISD Scotland)",null,"LE calculated within spreadsheet using the Chiang method",null,162]
["Male 75-79",76406,4475,3105,5935,5461,3600,9457,9039,9654,8842,8616,328,681,6013,1200,2691,4062,2011,3434,727,5935,1248,1011,537,1851,678,3394,1200,1965,5461,3117,6220,699,1400,2704,1747,3694,328,2754,2530,3105,681,1717,5148,908,1478,1971,5.7181139021221308E-2,"National death rate calcuated from population size and average number of deaths for 2005-2009 inclusive (supplied by ISD Scotland)",null,"LE calculated within spreadsheet using the Chiang method",null,163]
["Male 80-84",47593,2697,1957,3621,3458,2183,5964,5549,5938,5560,5361,198,441,3809,857,1633,2736,1311,2186,404,3621,899,609,244,1241,409,2234,857,1208,3458,1820,3752,472,811,1595,939,2140,198,1599,1827,1957,441,1149,3420,571,777,1075,9.7975221694973483E-2,"National death rate calcuated from population size and average number of deaths for 2005-2009 inclusive (supplied by ISD Scotland)",null,"LE calculated within spreadsheet using the Chiang method",null,164]
["Male 85-89",23854,1251,982,1797,1675,1096,3003,2848,2809,2636,2888,114,227,2114,414,796,1423,665,1030,205,1797,613,267,130,657,190,1398,414,600,1675,924,1779,192,364,784,443,964,114,836,1067,982,227,541,1672,291,345,469,0.17718641347954001,"National death rate calcuated from population size and average number of deaths for 2005-2009 inclusive (supplied by ISD Scotland)",null,"LE calculated within spreadsheet using the Chiang method",null,165]
["Male 90+",8713,448,331,687,720,405,1096,1075,979,879,1010,35,74,878,96,239,520,281,408,67,687,208,107,58,277,46,433,96,221,720,323,571,73,150,337,178,300,35,389,448,331,74,163,579,117,127,150,null,null,null,null,null,166]
["Female <1",27728,1269,874,1325,2019,1499,3254,4173,2313,4041,4614,92,238,1687,330,931,1368,602,717,350,1325,448,324,244,674,173,2125,330,840,2019,2089,1596,252,441,955,484,1873,92,637,941,874,238,461,2168,309,474,1374,3.2833199709846137E-3,"National death rate calcuated from population size and average number of deaths for 2005-2009 inclusive (supplied by ISD Scotland)",null,"LE calculated within spreadsheet using the Chiang method",null,167]
["Female 1-4",104708,5086,3177,5588,7735,5995,12138,14772,9367,15450,16092,406,938,6491,1473,3131,5350,2521,2948,1341,5588,1509,1309,894,2540,732,6526,1473,3317,7735,6668,6419,1028,1856,3657,1792,7258,406,2461,3676,3177,938,1985,8192,1337,1774,5170,1.9078029139179241E-4,"National death rate calcuated from population size and average number of deaths for 2005-2009 inclusive (supplied by ISD Scotland)",null,"LE calculated within spreadsheet using the Chiang method",null,168]
["Female 5-9",126132,6997,4477,6784,9039,7039,14092,17347,12538,18512,17362,411,1200,8290,2044,3184,6524,3095,4148,1529,6784,1862,1773,1173,3051,919,6325,2044,3827,9039,7261,8390,1449,2253,4384,2494,8479,411,3333,4447,4477,1200,2730,10033,1683,2098,5733,6.9984447900466566E-5,"National death rate calcuated from population size and average number of deaths for 2005-2009 inclusive (supplied by ISD Scotland)",null,"LE calculated within spreadsheet using the Chiang method",null,169]
["Female 10-14",139583,7902,5016,7929,10024,7359,16003,18470,15017,19637,18658,550,1435,9366,2217,3247,7490,3539,5059,1775,7929,1939,1988,1282,3811,1049,6250,2217,3974,10024,7386,9958,1584,2586,5266,2731,8774,550,3888,4886,5016,1435,3183,10863,1610,2283,6011,1.2437295302848142E-4,"National death rate calcuated from population size and average number of deaths for 2005-2009 inclusive (supplied by ISD Scotland)",null,"LE calculated within spreadsheet using the Chiang method",null,170]
["Female 15-19",151944,8357,4922,7846,10307,8410,18338,23117,14346,19959,21425,618,1386,10856,2057,5411,7660,3532,4763,1941,7846,3639,2229,1248,4698,1048,7960,2057,4150,10307,11401,9583,1657,2549,5267,2939,8723,618,3685,5220,4922,1386,3189,11236,2319,2543,6218,3.3697842677326634E-4,"National death rate calcuated from population size and average number of deaths for 2005-2009 inclusive (supplied by ISD Scotland)",null,"LE calculated within spreadsheet using the Chiang method",null,171]
["Female 20-24",167413,6810,3817,6318,10019,8837,20372,33544,10352,19218,32880,504,1016,12360,1366,10023,6278,2994,3352,1478,6318,5895,1839,1307,4163,974,20789,1366,4013,10019,22038,7000,1581,2181,4071,2341,8438,504,3471,5064,3817,1016,2630,10780,3346,2580,5747,3.3007699680713982E-4,"National death rate calcuated from population size and average number of deaths for 2005-2009 inclusive (supplied by ISD Scotland)",null,"LE calculated within spreadsheet using the Chiang method",null,172]
["Female 25-29",169727,5970,3804,5920,10171,8308,18697,34182,11155,20265,38151,485,984,10014,1621,8637,6041,3029,3230,1547,5920,3700,1530,1009,3058,833,26969,1621,4696,10171,22841,7925,1298,2247,4019,2151,9320,485,3285,5596,3804,984,2289,10945,2065,2605,5877,3.9815710141630168E-4,"National death rate calcuated from population size and average number of deaths for 2005-2009 inclusive (supplied by ISD Scotland)",null,"LE calculated within spreadsheet using the Chiang method",null,173]
["Female 30-34",159870,6918,4069,6295,10720,8453,16727,28106,12020,21093,32340,495,1355,9291,1988,5718,6622,3458,3625,1781,6295,2559,1890,1150,3356,912,20146,1988,4689,10720,16667,8395,1386,2264,4387,2409,9994,495,3274,5356,4069,1355,2619,11099,1983,2635,6574,5.0221034553311796E-4,"National death rate calcuated from population size and average number of deaths for 2005-2009 inclusive (supplied by ISD Scotland)",null,"LE calculated within spreadsheet using the Chiang method",null,174]
["Female 35-39",182846,9575,5677,8581,12887,10186,20104,28573,16118,25226,30047,586,1503,11335,2448,5314,8788,4210,5227,2211,8581,2762,2566,1608,4545,1154,14477,2448,5715,12887,14215,10891,1730,2894,6002,3349,11507,586,4363,6746,5677,1503,3660,13719,2260,3120,8131,9.0306575252884348E-4,"National death rate calcuated from population size and average number of deaths for 2005-2009 inclusive (supplied by ISD Scotland)",null,"LE calculated within spreadsheet using the Chiang method",null,175]
["Female 40-44",204996,11538,6829,10795,14410,11347,22209,30647,20494,28998,29208,810,1580,13190,2941,5743,9909,4896,6799,2785,10795,2832,3168,1747,5184,1462,12128,2941,6120,14410,13543,13695,2413,3467,6557,4046,12852,810,5462,7694,6829,1580,4324,16146,2442,3788,8429,1.3737190672206531E-3,"National death rate calcuated from population size and average number of deaths for 2005-2009 inclusive (supplied by ISD Scotland)",null,"LE calculated within spreadsheet using the Chiang method",null,176]
["Female 45-49",202729,12101,7100,11785,14240,10528,21798,29721,21194,27828,27298,810,1660,13886,2780,5595,9704,5260,7012,2440,11785,3018,3145,1660,4707,1539,11327,2780,5718,14240,13170,14182,2510,3541,6499,4222,12147,810,5608,6951,7100,1660,4734,15681,2370,3891,7723,2.1359715880263828E-3,"National death rate calcuated from population size and average number of deaths for 2005-2009 inclusive (supplied by ISD Scotland)",null,"LE calculated within spreadsheet using the Chiang method",null,177]
["Female 50-54",181789,11022,6426,10618,13033,9269,20042,25633,20753,24940,22893,762,1566,12114,2718,5289,9004,4578,6630,2102,10618,2646,2759,1538,4240,1387,9233,2718,5202,13033,11086,14123,2126,3223,5749,4006,10571,762,4890,5902,6426,1566,4257,14369,1965,3594,6197,3.4926512346380133E-3,"National death rate calcuated from population size and average number of deaths for 2005-2009 inclusive (supplied by ISD Scotland)",null,"LE calculated within spreadsheet using the Chiang method",null,178]
["Female 55-59",168767,10481,6196,10861,12124,8937,19754,21612,20408,21341,20730,788,1496,11388,2651,5168,9253,4445,6986,1923,10861,2355,2702,1404,3887,1238,8017,2651,4992,12124,8356,13422,1857,3095,5333,3662,9284,788,4588,5549,6196,1496,4117,12057,2022,3208,5731,5.3473473358237747E-3,"National death rate calcuated from population size and average number of deaths for 2005-2009 inclusive (supplied by ISD Scotland)",null,"LE calculated within spreadsheet using the Chiang method",null,179]
["Female 60-64",168891,10955,6744,11709,12823,8656,19658,20037,20902,20415,19951,793,1469,12220,2559,5033,8866,4694,7664,1830,11709,2349,2921,1299,3867,1239,7328,2559,4771,12823,7291,13238,1667,3171,5759,3917,8947,793,5177,5545,6744,1469,4117,11468,2055,2996,5585,8.3389986964467252E-3,"National death rate calcuated from population size and average number of deaths for 2005-2009 inclusive (supplied by ISD Scotland)",null,"LE calculated within spreadsheet using the Chiang method",null,180]
["Female 65-69",138124,9053,5322,10074,9943,7260,16016,15889,17181,17145,15929,762,1328,9898,2324,4061,7080,3690,6195,1412,10074,1858,2288,971,3229,1020,5813,2324,4077,9943,5619,10986,1391,2381,4875,3345,7165,762,4350,4497,5322,1328,3420,9980,1771,2391,4506,1.3253003260370091E-2,"National death rate calcuated from population size and average number of deaths for 2005-2009 inclusive (supplied by ISD Scotland)",null,"LE calculated within spreadsheet using the Chiang method",null,181]
["Female 70-74",120141,7261,4563,8371,8564,6202,14305,14967,14153,15233,14098,560,1054,8888,1922,4111,5998,3039,5263,1168,8371,2035,1783,734,2994,1059,5413,1922,3510,8564,5595,8890,1206,2116,4196,2627,6299,560,3814,4118,4563,1054,2851,8934,1524,2255,3575,2.236666029439878E-2,"National death rate calcuated from population size and average number of deaths for 2005-2009 inclusive (supplied by ISD Scotland)",null,"LE calculated within spreadsheet using the Chiang method",null,182]
["Female 75-79",100381,5851,3682,6671,6754,5018,12403,13075,11724,12777,11874,424,769,7769,1590,3853,5101,2455,4457,847,6671,1946,1343,648,2688,1009,4877,1590,2818,6754,4985,7267,1058,1797,3449,2175,5163,424,3368,3311,3682,769,2333,7614,1353,2064,2512,3.9151295866598497E-2,"National death rate calcuated from population size and average number of deaths for 2005-2009 inclusive (supplied by ISD Scotland)",null,"LE calculated within spreadsheet using the Chiang method",null,183]
["Female 80-84",75560,3997,2770,5125,5702,3713,9353,9675,8531,9108,9004,349,545,6403,1285,3028,4017,2044,3179,704,5125,1658,781,496,2061,742,3877,1285,2047,5702,3680,5352,704,1297,2308,1558,3594,349,2701,2589,2770,545,1658,5514,962,1464,1769,6.9160279691357227E-2,"National death rate calcuated from population size and average number of deaths for 2005-2009 inclusive (supplied by ISD Scotland)",null,"LE calculated within spreadsheet using the Chiang method",null,184]
["Female 85-89",47917,2528,1860,3246,3653,2226,5613,6303,5293,5639,5880,260,411,4131,874,1711,2614,1305,2034,456,3246,1191,510,349,1363,489,2751,874,1163,3653,2353,3259,391,801,1288,1038,2149,260,1635,1852,1860,411,980,3490,607,869,965,0.16079817203843261,"National death rate calcuated from population size and average number of deaths for 2005-2009 inclusive (supplied by ISD Scotland)",null,"LE calculated within spreadsheet using the Chiang method",null,185]
["Female 90+",24189,1324,830,1748,2177,909,2945,3117,2772,2821,2914,148,174,1870,440,827,1499,564,1119,170,1748,499,288,132,819,183,1383,440,464,2177,1194,1653,213,332,619,569,1063,148,807,1044,830,174,467,1758,275,351,380,null,null,null,null,null,186]
["age/sex breakdown: Q4",null,null,null,null,null,null,null,null,null,null,null,null,null,null,null,null,null,null,null,null,null,null,null,null,null,null,null,null,null,null,null,null,null,null,null,null,null,null,null,null,null,null,null,null,null,null,null,null,null,null,null,null,187]
["Male <1",27546,1353,1127,695,1724,1789,4082,3969,2312,2734,4266,311,323,2861,0,630,2684,996,416,263,695,433,488,423,915,404,2020,0,935,1724,1833,1896,325,443,768,541,1180,311,1432,767,1127,323,324,1554,591,217,888,4.2772537837245002E-3,"National death rate calcuated from population size and average number of deaths for 2005-2009 inclusive (supplied by ISD Scotland)",null,"LE calculated within spreadsheet using the Chiang method",null,188]
["Male 1-4",110551,5755,4719,3096,6754,7278,16153,15561,9477,11175,16235,1171,1212,11965,0,2006,11000,4357,1850,1052,3096,1656,1935,1919,3984,1709,6908,0,3661,6754,6527,7627,1237,1853,3147,2505,4778,1171,5952,3307,4719,1212,1315,6397,2565,862,3490,1.7636193181290783E-4,"National death rate calcuated from population size and average number of deaths for 2005-2009 inclusive (supplied by ISD Scotland)",null,"LE calculated within spreadsheet using the Chiang method",null,189]
["Male 5-9",137119,7257,6342,4149,9180,8789,19645,18653,12354,13170,18522,1506,1446,16106,0,2016,13568,5943,2728,1114,4149,2215,2119,2950,4711,2256,7427,0,4330,9180,6998,9626,1652,2358,4061,3296,5874,1506,7948,3776,6342,1446,1842,7296,3345,1021,4026,1.3597068758229805E-4,"National death rate calcuated from population size and average number of deaths for 2005-2009 inclusive (supplied by ISD Scotland)",null,"LE calculated within spreadsheet using the Chiang method",null,190]
["Male 10-14",150805,7854,7035,4745,9929,10134,21596,20831,13973,14344,18932,1856,1653,17923,0,2184,14558,6434,3297,1233,4745,2391,2227,3403,4608,2513,7701,0,4408,9929,7666,10676,1783,2414,4854,3670,6507,1856,9098,4329,7035,1653,1957,7837,4493,1137,4209,1.1661807580174928E-4,"National death rate calcuated from population size and average number of deaths for 2005-2009 inclusive (supplied by ISD Scotland)",null,"LE calculated within spreadsheet using the Chiang method",null,191]
["Male 15-19",157477,8407,6633,4976,10137,9967,22538,24451,13542,14542,20684,1812,1803,17985,0,3581,13924,6368,3270,1353,4976,2824,2555,3706,4532,2508,9264,0,4168,10137,10689,10272,1952,2748,5033,3735,6520,1812,8793,4393,6633,1803,2117,8022,4446,1203,4140,5.4037215748351864E-4,"National death rate calcuated from population size and average number of deaths for 2005-2009 inclusive (supplied by ISD Scotland)",null,"LE calculated within spreadsheet using the Chiang method",null,192]
["Male 20-24",158119,7301,4960,4268,9552,8857,22194,30498,11344,13122,25289,1368,1483,17883,0,6513,11405,5044,2589,1098,4268,4504,2242,3287,3367,2194,16069,0,3554,9552,17275,8755,1975,2338,4276,3088,5641,1368,8335,4387,4960,1483,1971,7481,4205,1380,3515,8.8087730272816639E-4,"National death rate calcuated from population size and average number of deaths for 2005-2009 inclusive (supplied by ISD Scotland)",null,"LE calculated within spreadsheet using the Chiang method",null,193]
["Male 25-29",149252,6101,3990,3629,7870,8055,21500,28776,10640,12778,28259,1300,1538,14816,0,7584,9935,4226,2054,1012,3629,3195,1883,2611,2776,1717,20011,0,3936,7870,17583,8586,1713,1841,3981,2642,5844,1300,7395,3949,3990,1538,1576,6934,3107,1203,3631,8.0050904164699599E-4,"National death rate calcuated from population size and average number of deaths for 2005-2009 inclusive (supplied by ISD Scotland)",null,"LE calculated within spreadsheet using the Chiang method",null,194]
["Male 30-34",141579,6514,4360,3262,7790,8404,21358,22605,11371,13533,26152,1234,1693,13303,0,6074,11204,4399,2257,1189,3262,2270,2185,1858,3232,1506,16934,0,4686,7790,13185,9114,1579,1945,4080,2829,6112,1234,6634,3461,4360,1693,1500,7421,2529,1016,4041,9.519961098288462E-4,"National death rate calcuated from population size and average number of deaths for 2005-2009 inclusive (supplied by ISD Scotland)",null,"LE calculated within spreadsheet using the Chiang method",null,195]
["Male 35-39",173907,8817,7155,4678,10688,11201,25733,24744,14176,18105,27827,1655,1892,17236,0,4752,15204,6258,3069,1671,4678,2456,2869,2765,5263,2090,14455,0,5754,10688,12198,11107,2104,2744,5777,3810,8137,1655,8522,4362,7155,1892,2138,9968,3776,1225,5365,1.2247594797995262E-3,"National death rate calcuated from population size and average number of deaths for 2005-2009 inclusive (supplied by ISD Scotland)",null,"LE calculated within spreadsheet using the Chiang method",null,196]
["Male 40-44",203052,10855,9301,6512,13254,12771,29247,28605,17581,20100,28490,2396,1971,21969,0,4137,18488,7778,4153,1797,6512,3140,3315,3695,6156,2561,12665,0,6409,13254,12725,13428,2363,3208,6622,4870,9096,2396,11051,5702,9301,1971,2670,11004,4565,1559,6461,1.5718403590567023E-3,"National death rate calcuated from population size and average number of deaths for 2005-2009 inclusive (supplied by ISD Scotland)",null,"LE calculated within spreadsheet using the Chiang method",null,197]
["Male 45-49",204991,10872,9635,6842,13565,12789,28687,30241,18482,18820,27384,2326,2077,23271,0,4093,18231,8441,4458,1752,6842,3320,3224,4343,6124,2909,12055,0,5883,13565,12292,14024,2786,3176,6363,4599,8149,2326,11510,6160,9635,2077,3049,10671,5154,1751,6029,2.2931281587086068E-3,"National death rate calcuated from population size and average number of deaths for 2005-2009 inclusive (supplied by ISD Scotland)",null,"LE calculated within spreadsheet using the Chiang method",null,198]
["Male 50-54",186249,10590,8856,6528,12587,11054,26667,27150,17472,16377,24032,2003,1810,21123,0,3974,16881,7373,4349,1530,6528,3429,3090,4232,5453,2676,10596,0,4960,12587,10486,13123,2509,2936,5812,4271,7221,2003,10321,5511,8856,1810,3229,9156,4564,1736,5047,3.4603611197373675E-3,"National death rate calcuated from population size and average number of deaths for 2005-2009 inclusive (supplied by ISD Scotland)",null,"LE calculated within spreadsheet using the Chiang method",null,199]
["Male 55-59",172680,10064,8453,6506,11542,10233,24854,23576,16965,14353,21271,1973,1872,21018,0,3561,15691,7443,4203,1394,6506,3024,3031,3659,4675,2242,9558,0,4510,11542,9005,12762,2328,2650,5602,4025,6227,1973,10551,4821,8453,1872,3008,8126,4329,1521,4388,5.6190913158982907E-3,"National death rate calcuated from population size and average number of deaths for 2005-2009 inclusive (supplied by ISD Scotland)",null,"LE calculated within spreadsheet using the Chiang method",null,200]
["Male 60-64",169605,10415,8902,7115,12196,10448,23840,21624,16729,12624,20385,1988,1780,21559,0,3220,14970,7655,4402,1549,7115,2799,3152,3637,4876,2021,8473,0,4787,12196,7393,12327,2238,2808,5650,4201,5225,1988,11105,4809,8902,1780,3062,7399,4112,1526,4228,9.5723001163590549E-3,"National death rate calcuated from population size and average number of deaths for 2005-2009 inclusive (supplied by ISD Scotland)",null,"LE calculated within spreadsheet using the Chiang method",null,201]
["Male 65-69",127123,7893,7193,5724,9325,7722,16858,15137,12933,9174,15499,1633,1243,16789,0,2396,10153,6208,3548,1107,5724,2084,2054,2591,3777,1450,6477,0,3379,9325,4924,9385,1655,2121,4309,3329,3953,1633,8497,3491,7193,1243,2510,5221,3236,1026,3124,1.6677171100643536E-2,"National death rate calcuated from population size and average number of deaths for 2005-2009 inclusive (supplied by ISD Scotland)",null,"LE calculated within spreadsheet using the Chiang method",null,202]
["Male 70-74",100958,6169,5793,4661,7129,6246,13614,12188,9918,7001,12260,1234,928,13817,0,1844,8207,4986,2861,967,4661,1721,1434,2210,2834,1211,5565,0,2621,7129,4055,7057,1323,1546,3563,2480,2907,1234,7110,2543,5793,928,2255,4094,2658,846,2315,2.8047565682978459E-2,"National death rate calcuated from population size and average number of deaths for 2005-2009 inclusive (supplied by ISD Scotland)",null,"LE calculated within spreadsheet using the Chiang method",null,203]
["Male 75-79",76200,4471,4239,3827,5107,4594,9790,9381,7642,5185,9645,916,714,10689,0,1445,5735,3761,2127,581,3827,1478,1007,1666,2216,984,4776,0,1927,5107,3212,5515,971,1162,2610,1751,1914,916,5450,1856,4239,714,1713,3271,2086,692,1491,4.8154071158130696E-2,"National death rate calcuated from population size and average number of deaths for 2005-2009 inclusive (supplied by ISD Scotland)",null,"LE calculated within spreadsheet using the Chiang method",null,204]
["Male 80-84",48612,2850,2754,2671,3307,2778,6527,5798,4973,2841,6221,583,447,6862,0,978,3873,2308,1309,365,2671,1078,611,1027,1448,643,3149,0,1213,3307,2060,3664,675,727,1676,1099,1027,583,3476,1060,2754,447,1140,1814,1200,333,897,8.5749321187702551E-2,"National death rate calcuated from population size and average number of deaths for 2005-2009 inclusive (supplied by ISD Scotland)",null,"LE calculated within spreadsheet using the Chiang method",null,205]
["Male 85-89",23607,1283,1297,1169,1593,1345,3378,2947,2544,1264,2983,233,253,3318,0,534,2032,1067,658,160,1169,565,290,491,585,407,1685,0,574,1593,1064,1886,391,315,812,466,470,233,1686,435,1297,253,527,794,611,159,398,0.17755831772518305,"National death rate calcuated from population size and average number of deaths for 2005-2009 inclusive (supplied by ISD Scotland)",null,"LE calculated within spreadsheet using the Chiang method",null,206]
["Male 90+",8557,504,431,364,513,483,1246,1037,920,526,1056,89,105,1283,0,209,710,491,232,64,364,145,124,174,215,111,626,0,169,513,381,688,146,103,327,187,160,89,647,174,431,105,193,366,250,51,112,null,null,null,null,null,207]
["Female <1",26555,1240,1104,704,1676,1755,3938,3738,2173,2631,4210,281,288,2817,0,581,2611,988,419,262,704,455,425,427,937,362,1927,0,939,1676,1765,1754,282,495,746,544,1147,281,1374,726,1104,288,271,1484,554,176,851,3.5551433650204802E-3,"National death rate calcuated from population size and average number of deaths for 2005-2009 inclusive (supplied by ISD Scotland)",null,"LE calculated within spreadsheet using the Chiang method",null,208]
["Female 1-4",106001,5462,4860,2757,6799,7056,15319,14635,8741,10580,15773,1144,1129,11746,0,1966,10334,4306,1694,1056,2757,1703,1766,1944,4047,1605,6371,0,3572,6799,6170,7047,1112,1819,3019,2361,4433,1144,5737,3069,4860,1129,1335,6147,2428,735,3536,2.2378329992800016E-4,"National death rate calcuated from population size and average number of deaths for 2005-2009 inclusive (supplied by ISD Scotland)",null,"LE calculated within spreadsheet using the Chiang method",null,209]
["Female 5-9",131633,6856,6474,3513,8502,8658,18688,17918,11671,13342,18146,1390,1465,15010,0,2098,12779,5577,2527,1193,3513,1951,2007,2707,4521,2121,7214,0,4124,8502,6896,9144,1524,2369,3811,2993,5727,1390,7482,3693,6474,1465,1856,7615,3341,977,4042,6.7693094552210182E-5,"National death rate calcuated from population size and average number of deaths for 2005-2009 inclusive (supplied by ISD Scotland)",null,"LE calculated within spreadsheet using the Chiang method",null,210]
["Female 10-14",142831,7601,6829,4572,9537,9586,19673,19636,13030,13423,18245,1678,1684,17337,0,1936,13139,6116,3009,1151,4572,2356,2149,3130,4744,2331,6961,0,4097,9537,7419,10021,1726,2412,4598,3440,5701,1678,8865,3937,6829,1684,2012,7722,4338,1093,4128,8.1994096425057393E-5,"National death rate calcuated from population size and average number of deaths for 2005-2009 inclusive (supplied by ISD Scotland)",null,"LE calculated within spreadsheet using the Chiang method",null,211]
["Female 15-19",148112,7680,6861,4570,9440,9491,21404,24077,12275,13528,19238,1707,1599,16242,0,4429,12715,5357,3051,1205,4570,2932,2314,3513,4043,2211,8805,0,3979,9440,11001,9224,1942,2432,4260,3388,5975,1707,7953,4213,6861,1599,1978,7553,4307,1197,3958,2.5251686214572882E-4,"National death rate calcuated from population size and average number of deaths for 2005-2009 inclusive (supplied by ISD Scotland)",null,"LE calculated within spreadsheet using the Chiang method",null,212]
["Female 20-24",148606,6593,4723,3577,8814,8488,20503,31408,9509,12297,24895,1203,1147,15449,0,7461,9855,4031,2164,1019,3577,4626,2028,2764,2933,1904,16257,0,3495,8814,20163,7345,1702,2132,3187,2821,5668,1203,6792,3721,4723,1147,1744,6629,3974,1154,3573,2.9236386382643103E-4,"National death rate calcuated from population size and average number of deaths for 2005-2009 inclusive (supplied by ISD Scotland)",null,"LE calculated within spreadsheet using the Chiang method",null,213]
["Female 25-29",143589,6365,4098,3204,7686,8263,18952,26506,10360,12793,29397,1221,1356,13388,0,6123,9732,3846,1702,1008,3204,2939,2045,2193,2820,1582,20788,0,4211,7686,16816,8658,1466,1894,3097,2806,5712,1221,6603,3376,4098,1356,1514,7081,3044,1073,3895,2.7883034246085648E-4,"National death rate calcuated from population size and average number of deaths for 2005-2009 inclusive (supplied by ISD Scotland)",null,"LE calculated within spreadsheet using the Chiang method",null,214]
["Female 30-34",148727,7246,5219,3555,8730,9189,20961,22959,11579,15059,27239,1426,1476,14089,0,4568,12714,5021,2249,1398,3555,2336,2375,2033,3997,1639,16509,0,4772,8730,12842,9330,1631,2239,3679,3262,6636,1426,6732,3795,5219,1476,1609,8423,3019,1019,4494,3.5388208648878193E-4,"National death rate calcuated from population size and average number of deaths for 2005-2009 inclusive (supplied by ISD Scotland)",null,"LE calculated within spreadsheet using the Chiang method",null,215]
["Female 35-39",187192,9771,7968,5112,11661,12531,26451,26662,15356,19234,28798,1894,1766,19988,0,4050,17193,7220,3372,1735,5112,2855,3085,3191,6062,2415,13499,0,6367,11661,12114,11984,2227,3039,5208,4241,8614,1894,9913,5332,7968,1766,2445,10620,4429,1383,6198,6.4912519058617506E-4,"National death rate calcuated from population size and average number of deaths for 2005-2009 inclusive (supplied by ISD Scotland)",null,"LE calculated within spreadsheet using the Chiang method",null,216]
["Female 40-44",214110,11506,10099,6672,14036,13617,29350,31098,18474,20673,30280,2297,1954,24054,0,4014,19014,8514,4452,1921,6672,3465,3480,4349,6836,3054,13114,0,6357,14036,12815,14022,2697,3745,6322,5100,9244,2297,12075,6481,10099,1954,2926,11429,5339,1702,6585,9.9207716155701002E-4,"National death rate calcuated from population size and average number of deaths for 2005-2009 inclusive (supplied by ISD Scotland)",null,"LE calculated within spreadsheet using the Chiang method",null,217]
["Female 45-49",213171,11465,10336,7252,14334,13040,28405,32241,19035,19734,28944,2213,2088,24084,0,4127,17919,8652,4624,1774,7252,3875,3432,4936,6232,3129,13195,0,5882,14334,12892,14411,2893,3545,6359,4805,8501,2213,11557,6521,10336,2088,3228,11233,5384,1870,5972,1.473167989610289E-3,"National death rate calcuated from population size and average number of deaths for 2005-2009 inclusive (supplied by ISD Scotland)",null,"LE calculated within spreadsheet using the Chiang method",null,218]
["Female 50-54",193072,11039,9307,6803,12916,11651,26334,28632,17402,17246,25182,2131,1848,22581,0,3803,16682,7837,4315,1782,6803,3653,3289,4565,5715,2758,11262,0,5264,12916,10865,13087,2767,3152,5849,4438,7507,2131,11091,5832,9307,1848,3312,9739,4605,1845,5053,2.6288146093139762E-3,"National death rate calcuated from population size and average number of deaths for 2005-2009 inclusive (supplied by ISD Scotland)",null,"LE calculated within spreadsheet using the Chiang method",null,219]
["Female 55-59",177948,10813,8612,6940,12361,11025,24109,24394,17382,14869,22117,1990,1766,21570,0,3448,14974,7674,4427,1576,6940,2998,3221,3922,5180,2380,9749,0,5035,12361,8839,12955,2368,2762,5687,4373,6447,1990,10898,5350,8612,1766,3219,8422,4414,1535,4426,3.8901058881304867E-3,"National death rate calcuated from population size and average number of deaths for 2005-2009 inclusive (supplied by ISD Scotland)",null,"LE calculated within spreadsheet using the Chiang method",null,220]
["Female 60-64",174063,11158,9228,7260,13004,10825,23145,22053,17079,13285,21415,1872,1565,22174,0,3239,14038,8234,4700,1599,7260,2937,3020,3726,5049,2118,9150,0,4882,13004,7453,12379,2384,2955,5868,4568,5662,1872,11003,4847,9228,1565,3570,7623,4344,1525,4261,6.819231835402101E-3,"National death rate calcuated from population size and average number of deaths for 2005-2009 inclusive (supplied by ISD Scotland)",null,"LE calculated within spreadsheet using the Chiang method",null,221]
["Female 65-69",136352,8707,7618,6056,9884,8325,17505,16805,13524,10038,16997,1700,1287,17906,0,2552,10447,6340,3716,1259,6056,2321,2142,2890,4023,1623,7400,0,3499,9884,5587,9808,1779,2300,4506,3523,4188,1700,9245,3707,7618,1287,3042,5850,3567,1219,3274,1.1184768365065906E-2,"National death rate calcuated from population size and average number of deaths for 2005-2009 inclusive (supplied by ISD Scotland)",null,"LE calculated within spreadsheet using the Chiang method",null,222]
["Female 70-74",115107,7086,6452,5189,8146,7197,14283,14883,11182,8664,14489,1312,957,15267,0,2212,8314,5432,3094,1018,5189,2146,1577,2696,3047,1593,7074,0,3006,8146,5249,8088,1432,1847,3757,2714,3512,1312,7689,2948,6452,957,2795,5152,3173,965,2521,1.8843057633397449E-2,"National death rate calcuated from population size and average number of deaths for 2005-2009 inclusive (supplied by ISD Scotland)",null,"LE calculated within spreadsheet using the Chiang method",null,223]
["Female 75-79",96370,5864,4984,4508,6504,5869,12325,12869,9290,6545,12585,1024,852,13151,0,2113,6841,4669,2528,760,4508,2172,1227,2012,2511,1657,6799,0,2453,6504,4690,6762,1441,1351,3371,2379,2336,1024,6310,2338,4984,852,2258,4209,2656,731,1924,3.5393844823768804E-2,"National death rate calcuated from population size and average number of deaths for 2005-2009 inclusive (supplied by ISD Scotland)",null,"LE calculated within spreadsheet using the Chiang method",null,224]
["Female 80-84",72368,4213,3613,3456,4556,4338,9673,9815,6938,4417,9940,736,836,9837,0,1792,5375,3378,1771,517,3456,1674,861,1543,1905,1401,5870,0,1780,4556,3381,5167,1273,946,2506,1695,1559,736,4785,1677,3613,836,1657,2858,2041,540,1219,6.4578740867057643E-2,"National death rate calcuated from population size and average number of deaths for 2005-2009 inclusive (supplied by ISD Scotland)",null,"LE calculated within spreadsheet using the Chiang method",null,225]
["Female 85-89",46705,2680,2459,2039,3070,2938,6477,6337,4604,2522,6316,484,520,6259,0,1213,3636,1993,1181,309,2039,1060,593,849,1225,1027,3717,0,1159,3070,2185,3423,1003,582,1628,1006,810,484,3206,920,2459,520,1081,1712,1470,353,792,0.15722515602496401,"National death rate calcuated from population size and average number of deaths for 2005-2009 inclusive (supplied by ISD Scotland)",null,"LE calculated within spreadsheet using the Chiang method",null,226]
["Female 90+",25873,1640,1366,1124,1995,1494,3262,3730,2609,1208,3252,292,309,3592,0,555,1861,1148,626,110,1124,688,397,359,626,619,1888,0,665,1995,1245,1983,695,240,846,627,409,292,1756,557,1366,309,616,799,719,255,498,null,null,null,null,null,227]
["age/sex breakdown: Q5",null,null,null,null,null,null,null,null,null,null,null,null,null,null,null,null,null,null,null,null,null,null,null,null,null,null,null,null,null,null,null,null,null,null,null,null,null,null,null,null,null,null,null,null,null,null,null,null,null,null,null,null,228]
["Male <1",25144,1002,157,232,1915,1433,5050,4770,592,1835,6604,20,52,1482,0,2370,2344,272,190,134,232,525,393,1128,411,1287,5013,0,837,1915,1370,402,228,369,336,222,707,20,685,646,157,52,387,1128,462,111,811,3.4642032332563508E-3,"National death rate calcuated from population size and average number of deaths for 2005-2009 inclusive (supplied by ISD Scotland)",null,"LE calculated within spreadsheet using the Chiang method",null,229]
["Male 1-4",105764,4458,871,1021,8003,6162,19908,20821,2532,8216,27131,63,241,6337,0,8983,9758,1302,804,568,1021,2140,1572,5255,2021,5933,19671,0,3301,8003,5018,1728,1040,1632,1167,1001,3281,63,2895,3067,871,241,1885,4935,2293,508,3807,1.7940607147915583E-4,"National death rate calcuated from population size and average number of deaths for 2005-2009 inclusive (supplied by ISD Scotland)",null,"LE calculated within spreadsheet using the Chiang method",null,230]
["Male 5-9",139192,6170,1262,1291,9904,8789,24588,29500,3528,11415,33494,63,376,8812,0,10892,12333,1978,1077,959,1291,2768,2080,7720,2718,8853,23552,0,4210,9904,5968,2451,1557,2090,1363,1399,4628,63,4066,4628,1262,376,2691,6787,3620,774,5134,3.4653156556030687E-5,"National death rate calcuated from population size and average number of deaths for 2005-2009 inclusive (supplied by ISD Scotland)",null,"LE calculated within spreadsheet using the Chiang method",null,231]
["Male 10-14",156818,7497,1266,1539,10815,9684,27467,33846,4328,13313,36204,96,284,10479,0,11843,13727,2481,1282,1238,1539,3253,2470,9368,3196,9827,25176,0,4586,10815,6593,3046,1555,2259,1897,1768,4980,96,4745,5680,1266,284,3259,8333,3860,823,5573,1.23205056335512E-4,"National death rate calcuated from population size and average number of deaths for 2005-2009 inclusive (supplied by ISD Scotland)",null,"LE calculated within spreadsheet using the Chiang method",null,232]
["Male 15-19",178630,7779,1160,1706,13597,13073,29565,35653,5057,14000,43703,122,280,12935,0,13428,13376,2655,2110,1290,1706,4792,2295,9759,3026,9788,33030,0,6289,13597,7750,2947,1513,2124,2761,1974,5401,122,5488,5866,1160,280,3510,8599,5494,977,5523,3.2224144364166753E-4,"National death rate calcuated from population size and average number of deaths for 2005-2009 inclusive (supplied by ISD Scotland)",null,"LE calculated within spreadsheet using the Chiang method",null,233]
["Male 20-24",188970,6523,752,1352,17838,10226,30602,35117,6086,12183,55246,81,157,12807,0,16544,11226,1965,3705,983,1352,5326,2153,8418,2105,8136,47195,0,4520,17838,11595,2381,1186,1848,2832,1600,4661,81,5516,4963,752,157,2770,7522,4723,819,4098,4.0470994875496999E-4,"National death rate calcuated from population size and average number of deaths for 2005-2009 inclusive (supplied by ISD Scotland)",null,"LE calculated within spreadsheet using the Chiang method",null,234]
["Male 25-29",152789,4346,574,1075,9773,5885,29180,28128,4677,9647,50273,44,165,9022,0,17894,9245,1484,2767,630,1075,3425,1510,6163,1333,5553,44396,0,3535,9773,11123,1910,836,1355,2041,1099,3563,44,4113,3882,574,165,1737,6084,1720,571,3189,4.9970625375623785E-4,"National death rate calcuated from population size and average number of deaths for 2005-2009 inclusive (supplied by ISD Scotland)",null,"LE calculated within spreadsheet using the Chiang method",null,235]
["Male 30-34",132612,4596,722,1022,8931,6268,28082,23169,3462,8542,40501,42,171,7104,0,16266,10136,1434,1399,551,1022,2494,1721,4399,1541,4528,33775,0,4123,8931,9807,2063,866,1430,1680,1163,3406,42,3176,3057,722,171,1712,5136,1594,512,3755,5.7469147172591636E-4,"National death rate calcuated from population size and average number of deaths for 2005-2009 inclusive (supplied by ISD Scotland)",null,"LE calculated within spreadsheet using the Chiang method",null,236]
["Male 35-39",164153,6774,1151,1543,12467,9438,32967,29510,4827,12543,43248,90,325,9270,0,16382,14515,1941,2106,900,1543,3225,2570,6409,2672,6893,32807,0,5660,12467,9453,2721,1527,2332,2070,1545,5186,90,4104,4369,1151,325,2659,7357,2878,859,5437,8.3160083160083165E-4,"National death rate calcuated from population size and average number of deaths for 2005-2009 inclusive (supplied by ISD Scotland)",null,"LE calculated within spreadsheet using the Chiang method",null,237]
["Male 40-44",197319,9018,1488,2020,13803,12222,36295,38713,5628,16080,49501,102,410,12039,0,16995,17072,2630,2079,1344,2020,3834,3323,9318,3807,9801,35641,0,6614,13803,9969,3549,1808,2880,2228,2145,6378,102,5575,6557,1488,410,3550,9702,4264,1260,7173,1.0352017185320547E-3,"National death rate calcuated from population size and average number of deaths for 2005-2009 inclusive (supplied by ISD Scotland)",null,"LE calculated within spreadsheet using the Chiang method",null,238]
["Male 45-49",205976,9660,1424,2375,13651,12017,37197,42987,5899,17638,48787,127,307,13907,0,17074,17902,3238,1998,1409,2375,4493,3119,11018,3980,11140,34917,0,6408,13651,9689,3901,2418,2698,2221,2303,6829,127,6176,7515,1424,307,4238,10809,4200,1207,7192,1.516777214202107E-3,"National death rate calcuated from population size and average number of deaths for 2005-2009 inclusive (supplied by ISD Scotland)",null,"LE calculated within spreadsheet using the Chiang method",null,239]
["Male 50-54",191135,9380,1302,2105,12681,10803,34959,40421,5445,16188,44579,153,239,12880,0,16542,16564,2987,1640,1391,2105,4287,2867,10592,3627,10413,32362,0,5520,12681,9227,3805,2000,2416,1853,2266,5874,153,5606,7115,1302,239,4247,10314,3892,1074,6174,2.5946292242806043E-3,"National death rate calcuated from population size and average number of deaths for 2005-2009 inclusive (supplied by ISD Scotland)",null,"LE calculated within spreadsheet using the Chiang method",null,240]
["Male 55-59",172890,9788,1455,2217,11913,9911,31007,34948,5038,14307,39582,166,178,12380,0,14421,14844,3205,1446,1489,2217,3671,2847,9581,3094,8589,29130,0,4468,11913,7922,3592,1710,2394,1742,2696,5093,166,5504,6248,1455,178,4245,9214,3954,898,4964,4.4584435669814577E-3,"National death rate calcuated from population size and average number of deaths for 2005-2009 inclusive (supplied by ISD Scotland)",null,"LE calculated within spreadsheet using the Chiang method",null,241]
["Male 60-64",161977,9722,1342,2057,12322,9922,27176,31854,5111,12363,36499,103,247,13259,0,12230,13285,3544,1609,1464,2057,3700,2573,9256,3054,8197,26732,0,4311,12322,6480,3502,1654,2423,1661,2837,4188,103,6015,5489,1342,247,4312,8175,4147,778,4290,8.0806573082116036E-3,"National death rate calcuated from population size and average number of deaths for 2005-2009 inclusive (supplied by ISD Scotland)",null,"LE calculated within spreadsheet using the Chiang method",null,242]
["Male 65-69",115338,7273,845,1509,8827,7048,18974,23068,3737,8533,25441,74,206,9803,0,8253,9369,2444,1240,1055,1509,2846,1756,7248,2448,6089,18815,0,2920,8827,3993,2497,1318,1411,1352,2183,2633,74,4513,3981,845,206,3334,5900,3073,439,2767,1.3626805505817104E-2,"National death rate calcuated from population size and average number of deaths for 2005-2009 inclusive (supplied by ISD Scotland)",null,"LE calculated within spreadsheet using the Chiang method",null,243]
["Male 70-74",94368,5788,832,1402,7075,5737,15195,19039,2829,6587,21190,56,94,8544,0,6906,7045,2114,884,789,1402,2582,1302,6421,1797,5310,16224,0,2387,7075,3231,1945,1060,1264,1244,1693,1953,56,3848,2667,832,94,2793,4634,2561,350,1905,2.3273438186451105E-2,"National death rate calcuated from population size and average number of deaths for 2005-2009 inclusive (supplied by ISD Scotland)",null,"LE calculated within spreadsheet using the Chiang method",null,244]
["Male 75-79",71708,4258,635,1027,5093,3981,11447,14499,2388,4705,16695,50,59,6871,0,5430,5094,1691,677,668,1027,2149,932,5206,1389,4122,13403,0,1691,5093,2373,1711,681,785,923,1267,1241,50,3031,1904,635,59,2059,3464,1622,213,1118,4.2219842445758216E-2,"National death rate calcuated from population size and average number of deaths for 2005-2009 inclusive (supplied by ISD Scotland)",null,"LE calculated within spreadsheet using the Chiang method",null,245]
["Male 80-84",45896,2856,431,657,3276,2379,7176,9216,1540,2603,11237,33,20,4472,0,3537,3045,1038,468,338,657,1354,591,3042,1002,2718,9055,0,958,3276,1727,1072,422,400,594,883,645,33,2080,1188,431,20,1382,1958,1083,119,780,7.6608974061528473E-2,"National death rate calcuated from population size and average number of deaths for 2005-2009 inclusive (supplied by ISD Scotland)",null,"LE calculated within spreadsheet using the Chiang method",null,246]
["Male 85-89",22954,1552,262,279,1740,1040,3488,4298,783,1073,6195,27,19,2198,0,1631,1615,440,220,116,279,697,282,1344,502,1310,5164,0,424,1740,891,563,192,206,242,412,283,27,1061,514,262,19,858,790,500,47,323,0.15848437277008703,"National death rate calcuated from population size and average number of deaths for 2005-2009 inclusive (supplied by ISD Scotland)",null,"LE calculated within spreadsheet using the Chiang method",null,247]
["Male 90+",8595,570,54,79,549,390,1396,1462,294,397,2490,3,13,898,0,687,615,205,91,38,79,246,102,505,169,395,2202,0,158,549,259,203,88,33,94,170,106,3,447,193,54,13,298,291,194,22,86,null,null,null,null,null,248]
["Female <1",23978,922,184,234,1806,1387,4668,4552,579,1844,6376,14,54,1358,0,2255,2143,269,146,116,234,487,352,1037,415,1231,4859,0,823,1806,1367,433,181,339,270,197,671,14,602,635,184,54,373,1173,448,101,763,3.0316873624319945E-3,"National death rate calcuated from population size and average number of deaths for 2005-2009 inclusive (supplied by ISD Scotland)",null,"LE calculated within spreadsheet using the Chiang method",null,249]
["Female 1-4",100931,4068,824,941,7655,6067,18797,20130,2457,8212,25483,46,246,6005,0,8589,9173,1265,665,562,941,2006,1415,4829,1883,5834,18478,0,3401,7655,5069,1792,898,1585,1035,872,3003,46,2734,3032,824,246,1781,5209,2104,468,3537,1.198394151836539E-4,"National death rate calcuated from population size and average number of deaths for 2005-2009 inclusive (supplied by ISD Scotland)",null,"LE calculated within spreadsheet using the Chiang method",null,250]
["Female 5-9",130808,5859,1040,1217,9069,8074,22876,27826,3416,11016,31614,73,297,8431,0,10409,11418,1823,1141,898,1217,2651,2006,7249,2653,8222,21917,0,4046,9069,6022,2275,1164,2071,1049,1269,4301,73,3957,4463,1040,297,2584,6715,3130,706,4973,5.8919707169055379E-5,"National death rate calcuated from population size and average number of deaths for 2005-2009 inclusive (supplied by ISD Scotland)",null,"LE calculated within spreadsheet using the Chiang method",null,251]
["Female 10-14",147478,6974,1175,1622,9942,9373,25459,31369,3997,12671,34330,91,297,10178,0,10916,12878,2284,1274,1157,1622,3063,2215,8602,2895,9109,24077,0,4533,9942,6008,2723,1567,2124,1665,1688,4828,91,4831,5259,1175,297,3071,7843,3683,824,5234,8.5121428992358727E-5,"National death rate calcuated from population size and average number of deaths for 2005-2009 inclusive (supplied by ISD Scotland)",null,"LE calculated within spreadsheet using the Chiang method",null,252]
["Female 15-19",166465,7162,1018,1627,13618,11073,28338,32855,3908,12907,40969,133,200,12657,0,13854,12483,2346,1396,1090,1627,5221,2455,8415,2586,8899,31626,0,4264,13618,7703,2512,1488,2032,2001,1635,4739,133,5090,5518,1018,200,3072,8168,5719,832,4725,1.9095489768513384E-4,"National death rate calcuated from population size and average number of deaths for 2005-2009 inclusive (supplied by ISD Scotland)",null,"LE calculated within spreadsheet using the Chiang method",null,253]
["Female 20-24",177366,5426,659,1084,17953,8599,28595,31708,2716,10414,57960,54,114,12084,0,17982,9032,1620,887,686,1084,5397,1934,6676,1625,6758,51339,0,3460,17953,12280,1829,1041,1664,1581,1225,3853,54,5067,4303,659,114,2267,6561,4453,650,3332,1.3680460139302772E-4,"National death rate calcuated from population size and average number of deaths for 2005-2009 inclusive (supplied by ISD Scotland)",null,"LE calculated within spreadsheet using the Chiang method",null,254]
["Female 25-29",139369,4583,635,938,9181,6083,25613,25586,2452,8780,47706,79,163,7570,0,15449,8934,1007,655,651,938,3156,1720,4882,1319,4754,42036,0,3641,9181,11462,1797,789,1362,1230,1133,3352,79,3407,3213,635,163,1730,5428,1791,486,2989,1.6736019718074143E-4,"National death rate calcuated from population size and average number of deaths for 2005-2009 inclusive (supplied by ISD Scotland)",null,"LE calculated within spreadsheet using the Chiang method",null,255]
["Female 30-34",136277,4924,801,1095,9809,7010,26373,25223,2830,9397,40967,89,277,7482,0,14377,10783,1396,664,714,1095,2798,1881,5024,1752,5589,33747,0,4305,9809,9710,2166,1068,1610,1213,1156,3746,89,3288,3283,801,277,1887,5651,1991,549,3858,2.7406886858749119E-4,"National death rate calcuated from population size and average number of deaths for 2005-2009 inclusive (supplied by ISD Scotland)",null,"LE calculated within spreadsheet using the Chiang method",null,256]
["Female 35-39",175710,7279,1324,1642,12686,10892,32211,34032,4373,13827,46354,83,337,10670,0,15291,15253,2307,1286,985,1642,3596,2608,7619,3007,8436,34733,0,6149,12686,10338,3087,1539,2553,1667,1669,5588,83,4767,5163,1324,337,3002,8239,3758,937,6061,4.6829288826215983E-4,"National death rate calcuated from population size and average number of deaths for 2005-2009 inclusive (supplied by ISD Scotland)",null,"LE calculated within spreadsheet using the Chiang method",null,257]
["Female 40-44",212108,9864,1585,2297,14473,13111,36508,43945,5400,17829,52622,147,336,13991,0,16529,17892,3073,1586,1415,2297,4527,3407,10850,4064,11634,37715,0,6978,14473,10481,3814,2203,2938,2087,2408,7133,147,6391,7503,1585,336,4049,10696,4718,1274,7905,7.3722484902818291E-4,"National death rate calcuated from population size and average number of deaths for 2005-2009 inclusive (supplied by ISD Scotland)",null,"LE calculated within spreadsheet using the Chiang method",null,258]
["Female 45-49",218676,10712,1613,2607,14225,12614,37167,47123,6027,18914,52231,143,312,14988,0,17314,17841,3288,1745,1631,2607,5080,3393,12339,4278,12158,37590,0,6424,14225,10809,4282,2258,3061,2012,2608,7092,143,6620,8338,1613,312,4711,11822,4559,1221,7302,1.3387254218379585E-3,"National death rate calcuated from population size and average number of deaths for 2005-2009 inclusive (supplied by ISD Scotland)",null,"LE calculated within spreadsheet using the Chiang method",null,259]
["Female 50-54",197414,10306,1531,2447,12988,11013,33782,42444,5707,16915,46092,132,240,13817,0,15725,16237,3236,1666,1623,2447,4423,2960,11367,3595,10862,34042,0,5333,12988,9776,4041,1911,2682,1820,2681,6055,132,6158,7440,1531,240,4665,10860,4057,1088,5773,1.954158480681074E-3,"National death rate calcuated from population size and average number of deaths for 2005-2009 inclusive (supplied by ISD Scotland)",null,"LE calculated within spreadsheet using the Chiang method",null,260]
["Female 55-59",177724,10163,1492,2111,12488,10295,29513,36705,5337,14234,41533,111,220,13522,0,13258,14517,3498,1469,1625,2111,3913,2848,10236,3171,9105,31005,0,4686,12488,8117,3868,1784,2445,1738,2821,4842,111,6111,6534,1492,220,4494,9392,3984,929,4912,2.9644542030540515E-3,"National death rate calcuated from population size and average number of deaths for 2005-2009 inclusive (supplied by ISD Scotland)",null,"LE calculated within spreadsheet using the Chiang method",null,261]
["Female 60-64",169388,10386,1391,2035,13024,10276,27211,33629,5399,12784,38822,137,170,14124,0,12217,13254,3805,1789,1560,2035,4072,2707,9993,3213,9033,29036,0,4425,13024,6156,3610,1777,2401,1740,2957,4042,137,6247,5880,1391,170,4722,8742,4291,790,4172,5.1582710096119665E-3,"National death rate calcuated from population size and average number of deaths for 2005-2009 inclusive (supplied by ISD Scotland)",null,"LE calculated within spreadsheet using the Chiang method",null,262]
["Female 65-69",128262,7777,1066,1819,9610,7681,20372,25956,4115,9469,28910,78,173,11236,0,9433,9510,2717,1239,1228,1819,3359,1876,8386,2680,7339,21539,0,3180,9610,4307,2876,1410,1702,1429,2291,2783,78,5160,3966,1066,173,3610,6686,3273,548,2989,8.9234873997429513E-3,"National death rate calcuated from population size and average number of deaths for 2005-2009 inclusive (supplied by ISD Scotland)",null,"LE calculated within spreadsheet using the Chiang method",null,263]
["Female 70-74",109375,6509,1066,1524,8048,6122,17102,22497,3469,7639,25383,66,115,9835,0,8179,7565,2404,1026,951,1524,3073,1414,7666,2181,6310,20009,0,2537,8048,3984,2443,1144,1339,1358,1900,2220,66,4358,3032,1066,115,3195,5419,2634,361,1854,1.5629541427191838E-2,"National death rate calcuated from population size and average number of deaths for 2005-2009 inclusive (supplied by ISD Scotland)",null,"LE calculated within spreadsheet using the Chiang method",null,264]
["Female 75-79",91135,5509,881,1316,6166,4791,14033,18743,2916,5847,22441,46,90,8356,0,7063,5967,1967,814,702,1316,2871,1235,6165,1785,5443,18284,0,2000,6166,3636,2102,953,862,1003,1702,1422,46,3518,2344,881,90,2572,4425,2089,202,1510,2.8866371404285777E-2,"National death rate calcuated from population size and average number of deaths for 2005-2009 inclusive (supplied by ISD Scotland)",null,"LE calculated within spreadsheet using the Chiang method",null,265]
["Female 80-84",69390,4444,645,991,4926,3424,10392,14151,2384,3582,17929,32,33,6457,0,5400,4271,1437,715,439,991,1961,983,4546,1376,4219,14954,0,1397,4926,3001,1669,714,574,721,1191,794,32,3059,1544,645,33,2270,2788,1588,127,1025,5.5945720747530056E-2,"National death rate calcuated from population size and average number of deaths for 2005-2009 inclusive (supplied by ISD Scotland)",null,"LE calculated within spreadsheet using the Chiang method",null,266]
["Female 85-89",44044,2805,312,473,3135,2228,6854,8579,1554,2082,12119,17,26,3860,0,3471,2890,972,480,356,473,1084,503,2637,891,2505,10231,0,841,3135,2022,1074,550,387,493,733,530,17,1804,804,312,26,1569,1552,1031,61,610,null,null,null,null,null,267]
["Female 90+",25205,1783,151,196,1846,1155,3628,4609,1097,1149,7388,25,31,2147,0,1753,1597,573,399,92,196,416,273,1396,511,1290,6232,0,442,1846,1201,698,253,278,278,508,303,25,1158,407,151,31,1002,846,621,62,367,0.14414649095923998,"National death rate calcuated from population size and average number of deaths for 2005-2009 inclusive (supplied by ISD Scotland)",null,"LE calculated within spreadsheet using the Chiang method",null,268]
[null,null,null,null,null,null,null,null,null,null,null,null,null,null,null,null,null,null,null,null,null,null,null,null,null,null,null,null,null,null,null,null,null,null,null,null,null,null,null,null,null,null,null,null,null,null,null,null,null,null,null,null,null,269]
[null,null,null,null,null,null,null,null,null,null,null,null,null,null,null,null,null,null,null,null,null,null,null,null,null,null,null,null,null,null,null,null,null,null,null,null,null,null,null,null,null,null,null,null,null,null,null,null,null,null,null,null,null,270]
[null,null,null,null,null,null,null,null,null,null,null,null,null,null,null,null,null,null,null,null,null,null,null,null,null,null,null,null,null,null,null,null,null,null,null,null,null,null,null,null,null,null,null,null,null,null,null,null,null,null,null,null,null,271]
[null,null,null,null,null,null,null,null,null,null,null,null,null,null,null,null,null,null,null,null,null,null,null,null,null,null,null,null,null,null,null,null,null,null,null,null,null,null,null,null,null,null,null,null,null,null,null,null,null,null,null,null,null,272]
[null,null,null,null,null,null,null,null,null,null,null,null,null,null,null,null,null,null,null,null,null,null,null,null,null,null,null,null,null,null,null,null,null,null,null,null,null,null,null,null,null,null,null,null,null,null,null,null,null,null,null,null,null,273]
[null,null,null,null,null,null,null,null,null,null,null,null,null,null,null,null,null,null,null,null,null,null,null,null,null,null,null,null,null,null,null,null,null,null,null,null,null,null,null,null,null,null,null,null,null,null,null,null,null,null,null,null,null,274]
["Age","European Standard Population",null,null,null,null,null,null,null,null,null,null,null,null,null,null,null,null,null,null,null,null,null,null,null,null,null,null,null,null,null,null,null,null,null,null,null,null,null,null,null,null,null,null,null,null,null,null,null,null,null,null,null,275]
["0-4",8000]
["5-9",7000]
["10-14",7000]
["15-19",7000]
["20-24",7000]
["25-29",7000]
["30-34",7000]
["35-39",7000]
["40-44",7000]
["45-49",7000]
["50-54",7000]
["55-59",6000]
["60-64",5000]
["65-69",4000]
["70-74",3000]
["75-79",2000]
["80-84",1000]
["85+",1000]

{"sheet":"RII","index":7,"n_rows":58,"n_cols":20,"rows_kept":58,"cut":false,"hidden":false,"merged":[]}
["This sheet calculates the Relative Index of Inequality for the III Tool Overview page."]
["For more information on measuring inequalities in health, please see: "]
["http://www.scotpho.org.uk/downloads/scotphoreports/scotpho071009_measuringinequalities_rep.pdf"]
["THESE TABLES CALCULATE THE RII FOR YEARS OF LIFE LOST, BEFORE AND AFTER THE POLICY"]
["YEARS OF LIFE LOST: Both sexes combined - 2 YEARS, baseline",null,null,null,null,null,null,null,null,null,null,"YEARS OF LIFE LOST: Both sexes combined - 2 YEARS, policy"]
[null,"Y",null,"a",null,"b",null,null,null,null,null,null,"Y",null,"a",null,"b"]
["SIMD_Q","years of life lost","Pop","proportion of total  population","Cumulative proportion","Relative rank","Y*√a","√a","b*√a",null,null,"SIMD_Q","years of life lost","Pop","proportion of total  population","Cumulative proportion","Relative rank","Y*√a","√a","b*√a"]
[null,null,null,null,0," ",null,null,null,null,null,null,null,null,null,0," "]
[1,{"$f":"Calculations!Q5","v":183298.4409995976},{"$f":"Calculations!F5","v":693113.2},{"$f":"C9/$C$14","v":0.19889856314810112},{"$f":"E8+D9","v":0.19889856314810112},{"$f":"E8+(0.5*D9)","v":9.9449281574050558E-2},{"$f":"SQRT(D9)*B9","v":81747.521481991876},{"$f":"SQRT(D9)","v":0.44598045153134358},{"$f":"F9*SQRT(D9)","v":4.4352435500862798E-2},null,null,1,{"$f":"Calculations!R5","v":183240.00681420628},{"$f":"C9","v":693113.2},{"$f":"N9/$C$14","v":0.19889856314810112},{"$f":"P8+O9","v":0.19889856314810112},{"$f":"P8+(0.5*O9)","v":9.9449281574050558E-2},{"$f":"SQRT(O9)*M9","v":81721.460977606199},{"$f":"SQRT(O9)","v":0.44598045153134358},{"$f":"Q9*SQRT(O9)","v":4.4352435500862798E-2}]
[2,{"$f":"Calculations!Q6","v":132847.47261140164},{"$f":"Calculations!F6","v":696324.6},{"$f":"C10/$C$14","v":0.19982011946198147},{"$f":"E9+D10","v":0.39871868261008259},{"$f":"E9+(0.5*D10)","v":0.29880862287909182},59384.472574824496,0.4470124377038982,0.13357117092012766,null,null,2,{"$f":"Calculations!R6","v":132792.42092993206},{"$f":"C10","v":696324.6},{"$f":"N10/$C$14","v":0.19982011946198147},{"$f":"P9+O10","v":0.39871868261008259},{"$f":"P9+(0.5*O10)","v":0.29880862287909182},59359.863788491086,0.4470124377038982,0.13357117092012766]
[3,{"$f":"Calculations!Q7","v":113085.38845781185},{"$f":"Calculations!F7","v":698829.60000000009},{"$f":"C11/$C$14","v":0.20053896437892435},{"$f":"E10+D11","v":0.59925764698900696},{"$f":"E10+(0.5*D11)","v":0.49898816479954478},50641.420373417735,0.44781577057862126,0.2234547695293202,null,null,3,{"$f":"Calculations!R7","v":113032.01576534583},698829.60000000009,{"$f":"N11/$C$14","v":0.20053896437892435},{"$f":"P10+O11","v":0.59925764698900696},{"$f":"P10+(0.5*O11)","v":0.49898816479954478},50617.519240013207,0.44781577057862126,0.2234547695293202]
[4,{"$f":"Calculations!Q8","v":92570.666485406604},{"$f":"Calculations!F8","v":693100.2},{"$f":"C12/$C$14","v":0.19889483261559801},{"$f":"E11+D12","v":0.798152479604605},{"$f":"E11+(0.5*D12)","v":0.69870506329680593},41284.320468843973,0.44597626911708882,0.31160587734232892,null,null,4,{"$f":"Calculations!R8","v":92521.754919174651},693100.2,{"$f":"N12/$C$14","v":0.19889483261559801},{"$f":"P11+O12","v":0.798152479604605},{"$f":"P11+(0.5*O12)","v":0.69870506329680593},41262.507071019172,0.44597626911708882,0.31160587734232892]
[5,{"$f":"Calculations!Q9","v":67039.351598034336},{"$f":"Calculations!F9","v":703389.60000000009},{"$f":"C13/$C$14","v":0.20184752039539516},{"$f":"E12+D13","v":1.0000000000000002},{"$f":"E12+(0.5*D13)","v":0.89907623980230256},{"$f":"SQRT(D13)*B13","v":30119.066994825585},0.44927443772753772,0.40393197211136833,null,null,5,{"$f":"Calculations!R9","v":67005.659301919019},703389.60000000009,{"$f":"N13/$C$14","v":0.20184752039539516},{"$f":"P12+O13","v":1.0000000000000002},{"$f":"P12+(0.5*O13)","v":0.89907623980230256},30103.929907432626,0.44927443772753772,0.40393197211136833]
["Total",{"$f":"AVERAGE(B9:B13)","v":117768.26403045042},{"$f":"SUM(C9:C13)","v":3484757.1999999997},null,null,null,0,0,0,null,null,"Total",{"$f":"AVERAGE(M9:M13)","v":117718.37154611557},{"$f":"SUM(N9:N13)","v":3484757.1999999997},null,null,null,0,0,0]
[]
["Regression =",{"$f":"LINEST(G9:G13,H9:I13,0)","v":-136352.7068212922},null,null,null,null,null,null,null,null,null,"Regression =",{"$f":"LINEST(R9:R13,S9:T13,0)","v":-136324.80222795493}]
[]
["Slope Index Inequality =",{"$f":"B16","v":-136352.7068212922},"Years of life lost difference between the top and bottom positions ",null,null,null,null,null,null,null,null,"Slope Index Inequality =",{"$f":"M16","v":-136324.80222795493},"Years of life lost difference between the top and bottom positions "]
["Relative Index Inequality =",{"$f":"-B18/B14","v":1.1578051858354348},null,null,null,null,null,null,null,null,null,"Relative Index Inequality =",{"$f":"-M18/M14","v":1.1580588521355004}]
["According to the regresion equation the YOLL among those at the bottom is ",null,null,null,null,null,null,{"$f":"B19","v":1.1578051858354348},"times higher than the average",null,null,"According to the regresion equation the YOLL among those at the bottom is ",null,null,null,null,null,null,{"$f":"M19","v":1.1580588521355004},"times higher than the average"]
[]
[]
[]
["YEARS OF LIFE LOST: Both sexes combined - 10 YEARS, baseline",null,null,null,null,null,null,null,null,null,null,"YEARS OF LIFE LOST: Both sexes combined - 10 YEARS, policy"]
[null,"Y",null,"a",null,"b",null,null,null,null,null,null,"Y",null,"a",null,"b"]
["SIMD_Q","years of life lost","Pop","proportion of total  population","Cumulative proportion","Relative rank","Y*√a","√a","b*√a",null,null,"SIMD_Q","years of life lost","Pop","proportion of total  population","Cumulative proportion","Relative rank","Y*√a","√a","b*√a"]
[null,null,null,null,0," ",null,null,null,null,null,null,null,null,null,0," "]
[1,{"$f":"Calculations!W5","v":1844495.0294220201},{"$f":"C9","v":693113.2},{"$f":"C28/$C$14","v":0.19889856314810112},{"$f":"E27+D28","v":0.19889856314810112},{"$f":"E27+(0.5*D28)","v":9.9449281574050558E-2},{"$f":"SQRT(D28)*B28","v":822608.72606895142},{"$f":"SQRT(D28)","v":0.44598045153134358},{"$f":"F28*SQRT(D28)","v":4.4352435500862798E-2},null,null,1,{"$f":"Calculations!X5","v":1843942.7604013942},{"$f":"C28","v":693113.2},{"$f":"N28/$C$14","v":0.19889856314810112},{"$f":"P27+O28","v":0.19889856314810112},{"$f":"P27+(0.5*O28)","v":9.9449281574050558E-2},{"$f":"SQRT(O28)*M28","v":822362.42488176585},{"$f":"SQRT(O28)","v":0.44598045153134358},{"$f":"Q28*SQRT(O28)","v":4.4352435500862798E-2}]
[2,{"$f":"Calculations!W6","v":1354783.3369570691},{"$f":"C10","v":696324.6},{"$f":"C29/$C$14","v":0.19982011946198147},{"$f":"E28+D29","v":0.39871868261008259},{"$f":"E28+(0.5*D29)","v":0.29880862287909182},605605.00201380113,0.4470124377038982,0.13357117092012766,null,null,2,{"$f":"Calculations!X6","v":1354244.9072651344},{"$f":"C29","v":696324.6},{"$f":"N29/$C$14","v":0.19982011946198147},{"$f":"P28+O29","v":0.39871868261008259},{"$f":"P28+(0.5*O29)","v":0.29880862287909182},605364.31724467734,0.4470124377038982,0.13357117092012766]
[3,{"$f":"Calculations!W7","v":1159308.1848038223},698829.60000000009,{"$f":"C30/$C$14","v":0.20053896437892435},{"$f":"E29+D30","v":0.59925764698900696},{"$f":"E29+(0.5*D30)","v":0.49898816479954478},519156.48811602633,0.44781577057862126,0.2234547695293202,null,null,3,{"$f":"Calculations!X7","v":1158779.253800309},698829.60000000009,{"$f":"N30/$C$14","v":0.20053896437892435},{"$f":"P29+O30","v":0.59925764698900696},{"$f":"P29+(0.5*O30)","v":0.49898816479954478},518919.62447110511,0.44781577057862126,0.2234547695293202]
[4,{"$f":"Calculations!W8","v":953879.71787533513},693100.2,{"$f":"C31/$C$14","v":0.19889483261559801},{"$f":"E30+D31","v":0.798152479604605},{"$f":"E30+(0.5*D31)","v":0.69870506329680593},425407.71776450321,0.44597626911708882,0.31160587734232892,null,null,4,{"$f":"Calculations!X8","v":953389.75390331331},693100.2,{"$f":"N31/$C$14","v":0.19889483261559801},{"$f":"P30+O31","v":0.798152479604605},{"$f":"P30+(0.5*O31)","v":0.69870506329680593},425189.20546025911,0.44597626911708882,0.31160587734232892]
[5,{"$f":"Calculations!W9","v":695888.65137496917},703389.60000000009,{"$f":"C32/$C$14","v":0.20184752039539516},{"$f":"E31+D32","v":1.0000000000000002},{"$f":"E31+(0.5*D32)","v":0.89907623980230256},312644.98256746377,0.44927443772753772,0.40393197211136833,null,null,5,{"$f":"Calculations!X9","v":695546.20620802674},703389.60000000009,{"$f":"N32/$C$14","v":0.20184752039539516},{"$f":"P31+O32","v":1.0000000000000002},{"$f":"P31+(0.5*O32)","v":0.89907623980230256},312491.13070763322,0.44927443772753772,0.40393197211136833]
["Total",{"$f":"AVERAGE(B28:B32)","v":1201670.9840866432},{"$f":"SUM(C28:C32)","v":3484757.1999999997},null,null,null,0,0,0,null,null,"Total",{"$f":"AVERAGE(M28:M32)","v":1201180.5763156356},{"$f":"SUM(N28:N32)","v":3484757.1999999997},null,null,null,0,0,0]
[]
["Regression =",{"$f":"LINEST(G28:G32,H28:I32,0)","v":-1348693.7222302153},null,null,null,null,null,null,null,null,null,"Regression =",{"$f":"LINEST(R28:R32,S28:T32,0)","v":-1348458.6822690757}]
[]
["Slope Index Inequality =",{"$f":"B35","v":-1348693.7222302153},"Years of life lost difference between the top and bottom positions ",null,null,null,null,null,null,null,null,"Slope Index Inequality =",{"$f":"M35","v":-1348458.6822690757},"Years of life lost difference between the top and bottom positions "]
["Relative Index Inequality =",{"$f":"-B37/B33","v":1.1223485796782553},null,null,null,null,null,null,null,null,null,"Relative Index Inequality =",{"$f":"-M37/M33","v":1.1226111284659499}]
["According to the regresion equation the YOLL among those at the bottom is ",null,null,null,null,null,null,{"$f":"B38","v":1.1223485796782553},"times higher than the average",null,null,"According to the regresion equation the YOLL among those at the bottom is ",null,null,null,null,null,null,{"$f":"M38","v":1.1226111284659499},"times higher than the average"]
[]
[]
[]
["YEARS OF LIFE LOST: Both sexes combined - 20 YEARS, baseline",null,null,null,null,null,null,null,null,null,null,"YEARS OF LIFE LOST: Both sexes combined - 20 YEARS, policy"]
[null,"Y",null,"a",null,"b",null,null,null,null,null,null,"Y",null,"a",null,"b"]
["SIMD_Q","years of life lost","Pop","proportion of total  population","Cumulative proportion","Relative rank","Y*√a","√a","b*√a",null,null,"SIMD_Q","years of life lost","Pop","proportion of total  population","Cumulative proportion","Relative rank","Y*√a","√a","b*√a"]
[null,null,null,null,0," ",null,null,null,null,null,null,null,null,null,0," "]
[1,{"$f":"Calculations!Z5","v":4318724.4168897578},{"$f":"C28","v":693113.2},{"$f":"C47/$C$14","v":0.19889856314810112},{"$f":"E46+D47","v":0.19889856314810112},{"$f":"E46+(0.5*D47)","v":9.9449281574050558E-2},{"$f":"SQRT(D47)*B47","v":1926066.6654839327},{"$f":"SQRT(D47)","v":0.44598045153134358},{"$f":"F47*SQRT(D47)","v":4.4352435500862798E-2},null,null,1,{"$f":"Calculations!AA5","v":4317558.8126159087},{"$f":"C47","v":693113.2},{"$f":"N47/$C$14","v":0.19889856314810112},{"$f":"P46+O47","v":0.19889856314810112},{"$f":"P46+(0.5*O47)","v":9.9449281574050558E-2},{"$f":"SQRT(O47)*M47","v":1925546.8287635746},{"$f":"SQRT(O47)","v":0.44598045153134358},{"$f":"Q47*SQRT(O47)","v":4.4352435500862798E-2}]
[2,{"$f":"Calculations!Z6","v":3241064.6793099777},{"$f":"C29","v":696324.6},{"$f":"C48/$C$14","v":0.19982011946198147},{"$f":"E47+D48","v":0.39871868261008259},{"$f":"E47+(0.5*D48)","v":0.29880862287909182},1448796.2230543562,0.4470124377038982,0.13357117092012766,null,null,2,{"$f":"Calculations!AA6","v":3239867.2203626311},{"$f":"C48","v":696324.6},{"$f":"N48/$C$14","v":0.19982011946198147},{"$f":"P47+O48","v":0.39871868261008259},{"$f":"P47+(0.5*O48)","v":0.29880862287909182},1448260.9440112524,0.4470124377038982,0.13357117092012766]
[3,{"$f":"Calculations!Z7","v":2797959.2767582098},698829.60000000009,{"$f":"C49/$C$14","v":0.20053896437892435},{"$f":"E48+D49","v":0.59925764698900696},{"$f":"E48+(0.5*D49)","v":0.49898816479954478},1252970.2895690796,0.44781577057862126,0.2234547695293202,null,null,3,{"$f":"Calculations!AA7","v":2796756.758198041},698829.60000000009,{"$f":"N49/$C$14","v":0.20053896437892435},{"$f":"P48+O49","v":0.59925764698900696},{"$f":"P48+(0.5*O49)","v":0.49898816479954478},1252431.7827934225,0.44781577057862126,0.2234547695293202]
[4,{"$f":"Calculations!Z8","v":2322330.6276992406},693100.2,{"$f":"C50/$C$14","v":0.19889483261559801},{"$f":"E49+D50","v":0.798152479604605},{"$f":"E49+(0.5*D50)","v":0.69870506329680593},1035704.3489976543,0.44597626911708882,0.31160587734232892,null,null,4,{"$f":"Calculations!AA8","v":2321196.6657364611},693100.2,{"$f":"N50/$C$14","v":0.19889483261559801},{"$f":"P49+O50","v":0.798152479604605},{"$f":"P49+(0.5*O50)","v":0.69870506329680593},1035198.6288721733,0.44597626911708882,0.31160587734232892]
[5,{"$f":"Calculations!Z9","v":1716552.9503120617},703389.60000000009,{"$f":"C51/$C$14","v":0.20184752039539516},{"$f":"E50+D51","v":1.0000000000000002},{"$f":"E50+(0.5*D51)","v":0.89907623980230256},771203.36158099747,0.44927443772753772,0.40393197211136833,null,null,5,{"$f":"Calculations!AA9","v":1715739.8821638692},703389.60000000009,{"$f":"N51/$C$14","v":0.20184752039539516},{"$f":"P50+O51","v":1.0000000000000002},{"$f":"P50+(0.5*O51)","v":0.89907623980230256},770838.07084588415,0.44927443772753772,0.40393197211136833]
["Total",{"$f":"AVERAGE(B47:B51)","v":2879326.3901938493},{"$f":"SUM(C47:C51)","v":3484757.1999999997},null,null,null,0,0,0,null,null,"Total",{"$f":"AVERAGE(M47:M51)","v":2878223.8678153823},{"$f":"SUM(N47:N51)","v":3484757.1999999997},null,null,null,0,0,0]
[]
["Regression =",{"$f":"LINEST(G47:G51,H47:I51,0)","v":-3061000.4843481123},null,null,null,null,null,null,null,null,null,"Regression =",{"$f":"LINEST(R47:R51,S47:T51,0)","v":-3060613.7785162781}]
[]
["Slope Index Inequality =",{"$f":"B54","v":-3061000.4843481123},"Years of life lost difference between the top and bottom positions ",null,null,null,null,null,null,null,null,"Slope Index Inequality =",{"$f":"M54","v":-3060613.7785162781},"Years of life lost difference between the top and bottom positions "]
["Relative Index Inequality =",{"$f":"-B56/B52","v":1.0630960403700644},null,null,null,null,null,null,null,null,null,"Relative Index Inequality =",{"$f":"-M56/M52","v":1.0633689105077615}]
["According to the regresion equation the YOLL among those at the bottom is ",null,null,null,null,null,null,{"$f":"B57","v":1.0630960403700644},"times higher than the average",null,null,"According to the regresion equation the YOLL among those at the bottom is ",null,null,null,null,null,null,{"$f":"M57","v":1.0633689105077615},"times higher than the average"]