{"text_format":"1","workbook":"xlsx","n_sheets":8,"sheets":["III Tool Overview","RII","Notes ","Calculations","Targeting","Baseline_Data_2012","Prevalence","LookUpData_Pop"],"not_rendered":{"charts":0,"images":1,"macros":1,"external_links":1,"defined_names":4,"comments":4,"pivot_tables":0},"unopened":[],"bounds":{"document_bytes":16777216,"sheet_cells":100000,"rows_first":2000,"rows_last":500,"rows_between":2000,"halvings":0,"cell_chars":16384,"cell_head_chars":4096},"cells_cut":0,"cells_raw":0,"read":"whole","date_system":"1900"}

{"sheet":"III Tool Overview","index":0,"n_rows":60,"n_cols":30,"rows_kept":60,"cut":false,"hidden":false,"merged":[[38,3,38,9],[1,2,1,9],[14,2,14,3],[9,8,9,9],[2,2,3,9]]}
[]
[null,null,"Informing Investment to tackle health Inequalities in Scotland (III) - Employment"]
[null,null,"What is the nature of the intervention?  Adults aged 16-24 not in full-time education, training or employment and adults aged 25-69 not in employment gain a job.  The model assumes that in this 'at risk' group, a maximum of 100% of the unemployed and one-third of the economically inactive (who say they want a job) could benefit from this intervention."]
[null,null,null,null,null,null,null,null,null,null,null,null,null,null,null,null,null,null,null,null,null,null,null,"Geographies"]
[null,null,null,null,null,null,null,null,null,null,null,null,null,null,null,null,null,null,null,null,null,null,null,"Scotland",null,null,null,null,null,"Orkney Health Board"]
[null,null,null,null,null,null,"Geography","Orkney Health Board",null,null,null,null,null,null,null,null,null,null,null,null,null,null,null,"Ayrshire & Arran Health Board",null,null,null,null,null,"Shetland Health Board"]
[null,null,null,null,null,null,"Intervention","Employment",null,null,null,null,null,null,null,null,null,null,null,null,null,null,null,"Borders Health Board",null,null,null,null,null,"Orkney Islands Local Authority"]
[null,null,null,null,null,null,"Number of people gaining employment",144,{"$f":"IF(H8>D23,\"Too high - please check & re-enter\",\"\")","v":""},null,null,null,null,null,null,null,null,null,null,null,null,null,null,"Dumfries & Galloway Health Board",null,null,null,null,null,"Shetland Islands Local Authority"]
[null,null,null,null,null,null,"Number treated at baseline",0,null,null,null,null,null,null,null,null,null,null,null,null,null,null,null,"Fife Health Board"]
[null,null,null,null,null,null,"Targeting strategy","Targeting to Q1 & Q2",{"$f":"IF(H10=\"Even distribution\",\"Interventions are divided evenly across all quintiles\",IF(H10=\"Targeting to Q1\",\"Interventions are targeted at Q1 only\",IF(H10=\"Targeting to Q1 & Q2\",\"Interventions are targeted to Q1 & Q2\",IF(H10=\"Proportionate to need\",\"Targets the distribution of worklessness\"))))","v":"Interventions are targeted to Q1 & Q2"},null,null,null,null,null,null,null,null,null,null,null,null,null,null,"Forth Valley Health Board"]
[null,null,null,null,null,null,"Total direct cost of intervention (£m, 2012 prices)",{"$f":"(H8*D32)/1000000","v":0.64439999999999997},null,null,null,null,null,null,null,null,null,null,null,null,null,null,null,"Grampian Health Board"]
[null,null,null,null,null,null,null,null,null,null,null,null,null,null,null,null,null,null,null,null,null,null,null,"Greater Glasgow & Clyde Health Board"]
[null,null,null,null,null,null,null,null,null,null,null,null,null,null,null,null,null,null,null,null,null,null,null,"Highland Health Board"]
[null,null,null,null,null,null,null,null,null,null,null,null,null,null,null,null,null,null,null,null,null,null,null,"Lanarkshire Health Board"]
[null,null,"Baseline Information: Employment",null,null,null,"Model Outcomes (whole population)","2 years","10 years","20 years",null,null,null,null,null,null,null,null,null,null,null,null,null,"Lothian Health Board"]
[null,null,"Baseline year",2012,null,null,"Years of life gained",{"$f":"Calculations!S86+Calculations!S107+Calculations!S129+Calculations!S150+Calculations!S172+Calculations!S193+Calculations!S215+Calculations!S236+Calculations!S258+Calculations!S279","v":5.1126383629309178},{"$f":"Calculations!Y86+Calculations!Y107+Calculations!Y129+Calculations!Y150+Calculations!Y172+Calculations!Y193+Calculations!Y215+Calculations!Y236+Calculations!Y258+Calculations!Y279","v":29.42100298108511},{"$f":"Calculations!AB86+Calculations!AB107+Calculations!AB129+Calculations!AB150+Calculations!AB172+Calculations!AB193+Calculations!AB215+Calculations!AB236+Calculations!AB258+Calculations!AB279","v":34.27230663622575},null,null,null,null,null,null,null,null,null,null,null,null,null,"Orkney Health Board"]
[null,null,"Age group","16-69",null,null,"Continuous inpatient stays prevented",{"$f":"Calculations!AE86+Calculations!AE107+Calculations!AE129+Calculations!AE150+Calculations!AE172+Calculations!AE193+Calculations!AE215+Calculations!AE236+Calculations!AE258+Calculations!AE279","v":0.41844588558974039},{"$f":"Calculations!AK86+Calculations!AK107+Calculations!AK129+Calculations!AK150+Calculations!AK172+Calculations!AK193+Calculations!AK215+Calculations!AK236+Calculations!AK258+Calculations!AK279","v":1.7574524894936445},{"$f":"Calculations!AN86+Calculations!AN107+Calculations!AN129+Calculations!AN150+Calculations!AN172+Calculations!AN193+Calculations!AN215+Calculations!AN236+Calculations!AN258+Calculations!AN279","v":-0.21349320187857757},null,null,null,null,null,null,null,null,null,null,null,null,null,"Shetland Health Board"]
[null,null,null,null,null,null,null,null,null,null,null,null,null,null,null,null,null,null,null,null,null,null,null,"Tayside Health Board"]
[null,null,"Estimated no. of people out of work",{"$f":"HLOOKUP('III Tool Overview'!$H$6,Baseline_Data_2012!$B$2:$AV$276,Baseline_Data_2012!AW269,FALSE)","v":3855.1322077922077},null,null,"Model Outcomes (Quintiles 1 & 2)","2 years","10 years","20 years",null,null,null,null,null,null,null,null,null,null,null,null,null,"Western Isles Health Board"]
[null,null,"Of which, Q1 only:",{"$f":"HLOOKUP('III Tool Overview'!$H$6,Baseline_Data_2012!$B$2:$AV$276,Baseline_Data_2012!AW270,FALSE)","v":0},null,null,"Years of life gained",{"$f":"Calculations!S86+Calculations!S107+Calculations!S129+Calculations!S150","v":5.1126383629309178},{"$f":"Calculations!Y86+Calculations!Y107+Calculations!Y129+Calculations!Y150","v":29.42100298108511},{"$f":"Calculations!AB86+Calculations!AB107+Calculations!AB129+Calculations!AB150","v":34.27230663622575},null,null,null,null,null,null,null,null,null,null,null,null,null,"Aberdeen City Local Authority"]
[null,null,"Of which, Q1 & Q2:",{"$f":"HLOOKUP('III Tool Overview'!$H$6,Baseline_Data_2012!$B$2:$AV$276,Baseline_Data_2012!AW271,FALSE)","v":1020.0661904761905},null,null,"Continuous inpatient stays prevented",{"$f":"Calculations!AE86+Calculations!AE107+Calculations!AE129+Calculations!AE150","v":0.41844588558974039},{"$f":"Calculations!AK86+Calculations!AK107+Calculations!AK129+Calculations!AK150","v":1.7574524894936445},{"$f":"Calculations!AN86+Calculations!AN107+Calculations!AN129+Calculations!AN150","v":-0.21349320187857757},null,null,null,null,null,null,null,null,null,null,null,null,null,"Aberdeenshire Local Authority"]
[null,null,null,null,null,null,null,null,null,null,null,null,null,null,null,null,null,null,null,null,null,null,null,"Angus Local Authority"]
[null,null,"Number of non-employed who want a job",{"$f":"HLOOKUP('III Tool Overview'!$H$6,Baseline_Data_2012!$B$2:$AV$276,Baseline_Data_2012!AW273,FALSE)","v":1310.7449506493508},null,null,"Model Outcomes (comparative health inequalities)","2 years","10 years","20 years",null,null,null,null,null,null,null,null,null,null,null,null,null,"Argyll & Bute Local Authority"]
[null,null,"Of which, Q1 only:",{"$f":"HLOOKUP('III Tool Overview'!$H$6,Baseline_Data_2012!$B$2:$AV$276,Baseline_Data_2012!AW274,FALSE)","v":0},null,null,"RII: Years of life lost (without intervention)",{"$f":"RII!H20","v":-0.99053777256792697},{"$f":"RII!H39","v":-1.0742775968709792},{"$f":"RII!H58","v":-1.1510899195059032},null,null,null,null,null,null,null,null,null,null,null,null,null,"Clackmannanshire Local Authority"]
[null,null,"Of which, Q1 & Q2:",{"$f":"HLOOKUP('III Tool Overview'!$H$6,Baseline_Data_2012!$B$2:$AV$276,Baseline_Data_2012!AW275,FALSE)","v":346.82250476190478},null,null,"RII: Years of life lost (with intervention)",{"$f":"RII!S20","v":-1.0010877568546759},{"$f":"RII!S39","v":-1.0806559439791703},{"$f":"RII!S58","v":-1.154350609063644},null,null,null,null,null,null,null,null,null,null,null,null,null,"Dumfries & Galloway Local Authority"]
[null,null,null,null,null,null,"RII: years of life lost (difference)",{"$f":"H25-H24","v":-1.0549984286748915E-2},{"$f":"I25-I24","v":-6.3783471081910736E-3},-3.2606895577407258E-3,null,null,null,null,null,null,null,null,null,null,null,null,null,"Dundee City Local Authority"]
[null,null,"Annual continuous inpatient stays (2012)",{"$f":"HLOOKUP('III Tool Overview'!$H$6,Baseline_Data_2012!$B$2:$AW$2279,Baseline_Data_2012!AW277,FALSE)","v":3525},null,null,"RII: continuous inpatient stays (without intervention)",{"$f":"RII!H77","v":-1.3858420030039429},{"$f":"RII!H96","v":-1.4181542820213384},{"$f":"RII!H115","v":-1.4756130515995582},null,null,null,null,null,null,null,null,null,null,null,null,null,"East Ayrshire Local Authority"]
[null,null,"Of which, Q1 only:",{"$f":"HLOOKUP('III Tool Overview'!$H$6,Baseline_Data_2012!$B$2:$AW$2279,Baseline_Data_2012!AW278,FALSE)","v":0},null,null,"RII: continuous inpatient stays (with intervention)",{"$f":"RII!S77","v":-1.3867790211062061},{"$f":"RII!S96","v":-1.4185535980726578},{"$f":"RII!S115","v":-1.4755922018872147},null,null,null,null,null,null,null,null,null,null,null,null,null,"East Dunbartonshire Local Authority"]
[null,null,"Of which, Q1 & Q2:",{"$f":"HLOOKUP('III Tool Overview'!$H$6,Baseline_Data_2012!$B$2:$AW$2279,Baseline_Data_2012!AW279,FALSE)","v":673},null,null,"RII: continuous inpatient stays (difference)",{"$f":"H28-H27","v":-9.3701810226320958E-4},{"$f":"I28-I27","v":-3.9931605131937609E-4},2.0849712343506965E-5,null,null,null,null,null,null,null,null,null,null,null,null,null,"East Lothian Local Authority"]
[null,null,null,null,null,null,null,null,null,null,null,null,null,null,null,null,null,null,null,null,null,null,null,"East Renfrewshire Local Authority"]
[null,null,"Direct financial costs of intervention",null,null,null,"Direct financial savings","2 years","10 years","20 years",null,null,null,null,null,null,null,null,null,null,null,null,null,"Edinburgh, City of Local Authority"]
[null,null,"Cost per intervention (£, 2012 prices)",4475,null,null,"Reduced continuous inpatient stays (£'000s) - all",{"$f":"(H17*2445)/1000","v":1.0231001902669152},{"$f":"(I17*2445)/1000","v":4.2969713368119606},{"$f":"(J17*2445)/1000","v":-0.5219908785931221},null,null,null,null,null,null,null,null,null,null,null,null,null,"Eilean Siar Local Authority"]
[null,null,null,null,null,null,"Reduced continuous inpatient stays (£'000s) - Q 1 & 2",{"$f":"(H21*2445)/1000","v":1.0231001902669152},{"$f":"(I21*2445)/1000","v":4.2969713368119606},{"$f":"(J21*2445)/1000","v":-0.5219908785931221},null,null,null,null,null,null,null,null,null,null,null,null,null,"Falkirk Local Authority"]
[null,null,null,null,null,null,null,null,null,null,null,null,null,null,null,null,null,null,null,null,null,null,null,"Fife Local Authority"]
[null,null,null,null,null,null,"How are costs and financial savings estimated?",null,null,null,null,null,null,null,null,null,null,null,null,null,null,null,null,"Glasgow City Local Authority"]
[null,null,null,null,null,null,"The cost per job created is assumed to be the £4400 cited in Beatty and Fothergill (2011), adjusted to 2012 prices. ",null,null,null,null,null,null,null,null,null,null,null,null,null,null,null,null,"Highland Local Authority"]
[null,null,null,null,null,null,"Geue et al. (2012) estimated the cost of a continuous inpatient stay at £2113 in 2006/07 - this has been adjusted to 2012/13 prices.",null,null,null,null,null,null,null,null,null,null,null,null,null,null,null,null,"Inverclyde Local Authority"]
[null,null,null,null,null,null,null,null,null,null,null,null,null,null,null,null,null,null,null,null,null,null,null,"Midlothian Local Authority"]
[null,null,null,null,null,null,null,null,null,null,null,null,null,null,null,null,null,null,null,null,null,null,null,"Moray Local Authority"]
[null,null,null,null,null,null,null,null,null,null,null,null,null,null,null,null,null,null,null,null,null,null,null,"North Ayrshire Local Authority"]
[null,null,null,null,null,null,null,null,null,null,null,null,null,null,null,null,null,null,null,null,null,null,null,"North Lanarkshire Local Authority"]
[null,null,null,null,null,null,null,null,null,null,null,null,null,null,null,null,null,null,null,null,null,null,null,"Orkney Islands Local Authority"]
[null,null,null,null,null,null,null,null,null,null,null,null,null,null,null,null,null,null,null,null,null,null,null,"Perth & Kinross Local Authority"]
[null,null,null,null,null,null,null,null,null,null,null,null,null,null,null,null,null,null,null,null,null,null,null,"Renfrewshire Local Authority"]
[null,null,null,null,null,null,null,null,null,null,null,null,null,null,null,null,null,null,null,null,null,null,null,"Scottish Borders Local Authority"]
[null,null,null,null,null,null,null,null,null,null,null,null,null,null,null,null,null,null,null,null,null,null,null,"Shetland Islands Local Authority"]
[null,null,null,null,null,null,null,null,null,null,null,null,null,null,null,null,null,null,null,null,null,null,null,"South Ayrshire Local Authority"]
[null,null,null,null,null,null,null,null,null,null,null,null,null,null,null,null,null,null,null,null,null,null,null,"South Lanarkshire Local Authority"]
[null,null,null,null,null,null,null,null,null,null,null,null,null,null,null,null,null,null,null,null,null,null,null,"Stirling Local Authority"]
[null,null,null,null,null,null,null,null,null,null,null,null,null,null,null,null,null,null,null,null,null,null,null,"West Dunbartonshire Local Authority"]
[null,null,null,null,null,null,null,null,null,null,null,null,null,null,null,null,null,null,null,null,null,null,null,"West Lothian Local Authority"]
[]
[]
[]
[]
[]
[null,null,null,null,null,null,null,null,null,null,null,null,null,null,null,null,null,null,null,null,null,null,null,"Even distribution"]
[null,null,null,null,null,null,null,null,null,null,null,null,null,null,null,null,null,null,null,null,null,null,null,"Targeting to Q1"]
[null,null,null,null,null,null,null,null,null,null,null,null,null,null,null,null,null,null,null,null,null,null,null,"Targeting to Q1 & Q2"]
[null,null,null,null,null,null,null,null,null,null,null,null,null,null,null,null,null,null,null,null,null,null,null,"Proportionate to need"]

{"sheet":"RII","index":1,"n_rows":115,"n_cols":20,"rows_kept":115,"cut":false,"hidden":false,"merged":[]}
["This sheet calculates the Relative Index of Inequality for the III Tool Overview page."]
["For more information on measuring inequalities in health, please see: "]
["http://www.scotpho.org.uk/downloads/scotphoreports/scotpho071009_measuringinequalities_rep.pdf"]
["THESE TABLES CALCULATE THE RII FOR YEARS OF LIFE LOST, BEFORE AND AFTER THE POLICY"]
["YEARS OF LIFE LOST: Both sexes combined - 2 YEARS, baseline",null,null,null,null,null,null,null,null,null,null,"YEARS OF LIFE LOST: Both sexes combined - 2 YEARS, policy"]
[null,"Y",null,"a",null,"b",null,null,null,null,null,null,"Y",null,"a",null,"b"]
["SIMD_Q","years of life lost","Pop","proportion of total  population","Cumulative proportion","Relative rank","Y*√a","√a","b*√a",null,null,"SIMD_Q","years of life lost","Pop","proportion of total  population","Cumulative proportion","Relative rank","Y*√a","√a","b*√a"]
[null,null,null,null,0," ",null,null,null,null,null,null,null,null,null,0," "]
[1,{"$f":"Calculations!I5","v":0},{"$f":"Calculations!F5","v":0},{"$f":"C9/$C$14","v":0},{"$f":"E8+D9","v":0},{"$f":"E8+(0.5*D9)","v":0},{"$f":"SQRT(D9)*B9","v":0},{"$f":"SQRT(D9)","v":0},{"$f":"F9*SQRT(D9)","v":0},null,null,1,{"$f":"Calculations!J5","v":0},{"$f":"C9","v":0},{"$f":"N9/$C$14","v":0},{"$f":"P8+O9","v":0},{"$f":"P8+(0.5*O9)","v":0},{"$f":"SQRT(O9)*M9","v":0},{"$f":"SQRT(O9)","v":0},{"$f":"Q9*SQRT(O9)","v":0}]
[2,{"$f":"Calculations!I6","v":18.962374677339685},{"$f":"Calculations!F6","v":3045.6000000000004},{"$f":"C10/$C$14","v":0.2119828498246005},{"$f":"E9+D10","v":0.2119828498246005},{"$f":"E9+(0.5*D10)","v":0.10599142491230025},8.7305798091927365,0.46041595305180349,{"$f":"F10*SQRT(D10)","v":4.8800142916315389E-2},null,null,2,{"$f":"Calculations!J6","v":18.842556438468314},{"$f":"C10","v":3045.6000000000004},{"$f":"N10/$C$14","v":0.2119828498246005},{"$f":"P9+O10","v":0.2119828498246005},{"$f":"P9+(0.5*O10)","v":0.10599142491230025},8.675413580549785,0.46041595305180349,4.8800142916315389E-2]
[3,{"$f":"Calculations!I7","v":15.808234260562141},{"$f":"Calculations!F7","v":2995.2},{"$f":"C11/$C$14","v":0.20847485940197114},{"$f":"E10+D11","v":0.42045770922657166},{"$f":"E10+(0.5*D11)","v":0.31622027952558607},7.2178891473774147,0.45659047230748379,{"$f":"F11*SQRT(D11)","v":0.14438316678179189},null,null,3,{"$f":"Calculations!J7","v":15.808234260562141},2995.2,{"$f":"N11/$C$14","v":0.20847485940197114},{"$f":"P10+O11","v":0.42045770922657166},{"$f":"P10+(0.5*O11)","v":0.31622027952558607},7.2178891473774147,0.45659047230748379,0.14438316678179189]
[4,{"$f":"Calculations!I8","v":31.020011116325946},{"$f":"Calculations!F8","v":7868.4},0.54766412383763008,{"$f":"E11+D12","v":0.96812183306420174},{"$f":"E11+(0.5*D12)","v":0.6942897711453867},22.956152188194764,0.74004332564899877,0.51380451120251425,null,null,4,{"$f":"Calculations!J8","v":31.020011116325946},7868.4,{"$f":"N12/$C$14","v":0.54766412383763008},{"$f":"P11+O12","v":0.96812183306420174},{"$f":"P11+(0.5*O12)","v":0.6942897711453867},22.956152188194764,0.74004332564899877,0.51380451120251425]
[5,{"$f":"Calculations!I9","v":1.301937842683407},{"$f":"Calculations!F9","v":458},3.1878166935798202E-2,{"$f":"E12+D13","v":1},{"$f":"E12+(0.5*D13)","v":0.98406091653210082},{"$f":"SQRT(D13)*B13","v":0.23245394490120375},0.17854457968753407,0.17569874272915348,null,null,5,{"$f":"Calculations!J9","v":1.301937842683407},458,{"$f":"N13/$C$14","v":3.1878166935798202E-2},{"$f":"P12+O13","v":1},{"$f":"P12+(0.5*O13)","v":0.98406091653210082},0.23245394490120375,0.17854457968753407,0.17569874272915348]
["Total",{"$f":"AVERAGE(B10:B13)","v":16.773139474227793},{"$f":"SUM(C9:C13)","v":14367.2},null,null,null,0,0,0,null,null,"Total",{"$f":"AVERAGE(M10:M13)","v":16.74318491450995},{"$f":"SUM(N9:N13)","v":14367.2},null,null,null,0,0,0]
[]
["Regression =",{"$f":"LINEST(G10:G13,H10:I13,0)","v":16.614428213772769},null,null,null,null,null,null,null,null,null,"Regression =",{"$f":"LINEST(R10:R13,S10:T13,0)","v":16.761397428669813}]
[]
["Slope Index Inequality =",{"$f":"B16","v":16.614428213772769},"Years of life lost difference between the top and bottom positions ",null,null,null,null,null,null,null,null,"Slope Index Inequality =",{"$f":"M16","v":16.761397428669813},"Years of life lost difference between the top and bottom positions "]
["Relative Index Inequality =",{"$f":"-B18/B14","v":-0.99053777256792697},null,null,null,null,null,null,null,null,null,"Relative Index Inequality =",{"$f":"-M18/M14","v":-1.0010877568546759}]
["According to the regresion equation the YOLL among those at the bottom is ",null,null,null,null,null,null,{"$f":"B19","v":-0.99053777256792697},"times higher than the average",null,null,"According to the regresion equation the YOLL among those at the bottom is ",null,null,null,null,null,null,{"$f":"M19","v":-1.0010877568546759},"times higher than the average"]
[]
[]
[]
["YEARS OF LIFE LOST: Both sexes combined - 10 YEARS, baseline",null,null,null,null,null,null,null,null,null,null,"YEARS OF LIFE LOST: Both sexes combined - 10 YEARS, policy"]
[null,"Y",null,"a",null,"b",null,null,null,null,null,null,"Y",null,"a",null,"b"]
["SIMD_Q","years of life lost","Pop","proportion of total  population","Cumulative proportion","Relative rank","Y*√a","√a","b*√a",null,null,"SIMD_Q","years of life lost","Pop","proportion of total  population","Cumulative proportion","Relative rank","Y*√a","√a","b*√a"]
[null,null,null,null,0," ",null,null,null,null,null,null,null,null,null,0," "]
[1,{"$f":"Calculations!W5","v":0},{"$f":"C9","v":0},{"$f":"C28/$C$14","v":0},{"$f":"E27+D28","v":0},{"$f":"E27+(0.5*D28)","v":0},{"$f":"SQRT(D28)*B28","v":0},{"$f":"SQRT(D28)","v":0},{"$f":"F28*SQRT(D28)","v":0},null,null,1,{"$f":"Calculations!X5","v":0},{"$f":"C28","v":0},{"$f":"N28/$C$14","v":0},{"$f":"P27+O28","v":0},{"$f":"P27+(0.5*O28)","v":0},{"$f":"SQRT(O28)*M28","v":0},{"$f":"SQRT(O28)","v":0},{"$f":"Q28*SQRT(O28)","v":0}]
[2,{"$f":"Calculations!W6","v":7652.4098605860345},{"$f":"C10","v":3045.6000000000004},{"$f":"C29/$C$14","v":0.2119828498246005},{"$f":"E28+D29","v":0.2119828498246005},{"$f":"E28+(0.5*D29)","v":0.10599142491230025},3523.2915791047376,0.46041595305180349,4.8800142916315389E-2,null,null,2,{"$f":"Calculations!X6","v":7622.9888576049489},{"$f":"C29","v":3045.6000000000004},{"$f":"N29/$C$14","v":0.2119828498246005},{"$f":"P28+O29","v":0.2119828498246005},{"$f":"P28+(0.5*O29)","v":0.10599142491230025},3509.7456799774614,0.46041595305180349,4.8800142916315389E-2]
[3,{"$f":"Calculations!W7","v":6422.1078681269501},2995.2,{"$f":"C30/$C$14","v":0.20847485940197114},{"$f":"E29+D30","v":0.42045770922657166},{"$f":"E29+(0.5*D30)","v":0.31622027952558607},2932.2732647176917,0.45659047230748379,0.14438316678179189,null,null,3,{"$f":"Calculations!X7","v":6422.1078681269501},2995.2,{"$f":"N30/$C$14","v":0.20847485940197114},{"$f":"P29+O30","v":0.42045770922657166},{"$f":"P29+(0.5*O30)","v":0.31622027952558607},2932.2732647176917,0.45659047230748379,0.14438316678179189]
[4,{"$f":"Calculations!W8","v":12984.745423941406},7868.4,{"$f":"C31/$C$14","v":0.54766412383763008},{"$f":"E30+D31","v":0.96812183306420174},{"$f":"E30+(0.5*D31)","v":0.6942897711453867},9609.2741862392159,0.74004332564899877,0.51380451120251425,null,null,4,{"$f":"Calculations!X8","v":12984.745423941406},7868.4,{"$f":"N31/$C$14","v":0.54766412383763008},{"$f":"P30+O31","v":0.96812183306420174},{"$f":"P30+(0.5*O31)","v":0.6942897711453867},9609.2741862392159,0.74004332564899877,0.51380451120251425]
[5,{"$f":"Calculations!W9","v":556.88065078509135},458,{"$f":"C32/$C$14","v":3.1878166935798202E-2},{"$f":"E31+D32","v":1},{"$f":"E31+(0.5*D32)","v":0.98406091653210082},99.428021730544572,0.17854457968753407,0.17569874272915348,null,null,5,{"$f":"Calculations!X9","v":556.88065078509135},458,{"$f":"N32/$C$14","v":3.1878166935798202E-2},{"$f":"P31+O32","v":1},{"$f":"P31+(0.5*O32)","v":0.98406091653210082},99.428021730544572,0.17854457968753407,0.17569874272915348]
["Total",{"$f":"AVERAGE(B29:B32)","v":6904.0359508598704},{"$f":"SUM(C28:C32)","v":14367.2},null,null,null,0,0,0,null,null,"Total",{"$f":"AVERAGE(M29:M32)","v":6896.6807001145989},{"$f":"SUM(N28:N32)","v":14367.2},null,null,null,0,0,0]
[]
["Regression =",{"$f":"LINEST(G29:G32,H29:I32,0)","v":7416.8511500005879},null,null,null,null,null,null,null,null,null,"Regression =",{"$f":"LINEST(R29:R32,S29:T32,0)","v":7452.9389923052668}]
[]
["Slope Index Inequality =",{"$f":"B35","v":7416.8511500005879},"Years of life lost difference between the top and bottom positions ",null,null,null,null,null,null,null,null,"Slope Index Inequality =",{"$f":"M35","v":7452.9389923052668},"Years of life lost difference between the top and bottom positions "]
["Relative Index Inequality =",{"$f":"-B37/B33","v":-1.0742775968709792},null,null,null,null,null,null,null,null,null,"Relative Index Inequality =",{"$f":"-M37/M33","v":-1.0806559439791703}]
["According to the regresion equation the YOLL among those at the bottom is ",null,null,null,null,null,null,{"$f":"B38","v":-1.0742775968709792},"times higher than the average",null,null,"According to the regresion equation the YOLL among those at the bottom is ",null,null,null,null,null,null,{"$f":"M38","v":-1.0806559439791703},"times higher than the average"]
[]
[]
[]
["YEARS OF LIFE LOST: Both sexes combined - 20 YEARS, baseline",null,null,null,null,null,null,null,null,null,null,"YEARS OF LIFE LOST: Both sexes combined - 20 YEARS, policy"]
[null,"Y",null,"a",null,"b",null,null,null,null,null,null,"Y",null,"a",null,"b"]
["SIMD_Q","years of life lost","Pop","proportion of total  population","Cumulative proportion","Relative rank","Y*√a","√a","b*√a",null,null,"SIMD_Q","years of life lost","Pop","proportion of total  population","Cumulative proportion","Relative rank","Y*√a","√a","b*√a"]
[null,null,null,null,0," ",null,null,null,null,null,null,null,null,null,0," "]
[1,{"$f":"Calculations!Z5","v":0},{"$f":"C28","v":0},{"$f":"C47/$C$14","v":0},{"$f":"E46+D47","v":0},{"$f":"E46+(0.5*D47)","v":0},{"$f":"SQRT(D47)*B47","v":0},{"$f":"SQRT(D47)","v":0},{"$f":"F47*SQRT(D47)","v":0},null,null,1,{"$f":"Calculations!AA5","v":0},{"$f":"C47","v":0},{"$f":"N47/$C$14","v":0},{"$f":"P46+O47","v":0},{"$f":"P46+(0.5*O47)","v":0},{"$f":"SQRT(O47)*M47","v":0},{"$f":"SQRT(O47)","v":0},{"$f":"Q47*SQRT(O47)","v":0}]
[2,{"$f":"Calculations!Z6","v":17276.057285426788},{"$f":"C29","v":3045.6000000000004},{"$f":"C48/$C$14","v":0.2119828498246005},{"$f":"E47+D48","v":0.2119828498246005},{"$f":"E47+(0.5*D48)","v":0.10599142491230025},7954.1723800473283,0.46041595305180349,4.8800142916315389E-2,null,null,2,{"$f":"Calculations!AA6","v":17241.784978790565},{"$f":"C48","v":3045.6000000000004},{"$f":"N48/$C$14","v":0.2119828498246005},{"$f":"P47+O48","v":0.2119828498246005},{"$f":"P47+(0.5*O48)","v":0.10599142491230025},7938.3928633241276,0.46041595305180349,4.8800142916315389E-2]
[3,{"$f":"Calculations!Z7","v":14703.966480780418},2995.2,{"$f":"C49/$C$14","v":0.20847485940197114},{"$f":"E48+D49","v":0.42045770922657166},{"$f":"E48+(0.5*D49)","v":0.31622027952558607},6713.6910002529412,0.45659047230748379,0.14438316678179189,null,null,3,{"$f":"Calculations!AA7","v":14703.966480780418},2995.2,{"$f":"N49/$C$14","v":0.20847485940197114},{"$f":"P48+O49","v":0.42045770922657166},{"$f":"P48+(0.5*O49)","v":0.31622027952558607},6713.6910002529412,0.45659047230748379,0.14438316678179189]
[4,{"$f":"Calculations!Z8","v":30393.915735663482},7868.4,{"$f":"C50/$C$14","v":0.54766412383763008},{"$f":"E49+D50","v":0.96812183306420174},{"$f":"E49+(0.5*D50)","v":0.6942897711453867},22492.814480515837,0.74004332564899877,0.51380451120251425,null,null,4,{"$f":"Calculations!AA8","v":30393.915735663482},7868.4,{"$f":"N50/$C$14","v":0.54766412383763008},{"$f":"P49+O50","v":0.96812183306420174},{"$f":"P49+(0.5*O50)","v":0.6942897711453867},22492.814480515837,0.74004332564899877,0.51380451120251425]
[5,{"$f":"Calculations!Z9","v":1329.17796700646},458,{"$f":"C51/$C$14","v":3.1878166935798202E-2},{"$f":"E50+D51","v":1},{"$f":"E50+(0.5*D51)","v":0.98406091653210082},237.31752144909942,0.17854457968753407,0.17569874272915348,null,null,5,{"$f":"Calculations!AA9","v":1329.17796700646},458,{"$f":"N51/$C$14","v":3.1878166935798202E-2},{"$f":"P50+O51","v":1},{"$f":"P50+(0.5*O51)","v":0.98406091653210082},237.31752144909942,0.17854457968753407,0.17569874272915348]
["Total",{"$f":"AVERAGE(B48:B51)","v":15925.779367219286},{"$f":"SUM(C47:C51)","v":14367.2},null,null,null,0,0,0,null,null,"Total",{"$f":"AVERAGE(M48:M51)","v":15917.21129056023},{"$f":"SUM(N47:N51)","v":14367.2},null,null,null,0,0,0]
[]
["Regression =",{"$f":"LINEST(G48:G51,H48:I51,0)","v":18332.004089881222},null,null,null,null,null,null,null,null,null,"Regression =",{"$f":"LINEST(R48:R51,S48:T51,0)","v":18374.042547852911}]
[]
["Slope Index Inequality =",{"$f":"B54","v":18332.004089881222},"Years of life lost difference between the top and bottom positions ",null,null,null,null,null,null,null,null,"Slope Index Inequality =",{"$f":"M54","v":18374.042547852911},"Years of life lost difference between the top and bottom positions "]
["Relative Index Inequality =",{"$f":"-B56/B52","v":-1.1510899195059032},null,null,null,null,null,null,null,null,null,"Relative Index Inequality =",{"$f":"-M56/M52","v":-1.154350609063644}]
["According to the regresion equation the YOLL among those at the bottom is ",null,null,null,null,null,null,{"$f":"B57","v":-1.1510899195059032},"times higher than the average",null,null,"According to the regresion equation the YOLL among those at the bottom is ",null,null,null,null,null,null,{"$f":"M57","v":-1.154350609063644},"times higher than the average"]
[]
[]
[]
["Hospital admissions: Both sexes combined - 2 YEARS, baseline",null,null,null,null,null,null,null,null,null,null,"Hospital admissions: Both sexes combined - 2 YEARS, policy"]
[null,"Y",null,"a",null,"b",null,null,null,null,null,null,"Y",null,"a",null,"b"]
["SIMD_Q","hospital admissions","Pop","proportion of total  population","Cumulative proportion","Relative rank","Y*√a","√a","b*√a",null,null,"SIMD_Q","hospital admissions","Pop","proportion of total  population","Cumulative proportion","Relative rank","Y*√a","√a","b*√a"]
[null,null,null,null,0," ",null,null,null,null,null,null,null,null,null,0," "]
[1,{"$f":"Calculations!AC5","v":0},{"$f":"C9","v":0},{"$f":"C66/$C$14","v":0},{"$f":"E65+D66","v":0},{"$f":"E65+(0.5*D66)","v":0},{"$f":"SQRT(D66)*B66","v":0},{"$f":"SQRT(D66)","v":0},{"$f":"F66*SQRT(D66)","v":0},null,null,1,{"$f":"Calculations!AD5","v":0},{"$f":"C66","v":0},{"$f":"N66/$C$14","v":0},{"$f":"P65+O66","v":0},{"$f":"P65+(0.5*O66)","v":0},{"$f":"SQRT(O66)*M66","v":0},{"$f":"SQRT(O66)","v":0},{"$f":"Q66*SQRT(O66)","v":0}]
[2,{"$f":"Calculations!AC6","v":717.44737697495157},{"$f":"C10","v":3045.6000000000004},{"$f":"C67/$C$14","v":0.2119828498246005},{"$f":"E66+D67","v":0.2119828498246005},{"$f":"E66+(0.5*D67)","v":0.10599142491230025},330.32421783443885,0.46041595305180349,4.8800142916315389E-2,null,null,2,{"$f":"Calculations!AD6","v":717.02893108936189},{"$f":"C67","v":3045.6000000000004},{"$f":"N67/$C$14","v":0.2119828498246005},{"$f":"P66+O67","v":0.2119828498246005},{"$f":"P66+(0.5*O67)","v":0.10599142491230025},330.1315586732245,0.46041595305180349,4.8800142916315389E-2]
[3,{"$f":"Calculations!AC7","v":621.15144846921999},2995.2,{"$f":"C68/$C$14","v":0.20847485940197114},{"$f":"E67+D68","v":0.42045770922657166},{"$f":"E67+(0.5*D68)","v":0.31622027952558607},283.61183323103882,0.45659047230748379,0.14438316678179189,null,null,3,{"$f":"Calculations!AD7","v":621.15144846921999},2995.2,{"$f":"N68/$C$14","v":0.20847485940197114},{"$f":"P67+O68","v":0.42045770922657166},{"$f":"P67+(0.5*O68)","v":0.31622027952558607},283.61183323103882,0.45659047230748379,0.14438316678179189]
[4,{"$f":"Calculations!AC8","v":1399.4232569351398},7868.4,{"$f":"C69/$C$14","v":0.54766412383763008},{"$f":"E68+D69","v":0.96812183306420174},{"$f":"E68+(0.5*D69)","v":0.6942897711453867},1035.6338410528342,0.74004332564899877,0.51380451120251425,null,null,4,{"$f":"Calculations!AD8","v":1399.4232569351398},7868.4,{"$f":"N69/$C$14","v":0.54766412383763008},{"$f":"P68+O69","v":0.96812183306420174},{"$f":"P68+(0.5*O69)","v":0.6942897711453867},1035.6338410528342,0.74004332564899877,0.51380451120251425]
[5,{"$f":"Calculations!AC9","v":72.336800407377837},458,{"$f":"C70/$C$14","v":3.1878166935798202E-2},{"$f":"E69+D70","v":1},{"$f":"E69+(0.5*D70)","v":0.98406091653210082},12.91534362467632,0.17854457968753407,0.17569874272915348,null,null,5,{"$f":"Calculations!AD9","v":72.336800407377837},458,{"$f":"N70/$C$14","v":3.1878166935798202E-2},{"$f":"P69+O70","v":1},{"$f":"P69+(0.5*O70)","v":0.98406091653210082},12.91534362467632,0.17854457968753407,0.17569874272915348]
["Total",{"$f":"AVERAGE(B67:B70)","v":702.58972069667232},{"$f":"SUM(C66:C70)","v":14367.2},null,null,null,0,0,0,null,null,"Total",{"$f":"AVERAGE(M67:M70)","v":702.48510922527487},{"$f":"SUM(N66:N70)","v":14367.2},null,null,null,0,0,0]
[]
["Regression =",{"$f":"LINEST(G67:G70,H67:I70,0)","v":973.67834582025716},null,null,null,null,null,null,null,null,null,"Regression =",{"$f":"LINEST(R67:R70,S67:T70,0)","v":974.19161211311291}]
[]
["Slope Index Inequality =",{"$f":"B73","v":973.67834582025716},"Years of life lost difference between the top and bottom positions ",null,null,null,null,null,null,null,null,"Slope Index Inequality =",{"$f":"M73","v":974.19161211311291},"Years of life lost difference between the top and bottom positions "]
["Relative Index Inequality =",{"$f":"-B75/B71","v":-1.3858420030039429},null,null,null,null,null,null,null,null,null,"Relative Index Inequality =",{"$f":"-M75/M71","v":-1.3867790211062061}]
["According to the regresion equation the YOLL among those at the bottom is ",null,null,null,null,null,null,{"$f":"B76","v":-1.3858420030039429},"times higher than the average",null,null,"According to the regresion equation the YOLL among those at the bottom is ",null,null,null,null,null,null,{"$f":"M76","v":-1.3867790211062061},"times higher than the average"]
[]
[]
[]
["Hospital admissions:  Both sexes combined - 10 YEARS, baseline",null,null,null,null,null,null,null,null,null,null,"Hospital admissions: Both sexes combined - 10 YEARS, policy"]
[null,"Y",null,"a",null,"b",null,null,null,null,null,null,"Y",null,"a",null,"b"]
["SIMD_Q","hospital admissions","Pop","proportion of total  population","Cumulative proportion","Relative rank","Y*√a","√a","b*√a",null,null,"SIMD_Q","hospital admissions","Pop","proportion of total  population","Cumulative proportion","Relative rank","Y*√a","√a","b*√a"]
[null,null,null,null,0," ",null,null,null,null,null,null,null,null,null,0," "]
[1,{"$f":"Calculations!AI5","v":0},{"$f":"C66","v":0},{"$f":"C85/$C$14","v":0},{"$f":"E84+D85","v":0},{"$f":"E84+(0.5*D85)","v":0},{"$f":"SQRT(D85)*B85","v":0},{"$f":"SQRT(D85)","v":0},{"$f":"F85*SQRT(D85)","v":0},null,null,1,{"$f":"Calculations!AJ5","v":0},{"$f":"C85","v":0},{"$f":"N85/$C$14","v":0},{"$f":"P84+O85","v":0},{"$f":"P84+(0.5*O85)","v":0},{"$f":"SQRT(O85)*M85","v":0},{"$f":"SQRT(O85)","v":0},{"$f":"Q85*SQRT(O85)","v":0}]
[2,{"$f":"Calculations!AI6","v":7034.5958667430814},{"$f":"C67","v":3045.6000000000004},{"$f":"C86/$C$14","v":0.2119828498246005},{"$f":"E85+D86","v":0.2119828498246005},{"$f":"E85+(0.5*D86)","v":0.10599142491230025},3238.8401603207935,0.46041595305180349,4.8800142916315389E-2,null,null,2,{"$f":"Calculations!AJ6","v":7032.838414253587},{"$f":"C86","v":3045.6000000000004},{"$f":"N86/$C$14","v":0.2119828498246005},{"$f":"P85+O86","v":0.2119828498246005},{"$f":"P85+(0.5*O86)","v":0.10599142491230025},3238.0310011578995,0.46041595305180349,4.8800142916315389E-2]
[3,{"$f":"Calculations!AI7","v":6135.1160592657325},2995.2,{"$f":"C87/$C$14","v":0.20847485940197114},{"$f":"E86+D87","v":0.42045770922657166},{"$f":"E86+(0.5*D87)","v":0.31622027952558607},2801.2355391613696,0.45659047230748379,0.14438316678179189,null,null,3,{"$f":"Calculations!AJ7","v":6135.1160592657325},2995.2,{"$f":"N87/$C$14","v":0.20847485940197114},{"$f":"P86+O87","v":0.42045770922657166},{"$f":"P86+(0.5*O87)","v":0.31622027952558607},2801.2355391613696,0.45659047230748379,0.14438316678179189]
[4,{"$f":"Calculations!AI8","v":13941.363107896183},7868.4,{"$f":"C88/$C$14","v":0.54766412383763008},{"$f":"E87+D88","v":0.96812183306420174},{"$f":"E87+(0.5*D88)","v":0.6942897711453867},10317.212718447752,0.74004332564899877,0.51380451120251425,null,null,4,{"$f":"Calculations!AJ8","v":13941.363107896183},7868.4,{"$f":"N88/$C$14","v":0.54766412383763008},{"$f":"P87+O88","v":0.96812183306420174},{"$f":"P87+(0.5*O88)","v":0.6942897711453867},10317.212718447752,0.74004332564899877,0.51380451120251425]
[5,{"$f":"Calculations!AI9","v":726.06043604250522},458,{"$f":"C89/$C$14","v":3.1878166935798202E-2},{"$f":"E88+D89","v":1},{"$f":"E88+(0.5*D89)","v":0.98406091653210082},129.6341553809568,0.17854457968753407,0.17569874272915348,null,null,5,{"$f":"Calculations!AJ9","v":726.06043604250522},458,{"$f":"N89/$C$14","v":3.1878166935798202E-2},{"$f":"P88+O89","v":1},{"$f":"P88+(0.5*O89)","v":0.98406091653210082},129.6341553809568,0.17854457968753407,0.17569874272915348]
["Total",{"$f":"AVERAGE(B86:B89)","v":6959.2838674868763},{"$f":"SUM(C85:C89)","v":14367.2},null,null,null,0,0,0,null,null,"Total",{"$f":"AVERAGE(M86:M89)","v":6958.8445043645024},{"$f":"SUM(N85:N89)","v":14367.2},null,null,null,0,0,0]
[]
["Regression =",{"$f":"LINEST(G86:G89,H86:I89,0)","v":9869.3382164785344},null,null,null,null,null,null,null,null,null,"Regression =",{"$f":"LINEST(R86:R89,S86:T89,0)","v":9871.4939100944066}]
[]
["Slope Index Inequality =",{"$f":"B92","v":9869.3382164785344},"Years of life lost difference between the top and bottom positions ",null,null,null,null,null,null,null,null,"Slope Index Inequality =",{"$f":"M92","v":9871.4939100944066},"Years of life lost difference between the top and bottom positions "]
["Relative Index Inequality =",{"$f":"-B94/B90","v":-1.4181542820213384},null,null,null,null,null,null,null,null,null,"Relative Index Inequality =",{"$f":"-M94/M90","v":-1.4185535980726578}]
["According to the regresion equation the YOLL among those at the bottom is ",null,null,null,null,null,null,{"$f":"B95","v":-1.4181542820213384},"times higher than the average",null,null,"According to the regresion equation the YOLL among those at the bottom is ",null,null,null,null,null,null,{"$f":"M95","v":-1.4185535980726578},"times higher than the average"]
[]
[]
[]
["Hospital admissions: Both sexes combined - 20 YEARS, baseline",null,null,null,null,null,null,null,null,null,null,"Hospital admissions: Both sexes combined - 20 YEARS, policy"]
[null,"Y",null,"a",null,"b",null,null,null,null,null,null,"Y",null,"a",null,"b"]
["SIMD_Q","hospital admissions","Pop","proportion of total  population","Cumulative proportion","Relative rank","Y*√a","√a","b*√a",null,null,"SIMD_Q","hospital admissions","Pop","proportion of total  population","Cumulative proportion","Relative rank","Y*√a","√a","b*√a"]
[null,null,null,null,0," ",null,null,null,null,null,null,null,null,null,0," "]
[1,{"$f":"Calculations!AL5","v":0},{"$f":"C85","v":0},{"$f":"C104/$C$14","v":0},{"$f":"E103+D104","v":0},{"$f":"E103+(0.5*D104)","v":0},{"$f":"SQRT(D104)*B104","v":0},{"$f":"SQRT(D104)","v":0},{"$f":"F104*SQRT(D104)","v":0},null,null,1,{"$f":"Calculations!AM5","v":0},{"$f":"C104","v":0},{"$f":"N104/$C$14","v":0},{"$f":"P103+O104","v":0},{"$f":"P103+(0.5*O104)","v":0},{"$f":"SQRT(O104)*M104","v":0},{"$f":"SQRT(O104)","v":0},{"$f":"Q104*SQRT(O104)","v":0}]
[2,{"$f":"Calculations!AL6","v":16218.669598521416},{"$f":"C86","v":3045.6000000000004},{"$f":"C105/$C$14","v":0.2119828498246005},{"$f":"E104+D105","v":0.2119828498246005},{"$f":"E104+(0.5*D105)","v":0.10599142491230025},7467.3342204355486,0.46041595305180349,4.8800142916315389E-2,null,null,2,{"$f":"Calculations!AM6","v":16218.883091723295},{"$f":"C105","v":3045.6000000000004},{"$f":"N105/$C$14","v":0.2119828498246005},{"$f":"P104+O105","v":0.2119828498246005},{"$f":"P104+(0.5*O105)","v":0.10599142491230025},7467.4325161115621,0.46041595305180349,4.8800142916315389E-2]
[3,{"$f":"Calculations!AL7","v":14322.329711760187},2995.2,{"$f":"C106/$C$14","v":0.20847485940197114},{"$f":"E105+D106","v":0.42045770922657166},{"$f":"E105+(0.5*D106)","v":0.31622027952558607},6539.4392876360916,0.45659047230748379,0.14438316678179189,null,null,3,{"$f":"Calculations!AM7","v":14322.329711760187},2995.2,{"$f":"N106/$C$14","v":0.20847485940197114},{"$f":"P105+O106","v":0.42045770922657166},{"$f":"P105+(0.5*O106)","v":0.31622027952558607},6539.4392876360916,0.45659047230748379,0.14438316678179189]
[4,{"$f":"Calculations!AL8","v":33062.021574749466},7868.4,{"$f":"C107/$C$14","v":0.54766412383763008},{"$f":"E106+D107","v":0.96812183306420174},{"$f":"E106+(0.5*D107)","v":0.6942897711453867},24467.328398856542,0.74004332564899877,0.51380451120251425,null,null,4,{"$f":"Calculations!AM8","v":33062.021574749466},7868.4,{"$f":"N107/$C$14","v":0.54766412383763008},{"$f":"P106+O107","v":0.96812183306420174},{"$f":"P106+(0.5*O107)","v":0.6942897711453867},24467.328398856542,0.74004332564899877,0.51380451120251425]
[5,{"$f":"Calculations!AL9","v":1746.2314015773502},458,{"$f":"C108/$C$14","v":3.1878166935798202E-2},{"$f":"E107+D108","v":1},{"$f":"E107+(0.5*D108)","v":0.98406091653210082},311.78015163180152,0.17854457968753407,0.17569874272915348,null,null,5,{"$f":"Calculations!AM9","v":1746.2314015773502},458,{"$f":"N108/$C$14","v":3.1878166935798202E-2},{"$f":"P107+O108","v":1},{"$f":"P107+(0.5*O108)","v":0.98406091653210082},311.78015163180152,0.17854457968753407,0.17569874272915348]
["Total",{"$f":"AVERAGE(B105:B108)","v":16337.313071652105},{"$f":"SUM(C104:C108)","v":14367.2},null,null,null,0,0,0,null,null,"Total",{"$f":"AVERAGE(M105:M108)","v":16337.366444952575},{"$f":"SUM(N104:N108)","v":14367.2},null,null,null,0,0,0]
[]
["Regression =",{"$f":"LINEST(G105:G108,H105:I108,0)","v":24107.552396597916},null,null,null,null,null,null,null,null,null,"Regression =",{"$f":"LINEST(R105:R108,S105:T108,0)","v":24107.290525545868}]
[]
["Slope Index Inequality =",{"$f":"B111","v":24107.552396597916},"Years of life lost difference between the top and bottom positions ",null,null,null,null,null,null,null,null,"Slope Index Inequality =",{"$f":"M111","v":24107.290525545868},"Years of life lost difference between the top and bottom positions "]
["Relative Index Inequality =",{"$f":"-B113/B109","v":-1.4756130515995582},null,null,null,null,null,null,null,null,null,"Relative Index Inequality =",{"$f":"-M113/M109","v":-1.4755922018872147}]
["According to the regresion equation the YOLL among those at the bottom is ",null,null,null,null,null,null,{"$f":"B114","v":-1.4756130515995582},"times higher than the average",null,null,"According to the regresion equation the YOLL among those at the bottom is ",null,null,null,null,null,null,{"$f":"M114","v":-1.4755922018872147},"times higher than the average"]

{"sheet":"Notes ","index":2,"n_rows":8,"n_cols":2,"rows_kept":8,"cut":false,"hidden":false,"merged":[]}
["Worksheet name","What it does"]
["III Tool Overview","• Gives the nature of the intervention (e.g. smoking cessation, changes in income distribution) and relevant baseline information (size of the target population, maximum number who might feasibly gain, hospitalisation data).  Where appropriate it also provides cost per intervention and historic statistics on service provision. \n• Allows users to modify inputs (e.g. the geography being targeted, and where appropriate, the number of interventions and targeting strategy).\n• Reports on key outcomes: years of life gained and hospitalisations prevented due to the intervention; and changes in the relative index of inequality (for years of life lost and hospitalisations).\n"]
["Calculations","Based on user inputs, the prevalence and population data in this workbook, and macros that run behind the scenes (incorporating assumptions about mortality, hospitalisations and the impact of interventions), this sheet calculates years of life lost and hospitalisations before and after the intervention, and the difference between the two scenarios."]
["Targeting","Provides the background information for allocating the total number of interventions by age group, sex and deprivation quintile.  The current options are for even distribution, targeting to Q1 only, targeting to Q1 & Q2 only, and targeting according to the distribution of ‘need’ (e.g. the population distribution of smokers)."]
["Baseline_Data_2012","Provides baseline data on the size of the target population, maximum number who might feasibly gain, hospitalisation data and historic statistics on service provision where available.  \nThe size of the target population is calculated for Scotland by applying age/sex/SIMD decile prevalence rates (e.g. for smoking) to the age/sex/SIMD distribution of the total population.  Local estimates are derived by weighting national age/sex/SIMD decile prevalence rates by the difference between local and national prevalence rates (separately for men and women).\nThe number who might feasibly gain (as a proportion of the target population) varies between information – see commentary for more details.\n"]
["Prevalence","Provides national and local prevalence rates of the at risk population by age/sex/SIMD decile, used in the calculations and baseline data.  National estimates come from relevant national surveys (see commentary).  Local estimates are derived by weighting national age/sex/SIMD decile prevalence rates by the difference between local and national prevalence rates (separately for men and women).\nPlease note:\nFor nine local authority areas the sample size was not considered large enough to produce robust results for hazardous/harmful drinking and obesity. As a second-best solution, and for completeness, we used prevalence rates for ‘aggregate geographies’ for these local authorities.  These aggregate areas combined results from the relevant local authority with a second local authority defined as most similar to it according to the ONS 2001 Census classification.  The aggregate geographies were as follows:\n• Argyll & Bute Local Authority: Argyll & Bute & Perth & Kinross \n• Clackmannanshire Local Authority: Clackmannanshire & Falkirk \n• East Dunbartonshire Local Authority: East Renfrewshire & East Dunbartonshire\n• East Lothian Local Authority: East Lothian & Midlothian\n• East Renfrewshire Local Authority: East Renfrewshire & East Dunbartonshire\n• Inverclyde Local Authority: West Dunbartonshire & Inverclyde\n• Midlothian Local Authority: East Lothian & Midlothian\n• Stirling Local Authority: Stirling & Perth & Kinross \n• West Dunbartonshire Local Authority: West Dunbartonshire & Inverclyde\nUsers should note that the prevalence estimates shown are indicative only and included to inform modelling at a local level.  As such, they should not be considered as representative of the ‘true’ prevalence of obesity and/or hazardous or harmful drinking for individual local authorities within each aggregate geography.\n\nUsers should note that the prevalence estimates shown are indicative only and included to inform modelling at a local level.  As such, they should not be considered as representative of the ‘true’ prevalence of obesity and/or hazardous or harmful drinking for individual local authorities within each aggregate geography. \n"]
["LookUpData_Pop","Provides aggregate five-year population data by age/sex/SIMD quintile for 2007-2011, used to calculate the before and after impact of interventions.  Five years of data was used to improve robustness of results and avoid disclosure issues."]
["RII","Calculates the Relative Index of Inequality for the III Tool Overview page.  \nFor more information on measuring inequalities in health, please see:    \nhttp://www.scotpho.org.uk/downloads/scotphoreports/scotpho071009_measuringinequalities_rep.pdf\n\n"]

{"sheet":"Calculations","index":3,"n_rows":279,"n_cols":40,"rows_kept":279,"cut":false,"hidden":false,"merged":[]}
["USING Scotland AS EXAMPLE. NEED TO ADD LOOKUP FOR MORTALITY WHEN UPDATE","YEAR START",2012,"AGE GROUP","15-69",null,null,null,"Cumulative incidence: years 2, 5, 10 and 20",null,null,null,null,null,null,null,"Years of life lost: years 2,5,10 and 20",null,null,null,null,null,null,null,null,null,null,null,"Hospitalisations: years 2,5,10 and 20"]
["Population Group","mid-age","Sex","SIMD","Prevalence exposure (to non-employment)","Population aged 16-69 2007-11","Number treated at base","Additional number treated under policy","Baseline-2","Policy-2","Baseline-5","Policy-5","Baseline-10","Policy-10","Baseline-20","Policy-20","Baseline-2","Policy-2","Diff YLL-2","Baseline-5","Policy-5","Diff YLL-5","Baseline-10","Policy-10","Diff YLL-10","Baseline-20","Policy-20","Diff YLL-20","Baseline-2","Policy-2","Diff hosp-2 years","Baseline-5","Policy-5","Diff hosp - 5 years","Baseline-10","Policy-10","Diff hosp - 10 years","Baseline-20","Policy-20","Diff hosp - 20 years"]
["All, by SIMD"]
["Total",null,null,null,null,{"$f":"SUM(F5:F9)","v":14367.2},{"$f":"SUM(G5:G9)","v":0},{"$f":"SUM(H5:H9)","v":144},{"$f":"SUM(I5:I9)","v":67.092557896911174},{"$f":"SUM(J5:J9)","v":66.972739658039799},{"$f":"SUM(K5:K9)","v":290.07118546294902},{"$f":"SUM(L5:L9)","v":289.65112614015618},{"$f":"SUM(M5:M9)","v":742.44591334929066},{"$f":"SUM(N5:N9)","v":741.71420673565933},{"$f":"SUM(O5:O9)","v":2004.1157936377715},{"$f":"SUM(P5:P9)","v":2003.2880123938642},{"$f":"SUM(Q5:Q9)","v":2767.1851439557831},{"$f":"SUM(R5:R9)","v":2762.0725055928524},{"$f":"SUM(S5:S9)","v":5.1126383629309178},{"$f":"SUM(T5:T9)","v":11536.153538224962},{"$f":"SUM(U5:U9)","v":11518.711823701769},{"$f":"SUM(V5:V9)","v":17.44171452319187},{"$f":"SUM(W5:W9)","v":27616.143803439481},{"$f":"SUM(X5:X9)","v":27586.722800458396},{"$f":"SUM(Y5:Y9)","v":29.42100298108511},{"$f":"SUM(Z5:Z9)","v":63703.117468877143},{"$f":"SUM(AA5:AA9)","v":63668.845162240919},{"$f":"SUM(AB5:AB9)","v":34.27230663622575},{"$f":"SUM(AC5:AC9)","v":2810.3588827866893},{"$f":"SUM(AD5:AD9)","v":2809.9404369010995},{"$f":"SUM(AE5:AE9)","v":0.41844588558974039},{"$f":"SUM(AF5:AF9)","v":11661.927441203574},{"$f":"SUM(AG5:AG9)","v":11660.607692293957},{"$f":"SUM(AH5:AH9)","v":1.3197489096160666},{"$f":"SUM(AI5:AI9)","v":27837.135469947505},{"$f":"SUM(AJ5:AJ9)","v":27835.37801745801},{"$f":"SUM(AK5:AK9)","v":1.7574524894936445},{"$f":"SUM(AL5:AL9)","v":65349.252286608418},{"$f":"SUM(AM5:AM9)","v":65349.4657798103},{"$f":"SUM(AN5:AN9)","v":-0.21349320187857757}]
["Q 1","n/a","both",1,{"$f":"HLOOKUP('III Tool Overview'!$H$6,Prevalence!$B$2:$AV$268,Prevalence!AW3,FALSE)","v":0},{"$f":"F12+F19","v":0},{"$f":"G12+G19","v":0},{"$f":"H12+H19","v":72},{"$f":"I12+I19","v":0},0,0,0,0,0,0,0,0,0,{"$f":"S12+S19","v":0},0,0,0,0,0,0,0,0,0,0,0,0,0,0,0,0,0,0,0,0,0]
["Q 2","n/a","both",2,{"$f":"HLOOKUP('III Tool Overview'!$H$6,Prevalence!$B$2:$AV$268,Prevalence!AW4,FALSE)","v":0},{"$f":"F13+F20","v":3045.6000000000004},{"$f":"G13+G20","v":0},72,{"$f":"I13+I20","v":18.962374677339685},18.842556438468314,81.573433201219871,81.153373878427047,206.66320531547717,205.9314987018459,541.8065854640123,540.97880422010485,777.06121180461037,771.9485734416794,5.1126383629309178,3224.7977151968539,3207.3560006736625,17.44171452319187,7652.4098605860345,{"$f":"X13+X20","v":7622.9888576049489},29.42100298108511,17276.057285426788,17241.784978790565,34.27230663622575,717.44737697495157,717.02893108936189,0.41844588558974039,2966.9938147065836,2965.6740657969676,1.3197489096160666,7034.5958667430814,7032.838414253587,1.7574524894936445,16218.669598521416,16218.883091723295,-0.21349320187857757]
["Q 3","n/a","both",3,{"$f":"HLOOKUP('III Tool Overview'!$H$6,Prevalence!$B$2:$AV$268,Prevalence!AW5,FALSE)","v":0},{"$f":"F14+F21","v":2995.2},0,0,{"$f":"I14+I21","v":15.808234260562141},15.808234260562141,68.273498395688804,68.273498395688804,174.35518154947448,174.35518154947448,467.34825823326901,467.34825823326901,646.14187220457416,646.14187220457416,0,2690.0422324118745,2690.0422324118745,0,6422.1078681269501,6422.1078681269501,0,14703.966480780418,14703.966480780418,0,621.15144846921999,621.15144846921999,0,2575.1421770910633,2575.1421770910633,0,6135.1160592657325,6135.1160592657325,0,14322.329711760187,14322.329711760187,0]
["Q 4","n/a","both",4,{"$f":"HLOOKUP('III Tool Overview'!$H$6,Prevalence!$B$2:$AV$268,Prevalence!AW6,FALSE)","v":0},{"$f":"F15+F22","v":7868.4},0,0,{"$f":"I15+I22","v":31.020011116325946},31.020011116325946,134.55155802887452,134.55155802887452,346.67590036588399,346.67590036588399,953.29148000229316,953.29148000229316,1289.3431363621526,1289.3431363621526,0,5391.88466690322,5391.88466690322,0,12984.745423941406,12984.745423941406,0,30393.915735663482,30393.915735663482,0,1399.4232569351398,1399.4232569351398,0,5818.2936283711024,5818.2936283711024,0,13941.363107896183,13941.363107896183,0,33062.021574749466,33062.021574749466,0]
["Q 5","n/a","both",5,{"$f":"HLOOKUP('III Tool Overview'!$H$6,Prevalence!$B$2:$AV$268,Prevalence!AW7,FALSE)","v":0},{"$f":"F16+F23","v":458},0,0,{"$f":"I16+I23","v":1.301937842683407},1.301937842683407,5.6726958371658114,5.6726958371658114,14.751626118454976,14.751626118454976,41.669469938197068,41.669469938197068,54.638923584446196,54.638923584446196,0,229.42892371301173,229.42892371301173,0,556.88065078509135,556.88065078509135,0,1329.17796700646,1329.17796700646,0,72.336800407377837,72.336800407377837,0,301.49782103482306,301.49782103482306,0,726.06043604250522,726.06043604250522,0,1746.2314015773502,1746.2314015773502,0]
["Males, by SIMD"]
["Males",null,null,null,null,{"$f":"SUM(F12:F16)","v":7187.4},{"$f":"SUM(G12:G16)","v":0},{"$f":"SUM(H12:H16)","v":72},{"$f":"SUM(I12:I16)","v":41.792736672197648},{"$f":"SUM(J12:J16)","v":41.717070355610318},{"$f":"SUM(K12:K16)","v":179.23027565230905},{"$f":"SUM(L12:L16)","v":178.9679534444694},{"$f":"SUM(M12:M16)","v":451.93574407727078},{"$f":"SUM(N12:N16)","v":451.48788587390163},{"$f":"SUM(O12:O16)","v":1178.1119326326457},{"$f":"SUM(P12:P16)","v":1177.6268110000972},{"$f":"SUM(Q12:Q16)","v":1742.2156409294662},{"$f":"SUM(R12:R16)","v":1738.9480459441027},{"$f":"SUM(S12:S16)","v":3.2675949853634894},{"$f":"SUM(T12:T16)","v":7212.1668611516034},{"$f":"SUM(U12:U16)","v":7201.1242123035227},{"$f":"SUM(V12:V16)","v":11.042648848080802},{"$f":"SUM(W12:W16)","v":17053.471315770828},{"$f":"SUM(X12:X16)","v":17035.133888038847},{"$f":"SUM(Y12:Y16)","v":18.337427731980455},{"$f":"SUM(Z12:Z16)","v":38352.426275011763},{"$f":"SUM(AA12:AA16)","v":38331.628952449391},{"$f":"SUM(AB12:AB16)","v":20.797322562374859},{"$f":"SUM(AC12:AC16)","v":1382.779090546727},{"$f":"SUM(AD12:AD16)","v":1382.5741050530503},{"$f":"SUM(AE12:AE16)","v":0.20498549367692753},{"$f":"SUM(AF12:AF16)","v":5766.0919848650883},{"$f":"SUM(AG12:AG16)","v":5765.4782265676458},{"$f":"SUM(AH12:AH16)","v":0.61375829744298471},{"$f":"SUM(AI12:AI16)","v":13870.94067449535},{"$f":"SUM(AJ12:AJ16)","v":13870.266890539469},{"$f":"SUM(AK12:AK16)","v":0.67378395588077922},{"$f":"SUM(AL12:AL16)","v":33012.365805239562},{"$f":"SUM(AM12:AM16)","v":33013.209085131319},{"$f":"SUM(AN12:AN16)","v":-0.84327989175187668}]
["Q 1","n/a","male",1,{"$f":"HLOOKUP('III Tool Overview'!$H$6,Prevalence!$B$2:$AV$268,Prevalence!AW10,FALSE)","v":0},{"$f":"F86","v":0},{"$f":"G86","v":0},{"$f":"H86","v":36},{"$f":"I86","v":0},{"$f":"J86","v":0},0,0,0,0,0,0,0,0,0,0,0,0,0,0,0,0,0,0,0,0,0,0,0,0,0,0,0,0,0,0]
["Q 2","n/a","male",2,{"$f":"HLOOKUP('III Tool Overview'!$H$6,Prevalence!$B$2:$AV$268,Prevalence!AW11,FALSE)","v":0},{"$f":"F129","v":1516.4},{"$f":"G129","v":0},{"$f":"H129","v":36},{"$f":"I129","v":11.758150131482793},11.682483814895468,50.134301788261382,49.871979580421737,124.94519797676746,124.49733977339824,315.32495393494673,314.83983230239835,486.98595355864552,483.71835857328205,3.2675949853634894,2005.4810268321039,1994.4383779840232,11.042648848080802,4695.2823945255004,4676.9449667935205,18.337427731980455,10312.82380824075,10292.026485678374,20.797322562374859,351.45008261658188,351.24509712290501,0.20498549367692753,1459.1368665828873,1458.5231082854443,0.61375829744298471,3480.2550400772411,3479.5812561213597,0.67378395588077922,8100.2695368509558,8101.1128167427087,-0.84327989175187668]
["Q 3","n/a","male",3,{"$f":"HLOOKUP('III Tool Overview'!$H$6,Prevalence!$B$2:$AV$268,Prevalence!AW12,FALSE)","v":0},{"$f":"F172","v":1512.6000000000001},{"$f":"G172","v":0},{"$f":"H172","v":0},9.8598576189436518,9.8598576189436518,42.236934295334734,42.236934295334734,106.25077072221544,106.25077072221544,274.99284462120175,274.99284462120175,408.04879203578548,408.04879203578548,0,1686.9691640817614,1686.9691640817614,0,3978.5804291888808,3978.5804291888808,0,8886.1865710951042,8886.1865710951042,0,309.17657875754873,309.17657875754873,0,1287.763791358323,1287.763791358323,0,3090.6906214385122,3090.6906214385122,0,7308.0503472974815,7308.0503472974815,0]
["Q 4","n/a","male",4,{"$f":"HLOOKUP('III Tool Overview'!$H$6,Prevalence!$B$2:$AV$268,Prevalence!AW13,FALSE)","v":0},{"$f":"F215","v":3937.5999999999995},{"$f":"G215","v":0},{"$f":"H215","v":0},19.365256912955711,19.365256912955711,83.357009662192752,83.357009662192752,211.7513630791137,211.7513630791137,563.17879400049537,563.17879400049537,812.96416483974099,812.96416483974099,0,3376.9648873968081,3376.9648873968081,0,8037.0442646628435,8037.0442646628435,0,18355.506786330989,18355.506786330989,0,687.37507195038313,687.37507195038313,0,2873.3390366223239,2873.3390366223239,0,6945.1636323430303,6945.1636323430303,0,16734.082003557269,16734.082003557269,0]
["Q 5","n/a","male",5,{"$f":"HLOOKUP('III Tool Overview'!$H$6,Prevalence!$B$2:$AV$268,Prevalence!AW14,FALSE)","v":0},{"$f":"F258","v":220.79999999999998},{"$f":"G258","v":0},{"$f":"H258","v":0},0.80947200881549342,0.80947200881549342,3.5020299065201859,3.5020299065201859,8.9884122991742306,8.9884122991742306,24.615340076001683,24.615340076001683,34.216730495294151,34.216730495294151,0,142.75178284092965,142.75178284092965,0,342.56422739360147,342.56422739360147,0,797.90910934492149,797.90910934492149,0,34.777357222213404,34.777357222213404,0,145.85229030155458,145.85229030155458,0,354.83138063656827,354.83138063656827,0,869.96391753385683,869.96391753385683,0]
["Females, by SIMD"]
["Females",null,null,null,null,{"$f":"SUM(F19:F23)","v":7179.8},{"$f":"SUM(G19:G23)","v":0},72,25.299821224713529,25.255669302429485,110.84090981063996,110.68317269568676,290.51016927201971,290.2263208617577,826.00386100512605,825.66120139376687,1024.9695030263172,1023.1244596487498,1.8450433775674284,4323.9866770733579,4317.5876113982467,6.3990656751110677,10562.672487668655,10551.588912419549,11.083575249104655,25350.691193865387,25337.216209791539,13.474984073850891,1427.5797922399622,1427.3663318480492,0.21346039191281285,5895.8354563384828,5895.1294657263106,0.7059906121730819,13966.194795452149,13965.111126918537,1.0836685336128653,32336.886481368852,32336.256694678978,0.62978668987329911]
["Q 1","n/a","female",1,{"$f":"HLOOKUP('III Tool Overview'!$H$6,Prevalence!$B$2:$AV$268,Prevalence!AW17,FALSE)","v":0},{"$f":"F107","v":0},{"$f":"G107","v":0},{"$f":"H107","v":36},0,0,0,0,0,0,0,0,0,0,0,0,0,0,0,0,0,0,0,0,0,0,0,0,0,0,0,0,0,0,0,0]
["Q 2","n/a","female",2,{"$f":"HLOOKUP('III Tool Overview'!$H$6,Prevalence!$B$2:$AV$268,Prevalence!AW18,FALSE)","v":0},{"$f":"F150","v":1529.2},{"$f":"G150","v":0},{"$f":"H150","v":36},7.2042245458568912,7.1600726235728445,31.439131412958492,31.28139429800531,81.718007338709697,81.434158928447658,226.48163152906557,226.13897191770647,290.07525824596485,288.23021486839741,1.8450433775674284,1219.31668836475,1212.9176226896391,6.3990656751110677,2957.1274660605341,2946.0438908114288,11.083575249104655,6963.2334771860405,6949.758493112191,13.474984073850891,365.99729435836974,365.78383396645688,0.21346039191281285,1507.8569481236964,1507.1509575115233,0.7059906121730819,3554.3408266658403,3553.2571581322272,1.0836685336128653,8118.4000616704598,8117.7702749805858,0.62978668987329911]
["Q 3","n/a","female",3,{"$f":"HLOOKUP('III Tool Overview'!$H$6,Prevalence!$B$2:$AV$268,Prevalence!AW19,FALSE)","v":0},{"$f":"F193","v":1482.6},{"$f":"G193","v":0},{"$f":"H193","v":0},5.9483766416184896,5.9483766416184896,26.036564100354074,26.036564100354074,68.104410827259031,68.104410827259031,192.35541361206725,192.35541361206725,238.09308016878867,238.09308016878867,0,1003.0730683301133,1003.0730683301133,0,2443.5274389380688,2443.5274389380688,0,5817.7799096853132,5817.7799096853132,0,311.97486971167132,311.97486971167132,0,1287.3783857327403,1287.3783857327403,0,3044.4254378272203,3044.4254378272203,0,7014.2793644627063,7014.2793644627063,0]
["Q 4","n/a","female",4,{"$f":"HLOOKUP('III Tool Overview'!$H$6,Prevalence!$B$2:$AV$268,Prevalence!AW20,FALSE)","v":0},{"$f":"F236","v":3930.7999999999997},{"$f":"G236","v":0},{"$f":"H236","v":0},11.654754203370237,11.654754203370237,51.194548366681758,51.194548366681758,134.92453728677026,134.92453728677026,390.11268600179778,390.11268600179778,476.37897152241163,476.37897152241163,0,2014.9197795064119,2014.9197795064119,0,4947.701159278562,4947.701159278562,0,12038.408949332494,12038.408949332494,0,712.04818498475674,712.04818498475674,0,2944.9545917487785,2944.9545917487785,0,6996.1994755531523,6996.1994755531523,0,16327.939571192193,16327.939571192193,0]
["Q 5","n/a","female",5,{"$f":"HLOOKUP('III Tool Overview'!$H$6,Prevalence!$B$2:$AV$268,Prevalence!AW21,FALSE)","v":0},{"$f":"F279","v":237.2},{"$f":"G279","v":0},{"$f":"H279","v":0},0.49246583386791354,0.49246583386791354,2.170665930645626,2.170665930645626,5.7632138192807441,5.7632138192807441,17.054129862195381,17.054129862195381,20.422193089152046,20.422193089152046,0,86.677140872082077,86.677140872082077,0,214.31642339148982,214.31642339148982,0,531.2688576615385,531.2688576615385,0,37.55944318516444,37.55944318516444,0,155.64553073326849,155.64553073326849,0,371.22905540593689,371.22905540593689,0,876.26748404349337,876.26748404349337,0]
["age/sex breakdown: All"]
["Male <1",0.5,"male","all",null,{"$f":"F66+F109+F152+F195+F238","v":107.80000000000001}]
["Male 1-4",2.5,"male","all",null,{"$f":"F67+F110+F153+F196+F239","v":415.40000000000003}]
["Male 5-9",7.5,"male","all",null,488.20000000000005]
["Male 10-14",12.5,"male","all",null,648]
["Male 15-19",17.5,"male","all",{"$f":"HLOOKUP('III Tool Overview'!$H$6,Prevalence!$B$2:$AV$268,Prevalence!AW27,FALSE)","v":0.17134068680460432},633.79999999999995,{"$f":"G70+G113+G156+G199+G242","v":0},6.5454545454545459,0.32330367083314482,0.3225057269944831,1.4133452412913488,1.4104480504026315,3.7068883908620172,3.7014228758358332,10.834247776441302,10.826219043832364,26.187597337484732,26.12296388655313,6.4633450931599334E-2,112.25890355818321,112.02833139611992,0.23057216206326814,284.01064805700656,283.58701583612606,0.42363222088050634,761.76298610129288,761.16410899812286,0.59887710316994003,42.407293626224266,42.400431113543497,6.8625126807742021E-3,179.18270960337426,179.15710637629209,2.5603227082171998E-2,442.54863595583379,442.49755384314847,5.1082112685293168E-2,1133.1463263338389,1133.0630267458889,8.3299587949966281E-2]
["Male 20-24",22.5,"male","all",{"$f":"HLOOKUP('III Tool Overview'!$H$6,Prevalence!$B$2:$AV$268,Prevalence!AW28,FALSE)","v":0.14277944900491171},517.6,{"$f":"G71+G114+G157+G200+G243","v":0},6.5454545454545459,0.35674841566952786,0.3557327080710424,1.5590376877257661,1.5553530267501334,4.0861702259834694,4.0792324237476958,11.916965453076092,11.906837264052992,27.469628006553641,27.391418521470261,7.8209485083379882E-2,117.59519873089586,117.31669167644327,0.27850705445258228,296.73213114677299,296.22209102310529,0.51004012366769302,790.34088783532889,789.62537787833639,0.71550995699251985,40.066382427475524,40.058505154994542,7.8772724809930139E-3,169.24191337054776,169.21266280881994,2.9250561727820923E-2,417.74451587030654,417.68671650374023,5.7799366566328558E-2,1067.7112272761599,1067.6195492705883,9.1678005571623089E-2]
["Male 25-29",27.5,"male","all",{"$f":"HLOOKUP('III Tool Overview'!$H$6,Prevalence!$B$2:$AV$268,Prevalence!AW29,FALSE)","v":0.18213193336377606},481,{"$f":"G72+G115+G158+G201+G244","v":0},6.5454545454545459,0.51766370777503157,0.51605989822146292,2.2606621475242688,2.2548576397829159,5.9162970517984803,5.9054241043134459,17.174726353297384,17.159118523997122,36.754123252027242,36.640252773723859,0.11387047830338126,156.95469366919019,156.5507713858679,0.40392228332228086,394.15655926367555,393.42228144844438,0.73427781523122349,1036.358770515556,1035.3475076357747,1.0112628797809862,46.228940323238568,46.219220759902903,9.7195633356648159E-3,195.1479958100154,195.112365607931,3.5630202084405482E-2,481.05831452646623,480.98976941659123,6.854510987503204E-2,1224.745336757074,1224.6451221974628,0.10021455961100401]
["Male 30-34",32.5,"male","all",{"$f":"HLOOKUP('III Tool Overview'!$H$6,Prevalence!$B$2:$AV$268,Prevalence!AW30,FALSE)","v":0.12564739137259825},471,{"$f":"G73+G116+G159+G202+G245","v":0},6.5454545454545459,0.68051119314768205,0.67835900029802609,2.9698541036462904,2.9620818858159779,7.7614596321840565,7.7469708078206363,22.433731249631926,22.413257428250976,45.594249940894706,45.450053019967747,0.14419692092694802,194.31510326815916,193.80532576456284,0.50977750359631102,486.06521202669859,485.14447660851778,0.92073541818083982,1264.415031536533,1263.1675406729996,1.2474908635333009,52.207752109116662,52.196574797582862,1.1177311533799639E-2,220.25273072406478,220.21225045695996,4.0480267104811674E-2,542.26859084390014,542.19271580756549,7.5875036334593915E-2,1375.4886710260407,1375.3869345173403,0.10173650870046913]
["Male 35-39",37.5,"male","all",{"$f":"HLOOKUP('III Tool Overview'!$H$6,Prevalence!$B$2:$AV$268,Prevalence!AW31,FALSE)","v":0.13146601386477683},591.20000000000005,{"$f":"G74+G117+G160+G203+G246","v":0},6.5454545454545459,1.2898220751917764,1.2865451971938313,5.6214885243191119,5.6097077341857915,14.650248058350922,14.628503005215466,41.980497134657433,41.950746723872392,78.679146586698366,78.47925702882371,{"$f":"S74+S117+S160+S203+S246","v":0.19988955787466267},334.08648559107627,333.38442275133343,0.70206283974280836,829.67506144612503,828.42298382009199,1.2520776260329853,2115.9272993243326,2114.2843884682547,1.6429108560779468,79.744432592892736,79.730658378069336,1.3774214823403241E-2,336.01528666387793,335.96664601712916,4.8640646748737026E-2,825.22579642611242,825.13966881179397,8.6127614318513679E-2,2077.8859183185,2077.7934934516215,9.2424866878104694E-2]
["Male 40-44",42.5,"male","all",{"$f":"HLOOKUP('III Tool Overview'!$H$6,Prevalence!$B$2:$AV$268,Prevalence!AW32,FALSE)","v":0.1248937443044211},810.4,{"$f":"G75+G118+G161+G204+G247","v":0},6.5454545454545459,2.3403417834194973,2.3360143642212479,10.187075725568699,10.171583368174305,26.47813701689558,26.449805153093571,75.254849725455088,75.217242875021512,133.39948165491134,133.15281876061113,0.24666289430022204,564.68266326126445,563.82132270368811,0.86134055757642614,1393.7694946444572,1392.2506228185221,1.518871825935264,3494.9198656686067,3492.9829320998297,1.9369335687766807,124.98262228158973,124.96679071969416,1.5831561895552682E-2,526.02273915245394,525.96816509899816,5.4574053455752392E-2,1288.8115701686995,1288.7203847377848,9.1185430914663357E-2,3222.6196092740256,3222.5471436477828,7.2465626242433245E-2]
["Male 45-49",47.5,"male","all",{"$f":"HLOOKUP('III Tool Overview'!$H$6,Prevalence!$B$2:$AV$268,Prevalence!AW33,FALSE)","v":0.14425846377269666},819.4,{"$f":"G76+G119+G162+G205+G248","v":0},6.5454545454545459,3.6467720349316877,3.6402554215810023,15.828349091156738,15.805223540592756,40.895453165654402,40.853974568835994,114.12921453555016,114.07753356923205,185.9853737815161,185.65302650063109,0.33234728088497434,782.45233515207474,781.30516962792308,1.1471655241516032,1907.8887246435047,1905.911279287918,1.977445355586724,4625.4078682630934,4623.0243119858533,2.3835562772403591,155.67237152691035,155.65286873010155,1.9502796808808398E-2,653.50662888423562,653.4428003543519,6.3828529883750207E-2,1592.8008681274143,1592.7081530076935,9.271511972093549E-2,3922.3299901411215,3922.3215636821342,8.4264589874010198E-3]
["Male 50-54",52.5,"male","all",{"$f":"HLOOKUP('III Tool Overview'!$H$6,Prevalence!$B$2:$AV$268,Prevalence!AW34,FALSE)","v":0.18523226863535167},754.40000000000009,{"$f":"G77+G120+G163+G206+G249","v":0},6.5454545454545459,4.5236294020759953,4.5150608326408834,19.577583741865386,19.547427169849918,50.279117943827082,50.226007718325029,137.79988968583646,137.73754542452085,212.61058189757176,212.20785913412152,0.40272276345023528,889.5261327936837,888.15057846683067,1.3755543268530346,2145.2740863102117,2142.9513085458429,2.3227777643684249,5045.5438896329961,5042.8795862557226,2.6643033772727449,165.81168393659846,165.78927099794635,2.2412938652081493E-2,694.2900013188713,694.22028696810651,6.9714350764826349E-2,1683.4349388110172,1683.3489296430084,8.6009168008843062E-2,4083.8933873081914,4083.9630815808805,-6.9694272689048375E-2]
["Male 55-59",57.5,"male","all",{"$f":"HLOOKUP('III Tool Overview'!$H$6,Prevalence!$B$2:$AV$268,Prevalence!AW35,FALSE)","v":0.26308184320615946},740.40000000000009,{"$f":"G78+G121+G164+G207+G250","v":0},6.5454545454545459,6.8409434759043366,6.8283096480946073,29.426973420219703,29.383238044740281,74.629912317766824,74.55564533426498,197.07696424340668,196.99956084482221,280.47868251207785,279.96069557187894,0.51798694019888103,1160.626454555791,1158.8932482824764,1.7332062733146358,2738.7518908999095,2735.9401335307789,2.8117573691305324,6069.5565535490214,6066.6096711847058,2.9468823643160249,200.67322913257269,200.64563914013624,2.7589992436446664E-2,835.76635225540883,835.68932078445357,7.703147095537588E-2,2004.6825527975348,2004.6247507843946,5.7802013140076269E-2,4716.7088082682376,4716.9637375545353,-0.25492928629796552]
["Male 60-64",62.5,"male","all",{"$f":"HLOOKUP('III Tool Overview'!$H$6,Prevalence!$B$2:$AV$268,Prevalence!AW36,FALSE)","v":0.43455924520249439},744.00000000000011,{"$f":"G79+G122+G165+G208+G251","v":0},6.5454545454545459,9.2656246081687463,9.2507744065359301,39.61897673957975,39.568033174444693,99.24990113528952,99.165108748652401,252.91683596713835,252.83405093359247,342.8281105022437,342.27865304182944,0.5494574604142457,1404.3262179096039,1402.5106882809421,1.815529628662091,3248.2392058811452,3245.3621495582161,2.8770563229292065,6823.2995432281778,6820.412534257347,2.8870089708314026,233.24456211378163,233.21299955272426,3.1562561057377536E-2,966.28589400836302,966.20319474980522,8.2699258557852318E-2,2293.3377477102549,2293.3003453399438,3.7402370311383493E-2,5240.4260704522922,5240.8090931989045,-0.38302274661214142]
["Male 65-69",67.5,"male","all",{"$f":"HLOOKUP('III Tool Overview'!$H$6,Prevalence!$B$2:$AV$268,Prevalence!AW37,FALSE)","v":0.75116048523551182},624.20000000000005,{"$f":"G80+G123+G166+G209+G252","v":0},6.5454545454545459,12.007376305080225,11.987453151757808,50.766929229411993,50.699999809730016,124.28215913865846,124.17579113379652,296.59401050815472,296.50469836890215,372.22866545748695,371.61104770449197,0.6176177529949598,1495.3426726616804,1493.3576619673345,1.9850106943457604,3328.9083014513194,3325.9195455612826,2.988755890037055,6324.8935793568226,6322.1309930124398,2.762586344382953,241.73982047632663,241.7011457083546,3.8674767972025847E-2,990.37973307387574,990.29342734479837,8.6305729077480464E-2,2299.0271432578133,2299.0579026438081,-3.0759385994883814E-2,4947.410460084081,4948.0963392841741,-0.68587920009372283]
["Male 70-74",72.5,"male","all",{"$f":"HLOOKUP('III Tool Overview'!$H$6,Prevalence!$B$2:$AV$268,Prevalence!AW38,FALSE)","v":0},469]
["Male 75-79",77.5,"male","all",{"$f":"HLOOKUP('III Tool Overview'!$H$6,Prevalence!$B$2:$AV$268,Prevalence!AW39,FALSE)","v":0},317]
["Male 80-84",82.5,"male","all",{"$f":"HLOOKUP('III Tool Overview'!$H$6,Prevalence!$B$2:$AV$268,Prevalence!AW40,FALSE)","v":0},212.2]
["Male 85-89",87.5,"male","all",{"$f":"HLOOKUP('III Tool Overview'!$H$6,Prevalence!$B$2:$AV$268,Prevalence!AW41,FALSE)","v":0},105.60000000000001]
["Male 90+",95,"female","all",null,32.4]
["Female <1",0.5,"female","all",null,{"$f":"F87+F130+F173+F216+F259","v":100.2}]
["Female 1-4",2.5,"female","all",null,{"$f":"F88+F131+F174+F217+F260","v":402.2}]
["Female 5-9",7.5,"female","all",null,491.8]
["Female 10-14",12.5,"female","all",null,581.60000000000014]
["Female 15-19",17.5,"female","all",{"$f":"HLOOKUP('III Tool Overview'!$H$6,Prevalence!$B$2:$AV$268,Prevalence!AW46,FALSE)","v":0.13750537130356658},628.19999999999993,{"$f":"G91+G134+G177+G220+G263","v":0},6.5454545454545459,0.13218205028177499,0.13185441319393176,0.58691359782147801,0.58570553903449774,1.5832875357744187,1.5809528882134949,4.9357416811092332,4.9321634749371288,10.706746072823773,10.680207468708472,2.653860411530129E-2,46.610036476128272,46.513909808937242,9.6126667191025916E-2,121.20364198781655,121.02285709629415,0.18078489152239996,345.64532027766506,345.37968926684994,0.26563101081514162,60.799093904025369,60.789202025113823,9.8918789115405303E-3,252.99862628140554,252.96189324625394,3.6733035151627291E-2,608.61051794097784,608.53745390800952,7.3064032968261472E-2,1473.8488486242863,1473.7279477876009,0.12090083668550733]
["Female 20-24",22.5,"female","all",{"$f":"HLOOKUP('III Tool Overview'!$H$6,Prevalence!$B$2:$AV$268,Prevalence!AW47,FALSE)","v":8.6330144066864622E-2},450.40000000000003,{"$f":"G92+G135+G178+G221+G264","v":0},6.5454545454545459,0.13291183277642238,0.13248042700575002,0.59006039872877691,0.58847039378186261,1.5912232447985755,1.5881534238805497,4.954672332868288,4.9499832853174741,10.234211123784521,10.200992879442749,3.3218244341771452E-2,44.499774907640763,44.379615740097258,0.12015916754350542,115.44752836836257,115.22208493728961,0.22544343107294651,327.17791747481067,326.84844688595422,0.32947058885649483,48.374729896545951,48.363832946529762,1.0896950016192619E-2,201.27011662174993,201.22974121566637,4.0375406083569487E-2,484.03302444656634,483.95307131322551,7.9953133340779914E-2,1171.117742245722,1170.9870038381305,0.1307384075914797]
["Female 25-29",27.5,"female","all",{"$f":"HLOOKUP('III Tool Overview'!$H$6,Prevalence!$B$2:$AV$268,Prevalence!AW48,FALSE)","v":0.25296708766977255},468,{"$f":"G93+G136+G179+G222+G265","v":0},6.5454545454545459,0.22640322972735752,0.22571730752671951,1.0047476794430155,1.0022222245533581,2.7073504619630375,2.7024860894683158,8.4073613654065849,8.3999927571154558,16.074629310642383,16.025928834397082,4.8700476245299384E-2,69.745484952783841,69.569782708032804,0.17570224475104723,180.1864920433882,179.85840956177745,0.32808248161075682,504.82924923985746,504.35520397651612,0.47404526334130992,58.413990404681108,58.40136934216887,1.2621062512241821E-2,242.96406953906717,242.91756122927018,4.6508309797005154E-2,583.92296223391975,583.8318740560893,9.1088177830584982E-2,1409.9725893606226,1409.8280602992138,0.14452906140877531]
["Female 30-34",32.5,"female","all",{"$f":"HLOOKUP('III Tool Overview'!$H$6,Prevalence!$B$2:$AV$268,Prevalence!AW49,FALSE)","v":0.23435853283220123},518.59999999999991,{"$f":"G94+G137+G180+G223+G266","v":0},6.5454545454545459,0.34487725131134106,0.34393723100026607,1.5299964549294598,1.5265390145197066,4.1195767403211727,4.1129329539685928,12.760703812422223,12.750723015541656,23.10677583785985,23.043794477017823,6.2981360842024436E-2,100.08654732272231,99.859830997278777,0.22671632544351894,257.705450105019,257.28387935729961,0.42157074771935754,715.32975449761057,714.72688688611879,0.60286761149177437,71.032420315543888,71.018497899464023,1.392241607987188E-2,295.36022861197409,295.30920575909295,5.1022852881146719E-2,709.40706129829562,709.30824397851143,9.8817319784217261E-2,1709.696670037531,1709.5447454601358,0.15192457739493648]
["Female 35-39",37.5,"female","all",{"$f":"HLOOKUP('III Tool Overview'!$H$6,Prevalence!$B$2:$AV$268,Prevalence!AW50,FALSE)","v":0.23333261539593844},658.00000000000011,{"$f":"G95+G138+G181+G224+G267","v":0},6.5454545454545459,0.71345443186403723,0.71192626715876739,3.1626655458222088,3.1570582775592206,8.5010758150550245,8.4903597674208129,26.182434955948306,26.16664348798836,43.520720343706266,43.427502296684814,9.3218047021460748E-2,187.9155406552,187.5814840017178,0.33405665348219316,480.82314586200033,480.20728866029145,0.61585720170884883,1311.285263076215,1310.4235820988852,0.86168097732974047,104.30543610927181,104.28929787173048,1.6138237541319711E-2,433.41373151191294,433.3553408022471,5.8390709665829377E-2,1039.4967345599712,1039.3866265647871,0.11010799518413705,2494.208303229997,2494.0519621119979,0.15634111799886341]
["Female 40-44",42.5,"female","all",{"$f":"HLOOKUP('III Tool Overview'!$H$6,Prevalence!$B$2:$AV$268,Prevalence!AW51,FALSE)","v":0.20548211019779908},795.6,{"$f":"G96+G139+G182+G225+G268","v":0},6.5454545454545459,1.1788466457046733,1.1766968150831252,5.2218748641620518,5.2140064256627232,14.013678848574122,13.998728364194179,42.930520316243488,42.90893329447858,67.194258805166385,67.071718459738122,0.12254034542824499,289.38279535511526,288.94548348375548,0.4373118713597961,736.61504550335042,735.81536178830163,0.79968371504884317,1979.3742043595989,1978.2788257228549,1.0953786367441012,137.89471681161891,137.87689716276574,1.7819648853176773E-2,572.61196573044538,572.54836818108129,6.3597549364061479E-2,1371.4919575914837,1371.3755138386914,0.11644375279223595,3277.2050948822466,3277.0549093779769,0.15018550426975708]
["Female 45-49",47.5,"female","all",{"$f":"HLOOKUP('III Tool Overview'!$H$6,Prevalence!$B$2:$AV$268,Prevalence!AW52,FALSE)","v":0.21195636869253304},790.80000000000007,{"$f":"G97+G140+G183+G226+G269","v":0},6.5454545454545459,1.9310592850792418,1.9275478547943083,8.5385484475041906,8.5257675730168572,22.82476657982436,22.800789130521046,69.017852225300516,68.984745810227508,98.484023539041331,98.304940594509731,0.17908294453160778,421.96534079712541,421.33162555626313,0.63371524086227282,1063.0217198664127,1061.8820900480632,1.1396298183493627,2772.0963360639457,2770.6018746352297,1.4944614287159084,159.74476680064299,159.72410679504773,2.0660005595281916E-2,662.29589961402087,662.2243843252744,7.151528874652513E-2,1581.1024467101133,1580.9803121620962,0.12213454801690204,3740.5356491830967,3740.4160204964228,0.11962868667387738]
["Female 50-54",52.5,"female","all",{"$f":"HLOOKUP('III Tool Overview'!$H$6,Prevalence!$B$2:$AV$268,Prevalence!AW53,FALSE)","v":0.22629972457379977},765.6,{"$f":"G98+G141+G184+G227+G270","v":0},6.5454545454545459,2.6034261923212978,2.5985812226002629,11.490499133955597,11.472960240679321,30.593691907559126,30.56119682696314,91.304160010714597,91.261222158629337,122.36103103910099,122.13331746221235,0.22771357688863958,521.90234415159864,521.10277874713461,0.79956540446409008,1302.756021132692,1301.3402303337095,1.4157907989824707,3307.4332426774863,3305.6492072201236,1.7840354573628474,171.10043911192142,171.07764215101543,2.2796960905985486E-2,708.25490739768634,708.17838304424254,7.6524353443829796E-2,1685.3009769637997,1685.17986647665,0.12111048714979233,3947.9191164489685,3947.8424970180672,7.661943090135992E-2]
["Female 55-59",57.5,"female","all",{"$f":"HLOOKUP('III Tool Overview'!$H$6,Prevalence!$B$2:$AV$268,Prevalence!AW54,FALSE)","v":0.34408776741350583},724.80000000000007,{"$f":"G99+G142+G185+G228+G271","v":0},6.5454545454545459,4.0317762297680506,4.0242276059075053,17.721482264613908,17.69445755357572,46.764402418092018,46.71559081996346,135.57127328035588,135.51229803678166,165.30282542049005,164.99333184220771,0.3094935782823498,698.64579876434163,697.57566168530116,1.0701370790405917,1711.7427688754717,1709.9048868319328,1.8378820435390253,4115.6680034305791,4113.5192948887152,2.1487085418639253,187.93480560304323,187.90842008227736,2.6385520765849435E-2,775.17662122515787,775.09361816459511,8.3003060562731434E-2,1831.0858645573667,1830.9768683294731,0.10899622789366958,4197.0452575536083,4197.0750632627805,-2.9805709171682793E-2]
["Female 60-64",62.5,"female","all",{"$f":"HLOOKUP('III Tool Overview'!$H$6,Prevalence!$B$2:$AV$268,Prevalence!AW55,FALSE)","v":0.64209346901294617},724.4,{"$f":"G100+G143+G186+G229+G272","v":0},6.5454545454545459,5.6388125302403873,5.629836738484447,24.684604321212063,24.652658741168555,64.570039248167731,64.513113286950485,181.98347334723809,181.91788331005137,208.63606361889433,208.30395932392454,0.33210429496976701,874.5004049291806,873.36301523660018,1.1373896925804843,2106.5564325390178,2104.638172385085,1.9182601539330335,4820.8847287053413,4818.7245580374156,2.160170667925513,208.58267172420545,208.55373551660529,2.8936207600175123E-2,857.18941775733299,857.10159205602224,8.7825701310748627E-2,2009.6403718001948,2009.5383825864469,0.10198921374785641,4506.0793114250064,4506.1742785768183,-9.4967151811715667E-2]
["Female 65-69",67.5,"female","all",{"$f":"HLOOKUP('III Tool Overview'!$H$6,Prevalence!$B$2:$AV$268,Prevalence!AW56,FALSE)","v":0.8221525162636939},655.4,{"$f":"G101+G144+G187+G230+G273","v":0},6.5454545454545459,8.3660715456389472,8.3528634196744012,36.309517102447195,36.263326712134948,93.241076471890153,93.162017310213599,247.95566767751876,247.87661276269836,259.34821791480738,258.93876600990643,0.40945190490096195,1068.7326087615206,1067.3644234331282,1.368185328392542,2486.6142413851235,2484.4136514195056,2.2005899656176098,5150.967174062278,5148.7086401728739,2.2585338894041342,219.39672155846191,219.36333005533072,3.3391503131177558E-2,894.29987204773079,894.20937770256478,9.0494345166007406E-2,2062.1028773494613,2062.0429137045571,5.9963644904428293E-2,4409.2578983777667,4409.554206449835,-0.29630807206785903]
["Female 70-74",72.5,"female","all",{"$f":"HLOOKUP('III Tool Overview'!$H$6,Prevalence!$B$2:$AV$268,Prevalence!AW57,FALSE)","v":0},505.2]
["Female 75-79",77.5,"female","all",{"$f":"HLOOKUP('III Tool Overview'!$H$6,Prevalence!$B$2:$AV$268,Prevalence!AW58,FALSE)","v":0},394.8]
["Female 80-84",82.5,"female","all",{"$f":"HLOOKUP('III Tool Overview'!$H$6,Prevalence!$B$2:$AV$268,Prevalence!AW59,FALSE)","v":0},292.19999999999993]
["Female 85-89",87.5,"female","all",{"$f":"HLOOKUP('III Tool Overview'!$H$6,Prevalence!$B$2:$AV$268,Prevalence!AW60,FALSE)","v":0},194.20000000000002]
["Female 90+",95,"female","all",null,123]
["age/sex breakdown: Q1"]
["Male <1",0.5,"male",1,null,{"$f":"HLOOKUP('III Tool Overview'!$H$6,LookUpData_Pop!$B$1:$AV$269,LookUpData_Pop!BB67,FALSE)/5","v":0}]
["Male 1-4",2.5,"male",1,null,{"$f":"HLOOKUP('III Tool Overview'!$H$6,LookUpData_Pop!$B$1:$AV$269,LookUpData_Pop!BB68,FALSE)/5","v":0}]
["Male 5-9",7.5,"male",1,null,{"$f":"HLOOKUP('III Tool Overview'!$H$6,LookUpData_Pop!$B$1:$AV$269,LookUpData_Pop!BB69,FALSE)/5","v":0}]
["Male 10-14",12.5,"male",1,null,{"$f":"HLOOKUP('III Tool Overview'!$H$6,LookUpData_Pop!$B$1:$AV$269,LookUpData_Pop!BB70,FALSE)/5","v":0}]
["Male 15-19",17.5,"male",1,{"$f":"HLOOKUP('III Tool Overview'!$H$6,Prevalence!$B$2:$AV$268,Prevalence!AW66,FALSE)","v":0.20666666666666667},{"$f":"HLOOKUP('III Tool Overview'!$H$6,LookUpData_Pop!$B$1:$AV$269,LookUpData_Pop!BB71,FALSE)/5","v":0},{"$f":"'III Tool Overview'!$H$9/110","v":0},{"$f":"IF('III Tool Overview'!$H$10=\"Even distribution\",Targeting!C68,IF('III Tool Overview'!$H$10=\"Targeting to Q1\",Targeting!D68,IF('III Tool Overview'!$H$10=\"Targeting to Q1 & Q2\",Targeting!E68,IF('III Tool Overview'!$H$10=\"Proportionate to need\",Targeting!F68))))","v":3.2727272727272729},{"$f":"IF('III Tool Overview'!$H$6=\"Orkney Health Board\",0,IF('III Tool Overview'!$H$6=\"Shetland Health Board\",0,IF('III Tool Overview'!$H$6=\"Western Isles Health Board\",0,IF('III Tool Overview'!$H$6=\"Orkney Islands Local Authority\",0,IF('III Tool Overview'!$H$6=\"Shetland Islands Local Authority\",0,IF('III Tool Overview'!$H$6=\"Eilean Siar Local Authority\",0,new_ci(2,B70,C70,D70,$C$1,G70,1,F70,E70*F70)))))))","v":0},{"$f":"IF('III Tool Overview'!$H$6=\"Orkney Health Board\",0,IF('III Tool Overview'!$H$6=\"Shetland Health Board\",0,IF('III Tool Overview'!$H$6=\"Western Isles Health Board\",0,IF('III Tool Overview'!$H$6=\"Orkney Islands Local Authority\",0,IF('III Tool Overview'!$H$6=\"Shetland Islands Local Authority\",0,IF('III Tool Overview'!$H$6=\"Eilean Siar Local Authority\",0,new_ci(2,B70,C70,D70,$C$1,G70+H70,1,F70,E70*F70)))))))","v":0},{"$f":"IF('III Tool Overview'!$H$6=\"Orkney Health Board\",0,IF('III Tool Overview'!$H$6=\"Shetland Health Board\",0,IF('III Tool Overview'!$H$6=\"Western Isles Health Board\",0,IF('III Tool Overview'!$H$6=\"Orkney Islands Local Authority\",0,IF('III Tool Overview'!$H$6=\"Shetland Islands Local Authority\",0,IF('III Tool Overview'!$H$6=\"Eilean Siar Local Authority\",0,new_ci(5,B70,C70,D70,$C$1,G70,1,F70,E70*F70)))))))","v":0},{"$f":"IF('III Tool Overview'!$H$6=\"Orkney Health Board\",0,IF('III Tool Overview'!$H$6=\"Shetland Health Board\",0,IF('III Tool Overview'!$H$6=\"Western Isles Health Board\",0,IF('III Tool Overview'!$H$6=\"Orkney Islands Local Authority\",0,IF('III Tool Overview'!$H$6=\"Shetland Islands Local Authority\",0,IF('III Tool Overview'!$H$6=\"Eilean Siar Local Authority\",0,new_ci(5,B70,C70,D70,$C$1,G70+H70,1,F70,E70*F70)))))))","v":0},{"$f":"IF('III Tool Overview'!$H$6=\"Orkney Health Board\",0,IF('III Tool Overview'!$H$6=\"Shetland Health Board\",0,IF('III Tool Overview'!$H$6=\"Western Isles Health Board\",0,IF('III Tool Overview'!$H$6=\"Orkney Islands Local Authority\",0,IF('III Tool Overview'!$H$6=\"Shetland Islands Local Authority\",0,IF('III Tool Overview'!$H$6=\"Eilean Siar Local Authority\",0,new_ci(10,B70,C70,D70,$C$1,G70,1,F70,E70*F70)))))))","v":0},{"$f":"IF('III Tool Overview'!$H$6=\"Orkney Health Board\",0,IF('III Tool Overview'!$H$6=\"Shetland Health Board\",0,IF('III Tool Overview'!$H$6=\"Western Isles Health Board\",0,IF('III Tool Overview'!$H$6=\"Orkney Islands Local Authority\",0,IF('III Tool Overview'!$H$6=\"Shetland Islands Local Authority\",0,IF('III Tool Overview'!$H$6=\"Eilean Siar Local Authority\",0,new_ci(10,B70,C70,D70,$C$1,G70+H70,1,F70,E70*F70)))))))","v":0},{"$f":"IF('III Tool Overview'!$H$6=\"Orkney Health Board\",0,IF('III Tool Overview'!$H$6=\"Shetland Health Board\",0,IF('III Tool Overview'!$H$6=\"Western Isles Health Board\",0,IF('III Tool Overview'!$H$6=\"Orkney Islands Local Authority\",0,IF('III Tool Overview'!$H$6=\"Shetland Islands Local Authority\",0,IF('III Tool Overview'!$H$6=\"Eilean Siar Local Authority\",0,new_ci(20,B70,C70,D70,$C$1,G70,1,F70,E70*F70)))))))","v":0},{"$f":"IF('III Tool Overview'!$H$6=\"Orkney Health Board\",0,IF('III Tool Overview'!$H$6=\"Shetland Health Board\",0,IF('III Tool Overview'!$H$6=\"Western Isles Health Board\",0,IF('III Tool Overview'!$H$6=\"Orkney Islands Local Authority\",0,IF('III Tool Overview'!$H$6=\"Shetland Islands Local Authority\",0,IF('III Tool Overview'!$H$6=\"Eilean Siar Local Authority\",0,new_ci(20,B70,C70,D70,$C$1,G70+H70,1,F70,E70*F70)))))))","v":0},{"$f":"IF('III Tool Overview'!$H$6=\"Orkney Health Board\",0,IF('III Tool Overview'!$H$6=\"Shetland Health Board\",0,IF('III Tool Overview'!$H$6=\"Western Isles Health Board\",0,IF('III Tool Overview'!$H$6=\"Orkney Islands Local Authority\",0,IF('III Tool Overview'!$H$6=\"Shetland Islands Local Authority\",0,IF('III Tool Overview'!$H$6=\"Eilean Siar Local Authority\",0,new_yll(2,B70,C70,D70,$C$1,G70,1,F70,E70*F70)))))))","v":0},{"$f":"IF('III Tool Overview'!$H$6=\"Orkney Health Board\",0,IF('III Tool Overview'!$H$6=\"Shetland Health Board\",0,IF('III Tool Overview'!$H$6=\"Western Isles Health Board\",0,IF('III Tool Overview'!$H$6=\"Orkney Islands Local Authority\",0,IF('III Tool Overview'!$H$6=\"Shetland Islands Local Authority\",0,IF('III Tool Overview'!$H$6=\"Eilean Siar Local Authority\",0,new_yll(2,B70,C70,D70,$C$1,G70+H70,1,F70,E70*F70)))))))","v":0},{"$f":"Q70-R70","v":0},{"$f":"IF('III Tool Overview'!$H$6=\"Orkney Health Board\",0,IF('III Tool Overview'!$H$6=\"Shetland Health Board\",0,IF('III Tool Overview'!$H$6=\"Western Isles Health Board\",0,IF('III Tool Overview'!$H$6=\"Orkney Islands Local Authority\",0,IF('III Tool Overview'!$H$6=\"Shetland Islands Local Authority\",0,IF('III Tool Overview'!$H$6=\"Eilean Siar Local Authority\",0,new_yll(5,B70,C70,D70,$C$1,G70,1,F70,E70*F70)))))))","v":0},{"$f":"IF('III Tool Overview'!$H$6=\"Orkney Health Board\",0,IF('III Tool Overview'!$H$6=\"Shetland Health Board\",0,IF('III Tool Overview'!$H$6=\"Western Isles Health Board\",0,IF('III Tool Overview'!$H$6=\"Orkney Islands Local Authority\",0,IF('III Tool Overview'!$H$6=\"Shetland Islands Local Authority\",0,IF('III Tool Overview'!$H$6=\"Eilean Siar Local Authority\",0,new_yll(5,B70,C70,D70,$C$1,G70+H70,1,F70,E70*F70)))))))","v":0},{"$f":"T70-U70","v":0},{"$f":"IF('III Tool Overview'!$H$6=\"Orkney Health Board\",0,IF('III Tool Overview'!$H$6=\"Shetland Health Board\",0,IF('III Tool Overview'!$H$6=\"Western Isles Health Board\",0,IF('III Tool Overview'!$H$6=\"Orkney Islands Local Authority\",0,IF('III Tool Overview'!$H$6=\"Shetland Islands Local Authority\",0,IF('III Tool Overview'!$H$6=\"Eilean Siar Local Authority\",0,new_yll(10,B70,C70,D70,$C$1,G70,1,F70,E70*F70)))))))","v":0},{"$f":"IF('III Tool Overview'!$H$6=\"Orkney Health Board\",0,IF('III Tool Overview'!$H$6=\"Shetland Health Board\",0,IF('III Tool Overview'!$H$6=\"Western Isles Health Board\",0,IF('III Tool Overview'!$H$6=\"Orkney Islands Local Authority\",0,IF('III Tool Overview'!$H$6=\"Shetland Islands Local Authority\",0,IF('III Tool Overview'!$H$6=\"Eilean Siar Local Authority\",0,new_yll(10,B70,C70,D70,$C$1,G70+H70,1,F70,E70*F70)))))))","v":0},{"$f":"W70-X70","v":0},{"$f":"IF('III Tool Overview'!$H$6=\"Orkney Health Board\",0,IF('III Tool Overview'!$H$6=\"Shetland Health Board\",0,IF('III Tool Overview'!$H$6=\"Western Isles Health Board\",0,IF('III Tool Overview'!$H$6=\"Orkney Islands Local Authority\",0,IF('III Tool Overview'!$H$6=\"Shetland Islands Local Authority\",0,IF('III Tool Overview'!$H$6=\"Eilean Siar Local Authority\",0,new_yll(20,B70,C70,D70,$C$1,G70,1,F70,E70*F70)))))))","v":0},{"$f":"IF('III Tool Overview'!$H$6=\"Orkney Health Board\",0,IF('III Tool Overview'!$H$6=\"Shetland Health Board\",0,IF('III Tool Overview'!$H$6=\"Western Isles Health Board\",0,IF('III Tool Overview'!$H$6=\"Orkney Islands Local Authority\",0,IF('III Tool Overview'!$H$6=\"Shetland Islands Local Authority\",0,IF('III Tool Overview'!$H$6=\"Eilean Siar Local Authority\",0,new_yll(20,B70,C70,D70,$C$1,G70+H70,1,F70,E70*F70)))))))","v":0},{"$f":"Z70-AA70","v":0},{"$f":"IF('III Tool Overview'!$H$6=\"Orkney Health Board\",0,IF('III Tool Overview'!$H$6=\"Shetland Health Board\",0,IF('III Tool Overview'!$H$6=\"Western Isles Health Board\",0,IF('III Tool Overview'!$H$6=\"Orkney Islands Local Authority\",0,IF('III Tool Overview'!$H$6=\"Shetland Islands Local Authority\",0,IF('III Tool Overview'!$H$6=\"Eilean Siar Local Authority\",0,hosp_count(2,B70,C70,D70,$C$1,G70,1,F70,E70*F70)))))))","v":0},{"$f":"IF('III Tool Overview'!$H$6=\"Orkney Health Board\",0,IF('III Tool Overview'!$H$6=\"Shetland Health Board\",0,IF('III Tool Overview'!$H$6=\"Western Isles Health Board\",0,IF('III Tool Overview'!$H$6=\"Orkney Islands Local Authority\",0,IF('III Tool Overview'!$H$6=\"Shetland Islands Local Authority\",0,IF('III Tool Overview'!$H$6=\"Eilean Siar Local Authority\",0,hosp_count(2,B70,C70,D70,$C$1,G70+H70,1,F70,E70*F70)))))))","v":0},{"$f":"AC70-AD70","v":0},{"$f":"IF('III Tool Overview'!$H$6=\"Orkney Health Board\",0,IF('III Tool Overview'!$H$6=\"Shetland Health Board\",0,IF('III Tool Overview'!$H$6=\"Western Isles Health Board\",0,IF('III Tool Overview'!$H$6=\"Orkney Islands Local Authority\",0,IF('III Tool Overview'!$H$6=\"Shetland Islands Local Authority\",0,IF('III Tool Overview'!$H$6=\"Eilean Siar Local Authority\",0,hosp_count(5,B70,C70,D70,$C$1,G70,1,F70,E70*F70)))))))","v":0},{"$f":"IF('III Tool Overview'!$H$6=\"Orkney Health Board\",0,IF('III Tool Overview'!$H$6=\"Shetland Health Board\",0,IF('III Tool Overview'!$H$6=\"Western Isles Health Board\",0,IF('III Tool Overview'!$H$6=\"Orkney Islands Local Authority\",0,IF('III Tool Overview'!$H$6=\"Shetland Islands Local Authority\",0,IF('III Tool Overview'!$H$6=\"Eilean Siar Local Authority\",0,hosp_count(5,B70,C70,D70,$C$1,G70+H70,1,F70,E70*F70)))))))","v":0},{"$f":"AF70-AG70","v":0},{"$f":"IF('III Tool Overview'!$H$6=\"Orkney Health Board\",0,IF('III Tool Overview'!$H$6=\"Shetland Health Board\",0,IF('III Tool Overview'!$H$6=\"Western Isles Health Board\",0,IF('III Tool Overview'!$H$6=\"Orkney Islands Local Authority\",0,IF('III Tool Overview'!$H$6=\"Shetland Islands Local Authority\",0,IF('III Tool Overview'!$H$6=\"Eilean Siar Local Authority\",0,hosp_count(10,B70,C70,D70,$C$1,G70,1,F70,E70*F70)))))))","v":0},{"$f":"IF('III Tool Overview'!$H$6=\"Orkney Health Board\",0,IF('III Tool Overview'!$H$6=\"Shetland Health Board\",0,IF('III Tool Overview'!$H$6=\"Western Isles Health Board\",0,IF('III Tool Overview'!$H$6=\"Orkney Islands Local Authority\",0,IF('III Tool Overview'!$H$6=\"Shetland Islands Local Authority\",0,IF('III Tool Overview'!$H$6=\"Eilean Siar Local Authority\",0,hosp_count(10,B70,C70,D70,$C$1,G70+H70,1,F70,E70*F70)))))))","v":0},{"$f":"AI70-AJ70","v":0},{"$f":"IF('III Tool Overview'!$H$6=\"Orkney Health Board\",0,IF('III Tool Overview'!$H$6=\"Shetland Health Board\",0,IF('III Tool Overview'!$H$6=\"Western Isles Health Board\",0,IF('III Tool Overview'!$H$6=\"Orkney Islands Local Authority\",0,IF('III Tool Overview'!$H$6=\"Shetland Islands Local Authority\",0,IF('III Tool Overview'!$H$6=\"Eilean Siar Local Authority\",0,hosp_count(20,B70,C70,D70,$C$1,G70,1,F70,E70*F70)))))))","v":0},{"$f":"IF('III Tool Overview'!$H$6=\"Orkney Health Board\",0,IF('III Tool Overview'!$H$6=\"Shetland Health Board\",0,IF('III Tool Overview'!$H$6=\"Western Isles Health Board\",0,IF('III Tool Overview'!$H$6=\"Orkney Islands Local Authority\",0,IF('III Tool Overview'!$H$6=\"Shetland Islands Local Authority\",0,IF('III Tool Overview'!$H$6=\"Eilean Siar Local Authority\",0,hosp_count(20,B70,C70,D70,$C$1,G70+H70,1,F70,E70*F70)))))))","v":0},{"$f":"AL70-AM70","v":0}]
["Male 20-24",22.5,"male",1,{"$f":"HLOOKUP('III Tool Overview'!$H$6,Prevalence!$B$2:$AV$268,Prevalence!AW67,FALSE)","v":0.31},{"$f":"HLOOKUP('III Tool Overview'!$H$6,LookUpData_Pop!$B$1:$AV$269,LookUpData_Pop!BB72,FALSE)/5","v":0},{"$f":"'III Tool Overview'!$H$9/110","v":0},{"$f":"IF('III Tool Overview'!$H$10=\"Even distribution\",Targeting!C69,IF('III Tool Overview'!$H$10=\"Targeting to Q1\",Targeting!D69,IF('III Tool Overview'!$H$10=\"Targeting to Q1 & Q2\",Targeting!E69,IF('III Tool Overview'!$H$10=\"Proportionate to need\",Targeting!F69))))","v":3.2727272727272729},{"$f":"IF('III Tool Overview'!$H$6=\"Orkney Health Board\",0,IF('III Tool Overview'!$H$6=\"Shetland Health Board\",0,IF('III Tool Overview'!$H$6=\"Western Isles Health Board\",0,IF('III Tool Overview'!$H$6=\"Orkney Islands Local Authority\",0,IF('III Tool Overview'!$H$6=\"Shetland Islands Local Authority\",0,IF('III Tool Overview'!$H$6=\"Eilean Siar Local Authority\",0,new_ci(2,B71,C71,D71,$C$1,G71,1,F71,E71*F71)))))))","v":0},{"$f":"IF('III Tool Overview'!$H$6=\"Orkney Health Board\",0,IF('III Tool Overview'!$H$6=\"Shetland Health Board\",0,IF('III Tool Overview'!$H$6=\"Western Isles Health Board\",0,IF('III Tool Overview'!$H$6=\"Orkney Islands Local Authority\",0,IF('III Tool Overview'!$H$6=\"Shetland Islands Local Authority\",0,IF('III Tool Overview'!$H$6=\"Eilean Siar Local Authority\",0,new_ci(2,B71,C71,D71,$C$1,G71+H71,1,F71,E71*F71)))))))","v":0},{"$f":"IF('III Tool Overview'!$H$6=\"Orkney Health Board\",0,IF('III Tool Overview'!$H$6=\"Shetland Health Board\",0,IF('III Tool Overview'!$H$6=\"Western Isles Health Board\",0,IF('III Tool Overview'!$H$6=\"Orkney Islands Local Authority\",0,IF('III Tool Overview'!$H$6=\"Shetland Islands Local Authority\",0,IF('III Tool Overview'!$H$6=\"Eilean Siar Local Authority\",0,new_ci(5,B71,C71,D71,$C$1,G71,1,F71,E71*F71)))))))","v":0},{"$f":"IF('III Tool Overview'!$H$6=\"Orkney Health Board\",0,IF('III Tool Overview'!$H$6=\"Shetland Health Board\",0,IF('III Tool Overview'!$H$6=\"Western Isles Health Board\",0,IF('III Tool Overview'!$H$6=\"Orkney Islands Local Authority\",0,IF('III Tool Overview'!$H$6=\"Shetland Islands Local Authority\",0,IF('III Tool Overview'!$H$6=\"Eilean Siar Local Authority\",0,new_ci(5,B71,C71,D71,$C$1,G71+H71,1,F71,E71*F71)))))))","v":0},{"$f":"IF('III Tool Overview'!$H$6=\"Orkney Health Board\",0,IF('III Tool Overview'!$H$6=\"Shetland Health Board\",0,IF('III Tool Overview'!$H$6=\"Western Isles Health Board\",0,IF('III Tool Overview'!$H$6=\"Orkney Islands Local Authority\",0,IF('III Tool Overview'!$H$6=\"Shetland Islands Local Authority\",0,IF('III Tool Overview'!$H$6=\"Eilean Siar Local Authority\",0,new_ci(10,B71,C71,D71,$C$1,G71,1,F71,E71*F71)))))))","v":0},{"$f":"IF('III Tool Overview'!$H$6=\"Orkney Health Board\",0,IF('III Tool Overview'!$H$6=\"Shetland Health Board\",0,IF('III Tool Overview'!$H$6=\"Western Isles Health Board\",0,IF('III Tool Overview'!$H$6=\"Orkney Islands Local Authority\",0,IF('III Tool Overview'!$H$6=\"Shetland Islands Local Authority\",0,IF('III Tool Overview'!$H$6=\"Eilean Siar Local Authority\",0,new_ci(10,B71,C71,D71,$C$1,G71+H71,1,F71,E71*F71)))))))","v":0},{"$f":"IF('III Tool Overview'!$H$6=\"Orkney Health Board\",0,IF('III Tool Overview'!$H$6=\"Shetland Health Board\",0,IF('III Tool Overview'!$H$6=\"Western Isles Health Board\",0,IF('III Tool Overview'!$H$6=\"Orkney Islands Local Authority\",0,IF('III Tool Overview'!$H$6=\"Shetland Islands Local Authority\",0,IF('III Tool Overview'!$H$6=\"Eilean Siar Local Authority\",0,new_ci(20,B71,C71,D71,$C$1,G71,1,F71,E71*F71)))))))","v":0},{"$f":"IF('III Tool Overview'!$H$6=\"Orkney Health Board\",0,IF('III Tool Overview'!$H$6=\"Shetland Health Board\",0,IF('III Tool Overview'!$H$6=\"Western Isles Health Board\",0,IF('III Tool Overview'!$H$6=\"Orkney Islands Local Authority\",0,IF('III Tool Overview'!$H$6=\"Shetland Islands Local Authority\",0,IF('III Tool Overview'!$H$6=\"Eilean Siar Local Authority\",0,new_ci(20,B71,C71,D71,$C$1,G71+H71,1,F71,E71*F71)))))))","v":0},{"$f":"IF('III Tool Overview'!$H$6=\"Orkney Health Board\",0,IF('III Tool Overview'!$H$6=\"Shetland Health Board\",0,IF('III Tool Overview'!$H$6=\"Western Isles Health Board\",0,IF('III Tool Overview'!$H$6=\"Orkney Islands Local Authority\",0,IF('III Tool Overview'!$H$6=\"Shetland Islands Local Authority\",0,IF('III Tool Overview'!$H$6=\"Eilean Siar Local Authority\",0,new_yll(2,B71,C71,D71,$C$1,G71,1,F71,E71*F71)))))))","v":0},{"$f":"IF('III Tool Overview'!$H$6=\"Orkney Health Board\",0,IF('III Tool Overview'!$H$6=\"Shetland Health Board\",0,IF('III Tool Overview'!$H$6=\"Western Isles Health Board\",0,IF('III Tool Overview'!$H$6=\"Orkney Islands Local Authority\",0,IF('III Tool Overview'!$H$6=\"Shetland Islands Local Authority\",0,IF('III Tool Overview'!$H$6=\"Eilean Siar Local Authority\",0,new_yll(2,B71,C71,D71,$C$1,G71+H71,1,F71,E71*F71)))))))","v":0},0,{"$f":"IF('III Tool Overview'!$H$6=\"Orkney Health Board\",0,IF('III Tool Overview'!$H$6=\"Shetland Health Board\",0,IF('III Tool Overview'!$H$6=\"Western Isles Health Board\",0,IF('III Tool Overview'!$H$6=\"Orkney Islands Local Authority\",0,IF('III Tool Overview'!$H$6=\"Shetland Islands Local Authority\",0,IF('III Tool Overview'!$H$6=\"Eilean Siar Local Authority\",0,new_yll(5,B71,C71,D71,$C$1,G71,1,F71,E71*F71)))))))","v":0},{"$f":"IF('III Tool Overview'!$H$6=\"Orkney Health Board\",0,IF('III Tool Overview'!$H$6=\"Shetland Health Board\",0,IF('III Tool Overview'!$H$6=\"Western Isles Health Board\",0,IF('III Tool Overview'!$H$6=\"Orkney Islands Local Authority\",0,IF('III Tool Overview'!$H$6=\"Shetland Islands Local Authority\",0,IF('III Tool Overview'!$H$6=\"Eilean Siar Local Authority\",0,new_yll(5,B71,C71,D71,$C$1,G71+H71,1,F71,E71*F71)))))))","v":0},{"$f":"T71-U71","v":0},{"$f":"IF('III Tool Overview'!$H$6=\"Orkney Health Board\",0,IF('III Tool Overview'!$H$6=\"Shetland Health Board\",0,IF('III Tool Overview'!$H$6=\"Western Isles Health Board\",0,IF('III Tool Overview'!$H$6=\"Orkney Islands Local Authority\",0,IF('III Tool Overview'!$H$6=\"Shetland Islands Local Authority\",0,IF('III Tool Overview'!$H$6=\"Eilean Siar Local Authority\",0,new_yll(10,B71,C71,D71,$C$1,G71,1,F71,E71*F71)))))))","v":0},{"$f":"IF('III Tool Overview'!$H$6=\"Orkney Health Board\",0,IF('III Tool Overview'!$H$6=\"Shetland Health Board\",0,IF('III Tool Overview'!$H$6=\"Western Isles Health Board\",0,IF('III Tool Overview'!$H$6=\"Orkney Islands Local Authority\",0,IF('III Tool Overview'!$H$6=\"Shetland Islands Local Authority\",0,IF('III Tool Overview'!$H$6=\"Eilean Siar Local Authority\",0,new_yll(10,B71,C71,D71,$C$1,G71+H71,1,F71,E71*F71)))))))","v":0},{"$f":"W71-X71","v":0},{"$f":"IF('III Tool Overview'!$H$6=\"Orkney Health Board\",0,IF('III Tool Overview'!$H$6=\"Shetland Health Board\",0,IF('III Tool Overview'!$H$6=\"Western Isles Health Board\",0,IF('III Tool Overview'!$H$6=\"Orkney Islands Local Authority\",0,IF('III Tool Overview'!$H$6=\"Shetland Islands Local Authority\",0,IF('III Tool Overview'!$H$6=\"Eilean Siar Local Authority\",0,new_yll(20,B71,C71,D71,$C$1,G71,1,F71,E71*F71)))))))","v":0},{"$f":"IF('III Tool Overview'!$H$6=\"Orkney Health Board\",0,IF('III Tool Overview'!$H$6=\"Shetland Health Board\",0,IF('III Tool Overview'!$H$6=\"Western Isles Health Board\",0,IF('III Tool Overview'!$H$6=\"Orkney Islands Local Authority\",0,IF('III Tool Overview'!$H$6=\"Shetland Islands Local Authority\",0,IF('III Tool Overview'!$H$6=\"Eilean Siar Local Authority\",0,new_yll(20,B71,C71,D71,$C$1,G71+H71,1,F71,E71*F71)))))))","v":0},{"$f":"Z71-AA71","v":0},{"$f":"IF('III Tool Overview'!$H$6=\"Orkney Health Board\",0,IF('III Tool Overview'!$H$6=\"Shetland Health Board\",0,IF('III Tool Overview'!$H$6=\"Western Isles Health Board\",0,IF('III Tool Overview'!$H$6=\"Orkney Islands Local Authority\",0,IF('III Tool Overview'!$H$6=\"Shetland Islands Local Authority\",0,IF('III Tool Overview'!$H$6=\"Eilean Siar Local Authority\",0,hosp_count(2,B71,C71,D71,$C$1,G71,1,F71,E71*F71)))))))","v":0},{"$f":"IF('III Tool Overview'!$H$6=\"Orkney Health Board\",0,IF('III Tool Overview'!$H$6=\"Shetland Health Board\",0,IF('III Tool Overview'!$H$6=\"Western Isles Health Board\",0,IF('III Tool Overview'!$H$6=\"Orkney Islands Local Authority\",0,IF('III Tool Overview'!$H$6=\"Shetland Islands Local Authority\",0,IF('III Tool Overview'!$H$6=\"Eilean Siar Local Authority\",0,hosp_count(2,B71,C71,D71,$C$1,G71+H71,1,F71,E71*F71)))))))","v":0},{"$f":"AC71-AD71","v":0},{"$f":"IF('III Tool Overview'!$H$6=\"Orkney Health Board\",0,IF('III Tool Overview'!$H$6=\"Shetland Health Board\",0,IF('III Tool Overview'!$H$6=\"Western Isles Health Board\",0,IF('III Tool Overview'!$H$6=\"Orkney Islands Local Authority\",0,IF('III Tool Overview'!$H$6=\"Shetland Islands Local Authority\",0,IF('III Tool Overview'!$H$6=\"Eilean Siar Local Authority\",0,hosp_count(5,B71,C71,D71,$C$1,G71,1,F71,E71*F71)))))))","v":0},{"$f":"IF('III Tool Overview'!$H$6=\"Orkney Health Board\",0,IF('III Tool Overview'!$H$6=\"Shetland Health Board\",0,IF('III Tool Overview'!$H$6=\"Western Isles Health Board\",0,IF('III Tool Overview'!$H$6=\"Orkney Islands Local Authority\",0,IF('III Tool Overview'!$H$6=\"Shetland Islands Local Authority\",0,IF('III Tool Overview'!$H$6=\"Eilean Siar Local Authority\",0,hosp_count(5,B71,C71,D71,$C$1,G71+H71,1,F71,E71*F71)))))))","v":0},{"$f":"AF71-AG71","v":0},{"$f":"IF('III Tool Overview'!$H$6=\"Orkney Health Board\",0,IF('III Tool Overview'!$H$6=\"Shetland Health Board\",0,IF('III Tool Overview'!$H$6=\"Western Isles Health Board\",0,IF('III Tool Overview'!$H$6=\"Orkney Islands Local Authority\",0,IF('III Tool Overview'!$H$6=\"Shetland Islands Local Authority\",0,IF('III Tool Overview'!$H$6=\"Eilean Siar Local Authority\",0,hosp_count(10,B71,C71,D71,$C$1,G71,1,F71,E71*F71)))))))","v":0},{"$f":"IF('III Tool Overview'!$H$6=\"Orkney Health Board\",0,IF('III Tool Overview'!$H$6=\"Shetland Health Board\",0,IF('III Tool Overview'!$H$6=\"Western Isles Health Board\",0,IF('III Tool Overview'!$H$6=\"Orkney Islands Local Authority\",0,IF('III Tool Overview'!$H$6=\"Shetland Islands Local Authority\",0,IF('III Tool Overview'!$H$6=\"Eilean Siar Local Authority\",0,hosp_count(10,B71,C71,D71,$C$1,G71+H71,1,F71,E71*F71)))))))","v":0},{"$f":"AI71-AJ71","v":0},{"$f":"IF('III Tool Overview'!$H$6=\"Orkney Health Board\",0,IF('III Tool Overview'!$H$6=\"Shetland Health Board\",0,IF('III Tool Overview'!$H$6=\"Western Isles Health Board\",0,IF('III Tool Overview'!$H$6=\"Orkney Islands Local Authority\",0,IF('III Tool Overview'!$H$6=\"Shetland Islands Local Authority\",0,IF('III Tool Overview'!$H$6=\"Eilean Siar Local Authority\",0,hosp_count(20,B71,C71,D71,$C$1,G71,1,F71,E71*F71)))))))","v":0},{"$f":"IF('III Tool Overview'!$H$6=\"Orkney Health Board\",0,IF('III Tool Overview'!$H$6=\"Shetland Health Board\",0,IF('III Tool Overview'!$H$6=\"Western Isles Health Board\",0,IF('III Tool Overview'!$H$6=\"Orkney Islands Local Authority\",0,IF('III Tool Overview'!$H$6=\"Shetland Islands Local Authority\",0,IF('III Tool Overview'!$H$6=\"Eilean Siar Local Authority\",0,hosp_count(20,B71,C71,D71,$C$1,G71+H71,1,F71,E71*F71)))))))","v":0},{"$f":"AL71-AM71","v":0}]
["Male 25-29",27.5,"male",1,{"$f":"HLOOKUP('III Tool Overview'!$H$6,Prevalence!$B$2:$AV$268,Prevalence!AW68,FALSE)","v":0.30999999999999994},{"$f":"HLOOKUP('III Tool Overview'!$H$6,LookUpData_Pop!$B$1:$AV$269,LookUpData_Pop!BB73,FALSE)/5","v":0},{"$f":"'III Tool Overview'!$H$9/110","v":0},{"$f":"IF('III Tool Overview'!$H$10=\"Even distribution\",Targeting!C70,IF('III Tool Overview'!$H$10=\"Targeting to Q1\",Targeting!D70,IF('III Tool Overview'!$H$10=\"Targeting to Q1 & Q2\",Targeting!E70,IF('III Tool Overview'!$H$10=\"Proportionate to need\",Targeting!F70))))","v":3.2727272727272729},{"$f":"IF('III Tool Overview'!$H$6=\"Orkney Health Board\",0,IF('III Tool Overview'!$H$6=\"Shetland Health Board\",0,IF('III Tool Overview'!$H$6=\"Western Isles Health Board\",0,IF('III Tool Overview'!$H$6=\"Orkney Islands Local Authority\",0,IF('III Tool Overview'!$H$6=\"Shetland Islands Local Authority\",0,IF('III Tool Overview'!$H$6=\"Eilean Siar Local Authority\",0,new_ci(2,B72,C72,D72,$C$1,G72,1,F72,E72*F72)))))))","v":0},{"$f":"IF('III Tool Overview'!$H$6=\"Orkney Health Board\",0,IF('III Tool Overview'!$H$6=\"Shetland Health Board\",0,IF('III Tool Overview'!$H$6=\"Western Isles Health Board\",0,IF('III Tool Overview'!$H$6=\"Orkney Islands Local Authority\",0,IF('III Tool Overview'!$H$6=\"Shetland Islands Local Authority\",0,IF('III Tool Overview'!$H$6=\"Eilean Siar Local Authority\",0,new_ci(2,B72,C72,D72,$C$1,G72+H72,1,F72,E72*F72)))))))","v":0},{"$f":"IF('III Tool Overview'!$H$6=\"Orkney Health Board\",0,IF('III Tool Overview'!$H$6=\"Shetland Health Board\",0,IF('III Tool Overview'!$H$6=\"Western Isles Health Board\",0,IF('III Tool Overview'!$H$6=\"Orkney Islands Local Authority\",0,IF('III Tool Overview'!$H$6=\"Shetland Islands Local Authority\",0,IF('III Tool Overview'!$H$6=\"Eilean Siar Local Authority\",0,new_ci(5,B72,C72,D72,$C$1,G72,1,F72,E72*F72)))))))","v":0},{"$f":"IF('III Tool Overview'!$H$6=\"Orkney Health Board\",0,IF('III Tool Overview'!$H$6=\"Shetland Health Board\",0,IF('III Tool Overview'!$H$6=\"Western Isles Health Board\",0,IF('III Tool Overview'!$H$6=\"Orkney Islands Local Authority\",0,IF('III Tool Overview'!$H$6=\"Shetland Islands Local Authority\",0,IF('III Tool Overview'!$H$6=\"Eilean Siar Local Authority\",0,new_ci(5,B72,C72,D72,$C$1,G72+H72,1,F72,E72*F72)))))))","v":0},{"$f":"IF('III Tool Overview'!$H$6=\"Orkney Health Board\",0,IF('III Tool Overview'!$H$6=\"Shetland Health Board\",0,IF('III Tool Overview'!$H$6=\"Western Isles Health Board\",0,IF('III Tool Overview'!$H$6=\"Orkney Islands Local Authority\",0,IF('III Tool Overview'!$H$6=\"Shetland Islands Local Authority\",0,IF('III Tool Overview'!$H$6=\"Eilean Siar Local Authority\",0,new_ci(10,B72,C72,D72,$C$1,G72,1,F72,E72*F72)))))))","v":0},{"$f":"IF('III Tool Overview'!$H$6=\"Orkney Health Board\",0,IF('III Tool Overview'!$H$6=\"Shetland Health Board\",0,IF('III Tool Overview'!$H$6=\"Western Isles Health Board\",0,IF('III Tool Overview'!$H$6=\"Orkney Islands Local Authority\",0,IF('III Tool Overview'!$H$6=\"Shetland Islands Local Authority\",0,IF('III Tool Overview'!$H$6=\"Eilean Siar Local Authority\",0,new_ci(10,B72,C72,D72,$C$1,G72+H72,1,F72,E72*F72)))))))","v":0},{"$f":"IF('III Tool Overview'!$H$6=\"Orkney Health Board\",0,IF('III Tool Overview'!$H$6=\"Shetland Health Board\",0,IF('III Tool Overview'!$H$6=\"Western Isles Health Board\",0,IF('III Tool Overview'!$H$6=\"Orkney Islands Local Authority\",0,IF('III Tool Overview'!$H$6=\"Shetland Islands Local Authority\",0,IF('III Tool Overview'!$H$6=\"Eilean Siar Local Authority\",0,new_ci(20,B72,C72,D72,$C$1,G72,1,F72,E72*F72)))))))","v":0},{"$f":"IF('III Tool Overview'!$H$6=\"Orkney Health Board\",0,IF('III Tool Overview'!$H$6=\"Shetland Health Board\",0,IF('III Tool Overview'!$H$6=\"Western Isles Health Board\",0,IF('III Tool Overview'!$H$6=\"Orkney Islands Local Authority\",0,IF('III Tool Overview'!$H$6=\"Shetland Islands Local Authority\",0,IF('III Tool Overview'!$H$6=\"Eilean Siar Local Authority\",0,new_ci(20,B72,C72,D72,$C$1,G72+H72,1,F72,E72*F72)))))))","v":0},{"$f":"IF('III Tool Overview'!$H$6=\"Orkney Health Board\",0,IF('III Tool Overview'!$H$6=\"Shetland Health Board\",0,IF('III Tool Overview'!$H$6=\"Western Isles Health Board\",0,IF('III Tool Overview'!$H$6=\"Orkney Islands Local Authority\",0,IF('III Tool Overview'!$H$6=\"Shetland Islands Local Authority\",0,IF('III Tool Overview'!$H$6=\"Eilean Siar Local Authority\",0,new_yll(2,B72,C72,D72,$C$1,G72,1,F72,E72*F72)))))))","v":0},{"$f":"IF('III Tool Overview'!$H$6=\"Orkney Health Board\",0,IF('III Tool Overview'!$H$6=\"Shetland Health Board\",0,IF('III Tool Overview'!$H$6=\"Western Isles Health Board\",0,IF('III Tool Overview'!$H$6=\"Orkney Islands Local Authority\",0,IF('III Tool Overview'!$H$6=\"Shetland Islands Local Authority\",0,IF('III Tool Overview'!$H$6=\"Eilean Siar Local Authority\",0,new_yll(2,B72,C72,D72,$C$1,G72+H72,1,F72,E72*F72)))))))","v":0},0,{"$f":"IF('III Tool Overview'!$H$6=\"Orkney Health Board\",0,IF('III Tool Overview'!$H$6=\"Shetland Health Board\",0,IF('III Tool Overview'!$H$6=\"Western Isles Health Board\",0,IF('III Tool Overview'!$H$6=\"Orkney Islands Local Authority\",0,IF('III Tool Overview'!$H$6=\"Shetland Islands Local Authority\",0,IF('III Tool Overview'!$H$6=\"Eilean Siar Local Authority\",0,new_yll(5,B72,C72,D72,$C$1,G72,1,F72,E72*F72)))))))","v":0},{"$f":"IF('III Tool Overview'!$H$6=\"Orkney Health Board\",0,IF('III Tool Overview'!$H$6=\"Shetland Health Board\",0,IF('III Tool Overview'!$H$6=\"Western Isles Health Board\",0,IF('III Tool Overview'!$H$6=\"Orkney Islands Local Authority\",0,IF('III Tool Overview'!$H$6=\"Shetland Islands Local Authority\",0,IF('III Tool Overview'!$H$6=\"Eilean Siar Local Authority\",0,new_yll(5,B72,C72,D72,$C$1,G72+H72,1,F72,E72*F72)))))))","v":0},0,{"$f":"IF('III Tool Overview'!$H$6=\"Orkney Health Board\",0,IF('III Tool Overview'!$H$6=\"Shetland Health Board\",0,IF('III Tool Overview'!$H$6=\"Western Isles Health Board\",0,IF('III Tool Overview'!$H$6=\"Orkney Islands Local Authority\",0,IF('III Tool Overview'!$H$6=\"Shetland Islands Local Authority\",0,IF('III Tool Overview'!$H$6=\"Eilean Siar Local Authority\",0,new_yll(10,B72,C72,D72,$C$1,G72,1,F72,E72*F72)))))))","v":0},{"$f":"IF('III Tool Overview'!$H$6=\"Orkney Health Board\",0,IF('III Tool Overview'!$H$6=\"Shetland Health Board\",0,IF('III Tool Overview'!$H$6=\"Western Isles Health Board\",0,IF('III Tool Overview'!$H$6=\"Orkney Islands Local Authority\",0,IF('III Tool Overview'!$H$6=\"Shetland Islands Local Authority\",0,IF('III Tool Overview'!$H$6=\"Eilean Siar Local Authority\",0,new_yll(10,B72,C72,D72,$C$1,G72+H72,1,F72,E72*F72)))))))","v":0},0,{"$f":"IF('III Tool Overview'!$H$6=\"Orkney Health Board\",0,IF('III Tool Overview'!$H$6=\"Shetland Health Board\",0,IF('III Tool Overview'!$H$6=\"Western Isles Health Board\",0,IF('III Tool Overview'!$H$6=\"Orkney Islands Local Authority\",0,IF('III Tool Overview'!$H$6=\"Shetland Islands Local Authority\",0,IF('III Tool Overview'!$H$6=\"Eilean Siar Local Authority\",0,new_yll(20,B72,C72,D72,$C$1,G72,1,F72,E72*F72)))))))","v":0},{"$f":"IF('III Tool Overview'!$H$6=\"Orkney Health Board\",0,IF('III Tool Overview'!$H$6=\"Shetland Health Board\",0,IF('III Tool Overview'!$H$6=\"Western Isles Health Board\",0,IF('III Tool Overview'!$H$6=\"Orkney Islands Local Authority\",0,IF('III Tool Overview'!$H$6=\"Shetland Islands Local Authority\",0,IF('III Tool Overview'!$H$6=\"Eilean Siar Local Authority\",0,new_yll(20,B72,C72,D72,$C$1,G72+H72,1,F72,E72*F72)))))))","v":0},0,{"$f":"IF('III Tool Overview'!$H$6=\"Orkney Health Board\",0,IF('III Tool Overview'!$H$6=\"Shetland Health Board\",0,IF('III Tool Overview'!$H$6=\"Western Isles Health Board\",0,IF('III Tool Overview'!$H$6=\"Orkney Islands Local Authority\",0,IF('III Tool Overview'!$H$6=\"Shetland Islands Local Authority\",0,IF('III Tool Overview'!$H$6=\"Eilean Siar Local Authority\",0,hosp_count(2,B72,C72,D72,$C$1,G72,1,F72,E72*F72)))))))","v":0},{"$f":"IF('III Tool Overview'!$H$6=\"Orkney Health Board\",0,IF('III Tool Overview'!$H$6=\"Shetland Health Board\",0,IF('III Tool Overview'!$H$6=\"Western Isles Health Board\",0,IF('III Tool Overview'!$H$6=\"Orkney Islands Local Authority\",0,IF('III Tool Overview'!$H$6=\"Shetland Islands Local Authority\",0,IF('III Tool Overview'!$H$6=\"Eilean Siar Local Authority\",0,hosp_count(2,B72,C72,D72,$C$1,G72+H72,1,F72,E72*F72)))))))","v":0},0,{"$f":"IF('III Tool Overview'!$H$6=\"Orkney Health Board\",0,IF('III Tool Overview'!$H$6=\"Shetland Health Board\",0,IF('III Tool Overview'!$H$6=\"Western Isles Health Board\",0,IF('III Tool Overview'!$H$6=\"Orkney Islands Local Authority\",0,IF('III Tool Overview'!$H$6=\"Shetland Islands Local Authority\",0,IF('III Tool Overview'!$H$6=\"Eilean Siar Local Authority\",0,hosp_count(5,B72,C72,D72,$C$1,G72,1,F72,E72*F72)))))))","v":0},{"$f":"IF('III Tool Overview'!$H$6=\"Orkney Health Board\",0,IF('III Tool Overview'!$H$6=\"Shetland Health Board\",0,IF('III Tool Overview'!$H$6=\"Western Isles Health Board\",0,IF('III Tool Overview'!$H$6=\"Orkney Islands Local Authority\",0,IF('III Tool Overview'!$H$6=\"Shetland Islands Local Authority\",0,IF('III Tool Overview'!$H$6=\"Eilean Siar Local Authority\",0,hosp_count(5,B72,C72,D72,$C$1,G72+H72,1,F72,E72*F72)))))))","v":0},0,{"$f":"IF('III Tool Overview'!$H$6=\"Orkney Health Board\",0,IF('III Tool Overview'!$H$6=\"Shetland Health Board\",0,IF('III Tool Overview'!$H$6=\"Western Isles Health Board\",0,IF('III Tool Overview'!$H$6=\"Orkney Islands Local Authority\",0,IF('III Tool Overview'!$H$6=\"Shetland Islands Local Authority\",0,IF('III Tool Overview'!$H$6=\"Eilean Siar Local Authority\",0,hosp_count(10,B72,C72,D72,$C$1,G72,1,F72,E72*F72)))))))","v":0},{"$f":"IF('III Tool Overview'!$H$6=\"Orkney Health Board\",0,IF('III Tool Overview'!$H$6=\"Shetland Health Board\",0,IF('III Tool Overview'!$H$6=\"Western Isles Health Board\",0,IF('III Tool Overview'!$H$6=\"Orkney Islands Local Authority\",0,IF('III Tool Overview'!$H$6=\"Shetland Islands Local Authority\",0,IF('III Tool Overview'!$H$6=\"Eilean Siar Local Authority\",0,hosp_count(10,B72,C72,D72,$C$1,G72+H72,1,F72,E72*F72)))))))","v":0},0,{"$f":"IF('III Tool Overview'!$H$6=\"Orkney Health Board\",0,IF('III Tool Overview'!$H$6=\"Shetland Health Board\",0,IF('III Tool Overview'!$H$6=\"Western Isles Health Board\",0,IF('III Tool Overview'!$H$6=\"Orkney Islands Local Authority\",0,IF('III Tool Overview'!$H$6=\"Shetland Islands Local Authority\",0,IF('III Tool Overview'!$H$6=\"Eilean Siar Local Authority\",0,hosp_count(20,B72,C72,D72,$C$1,G72,1,F72,E72*F72)))))))","v":0},{"$f":"IF('III Tool Overview'!$H$6=\"Orkney Health Board\",0,IF('III Tool Overview'!$H$6=\"Shetland Health Board\",0,IF('III Tool Overview'!$H$6=\"Western Isles Health Board\",0,IF('III Tool Overview'!$H$6=\"Orkney Islands Local Authority\",0,IF('III Tool Overview'!$H$6=\"Shetland Islands Local Authority\",0,IF('III Tool Overview'!$H$6=\"Eilean Siar Local Authority\",0,hosp_count(20,B72,C72,D72,$C$1,G72+H72,1,F72,E72*F72)))))))","v":0},0]
["Male 30-34",32.5,"male",1,{"$f":"HLOOKUP('III Tool Overview'!$H$6,Prevalence!$B$2:$AV$268,Prevalence!AW69,FALSE)","v":0.21606060606060604},{"$f":"HLOOKUP('III Tool Overview'!$H$6,LookUpData_Pop!$B$1:$AV$269,LookUpData_Pop!BB74,FALSE)/5","v":0},{"$f":"'III Tool Overview'!$H$9/110","v":0},{"$f":"IF('III Tool Overview'!$H$10=\"Even distribution\",Targeting!C71,IF('III Tool Overview'!$H$10=\"Targeting to Q1\",Targeting!D71,IF('III Tool Overview'!$H$10=\"Targeting to Q1 & Q2\",Targeting!E71,IF('III Tool Overview'!$H$10=\"Proportionate to need\",Targeting!F71))))","v":3.2727272727272729},{"$f":"IF('III Tool Overview'!$H$6=\"Orkney Health Board\",0,IF('III Tool Overview'!$H$6=\"Shetland Health Board\",0,IF('III Tool Overview'!$H$6=\"Western Isles Health Board\",0,IF('III Tool Overview'!$H$6=\"Orkney Islands Local Authority\",0,IF('III Tool Overview'!$H$6=\"Shetland Islands Local Authority\",0,IF('III Tool Overview'!$H$6=\"Eilean Siar Local Authority\",0,new_ci(2,B73,C73,D73,$C$1,G73,1,F73,E73*F73)))))))","v":0},{"$f":"IF('III Tool Overview'!$H$6=\"Orkney Health Board\",0,IF('III Tool Overview'!$H$6=\"Shetland Health Board\",0,IF('III Tool Overview'!$H$6=\"Western Isles Health Board\",0,IF('III Tool Overview'!$H$6=\"Orkney Islands Local Authority\",0,IF('III Tool Overview'!$H$6=\"Shetland Islands Local Authority\",0,IF('III Tool Overview'!$H$6=\"Eilean Siar Local Authority\",0,new_ci(2,B73,C73,D73,$C$1,G73+H73,1,F73,E73*F73)))))))","v":0},{"$f":"IF('III Tool Overview'!$H$6=\"Orkney Health Board\",0,IF('III Tool Overview'!$H$6=\"Shetland Health Board\",0,IF('III Tool Overview'!$H$6=\"Western Isles Health Board\",0,IF('III Tool Overview'!$H$6=\"Orkney Islands Local Authority\",0,IF('III Tool Overview'!$H$6=\"Shetland Islands Local Authority\",0,IF('III Tool Overview'!$H$6=\"Eilean Siar Local Authority\",0,new_ci(5,B73,C73,D73,$C$1,G73,1,F73,E73*F73)))))))","v":0},{"$f":"IF('III Tool Overview'!$H$6=\"Orkney Health Board\",0,IF('III Tool Overview'!$H$6=\"Shetland Health Board\",0,IF('III Tool Overview'!$H$6=\"Western Isles Health Board\",0,IF('III Tool Overview'!$H$6=\"Orkney Islands Local Authority\",0,IF('III Tool Overview'!$H$6=\"Shetland Islands Local Authority\",0,IF('III Tool Overview'!$H$6=\"Eilean Siar Local Authority\",0,new_ci(5,B73,C73,D73,$C$1,G73+H73,1,F73,E73*F73)))))))","v":0},{"$f":"IF('III Tool Overview'!$H$6=\"Orkney Health Board\",0,IF('III Tool Overview'!$H$6=\"Shetland Health Board\",0,IF('III Tool Overview'!$H$6=\"Western Isles Health Board\",0,IF('III Tool Overview'!$H$6=\"Orkney Islands Local Authority\",0,IF('III Tool Overview'!$H$6=\"Shetland Islands Local Authority\",0,IF('III Tool Overview'!$H$6=\"Eilean Siar Local Authority\",0,new_ci(10,B73,C73,D73,$C$1,G73,1,F73,E73*F73)))))))","v":0},{"$f":"IF('III Tool Overview'!$H$6=\"Orkney Health Board\",0,IF('III Tool Overview'!$H$6=\"Shetland Health Board\",0,IF('III Tool Overview'!$H$6=\"Western Isles Health Board\",0,IF('III Tool Overview'!$H$6=\"Orkney Islands Local Authority\",0,IF('III Tool Overview'!$H$6=\"Shetland Islands Local Authority\",0,IF('III Tool Overview'!$H$6=\"Eilean Siar Local Authority\",0,new_ci(10,B73,C73,D73,$C$1,G73+H73,1,F73,E73*F73)))))))","v":0},{"$f":"IF('III Tool Overview'!$H$6=\"Orkney Health Board\",0,IF('III Tool Overview'!$H$6=\"Shetland Health Board\",0,IF('III Tool Overview'!$H$6=\"Western Isles Health Board\",0,IF('III Tool Overview'!$H$6=\"Orkney Islands Local Authority\",0,IF('III Tool Overview'!$H$6=\"Shetland Islands Local Authority\",0,IF('III Tool Overview'!$H$6=\"Eilean Siar Local Authority\",0,new_ci(20,B73,C73,D73,$C$1,G73,1,F73,E73*F73)))))))","v":0},{"$f":"IF('III Tool Overview'!$H$6=\"Orkney Health Board\",0,IF('III Tool Overview'!$H$6=\"Shetland Health Board\",0,IF('III Tool Overview'!$H$6=\"Western Isles Health Board\",0,IF('III Tool Overview'!$H$6=\"Orkney Islands Local Authority\",0,IF('III Tool Overview'!$H$6=\"Shetland Islands Local Authority\",0,IF('III Tool Overview'!$H$6=\"Eilean Siar Local Authority\",0,new_ci(20,B73,C73,D73,$C$1,G73+H73,1,F73,E73*F73)))))))","v":0},{"$f":"IF('III Tool Overview'!$H$6=\"Orkney Health Board\",0,IF('III Tool Overview'!$H$6=\"Shetland Health Board\",0,IF('III Tool Overview'!$H$6=\"Western Isles Health Board\",0,IF('III Tool Overview'!$H$6=\"Orkney Islands Local Authority\",0,IF('III Tool Overview'!$H$6=\"Shetland Islands Local Authority\",0,IF('III Tool Overview'!$H$6=\"Eilean Siar Local Authority\",0,new_yll(2,B73,C73,D73,$C$1,G73,1,F73,E73*F73)))))))","v":0},{"$f":"IF('III Tool Overview'!$H$6=\"Orkney Health Board\",0,IF('III Tool Overview'!$H$6=\"Shetland Health Board\",0,IF('III Tool Overview'!$H$6=\"Western Isles Health Board\",0,IF('III Tool Overview'!$H$6=\"Orkney Islands Local Authority\",0,IF('III Tool Overview'!$H$6=\"Shetland Islands Local Authority\",0,IF('III Tool Overview'!$H$6=\"Eilean Siar Local Authority\",0,new_yll(2,B73,C73,D73,$C$1,G73+H73,1,F73,E73*F73)))))))","v":0},0,{"$f":"IF('III Tool Overview'!$H$6=\"Orkney Health Board\",0,IF('III Tool Overview'!$H$6=\"Shetland Health Board\",0,IF('III Tool Overview'!$H$6=\"Western Isles Health Board\",0,IF('III Tool Overview'!$H$6=\"Orkney Islands Local Authority\",0,IF('III Tool Overview'!$H$6=\"Shetland Islands Local Authority\",0,IF('III Tool Overview'!$H$6=\"Eilean Siar Local Authority\",0,new_yll(5,B73,C73,D73,$C$1,G73,1,F73,E73*F73)))))))","v":0},{"$f":"IF('III Tool Overview'!$H$6=\"Orkney Health Board\",0,IF('III Tool Overview'!$H$6=\"Shetland Health Board\",0,IF('III Tool Overview'!$H$6=\"Western Isles Health Board\",0,IF('III Tool Overview'!$H$6=\"Orkney Islands Local Authority\",0,IF('III Tool Overview'!$H$6=\"Shetland Islands Local Authority\",0,IF('III Tool Overview'!$H$6=\"Eilean Siar Local Authority\",0,new_yll(5,B73,C73,D73,$C$1,G73+H73,1,F73,E73*F73)))))))","v":0},0,{"$f":"IF('III Tool Overview'!$H$6=\"Orkney Health Board\",0,IF('III Tool Overview'!$H$6=\"Shetland Health Board\",0,IF('III Tool Overview'!$H$6=\"Western Isles Health Board\",0,IF('III Tool Overview'!$H$6=\"Orkney Islands Local Authority\",0,IF('III Tool Overview'!$H$6=\"Shetland Islands Local Authority\",0,IF('III Tool Overview'!$H$6=\"Eilean Siar Local Authority\",0,new_yll(10,B73,C73,D73,$C$1,G73,1,F73,E73*F73)))))))","v":0},{"$f":"IF('III Tool Overview'!$H$6=\"Orkney Health Board\",0,IF('III Tool Overview'!$H$6=\"Shetland Health Board\",0,IF('III Tool Overview'!$H$6=\"Western Isles Health Board\",0,IF('III Tool Overview'!$H$6=\"Orkney Islands Local Authority\",0,IF('III Tool Overview'!$H$6=\"Shetland Islands Local Authority\",0,IF('III Tool Overview'!$H$6=\"Eilean Siar Local Authority\",0,new_yll(10,B73,C73,D73,$C$1,G73+H73,1,F73,E73*F73)))))))","v":0},0,{"$f":"IF('III Tool Overview'!$H$6=\"Orkney Health Board\",0,IF('III Tool Overview'!$H$6=\"Shetland Health Board\",0,IF('III Tool Overview'!$H$6=\"Western Isles Health Board\",0,IF('III Tool Overview'!$H$6=\"Orkney Islands Local Authority\",0,IF('III Tool Overview'!$H$6=\"Shetland Islands Local Authority\",0,IF('III Tool Overview'!$H$6=\"Eilean Siar Local Authority\",0,new_yll(20,B73,C73,D73,$C$1,G73,1,F73,E73*F73)))))))","v":0},{"$f":"IF('III Tool Overview'!$H$6=\"Orkney Health Board\",0,IF('III Tool Overview'!$H$6=\"Shetland Health Board\",0,IF('III Tool Overview'!$H$6=\"Western Isles Health Board\",0,IF('III Tool Overview'!$H$6=\"Orkney Islands Local Authority\",0,IF('III Tool Overview'!$H$6=\"Shetland Islands Local Authority\",0,IF('III Tool Overview'!$H$6=\"Eilean Siar Local Authority\",0,new_yll(20,B73,C73,D73,$C$1,G73+H73,1,F73,E73*F73)))))))","v":0},0,{"$f":"IF('III Tool Overview'!$H$6=\"Orkney Health Board\",0,IF('III Tool Overview'!$H$6=\"Shetland Health Board\",0,IF('III Tool Overview'!$H$6=\"Western Isles Health Board\",0,IF('III Tool Overview'!$H$6=\"Orkney Islands Local Authority\",0,IF('III Tool Overview'!$H$6=\"Shetland Islands Local Authority\",0,IF('III Tool Overview'!$H$6=\"Eilean Siar Local Authority\",0,hosp_count(2,B73,C73,D73,$C$1,G73,1,F73,E73*F73)))))))","v":0},{"$f":"IF('III Tool Overview'!$H$6=\"Orkney Health Board\",0,IF('III Tool Overview'!$H$6=\"Shetland Health Board\",0,IF('III Tool Overview'!$H$6=\"Western Isles Health Board\",0,IF('III Tool Overview'!$H$6=\"Orkney Islands Local Authority\",0,IF('III Tool Overview'!$H$6=\"Shetland Islands Local Authority\",0,IF('III Tool Overview'!$H$6=\"Eilean Siar Local Authority\",0,hosp_count(2,B73,C73,D73,$C$1,G73+H73,1,F73,E73*F73)))))))","v":0},0,{"$f":"IF('III Tool Overview'!$H$6=\"Orkney Health Board\",0,IF('III Tool Overview'!$H$6=\"Shetland Health Board\",0,IF('III Tool Overview'!$H$6=\"Western Isles Health Board\",0,IF('III Tool Overview'!$H$6=\"Orkney Islands Local Authority\",0,IF('III Tool Overview'!$H$6=\"Shetland Islands Local Authority\",0,IF('III Tool Overview'!$H$6=\"Eilean Siar Local Authority\",0,hosp_count(5,B73,C73,D73,$C$1,G73,1,F73,E73*F73)))))))","v":0},{"$f":"IF('III Tool Overview'!$H$6=\"Orkney Health Board\",0,IF('III Tool Overview'!$H$6=\"Shetland Health Board\",0,IF('III Tool Overview'!$H$6=\"Western Isles Health Board\",0,IF('III Tool Overview'!$H$6=\"Orkney Islands Local Authority\",0,IF('III Tool Overview'!$H$6=\"Shetland Islands Local Authority\",0,IF('III Tool Overview'!$H$6=\"Eilean Siar Local Authority\",0,hosp_count(5,B73,C73,D73,$C$1,G73+H73,1,F73,E73*F73)))))))","v":0},0,{"$f":"IF('III Tool Overview'!$H$6=\"Orkney Health Board\",0,IF('III Tool Overview'!$H$6=\"Shetland Health Board\",0,IF('III Tool Overview'!$H$6=\"Western Isles Health Board\",0,IF('III Tool Overview'!$H$6=\"Orkney Islands Local Authority\",0,IF('III Tool Overview'!$H$6=\"Shetland Islands Local Authority\",0,IF('III Tool Overview'!$H$6=\"Eilean Siar Local Authority\",0,hosp_count(10,B73,C73,D73,$C$1,G73,1,F73,E73*F73)))))))","v":0},{"$f":"IF('III Tool Overview'!$H$6=\"Orkney Health Board\",0,IF('III Tool Overview'!$H$6=\"Shetland Health Board\",0,IF('III Tool Overview'!$H$6=\"Western Isles Health Board\",0,IF('III Tool Overview'!$H$6=\"Orkney Islands Local Authority\",0,IF('III Tool Overview'!$H$6=\"Shetland Islands Local Authority\",0,IF('III Tool Overview'!$H$6=\"Eilean Siar Local Authority\",0,hosp_count(10,B73,C73,D73,$C$1,G73+H73,1,F73,E73*F73)))))))","v":0},0,{"$f":"IF('III Tool Overview'!$H$6=\"Orkney Health Board\",0,IF('III Tool Overview'!$H$6=\"Shetland Health Board\",0,IF('III Tool Overview'!$H$6=\"Western Isles Health Board\",0,IF('III Tool Overview'!$H$6=\"Orkney Islands Local Authority\",0,IF('III Tool Overview'!$H$6=\"Shetland Islands Local Authority\",0,IF('III Tool Overview'!$H$6=\"Eilean Siar Local Authority\",0,hosp_count(20,B73,C73,D73,$C$1,G73,1,F73,E73*F73)))))))","v":0},{"$f":"IF('III Tool Overview'!$H$6=\"Orkney Health Board\",0,IF('III Tool Overview'!$H$6=\"Shetland Health Board\",0,IF('III Tool Overview'!$H$6=\"Western Isles Health Board\",0,IF('III Tool Overview'!$H$6=\"Orkney Islands Local Authority\",0,IF('III Tool Overview'!$H$6=\"Shetland Islands Local Authority\",0,IF('III Tool Overview'!$H$6=\"Eilean Siar Local Authority\",0,hosp_count(20,B73,C73,D73,$C$1,G73+H73,1,F73,E73*F73)))))))","v":0},0]
["Male 35-39",37.5,"male",1,{"$f":"HLOOKUP('III Tool Overview'!$H$6,Prevalence!$B$2:$AV$268,Prevalence!AW70,FALSE)","v":0.32878787878787874},{"$f":"HLOOKUP('III Tool Overview'!$H$6,LookUpData_Pop!$B$1:$AV$269,LookUpData_Pop!BB75,FALSE)/5","v":0},{"$f":"'III Tool Overview'!$H$9/110","v":0},{"$f":"IF('III Tool Overview'!$H$10=\"Even distribution\",Targeting!C72,IF('III Tool Overview'!$H$10=\"Targeting to Q1\",Targeting!D72,IF('III Tool Overview'!$H$10=\"Targeting to Q1 & Q2\",Targeting!E72,IF('III Tool Overview'!$H$10=\"Proportionate to need\",Targeting!F72))))","v":3.2727272727272729},{"$f":"IF('III Tool Overview'!$H$6=\"Orkney Health Board\",0,IF('III Tool Overview'!$H$6=\"Shetland Health Board\",0,IF('III Tool Overview'!$H$6=\"Western Isles Health Board\",0,IF('III Tool Overview'!$H$6=\"Orkney Islands Local Authority\",0,IF('III Tool Overview'!$H$6=\"Shetland Islands Local Authority\",0,IF('III Tool Overview'!$H$6=\"Eilean Siar Local Authority\",0,new_ci(2,B74,C74,D74,$C$1,G74,1,F74,E74*F74)))))))","v":0},{"$f":"IF('III Tool Overview'!$H$6=\"Orkney Health Board\",0,IF('III Tool Overview'!$H$6=\"Shetland Health Board\",0,IF('III Tool Overview'!$H$6=\"Western Isles Health Board\",0,IF('III Tool Overview'!$H$6=\"Orkney Islands Local Authority\",0,IF('III Tool Overview'!$H$6=\"Shetland Islands Local Authority\",0,IF('III Tool Overview'!$H$6=\"Eilean Siar Local Authority\",0,new_ci(2,B74,C74,D74,$C$1,G74+H74,1,F74,E74*F74)))))))","v":0},{"$f":"IF('III Tool Overview'!$H$6=\"Orkney Health Board\",0,IF('III Tool Overview'!$H$6=\"Shetland Health Board\",0,IF('III Tool Overview'!$H$6=\"Western Isles Health Board\",0,IF('III Tool Overview'!$H$6=\"Orkney Islands Local Authority\",0,IF('III Tool Overview'!$H$6=\"Shetland Islands Local Authority\",0,IF('III Tool Overview'!$H$6=\"Eilean Siar Local Authority\",0,new_ci(5,B74,C74,D74,$C$1,G74,1,F74,E74*F74)))))))","v":0},{"$f":"IF('III Tool Overview'!$H$6=\"Orkney Health Board\",0,IF('III Tool Overview'!$H$6=\"Shetland Health Board\",0,IF('III Tool Overview'!$H$6=\"Western Isles Health Board\",0,IF('III Tool Overview'!$H$6=\"Orkney Islands Local Authority\",0,IF('III Tool Overview'!$H$6=\"Shetland Islands Local Authority\",0,IF('III Tool Overview'!$H$6=\"Eilean Siar Local Authority\",0,new_ci(5,B74,C74,D74,$C$1,G74+H74,1,F74,E74*F74)))))))","v":0},{"$f":"IF('III Tool Overview'!$H$6=\"Orkney Health Board\",0,IF('III Tool Overview'!$H$6=\"Shetland Health Board\",0,IF('III Tool Overview'!$H$6=\"Western Isles Health Board\",0,IF('III Tool Overview'!$H$6=\"Orkney Islands Local Authority\",0,IF('III Tool Overview'!$H$6=\"Shetland Islands Local Authority\",0,IF('III Tool Overview'!$H$6=\"Eilean Siar Local Authority\",0,new_ci(10,B74,C74,D74,$C$1,G74,1,F74,E74*F74)))))))","v":0},{"$f":"IF('III Tool Overview'!$H$6=\"Orkney Health Board\",0,IF('III Tool Overview'!$H$6=\"Shetland Health Board\",0,IF('III Tool Overview'!$H$6=\"Western Isles Health Board\",0,IF('III Tool Overview'!$H$6=\"Orkney Islands Local Authority\",0,IF('III Tool Overview'!$H$6=\"Shetland Islands Local Authority\",0,IF('III Tool Overview'!$H$6=\"Eilean Siar Local Authority\",0,new_ci(10,B74,C74,D74,$C$1,G74+H74,1,F74,E74*F74)))))))","v":0},{"$f":"IF('III Tool Overview'!$H$6=\"Orkney Health Board\",0,IF('III Tool Overview'!$H$6=\"Shetland Health Board\",0,IF('III Tool Overview'!$H$6=\"Western Isles Health Board\",0,IF('III Tool Overview'!$H$6=\"Orkney Islands Local Authority\",0,IF('III Tool Overview'!$H$6=\"Shetland Islands Local Authority\",0,IF('III Tool Overview'!$H$6=\"Eilean Siar Local Authority\",0,new_ci(20,B74,C74,D74,$C$1,G74,1,F74,E74*F74)))))))","v":0},{"$f":"IF('III Tool Overview'!$H$6=\"Orkney Health Board\",0,IF('III Tool Overview'!$H$6=\"Shetland Health Board\",0,IF('III Tool Overview'!$H$6=\"Western Isles Health Board\",0,IF('III Tool Overview'!$H$6=\"Orkney Islands Local Authority\",0,IF('III Tool Overview'!$H$6=\"Shetland Islands Local Authority\",0,IF('III Tool Overview'!$H$6=\"Eilean Siar Local Authority\",0,new_ci(20,B74,C74,D74,$C$1,G74+H74,1,F74,E74*F74)))))))","v":0},{"$f":"IF('III Tool Overview'!$H$6=\"Orkney Health Board\",0,IF('III Tool Overview'!$H$6=\"Shetland Health Board\",0,IF('III Tool Overview'!$H$6=\"Western Isles Health Board\",0,IF('III Tool Overview'!$H$6=\"Orkney Islands Local Authority\",0,IF('III Tool Overview'!$H$6=\"Shetland Islands Local Authority\",0,IF('III Tool Overview'!$H$6=\"Eilean Siar Local Authority\",0,new_yll(2,B74,C74,D74,$C$1,G74,1,F74,E74*F74)))))))","v":0},{"$f":"IF('III Tool Overview'!$H$6=\"Orkney Health Board\",0,IF('III Tool Overview'!$H$6=\"Shetland Health Board\",0,IF('III Tool Overview'!$H$6=\"Western Isles Health Board\",0,IF('III Tool Overview'!$H$6=\"Orkney Islands Local Authority\",0,IF('III Tool Overview'!$H$6=\"Shetland Islands Local Authority\",0,IF('III Tool Overview'!$H$6=\"Eilean Siar Local Authority\",0,new_yll(2,B74,C74,D74,$C$1,G74+H74,1,F74,E74*F74)))))))","v":0},0,{"$f":"IF('III Tool Overview'!$H$6=\"Orkney Health Board\",0,IF('III Tool Overview'!$H$6=\"Shetland Health Board\",0,IF('III Tool Overview'!$H$6=\"Western Isles Health Board\",0,IF('III Tool Overview'!$H$6=\"Orkney Islands Local Authority\",0,IF('III Tool Overview'!$H$6=\"Shetland Islands Local Authority\",0,IF('III Tool Overview'!$H$6=\"Eilean Siar Local Authority\",0,new_yll(5,B74,C74,D74,$C$1,G74,1,F74,E74*F74)))))))","v":0},{"$f":"IF('III Tool Overview'!$H$6=\"Orkney Health Board\",0,IF('III Tool Overview'!$H$6=\"Shetland Health Board\",0,IF('III Tool Overview'!$H$6=\"Western Isles Health Board\",0,IF('III Tool Overview'!$H$6=\"Orkney Islands Local Authority\",0,IF('III Tool Overview'!$H$6=\"Shetland Islands Local Authority\",0,IF('III Tool Overview'!$H$6=\"Eilean Siar Local Authority\",0,new_yll(5,B74,C74,D74,$C$1,G74+H74,1,F74,E74*F74)))))))","v":0},0,{"$f":"IF('III Tool Overview'!$H$6=\"Orkney Health Board\",0,IF('III Tool Overview'!$H$6=\"Shetland Health Board\",0,IF('III Tool Overview'!$H$6=\"Western Isles Health Board\",0,IF('III Tool Overview'!$H$6=\"Orkney Islands Local Authority\",0,IF('III Tool Overview'!$H$6=\"Shetland Islands Local Authority\",0,IF('III Tool Overview'!$H$6=\"Eilean Siar Local Authority\",0,new_yll(10,B74,C74,D74,$C$1,G74,1,F74,E74*F74)))))))","v":0},{"$f":"IF('III Tool Overview'!$H$6=\"Orkney Health Board\",0,IF('III Tool Overview'!$H$6=\"Shetland Health Board\",0,IF('III Tool Overview'!$H$6=\"Western Isles Health Board\",0,IF('III Tool Overview'!$H$6=\"Orkney Islands Local Authority\",0,IF('III Tool Overview'!$H$6=\"Shetland Islands Local Authority\",0,IF('III Tool Overview'!$H$6=\"Eilean Siar Local Authority\",0,new_yll(10,B74,C74,D74,$C$1,G74+H74,1,F74,E74*F74)))))))","v":0},0,{"$f":"IF('III Tool Overview'!$H$6=\"Orkney Health Board\",0,IF('III Tool Overview'!$H$6=\"Shetland Health Board\",0,IF('III Tool Overview'!$H$6=\"Western Isles Health Board\",0,IF('III Tool Overview'!$H$6=\"Orkney Islands Local Authority\",0,IF('III Tool Overview'!$H$6=\"Shetland Islands Local Authority\",0,IF('III Tool Overview'!$H$6=\"Eilean Siar Local Authority\",0,new_yll(20,B74,C74,D74,$C$1,G74,1,F74,E74*F74)))))))","v":0},{"$f":"IF('III Tool Overview'!$H$6=\"Orkney Health Board\",0,IF('III Tool Overview'!$H$6=\"Shetland Health Board\",0,IF('III Tool Overview'!$H$6=\"Western Isles Health Board\",0,IF('III Tool Overview'!$H$6=\"Orkney Islands Local Authority\",0,IF('III Tool Overview'!$H$6=\"Shetland Islands Local Authority\",0,IF('III Tool Overview'!$H$6=\"Eilean Siar Local Authority\",0,new_yll(20,B74,C74,D74,$C$1,G74+H74,1,F74,E74*F74)))))))","v":0},0,{"$f":"IF('III Tool Overview'!$H$6=\"Orkney Health Board\",0,IF('III Tool Overview'!$H$6=\"Shetland Health Board\",0,IF('III Tool Overview'!$H$6=\"Western Isles Health Board\",0,IF('III Tool Overview'!$H$6=\"Orkney Islands Local Authority\",0,IF('III Tool Overview'!$H$6=\"Shetland Islands Local Authority\",0,IF('III Tool Overview'!$H$6=\"Eilean Siar Local Authority\",0,hosp_count(2,B74,C74,D74,$C$1,G74,1,F74,E74*F74)))))))","v":0},{"$f":"IF('III Tool Overview'!$H$6=\"Orkney Health Board\",0,IF('III Tool Overview'!$H$6=\"Shetland Health Board\",0,IF('III Tool Overview'!$H$6=\"Western Isles Health Board\",0,IF('III Tool Overview'!$H$6=\"Orkney Islands Local Authority\",0,IF('III Tool Overview'!$H$6=\"Shetland Islands Local Authority\",0,IF('III Tool Overview'!$H$6=\"Eilean Siar Local Authority\",0,hosp_count(2,B74,C74,D74,$C$1,G74+H74,1,F74,E74*F74)))))))","v":0},0,{"$f":"IF('III Tool Overview'!$H$6=\"Orkney Health Board\",0,IF('III Tool Overview'!$H$6=\"Shetland Health Board\",0,IF('III Tool Overview'!$H$6=\"Western Isles Health Board\",0,IF('III Tool Overview'!$H$6=\"Orkney Islands Local Authority\",0,IF('III Tool Overview'!$H$6=\"Shetland Islands Local Authority\",0,IF('III Tool Overview'!$H$6=\"Eilean Siar Local Authority\",0,hosp_count(5,B74,C74,D74,$C$1,G74,1,F74,E74*F74)))))))","v":0},{"$f":"IF('III Tool Overview'!$H$6=\"Orkney Health Board\",0,IF('III Tool Overview'!$H$6=\"Shetland Health Board\",0,IF('III Tool Overview'!$H$6=\"Western Isles Health Board\",0,IF('III Tool Overview'!$H$6=\"Orkney Islands Local Authority\",0,IF('III Tool Overview'!$H$6=\"Shetland Islands Local Authority\",0,IF('III Tool Overview'!$H$6=\"Eilean Siar Local Authority\",0,hosp_count(5,B74,C74,D74,$C$1,G74+H74,1,F74,E74*F74)))))))","v":0},0,{"$f":"IF('III Tool Overview'!$H$6=\"Orkney Health Board\",0,IF('III Tool Overview'!$H$6=\"Shetland Health Board\",0,IF('III Tool Overview'!$H$6=\"Western Isles Health Board\",0,IF('III Tool Overview'!$H$6=\"Orkney Islands Local Authority\",0,IF('III Tool Overview'!$H$6=\"Shetland Islands Local Authority\",0,IF('III Tool Overview'!$H$6=\"Eilean Siar Local Authority\",0,hosp_count(10,B74,C74,D74,$C$1,G74,1,F74,E74*F74)))))))","v":0},{"$f":"IF('III Tool Overview'!$H$6=\"Orkney Health Board\",0,IF('III Tool Overview'!$H$6=\"Shetland Health Board\",0,IF('III Tool Overview'!$H$6=\"Western Isles Health Board\",0,IF('III Tool Overview'!$H$6=\"Orkney Islands Local Authority\",0,IF('III Tool Overview'!$H$6=\"Shetland Islands Local Authority\",0,IF('III Tool Overview'!$H$6=\"Eilean Siar Local Authority\",0,hosp_count(10,B74,C74,D74,$C$1,G74+H74,1,F74,E74*F74)))))))","v":0},0,{"$f":"IF('III Tool Overview'!$H$6=\"Orkney Health Board\",0,IF('III Tool Overview'!$H$6=\"Shetland Health Board\",0,IF('III Tool Overview'!$H$6=\"Western Isles Health Board\",0,IF('III Tool Overview'!$H$6=\"Orkney Islands Local Authority\",0,IF('III Tool Overview'!$H$6=\"Shetland Islands Local Authority\",0,IF('III Tool Overview'!$H$6=\"Eilean Siar Local Authority\",0,hosp_count(20,B74,C74,D74,$C$1,G74,1,F74,E74*F74)))))))","v":0},{"$f":"IF('III Tool Overview'!$H$6=\"Orkney Health Board\",0,IF('III Tool Overview'!$H$6=\"Shetland Health Board\",0,IF('III Tool Overview'!$H$6=\"Western Isles Health Board\",0,IF('III Tool Overview'!$H$6=\"Orkney Islands Local Authority\",0,IF('III Tool Overview'!$H$6=\"Shetland Islands Local Authority\",0,IF('III Tool Overview'!$H$6=\"Eilean Siar Local Authority\",0,hosp_count(20,B74,C74,D74,$C$1,G74+H74,1,F74,E74*F74)))))))","v":0},0]
["Male 40-44",42.5,"male",1,{"$f":"HLOOKUP('III Tool Overview'!$H$6,Prevalence!$B$2:$AV$268,Prevalence!AW71,FALSE)","v":0.30060606060606054},{"$f":"HLOOKUP('III Tool Overview'!$H$6,LookUpData_Pop!$B$1:$AV$269,LookUpData_Pop!BB76,FALSE)/5","v":0},{"$f":"'III Tool Overview'!$H$9/110","v":0},{"$f":"IF('III Tool Overview'!$H$10=\"Even distribution\",Targeting!C73,IF('III Tool Overview'!$H$10=\"Targeting to Q1\",Targeting!D73,IF('III Tool Overview'!$H$10=\"Targeting to Q1 & Q2\",Targeting!E73,IF('III Tool Overview'!$H$10=\"Proportionate to need\",Targeting!F73))))","v":3.2727272727272729},{"$f":"IF('III Tool Overview'!$H$6=\"Orkney Health Board\",0,IF('III Tool Overview'!$H$6=\"Shetland Health Board\",0,IF('III Tool Overview'!$H$6=\"Western Isles Health Board\",0,IF('III Tool Overview'!$H$6=\"Orkney Islands Local Authority\",0,IF('III Tool Overview'!$H$6=\"Shetland Islands Local Authority\",0,IF('III Tool Overview'!$H$6=\"Eilean Siar Local Authority\",0,new_ci(2,B75,C75,D75,$C$1,G75,1,F75,E75*F75)))))))","v":0},{"$f":"IF('III Tool Overview'!$H$6=\"Orkney Health Board\",0,IF('III Tool Overview'!$H$6=\"Shetland Health Board\",0,IF('III Tool Overview'!$H$6=\"Western Isles Health Board\",0,IF('III Tool Overview'!$H$6=\"Orkney Islands Local Authority\",0,IF('III Tool Overview'!$H$6=\"Shetland Islands Local Authority\",0,IF('III Tool Overview'!$H$6=\"Eilean Siar Local Authority\",0,new_ci(2,B75,C75,D75,$C$1,G75+H75,1,F75,E75*F75)))))))","v":0},{"$f":"IF('III Tool Overview'!$H$6=\"Orkney Health Board\",0,IF('III Tool Overview'!$H$6=\"Shetland Health Board\",0,IF('III Tool Overview'!$H$6=\"Western Isles Health Board\",0,IF('III Tool Overview'!$H$6=\"Orkney Islands Local Authority\",0,IF('III Tool Overview'!$H$6=\"Shetland Islands Local Authority\",0,IF('III Tool Overview'!$H$6=\"Eilean Siar Local Authority\",0,new_ci(5,B75,C75,D75,$C$1,G75,1,F75,E75*F75)))))))","v":0},{"$f":"IF('III Tool Overview'!$H$6=\"Orkney Health Board\",0,IF('III Tool Overview'!$H$6=\"Shetland Health Board\",0,IF('III Tool Overview'!$H$6=\"Western Isles Health Board\",0,IF('III Tool Overview'!$H$6=\"Orkney Islands Local Authority\",0,IF('III Tool Overview'!$H$6=\"Shetland Islands Local Authority\",0,IF('III Tool Overview'!$H$6=\"Eilean Siar Local Authority\",0,new_ci(5,B75,C75,D75,$C$1,G75+H75,1,F75,E75*F75)))))))","v":0},{"$f":"IF('III Tool Overview'!$H$6=\"Orkney Health Board\",0,IF('III Tool Overview'!$H$6=\"Shetland Health Board\",0,IF('III Tool Overview'!$H$6=\"Western Isles Health Board\",0,IF('III Tool Overview'!$H$6=\"Orkney Islands Local Authority\",0,IF('III Tool Overview'!$H$6=\"Shetland Islands Local Authority\",0,IF('III Tool Overview'!$H$6=\"Eilean Siar Local Authority\",0,new_ci(10,B75,C75,D75,$C$1,G75,1,F75,E75*F75)))))))","v":0},{"$f":"IF('III Tool Overview'!$H$6=\"Orkney Health Board\",0,IF('III Tool Overview'!$H$6=\"Shetland Health Board\",0,IF('III Tool Overview'!$H$6=\"Western Isles Health Board\",0,IF('III Tool Overview'!$H$6=\"Orkney Islands Local Authority\",0,IF('III Tool Overview'!$H$6=\"Shetland Islands Local Authority\",0,IF('III Tool Overview'!$H$6=\"Eilean Siar Local Authority\",0,new_ci(10,B75,C75,D75,$C$1,G75+H75,1,F75,E75*F75)))))))","v":0},{"$f":"IF('III Tool Overview'!$H$6=\"Orkney Health Board\",0,IF('III Tool Overview'!$H$6=\"Shetland Health Board\",0,IF('III Tool Overview'!$H$6=\"Western Isles Health Board\",0,IF('III Tool Overview'!$H$6=\"Orkney Islands Local Authority\",0,IF('III Tool Overview'!$H$6=\"Shetland Islands Local Authority\",0,IF('III Tool Overview'!$H$6=\"Eilean Siar Local Authority\",0,new_ci(20,B75,C75,D75,$C$1,G75,1,F75,E75*F75)))))))","v":0},{"$f":"IF('III Tool Overview'!$H$6=\"Orkney Health Board\",0,IF('III Tool Overview'!$H$6=\"Shetland Health Board\",0,IF('III Tool Overview'!$H$6=\"Western Isles Health Board\",0,IF('III Tool Overview'!$H$6=\"Orkney Islands Local Authority\",0,IF('III Tool Overview'!$H$6=\"Shetland Islands Local Authority\",0,IF('III Tool Overview'!$H$6=\"Eilean Siar Local Authority\",0,new_ci(20,B75,C75,D75,$C$1,G75+H75,1,F75,E75*F75)))))))","v":0},{"$f":"IF('III Tool Overview'!$H$6=\"Orkney Health Board\",0,IF('III Tool Overview'!$H$6=\"Shetland Health Board\",0,IF('III Tool Overview'!$H$6=\"Western Isles Health Board\",0,IF('III Tool Overview'!$H$6=\"Orkney Islands Local Authority\",0,IF('III Tool Overview'!$H$6=\"Shetland Islands Local Authority\",0,IF('III Tool Overview'!$H$6=\"Eilean Siar Local Authority\",0,new_yll(2,B75,C75,D75,$C$1,G75,1,F75,E75*F75)))))))","v":0},{"$f":"IF('III Tool Overview'!$H$6=\"Orkney Health Board\",0,IF('III Tool Overview'!$H$6=\"Shetland Health Board\",0,IF('III Tool Overview'!$H$6=\"Western Isles Health Board\",0,IF('III Tool Overview'!$H$6=\"Orkney Islands Local Authority\",0,IF('III Tool Overview'!$H$6=\"Shetland Islands Local Authority\",0,IF('III Tool Overview'!$H$6=\"Eilean Siar Local Authority\",0,new_yll(2,B75,C75,D75,$C$1,G75+H75,1,F75,E75*F75)))))))","v":0},0,{"$f":"IF('III Tool Overview'!$H$6=\"Orkney Health Board\",0,IF('III Tool Overview'!$H$6=\"Shetland Health Board\",0,IF('III Tool Overview'!$H$6=\"Western Isles Health Board\",0,IF('III Tool Overview'!$H$6=\"Orkney Islands Local Authority\",0,IF('III Tool Overview'!$H$6=\"Shetland Islands Local Authority\",0,IF('III Tool Overview'!$H$6=\"Eilean Siar Local Authority\",0,new_yll(5,B75,C75,D75,$C$1,G75,1,F75,E75*F75)))))))","v":0},{"$f":"IF('III Tool Overview'!$H$6=\"Orkney Health Board\",0,IF('III Tool Overview'!$H$6=\"Shetland Health Board\",0,IF('III Tool Overview'!$H$6=\"Western Isles Health Board\",0,IF('III Tool Overview'!$H$6=\"Orkney Islands Local Authority\",0,IF('III Tool Overview'!$H$6=\"Shetland Islands Local Authority\",0,IF('III Tool Overview'!$H$6=\"Eilean Siar Local Authority\",0,new_yll(5,B75,C75,D75,$C$1,G75+H75,1,F75,E75*F75)))))))","v":0},0,{"$f":"IF('III Tool Overview'!$H$6=\"Orkney Health Board\",0,IF('III Tool Overview'!$H$6=\"Shetland Health Board\",0,IF('III Tool Overview'!$H$6=\"Western Isles Health Board\",0,IF('III Tool Overview'!$H$6=\"Orkney Islands Local Authority\",0,IF('III Tool Overview'!$H$6=\"Shetland Islands Local Authority\",0,IF('III Tool Overview'!$H$6=\"Eilean Siar Local Authority\",0,new_yll(10,B75,C75,D75,$C$1,G75,1,F75,E75*F75)))))))","v":0},{"$f":"IF('III Tool Overview'!$H$6=\"Orkney Health Board\",0,IF('III Tool Overview'!$H$6=\"Shetland Health Board\",0,IF('III Tool Overview'!$H$6=\"Western Isles Health Board\",0,IF('III Tool Overview'!$H$6=\"Orkney Islands Local Authority\",0,IF('III Tool Overview'!$H$6=\"Shetland Islands Local Authority\",0,IF('III Tool Overview'!$H$6=\"Eilean Siar Local Authority\",0,new_yll(10,B75,C75,D75,$C$1,G75+H75,1,F75,E75*F75)))))))","v":0},0,{"$f":"IF('III Tool Overview'!$H$6=\"Orkney Health Board\",0,IF('III Tool Overview'!$H$6=\"Shetland Health Board\",0,IF('III Tool Overview'!$H$6=\"Western Isles Health Board\",0,IF('III Tool Overview'!$H$6=\"Orkney Islands Local Authority\",0,IF('III Tool Overview'!$H$6=\"Shetland Islands Local Authority\",0,IF('III Tool Overview'!$H$6=\"Eilean Siar Local Authority\",0,new_yll(20,B75,C75,D75,$C$1,G75,1,F75,E75*F75)))))))","v":0},{"$f":"IF('III Tool Overview'!$H$6=\"Orkney Health Board\",0,IF('III Tool Overview'!$H$6=\"Shetland Health Board\",0,IF('III Tool Overview'!$H$6=\"Western Isles Health Board\",0,IF('III Tool Overview'!$H$6=\"Orkney Islands Local Authority\",0,IF('III Tool Overview'!$H$6=\"Shetland Islands Local Authority\",0,IF('III Tool Overview'!$H$6=\"Eilean Siar Local Authority\",0,new_yll(20,B75,C75,D75,$C$1,G75+H75,1,F75,E75*F75)))))))","v":0},0,{"$f":"IF('III Tool Overview'!$H$6=\"Orkney Health Board\",0,IF('III Tool Overview'!$H$6=\"Shetland Health Board\",0,IF('III Tool Overview'!$H$6=\"Western Isles Health Board\",0,IF('III Tool Overview'!$H$6=\"Orkney Islands Local Authority\",0,IF('III Tool Overview'!$H$6=\"Shetland Islands Local Authority\",0,IF('III Tool Overview'!$H$6=\"Eilean Siar Local Authority\",0,hosp_count(2,B75,C75,D75,$C$1,G75,1,F75,E75*F75)))))))","v":0},{"$f":"IF('III Tool Overview'!$H$6=\"Orkney Health Board\",0,IF('III Tool Overview'!$H$6=\"Shetland Health Board\",0,IF('III Tool Overview'!$H$6=\"Western Isles Health Board\",0,IF('III Tool Overview'!$H$6=\"Orkney Islands Local Authority\",0,IF('III Tool Overview'!$H$6=\"Shetland Islands Local Authority\",0,IF('III Tool Overview'!$H$6=\"Eilean Siar Local Authority\",0,hosp_count(2,B75,C75,D75,$C$1,G75+H75,1,F75,E75*F75)))))))","v":0},0,{"$f":"IF('III Tool Overview'!$H$6=\"Orkney Health Board\",0,IF('III Tool Overview'!$H$6=\"Shetland Health Board\",0,IF('III Tool Overview'!$H$6=\"Western Isles Health Board\",0,IF('III Tool Overview'!$H$6=\"Orkney Islands Local Authority\",0,IF('III Tool Overview'!$H$6=\"Shetland Islands Local Authority\",0,IF('III Tool Overview'!$H$6=\"Eilean Siar Local Authority\",0,hosp_count(5,B75,C75,D75,$C$1,G75,1,F75,E75*F75)))))))","v":0},{"$f":"IF('III Tool Overview'!$H$6=\"Orkney Health Board\",0,IF('III Tool Overview'!$H$6=\"Shetland Health Board\",0,IF('III Tool Overview'!$H$6=\"Western Isles Health Board\",0,IF('III Tool Overview'!$H$6=\"Orkney Islands Local Authority\",0,IF('III Tool Overview'!$H$6=\"Shetland Islands Local Authority\",0,IF('III Tool Overview'!$H$6=\"Eilean Siar Local Authority\",0,hosp_count(5,B75,C75,D75,$C$1,G75+H75,1,F75,E75*F75)))))))","v":0},0,{"$f":"IF('III Tool Overview'!$H$6=\"Orkney Health Board\",0,IF('III Tool Overview'!$H$6=\"Shetland Health Board\",0,IF('III Tool Overview'!$H$6=\"Western Isles Health Board\",0,IF('III Tool Overview'!$H$6=\"Orkney Islands Local Authority\",0,IF('III Tool Overview'!$H$6=\"Shetland Islands Local Authority\",0,IF('III Tool Overview'!$H$6=\"Eilean Siar Local Authority\",0,hosp_count(10,B75,C75,D75,$C$1,G75,1,F75,E75*F75)))))))","v":0},{"$f":"IF('III Tool Overview'!$H$6=\"Orkney Health Board\",0,IF('III Tool Overview'!$H$6=\"Shetland Health Board\",0,IF('III Tool Overview'!$H$6=\"Western Isles Health Board\",0,IF('III Tool Overview'!$H$6=\"Orkney Islands Local Authority\",0,IF('III Tool Overview'!$H$6=\"Shetland Islands Local Authority\",0,IF('III Tool Overview'!$H$6=\"Eilean Siar Local Authority\",0,hosp_count(10,B75,C75,D75,$C$1,G75+H75,1,F75,E75*F75)))))))","v":0},0,{"$f":"IF('III Tool Overview'!$H$6=\"Orkney Health Board\",0,IF('III Tool Overview'!$H$6=\"Shetland Health Board\",0,IF('III Tool Overview'!$H$6=\"Western Isles Health Board\",0,IF('III Tool Overview'!$H$6=\"Orkney Islands Local Authority\",0,IF('III Tool Overview'!$H$6=\"Shetland Islands Local Authority\",0,IF('III Tool Overview'!$H$6=\"Eilean Siar Local Authority\",0,hosp_count(20,B75,C75,D75,$C$1,G75,1,F75,E75*F75)))))))","v":0},{"$f":"IF('III Tool Overview'!$H$6=\"Orkney Health Board\",0,IF('III Tool Overview'!$H$6=\"Shetland Health Board\",0,IF('III Tool Overview'!$H$6=\"Western Isles Health Board\",0,IF('III Tool Overview'!$H$6=\"Orkney Islands Local Authority\",0,IF('III Tool Overview'!$H$6=\"Shetland Islands Local Authority\",0,IF('III Tool Overview'!$H$6=\"Eilean Siar Local Authority\",0,hosp_count(20,B75,C75,D75,$C$1,G75+H75,1,F75,E75*F75)))))))","v":0},0]
["Male 45-49",47.5,"male",1,{"$f":"HLOOKUP('III Tool Overview'!$H$6,Prevalence!$B$2:$AV$268,Prevalence!AW72,FALSE)","v":0.30999999999999994},{"$f":"HLOOKUP('III Tool Overview'!$H$6,LookUpData_Pop!$B$1:$AV$269,LookUpData_Pop!BB77,FALSE)/5","v":0},{"$f":"'III Tool Overview'!$H$9/110","v":0},{"$f":"IF('III Tool Overview'!$H$10=\"Even distribution\",Targeting!C74,IF('III Tool Overview'!$H$10=\"Targeting to Q1\",Targeting!D74,IF('III Tool Overview'!$H$10=\"Targeting to Q1 & Q2\",Targeting!E74,IF('III Tool Overview'!$H$10=\"Proportionate to need\",Targeting!F74))))","v":3.2727272727272729},{"$f":"IF('III Tool Overview'!$H$6=\"Orkney Health Board\",0,IF('III Tool Overview'!$H$6=\"Shetland Health Board\",0,IF('III Tool Overview'!$H$6=\"Western Isles Health Board\",0,IF('III Tool Overview'!$H$6=\"Orkney Islands Local Authority\",0,IF('III Tool Overview'!$H$6=\"Shetland Islands Local Authority\",0,IF('III Tool Overview'!$H$6=\"Eilean Siar Local Authority\",0,new_ci(2,B76,C76,D76,$C$1,G76,1,F76,E76*F76)))))))","v":0},{"$f":"IF('III Tool Overview'!$H$6=\"Orkney Health Board\",0,IF('III Tool Overview'!$H$6=\"Shetland Health Board\",0,IF('III Tool Overview'!$H$6=\"Western Isles Health Board\",0,IF('III Tool Overview'!$H$6=\"Orkney Islands Local Authority\",0,IF('III Tool Overview'!$H$6=\"Shetland Islands Local Authority\",0,IF('III Tool Overview'!$H$6=\"Eilean Siar Local Authority\",0,new_ci(2,B76,C76,D76,$C$1,G76+H76,1,F76,E76*F76)))))))","v":0},{"$f":"IF('III Tool Overview'!$H$6=\"Orkney Health Board\",0,IF('III Tool Overview'!$H$6=\"Shetland Health Board\",0,IF('III Tool Overview'!$H$6=\"Western Isles Health Board\",0,IF('III Tool Overview'!$H$6=\"Orkney Islands Local Authority\",0,IF('III Tool Overview'!$H$6=\"Shetland Islands Local Authority\",0,IF('III Tool Overview'!$H$6=\"Eilean Siar Local Authority\",0,new_ci(5,B76,C76,D76,$C$1,G76,1,F76,E76*F76)))))))","v":0},{"$f":"IF('III Tool Overview'!$H$6=\"Orkney Health Board\",0,IF('III Tool Overview'!$H$6=\"Shetland Health Board\",0,IF('III Tool Overview'!$H$6=\"Western Isles Health Board\",0,IF('III Tool Overview'!$H$6=\"Orkney Islands Local Authority\",0,IF('III Tool Overview'!$H$6=\"Shetland Islands Local Authority\",0,IF('III Tool Overview'!$H$6=\"Eilean Siar Local Authority\",0,new_ci(5,B76,C76,D76,$C$1,G76+H76,1,F76,E76*F76)))))))","v":0},{"$f":"IF('III Tool Overview'!$H$6=\"Orkney Health Board\",0,IF('III Tool Overview'!$H$6=\"Shetland Health Board\",0,IF('III Tool Overview'!$H$6=\"Western Isles Health Board\",0,IF('III Tool Overview'!$H$6=\"Orkney Islands Local Authority\",0,IF('III Tool Overview'!$H$6=\"Shetland Islands Local Authority\",0,IF('III Tool Overview'!$H$6=\"Eilean Siar Local Authority\",0,new_ci(10,B76,C76,D76,$C$1,G76,1,F76,E76*F76)))))))","v":0},{"$f":"IF('III Tool Overview'!$H$6=\"Orkney Health Board\",0,IF('III Tool Overview'!$H$6=\"Shetland Health Board\",0,IF('III Tool Overview'!$H$6=\"Western Isles Health Board\",0,IF('III Tool Overview'!$H$6=\"Orkney Islands Local Authority\",0,IF('III Tool Overview'!$H$6=\"Shetland Islands Local Authority\",0,IF('III Tool Overview'!$H$6=\"Eilean Siar Local Authority\",0,new_ci(10,B76,C76,D76,$C$1,G76+H76,1,F76,E76*F76)))))))","v":0},{"$f":"IF('III Tool Overview'!$H$6=\"Orkney Health Board\",0,IF('III Tool Overview'!$H$6=\"Shetland Health Board\",0,IF('III Tool Overview'!$H$6=\"Western Isles Health Board\",0,IF('III Tool Overview'!$H$6=\"Orkney Islands Local Authority\",0,IF('III Tool Overview'!$H$6=\"Shetland Islands Local Authority\",0,IF('III Tool Overview'!$H$6=\"Eilean Siar Local Authority\",0,new_ci(20,B76,C76,D76,$C$1,G76,1,F76,E76*F76)))))))","v":0},{"$f":"IF('III Tool Overview'!$H$6=\"Orkney Health Board\",0,IF('III Tool Overview'!$H$6=\"Shetland Health Board\",0,IF('III Tool Overview'!$H$6=\"Western Isles Health Board\",0,IF('III Tool Overview'!$H$6=\"Orkney Islands Local Authority\",0,IF('III Tool Overview'!$H$6=\"Shetland Islands Local Authority\",0,IF('III Tool Overview'!$H$6=\"Eilean Siar Local Authority\",0,new_ci(20,B76,C76,D76,$C$1,G76+H76,1,F76,E76*F76)))))))","v":0},{"$f":"IF('III Tool Overview'!$H$6=\"Orkney Health Board\",0,IF('III Tool Overview'!$H$6=\"Shetland Health Board\",0,IF('III Tool Overview'!$H$6=\"Western Isles Health Board\",0,IF('III Tool Overview'!$H$6=\"Orkney Islands Local Authority\",0,IF('III Tool Overview'!$H$6=\"Shetland Islands Local Authority\",0,IF('III Tool Overview'!$H$6=\"Eilean Siar Local Authority\",0,new_yll(2,B76,C76,D76,$C$1,G76,1,F76,E76*F76)))))))","v":0},{"$f":"IF('III Tool Overview'!$H$6=\"Orkney Health Board\",0,IF('III Tool Overview'!$H$6=\"Shetland Health Board\",0,IF('III Tool Overview'!$H$6=\"Western Isles Health Board\",0,IF('III Tool Overview'!$H$6=\"Orkney Islands Local Authority\",0,IF('III Tool Overview'!$H$6=\"Shetland Islands Local Authority\",0,IF('III Tool Overview'!$H$6=\"Eilean Siar Local Authority\",0,new_yll(2,B76,C76,D76,$C$1,G76+H76,1,F76,E76*F76)))))))","v":0},0,{"$f":"IF('III Tool Overview'!$H$6=\"Orkney Health Board\",0,IF('III Tool Overview'!$H$6=\"Shetland Health Board\",0,IF('III Tool Overview'!$H$6=\"Western Isles Health Board\",0,IF('III Tool Overview'!$H$6=\"Orkney Islands Local Authority\",0,IF('III Tool Overview'!$H$6=\"Shetland Islands Local Authority\",0,IF('III Tool Overview'!$H$6=\"Eilean Siar Local Authority\",0,new_yll(5,B76,C76,D76,$C$1,G76,1,F76,E76*F76)))))))","v":0},{"$f":"IF('III Tool Overview'!$H$6=\"Orkney Health Board\",0,IF('III Tool Overview'!$H$6=\"Shetland Health Board\",0,IF('III Tool Overview'!$H$6=\"Western Isles Health Board\",0,IF('III Tool Overview'!$H$6=\"Orkney Islands Local Authority\",0,IF('III Tool Overview'!$H$6=\"Shetland Islands Local Authority\",0,IF('III Tool Overview'!$H$6=\"Eilean Siar Local Authority\",0,new_yll(5,B76,C76,D76,$C$1,G76+H76,1,F76,E76*F76)))))))","v":0},0,{"$f":"IF('III Tool Overview'!$H$6=\"Orkney Health Board\",0,IF('III Tool Overview'!$H$6=\"Shetland Health Board\",0,IF('III Tool Overview'!$H$6=\"Western Isles Health Board\",0,IF('III Tool Overview'!$H$6=\"Orkney Islands Local Authority\",0,IF('III Tool Overview'!$H$6=\"Shetland Islands Local Authority\",0,IF('III Tool Overview'!$H$6=\"Eilean Siar Local Authority\",0,new_yll(10,B76,C76,D76,$C$1,G76,1,F76,E76*F76)))))))","v":0},{"$f":"IF('III Tool Overview'!$H$6=\"Orkney Health Board\",0,IF('III Tool Overview'!$H$6=\"Shetland Health Board\",0,IF('III Tool Overview'!$H$6=\"Western Isles Health Board\",0,IF('III Tool Overview'!$H$6=\"Orkney Islands Local Authority\",0,IF('III Tool Overview'!$H$6=\"Shetland Islands Local Authority\",0,IF('III Tool Overview'!$H$6=\"Eilean Siar Local Authority\",0,new_yll(10,B76,C76,D76,$C$1,G76+H76,1,F76,E76*F76)))))))","v":0},0,{"$f":"IF('III Tool Overview'!$H$6=\"Orkney Health Board\",0,IF('III Tool Overview'!$H$6=\"Shetland Health Board\",0,IF('III Tool Overview'!$H$6=\"Western Isles Health Board\",0,IF('III Tool Overview'!$H$6=\"Orkney Islands Local Authority\",0,IF('III Tool Overview'!$H$6=\"Shetland Islands Local Authority\",0,IF('III Tool Overview'!$H$6=\"Eilean Siar Local Authority\",0,new_yll(20,B76,C76,D76,$C$1,G76,1,F76,E76*F76)))))))","v":0},{"$f":"IF('III Tool Overview'!$H$6=\"Orkney Health Board\",0,IF('III Tool Overview'!$H$6=\"Shetland Health Board\",0,IF('III Tool Overview'!$H$6=\"Western Isles Health Board\",0,IF('III Tool Overview'!$H$6=\"Orkney Islands Local Authority\",0,IF('III Tool Overview'!$H$6=\"Shetland Islands Local Authority\",0,IF('III Tool Overview'!$H$6=\"Eilean Siar Local Authority\",0,new_yll(20,B76,C76,D76,$C$1,G76+H76,1,F76,E76*F76)))))))","v":0},0,{"$f":"IF('III Tool Overview'!$H$6=\"Orkney Health Board\",0,IF('III Tool Overview'!$H$6=\"Shetland Health Board\",0,IF('III Tool Overview'!$H$6=\"Western Isles Health Board\",0,IF('III Tool Overview'!$H$6=\"Orkney Islands Local Authority\",0,IF('III Tool Overview'!$H$6=\"Shetland Islands Local Authority\",0,IF('III Tool Overview'!$H$6=\"Eilean Siar Local Authority\",0,hosp_count(2,B76,C76,D76,$C$1,G76,1,F76,E76*F76)))))))","v":0},{"$f":"IF('III Tool Overview'!$H$6=\"Orkney Health Board\",0,IF('III Tool Overview'!$H$6=\"Shetland Health Board\",0,IF('III Tool Overview'!$H$6=\"Western Isles Health Board\",0,IF('III Tool Overview'!$H$6=\"Orkney Islands Local Authority\",0,IF('III Tool Overview'!$H$6=\"Shetland Islands Local Authority\",0,IF('III Tool Overview'!$H$6=\"Eilean Siar Local Authority\",0,hosp_count(2,B76,C76,D76,$C$1,G76+H76,1,F76,E76*F76)))))))","v":0},0,{"$f":"IF('III Tool Overview'!$H$6=\"Orkney Health Board\",0,IF('III Tool Overview'!$H$6=\"Shetland Health Board\",0,IF('III Tool Overview'!$H$6=\"Western Isles Health Board\",0,IF('III Tool Overview'!$H$6=\"Orkney Islands Local Authority\",0,IF('III Tool Overview'!$H$6=\"Shetland Islands Local Authority\",0,IF('III Tool Overview'!$H$6=\"Eilean Siar Local Authority\",0,hosp_count(5,B76,C76,D76,$C$1,G76,1,F76,E76*F76)))))))","v":0},{"$f":"IF('III Tool Overview'!$H$6=\"Orkney Health Board\",0,IF('III Tool Overview'!$H$6=\"Shetland Health Board\",0,IF('III Tool Overview'!$H$6=\"Western Isles Health Board\",0,IF('III Tool Overview'!$H$6=\"Orkney Islands Local Authority\",0,IF('III Tool Overview'!$H$6=\"Shetland Islands Local Authority\",0,IF('III Tool Overview'!$H$6=\"Eilean Siar Local Authority\",0,hosp_count(5,B76,C76,D76,$C$1,G76+H76,1,F76,E76*F76)))))))","v":0},0,{"$f":"IF('III Tool Overview'!$H$6=\"Orkney Health Board\",0,IF('III Tool Overview'!$H$6=\"Shetland Health Board\",0,IF('III Tool Overview'!$H$6=\"Western Isles Health Board\",0,IF('III Tool Overview'!$H$6=\"Orkney Islands Local Authority\",0,IF('III Tool Overview'!$H$6=\"Shetland Islands Local Authority\",0,IF('III Tool Overview'!$H$6=\"Eilean Siar Local Authority\",0,hosp_count(10,B76,C76,D76,$C$1,G76,1,F76,E76*F76)))))))","v":0},{"$f":"IF('III Tool Overview'!$H$6=\"Orkney Health Board\",0,IF('III Tool Overview'!$H$6=\"Shetland Health Board\",0,IF('III Tool Overview'!$H$6=\"Western Isles Health Board\",0,IF('III Tool Overview'!$H$6=\"Orkney Islands Local Authority\",0,IF('III Tool Overview'!$H$6=\"Shetland Islands Local Authority\",0,IF('III Tool Overview'!$H$6=\"Eilean Siar Local Authority\",0,hosp_count(10,B76,C76,D76,$C$1,G76+H76,1,F76,E76*F76)))))))","v":0},0,{"$f":"IF('III Tool Overview'!$H$6=\"Orkney Health Board\",0,IF('III Tool Overview'!$H$6=\"Shetland Health Board\",0,IF('III Tool Overview'!$H$6=\"Western Isles Health Board\",0,IF('III Tool Overview'!$H$6=\"Orkney Islands Local Authority\",0,IF('III Tool Overview'!$H$6=\"Shetland Islands Local Authority\",0,IF('III Tool Overview'!$H$6=\"Eilean Siar Local Authority\",0,hosp_count(20,B76,C76,D76,$C$1,G76,1,F76,E76*F76)))))))","v":0},{"$f":"IF('III Tool Overview'!$H$6=\"Orkney Health Board\",0,IF('III Tool Overview'!$H$6=\"Shetland Health Board\",0,IF('III Tool Overview'!$H$6=\"Western Isles Health Board\",0,IF('III Tool Overview'!$H$6=\"Orkney Islands Local Authority\",0,IF('III Tool Overview'!$H$6=\"Shetland Islands Local Authority\",0,IF('III Tool Overview'!$H$6=\"Eilean Siar Local Authority\",0,hosp_count(20,B76,C76,D76,$C$1,G76+H76,1,F76,E76*F76)))))))","v":0},0]
["Male 50-54",52.5,"male",1,{"$f":"HLOOKUP('III Tool Overview'!$H$6,Prevalence!$B$2:$AV$268,Prevalence!AW73,FALSE)","v":0.36636363636363634},{"$f":"HLOOKUP('III Tool Overview'!$H$6,LookUpData_Pop!$B$1:$AV$269,LookUpData_Pop!BB78,FALSE)/5","v":0},{"$f":"'III Tool Overview'!$H$9/110","v":0},{"$f":"IF('III Tool Overview'!$H$10=\"Even distribution\",Targeting!C75,IF('III Tool Overview'!$H$10=\"Targeting to Q1\",Targeting!D75,IF('III Tool Overview'!$H$10=\"Targeting to Q1 & Q2\",Targeting!E75,IF('III Tool Overview'!$H$10=\"Proportionate to need\",Targeting!F75))))","v":3.2727272727272729},{"$f":"IF('III Tool Overview'!$H$6=\"Orkney Health Board\",0,IF('III Tool Overview'!$H$6=\"Shetland Health Board\",0,IF('III Tool Overview'!$H$6=\"Western Isles Health Board\",0,IF('III Tool Overview'!$H$6=\"Orkney Islands Local Authority\",0,IF('III Tool Overview'!$H$6=\"Shetland Islands Local Authority\",0,IF('III Tool Overview'!$H$6=\"Eilean Siar Local Authority\",0,new_ci(2,B77,C77,D77,$C$1,G77,1,F77,E77*F77)))))))","v":0},{"$f":"IF('III Tool Overview'!$H$6=\"Orkney Health Board\",0,IF('III Tool Overview'!$H$6=\"Shetland Health Board\",0,IF('III Tool Overview'!$H$6=\"Western Isles Health Board\",0,IF('III Tool Overview'!$H$6=\"Orkney Islands Local Authority\",0,IF('III Tool Overview'!$H$6=\"Shetland Islands Local Authority\",0,IF('III Tool Overview'!$H$6=\"Eilean Siar Local Authority\",0,new_ci(2,B77,C77,D77,$C$1,G77+H77,1,F77,E77*F77)))))))","v":0},{"$f":"IF('III Tool Overview'!$H$6=\"Orkney Health Board\",0,IF('III Tool Overview'!$H$6=\"Shetland Health Board\",0,IF('III Tool Overview'!$H$6=\"Western Isles Health Board\",0,IF('III Tool Overview'!$H$6=\"Orkney Islands Local Authority\",0,IF('III Tool Overview'!$H$6=\"Shetland Islands Local Authority\",0,IF('III Tool Overview'!$H$6=\"Eilean Siar Local Authority\",0,new_ci(5,B77,C77,D77,$C$1,G77,1,F77,E77*F77)))))))","v":0},{"$f":"IF('III Tool Overview'!$H$6=\"Orkney Health Board\",0,IF('III Tool Overview'!$H$6=\"Shetland Health Board\",0,IF('III Tool Overview'!$H$6=\"Western Isles Health Board\",0,IF('III Tool Overview'!$H$6=\"Orkney Islands Local Authority\",0,IF('III Tool Overview'!$H$6=\"Shetland Islands Local Authority\",0,IF('III Tool Overview'!$H$6=\"Eilean Siar Local Authority\",0,new_ci(5,B77,C77,D77,$C$1,G77+H77,1,F77,E77*F77)))))))","v":0},{"$f":"IF('III Tool Overview'!$H$6=\"Orkney Health Board\",0,IF('III Tool Overview'!$H$6=\"Shetland Health Board\",0,IF('III Tool Overview'!$H$6=\"Western Isles Health Board\",0,IF('III Tool Overview'!$H$6=\"Orkney Islands Local Authority\",0,IF('III Tool Overview'!$H$6=\"Shetland Islands Local Authority\",0,IF('III Tool Overview'!$H$6=\"Eilean Siar Local Authority\",0,new_ci(10,B77,C77,D77,$C$1,G77,1,F77,E77*F77)))))))","v":0},{"$f":"IF('III Tool Overview'!$H$6=\"Orkney Health Board\",0,IF('III Tool Overview'!$H$6=\"Shetland Health Board\",0,IF('III Tool Overview'!$H$6=\"Western Isles Health Board\",0,IF('III Tool Overview'!$H$6=\"Orkney Islands Local Authority\",0,IF('III Tool Overview'!$H$6=\"Shetland Islands Local Authority\",0,IF('III Tool Overview'!$H$6=\"Eilean Siar Local Authority\",0,new_ci(10,B77,C77,D77,$C$1,G77+H77,1,F77,E77*F77)))))))","v":0},{"$f":"IF('III Tool Overview'!$H$6=\"Orkney Health Board\",0,IF('III Tool Overview'!$H$6=\"Shetland Health Board\",0,IF('III Tool Overview'!$H$6=\"Western Isles Health Board\",0,IF('III Tool Overview'!$H$6=\"Orkney Islands Local Authority\",0,IF('III Tool Overview'!$H$6=\"Shetland Islands Local Authority\",0,IF('III Tool Overview'!$H$6=\"Eilean Siar Local Authority\",0,new_ci(20,B77,C77,D77,$C$1,G77,1,F77,E77*F77)))))))","v":0},{"$f":"IF('III Tool Overview'!$H$6=\"Orkney Health Board\",0,IF('III Tool Overview'!$H$6=\"Shetland Health Board\",0,IF('III Tool Overview'!$H$6=\"Western Isles Health Board\",0,IF('III Tool Overview'!$H$6=\"Orkney Islands Local Authority\",0,IF('III Tool Overview'!$H$6=\"Shetland Islands Local Authority\",0,IF('III Tool Overview'!$H$6=\"Eilean Siar Local Authority\",0,new_ci(20,B77,C77,D77,$C$1,G77+H77,1,F77,E77*F77)))))))","v":0},{"$f":"IF('III Tool Overview'!$H$6=\"Orkney Health Board\",0,IF('III Tool Overview'!$H$6=\"Shetland Health Board\",0,IF('III Tool Overview'!$H$6=\"Western Isles Health Board\",0,IF('III Tool Overview'!$H$6=\"Orkney Islands Local Authority\",0,IF('III Tool Overview'!$H$6=\"Shetland Islands Local Authority\",0,IF('III Tool Overview'!$H$6=\"Eilean Siar Local Authority\",0,new_yll(2,B77,C77,D77,$C$1,G77,1,F77,E77*F77)))))))","v":0},{"$f":"IF('III Tool Overview'!$H$6=\"Orkney Health Board\",0,IF('III Tool Overview'!$H$6=\"Shetland Health Board\",0,IF('III Tool Overview'!$H$6=\"Western Isles Health Board\",0,IF('III Tool Overview'!$H$6=\"Orkney Islands Local Authority\",0,IF('III Tool Overview'!$H$6=\"Shetland Islands Local Authority\",0,IF('III Tool Overview'!$H$6=\"Eilean Siar Local Authority\",0,new_yll(2,B77,C77,D77,$C$1,G77+H77,1,F77,E77*F77)))))))","v":0},0,{"$f":"IF('III Tool Overview'!$H$6=\"Orkney Health Board\",0,IF('III Tool Overview'!$H$6=\"Shetland Health Board\",0,IF('III Tool Overview'!$H$6=\"Western Isles Health Board\",0,IF('III Tool Overview'!$H$6=\"Orkney Islands Local Authority\",0,IF('III Tool Overview'!$H$6=\"Shetland Islands Local Authority\",0,IF('III Tool Overview'!$H$6=\"Eilean Siar Local Authority\",0,new_yll(5,B77,C77,D77,$C$1,G77,1,F77,E77*F77)))))))","v":0},{"$f":"IF('III Tool Overview'!$H$6=\"Orkney Health Board\",0,IF('III Tool Overview'!$H$6=\"Shetland Health Board\",0,IF('III Tool Overview'!$H$6=\"Western Isles Health Board\",0,IF('III Tool Overview'!$H$6=\"Orkney Islands Local Authority\",0,IF('III Tool Overview'!$H$6=\"Shetland Islands Local Authority\",0,IF('III Tool Overview'!$H$6=\"Eilean Siar Local Authority\",0,new_yll(5,B77,C77,D77,$C$1,G77+H77,1,F77,E77*F77)))))))","v":0},0,{"$f":"IF('III Tool Overview'!$H$6=\"Orkney Health Board\",0,IF('III Tool Overview'!$H$6=\"Shetland Health Board\",0,IF('III Tool Overview'!$H$6=\"Western Isles Health Board\",0,IF('III Tool Overview'!$H$6=\"Orkney Islands Local Authority\",0,IF('III Tool Overview'!$H$6=\"Shetland Islands Local Authority\",0,IF('III Tool Overview'!$H$6=\"Eilean Siar Local Authority\",0,new_yll(10,B77,C77,D77,$C$1,G77,1,F77,E77*F77)))))))","v":0},{"$f":"IF('III Tool Overview'!$H$6=\"Orkney Health Board\",0,IF('III Tool Overview'!$H$6=\"Shetland Health Board\",0,IF('III Tool Overview'!$H$6=\"Western Isles Health Board\",0,IF('III Tool Overview'!$H$6=\"Orkney Islands Local Authority\",0,IF('III Tool Overview'!$H$6=\"Shetland Islands Local Authority\",0,IF('III Tool Overview'!$H$6=\"Eilean Siar Local Authority\",0,new_yll(10,B77,C77,D77,$C$1,G77+H77,1,F77,E77*F77)))))))","v":0},0,{"$f":"IF('III Tool Overview'!$H$6=\"Orkney Health Board\",0,IF('III Tool Overview'!$H$6=\"Shetland Health Board\",0,IF('III Tool Overview'!$H$6=\"Western Isles Health Board\",0,IF('III Tool Overview'!$H$6=\"Orkney Islands Local Authority\",0,IF('III Tool Overview'!$H$6=\"Shetland Islands Local Authority\",0,IF('III Tool Overview'!$H$6=\"Eilean Siar Local Authority\",0,new_yll(20,B77,C77,D77,$C$1,G77,1,F77,E77*F77)))))))","v":0},{"$f":"IF('III Tool Overview'!$H$6=\"Orkney Health Board\",0,IF('III Tool Overview'!$H$6=\"Shetland Health Board\",0,IF('III Tool Overview'!$H$6=\"Western Isles Health Board\",0,IF('III Tool Overview'!$H$6=\"Orkney Islands Local Authority\",0,IF('III Tool Overview'!$H$6=\"Shetland Islands Local Authority\",0,IF('III Tool Overview'!$H$6=\"Eilean Siar Local Authority\",0,new_yll(20,B77,C77,D77,$C$1,G77+H77,1,F77,E77*F77)))))))","v":0},0,{"$f":"IF('III Tool Overview'!$H$6=\"Orkney Health Board\",0,IF('III Tool Overview'!$H$6=\"Shetland Health Board\",0,IF('III Tool Overview'!$H$6=\"Western Isles Health Board\",0,IF('III Tool Overview'!$H$6=\"Orkney Islands Local Authority\",0,IF('III Tool Overview'!$H$6=\"Shetland Islands Local Authority\",0,IF('III Tool Overview'!$H$6=\"Eilean Siar Local Authority\",0,hosp_count(2,B77,C77,D77,$C$1,G77,1,F77,E77*F77)))))))","v":0},{"$f":"IF('III Tool Overview'!$H$6=\"Orkney Health Board\",0,IF('III Tool Overview'!$H$6=\"Shetland Health Board\",0,IF('III Tool Overview'!$H$6=\"Western Isles Health Board\",0,IF('III Tool Overview'!$H$6=\"Orkney Islands Local Authority\",0,IF('III Tool Overview'!$H$6=\"Shetland Islands Local Authority\",0,IF('III Tool Overview'!$H$6=\"Eilean Siar Local Authority\",0,hosp_count(2,B77,C77,D77,$C$1,G77+H77,1,F77,E77*F77)))))))","v":0},0,{"$f":"IF('III Tool Overview'!$H$6=\"Orkney Health Board\",0,IF('III Tool Overview'!$H$6=\"Shetland Health Board\",0,IF('III Tool Overview'!$H$6=\"Western Isles Health Board\",0,IF('III Tool Overview'!$H$6=\"Orkney Islands Local Authority\",0,IF('III Tool Overview'!$H$6=\"Shetland Islands Local Authority\",0,IF('III Tool Overview'!$H$6=\"Eilean Siar Local Authority\",0,hosp_count(5,B77,C77,D77,$C$1,G77,1,F77,E77*F77)))))))","v":0},{"$f":"IF('III Tool Overview'!$H$6=\"Orkney Health Board\",0,IF('III Tool Overview'!$H$6=\"Shetland Health Board\",0,IF('III Tool Overview'!$H$6=\"Western Isles Health Board\",0,IF('III Tool Overview'!$H$6=\"Orkney Islands Local Authority\",0,IF('III Tool Overview'!$H$6=\"Shetland Islands Local Authority\",0,IF('III Tool Overview'!$H$6=\"Eilean Siar Local Authority\",0,hosp_count(5,B77,C77,D77,$C$1,G77+H77,1,F77,E77*F77)))))))","v":0},0,{"$f":"IF('III Tool Overview'!$H$6=\"Orkney Health Board\",0,IF('III Tool Overview'!$H$6=\"Shetland Health Board\",0,IF('III Tool Overview'!$H$6=\"Western Isles Health Board\",0,IF('III Tool Overview'!$H$6=\"Orkney Islands Local Authority\",0,IF('III Tool Overview'!$H$6=\"Shetland Islands Local Authority\",0,IF('III Tool Overview'!$H$6=\"Eilean Siar Local Authority\",0,hosp_count(10,B77,C77,D77,$C$1,G77,1,F77,E77*F77)))))))","v":0},{"$f":"IF('III Tool Overview'!$H$6=\"Orkney Health Board\",0,IF('III Tool Overview'!$H$6=\"Shetland Health Board\",0,IF('III Tool Overview'!$H$6=\"Western Isles Health Board\",0,IF('III Tool Overview'!$H$6=\"Orkney Islands Local Authority\",0,IF('III Tool Overview'!$H$6=\"Shetland Islands Local Authority\",0,IF('III Tool Overview'!$H$6=\"Eilean Siar Local Authority\",0,hosp_count(10,B77,C77,D77,$C$1,G77+H77,1,F77,E77*F77)))))))","v":0},0,{"$f":"IF('III Tool Overview'!$H$6=\"Orkney Health Board\",0,IF('III Tool Overview'!$H$6=\"Shetland Health Board\",0,IF('III Tool Overview'!$H$6=\"Western Isles Health Board\",0,IF('III Tool Overview'!$H$6=\"Orkney Islands Local Authority\",0,IF('III Tool Overview'!$H$6=\"Shetland Islands Local Authority\",0,IF('III Tool Overview'!$H$6=\"Eilean Siar Local Authority\",0,hosp_count(20,B77,C77,D77,$C$1,G77,1,F77,E77*F77)))))))","v":0},{"$f":"IF('III Tool Overview'!$H$6=\"Orkney Health Board\",0,IF('III Tool Overview'!$H$6=\"Shetland Health Board\",0,IF('III Tool Overview'!$H$6=\"Western Isles Health Board\",0,IF('III Tool Overview'!$H$6=\"Orkney Islands Local Authority\",0,IF('III Tool Overview'!$H$6=\"Shetland Islands Local Authority\",0,IF('III Tool Overview'!$H$6=\"Eilean Siar Local Authority\",0,hosp_count(20,B77,C77,D77,$C$1,G77+H77,1,F77,E77*F77)))))))","v":0},0]
["Male 55-59",57.5,"male",1,{"$f":"HLOOKUP('III Tool Overview'!$H$6,Prevalence!$B$2:$AV$268,Prevalence!AW74,FALSE)","v":0.50727272727272732},{"$f":"HLOOKUP('III Tool Overview'!$H$6,LookUpData_Pop!$B$1:$AV$269,LookUpData_Pop!BB79,FALSE)/5","v":0},{"$f":"'III Tool Overview'!$H$9/110","v":0},{"$f":"IF('III Tool Overview'!$H$10=\"Even distribution\",Targeting!C76,IF('III Tool Overview'!$H$10=\"Targeting to Q1\",Targeting!D76,IF('III Tool Overview'!$H$10=\"Targeting to Q1 & Q2\",Targeting!E76,IF('III Tool Overview'!$H$10=\"Proportionate to need\",Targeting!F76))))","v":3.2727272727272729},{"$f":"IF('III Tool Overview'!$H$6=\"Orkney Health Board\",0,IF('III Tool Overview'!$H$6=\"Shetland Health Board\",0,IF('III Tool Overview'!$H$6=\"Western Isles Health Board\",0,IF('III Tool Overview'!$H$6=\"Orkney Islands Local Authority\",0,IF('III Tool Overview'!$H$6=\"Shetland Islands Local Authority\",0,IF('III Tool Overview'!$H$6=\"Eilean Siar Local Authority\",0,new_ci(2,B78,C78,D78,$C$1,G78,1,F78,E78*F78)))))))","v":0},{"$f":"IF('III Tool Overview'!$H$6=\"Orkney Health Board\",0,IF('III Tool Overview'!$H$6=\"Shetland Health Board\",0,IF('III Tool Overview'!$H$6=\"Western Isles Health Board\",0,IF('III Tool Overview'!$H$6=\"Orkney Islands Local Authority\",0,IF('III Tool Overview'!$H$6=\"Shetland Islands Local Authority\",0,IF('III Tool Overview'!$H$6=\"Eilean Siar Local Authority\",0,new_ci(2,B78,C78,D78,$C$1,G78+H78,1,F78,E78*F78)))))))","v":0},{"$f":"IF('III Tool Overview'!$H$6=\"Orkney Health Board\",0,IF('III Tool Overview'!$H$6=\"Shetland Health Board\",0,IF('III Tool Overview'!$H$6=\"Western Isles Health Board\",0,IF('III Tool Overview'!$H$6=\"Orkney Islands Local Authority\",0,IF('III Tool Overview'!$H$6=\"Shetland Islands Local Authority\",0,IF('III Tool Overview'!$H$6=\"Eilean Siar Local Authority\",0,new_ci(5,B78,C78,D78,$C$1,G78,1,F78,E78*F78)))))))","v":0},{"$f":"IF('III Tool Overview'!$H$6=\"Orkney Health Board\",0,IF('III Tool Overview'!$H$6=\"Shetland Health Board\",0,IF('III Tool Overview'!$H$6=\"Western Isles Health Board\",0,IF('III Tool Overview'!$H$6=\"Orkney Islands Local Authority\",0,IF('III Tool Overview'!$H$6=\"Shetland Islands Local Authority\",0,IF('III Tool Overview'!$H$6=\"Eilean Siar Local Authority\",0,new_ci(5,B78,C78,D78,$C$1,G78+H78,1,F78,E78*F78)))))))","v":0},{"$f":"IF('III Tool Overview'!$H$6=\"Orkney Health Board\",0,IF('III Tool Overview'!$H$6=\"Shetland Health Board\",0,IF('III Tool Overview'!$H$6=\"Western Isles Health Board\",0,IF('III Tool Overview'!$H$6=\"Orkney Islands Local Authority\",0,IF('III Tool Overview'!$H$6=\"Shetland Islands Local Authority\",0,IF('III Tool Overview'!$H$6=\"Eilean Siar Local Authority\",0,new_ci(10,B78,C78,D78,$C$1,G78,1,F78,E78*F78)))))))","v":0},{"$f":"IF('III Tool Overview'!$H$6=\"Orkney Health Board\",0,IF('III Tool Overview'!$H$6=\"Shetland Health Board\",0,IF('III Tool Overview'!$H$6=\"Western Isles Health Board\",0,IF('III Tool Overview'!$H$6=\"Orkney Islands Local Authority\",0,IF('III Tool Overview'!$H$6=\"Shetland Islands Local Authority\",0,IF('III Tool Overview'!$H$6=\"Eilean Siar Local Authority\",0,new_ci(10,B78,C78,D78,$C$1,G78+H78,1,F78,E78*F78)))))))","v":0},{"$f":"IF('III Tool Overview'!$H$6=\"Orkney Health Board\",0,IF('III Tool Overview'!$H$6=\"Shetland Health Board\",0,IF('III Tool Overview'!$H$6=\"Western Isles Health Board\",0,IF('III Tool Overview'!$H$6=\"Orkney Islands Local Authority\",0,IF('III Tool Overview'!$H$6=\"Shetland Islands Local Authority\",0,IF('III Tool Overview'!$H$6=\"Eilean Siar Local Authority\",0,new_ci(20,B78,C78,D78,$C$1,G78,1,F78,E78*F78)))))))","v":0},{"$f":"IF('III Tool Overview'!$H$6=\"Orkney Health Board\",0,IF('III Tool Overview'!$H$6=\"Shetland Health Board\",0,IF('III Tool Overview'!$H$6=\"Western Isles Health Board\",0,IF('III Tool Overview'!$H$6=\"Orkney Islands Local Authority\",0,IF('III Tool Overview'!$H$6=\"Shetland Islands Local Authority\",0,IF('III Tool Overview'!$H$6=\"Eilean Siar Local Authority\",0,new_ci(20,B78,C78,D78,$C$1,G78+H78,1,F78,E78*F78)))))))","v":0},{"$f":"IF('III Tool Overview'!$H$6=\"Orkney Health Board\",0,IF('III Tool Overview'!$H$6=\"Shetland Health Board\",0,IF('III Tool Overview'!$H$6=\"Western Isles Health Board\",0,IF('III Tool Overview'!$H$6=\"Orkney Islands Local Authority\",0,IF('III Tool Overview'!$H$6=\"Shetland Islands Local Authority\",0,IF('III Tool Overview'!$H$6=\"Eilean Siar Local Authority\",0,new_yll(2,B78,C78,D78,$C$1,G78,1,F78,E78*F78)))))))","v":0},{"$f":"IF('III Tool Overview'!$H$6=\"Orkney Health Board\",0,IF('III Tool Overview'!$H$6=\"Shetland Health Board\",0,IF('III Tool Overview'!$H$6=\"Western Isles Health Board\",0,IF('III Tool Overview'!$H$6=\"Orkney Islands Local Authority\",0,IF('III Tool Overview'!$H$6=\"Shetland Islands Local Authority\",0,IF('III Tool Overview'!$H$6=\"Eilean Siar Local Authority\",0,new_yll(2,B78,C78,D78,$C$1,G78+H78,1,F78,E78*F78)))))))","v":0},0,{"$f":"IF('III Tool Overview'!$H$6=\"Orkney Health Board\",0,IF('III Tool Overview'!$H$6=\"Shetland Health Board\",0,IF('III Tool Overview'!$H$6=\"Western Isles Health Board\",0,IF('III Tool Overview'!$H$6=\"Orkney Islands Local Authority\",0,IF('III Tool Overview'!$H$6=\"Shetland Islands Local Authority\",0,IF('III Tool Overview'!$H$6=\"Eilean Siar Local Authority\",0,new_yll(5,B78,C78,D78,$C$1,G78,1,F78,E78*F78)))))))","v":0},{"$f":"IF('III Tool Overview'!$H$6=\"Orkney Health Board\",0,IF('III Tool Overview'!$H$6=\"Shetland Health Board\",0,IF('III Tool Overview'!$H$6=\"Western Isles Health Board\",0,IF('III Tool Overview'!$H$6=\"Orkney Islands Local Authority\",0,IF('III Tool Overview'!$H$6=\"Shetland Islands Local Authority\",0,IF('III Tool Overview'!$H$6=\"Eilean Siar Local Authority\",0,new_yll(5,B78,C78,D78,$C$1,G78+H78,1,F78,E78*F78)))))))","v":0},0,{"$f":"IF('III Tool Overview'!$H$6=\"Orkney Health Board\",0,IF('III Tool Overview'!$H$6=\"Shetland Health Board\",0,IF('III Tool Overview'!$H$6=\"Western Isles Health Board\",0,IF('III Tool Overview'!$H$6=\"Orkney Islands Local Authority\",0,IF('III Tool Overview'!$H$6=\"Shetland Islands Local Authority\",0,IF('III Tool Overview'!$H$6=\"Eilean Siar Local Authority\",0,new_yll(10,B78,C78,D78,$C$1,G78,1,F78,E78*F78)))))))","v":0},{"$f":"IF('III Tool Overview'!$H$6=\"Orkney Health Board\",0,IF('III Tool Overview'!$H$6=\"Shetland Health Board\",0,IF('III Tool Overview'!$H$6=\"Western Isles Health Board\",0,IF('III Tool Overview'!$H$6=\"Orkney Islands Local Authority\",0,IF('III Tool Overview'!$H$6=\"Shetland Islands Local Authority\",0,IF('III Tool Overview'!$H$6=\"Eilean Siar Local Authority\",0,new_yll(10,B78,C78,D78,$C$1,G78+H78,1,F78,E78*F78)))))))","v":0},0,{"$f":"IF('III Tool Overview'!$H$6=\"Orkney Health Board\",0,IF('III Tool Overview'!$H$6=\"Shetland Health Board\",0,IF('III Tool Overview'!$H$6=\"Western Isles Health Board\",0,IF('III Tool Overview'!$H$6=\"Orkney Islands Local Authority\",0,IF('III Tool Overview'!$H$6=\"Shetland Islands Local Authority\",0,IF('III Tool Overview'!$H$6=\"Eilean Siar Local Authority\",0,new_yll(20,B78,C78,D78,$C$1,G78,1,F78,E78*F78)))))))","v":0},{"$f":"IF('III Tool Overview'!$H$6=\"Orkney Health Board\",0,IF('III Tool Overview'!$H$6=\"Shetland Health Board\",0,IF('III Tool Overview'!$H$6=\"Western Isles Health Board\",0,IF('III Tool Overview'!$H$6=\"Orkney Islands Local Authority\",0,IF('III Tool Overview'!$H$6=\"Shetland Islands Local Authority\",0,IF('III Tool Overview'!$H$6=\"Eilean Siar Local Authority\",0,new_yll(20,B78,C78,D78,$C$1,G78+H78,1,F78,E78*F78)))))))","v":0},0,{"$f":"IF('III Tool Overview'!$H$6=\"Orkney Health Board\",0,IF('III Tool Overview'!$H$6=\"Shetland Health Board\",0,IF('III Tool Overview'!$H$6=\"Western Isles Health Board\",0,IF('III Tool Overview'!$H$6=\"Orkney Islands Local Authority\",0,IF('III Tool Overview'!$H$6=\"Shetland Islands Local Authority\",0,IF('III Tool Overview'!$H$6=\"Eilean Siar Local Authority\",0,hosp_count(2,B78,C78,D78,$C$1,G78,1,F78,E78*F78)))))))","v":0},{"$f":"IF('III Tool Overview'!$H$6=\"Orkney Health Board\",0,IF('III Tool Overview'!$H$6=\"Shetland Health Board\",0,IF('III Tool Overview'!$H$6=\"Western Isles Health Board\",0,IF('III Tool Overview'!$H$6=\"Orkney Islands Local Authority\",0,IF('III Tool Overview'!$H$6=\"Shetland Islands Local Authority\",0,IF('III Tool Overview'!$H$6=\"Eilean Siar Local Authority\",0,hosp_count(2,B78,C78,D78,$C$1,G78+H78,1,F78,E78*F78)))))))","v":0},0,{"$f":"IF('III Tool Overview'!$H$6=\"Orkney Health Board\",0,IF('III Tool Overview'!$H$6=\"Shetland Health Board\",0,IF('III Tool Overview'!$H$6=\"Western Isles Health Board\",0,IF('III Tool Overview'!$H$6=\"Orkney Islands Local Authority\",0,IF('III Tool Overview'!$H$6=\"Shetland Islands Local Authority\",0,IF('III Tool Overview'!$H$6=\"Eilean Siar Local Authority\",0,hosp_count(5,B78,C78,D78,$C$1,G78,1,F78,E78*F78)))))))","v":0},{"$f":"IF('III Tool Overview'!$H$6=\"Orkney Health Board\",0,IF('III Tool Overview'!$H$6=\"Shetland Health Board\",0,IF('III Tool Overview'!$H$6=\"Western Isles Health Board\",0,IF('III Tool Overview'!$H$6=\"Orkney Islands Local Authority\",0,IF('III Tool Overview'!$H$6=\"Shetland Islands Local Authority\",0,IF('III Tool Overview'!$H$6=\"Eilean Siar Local Authority\",0,hosp_count(5,B78,C78,D78,$C$1,G78+H78,1,F78,E78*F78)))))))","v":0},0,{"$f":"IF('III Tool Overview'!$H$6=\"Orkney Health Board\",0,IF('III Tool Overview'!$H$6=\"Shetland Health Board\",0,IF('III Tool Overview'!$H$6=\"Western Isles Health Board\",0,IF('III Tool Overview'!$H$6=\"Orkney Islands Local Authority\",0,IF('III Tool Overview'!$H$6=\"Shetland Islands Local Authority\",0,IF('III Tool Overview'!$H$6=\"Eilean Siar Local Authority\",0,hosp_count(10,B78,C78,D78,$C$1,G78,1,F78,E78*F78)))))))","v":0},{"$f":"IF('III Tool Overview'!$H$6=\"Orkney Health Board\",0,IF('III Tool Overview'!$H$6=\"Shetland Health Board\",0,IF('III Tool Overview'!$H$6=\"Western Isles Health Board\",0,IF('III Tool Overview'!$H$6=\"Orkney Islands Local Authority\",0,IF('III Tool Overview'!$H$6=\"Shetland Islands Local Authority\",0,IF('III Tool Overview'!$H$6=\"Eilean Siar Local Authority\",0,hosp_count(10,B78,C78,D78,$C$1,G78+H78,1,F78,E78*F78)))))))","v":0},0,{"$f":"IF('III Tool Overview'!$H$6=\"Orkney Health Board\",0,IF('III Tool Overview'!$H$6=\"Shetland Health Board\",0,IF('III Tool Overview'!$H$6=\"Western Isles Health Board\",0,IF('III Tool Overview'!$H$6=\"Orkney Islands Local Authority\",0,IF('III Tool Overview'!$H$6=\"Shetland Islands Local Authority\",0,IF('III Tool Overview'!$H$6=\"Eilean Siar Local Authority\",0,hosp_count(20,B78,C78,D78,$C$1,G78,1,F78,E78*F78)))))))","v":0},{"$f":"IF('III Tool Overview'!$H$6=\"Orkney Health Board\",0,IF('III Tool Overview'!$H$6=\"Shetland Health Board\",0,IF('III Tool Overview'!$H$6=\"Western Isles Health Board\",0,IF('III Tool Overview'!$H$6=\"Orkney Islands Local Authority\",0,IF('III Tool Overview'!$H$6=\"Shetland Islands Local Authority\",0,IF('III Tool Overview'!$H$6=\"Eilean Siar Local Authority\",0,hosp_count(20,B78,C78,D78,$C$1,G78+H78,1,F78,E78*F78)))))))","v":0},0]
["Male 60-64",62.5,"male",1,{"$f":"HLOOKUP('III Tool Overview'!$H$6,Prevalence!$B$2:$AV$268,Prevalence!AW75,FALSE)","v":0.52606060606060612},{"$f":"HLOOKUP('III Tool Overview'!$H$6,LookUpData_Pop!$B$1:$AV$269,LookUpData_Pop!BB80,FALSE)/5","v":0},{"$f":"'III Tool Overview'!$H$9/110","v":0},{"$f":"IF('III Tool Overview'!$H$10=\"Even distribution\",Targeting!C77,IF('III Tool Overview'!$H$10=\"Targeting to Q1\",Targeting!D77,IF('III Tool Overview'!$H$10=\"Targeting to Q1 & Q2\",Targeting!E77,IF('III Tool Overview'!$H$10=\"Proportionate to need\",Targeting!F77))))","v":3.2727272727272729},{"$f":"IF('III Tool Overview'!$H$6=\"Orkney Health Board\",0,IF('III Tool Overview'!$H$6=\"Shetland Health Board\",0,IF('III Tool Overview'!$H$6=\"Western Isles Health Board\",0,IF('III Tool Overview'!$H$6=\"Orkney Islands Local Authority\",0,IF('III Tool Overview'!$H$6=\"Shetland Islands Local Authority\",0,IF('III Tool Overview'!$H$6=\"Eilean Siar Local Authority\",0,new_ci(2,B79,C79,D79,$C$1,G79,1,F79,E79*F79)))))))","v":0},{"$f":"IF('III Tool Overview'!$H$6=\"Orkney Health Board\",0,IF('III Tool Overview'!$H$6=\"Shetland Health Board\",0,IF('III Tool Overview'!$H$6=\"Western Isles Health Board\",0,IF('III Tool Overview'!$H$6=\"Orkney Islands Local Authority\",0,IF('III Tool Overview'!$H$6=\"Shetland Islands Local Authority\",0,IF('III Tool Overview'!$H$6=\"Eilean Siar Local Authority\",0,new_ci(2,B79,C79,D79,$C$1,G79+H79,1,F79,E79*F79)))))))","v":0},{"$f":"IF('III Tool Overview'!$H$6=\"Orkney Health Board\",0,IF('III Tool Overview'!$H$6=\"Shetland Health Board\",0,IF('III Tool Overview'!$H$6=\"Western Isles Health Board\",0,IF('III Tool Overview'!$H$6=\"Orkney Islands Local Authority\",0,IF('III Tool Overview'!$H$6=\"Shetland Islands Local Authority\",0,IF('III Tool Overview'!$H$6=\"Eilean Siar Local Authority\",0,new_ci(5,B79,C79,D79,$C$1,G79,1,F79,E79*F79)))))))","v":0},{"$f":"IF('III Tool Overview'!$H$6=\"Orkney Health Board\",0,IF('III Tool Overview'!$H$6=\"Shetland Health Board\",0,IF('III Tool Overview'!$H$6=\"Western Isles Health Board\",0,IF('III Tool Overview'!$H$6=\"Orkney Islands Local Authority\",0,IF('III Tool Overview'!$H$6=\"Shetland Islands Local Authority\",0,IF('III Tool Overview'!$H$6=\"Eilean Siar Local Authority\",0,new_ci(5,B79,C79,D79,$C$1,G79+H79,1,F79,E79*F79)))))))","v":0},{"$f":"IF('III Tool Overview'!$H$6=\"Orkney Health Board\",0,IF('III Tool Overview'!$H$6=\"Shetland Health Board\",0,IF('III Tool Overview'!$H$6=\"Western Isles Health Board\",0,IF('III Tool Overview'!$H$6=\"Orkney Islands Local Authority\",0,IF('III Tool Overview'!$H$6=\"Shetland Islands Local Authority\",0,IF('III Tool Overview'!$H$6=\"Eilean Siar Local Authority\",0,new_ci(10,B79,C79,D79,$C$1,G79,1,F79,E79*F79)))))))","v":0},{"$f":"IF('III Tool Overview'!$H$6=\"Orkney Health Board\",0,IF('III Tool Overview'!$H$6=\"Shetland Health Board\",0,IF('III Tool Overview'!$H$6=\"Western Isles Health Board\",0,IF('III Tool Overview'!$H$6=\"Orkney Islands Local Authority\",0,IF('III Tool Overview'!$H$6=\"Shetland Islands Local Authority\",0,IF('III Tool Overview'!$H$6=\"Eilean Siar Local Authority\",0,new_ci(10,B79,C79,D79,$C$1,G79+H79,1,F79,E79*F79)))))))","v":0},{"$f":"IF('III Tool Overview'!$H$6=\"Orkney Health Board\",0,IF('III Tool Overview'!$H$6=\"Shetland Health Board\",0,IF('III Tool Overview'!$H$6=\"Western Isles Health Board\",0,IF('III Tool Overview'!$H$6=\"Orkney Islands Local Authority\",0,IF('III Tool Overview'!$H$6=\"Shetland Islands Local Authority\",0,IF('III Tool Overview'!$H$6=\"Eilean Siar Local Authority\",0,new_ci(20,B79,C79,D79,$C$1,G79,1,F79,E79*F79)))))))","v":0},{"$f":"IF('III Tool Overview'!$H$6=\"Orkney Health Board\",0,IF('III Tool Overview'!$H$6=\"Shetland Health Board\",0,IF('III Tool Overview'!$H$6=\"Western Isles Health Board\",0,IF('III Tool Overview'!$H$6=\"Orkney Islands Local Authority\",0,IF('III Tool Overview'!$H$6=\"Shetland Islands Local Authority\",0,IF('III Tool Overview'!$H$6=\"Eilean Siar Local Authority\",0,new_ci(20,B79,C79,D79,$C$1,G79+H79,1,F79,E79*F79)))))))","v":0},{"$f":"IF('III Tool Overview'!$H$6=\"Orkney Health Board\",0,IF('III Tool Overview'!$H$6=\"Shetland Health Board\",0,IF('III Tool Overview'!$H$6=\"Western Isles Health Board\",0,IF('III Tool Overview'!$H$6=\"Orkney Islands Local Authority\",0,IF('III Tool Overview'!$H$6=\"Shetland Islands Local Authority\",0,IF('III Tool Overview'!$H$6=\"Eilean Siar Local Authority\",0,new_yll(2,B79,C79,D79,$C$1,G79,1,F79,E79*F79)))))))","v":0},{"$f":"IF('III Tool Overview'!$H$6=\"Orkney Health Board\",0,IF('III Tool Overview'!$H$6=\"Shetland Health Board\",0,IF('III Tool Overview'!$H$6=\"Western Isles Health Board\",0,IF('III Tool Overview'!$H$6=\"Orkney Islands Local Authority\",0,IF('III Tool Overview'!$H$6=\"Shetland Islands Local Authority\",0,IF('III Tool Overview'!$H$6=\"Eilean Siar Local Authority\",0,new_yll(2,B79,C79,D79,$C$1,G79+H79,1,F79,E79*F79)))))))","v":0},0,{"$f":"IF('III Tool Overview'!$H$6=\"Orkney Health Board\",0,IF('III Tool Overview'!$H$6=\"Shetland Health Board\",0,IF('III Tool Overview'!$H$6=\"Western Isles Health Board\",0,IF('III Tool Overview'!$H$6=\"Orkney Islands Local Authority\",0,IF('III Tool Overview'!$H$6=\"Shetland Islands Local Authority\",0,IF('III Tool Overview'!$H$6=\"Eilean Siar Local Authority\",0,new_yll(5,B79,C79,D79,$C$1,G79,1,F79,E79*F79)))))))","v":0},{"$f":"IF('III Tool Overview'!$H$6=\"Orkney Health Board\",0,IF('III Tool Overview'!$H$6=\"Shetland Health Board\",0,IF('III Tool Overview'!$H$6=\"Western Isles Health Board\",0,IF('III Tool Overview'!$H$6=\"Orkney Islands Local Authority\",0,IF('III Tool Overview'!$H$6=\"Shetland Islands Local Authority\",0,IF('III Tool Overview'!$H$6=\"Eilean Siar Local Authority\",0,new_yll(5,B79,C79,D79,$C$1,G79+H79,1,F79,E79*F79)))))))","v":0},0,{"$f":"IF('III Tool Overview'!$H$6=\"Orkney Health Board\",0,IF('III Tool Overview'!$H$6=\"Shetland Health Board\",0,IF('III Tool Overview'!$H$6=\"Western Isles Health Board\",0,IF('III Tool Overview'!$H$6=\"Orkney Islands Local Authority\",0,IF('III Tool Overview'!$H$6=\"Shetland Islands Local Authority\",0,IF('III Tool Overview'!$H$6=\"Eilean Siar Local Authority\",0,new_yll(10,B79,C79,D79,$C$1,G79,1,F79,E79*F79)))))))","v":0},{"$f":"IF('III Tool Overview'!$H$6=\"Orkney Health Board\",0,IF('III Tool Overview'!$H$6=\"Shetland Health Board\",0,IF('III Tool Overview'!$H$6=\"Western Isles Health Board\",0,IF('III Tool Overview'!$H$6=\"Orkney Islands Local Authority\",0,IF('III Tool Overview'!$H$6=\"Shetland Islands Local Authority\",0,IF('III Tool Overview'!$H$6=\"Eilean Siar Local Authority\",0,new_yll(10,B79,C79,D79,$C$1,G79+H79,1,F79,E79*F79)))))))","v":0},0,{"$f":"IF('III Tool Overview'!$H$6=\"Orkney Health Board\",0,IF('III Tool Overview'!$H$6=\"Shetland Health Board\",0,IF('III Tool Overview'!$H$6=\"Western Isles Health Board\",0,IF('III Tool Overview'!$H$6=\"Orkney Islands Local Authority\",0,IF('III Tool Overview'!$H$6=\"Shetland Islands Local Authority\",0,IF('III Tool Overview'!$H$6=\"Eilean Siar Local Authority\",0,new_yll(20,B79,C79,D79,$C$1,G79,1,F79,E79*F79)))))))","v":0},{"$f":"IF('III Tool Overview'!$H$6=\"Orkney Health Board\",0,IF('III Tool Overview'!$H$6=\"Shetland Health Board\",0,IF('III Tool Overview'!$H$6=\"Western Isles Health Board\",0,IF('III Tool Overview'!$H$6=\"Orkney Islands Local Authority\",0,IF('III Tool Overview'!$H$6=\"Shetland Islands Local Authority\",0,IF('III Tool Overview'!$H$6=\"Eilean Siar Local Authority\",0,new_yll(20,B79,C79,D79,$C$1,G79+H79,1,F79,E79*F79)))))))","v":0},0,{"$f":"IF('III Tool Overview'!$H$6=\"Orkney Health Board\",0,IF('III Tool Overview'!$H$6=\"Shetland Health Board\",0,IF('III Tool Overview'!$H$6=\"Western Isles Health Board\",0,IF('III Tool Overview'!$H$6=\"Orkney Islands Local Authority\",0,IF('III Tool Overview'!$H$6=\"Shetland Islands Local Authority\",0,IF('III Tool Overview'!$H$6=\"Eilean Siar Local Authority\",0,hosp_count(2,B79,C79,D79,$C$1,G79,1,F79,E79*F79)))))))","v":0},{"$f":"IF('III Tool Overview'!$H$6=\"Orkney Health Board\",0,IF('III Tool Overview'!$H$6=\"Shetland Health Board\",0,IF('III Tool Overview'!$H$6=\"Western Isles Health Board\",0,IF('III Tool Overview'!$H$6=\"Orkney Islands Local Authority\",0,IF('III Tool Overview'!$H$6=\"Shetland Islands Local Authority\",0,IF('III Tool Overview'!$H$6=\"Eilean Siar Local Authority\",0,hosp_count(2,B79,C79,D79,$C$1,G79+H79,1,F79,E79*F79)))))))","v":0},0,{"$f":"IF('III Tool Overview'!$H$6=\"Orkney Health Board\",0,IF('III Tool Overview'!$H$6=\"Shetland Health Board\",0,IF('III Tool Overview'!$H$6=\"Western Isles Health Board\",0,IF('III Tool Overview'!$H$6=\"Orkney Islands Local Authority\",0,IF('III Tool Overview'!$H$6=\"Shetland Islands Local Authority\",0,IF('III Tool Overview'!$H$6=\"Eilean Siar Local Authority\",0,hosp_count(5,B79,C79,D79,$C$1,G79,1,F79,E79*F79)))))))","v":0},{"$f":"IF('III Tool Overview'!$H$6=\"Orkney Health Board\",0,IF('III Tool Overview'!$H$6=\"Shetland Health Board\",0,IF('III Tool Overview'!$H$6=\"Western Isles Health Board\",0,IF('III Tool Overview'!$H$6=\"Orkney Islands Local Authority\",0,IF('III Tool Overview'!$H$6=\"Shetland Islands Local Authority\",0,IF('III Tool Overview'!$H$6=\"Eilean Siar Local Authority\",0,hosp_count(5,B79,C79,D79,$C$1,G79+H79,1,F79,E79*F79)))))))","v":0},0,{"$f":"IF('III Tool Overview'!$H$6=\"Orkney Health Board\",0,IF('III Tool Overview'!$H$6=\"Shetland Health Board\",0,IF('III Tool Overview'!$H$6=\"Western Isles Health Board\",0,IF('III Tool Overview'!$H$6=\"Orkney Islands Local Authority\",0,IF('III Tool Overview'!$H$6=\"Shetland Islands Local Authority\",0,IF('III Tool Overview'!$H$6=\"Eilean Siar Local Authority\",0,hosp_count(10,B79,C79,D79,$C$1,G79,1,F79,E79*F79)))))))","v":0},{"$f":"IF('III Tool Overview'!$H$6=\"Orkney Health Board\",0,IF('III Tool Overview'!$H$6=\"Shetland Health Board\",0,IF('III Tool Overview'!$H$6=\"Western Isles Health Board\",0,IF('III Tool Overview'!$H$6=\"Orkney Islands Local Authority\",0,IF('III Tool Overview'!$H$6=\"Shetland Islands Local Authority\",0,IF('III Tool Overview'!$H$6=\"Eilean Siar Local Authority\",0,hosp_count(10,B79,C79,D79,$C$1,G79+H79,1,F79,E79*F79)))))))","v":0},0,{"$f":"IF('III Tool Overview'!$H$6=\"Orkney Health Board\",0,IF('III Tool Overview'!$H$6=\"Shetland Health Board\",0,IF('III Tool Overview'!$H$6=\"Western Isles Health Board\",0,IF('III Tool Overview'!$H$6=\"Orkney Islands Local Authority\",0,IF('III Tool Overview'!$H$6=\"Shetland Islands Local Authority\",0,IF('III Tool Overview'!$H$6=\"Eilean Siar Local Authority\",0,hosp_count(20,B79,C79,D79,$C$1,G79,1,F79,E79*F79)))))))","v":0},{"$f":"IF('III Tool Overview'!$H$6=\"Orkney Health Board\",0,IF('III Tool Overview'!$H$6=\"Shetland Health Board\",0,IF('III Tool Overview'!$H$6=\"Western Isles Health Board\",0,IF('III Tool Overview'!$H$6=\"Orkney Islands Local Authority\",0,IF('III Tool Overview'!$H$6=\"Shetland Islands Local Authority\",0,IF('III Tool Overview'!$H$6=\"Eilean Siar Local Authority\",0,hosp_count(20,B79,C79,D79,$C$1,G79+H79,1,F79,E79*F79)))))))","v":0},0]
["Male 65-69",67.5,"male",1,{"$f":"HLOOKUP('III Tool Overview'!$H$6,Prevalence!$B$2:$AV$268,Prevalence!AW76,FALSE)","v":0.91121212121212114},{"$f":"HLOOKUP('III Tool Overview'!$H$6,LookUpData_Pop!$B$1:$AV$269,LookUpData_Pop!BB81,FALSE)/5","v":0},{"$f":"'III Tool Overview'!$H$9/110","v":0},{"$f":"IF('III Tool Overview'!$H$10=\"Even distribution\",Targeting!C78,IF('III Tool Overview'!$H$10=\"Targeting to Q1\",Targeting!D78,IF('III Tool Overview'!$H$10=\"Targeting to Q1 & Q2\",Targeting!E78,IF('III Tool Overview'!$H$10=\"Proportionate to need\",Targeting!F78))))","v":3.2727272727272729},{"$f":"IF('III Tool Overview'!$H$6=\"Orkney Health Board\",0,IF('III Tool Overview'!$H$6=\"Shetland Health Board\",0,IF('III Tool Overview'!$H$6=\"Western Isles Health Board\",0,IF('III Tool Overview'!$H$6=\"Orkney Islands Local Authority\",0,IF('III Tool Overview'!$H$6=\"Shetland Islands Local Authority\",0,IF('III Tool Overview'!$H$6=\"Eilean Siar Local Authority\",0,new_ci(2,B80,C80,D80,$C$1,G80,1,F80,E80*F80)))))))","v":0},{"$f":"IF('III Tool Overview'!$H$6=\"Orkney Health Board\",0,IF('III Tool Overview'!$H$6=\"Shetland Health Board\",0,IF('III Tool Overview'!$H$6=\"Western Isles Health Board\",0,IF('III Tool Overview'!$H$6=\"Orkney Islands Local Authority\",0,IF('III Tool Overview'!$H$6=\"Shetland Islands Local Authority\",0,IF('III Tool Overview'!$H$6=\"Eilean Siar Local Authority\",0,new_ci(2,B80,C80,D80,$C$1,G80+H80,1,F80,E80*F80)))))))","v":0},{"$f":"IF('III Tool Overview'!$H$6=\"Orkney Health Board\",0,IF('III Tool Overview'!$H$6=\"Shetland Health Board\",0,IF('III Tool Overview'!$H$6=\"Western Isles Health Board\",0,IF('III Tool Overview'!$H$6=\"Orkney Islands Local Authority\",0,IF('III Tool Overview'!$H$6=\"Shetland Islands Local Authority\",0,IF('III Tool Overview'!$H$6=\"Eilean Siar Local Authority\",0,new_ci(5,B80,C80,D80,$C$1,G80,1,F80,E80*F80)))))))","v":0},{"$f":"IF('III Tool Overview'!$H$6=\"Orkney Health Board\",0,IF('III Tool Overview'!$H$6=\"Shetland Health Board\",0,IF('III Tool Overview'!$H$6=\"Western Isles Health Board\",0,IF('III Tool Overview'!$H$6=\"Orkney Islands Local Authority\",0,IF('III Tool Overview'!$H$6=\"Shetland Islands Local Authority\",0,IF('III Tool Overview'!$H$6=\"Eilean Siar Local Authority\",0,new_ci(5,B80,C80,D80,$C$1,G80+H80,1,F80,E80*F80)))))))","v":0},{"$f":"IF('III Tool Overview'!$H$6=\"Orkney Health Board\",0,IF('III Tool Overview'!$H$6=\"Shetland Health Board\",0,IF('III Tool Overview'!$H$6=\"Western Isles Health Board\",0,IF('III Tool Overview'!$H$6=\"Orkney Islands Local Authority\",0,IF('III Tool Overview'!$H$6=\"Shetland Islands Local Authority\",0,IF('III Tool Overview'!$H$6=\"Eilean Siar Local Authority\",0,new_ci(10,B80,C80,D80,$C$1,G80,1,F80,E80*F80)))))))","v":0},{"$f":"IF('III Tool Overview'!$H$6=\"Orkney Health Board\",0,IF('III Tool Overview'!$H$6=\"Shetland Health Board\",0,IF('III Tool Overview'!$H$6=\"Western Isles Health Board\",0,IF('III Tool Overview'!$H$6=\"Orkney Islands Local Authority\",0,IF('III Tool Overview'!$H$6=\"Shetland Islands Local Authority\",0,IF('III Tool Overview'!$H$6=\"Eilean Siar Local Authority\",0,new_ci(10,B80,C80,D80,$C$1,G80+H80,1,F80,E80*F80)))))))","v":0},{"$f":"IF('III Tool Overview'!$H$6=\"Orkney Health Board\",0,IF('III Tool Overview'!$H$6=\"Shetland Health Board\",0,IF('III Tool Overview'!$H$6=\"Western Isles Health Board\",0,IF('III Tool Overview'!$H$6=\"Orkney Islands Local Authority\",0,IF('III Tool Overview'!$H$6=\"Shetland Islands Local Authority\",0,IF('III Tool Overview'!$H$6=\"Eilean Siar Local Authority\",0,new_ci(20,B80,C80,D80,$C$1,G80,1,F80,E80*F80)))))))","v":0},{"$f":"IF('III Tool Overview'!$H$6=\"Orkney Health Board\",0,IF('III Tool Overview'!$H$6=\"Shetland Health Board\",0,IF('III Tool Overview'!$H$6=\"Western Isles Health Board\",0,IF('III Tool Overview'!$H$6=\"Orkney Islands Local Authority\",0,IF('III Tool Overview'!$H$6=\"Shetland Islands Local Authority\",0,IF('III Tool Overview'!$H$6=\"Eilean Siar Local Authority\",0,new_ci(20,B80,C80,D80,$C$1,G80+H80,1,F80,E80*F80)))))))","v":0},{"$f":"IF('III Tool Overview'!$H$6=\"Orkney Health Board\",0,IF('III Tool Overview'!$H$6=\"Shetland Health Board\",0,IF('III Tool Overview'!$H$6=\"Western Isles Health Board\",0,IF('III Tool Overview'!$H$6=\"Orkney Islands Local Authority\",0,IF('III Tool Overview'!$H$6=\"Shetland Islands Local Authority\",0,IF('III Tool Overview'!$H$6=\"Eilean Siar Local Authority\",0,new_yll(2,B80,C80,D80,$C$1,G80,1,F80,E80*F80)))))))","v":0},{"$f":"IF('III Tool Overview'!$H$6=\"Orkney Health Board\",0,IF('III Tool Overview'!$H$6=\"Shetland Health Board\",0,IF('III Tool Overview'!$H$6=\"Western Isles Health Board\",0,IF('III Tool Overview'!$H$6=\"Orkney Islands Local Authority\",0,IF('III Tool Overview'!$H$6=\"Shetland Islands Local Authority\",0,IF('III Tool Overview'!$H$6=\"Eilean Siar Local Authority\",0,new_yll(2,B80,C80,D80,$C$1,G80+H80,1,F80,E80*F80)))))))","v":0},0,{"$f":"IF('III Tool Overview'!$H$6=\"Orkney Health Board\",0,IF('III Tool Overview'!$H$6=\"Shetland Health Board\",0,IF('III Tool Overview'!$H$6=\"Western Isles Health Board\",0,IF('III Tool Overview'!$H$6=\"Orkney Islands Local Authority\",0,IF('III Tool Overview'!$H$6=\"Shetland Islands Local Authority\",0,IF('III Tool Overview'!$H$6=\"Eilean Siar Local Authority\",0,new_yll(5,B80,C80,D80,$C$1,G80,1,F80,E80*F80)))))))","v":0},{"$f":"IF('III Tool Overview'!$H$6=\"Orkney Health Board\",0,IF('III Tool Overview'!$H$6=\"Shetland Health Board\",0,IF('III Tool Overview'!$H$6=\"Western Isles Health Board\",0,IF('III Tool Overview'!$H$6=\"Orkney Islands Local Authority\",0,IF('III Tool Overview'!$H$6=\"Shetland Islands Local Authority\",0,IF('III Tool Overview'!$H$6=\"Eilean Siar Local Authority\",0,new_yll(5,B80,C80,D80,$C$1,G80+H80,1,F80,E80*F80)))))))","v":0},0,{"$f":"IF('III Tool Overview'!$H$6=\"Orkney Health Board\",0,IF('III Tool Overview'!$H$6=\"Shetland Health Board\",0,IF('III Tool Overview'!$H$6=\"Western Isles Health Board\",0,IF('III Tool Overview'!$H$6=\"Orkney Islands Local Authority\",0,IF('III Tool Overview'!$H$6=\"Shetland Islands Local Authority\",0,IF('III Tool Overview'!$H$6=\"Eilean Siar Local Authority\",0,new_yll(10,B80,C80,D80,$C$1,G80,1,F80,E80*F80)))))))","v":0},{"$f":"IF('III Tool Overview'!$H$6=\"Orkney Health Board\",0,IF('III Tool Overview'!$H$6=\"Shetland Health Board\",0,IF('III Tool Overview'!$H$6=\"Western Isles Health Board\",0,IF('III Tool Overview'!$H$6=\"Orkney Islands Local Authority\",0,IF('III Tool Overview'!$H$6=\"Shetland Islands Local Authority\",0,IF('III Tool Overview'!$H$6=\"Eilean Siar Local Authority\",0,new_yll(10,B80,C80,D80,$C$1,G80+H80,1,F80,E80*F80)))))))","v":0},0,{"$f":"IF('III Tool Overview'!$H$6=\"Orkney Health Board\",0,IF('III Tool Overview'!$H$6=\"Shetland Health Board\",0,IF('III Tool Overview'!$H$6=\"Western Isles Health Board\",0,IF('III Tool Overview'!$H$6=\"Orkney Islands Local Authority\",0,IF('III Tool Overview'!$H$6=\"Shetland Islands Local Authority\",0,IF('III Tool Overview'!$H$6=\"Eilean Siar Local Authority\",0,new_yll(20,B80,C80,D80,$C$1,G80,1,F80,E80*F80)))))))","v":0},{"$f":"IF('III Tool Overview'!$H$6=\"Orkney Health Board\",0,IF('III Tool Overview'!$H$6=\"Shetland Health Board\",0,IF('III Tool Overview'!$H$6=\"Western Isles Health Board\",0,IF('III Tool Overview'!$H$6=\"Orkney Islands Local Authority\",0,IF('III Tool Overview'!$H$6=\"Shetland Islands Local Authority\",0,IF('III Tool Overview'!$H$6=\"Eilean Siar Local Authority\",0,new_yll(20,B80,C80,D80,$C$1,G80+H80,1,F80,E80*F80)))))))","v":0},0,{"$f":"IF('III Tool Overview'!$H$6=\"Orkney Health Board\",0,IF('III Tool Overview'!$H$6=\"Shetland Health Board\",0,IF('III Tool Overview'!$H$6=\"Western Isles Health Board\",0,IF('III Tool Overview'!$H$6=\"Orkney Islands Local Authority\",0,IF('III Tool Overview'!$H$6=\"Shetland Islands Local Authority\",0,IF('III Tool Overview'!$H$6=\"Eilean Siar Local Authority\",0,hosp_count(2,B80,C80,D80,$C$1,G80,1,F80,E80*F80)))))))","v":0},{"$f":"IF('III Tool Overview'!$H$6=\"Orkney Health Board\",0,IF('III Tool Overview'!$H$6=\"Shetland Health Board\",0,IF('III Tool Overview'!$H$6=\"Western Isles Health Board\",0,IF('III Tool Overview'!$H$6=\"Orkney Islands Local Authority\",0,IF('III Tool Overview'!$H$6=\"Shetland Islands Local Authority\",0,IF('III Tool Overview'!$H$6=\"Eilean Siar Local Authority\",0,hosp_count(2,B80,C80,D80,$C$1,G80+H80,1,F80,E80*F80)))))))","v":0},0,{"$f":"IF('III Tool Overview'!$H$6=\"Orkney Health Board\",0,IF('III Tool Overview'!$H$6=\"Shetland Health Board\",0,IF('III Tool Overview'!$H$6=\"Western Isles Health Board\",0,IF('III Tool Overview'!$H$6=\"Orkney Islands Local Authority\",0,IF('III Tool Overview'!$H$6=\"Shetland Islands Local Authority\",0,IF('III Tool Overview'!$H$6=\"Eilean Siar Local Authority\",0,hosp_count(5,B80,C80,D80,$C$1,G80,1,F80,E80*F80)))))))","v":0},{"$f":"IF('III Tool Overview'!$H$6=\"Orkney Health Board\",0,IF('III Tool Overview'!$H$6=\"Shetland Health Board\",0,IF('III Tool Overview'!$H$6=\"Western Isles Health Board\",0,IF('III Tool Overview'!$H$6=\"Orkney Islands Local Authority\",0,IF('III Tool Overview'!$H$6=\"Shetland Islands Local Authority\",0,IF('III Tool Overview'!$H$6=\"Eilean Siar Local Authority\",0,hosp_count(5,B80,C80,D80,$C$1,G80+H80,1,F80,E80*F80)))))))","v":0},0,{"$f":"IF('III Tool Overview'!$H$6=\"Orkney Health Board\",0,IF('III Tool Overview'!$H$6=\"Shetland Health Board\",0,IF('III Tool Overview'!$H$6=\"Western Isles Health Board\",0,IF('III Tool Overview'!$H$6=\"Orkney Islands Local Authority\",0,IF('III Tool Overview'!$H$6=\"Shetland Islands Local Authority\",0,IF('III Tool Overview'!$H$6=\"Eilean Siar Local Authority\",0,hosp_count(10,B80,C80,D80,$C$1,G80,1,F80,E80*F80)))))))","v":0},{"$f":"IF('III Tool Overview'!$H$6=\"Orkney Health Board\",0,IF('III Tool Overview'!$H$6=\"Shetland Health Board\",0,IF('III Tool Overview'!$H$6=\"Western Isles Health Board\",0,IF('III Tool Overview'!$H$6=\"Orkney Islands Local Authority\",0,IF('III Tool Overview'!$H$6=\"Shetland Islands Local Authority\",0,IF('III Tool Overview'!$H$6=\"Eilean Siar Local Authority\",0,hosp_count(10,B80,C80,D80,$C$1,G80+H80,1,F80,E80*F80)))))))","v":0},0,{"$f":"IF('III Tool Overview'!$H$6=\"Orkney Health Board\",0,IF('III Tool Overview'!$H$6=\"Shetland Health Board\",0,IF('III Tool Overview'!$H$6=\"Western Isles Health Board\",0,IF('III Tool Overview'!$H$6=\"Orkney Islands Local Authority\",0,IF('III Tool Overview'!$H$6=\"Shetland Islands Local Authority\",0,IF('III Tool Overview'!$H$6=\"Eilean Siar Local Authority\",0,hosp_count(20,B80,C80,D80,$C$1,G80,1,F80,E80*F80)))))))","v":0},{"$f":"IF('III Tool Overview'!$H$6=\"Orkney Health Board\",0,IF('III Tool Overview'!$H$6=\"Shetland Health Board\",0,IF('III Tool Overview'!$H$6=\"Western Isles Health Board\",0,IF('III Tool Overview'!$H$6=\"Orkney Islands Local Authority\",0,IF('III Tool Overview'!$H$6=\"Shetland Islands Local Authority\",0,IF('III Tool Overview'!$H$6=\"Eilean Siar Local Authority\",0,hosp_count(20,B80,C80,D80,$C$1,G80+H80,1,F80,E80*F80)))))))","v":0},0]
["Male 70-74",72.5,"male",1,{"$f":"HLOOKUP('III Tool Overview'!$H$6,Prevalence!$B$2:$AV$268,Prevalence!AW77,FALSE)","v":0},{"$f":"HLOOKUP('III Tool Overview'!$H$6,LookUpData_Pop!$B$1:$AV$269,LookUpData_Pop!BB82,FALSE)/5","v":0}]
["Male 75-79",77.5,"male",1,{"$f":"HLOOKUP('III Tool Overview'!$H$6,Prevalence!$B$2:$AV$268,Prevalence!AW78,FALSE)","v":0},{"$f":"HLOOKUP('III Tool Overview'!$H$6,LookUpData_Pop!$B$1:$AV$269,LookUpData_Pop!BB83,FALSE)/5","v":0}]
["Male 80-84",82.5,"male",1,{"$f":"HLOOKUP('III Tool Overview'!$H$6,Prevalence!$B$2:$AV$268,Prevalence!AW79,FALSE)","v":0},{"$f":"HLOOKUP('III Tool Overview'!$H$6,LookUpData_Pop!$B$1:$AV$269,LookUpData_Pop!BB84,FALSE)/5","v":0}]
["Male 85-89",87.5,"male",1,{"$f":"HLOOKUP('III Tool Overview'!$H$6,Prevalence!$B$2:$AV$268,Prevalence!AW80,FALSE)","v":0},{"$f":"HLOOKUP('III Tool Overview'!$H$6,LookUpData_Pop!$B$1:$AV$269,LookUpData_Pop!BB85,FALSE)/5","v":0}]
["Male 90+",95,"male",1,null,{"$f":"HLOOKUP('III Tool Overview'!$H$6,LookUpData_Pop!$B$1:$AV$269,LookUpData_Pop!BB86,FALSE)/5","v":0}]
["TOTAL",null,null,null,null,{"$f":"SUM(F70:F80)","v":0},{"$f":"SUM(G70:G80)","v":0},36,{"$f":"SUM(I70:I80)","v":0},0,0,0,0,0,0,0,0,0,0,0,0,0,0,0,0,0,0,0,0,0,0,0,0,0,0,0,0,0,0,0]
["Female <1",0.5,"female",1,null,{"$f":"HLOOKUP('III Tool Overview'!$H$6,LookUpData_Pop!$B$1:$AV$269,LookUpData_Pop!BB87,FALSE)/5","v":0}]
["Female 1-4",2.5,"female",1,null,{"$f":"HLOOKUP('III Tool Overview'!$H$6,LookUpData_Pop!$B$1:$AV$269,LookUpData_Pop!BB88,FALSE)/5","v":0}]
["Female 5-9",7.5,"female",1,null,{"$f":"HLOOKUP('III Tool Overview'!$H$6,LookUpData_Pop!$B$1:$AV$269,LookUpData_Pop!BB89,FALSE)/5","v":0}]
["Female 10-14",12.5,"female",1,null,{"$f":"HLOOKUP('III Tool Overview'!$H$6,LookUpData_Pop!$B$1:$AV$269,LookUpData_Pop!BB90,FALSE)/5","v":0}]
["Female 15-19",17.5,"female",1,{"$f":"HLOOKUP('III Tool Overview'!$H$6,Prevalence!$B$2:$AV$268,Prevalence!AW86,FALSE)","v":0.20952380952380953},{"$f":"HLOOKUP('III Tool Overview'!$H$6,LookUpData_Pop!$B$1:$AV$269,LookUpData_Pop!BB91,FALSE)/5","v":0},{"$f":"'III Tool Overview'!$H$9/110","v":0},{"$f":"IF('III Tool Overview'!$H$10=\"Even distribution\",Targeting!C88,IF('III Tool Overview'!$H$10=\"Targeting to Q1\",Targeting!D88,IF('III Tool Overview'!$H$10=\"Targeting to Q1 & Q2\",Targeting!E88,IF('III Tool Overview'!$H$10=\"Proportionate to need\",Targeting!F88))))","v":3.2727272727272729},{"$f":"IF('III Tool Overview'!$H$6=\"Orkney Health Board\",0,IF('III Tool Overview'!$H$6=\"Shetland Health Board\",0,IF('III Tool Overview'!$H$6=\"Western Isles Health Board\",0,IF('III Tool Overview'!$H$6=\"Orkney Islands Local Authority\",0,IF('III Tool Overview'!$H$6=\"Shetland Islands Local Authority\",0,IF('III Tool Overview'!$H$6=\"Eilean Siar Local Authority\",0,new_ci(2,B91,C91,D91,$C$1,G91,1,F91,E91*F91)))))))","v":0},{"$f":"IF('III Tool Overview'!$H$6=\"Orkney Health Board\",0,IF('III Tool Overview'!$H$6=\"Shetland Health Board\",0,IF('III Tool Overview'!$H$6=\"Western Isles Health Board\",0,IF('III Tool Overview'!$H$6=\"Orkney Islands Local Authority\",0,IF('III Tool Overview'!$H$6=\"Shetland Islands Local Authority\",0,IF('III Tool Overview'!$H$6=\"Eilean Siar Local Authority\",0,new_ci(2,B91,C91,D91,$C$1,G91+H91,1,F91,E91*F91)))))))","v":0},{"$f":"IF('III Tool Overview'!$H$6=\"Orkney Health Board\",0,IF('III Tool Overview'!$H$6=\"Shetland Health Board\",0,IF('III Tool Overview'!$H$6=\"Western Isles Health Board\",0,IF('III Tool Overview'!$H$6=\"Orkney Islands Local Authority\",0,IF('III Tool Overview'!$H$6=\"Shetland Islands Local Authority\",0,IF('III Tool Overview'!$H$6=\"Eilean Siar Local Authority\",0,new_ci(5,B91,C91,D91,$C$1,G91,1,F91,E91*F91)))))))","v":0},{"$f":"IF('III Tool Overview'!$H$6=\"Orkney Health Board\",0,IF('III Tool Overview'!$H$6=\"Shetland Health Board\",0,IF('III Tool Overview'!$H$6=\"Western Isles Health Board\",0,IF('III Tool Overview'!$H$6=\"Orkney Islands Local Authority\",0,IF('III Tool Overview'!$H$6=\"Shetland Islands Local Authority\",0,IF('III Tool Overview'!$H$6=\"Eilean Siar Local Authority\",0,new_ci(5,B91,C91,D91,$C$1,G91+H91,1,F91,E91*F91)))))))","v":0},{"$f":"IF('III Tool Overview'!$H$6=\"Orkney Health Board\",0,IF('III Tool Overview'!$H$6=\"Shetland Health Board\",0,IF('III Tool Overview'!$H$6=\"Western Isles Health Board\",0,IF('III Tool Overview'!$H$6=\"Orkney Islands Local Authority\",0,IF('III Tool Overview'!$H$6=\"Shetland Islands Local Authority\",0,IF('III Tool Overview'!$H$6=\"Eilean Siar Local Authority\",0,new_ci(10,B91,C91,D91,$C$1,G91,1,F91,E91*F91)))))))","v":0},{"$f":"IF('III Tool Overview'!$H$6=\"Orkney Health Board\",0,IF('III Tool Overview'!$H$6=\"Shetland Health Board\",0,IF('III Tool Overview'!$H$6=\"Western Isles Health Board\",0,IF('III Tool Overview'!$H$6=\"Orkney Islands Local Authority\",0,IF('III Tool Overview'!$H$6=\"Shetland Islands Local Authority\",0,IF('III Tool Overview'!$H$6=\"Eilean Siar Local Authority\",0,new_ci(10,B91,C91,D91,$C$1,G91+H91,1,F91,E91*F91)))))))","v":0},{"$f":"IF('III Tool Overview'!$H$6=\"Orkney Health Board\",0,IF('III Tool Overview'!$H$6=\"Shetland Health Board\",0,IF('III Tool Overview'!$H$6=\"Western Isles Health Board\",0,IF('III Tool Overview'!$H$6=\"Orkney Islands Local Authority\",0,IF('III Tool Overview'!$H$6=\"Shetland Islands Local Authority\",0,IF('III Tool Overview'!$H$6=\"Eilean Siar Local Authority\",0,new_ci(20,B91,C91,D91,$C$1,G91,1,F91,E91*F91)))))))","v":0},{"$f":"IF('III Tool Overview'!$H$6=\"Orkney Health Board\",0,IF('III Tool Overview'!$H$6=\"Shetland Health Board\",0,IF('III Tool Overview'!$H$6=\"Western Isles Health Board\",0,IF('III Tool Overview'!$H$6=\"Orkney Islands Local Authority\",0,IF('III Tool Overview'!$H$6=\"Shetland Islands Local Authority\",0,IF('III Tool Overview'!$H$6=\"Eilean Siar Local Authority\",0,new_ci(20,B91,C91,D91,$C$1,G91+H91,1,F91,E91*F91)))))))","v":0},{"$f":"IF('III Tool Overview'!$H$6=\"Orkney Health Board\",0,IF('III Tool Overview'!$H$6=\"Shetland Health Board\",0,IF('III Tool Overview'!$H$6=\"Western Isles Health Board\",0,IF('III Tool Overview'!$H$6=\"Orkney Islands Local Authority\",0,IF('III Tool Overview'!$H$6=\"Shetland Islands Local Authority\",0,IF('III Tool Overview'!$H$6=\"Eilean Siar Local Authority\",0,new_yll(2,B91,C91,D91,$C$1,G91,1,F91,E91*F91)))))))","v":0},{"$f":"IF('III Tool Overview'!$H$6=\"Orkney Health Board\",0,IF('III Tool Overview'!$H$6=\"Shetland Health Board\",0,IF('III Tool Overview'!$H$6=\"Western Isles Health Board\",0,IF('III Tool Overview'!$H$6=\"Orkney Islands Local Authority\",0,IF('III Tool Overview'!$H$6=\"Shetland Islands Local Authority\",0,IF('III Tool Overview'!$H$6=\"Eilean Siar Local Authority\",0,new_yll(2,B91,C91,D91,$C$1,G91+H91,1,F91,E91*F91)))))))","v":0},{"$f":"Q91-R91","v":0},{"$f":"IF('III Tool Overview'!$H$6=\"Orkney Health Board\",0,IF('III Tool Overview'!$H$6=\"Shetland Health Board\",0,IF('III Tool Overview'!$H$6=\"Western Isles Health Board\",0,IF('III Tool Overview'!$H$6=\"Orkney Islands Local Authority\",0,IF('III Tool Overview'!$H$6=\"Shetland Islands Local Authority\",0,IF('III Tool Overview'!$H$6=\"Eilean Siar Local Authority\",0,new_yll(5,B91,C91,D91,$C$1,G91,1,F91,E91*F91)))))))","v":0},{"$f":"IF('III Tool Overview'!$H$6=\"Orkney Health Board\",0,IF('III Tool Overview'!$H$6=\"Shetland Health Board\",0,IF('III Tool Overview'!$H$6=\"Western Isles Health Board\",0,IF('III Tool Overview'!$H$6=\"Orkney Islands Local Authority\",0,IF('III Tool Overview'!$H$6=\"Shetland Islands Local Authority\",0,IF('III Tool Overview'!$H$6=\"Eilean Siar Local Authority\",0,new_yll(5,B91,C91,D91,$C$1,G91+H91,1,F91,E91*F91)))))))","v":0},{"$f":"T91-U91","v":0},{"$f":"IF('III Tool Overview'!$H$6=\"Orkney Health Board\",0,IF('III Tool Overview'!$H$6=\"Shetland Health Board\",0,IF('III Tool Overview'!$H$6=\"Western Isles Health Board\",0,IF('III Tool Overview'!$H$6=\"Orkney Islands Local Authority\",0,IF('III Tool Overview'!$H$6=\"Shetland Islands Local Authority\",0,IF('III Tool Overview'!$H$6=\"Eilean Siar Local Authority\",0,new_yll(10,B91,C91,D91,$C$1,G91,1,F91,E91*F91)))))))","v":0},{"$f":"IF('III Tool Overview'!$H$6=\"Orkney Health Board\",0,IF('III Tool Overview'!$H$6=\"Shetland Health Board\",0,IF('III Tool Overview'!$H$6=\"Western Isles Health Board\",0,IF('III Tool Overview'!$H$6=\"Orkney Islands Local Authority\",0,IF('III Tool Overview'!$H$6=\"Shetland Islands Local Authority\",0,IF('III Tool Overview'!$H$6=\"Eilean Siar Local Authority\",0,new_yll(10,B91,C91,D91,$C$1,G91+H91,1,F91,E91*F91)))))))","v":0},{"$f":"W91-X91","v":0},{"$f":"IF('III Tool Overview'!$H$6=\"Orkney Health Board\",0,IF('III Tool Overview'!$H$6=\"Shetland Health Board\",0,IF('III Tool Overview'!$H$6=\"Western Isles Health Board\",0,IF('III Tool Overview'!$H$6=\"Orkney Islands Local Authority\",0,IF('III Tool Overview'!$H$6=\"Shetland Islands Local Authority\",0,IF('III Tool Overview'!$H$6=\"Eilean Siar Local Authority\",0,new_yll(20,B91,C91,D91,$C$1,G91,1,F91,E91*F91)))))))","v":0},{"$f":"IF('III Tool Overview'!$H$6=\"Orkney Health Board\",0,IF('III Tool Overview'!$H$6=\"Shetland Health Board\",0,IF('III Tool Overview'!$H$6=\"Western Isles Health Board\",0,IF('III Tool Overview'!$H$6=\"Orkney Islands Local Authority\",0,IF('III Tool Overview'!$H$6=\"Shetland Islands Local Authority\",0,IF('III Tool Overview'!$H$6=\"Eilean Siar Local Authority\",0,new_yll(20,B91,C91,D91,$C$1,G91+H91,1,F91,E91*F91)))))))","v":0},{"$f":"Z91-AA91","v":0},{"$f":"IF('III Tool Overview'!$H$6=\"Orkney Health Board\",0,IF('III Tool Overview'!$H$6=\"Shetland Health Board\",0,IF('III Tool Overview'!$H$6=\"Western Isles Health Board\",0,IF('III Tool Overview'!$H$6=\"Orkney Islands Local Authority\",0,IF('III Tool Overview'!$H$6=\"Shetland Islands Local Authority\",0,IF('III Tool Overview'!$H$6=\"Eilean Siar Local Authority\",0,hosp_count(2,B91,C91,D91,$C$1,G91,1,F91,E91*F91)))))))","v":0},{"$f":"IF('III Tool Overview'!$H$6=\"Orkney Health Board\",0,IF('III Tool Overview'!$H$6=\"Shetland Health Board\",0,IF('III Tool Overview'!$H$6=\"Western Isles Health Board\",0,IF('III Tool Overview'!$H$6=\"Orkney Islands Local Authority\",0,IF('III Tool Overview'!$H$6=\"Shetland Islands Local Authority\",0,IF('III Tool Overview'!$H$6=\"Eilean Siar Local Authority\",0,hosp_count(2,B91,C91,D91,$C$1,G91+H91,1,F91,E91*F91)))))))","v":0},{"$f":"AC91-AD91","v":0},{"$f":"IF('III Tool Overview'!$H$6=\"Orkney Health Board\",0,IF('III Tool Overview'!$H$6=\"Shetland Health Board\",0,IF('III Tool Overview'!$H$6=\"Western Isles Health Board\",0,IF('III Tool Overview'!$H$6=\"Orkney Islands Local Authority\",0,IF('III Tool Overview'!$H$6=\"Shetland Islands Local Authority\",0,IF('III Tool Overview'!$H$6=\"Eilean Siar Local Authority\",0,hosp_count(5,B91,C91,D91,$C$1,G91,1,F91,E91*F91)))))))","v":0},{"$f":"IF('III Tool Overview'!$H$6=\"Orkney Health Board\",0,IF('III Tool Overview'!$H$6=\"Shetland Health Board\",0,IF('III Tool Overview'!$H$6=\"Western Isles Health Board\",0,IF('III Tool Overview'!$H$6=\"Orkney Islands Local Authority\",0,IF('III Tool Overview'!$H$6=\"Shetland Islands Local Authority\",0,IF('III Tool Overview'!$H$6=\"Eilean Siar Local Authority\",0,hosp_count(5,B91,C91,D91,$C$1,G91+H91,1,F91,E91*F91)))))))","v":0},{"$f":"AF91-AG91","v":0},{"$f":"IF('III Tool Overview'!$H$6=\"Orkney Health Board\",0,IF('III Tool Overview'!$H$6=\"Shetland Health Board\",0,IF('III Tool Overview'!$H$6=\"Western Isles Health Board\",0,IF('III Tool Overview'!$H$6=\"Orkney Islands Local Authority\",0,IF('III Tool Overview'!$H$6=\"Shetland Islands Local Authority\",0,IF('III Tool Overview'!$H$6=\"Eilean Siar Local Authority\",0,hosp_count(10,B91,C91,D91,$C$1,G91,1,F91,E91*F91)))))))","v":0},{"$f":"IF('III Tool Overview'!$H$6=\"Orkney Health Board\",0,IF('III Tool Overview'!$H$6=\"Shetland Health Board\",0,IF('III Tool Overview'!$H$6=\"Western Isles Health Board\",0,IF('III Tool Overview'!$H$6=\"Orkney Islands Local Authority\",0,IF('III Tool Overview'!$H$6=\"Shetland Islands Local Authority\",0,IF('III Tool Overview'!$H$6=\"Eilean Siar Local Authority\",0,hosp_count(10,B91,C91,D91,$C$1,G91+H91,1,F91,E91*F91)))))))","v":0},{"$f":"AI91-AJ91","v":0},{"$f":"IF('III Tool Overview'!$H$6=\"Orkney Health Board\",0,IF('III Tool Overview'!$H$6=\"Shetland Health Board\",0,IF('III Tool Overview'!$H$6=\"Western Isles Health Board\",0,IF('III Tool Overview'!$H$6=\"Orkney Islands Local Authority\",0,IF('III Tool Overview'!$H$6=\"Shetland Islands Local Authority\",0,IF('III Tool Overview'!$H$6=\"Eilean Siar Local Authority\",0,hosp_count(20,B91,C91,D91,$C$1,G91,1,F91,E91*F91)))))))","v":0},{"$f":"IF('III Tool Overview'!$H$6=\"Orkney Health Board\",0,IF('III Tool Overview'!$H$6=\"Shetland Health Board\",0,IF('III Tool Overview'!$H$6=\"Western Isles Health Board\",0,IF('III Tool Overview'!$H$6=\"Orkney Islands Local Authority\",0,IF('III Tool Overview'!$H$6=\"Shetland Islands Local Authority\",0,IF('III Tool Overview'!$H$6=\"Eilean Siar Local Authority\",0,hosp_count(20,B91,C91,D91,$C$1,G91+H91,1,F91,E91*F91)))))))","v":0},{"$f":"AL91-AM91","v":0}]
["Female 20-24",22.5,"female",1,{"$f":"HLOOKUP('III Tool Overview'!$H$6,Prevalence!$B$2:$AV$268,Prevalence!AW87,FALSE)","v":0.31428571428571433},{"$f":"HLOOKUP('III Tool Overview'!$H$6,LookUpData_Pop!$B$1:$AV$269,LookUpData_Pop!BB92,FALSE)/5","v":0},{"$f":"'III Tool Overview'!$H$9/110","v":0},{"$f":"IF('III Tool Overview'!$H$10=\"Even distribution\",Targeting!C89,IF('III Tool Overview'!$H$10=\"Targeting to Q1\",Targeting!D89,IF('III Tool Overview'!$H$10=\"Targeting to Q1 & Q2\",Targeting!E89,IF('III Tool Overview'!$H$10=\"Proportionate to need\",Targeting!F89))))","v":3.2727272727272729},{"$f":"IF('III Tool Overview'!$H$6=\"Orkney Health Board\",0,IF('III Tool Overview'!$H$6=\"Shetland Health Board\",0,IF('III Tool Overview'!$H$6=\"Western Isles Health Board\",0,IF('III Tool Overview'!$H$6=\"Orkney Islands Local Authority\",0,IF('III Tool Overview'!$H$6=\"Shetland Islands Local Authority\",0,IF('III Tool Overview'!$H$6=\"Eilean Siar Local Authority\",0,new_ci(2,B92,C92,D92,$C$1,G92,1,F92,E92*F92)))))))","v":0},{"$f":"IF('III Tool Overview'!$H$6=\"Orkney Health Board\",0,IF('III Tool Overview'!$H$6=\"Shetland Health Board\",0,IF('III Tool Overview'!$H$6=\"Western Isles Health Board\",0,IF('III Tool Overview'!$H$6=\"Orkney Islands Local Authority\",0,IF('III Tool Overview'!$H$6=\"Shetland Islands Local Authority\",0,IF('III Tool Overview'!$H$6=\"Eilean Siar Local Authority\",0,new_ci(2,B92,C92,D92,$C$1,G92+H92,1,F92,E92*F92)))))))","v":0},{"$f":"IF('III Tool Overview'!$H$6=\"Orkney Health Board\",0,IF('III Tool Overview'!$H$6=\"Shetland Health Board\",0,IF('III Tool Overview'!$H$6=\"Western Isles Health Board\",0,IF('III Tool Overview'!$H$6=\"Orkney Islands Local Authority\",0,IF('III Tool Overview'!$H$6=\"Shetland Islands Local Authority\",0,IF('III Tool Overview'!$H$6=\"Eilean Siar Local Authority\",0,new_ci(5,B92,C92,D92,$C$1,G92,1,F92,E92*F92)))))))","v":0},{"$f":"IF('III Tool Overview'!$H$6=\"Orkney Health Board\",0,IF('III Tool Overview'!$H$6=\"Shetland Health Board\",0,IF('III Tool Overview'!$H$6=\"Western Isles Health Board\",0,IF('III Tool Overview'!$H$6=\"Orkney Islands Local Authority\",0,IF('III Tool Overview'!$H$6=\"Shetland Islands Local Authority\",0,IF('III Tool Overview'!$H$6=\"Eilean Siar Local Authority\",0,new_ci(5,B92,C92,D92,$C$1,G92+H92,1,F92,E92*F92)))))))","v":0},{"$f":"IF('III Tool Overview'!$H$6=\"Orkney Health Board\",0,IF('III Tool Overview'!$H$6=\"Shetland Health Board\",0,IF('III Tool Overview'!$H$6=\"Western Isles Health Board\",0,IF('III Tool Overview'!$H$6=\"Orkney Islands Local Authority\",0,IF('III Tool Overview'!$H$6=\"Shetland Islands Local Authority\",0,IF('III Tool Overview'!$H$6=\"Eilean Siar Local Authority\",0,new_ci(10,B92,C92,D92,$C$1,G92,1,F92,E92*F92)))))))","v":0},{"$f":"IF('III Tool Overview'!$H$6=\"Orkney Health Board\",0,IF('III Tool Overview'!$H$6=\"Shetland Health Board\",0,IF('III Tool Overview'!$H$6=\"Western Isles Health Board\",0,IF('III Tool Overview'!$H$6=\"Orkney Islands Local Authority\",0,IF('III Tool Overview'!$H$6=\"Shetland Islands Local Authority\",0,IF('III Tool Overview'!$H$6=\"Eilean Siar Local Authority\",0,new_ci(10,B92,C92,D92,$C$1,G92+H92,1,F92,E92*F92)))))))","v":0},{"$f":"IF('III Tool Overview'!$H$6=\"Orkney Health Board\",0,IF('III Tool Overview'!$H$6=\"Shetland Health Board\",0,IF('III Tool Overview'!$H$6=\"Western Isles Health Board\",0,IF('III Tool Overview'!$H$6=\"Orkney Islands Local Authority\",0,IF('III Tool Overview'!$H$6=\"Shetland Islands Local Authority\",0,IF('III Tool Overview'!$H$6=\"Eilean Siar Local Authority\",0,new_ci(20,B92,C92,D92,$C$1,G92,1,F92,E92*F92)))))))","v":0},{"$f":"IF('III Tool Overview'!$H$6=\"Orkney Health Board\",0,IF('III Tool Overview'!$H$6=\"Shetland Health Board\",0,IF('III Tool Overview'!$H$6=\"Western Isles Health Board\",0,IF('III Tool Overview'!$H$6=\"Orkney Islands Local Authority\",0,IF('III Tool Overview'!$H$6=\"Shetland Islands Local Authority\",0,IF('III Tool Overview'!$H$6=\"Eilean Siar Local Authority\",0,new_ci(20,B92,C92,D92,$C$1,G92+H92,1,F92,E92*F92)))))))","v":0},{"$f":"IF('III Tool Overview'!$H$6=\"Orkney Health Board\",0,IF('III Tool Overview'!$H$6=\"Shetland Health Board\",0,IF('III Tool Overview'!$H$6=\"Western Isles Health Board\",0,IF('III Tool Overview'!$H$6=\"Orkney Islands Local Authority\",0,IF('III Tool Overview'!$H$6=\"Shetland Islands Local Authority\",0,IF('III Tool Overview'!$H$6=\"Eilean Siar Local Authority\",0,new_yll(2,B92,C92,D92,$C$1,G92,1,F92,E92*F92)))))))","v":0},{"$f":"IF('III Tool Overview'!$H$6=\"Orkney Health Board\",0,IF('III Tool Overview'!$H$6=\"Shetland Health Board\",0,IF('III Tool Overview'!$H$6=\"Western Isles Health Board\",0,IF('III Tool Overview'!$H$6=\"Orkney Islands Local Authority\",0,IF('III Tool Overview'!$H$6=\"Shetland Islands Local Authority\",0,IF('III Tool Overview'!$H$6=\"Eilean Siar Local Authority\",0,new_yll(2,B92,C92,D92,$C$1,G92+H92,1,F92,E92*F92)))))))","v":0},{"$f":"Q92-R92","v":0},{"$f":"IF('III Tool Overview'!$H$6=\"Orkney Health Board\",0,IF('III Tool Overview'!$H$6=\"Shetland Health Board\",0,IF('III Tool Overview'!$H$6=\"Western Isles Health Board\",0,IF('III Tool Overview'!$H$6=\"Orkney Islands Local Authority\",0,IF('III Tool Overview'!$H$6=\"Shetland Islands Local Authority\",0,IF('III Tool Overview'!$H$6=\"Eilean Siar Local Authority\",0,new_yll(5,B92,C92,D92,$C$1,G92,1,F92,E92*F92)))))))","v":0},{"$f":"IF('III Tool Overview'!$H$6=\"Orkney Health Board\",0,IF('III Tool Overview'!$H$6=\"Shetland Health Board\",0,IF('III Tool Overview'!$H$6=\"Western Isles Health Board\",0,IF('III Tool Overview'!$H$6=\"Orkney Islands Local Authority\",0,IF('III Tool Overview'!$H$6=\"Shetland Islands Local Authority\",0,IF('III Tool Overview'!$H$6=\"Eilean Siar Local Authority\",0,new_yll(5,B92,C92,D92,$C$1,G92+H92,1,F92,E92*F92)))))))","v":0},{"$f":"T92-U92","v":0},{"$f":"IF('III Tool Overview'!$H$6=\"Orkney Health Board\",0,IF('III Tool Overview'!$H$6=\"Shetland Health Board\",0,IF('III Tool Overview'!$H$6=\"Western Isles Health Board\",0,IF('III Tool Overview'!$H$6=\"Orkney Islands Local Authority\",0,IF('III Tool Overview'!$H$6=\"Shetland Islands Local Authority\",0,IF('III Tool Overview'!$H$6=\"Eilean Siar Local Authority\",0,new_yll(10,B92,C92,D92,$C$1,G92,1,F92,E92*F92)))))))","v":0},{"$f":"IF('III Tool Overview'!$H$6=\"Orkney Health Board\",0,IF('III Tool Overview'!$H$6=\"Shetland Health Board\",0,IF('III Tool Overview'!$H$6=\"Western Isles Health Board\",0,IF('III Tool Overview'!$H$6=\"Orkney Islands Local Authority\",0,IF('III Tool Overview'!$H$6=\"Shetland Islands Local Authority\",0,IF('III Tool Overview'!$H$6=\"Eilean Siar Local Authority\",0,new_yll(10,B92,C92,D92,$C$1,G92+H92,1,F92,E92*F92)))))))","v":0},{"$f":"W92-X92","v":0},{"$f":"IF('III Tool Overview'!$H$6=\"Orkney Health Board\",0,IF('III Tool Overview'!$H$6=\"Shetland Health Board\",0,IF('III Tool Overview'!$H$6=\"Western Isles Health Board\",0,IF('III Tool Overview'!$H$6=\"Orkney Islands Local Authority\",0,IF('III Tool Overview'!$H$6=\"Shetland Islands Local Authority\",0,IF('III Tool Overview'!$H$6=\"Eilean Siar Local Authority\",0,new_yll(20,B92,C92,D92,$C$1,G92,1,F92,E92*F92)))))))","v":0},{"$f":"IF('III Tool Overview'!$H$6=\"Orkney Health Board\",0,IF('III Tool Overview'!$H$6=\"Shetland Health Board\",0,IF('III Tool Overview'!$H$6=\"Western Isles Health Board\",0,IF('III Tool Overview'!$H$6=\"Orkney Islands Local Authority\",0,IF('III Tool Overview'!$H$6=\"Shetland Islands Local Authority\",0,IF('III Tool Overview'!$H$6=\"Eilean Siar Local Authority\",0,new_yll(20,B92,C92,D92,$C$1,G92+H92,1,F92,E92*F92)))))))","v":0},{"$f":"Z92-AA92","v":0},{"$f":"IF('III Tool Overview'!$H$6=\"Orkney Health Board\",0,IF('III Tool Overview'!$H$6=\"Shetland Health Board\",0,IF('III Tool Overview'!$H$6=\"Western Isles Health Board\",0,IF('III Tool Overview'!$H$6=\"Orkney Islands Local Authority\",0,IF('III Tool Overview'!$H$6=\"Shetland Islands Local Authority\",0,IF('III Tool Overview'!$H$6=\"Eilean Siar Local Authority\",0,hosp_count(2,B92,C92,D92,$C$1,G92,1,F92,E92*F92)))))))","v":0},{"$f":"IF('III Tool Overview'!$H$6=\"Orkney Health Board\",0,IF('III Tool Overview'!$H$6=\"Shetland Health Board\",0,IF('III Tool Overview'!$H$6=\"Western Isles Health Board\",0,IF('III Tool Overview'!$H$6=\"Orkney Islands Local Authority\",0,IF('III Tool Overview'!$H$6=\"Shetland Islands Local Authority\",0,IF('III Tool Overview'!$H$6=\"Eilean Siar Local Authority\",0,hosp_count(2,B92,C92,D92,$C$1,G92+H92,1,F92,E92*F92)))))))","v":0},{"$f":"AC92-AD92","v":0},{"$f":"IF('III Tool Overview'!$H$6=\"Orkney Health Board\",0,IF('III Tool Overview'!$H$6=\"Shetland Health Board\",0,IF('III Tool Overview'!$H$6=\"Western Isles Health Board\",0,IF('III Tool Overview'!$H$6=\"Orkney Islands Local Authority\",0,IF('III Tool Overview'!$H$6=\"Shetland Islands Local Authority\",0,IF('III Tool Overview'!$H$6=\"Eilean Siar Local Authority\",0,hosp_count(5,B92,C92,D92,$C$1,G92,1,F92,E92*F92)))))))","v":0},{"$f":"IF('III Tool Overview'!$H$6=\"Orkney Health Board\",0,IF('III Tool Overview'!$H$6=\"Shetland Health Board\",0,IF('III Tool Overview'!$H$6=\"Western Isles Health Board\",0,IF('III Tool Overview'!$H$6=\"Orkney Islands Local Authority\",0,IF('III Tool Overview'!$H$6=\"Shetland Islands Local Authority\",0,IF('III Tool Overview'!$H$6=\"Eilean Siar Local Authority\",0,hosp_count(5,B92,C92,D92,$C$1,G92+H92,1,F92,E92*F92)))))))","v":0},{"$f":"AF92-AG92","v":0},{"$f":"IF('III Tool Overview'!$H$6=\"Orkney Health Board\",0,IF('III Tool Overview'!$H$6=\"Shetland Health Board\",0,IF('III Tool Overview'!$H$6=\"Western Isles Health Board\",0,IF('III Tool Overview'!$H$6=\"Orkney Islands Local Authority\",0,IF('III Tool Overview'!$H$6=\"Shetland Islands Local Authority\",0,IF('III Tool Overview'!$H$6=\"Eilean Siar Local Authority\",0,hosp_count(10,B92,C92,D92,$C$1,G92,1,F92,E92*F92)))))))","v":0},{"$f":"IF('III Tool Overview'!$H$6=\"Orkney Health Board\",0,IF('III Tool Overview'!$H$6=\"Shetland Health Board\",0,IF('III Tool Overview'!$H$6=\"Western Isles Health Board\",0,IF('III Tool Overview'!$H$6=\"Orkney Islands Local Authority\",0,IF('III Tool Overview'!$H$6=\"Shetland Islands Local Authority\",0,IF('III Tool Overview'!$H$6=\"Eilean Siar Local Authority\",0,hosp_count(10,B92,C92,D92,$C$1,G92+H92,1,F92,E92*F92)))))))","v":0},{"$f":"AI92-AJ92","v":0},{"$f":"IF('III Tool Overview'!$H$6=\"Orkney Health Board\",0,IF('III Tool Overview'!$H$6=\"Shetland Health Board\",0,IF('III Tool Overview'!$H$6=\"Western Isles Health Board\",0,IF('III Tool Overview'!$H$6=\"Orkney Islands Local Authority\",0,IF('III Tool Overview'!$H$6=\"Shetland Islands Local Authority\",0,IF('III Tool Overview'!$H$6=\"Eilean Siar Local Authority\",0,hosp_count(20,B92,C92,D92,$C$1,G92,1,F92,E92*F92)))))))","v":0},{"$f":"IF('III Tool Overview'!$H$6=\"Orkney Health Board\",0,IF('III Tool Overview'!$H$6=\"Shetland Health Board\",0,IF('III Tool Overview'!$H$6=\"Western Isles Health Board\",0,IF('III Tool Overview'!$H$6=\"Orkney Islands Local Authority\",0,IF('III Tool Overview'!$H$6=\"Shetland Islands Local Authority\",0,IF('III Tool Overview'!$H$6=\"Eilean Siar Local Authority\",0,hosp_count(20,B92,C92,D92,$C$1,G92+H92,1,F92,E92*F92)))))))","v":0},{"$f":"AL92-AM92","v":0}]
["Female 25-29",27.5,"female",1,{"$f":"HLOOKUP('III Tool Overview'!$H$6,Prevalence!$B$2:$AV$268,Prevalence!AW88,FALSE)","v":0.40952380952380957},{"$f":"HLOOKUP('III Tool Overview'!$H$6,LookUpData_Pop!$B$1:$AV$269,LookUpData_Pop!BB93,FALSE)/5","v":0},{"$f":"'III Tool Overview'!$H$9/110","v":0},{"$f":"IF('III Tool Overview'!$H$10=\"Even distribution\",Targeting!C90,IF('III Tool Overview'!$H$10=\"Targeting to Q1\",Targeting!D90,IF('III Tool Overview'!$H$10=\"Targeting to Q1 & Q2\",Targeting!E90,IF('III Tool Overview'!$H$10=\"Proportionate to need\",Targeting!F90))))","v":3.2727272727272729},{"$f":"IF('III Tool Overview'!$H$6=\"Orkney Health Board\",0,IF('III Tool Overview'!$H$6=\"Shetland Health Board\",0,IF('III Tool Overview'!$H$6=\"Western Isles Health Board\",0,IF('III Tool Overview'!$H$6=\"Orkney Islands Local Authority\",0,IF('III Tool Overview'!$H$6=\"Shetland Islands Local Authority\",0,IF('III Tool Overview'!$H$6=\"Eilean Siar Local Authority\",0,new_ci(2,B93,C93,D93,$C$1,G93,1,F93,E93*F93)))))))","v":0},{"$f":"IF('III Tool Overview'!$H$6=\"Orkney Health Board\",0,IF('III Tool Overview'!$H$6=\"Shetland Health Board\",0,IF('III Tool Overview'!$H$6=\"Western Isles Health Board\",0,IF('III Tool Overview'!$H$6=\"Orkney Islands Local Authority\",0,IF('III Tool Overview'!$H$6=\"Shetland Islands Local Authority\",0,IF('III Tool Overview'!$H$6=\"Eilean Siar Local Authority\",0,new_ci(2,B93,C93,D93,$C$1,G93+H93,1,F93,E93*F93)))))))","v":0},{"$f":"IF('III Tool Overview'!$H$6=\"Orkney Health Board\",0,IF('III Tool Overview'!$H$6=\"Shetland Health Board\",0,IF('III Tool Overview'!$H$6=\"Western Isles Health Board\",0,IF('III Tool Overview'!$H$6=\"Orkney Islands Local Authority\",0,IF('III Tool Overview'!$H$6=\"Shetland Islands Local Authority\",0,IF('III Tool Overview'!$H$6=\"Eilean Siar Local Authority\",0,new_ci(5,B93,C93,D93,$C$1,G93,1,F93,E93*F93)))))))","v":0},{"$f":"IF('III Tool Overview'!$H$6=\"Orkney Health Board\",0,IF('III Tool Overview'!$H$6=\"Shetland Health Board\",0,IF('III Tool Overview'!$H$6=\"Western Isles Health Board\",0,IF('III Tool Overview'!$H$6=\"Orkney Islands Local Authority\",0,IF('III Tool Overview'!$H$6=\"Shetland Islands Local Authority\",0,IF('III Tool Overview'!$H$6=\"Eilean Siar Local Authority\",0,new_ci(5,B93,C93,D93,$C$1,G93+H93,1,F93,E93*F93)))))))","v":0},{"$f":"IF('III Tool Overview'!$H$6=\"Orkney Health Board\",0,IF('III Tool Overview'!$H$6=\"Shetland Health Board\",0,IF('III Tool Overview'!$H$6=\"Western Isles Health Board\",0,IF('III Tool Overview'!$H$6=\"Orkney Islands Local Authority\",0,IF('III Tool Overview'!$H$6=\"Shetland Islands Local Authority\",0,IF('III Tool Overview'!$H$6=\"Eilean Siar Local Authority\",0,new_ci(10,B93,C93,D93,$C$1,G93,1,F93,E93*F93)))))))","v":0},{"$f":"IF('III Tool Overview'!$H$6=\"Orkney Health Board\",0,IF('III Tool Overview'!$H$6=\"Shetland Health Board\",0,IF('III Tool Overview'!$H$6=\"Western Isles Health Board\",0,IF('III Tool Overview'!$H$6=\"Orkney Islands Local Authority\",0,IF('III Tool Overview'!$H$6=\"Shetland Islands Local Authority\",0,IF('III Tool Overview'!$H$6=\"Eilean Siar Local Authority\",0,new_ci(10,B93,C93,D93,$C$1,G93+H93,1,F93,E93*F93)))))))","v":0},{"$f":"IF('III Tool Overview'!$H$6=\"Orkney Health Board\",0,IF('III Tool Overview'!$H$6=\"Shetland Health Board\",0,IF('III Tool Overview'!$H$6=\"Western Isles Health Board\",0,IF('III Tool Overview'!$H$6=\"Orkney Islands Local Authority\",0,IF('III Tool Overview'!$H$6=\"Shetland Islands Local Authority\",0,IF('III Tool Overview'!$H$6=\"Eilean Siar Local Authority\",0,new_ci(20,B93,C93,D93,$C$1,G93,1,F93,E93*F93)))))))","v":0},{"$f":"IF('III Tool Overview'!$H$6=\"Orkney Health Board\",0,IF('III Tool Overview'!$H$6=\"Shetland Health Board\",0,IF('III Tool Overview'!$H$6=\"Western Isles Health Board\",0,IF('III Tool Overview'!$H$6=\"Orkney Islands Local Authority\",0,IF('III Tool Overview'!$H$6=\"Shetland Islands Local Authority\",0,IF('III Tool Overview'!$H$6=\"Eilean Siar Local Authority\",0,new_ci(20,B93,C93,D93,$C$1,G93+H93,1,F93,E93*F93)))))))","v":0},{"$f":"IF('III Tool Overview'!$H$6=\"Orkney Health Board\",0,IF('III Tool Overview'!$H$6=\"Shetland Health Board\",0,IF('III Tool Overview'!$H$6=\"Western Isles Health Board\",0,IF('III Tool Overview'!$H$6=\"Orkney Islands Local Authority\",0,IF('III Tool Overview'!$H$6=\"Shetland Islands Local Authority\",0,IF('III Tool Overview'!$H$6=\"Eilean Siar Local Authority\",0,new_yll(2,B93,C93,D93,$C$1,G93,1,F93,E93*F93)))))))","v":0},{"$f":"IF('III Tool Overview'!$H$6=\"Orkney Health Board\",0,IF('III Tool Overview'!$H$6=\"Shetland Health Board\",0,IF('III Tool Overview'!$H$6=\"Western Isles Health Board\",0,IF('III Tool Overview'!$H$6=\"Orkney Islands Local Authority\",0,IF('III Tool Overview'!$H$6=\"Shetland Islands Local Authority\",0,IF('III Tool Overview'!$H$6=\"Eilean Siar Local Authority\",0,new_yll(2,B93,C93,D93,$C$1,G93+H93,1,F93,E93*F93)))))))","v":0},0,{"$f":"IF('III Tool Overview'!$H$6=\"Orkney Health Board\",0,IF('III Tool Overview'!$H$6=\"Shetland Health Board\",0,IF('III Tool Overview'!$H$6=\"Western Isles Health Board\",0,IF('III Tool Overview'!$H$6=\"Orkney Islands Local Authority\",0,IF('III Tool Overview'!$H$6=\"Shetland Islands Local Authority\",0,IF('III Tool Overview'!$H$6=\"Eilean Siar Local Authority\",0,new_yll(5,B93,C93,D93,$C$1,G93,1,F93,E93*F93)))))))","v":0},{"$f":"IF('III Tool Overview'!$H$6=\"Orkney Health Board\",0,IF('III Tool Overview'!$H$6=\"Shetland Health Board\",0,IF('III Tool Overview'!$H$6=\"Western Isles Health Board\",0,IF('III Tool Overview'!$H$6=\"Orkney Islands Local Authority\",0,IF('III Tool Overview'!$H$6=\"Shetland Islands Local Authority\",0,IF('III Tool Overview'!$H$6=\"Eilean Siar Local Authority\",0,new_yll(5,B93,C93,D93,$C$1,G93+H93,1,F93,E93*F93)))))))","v":0},0,{"$f":"IF('III Tool Overview'!$H$6=\"Orkney Health Board\",0,IF('III Tool Overview'!$H$6=\"Shetland Health Board\",0,IF('III Tool Overview'!$H$6=\"Western Isles Health Board\",0,IF('III Tool Overview'!$H$6=\"Orkney Islands Local Authority\",0,IF('III Tool Overview'!$H$6=\"Shetland Islands Local Authority\",0,IF('III Tool Overview'!$H$6=\"Eilean Siar Local Authority\",0,new_yll(10,B93,C93,D93,$C$1,G93,1,F93,E93*F93)))))))","v":0},{"$f":"IF('III Tool Overview'!$H$6=\"Orkney Health Board\",0,IF('III Tool Overview'!$H$6=\"Shetland Health Board\",0,IF('III Tool Overview'!$H$6=\"Western Isles Health Board\",0,IF('III Tool Overview'!$H$6=\"Orkney Islands Local Authority\",0,IF('III Tool Overview'!$H$6=\"Shetland Islands Local Authority\",0,IF('III Tool Overview'!$H$6=\"Eilean Siar Local Authority\",0,new_yll(10,B93,C93,D93,$C$1,G93+H93,1,F93,E93*F93)))))))","v":0},0,{"$f":"IF('III Tool Overview'!$H$6=\"Orkney Health Board\",0,IF('III Tool Overview'!$H$6=\"Shetland Health Board\",0,IF('III Tool Overview'!$H$6=\"Western Isles Health Board\",0,IF('III Tool Overview'!$H$6=\"Orkney Islands Local Authority\",0,IF('III Tool Overview'!$H$6=\"Shetland Islands Local Authority\",0,IF('III Tool Overview'!$H$6=\"Eilean Siar Local Authority\",0,new_yll(20,B93,C93,D93,$C$1,G93,1,F93,E93*F93)))))))","v":0},{"$f":"IF('III Tool Overview'!$H$6=\"Orkney Health Board\",0,IF('III Tool Overview'!$H$6=\"Shetland Health Board\",0,IF('III Tool Overview'!$H$6=\"Western Isles Health Board\",0,IF('III Tool Overview'!$H$6=\"Orkney Islands Local Authority\",0,IF('III Tool Overview'!$H$6=\"Shetland Islands Local Authority\",0,IF('III Tool Overview'!$H$6=\"Eilean Siar Local Authority\",0,new_yll(20,B93,C93,D93,$C$1,G93+H93,1,F93,E93*F93)))))))","v":0},0,{"$f":"IF('III Tool Overview'!$H$6=\"Orkney Health Board\",0,IF('III Tool Overview'!$H$6=\"Shetland Health Board\",0,IF('III Tool Overview'!$H$6=\"Western Isles Health Board\",0,IF('III Tool Overview'!$H$6=\"Orkney Islands Local Authority\",0,IF('III Tool Overview'!$H$6=\"Shetland Islands Local Authority\",0,IF('III Tool Overview'!$H$6=\"Eilean Siar Local Authority\",0,hosp_count(2,B93,C93,D93,$C$1,G93,1,F93,E93*F93)))))))","v":0},{"$f":"IF('III Tool Overview'!$H$6=\"Orkney Health Board\",0,IF('III Tool Overview'!$H$6=\"Shetland Health Board\",0,IF('III Tool Overview'!$H$6=\"Western Isles Health Board\",0,IF('III Tool Overview'!$H$6=\"Orkney Islands Local Authority\",0,IF('III Tool Overview'!$H$6=\"Shetland Islands Local Authority\",0,IF('III Tool Overview'!$H$6=\"Eilean Siar Local Authority\",0,hosp_count(2,B93,C93,D93,$C$1,G93+H93,1,F93,E93*F93)))))))","v":0},0,{"$f":"IF('III Tool Overview'!$H$6=\"Orkney Health Board\",0,IF('III Tool Overview'!$H$6=\"Shetland Health Board\",0,IF('III Tool Overview'!$H$6=\"Western Isles Health Board\",0,IF('III Tool Overview'!$H$6=\"Orkney Islands Local Authority\",0,IF('III Tool Overview'!$H$6=\"Shetland Islands Local Authority\",0,IF('III Tool Overview'!$H$6=\"Eilean Siar Local Authority\",0,hosp_count(5,B93,C93,D93,$C$1,G93,1,F93,E93*F93)))))))","v":0},{"$f":"IF('III Tool Overview'!$H$6=\"Orkney Health Board\",0,IF('III Tool Overview'!$H$6=\"Shetland Health Board\",0,IF('III Tool Overview'!$H$6=\"Western Isles Health Board\",0,IF('III Tool Overview'!$H$6=\"Orkney Islands Local Authority\",0,IF('III Tool Overview'!$H$6=\"Shetland Islands Local Authority\",0,IF('III Tool Overview'!$H$6=\"Eilean Siar Local Authority\",0,hosp_count(5,B93,C93,D93,$C$1,G93+H93,1,F93,E93*F93)))))))","v":0},0,{"$f":"IF('III Tool Overview'!$H$6=\"Orkney Health Board\",0,IF('III Tool Overview'!$H$6=\"Shetland Health Board\",0,IF('III Tool Overview'!$H$6=\"Western Isles Health Board\",0,IF('III Tool Overview'!$H$6=\"Orkney Islands Local Authority\",0,IF('III Tool Overview'!$H$6=\"Shetland Islands Local Authority\",0,IF('III Tool Overview'!$H$6=\"Eilean Siar Local Authority\",0,hosp_count(10,B93,C93,D93,$C$1,G93,1,F93,E93*F93)))))))","v":0},{"$f":"IF('III Tool Overview'!$H$6=\"Orkney Health Board\",0,IF('III Tool Overview'!$H$6=\"Shetland Health Board\",0,IF('III Tool Overview'!$H$6=\"Western Isles Health Board\",0,IF('III Tool Overview'!$H$6=\"Orkney Islands Local Authority\",0,IF('III Tool Overview'!$H$6=\"Shetland Islands Local Authority\",0,IF('III Tool Overview'!$H$6=\"Eilean Siar Local Authority\",0,hosp_count(10,B93,C93,D93,$C$1,G93+H93,1,F93,E93*F93)))))))","v":0},0,{"$f":"IF('III Tool Overview'!$H$6=\"Orkney Health Board\",0,IF('III Tool Overview'!$H$6=\"Shetland Health Board\",0,IF('III Tool Overview'!$H$6=\"Western Isles Health Board\",0,IF('III Tool Overview'!$H$6=\"Orkney Islands Local Authority\",0,IF('III Tool Overview'!$H$6=\"Shetland Islands Local Authority\",0,IF('III Tool Overview'!$H$6=\"Eilean Siar Local Authority\",0,hosp_count(20,B93,C93,D93,$C$1,G93,1,F93,E93*F93)))))))","v":0},{"$f":"IF('III Tool Overview'!$H$6=\"Orkney Health Board\",0,IF('III Tool Overview'!$H$6=\"Shetland Health Board\",0,IF('III Tool Overview'!$H$6=\"Western Isles Health Board\",0,IF('III Tool Overview'!$H$6=\"Orkney Islands Local Authority\",0,IF('III Tool Overview'!$H$6=\"Shetland Islands Local Authority\",0,IF('III Tool Overview'!$H$6=\"Eilean Siar Local Authority\",0,hosp_count(20,B93,C93,D93,$C$1,G93+H93,1,F93,E93*F93)))))))","v":0},0]
["Female 30-34",32.5,"female",1,{"$f":"HLOOKUP('III Tool Overview'!$H$6,Prevalence!$B$2:$AV$268,Prevalence!AW89,FALSE)","v":0.36190476190476195},{"$f":"HLOOKUP('III Tool Overview'!$H$6,LookUpData_Pop!$B$1:$AV$269,LookUpData_Pop!BB94,FALSE)/5","v":0},{"$f":"'III Tool Overview'!$H$9/110","v":0},{"$f":"IF('III Tool Overview'!$H$10=\"Even distribution\",Targeting!C91,IF('III Tool Overview'!$H$10=\"Targeting to Q1\",Targeting!D91,IF('III Tool Overview'!$H$10=\"Targeting to Q1 & Q2\",Targeting!E91,IF('III Tool Overview'!$H$10=\"Proportionate to need\",Targeting!F91))))","v":3.2727272727272729},{"$f":"IF('III Tool Overview'!$H$6=\"Orkney Health Board\",0,IF('III Tool Overview'!$H$6=\"Shetland Health Board\",0,IF('III Tool Overview'!$H$6=\"Western Isles Health Board\",0,IF('III Tool Overview'!$H$6=\"Orkney Islands Local Authority\",0,IF('III Tool Overview'!$H$6=\"Shetland Islands Local Authority\",0,IF('III Tool Overview'!$H$6=\"Eilean Siar Local Authority\",0,new_ci(2,B94,C94,D94,$C$1,G94,1,F94,E94*F94)))))))","v":0},{"$f":"IF('III Tool Overview'!$H$6=\"Orkney Health Board\",0,IF('III Tool Overview'!$H$6=\"Shetland Health Board\",0,IF('III Tool Overview'!$H$6=\"Western Isles Health Board\",0,IF('III Tool Overview'!$H$6=\"Orkney Islands Local Authority\",0,IF('III Tool Overview'!$H$6=\"Shetland Islands Local Authority\",0,IF('III Tool Overview'!$H$6=\"Eilean Siar Local Authority\",0,new_ci(2,B94,C94,D94,$C$1,G94+H94,1,F94,E94*F94)))))))","v":0},{"$f":"IF('III Tool Overview'!$H$6=\"Orkney Health Board\",0,IF('III Tool Overview'!$H$6=\"Shetland Health Board\",0,IF('III Tool Overview'!$H$6=\"Western Isles Health Board\",0,IF('III Tool Overview'!$H$6=\"Orkney Islands Local Authority\",0,IF('III Tool Overview'!$H$6=\"Shetland Islands Local Authority\",0,IF('III Tool Overview'!$H$6=\"Eilean Siar Local Authority\",0,new_ci(5,B94,C94,D94,$C$1,G94,1,F94,E94*F94)))))))","v":0},{"$f":"IF('III Tool Overview'!$H$6=\"Orkney Health Board\",0,IF('III Tool Overview'!$H$6=\"Shetland Health Board\",0,IF('III Tool Overview'!$H$6=\"Western Isles Health Board\",0,IF('III Tool Overview'!$H$6=\"Orkney Islands Local Authority\",0,IF('III Tool Overview'!$H$6=\"Shetland Islands Local Authority\",0,IF('III Tool Overview'!$H$6=\"Eilean Siar Local Authority\",0,new_ci(5,B94,C94,D94,$C$1,G94+H94,1,F94,E94*F94)))))))","v":0},{"$f":"IF('III Tool Overview'!$H$6=\"Orkney Health Board\",0,IF('III Tool Overview'!$H$6=\"Shetland Health Board\",0,IF('III Tool Overview'!$H$6=\"Western Isles Health Board\",0,IF('III Tool Overview'!$H$6=\"Orkney Islands Local Authority\",0,IF('III Tool Overview'!$H$6=\"Shetland Islands Local Authority\",0,IF('III Tool Overview'!$H$6=\"Eilean Siar Local Authority\",0,new_ci(10,B94,C94,D94,$C$1,G94,1,F94,E94*F94)))))))","v":0},{"$f":"IF('III Tool Overview'!$H$6=\"Orkney Health Board\",0,IF('III Tool Overview'!$H$6=\"Shetland Health Board\",0,IF('III Tool Overview'!$H$6=\"Western Isles Health Board\",0,IF('III Tool Overview'!$H$6=\"Orkney Islands Local Authority\",0,IF('III Tool Overview'!$H$6=\"Shetland Islands Local Authority\",0,IF('III Tool Overview'!$H$6=\"Eilean Siar Local Authority\",0,new_ci(10,B94,C94,D94,$C$1,G94+H94,1,F94,E94*F94)))))))","v":0},{"$f":"IF('III Tool Overview'!$H$6=\"Orkney Health Board\",0,IF('III Tool Overview'!$H$6=\"Shetland Health Board\",0,IF('III Tool Overview'!$H$6=\"Western Isles Health Board\",0,IF('III Tool Overview'!$H$6=\"Orkney Islands Local Authority\",0,IF('III Tool Overview'!$H$6=\"Shetland Islands Local Authority\",0,IF('III Tool Overview'!$H$6=\"Eilean Siar Local Authority\",0,new_ci(20,B94,C94,D94,$C$1,G94,1,F94,E94*F94)))))))","v":0},{"$f":"IF('III Tool Overview'!$H$6=\"Orkney Health Board\",0,IF('III Tool Overview'!$H$6=\"Shetland Health Board\",0,IF('III Tool Overview'!$H$6=\"Western Isles Health Board\",0,IF('III Tool Overview'!$H$6=\"Orkney Islands Local Authority\",0,IF('III Tool Overview'!$H$6=\"Shetland Islands Local Authority\",0,IF('III Tool Overview'!$H$6=\"Eilean Siar Local Authority\",0,new_ci(20,B94,C94,D94,$C$1,G94+H94,1,F94,E94*F94)))))))","v":0},{"$f":"IF('III Tool Overview'!$H$6=\"Orkney Health Board\",0,IF('III Tool Overview'!$H$6=\"Shetland Health Board\",0,IF('III Tool Overview'!$H$6=\"Western Isles Health Board\",0,IF('III Tool Overview'!$H$6=\"Orkney Islands Local Authority\",0,IF('III Tool Overview'!$H$6=\"Shetland Islands Local Authority\",0,IF('III Tool Overview'!$H$6=\"Eilean Siar Local Authority\",0,new_yll(2,B94,C94,D94,$C$1,G94,1,F94,E94*F94)))))))","v":0},{"$f":"IF('III Tool Overview'!$H$6=\"Orkney Health Board\",0,IF('III Tool Overview'!$H$6=\"Shetland Health Board\",0,IF('III Tool Overview'!$H$6=\"Western Isles Health Board\",0,IF('III Tool Overview'!$H$6=\"Orkney Islands Local Authority\",0,IF('III Tool Overview'!$H$6=\"Shetland Islands Local Authority\",0,IF('III Tool Overview'!$H$6=\"Eilean Siar Local Authority\",0,new_yll(2,B94,C94,D94,$C$1,G94+H94,1,F94,E94*F94)))))))","v":0},0,{"$f":"IF('III Tool Overview'!$H$6=\"Orkney Health Board\",0,IF('III Tool Overview'!$H$6=\"Shetland Health Board\",0,IF('III Tool Overview'!$H$6=\"Western Isles Health Board\",0,IF('III Tool Overview'!$H$6=\"Orkney Islands Local Authority\",0,IF('III Tool Overview'!$H$6=\"Shetland Islands Local Authority\",0,IF('III Tool Overview'!$H$6=\"Eilean Siar Local Authority\",0,new_yll(5,B94,C94,D94,$C$1,G94,1,F94,E94*F94)))))))","v":0},{"$f":"IF('III Tool Overview'!$H$6=\"Orkney Health Board\",0,IF('III Tool Overview'!$H$6=\"Shetland Health Board\",0,IF('III Tool Overview'!$H$6=\"Western Isles Health Board\",0,IF('III Tool Overview'!$H$6=\"Orkney Islands Local Authority\",0,IF('III Tool Overview'!$H$6=\"Shetland Islands Local Authority\",0,IF('III Tool Overview'!$H$6=\"Eilean Siar Local Authority\",0,new_yll(5,B94,C94,D94,$C$1,G94+H94,1,F94,E94*F94)))))))","v":0},0,{"$f":"IF('III Tool Overview'!$H$6=\"Orkney Health Board\",0,IF('III Tool Overview'!$H$6=\"Shetland Health Board\",0,IF('III Tool Overview'!$H$6=\"Western Isles Health Board\",0,IF('III Tool Overview'!$H$6=\"Orkney Islands Local Authority\",0,IF('III Tool Overview'!$H$6=\"Shetland Islands Local Authority\",0,IF('III Tool Overview'!$H$6=\"Eilean Siar Local Authority\",0,new_yll(10,B94,C94,D94,$C$1,G94,1,F94,E94*F94)))))))","v":0},{"$f":"IF('III Tool Overview'!$H$6=\"Orkney Health Board\",0,IF('III Tool Overview'!$H$6=\"Shetland Health Board\",0,IF('III Tool Overview'!$H$6=\"Western Isles Health Board\",0,IF('III Tool Overview'!$H$6=\"Orkney Islands Local Authority\",0,IF('III Tool Overview'!$H$6=\"Shetland Islands Local Authority\",0,IF('III Tool Overview'!$H$6=\"Eilean Siar Local Authority\",0,new_yll(10,B94,C94,D94,$C$1,G94+H94,1,F94,E94*F94)))))))","v":0},0,{"$f":"IF('III Tool Overview'!$H$6=\"Orkney Health Board\",0,IF('III Tool Overview'!$H$6=\"Shetland Health Board\",0,IF('III Tool Overview'!$H$6=\"Western Isles Health Board\",0,IF('III Tool Overview'!$H$6=\"Orkney Islands Local Authority\",0,IF('III Tool Overview'!$H$6=\"Shetland Islands Local Authority\",0,IF('III Tool Overview'!$H$6=\"Eilean Siar Local Authority\",0,new_yll(20,B94,C94,D94,$C$1,G94,1,F94,E94*F94)))))))","v":0},{"$f":"IF('III Tool Overview'!$H$6=\"Orkney Health Board\",0,IF('III Tool Overview'!$H$6=\"Shetland Health Board\",0,IF('III Tool Overview'!$H$6=\"Western Isles Health Board\",0,IF('III Tool Overview'!$H$6=\"Orkney Islands Local Authority\",0,IF('III Tool Overview'!$H$6=\"Shetland Islands Local Authority\",0,IF('III Tool Overview'!$H$6=\"Eilean Siar Local Authority\",0,new_yll(20,B94,C94,D94,$C$1,G94+H94,1,F94,E94*F94)))))))","v":0},0,{"$f":"IF('III Tool Overview'!$H$6=\"Orkney Health Board\",0,IF('III Tool Overview'!$H$6=\"Shetland Health Board\",0,IF('III Tool Overview'!$H$6=\"Western Isles Health Board\",0,IF('III Tool Overview'!$H$6=\"Orkney Islands Local Authority\",0,IF('III Tool Overview'!$H$6=\"Shetland Islands Local Authority\",0,IF('III Tool Overview'!$H$6=\"Eilean Siar Local Authority\",0,hosp_count(2,B94,C94,D94,$C$1,G94,1,F94,E94*F94)))))))","v":0},{"$f":"IF('III Tool Overview'!$H$6=\"Orkney Health Board\",0,IF('III Tool Overview'!$H$6=\"Shetland Health Board\",0,IF('III Tool Overview'!$H$6=\"Western Isles Health Board\",0,IF('III Tool Overview'!$H$6=\"Orkney Islands Local Authority\",0,IF('III Tool Overview'!$H$6=\"Shetland Islands Local Authority\",0,IF('III Tool Overview'!$H$6=\"Eilean Siar Local Authority\",0,hosp_count(2,B94,C94,D94,$C$1,G94+H94,1,F94,E94*F94)))))))","v":0},0,{"$f":"IF('III Tool Overview'!$H$6=\"Orkney Health Board\",0,IF('III Tool Overview'!$H$6=\"Shetland Health Board\",0,IF('III Tool Overview'!$H$6=\"Western Isles Health Board\",0,IF('III Tool Overview'!$H$6=\"Orkney Islands Local Authority\",0,IF('III Tool Overview'!$H$6=\"Shetland Islands Local Authority\",0,IF('III Tool Overview'!$H$6=\"Eilean Siar Local Authority\",0,hosp_count(5,B94,C94,D94,$C$1,G94,1,F94,E94*F94)))))))","v":0},{"$f":"IF('III Tool Overview'!$H$6=\"Orkney Health Board\",0,IF('III Tool Overview'!$H$6=\"Shetland Health Board\",0,IF('III Tool Overview'!$H$6=\"Western Isles Health Board\",0,IF('III Tool Overview'!$H$6=\"Orkney Islands Local Authority\",0,IF('III Tool Overview'!$H$6=\"Shetland Islands Local Authority\",0,IF('III Tool Overview'!$H$6=\"Eilean Siar Local Authority\",0,hosp_count(5,B94,C94,D94,$C$1,G94+H94,1,F94,E94*F94)))))))","v":0},0,{"$f":"IF('III Tool Overview'!$H$6=\"Orkney Health Board\",0,IF('III Tool Overview'!$H$6=\"Shetland Health Board\",0,IF('III Tool Overview'!$H$6=\"Western Isles Health Board\",0,IF('III Tool Overview'!$H$6=\"Orkney Islands Local Authority\",0,IF('III Tool Overview'!$H$6=\"Shetland Islands Local Authority\",0,IF('III Tool Overview'!$H$6=\"Eilean Siar Local Authority\",0,hosp_count(10,B94,C94,D94,$C$1,G94,1,F94,E94*F94)))))))","v":0},{"$f":"IF('III Tool Overview'!$H$6=\"Orkney Health Board\",0,IF('III Tool Overview'!$H$6=\"Shetland Health Board\",0,IF('III Tool Overview'!$H$6=\"Western Isles Health Board\",0,IF('III Tool Overview'!$H$6=\"Orkney Islands Local Authority\",0,IF('III Tool Overview'!$H$6=\"Shetland Islands Local Authority\",0,IF('III Tool Overview'!$H$6=\"Eilean Siar Local Authority\",0,hosp_count(10,B94,C94,D94,$C$1,G94+H94,1,F94,E94*F94)))))))","v":0},0,{"$f":"IF('III Tool Overview'!$H$6=\"Orkney Health Board\",0,IF('III Tool Overview'!$H$6=\"Shetland Health Board\",0,IF('III Tool Overview'!$H$6=\"Western Isles Health Board\",0,IF('III Tool Overview'!$H$6=\"Orkney Islands Local Authority\",0,IF('III Tool Overview'!$H$6=\"Shetland Islands Local Authority\",0,IF('III Tool Overview'!$H$6=\"Eilean Siar Local Authority\",0,hosp_count(20,B94,C94,D94,$C$1,G94,1,F94,E94*F94)))))))","v":0},{"$f":"IF('III Tool Overview'!$H$6=\"Orkney Health Board\",0,IF('III Tool Overview'!$H$6=\"Shetland Health Board\",0,IF('III Tool Overview'!$H$6=\"Western Isles Health Board\",0,IF('III Tool Overview'!$H$6=\"Orkney Islands Local Authority\",0,IF('III Tool Overview'!$H$6=\"Shetland Islands Local Authority\",0,IF('III Tool Overview'!$H$6=\"Eilean Siar Local Authority\",0,hosp_count(20,B94,C94,D94,$C$1,G94+H94,1,F94,E94*F94)))))))","v":0},0]
["Female 35-39",37.5,"female",1,{"$f":"HLOOKUP('III Tool Overview'!$H$6,Prevalence!$B$2:$AV$268,Prevalence!AW90,FALSE)","v":0.37142857142857144},{"$f":"HLOOKUP('III Tool Overview'!$H$6,LookUpData_Pop!$B$1:$AV$269,LookUpData_Pop!BB95,FALSE)/5","v":0},{"$f":"'III Tool Overview'!$H$9/110","v":0},{"$f":"IF('III Tool Overview'!$H$10=\"Even distribution\",Targeting!C92,IF('III Tool Overview'!$H$10=\"Targeting to Q1\",Targeting!D92,IF('III Tool Overview'!$H$10=\"Targeting to Q1 & Q2\",Targeting!E92,IF('III Tool Overview'!$H$10=\"Proportionate to need\",Targeting!F92))))","v":3.2727272727272729},{"$f":"IF('III Tool Overview'!$H$6=\"Orkney Health Board\",0,IF('III Tool Overview'!$H$6=\"Shetland Health Board\",0,IF('III Tool Overview'!$H$6=\"Western Isles Health Board\",0,IF('III Tool Overview'!$H$6=\"Orkney Islands Local Authority\",0,IF('III Tool Overview'!$H$6=\"Shetland Islands Local Authority\",0,IF('III Tool Overview'!$H$6=\"Eilean Siar Local Authority\",0,new_ci(2,B95,C95,D95,$C$1,G95,1,F95,E95*F95)))))))","v":0},{"$f":"IF('III Tool Overview'!$H$6=\"Orkney Health Board\",0,IF('III Tool Overview'!$H$6=\"Shetland Health Board\",0,IF('III Tool Overview'!$H$6=\"Western Isles Health Board\",0,IF('III Tool Overview'!$H$6=\"Orkney Islands Local Authority\",0,IF('III Tool Overview'!$H$6=\"Shetland Islands Local Authority\",0,IF('III Tool Overview'!$H$6=\"Eilean Siar Local Authority\",0,new_ci(2,B95,C95,D95,$C$1,G95+H95,1,F95,E95*F95)))))))","v":0},{"$f":"IF('III Tool Overview'!$H$6=\"Orkney Health Board\",0,IF('III Tool Overview'!$H$6=\"Shetland Health Board\",0,IF('III Tool Overview'!$H$6=\"Western Isles Health Board\",0,IF('III Tool Overview'!$H$6=\"Orkney Islands Local Authority\",0,IF('III Tool Overview'!$H$6=\"Shetland Islands Local Authority\",0,IF('III Tool Overview'!$H$6=\"Eilean Siar Local Authority\",0,new_ci(5,B95,C95,D95,$C$1,G95,1,F95,E95*F95)))))))","v":0},{"$f":"IF('III Tool Overview'!$H$6=\"Orkney Health Board\",0,IF('III Tool Overview'!$H$6=\"Shetland Health Board\",0,IF('III Tool Overview'!$H$6=\"Western Isles Health Board\",0,IF('III Tool Overview'!$H$6=\"Orkney Islands Local Authority\",0,IF('III Tool Overview'!$H$6=\"Shetland Islands Local Authority\",0,IF('III Tool Overview'!$H$6=\"Eilean Siar Local Authority\",0,new_ci(5,B95,C95,D95,$C$1,G95+H95,1,F95,E95*F95)))))))","v":0},{"$f":"IF('III Tool Overview'!$H$6=\"Orkney Health Board\",0,IF('III Tool Overview'!$H$6=\"Shetland Health Board\",0,IF('III Tool Overview'!$H$6=\"Western Isles Health Board\",0,IF('III Tool Overview'!$H$6=\"Orkney Islands Local Authority\",0,IF('III Tool Overview'!$H$6=\"Shetland Islands Local Authority\",0,IF('III Tool Overview'!$H$6=\"Eilean Siar Local Authority\",0,new_ci(10,B95,C95,D95,$C$1,G95,1,F95,E95*F95)))))))","v":0},{"$f":"IF('III Tool Overview'!$H$6=\"Orkney Health Board\",0,IF('III Tool Overview'!$H$6=\"Shetland Health Board\",0,IF('III Tool Overview'!$H$6=\"Western Isles Health Board\",0,IF('III Tool Overview'!$H$6=\"Orkney Islands Local Authority\",0,IF('III Tool Overview'!$H$6=\"Shetland Islands Local Authority\",0,IF('III Tool Overview'!$H$6=\"Eilean Siar Local Authority\",0,new_ci(10,B95,C95,D95,$C$1,G95+H95,1,F95,E95*F95)))))))","v":0},{"$f":"IF('III Tool Overview'!$H$6=\"Orkney Health Board\",0,IF('III Tool Overview'!$H$6=\"Shetland Health Board\",0,IF('III Tool Overview'!$H$6=\"Western Isles Health Board\",0,IF('III Tool Overview'!$H$6=\"Orkney Islands Local Authority\",0,IF('III Tool Overview'!$H$6=\"Shetland Islands Local Authority\",0,IF('III Tool Overview'!$H$6=\"Eilean Siar Local Authority\",0,new_ci(20,B95,C95,D95,$C$1,G95,1,F95,E95*F95)))))))","v":0},{"$f":"IF('III Tool Overview'!$H$6=\"Orkney Health Board\",0,IF('III Tool Overview'!$H$6=\"Shetland Health Board\",0,IF('III Tool Overview'!$H$6=\"Western Isles Health Board\",0,IF('III Tool Overview'!$H$6=\"Orkney Islands Local Authority\",0,IF('III Tool Overview'!$H$6=\"Shetland Islands Local Authority\",0,IF('III Tool Overview'!$H$6=\"Eilean Siar Local Authority\",0,new_ci(20,B95,C95,D95,$C$1,G95+H95,1,F95,E95*F95)))))))","v":0},{"$f":"IF('III Tool Overview'!$H$6=\"Orkney Health Board\",0,IF('III Tool Overview'!$H$6=\"Shetland Health Board\",0,IF('III Tool Overview'!$H$6=\"Western Isles Health Board\",0,IF('III Tool Overview'!$H$6=\"Orkney Islands Local Authority\",0,IF('III Tool Overview'!$H$6=\"Shetland Islands Local Authority\",0,IF('III Tool Overview'!$H$6=\"Eilean Siar Local Authority\",0,new_yll(2,B95,C95,D95,$C$1,G95,1,F95,E95*F95)))))))","v":0},{"$f":"IF('III Tool Overview'!$H$6=\"Orkney Health Board\",0,IF('III Tool Overview'!$H$6=\"Shetland Health Board\",0,IF('III Tool Overview'!$H$6=\"Western Isles Health Board\",0,IF('III Tool Overview'!$H$6=\"Orkney Islands Local Authority\",0,IF('III Tool Overview'!$H$6=\"Shetland Islands Local Authority\",0,IF('III Tool Overview'!$H$6=\"Eilean Siar Local Authority\",0,new_yll(2,B95,C95,D95,$C$1,G95+H95,1,F95,E95*F95)))))))","v":0},0,{"$f":"IF('III Tool Overview'!$H$6=\"Orkney Health Board\",0,IF('III Tool Overview'!$H$6=\"Shetland Health Board\",0,IF('III Tool Overview'!$H$6=\"Western Isles Health Board\",0,IF('III Tool Overview'!$H$6=\"Orkney Islands Local Authority\",0,IF('III Tool Overview'!$H$6=\"Shetland Islands Local Authority\",0,IF('III Tool Overview'!$H$6=\"Eilean Siar Local Authority\",0,new_yll(5,B95,C95,D95,$C$1,G95,1,F95,E95*F95)))))))","v":0},{"$f":"IF('III Tool Overview'!$H$6=\"Orkney Health Board\",0,IF('III Tool Overview'!$H$6=\"Shetland Health Board\",0,IF('III Tool Overview'!$H$6=\"Western Isles Health Board\",0,IF('III Tool Overview'!$H$6=\"Orkney Islands Local Authority\",0,IF('III Tool Overview'!$H$6=\"Shetland Islands Local Authority\",0,IF('III Tool Overview'!$H$6=\"Eilean Siar Local Authority\",0,new_yll(5,B95,C95,D95,$C$1,G95+H95,1,F95,E95*F95)))))))","v":0},0,{"$f":"IF('III Tool Overview'!$H$6=\"Orkney Health Board\",0,IF('III Tool Overview'!$H$6=\"Shetland Health Board\",0,IF('III Tool Overview'!$H$6=\"Western Isles Health Board\",0,IF('III Tool Overview'!$H$6=\"Orkney Islands Local Authority\",0,IF('III Tool Overview'!$H$6=\"Shetland Islands Local Authority\",0,IF('III Tool Overview'!$H$6=\"Eilean Siar Local Authority\",0,new_yll(10,B95,C95,D95,$C$1,G95,1,F95,E95*F95)))))))","v":0},{"$f":"IF('III Tool Overview'!$H$6=\"Orkney Health Board\",0,IF('III Tool Overview'!$H$6=\"Shetland Health Board\",0,IF('III Tool Overview'!$H$6=\"Western Isles Health Board\",0,IF('III Tool Overview'!$H$6=\"Orkney Islands Local Authority\",0,IF('III Tool Overview'!$H$6=\"Shetland Islands Local Authority\",0,IF('III Tool Overview'!$H$6=\"Eilean Siar Local Authority\",0,new_yll(10,B95,C95,D95,$C$1,G95+H95,1,F95,E95*F95)))))))","v":0},0,{"$f":"IF('III Tool Overview'!$H$6=\"Orkney Health Board\",0,IF('III Tool Overview'!$H$6=\"Shetland Health Board\",0,IF('III Tool Overview'!$H$6=\"Western Isles Health Board\",0,IF('III Tool Overview'!$H$6=\"Orkney Islands Local Authority\",0,IF('III Tool Overview'!$H$6=\"Shetland Islands Local Authority\",0,IF('III Tool Overview'!$H$6=\"Eilean Siar Local Authority\",0,new_yll(20,B95,C95,D95,$C$1,G95,1,F95,E95*F95)))))))","v":0},{"$f":"IF('III Tool Overview'!$H$6=\"Orkney Health Board\",0,IF('III Tool Overview'!$H$6=\"Shetland Health Board\",0,IF('III Tool Overview'!$H$6=\"Western Isles Health Board\",0,IF('III Tool Overview'!$H$6=\"Orkney Islands Local Authority\",0,IF('III Tool Overview'!$H$6=\"Shetland Islands Local Authority\",0,IF('III Tool Overview'!$H$6=\"Eilean Siar Local Authority\",0,new_yll(20,B95,C95,D95,$C$1,G95+H95,1,F95,E95*F95)))))))","v":0},0,{"$f":"IF('III Tool Overview'!$H$6=\"Orkney Health Board\",0,IF('III Tool Overview'!$H$6=\"Shetland Health Board\",0,IF('III Tool Overview'!$H$6=\"Western Isles Health Board\",0,IF('III Tool Overview'!$H$6=\"Orkney Islands Local Authority\",0,IF('III Tool Overview'!$H$6=\"Shetland Islands Local Authority\",0,IF('III Tool Overview'!$H$6=\"Eilean Siar Local Authority\",0,hosp_count(2,B95,C95,D95,$C$1,G95,1,F95,E95*F95)))))))","v":0},{"$f":"IF('III Tool Overview'!$H$6=\"Orkney Health Board\",0,IF('III Tool Overview'!$H$6=\"Shetland Health Board\",0,IF('III Tool Overview'!$H$6=\"Western Isles Health Board\",0,IF('III Tool Overview'!$H$6=\"Orkney Islands Local Authority\",0,IF('III Tool Overview'!$H$6=\"Shetland Islands Local Authority\",0,IF('III Tool Overview'!$H$6=\"Eilean Siar Local Authority\",0,hosp_count(2,B95,C95,D95,$C$1,G95+H95,1,F95,E95*F95)))))))","v":0},0,{"$f":"IF('III Tool Overview'!$H$6=\"Orkney Health Board\",0,IF('III Tool Overview'!$H$6=\"Shetland Health Board\",0,IF('III Tool Overview'!$H$6=\"Western Isles Health Board\",0,IF('III Tool Overview'!$H$6=\"Orkney Islands Local Authority\",0,IF('III Tool Overview'!$H$6=\"Shetland Islands Local Authority\",0,IF('III Tool Overview'!$H$6=\"Eilean Siar Local Authority\",0,hosp_count(5,B95,C95,D95,$C$1,G95,1,F95,E95*F95)))))))","v":0},{"$f":"IF('III Tool Overview'!$H$6=\"Orkney Health Board\",0,IF('III Tool Overview'!$H$6=\"Shetland Health Board\",0,IF('III Tool Overview'!$H$6=\"Western Isles Health Board\",0,IF('III Tool Overview'!$H$6=\"Orkney Islands Local Authority\",0,IF('III Tool Overview'!$H$6=\"Shetland Islands Local Authority\",0,IF('III Tool Overview'!$H$6=\"Eilean Siar Local Authority\",0,hosp_count(5,B95,C95,D95,$C$1,G95+H95,1,F95,E95*F95)))))))","v":0},0,{"$f":"IF('III Tool Overview'!$H$6=\"Orkney Health Board\",0,IF('III Tool Overview'!$H$6=\"Shetland Health Board\",0,IF('III Tool Overview'!$H$6=\"Western Isles Health Board\",0,IF('III Tool Overview'!$H$6=\"Orkney Islands Local Authority\",0,IF('III Tool Overview'!$H$6=\"Shetland Islands Local Authority\",0,IF('III Tool Overview'!$H$6=\"Eilean Siar Local Authority\",0,hosp_count(10,B95,C95,D95,$C$1,G95,1,F95,E95*F95)))))))","v":0},{"$f":"IF('III Tool Overview'!$H$6=\"Orkney Health Board\",0,IF('III Tool Overview'!$H$6=\"Shetland Health Board\",0,IF('III Tool Overview'!$H$6=\"Western Isles Health Board\",0,IF('III Tool Overview'!$H$6=\"Orkney Islands Local Authority\",0,IF('III Tool Overview'!$H$6=\"Shetland Islands Local Authority\",0,IF('III Tool Overview'!$H$6=\"Eilean Siar Local Authority\",0,hosp_count(10,B95,C95,D95,$C$1,G95+H95,1,F95,E95*F95)))))))","v":0},0,{"$f":"IF('III Tool Overview'!$H$6=\"Orkney Health Board\",0,IF('III Tool Overview'!$H$6=\"Shetland Health Board\",0,IF('III Tool Overview'!$H$6=\"Western Isles Health Board\",0,IF('III Tool Overview'!$H$6=\"Orkney Islands Local Authority\",0,IF('III Tool Overview'!$H$6=\"Shetland Islands Local Authority\",0,IF('III Tool Overview'!$H$6=\"Eilean Siar Local Authority\",0,hosp_count(20,B95,C95,D95,$C$1,G95,1,F95,E95*F95)))))))","v":0},{"$f":"IF('III Tool Overview'!$H$6=\"Orkney Health Board\",0,IF('III Tool Overview'!$H$6=\"Shetland Health Board\",0,IF('III Tool Overview'!$H$6=\"Western Isles Health Board\",0,IF('III Tool Overview'!$H$6=\"Orkney Islands Local Authority\",0,IF('III Tool Overview'!$H$6=\"Shetland Islands Local Authority\",0,IF('III Tool Overview'!$H$6=\"Eilean Siar Local Authority\",0,hosp_count(20,B95,C95,D95,$C$1,G95+H95,1,F95,E95*F95)))))))","v":0},0]
["Female 40-44",42.5,"female",1,{"$f":"HLOOKUP('III Tool Overview'!$H$6,Prevalence!$B$2:$AV$268,Prevalence!AW91,FALSE)","v":0.35238095238095241},{"$f":"HLOOKUP('III Tool Overview'!$H$6,LookUpData_Pop!$B$1:$AV$269,LookUpData_Pop!BB96,FALSE)/5","v":0},{"$f":"'III Tool Overview'!$H$9/110","v":0},{"$f":"IF('III Tool Overview'!$H$10=\"Even distribution\",Targeting!C93,IF('III Tool Overview'!$H$10=\"Targeting to Q1\",Targeting!D93,IF('III Tool Overview'!$H$10=\"Targeting to Q1 & Q2\",Targeting!E93,IF('III Tool Overview'!$H$10=\"Proportionate to need\",Targeting!F93))))","v":3.2727272727272729},{"$f":"IF('III Tool Overview'!$H$6=\"Orkney Health Board\",0,IF('III Tool Overview'!$H$6=\"Shetland Health Board\",0,IF('III Tool Overview'!$H$6=\"Western Isles Health Board\",0,IF('III Tool Overview'!$H$6=\"Orkney Islands Local Authority\",0,IF('III Tool Overview'!$H$6=\"Shetland Islands Local Authority\",0,IF('III Tool Overview'!$H$6=\"Eilean Siar Local Authority\",0,new_ci(2,B96,C96,D96,$C$1,G96,1,F96,E96*F96)))))))","v":0},{"$f":"IF('III Tool Overview'!$H$6=\"Orkney Health Board\",0,IF('III Tool Overview'!$H$6=\"Shetland Health Board\",0,IF('III Tool Overview'!$H$6=\"Western Isles Health Board\",0,IF('III Tool Overview'!$H$6=\"Orkney Islands Local Authority\",0,IF('III Tool Overview'!$H$6=\"Shetland Islands Local Authority\",0,IF('III Tool Overview'!$H$6=\"Eilean Siar Local Authority\",0,new_ci(2,B96,C96,D96,$C$1,G96+H96,1,F96,E96*F96)))))))","v":0},{"$f":"IF('III Tool Overview'!$H$6=\"Orkney Health Board\",0,IF('III Tool Overview'!$H$6=\"Shetland Health Board\",0,IF('III Tool Overview'!$H$6=\"Western Isles Health Board\",0,IF('III Tool Overview'!$H$6=\"Orkney Islands Local Authority\",0,IF('III Tool Overview'!$H$6=\"Shetland Islands Local Authority\",0,IF('III Tool Overview'!$H$6=\"Eilean Siar Local Authority\",0,new_ci(5,B96,C96,D96,$C$1,G96,1,F96,E96*F96)))))))","v":0},{"$f":"IF('III Tool Overview'!$H$6=\"Orkney Health Board\",0,IF('III Tool Overview'!$H$6=\"Shetland Health Board\",0,IF('III Tool Overview'!$H$6=\"Western Isles Health Board\",0,IF('III Tool Overview'!$H$6=\"Orkney Islands Local Authority\",0,IF('III Tool Overview'!$H$6=\"Shetland Islands Local Authority\",0,IF('III Tool Overview'!$H$6=\"Eilean Siar Local Authority\",0,new_ci(5,B96,C96,D96,$C$1,G96+H96,1,F96,E96*F96)))))))","v":0},{"$f":"IF('III Tool Overview'!$H$6=\"Orkney Health Board\",0,IF('III Tool Overview'!$H$6=\"Shetland Health Board\",0,IF('III Tool Overview'!$H$6=\"Western Isles Health Board\",0,IF('III Tool Overview'!$H$6=\"Orkney Islands Local Authority\",0,IF('III Tool Overview'!$H$6=\"Shetland Islands Local Authority\",0,IF('III Tool Overview'!$H$6=\"Eilean Siar Local Authority\",0,new_ci(10,B96,C96,D96,$C$1,G96,1,F96,E96*F96)))))))","v":0},{"$f":"IF('III Tool Overview'!$H$6=\"Orkney Health Board\",0,IF('III Tool Overview'!$H$6=\"Shetland Health Board\",0,IF('III Tool Overview'!$H$6=\"Western Isles Health Board\",0,IF('III Tool Overview'!$H$6=\"Orkney Islands Local Authority\",0,IF('III Tool Overview'!$H$6=\"Shetland Islands Local Authority\",0,IF('III Tool Overview'!$H$6=\"Eilean Siar Local Authority\",0,new_ci(10,B96,C96,D96,$C$1,G96+H96,1,F96,E96*F96)))))))","v":0},{"$f":"IF('III Tool Overview'!$H$6=\"Orkney Health Board\",0,IF('III Tool Overview'!$H$6=\"Shetland Health Board\",0,IF('III Tool Overview'!$H$6=\"Western Isles Health Board\",0,IF('III Tool Overview'!$H$6=\"Orkney Islands Local Authority\",0,IF('III Tool Overview'!$H$6=\"Shetland Islands Local Authority\",0,IF('III Tool Overview'!$H$6=\"Eilean Siar Local Authority\",0,new_ci(20,B96,C96,D96,$C$1,G96,1,F96,E96*F96)))))))","v":0},{"$f":"IF('III Tool Overview'!$H$6=\"Orkney Health Board\",0,IF('III Tool Overview'!$H$6=\"Shetland Health Board\",0,IF('III Tool Overview'!$H$6=\"Western Isles Health Board\",0,IF('III Tool Overview'!$H$6=\"Orkney Islands Local Authority\",0,IF('III Tool Overview'!$H$6=\"Shetland Islands Local Authority\",0,IF('III Tool Overview'!$H$6=\"Eilean Siar Local Authority\",0,new_ci(20,B96,C96,D96,$C$1,G96+H96,1,F96,E96*F96)))))))","v":0},{"$f":"IF('III Tool Overview'!$H$6=\"Orkney Health Board\",0,IF('III Tool Overview'!$H$6=\"Shetland Health Board\",0,IF('III Tool Overview'!$H$6=\"Western Isles Health Board\",0,IF('III Tool Overview'!$H$6=\"Orkney Islands Local Authority\",0,IF('III Tool Overview'!$H$6=\"Shetland Islands Local Authority\",0,IF('III Tool Overview'!$H$6=\"Eilean Siar Local Authority\",0,new_yll(2,B96,C96,D96,$C$1,G96,1,F96,E96*F96)))))))","v":0},{"$f":"IF('III Tool Overview'!$H$6=\"Orkney Health Board\",0,IF('III Tool Overview'!$H$6=\"Shetland Health Board\",0,IF('III Tool Overview'!$H$6=\"Western Isles Health Board\",0,IF('III Tool Overview'!$H$6=\"Orkney Islands Local Authority\",0,IF('III Tool Overview'!$H$6=\"Shetland Islands Local Authority\",0,IF('III Tool Overview'!$H$6=\"Eilean Siar Local Authority\",0,new_yll(2,B96,C96,D96,$C$1,G96+H96,1,F96,E96*F96)))))))","v":0},0,{"$f":"IF('III Tool Overview'!$H$6=\"Orkney Health Board\",0,IF('III Tool Overview'!$H$6=\"Shetland Health Board\",0,IF('III Tool Overview'!$H$6=\"Western Isles Health Board\",0,IF('III Tool Overview'!$H$6=\"Orkney Islands Local Authority\",0,IF('III Tool Overview'!$H$6=\"Shetland Islands Local Authority\",0,IF('III Tool Overview'!$H$6=\"Eilean Siar Local Authority\",0,new_yll(5,B96,C96,D96,$C$1,G96,1,F96,E96*F96)))))))","v":0},{"$f":"IF('III Tool Overview'!$H$6=\"Orkney Health Board\",0,IF('III Tool Overview'!$H$6=\"Shetland Health Board\",0,IF('III Tool Overview'!$H$6=\"Western Isles Health Board\",0,IF('III Tool Overview'!$H$6=\"Orkney Islands Local Authority\",0,IF('III Tool Overview'!$H$6=\"Shetland Islands Local Authority\",0,IF('III Tool Overview'!$H$6=\"Eilean Siar Local Authority\",0,new_yll(5,B96,C96,D96,$C$1,G96+H96,1,F96,E96*F96)))))))","v":0},0,{"$f":"IF('III Tool Overview'!$H$6=\"Orkney Health Board\",0,IF('III Tool Overview'!$H$6=\"Shetland Health Board\",0,IF('III Tool Overview'!$H$6=\"Western Isles Health Board\",0,IF('III Tool Overview'!$H$6=\"Orkney Islands Local Authority\",0,IF('III Tool Overview'!$H$6=\"Shetland Islands Local Authority\",0,IF('III Tool Overview'!$H$6=\"Eilean Siar Local Authority\",0,new_yll(10,B96,C96,D96,$C$1,G96,1,F96,E96*F96)))))))","v":0},{"$f":"IF('III Tool Overview'!$H$6=\"Orkney Health Board\",0,IF('III Tool Overview'!$H$6=\"Shetland Health Board\",0,IF('III Tool Overview'!$H$6=\"Western Isles Health Board\",0,IF('III Tool Overview'!$H$6=\"Orkney Islands Local Authority\",0,IF('III Tool Overview'!$H$6=\"Shetland Islands Local Authority\",0,IF('III Tool Overview'!$H$6=\"Eilean Siar Local Authority\",0,new_yll(10,B96,C96,D96,$C$1,G96+H96,1,F96,E96*F96)))))))","v":0},0,{"$f":"IF('III Tool Overview'!$H$6=\"Orkney Health Board\",0,IF('III Tool Overview'!$H$6=\"Shetland Health Board\",0,IF('III Tool Overview'!$H$6=\"Western Isles Health Board\",0,IF('III Tool Overview'!$H$6=\"Orkney Islands Local Authority\",0,IF('III Tool Overview'!$H$6=\"Shetland Islands Local Authority\",0,IF('III Tool Overview'!$H$6=\"Eilean Siar Local Authority\",0,new_yll(20,B96,C96,D96,$C$1,G96,1,F96,E96*F96)))))))","v":0},{"$f":"IF('III Tool Overview'!$H$6=\"Orkney Health Board\",0,IF('III Tool Overview'!$H$6=\"Shetland Health Board\",0,IF('III Tool Overview'!$H$6=\"Western Isles Health Board\",0,IF('III Tool Overview'!$H$6=\"Orkney Islands Local Authority\",0,IF('III Tool Overview'!$H$6=\"Shetland Islands Local Authority\",0,IF('III Tool Overview'!$H$6=\"Eilean Siar Local Authority\",0,new_yll(20,B96,C96,D96,$C$1,G96+H96,1,F96,E96*F96)))))))","v":0},0,{"$f":"IF('III Tool Overview'!$H$6=\"Orkney Health Board\",0,IF('III Tool Overview'!$H$6=\"Shetland Health Board\",0,IF('III Tool Overview'!$H$6=\"Western Isles Health Board\",0,IF('III Tool Overview'!$H$6=\"Orkney Islands Local Authority\",0,IF('III Tool Overview'!$H$6=\"Shetland Islands Local Authority\",0,IF('III Tool Overview'!$H$6=\"Eilean Siar Local Authority\",0,hosp_count(2,B96,C96,D96,$C$1,G96,1,F96,E96*F96)))))))","v":0},{"$f":"IF('III Tool Overview'!$H$6=\"Orkney Health Board\",0,IF('III Tool Overview'!$H$6=\"Shetland Health Board\",0,IF('III Tool Overview'!$H$6=\"Western Isles Health Board\",0,IF('III Tool Overview'!$H$6=\"Orkney Islands Local Authority\",0,IF('III Tool Overview'!$H$6=\"Shetland Islands Local Authority\",0,IF('III Tool Overview'!$H$6=\"Eilean Siar Local Authority\",0,hosp_count(2,B96,C96,D96,$C$1,G96+H96,1,F96,E96*F96)))))))","v":0},0,{"$f":"IF('III Tool Overview'!$H$6=\"Orkney Health Board\",0,IF('III Tool Overview'!$H$6=\"Shetland Health Board\",0,IF('III Tool Overview'!$H$6=\"Western Isles Health Board\",0,IF('III Tool Overview'!$H$6=\"Orkney Islands Local Authority\",0,IF('III Tool Overview'!$H$6=\"Shetland Islands Local Authority\",0,IF('III Tool Overview'!$H$6=\"Eilean Siar Local Authority\",0,hosp_count(5,B96,C96,D96,$C$1,G96,1,F96,E96*F96)))))))","v":0},{"$f":"IF('III Tool Overview'!$H$6=\"Orkney Health Board\",0,IF('III Tool Overview'!$H$6=\"Shetland Health Board\",0,IF('III Tool Overview'!$H$6=\"Western Isles Health Board\",0,IF('III Tool Overview'!$H$6=\"Orkney Islands Local Authority\",0,IF('III Tool Overview'!$H$6=\"Shetland Islands Local Authority\",0,IF('III Tool Overview'!$H$6=\"Eilean Siar Local Authority\",0,hosp_count(5,B96,C96,D96,$C$1,G96+H96,1,F96,E96*F96)))))))","v":0},0,{"$f":"IF('III Tool Overview'!$H$6=\"Orkney Health Board\",0,IF('III Tool Overview'!$H$6=\"Shetland Health Board\",0,IF('III Tool Overview'!$H$6=\"Western Isles Health Board\",0,IF('III Tool Overview'!$H$6=\"Orkney Islands Local Authority\",0,IF('III Tool Overview'!$H$6=\"Shetland Islands Local Authority\",0,IF('III Tool Overview'!$H$6=\"Eilean Siar Local Authority\",0,hosp_count(10,B96,C96,D96,$C$1,G96,1,F96,E96*F96)))))))","v":0},{"$f":"IF('III Tool Overview'!$H$6=\"Orkney Health Board\",0,IF('III Tool Overview'!$H$6=\"Shetland Health Board\",0,IF('III Tool Overview'!$H$6=\"Western Isles Health Board\",0,IF('III Tool Overview'!$H$6=\"Orkney Islands Local Authority\",0,IF('III Tool Overview'!$H$6=\"Shetland Islands Local Authority\",0,IF('III Tool Overview'!$H$6=\"Eilean Siar Local Authority\",0,hosp_count(10,B96,C96,D96,$C$1,G96+H96,1,F96,E96*F96)))))))","v":0},0,{"$f":"IF('III Tool Overview'!$H$6=\"Orkney Health Board\",0,IF('III Tool Overview'!$H$6=\"Shetland Health Board\",0,IF('III Tool Overview'!$H$6=\"Western Isles Health Board\",0,IF('III Tool Overview'!$H$6=\"Orkney Islands Local Authority\",0,IF('III Tool Overview'!$H$6=\"Shetland Islands Local Authority\",0,IF('III Tool Overview'!$H$6=\"Eilean Siar Local Authority\",0,hosp_count(20,B96,C96,D96,$C$1,G96,1,F96,E96*F96)))))))","v":0},{"$f":"IF('III Tool Overview'!$H$6=\"Orkney Health Board\",0,IF('III Tool Overview'!$H$6=\"Shetland Health Board\",0,IF('III Tool Overview'!$H$6=\"Western Isles Health Board\",0,IF('III Tool Overview'!$H$6=\"Orkney Islands Local Authority\",0,IF('III Tool Overview'!$H$6=\"Shetland Islands Local Authority\",0,IF('III Tool Overview'!$H$6=\"Eilean Siar Local Authority\",0,hosp_count(20,B96,C96,D96,$C$1,G96+H96,1,F96,E96*F96)))))))","v":0},0]
["Female 45-49",47.5,"female",1,{"$f":"HLOOKUP('III Tool Overview'!$H$6,Prevalence!$B$2:$AV$268,Prevalence!AW92,FALSE)","v":0.419047619047619},{"$f":"HLOOKUP('III Tool Overview'!$H$6,LookUpData_Pop!$B$1:$AV$269,LookUpData_Pop!BB97,FALSE)/5","v":0},{"$f":"'III Tool Overview'!$H$9/110","v":0},{"$f":"IF('III Tool Overview'!$H$10=\"Even distribution\",Targeting!C94,IF('III Tool Overview'!$H$10=\"Targeting to Q1\",Targeting!D94,IF('III Tool Overview'!$H$10=\"Targeting to Q1 & Q2\",Targeting!E94,IF('III Tool Overview'!$H$10=\"Proportionate to need\",Targeting!F94))))","v":3.2727272727272729},{"$f":"IF('III Tool Overview'!$H$6=\"Orkney Health Board\",0,IF('III Tool Overview'!$H$6=\"Shetland Health Board\",0,IF('III Tool Overview'!$H$6=\"Western Isles Health Board\",0,IF('III Tool Overview'!$H$6=\"Orkney Islands Local Authority\",0,IF('III Tool Overview'!$H$6=\"Shetland Islands Local Authority\",0,IF('III Tool Overview'!$H$6=\"Eilean Siar Local Authority\",0,new_ci(2,B97,C97,D97,$C$1,G97,1,F97,E97*F97)))))))","v":0},{"$f":"IF('III Tool Overview'!$H$6=\"Orkney Health Board\",0,IF('III Tool Overview'!$H$6=\"Shetland Health Board\",0,IF('III Tool Overview'!$H$6=\"Western Isles Health Board\",0,IF('III Tool Overview'!$H$6=\"Orkney Islands Local Authority\",0,IF('III Tool Overview'!$H$6=\"Shetland Islands Local Authority\",0,IF('III Tool Overview'!$H$6=\"Eilean Siar Local Authority\",0,new_ci(2,B97,C97,D97,$C$1,G97+H97,1,F97,E97*F97)))))))","v":0},{"$f":"IF('III Tool Overview'!$H$6=\"Orkney Health Board\",0,IF('III Tool Overview'!$H$6=\"Shetland Health Board\",0,IF('III Tool Overview'!$H$6=\"Western Isles Health Board\",0,IF('III Tool Overview'!$H$6=\"Orkney Islands Local Authority\",0,IF('III Tool Overview'!$H$6=\"Shetland Islands Local Authority\",0,IF('III Tool Overview'!$H$6=\"Eilean Siar Local Authority\",0,new_ci(5,B97,C97,D97,$C$1,G97,1,F97,E97*F97)))))))","v":0},{"$f":"IF('III Tool Overview'!$H$6=\"Orkney Health Board\",0,IF('III Tool Overview'!$H$6=\"Shetland Health Board\",0,IF('III Tool Overview'!$H$6=\"Western Isles Health Board\",0,IF('III Tool Overview'!$H$6=\"Orkney Islands Local Authority\",0,IF('III Tool Overview'!$H$6=\"Shetland Islands Local Authority\",0,IF('III Tool Overview'!$H$6=\"Eilean Siar Local Authority\",0,new_ci(5,B97,C97,D97,$C$1,G97+H97,1,F97,E97*F97)))))))","v":0},{"$f":"IF('III Tool Overview'!$H$6=\"Orkney Health Board\",0,IF('III Tool Overview'!$H$6=\"Shetland Health Board\",0,IF('III Tool Overview'!$H$6=\"Western Isles Health Board\",0,IF('III Tool Overview'!$H$6=\"Orkney Islands Local Authority\",0,IF('III Tool Overview'!$H$6=\"Shetland Islands Local Authority\",0,IF('III Tool Overview'!$H$6=\"Eilean Siar Local Authority\",0,new_ci(10,B97,C97,D97,$C$1,G97,1,F97,E97*F97)))))))","v":0},{"$f":"IF('III Tool Overview'!$H$6=\"Orkney Health Board\",0,IF('III Tool Overview'!$H$6=\"Shetland Health Board\",0,IF('III Tool Overview'!$H$6=\"Western Isles Health Board\",0,IF('III Tool Overview'!$H$6=\"Orkney Islands Local Authority\",0,IF('III Tool Overview'!$H$6=\"Shetland Islands Local Authority\",0,IF('III Tool Overview'!$H$6=\"Eilean Siar Local Authority\",0,new_ci(10,B97,C97,D97,$C$1,G97+H97,1,F97,E97*F97)))))))","v":0},{"$f":"IF('III Tool Overview'!$H$6=\"Orkney Health Board\",0,IF('III Tool Overview'!$H$6=\"Shetland Health Board\",0,IF('III Tool Overview'!$H$6=\"Western Isles Health Board\",0,IF('III Tool Overview'!$H$6=\"Orkney Islands Local Authority\",0,IF('III Tool Overview'!$H$6=\"Shetland Islands Local Authority\",0,IF('III Tool Overview'!$H$6=\"Eilean Siar Local Authority\",0,new_ci(20,B97,C97,D97,$C$1,G97,1,F97,E97*F97)))))))","v":0},{"$f":"IF('III Tool Overview'!$H$6=\"Orkney Health Board\",0,IF('III Tool Overview'!$H$6=\"Shetland Health Board\",0,IF('III Tool Overview'!$H$6=\"Western Isles Health Board\",0,IF('III Tool Overview'!$H$6=\"Orkney Islands Local Authority\",0,IF('III Tool Overview'!$H$6=\"Shetland Islands Local Authority\",0,IF('III Tool Overview'!$H$6=\"Eilean Siar Local Authority\",0,new_ci(20,B97,C97,D97,$C$1,G97+H97,1,F97,E97*F97)))))))","v":0},{"$f":"IF('III Tool Overview'!$H$6=\"Orkney Health Board\",0,IF('III Tool Overview'!$H$6=\"Shetland Health Board\",0,IF('III Tool Overview'!$H$6=\"Western Isles Health Board\",0,IF('III Tool Overview'!$H$6=\"Orkney Islands Local Authority\",0,IF('III Tool Overview'!$H$6=\"Shetland Islands Local Authority\",0,IF('III Tool Overview'!$H$6=\"Eilean Siar Local Authority\",0,new_yll(2,B97,C97,D97,$C$1,G97,1,F97,E97*F97)))))))","v":0},{"$f":"IF('III Tool Overview'!$H$6=\"Orkney Health Board\",0,IF('III Tool Overview'!$H$6=\"Shetland Health Board\",0,IF('III Tool Overview'!$H$6=\"Western Isles Health Board\",0,IF('III Tool Overview'!$H$6=\"Orkney Islands Local Authority\",0,IF('III Tool Overview'!$H$6=\"Shetland Islands Local Authority\",0,IF('III Tool Overview'!$H$6=\"Eilean Siar Local Authority\",0,new_yll(2,B97,C97,D97,$C$1,G97+H97,1,F97,E97*F97)))))))","v":0},0,{"$f":"IF('III Tool Overview'!$H$6=\"Orkney Health Board\",0,IF('III Tool Overview'!$H$6=\"Shetland Health Board\",0,IF('III Tool Overview'!$H$6=\"Western Isles Health Board\",0,IF('III Tool Overview'!$H$6=\"Orkney Islands Local Authority\",0,IF('III Tool Overview'!$H$6=\"Shetland Islands Local Authority\",0,IF('III Tool Overview'!$H$6=\"Eilean Siar Local Authority\",0,new_yll(5,B97,C97,D97,$C$1,G97,1,F97,E97*F97)))))))","v":0},{"$f":"IF('III Tool Overview'!$H$6=\"Orkney Health Board\",0,IF('III Tool Overview'!$H$6=\"Shetland Health Board\",0,IF('III Tool Overview'!$H$6=\"Western Isles Health Board\",0,IF('III Tool Overview'!$H$6=\"Orkney Islands Local Authority\",0,IF('III Tool Overview'!$H$6=\"Shetland Islands Local Authority\",0,IF('III Tool Overview'!$H$6=\"Eilean Siar Local Authority\",0,new_yll(5,B97,C97,D97,$C$1,G97+H97,1,F97,E97*F97)))))))","v":0},0,{"$f":"IF('III Tool Overview'!$H$6=\"Orkney Health Board\",0,IF('III Tool Overview'!$H$6=\"Shetland Health Board\",0,IF('III Tool Overview'!$H$6=\"Western Isles Health Board\",0,IF('III Tool Overview'!$H$6=\"Orkney Islands Local Authority\",0,IF('III Tool Overview'!$H$6=\"Shetland Islands Local Authority\",0,IF('III Tool Overview'!$H$6=\"Eilean Siar Local Authority\",0,new_yll(10,B97,C97,D97,$C$1,G97,1,F97,E97*F97)))))))","v":0},{"$f":"IF('III Tool Overview'!$H$6=\"Orkney Health Board\",0,IF('III Tool Overview'!$H$6=\"Shetland Health Board\",0,IF('III Tool Overview'!$H$6=\"Western Isles Health Board\",0,IF('III Tool Overview'!$H$6=\"Orkney Islands Local Authority\",0,IF('III Tool Overview'!$H$6=\"Shetland Islands Local Authority\",0,IF('III Tool Overview'!$H$6=\"Eilean Siar Local Authority\",0,new_yll(10,B97,C97,D97,$C$1,G97+H97,1,F97,E97*F97)))))))","v":0},0,{"$f":"IF('III Tool Overview'!$H$6=\"Orkney Health Board\",0,IF('III Tool Overview'!$H$6=\"Shetland Health Board\",0,IF('III Tool Overview'!$H$6=\"Western Isles Health Board\",0,IF('III Tool Overview'!$H$6=\"Orkney Islands Local Authority\",0,IF('III Tool Overview'!$H$6=\"Shetland Islands Local Authority\",0,IF('III Tool Overview'!$H$6=\"Eilean Siar Local Authority\",0,new_yll(20,B97,C97,D97,$C$1,G97,1,F97,E97*F97)))))))","v":0},{"$f":"IF('III Tool Overview'!$H$6=\"Orkney Health Board\",0,IF('III Tool Overview'!$H$6=\"Shetland Health Board\",0,IF('III Tool Overview'!$H$6=\"Western Isles Health Board\",0,IF('III Tool Overview'!$H$6=\"Orkney Islands Local Authority\",0,IF('III Tool Overview'!$H$6=\"Shetland Islands Local Authority\",0,IF('III Tool Overview'!$H$6=\"Eilean Siar Local Authority\",0,new_yll(20,B97,C97,D97,$C$1,G97+H97,1,F97,E97*F97)))))))","v":0},0,{"$f":"IF('III Tool Overview'!$H$6=\"Orkney Health Board\",0,IF('III Tool Overview'!$H$6=\"Shetland Health Board\",0,IF('III Tool Overview'!$H$6=\"Western Isles Health Board\",0,IF('III Tool Overview'!$H$6=\"Orkney Islands Local Authority\",0,IF('III Tool Overview'!$H$6=\"Shetland Islands Local Authority\",0,IF('III Tool Overview'!$H$6=\"Eilean Siar Local Authority\",0,hosp_count(2,B97,C97,D97,$C$1,G97,1,F97,E97*F97)))))))","v":0},{"$f":"IF('III Tool Overview'!$H$6=\"Orkney Health Board\",0,IF('III Tool Overview'!$H$6=\"Shetland Health Board\",0,IF('III Tool Overview'!$H$6=\"Western Isles Health Board\",0,IF('III Tool Overview'!$H$6=\"Orkney Islands Local Authority\",0,IF('III Tool Overview'!$H$6=\"Shetland Islands Local Authority\",0,IF('III Tool Overview'!$H$6=\"Eilean Siar Local Authority\",0,hosp_count(2,B97,C97,D97,$C$1,G97+H97,1,F97,E97*F97)))))))","v":0},0,{"$f":"IF('III Tool Overview'!$H$6=\"Orkney Health Board\",0,IF('III Tool Overview'!$H$6=\"Shetland Health Board\",0,IF('III Tool Overview'!$H$6=\"Western Isles Health Board\",0,IF('III Tool Overview'!$H$6=\"Orkney Islands Local Authority\",0,IF('III Tool Overview'!$H$6=\"Shetland Islands Local Authority\",0,IF('III Tool Overview'!$H$6=\"Eilean Siar Local Authority\",0,hosp_count(5,B97,C97,D97,$C$1,G97,1,F97,E97*F97)))))))","v":0},{"$f":"IF('III Tool Overview'!$H$6=\"Orkney Health Board\",0,IF('III Tool Overview'!$H$6=\"Shetland Health Board\",0,IF('III Tool Overview'!$H$6=\"Western Isles Health Board\",0,IF('III Tool Overview'!$H$6=\"Orkney Islands Local Authority\",0,IF('III Tool Overview'!$H$6=\"Shetland Islands Local Authority\",0,IF('III Tool Overview'!$H$6=\"Eilean Siar Local Authority\",0,hosp_count(5,B97,C97,D97,$C$1,G97+H97,1,F97,E97*F97)))))))","v":0},0,{"$f":"IF('III Tool Overview'!$H$6=\"Orkney Health Board\",0,IF('III Tool Overview'!$H$6=\"Shetland Health Board\",0,IF('III Tool Overview'!$H$6=\"Western Isles Health Board\",0,IF('III Tool Overview'!$H$6=\"Orkney Islands Local Authority\",0,IF('III Tool Overview'!$H$6=\"Shetland Islands Local Authority\",0,IF('III Tool Overview'!$H$6=\"Eilean Siar Local Authority\",0,hosp_count(10,B97,C97,D97,$C$1,G97,1,F97,E97*F97)))))))","v":0},{"$f":"IF('III Tool Overview'!$H$6=\"Orkney Health Board\",0,IF('III Tool Overview'!$H$6=\"Shetland Health Board\",0,IF('III Tool Overview'!$H$6=\"Western Isles Health Board\",0,IF('III Tool Overview'!$H$6=\"Orkney Islands Local Authority\",0,IF('III Tool Overview'!$H$6=\"Shetland Islands Local Authority\",0,IF('III Tool Overview'!$H$6=\"Eilean Siar Local Authority\",0,hosp_count(10,B97,C97,D97,$C$1,G97+H97,1,F97,E97*F97)))))))","v":0},0,{"$f":"IF('III Tool Overview'!$H$6=\"Orkney Health Board\",0,IF('III Tool Overview'!$H$6=\"Shetland Health Board\",0,IF('III Tool Overview'!$H$6=\"Western Isles Health Board\",0,IF('III Tool Overview'!$H$6=\"Orkney Islands Local Authority\",0,IF('III Tool Overview'!$H$6=\"Shetland Islands Local Authority\",0,IF('III Tool Overview'!$H$6=\"Eilean Siar Local Authority\",0,hosp_count(20,B97,C97,D97,$C$1,G97,1,F97,E97*F97)))))))","v":0},{"$f":"IF('III Tool Overview'!$H$6=\"Orkney Health Board\",0,IF('III Tool Overview'!$H$6=\"Shetland Health Board\",0,IF('III Tool Overview'!$H$6=\"Western Isles Health Board\",0,IF('III Tool Overview'!$H$6=\"Orkney Islands Local Authority\",0,IF('III Tool Overview'!$H$6=\"Shetland Islands Local Authority\",0,IF('III Tool Overview'!$H$6=\"Eilean Siar Local Authority\",0,hosp_count(20,B97,C97,D97,$C$1,G97+H97,1,F97,E97*F97)))))))","v":0},0]
["Female 50-54",52.5,"female",1,{"$f":"HLOOKUP('III Tool Overview'!$H$6,Prevalence!$B$2:$AV$268,Prevalence!AW93,FALSE)","v":0.35238095238095241},{"$f":"HLOOKUP('III Tool Overview'!$H$6,LookUpData_Pop!$B$1:$AV$269,LookUpData_Pop!BB98,FALSE)/5","v":0},{"$f":"'III Tool Overview'!$H$9/110","v":0},{"$f":"IF('III Tool Overview'!$H$10=\"Even distribution\",Targeting!C95,IF('III Tool Overview'!$H$10=\"Targeting to Q1\",Targeting!D95,IF('III Tool Overview'!$H$10=\"Targeting to Q1 & Q2\",Targeting!E95,IF('III Tool Overview'!$H$10=\"Proportionate to need\",Targeting!F95))))","v":3.2727272727272729},{"$f":"IF('III Tool Overview'!$H$6=\"Orkney Health Board\",0,IF('III Tool Overview'!$H$6=\"Shetland Health Board\",0,IF('III Tool Overview'!$H$6=\"Western Isles Health Board\",0,IF('III Tool Overview'!$H$6=\"Orkney Islands Local Authority\",0,IF('III Tool Overview'!$H$6=\"Shetland Islands Local Authority\",0,IF('III Tool Overview'!$H$6=\"Eilean Siar Local Authority\",0,new_ci(2,B98,C98,D98,$C$1,G98,1,F98,E98*F98)))))))","v":0},{"$f":"IF('III Tool Overview'!$H$6=\"Orkney Health Board\",0,IF('III Tool Overview'!$H$6=\"Shetland Health Board\",0,IF('III Tool Overview'!$H$6=\"Western Isles Health Board\",0,IF('III Tool Overview'!$H$6=\"Orkney Islands Local Authority\",0,IF('III Tool Overview'!$H$6=\"Shetland Islands Local Authority\",0,IF('III Tool Overview'!$H$6=\"Eilean Siar Local Authority\",0,new_ci(2,B98,C98,D98,$C$1,G98+H98,1,F98,E98*F98)))))))","v":0},{"$f":"IF('III Tool Overview'!$H$6=\"Orkney Health Board\",0,IF('III Tool Overview'!$H$6=\"Shetland Health Board\",0,IF('III Tool Overview'!$H$6=\"Western Isles Health Board\",0,IF('III Tool Overview'!$H$6=\"Orkney Islands Local Authority\",0,IF('III Tool Overview'!$H$6=\"Shetland Islands Local Authority\",0,IF('III Tool Overview'!$H$6=\"Eilean Siar Local Authority\",0,new_ci(5,B98,C98,D98,$C$1,G98,1,F98,E98*F98)))))))","v":0},{"$f":"IF('III Tool Overview'!$H$6=\"Orkney Health Board\",0,IF('III Tool Overview'!$H$6=\"Shetland Health Board\",0,IF('III Tool Overview'!$H$6=\"Western Isles Health Board\",0,IF('III Tool Overview'!$H$6=\"Orkney Islands Local Authority\",0,IF('III Tool Overview'!$H$6=\"Shetland Islands Local Authority\",0,IF('III Tool Overview'!$H$6=\"Eilean Siar Local Authority\",0,new_ci(5,B98,C98,D98,$C$1,G98+H98,1,F98,E98*F98)))))))","v":0},{"$f":"IF('III Tool Overview'!$H$6=\"Orkney Health Board\",0,IF('III Tool Overview'!$H$6=\"Shetland Health Board\",0,IF('III Tool Overview'!$H$6=\"Western Isles Health Board\",0,IF('III Tool Overview'!$H$6=\"Orkney Islands Local Authority\",0,IF('III Tool Overview'!$H$6=\"Shetland Islands Local Authority\",0,IF('III Tool Overview'!$H$6=\"Eilean Siar Local Authority\",0,new_ci(10,B98,C98,D98,$C$1,G98,1,F98,E98*F98)))))))","v":0},{"$f":"IF('III Tool Overview'!$H$6=\"Orkney Health Board\",0,IF('III Tool Overview'!$H$6=\"Shetland Health Board\",0,IF('III Tool Overview'!$H$6=\"Western Isles Health Board\",0,IF('III Tool Overview'!$H$6=\"Orkney Islands Local Authority\",0,IF('III Tool Overview'!$H$6=\"Shetland Islands Local Authority\",0,IF('III Tool Overview'!$H$6=\"Eilean Siar Local Authority\",0,new_ci(10,B98,C98,D98,$C$1,G98+H98,1,F98,E98*F98)))))))","v":0},{"$f":"IF('III Tool Overview'!$H$6=\"Orkney Health Board\",0,IF('III Tool Overview'!$H$6=\"Shetland Health Board\",0,IF('III Tool Overview'!$H$6=\"Western Isles Health Board\",0,IF('III Tool Overview'!$H$6=\"Orkney Islands Local Authority\",0,IF('III Tool Overview'!$H$6=\"Shetland Islands Local Authority\",0,IF('III Tool Overview'!$H$6=\"Eilean Siar Local Authority\",0,new_ci(20,B98,C98,D98,$C$1,G98,1,F98,E98*F98)))))))","v":0},{"$f":"IF('III Tool Overview'!$H$6=\"Orkney Health Board\",0,IF('III Tool Overview'!$H$6=\"Shetland Health Board\",0,IF('III Tool Overview'!$H$6=\"Western Isles Health Board\",0,IF('III Tool Overview'!$H$6=\"Orkney Islands Local Authority\",0,IF('III Tool Overview'!$H$6=\"Shetland Islands Local Authority\",0,IF('III Tool Overview'!$H$6=\"Eilean Siar Local Authority\",0,new_ci(20,B98,C98,D98,$C$1,G98+H98,1,F98,E98*F98)))))))","v":0},{"$f":"IF('III Tool Overview'!$H$6=\"Orkney Health Board\",0,IF('III Tool Overview'!$H$6=\"Shetland Health Board\",0,IF('III Tool Overview'!$H$6=\"Western Isles Health Board\",0,IF('III Tool Overview'!$H$6=\"Orkney Islands Local Authority\",0,IF('III Tool Overview'!$H$6=\"Shetland Islands Local Authority\",0,IF('III Tool Overview'!$H$6=\"Eilean Siar Local Authority\",0,new_yll(2,B98,C98,D98,$C$1,G98,1,F98,E98*F98)))))))","v":0},{"$f":"IF('III Tool Overview'!$H$6=\"Orkney Health Board\",0,IF('III Tool Overview'!$H$6=\"Shetland Health Board\",0,IF('III Tool Overview'!$H$6=\"Western Isles Health Board\",0,IF('III Tool Overview'!$H$6=\"Orkney Islands Local Authority\",0,IF('III Tool Overview'!$H$6=\"Shetland Islands Local Authority\",0,IF('III Tool Overview'!$H$6=\"Eilean Siar Local Authority\",0,new_yll(2,B98,C98,D98,$C$1,G98+H98,1,F98,E98*F98)))))))","v":0},0,{"$f":"IF('III Tool Overview'!$H$6=\"Orkney Health Board\",0,IF('III Tool Overview'!$H$6=\"Shetland Health Board\",0,IF('III Tool Overview'!$H$6=\"Western Isles Health Board\",0,IF('III Tool Overview'!$H$6=\"Orkney Islands Local Authority\",0,IF('III Tool Overview'!$H$6=\"Shetland Islands Local Authority\",0,IF('III Tool Overview'!$H$6=\"Eilean Siar Local Authority\",0,new_yll(5,B98,C98,D98,$C$1,G98,1,F98,E98*F98)))))))","v":0},{"$f":"IF('III Tool Overview'!$H$6=\"Orkney Health Board\",0,IF('III Tool Overview'!$H$6=\"Shetland Health Board\",0,IF('III Tool Overview'!$H$6=\"Western Isles Health Board\",0,IF('III Tool Overview'!$H$6=\"Orkney Islands Local Authority\",0,IF('III Tool Overview'!$H$6=\"Shetland Islands Local Authority\",0,IF('III Tool Overview'!$H$6=\"Eilean Siar Local Authority\",0,new_yll(5,B98,C98,D98,$C$1,G98+H98,1,F98,E98*F98)))))))","v":0},0,{"$f":"IF('III Tool Overview'!$H$6=\"Orkney Health Board\",0,IF('III Tool Overview'!$H$6=\"Shetland Health Board\",0,IF('III Tool Overview'!$H$6=\"Western Isles Health Board\",0,IF('III Tool Overview'!$H$6=\"Orkney Islands Local Authority\",0,IF('III Tool Overview'!$H$6=\"Shetland Islands Local Authority\",0,IF('III Tool Overview'!$H$6=\"Eilean Siar Local Authority\",0,new_yll(10,B98,C98,D98,$C$1,G98,1,F98,E98*F98)))))))","v":0},{"$f":"IF('III Tool Overview'!$H$6=\"Orkney Health Board\",0,IF('III Tool Overview'!$H$6=\"Shetland Health Board\",0,IF('III Tool Overview'!$H$6=\"Western Isles Health Board\",0,IF('III Tool Overview'!$H$6=\"Orkney Islands Local Authority\",0,IF('III Tool Overview'!$H$6=\"Shetland Islands Local Authority\",0,IF('III Tool Overview'!$H$6=\"Eilean Siar Local Authority\",0,new_yll(10,B98,C98,D98,$C$1,G98+H98,1,F98,E98*F98)))))))","v":0},0,{"$f":"IF('III Tool Overview'!$H$6=\"Orkney Health Board\",0,IF('III Tool Overview'!$H$6=\"Shetland Health Board\",0,IF('III Tool Overview'!$H$6=\"Western Isles Health Board\",0,IF('III Tool Overview'!$H$6=\"Orkney Islands Local Authority\",0,IF('III Tool Overview'!$H$6=\"Shetland Islands Local Authority\",0,IF('III Tool Overview'!$H$6=\"Eilean Siar Local Authority\",0,new_yll(20,B98,C98,D98,$C$1,G98,1,F98,E98*F98)))))))","v":0},{"$f":"IF('III Tool Overview'!$H$6=\"Orkney Health Board\",0,IF('III Tool Overview'!$H$6=\"Shetland Health Board\",0,IF('III Tool Overview'!$H$6=\"Western Isles Health Board\",0,IF('III Tool Overview'!$H$6=\"Orkney Islands Local Authority\",0,IF('III Tool Overview'!$H$6=\"Shetland Islands Local Authority\",0,IF('III Tool Overview'!$H$6=\"Eilean Siar Local Authority\",0,new_yll(20,B98,C98,D98,$C$1,G98+H98,1,F98,E98*F98)))))))","v":0},0,{"$f":"IF('III Tool Overview'!$H$6=\"Orkney Health Board\",0,IF('III Tool Overview'!$H$6=\"Shetland Health Board\",0,IF('III Tool Overview'!$H$6=\"Western Isles Health Board\",0,IF('III Tool Overview'!$H$6=\"Orkney Islands Local Authority\",0,IF('III Tool Overview'!$H$6=\"Shetland Islands Local Authority\",0,IF('III Tool Overview'!$H$6=\"Eilean Siar Local Authority\",0,hosp_count(2,B98,C98,D98,$C$1,G98,1,F98,E98*F98)))))))","v":0},{"$f":"IF('III Tool Overview'!$H$6=\"Orkney Health Board\",0,IF('III Tool Overview'!$H$6=\"Shetland Health Board\",0,IF('III Tool Overview'!$H$6=\"Western Isles Health Board\",0,IF('III Tool Overview'!$H$6=\"Orkney Islands Local Authority\",0,IF('III Tool Overview'!$H$6=\"Shetland Islands Local Authority\",0,IF('III Tool Overview'!$H$6=\"Eilean Siar Local Authority\",0,hosp_count(2,B98,C98,D98,$C$1,G98+H98,1,F98,E98*F98)))))))","v":0},0,{"$f":"IF('III Tool Overview'!$H$6=\"Orkney Health Board\",0,IF('III Tool Overview'!$H$6=\"Shetland Health Board\",0,IF('III Tool Overview'!$H$6=\"Western Isles Health Board\",0,IF('III Tool Overview'!$H$6=\"Orkney Islands Local Authority\",0,IF('III Tool Overview'!$H$6=\"Shetland Islands Local Authority\",0,IF('III Tool Overview'!$H$6=\"Eilean Siar Local Authority\",0,hosp_count(5,B98,C98,D98,$C$1,G98,1,F98,E98*F98)))))))","v":0},{"$f":"IF('III Tool Overview'!$H$6=\"Orkney Health Board\",0,IF('III Tool Overview'!$H$6=\"Shetland Health Board\",0,IF('III Tool Overview'!$H$6=\"Western Isles Health Board\",0,IF('III Tool Overview'!$H$6=\"Orkney Islands Local Authority\",0,IF('III Tool Overview'!$H$6=\"Shetland Islands Local Authority\",0,IF('III Tool Overview'!$H$6=\"Eilean Siar Local Authority\",0,hosp_count(5,B98,C98,D98,$C$1,G98+H98,1,F98,E98*F98)))))))","v":0},0,{"$f":"IF('III Tool Overview'!$H$6=\"Orkney Health Board\",0,IF('III Tool Overview'!$H$6=\"Shetland Health Board\",0,IF('III Tool Overview'!$H$6=\"Western Isles Health Board\",0,IF('III Tool Overview'!$H$6=\"Orkney Islands Local Authority\",0,IF('III Tool Overview'!$H$6=\"Shetland Islands Local Authority\",0,IF('III Tool Overview'!$H$6=\"Eilean Siar Local Authority\",0,hosp_count(10,B98,C98,D98,$C$1,G98,1,F98,E98*F98)))))))","v":0},{"$f":"IF('III Tool Overview'!$H$6=\"Orkney Health Board\",0,IF('III Tool Overview'!$H$6=\"Shetland Health Board\",0,IF('III Tool Overview'!$H$6=\"Western Isles Health Board\",0,IF('III Tool Overview'!$H$6=\"Orkney Islands Local Authority\",0,IF('III Tool Overview'!$H$6=\"Shetland Islands Local Authority\",0,IF('III Tool Overview'!$H$6=\"Eilean Siar Local Authority\",0,hosp_count(10,B98,C98,D98,$C$1,G98+H98,1,F98,E98*F98)))))))","v":0},0,{"$f":"IF('III Tool Overview'!$H$6=\"Orkney Health Board\",0,IF('III Tool Overview'!$H$6=\"Shetland Health Board\",0,IF('III Tool Overview'!$H$6=\"Western Isles Health Board\",0,IF('III Tool Overview'!$H$6=\"Orkney Islands Local Authority\",0,IF('III Tool Overview'!$H$6=\"Shetland Islands Local Authority\",0,IF('III Tool Overview'!$H$6=\"Eilean Siar Local Authority\",0,hosp_count(20,B98,C98,D98,$C$1,G98,1,F98,E98*F98)))))))","v":0},{"$f":"IF('III Tool Overview'!$H$6=\"Orkney Health Board\",0,IF('III Tool Overview'!$H$6=\"Shetland Health Board\",0,IF('III Tool Overview'!$H$6=\"Western Isles Health Board\",0,IF('III Tool Overview'!$H$6=\"Orkney Islands Local Authority\",0,IF('III Tool Overview'!$H$6=\"Shetland Islands Local Authority\",0,IF('III Tool Overview'!$H$6=\"Eilean Siar Local Authority\",0,hosp_count(20,B98,C98,D98,$C$1,G98+H98,1,F98,E98*F98)))))))","v":0},0]
["Female 55-59",57.5,"female",1,{"$f":"HLOOKUP('III Tool Overview'!$H$6,Prevalence!$B$2:$AV$268,Prevalence!AW94,FALSE)","v":0.47619047619047622},{"$f":"HLOOKUP('III Tool Overview'!$H$6,LookUpData_Pop!$B$1:$AV$269,LookUpData_Pop!BB99,FALSE)/5","v":0},{"$f":"'III Tool Overview'!$H$9/110","v":0},{"$f":"IF('III Tool Overview'!$H$10=\"Even distribution\",Targeting!C96,IF('III Tool Overview'!$H$10=\"Targeting to Q1\",Targeting!D96,IF('III Tool Overview'!$H$10=\"Targeting to Q1 & Q2\",Targeting!E96,IF('III Tool Overview'!$H$10=\"Proportionate to need\",Targeting!F96))))","v":3.2727272727272729},{"$f":"IF('III Tool Overview'!$H$6=\"Orkney Health Board\",0,IF('III Tool Overview'!$H$6=\"Shetland Health Board\",0,IF('III Tool Overview'!$H$6=\"Western Isles Health Board\",0,IF('III Tool Overview'!$H$6=\"Orkney Islands Local Authority\",0,IF('III Tool Overview'!$H$6=\"Shetland Islands Local Authority\",0,IF('III Tool Overview'!$H$6=\"Eilean Siar Local Authority\",0,new_ci(2,B99,C99,D99,$C$1,G99,1,F99,E99*F99)))))))","v":0},{"$f":"IF('III Tool Overview'!$H$6=\"Orkney Health Board\",0,IF('III Tool Overview'!$H$6=\"Shetland Health Board\",0,IF('III Tool Overview'!$H$6=\"Western Isles Health Board\",0,IF('III Tool Overview'!$H$6=\"Orkney Islands Local Authority\",0,IF('III Tool Overview'!$H$6=\"Shetland Islands Local Authority\",0,IF('III Tool Overview'!$H$6=\"Eilean Siar Local Authority\",0,new_ci(2,B99,C99,D99,$C$1,G99+H99,1,F99,E99*F99)))))))","v":0},{"$f":"IF('III Tool Overview'!$H$6=\"Orkney Health Board\",0,IF('III Tool Overview'!$H$6=\"Shetland Health Board\",0,IF('III Tool Overview'!$H$6=\"Western Isles Health Board\",0,IF('III Tool Overview'!$H$6=\"Orkney Islands Local Authority\",0,IF('III Tool Overview'!$H$6=\"Shetland Islands Local Authority\",0,IF('III Tool Overview'!$H$6=\"Eilean Siar Local Authority\",0,new_ci(5,B99,C99,D99,$C$1,G99,1,F99,E99*F99)))))))","v":0},{"$f":"IF('III Tool Overview'!$H$6=\"Orkney Health Board\",0,IF('III Tool Overview'!$H$6=\"Shetland Health Board\",0,IF('III Tool Overview'!$H$6=\"Western Isles Health Board\",0,IF('III Tool Overview'!$H$6=\"Orkney Islands Local Authority\",0,IF('III Tool Overview'!$H$6=\"Shetland Islands Local Authority\",0,IF('III Tool Overview'!$H$6=\"Eilean Siar Local Authority\",0,new_ci(5,B99,C99,D99,$C$1,G99+H99,1,F99,E99*F99)))))))","v":0},{"$f":"IF('III Tool Overview'!$H$6=\"Orkney Health Board\",0,IF('III Tool Overview'!$H$6=\"Shetland Health Board\",0,IF('III Tool Overview'!$H$6=\"Western Isles Health Board\",0,IF('III Tool Overview'!$H$6=\"Orkney Islands Local Authority\",0,IF('III Tool Overview'!$H$6=\"Shetland Islands Local Authority\",0,IF('III Tool Overview'!$H$6=\"Eilean Siar Local Authority\",0,new_ci(10,B99,C99,D99,$C$1,G99,1,F99,E99*F99)))))))","v":0},{"$f":"IF('III Tool Overview'!$H$6=\"Orkney Health Board\",0,IF('III Tool Overview'!$H$6=\"Shetland Health Board\",0,IF('III Tool Overview'!$H$6=\"Western Isles Health Board\",0,IF('III Tool Overview'!$H$6=\"Orkney Islands Local Authority\",0,IF('III Tool Overview'!$H$6=\"Shetland Islands Local Authority\",0,IF('III Tool Overview'!$H$6=\"Eilean Siar Local Authority\",0,new_ci(10,B99,C99,D99,$C$1,G99+H99,1,F99,E99*F99)))))))","v":0},{"$f":"IF('III Tool Overview'!$H$6=\"Orkney Health Board\",0,IF('III Tool Overview'!$H$6=\"Shetland Health Board\",0,IF('III Tool Overview'!$H$6=\"Western Isles Health Board\",0,IF('III Tool Overview'!$H$6=\"Orkney Islands Local Authority\",0,IF('III Tool Overview'!$H$6=\"Shetland Islands Local Authority\",0,IF('III Tool Overview'!$H$6=\"Eilean Siar Local Authority\",0,new_ci(20,B99,C99,D99,$C$1,G99,1,F99,E99*F99)))))))","v":0},{"$f":"IF('III Tool Overview'!$H$6=\"Orkney Health Board\",0,IF('III Tool Overview'!$H$6=\"Shetland Health Board\",0,IF('III Tool Overview'!$H$6=\"Western Isles Health Board\",0,IF('III Tool Overview'!$H$6=\"Orkney Islands Local Authority\",0,IF('III Tool Overview'!$H$6=\"Shetland Islands Local Authority\",0,IF('III Tool Overview'!$H$6=\"Eilean Siar Local Authority\",0,new_ci(20,B99,C99,D99,$C$1,G99+H99,1,F99,E99*F99)))))))","v":0},{"$f":"IF('III Tool Overview'!$H$6=\"Orkney Health Board\",0,IF('III Tool Overview'!$H$6=\"Shetland Health Board\",0,IF('III Tool Overview'!$H$6=\"Western Isles Health Board\",0,IF('III Tool Overview'!$H$6=\"Orkney Islands Local Authority\",0,IF('III Tool Overview'!$H$6=\"Shetland Islands Local Authority\",0,IF('III Tool Overview'!$H$6=\"Eilean Siar Local Authority\",0,new_yll(2,B99,C99,D99,$C$1,G99,1,F99,E99*F99)))))))","v":0},{"$f":"IF('III Tool Overview'!$H$6=\"Orkney Health Board\",0,IF('III Tool Overview'!$H$6=\"Shetland Health Board\",0,IF('III Tool Overview'!$H$6=\"Western Isles Health Board\",0,IF('III Tool Overview'!$H$6=\"Orkney Islands Local Authority\",0,IF('III Tool Overview'!$H$6=\"Shetland Islands Local Authority\",0,IF('III Tool Overview'!$H$6=\"Eilean Siar Local Authority\",0,new_yll(2,B99,C99,D99,$C$1,G99+H99,1,F99,E99*F99)))))))","v":0},0,{"$f":"IF('III Tool Overview'!$H$6=\"Orkney Health Board\",0,IF('III Tool Overview'!$H$6=\"Shetland Health Board\",0,IF('III Tool Overview'!$H$6=\"Western Isles Health Board\",0,IF('III Tool Overview'!$H$6=\"Orkney Islands Local Authority\",0,IF('III Tool Overview'!$H$6=\"Shetland Islands Local Authority\",0,IF('III Tool Overview'!$H$6=\"Eilean Siar Local Authority\",0,new_yll(5,B99,C99,D99,$C$1,G99,1,F99,E99*F99)))))))","v":0},{"$f":"IF('III Tool Overview'!$H$6=\"Orkney Health Board\",0,IF('III Tool Overview'!$H$6=\"Shetland Health Board\",0,IF('III Tool Overview'!$H$6=\"Western Isles Health Board\",0,IF('III Tool Overview'!$H$6=\"Orkney Islands Local Authority\",0,IF('III Tool Overview'!$H$6=\"Shetland Islands Local Authority\",0,IF('III Tool Overview'!$H$6=\"Eilean Siar Local Authority\",0,new_yll(5,B99,C99,D99,$C$1,G99+H99,1,F99,E99*F99)))))))","v":0},0,{"$f":"IF('III Tool Overview'!$H$6=\"Orkney Health Board\",0,IF('III Tool Overview'!$H$6=\"Shetland Health Board\",0,IF('III Tool Overview'!$H$6=\"Western Isles Health Board\",0,IF('III Tool Overview'!$H$6=\"Orkney Islands Local Authority\",0,IF('III Tool Overview'!$H$6=\"Shetland Islands Local Authority\",0,IF('III Tool Overview'!$H$6=\"Eilean Siar Local Authority\",0,new_yll(10,B99,C99,D99,$C$1,G99,1,F99,E99*F99)))))))","v":0},{"$f":"IF('III Tool Overview'!$H$6=\"Orkney Health Board\",0,IF('III Tool Overview'!$H$6=\"Shetland Health Board\",0,IF('III Tool Overview'!$H$6=\"Western Isles Health Board\",0,IF('III Tool Overview'!$H$6=\"Orkney Islands Local Authority\",0,IF('III Tool Overview'!$H$6=\"Shetland Islands Local Authority\",0,IF('III Tool Overview'!$H$6=\"Eilean Siar Local Authority\",0,new_yll(10,B99,C99,D99,$C$1,G99+H99,1,F99,E99*F99)))))))","v":0},0,{"$f":"IF('III Tool Overview'!$H$6=\"Orkney Health Board\",0,IF('III Tool Overview'!$H$6=\"Shetland Health Board\",0,IF('III Tool Overview'!$H$6=\"Western Isles Health Board\",0,IF('III Tool Overview'!$H$6=\"Orkney Islands Local Authority\",0,IF('III Tool Overview'!$H$6=\"Shetland Islands Local Authority\",0,IF('III Tool Overview'!$H$6=\"Eilean Siar Local Authority\",0,new_yll(20,B99,C99,D99,$C$1,G99,1,F99,E99*F99)))))))","v":0},{"$f":"IF('III Tool Overview'!$H$6=\"Orkney Health Board\",0,IF('III Tool Overview'!$H$6=\"Shetland Health Board\",0,IF('III Tool Overview'!$H$6=\"Western Isles Health Board\",0,IF('III Tool Overview'!$H$6=\"Orkney Islands Local Authority\",0,IF('III Tool Overview'!$H$6=\"Shetland Islands Local Authority\",0,IF('III Tool Overview'!$H$6=\"Eilean Siar Local Authority\",0,new_yll(20,B99,C99,D99,$C$1,G99+H99,1,F99,E99*F99)))))))","v":0},0,{"$f":"IF('III Tool Overview'!$H$6=\"Orkney Health Board\",0,IF('III Tool Overview'!$H$6=\"Shetland Health Board\",0,IF('III Tool Overview'!$H$6=\"Western Isles Health Board\",0,IF('III Tool Overview'!$H$6=\"Orkney Islands Local Authority\",0,IF('III Tool Overview'!$H$6=\"Shetland Islands Local Authority\",0,IF('III Tool Overview'!$H$6=\"Eilean Siar Local Authority\",0,hosp_count(2,B99,C99,D99,$C$1,G99,1,F99,E99*F99)))))))","v":0},{"$f":"IF('III Tool Overview'!$H$6=\"Orkney Health Board\",0,IF('III Tool Overview'!$H$6=\"Shetland Health Board\",0,IF('III Tool Overview'!$H$6=\"Western Isles Health Board\",0,IF('III Tool Overview'!$H$6=\"Orkney Islands Local Authority\",0,IF('III Tool Overview'!$H$6=\"Shetland Islands Local Authority\",0,IF('III Tool Overview'!$H$6=\"Eilean Siar Local Authority\",0,hosp_count(2,B99,C99,D99,$C$1,G99+H99,1,F99,E99*F99)))))))","v":0},0,{"$f":"IF('III Tool Overview'!$H$6=\"Orkney Health Board\",0,IF('III Tool Overview'!$H$6=\"Shetland Health Board\",0,IF('III Tool Overview'!$H$6=\"Western Isles Health Board\",0,IF('III Tool Overview'!$H$6=\"Orkney Islands Local Authority\",0,IF('III Tool Overview'!$H$6=\"Shetland Islands Local Authority\",0,IF('III Tool Overview'!$H$6=\"Eilean Siar Local Authority\",0,hosp_count(5,B99,C99,D99,$C$1,G99,1,F99,E99*F99)))))))","v":0},{"$f":"IF('III Tool Overview'!$H$6=\"Orkney Health Board\",0,IF('III Tool Overview'!$H$6=\"Shetland Health Board\",0,IF('III Tool Overview'!$H$6=\"Western Isles Health Board\",0,IF('III Tool Overview'!$H$6=\"Orkney Islands Local Authority\",0,IF('III Tool Overview'!$H$6=\"Shetland Islands Local Authority\",0,IF('III Tool Overview'!$H$6=\"Eilean Siar Local Authority\",0,hosp_count(5,B99,C99,D99,$C$1,G99+H99,1,F99,E99*F99)))))))","v":0},0,{"$f":"IF('III Tool Overview'!$H$6=\"Orkney Health Board\",0,IF('III Tool Overview'!$H$6=\"Shetland Health Board\",0,IF('III Tool Overview'!$H$6=\"Western Isles Health Board\",0,IF('III Tool Overview'!$H$6=\"Orkney Islands Local Authority\",0,IF('III Tool Overview'!$H$6=\"Shetland Islands Local Authority\",0,IF('III Tool Overview'!$H$6=\"Eilean Siar Local Authority\",0,hosp_count(10,B99,C99,D99,$C$1,G99,1,F99,E99*F99)))))))","v":0},{"$f":"IF('III Tool Overview'!$H$6=\"Orkney Health Board\",0,IF('III Tool Overview'!$H$6=\"Shetland Health Board\",0,IF('III Tool Overview'!$H$6=\"Western Isles Health Board\",0,IF('III Tool Overview'!$H$6=\"Orkney Islands Local Authority\",0,IF('III Tool Overview'!$H$6=\"Shetland Islands Local Authority\",0,IF('III Tool Overview'!$H$6=\"Eilean Siar Local Authority\",0,hosp_count(10,B99,C99,D99,$C$1,G99+H99,1,F99,E99*F99)))))))","v":0},0,{"$f":"IF('III Tool Overview'!$H$6=\"Orkney Health Board\",0,IF('III Tool Overview'!$H$6=\"Shetland Health Board\",0,IF('III Tool Overview'!$H$6=\"Western Isles Health Board\",0,IF('III Tool Overview'!$H$6=\"Orkney Islands Local Authority\",0,IF('III Tool Overview'!$H$6=\"Shetland Islands Local Authority\",0,IF('III Tool Overview'!$H$6=\"Eilean Siar Local Authority\",0,hosp_count(20,B99,C99,D99,$C$1,G99,1,F99,E99*F99)))))))","v":0},{"$f":"IF('III Tool Overview'!$H$6=\"Orkney Health Board\",0,IF('III Tool Overview'!$H$6=\"Shetland Health Board\",0,IF('III Tool Overview'!$H$6=\"Western Isles Health Board\",0,IF('III Tool Overview'!$H$6=\"Orkney Islands Local Authority\",0,IF('III Tool Overview'!$H$6=\"Shetland Islands Local Authority\",0,IF('III Tool Overview'!$H$6=\"Eilean Siar Local Authority\",0,hosp_count(20,B99,C99,D99,$C$1,G99+H99,1,F99,E99*F99)))))))","v":0},0]
["Female 60-64",62.5,"female",1,{"$f":"HLOOKUP('III Tool Overview'!$H$6,Prevalence!$B$2:$AV$268,Prevalence!AW95,FALSE)","v":0.7142857142857143},{"$f":"HLOOKUP('III Tool Overview'!$H$6,LookUpData_Pop!$B$1:$AV$269,LookUpData_Pop!BB100,FALSE)/5","v":0},{"$f":"'III Tool Overview'!$H$9/110","v":0},{"$f":"IF('III Tool Overview'!$H$10=\"Even distribution\",Targeting!C97,IF('III Tool Overview'!$H$10=\"Targeting to Q1\",Targeting!D97,IF('III Tool Overview'!$H$10=\"Targeting to Q1 & Q2\",Targeting!E97,IF('III Tool Overview'!$H$10=\"Proportionate to need\",Targeting!F97))))","v":3.2727272727272729},{"$f":"IF('III Tool Overview'!$H$6=\"Orkney Health Board\",0,IF('III Tool Overview'!$H$6=\"Shetland Health Board\",0,IF('III Tool Overview'!$H$6=\"Western Isles Health Board\",0,IF('III Tool Overview'!$H$6=\"Orkney Islands Local Authority\",0,IF('III Tool Overview'!$H$6=\"Shetland Islands Local Authority\",0,IF('III Tool Overview'!$H$6=\"Eilean Siar Local Authority\",0,new_ci(2,B100,C100,D100,$C$1,G100,1,F100,E100*F100)))))))","v":0},{"$f":"IF('III Tool Overview'!$H$6=\"Orkney Health Board\",0,IF('III Tool Overview'!$H$6=\"Shetland Health Board\",0,IF('III Tool Overview'!$H$6=\"Western Isles Health Board\",0,IF('III Tool Overview'!$H$6=\"Orkney Islands Local Authority\",0,IF('III Tool Overview'!$H$6=\"Shetland Islands Local Authority\",0,IF('III Tool Overview'!$H$6=\"Eilean Siar Local Authority\",0,new_ci(2,B100,C100,D100,$C$1,G100+H100,1,F100,E100*F100)))))))","v":0},{"$f":"IF('III Tool Overview'!$H$6=\"Orkney Health Board\",0,IF('III Tool Overview'!$H$6=\"Shetland Health Board\",0,IF('III Tool Overview'!$H$6=\"Western Isles Health Board\",0,IF('III Tool Overview'!$H$6=\"Orkney Islands Local Authority\",0,IF('III Tool Overview'!$H$6=\"Shetland Islands Local Authority\",0,IF('III Tool Overview'!$H$6=\"Eilean Siar Local Authority\",0,new_ci(5,B100,C100,D100,$C$1,G100,1,F100,E100*F100)))))))","v":0},{"$f":"IF('III Tool Overview'!$H$6=\"Orkney Health Board\",0,IF('III Tool Overview'!$H$6=\"Shetland Health Board\",0,IF('III Tool Overview'!$H$6=\"Western Isles Health Board\",0,IF('III Tool Overview'!$H$6=\"Orkney Islands Local Authority\",0,IF('III Tool Overview'!$H$6=\"Shetland Islands Local Authority\",0,IF('III Tool Overview'!$H$6=\"Eilean Siar Local Authority\",0,new_ci(5,B100,C100,D100,$C$1,G100+H100,1,F100,E100*F100)))))))","v":0},{"$f":"IF('III Tool Overview'!$H$6=\"Orkney Health Board\",0,IF('III Tool Overview'!$H$6=\"Shetland Health Board\",0,IF('III Tool Overview'!$H$6=\"Western Isles Health Board\",0,IF('III Tool Overview'!$H$6=\"Orkney Islands Local Authority\",0,IF('III Tool Overview'!$H$6=\"Shetland Islands Local Authority\",0,IF('III Tool Overview'!$H$6=\"Eilean Siar Local Authority\",0,new_ci(10,B100,C100,D100,$C$1,G100,1,F100,E100*F100)))))))","v":0},{"$f":"IF('III Tool Overview'!$H$6=\"Orkney Health Board\",0,IF('III Tool Overview'!$H$6=\"Shetland Health Board\",0,IF('III Tool Overview'!$H$6=\"Western Isles Health Board\",0,IF('III Tool Overview'!$H$6=\"Orkney Islands Local Authority\",0,IF('III Tool Overview'!$H$6=\"Shetland Islands Local Authority\",0,IF('III Tool Overview'!$H$6=\"Eilean Siar Local Authority\",0,new_ci(10,B100,C100,D100,$C$1,G100+H100,1,F100,E100*F100)))))))","v":0},{"$f":"IF('III Tool Overview'!$H$6=\"Orkney Health Board\",0,IF('III Tool Overview'!$H$6=\"Shetland Health Board\",0,IF('III Tool Overview'!$H$6=\"Western Isles Health Board\",0,IF('III Tool Overview'!$H$6=\"Orkney Islands Local Authority\",0,IF('III Tool Overview'!$H$6=\"Shetland Islands Local Authority\",0,IF('III Tool Overview'!$H$6=\"Eilean Siar Local Authority\",0,new_ci(20,B100,C100,D100,$C$1,G100,1,F100,E100*F100)))))))","v":0},{"$f":"IF('III Tool Overview'!$H$6=\"Orkney Health Board\",0,IF('III Tool Overview'!$H$6=\"Shetland Health Board\",0,IF('III Tool Overview'!$H$6=\"Western Isles Health Board\",0,IF('III Tool Overview'!$H$6=\"Orkney Islands Local Authority\",0,IF('III Tool Overview'!$H$6=\"Shetland Islands Local Authority\",0,IF('III Tool Overview'!$H$6=\"Eilean Siar Local Authority\",0,new_ci(20,B100,C100,D100,$C$1,G100+H100,1,F100,E100*F100)))))))","v":0},{"$f":"IF('III Tool Overview'!$H$6=\"Orkney Health Board\",0,IF('III Tool Overview'!$H$6=\"Shetland Health Board\",0,IF('III Tool Overview'!$H$6=\"Western Isles Health Board\",0,IF('III Tool Overview'!$H$6=\"Orkney Islands Local Authority\",0,IF('III Tool Overview'!$H$6=\"Shetland Islands Local Authority\",0,IF('III Tool Overview'!$H$6=\"Eilean Siar Local Authority\",0,new_yll(2,B100,C100,D100,$C$1,G100,1,F100,E100*F100)))))))","v":0},{"$f":"IF('III Tool Overview'!$H$6=\"Orkney Health Board\",0,IF('III Tool Overview'!$H$6=\"Shetland Health Board\",0,IF('III Tool Overview'!$H$6=\"Western Isles Health Board\",0,IF('III Tool Overview'!$H$6=\"Orkney Islands Local Authority\",0,IF('III Tool Overview'!$H$6=\"Shetland Islands Local Authority\",0,IF('III Tool Overview'!$H$6=\"Eilean Siar Local Authority\",0,new_yll(2,B100,C100,D100,$C$1,G100+H100,1,F100,E100*F100)))))))","v":0},0,{"$f":"IF('III Tool Overview'!$H$6=\"Orkney Health Board\",0,IF('III Tool Overview'!$H$6=\"Shetland Health Board\",0,IF('III Tool Overview'!$H$6=\"Western Isles Health Board\",0,IF('III Tool Overview'!$H$6=\"Orkney Islands Local Authority\",0,IF('III Tool Overview'!$H$6=\"Shetland Islands Local Authority\",0,IF('III Tool Overview'!$H$6=\"Eilean Siar Local Authority\",0,new_yll(5,B100,C100,D100,$C$1,G100,1,F100,E100*F100)))))))","v":0},{"$f":"IF('III Tool Overview'!$H$6=\"Orkney Health Board\",0,IF('III Tool Overview'!$H$6=\"Shetland Health Board\",0,IF('III Tool Overview'!$H$6=\"Western Isles Health Board\",0,IF('III Tool Overview'!$H$6=\"Orkney Islands Local Authority\",0,IF('III Tool Overview'!$H$6=\"Shetland Islands Local Authority\",0,IF('III Tool Overview'!$H$6=\"Eilean Siar Local Authority\",0,new_yll(5,B100,C100,D100,$C$1,G100+H100,1,F100,E100*F100)))))))","v":0},0,{"$f":"IF('III Tool Overview'!$H$6=\"Orkney Health Board\",0,IF('III Tool Overview'!$H$6=\"Shetland Health Board\",0,IF('III Tool Overview'!$H$6=\"Western Isles Health Board\",0,IF('III Tool Overview'!$H$6=\"Orkney Islands Local Authority\",0,IF('III Tool Overview'!$H$6=\"Shetland Islands Local Authority\",0,IF('III Tool Overview'!$H$6=\"Eilean Siar Local Authority\",0,new_yll(10,B100,C100,D100,$C$1,G100,1,F100,E100*F100)))))))","v":0},{"$f":"IF('III Tool Overview'!$H$6=\"Orkney Health Board\",0,IF('III Tool Overview'!$H$6=\"Shetland Health Board\",0,IF('III Tool Overview'!$H$6=\"Western Isles Health Board\",0,IF('III Tool Overview'!$H$6=\"Orkney Islands Local Authority\",0,IF('III Tool Overview'!$H$6=\"Shetland Islands Local Authority\",0,IF('III Tool Overview'!$H$6=\"Eilean Siar Local Authority\",0,new_yll(10,B100,C100,D100,$C$1,G100+H100,1,F100,E100*F100)))))))","v":0},0,{"$f":"IF('III Tool Overview'!$H$6=\"Orkney Health Board\",0,IF('III Tool Overview'!$H$6=\"Shetland Health Board\",0,IF('III Tool Overview'!$H$6=\"Western Isles Health Board\",0,IF('III Tool Overview'!$H$6=\"Orkney Islands Local Authority\",0,IF('III Tool Overview'!$H$6=\"Shetland Islands Local Authority\",0,IF('III Tool Overview'!$H$6=\"Eilean Siar Local Authority\",0,new_yll(20,B100,C100,D100,$C$1,G100,1,F100,E100*F100)))))))","v":0},{"$f":"IF('III Tool Overview'!$H$6=\"Orkney Health Board\",0,IF('III Tool Overview'!$H$6=\"Shetland Health Board\",0,IF('III Tool Overview'!$H$6=\"Western Isles Health Board\",0,IF('III Tool Overview'!$H$6=\"Orkney Islands Local Authority\",0,IF('III Tool Overview'!$H$6=\"Shetland Islands Local Authority\",0,IF('III Tool Overview'!$H$6=\"Eilean Siar Local Authority\",0,new_yll(20,B100,C100,D100,$C$1,G100+H100,1,F100,E100*F100)))))))","v":0},0,{"$f":"IF('III Tool Overview'!$H$6=\"Orkney Health Board\",0,IF('III Tool Overview'!$H$6=\"Shetland Health Board\",0,IF('III Tool Overview'!$H$6=\"Western Isles Health Board\",0,IF('III Tool Overview'!$H$6=\"Orkney Islands Local Authority\",0,IF('III Tool Overview'!$H$6=\"Shetland Islands Local Authority\",0,IF('III Tool Overview'!$H$6=\"Eilean Siar Local Authority\",0,hosp_count(2,B100,C100,D100,$C$1,G100,1,F100,E100*F100)))))))","v":0},{"$f":"IF('III Tool Overview'!$H$6=\"Orkney Health Board\",0,IF('III Tool Overview'!$H$6=\"Shetland Health Board\",0,IF('III Tool Overview'!$H$6=\"Western Isles Health Board\",0,IF('III Tool Overview'!$H$6=\"Orkney Islands Local Authority\",0,IF('III Tool Overview'!$H$6=\"Shetland Islands Local Authority\",0,IF('III Tool Overview'!$H$6=\"Eilean Siar Local Authority\",0,hosp_count(2,B100,C100,D100,$C$1,G100+H100,1,F100,E100*F100)))))))","v":0},0,{"$f":"IF('III Tool Overview'!$H$6=\"Orkney Health Board\",0,IF('III Tool Overview'!$H$6=\"Shetland Health Board\",0,IF('III Tool Overview'!$H$6=\"Western Isles Health Board\",0,IF('III Tool Overview'!$H$6=\"Orkney Islands Local Authority\",0,IF('III Tool Overview'!$H$6=\"Shetland Islands Local Authority\",0,IF('III Tool Overview'!$H$6=\"Eilean Siar Local Authority\",0,hosp_count(5,B100,C100,D100,$C$1,G100,1,F100,E100*F100)))))))","v":0},{"$f":"IF('III Tool Overview'!$H$6=\"Orkney Health Board\",0,IF('III Tool Overview'!$H$6=\"Shetland Health Board\",0,IF('III Tool Overview'!$H$6=\"Western Isles Health Board\",0,IF('III Tool Overview'!$H$6=\"Orkney Islands Local Authority\",0,IF('III Tool Overview'!$H$6=\"Shetland Islands Local Authority\",0,IF('III Tool Overview'!$H$6=\"Eilean Siar Local Authority\",0,hosp_count(5,B100,C100,D100,$C$1,G100+H100,1,F100,E100*F100)))))))","v":0},0,{"$f":"IF('III Tool Overview'!$H$6=\"Orkney Health Board\",0,IF('III Tool Overview'!$H$6=\"Shetland Health Board\",0,IF('III Tool Overview'!$H$6=\"Western Isles Health Board\",0,IF('III Tool Overview'!$H$6=\"Orkney Islands Local Authority\",0,IF('III Tool Overview'!$H$6=\"Shetland Islands Local Authority\",0,IF('III Tool Overview'!$H$6=\"Eilean Siar Local Authority\",0,hosp_count(10,B100,C100,D100,$C$1,G100,1,F100,E100*F100)))))))","v":0},{"$f":"IF('III Tool Overview'!$H$6=\"Orkney Health Board\",0,IF('III Tool Overview'!$H$6=\"Shetland Health Board\",0,IF('III Tool Overview'!$H$6=\"Western Isles Health Board\",0,IF('III Tool Overview'!$H$6=\"Orkney Islands Local Authority\",0,IF('III Tool Overview'!$H$6=\"Shetland Islands Local Authority\",0,IF('III Tool Overview'!$H$6=\"Eilean Siar Local Authority\",0,hosp_count(10,B100,C100,D100,$C$1,G100+H100,1,F100,E100*F100)))))))","v":0},0,{"$f":"IF('III Tool Overview'!$H$6=\"Orkney Health Board\",0,IF('III Tool Overview'!$H$6=\"Shetland Health Board\",0,IF('III Tool Overview'!$H$6=\"Western Isles Health Board\",0,IF('III Tool Overview'!$H$6=\"Orkney Islands Local Authority\",0,IF('III Tool Overview'!$H$6=\"Shetland Islands Local Authority\",0,IF('III Tool Overview'!$H$6=\"Eilean Siar Local Authority\",0,hosp_count(20,B100,C100,D100,$C$1,G100,1,F100,E100*F100)))))))","v":0},{"$f":"IF('III Tool Overview'!$H$6=\"Orkney Health Board\",0,IF('III Tool Overview'!$H$6=\"Shetland Health Board\",0,IF('III Tool Overview'!$H$6=\"Western Isles Health Board\",0,IF('III Tool Overview'!$H$6=\"Orkney Islands Local Authority\",0,IF('III Tool Overview'!$H$6=\"Shetland Islands Local Authority\",0,IF('III Tool Overview'!$H$6=\"Eilean Siar Local Authority\",0,hosp_count(20,B100,C100,D100,$C$1,G100+H100,1,F100,E100*F100)))))))","v":0},0]
["Female 65-69",67.5,"female",1,{"$f":"HLOOKUP('III Tool Overview'!$H$6,Prevalence!$B$2:$AV$268,Prevalence!AW96,FALSE)","v":0.92380952380952386},{"$f":"HLOOKUP('III Tool Overview'!$H$6,LookUpData_Pop!$B$1:$AV$269,LookUpData_Pop!BB101,FALSE)/5","v":0},{"$f":"'III Tool Overview'!$H$9/110","v":0},{"$f":"IF('III Tool Overview'!$H$10=\"Even distribution\",Targeting!C98,IF('III Tool Overview'!$H$10=\"Targeting to Q1\",Targeting!D98,IF('III Tool Overview'!$H$10=\"Targeting to Q1 & Q2\",Targeting!E98,IF('III Tool Overview'!$H$10=\"Proportionate to need\",Targeting!F98))))","v":3.2727272727272729},{"$f":"IF('III Tool Overview'!$H$6=\"Orkney Health Board\",0,IF('III Tool Overview'!$H$6=\"Shetland Health Board\",0,IF('III Tool Overview'!$H$6=\"Western Isles Health Board\",0,IF('III Tool Overview'!$H$6=\"Orkney Islands Local Authority\",0,IF('III Tool Overview'!$H$6=\"Shetland Islands Local Authority\",0,IF('III Tool Overview'!$H$6=\"Eilean Siar Local Authority\",0,new_ci(2,B101,C101,D101,$C$1,G101,1,F101,E101*F101)))))))","v":0},{"$f":"IF('III Tool Overview'!$H$6=\"Orkney Health Board\",0,IF('III Tool Overview'!$H$6=\"Shetland Health Board\",0,IF('III Tool Overview'!$H$6=\"Western Isles Health Board\",0,IF('III Tool Overview'!$H$6=\"Orkney Islands Local Authority\",0,IF('III Tool Overview'!$H$6=\"Shetland Islands Local Authority\",0,IF('III Tool Overview'!$H$6=\"Eilean Siar Local Authority\",0,new_ci(2,B101,C101,D101,$C$1,G101+H101,1,F101,E101*F101)))))))","v":0},{"$f":"IF('III Tool Overview'!$H$6=\"Orkney Health Board\",0,IF('III Tool Overview'!$H$6=\"Shetland Health Board\",0,IF('III Tool Overview'!$H$6=\"Western Isles Health Board\",0,IF('III Tool Overview'!$H$6=\"Orkney Islands Local Authority\",0,IF('III Tool Overview'!$H$6=\"Shetland Islands Local Authority\",0,IF('III Tool Overview'!$H$6=\"Eilean Siar Local Authority\",0,new_ci(5,B101,C101,D101,$C$1,G101,1,F101,E101*F101)))))))","v":0},{"$f":"IF('III Tool Overview'!$H$6=\"Orkney Health Board\",0,IF('III Tool Overview'!$H$6=\"Shetland Health Board\",0,IF('III Tool Overview'!$H$6=\"Western Isles Health Board\",0,IF('III Tool Overview'!$H$6=\"Orkney Islands Local Authority\",0,IF('III Tool Overview'!$H$6=\"Shetland Islands Local Authority\",0,IF('III Tool Overview'!$H$6=\"Eilean Siar Local Authority\",0,new_ci(5,B101,C101,D101,$C$1,G101+H101,1,F101,E101*F101)))))))","v":0},{"$f":"IF('III Tool Overview'!$H$6=\"Orkney Health Board\",0,IF('III Tool Overview'!$H$6=\"Shetland Health Board\",0,IF('III Tool Overview'!$H$6=\"Western Isles Health Board\",0,IF('III Tool Overview'!$H$6=\"Orkney Islands Local Authority\",0,IF('III Tool Overview'!$H$6=\"Shetland Islands Local Authority\",0,IF('III Tool Overview'!$H$6=\"Eilean Siar Local Authority\",0,new_ci(10,B101,C101,D101,$C$1,G101,1,F101,E101*F101)))))))","v":0},{"$f":"IF('III Tool Overview'!$H$6=\"Orkney Health Board\",0,IF('III Tool Overview'!$H$6=\"Shetland Health Board\",0,IF('III Tool Overview'!$H$6=\"Western Isles Health Board\",0,IF('III Tool Overview'!$H$6=\"Orkney Islands Local Authority\",0,IF('III Tool Overview'!$H$6=\"Shetland Islands Local Authority\",0,IF('III Tool Overview'!$H$6=\"Eilean Siar Local Authority\",0,new_ci(10,B101,C101,D101,$C$1,G101+H101,1,F101,E101*F101)))))))","v":0},{"$f":"IF('III Tool Overview'!$H$6=\"Orkney Health Board\",0,IF('III Tool Overview'!$H$6=\"Shetland Health Board\",0,IF('III Tool Overview'!$H$6=\"Western Isles Health Board\",0,IF('III Tool Overview'!$H$6=\"Orkney Islands Local Authority\",0,IF('III Tool Overview'!$H$6=\"Shetland Islands Local Authority\",0,IF('III Tool Overview'!$H$6=\"Eilean Siar Local Authority\",0,new_ci(20,B101,C101,D101,$C$1,G101,1,F101,E101*F101)))))))","v":0},{"$f":"IF('III Tool Overview'!$H$6=\"Orkney Health Board\",0,IF('III Tool Overview'!$H$6=\"Shetland Health Board\",0,IF('III Tool Overview'!$H$6=\"Western Isles Health Board\",0,IF('III Tool Overview'!$H$6=\"Orkney Islands Local Authority\",0,IF('III Tool Overview'!$H$6=\"Shetland Islands Local Authority\",0,IF('III Tool Overview'!$H$6=\"Eilean Siar Local Authority\",0,new_ci(20,B101,C101,D101,$C$1,G101+H101,1,F101,E101*F101)))))))","v":0},{"$f":"IF('III Tool Overview'!$H$6=\"Orkney Health Board\",0,IF('III Tool Overview'!$H$6=\"Shetland Health Board\",0,IF('III Tool Overview'!$H$6=\"Western Isles Health Board\",0,IF('III Tool Overview'!$H$6=\"Orkney Islands Local Authority\",0,IF('III Tool Overview'!$H$6=\"Shetland Islands Local Authority\",0,IF('III Tool Overview'!$H$6=\"Eilean Siar Local Authority\",0,new_yll(2,B101,C101,D101,$C$1,G101,1,F101,E101*F101)))))))","v":0},{"$f":"IF('III Tool Overview'!$H$6=\"Orkney Health Board\",0,IF('III Tool Overview'!$H$6=\"Shetland Health Board\",0,IF('III Tool Overview'!$H$6=\"Western Isles Health Board\",0,IF('III Tool Overview'!$H$6=\"Orkney Islands Local Authority\",0,IF('III Tool Overview'!$H$6=\"Shetland Islands Local Authority\",0,IF('III Tool Overview'!$H$6=\"Eilean Siar Local Authority\",0,new_yll(2,B101,C101,D101,$C$1,G101+H101,1,F101,E101*F101)))))))","v":0},0,{"$f":"IF('III Tool Overview'!$H$6=\"Orkney Health Board\",0,IF('III Tool Overview'!$H$6=\"Shetland Health Board\",0,IF('III Tool Overview'!$H$6=\"Western Isles Health Board\",0,IF('III Tool Overview'!$H$6=\"Orkney Islands Local Authority\",0,IF('III Tool Overview'!$H$6=\"Shetland Islands Local Authority\",0,IF('III Tool Overview'!$H$6=\"Eilean Siar Local Authority\",0,new_yll(5,B101,C101,D101,$C$1,G101,1,F101,E101*F101)))))))","v":0},{"$f":"IF('III Tool Overview'!$H$6=\"Orkney Health Board\",0,IF('III Tool Overview'!$H$6=\"Shetland Health Board\",0,IF('III Tool Overview'!$H$6=\"Western Isles Health Board\",0,IF('III Tool Overview'!$H$6=\"Orkney Islands Local Authority\",0,IF('III Tool Overview'!$H$6=\"Shetland Islands Local Authority\",0,IF('III Tool Overview'!$H$6=\"Eilean Siar Local Authority\",0,new_yll(5,B101,C101,D101,$C$1,G101+H101,1,F101,E101*F101)))))))","v":0},0,{"$f":"IF('III Tool Overview'!$H$6=\"Orkney Health Board\",0,IF('III Tool Overview'!$H$6=\"Shetland Health Board\",0,IF('III Tool Overview'!$H$6=\"Western Isles Health Board\",0,IF('III Tool Overview'!$H$6=\"Orkney Islands Local Authority\",0,IF('III Tool Overview'!$H$6=\"Shetland Islands Local Authority\",0,IF('III Tool Overview'!$H$6=\"Eilean Siar Local Authority\",0,new_yll(10,B101,C101,D101,$C$1,G101,1,F101,E101*F101)))))))","v":0},{"$f":"IF('III Tool Overview'!$H$6=\"Orkney Health Board\",0,IF('III Tool Overview'!$H$6=\"Shetland Health Board\",0,IF('III Tool Overview'!$H$6=\"Western Isles Health Board\",0,IF('III Tool Overview'!$H$6=\"Orkney Islands Local Authority\",0,IF('III Tool Overview'!$H$6=\"Shetland Islands Local Authority\",0,IF('III Tool Overview'!$H$6=\"Eilean Siar Local Authority\",0,new_yll(10,B101,C101,D101,$C$1,G101+H101,1,F101,E101*F101)))))))","v":0},0,{"$f":"IF('III Tool Overview'!$H$6=\"Orkney Health Board\",0,IF('III Tool Overview'!$H$6=\"Shetland Health Board\",0,IF('III Tool Overview'!$H$6=\"Western Isles Health Board\",0,IF('III Tool Overview'!$H$6=\"Orkney Islands Local Authority\",0,IF('III Tool Overview'!$H$6=\"Shetland Islands Local Authority\",0,IF('III Tool Overview'!$H$6=\"Eilean Siar Local Authority\",0,new_yll(20,B101,C101,D101,$C$1,G101,1,F101,E101*F101)))))))","v":0},{"$f":"IF('III Tool Overview'!$H$6=\"Orkney Health Board\",0,IF('III Tool Overview'!$H$6=\"Shetland Health Board\",0,IF('III Tool Overview'!$H$6=\"Western Isles Health Board\",0,IF('III Tool Overview'!$H$6=\"Orkney Islands Local Authority\",0,IF('III Tool Overview'!$H$6=\"Shetland Islands Local Authority\",0,IF('III Tool Overview'!$H$6=\"Eilean Siar Local Authority\",0,new_yll(20,B101,C101,D101,$C$1,G101+H101,1,F101,E101*F101)))))))","v":0},0,{"$f":"IF('III Tool Overview'!$H$6=\"Orkney Health Board\",0,IF('III Tool Overview'!$H$6=\"Shetland Health Board\",0,IF('III Tool Overview'!$H$6=\"Western Isles Health Board\",0,IF('III Tool Overview'!$H$6=\"Orkney Islands Local Authority\",0,IF('III Tool Overview'!$H$6=\"Shetland Islands Local Authority\",0,IF('III Tool Overview'!$H$6=\"Eilean Siar Local Authority\",0,hosp_count(2,B101,C101,D101,$C$1,G101,1,F101,E101*F101)))))))","v":0},{"$f":"IF('III Tool Overview'!$H$6=\"Orkney Health Board\",0,IF('III Tool Overview'!$H$6=\"Shetland Health Board\",0,IF('III Tool Overview'!$H$6=\"Western Isles Health Board\",0,IF('III Tool Overview'!$H$6=\"Orkney Islands Local Authority\",0,IF('III Tool Overview'!$H$6=\"Shetland Islands Local Authority\",0,IF('III Tool Overview'!$H$6=\"Eilean Siar Local Authority\",0,hosp_count(2,B101,C101,D101,$C$1,G101+H101,1,F101,E101*F101)))))))","v":0},0,{"$f":"IF('III Tool Overview'!$H$6=\"Orkney Health Board\",0,IF('III Tool Overview'!$H$6=\"Shetland Health Board\",0,IF('III Tool Overview'!$H$6=\"Western Isles Health Board\",0,IF('III Tool Overview'!$H$6=\"Orkney Islands Local Authority\",0,IF('III Tool Overview'!$H$6=\"Shetland Islands Local Authority\",0,IF('III Tool Overview'!$H$6=\"Eilean Siar Local Authority\",0,hosp_count(5,B101,C101,D101,$C$1,G101,1,F101,E101*F101)))))))","v":0},{"$f":"IF('III Tool Overview'!$H$6=\"Orkney Health Board\",0,IF('III Tool Overview'!$H$6=\"Shetland Health Board\",0,IF('III Tool Overview'!$H$6=\"Western Isles Health Board\",0,IF('III Tool Overview'!$H$6=\"Orkney Islands Local Authority\",0,IF('III Tool Overview'!$H$6=\"Shetland Islands Local Authority\",0,IF('III Tool Overview'!$H$6=\"Eilean Siar Local Authority\",0,hosp_count(5,B101,C101,D101,$C$1,G101+H101,1,F101,E101*F101)))))))","v":0},0,{"$f":"IF('III Tool Overview'!$H$6=\"Orkney Health Board\",0,IF('III Tool Overview'!$H$6=\"Shetland Health Board\",0,IF('III Tool Overview'!$H$6=\"Western Isles Health Board\",0,IF('III Tool Overview'!$H$6=\"Orkney Islands Local Authority\",0,IF('III Tool Overview'!$H$6=\"Shetland Islands Local Authority\",0,IF('III Tool Overview'!$H$6=\"Eilean Siar Local Authority\",0,hosp_count(10,B101,C101,D101,$C$1,G101,1,F101,E101*F101)))))))","v":0},{"$f":"IF('III Tool Overview'!$H$6=\"Orkney Health Board\",0,IF('III Tool Overview'!$H$6=\"Shetland Health Board\",0,IF('III Tool Overview'!$H$6=\"Western Isles Health Board\",0,IF('III Tool Overview'!$H$6=\"Orkney Islands Local Authority\",0,IF('III Tool Overview'!$H$6=\"Shetland Islands Local Authority\",0,IF('III Tool Overview'!$H$6=\"Eilean Siar Local Authority\",0,hosp_count(10,B101,C101,D101,$C$1,G101+H101,1,F101,E101*F101)))))))","v":0},0,{"$f":"IF('III Tool Overview'!$H$6=\"Orkney Health Board\",0,IF('III Tool Overview'!$H$6=\"Shetland Health Board\",0,IF('III Tool Overview'!$H$6=\"Western Isles Health Board\",0,IF('III Tool Overview'!$H$6=\"Orkney Islands Local Authority\",0,IF('III Tool Overview'!$H$6=\"Shetland Islands Local Authority\",0,IF('III Tool Overview'!$H$6=\"Eilean Siar Local Authority\",0,hosp_count(20,B101,C101,D101,$C$1,G101,1,F101,E101*F101)))))))","v":0},{"$f":"IF('III Tool Overview'!$H$6=\"Orkney Health Board\",0,IF('III Tool Overview'!$H$6=\"Shetland Health Board\",0,IF('III Tool Overview'!$H$6=\"Western Isles Health Board\",0,IF('III Tool Overview'!$H$6=\"Orkney Islands Local Authority\",0,IF('III Tool Overview'!$H$6=\"Shetland Islands Local Authority\",0,IF('III Tool Overview'!$H$6=\"Eilean Siar Local Authority\",0,hosp_count(20,B101,C101,D101,$C$1,G101+H101,1,F101,E101*F101)))))))","v":0},0]
["Female 70-74",72.5,"female",1,{"$f":"HLOOKUP('III Tool Overview'!$H$6,Prevalence!$B$2:$AV$268,Prevalence!AW97,FALSE)","v":0},{"$f":"HLOOKUP('III Tool Overview'!$H$6,LookUpData_Pop!$B$1:$AV$269,LookUpData_Pop!BB102,FALSE)/5","v":0}]
["Female 75-79",77.5,"female",1,{"$f":"HLOOKUP('III Tool Overview'!$H$6,Prevalence!$B$2:$AV$268,Prevalence!AW98,FALSE)","v":0},{"$f":"HLOOKUP('III Tool Overview'!$H$6,LookUpData_Pop!$B$1:$AV$269,LookUpData_Pop!BB103,FALSE)/5","v":0}]
["Female 80-84",82.5,"female",1,{"$f":"HLOOKUP('III Tool Overview'!$H$6,Prevalence!$B$2:$AV$268,Prevalence!AW99,FALSE)","v":0},{"$f":"HLOOKUP('III Tool Overview'!$H$6,LookUpData_Pop!$B$1:$AV$269,LookUpData_Pop!BB104,FALSE)/5","v":0}]
["Female 85-89",87.5,"female",1,{"$f":"HLOOKUP('III Tool Overview'!$H$6,Prevalence!$B$2:$AV$268,Prevalence!AW100,FALSE)","v":0},{"$f":"HLOOKUP('III Tool Overview'!$H$6,LookUpData_Pop!$B$1:$AV$269,LookUpData_Pop!BB105,FALSE)/5","v":0}]
["Female 90+",95,"male",1,null,{"$f":"HLOOKUP('III Tool Overview'!$H$6,LookUpData_Pop!$B$1:$AV$269,LookUpData_Pop!BB106,FALSE)/5","v":0}]
["TOTAL",null,null,null,null,{"$f":"SUM(F91:F101)","v":0},{"$f":"SUM(G91:G101)","v":0},36,0,0,0,0,0,0,0,0,0,0,0,0,0,0,0,0,0,0,0,0,0,0,0,0,0,0,0,0,0,0,0,0]
["age/sex breakdown: Q2"]
["Male <1",0.5,"male",2,null,{"$f":"HLOOKUP('III Tool Overview'!$H$6,LookUpData_Pop!$B$1:$AV$269,LookUpData_Pop!BB108,FALSE)/5","v":23.8}]
["Male 1-4",2.5,"male",2,null,{"$f":"HLOOKUP('III Tool Overview'!$H$6,LookUpData_Pop!$B$1:$AV$269,LookUpData_Pop!BB109,FALSE)/5","v":94.2}]
["Male 5-9",7.5,"male",2,null,{"$f":"HLOOKUP('III Tool Overview'!$H$6,LookUpData_Pop!$B$1:$AV$269,LookUpData_Pop!BB110,FALSE)/5","v":90.4}]
["Male 10-14",12.5,"male",2,null,{"$f":"HLOOKUP('III Tool Overview'!$H$6,LookUpData_Pop!$B$1:$AV$269,LookUpData_Pop!BB111,FALSE)/5","v":145.80000000000001}]
["Male 15-19",17.5,"male",2,{"$f":"HLOOKUP('III Tool Overview'!$H$6,Prevalence!$B$2:$AV$268,Prevalence!AW107,FALSE)","v":0.10333333333333333},{"$f":"HLOOKUP('III Tool Overview'!$H$6,LookUpData_Pop!$B$1:$AV$269,LookUpData_Pop!BB112,FALSE)/5","v":134.6},{"$f":"'III Tool Overview'!$H$9/110","v":0},{"$f":"IF('III Tool Overview'!$H$10=\"Even distribution\",Targeting!C109,IF('III Tool Overview'!$H$10=\"Targeting to Q1\",Targeting!D109,IF('III Tool Overview'!$H$10=\"Targeting to Q1 & Q2\",Targeting!E109,IF('III Tool Overview'!$H$10=\"Proportionate to need\",Targeting!F109))))","v":3.2727272727272729},{"$f":"new_ci(2,B113,C113,D113,$C$1,G113,1,F113,E113*F113)","v":9.1723230525097232E-2},{"$f":"new_ci(2,B113,C113,D113,$C$1,G113+H113,1,F113,E113*F113)","v":9.0925286686435514E-2},{"$f":"new_ci(5,B113,C113,D113,$C$1,G113,1,F113,E113*F113)","v":0.40086747023296337},{"$f":"new_ci(5,B113,C113,D113,$C$1,G113+H113,1,F113,E113*F113)","v":0.39797027934424595},{"$f":"new_ci(10,B113,C113,D113,$C$1,G113,1,F113,E113*F113)","v":1.0507931250492997},{"$f":"new_ci(10,B113,C113,D113,$C$1,G113+H113,1,F113,E113*F113)","v":1.0453276100231159},{"$f":"new_ci(20,B113,C113,D113,$C$1,G113,1,F113,E113*F113)","v":3.0657851020375979},{"$f":"new_ci(20,B113,C113,D113,$C$1,G113+H113,1,F113,E113*F113)","v":3.0577563694286605},{"$f":"new_yll(2,B113,C113,D113,$C$1,G113,1,F113,E113*F113)","v":7.4295816725328763},{"$f":"new_yll(2,B113,C113,D113,$C$1,G113+H113,1,F113,E113*F113)","v":7.3649482216012769},{"$f":"Q113-R113","v":6.4633450931599334E-2},{"$f":"new_yll(5,B113,C113,D113,$C$1,G113,1,F113,E113*F113)","v":31.840108083728545},{"$f":"new_yll(5,B113,C113,D113,$C$1,G113+H113,1,F113,E113*F113)","v":31.609535921665277},{"$f":"T113-U113","v":0.23057216206326814},{"$f":"new_yll(10,B113,C113,D113,$C$1,G113,1,F113,E113*F113)","v":80.510017054325289},{"$f":"new_yll(10,B113,C113,D113,$C$1,G113+H113,1,F113,E113*F113)","v":80.086384833444782},{"$f":"W113-X113","v":0.42363222088050634},{"$f":"new_yll(20,B113,C113,D113,$C$1,G113,1,F113,E113*F113)","v":215.58228310384138},{"$f":"new_yll(20,B113,C113,D113,$C$1,G113+H113,1,F113,E113*F113)","v":214.98340600067144},{"$f":"Z113-AA113","v":0.59887710316994003},{"$f":"hosp_count(2,B113,C113,D113,$C$1,G113,1,F113,E113*F113)","v":10.894537227893366},{"$f":"hosp_count(2,B113,C113,D113,$C$1,G113+H113,1,F113,E113*F113)","v":10.887674715212592},{"$f":"AC113-AD113","v":6.8625126807742021E-3},{"$f":"hosp_count(5,B113,C113,D113,$C$1,G113,1,F113,E113*F113)","v":46.020678738773995},{"$f":"hosp_count(5,B113,C113,D113,$C$1,G113+H113,1,F113,E113*F113)","v":45.995075511691823},{"$f":"AF113-AG113","v":2.5603227082171998E-2},{"$f":"hosp_count(10,B113,C113,D113,$C$1,G113,1,F113,E113*F113)","v":113.60291356183183},{"$f":"hosp_count(10,B113,C113,D113,$C$1,G113+H113,1,F113,E113*F113)","v":113.55183144914653},{"$f":"AI113-AJ113","v":5.1082112685293168E-2},{"$f":"hosp_count(20,B113,C113,D113,$C$1,G113,1,F113,E113*F113)","v":290.42365252462275},{"$f":"hosp_count(20,B113,C113,D113,$C$1,G113+H113,1,F113,E113*F113)","v":290.34035293667279},{"$f":"AL113-AM113","v":8.3299587949966281E-2}]
["Male 20-24",22.5,"male",2,{"$f":"HLOOKUP('III Tool Overview'!$H$6,Prevalence!$B$2:$AV$268,Prevalence!AW108,FALSE)","v":0.18787878787878787},{"$f":"HLOOKUP('III Tool Overview'!$H$6,LookUpData_Pop!$B$1:$AV$269,LookUpData_Pop!BB113,FALSE)/5","v":106.8},{"$f":"'III Tool Overview'!$H$9/110","v":0},{"$f":"IF('III Tool Overview'!$H$10=\"Even distribution\",Targeting!C110,IF('III Tool Overview'!$H$10=\"Targeting to Q1\",Targeting!D110,IF('III Tool Overview'!$H$10=\"Targeting to Q1 & Q2\",Targeting!E110,IF('III Tool Overview'!$H$10=\"Proportionate to need\",Targeting!F110))))","v":3.2727272727272729},9.7212883322335214E-2,9.6197175723849754E-2,0.4246798456488155,0.42099518467318292,1.1122214575212193,1.1052836552854455,3.2360146531535698,3.2258864641304719,7.4853920158198113,7.4071825307364314,7.8209485083379882E-2,32.032903723967067,31.754396669514485,{"$f":"T114-U114","v":0.27850705445258228},80.770019525876208,80.259979402208515,{"$f":"W114-X114","v":0.51004012366769302},214.65012304764986,213.93461309065734,{"$f":"Z114-AA114","v":0.71550995699251985},9.9391380703637786,9.9312607978827856,{"$f":"AC114-AD114","v":7.8772724809930139E-3},41.96937190881814,41.940121347090319,{"$f":"AF114-AG114","v":2.9250561727820923E-2},103.5237027169587,103.46590335039237,{"$f":"AI114-AJ114","v":5.7799366566328558E-2},264.05923713428564,263.96755912871402,{"$f":"AL114-AM114","v":9.1678005571623089E-2}]
["Male 25-29",27.5,"male",2,{"$f":"HLOOKUP('III Tool Overview'!$H$6,Prevalence!$B$2:$AV$268,Prevalence!AW109,FALSE)","v":0.15030303030303033},{"$f":"HLOOKUP('III Tool Overview'!$H$6,LookUpData_Pop!$B$1:$AV$269,LookUpData_Pop!BB114,FALSE)/5","v":115.8},{"$f":"'III Tool Overview'!$H$9/110","v":0},{"$f":"IF('III Tool Overview'!$H$10=\"Even distribution\",Targeting!C111,IF('III Tool Overview'!$H$10=\"Targeting to Q1\",Targeting!D111,IF('III Tool Overview'!$H$10=\"Targeting to Q1 & Q2\",Targeting!E111,IF('III Tool Overview'!$H$10=\"Proportionate to need\",Targeting!F111))))","v":3.2727272727272729},0.16270822892139766,0.1611044193678289,0.71018909700277588,0.704384589261423,1.8565977186047662,1.8457247711197322,5.3714662721317339,5.3558584428314751,11.552284253419234,11.438413775115853,0.11387047830338126,49.30775741966152,48.903835136339239,0.40392228332228086,123.69535481622951,122.96107700099829,0.73427781523122349,324.20968132365329,323.1984184438723,1.0112628797809862,13.28637927793322,13.276659714597555,9.7195633356648159E-3,56.058843908179881,56.023213706095476,3.5630202084405482E-2,138.05170638819783,137.9831612783228,6.854510987503204E-2,350.422374109695,350.322159550084,0.10021455961100401]
["Male 30-34",32.5,"male",2,{"$f":"HLOOKUP('III Tool Overview'!$H$6,Prevalence!$B$2:$AV$268,Prevalence!AW110,FALSE)","v":0.14090909090909093},{"$f":"HLOOKUP('III Tool Overview'!$H$6,LookUpData_Pop!$B$1:$AV$269,LookUpData_Pop!BB115,FALSE)/5","v":116},{"$f":"'III Tool Overview'!$H$9/110","v":0},{"$f":"IF('III Tool Overview'!$H$10=\"Even distribution\",Targeting!C112,IF('III Tool Overview'!$H$10=\"Targeting to Q1\",Targeting!D112,IF('III Tool Overview'!$H$10=\"Targeting to Q1 & Q2\",Targeting!E112,IF('III Tool Overview'!$H$10=\"Proportionate to need\",Targeting!F112))))","v":3.2727272727272729},0.2176835355694311,0.21553134271977514,0.94936331183207301,0.94159109400176066,2.4775608641151776,2.4630720397517574,7.129638247309062,7.1091644259281148,14.584796883151883,14.440599962224935,0.14419692092694802,62.116576652243268,61.606799148646957,0.50977750359631102,155.16683453965791,154.24609912147707,0.92073541818083982,401.98897390870883,400.74148304517553,1.2474908635333009,15.302761839399311,15.291584527865512,1.1177311533799639E-2,64.517466315763329,64.476986048658517,4.0480267104811674E-2,158.63508422696137,158.55920919062677,7.5875036334593915E-2,400.81583974224105,400.71410323354058,0.10173650870046913]
["Male 35-39",37.5,"male",2,{"$f":"HLOOKUP('III Tool Overview'!$H$6,Prevalence!$B$2:$AV$268,Prevalence!AW111,FALSE)","v":0.15969696969696973},{"$f":"HLOOKUP('III Tool Overview'!$H$6,LookUpData_Pop!$B$1:$AV$269,LookUpData_Pop!BB116,FALSE)/5","v":125},{"$f":"'III Tool Overview'!$H$9/110","v":0},{"$f":"IF('III Tool Overview'!$H$10=\"Even distribution\",Targeting!C113,IF('III Tool Overview'!$H$10=\"Targeting to Q1\",Targeting!D113,IF('III Tool Overview'!$H$10=\"Targeting to Q1 & Q2\",Targeting!E113,IF('III Tool Overview'!$H$10=\"Proportionate to need\",Targeting!F113))))","v":3.2727272727272729},0.36199576413067647,0.35871888613273117,1.5758861593895572,1.5641053692562368,4.0970198351182194,4.0752747819827642,11.652627431076761,11.622877020291721,22.081741611971264,21.881852054096601,0.19988955787466267,93.656784069309964,92.954721229567156,0.70206283974280836,232.04669997279606,230.79462234676308,1.2520776260329853,587.73278339928595,586.089872543208,1.6429108560779468,20.330237797078844,20.316463582255441,1.3774214823403241E-2,85.572850639917718,85.524209993168981,4.8640646748737026E-2,209.70007472337193,209.61394710905341,8.6127614318513679E-2,524.61019752768209,524.51777266080398,9.2424866878104694E-2]
["Male 40-44",42.5,"male",2,{"$f":"HLOOKUP('III Tool Overview'!$H$6,Prevalence!$B$2:$AV$268,Prevalence!AW112,FALSE)","v":0.17848484848484841},{"$f":"HLOOKUP('III Tool Overview'!$H$6,LookUpData_Pop!$B$1:$AV$269,LookUpData_Pop!BB117,FALSE)/5","v":157.19999999999999},{"$f":"'III Tool Overview'!$H$9/110","v":0},{"$f":"IF('III Tool Overview'!$H$10=\"Even distribution\",Targeting!C114,IF('III Tool Overview'!$H$10=\"Targeting to Q1\",Targeting!D114,IF('III Tool Overview'!$H$10=\"Targeting to Q1 & Q2\",Targeting!E114,IF('III Tool Overview'!$H$10=\"Proportionate to need\",Targeting!F114))))","v":3.2727272727272729},{"$f":"new_ci(2,B118,C118,D118,$C$1,G118,1,F118,E118*F118)","v":0.60784881498879617},0.60352139579054676,2.6415933867565764,2.6261010293621814,6.8428451644728359,6.8145133006708249,19.247397486199336,19.209790635765764,34.647382454361384,34.400719560061162,0.24666289430022204,146.43035947271395,145.56901891513752,0.86134055757642614,360.2524433173906,358.73357149145534,1.518871825935264,894.81843538005694,892.88150181128026,1.9369335687766807,29.396710185082135,29.380878623186582,1.5831561895552682E-2,123.54132108142988,123.48674702797413,5.4574053455752392E-2,301.7782030564278,301.68701762551314,9.1185430914663357E-2,747.92656009993254,747.85409447369011,7.2465626242433245E-2]
["Male 45-49",47.5,"male",2,{"$f":"HLOOKUP('III Tool Overview'!$H$6,Prevalence!$B$2:$AV$268,Prevalence!AW113,FALSE)","v":0.21606060606060604},{"$f":"HLOOKUP('III Tool Overview'!$H$6,LookUpData_Pop!$B$1:$AV$269,LookUpData_Pop!BB118,FALSE)/5","v":146.6},{"$f":"'III Tool Overview'!$H$9/110","v":0},{"$f":"IF('III Tool Overview'!$H$10=\"Even distribution\",Targeting!C115,IF('III Tool Overview'!$H$10=\"Targeting to Q1\",Targeting!D115,IF('III Tool Overview'!$H$10=\"Targeting to Q1 & Q2\",Targeting!E115,IF('III Tool Overview'!$H$10=\"Proportionate to need\",Targeting!F115))))","v":3.2727272727272729},0.87427975818100323,0.86776314483031747,3.7852019213935812,3.7620763708295977,9.7287129501356393,9.6872343533172387,26.72156117971473,26.669880213396603,44.588267667231165,44.25592038634619,0.33234728088497434,187.12387917902453,185.97671365487292,1.1471655241516032,453.99454063150341,452.01709527591669,1.977445355586724,1085.0167221393958,1082.6331658621555,2.3835562772403591,33.798760587882427,33.779257791073618,1.9502796808808398E-2,141.56139609126373,141.49756756137998,6.3828529883750207E-2,343.42662213472101,343.33390701500008,9.271511972093549E-2,834.33047335138428,834.32204689239688,8.4264589874010198E-3]
["Male 50-54",52.5,"male",2,{"$f":"HLOOKUP('III Tool Overview'!$H$6,Prevalence!$B$2:$AV$268,Prevalence!AW114,FALSE)","v":0.24424242424242423},{"$f":"HLOOKUP('III Tool Overview'!$H$6,LookUpData_Pop!$B$1:$AV$269,LookUpData_Pop!BB119,FALSE)/5","v":152.4},{"$f":"'III Tool Overview'!$H$9/110","v":0},{"$f":"IF('III Tool Overview'!$H$10=\"Even distribution\",Targeting!C116,IF('III Tool Overview'!$H$10=\"Targeting to Q1\",Targeting!D116,IF('III Tool Overview'!$H$10=\"Targeting to Q1 & Q2\",Targeting!E116,IF('III Tool Overview'!$H$10=\"Proportionate to need\",Targeting!F116))))","v":3.2727272727272729},1.212861590550979,1.2042930211158676,5.2323610512764382,5.2022044792609679,13.348770629831117,13.295660404329073,35.859427447348956,35.797083186033355,57.004494755896012,56.601771992445777,0.40272276345023528,237.75088886552925,236.37533453867621,1.3755543268530346,569.77050954582171,567.44773178145329,2.3227777643684249,1316.5103448341115,1313.8460414568387,2.6643033772727449,40.39852559450221,40.376112655850129,2.2412938652081493E-2,168.65983408643632,168.59011973567149,6.9714350764826349E-2,406.51146928082187,406.42546011281303,8.6009168008843062E-2,969.35362712243204,969.42332139512109,-6.9694272689048375E-2]
["Male 55-59",57.5,"male",2,{"$f":"HLOOKUP('III Tool Overview'!$H$6,Prevalence!$B$2:$AV$268,Prevalence!AW115,FALSE)","v":0.31939393939393934},{"$f":"HLOOKUP('III Tool Overview'!$H$6,LookUpData_Pop!$B$1:$AV$269,LookUpData_Pop!BB120,FALSE)/5","v":156.19999999999999},{"$f":"'III Tool Overview'!$H$9/110","v":0},{"$f":"IF('III Tool Overview'!$H$10=\"Even distribution\",Targeting!C117,IF('III Tool Overview'!$H$10=\"Targeting to Q1\",Targeting!D117,IF('III Tool Overview'!$H$10=\"Targeting to Q1 & Q2\",Targeting!E117,IF('III Tool Overview'!$H$10=\"Proportionate to need\",Targeting!F117))))","v":3.2727272727272729},1.9149589233586213,1.9023250955488926,8.1974701883622068,8.1537348128827833,20.58192053136468,20.507653547862837,52.762524240142909,52.685120841558451,78.513315857703475,77.995328917504594,0.51798694019888103,323.34817571311243,321.61496943979779,1.7332062733146358,755.8166123983334,753.00485502920287,2.8117573691305324,1632.9006574023649,1629.9537750380489,2.9468823643160249,51.048406877012475,51.020816884576028,2.7589992436446664E-2,211.64727438237009,211.57024291141471,7.703147095537588E-2,503.05821080085985,503.00040878771978,5.7802013140076269E-2,1153.6508227933557,1153.9057520796537,-0.25492928629796552]
["Male 60-64",62.5,"male",2,{"$f":"HLOOKUP('III Tool Overview'!$H$6,Prevalence!$B$2:$AV$268,Prevalence!AW116,FALSE)","v":0.573030303030303},{"$f":"HLOOKUP('III Tool Overview'!$H$6,LookUpData_Pop!$B$1:$AV$269,LookUpData_Pop!BB121,FALSE)/5","v":167},{"$f":"'III Tool Overview'!$H$9/110","v":0},{"$f":"IF('III Tool Overview'!$H$10=\"Even distribution\",Targeting!C118,IF('III Tool Overview'!$H$10=\"Targeting to Q1\",Targeting!D118,IF('III Tool Overview'!$H$10=\"Targeting to Q1 & Q2\",Targeting!E118,IF('III Tool Overview'!$H$10=\"Proportionate to need\",Targeting!F118))))","v":3.2727272727272729},2.7292494877650442,2.714399286132227,11.600593622111056,11.549650056975999,28.705591790704474,28.620799404067345,70.570158773142325,70.487373739596421,100.98223104730664,100.4327735868924,0.5494574604142457,411.24909048620884,409.43356085754675,1.815529628662091,940.34696563190903,937.46990930897982,2.8770563229292065,1917.1195909420348,1914.2325819712034,2.8870089708314026,62.752549992753003,62.720987431695626,3.1562561057377536E-2,258.46354382209955,258.3808445635417,8.2699258557852318E-2,606.31873705816474,606.28133468785336,3.7402370311383493E-2,1341.4679879172888,1341.851010663901,-0.38302274661214142]
["Male 65-69",67.5,"male",2,{"$f":"HLOOKUP('III Tool Overview'!$H$6,Prevalence!$B$2:$AV$268,Prevalence!AW117,FALSE)","v":0.88303030303030294},{"$f":"HLOOKUP('III Tool Overview'!$H$6,LookUpData_Pop!$B$1:$AV$269,LookUpData_Pop!BB122,FALSE)/5","v":138.80000000000001},{"$f":"'III Tool Overview'!$H$9/110","v":0},{"$f":"IF('III Tool Overview'!$H$10=\"Even distribution\",Targeting!C119,IF('III Tool Overview'!$H$10=\"Targeting to Q1\",Targeting!D119,IF('III Tool Overview'!$H$10=\"Targeting to Q1 & Q2\",Targeting!E119,IF('III Tool Overview'!$H$10=\"Proportionate to need\",Targeting!F119))))","v":3.2727272727272729},3.4876279141694129,3.4677047608469951,14.616095734255342,14.549166314573363,35.143163909850031,35.036795904988097,79.708353102689784,79.6190409634373,108.1164653392518,107.49884758625684,0.6176177529949598,430.62450316660465,428.63949247225889,1.9850106943457604,942.91239709165757,939.92364120162051,2.988755890037055,1722.2942127596448,1719.5316264152618,2.762586344382953,64.302075166681135,64.263400398709109,3.8674767972025847E-2,261.12428560783451,261.03797987875703,8.6305729077480464E-2,595.64831612892385,595.67907551491874,-3.0759385994883814E-2,1223.2087645280367,1223.8946437281304,-0.68587920009372283]
["Male 70-74",72.5,"male",2,{"$f":"HLOOKUP('III Tool Overview'!$H$6,Prevalence!$B$2:$AV$268,Prevalence!AW118,FALSE)","v":0},{"$f":"HLOOKUP('III Tool Overview'!$H$6,LookUpData_Pop!$B$1:$AV$269,LookUpData_Pop!BB123,FALSE)/5","v":115.8}]
["Male 75-79",77.5,"male",2,{"$f":"HLOOKUP('III Tool Overview'!$H$6,Prevalence!$B$2:$AV$268,Prevalence!AW119,FALSE)","v":0},{"$f":"HLOOKUP('III Tool Overview'!$H$6,LookUpData_Pop!$B$1:$AV$269,LookUpData_Pop!BB124,FALSE)/5","v":58.2}]
["Male 80-84",82.5,"male",2,{"$f":"HLOOKUP('III Tool Overview'!$H$6,Prevalence!$B$2:$AV$268,Prevalence!AW120,FALSE)","v":0},{"$f":"HLOOKUP('III Tool Overview'!$H$6,LookUpData_Pop!$B$1:$AV$269,LookUpData_Pop!BB125,FALSE)/5","v":49.4}]
["Male 85-89",87.5,"male",2,{"$f":"HLOOKUP('III Tool Overview'!$H$6,Prevalence!$B$2:$AV$268,Prevalence!AW121,FALSE)","v":0},{"$f":"HLOOKUP('III Tool Overview'!$H$6,LookUpData_Pop!$B$1:$AV$269,LookUpData_Pop!BB126,FALSE)/5","v":30.8}]
["Male 90+",95,"male",2,null,{"$f":"HLOOKUP('III Tool Overview'!$H$6,LookUpData_Pop!$B$1:$AV$269,LookUpData_Pop!BB127,FALSE)/5","v":7}]
["TOTAL",null,null,null,null,{"$f":"SUM(F113:F123)","v":1516.4},{"$f":"SUM(G113:G123)","v":0},36,11.758150131482793,11.682483814895468,50.134301788261382,49.871979580421737,124.94519797676746,124.49733977339824,315.32495393494673,314.83983230239835,486.98595355864552,483.71835857328205,3.2675949853634894,2005.4810268321039,1994.4383779840232,11.042648848080802,4695.2823945255004,4676.9449667935205,18.337427731980455,10312.82380824075,10292.026485678374,20.797322562374859,351.45008261658188,351.24509712290501,0.20498549367692753,1459.1368665828873,1458.5231082854443,0.61375829744298471,3480.2550400772411,3479.5812561213597,0.67378395588077922,8100.2695368509558,8101.1128167427087,-0.84327989175187668]
["Female <1",0.5,"female",2,null,{"$f":"HLOOKUP('III Tool Overview'!$H$6,LookUpData_Pop!$B$1:$AV$269,LookUpData_Pop!BB128,FALSE)/5","v":22.8}]
["Female 1-4",2.5,"female",2,null,{"$f":"HLOOKUP('III Tool Overview'!$H$6,LookUpData_Pop!$B$1:$AV$269,LookUpData_Pop!BB129,FALSE)/5","v":83}]
["Female 5-9",7.5,"female",2,null,{"$f":"HLOOKUP('III Tool Overview'!$H$6,LookUpData_Pop!$B$1:$AV$269,LookUpData_Pop!BB130,FALSE)/5","v":117}]
["Female 10-14",12.5,"female",2,null,{"$f":"HLOOKUP('III Tool Overview'!$H$6,LookUpData_Pop!$B$1:$AV$269,LookUpData_Pop!BB131,FALSE)/5","v":117.8}]
["Female 15-19",17.5,"female",2,{"$f":"HLOOKUP('III Tool Overview'!$H$6,Prevalence!$B$2:$AV$268,Prevalence!AW127,FALSE)","v":0.10476190476190476},{"$f":"HLOOKUP('III Tool Overview'!$H$6,LookUpData_Pop!$B$1:$AV$269,LookUpData_Pop!BB132,FALSE)/5","v":136.6},{"$f":"'III Tool Overview'!$H$9/110","v":0},{"$f":"IF('III Tool Overview'!$H$10=\"Even distribution\",Targeting!C129,IF('III Tool Overview'!$H$10=\"Targeting to Q1\",Targeting!D109,IF('III Tool Overview'!$H$10=\"Targeting to Q1 & Q2\",Targeting!E129,IF('III Tool Overview'!$H$10=\"Proportionate to need\",Targeting!F129))))","v":3.2727272727272729},{"$f":"new_ci(2,B134,C134,D134,$C$1,G134,1,F134,E134*F134)","v":3.8177920549854513E-2},{"$f":"new_ci(2,B134,C134,D134,$C$1,G134+H134,1,F134,E134*F134)","v":3.7850283462011289E-2},{"$f":"new_ci(5,B134,C134,D134,$C$1,G134,1,F134,E134*F134)","v":0.16949874625478772},{"$f":"new_ci(5,B134,C134,D134,$C$1,G134+H134,1,F134,E134*F134)","v":0.16829068746780745},{"$f":"new_ci(10,B134,C134,D134,$C$1,G134,1,F134,E134*F134)","v":0.45713873480342482},{"$f":"new_ci(10,B134,C134,D134,$C$1,G134+H134,1,F134,E134*F134)","v":0.45480408724250077},{"$f":"new_ci(20,B134,C134,D134,$C$1,G134,1,F134,E134*F134)","v":1.4239331066710403},{"$f":"new_ci(20,B134,C134,D134,$C$1,G134+H134,1,F134,E134*F134)","v":1.4203549004989358},{"$f":"new_yll(2,B134,C134,D134,$C$1,G134,1,F134,E134*F134)","v":3.0924115645382155},{"$f":"new_yll(2,B134,C134,D134,$C$1,G134+H134,1,F134,E134*F134)","v":3.0658729604229142},{"$f":"Q134-R134","v":2.653860411530129E-2},{"$f":"new_yll(5,B134,C134,D134,$C$1,G134,1,F134,E134*F134)","v":13.460842483254723},{"$f":"new_yll(5,B134,C134,D134,$C$1,G134+H134,1,F134,E134*F134)","v":13.364715816063697},{"$f":"T134-U134","v":9.6126667191025916E-2},{"$f":"new_yll(10,B134,C134,D134,$C$1,G134,1,F134,E134*F134)","v":34.995085573321219},{"$f":"new_yll(10,B134,C134,D134,$C$1,G134+H134,1,F134,E134*F134)","v":34.814300681798819},{"$f":"W134-X134","v":0.18078489152239996},{"$f":"new_yll(20,B134,C134,D134,$C$1,G134,1,F134,E134*F134)","v":99.721762562490298},{"$f":"new_yll(20,B134,C134,D134,$C$1,G134+H134,1,F134,E134*F134)","v":99.456131551675156},{"$f":"Z134-AA134","v":0.26563101081514162},{"$f":"hosp_count(2,B134,C134,D134,$C$1,G134,1,F134,E134*F134)","v":15.936643511970468},{"$f":"hosp_count(2,B134,C134,D134,$C$1,G134+H134,1,F134,E134*F134)","v":15.926751633058927},{"$f":"AC134-AD134","v":9.8918789115405303E-3},{"$f":"hosp_count(5,B134,C134,D134,$C$1,G134,1,F134,E134*F134)","v":66.309114980879244},{"$f":"hosp_count(5,B134,C134,D134,$C$1,G134+H134,1,F134,E134*F134)","v":66.272381945727616},{"$f":"AF134-AG134","v":3.6733035151627291E-2},{"$f":"hosp_count(10,B134,C134,D134,$C$1,G134,1,F134,E134*F134)","v":159.47824676066861},{"$f":"hosp_count(10,B134,C134,D134,$C$1,G134+H134,1,F134,E134*F134)","v":159.40518272770035},{"$f":"AI134-AJ134","v":7.3064032968261472E-2},{"$f":"hosp_count(20,B134,C134,D134,$C$1,G134,1,F134,E134*F134)","v":385.94667266227685},{"$f":"hosp_count(20,B134,C134,D134,$C$1,G134+H134,1,F134,E134*F134)","v":385.82577182559135},{"$f":"AL134-AM134","v":0.12090083668550733}]
["Female 20-24",22.5,"female",2,{"$f":"HLOOKUP('III Tool Overview'!$H$6,Prevalence!$B$2:$AV$268,Prevalence!AW128,FALSE)","v":0.19047619047619049},{"$f":"HLOOKUP('III Tool Overview'!$H$6,LookUpData_Pop!$B$1:$AV$269,LookUpData_Pop!BB133,FALSE)/5","v":98.2},{"$f":"'III Tool Overview'!$H$9/110","v":0},{"$f":"IF('III Tool Overview'!$H$10=\"Even distribution\",Targeting!C130,IF('III Tool Overview'!$H$10=\"Targeting to Q1\",Targeting!D110,IF('III Tool Overview'!$H$10=\"Targeting to Q1 & Q2\",Targeting!E130,IF('III Tool Overview'!$H$10=\"Proportionate to need\",Targeting!F130))))","v":3.2727272727272729},3.8086409063480375E-2,3.765500329280802E-2,0.16905800165344159,0.16746799670652729,0.45574638343271645,0.45267656251469057,1.4174610504766754,1.4127720029258612,2.9326534978879888,2.8994352535462173,3.3218244341771452E-2,12.749636203335582,12.629477035792076,{"$f":"T135-U135","v":0.12015916754350542},33.065985584029498,32.840542152956552,{"$f":"W135-X135","v":0.22544343107294651},93.608075990852882,93.278605401996387,{"$f":"Z135-AA135","v":0.32947058885649483},12.643631874104043,12.632734924087851,{"$f":"AC135-AD135","v":1.0896950016192619E-2},52.598376869565421,52.558001463481851,{"$f":"AF135-AG135","v":4.0375406083569487E-2},126.45691549687574,126.37696236353496,{"$f":"AI135-AJ135","v":7.9953133340779914E-2},305.68965036370969,305.55891195611821,{"$f":"AL135-AM135","v":0.1307384075914797}]
["Female 25-29",27.5,"female",2,{"$f":"HLOOKUP('III Tool Overview'!$H$6,Prevalence!$B$2:$AV$268,Prevalence!AW129,FALSE)","v":0.24761904761904766},{"$f":"HLOOKUP('III Tool Overview'!$H$6,LookUpData_Pop!$B$1:$AV$269,LookUpData_Pop!BB134,FALSE)/5","v":111},{"$f":"'III Tool Overview'!$H$9/110","v":0},{"$f":"IF('III Tool Overview'!$H$10=\"Even distribution\",Targeting!C131,IF('III Tool Overview'!$H$10=\"Targeting to Q1\",Targeting!D111,IF('III Tool Overview'!$H$10=\"Targeting to Q1 & Q2\",Targeting!E131,IF('III Tool Overview'!$H$10=\"Proportionate to need\",Targeting!F131))))","v":3.2727272727272729},7.0373421738803343E-2,6.9687499538165332E-2,0.31223288868929422,0.30970743379963672,0.84088632055696799,0.83602194806224583,2.6066469219659991,2.5992783136748692,4.9965129434550377,4.9478124672097383,4.8700476245299384E-2,21.673993754861943,21.498291510110896,0.17570224475104723,55.965841749010742,55.637759267399986,0.32808248161075682,156.53942850095072,156.06538323760941,0.47404526334130992,16.569317806450979,16.556696743938737,1.2621062512241821E-2,68.902177829513079,68.855669519716074,4.6508309797005154E-2,165.51784983886705,165.42676166103647,9.1088177830584982E-2,399.09673345845971,398.95220439705093,0.14452906140877531]
["Female 30-34",32.5,"female",2,{"$f":"HLOOKUP('III Tool Overview'!$H$6,Prevalence!$B$2:$AV$268,Prevalence!AW130,FALSE)","v":0.26666666666666672},{"$f":"HLOOKUP('III Tool Overview'!$H$6,LookUpData_Pop!$B$1:$AV$269,LookUpData_Pop!BB135,FALSE)/5","v":116.6},{"$f":"'III Tool Overview'!$H$9/110","v":0},{"$f":"IF('III Tool Overview'!$H$10=\"Even distribution\",Targeting!C132,IF('III Tool Overview'!$H$10=\"Targeting to Q1\",Targeting!D112,IF('III Tool Overview'!$H$10=\"Targeting to Q1 & Q2\",Targeting!E132,IF('III Tool Overview'!$H$10=\"Proportionate to need\",Targeting!F132))))","v":3.2727272727272729},0.10257705891732653,0.10163703860625155,0.45490974102149812,0.45145230061174485,1.2239308765292423,1.2172870901766615,3.7815313408339142,3.7715505439533472,6.8726629474608778,6.8096815866188534,6.2981360842024436E-2,29.758591783696627,29.531875458253108,0.22671632544351894,76.566747655556711,76.145176907837353,0.42157074771935754,212.02507940759628,211.42221179610451,0.60286761149177437,19.208541747396367,19.194619331316495,1.392241607987188E-2,79.845571866699402,79.794549013818255,5.1022852881146719E-2,191.64840004276027,191.54958272297606,9.8817319784217261E-2,460.93364741166147,460.78172283426653,0.15192457739493648]
["Female 35-39",37.5,"female",2,{"$f":"HLOOKUP('III Tool Overview'!$H$6,Prevalence!$B$2:$AV$268,Prevalence!AW131,FALSE)","v":0.27619047619047626},{"$f":"HLOOKUP('III Tool Overview'!$H$6,LookUpData_Pop!$B$1:$AV$269,LookUpData_Pop!BB136,FALSE)/5","v":145.4},{"$f":"'III Tool Overview'!$H$9/110","v":0},{"$f":"IF('III Tool Overview'!$H$10=\"Even distribution\",Targeting!C133,IF('III Tool Overview'!$H$10=\"Targeting to Q1\",Targeting!D113,IF('III Tool Overview'!$H$10=\"Targeting to Q1 & Q2\",Targeting!E133,IF('III Tool Overview'!$H$10=\"Proportionate to need\",Targeting!F133))))","v":3.2727272727272729},0.20906037958797083,0.20753221488270099,0.92620103269663479,0.9205937644336466,2.4864006580807949,2.4756846104465842,7.6251358541911918,7.6093443862312453,12.752683154866221,12.65946510784476,9.3218047021460748E-2,55.032358649006127,54.698301995523934,0.33405665348219316,140.63890067928901,140.02304347758016,0.61585720170884883,382.03235854580197,381.17067756847223,0.86168097732974047,27.770362334851608,27.754224097310288,1.6138237541319711E-2,115.33143274812848,115.27304203846265,5.8390709665829377E-2,276.3064203415255,276.19631234634136,0.11010799518413705,660.74864537779683,660.59230425979797,0.15634111799886341]
["Female 40-44",42.5,"female",2,{"$f":"HLOOKUP('III Tool Overview'!$H$6,Prevalence!$B$2:$AV$268,Prevalence!AW132,FALSE)","v":0.24761904761904766},{"$f":"HLOOKUP('III Tool Overview'!$H$6,LookUpData_Pop!$B$1:$AV$269,LookUpData_Pop!BB137,FALSE)/5","v":144.80000000000001},{"$f":"'III Tool Overview'!$H$9/110","v":0},{"$f":"IF('III Tool Overview'!$H$10=\"Even distribution\",Targeting!C134,IF('III Tool Overview'!$H$10=\"Targeting to Q1\",Targeting!D114,IF('III Tool Overview'!$H$10=\"Targeting to Q1 & Q2\",Targeting!E134,IF('III Tool Overview'!$H$10=\"Proportionate to need\",Targeting!F134))))","v":3.2727272727272729},0.28884935206104628,0.28669952143949812,1.278403307889475,1.2705348693901461,3.4243559416868155,3.4094054573068737,10.424869812537681,10.403282790772771,16.464413067479637,16.341872722051392,0.12254034542824499,70.846687662643433,70.409375791283637,0.4373118713597961,180.01285694938568,179.21317323433684,0.79968371504884317,480.94638718636645,479.85100854962235,1.0953786367441012,30.521080041443216,30.50326039259004,1.7819648853176773E-2,126.64168319794972,126.57808564858566,6.3597549364061479E-2,302.83904345945416,302.72259970666192,0.11644375279223595,720.09337010053719,719.94318459626743,0.15018550426975708]
["Female 45-49",47.5,"female",2,{"$f":"HLOOKUP('III Tool Overview'!$H$6,Prevalence!$B$2:$AV$268,Prevalence!AW133,FALSE)","v":0.24761904761904766},{"$f":"HLOOKUP('III Tool Overview'!$H$6,LookUpData_Pop!$B$1:$AV$269,LookUpData_Pop!BB138,FALSE)/5","v":157.6},{"$f":"'III Tool Overview'!$H$9/110","v":0},{"$f":"IF('III Tool Overview'!$H$10=\"Even distribution\",Targeting!C135,IF('III Tool Overview'!$H$10=\"Targeting to Q1\",Targeting!D115,IF('III Tool Overview'!$H$10=\"Targeting to Q1 & Q2\",Targeting!E135,IF('III Tool Overview'!$H$10=\"Proportionate to need\",Targeting!F135))))","v":3.2727272727272729},0.51363283276502147,0.51012140248008797,2.2680497570844151,2.2552688825970808,6.0449237557241169,6.0209463064208046,18.10021208504298,18.067105669969973,26.195274471016095,26.016191526484487,0.17908294453160778,112.08691552665184,111.45320028578956,0.63371524086227282,281.57315142918981,280.43352161084044,1.1396298183493627,727.79802288849271,726.3035614597768,1.4944614287159084,38.513132469330792,38.49247246373551,2.0660005595281916E-2,159.4782948865803,159.40677959783378,7.151528874652513E-2,379.75721775867152,379.63508321065461,0.12213454801690204,891.51977321852655,891.40014453185267,0.11962868667387738]
["Female 50-54",52.5,"female",2,{"$f":"HLOOKUP('III Tool Overview'!$H$6,Prevalence!$B$2:$AV$268,Prevalence!AW134,FALSE)","v":0.25714285714285717},{"$f":"HLOOKUP('III Tool Overview'!$H$6,LookUpData_Pop!$B$1:$AV$269,LookUpData_Pop!BB139,FALSE)/5","v":160.6},{"$f":"'III Tool Overview'!$H$9/110","v":0},{"$f":"IF('III Tool Overview'!$H$10=\"Even distribution\",Targeting!C136,IF('III Tool Overview'!$H$10=\"Targeting to Q1\",Targeting!D116,IF('III Tool Overview'!$H$10=\"Targeting to Q1 & Q2\",Targeting!E136,IF('III Tool Overview'!$H$10=\"Proportionate to need\",Targeting!F136))))","v":3.2727272727272729},0.72589576537391798,0.72105079565288299,3.1979954725272419,3.1804565792509649,8.4810771305845396,8.448582049988552,24.982566292747293,24.939628440662041,34.117100972574143,33.889387395685503,0.22771357688863958,145.25872992978788,144.45916452532379,0.79956540446409008,361.22451165798464,359.80872085900216,1.4157907989824707,906.47191981658364,904.68788435922079,1.7840354573628474,43.312411787924916,43.28961482701893,2.2796960905985486E-2,178.98777672560976,178.91125237216593,7.6524353443829796E-2,424.43131167837663,424.31020119122684,0.12111048714979233,983.93579068193162,983.85917125103026,7.661943090135992E-2]
["Female 55-59",57.5,"female",2,{"$f":"HLOOKUP('III Tool Overview'!$H$6,Prevalence!$B$2:$AV$268,Prevalence!AW135,FALSE)","v":0.34285714285714286},{"$f":"HLOOKUP('III Tool Overview'!$H$6,LookUpData_Pop!$B$1:$AV$269,LookUpData_Pop!BB140,FALSE)/5","v":147},{"$f":"'III Tool Overview'!$H$9/110","v":0},{"$f":"IF('III Tool Overview'!$H$10=\"Even distribution\",Targeting!C137,IF('III Tool Overview'!$H$10=\"Targeting to Q1\",Targeting!D117,IF('III Tool Overview'!$H$10=\"Targeting to Q1 & Q2\",Targeting!E137,IF('III Tool Overview'!$H$10=\"Proportionate to need\",Targeting!F137))))","v":3.2727272727272729},1.0845866987637665,1.0770380749032213,4.7532358257869793,4.7262111147487937,12.463362967998902,12.414551369870342,35.390968022329531,35.331992778755321,44.468054649314425,44.158561071032075,0.3094935782823498,187.40131065200899,186.3311735729684,1.0701370790405917,456.39171405544084,454.55383201190182,1.8378820435390253,1077.8424497324145,1075.6937411905506,2.1487085418639253,45.96269184434594,45.936306323580091,2.6385520765849435E-2,189.06731639301765,188.98431333245492,8.3003060562731434E-2,444.11228961338253,444.00329338548886,0.10899622789366958,1001.2173397194445,1001.2471454286161,-2.9805709171682793E-2]
["Female 60-64",62.5,"female",2,{"$f":"HLOOKUP('III Tool Overview'!$H$6,Prevalence!$B$2:$AV$268,Prevalence!AW136,FALSE)","v":0.65714285714285714},{"$f":"HLOOKUP('III Tool Overview'!$H$6,LookUpData_Pop!$B$1:$AV$269,LookUpData_Pop!BB141,FALSE)/5","v":164},{"$f":"'III Tool Overview'!$H$9/110","v":0},{"$f":"IF('III Tool Overview'!$H$10=\"Even distribution\",Targeting!C138,IF('III Tool Overview'!$H$10=\"Targeting to Q1\",Targeting!D118,IF('III Tool Overview'!$H$10=\"Targeting to Q1 & Q2\",Targeting!E138,IF('III Tool Overview'!$H$10=\"Proportionate to need\",Targeting!F138))))","v":3.2727272727272729},1.6768275098775742,1.6678517181216346,7.3126869666098804,7.2807413865663735,18.972178530059569,18.91525256884233,52.076675759217494,52.011085722030799,62.042617865470248,61.710513570500481,0.33210429496976701,259.08879705467012,257.95140736208964,1.1373896925804843,619.32750142011696,617.40924126618393,1.9182601539330335,1386.1811648524031,1384.0209941844776,2.160170667925513,56.59084322147816,56.561907013877985,2.8936207600175123E-2,231.72220437632365,231.6343786750129,8.7825701310748627E-2,539.2344365156888,539.13244730194094,0.10198921374785641,1183.0954269234524,1183.1903940752641,-9.4967151811715667E-2]
["Female 65-69",67.5,"female",2,{"$f":"HLOOKUP('III Tool Overview'!$H$6,Prevalence!$B$2:$AV$268,Prevalence!AW137,FALSE)","v":0.89523809523809528},{"$f":"HLOOKUP('III Tool Overview'!$H$6,LookUpData_Pop!$B$1:$AV$269,LookUpData_Pop!BB142,FALSE)/5","v":147.4},{"$f":"'III Tool Overview'!$H$9/110","v":0},{"$f":"IF('III Tool Overview'!$H$10=\"Even distribution\",Targeting!C139,IF('III Tool Overview'!$H$10=\"Targeting to Q1\",Targeting!D119,IF('III Tool Overview'!$H$10=\"Targeting to Q1 & Q2\",Targeting!E139,IF('III Tool Overview'!$H$10=\"Proportionate to need\",Targeting!F139))))","v":3.2727272727272729},2.4561571971581291,2.4429490711935817,10.596859672744841,10.550669282432589,26.868006039252606,26.788946877576059,68.651631283051756,68.572576368231324,76.140873111901996,75.731421207001034,0.40945190490096195,311.95882466483278,310.59063933644023,1.368185328392542,717.36516930720859,715.16457934159098,2.2005899656176098,1440.0668277020891,1437.808293812685,2.2585338894041342,58.968637719073214,58.935246215942037,3.3391503131177558E-2,238.97299824942988,238.88250390426387,9.0494345166007406E-2,544.55869515956965,544.49873151466522,5.9963644904428293E-2,1126.1230117526616,1126.4193198247294,-0.29630807206785903]
["Female 70-74",72.5,"female",2,{"$f":"HLOOKUP('III Tool Overview'!$H$6,Prevalence!$B$2:$AV$268,Prevalence!AW138,FALSE)","v":0},{"$f":"HLOOKUP('III Tool Overview'!$H$6,LookUpData_Pop!$B$1:$AV$269,LookUpData_Pop!BB143,FALSE)/5","v":117.6}]
["Female 75-79",77.5,"female",2,{"$f":"HLOOKUP('III Tool Overview'!$H$6,Prevalence!$B$2:$AV$268,Prevalence!AW139,FALSE)","v":0},{"$f":"HLOOKUP('III Tool Overview'!$H$6,LookUpData_Pop!$B$1:$AV$269,LookUpData_Pop!BB144,FALSE)/5","v":96}]
["Female 80-84",82.5,"female",2,{"$f":"HLOOKUP('III Tool Overview'!$H$6,Prevalence!$B$2:$AV$268,Prevalence!AW140,FALSE)","v":0},{"$f":"HLOOKUP('III Tool Overview'!$H$6,LookUpData_Pop!$B$1:$AV$269,LookUpData_Pop!BB145,FALSE)/5","v":68.8}]
["Female 85-89",87.5,"female",2,{"$f":"HLOOKUP('III Tool Overview'!$H$6,Prevalence!$B$2:$AV$268,Prevalence!AW141,FALSE)","v":0},{"$f":"HLOOKUP('III Tool Overview'!$H$6,LookUpData_Pop!$B$1:$AV$269,LookUpData_Pop!BB146,FALSE)/5","v":42}]
["Female 90+",95,"female",2,null,{"$f":"HLOOKUP('III Tool Overview'!$H$6,LookUpData_Pop!$B$1:$AV$269,LookUpData_Pop!BB147,FALSE)/5","v":30}]
["TOTAL",null,null,null,null,{"$f":"SUM(F134:F144)","v":1529.2},{"$f":"SUM(G134:G144)","v":0},36,7.2042245458568912,7.1600726235728445,31.439131412958492,31.28139429800531,81.718007338709697,81.434158928447658,226.48163152906557,226.13897191770647,290.07525824596485,288.23021486839741,1.8450433775674284,1219.31668836475,1212.9176226896391,6.3990656751110677,2957.1274660605341,2946.0438908114288,11.083575249104655,6963.2334771860405,6949.758493112191,13.474984073850891,365.99729435836974,365.78383396645688,0.21346039191281285,1507.8569481236964,1507.1509575115233,0.7059906121730819,3554.3408266658403,3553.2571581322272,1.0836685336128653,8118.4000616704598,8117.7702749805858,0.62978668987329911]
["age/sex breakdown: Q3"]
["Male <1",0.5,"male",3,null,{"$f":"HLOOKUP('III Tool Overview'!$H$6,LookUpData_Pop!$B$1:$AV$269,LookUpData_Pop!BB149,FALSE)/5","v":17.8}]
["Male 1-4",2.5,"male",3,null,{"$f":"HLOOKUP('III Tool Overview'!$H$6,LookUpData_Pop!$B$1:$AV$269,LookUpData_Pop!BB150,FALSE)/5","v":74.400000000000006}]
["Male 5-9",7.5,"male",3,null,{"$f":"HLOOKUP('III Tool Overview'!$H$6,LookUpData_Pop!$B$1:$AV$269,LookUpData_Pop!BB151,FALSE)/5","v":84}]
["Male 10-14",12.5,"male",3,null,{"$f":"HLOOKUP('III Tool Overview'!$H$6,LookUpData_Pop!$B$1:$AV$269,LookUpData_Pop!BB152,FALSE)/5","v":111.8}]
["Male 15-19",17.5,"male",3,{"$f":"HLOOKUP('III Tool Overview'!$H$6,Prevalence!$B$2:$AV$268,Prevalence!AW148,FALSE)","v":7.515151515151515E-2},{"$f":"HLOOKUP('III Tool Overview'!$H$6,LookUpData_Pop!$B$1:$AV$269,LookUpData_Pop!BB153,FALSE)/5","v":112.4},{"$f":"'III Tool Overview'!$H$9/110","v":0},{"$f":"IF('III Tool Overview'!$H$10=\"Even distribution\",Targeting!C150,IF('III Tool Overview'!$H$10=\"Targeting to Q1\",Targeting!D150,IF('III Tool Overview'!$H$10=\"Targeting to Q1 & Q2\",Targeting!E150,IF('III Tool Overview'!$H$10=\"Proportionate to need\",Targeting!F150))))","v":0},{"$f":"new_ci(2,B156,C156,D156,$C$1,G156,1,F156,E156*F156)","v":6.2749018644807059E-2},{"$f":"new_ci(2,B156,C156,D156,$C$1,G156+H156,1,F156,E156*F156)","v":6.2749018644807059E-2},{"$f":"new_ci(5,B156,C156,D156,$C$1,G156,1,F156,E156*F156)","v":0.27429957625044521},{"$f":"new_ci(5,B156,C156,D156,$C$1,G156+H156,1,F156,E156*F156)","v":0.27429957625044521},{"$f":"new_ci(10,B156,C156,D156,$C$1,G156,1,F156,E156*F156)","v":0.71935846995664199},{"$f":"new_ci(10,B156,C156,D156,$C$1,G156+H156,1,F156,E156*F156)","v":0.71935846995664199},{"$f":"new_ci(20,B156,C156,D156,$C$1,G156,1,F156,E156*F156)","v":2.1018698809277074},{"$f":"new_ci(20,B156,C156,D156,$C$1,G156+H156,1,F156,E156*F156)","v":2.1018698809277074},{"$f":"new_yll(2,B156,C156,D156,$C$1,G156,1,F156,E156*F156)","v":5.0826705102293719},{"$f":"new_yll(2,B156,C156,D156,$C$1,G156+H156,1,F156,E156*F156)","v":5.0826705102293719},{"$f":"Q156-R156","v":0},{"$f":"new_yll(5,B156,C156,D156,$C$1,G156,1,F156,E156*F156)","v":21.78702188606432},{"$f":"new_yll(5,B156,C156,D156,$C$1,G156+H156,1,F156,E156*F156)","v":21.78702188606432},{"$f":"T156-U156","v":0},{"$f":"new_yll(10,B156,C156,D156,$C$1,G156,1,F156,E156*F156)","v":55.115245303321963},{"$f":"new_yll(10,B156,C156,D156,$C$1,G156+H156,1,F156,E156*F156)","v":55.115245303321963},{"$f":"W156-X156","v":0},{"$f":"new_yll(20,B156,C156,D156,$C$1,G156,1,F156,E156*F156)","v":147.78671412272172},{"$f":"new_yll(20,B156,C156,D156,$C$1,G156+H156,1,F156,E156*F156)","v":147.78671412272172},{"$f":"Z156-AA156","v":0},{"$f":"hosp_count(2,B156,C156,D156,$C$1,G156,1,F156,E156*F156)","v":7.875682887875187},{"$f":"hosp_count(2,B156,C156,D156,$C$1,G156+H156,1,F156,E156*F156)","v":7.875682887875187},{"$f":"AC156-AD156","v":0},{"$f":"hosp_count(5,B156,C156,D156,$C$1,G156,1,F156,E156*F156)","v":33.275054559299257},{"$f":"hosp_count(5,B156,C156,D156,$C$1,G156+H156,1,F156,E156*F156)","v":33.275054559299257},{"$f":"AF156-AG156","v":0},{"$f":"hosp_count(10,B156,C156,D156,$C$1,G156,1,F156,E156*F156)","v":82.173605091803893},{"$f":"hosp_count(10,B156,C156,D156,$C$1,G156+H156,1,F156,E156*F156)","v":82.173605091803893},{"$f":"AI156-AJ156","v":0},{"$f":"hosp_count(20,B156,C156,D156,$C$1,G156,1,F156,E156*F156)","v":210.33109014953385},{"$f":"hosp_count(20,B156,C156,D156,$C$1,G156+H156,1,F156,E156*F156)","v":210.33109014953385},{"$f":"AL156-AM156","v":0}]
["Male 20-24",22.5,"male",3,{"$f":"HLOOKUP('III Tool Overview'!$H$6,Prevalence!$B$2:$AV$268,Prevalence!AW149,FALSE)","v":0.10333333333333333},{"$f":"HLOOKUP('III Tool Overview'!$H$6,LookUpData_Pop!$B$1:$AV$269,LookUpData_Pop!BB154,FALSE)/5","v":121},{"$f":"'III Tool Overview'!$H$9/110","v":0},{"$f":"IF('III Tool Overview'!$H$10=\"Even distribution\",Targeting!C151,IF('III Tool Overview'!$H$10=\"Targeting to Q1\",Targeting!D151,IF('III Tool Overview'!$H$10=\"Targeting to Q1 & Q2\",Targeting!E151,IF('III Tool Overview'!$H$10=\"Proportionate to need\",Targeting!F151))))","v":0},9.0230946745427865E-2,9.0230946745427865E-2,0.39430102902558795,0.39430102902558795,1.0333344770228656,1.0333344770228656,3.0126099335869614,3.0126099335869614,6.9477828993979456,6.9477828993979456,0,29.741380608770179,29.741380608770179,{"$f":"T157-U157","v":0},75.0396106297258,75.0396106297258,{"$f":"W157-X157","v":0},199.80297601337304,199.80297601337304,{"$f":"Z157-AA157","v":0},9.7481235249373537,9.7481235249373537,{"$f":"AC157-AD157","v":0},41.173735588198547,41.173735588198547,{"$f":"AF157-AG157","v":0},101.61654765384677,101.61654765384677,{"$f":"AI157-AJ157","v":0},259.61610490844134,259.61610490844134,{"$f":"AL157-AM157","v":0}]
["Male 25-29",27.5,"male",3,{"$f":"HLOOKUP('III Tool Overview'!$H$6,Prevalence!$B$2:$AV$268,Prevalence!AW150,FALSE)","v":0.14090909090909093},{"$f":"HLOOKUP('III Tool Overview'!$H$6,LookUpData_Pop!$B$1:$AV$269,LookUpData_Pop!BB155,FALSE)/5","v":96.4},{"$f":"'III Tool Overview'!$H$9/110","v":0},{"$f":"IF('III Tool Overview'!$H$10=\"Even distribution\",Targeting!C152,IF('III Tool Overview'!$H$10=\"Targeting to Q1\",Targeting!D152,IF('III Tool Overview'!$H$10=\"Targeting to Q1 & Q2\",Targeting!E152,IF('III Tool Overview'!$H$10=\"Proportionate to need\",Targeting!F152))))","v":0},0.11097195450311147,0.11097195450311147,0.48458706838326004,0.48458706838326004,1.2680140188777629,1.2680140188777629,3.679327079345565,3.679327079345565,7.8790087697209144,7.8790087697209144,0,33.644246626443646,33.644246626443646,0,84.478278891636535,84.478278891636535,0,222.02596214133064,222.02596214133064,0,9.5748791853666191,9.5748791853666191,0,40.415556456765863,40.415556456765863,0,99.611723036540681,99.611723036540681,0,253.47977100555278,253.47977100555278,0]
["Male 30-34",32.5,"male",3,{"$f":"HLOOKUP('III Tool Overview'!$H$6,Prevalence!$B$2:$AV$268,Prevalence!AW151,FALSE)","v":7.5151515151515108E-2},{"$f":"HLOOKUP('III Tool Overview'!$H$6,LookUpData_Pop!$B$1:$AV$269,LookUpData_Pop!BB156,FALSE)/5","v":99.8},{"$f":"'III Tool Overview'!$H$9/110","v":0},{"$f":"IF('III Tool Overview'!$H$10=\"Even distribution\",Targeting!C153,IF('III Tool Overview'!$H$10=\"Targeting to Q1\",Targeting!D153,IF('III Tool Overview'!$H$10=\"Targeting to Q1 & Q2\",Targeting!E153,IF('III Tool Overview'!$H$10=\"Proportionate to need\",Targeting!F153))))","v":0},0.15344649302183672,0.15344649302183672,0.66963374073507897,0.66963374073507897,1.7498628053220291,1.7498628053220291,5.0562362343907772,5.0562362343907772,10.28091503246306,10.28091503246306,0,43.813607428379385,43.813607428379385,0,109.58641506742899,109.58641506742899,0,284.9880726998598,284.9880726998598,0,11.397262573887463,11.397262573887463,0,48.077944636236246,48.077944636236246,0,118.34628179694906,118.34628179694906,0,300.01455093207107,300.01455093207107,0]
["Male 35-39",37.5,"male",3,{"$f":"HLOOKUP('III Tool Overview'!$H$6,Prevalence!$B$2:$AV$268,Prevalence!AW152,FALSE)","v":0.10333333333333332},{"$f":"HLOOKUP('III Tool Overview'!$H$6,LookUpData_Pop!$B$1:$AV$269,LookUpData_Pop!BB157,FALSE)/5","v":117.2},{"$f":"'III Tool Overview'!$H$9/110","v":0},{"$f":"IF('III Tool Overview'!$H$10=\"Even distribution\",Targeting!C154,IF('III Tool Overview'!$H$10=\"Targeting to Q1\",Targeting!D154,IF('III Tool Overview'!$H$10=\"Targeting to Q1 & Q2\",Targeting!E154,IF('III Tool Overview'!$H$10=\"Proportionate to need\",Targeting!F154))))","v":0},0.27811453492521498,0.27811453492521498,1.2118968147989799,1.2118968147989799,3.1571183921314883,3.1571183921314883,9.0356930514995657,9.0356930514995657,16.964986630438116,16.964986630438116,0,72.023514415284652,72.023514415284652,0,178.79732808472409,178.79732808472409,0,455.47471385663721,455.47471385663721,0,16.501303025623958,16.501303025623958,0,69.515022063713175,69.515022063713175,0,170.64379886127065,170.64379886127065,0,429.07621022274986,429.07621022274986,0]
["Male 40-44",42.5,"male",3,{"$f":"HLOOKUP('III Tool Overview'!$H$6,Prevalence!$B$2:$AV$268,Prevalence!AW153,FALSE)","v":0.10333333333333332},{"$f":"HLOOKUP('III Tool Overview'!$H$6,LookUpData_Pop!$B$1:$AV$269,LookUpData_Pop!BB158,FALSE)/5","v":153.6},{"$f":"'III Tool Overview'!$H$9/110","v":0},{"$f":"IF('III Tool Overview'!$H$10=\"Even distribution\",Targeting!C155,IF('III Tool Overview'!$H$10=\"Targeting to Q1\",Targeting!D155,IF('III Tool Overview'!$H$10=\"Targeting to Q1 & Q2\",Targeting!E155,IF('III Tool Overview'!$H$10=\"Proportionate to need\",Targeting!F155))))","v":0},0.48672198120327081,0.48672198120327081,2.117970697849394,2.117970697849394,5.5014901625831758,5.5014901625831758,15.604655927282574,15.604655927282574,27.743152928586436,27.743152928586436,0,117.4023496095856,117.4023496095856,0,289.59861538276783,289.59861538276783,0,724.84633636586432,724.84633636586432,0,24.865407862419119,24.865407862419119,0,104.6162175821987,104.6162175821987,0,256.13737511509851,256.13737511509851,0,639.0929370354371,639.0929370354371,0]
["Male 45-49",47.5,"male",3,{"$f":"HLOOKUP('III Tool Overview'!$H$6,Prevalence!$B$2:$AV$268,Prevalence!AW154,FALSE)","v":0.11272727272727272},{"$f":"HLOOKUP('III Tool Overview'!$H$6,LookUpData_Pop!$B$1:$AV$269,LookUpData_Pop!BB159,FALSE)/5","v":182.2},{"$f":"'III Tool Overview'!$H$9/110","v":0},{"$f":"IF('III Tool Overview'!$H$10=\"Even distribution\",Targeting!C156,IF('III Tool Overview'!$H$10=\"Targeting to Q1\",Targeting!D156,IF('III Tool Overview'!$H$10=\"Targeting to Q1 & Q2\",Targeting!E156,IF('III Tool Overview'!$H$10=\"Proportionate to need\",Targeting!F156))))","v":0},0.89065113370932147,0.89065113370932147,3.863992432018414,3.863992432018414,9.9736874634402817,9.9736874634402817,27.749333330215794,27.749333330215794,45.423207819175396,45.423207819175396,0,191.01250544201585,191.01250544201585,0,465.3239631439871,465.3239631439871,0,1125.0272655283163,1125.0272655283163,0,36.364143227274681,36.364143227274681,0,152.57129934472721,152.57129934472721,0,371.44440282814423,371.44440282814423,0,911.62160977474639,911.62160977474639,0]
["Male 50-54",52.5,"male",3,{"$f":"HLOOKUP('III Tool Overview'!$H$6,Prevalence!$B$2:$AV$268,Prevalence!AW155,FALSE)","v":0.22545454545454544},{"$f":"HLOOKUP('III Tool Overview'!$H$6,LookUpData_Pop!$B$1:$AV$269,LookUpData_Pop!BB160,FALSE)/5","v":170.8},{"$f":"'III Tool Overview'!$H$9/110","v":0},{"$f":"IF('III Tool Overview'!$H$10=\"Even distribution\",Targeting!C157,IF('III Tool Overview'!$H$10=\"Targeting to Q1\",Targeting!D157,IF('III Tool Overview'!$H$10=\"Targeting to Q1 & Q2\",Targeting!E157,IF('III Tool Overview'!$H$10=\"Proportionate to need\",Targeting!F157))))","v":0},1.1143570543663324,1.1143570543663324,4.8197619048403535,4.8197619048403535,12.361814327341099,12.361814327341099,33.740645379365411,33.740645379365411,52.374781555217623,52.374781555217623,0,218.99291357152279,218.99291357152279,0,527.48456022330402,527.48456022330402,0,1236.093086906259,1236.093086906259,0,39.194632523000017,39.194632523000017,0,164.01279538705171,164.01279538705171,0,397.1647608481274,397.1647608481274,0,959.81020095911651,959.81020095911651,0]
["Male 55-59",57.5,"male",3,{"$f":"HLOOKUP('III Tool Overview'!$H$6,Prevalence!$B$2:$AV$268,Prevalence!AW156,FALSE)","v":0.20666666666666664},{"$f":"HLOOKUP('III Tool Overview'!$H$6,LookUpData_Pop!$B$1:$AV$269,LookUpData_Pop!BB161,FALSE)/5","v":156.4},{"$f":"'III Tool Overview'!$H$9/110","v":0},{"$f":"IF('III Tool Overview'!$H$10=\"Even distribution\",Targeting!C158,IF('III Tool Overview'!$H$10=\"Targeting to Q1\",Targeting!D158,IF('III Tool Overview'!$H$10=\"Targeting to Q1 & Q2\",Targeting!E158,IF('III Tool Overview'!$H$10=\"Proportionate to need\",Targeting!F158))))","v":0},1.5726247638808621,1.5726247638808621,6.7596277371762215,6.7596277371762215,17.115195427849223,17.115195427849223,44.960961336139974,44.960961336139974,64.477615319115344,64.477615319115344,0,266.61006407691463,266.61006407691463,0,628.1578982581583,628.1578982581583,0,1385.8902776893763,1385.8902776893763,0,44.248249550426607,44.248249550426607,0,184.10869688531562,184.10869688531562,0,440.73422407925449,440.73422407925449,0,1030.8897079841047,1030.8897079841047,0]
["Male 60-64",62.5,"male",3,{"$f":"HLOOKUP('III Tool Overview'!$H$6,Prevalence!$B$2:$AV$268,Prevalence!AW157,FALSE)","v":0.39454545454545453},{"$f":"HLOOKUP('III Tool Overview'!$H$6,LookUpData_Pop!$B$1:$AV$269,LookUpData_Pop!BB162,FALSE)/5","v":158.80000000000001},{"$f":"'III Tool Overview'!$H$9/110","v":0},{"$f":"IF('III Tool Overview'!$H$10=\"Even distribution\",Targeting!C159,IF('III Tool Overview'!$H$10=\"Targeting to Q1\",Targeting!D159,IF('III Tool Overview'!$H$10=\"Targeting to Q1 & Q2\",Targeting!E159,IF('III Tool Overview'!$H$10=\"Proportionate to need\",Targeting!F159))))","v":0},2.1291647825323028,2.1291647825323028,9.0955402463813027,9.0955402463813027,22.739751240483905,22.739751240483905,57.581959986016869,57.581959986016869,78.779096953695202,78.779096953695202,0,322.40572126434722,322.40572126434722,0,744.33645110585167,744.33645110585167,0,1555.3658220192326,1555.3658220192326,0,51.656334750724554,51.656334750724554,0,213.77074061872293,213.77074061872293,0,506.22804210830054,506.22804210830054,0,1149.188581834062,1149.188581834062,0]
["Male 65-69",67.5,"male",3,{"$f":"HLOOKUP('III Tool Overview'!$H$6,Prevalence!$B$2:$AV$268,Prevalence!AW158,FALSE)","v":0.86424242424242426},{"$f":"HLOOKUP('III Tool Overview'!$H$6,LookUpData_Pop!$B$1:$AV$269,LookUpData_Pop!BB163,FALSE)/5","v":144},{"$f":"'III Tool Overview'!$H$9/110","v":0},{"$f":"IF('III Tool Overview'!$H$10=\"Even distribution\",Targeting!C160,IF('III Tool Overview'!$H$10=\"Targeting to Q1\",Targeting!D160,IF('III Tool Overview'!$H$10=\"Targeting to Q1 & Q2\",Targeting!E160,IF('III Tool Overview'!$H$10=\"Proportionate to need\",Targeting!F160))))","v":0},2.9708249554111643,2.9708249554111643,12.545323047875694,12.545323047875694,30.631143937206961,30.631143937206961,72.469552482430558,72.469552482430558,92.095573617746098,92.095573617746098,0,369.5358391524332,369.5358391524332,0,820.66206309797462,820.66206309797462,0,1548.8853437521318,1548.8853437521318,0,57.750559646013187,57.750559646013187,0,236.22672823609406,236.22672823609406,0,546.5898600191764,546.5898600191764,0,1164.9295824916662,1164.9295824916662,0]
["Male 70-74",72.5,"male",3,{"$f":"HLOOKUP('III Tool Overview'!$H$6,Prevalence!$B$2:$AV$268,Prevalence!AW159,FALSE)","v":0},{"$f":"HLOOKUP('III Tool Overview'!$H$6,LookUpData_Pop!$B$1:$AV$269,LookUpData_Pop!BB164,FALSE)/5","v":95.2}]
["Male 75-79",77.5,"male",3,{"$f":"HLOOKUP('III Tool Overview'!$H$6,Prevalence!$B$2:$AV$268,Prevalence!AW160,FALSE)","v":0},{"$f":"HLOOKUP('III Tool Overview'!$H$6,LookUpData_Pop!$B$1:$AV$269,LookUpData_Pop!BB165,FALSE)/5","v":65.599999999999994}]
["Male 80-84",82.5,"male",3,{"$f":"HLOOKUP('III Tool Overview'!$H$6,Prevalence!$B$2:$AV$268,Prevalence!AW161,FALSE)","v":0},{"$f":"HLOOKUP('III Tool Overview'!$H$6,LookUpData_Pop!$B$1:$AV$269,LookUpData_Pop!BB166,FALSE)/5","v":39.6}]
["Male 85-89",87.5,"male",3,{"$f":"HLOOKUP('III Tool Overview'!$H$6,Prevalence!$B$2:$AV$268,Prevalence!AW162,FALSE)","v":0},{"$f":"HLOOKUP('III Tool Overview'!$H$6,LookUpData_Pop!$B$1:$AV$269,LookUpData_Pop!BB167,FALSE)/5","v":22.8}]
["Male 90+",95,"male",3,null,{"$f":"HLOOKUP('III Tool Overview'!$H$6,LookUpData_Pop!$B$1:$AV$269,LookUpData_Pop!BB168,FALSE)/5","v":7}]
["TOTAL",null,null,null,null,{"$f":"SUM(F156:F166)","v":1512.6000000000001},{"$f":"SUM(G156:G166)","v":0},0,9.8598576189436518,9.8598576189436518,42.236934295334734,42.236934295334734,106.25077072221544,106.25077072221544,274.99284462120175,274.99284462120175,408.04879203578548,408.04879203578548,0,1686.9691640817614,1686.9691640817614,0,3978.5804291888808,3978.5804291888808,0,8886.1865710951042,8886.1865710951042,0,309.17657875754873,309.17657875754873,0,1287.763791358323,1287.763791358323,0,3090.6906214385122,3090.6906214385122,0,7308.0503472974815,7308.0503472974815,0]
["Female <1",0.5,"female",3,null,{"$f":"HLOOKUP('III Tool Overview'!$H$6,LookUpData_Pop!$B$1:$AV$269,LookUpData_Pop!BB169,FALSE)/5","v":18.399999999999999}]
["Female 1-4",2.5,"female",3,null,{"$f":"HLOOKUP('III Tool Overview'!$H$6,LookUpData_Pop!$B$1:$AV$269,LookUpData_Pop!BB170,FALSE)/5","v":81.2}]
["Female 5-9",7.5,"female",3,null,{"$f":"HLOOKUP('III Tool Overview'!$H$6,LookUpData_Pop!$B$1:$AV$269,LookUpData_Pop!BB171,FALSE)/5","v":82.2}]
["Female 10-14",12.5,"female",3,null,{"$f":"HLOOKUP('III Tool Overview'!$H$6,LookUpData_Pop!$B$1:$AV$269,LookUpData_Pop!BB172,FALSE)/5","v":110}]
["Female 15-19",17.5,"female",3,{"$f":"HLOOKUP('III Tool Overview'!$H$6,Prevalence!$B$2:$AV$268,Prevalence!AW168,FALSE)","v":7.6190476190476197E-2},{"$f":"HLOOKUP('III Tool Overview'!$H$6,LookUpData_Pop!$B$1:$AV$269,LookUpData_Pop!BB173,FALSE)/5","v":123.6},{"$f":"'III Tool Overview'!$H$9/110","v":0},{"$f":"IF('III Tool Overview'!$H$10=\"Even distribution\",Targeting!C170,IF('III Tool Overview'!$H$10=\"Targeting to Q1\",Targeting!D150,IF('III Tool Overview'!$H$10=\"Targeting to Q1 & Q2\",Targeting!E170,IF('III Tool Overview'!$H$10=\"Proportionate to need\",Targeting!F170))))","v":0},{"$f":"new_ci(2,B177,C177,D177,$C$1,G177,1,F177,E177*F177)","v":2.8298891694405512E-2},{"$f":"new_ci(2,B177,C177,D177,$C$1,G177+H177,1,F177,E177*F177)","v":2.8298891694405512E-2},{"$f":"new_ci(5,B177,C177,D177,$C$1,G177,1,F177,E177*F177)","v":0.12565042175297947},{"$f":"new_ci(5,B177,C177,D177,$C$1,G177+H177,1,F177,E177*F177)","v":0.12565042175297947},{"$f":"new_ci(10,B177,C177,D177,$C$1,G177,1,F177,E177*F177)","v":0.33894860335142779},{"$f":"new_ci(10,B177,C177,D177,$C$1,G177+H177,1,F177,E177*F177)","v":0.33894860335142779},{"$f":"new_ci(20,B177,C177,D177,$C$1,G177,1,F177,E177*F177)","v":1.0565092634063551},{"$f":"new_ci(20,B177,C177,D177,$C$1,G177+H177,1,F177,E177*F177)","v":1.0565092634063551},{"$f":"new_yll(2,B177,C177,D177,$C$1,G177,1,F177,E177*F177)","v":2.2922102272468465},{"$f":"new_yll(2,B177,C177,D177,$C$1,G177+H177,1,F177,E177*F177)","v":2.2922102272468465},{"$f":"Q177-R177","v":0},{"$f":"new_yll(5,B177,C177,D177,$C$1,G177,1,F177,E177*F177)","v":9.9785926607388227},{"$f":"new_yll(5,B177,C177,D177,$C$1,G177+H177,1,F177,E177*F177)","v":9.9785926607388227},{"$f":"T177-U177","v":0},{"$f":"new_yll(10,B177,C177,D177,$C$1,G177,1,F177,E177*F177)","v":25.947182308504146},{"$f":"new_yll(10,B177,C177,D177,$C$1,G177+H177,1,F177,E177*F177)","v":25.947182308504146},{"$f":"W177-X177","v":0},{"$f":"new_yll(20,B177,C177,D177,$C$1,G177,1,F177,E177*F177)","v":73.986914401227793},{"$f":"new_yll(20,B177,C177,D177,$C$1,G177+H177,1,F177,E177*F177)","v":73.986914401227793},{"$f":"Z177-AA177","v":0},{"$f":"hosp_count(2,B177,C177,D177,$C$1,G177,1,F177,E177*F177)","v":12.483110413089019},{"$f":"hosp_count(2,B177,C177,D177,$C$1,G177+H177,1,F177,E177*F177)","v":12.483110413089019},{"$f":"AC177-AD177","v":0},{"$f":"hosp_count(5,B177,C177,D177,$C$1,G177,1,F177,E177*F177)","v":51.943897031449616},{"$f":"hosp_count(5,B177,C177,D177,$C$1,G177+H177,1,F177,E177*F177)","v":51.943897031449616},{"$f":"AF177-AG177","v":0},{"$f":"hosp_count(10,B177,C177,D177,$C$1,G177,1,F177,E177*F177)","v":124.9500277919044},{"$f":"hosp_count(10,B177,C177,D177,$C$1,G177+H177,1,F177,E177*F177)","v":124.9500277919044},{"$f":"AI177-AJ177","v":0},{"$f":"hosp_count(20,B177,C177,D177,$C$1,G177,1,F177,E177*F177)","v":302.54473922118677},{"$f":"hosp_count(20,B177,C177,D177,$C$1,G177+H177,1,F177,E177*F177)","v":302.54473922118677},{"$f":"AL177-AM177","v":0}]
["Female 20-24",22.5,"female",3,{"$f":"HLOOKUP('III Tool Overview'!$H$6,Prevalence!$B$2:$AV$268,Prevalence!AW169,FALSE)","v":0.10476190476190476},{"$f":"HLOOKUP('III Tool Overview'!$H$6,LookUpData_Pop!$B$1:$AV$269,LookUpData_Pop!BB174,FALSE)/5","v":100.8},{"$f":"'III Tool Overview'!$H$9/110","v":0},{"$f":"IF('III Tool Overview'!$H$10=\"Even distribution\",Targeting!C171,IF('III Tool Overview'!$H$10=\"Targeting to Q1\",Targeting!D151,IF('III Tool Overview'!$H$10=\"Targeting to Q1 & Q2\",Targeting!E171,IF('III Tool Overview'!$H$10=\"Proportionate to need\",Targeting!F171))))","v":0},3.2026817858989753E-2,3.2026817858989753E-2,0.14217987828873402,0.14217987828873402,0.38340182864721745,0.38340182864721745,1.193644567072337,1.193644567072337,2.4660649751422108,2.4660649751422108,0,10.722586892443918,10.722586892443918,{"$f":"T178-U178","v":0},27.816872588978164,27.816872588978164,{"$f":"W178-X178","v":0},78.822150621312616,78.822150621312616,{"$f":"Z178-AA178","v":0},11.235155029110679,11.235155029110679,{"$f":"AC178-AD178","v":0},46.74430610172292,46.74430610172292,{"$f":"AF178-AG178","v":0},112.40905163619166,112.40905163619166,{"$f":"AI178-AJ178","v":0},271.92882321466521,271.92882321466521,{"$f":"AL178-AM178","v":0}]
["Female 25-29",27.5,"female",3,{"$f":"HLOOKUP('III Tool Overview'!$H$6,Prevalence!$B$2:$AV$268,Prevalence!AW170,FALSE)","v":0.19999999999999998},{"$f":"HLOOKUP('III Tool Overview'!$H$6,LookUpData_Pop!$B$1:$AV$269,LookUpData_Pop!BB175,FALSE)/5","v":97},{"$f":"'III Tool Overview'!$H$9/110","v":0},{"$f":"IF('III Tool Overview'!$H$10=\"Even distribution\",Targeting!C172,IF('III Tool Overview'!$H$10=\"Targeting to Q1\",Targeting!D152,IF('III Tool Overview'!$H$10=\"Targeting to Q1 & Q2\",Targeting!E172,IF('III Tool Overview'!$H$10=\"Proportionate to need\",Targeting!F172))))","v":0},5.0380441930063746E-2,5.0380441930063746E-2,0.22357559921497572,0.22357559921497572,0.60240086005121418,0.60240086005121418,1.8703015478929499,1.8703015478929499,3.577011377034526,3.577011377034526,0,15.519710958229357,15.519710958229357,0,40.092603090315464,40.092603090315464,0,112.30601062825674,112.30601062825674,0,12.534631357847202,12.534631357847202,0,52.133887389797714,52.133887389797714,0,125.28495805808326,125.28495805808326,0,302.44514929526264,302.44514929526264,0]
["Female 30-34",32.5,"female",3,{"$f":"HLOOKUP('III Tool Overview'!$H$6,Prevalence!$B$2:$AV$268,Prevalence!AW171,FALSE)","v":0.18095238095238092},{"$f":"HLOOKUP('III Tool Overview'!$H$6,LookUpData_Pop!$B$1:$AV$269,LookUpData_Pop!BB176,FALSE)/5","v":99},{"$f":"'III Tool Overview'!$H$9/110","v":0},{"$f":"IF('III Tool Overview'!$H$10=\"Even distribution\",Targeting!C173,IF('III Tool Overview'!$H$10=\"Targeting to Q1\",Targeting!D153,IF('III Tool Overview'!$H$10=\"Targeting to Q1 & Q2\",Targeting!E173,IF('III Tool Overview'!$H$10=\"Proportionate to need\",Targeting!F173))))","v":0},7.1351405666369105E-2,7.1351405666369105E-2,0.3165250767615494,0.3165250767615494,0.85216897601544306,0.85216897601544306,2.638739391910133,2.638739391910133,4.7805441796467303,4.7805441796467303,0,20.7058782275612,20.7058782275612,0,53.308735935490184,53.308735935490184,0,147.92450564361749,147.92450564361749,0,14.118521596246888,14.118521596246888,0,58.702563267107955,58.702563267107955,0,140.97532603472567,140.97532603472567,0,339.61649747906608,339.61649747906608,0]
["Female 35-39",37.5,"female",3,{"$f":"HLOOKUP('III Tool Overview'!$H$6,Prevalence!$B$2:$AV$268,Prevalence!AW172,FALSE)","v":0.2095238095238095},{"$f":"HLOOKUP('III Tool Overview'!$H$6,LookUpData_Pop!$B$1:$AV$269,LookUpData_Pop!BB177,FALSE)/5","v":117.2},{"$f":"'III Tool Overview'!$H$9/110","v":0},{"$f":"IF('III Tool Overview'!$H$10=\"Even distribution\",Targeting!C174,IF('III Tool Overview'!$H$10=\"Targeting to Q1\",Targeting!D154,IF('III Tool Overview'!$H$10=\"Targeting to Q1 & Q2\",Targeting!E174,IF('III Tool Overview'!$H$10=\"Proportionate to need\",Targeting!F174))))","v":0},0.13806188919427442,0.13806188919427442,0.61195249264401075,0.61195249264401075,1.6445368544707684,1.6445368544707684,5.0612633101525271,5.0612633101525271,8.4217752408507405,8.4217752408507405,0,36.360322217642349,36.360322217642349,0,93.016285421238123,93.016285421238123,0,253.49804661796284,253.49804661796284,0,19.377731496269575,19.377731496269575,0,80.510216448726382,80.510216448726382,0,193.05104375107396,193.05104375107396,0,462.88686010003136,462.88686010003136,0]
["Female 40-44",42.5,"female",3,{"$f":"HLOOKUP('III Tool Overview'!$H$6,Prevalence!$B$2:$AV$268,Prevalence!AW173,FALSE)","v":0.17142857142857149},{"$f":"HLOOKUP('III Tool Overview'!$H$6,LookUpData_Pop!$B$1:$AV$269,LookUpData_Pop!BB178,FALSE)/5","v":162},{"$f":"'III Tool Overview'!$H$9/110","v":0},{"$f":"IF('III Tool Overview'!$H$10=\"Even distribution\",Targeting!C175,IF('III Tool Overview'!$H$10=\"Targeting to Q1\",Targeting!D155,IF('III Tool Overview'!$H$10=\"Targeting to Q1 & Q2\",Targeting!E175,IF('III Tool Overview'!$H$10=\"Proportionate to need\",Targeting!F175))))","v":0},0.26477778145860675,0.26477778145860675,1.172663880330495,1.172663880330495,3.1457918991479583,3.1457918991479583,9.6243670101976644,9.6243670101976644,15.092333543140585,15.092333543140585,0,64.986166247411489,64.986166247411489,0,165.35827515044127,165.35827515044127,0,443.80216654667646,443.80216654667646,0,29.560007027909478,29.560007027909478,0,122.72520202010236,122.72520202010236,0,293.82762331292076,293.82762331292076,0,701.24002310479057,701.24002310479057,0]
["Female 45-49",47.5,"female",3,{"$f":"HLOOKUP('III Tool Overview'!$H$6,Prevalence!$B$2:$AV$268,Prevalence!AW174,FALSE)","v":0.18095238095238092},{"$f":"HLOOKUP('III Tool Overview'!$H$6,LookUpData_Pop!$B$1:$AV$269,LookUpData_Pop!BB179,FALSE)/5","v":162},{"$f":"'III Tool Overview'!$H$9/110","v":0},{"$f":"IF('III Tool Overview'!$H$10=\"Even distribution\",Targeting!C176,IF('III Tool Overview'!$H$10=\"Targeting to Q1\",Targeting!D156,IF('III Tool Overview'!$H$10=\"Targeting to Q1 & Q2\",Targeting!E176,IF('III Tool Overview'!$H$10=\"Proportionate to need\",Targeting!F176))))","v":0},0.43264252977056727,0.43264252977056727,1.9125346550896558,1.9125346550896558,5.1096787448472423,5.1096787448472423,15.422042562204547,15.422042562204547,22.064769018298932,22.064769018298932,0,94.515669634105365,94.515669634105365,0,237.98049588045808,237.98049588045808,0,619.55473309234492,619.55473309234492,0,34.270925059956816,34.270925059956816,0,142.04655060000036,142.04655060000036,0,338.91253401755506,338.91253401755506,0,800.36562229548952,800.36562229548952,0]
["Female 50-54",52.5,"female",3,{"$f":"HLOOKUP('III Tool Overview'!$H$6,Prevalence!$B$2:$AV$268,Prevalence!AW175,FALSE)","v":0.2095238095238095},{"$f":"HLOOKUP('III Tool Overview'!$H$6,LookUpData_Pop!$B$1:$AV$269,LookUpData_Pop!BB180,FALSE)/5","v":152.4},{"$f":"'III Tool Overview'!$H$9/110","v":0},{"$f":"IF('III Tool Overview'!$H$10=\"Even distribution\",Targeting!C177,IF('III Tool Overview'!$H$10=\"Targeting to Q1\",Targeting!D157,IF('III Tool Overview'!$H$10=\"Targeting to Q1 & Q2\",Targeting!E177,IF('III Tool Overview'!$H$10=\"Proportionate to need\",Targeting!F177))))","v":0},0.56452449569592189,0.56452449569592189,2.4908214456681632,2.4908214456681632,6.6273672419008909,6.6273672419008909,19.733150958729475,19.733150958729475,26.53265129770833,26.53265129770833,0,113.13456985936293,113.13456985936293,0,282.22046627994564,282.22046627994564,0,715.02917102087383,715.02917102087383,0,35.580330346816822,35.580330346816822,0,147.22850118900752,147.22850118900752,0,350.06903845825678,350.06903845825678,0,818.16401010979814,818.16401010979814,0]
["Female 55-59",57.5,"female",3,{"$f":"HLOOKUP('III Tool Overview'!$H$6,Prevalence!$B$2:$AV$268,Prevalence!AW176,FALSE)","v":0.31428571428571428},{"$f":"HLOOKUP('III Tool Overview'!$H$6,LookUpData_Pop!$B$1:$AV$269,LookUpData_Pop!BB181,FALSE)/5","v":157.6},{"$f":"'III Tool Overview'!$H$9/110","v":0},{"$f":"IF('III Tool Overview'!$H$10=\"Even distribution\",Targeting!C178,IF('III Tool Overview'!$H$10=\"Targeting to Q1\",Targeting!D158,IF('III Tool Overview'!$H$10=\"Targeting to Q1 & Q2\",Targeting!E178,IF('III Tool Overview'!$H$10=\"Proportionate to need\",Targeting!F178))))","v":0},0.95321246059999121,0.95321246059999121,4.1876564249891919,4.1876564249891919,11.038164632256994,11.038164632256994,31.877395117693222,31.877395117693222,39.081710884599637,39.081710884599637,0,165.09450534006345,165.09450534006345,0,404.06541287436585,404.06541287436585,0,968.30681803747177,968.30681803747177,0,42.658199057492183,42.658199057492183,0,175.8506212834447,175.8506212834447,0,414.88490771375012,414.88490771375012,0,947.45551179821439,947.45551179821439,0]
["Female 60-64",62.5,"female",3,{"$f":"HLOOKUP('III Tool Overview'!$H$6,Prevalence!$B$2:$AV$268,Prevalence!AW177,FALSE)","v":0.60952380952380958},{"$f":"HLOOKUP('III Tool Overview'!$H$6,LookUpData_Pop!$B$1:$AV$269,LookUpData_Pop!BB182,FALSE)/5","v":158.6},{"$f":"'III Tool Overview'!$H$9/110","v":0},{"$f":"IF('III Tool Overview'!$H$10=\"Even distribution\",Targeting!C179,IF('III Tool Overview'!$H$10=\"Targeting to Q1\",Targeting!D159,IF('III Tool Overview'!$H$10=\"Targeting to Q1 & Q2\",Targeting!E179,IF('III Tool Overview'!$H$10=\"Proportionate to need\",Targeting!F179))))","v":0},1.3296519441486421,1.3296519441486421,5.8174860331323428,5.8174860331323428,15.198659808062633,15.198659808062633,42.653316080226496,42.653316080226496,49.197121933499758,49.197121933499758,0,206.09845168906827,206.09845168906827,0,495.89134040738907,495.89134040738907,0,1130.7960694075098,1130.7960694075098,0,47.376577344956431,47.376577344956431,0,194.56823411751856,194.56823411751856,0,455.52016453410818,455.52016453410818,0,1017.0102801248603,1017.0102801248603,0]
["Female 65-69",67.5,"female",3,{"$f":"HLOOKUP('III Tool Overview'!$H$6,Prevalence!$B$2:$AV$268,Prevalence!AW178,FALSE)","v":0.8761904761904763},{"$f":"HLOOKUP('III Tool Overview'!$H$6,LookUpData_Pop!$B$1:$AV$269,LookUpData_Pop!BB183,FALSE)/5","v":152.4},{"$f":"'III Tool Overview'!$H$9/110","v":0},{"$f":"IF('III Tool Overview'!$H$10=\"Even distribution\",Targeting!C180,IF('III Tool Overview'!$H$10=\"Targeting to Q1\",Targeting!D160,IF('III Tool Overview'!$H$10=\"Targeting to Q1 & Q2\",Targeting!E180,IF('III Tool Overview'!$H$10=\"Proportionate to need\",Targeting!F180))))","v":0},2.0834479836006574,2.0834479836006574,9.0355181924819767,9.0355181924819767,23.163291378507243,23.163291378507243,61.224683802581559,61.224683802581559,64.586887491620374,64.586887491620374,0,265.95661460348617,265.95661460348617,0,617.82976900094275,617.82976900094275,0,1273.7533236680592,1273.7533236680592,0,52.779680981976171,52.779680981976171,0,214.92440628386228,214.92440628386228,0,494.54076251865098,494.54076251865098,0,1050.6218477193413,1050.6218477193413,0]
["Female 70-74",72.5,"female",3,{"$f":"HLOOKUP('III Tool Overview'!$H$6,Prevalence!$B$2:$AV$268,Prevalence!AW179,FALSE)","v":0},{"$f":"HLOOKUP('III Tool Overview'!$H$6,LookUpData_Pop!$B$1:$AV$269,LookUpData_Pop!BB184,FALSE)/5","v":112}]
["Female 75-79",77.5,"female",3,{"$f":"HLOOKUP('III Tool Overview'!$H$6,Prevalence!$B$2:$AV$268,Prevalence!AW180,FALSE)","v":0},{"$f":"HLOOKUP('III Tool Overview'!$H$6,LookUpData_Pop!$B$1:$AV$269,LookUpData_Pop!BB185,FALSE)/5","v":84.8}]
["Female 80-84",82.5,"female",3,{"$f":"HLOOKUP('III Tool Overview'!$H$6,Prevalence!$B$2:$AV$268,Prevalence!AW181,FALSE)","v":0},{"$f":"HLOOKUP('III Tool Overview'!$H$6,LookUpData_Pop!$B$1:$AV$269,LookUpData_Pop!BB186,FALSE)/5","v":69.8}]
["Female 85-89",87.5,"female",3,{"$f":"HLOOKUP('III Tool Overview'!$H$6,Prevalence!$B$2:$AV$268,Prevalence!AW182,FALSE)","v":0},{"$f":"HLOOKUP('III Tool Overview'!$H$6,LookUpData_Pop!$B$1:$AV$269,LookUpData_Pop!BB187,FALSE)/5","v":52}]
["Female 90+",95,"female",3,null,{"$f":"HLOOKUP('III Tool Overview'!$H$6,LookUpData_Pop!$B$1:$AV$269,LookUpData_Pop!BB188,FALSE)/5","v":29.6}]
["TOTAL",null,null,null,null,{"$f":"SUM(F177:F187)","v":1482.6},{"$f":"SUM(G177:G187)","v":0},0,5.9483766416184896,5.9483766416184896,26.036564100354074,26.036564100354074,68.104410827259031,68.104410827259031,192.35541361206725,192.35541361206725,238.09308016878867,238.09308016878867,0,1003.0730683301133,1003.0730683301133,0,2443.5274389380688,2443.5274389380688,0,5817.7799096853132,5817.7799096853132,0,311.97486971167132,311.97486971167132,0,1287.3783857327403,1287.3783857327403,0,3044.4254378272203,3044.4254378272203,0,7014.2793644627063,7014.2793644627063,0]
["age/sex breakdown: Q4"]
["Male <1",0.5,"male",4,null,{"$f":"HLOOKUP('III Tool Overview'!$H$6,LookUpData_Pop!$B$1:$AV$269,LookUpData_Pop!BB190,FALSE)/5","v":62.2}]
["Male 1-4",2.5,"male",4,null,{"$f":"HLOOKUP('III Tool Overview'!$H$6,LookUpData_Pop!$B$1:$AV$269,LookUpData_Pop!BB191,FALSE)/5","v":234.2}]
["Male 5-9",7.5,"male",4,null,{"$f":"HLOOKUP('III Tool Overview'!$H$6,LookUpData_Pop!$B$1:$AV$269,LookUpData_Pop!BB192,FALSE)/5","v":301.2}]
["Male 10-14",12.5,"male",4,null,{"$f":"HLOOKUP('III Tool Overview'!$H$6,LookUpData_Pop!$B$1:$AV$269,LookUpData_Pop!BB193,FALSE)/5","v":371.2}]
["Male 15-19",17.5,"male",4,{"$f":"HLOOKUP('III Tool Overview'!$H$6,Prevalence!$B$2:$AV$268,Prevalence!AW189,FALSE)","v":7.515151515151515E-2},{"$f":"HLOOKUP('III Tool Overview'!$H$6,LookUpData_Pop!$B$1:$AV$269,LookUpData_Pop!BB194,FALSE)/5","v":362.4},{"$f":"'III Tool Overview'!$H$9/110","v":0},{"$f":"IF('III Tool Overview'!$H$10=\"Even distribution\",Targeting!C191,IF('III Tool Overview'!$H$10=\"Targeting to Q1\",Targeting!D150,IF('III Tool Overview'!$H$10=\"Targeting to Q1 & Q2\",Targeting!E191,IF('III Tool Overview'!$H$10=\"Proportionate to need\",Targeting!F191))))","v":0},{"$f":"IF('III Tool Overview'!$H$6=\"Western Isles Health Board\",0,IF('III Tool Overview'!$H$6=\"Eilean Siar Local Authority\",0,new_ci(2,B199,C199,D199,$C$1,G199,1,F199,E199*F199)))","v":0.1609474757084027},{"$f":"IF('III Tool Overview'!$H$6=\"Western Isles Health Board\",0,IF('III Tool Overview'!$H$6=\"Eilean Siar Local Authority\",0,new_ci(2,B199,C199,D199,$C$1,G199+H199,1,F199,E199*F199)))","v":0.1609474757084027},{"$f":"IF('III Tool Overview'!$H$6=\"Western Isles Health Board\",0,IF('III Tool Overview'!$H$6=\"Eilean Siar Local Authority\",0,new_ci(5,B199,C199,D199,$C$1,G199,1,F199,E199*F199)))","v":0.70370031706084502},{"$f":"IF('III Tool Overview'!$H$6=\"Western Isles Health Board\",0,IF('III Tool Overview'!$H$6=\"Eilean Siar Local Authority\",0,new_ci(5,B199,C199,D199,$C$1,G199+H199,1,F199,E199*F199)))","v":0.70370031706084502},{"$f":"IF('III Tool Overview'!$H$6=\"Western Isles Health Board\",0,IF('III Tool Overview'!$H$6=\"Eilean Siar Local Authority\",0,new_ci(10,B199,C199,D199,$C$1,G199,1,F199,E199*F199)))","v":1.8462391130676756},{"$f":"IF('III Tool Overview'!$H$6=\"Western Isles Health Board\",0,IF('III Tool Overview'!$H$6=\"Eilean Siar Local Authority\",0,new_ci(10,B199,C199,D199,$C$1,G199+H199,1,F199,E199*F199)))","v":1.8462391130676756},{"$f":"IF('III Tool Overview'!$H$6=\"Western Isles Health Board\",0,IF('III Tool Overview'!$H$6=\"Eilean Siar Local Authority\",0,new_ci(20,B199,C199,D199,$C$1,G199,1,F199,E199*F199)))","v":5.401452962380084},{"$f":"IF('III Tool Overview'!$H$6=\"Western Isles Health Board\",0,IF('III Tool Overview'!$H$6=\"Eilean Siar Local Authority\",0,new_ci(20,B199,C199,D199,$C$1,G199+H199,1,F199,E199*F199)))","v":5.401452962380084},{"$f":"IF('III Tool Overview'!$H$6=\"Western Isles Health Board\",0,IF('III Tool Overview'!$H$6=\"Eilean Siar Local Authority\",0,new_yll(2,B199,C199,D199,$C$1,G199,1,F199,E199*F199)))","v":13.036745532380619},{"$f":"IF('III Tool Overview'!$H$6=\"Western Isles Health Board\",0,IF('III Tool Overview'!$H$6=\"Eilean Siar Local Authority\",0,new_yll(2,B199,C199,D199,$C$1,G199+H199,1,F199,E199*F199)))","v":13.036745532380619},{"$f":"Q199-R199","v":0},{"$f":"IF('III Tool Overview'!$H$6=\"Western Isles Health Board\",0,IF('III Tool Overview'!$H$6=\"Eilean Siar Local Authority\",0,new_yll(5,B199,C199,D199,$C$1,G199,1,F199,E199*F199)))","v":55.893281824772451},{"$f":"IF('III Tool Overview'!$H$6=\"Western Isles Health Board\",0,IF('III Tool Overview'!$H$6=\"Eilean Siar Local Authority\",0,new_yll(5,B199,C199,D199,$C$1,G199+H199,1,F199,E199*F199)))","v":55.893281824772451},{"$f":"T199-U199","v":0},{"$f":"IF('III Tool Overview'!$H$6=\"Western Isles Health Board\",0,IF('III Tool Overview'!$H$6=\"Eilean Siar Local Authority\",0,new_yll(10,B199,C199,D199,$C$1,G199,1,F199,E199*F199)))","v":141.45189111711576},{"$f":"IF('III Tool Overview'!$H$6=\"Western Isles Health Board\",0,IF('III Tool Overview'!$H$6=\"Eilean Siar Local Authority\",0,new_yll(10,B199,C199,D199,$C$1,G199+H199,1,F199,E199*F199)))","v":141.45189111711576},{"$f":"W199-X199","v":0},{"$f":"IF('III Tool Overview'!$H$6=\"Western Isles Health Board\",0,IF('III Tool Overview'!$H$6=\"Eilean Siar Local Authority\",0,new_yll(20,B199,C199,D199,$C$1,G199,1,F199,E199*F199)))","v":379.75478717314604},{"$f":"IF('III Tool Overview'!$H$6=\"Western Isles Health Board\",0,IF('III Tool Overview'!$H$6=\"Eilean Siar Local Authority\",0,new_yll(20,B199,C199,D199,$C$1,G199+H199,1,F199,E199*F199)))","v":379.75478717314604},{"$f":"Z199-AA199","v":0},{"$f":"IF('III Tool Overview'!$H$6=\"Western Isles Health Board\",0,IF('III Tool Overview'!$H$6=\"Eilean Siar Local Authority\",0,hosp_count(2,B199,C199,D199,$C$1,G199,1,F199,E199*F199)))","v":22.310059410710739},{"$f":"IF('III Tool Overview'!$H$6=\"Western Isles Health Board\",0,IF('III Tool Overview'!$H$6=\"Eilean Siar Local Authority\",0,hosp_count(2,B199,C199,D199,$C$1,G199+H199,1,F199,E199*F199)))","v":22.310059410710739},{"$f":"AC199-AD199","v":0},{"$f":"IF('III Tool Overview'!$H$6=\"Western Isles Health Board\",0,IF('III Tool Overview'!$H$6=\"Eilean Siar Local Authority\",0,hosp_count(5,B199,C199,D199,$C$1,G199,1,F199,E199*F199)))","v":94.278167019619659},{"$f":"IF('III Tool Overview'!$H$6=\"Western Isles Health Board\",0,IF('III Tool Overview'!$H$6=\"Eilean Siar Local Authority\",0,hosp_count(5,B199,C199,D199,$C$1,G199+H199,1,F199,E199*F199)))","v":94.278167019619659},{"$f":"AF199-AG199","v":0},{"$f":"IF('III Tool Overview'!$H$6=\"Western Isles Health Board\",0,IF('III Tool Overview'!$H$6=\"Eilean Siar Local Authority\",0,hosp_count(10,B199,C199,D199,$C$1,G199,1,F199,E199*F199)))","v":232.91023938285531},{"$f":"IF('III Tool Overview'!$H$6=\"Western Isles Health Board\",0,IF('III Tool Overview'!$H$6=\"Eilean Siar Local Authority\",0,hosp_count(10,B199,C199,D199,$C$1,G199+H199,1,F199,E199*F199)))","v":232.91023938285531},{"$f":"AI199-AJ199","v":0},{"$f":"IF('III Tool Overview'!$H$6=\"Western Isles Health Board\",0,IF('III Tool Overview'!$H$6=\"Eilean Siar Local Authority\",0,hosp_count(20,B199,C199,D199,$C$1,G199,1,F199,E199*F199)))","v":596.82822026004192},{"$f":"IF('III Tool Overview'!$H$6=\"Western Isles Health Board\",0,IF('III Tool Overview'!$H$6=\"Eilean Siar Local Authority\",0,hosp_count(20,B199,C199,D199,$C$1,G199+H199,1,F199,E199*F199)))","v":596.82822026004192},{"$f":"AL199-AM199","v":0}]
["Male 20-24",22.5,"male",4,{"$f":"HLOOKUP('III Tool Overview'!$H$6,Prevalence!$B$2:$AV$268,Prevalence!AW190,FALSE)","v":7.515151515151515E-2},{"$f":"HLOOKUP('III Tool Overview'!$H$6,LookUpData_Pop!$B$1:$AV$269,LookUpData_Pop!BB195,FALSE)/5","v":273.60000000000002},{"$f":"'III Tool Overview'!$H$9/110","v":0},{"$f":"IF('III Tool Overview'!$H$10=\"Even distribution\",Targeting!C192,IF('III Tool Overview'!$H$10=\"Targeting to Q1\",Targeting!D151,IF('III Tool Overview'!$H$10=\"Targeting to Q1 & Q2\",Targeting!E192,IF('III Tool Overview'!$H$10=\"Proportionate to need\",Targeting!F192))))","v":0},{"$f":"IF('III Tool Overview'!$H$6=\"Western Isles Health Board\",0,IF('III Tool Overview'!$H$6=\"Eilean Siar Local Authority\",0,new_ci(2,B200,C200,D200,$C$1,G200,1,F200,E200*F200)))","v":0.16231233416454738},{"$f":"IF('III Tool Overview'!$H$6=\"Western Isles Health Board\",0,IF('III Tool Overview'!$H$6=\"Eilean Siar Local Authority\",0,new_ci(2,B200,C200,D200,$C$1,G200+H200,1,F200,E200*F200)))","v":0.16231233416454738},{"$f":"IF('III Tool Overview'!$H$6=\"Western Isles Health Board\",0,IF('III Tool Overview'!$H$6=\"Eilean Siar Local Authority\",0,new_ci(5,B200,C200,D200,$C$1,G200,1,F200,E200*F200)))","v":0.70948429843770755},{"$f":"IF('III Tool Overview'!$H$6=\"Western Isles Health Board\",0,IF('III Tool Overview'!$H$6=\"Eilean Siar Local Authority\",0,new_ci(5,B200,C200,D200,$C$1,G200+H200,1,F200,E200*F200)))","v":0.70948429843770755},{"$f":"IF('III Tool Overview'!$H$6=\"Western Isles Health Board\",0,IF('III Tool Overview'!$H$6=\"Eilean Siar Local Authority\",0,new_ci(10,B200,C200,D200,$C$1,G200,1,F200,E200*F200)))","v":1.8603996598282435},{"$f":"IF('III Tool Overview'!$H$6=\"Western Isles Health Board\",0,IF('III Tool Overview'!$H$6=\"Eilean Siar Local Authority\",0,new_ci(10,B200,C200,D200,$C$1,G200+H200,1,F200,E200*F200)))","v":1.8603996598282435},{"$f":"IF('III Tool Overview'!$H$6=\"Western Isles Health Board\",0,IF('III Tool Overview'!$H$6=\"Eilean Siar Local Authority\",0,new_ci(20,B200,C200,D200,$C$1,G200,1,F200,E200*F200)))","v":5.4336232586859028},{"$f":"IF('III Tool Overview'!$H$6=\"Western Isles Health Board\",0,IF('III Tool Overview'!$H$6=\"Eilean Siar Local Authority\",0,new_ci(20,B200,C200,D200,$C$1,G200+H200,1,F200,E200*F200)))","v":5.4336232586859028},{"$f":"IF('III Tool Overview'!$H$6=\"Western Isles Health Board\",0,IF('III Tool Overview'!$H$6=\"Eilean Siar Local Authority\",0,new_yll(2,B200,C200,D200,$C$1,G200,1,F200,E200*F200)))","v":12.498049730670148},{"$f":"IF('III Tool Overview'!$H$6=\"Western Isles Health Board\",0,IF('III Tool Overview'!$H$6=\"Eilean Siar Local Authority\",0,new_yll(2,B200,C200,D200,$C$1,G200+H200,1,F200,E200*F200)))","v":12.498049730670148},0,{"$f":"IF('III Tool Overview'!$H$6=\"Western Isles Health Board\",0,IF('III Tool Overview'!$H$6=\"Eilean Siar Local Authority\",0,new_yll(5,B200,C200,D200,$C$1,G200,1,F200,E200*F200)))","v":53.514901226612331},{"$f":"IF('III Tool Overview'!$H$6=\"Western Isles Health Board\",0,IF('III Tool Overview'!$H$6=\"Eilean Siar Local Authority\",0,new_yll(5,B200,C200,D200,$C$1,G200+H200,1,F200,E200*F200)))","v":53.514901226612331},{"$f":"T200-U200","v":0},{"$f":"IF('III Tool Overview'!$H$6=\"Western Isles Health Board\",0,IF('III Tool Overview'!$H$6=\"Eilean Siar Local Authority\",0,new_yll(10,B200,C200,D200,$C$1,G200,1,F200,E200*F200)))","v":135.09762613119221},{"$f":"IF('III Tool Overview'!$H$6=\"Western Isles Health Board\",0,IF('III Tool Overview'!$H$6=\"Eilean Siar Local Authority\",0,new_yll(10,B200,C200,D200,$C$1,G200+H200,1,F200,E200*F200)))","v":135.09762613119221},{"$f":"W200-X200","v":0},{"$f":"IF('III Tool Overview'!$H$6=\"Western Isles Health Board\",0,IF('III Tool Overview'!$H$6=\"Eilean Siar Local Authority\",0,new_yll(20,B200,C200,D200,$C$1,G200,1,F200,E200*F200)))","v":360.32476594091708},{"$f":"IF('III Tool Overview'!$H$6=\"Western Isles Health Board\",0,IF('III Tool Overview'!$H$6=\"Eilean Siar Local Authority\",0,new_yll(20,B200,C200,D200,$C$1,G200+H200,1,F200,E200*F200)))","v":360.32476594091708},{"$f":"Z200-AA200","v":0},{"$f":"IF('III Tool Overview'!$H$6=\"Western Isles Health Board\",0,IF('III Tool Overview'!$H$6=\"Eilean Siar Local Authority\",0,hosp_count(2,B200,C200,D200,$C$1,G200,1,F200,E200*F200)))","v":19.366109113984447},{"$f":"IF('III Tool Overview'!$H$6=\"Western Isles Health Board\",0,IF('III Tool Overview'!$H$6=\"Eilean Siar Local Authority\",0,hosp_count(2,B200,C200,D200,$C$1,G200+H200,1,F200,E200*F200)))","v":19.366109113984447},{"$f":"AC200-AD200","v":0},{"$f":"IF('III Tool Overview'!$H$6=\"Western Isles Health Board\",0,IF('III Tool Overview'!$H$6=\"Eilean Siar Local Authority\",0,hosp_count(5,B200,C200,D200,$C$1,G200,1,F200,E200*F200)))","v":81.817919976240219},{"$f":"IF('III Tool Overview'!$H$6=\"Western Isles Health Board\",0,IF('III Tool Overview'!$H$6=\"Eilean Siar Local Authority\",0,hosp_count(5,B200,C200,D200,$C$1,G200+H200,1,F200,E200*F200)))","v":81.817919976240219},{"$f":"AF200-AG200","v":0},{"$f":"IF('III Tool Overview'!$H$6=\"Western Isles Health Board\",0,IF('III Tool Overview'!$H$6=\"Eilean Siar Local Authority\",0,hosp_count(10,B200,C200,D200,$C$1,G200,1,F200,E200*F200)))","v":202.02807846126601},{"$f":"IF('III Tool Overview'!$H$6=\"Western Isles Health Board\",0,IF('III Tool Overview'!$H$6=\"Eilean Siar Local Authority\",0,hosp_count(10,B200,C200,D200,$C$1,G200+H200,1,F200,E200*F200)))","v":202.02807846126601},{"$f":"AI200-AJ200","v":0},{"$f":"IF('III Tool Overview'!$H$6=\"Western Isles Health Board\",0,IF('III Tool Overview'!$H$6=\"Eilean Siar Local Authority\",0,hosp_count(20,B200,C200,D200,$C$1,G200,1,F200,E200*F200)))","v":516.93124070284011},{"$f":"IF('III Tool Overview'!$H$6=\"Western Isles Health Board\",0,IF('III Tool Overview'!$H$6=\"Eilean Siar Local Authority\",0,hosp_count(20,B200,C200,D200,$C$1,G200+H200,1,F200,E200*F200)))","v":516.93124070284011},{"$f":"AL200-AM200","v":0}]
["Male 25-29",27.5,"male",4,{"$f":"HLOOKUP('III Tool Overview'!$H$6,Prevalence!$B$2:$AV$268,Prevalence!AW191,FALSE)","v":9.3939393939393906E-2},{"$f":"HLOOKUP('III Tool Overview'!$H$6,LookUpData_Pop!$B$1:$AV$269,LookUpData_Pop!BB196,FALSE)/5","v":260},{"$f":"'III Tool Overview'!$H$9/110","v":0},{"$f":"IF('III Tool Overview'!$H$10=\"Even distribution\",Targeting!C193,IF('III Tool Overview'!$H$10=\"Targeting to Q1\",Targeting!D152,IF('III Tool Overview'!$H$10=\"Targeting to Q1 & Q2\",Targeting!E193,IF('III Tool Overview'!$H$10=\"Proportionate to need\",Targeting!F193))))","v":0},{"$f":"IF('III Tool Overview'!$H$6=\"Western Isles Health Board\",0,IF('III Tool Overview'!$H$6=\"Eilean Siar Local Authority\",0,new_ci(2,B201,C201,D201,$C$1,G201,1,F201,E201*F201)))","v":0.23811961726237252},{"$f":"IF('III Tool Overview'!$H$6=\"Western Isles Health Board\",0,IF('III Tool Overview'!$H$6=\"Eilean Siar Local Authority\",0,new_ci(2,B201,C201,D201,$C$1,G201+H201,1,F201,E201*F201)))","v":0.23811961726237252},{"$f":"IF('III Tool Overview'!$H$6=\"Western Isles Health Board\",0,IF('III Tool Overview'!$H$6=\"Eilean Siar Local Authority\",0,new_ci(5,B201,C201,D201,$C$1,G201,1,F201,E201*F201)))","v":1.0402582691244815},{"$f":"IF('III Tool Overview'!$H$6=\"Western Isles Health Board\",0,IF('III Tool Overview'!$H$6=\"Eilean Siar Local Authority\",0,new_ci(5,B201,C201,D201,$C$1,G201+H201,1,F201,E201*F201)))","v":1.0402582691244815},{"$f":"IF('III Tool Overview'!$H$6=\"Western Isles Health Board\",0,IF('III Tool Overview'!$H$6=\"Eilean Siar Local Authority\",0,new_ci(10,B201,C201,D201,$C$1,G201,1,F201,E201*F201)))","v":2.7245070098517279},{"$f":"IF('III Tool Overview'!$H$6=\"Western Isles Health Board\",0,IF('III Tool Overview'!$H$6=\"Eilean Siar Local Authority\",0,new_ci(10,B201,C201,D201,$C$1,G201+H201,1,F201,E201*F201)))","v":2.7245070098517279},{"$f":"IF('III Tool Overview'!$H$6=\"Western Isles Health Board\",0,IF('III Tool Overview'!$H$6=\"Eilean Siar Local Authority\",0,new_ci(20,B201,C201,D201,$C$1,G201,1,F201,E201*F201)))","v":7.9279300683764991},{"$f":"IF('III Tool Overview'!$H$6=\"Western Isles Health Board\",0,IF('III Tool Overview'!$H$6=\"Eilean Siar Local Authority\",0,new_ci(20,B201,C201,D201,$C$1,G201+H201,1,F201,E201*F201)))","v":7.9279300683764991},{"$f":"IF('III Tool Overview'!$H$6=\"Western Isles Health Board\",0,IF('III Tool Overview'!$H$6=\"Eilean Siar Local Authority\",0,new_yll(2,B201,C201,D201,$C$1,G201,1,F201,E201*F201)))","v":16.906492825628447},{"$f":"IF('III Tool Overview'!$H$6=\"Western Isles Health Board\",0,IF('III Tool Overview'!$H$6=\"Eilean Siar Local Authority\",0,new_yll(2,B201,C201,D201,$C$1,G201+H201,1,F201,E201*F201)))","v":16.906492825628447},0,{"$f":"IF('III Tool Overview'!$H$6=\"Western Isles Health Board\",0,IF('III Tool Overview'!$H$6=\"Eilean Siar Local Authority\",0,new_yll(5,B201,C201,D201,$C$1,G201,1,F201,E201*F201)))","v":72.223408400397275},{"$f":"IF('III Tool Overview'!$H$6=\"Western Isles Health Board\",0,IF('III Tool Overview'!$H$6=\"Eilean Siar Local Authority\",0,new_yll(5,B201,C201,D201,$C$1,G201+H201,1,F201,E201*F201)))","v":72.223408400397275},0,{"$f":"IF('III Tool Overview'!$H$6=\"Western Isles Health Board\",0,IF('III Tool Overview'!$H$6=\"Eilean Siar Local Authority\",0,new_yll(10,B201,C201,D201,$C$1,G201,1,F201,E201*F201)))","v":181.50761995341711},{"$f":"IF('III Tool Overview'!$H$6=\"Western Isles Health Board\",0,IF('III Tool Overview'!$H$6=\"Eilean Siar Local Authority\",0,new_yll(10,B201,C201,D201,$C$1,G201+H201,1,F201,E201*F201)))","v":181.50761995341711},0,{"$f":"IF('III Tool Overview'!$H$6=\"Western Isles Health Board\",0,IF('III Tool Overview'!$H$6=\"Eilean Siar Local Authority\",0,new_yll(20,B201,C201,D201,$C$1,G201,1,F201,E201*F201)))","v":478.30048724018855},{"$f":"IF('III Tool Overview'!$H$6=\"Western Isles Health Board\",0,IF('III Tool Overview'!$H$6=\"Eilean Siar Local Authority\",0,new_yll(20,B201,C201,D201,$C$1,G201+H201,1,F201,E201*F201)))","v":478.30048724018855},0,{"$f":"IF('III Tool Overview'!$H$6=\"Western Isles Health Board\",0,IF('III Tool Overview'!$H$6=\"Eilean Siar Local Authority\",0,hosp_count(2,B201,C201,D201,$C$1,G201,1,F201,E201*F201)))","v":22.689255455755632},{"$f":"IF('III Tool Overview'!$H$6=\"Western Isles Health Board\",0,IF('III Tool Overview'!$H$6=\"Eilean Siar Local Authority\",0,hosp_count(2,B201,C201,D201,$C$1,G201+H201,1,F201,E201*F201)))","v":22.689255455755632},0,{"$f":"IF('III Tool Overview'!$H$6=\"Western Isles Health Board\",0,IF('III Tool Overview'!$H$6=\"Eilean Siar Local Authority\",0,hosp_count(5,B201,C201,D201,$C$1,G201,1,F201,E201*F201)))","v":95.807721002934926},{"$f":"IF('III Tool Overview'!$H$6=\"Western Isles Health Board\",0,IF('III Tool Overview'!$H$6=\"Eilean Siar Local Authority\",0,hosp_count(5,B201,C201,D201,$C$1,G201+H201,1,F201,E201*F201)))","v":95.807721002934926},0,{"$f":"IF('III Tool Overview'!$H$6=\"Western Isles Health Board\",0,IF('III Tool Overview'!$H$6=\"Eilean Siar Local Authority\",0,hosp_count(10,B201,C201,D201,$C$1,G201,1,F201,E201*F201)))","v":236.32007885987369},{"$f":"IF('III Tool Overview'!$H$6=\"Western Isles Health Board\",0,IF('III Tool Overview'!$H$6=\"Eilean Siar Local Authority\",0,hosp_count(10,B201,C201,D201,$C$1,G201+H201,1,F201,E201*F201)))","v":236.32007885987369},0,{"$f":"IF('III Tool Overview'!$H$6=\"Western Isles Health Board\",0,IF('III Tool Overview'!$H$6=\"Eilean Siar Local Authority\",0,hosp_count(20,B201,C201,D201,$C$1,G201,1,F201,E201*F201)))","v":602.75396824798293},{"$f":"IF('III Tool Overview'!$H$6=\"Western Isles Health Board\",0,IF('III Tool Overview'!$H$6=\"Eilean Siar Local Authority\",0,hosp_count(20,B201,C201,D201,$C$1,G201+H201,1,F201,E201*F201)))","v":602.75396824798293},0]
["Male 30-34",32.5,"male",4,{"$f":"HLOOKUP('III Tool Overview'!$H$6,Prevalence!$B$2:$AV$268,Prevalence!AW192,FALSE)","v":0.11272727272727272},{"$f":"HLOOKUP('III Tool Overview'!$H$6,LookUpData_Pop!$B$1:$AV$269,LookUpData_Pop!BB197,FALSE)/5","v":246.8},{"$f":"'III Tool Overview'!$H$9/110","v":0},{"$f":"IF('III Tool Overview'!$H$10=\"Even distribution\",Targeting!C194,IF('III Tool Overview'!$H$10=\"Targeting to Q1\",Targeting!D153,IF('III Tool Overview'!$H$10=\"Targeting to Q1 & Q2\",Targeting!E194,IF('III Tool Overview'!$H$10=\"Proportionate to need\",Targeting!F194))))","v":0},{"$f":"IF('III Tool Overview'!$H$6=\"Western Isles Health Board\",0,IF('III Tool Overview'!$H$6=\"Eilean Siar Local Authority\",0,new_ci(2,B202,C202,D202,$C$1,G202,1,F202,E202*F202)))","v":0.30190448835254968},{"$f":"IF('III Tool Overview'!$H$6=\"Western Isles Health Board\",0,IF('III Tool Overview'!$H$6=\"Eilean Siar Local Authority\",0,new_ci(2,B202,C202,D202,$C$1,G202+H202,1,F202,E202*F202)))","v":0.30190448835254968},{"$f":"IF('III Tool Overview'!$H$6=\"Western Isles Health Board\",0,IF('III Tool Overview'!$H$6=\"Eilean Siar Local Authority\",0,new_ci(5,B202,C202,D202,$C$1,G202,1,F202,E202*F202)))","v":1.3181930107071456},{"$f":"IF('III Tool Overview'!$H$6=\"Western Isles Health Board\",0,IF('III Tool Overview'!$H$6=\"Eilean Siar Local Authority\",0,new_ci(5,B202,C202,D202,$C$1,G202+H202,1,F202,E202*F202)))","v":1.3181930107071456},{"$f":"IF('III Tool Overview'!$H$6=\"Western Isles Health Board\",0,IF('III Tool Overview'!$H$6=\"Eilean Siar Local Authority\",0,new_ci(10,B202,C202,D202,$C$1,G202,1,F202,E202*F202)))","v":3.4484802579595426},{"$f":"IF('III Tool Overview'!$H$6=\"Western Isles Health Board\",0,IF('III Tool Overview'!$H$6=\"Eilean Siar Local Authority\",0,new_ci(10,B202,C202,D202,$C$1,G202+H202,1,F202,E202*F202)))","v":3.4484802579595426},{"$f":"IF('III Tool Overview'!$H$6=\"Western Isles Health Board\",0,IF('III Tool Overview'!$H$6=\"Eilean Siar Local Authority\",0,new_ci(20,B202,C202,D202,$C$1,G202,1,F202,E202*F202)))","v":9.9988438868592695},{"$f":"IF('III Tool Overview'!$H$6=\"Western Isles Health Board\",0,IF('III Tool Overview'!$H$6=\"Eilean Siar Local Authority\",0,new_ci(20,B202,C202,D202,$C$1,G202+H202,1,F202,E202*F202)))","v":9.9988438868592695},{"$f":"IF('III Tool Overview'!$H$6=\"Western Isles Health Board\",0,IF('III Tool Overview'!$H$6=\"Eilean Siar Local Authority\",0,new_yll(2,B202,C202,D202,$C$1,G202,1,F202,E202*F202)))","v":20.227600719620828},{"$f":"IF('III Tool Overview'!$H$6=\"Western Isles Health Board\",0,IF('III Tool Overview'!$H$6=\"Eilean Siar Local Authority\",0,new_yll(2,B202,C202,D202,$C$1,G202+H202,1,F202,E202*F202)))","v":20.227600719620828},0,{"$f":"IF('III Tool Overview'!$H$6=\"Western Isles Health Board\",0,IF('III Tool Overview'!$H$6=\"Eilean Siar Local Authority\",0,new_yll(5,B202,C202,D202,$C$1,G202,1,F202,E202*F202)))","v":86.247766068061466},{"$f":"IF('III Tool Overview'!$H$6=\"Western Isles Health Board\",0,IF('III Tool Overview'!$H$6=\"Eilean Siar Local Authority\",0,new_yll(5,B202,C202,D202,$C$1,G202+H202,1,F202,E202*F202)))","v":86.247766068061466},0,{"$f":"IF('III Tool Overview'!$H$6=\"Western Isles Health Board\",0,IF('III Tool Overview'!$H$6=\"Eilean Siar Local Authority\",0,new_yll(10,B202,C202,D202,$C$1,G202,1,F202,E202*F202)))","v":215.95444906864495},{"$f":"IF('III Tool Overview'!$H$6=\"Western Isles Health Board\",0,IF('III Tool Overview'!$H$6=\"Eilean Siar Local Authority\",0,new_yll(10,B202,C202,D202,$C$1,G202+H202,1,F202,E202*F202)))","v":215.95444906864495},0,{"$f":"IF('III Tool Overview'!$H$6=\"Western Isles Health Board\",0,IF('III Tool Overview'!$H$6=\"Eilean Siar Local Authority\",0,new_yll(20,B202,C202,D202,$C$1,G202,1,F202,E202*F202)))","v":563.4110916624428},{"$f":"IF('III Tool Overview'!$H$6=\"Western Isles Health Board\",0,IF('III Tool Overview'!$H$6=\"Eilean Siar Local Authority\",0,new_yll(20,B202,C202,D202,$C$1,G202+H202,1,F202,E202*F202)))","v":563.4110916624428},0,{"$f":"IF('III Tool Overview'!$H$6=\"Western Isles Health Board\",0,IF('III Tool Overview'!$H$6=\"Eilean Siar Local Authority\",0,hosp_count(2,B202,C202,D202,$C$1,G202,1,F202,E202*F202)))","v":24.763144724336577},{"$f":"IF('III Tool Overview'!$H$6=\"Western Isles Health Board\",0,IF('III Tool Overview'!$H$6=\"Eilean Siar Local Authority\",0,hosp_count(2,B202,C202,D202,$C$1,G202+H202,1,F202,E202*F202)))","v":24.763144724336577},0,{"$f":"IF('III Tool Overview'!$H$6=\"Western Isles Health Board\",0,IF('III Tool Overview'!$H$6=\"Eilean Siar Local Authority\",0,hosp_count(5,B202,C202,D202,$C$1,G202,1,F202,E202*F202)))","v":104.51311188779829},{"$f":"IF('III Tool Overview'!$H$6=\"Western Isles Health Board\",0,IF('III Tool Overview'!$H$6=\"Eilean Siar Local Authority\",0,hosp_count(5,B202,C202,D202,$C$1,G202+H202,1,F202,E202*F202)))","v":104.51311188779829},0,{"$f":"IF('III Tool Overview'!$H$6=\"Western Isles Health Board\",0,IF('III Tool Overview'!$H$6=\"Eilean Siar Local Authority\",0,hosp_count(10,B202,C202,D202,$C$1,G202,1,F202,E202*F202)))","v":257.53104134825418},{"$f":"IF('III Tool Overview'!$H$6=\"Western Isles Health Board\",0,IF('III Tool Overview'!$H$6=\"Eilean Siar Local Authority\",0,hosp_count(10,B202,C202,D202,$C$1,G202+H202,1,F202,E202*F202)))","v":257.53104134825418},0,{"$f":"IF('III Tool Overview'!$H$6=\"Western Isles Health Board\",0,IF('III Tool Overview'!$H$6=\"Eilean Siar Local Authority\",0,hosp_count(20,B202,C202,D202,$C$1,G202,1,F202,E202*F202)))","v":654.87049779975564},{"$f":"IF('III Tool Overview'!$H$6=\"Western Isles Health Board\",0,IF('III Tool Overview'!$H$6=\"Eilean Siar Local Authority\",0,hosp_count(20,B202,C202,D202,$C$1,G202+H202,1,F202,E202*F202)))","v":654.87049779975564},0]
["Male 35-39",37.5,"male",4,{"$f":"HLOOKUP('III Tool Overview'!$H$6,Prevalence!$B$2:$AV$268,Prevalence!AW193,FALSE)","v":7.5151515151515108E-2},{"$f":"HLOOKUP('III Tool Overview'!$H$6,LookUpData_Pop!$B$1:$AV$269,LookUpData_Pop!BB198,FALSE)/5","v":331},{"$f":"'III Tool Overview'!$H$9/110","v":0},{"$f":"IF('III Tool Overview'!$H$10=\"Even distribution\",Targeting!C195,IF('III Tool Overview'!$H$10=\"Targeting to Q1\",Targeting!D154,IF('III Tool Overview'!$H$10=\"Targeting to Q1 & Q2\",Targeting!E195,IF('III Tool Overview'!$H$10=\"Proportionate to need\",Targeting!F195))))","v":0},{"$f":"IF('III Tool Overview'!$H$6=\"Western Isles Health Board\",0,IF('III Tool Overview'!$H$6=\"Eilean Siar Local Authority\",0,new_ci(2,B203,C203,D203,$C$1,G203,1,F203,E203*F203)))","v":0.62497958029488587},{"$f":"IF('III Tool Overview'!$H$6=\"Western Isles Health Board\",0,IF('III Tool Overview'!$H$6=\"Eilean Siar Local Authority\",0,new_ci(2,B203,C203,D203,$C$1,G203+H203,1,F203,E203*F203)))","v":0.62497958029488587},{"$f":"IF('III Tool Overview'!$H$6=\"Western Isles Health Board\",0,IF('III Tool Overview'!$H$6=\"Eilean Siar Local Authority\",0,new_ci(5,B203,C203,D203,$C$1,G203,1,F203,E203*F203)))","v":2.7257381375003997},{"$f":"IF('III Tool Overview'!$H$6=\"Western Isles Health Board\",0,IF('III Tool Overview'!$H$6=\"Eilean Siar Local Authority\",0,new_ci(5,B203,C203,D203,$C$1,G203+H203,1,F203,E203*F203)))","v":2.7257381375003997},{"$f":"IF('III Tool Overview'!$H$6=\"Western Isles Health Board\",0,IF('III Tool Overview'!$H$6=\"Eilean Siar Local Authority\",0,new_ci(10,B203,C203,D203,$C$1,G203,1,F203,E203*F203)))","v":7.1137689002375044},{"$f":"IF('III Tool Overview'!$H$6=\"Western Isles Health Board\",0,IF('III Tool Overview'!$H$6=\"Eilean Siar Local Authority\",0,new_ci(10,B203,C203,D203,$C$1,G203+H203,1,F203,E203*F203)))","v":7.1137689002375044},{"$f":"IF('III Tool Overview'!$H$6=\"Western Isles Health Board\",0,IF('III Tool Overview'!$H$6=\"Eilean Siar Local Authority\",0,new_ci(20,B203,C203,D203,$C$1,G203,1,F203,E203*F203)))","v":20.474520228658108},{"$f":"IF('III Tool Overview'!$H$6=\"Western Isles Health Board\",0,IF('III Tool Overview'!$H$6=\"Eilean Siar Local Authority\",0,new_ci(20,B203,C203,D203,$C$1,G203+H203,1,F203,E203*F203)))","v":20.474520228658108},{"$f":"IF('III Tool Overview'!$H$6=\"Western Isles Health Board\",0,IF('III Tool Overview'!$H$6=\"Eilean Siar Local Authority\",0,new_yll(2,B203,C203,D203,$C$1,G203,1,F203,E203*F203)))","v":38.123754397988037},{"$f":"IF('III Tool Overview'!$H$6=\"Western Isles Health Board\",0,IF('III Tool Overview'!$H$6=\"Eilean Siar Local Authority\",0,new_yll(2,B203,C203,D203,$C$1,G203+H203,1,F203,E203*F203)))","v":38.123754397988037},0,{"$f":"IF('III Tool Overview'!$H$6=\"Western Isles Health Board\",0,IF('III Tool Overview'!$H$6=\"Eilean Siar Local Authority\",0,new_yll(5,B203,C203,D203,$C$1,G203,1,F203,E203*F203)))","v":161.98979905381157},{"$f":"IF('III Tool Overview'!$H$6=\"Western Isles Health Board\",0,IF('III Tool Overview'!$H$6=\"Eilean Siar Local Authority\",0,new_yll(5,B203,C203,D203,$C$1,G203+H203,1,F203,E203*F203)))","v":161.98979905381157},0,{"$f":"IF('III Tool Overview'!$H$6=\"Western Isles Health Board\",0,IF('III Tool Overview'!$H$6=\"Eilean Siar Local Authority\",0,new_yll(10,B203,C203,D203,$C$1,G203,1,F203,E203*F203)))","v":402.84376164000253},{"$f":"IF('III Tool Overview'!$H$6=\"Western Isles Health Board\",0,IF('III Tool Overview'!$H$6=\"Eilean Siar Local Authority\",0,new_yll(10,B203,C203,D203,$C$1,G203+H203,1,F203,E203*F203)))","v":402.84376164000253},0,{"$f":"IF('III Tool Overview'!$H$6=\"Western Isles Health Board\",0,IF('III Tool Overview'!$H$6=\"Eilean Siar Local Authority\",0,new_yll(20,B203,C203,D203,$C$1,G203,1,F203,E203*F203)))","v":1031.5481455402582},{"$f":"IF('III Tool Overview'!$H$6=\"Western Isles Health Board\",0,IF('III Tool Overview'!$H$6=\"Eilean Siar Local Authority\",0,new_yll(20,B203,C203,D203,$C$1,G203+H203,1,F203,E203*F203)))","v":1031.5481455402582},0,{"$f":"IF('III Tool Overview'!$H$6=\"Western Isles Health Board\",0,IF('III Tool Overview'!$H$6=\"Eilean Siar Local Authority\",0,hosp_count(2,B203,C203,D203,$C$1,G203,1,F203,E203*F203)))","v":40.945789524357991},{"$f":"IF('III Tool Overview'!$H$6=\"Western Isles Health Board\",0,IF('III Tool Overview'!$H$6=\"Eilean Siar Local Authority\",0,hosp_count(2,B203,C203,D203,$C$1,G203+H203,1,F203,E203*F203)))","v":40.945789524357991},0,{"$f":"IF('III Tool Overview'!$H$6=\"Western Isles Health Board\",0,IF('III Tool Overview'!$H$6=\"Eilean Siar Local Authority\",0,hosp_count(5,B203,C203,D203,$C$1,G203,1,F203,E203*F203)))","v":172.62723384254824},{"$f":"IF('III Tool Overview'!$H$6=\"Western Isles Health Board\",0,IF('III Tool Overview'!$H$6=\"Eilean Siar Local Authority\",0,hosp_count(5,B203,C203,D203,$C$1,G203+H203,1,F203,E203*F203)))","v":172.62723384254824},0,{"$f":"IF('III Tool Overview'!$H$6=\"Western Isles Health Board\",0,IF('III Tool Overview'!$H$6=\"Eilean Siar Local Authority\",0,hosp_count(10,B203,C203,D203,$C$1,G203,1,F203,E203*F203)))","v":424.43951349246322},{"$f":"IF('III Tool Overview'!$H$6=\"Western Isles Health Board\",0,IF('III Tool Overview'!$H$6=\"Eilean Siar Local Authority\",0,hosp_count(10,B203,C203,D203,$C$1,G203+H203,1,F203,E203*F203)))","v":424.43951349246322},0,{"$f":"IF('III Tool Overview'!$H$6=\"Western Isles Health Board\",0,IF('III Tool Overview'!$H$6=\"Eilean Siar Local Authority\",0,hosp_count(20,B203,C203,D203,$C$1,G203,1,F203,E203*F203)))","v":1072.2934106017567},{"$f":"IF('III Tool Overview'!$H$6=\"Western Isles Health Board\",0,IF('III Tool Overview'!$H$6=\"Eilean Siar Local Authority\",0,hosp_count(20,B203,C203,D203,$C$1,G203+H203,1,F203,E203*F203)))","v":1072.2934106017567},0]
["Male 40-44",42.5,"male",4,{"$f":"HLOOKUP('III Tool Overview'!$H$6,Prevalence!$B$2:$AV$268,Prevalence!AW194,FALSE)","v":6.5757575757575709E-2},{"$f":"HLOOKUP('III Tool Overview'!$H$6,LookUpData_Pop!$B$1:$AV$269,LookUpData_Pop!BB199,FALSE)/5","v":479.2},{"$f":"'III Tool Overview'!$H$9/110","v":0},{"$f":"IF('III Tool Overview'!$H$10=\"Even distribution\",Targeting!C196,IF('III Tool Overview'!$H$10=\"Targeting to Q1\",Targeting!D155,IF('III Tool Overview'!$H$10=\"Targeting to Q1 & Q2\",Targeting!E196,IF('III Tool Overview'!$H$10=\"Proportionate to need\",Targeting!F196))))","v":0},{"$f":"IF('III Tool Overview'!$H$6=\"Western Isles Health Board\",0,IF('III Tool Overview'!$H$6=\"Eilean Siar Local Authority\",0,new_ci(2,B204,C204,D204,$C$1,G204,1,F204,E204*F204)))","v":1.2083352940865759},{"$f":"IF('III Tool Overview'!$H$6=\"Western Isles Health Board\",0,IF('III Tool Overview'!$H$6=\"Eilean Siar Local Authority\",0,new_ci(2,B204,C204,D204,$C$1,G204+H204,1,F204,E204*F204)))","v":1.2083352940865759},{"$f":"IF('III Tool Overview'!$H$6=\"Western Isles Health Board\",0,IF('III Tool Overview'!$H$6=\"Eilean Siar Local Authority\",0,new_ci(5,B204,C204,D204,$C$1,G204,1,F204,E204*F204)))","v":5.264223528851744},{"$f":"IF('III Tool Overview'!$H$6=\"Western Isles Health Board\",0,IF('III Tool Overview'!$H$6=\"Eilean Siar Local Authority\",0,new_ci(5,B204,C204,D204,$C$1,G204+H204,1,F204,E204*F204)))","v":5.264223528851744},{"$f":"IF('III Tool Overview'!$H$6=\"Western Isles Health Board\",0,IF('III Tool Overview'!$H$6=\"Eilean Siar Local Authority\",0,new_ci(10,B204,C204,D204,$C$1,G204,1,F204,E204*F204)))","v":13.707540373980937},{"$f":"IF('III Tool Overview'!$H$6=\"Western Isles Health Board\",0,IF('III Tool Overview'!$H$6=\"Eilean Siar Local Authority\",0,new_ci(10,B204,C204,D204,$C$1,G204+H204,1,F204,E204*F204)))","v":13.707540373980937},{"$f":"IF('III Tool Overview'!$H$6=\"Western Isles Health Board\",0,IF('III Tool Overview'!$H$6=\"Eilean Siar Local Authority\",0,new_ci(20,B204,C204,D204,$C$1,G204,1,F204,E204*F204)))","v":39.175029237433549},{"$f":"IF('III Tool Overview'!$H$6=\"Western Isles Health Board\",0,IF('III Tool Overview'!$H$6=\"Eilean Siar Local Authority\",0,new_ci(20,B204,C204,D204,$C$1,G204+H204,1,F204,E204*F204)))","v":39.175029237433549},{"$f":"IF('III Tool Overview'!$H$6=\"Western Isles Health Board\",0,IF('III Tool Overview'!$H$6=\"Eilean Siar Local Authority\",0,new_yll(2,B204,C204,D204,$C$1,G204,1,F204,E204*F204)))","v":68.875111762934822},{"$f":"IF('III Tool Overview'!$H$6=\"Western Isles Health Board\",0,IF('III Tool Overview'!$H$6=\"Eilean Siar Local Authority\",0,new_yll(2,B204,C204,D204,$C$1,G204+H204,1,F204,E204*F204)))","v":68.875111762934822},0,{"$f":"IF('III Tool Overview'!$H$6=\"Western Isles Health Board\",0,IF('III Tool Overview'!$H$6=\"Eilean Siar Local Authority\",0,new_yll(5,B204,C204,D204,$C$1,G204,1,F204,E204*F204)))","v":291.79895849304103},{"$f":"IF('III Tool Overview'!$H$6=\"Western Isles Health Board\",0,IF('III Tool Overview'!$H$6=\"Eilean Siar Local Authority\",0,new_yll(5,B204,C204,D204,$C$1,G204+H204,1,F204,E204*F204)))","v":291.79895849304103},0,{"$f":"IF('III Tool Overview'!$H$6=\"Western Isles Health Board\",0,IF('III Tool Overview'!$H$6=\"Eilean Siar Local Authority\",0,new_yll(10,B204,C204,D204,$C$1,G204,1,F204,E204*F204)))","v":721.48508755710964},{"$f":"IF('III Tool Overview'!$H$6=\"Western Isles Health Board\",0,IF('III Tool Overview'!$H$6=\"Eilean Siar Local Authority\",0,new_yll(10,B204,C204,D204,$C$1,G204+H204,1,F204,E204*F204)))","v":721.48508755710964},0,{"$f":"IF('III Tool Overview'!$H$6=\"Western Isles Health Board\",0,IF('III Tool Overview'!$H$6=\"Eilean Siar Local Authority\",0,new_yll(20,B204,C204,D204,$C$1,G204,1,F204,E204*F204)))","v":1818.3130532705948},{"$f":"IF('III Tool Overview'!$H$6=\"Western Isles Health Board\",0,IF('III Tool Overview'!$H$6=\"Eilean Siar Local Authority\",0,new_yll(20,B204,C204,D204,$C$1,G204+H204,1,F204,E204*F204)))","v":1818.3130532705948},0,{"$f":"IF('III Tool Overview'!$H$6=\"Western Isles Health Board\",0,IF('III Tool Overview'!$H$6=\"Eilean Siar Local Authority\",0,hosp_count(2,B204,C204,D204,$C$1,G204,1,F204,E204*F204)))","v":68.15721071092797},{"$f":"IF('III Tool Overview'!$H$6=\"Western Isles Health Board\",0,IF('III Tool Overview'!$H$6=\"Eilean Siar Local Authority\",0,hosp_count(2,B204,C204,D204,$C$1,G204+H204,1,F204,E204*F204)))","v":68.15721071092797},0,{"$f":"IF('III Tool Overview'!$H$6=\"Western Isles Health Board\",0,IF('III Tool Overview'!$H$6=\"Eilean Siar Local Authority\",0,hosp_count(5,B204,C204,D204,$C$1,G204,1,F204,E204*F204)))","v":287.05743610039218},{"$f":"IF('III Tool Overview'!$H$6=\"Western Isles Health Board\",0,IF('III Tool Overview'!$H$6=\"Eilean Siar Local Authority\",0,hosp_count(5,B204,C204,D204,$C$1,G204+H204,1,F204,E204*F204)))","v":287.05743610039218},0,{"$f":"IF('III Tool Overview'!$H$6=\"Western Isles Health Board\",0,IF('III Tool Overview'!$H$6=\"Eilean Siar Local Authority\",0,hosp_count(10,B204,C204,D204,$C$1,G204,1,F204,E204*F204)))","v":704.31819818452948},{"$f":"IF('III Tool Overview'!$H$6=\"Western Isles Health Board\",0,IF('III Tool Overview'!$H$6=\"Eilean Siar Local Authority\",0,hosp_count(10,B204,C204,D204,$C$1,G204+H204,1,F204,E204*F204)))","v":704.31819818452948},0,{"$f":"IF('III Tool Overview'!$H$6=\"Western Isles Health Board\",0,IF('III Tool Overview'!$H$6=\"Eilean Siar Local Authority\",0,hosp_count(20,B204,C204,D204,$C$1,G204,1,F204,E204*F204)))","v":1768.41970647628},{"$f":"IF('III Tool Overview'!$H$6=\"Western Isles Health Board\",0,IF('III Tool Overview'!$H$6=\"Eilean Siar Local Authority\",0,hosp_count(20,B204,C204,D204,$C$1,G204+H204,1,F204,E204*F204)))","v":1768.41970647628},0]
["Male 45-49",47.5,"male",4,{"$f":"HLOOKUP('III Tool Overview'!$H$6,Prevalence!$B$2:$AV$268,Prevalence!AW195,FALSE)","v":0.10333333333333332},{"$f":"HLOOKUP('III Tool Overview'!$H$6,LookUpData_Pop!$B$1:$AV$269,LookUpData_Pop!BB200,FALSE)/5","v":465.2},{"$f":"'III Tool Overview'!$H$9/110","v":0},{"$f":"IF('III Tool Overview'!$H$10=\"Even distribution\",Targeting!C197,IF('III Tool Overview'!$H$10=\"Targeting to Q1\",Targeting!D156,IF('III Tool Overview'!$H$10=\"Targeting to Q1 & Q2\",Targeting!E197,IF('III Tool Overview'!$H$10=\"Proportionate to need\",Targeting!F197))))","v":0},{"$f":"IF('III Tool Overview'!$H$6=\"Western Isles Health Board\",0,IF('III Tool Overview'!$H$6=\"Eilean Siar Local Authority\",0,new_ci(2,B205,C205,D205,$C$1,G205,1,F205,E205*F205)))","v":1.8099078781175424},{"$f":"IF('III Tool Overview'!$H$6=\"Western Isles Health Board\",0,IF('III Tool Overview'!$H$6=\"Eilean Siar Local Authority\",0,new_ci(2,B205,C205,D205,$C$1,G205+H205,1,F205,E205*F205)))","v":1.8099078781175424},{"$f":"IF('III Tool Overview'!$H$6=\"Western Isles Health Board\",0,IF('III Tool Overview'!$H$6=\"Eilean Siar Local Authority\",0,new_ci(5,B205,C205,D205,$C$1,G205,1,F205,E205*F205)))","v":7.8659261516087442},{"$f":"IF('III Tool Overview'!$H$6=\"Western Isles Health Board\",0,IF('III Tool Overview'!$H$6=\"Eilean Siar Local Authority\",0,new_ci(5,B205,C205,D205,$C$1,G205+H205,1,F205,E205*F205)))","v":7.8659261516087442},{"$f":"IF('III Tool Overview'!$H$6=\"Western Isles Health Board\",0,IF('III Tool Overview'!$H$6=\"Eilean Siar Local Authority\",0,new_ci(10,B205,C205,D205,$C$1,G205,1,F205,E205*F205)))","v":20.378283982781301},{"$f":"IF('III Tool Overview'!$H$6=\"Western Isles Health Board\",0,IF('III Tool Overview'!$H$6=\"Eilean Siar Local Authority\",0,new_ci(10,B205,C205,D205,$C$1,G205+H205,1,F205,E205*F205)))","v":20.378283982781301},{"$f":"IF('III Tool Overview'!$H$6=\"Western Isles Health Board\",0,IF('III Tool Overview'!$H$6=\"Eilean Siar Local Authority\",0,new_ci(20,B205,C205,D205,$C$1,G205,1,F205,E205*F205)))","v":57.3372685976084},{"$f":"IF('III Tool Overview'!$H$6=\"Western Isles Health Board\",0,IF('III Tool Overview'!$H$6=\"Eilean Siar Local Authority\",0,new_ci(20,B205,C205,D205,$C$1,G205+H205,1,F205,E205*F205)))","v":57.3372685976084},{"$f":"IF('III Tool Overview'!$H$6=\"Western Isles Health Board\",0,IF('III Tool Overview'!$H$6=\"Eilean Siar Local Authority\",0,new_yll(2,B205,C205,D205,$C$1,G205,1,F205,E205*F205)))","v":92.305301783994665},{"$f":"IF('III Tool Overview'!$H$6=\"Western Isles Health Board\",0,IF('III Tool Overview'!$H$6=\"Eilean Siar Local Authority\",0,new_yll(2,B205,C205,D205,$C$1,G205+H205,1,F205,E205*F205)))","v":92.305301783994665},0,{"$f":"IF('III Tool Overview'!$H$6=\"Western Isles Health Board\",0,IF('III Tool Overview'!$H$6=\"Eilean Siar Local Authority\",0,new_yll(5,B205,C205,D205,$C$1,G205,1,F205,E205*F205)))","v":388.83275432123844},{"$f":"IF('III Tool Overview'!$H$6=\"Western Isles Health Board\",0,IF('III Tool Overview'!$H$6=\"Eilean Siar Local Authority\",0,new_yll(5,B205,C205,D205,$C$1,G205+H205,1,F205,E205*F205)))","v":388.83275432123844},0,{"$f":"IF('III Tool Overview'!$H$6=\"Western Isles Health Board\",0,IF('III Tool Overview'!$H$6=\"Eilean Siar Local Authority\",0,new_yll(10,B205,C205,D205,$C$1,G205,1,F205,E205*F205)))","v":950.57212546810536},{"$f":"IF('III Tool Overview'!$H$6=\"Western Isles Health Board\",0,IF('III Tool Overview'!$H$6=\"Eilean Siar Local Authority\",0,new_yll(10,B205,C205,D205,$C$1,G205+H205,1,F205,E205*F205)))","v":950.57212546810536},0,{"$f":"IF('III Tool Overview'!$H$6=\"Western Isles Health Board\",0,IF('III Tool Overview'!$H$6=\"Eilean Siar Local Authority\",0,new_yll(20,B205,C205,D205,$C$1,G205,1,F205,E205*F205)))","v":2321.5231470428998},{"$f":"IF('III Tool Overview'!$H$6=\"Western Isles Health Board\",0,IF('III Tool Overview'!$H$6=\"Eilean Siar Local Authority\",0,new_yll(20,B205,C205,D205,$C$1,G205+H205,1,F205,E205*F205)))","v":2321.5231470428998},0,{"$f":"IF('III Tool Overview'!$H$6=\"Western Isles Health Board\",0,IF('III Tool Overview'!$H$6=\"Eilean Siar Local Authority\",0,hosp_count(2,B205,C205,D205,$C$1,G205,1,F205,E205*F205)))","v":81.574669142584753},{"$f":"IF('III Tool Overview'!$H$6=\"Western Isles Health Board\",0,IF('III Tool Overview'!$H$6=\"Eilean Siar Local Authority\",0,hosp_count(2,B205,C205,D205,$C$1,G205+H205,1,F205,E205*F205)))","v":81.574669142584753},0,{"$f":"IF('III Tool Overview'!$H$6=\"Western Isles Health Board\",0,IF('III Tool Overview'!$H$6=\"Eilean Siar Local Authority\",0,hosp_count(5,B205,C205,D205,$C$1,G205,1,F205,E205*F205)))","v":342.81002545809969},{"$f":"IF('III Tool Overview'!$H$6=\"Western Isles Health Board\",0,IF('III Tool Overview'!$H$6=\"Eilean Siar Local Authority\",0,hosp_count(5,B205,C205,D205,$C$1,G205+H205,1,F205,E205*F205)))","v":342.81002545809969},0,{"$f":"IF('III Tool Overview'!$H$6=\"Western Isles Health Board\",0,IF('III Tool Overview'!$H$6=\"Eilean Siar Local Authority\",0,hosp_count(10,B205,C205,D205,$C$1,G205,1,F205,E205*F205)))","v":837.33043129274574},{"$f":"IF('III Tool Overview'!$H$6=\"Western Isles Health Board\",0,IF('III Tool Overview'!$H$6=\"Eilean Siar Local Authority\",0,hosp_count(10,B205,C205,D205,$C$1,G205+H205,1,F205,E205*F205)))","v":837.33043129274574},0,{"$f":"IF('III Tool Overview'!$H$6=\"Western Isles Health Board\",0,IF('III Tool Overview'!$H$6=\"Eilean Siar Local Authority\",0,hosp_count(20,B205,C205,D205,$C$1,G205,1,F205,E205*F205)))","v":2074.7468865858414},{"$f":"IF('III Tool Overview'!$H$6=\"Western Isles Health Board\",0,IF('III Tool Overview'!$H$6=\"Eilean Siar Local Authority\",0,hosp_count(20,B205,C205,D205,$C$1,G205+H205,1,F205,E205*F205)))","v":2074.7468865858414},0]
["Male 50-54",52.5,"male",4,{"$f":"HLOOKUP('III Tool Overview'!$H$6,Prevalence!$B$2:$AV$268,Prevalence!AW196,FALSE)","v":9.3939393939393906E-2},{"$f":"HLOOKUP('III Tool Overview'!$H$6,LookUpData_Pop!$B$1:$AV$269,LookUpData_Pop!BB201,FALSE)/5","v":400.6},{"$f":"'III Tool Overview'!$H$9/110","v":0},{"$f":"IF('III Tool Overview'!$H$10=\"Even distribution\",Targeting!C198,IF('III Tool Overview'!$H$10=\"Targeting to Q1\",Targeting!D157,IF('III Tool Overview'!$H$10=\"Targeting to Q1 & Q2\",Targeting!E198,IF('III Tool Overview'!$H$10=\"Proportionate to need\",Targeting!F198))))","v":0},{"$f":"IF('III Tool Overview'!$H$6=\"Western Isles Health Board\",0,IF('III Tool Overview'!$H$6=\"Eilean Siar Local Authority\",0,new_ci(2,B206,C206,D206,$C$1,G206,1,F206,E206*F206)))","v":2.0806999555331496},{"$f":"IF('III Tool Overview'!$H$6=\"Western Isles Health Board\",0,IF('III Tool Overview'!$H$6=\"Eilean Siar Local Authority\",0,new_ci(2,B206,C206,D206,$C$1,G206+H206,1,F206,E206*F206)))","v":2.0806999555331496},{"$f":"IF('III Tool Overview'!$H$6=\"Western Isles Health Board\",0,IF('III Tool Overview'!$H$6=\"Eilean Siar Local Authority\",0,new_ci(5,B206,C206,D206,$C$1,G206,1,F206,E206*F206)))","v":9.0224498297126008},{"$f":"IF('III Tool Overview'!$H$6=\"Western Isles Health Board\",0,IF('III Tool Overview'!$H$6=\"Eilean Siar Local Authority\",0,new_ci(5,B206,C206,D206,$C$1,G206+H206,1,F206,E206*F206)))","v":9.0224498297126008},{"$f":"IF('III Tool Overview'!$H$6=\"Western Isles Health Board\",0,IF('III Tool Overview'!$H$6=\"Eilean Siar Local Authority\",0,new_ci(10,B206,C206,D206,$C$1,G206,1,F206,E206*F206)))","v":23.264691453243028},{"$f":"IF('III Tool Overview'!$H$6=\"Western Isles Health Board\",0,IF('III Tool Overview'!$H$6=\"Eilean Siar Local Authority\",0,new_ci(10,B206,C206,D206,$C$1,G206+H206,1,F206,E206*F206)))","v":23.264691453243028},{"$f":"IF('III Tool Overview'!$H$6=\"Western Isles Health Board\",0,IF('III Tool Overview'!$H$6=\"Eilean Siar Local Authority\",0,new_ci(20,B206,C206,D206,$C$1,G206,1,F206,E206*F206)))","v":64.525392121847744},{"$f":"IF('III Tool Overview'!$H$6=\"Western Isles Health Board\",0,IF('III Tool Overview'!$H$6=\"Eilean Siar Local Authority\",0,new_ci(20,B206,C206,D206,$C$1,G206+H206,1,F206,E206*F206)))","v":64.525392121847744},{"$f":"IF('III Tool Overview'!$H$6=\"Western Isles Health Board\",0,IF('III Tool Overview'!$H$6=\"Eilean Siar Local Authority\",0,new_yll(2,B206,C206,D206,$C$1,G206,1,F206,E206*F206)))","v":97.792897910058031},{"$f":"IF('III Tool Overview'!$H$6=\"Western Isles Health Board\",0,IF('III Tool Overview'!$H$6=\"Eilean Siar Local Authority\",0,new_yll(2,B206,C206,D206,$C$1,G206+H206,1,F206,E206*F206)))","v":97.792897910058031},0,{"$f":"IF('III Tool Overview'!$H$6=\"Western Isles Health Board\",0,IF('III Tool Overview'!$H$6=\"Eilean Siar Local Authority\",0,new_yll(5,B206,C206,D206,$C$1,G206,1,F206,E206*F206)))","v":409.92936553959714},{"$f":"IF('III Tool Overview'!$H$6=\"Western Isles Health Board\",0,IF('III Tool Overview'!$H$6=\"Eilean Siar Local Authority\",0,new_yll(5,B206,C206,D206,$C$1,G206+H206,1,F206,E206*F206)))","v":409.92936553959714},0,{"$f":"IF('III Tool Overview'!$H$6=\"Western Isles Health Board\",0,IF('III Tool Overview'!$H$6=\"Eilean Siar Local Authority\",0,new_yll(10,B206,C206,D206,$C$1,G206,1,F206,E206*F206)))","v":992.41661300656131},{"$f":"IF('III Tool Overview'!$H$6=\"Western Isles Health Board\",0,IF('III Tool Overview'!$H$6=\"Eilean Siar Local Authority\",0,new_yll(10,B206,C206,D206,$C$1,G206+H206,1,F206,E206*F206)))","v":992.41661300656131},0,{"$f":"IF('III Tool Overview'!$H$6=\"Western Isles Health Board\",0,IF('III Tool Overview'!$H$6=\"Eilean Siar Local Authority\",0,new_yll(20,B206,C206,D206,$C$1,G206,1,F206,E206*F206)))","v":2358.8926467519709},{"$f":"IF('III Tool Overview'!$H$6=\"Western Isles Health Board\",0,IF('III Tool Overview'!$H$6=\"Eilean Siar Local Authority\",0,new_yll(20,B206,C206,D206,$C$1,G206+H206,1,F206,E206*F206)))","v":2358.8926467519709},0,{"$f":"IF('III Tool Overview'!$H$6=\"Western Isles Health Board\",0,IF('III Tool Overview'!$H$6=\"Eilean Siar Local Authority\",0,hosp_count(2,B206,C206,D206,$C$1,G206,1,F206,E206*F206)))","v":80.768181260423319},{"$f":"IF('III Tool Overview'!$H$6=\"Western Isles Health Board\",0,IF('III Tool Overview'!$H$6=\"Eilean Siar Local Authority\",0,hosp_count(2,B206,C206,D206,$C$1,G206+H206,1,F206,E206*F206)))","v":80.768181260423319},0,{"$f":"IF('III Tool Overview'!$H$6=\"Western Isles Health Board\",0,IF('III Tool Overview'!$H$6=\"Eilean Siar Local Authority\",0,hosp_count(5,B206,C206,D206,$C$1,G206,1,F206,E206*F206)))","v":338.70872436999355},{"$f":"IF('III Tool Overview'!$H$6=\"Western Isles Health Board\",0,IF('III Tool Overview'!$H$6=\"Eilean Siar Local Authority\",0,hosp_count(5,B206,C206,D206,$C$1,G206+H206,1,F206,E206*F206)))","v":338.70872436999355},0,{"$f":"IF('III Tool Overview'!$H$6=\"Western Isles Health Board\",0,IF('III Tool Overview'!$H$6=\"Eilean Siar Local Authority\",0,hosp_count(10,B206,C206,D206,$C$1,G206,1,F206,E206*F206)))","v":823.78298805510008},{"$f":"IF('III Tool Overview'!$H$6=\"Western Isles Health Board\",0,IF('III Tool Overview'!$H$6=\"Eilean Siar Local Authority\",0,hosp_count(10,B206,C206,D206,$C$1,G206+H206,1,F206,E206*F206)))","v":823.78298805510008},0,{"$f":"IF('III Tool Overview'!$H$6=\"Western Isles Health Board\",0,IF('III Tool Overview'!$H$6=\"Eilean Siar Local Authority\",0,hosp_count(20,B206,C206,D206,$C$1,G206,1,F206,E206*F206)))","v":2015.8872860796016},{"$f":"IF('III Tool Overview'!$H$6=\"Western Isles Health Board\",0,IF('III Tool Overview'!$H$6=\"Eilean Siar Local Authority\",0,hosp_count(20,B206,C206,D206,$C$1,G206+H206,1,F206,E206*F206)))","v":2015.8872860796016},0]
["Male 55-59",57.5,"male",4,{"$f":"HLOOKUP('III Tool Overview'!$H$6,Prevalence!$B$2:$AV$268,Prevalence!AW197,FALSE)","v":0.18787878787878781},{"$f":"HLOOKUP('III Tool Overview'!$H$6,LookUpData_Pop!$B$1:$AV$269,LookUpData_Pop!BB202,FALSE)/5","v":394.6},{"$f":"'III Tool Overview'!$H$9/110","v":0},{"$f":"IF('III Tool Overview'!$H$10=\"Even distribution\",Targeting!C199,IF('III Tool Overview'!$H$10=\"Targeting to Q1\",Targeting!D158,IF('III Tool Overview'!$H$10=\"Targeting to Q1 & Q2\",Targeting!E199,IF('III Tool Overview'!$H$10=\"Proportionate to need\",Targeting!F199))))","v":0},{"$f":"IF('III Tool Overview'!$H$6=\"Western Isles Health Board\",0,IF('III Tool Overview'!$H$6=\"Eilean Siar Local Authority\",0,new_ci(2,B207,C207,D207,$C$1,G207,1,F207,E207*F207)))","v":3.159732224723609},{"$f":"IF('III Tool Overview'!$H$6=\"Western Isles Health Board\",0,IF('III Tool Overview'!$H$6=\"Eilean Siar Local Authority\",0,new_ci(2,B207,C207,D207,$C$1,G207+H207,1,F207,E207*F207)))","v":3.159732224723609},{"$f":"IF('III Tool Overview'!$H$6=\"Western Isles Health Board\",0,IF('III Tool Overview'!$H$6=\"Eilean Siar Local Authority\",0,new_ci(5,B207,C207,D207,$C$1,G207,1,F207,E207*F207)))","v":13.631285726763311},{"$f":"IF('III Tool Overview'!$H$6=\"Western Isles Health Board\",0,IF('III Tool Overview'!$H$6=\"Eilean Siar Local Authority\",0,new_ci(5,B207,C207,D207,$C$1,G207+H207,1,F207,E207*F207)))","v":13.631285726763311},{"$f":"IF('III Tool Overview'!$H$6=\"Western Isles Health Board\",0,IF('III Tool Overview'!$H$6=\"Eilean Siar Local Authority\",0,new_ci(10,B207,C207,D207,$C$1,G207,1,F207,E207*F207)))","v":34.775976622009047},{"$f":"IF('III Tool Overview'!$H$6=\"Western Isles Health Board\",0,IF('III Tool Overview'!$H$6=\"Eilean Siar Local Authority\",0,new_ci(10,B207,C207,D207,$C$1,G207+H207,1,F207,E207*F207)))","v":34.775976622009047},{"$f":"IF('III Tool Overview'!$H$6=\"Western Isles Health Board\",0,IF('III Tool Overview'!$H$6=\"Eilean Siar Local Authority\",0,new_ci(20,B207,C207,D207,$C$1,G207,1,F207,E207*F207)))","v":93.417295240832516},{"$f":"IF('III Tool Overview'!$H$6=\"Western Isles Health Board\",0,IF('III Tool Overview'!$H$6=\"Eilean Siar Local Authority\",0,new_ci(20,B207,C207,D207,$C$1,G207+H207,1,F207,E207*F207)))","v":93.417295240832516},{"$f":"IF('III Tool Overview'!$H$6=\"Western Isles Health Board\",0,IF('III Tool Overview'!$H$6=\"Eilean Siar Local Authority\",0,new_yll(2,B207,C207,D207,$C$1,G207,1,F207,E207*F207)))","v":129.54902121366797},{"$f":"IF('III Tool Overview'!$H$6=\"Western Isles Health Board\",0,IF('III Tool Overview'!$H$6=\"Eilean Siar Local Authority\",0,new_yll(2,B207,C207,D207,$C$1,G207+H207,1,F207,E207*F207)))","v":129.54902121366797},0,{"$f":"IF('III Tool Overview'!$H$6=\"Western Isles Health Board\",0,IF('III Tool Overview'!$H$6=\"Eilean Siar Local Authority\",0,new_yll(5,B207,C207,D207,$C$1,G207,1,F207,E207*F207)))","v":537.59811616212471},{"$f":"IF('III Tool Overview'!$H$6=\"Western Isles Health Board\",0,IF('III Tool Overview'!$H$6=\"Eilean Siar Local Authority\",0,new_yll(5,B207,C207,D207,$C$1,G207+H207,1,F207,E207*F207)))","v":537.59811616212471},0,{"$f":"IF('III Tool Overview'!$H$6=\"Western Isles Health Board\",0,IF('III Tool Overview'!$H$6=\"Eilean Siar Local Authority\",0,new_yll(10,B207,C207,D207,$C$1,G207,1,F207,E207*F207)))","v":1275.7002292123041},{"$f":"IF('III Tool Overview'!$H$6=\"Western Isles Health Board\",0,IF('III Tool Overview'!$H$6=\"Eilean Siar Local Authority\",0,new_yll(10,B207,C207,D207,$C$1,G207+H207,1,F207,E207*F207)))","v":1275.7002292123041},0,{"$f":"IF('III Tool Overview'!$H$6=\"Western Isles Health Board\",0,IF('III Tool Overview'!$H$6=\"Eilean Siar Local Authority\",0,new_yll(20,B207,C207,D207,$C$1,G207,1,F207,E207*F207)))","v":2869.1500669527481},{"$f":"IF('III Tool Overview'!$H$6=\"Western Isles Health Board\",0,IF('III Tool Overview'!$H$6=\"Eilean Siar Local Authority\",0,new_yll(20,B207,C207,D207,$C$1,G207+H207,1,F207,E207*F207)))","v":2869.1500669527481},0,{"$f":"IF('III Tool Overview'!$H$6=\"Western Isles Health Board\",0,IF('III Tool Overview'!$H$6=\"Eilean Siar Local Authority\",0,hosp_count(2,B207,C207,D207,$C$1,G207,1,F207,E207*F207)))","v":98.08600695629265},{"$f":"IF('III Tool Overview'!$H$6=\"Western Isles Health Board\",0,IF('III Tool Overview'!$H$6=\"Eilean Siar Local Authority\",0,hosp_count(2,B207,C207,D207,$C$1,G207+H207,1,F207,E207*F207)))","v":98.08600695629265},0,{"$f":"IF('III Tool Overview'!$H$6=\"Western Isles Health Board\",0,IF('III Tool Overview'!$H$6=\"Eilean Siar Local Authority\",0,hosp_count(5,B207,C207,D207,$C$1,G207,1,F207,E207*F207)))","v":409.46827676409526},{"$f":"IF('III Tool Overview'!$H$6=\"Western Isles Health Board\",0,IF('III Tool Overview'!$H$6=\"Eilean Siar Local Authority\",0,hosp_count(5,B207,C207,D207,$C$1,G207+H207,1,F207,E207*F207)))","v":409.46827676409526},0,{"$f":"IF('III Tool Overview'!$H$6=\"Western Isles Health Board\",0,IF('III Tool Overview'!$H$6=\"Eilean Siar Local Authority\",0,hosp_count(10,B207,C207,D207,$C$1,G207,1,F207,E207*F207)))","v":986.76311578655577},{"$f":"IF('III Tool Overview'!$H$6=\"Western Isles Health Board\",0,IF('III Tool Overview'!$H$6=\"Eilean Siar Local Authority\",0,hosp_count(10,B207,C207,D207,$C$1,G207+H207,1,F207,E207*F207)))","v":986.76311578655577},0,{"$f":"IF('III Tool Overview'!$H$6=\"Western Isles Health Board\",0,IF('III Tool Overview'!$H$6=\"Eilean Siar Local Authority\",0,hosp_count(20,B207,C207,D207,$C$1,G207,1,F207,E207*F207)))","v":2351.8619276001709},{"$f":"IF('III Tool Overview'!$H$6=\"Western Isles Health Board\",0,IF('III Tool Overview'!$H$6=\"Eilean Siar Local Authority\",0,hosp_count(20,B207,C207,D207,$C$1,G207+H207,1,F207,E207*F207)))","v":2351.8619276001709},0]
["Male 60-64",62.5,"male",4,{"$f":"HLOOKUP('III Tool Overview'!$H$6,Prevalence!$B$2:$AV$268,Prevalence!AW198,FALSE)","v":0.33818181818181814},{"$f":"HLOOKUP('III Tool Overview'!$H$6,LookUpData_Pop!$B$1:$AV$269,LookUpData_Pop!BB203,FALSE)/5","v":397.6},{"$f":"'III Tool Overview'!$H$9/110","v":0},{"$f":"IF('III Tool Overview'!$H$10=\"Even distribution\",Targeting!C200,IF('III Tool Overview'!$H$10=\"Targeting to Q1\",Targeting!D159,IF('III Tool Overview'!$H$10=\"Targeting to Q1 & Q2\",Targeting!E200,IF('III Tool Overview'!$H$10=\"Proportionate to need\",Targeting!F200))))","v":0},{"$f":"IF('III Tool Overview'!$H$6=\"Western Isles Health Board\",0,IF('III Tool Overview'!$H$6=\"Eilean Siar Local Authority\",0,new_ci(2,B208,C208,D208,$C$1,G208,1,F208,E208*F208)))","v":4.2468881594538601},{"$f":"IF('III Tool Overview'!$H$6=\"Western Isles Health Board\",0,IF('III Tool Overview'!$H$6=\"Eilean Siar Local Authority\",0,new_ci(2,B208,C208,D208,$C$1,G208+H208,1,F208,E208*F208)))","v":4.2468881594538601},{"$f":"IF('III Tool Overview'!$H$6=\"Western Isles Health Board\",0,IF('III Tool Overview'!$H$6=\"Eilean Siar Local Authority\",0,new_ci(5,B208,C208,D208,$C$1,G208,1,F208,E208*F208)))","v":18.231041303927618},{"$f":"IF('III Tool Overview'!$H$6=\"Western Isles Health Board\",0,IF('III Tool Overview'!$H$6=\"Eilean Siar Local Authority\",0,new_ci(5,B208,C208,D208,$C$1,G208+H208,1,F208,E208*F208)))","v":18.231041303927618},{"$f":"IF('III Tool Overview'!$H$6=\"Western Isles Health Board\",0,IF('III Tool Overview'!$H$6=\"Eilean Siar Local Authority\",0,new_ci(10,B208,C208,D208,$C$1,G208,1,F208,E208*F208)))","v":46.038787912857522},{"$f":"IF('III Tool Overview'!$H$6=\"Western Isles Health Board\",0,IF('III Tool Overview'!$H$6=\"Eilean Siar Local Authority\",0,new_ci(10,B208,C208,D208,$C$1,G208+H208,1,F208,E208*F208)))","v":46.038787912857522},{"$f":"IF('III Tool Overview'!$H$6=\"Western Isles Health Board\",0,IF('III Tool Overview'!$H$6=\"Eilean Siar Local Authority\",0,new_ci(20,B208,C208,D208,$C$1,G208,1,F208,E208*F208)))","v":120.0145332530046},{"$f":"IF('III Tool Overview'!$H$6=\"Western Isles Health Board\",0,IF('III Tool Overview'!$H$6=\"Eilean Siar Local Authority\",0,new_ci(20,B208,C208,D208,$C$1,G208+H208,1,F208,E208*F208)))","v":120.0145332530046},{"$f":"IF('III Tool Overview'!$H$6=\"Western Isles Health Board\",0,IF('III Tool Overview'!$H$6=\"Eilean Siar Local Authority\",0,new_yll(2,B208,C208,D208,$C$1,G208,1,F208,E208*F208)))","v":157.13486189979284},{"$f":"IF('III Tool Overview'!$H$6=\"Western Isles Health Board\",0,IF('III Tool Overview'!$H$6=\"Eilean Siar Local Authority\",0,new_yll(2,B208,C208,D208,$C$1,G208+H208,1,F208,E208*F208)))","v":157.13486189979284},0,{"$f":"IF('III Tool Overview'!$H$6=\"Western Isles Health Board\",0,IF('III Tool Overview'!$H$6=\"Eilean Siar Local Authority\",0,new_yll(5,B208,C208,D208,$C$1,G208,1,F208,E208*F208)))","v":646.15509466455512},{"$f":"IF('III Tool Overview'!$H$6=\"Western Isles Health Board\",0,IF('III Tool Overview'!$H$6=\"Eilean Siar Local Authority\",0,new_yll(5,B208,C208,D208,$C$1,G208+H208,1,F208,E208*F208)))","v":646.15509466455512},0,{"$f":"IF('III Tool Overview'!$H$6=\"Western Isles Health Board\",0,IF('III Tool Overview'!$H$6=\"Eilean Siar Local Authority\",0,new_yll(10,B208,C208,D208,$C$1,G208,1,F208,E208*F208)))","v":1505.8465295135989},{"$f":"IF('III Tool Overview'!$H$6=\"Western Isles Health Board\",0,IF('III Tool Overview'!$H$6=\"Eilean Siar Local Authority\",0,new_yll(10,B208,C208,D208,$C$1,G208+H208,1,F208,E208*F208)))","v":1505.8465295135989},0,{"$f":"IF('III Tool Overview'!$H$6=\"Western Isles Health Board\",0,IF('III Tool Overview'!$H$6=\"Eilean Siar Local Authority\",0,new_yll(20,B208,C208,D208,$C$1,G208,1,F208,E208*F208)))","v":3223.9551129813549},{"$f":"IF('III Tool Overview'!$H$6=\"Western Isles Health Board\",0,IF('III Tool Overview'!$H$6=\"Eilean Siar Local Authority\",0,new_yll(20,B208,C208,D208,$C$1,G208+H208,1,F208,E208*F208)))","v":3223.9551129813549},0,{"$f":"IF('III Tool Overview'!$H$6=\"Western Isles Health Board\",0,IF('III Tool Overview'!$H$6=\"Eilean Siar Local Authority\",0,hosp_count(2,B208,C208,D208,$C$1,G208,1,F208,E208*F208)))","v":113.63447069541817},{"$f":"IF('III Tool Overview'!$H$6=\"Western Isles Health Board\",0,IF('III Tool Overview'!$H$6=\"Eilean Siar Local Authority\",0,hosp_count(2,B208,C208,D208,$C$1,G208+H208,1,F208,E208*F208)))","v":113.63447069541817},0,{"$f":"IF('III Tool Overview'!$H$6=\"Western Isles Health Board\",0,IF('III Tool Overview'!$H$6=\"Eilean Siar Local Authority\",0,hosp_count(5,B208,C208,D208,$C$1,G208,1,F208,E208*F208)))","v":472.3310257418197},{"$f":"IF('III Tool Overview'!$H$6=\"Western Isles Health Board\",0,IF('III Tool Overview'!$H$6=\"Eilean Siar Local Authority\",0,hosp_count(5,B208,C208,D208,$C$1,G208+H208,1,F208,E208*F208)))","v":472.3310257418197},0,{"$f":"IF('III Tool Overview'!$H$6=\"Western Isles Health Board\",0,IF('III Tool Overview'!$H$6=\"Eilean Siar Local Authority\",0,hosp_count(10,B208,C208,D208,$C$1,G208,1,F208,E208*F208)))","v":1128.4093266909706},{"$f":"IF('III Tool Overview'!$H$6=\"Western Isles Health Board\",0,IF('III Tool Overview'!$H$6=\"Eilean Siar Local Authority\",0,hosp_count(10,B208,C208,D208,$C$1,G208+H208,1,F208,E208*F208)))","v":1128.4093266909706},0,{"$f":"IF('III Tool Overview'!$H$6=\"Western Isles Health Board\",0,IF('III Tool Overview'!$H$6=\"Eilean Siar Local Authority\",0,hosp_count(20,B208,C208,D208,$C$1,G208,1,F208,E208*F208)))","v":2624.6558995900641},{"$f":"IF('III Tool Overview'!$H$6=\"Western Isles Health Board\",0,IF('III Tool Overview'!$H$6=\"Eilean Siar Local Authority\",0,hosp_count(20,B208,C208,D208,$C$1,G208+H208,1,F208,E208*F208)))","v":2624.6558995900641},0]
["Male 65-69",67.5,"male",4,{"$f":"HLOOKUP('III Tool Overview'!$H$6,Prevalence!$B$2:$AV$268,Prevalence!AW199,FALSE)","v":0.83606060606060606},{"$f":"HLOOKUP('III Tool Overview'!$H$6,LookUpData_Pop!$B$1:$AV$269,LookUpData_Pop!BB204,FALSE)/5","v":326.60000000000002},{"$f":"'III Tool Overview'!$H$9/110","v":0},{"$f":"IF('III Tool Overview'!$H$10=\"Even distribution\",Targeting!C201,IF('III Tool Overview'!$H$10=\"Targeting to Q1\",Targeting!D160,IF('III Tool Overview'!$H$10=\"Targeting to Q1 & Q2\",Targeting!E201,IF('III Tool Overview'!$H$10=\"Proportionate to need\",Targeting!F201))))","v":0},{"$f":"IF('III Tool Overview'!$H$6=\"Western Isles Health Board\",0,IF('III Tool Overview'!$H$6=\"Eilean Siar Local Authority\",0,new_ci(2,B209,C209,D209,$C$1,G209,1,F209,E209*F209)))","v":5.3714299052582168},{"$f":"IF('III Tool Overview'!$H$6=\"Western Isles Health Board\",0,IF('III Tool Overview'!$H$6=\"Eilean Siar Local Authority\",0,new_ci(2,B209,C209,D209,$C$1,G209+H209,1,F209,E209*F209)))","v":5.3714299052582168},{"$f":"IF('III Tool Overview'!$H$6=\"Western Isles Health Board\",0,IF('III Tool Overview'!$H$6=\"Eilean Siar Local Authority\",0,new_ci(5,B209,C209,D209,$C$1,G209,1,F209,E209*F209)))","v":22.844709088498156},{"$f":"IF('III Tool Overview'!$H$6=\"Western Isles Health Board\",0,IF('III Tool Overview'!$H$6=\"Eilean Siar Local Authority\",0,new_ci(5,B209,C209,D209,$C$1,G209+H209,1,F209,E209*F209)))","v":22.844709088498156},{"$f":"IF('III Tool Overview'!$H$6=\"Western Isles Health Board\",0,IF('III Tool Overview'!$H$6=\"Eilean Siar Local Authority\",0,new_ci(10,B209,C209,D209,$C$1,G209,1,F209,E209*F209)))","v":56.592687793297181},{"$f":"IF('III Tool Overview'!$H$6=\"Western Isles Health Board\",0,IF('III Tool Overview'!$H$6=\"Eilean Siar Local Authority\",0,new_ci(10,B209,C209,D209,$C$1,G209+H209,1,F209,E209*F209)))","v":56.592687793297181},{"$f":"IF('III Tool Overview'!$H$6=\"Western Isles Health Board\",0,IF('III Tool Overview'!$H$6=\"Eilean Siar Local Authority\",0,new_ci(20,B209,C209,D209,$C$1,G209,1,F209,E209*F209)))","v":139.47290514480866},{"$f":"IF('III Tool Overview'!$H$6=\"Western Isles Health Board\",0,IF('III Tool Overview'!$H$6=\"Eilean Siar Local Authority\",0,new_ci(20,B209,C209,D209,$C$1,G209+H209,1,F209,E209*F209)))","v":139.47290514480866},{"$f":"IF('III Tool Overview'!$H$6=\"Western Isles Health Board\",0,IF('III Tool Overview'!$H$6=\"Eilean Siar Local Authority\",0,new_yll(2,B209,C209,D209,$C$1,G209,1,F209,E209*F209)))","v":166.51432706300471},{"$f":"IF('III Tool Overview'!$H$6=\"Western Isles Health Board\",0,IF('III Tool Overview'!$H$6=\"Eilean Siar Local Authority\",0,new_yll(2,B209,C209,D209,$C$1,G209+H209,1,F209,E209*F209)))","v":166.51432706300471},0,{"$f":"IF('III Tool Overview'!$H$6=\"Western Isles Health Board\",0,IF('III Tool Overview'!$H$6=\"Eilean Siar Local Authority\",0,new_yll(5,B209,C209,D209,$C$1,G209,1,F209,E209*F209)))","v":672.78144164259618},{"$f":"IF('III Tool Overview'!$H$6=\"Western Isles Health Board\",0,IF('III Tool Overview'!$H$6=\"Eilean Siar Local Authority\",0,new_yll(5,B209,C209,D209,$C$1,G209+H209,1,F209,E209*F209)))","v":672.78144164259618},0,{"$f":"IF('III Tool Overview'!$H$6=\"Western Isles Health Board\",0,IF('III Tool Overview'!$H$6=\"Eilean Siar Local Authority\",0,new_yll(10,B209,C209,D209,$C$1,G209,1,F209,E209*F209)))","v":1514.1683319947917},{"$f":"IF('III Tool Overview'!$H$6=\"Western Isles Health Board\",0,IF('III Tool Overview'!$H$6=\"Eilean Siar Local Authority\",0,new_yll(10,B209,C209,D209,$C$1,G209+H209,1,F209,E209*F209)))","v":1514.1683319947917},0,{"$f":"IF('III Tool Overview'!$H$6=\"Western Isles Health Board\",0,IF('III Tool Overview'!$H$6=\"Eilean Siar Local Authority\",0,new_yll(20,B209,C209,D209,$C$1,G209,1,F209,E209*F209)))","v":2950.3334817744685},{"$f":"IF('III Tool Overview'!$H$6=\"Western Isles Health Board\",0,IF('III Tool Overview'!$H$6=\"Eilean Siar Local Authority\",0,new_yll(20,B209,C209,D209,$C$1,G209+H209,1,F209,E209*F209)))","v":2950.3334817744685},0,{"$f":"IF('III Tool Overview'!$H$6=\"Western Isles Health Board\",0,IF('III Tool Overview'!$H$6=\"Eilean Siar Local Authority\",0,hosp_count(2,B209,C209,D209,$C$1,G209,1,F209,E209*F209)))","v":115.08017495559093},{"$f":"IF('III Tool Overview'!$H$6=\"Western Isles Health Board\",0,IF('III Tool Overview'!$H$6=\"Eilean Siar Local Authority\",0,hosp_count(2,B209,C209,D209,$C$1,G209+H209,1,F209,E209*F209)))","v":115.08017495559093},0,{"$f":"IF('III Tool Overview'!$H$6=\"Western Isles Health Board\",0,IF('III Tool Overview'!$H$6=\"Eilean Siar Local Authority\",0,hosp_count(5,B209,C209,D209,$C$1,G209,1,F209,E209*F209)))","v":473.91939445878211},{"$f":"IF('III Tool Overview'!$H$6=\"Western Isles Health Board\",0,IF('III Tool Overview'!$H$6=\"Eilean Siar Local Authority\",0,hosp_count(5,B209,C209,D209,$C$1,G209+H209,1,F209,E209*F209)))","v":473.91939445878211},0,{"$f":"IF('III Tool Overview'!$H$6=\"Western Isles Health Board\",0,IF('III Tool Overview'!$H$6=\"Eilean Siar Local Authority\",0,hosp_count(10,B209,C209,D209,$C$1,G209,1,F209,E209*F209)))","v":1111.3306207884168},{"$f":"IF('III Tool Overview'!$H$6=\"Western Isles Health Board\",0,IF('III Tool Overview'!$H$6=\"Eilean Siar Local Authority\",0,hosp_count(10,B209,C209,D209,$C$1,G209+H209,1,F209,E209*F209)))","v":1111.3306207884168},0,{"$f":"IF('III Tool Overview'!$H$6=\"Western Isles Health Board\",0,IF('III Tool Overview'!$H$6=\"Eilean Siar Local Authority\",0,hosp_count(20,B209,C209,D209,$C$1,G209,1,F209,E209*F209)))","v":2454.832959612932},{"$f":"IF('III Tool Overview'!$H$6=\"Western Isles Health Board\",0,IF('III Tool Overview'!$H$6=\"Eilean Siar Local Authority\",0,hosp_count(20,B209,C209,D209,$C$1,G209+H209,1,F209,E209*F209)))","v":2454.832959612932},0]
["Male 70-74",72.5,"male",4,{"$f":"HLOOKUP('III Tool Overview'!$H$6,Prevalence!$B$2:$AV$268,Prevalence!AW200,FALSE)","v":0},{"$f":"HLOOKUP('III Tool Overview'!$H$6,LookUpData_Pop!$B$1:$AV$269,LookUpData_Pop!BB205,FALSE)/5","v":246.8}]
["Male 75-79",77.5,"male",4,{"$f":"HLOOKUP('III Tool Overview'!$H$6,Prevalence!$B$2:$AV$268,Prevalence!AW201,FALSE)","v":0},{"$f":"HLOOKUP('III Tool Overview'!$H$6,LookUpData_Pop!$B$1:$AV$269,LookUpData_Pop!BB206,FALSE)/5","v":183.2}]
["Male 80-84",82.5,"male",4,{"$f":"HLOOKUP('III Tool Overview'!$H$6,Prevalence!$B$2:$AV$268,Prevalence!AW202,FALSE)","v":0},{"$f":"HLOOKUP('III Tool Overview'!$H$6,LookUpData_Pop!$B$1:$AV$269,LookUpData_Pop!BB207,FALSE)/5","v":116.6}]
["Male 85-89",87.5,"male",4,{"$f":"HLOOKUP('III Tool Overview'!$H$6,Prevalence!$B$2:$AV$268,Prevalence!AW203,FALSE)","v":0},{"$f":"HLOOKUP('III Tool Overview'!$H$6,LookUpData_Pop!$B$1:$AV$269,LookUpData_Pop!BB208,FALSE)/5","v":46.6}]
["Male 90+",95,"male",4,null,{"$f":"HLOOKUP('III Tool Overview'!$H$6,LookUpData_Pop!$B$1:$AV$269,LookUpData_Pop!BB209,FALSE)/5","v":17.8}]
["TOTAL",null,null,null,null,{"$f":"SUM(F199:F209)","v":3937.5999999999995},{"$f":"SUM(G199:G209)","v":0},0,19.365256912955711,19.365256912955711,83.357009662192752,83.357009662192752,211.7513630791137,211.7513630791137,563.17879400049537,563.17879400049537,812.96416483974099,812.96416483974099,0,3376.9648873968081,3376.9648873968081,0,8037.0442646628435,8037.0442646628435,0,18355.506786330989,18355.506786330989,0,687.37507195038313,687.37507195038313,0,2873.3390366223239,2873.3390366223239,0,6945.1636323430303,6945.1636323430303,0,16734.082003557269,16734.082003557269,0]
["Female <1",0.5,"female",4,null,{"$f":"HLOOKUP('III Tool Overview'!$H$6,LookUpData_Pop!$B$1:$AV$269,LookUpData_Pop!BB210,FALSE)/5","v":56.2}]
["Female 1-4",2.5,"female",4,null,{"$f":"HLOOKUP('III Tool Overview'!$H$6,LookUpData_Pop!$B$1:$AV$269,LookUpData_Pop!BB211,FALSE)/5","v":228.8}]
["Female 5-9",7.5,"female",4,null,{"$f":"HLOOKUP('III Tool Overview'!$H$6,LookUpData_Pop!$B$1:$AV$269,LookUpData_Pop!BB212,FALSE)/5","v":278}]
["Female 10-14",12.5,"female",4,null,{"$f":"HLOOKUP('III Tool Overview'!$H$6,LookUpData_Pop!$B$1:$AV$269,LookUpData_Pop!BB213,FALSE)/5","v":335.6}]
["Female 15-19",17.5,"female",4,{"$f":"HLOOKUP('III Tool Overview'!$H$6,Prevalence!$B$2:$AV$268,Prevalence!AW209,FALSE)","v":7.6190476190476197E-2},{"$f":"HLOOKUP('III Tool Overview'!$H$6,LookUpData_Pop!$B$1:$AV$269,LookUpData_Pop!BB214,FALSE)/5","v":341.4},{"$f":"'III Tool Overview'!$H$9/110","v":0},{"$f":"IF('III Tool Overview'!$H$10=\"Even distribution\",Targeting!C211,IF('III Tool Overview'!$H$10=\"Targeting to Q1\",Targeting!D211,IF('III Tool Overview'!$H$10=\"Targeting to Q1 & Q2\",Targeting!E211,IF('III Tool Overview'!$H$10=\"Proportionate to need\",Targeting!F211))))","v":0},{"$f":"IF('III Tool Overview'!$H$6=\"Western Isles Health Board\",0,IF('III Tool Overview'!$H$6=\"Eilean Siar Local Authority\",0,new_ci(2,B220,C220,D220,$C$1,G220,1,F220,E220*F220)))","v":6.2180599434535709E-2},{"$f":"IF('III Tool Overview'!$H$6=\"Western Isles Health Board\",0,IF('III Tool Overview'!$H$6=\"Eilean Siar Local Authority\",0,new_ci(2,B220,C220,D220,$C$1,G220+H220,1,F220,E220*F220)))","v":6.2180599434535709E-2},{"$f":"IF('III Tool Overview'!$H$6=\"Western Isles Health Board\",0,IF('III Tool Overview'!$H$6=\"Eilean Siar Local Authority\",0,new_ci(5,B220,C220,D220,$C$1,G220,1,F220,E220*F220)))","v":0.27611191807424029},{"$f":"IF('III Tool Overview'!$H$6=\"Western Isles Health Board\",0,IF('III Tool Overview'!$H$6=\"Eilean Siar Local Authority\",0,new_ci(5,B220,C220,D220,$C$1,G220+H220,1,F220,E220*F220)))","v":0.27611191807424029},{"$f":"IF('III Tool Overview'!$H$6=\"Western Isles Health Board\",0,IF('III Tool Overview'!$H$6=\"Eilean Siar Local Authority\",0,new_ci(10,B220,C220,D220,$C$1,G220,1,F220,E220*F220)))","v":0.74496074942099544},{"$f":"IF('III Tool Overview'!$H$6=\"Western Isles Health Board\",0,IF('III Tool Overview'!$H$6=\"Eilean Siar Local Authority\",0,new_ci(10,B220,C220,D220,$C$1,G220+H220,1,F220,E220*F220)))","v":0.74496074942099544},{"$f":"IF('III Tool Overview'!$H$6=\"Western Isles Health Board\",0,IF('III Tool Overview'!$H$6=\"Eilean Siar Local Authority\",0,new_ci(20,B220,C220,D220,$C$1,G220,1,F220,E220*F220)))","v":2.3234700221643001},{"$f":"IF('III Tool Overview'!$H$6=\"Western Isles Health Board\",0,IF('III Tool Overview'!$H$6=\"Eilean Siar Local Authority\",0,new_ci(20,B220,C220,D220,$C$1,G220+H220,1,F220,E220*F220)))","v":2.3234700221643001},{"$f":"IF('III Tool Overview'!$H$6=\"Western Isles Health Board\",0,IF('III Tool Overview'!$H$6=\"Eilean Siar Local Authority\",0,new_yll(2,B220,C220,D220,$C$1,G220,1,F220,E220*F220)))","v":5.0366285541973923},{"$f":"IF('III Tool Overview'!$H$6=\"Western Isles Health Board\",0,IF('III Tool Overview'!$H$6=\"Eilean Siar Local Authority\",0,new_yll(2,B220,C220,D220,$C$1,G220+H220,1,F220,E220*F220)))","v":5.0366285541973923},{"$f":"Q220-R220","v":0},{"$f":"IF('III Tool Overview'!$H$6=\"Western Isles Health Board\",0,IF('III Tool Overview'!$H$6=\"Eilean Siar Local Authority\",0,new_yll(5,B220,C220,D220,$C$1,G220,1,F220,E220*F220)))","v":21.927551259604556},{"$f":"IF('III Tool Overview'!$H$6=\"Western Isles Health Board\",0,IF('III Tool Overview'!$H$6=\"Eilean Siar Local Authority\",0,new_yll(5,B220,C220,D220,$C$1,G220+H220,1,F220,E220*F220)))","v":21.927551259604556},{"$f":"T220-U220","v":0},{"$f":"IF('III Tool Overview'!$H$6=\"Western Isles Health Board\",0,IF('III Tool Overview'!$H$6=\"Eilean Siar Local Authority\",0,new_yll(10,B220,C220,D220,$C$1,G220,1,F220,E220*F220)))","v":57.027898397976436},{"$f":"IF('III Tool Overview'!$H$6=\"Western Isles Health Board\",0,IF('III Tool Overview'!$H$6=\"Eilean Siar Local Authority\",0,new_yll(10,B220,C220,D220,$C$1,G220+H220,1,F220,E220*F220)))","v":57.027898397976436},{"$f":"W220-X220","v":0},{"$f":"IF('III Tool Overview'!$H$6=\"Western Isles Health Board\",0,IF('III Tool Overview'!$H$6=\"Eilean Siar Local Authority\",0,new_yll(20,B220,C220,D220,$C$1,G220,1,F220,E220*F220)))","v":162.70543286103589},{"$f":"IF('III Tool Overview'!$H$6=\"Western Isles Health Board\",0,IF('III Tool Overview'!$H$6=\"Eilean Siar Local Authority\",0,new_yll(20,B220,C220,D220,$C$1,G220+H220,1,F220,E220*F220)))","v":162.70543286103589},{"$f":"Z220-AA220","v":0},{"$f":"IF('III Tool Overview'!$H$6=\"Western Isles Health Board\",0,IF('III Tool Overview'!$H$6=\"Eilean Siar Local Authority\",0,hosp_count(2,B220,C220,D220,$C$1,G220,1,F220,E220*F220)))","v":30.294130075454724},{"$f":"IF('III Tool Overview'!$H$6=\"Western Isles Health Board\",0,IF('III Tool Overview'!$H$6=\"Eilean Siar Local Authority\",0,hosp_count(2,B220,C220,D220,$C$1,G220+H220,1,F220,E220*F220)))","v":30.294130075454724},{"$f":"AC220-AD220","v":0},{"$f":"IF('III Tool Overview'!$H$6=\"Western Isles Health Board\",0,IF('III Tool Overview'!$H$6=\"Eilean Siar Local Authority\",0,hosp_count(5,B220,C220,D220,$C$1,G220,1,F220,E220*F220)))","v":126.06742957420015},{"$f":"IF('III Tool Overview'!$H$6=\"Western Isles Health Board\",0,IF('III Tool Overview'!$H$6=\"Eilean Siar Local Authority\",0,hosp_count(5,B220,C220,D220,$C$1,G220+H220,1,F220,E220*F220)))","v":126.06742957420015},{"$f":"AF220-AG220","v":0},{"$f":"IF('III Tool Overview'!$H$6=\"Western Isles Health Board\",0,IF('III Tool Overview'!$H$6=\"Eilean Siar Local Authority\",0,hosp_count(10,B220,C220,D220,$C$1,G220,1,F220,E220*F220)))","v":303.30029119467986},{"$f":"IF('III Tool Overview'!$H$6=\"Western Isles Health Board\",0,IF('III Tool Overview'!$H$6=\"Eilean Siar Local Authority\",0,hosp_count(10,B220,C220,D220,$C$1,G220+H220,1,F220,E220*F220)))","v":303.30029119467986},{"$f":"AI220-AJ220","v":0},{"$f":"IF('III Tool Overview'!$H$6=\"Western Isles Health Board\",0,IF('III Tool Overview'!$H$6=\"Eilean Siar Local Authority\",0,hosp_count(20,B220,C220,D220,$C$1,G220,1,F220,E220*F220)))","v":734.74487668343056},{"$f":"IF('III Tool Overview'!$H$6=\"Western Isles Health Board\",0,IF('III Tool Overview'!$H$6=\"Eilean Siar Local Authority\",0,hosp_count(20,B220,C220,D220,$C$1,G220+H220,1,F220,E220*F220)))","v":734.74487668343056},{"$f":"AL220-AM220","v":0}]
["Female 20-24",22.5,"female",4,{"$f":"HLOOKUP('III Tool Overview'!$H$6,Prevalence!$B$2:$AV$268,Prevalence!AW210,FALSE)","v":7.6190476190476197E-2},{"$f":"HLOOKUP('III Tool Overview'!$H$6,LookUpData_Pop!$B$1:$AV$269,LookUpData_Pop!BB215,FALSE)/5","v":240.6},{"$f":"'III Tool Overview'!$H$9/110","v":0},{"$f":"IF('III Tool Overview'!$H$10=\"Even distribution\",Targeting!C212,IF('III Tool Overview'!$H$10=\"Targeting to Q1\",Targeting!D212,IF('III Tool Overview'!$H$10=\"Targeting to Q1 & Q2\",Targeting!E212,IF('III Tool Overview'!$H$10=\"Proportionate to need\",Targeting!F212))))","v":0},{"$f":"IF('III Tool Overview'!$H$6=\"Western Isles Health Board\",0,IF('III Tool Overview'!$H$6=\"Eilean Siar Local Authority\",0,new_ci(2,B221,C221,D221,$C$1,G221,1,F221,E221*F221)))","v":6.0812659765522789E-2},{"$f":"IF('III Tool Overview'!$H$6=\"Western Isles Health Board\",0,IF('III Tool Overview'!$H$6=\"Eilean Siar Local Authority\",0,new_ci(2,B221,C221,D221,$C$1,G221+H221,1,F221,E221*F221)))","v":6.0812659765522789E-2},{"$f":"IF('III Tool Overview'!$H$6=\"Western Isles Health Board\",0,IF('III Tool Overview'!$H$6=\"Eilean Siar Local Authority\",0,new_ci(5,B221,C221,D221,$C$1,G221,1,F221,E221*F221)))","v":0.27000399754938181},{"$f":"IF('III Tool Overview'!$H$6=\"Western Isles Health Board\",0,IF('III Tool Overview'!$H$6=\"Eilean Siar Local Authority\",0,new_ci(5,B221,C221,D221,$C$1,G221+H221,1,F221,E221*F221)))","v":0.27000399754938181},{"$f":"IF('III Tool Overview'!$H$6=\"Western Isles Health Board\",0,IF('III Tool Overview'!$H$6=\"Eilean Siar Local Authority\",0,new_ci(10,B221,C221,D221,$C$1,G221,1,F221,E221*F221)))","v":0.72828255044731582},{"$f":"IF('III Tool Overview'!$H$6=\"Western Isles Health Board\",0,IF('III Tool Overview'!$H$6=\"Eilean Siar Local Authority\",0,new_ci(10,B221,C221,D221,$C$1,G221+H221,1,F221,E221*F221)))","v":0.72828255044731582},{"$f":"IF('III Tool Overview'!$H$6=\"Western Isles Health Board\",0,IF('III Tool Overview'!$H$6=\"Eilean Siar Local Authority\",0,new_ci(20,B221,C221,D221,$C$1,G221,1,F221,E221*F221)))","v":2.2693624081189219},{"$f":"IF('III Tool Overview'!$H$6=\"Western Isles Health Board\",0,IF('III Tool Overview'!$H$6=\"Eilean Siar Local Authority\",0,new_ci(20,B221,C221,D221,$C$1,G221+H221,1,F221,E221*F221)))","v":2.2693624081189219},{"$f":"IF('III Tool Overview'!$H$6=\"Western Isles Health Board\",0,IF('III Tool Overview'!$H$6=\"Eilean Siar Local Authority\",0,new_yll(2,B221,C221,D221,$C$1,G221,1,F221,E221*F221)))","v":4.6825748019452549},{"$f":"IF('III Tool Overview'!$H$6=\"Western Isles Health Board\",0,IF('III Tool Overview'!$H$6=\"Eilean Siar Local Authority\",0,new_yll(2,B221,C221,D221,$C$1,G221+H221,1,F221,E221*F221)))","v":4.6825748019452549},0,{"$f":"IF('III Tool Overview'!$H$6=\"Western Isles Health Board\",0,IF('III Tool Overview'!$H$6=\"Eilean Siar Local Authority\",0,new_yll(5,B221,C221,D221,$C$1,G221,1,F221,E221*F221)))","v":20.36249906357871},{"$f":"IF('III Tool Overview'!$H$6=\"Western Isles Health Board\",0,IF('III Tool Overview'!$H$6=\"Eilean Siar Local Authority\",0,new_yll(5,B221,C221,D221,$C$1,G221+H221,1,F221,E221*F221)))","v":20.36249906357871},{"$f":"T221-U221","v":0},{"$f":"IF('III Tool Overview'!$H$6=\"Western Isles Health Board\",0,IF('III Tool Overview'!$H$6=\"Eilean Siar Local Authority\",0,new_yll(10,B221,C221,D221,$C$1,G221,1,F221,E221*F221)))","v":52.83848824023223},{"$f":"IF('III Tool Overview'!$H$6=\"Western Isles Health Board\",0,IF('III Tool Overview'!$H$6=\"Eilean Siar Local Authority\",0,new_yll(10,B221,C221,D221,$C$1,G221+H221,1,F221,E221*F221)))","v":52.83848824023223},{"$f":"W221-X221","v":0},{"$f":"IF('III Tool Overview'!$H$6=\"Western Isles Health Board\",0,IF('III Tool Overview'!$H$6=\"Eilean Siar Local Authority\",0,new_yll(20,B221,C221,D221,$C$1,G221,1,F221,E221*F221)))","v":149.84819875549138},{"$f":"IF('III Tool Overview'!$H$6=\"Western Isles Health Board\",0,IF('III Tool Overview'!$H$6=\"Eilean Siar Local Authority\",0,new_yll(20,B221,C221,D221,$C$1,G221+H221,1,F221,E221*F221)))","v":149.84819875549138},{"$f":"Z221-AA221","v":0},{"$f":"IF('III Tool Overview'!$H$6=\"Western Isles Health Board\",0,IF('III Tool Overview'!$H$6=\"Eilean Siar Local Authority\",0,hosp_count(2,B221,C221,D221,$C$1,G221,1,F221,E221*F221)))","v":23.561600514563633},{"$f":"IF('III Tool Overview'!$H$6=\"Western Isles Health Board\",0,IF('III Tool Overview'!$H$6=\"Eilean Siar Local Authority\",0,hosp_count(2,B221,C221,D221,$C$1,G221+H221,1,F221,E221*F221)))","v":23.561600514563633},{"$f":"AC221-AD221","v":0},{"$f":"IF('III Tool Overview'!$H$6=\"Western Isles Health Board\",0,IF('III Tool Overview'!$H$6=\"Eilean Siar Local Authority\",0,hosp_count(5,B221,C221,D221,$C$1,G221,1,F221,E221*F221)))","v":98.039227665499737},{"$f":"IF('III Tool Overview'!$H$6=\"Western Isles Health Board\",0,IF('III Tool Overview'!$H$6=\"Eilean Siar Local Authority\",0,hosp_count(5,B221,C221,D221,$C$1,G221+H221,1,F221,E221*F221)))","v":98.039227665499737},{"$f":"AF221-AG221","v":0},{"$f":"IF('III Tool Overview'!$H$6=\"Western Isles Health Board\",0,IF('III Tool Overview'!$H$6=\"Eilean Siar Local Authority\",0,hosp_count(10,B221,C221,D221,$C$1,G221,1,F221,E221*F221)))","v":235.81264285300293},{"$f":"IF('III Tool Overview'!$H$6=\"Western Isles Health Board\",0,IF('III Tool Overview'!$H$6=\"Eilean Siar Local Authority\",0,hosp_count(10,B221,C221,D221,$C$1,G221+H221,1,F221,E221*F221)))","v":235.81264285300293},{"$f":"AI221-AJ221","v":0},{"$f":"IF('III Tool Overview'!$H$6=\"Western Isles Health Board\",0,IF('III Tool Overview'!$H$6=\"Eilean Siar Local Authority\",0,hosp_count(20,B221,C221,D221,$C$1,G221,1,F221,E221*F221)))","v":570.83861878629909},{"$f":"IF('III Tool Overview'!$H$6=\"Western Isles Health Board\",0,IF('III Tool Overview'!$H$6=\"Eilean Siar Local Authority\",0,hosp_count(20,B221,C221,D221,$C$1,G221+H221,1,F221,E221*F221)))","v":570.83861878629909},{"$f":"AL221-AM221","v":0}]
["Female 25-29",27.5,"female",4,{"$f":"HLOOKUP('III Tool Overview'!$H$6,Prevalence!$B$2:$AV$268,Prevalence!AW211,FALSE)","v":0.19999999999999998},{"$f":"HLOOKUP('III Tool Overview'!$H$6,LookUpData_Pop!$B$1:$AV$269,LookUpData_Pop!BB216,FALSE)/5","v":244.2},{"$f":"'III Tool Overview'!$H$9/110","v":0},{"$f":"IF('III Tool Overview'!$H$10=\"Even distribution\",Targeting!C213,IF('III Tool Overview'!$H$10=\"Targeting to Q1\",Targeting!D213,IF('III Tool Overview'!$H$10=\"Targeting to Q1 & Q2\",Targeting!E213,IF('III Tool Overview'!$H$10=\"Proportionate to need\",Targeting!F213))))","v":0},{"$f":"IF('III Tool Overview'!$H$6=\"Western Isles Health Board\",0,IF('III Tool Overview'!$H$6=\"Eilean Siar Local Authority\",0,new_ci(2,B222,C222,D222,$C$1,G222,1,F222,E222*F222)))","v":0.10089975322699175},{"$f":"IF('III Tool Overview'!$H$6=\"Western Isles Health Board\",0,IF('III Tool Overview'!$H$6=\"Eilean Siar Local Authority\",0,new_ci(2,B222,C222,D222,$C$1,G222+H222,1,F222,E222*F222)))","v":0.10089975322699175},{"$f":"IF('III Tool Overview'!$H$6=\"Western Isles Health Board\",0,IF('III Tool Overview'!$H$6=\"Eilean Siar Local Authority\",0,new_ci(5,B222,C222,D222,$C$1,G222,1,F222,E222*F222)))","v":0.44785315682181293},{"$f":"IF('III Tool Overview'!$H$6=\"Western Isles Health Board\",0,IF('III Tool Overview'!$H$6=\"Eilean Siar Local Authority\",0,new_ci(5,B222,C222,D222,$C$1,G222+H222,1,F222,E222*F222)))","v":0.44785315682181293},{"$f":"IF('III Tool Overview'!$H$6=\"Western Isles Health Board\",0,IF('III Tool Overview'!$H$6=\"Eilean Siar Local Authority\",0,new_ci(10,B222,C222,D222,$C$1,G222,1,F222,E222*F222)))","v":1.2071991960242401},{"$f":"IF('III Tool Overview'!$H$6=\"Western Isles Health Board\",0,IF('III Tool Overview'!$H$6=\"Eilean Siar Local Authority\",0,new_ci(10,B222,C222,D222,$C$1,G222+H222,1,F222,E222*F222)))","v":1.2071991960242401},{"$f":"IF('III Tool Overview'!$H$6=\"Western Isles Health Board\",0,IF('III Tool Overview'!$H$6=\"Eilean Siar Local Authority\",0,new_ci(20,B222,C222,D222,$C$1,G222,1,F222,E222*F222)))","v":3.7533407486427475},{"$f":"IF('III Tool Overview'!$H$6=\"Western Isles Health Board\",0,IF('III Tool Overview'!$H$6=\"Eilean Siar Local Authority\",0,new_ci(20,B222,C222,D222,$C$1,G222+H222,1,F222,E222*F222)))","v":3.7533407486427475},{"$f":"IF('III Tool Overview'!$H$6=\"Western Isles Health Board\",0,IF('III Tool Overview'!$H$6=\"Eilean Siar Local Authority\",0,new_yll(2,B222,C222,D222,$C$1,G222,1,F222,E222*F222)))","v":7.1638824791164142},{"$f":"IF('III Tool Overview'!$H$6=\"Western Isles Health Board\",0,IF('III Tool Overview'!$H$6=\"Eilean Siar Local Authority\",0,new_yll(2,B222,C222,D222,$C$1,G222+H222,1,F222,E222*F222)))","v":7.1638824791164142},0,{"$f":"IF('III Tool Overview'!$H$6=\"Western Isles Health Board\",0,IF('III Tool Overview'!$H$6=\"Eilean Siar Local Authority\",0,new_yll(5,B222,C222,D222,$C$1,G222,1,F222,E222*F222)))","v":31.088080071694307},{"$f":"IF('III Tool Overview'!$H$6=\"Western Isles Health Board\",0,IF('III Tool Overview'!$H$6=\"Eilean Siar Local Authority\",0,new_yll(5,B222,C222,D222,$C$1,G222+H222,1,F222,E222*F222)))","v":31.088080071694307},0,{"$f":"IF('III Tool Overview'!$H$6=\"Western Isles Health Board\",0,IF('III Tool Overview'!$H$6=\"Eilean Siar Local Authority\",0,new_yll(10,B222,C222,D222,$C$1,G222,1,F222,E222*F222)))","v":80.343591889967243},{"$f":"IF('III Tool Overview'!$H$6=\"Western Isles Health Board\",0,IF('III Tool Overview'!$H$6=\"Eilean Siar Local Authority\",0,new_yll(10,B222,C222,D222,$C$1,G222+H222,1,F222,E222*F222)))","v":80.343591889967243},0,{"$f":"IF('III Tool Overview'!$H$6=\"Western Isles Health Board\",0,IF('III Tool Overview'!$H$6=\"Eilean Siar Local Authority\",0,new_yll(20,B222,C222,D222,$C$1,G222,1,F222,E222*F222)))","v":225.35347303867491},{"$f":"IF('III Tool Overview'!$H$6=\"Western Isles Health Board\",0,IF('III Tool Overview'!$H$6=\"Eilean Siar Local Authority\",0,new_yll(20,B222,C222,D222,$C$1,G222+H222,1,F222,E222*F222)))","v":225.35347303867491},0,{"$f":"IF('III Tool Overview'!$H$6=\"Western Isles Health Board\",0,IF('III Tool Overview'!$H$6=\"Eilean Siar Local Authority\",0,hosp_count(2,B222,C222,D222,$C$1,G222,1,F222,E222*F222)))","v":27.725291388781493},{"$f":"IF('III Tool Overview'!$H$6=\"Western Isles Health Board\",0,IF('III Tool Overview'!$H$6=\"Eilean Siar Local Authority\",0,hosp_count(2,B222,C222,D222,$C$1,G222+H222,1,F222,E222*F222)))","v":27.725291388781493},0,{"$f":"IF('III Tool Overview'!$H$6=\"Western Isles Health Board\",0,IF('III Tool Overview'!$H$6=\"Eilean Siar Local Authority\",0,hosp_count(5,B222,C222,D222,$C$1,G222,1,F222,E222*F222)))","v":115.33440888331779},{"$f":"IF('III Tool Overview'!$H$6=\"Western Isles Health Board\",0,IF('III Tool Overview'!$H$6=\"Eilean Siar Local Authority\",0,hosp_count(5,B222,C222,D222,$C$1,G222+H222,1,F222,E222*F222)))","v":115.33440888331779},0,{"$f":"IF('III Tool Overview'!$H$6=\"Western Isles Health Board\",0,IF('III Tool Overview'!$H$6=\"Eilean Siar Local Authority\",0,hosp_count(10,B222,C222,D222,$C$1,G222,1,F222,E222*F222)))","v":277.26320253998898},{"$f":"IF('III Tool Overview'!$H$6=\"Western Isles Health Board\",0,IF('III Tool Overview'!$H$6=\"Eilean Siar Local Authority\",0,hosp_count(10,B222,C222,D222,$C$1,G222+H222,1,F222,E222*F222)))","v":277.26320253998898},0,{"$f":"IF('III Tool Overview'!$H$6=\"Western Isles Health Board\",0,IF('III Tool Overview'!$H$6=\"Eilean Siar Local Authority\",0,hosp_count(20,B222,C222,D222,$C$1,G222,1,F222,E222*F222)))","v":670.06436360319196},{"$f":"IF('III Tool Overview'!$H$6=\"Western Isles Health Board\",0,IF('III Tool Overview'!$H$6=\"Eilean Siar Local Authority\",0,hosp_count(20,B222,C222,D222,$C$1,G222+H222,1,F222,E222*F222)))","v":670.06436360319196},0]
["Female 30-34",32.5,"female",4,{"$f":"HLOOKUP('III Tool Overview'!$H$6,Prevalence!$B$2:$AV$268,Prevalence!AW212,FALSE)","v":0.2095238095238095},{"$f":"HLOOKUP('III Tool Overview'!$H$6,LookUpData_Pop!$B$1:$AV$269,LookUpData_Pop!BB217,FALSE)/5","v":285.2},{"$f":"'III Tool Overview'!$H$9/110","v":0},{"$f":"IF('III Tool Overview'!$H$10=\"Even distribution\",Targeting!C214,IF('III Tool Overview'!$H$10=\"Targeting to Q1\",Targeting!D214,IF('III Tool Overview'!$H$10=\"Targeting to Q1 & Q2\",Targeting!E214,IF('III Tool Overview'!$H$10=\"Proportionate to need\",Targeting!F214))))","v":0},{"$f":"IF('III Tool Overview'!$H$6=\"Western Isles Health Board\",0,IF('III Tool Overview'!$H$6=\"Eilean Siar Local Authority\",0,new_ci(2,B223,C223,D223,$C$1,G223,1,F223,E223*F223)))","v":0.16352342126438107},{"$f":"IF('III Tool Overview'!$H$6=\"Western Isles Health Board\",0,IF('III Tool Overview'!$H$6=\"Eilean Siar Local Authority\",0,new_ci(2,B223,C223,D223,$C$1,G223+H223,1,F223,E223*F223)))","v":0.16352342126438107},{"$f":"IF('III Tool Overview'!$H$6=\"Western Isles Health Board\",0,IF('III Tool Overview'!$H$6=\"Eilean Siar Local Authority\",0,new_ci(5,B223,C223,D223,$C$1,G223,1,F223,E223*F223)))","v":0.72560331238475062},{"$f":"IF('III Tool Overview'!$H$6=\"Western Isles Health Board\",0,IF('III Tool Overview'!$H$6=\"Eilean Siar Local Authority\",0,new_ci(5,B223,C223,D223,$C$1,G223+H223,1,F223,E223*F223)))","v":0.72560331238475062},{"$f":"IF('III Tool Overview'!$H$6=\"Western Isles Health Board\",0,IF('III Tool Overview'!$H$6=\"Eilean Siar Local Authority\",0,new_ci(10,B223,C223,D223,$C$1,G223,1,F223,E223*F223)))","v":1.9546361270844326},{"$f":"IF('III Tool Overview'!$H$6=\"Western Isles Health Board\",0,IF('III Tool Overview'!$H$6=\"Eilean Siar Local Authority\",0,new_ci(10,B223,C223,D223,$C$1,G223+H223,1,F223,E223*F223)))","v":1.9546361270844326},{"$f":"IF('III Tool Overview'!$H$6=\"Western Isles Health Board\",0,IF('III Tool Overview'!$H$6=\"Eilean Siar Local Authority\",0,new_ci(20,B223,C223,D223,$C$1,G223,1,F223,E223*F223)))","v":6.0642073567468042},{"$f":"IF('III Tool Overview'!$H$6=\"Western Isles Health Board\",0,IF('III Tool Overview'!$H$6=\"Eilean Siar Local Authority\",0,new_ci(20,B223,C223,D223,$C$1,G223+H223,1,F223,E223*F223)))","v":6.0642073567468042},{"$f":"IF('III Tool Overview'!$H$6=\"Western Isles Health Board\",0,IF('III Tool Overview'!$H$6=\"Eilean Siar Local Authority\",0,new_yll(2,B223,C223,D223,$C$1,G223,1,F223,E223*F223)))","v":10.956069224713533},{"$f":"IF('III Tool Overview'!$H$6=\"Western Isles Health Board\",0,IF('III Tool Overview'!$H$6=\"Eilean Siar Local Authority\",0,new_yll(2,B223,C223,D223,$C$1,G223+H223,1,F223,E223*F223)))","v":10.956069224713533},0,{"$f":"IF('III Tool Overview'!$H$6=\"Western Isles Health Board\",0,IF('III Tool Overview'!$H$6=\"Eilean Siar Local Authority\",0,new_yll(5,B223,C223,D223,$C$1,G223,1,F223,E223*F223)))","v":47.466082612595677},{"$f":"IF('III Tool Overview'!$H$6=\"Western Isles Health Board\",0,IF('III Tool Overview'!$H$6=\"Eilean Siar Local Authority\",0,new_yll(5,B223,C223,D223,$C$1,G223+H223,1,F223,E223*F223)))","v":47.466082612595677},0,{"$f":"IF('III Tool Overview'!$H$6=\"Western Isles Health Board\",0,IF('III Tool Overview'!$H$6=\"Eilean Siar Local Authority\",0,new_yll(10,B223,C223,D223,$C$1,G223,1,F223,E223*F223)))","v":122.27264866860395},{"$f":"IF('III Tool Overview'!$H$6=\"Western Isles Health Board\",0,IF('III Tool Overview'!$H$6=\"Eilean Siar Local Authority\",0,new_yll(10,B223,C223,D223,$C$1,G223+H223,1,F223,E223*F223)))","v":122.27264866860395},0,{"$f":"IF('III Tool Overview'!$H$6=\"Western Isles Health Board\",0,IF('III Tool Overview'!$H$6=\"Eilean Siar Local Authority\",0,new_yll(20,B223,C223,D223,$C$1,G223,1,F223,E223*F223)))","v":339.90030279337998},{"$f":"IF('III Tool Overview'!$H$6=\"Western Isles Health Board\",0,IF('III Tool Overview'!$H$6=\"Eilean Siar Local Authority\",0,new_yll(20,B223,C223,D223,$C$1,G223+H223,1,F223,E223*F223)))","v":339.90030279337998},0,{"$f":"IF('III Tool Overview'!$H$6=\"Western Isles Health Board\",0,IF('III Tool Overview'!$H$6=\"Eilean Siar Local Authority\",0,hosp_count(2,B223,C223,D223,$C$1,G223,1,F223,E223*F223)))","v":35.735032137350416},{"$f":"IF('III Tool Overview'!$H$6=\"Western Isles Health Board\",0,IF('III Tool Overview'!$H$6=\"Eilean Siar Local Authority\",0,hosp_count(2,B223,C223,D223,$C$1,G223+H223,1,F223,E223*F223)))","v":35.735032137350416},0,{"$f":"IF('III Tool Overview'!$H$6=\"Western Isles Health Board\",0,IF('III Tool Overview'!$H$6=\"Eilean Siar Local Authority\",0,hosp_count(5,B223,C223,D223,$C$1,G223,1,F223,E223*F223)))","v":148.61579041164583},{"$f":"IF('III Tool Overview'!$H$6=\"Western Isles Health Board\",0,IF('III Tool Overview'!$H$6=\"Eilean Siar Local Authority\",0,hosp_count(5,B223,C223,D223,$C$1,G223+H223,1,F223,E223*F223)))","v":148.61579041164583},0,{"$f":"IF('III Tool Overview'!$H$6=\"Western Isles Health Board\",0,IF('III Tool Overview'!$H$6=\"Eilean Siar Local Authority\",0,hosp_count(10,B223,C223,D223,$C$1,G223,1,F223,E223*F223)))","v":357.07971954280799},{"$f":"IF('III Tool Overview'!$H$6=\"Western Isles Health Board\",0,IF('III Tool Overview'!$H$6=\"Eilean Siar Local Authority\",0,hosp_count(10,B223,C223,D223,$C$1,G223+H223,1,F223,E223*F223)))","v":357.07971954280799},0,{"$f":"IF('III Tool Overview'!$H$6=\"Western Isles Health Board\",0,IF('III Tool Overview'!$H$6=\"Eilean Siar Local Authority\",0,hosp_count(20,B223,C223,D223,$C$1,G223,1,F223,E223*F223)))","v":861.5304756480831},{"$f":"IF('III Tool Overview'!$H$6=\"Western Isles Health Board\",0,IF('III Tool Overview'!$H$6=\"Eilean Siar Local Authority\",0,hosp_count(20,B223,C223,D223,$C$1,G223+H223,1,F223,E223*F223)))","v":861.5304756480831},0]
["Female 35-39",37.5,"female",4,{"$f":"HLOOKUP('III Tool Overview'!$H$6,Prevalence!$B$2:$AV$268,Prevalence!AW213,FALSE)","v":0.13333333333333336},{"$f":"HLOOKUP('III Tool Overview'!$H$6,LookUpData_Pop!$B$1:$AV$269,LookUpData_Pop!BB218,FALSE)/5","v":378.8},{"$f":"'III Tool Overview'!$H$9/110","v":0},{"$f":"IF('III Tool Overview'!$H$10=\"Even distribution\",Targeting!C215,IF('III Tool Overview'!$H$10=\"Targeting to Q1\",Targeting!D215,IF('III Tool Overview'!$H$10=\"Targeting to Q1 & Q2\",Targeting!E215,IF('III Tool Overview'!$H$10=\"Proportionate to need\",Targeting!F215))))","v":0},{"$f":"IF('III Tool Overview'!$H$6=\"Western Isles Health Board\",0,IF('III Tool Overview'!$H$6=\"Eilean Siar Local Authority\",0,new_ci(2,B224,C224,D224,$C$1,G224,1,F224,E224*F224)))","v":0.35501262878525519},{"$f":"IF('III Tool Overview'!$H$6=\"Western Isles Health Board\",0,IF('III Tool Overview'!$H$6=\"Eilean Siar Local Authority\",0,new_ci(2,B224,C224,D224,$C$1,G224+H224,1,F224,E224*F224)))","v":0.35501262878525519},{"$f":"IF('III Tool Overview'!$H$6=\"Western Isles Health Board\",0,IF('III Tool Overview'!$H$6=\"Eilean Siar Local Authority\",0,new_ci(5,B224,C224,D224,$C$1,G224,1,F224,E224*F224)))","v":1.574293417769868},{"$f":"IF('III Tool Overview'!$H$6=\"Western Isles Health Board\",0,IF('III Tool Overview'!$H$6=\"Eilean Siar Local Authority\",0,new_ci(5,B224,C224,D224,$C$1,G224+H224,1,F224,E224*F224)))","v":1.574293417769868},{"$f":"IF('III Tool Overview'!$H$6=\"Western Isles Health Board\",0,IF('III Tool Overview'!$H$6=\"Eilean Siar Local Authority\",0,new_ci(10,B224,C224,D224,$C$1,G224,1,F224,E224*F224)))","v":4.2349158000002394},{"$f":"IF('III Tool Overview'!$H$6=\"Western Isles Health Board\",0,IF('III Tool Overview'!$H$6=\"Eilean Siar Local Authority\",0,new_ci(10,B224,C224,D224,$C$1,G224+H224,1,F224,E224*F224)))","v":4.2349158000002394},{"$f":"IF('III Tool Overview'!$H$6=\"Western Isles Health Board\",0,IF('III Tool Overview'!$H$6=\"Eilean Siar Local Authority\",0,new_ci(20,B224,C224,D224,$C$1,G224,1,F224,E224*F224)))","v":13.077103297558534},{"$f":"IF('III Tool Overview'!$H$6=\"Western Isles Health Board\",0,IF('III Tool Overview'!$H$6=\"Eilean Siar Local Authority\",0,new_ci(20,B224,C224,D224,$C$1,G224+H224,1,F224,E224*F224)))","v":13.077103297558534},{"$f":"IF('III Tool Overview'!$H$6=\"Western Isles Health Board\",0,IF('III Tool Overview'!$H$6=\"Eilean Siar Local Authority\",0,new_yll(2,B224,C224,D224,$C$1,G224,1,F224,E224*F224)))","v":21.655770355900568},{"$f":"IF('III Tool Overview'!$H$6=\"Western Isles Health Board\",0,IF('III Tool Overview'!$H$6=\"Eilean Siar Local Authority\",0,new_yll(2,B224,C224,D224,$C$1,G224+H224,1,F224,E224*F224)))","v":21.655770355900568},0,{"$f":"IF('III Tool Overview'!$H$6=\"Western Isles Health Board\",0,IF('III Tool Overview'!$H$6=\"Eilean Siar Local Authority\",0,new_yll(5,B224,C224,D224,$C$1,G224,1,F224,E224*F224)))","v":93.539062415843176},{"$f":"IF('III Tool Overview'!$H$6=\"Western Isles Health Board\",0,IF('III Tool Overview'!$H$6=\"Eilean Siar Local Authority\",0,new_yll(5,B224,C224,D224,$C$1,G224+H224,1,F224,E224*F224)))","v":93.539062415843176},0,{"$f":"IF('III Tool Overview'!$H$6=\"Western Isles Health Board\",0,IF('III Tool Overview'!$H$6=\"Eilean Siar Local Authority\",0,new_yll(10,B224,C224,D224,$C$1,G224,1,F224,E224*F224)))","v":239.52029233120564},{"$f":"IF('III Tool Overview'!$H$6=\"Western Isles Health Board\",0,IF('III Tool Overview'!$H$6=\"Eilean Siar Local Authority\",0,new_yll(10,B224,C224,D224,$C$1,G224+H224,1,F224,E224*F224)))","v":239.52029233120564},0,{"$f":"IF('III Tool Overview'!$H$6=\"Western Isles Health Board\",0,IF('III Tool Overview'!$H$6=\"Eilean Siar Local Authority\",0,new_yll(20,B224,C224,D224,$C$1,G224,1,F224,E224*F224)))","v":654.78456737488148},{"$f":"IF('III Tool Overview'!$H$6=\"Western Isles Health Board\",0,IF('III Tool Overview'!$H$6=\"Eilean Siar Local Authority\",0,new_yll(20,B224,C224,D224,$C$1,G224+H224,1,F224,E224*F224)))","v":654.78456737488148},0,{"$f":"IF('III Tool Overview'!$H$6=\"Western Isles Health Board\",0,IF('III Tool Overview'!$H$6=\"Eilean Siar Local Authority\",0,hosp_count(2,B224,C224,D224,$C$1,G224,1,F224,E224*F224)))","v":55.027010668608},{"$f":"IF('III Tool Overview'!$H$6=\"Western Isles Health Board\",0,IF('III Tool Overview'!$H$6=\"Eilean Siar Local Authority\",0,hosp_count(2,B224,C224,D224,$C$1,G224+H224,1,F224,E224*F224)))","v":55.027010668608},0,{"$f":"IF('III Tool Overview'!$H$6=\"Western Isles Health Board\",0,IF('III Tool Overview'!$H$6=\"Eilean Siar Local Authority\",0,hosp_count(5,B224,C224,D224,$C$1,G224,1,F224,E224*F224)))","v":228.71394938386845},{"$f":"IF('III Tool Overview'!$H$6=\"Western Isles Health Board\",0,IF('III Tool Overview'!$H$6=\"Eilean Siar Local Authority\",0,hosp_count(5,B224,C224,D224,$C$1,G224+H224,1,F224,E224*F224)))","v":228.71394938386845},0,{"$f":"IF('III Tool Overview'!$H$6=\"Western Isles Health Board\",0,IF('III Tool Overview'!$H$6=\"Eilean Siar Local Authority\",0,hosp_count(10,B224,C224,D224,$C$1,G224,1,F224,E224*F224)))","v":548.86352935390391},{"$f":"IF('III Tool Overview'!$H$6=\"Western Isles Health Board\",0,IF('III Tool Overview'!$H$6=\"Eilean Siar Local Authority\",0,hosp_count(10,B224,C224,D224,$C$1,G224+H224,1,F224,E224*F224)))","v":548.86352935390391},0,{"$f":"IF('III Tool Overview'!$H$6=\"Western Isles Health Board\",0,IF('III Tool Overview'!$H$6=\"Eilean Siar Local Authority\",0,hosp_count(20,B224,C224,D224,$C$1,G224,1,F224,E224*F224)))","v":1319.2979707980439},{"$f":"IF('III Tool Overview'!$H$6=\"Western Isles Health Board\",0,IF('III Tool Overview'!$H$6=\"Eilean Siar Local Authority\",0,hosp_count(20,B224,C224,D224,$C$1,G224+H224,1,F224,E224*F224)))","v":1319.2979707980439},0]
["Female 40-44",42.5,"female",4,{"$f":"HLOOKUP('III Tool Overview'!$H$6,Prevalence!$B$2:$AV$268,Prevalence!AW214,FALSE)","v":0.12380952380952383},{"$f":"HLOOKUP('III Tool Overview'!$H$6,LookUpData_Pop!$B$1:$AV$269,LookUpData_Pop!BB219,FALSE)/5","v":459.4},{"$f":"'III Tool Overview'!$H$9/110","v":0},{"$f":"IF('III Tool Overview'!$H$10=\"Even distribution\",Targeting!C216,IF('III Tool Overview'!$H$10=\"Targeting to Q1\",Targeting!D216,IF('III Tool Overview'!$H$10=\"Targeting to Q1 & Q2\",Targeting!E216,IF('III Tool Overview'!$H$10=\"Proportionate to need\",Targeting!F216))))","v":0},{"$f":"IF('III Tool Overview'!$H$6=\"Western Isles Health Board\",0,IF('III Tool Overview'!$H$6=\"Eilean Siar Local Authority\",0,new_ci(2,B225,C225,D225,$C$1,G225,1,F225,E225*F225)))","v":0.59740120569166888},{"$f":"IF('III Tool Overview'!$H$6=\"Western Isles Health Board\",0,IF('III Tool Overview'!$H$6=\"Eilean Siar Local Authority\",0,new_ci(2,B225,C225,D225,$C$1,G225+H225,1,F225,E225*F225)))","v":0.59740120569166888},{"$f":"IF('III Tool Overview'!$H$6=\"Western Isles Health Board\",0,IF('III Tool Overview'!$H$6=\"Eilean Siar Local Authority\",0,new_ci(5,B225,C225,D225,$C$1,G225,1,F225,E225*F225)))","v":2.6474514562399385},{"$f":"IF('III Tool Overview'!$H$6=\"Western Isles Health Board\",0,IF('III Tool Overview'!$H$6=\"Eilean Siar Local Authority\",0,new_ci(5,B225,C225,D225,$C$1,G225+H225,1,F225,E225*F225)))","v":2.6474514562399385},{"$f":"IF('III Tool Overview'!$H$6=\"Western Isles Health Board\",0,IF('III Tool Overview'!$H$6=\"Eilean Siar Local Authority\",0,new_ci(10,B225,C225,D225,$C$1,G225,1,F225,E225*F225)))","v":7.1117167990051193},{"$f":"IF('III Tool Overview'!$H$6=\"Western Isles Health Board\",0,IF('III Tool Overview'!$H$6=\"Eilean Siar Local Authority\",0,new_ci(10,B225,C225,D225,$C$1,G225+H225,1,F225,E225*F225)))","v":7.1117167990051193},{"$f":"IF('III Tool Overview'!$H$6=\"Western Isles Health Board\",0,IF('III Tool Overview'!$H$6=\"Eilean Siar Local Authority\",0,new_ci(20,B225,C225,D225,$C$1,G225,1,F225,E225*F225)))","v":21.856864551006225},{"$f":"IF('III Tool Overview'!$H$6=\"Western Isles Health Board\",0,IF('III Tool Overview'!$H$6=\"Eilean Siar Local Authority\",0,new_ci(20,B225,C225,D225,$C$1,G225+H225,1,F225,E225*F225)))","v":21.856864551006225},{"$f":"IF('III Tool Overview'!$H$6=\"Western Isles Health Board\",0,IF('III Tool Overview'!$H$6=\"Eilean Siar Local Authority\",0,new_yll(2,B225,C225,D225,$C$1,G225,1,F225,E225*F225)))","v":34.051868724425127},{"$f":"IF('III Tool Overview'!$H$6=\"Western Isles Health Board\",0,IF('III Tool Overview'!$H$6=\"Eilean Siar Local Authority\",0,new_yll(2,B225,C225,D225,$C$1,G225+H225,1,F225,E225*F225)))","v":34.051868724425127},0,{"$f":"IF('III Tool Overview'!$H$6=\"Western Isles Health Board\",0,IF('III Tool Overview'!$H$6=\"Eilean Siar Local Authority\",0,new_yll(5,B225,C225,D225,$C$1,G225,1,F225,E225*F225)))","v":146.71396435397111},{"$f":"IF('III Tool Overview'!$H$6=\"Western Isles Health Board\",0,IF('III Tool Overview'!$H$6=\"Eilean Siar Local Authority\",0,new_yll(5,B225,C225,D225,$C$1,G225+H225,1,F225,E225*F225)))","v":146.71396435397111},0,{"$f":"IF('III Tool Overview'!$H$6=\"Western Isles Health Board\",0,IF('III Tool Overview'!$H$6=\"Eilean Siar Local Authority\",0,new_yll(10,B225,C225,D225,$C$1,G225,1,F225,E225*F225)))","v":373.80422663328727},{"$f":"IF('III Tool Overview'!$H$6=\"Western Isles Health Board\",0,IF('III Tool Overview'!$H$6=\"Eilean Siar Local Authority\",0,new_yll(10,B225,C225,D225,$C$1,G225+H225,1,F225,E225*F225)))","v":373.80422663328727},0,{"$f":"IF('III Tool Overview'!$H$6=\"Western Isles Health Board\",0,IF('III Tool Overview'!$H$6=\"Eilean Siar Local Authority\",0,new_yll(20,B225,C225,D225,$C$1,G225,1,F225,E225*F225)))","v":1007.4286920815189},{"$f":"IF('III Tool Overview'!$H$6=\"Western Isles Health Board\",0,IF('III Tool Overview'!$H$6=\"Eilean Siar Local Authority\",0,new_yll(20,B225,C225,D225,$C$1,G225+H225,1,F225,E225*F225)))","v":1007.4286920815189},0,{"$f":"IF('III Tool Overview'!$H$6=\"Western Isles Health Board\",0,IF('III Tool Overview'!$H$6=\"Eilean Siar Local Authority\",0,hosp_count(2,B225,C225,D225,$C$1,G225,1,F225,E225*F225)))","v":73.64972629993332},{"$f":"IF('III Tool Overview'!$H$6=\"Western Isles Health Board\",0,IF('III Tool Overview'!$H$6=\"Eilean Siar Local Authority\",0,hosp_count(2,B225,C225,D225,$C$1,G225+H225,1,F225,E225*F225)))","v":73.64972629993332},0,{"$f":"IF('III Tool Overview'!$H$6=\"Western Isles Health Board\",0,IF('III Tool Overview'!$H$6=\"Eilean Siar Local Authority\",0,hosp_count(5,B225,C225,D225,$C$1,G225,1,F225,E225*F225)))","v":305.93851332686978},{"$f":"IF('III Tool Overview'!$H$6=\"Western Isles Health Board\",0,IF('III Tool Overview'!$H$6=\"Eilean Siar Local Authority\",0,hosp_count(5,B225,C225,D225,$C$1,G225+H225,1,F225,E225*F225)))","v":305.93851332686978},0,{"$f":"IF('III Tool Overview'!$H$6=\"Western Isles Health Board\",0,IF('III Tool Overview'!$H$6=\"Eilean Siar Local Authority\",0,hosp_count(10,B225,C225,D225,$C$1,G225,1,F225,E225*F225)))","v":733.29458904066212},{"$f":"IF('III Tool Overview'!$H$6=\"Western Isles Health Board\",0,IF('III Tool Overview'!$H$6=\"Eilean Siar Local Authority\",0,hosp_count(10,B225,C225,D225,$C$1,G225+H225,1,F225,E225*F225)))","v":733.29458904066212},0,{"$f":"IF('III Tool Overview'!$H$6=\"Western Isles Health Board\",0,IF('III Tool Overview'!$H$6=\"Eilean Siar Local Authority\",0,hosp_count(20,B225,C225,D225,$C$1,G225,1,F225,E225*F225)))","v":1756.0541501632783},{"$f":"IF('III Tool Overview'!$H$6=\"Western Isles Health Board\",0,IF('III Tool Overview'!$H$6=\"Eilean Siar Local Authority\",0,hosp_count(20,B225,C225,D225,$C$1,G225+H225,1,F225,E225*F225)))","v":1756.0541501632783},0]
["Female 45-49",47.5,"female",4,{"$f":"HLOOKUP('III Tool Overview'!$H$6,Prevalence!$B$2:$AV$268,Prevalence!AW215,FALSE)","v":0.12380952380952383},{"$f":"HLOOKUP('III Tool Overview'!$H$6,LookUpData_Pop!$B$1:$AV$269,LookUpData_Pop!BB220,FALSE)/5","v":442.6},{"$f":"'III Tool Overview'!$H$9/110","v":0},{"$f":"IF('III Tool Overview'!$H$10=\"Even distribution\",Targeting!C217,IF('III Tool Overview'!$H$10=\"Targeting to Q1\",Targeting!D217,IF('III Tool Overview'!$H$10=\"Targeting to Q1 & Q2\",Targeting!E217,IF('III Tool Overview'!$H$10=\"Proportionate to need\",Targeting!F217))))","v":0},{"$f":"IF('III Tool Overview'!$H$6=\"Western Isles Health Board\",0,IF('III Tool Overview'!$H$6=\"Eilean Siar Local Authority\",0,new_ci(2,B226,C226,D226,$C$1,G226,1,F226,E226*F226)))","v":0.94055576974045718},{"$f":"IF('III Tool Overview'!$H$6=\"Western Isles Health Board\",0,IF('III Tool Overview'!$H$6=\"Eilean Siar Local Authority\",0,new_ci(2,B226,C226,D226,$C$1,G226+H226,1,F226,E226*F226)))","v":0.94055576974045718},{"$f":"IF('III Tool Overview'!$H$6=\"Western Isles Health Board\",0,IF('III Tool Overview'!$H$6=\"Eilean Siar Local Authority\",0,new_ci(5,B226,C226,D226,$C$1,G226,1,F226,E226*F226)))","v":4.1620496585333902},{"$f":"IF('III Tool Overview'!$H$6=\"Western Isles Health Board\",0,IF('III Tool Overview'!$H$6=\"Eilean Siar Local Authority\",0,new_ci(5,B226,C226,D226,$C$1,G226+H226,1,F226,E226*F226)))","v":4.1620496585333902},{"$f":"IF('III Tool Overview'!$H$6=\"Western Isles Health Board\",0,IF('III Tool Overview'!$H$6=\"Eilean Siar Local Authority\",0,new_ci(10,B226,C226,D226,$C$1,G226,1,F226,E226*F226)))","v":11.1444039036334},{"$f":"IF('III Tool Overview'!$H$6=\"Western Isles Health Board\",0,IF('III Tool Overview'!$H$6=\"Eilean Siar Local Authority\",0,new_ci(10,B226,C226,D226,$C$1,G226+H226,1,F226,E226*F226)))","v":11.1444039036334},{"$f":"IF('III Tool Overview'!$H$6=\"Western Isles Health Board\",0,IF('III Tool Overview'!$H$6=\"Eilean Siar Local Authority\",0,new_ci(20,B226,C226,D226,$C$1,G226,1,F226,E226*F226)))","v":33.885026268407614},{"$f":"IF('III Tool Overview'!$H$6=\"Western Isles Health Board\",0,IF('III Tool Overview'!$H$6=\"Eilean Siar Local Authority\",0,new_ci(20,B226,C226,D226,$C$1,G226+H226,1,F226,E226*F226)))","v":33.885026268407614},{"$f":"IF('III Tool Overview'!$H$6=\"Western Isles Health Board\",0,IF('III Tool Overview'!$H$6=\"Eilean Siar Local Authority\",0,new_yll(2,B226,C226,D226,$C$1,G226,1,F226,E226*F226)))","v":47.968344256763316},{"$f":"IF('III Tool Overview'!$H$6=\"Western Isles Health Board\",0,IF('III Tool Overview'!$H$6=\"Eilean Siar Local Authority\",0,new_yll(2,B226,C226,D226,$C$1,G226+H226,1,F226,E226*F226)))","v":47.968344256763316},0,{"$f":"IF('III Tool Overview'!$H$6=\"Western Isles Health Board\",0,IF('III Tool Overview'!$H$6=\"Eilean Siar Local Authority\",0,new_yll(5,B226,C226,D226,$C$1,G226,1,F226,E226*F226)))","v":205.6811733797515},{"$f":"IF('III Tool Overview'!$H$6=\"Western Isles Health Board\",0,IF('III Tool Overview'!$H$6=\"Eilean Siar Local Authority\",0,new_yll(5,B226,C226,D226,$C$1,G226+H226,1,F226,E226*F226)))","v":205.6811733797515},0,{"$f":"IF('III Tool Overview'!$H$6=\"Western Isles Health Board\",0,IF('III Tool Overview'!$H$6=\"Eilean Siar Local Authority\",0,new_yll(10,B226,C226,D226,$C$1,G226,1,F226,E226*F226)))","v":518.98656217090615},{"$f":"IF('III Tool Overview'!$H$6=\"Western Isles Health Board\",0,IF('III Tool Overview'!$H$6=\"Eilean Siar Local Authority\",0,new_yll(10,B226,C226,D226,$C$1,G226+H226,1,F226,E226*F226)))","v":518.98656217090615},0,{"$f":"IF('III Tool Overview'!$H$6=\"Western Isles Health Board\",0,IF('III Tool Overview'!$H$6=\"Eilean Siar Local Authority\",0,new_yll(20,B226,C226,D226,$C$1,G226,1,F226,E226*F226)))","v":1360.1488950568767},{"$f":"IF('III Tool Overview'!$H$6=\"Western Isles Health Board\",0,IF('III Tool Overview'!$H$6=\"Eilean Siar Local Authority\",0,new_yll(20,B226,C226,D226,$C$1,G226+H226,1,F226,E226*F226)))","v":1360.1488950568767},0,{"$f":"IF('III Tool Overview'!$H$6=\"Western Isles Health Board\",0,IF('III Tool Overview'!$H$6=\"Eilean Siar Local Authority\",0,hosp_count(2,B226,C226,D226,$C$1,G226,1,F226,E226*F226)))","v":82.264573471697631},{"$f":"IF('III Tool Overview'!$H$6=\"Western Isles Health Board\",0,IF('III Tool Overview'!$H$6=\"Eilean Siar Local Authority\",0,hosp_count(2,B226,C226,D226,$C$1,G226+H226,1,F226,E226*F226)))","v":82.264573471697631},0,{"$f":"IF('III Tool Overview'!$H$6=\"Western Isles Health Board\",0,IF('III Tool Overview'!$H$6=\"Eilean Siar Local Authority\",0,hosp_count(5,B226,C226,D226,$C$1,G226,1,F226,E226*F226)))","v":341.27118871112327},{"$f":"IF('III Tool Overview'!$H$6=\"Western Isles Health Board\",0,IF('III Tool Overview'!$H$6=\"Eilean Siar Local Authority\",0,hosp_count(5,B226,C226,D226,$C$1,G226+H226,1,F226,E226*F226)))","v":341.27118871112327},0,{"$f":"IF('III Tool Overview'!$H$6=\"Western Isles Health Board\",0,IF('III Tool Overview'!$H$6=\"Eilean Siar Local Authority\",0,hosp_count(10,B226,C226,D226,$C$1,G226,1,F226,E226*F226)))","v":815.73250956075356},{"$f":"IF('III Tool Overview'!$H$6=\"Western Isles Health Board\",0,IF('III Tool Overview'!$H$6=\"Eilean Siar Local Authority\",0,hosp_count(10,B226,C226,D226,$C$1,G226+H226,1,F226,E226*F226)))","v":815.73250956075356},0,{"$f":"IF('III Tool Overview'!$H$6=\"Western Isles Health Board\",0,IF('III Tool Overview'!$H$6=\"Eilean Siar Local Authority\",0,hosp_count(20,B226,C226,D226,$C$1,G226,1,F226,E226*F226)))","v":1937.0965784854097},{"$f":"IF('III Tool Overview'!$H$6=\"Western Isles Health Board\",0,IF('III Tool Overview'!$H$6=\"Eilean Siar Local Authority\",0,hosp_count(20,B226,C226,D226,$C$1,G226+H226,1,F226,E226*F226)))","v":1937.0965784854097},0]
["Female 50-54",52.5,"female",4,{"$f":"HLOOKUP('III Tool Overview'!$H$6,Prevalence!$B$2:$AV$268,Prevalence!AW216,FALSE)","v":0.19047619047619044},{"$f":"HLOOKUP('III Tool Overview'!$H$6,LookUpData_Pop!$B$1:$AV$269,LookUpData_Pop!BB221,FALSE)/5","v":426.2},{"$f":"'III Tool Overview'!$H$9/110","v":0},{"$f":"IF('III Tool Overview'!$H$10=\"Even distribution\",Targeting!C218,IF('III Tool Overview'!$H$10=\"Targeting to Q1\",Targeting!D218,IF('III Tool Overview'!$H$10=\"Targeting to Q1 & Q2\",Targeting!E218,IF('III Tool Overview'!$H$10=\"Proportionate to need\",Targeting!F218))))","v":0},{"$f":"IF('III Tool Overview'!$H$6=\"Western Isles Health Board\",0,IF('III Tool Overview'!$H$6=\"Eilean Siar Local Authority\",0,new_ci(2,B227,C227,D227,$C$1,G227,1,F227,E227*F227)))","v":1.256365984044842},{"$f":"IF('III Tool Overview'!$H$6=\"Western Isles Health Board\",0,IF('III Tool Overview'!$H$6=\"Eilean Siar Local Authority\",0,new_ci(2,B227,C227,D227,$C$1,G227+H227,1,F227,E227*F227)))","v":1.256365984044842},{"$f":"IF('III Tool Overview'!$H$6=\"Western Isles Health Board\",0,IF('III Tool Overview'!$H$6=\"Eilean Siar Local Authority\",0,new_ci(5,B227,C227,D227,$C$1,G227,1,F227,E227*F227)))","v":5.5510590751115627},{"$f":"IF('III Tool Overview'!$H$6=\"Western Isles Health Board\",0,IF('III Tool Overview'!$H$6=\"Eilean Siar Local Authority\",0,new_ci(5,B227,C227,D227,$C$1,G227+H227,1,F227,E227*F227)))","v":5.5510590751115627},{"$f":"IF('III Tool Overview'!$H$6=\"Western Isles Health Board\",0,IF('III Tool Overview'!$H$6=\"Eilean Siar Local Authority\",0,new_ci(10,B227,C227,D227,$C$1,G227,1,F227,E227*F227)))","v":14.814255020927522},{"$f":"IF('III Tool Overview'!$H$6=\"Western Isles Health Board\",0,IF('III Tool Overview'!$H$6=\"Eilean Siar Local Authority\",0,new_ci(10,B227,C227,D227,$C$1,G227+H227,1,F227,E227*F227)))","v":14.814255020927522},{"$f":"IF('III Tool Overview'!$H$6=\"Western Isles Health Board\",0,IF('III Tool Overview'!$H$6=\"Eilean Siar Local Authority\",0,new_ci(20,B227,C227,D227,$C$1,G227,1,F227,E227*F227)))","v":44.549084931933493},{"$f":"IF('III Tool Overview'!$H$6=\"Western Isles Health Board\",0,IF('III Tool Overview'!$H$6=\"Eilean Siar Local Authority\",0,new_ci(20,B227,C227,D227,$C$1,G227+H227,1,F227,E227*F227)))","v":44.549084931933493},{"$f":"IF('III Tool Overview'!$H$6=\"Western Isles Health Board\",0,IF('III Tool Overview'!$H$6=\"Eilean Siar Local Authority\",0,new_yll(2,B227,C227,D227,$C$1,G227,1,F227,E227*F227)))","v":59.049201250107572},{"$f":"IF('III Tool Overview'!$H$6=\"Western Isles Health Board\",0,IF('III Tool Overview'!$H$6=\"Eilean Siar Local Authority\",0,new_yll(2,B227,C227,D227,$C$1,G227+H227,1,F227,E227*F227)))","v":59.049201250107572},0,{"$f":"IF('III Tool Overview'!$H$6=\"Western Isles Health Board\",0,IF('III Tool Overview'!$H$6=\"Eilean Siar Local Authority\",0,new_yll(5,B227,C227,D227,$C$1,G227,1,F227,E227*F227)))","v":252.12617080910454},{"$f":"IF('III Tool Overview'!$H$6=\"Western Isles Health Board\",0,IF('III Tool Overview'!$H$6=\"Eilean Siar Local Authority\",0,new_yll(5,B227,C227,D227,$C$1,G227+H227,1,F227,E227*F227)))","v":252.12617080910454},0,{"$f":"IF('III Tool Overview'!$H$6=\"Western Isles Health Board\",0,IF('III Tool Overview'!$H$6=\"Eilean Siar Local Authority\",0,new_yll(10,B227,C227,D227,$C$1,G227,1,F227,E227*F227)))","v":630.74720157733339},{"$f":"IF('III Tool Overview'!$H$6=\"Western Isles Health Board\",0,IF('III Tool Overview'!$H$6=\"Eilean Siar Local Authority\",0,new_yll(10,B227,C227,D227,$C$1,G227+H227,1,F227,E227*F227)))","v":630.74720157733339},0,{"$f":"IF('III Tool Overview'!$H$6=\"Western Isles Health Board\",0,IF('III Tool Overview'!$H$6=\"Eilean Siar Local Authority\",0,new_yll(20,B227,C227,D227,$C$1,G227,1,F227,E227*F227)))","v":1612.2258306261231},{"$f":"IF('III Tool Overview'!$H$6=\"Western Isles Health Board\",0,IF('III Tool Overview'!$H$6=\"Eilean Siar Local Authority\",0,new_yll(20,B227,C227,D227,$C$1,G227+H227,1,F227,E227*F227)))","v":1612.2258306261231},0,{"$f":"IF('III Tool Overview'!$H$6=\"Western Isles Health Board\",0,IF('III Tool Overview'!$H$6=\"Eilean Siar Local Authority\",0,hosp_count(2,B227,C227,D227,$C$1,G227,1,F227,E227*F227)))","v":87.423679726393118},{"$f":"IF('III Tool Overview'!$H$6=\"Western Isles Health Board\",0,IF('III Tool Overview'!$H$6=\"Eilean Siar Local Authority\",0,hosp_count(2,B227,C227,D227,$C$1,G227+H227,1,F227,E227*F227)))","v":87.423679726393118},0,{"$f":"IF('III Tool Overview'!$H$6=\"Western Isles Health Board\",0,IF('III Tool Overview'!$H$6=\"Eilean Siar Local Authority\",0,hosp_count(5,B227,C227,D227,$C$1,G227,1,F227,E227*F227)))","v":362.19299563485208},{"$f":"IF('III Tool Overview'!$H$6=\"Western Isles Health Board\",0,IF('III Tool Overview'!$H$6=\"Eilean Siar Local Authority\",0,hosp_count(5,B227,C227,D227,$C$1,G227+H227,1,F227,E227*F227)))","v":362.19299563485208},0,{"$f":"IF('III Tool Overview'!$H$6=\"Western Isles Health Board\",0,IF('III Tool Overview'!$H$6=\"Eilean Siar Local Authority\",0,hosp_count(10,B227,C227,D227,$C$1,G227,1,F227,E227*F227)))","v":863.36735358804185},{"$f":"IF('III Tool Overview'!$H$6=\"Western Isles Health Board\",0,IF('III Tool Overview'!$H$6=\"Eilean Siar Local Authority\",0,hosp_count(10,B227,C227,D227,$C$1,G227+H227,1,F227,E227*F227)))","v":863.36735358804185},0,{"$f":"IF('III Tool Overview'!$H$6=\"Western Isles Health Board\",0,IF('III Tool Overview'!$H$6=\"Eilean Siar Local Authority\",0,hosp_count(20,B227,C227,D227,$C$1,G227,1,F227,E227*F227)))","v":2033.2043194604803},{"$f":"IF('III Tool Overview'!$H$6=\"Western Isles Health Board\",0,IF('III Tool Overview'!$H$6=\"Eilean Siar Local Authority\",0,hosp_count(20,B227,C227,D227,$C$1,G227+H227,1,F227,E227*F227)))","v":2033.2043194604803},0]
["Female 55-59",57.5,"female",4,{"$f":"HLOOKUP('III Tool Overview'!$H$6,Prevalence!$B$2:$AV$268,Prevalence!AW217,FALSE)","v":0.28571428571428575},{"$f":"HLOOKUP('III Tool Overview'!$H$6,LookUpData_Pop!$B$1:$AV$269,LookUpData_Pop!BB222,FALSE)/5","v":398},{"$f":"'III Tool Overview'!$H$9/110","v":0},{"$f":"IF('III Tool Overview'!$H$10=\"Even distribution\",Targeting!C219,IF('III Tool Overview'!$H$10=\"Targeting to Q1\",Targeting!D219,IF('III Tool Overview'!$H$10=\"Targeting to Q1 & Q2\",Targeting!E219,IF('III Tool Overview'!$H$10=\"Proportionate to need\",Targeting!F219))))","v":0},{"$f":"IF('III Tool Overview'!$H$6=\"Western Isles Health Board\",0,IF('III Tool Overview'!$H$6=\"Eilean Siar Local Authority\",0,new_ci(2,B228,C228,D228,$C$1,G228,1,F228,E228*F228)))","v":1.9161672555832368},{"$f":"IF('III Tool Overview'!$H$6=\"Western Isles Health Board\",0,IF('III Tool Overview'!$H$6=\"Eilean Siar Local Authority\",0,new_ci(2,B228,C228,D228,$C$1,G228+H228,1,F228,E228*F228)))","v":1.9161672555832368},{"$f":"IF('III Tool Overview'!$H$6=\"Western Isles Health Board\",0,IF('III Tool Overview'!$H$6=\"Eilean Siar Local Authority\",0,new_ci(5,B228,C228,D228,$C$1,G228,1,F228,E228*F228)))","v":8.4371672839281615},{"$f":"IF('III Tool Overview'!$H$6=\"Western Isles Health Board\",0,IF('III Tool Overview'!$H$6=\"Eilean Siar Local Authority\",0,new_ci(5,B228,C228,D228,$C$1,G228+H228,1,F228,E228*F228)))","v":8.4371672839281615},{"$f":"IF('III Tool Overview'!$H$6=\"Western Isles Health Board\",0,IF('III Tool Overview'!$H$6=\"Eilean Siar Local Authority\",0,new_ci(10,B228,C228,D228,$C$1,G228,1,F228,E228*F228)))","v":22.348507124484449},{"$f":"IF('III Tool Overview'!$H$6=\"Western Isles Health Board\",0,IF('III Tool Overview'!$H$6=\"Eilean Siar Local Authority\",0,new_ci(10,B228,C228,D228,$C$1,G228+H228,1,F228,E228*F228)))","v":22.348507124484449},{"$f":"IF('III Tool Overview'!$H$6=\"Western Isles Health Board\",0,IF('III Tool Overview'!$H$6=\"Eilean Siar Local Authority\",0,new_ci(20,B228,C228,D228,$C$1,G228,1,F228,E228*F228)))","v":65.574291547374045},{"$f":"IF('III Tool Overview'!$H$6=\"Western Isles Health Board\",0,IF('III Tool Overview'!$H$6=\"Eilean Siar Local Authority\",0,new_ci(20,B228,C228,D228,$C$1,G228+H228,1,F228,E228*F228)))","v":65.574291547374045},{"$f":"IF('III Tool Overview'!$H$6=\"Western Isles Health Board\",0,IF('III Tool Overview'!$H$6=\"Eilean Siar Local Authority\",0,new_yll(2,B228,C228,D228,$C$1,G228,1,F228,E228*F228)))","v":78.562857478912704},{"$f":"IF('III Tool Overview'!$H$6=\"Western Isles Health Board\",0,IF('III Tool Overview'!$H$6=\"Eilean Siar Local Authority\",0,new_yll(2,B228,C228,D228,$C$1,G228+H228,1,F228,E228*F228)))","v":78.562857478912704},0,{"$f":"IF('III Tool Overview'!$H$6=\"Western Isles Health Board\",0,IF('III Tool Overview'!$H$6=\"Eilean Siar Local Authority\",0,new_yll(5,B228,C228,D228,$C$1,G228,1,F228,E228*F228)))","v":332.61214354366996},{"$f":"IF('III Tool Overview'!$H$6=\"Western Isles Health Board\",0,IF('III Tool Overview'!$H$6=\"Eilean Siar Local Authority\",0,new_yll(5,B228,C228,D228,$C$1,G228+H228,1,F228,E228*F228)))","v":332.61214354366996},0,{"$f":"IF('III Tool Overview'!$H$6=\"Western Isles Health Board\",0,IF('III Tool Overview'!$H$6=\"Eilean Siar Local Authority\",0,new_yll(10,B228,C228,D228,$C$1,G228,1,F228,E228*F228)))","v":817.83577428371257},{"$f":"IF('III Tool Overview'!$H$6=\"Western Isles Health Board\",0,IF('III Tool Overview'!$H$6=\"Eilean Siar Local Authority\",0,new_yll(10,B228,C228,D228,$C$1,G228+H228,1,F228,E228*F228)))","v":817.83577428371257},0,{"$f":"IF('III Tool Overview'!$H$6=\"Western Isles Health Board\",0,IF('III Tool Overview'!$H$6=\"Eilean Siar Local Authority\",0,new_yll(20,B228,C228,D228,$C$1,G228,1,F228,E228*F228)))","v":1987.0468599111382},{"$f":"IF('III Tool Overview'!$H$6=\"Western Isles Health Board\",0,IF('III Tool Overview'!$H$6=\"Eilean Siar Local Authority\",0,new_yll(20,B228,C228,D228,$C$1,G228+H228,1,F228,E228*F228)))","v":1987.0468599111382},0,{"$f":"IF('III Tool Overview'!$H$6=\"Western Isles Health Board\",0,IF('III Tool Overview'!$H$6=\"Eilean Siar Local Authority\",0,hosp_count(2,B228,C228,D228,$C$1,G228,1,F228,E228*F228)))","v":94.649865975059825},{"$f":"IF('III Tool Overview'!$H$6=\"Western Isles Health Board\",0,IF('III Tool Overview'!$H$6=\"Eilean Siar Local Authority\",0,hosp_count(2,B228,C228,D228,$C$1,G228+H228,1,F228,E228*F228)))","v":94.649865975059825},0,{"$f":"IF('III Tool Overview'!$H$6=\"Western Isles Health Board\",0,IF('III Tool Overview'!$H$6=\"Eilean Siar Local Authority\",0,hosp_count(5,B228,C228,D228,$C$1,G228,1,F228,E228*F228)))","v":390.95308126207101},{"$f":"IF('III Tool Overview'!$H$6=\"Western Isles Health Board\",0,IF('III Tool Overview'!$H$6=\"Eilean Siar Local Authority\",0,hosp_count(5,B228,C228,D228,$C$1,G228+H228,1,F228,E228*F228)))","v":390.95308126207101},0,{"$f":"IF('III Tool Overview'!$H$6=\"Western Isles Health Board\",0,IF('III Tool Overview'!$H$6=\"Eilean Siar Local Authority\",0,hosp_count(10,B228,C228,D228,$C$1,G228,1,F228,E228*F228)))","v":926.15495374900297},{"$f":"IF('III Tool Overview'!$H$6=\"Western Isles Health Board\",0,IF('III Tool Overview'!$H$6=\"Eilean Siar Local Authority\",0,hosp_count(10,B228,C228,D228,$C$1,G228+H228,1,F228,E228*F228)))","v":926.15495374900297},0,{"$f":"IF('III Tool Overview'!$H$6=\"Western Isles Health Board\",0,IF('III Tool Overview'!$H$6=\"Eilean Siar Local Authority\",0,hosp_count(20,B228,C228,D228,$C$1,G228,1,F228,E228*F228)))","v":2140.8039717171046},{"$f":"IF('III Tool Overview'!$H$6=\"Western Isles Health Board\",0,IF('III Tool Overview'!$H$6=\"Eilean Siar Local Authority\",0,hosp_count(20,B228,C228,D228,$C$1,G228+H228,1,F228,E228*F228)))","v":2140.8039717171046},0]
["Female 60-64",62.5,"female",4,{"$f":"HLOOKUP('III Tool Overview'!$H$6,Prevalence!$B$2:$AV$268,Prevalence!AW218,FALSE)","v":0.60952380952380958},{"$f":"HLOOKUP('III Tool Overview'!$H$6,LookUpData_Pop!$B$1:$AV$269,LookUpData_Pop!BB223,FALSE)/5","v":374.4},{"$f":"'III Tool Overview'!$H$9/110","v":0},{"$f":"IF('III Tool Overview'!$H$10=\"Even distribution\",Targeting!C220,IF('III Tool Overview'!$H$10=\"Targeting to Q1\",Targeting!D220,IF('III Tool Overview'!$H$10=\"Targeting to Q1 & Q2\",Targeting!E220,IF('III Tool Overview'!$H$10=\"Proportionate to need\",Targeting!F220))))","v":0},{"$f":"IF('III Tool Overview'!$H$6=\"Western Isles Health Board\",0,IF('III Tool Overview'!$H$6=\"Eilean Siar Local Authority\",0,new_ci(2,B229,C229,D229,$C$1,G229,1,F229,E229*F229)))","v":2.4991486159160075},{"$f":"IF('III Tool Overview'!$H$6=\"Western Isles Health Board\",0,IF('III Tool Overview'!$H$6=\"Eilean Siar Local Authority\",0,new_ci(2,B229,C229,D229,$C$1,G229+H229,1,F229,E229*F229)))","v":2.4991486159160075},{"$f":"IF('III Tool Overview'!$H$6=\"Western Isles Health Board\",0,IF('III Tool Overview'!$H$6=\"Eilean Siar Local Authority\",0,new_ci(5,B229,C229,D229,$C$1,G229,1,F229,E229*F229)))","v":10.96800244048536},{"$f":"IF('III Tool Overview'!$H$6=\"Western Isles Health Board\",0,IF('III Tool Overview'!$H$6=\"Eilean Siar Local Authority\",0,new_ci(5,B229,C229,D229,$C$1,G229+H229,1,F229,E229*F229)))","v":10.96800244048536},{"$f":"IF('III Tool Overview'!$H$6=\"Western Isles Health Board\",0,IF('III Tool Overview'!$H$6=\"Eilean Siar Local Authority\",0,new_ci(10,B229,C229,D229,$C$1,G229,1,F229,E229*F229)))","v":28.845882656140247},{"$f":"IF('III Tool Overview'!$H$6=\"Western Isles Health Board\",0,IF('III Tool Overview'!$H$6=\"Eilean Siar Local Authority\",0,new_ci(10,B229,C229,D229,$C$1,G229+H229,1,F229,E229*F229)))","v":28.845882656140247},{"$f":"IF('III Tool Overview'!$H$6=\"Western Isles Health Board\",0,IF('III Tool Overview'!$H$6=\"Eilean Siar Local Authority\",0,new_ci(20,B229,C229,D229,$C$1,G229,1,F229,E229*F229)))","v":82.696376742271909},{"$f":"IF('III Tool Overview'!$H$6=\"Western Isles Health Board\",0,IF('III Tool Overview'!$H$6=\"Eilean Siar Local Authority\",0,new_ci(20,B229,C229,D229,$C$1,G229+H229,1,F229,E229*F229)))","v":82.696376742271909},{"$f":"IF('III Tool Overview'!$H$6=\"Western Isles Health Board\",0,IF('III Tool Overview'!$H$6=\"Eilean Siar Local Authority\",0,new_yll(2,B229,C229,D229,$C$1,G229,1,F229,E229*F229)))","v":92.468498788892276},{"$f":"IF('III Tool Overview'!$H$6=\"Western Isles Health Board\",0,IF('III Tool Overview'!$H$6=\"Eilean Siar Local Authority\",0,new_yll(2,B229,C229,D229,$C$1,G229+H229,1,F229,E229*F229)))","v":92.468498788892276},0,{"$f":"IF('III Tool Overview'!$H$6=\"Western Isles Health Board\",0,IF('III Tool Overview'!$H$6=\"Eilean Siar Local Authority\",0,new_yll(5,B229,C229,D229,$C$1,G229,1,F229,E229*F229)))","v":388.54052220614517},{"$f":"IF('III Tool Overview'!$H$6=\"Western Isles Health Board\",0,IF('III Tool Overview'!$H$6=\"Eilean Siar Local Authority\",0,new_yll(5,B229,C229,D229,$C$1,G229+H229,1,F229,E229*F229)))","v":388.54052220614517},0,{"$f":"IF('III Tool Overview'!$H$6=\"Western Isles Health Board\",0,IF('III Tool Overview'!$H$6=\"Eilean Siar Local Authority\",0,new_yll(10,B229,C229,D229,$C$1,G229,1,F229,E229*F229)))","v":940.70766722901851},{"$f":"IF('III Tool Overview'!$H$6=\"Western Isles Health Board\",0,IF('III Tool Overview'!$H$6=\"Eilean Siar Local Authority\",0,new_yll(10,B229,C229,D229,$C$1,G229+H229,1,F229,E229*F229)))","v":940.70766722901851},0,{"$f":"IF('III Tool Overview'!$H$6=\"Western Isles Health Board\",0,IF('III Tool Overview'!$H$6=\"Eilean Siar Local Authority\",0,new_yll(20,B229,C229,D229,$C$1,G229,1,F229,E229*F229)))","v":2184.0425592269839},{"$f":"IF('III Tool Overview'!$H$6=\"Western Isles Health Board\",0,IF('III Tool Overview'!$H$6=\"Eilean Siar Local Authority\",0,new_yll(20,B229,C229,D229,$C$1,G229+H229,1,F229,E229*F229)))","v":2184.0425592269839},0,{"$f":"IF('III Tool Overview'!$H$6=\"Western Isles Health Board\",0,IF('III Tool Overview'!$H$6=\"Eilean Siar Local Authority\",0,hosp_count(2,B229,C229,D229,$C$1,G229,1,F229,E229*F229)))","v":98.2623095511168},{"$f":"IF('III Tool Overview'!$H$6=\"Western Isles Health Board\",0,IF('III Tool Overview'!$H$6=\"Eilean Siar Local Authority\",0,hosp_count(2,B229,C229,D229,$C$1,G229+H229,1,F229,E229*F229)))","v":98.2623095511168},0,{"$f":"IF('III Tool Overview'!$H$6=\"Western Isles Health Board\",0,IF('III Tool Overview'!$H$6=\"Eilean Siar Local Authority\",0,hosp_count(5,B229,C229,D229,$C$1,G229,1,F229,E229*F229)))","v":404.65998257182349},{"$f":"IF('III Tool Overview'!$H$6=\"Western Isles Health Board\",0,IF('III Tool Overview'!$H$6=\"Eilean Siar Local Authority\",0,hosp_count(5,B229,C229,D229,$C$1,G229+H229,1,F229,E229*F229)))","v":404.65998257182349},0,{"$f":"IF('III Tool Overview'!$H$6=\"Western Isles Health Board\",0,IF('III Tool Overview'!$H$6=\"Eilean Siar Local Authority\",0,hosp_count(10,B229,C229,D229,$C$1,G229,1,F229,E229*F229)))","v":952.7361408100702},{"$f":"IF('III Tool Overview'!$H$6=\"Western Isles Health Board\",0,IF('III Tool Overview'!$H$6=\"Eilean Siar Local Authority\",0,hosp_count(10,B229,C229,D229,$C$1,G229+H229,1,F229,E229*F229)))","v":952.7361408100702},0,{"$f":"IF('III Tool Overview'!$H$6=\"Western Isles Health Board\",0,IF('III Tool Overview'!$H$6=\"Eilean Siar Local Authority\",0,hosp_count(20,B229,C229,D229,$C$1,G229,1,F229,E229*F229)))","v":2162.3848758757549},{"$f":"IF('III Tool Overview'!$H$6=\"Western Isles Health Board\",0,IF('III Tool Overview'!$H$6=\"Eilean Siar Local Authority\",0,hosp_count(20,B229,C229,D229,$C$1,G229+H229,1,F229,E229*F229)))","v":2162.3848758757549},0]
["Female 65-69",67.5,"female",4,{"$f":"HLOOKUP('III Tool Overview'!$H$6,Prevalence!$B$2:$AV$268,Prevalence!AW219,FALSE)","v":0.84761904761904772},{"$f":"HLOOKUP('III Tool Overview'!$H$6,LookUpData_Pop!$B$1:$AV$269,LookUpData_Pop!BB224,FALSE)/5","v":340},{"$f":"'III Tool Overview'!$H$9/110","v":0},{"$f":"IF('III Tool Overview'!$H$10=\"Even distribution\",Targeting!C221,IF('III Tool Overview'!$H$10=\"Targeting to Q1\",Targeting!D221,IF('III Tool Overview'!$H$10=\"Targeting to Q1 & Q2\",Targeting!E221,IF('III Tool Overview'!$H$10=\"Proportionate to need\",Targeting!F221))))","v":0},{"$f":"IF('III Tool Overview'!$H$6=\"Western Isles Health Board\",0,IF('III Tool Overview'!$H$6=\"Eilean Siar Local Authority\",0,new_ci(2,B230,C230,D230,$C$1,G230,1,F230,E230*F230)))","v":3.7026863099173379},{"$f":"IF('III Tool Overview'!$H$6=\"Western Isles Health Board\",0,IF('III Tool Overview'!$H$6=\"Eilean Siar Local Authority\",0,new_ci(2,B230,C230,D230,$C$1,G230+H230,1,F230,E230*F230)))","v":3.7026863099173379},{"$f":"IF('III Tool Overview'!$H$6=\"Western Isles Health Board\",0,IF('III Tool Overview'!$H$6=\"Eilean Siar Local Authority\",0,new_ci(5,B230,C230,D230,$C$1,G230,1,F230,E230*F230)))","v":16.134952649783287},{"$f":"IF('III Tool Overview'!$H$6=\"Western Isles Health Board\",0,IF('III Tool Overview'!$H$6=\"Eilean Siar Local Authority\",0,new_ci(5,B230,C230,D230,$C$1,G230+H230,1,F230,E230*F230)))","v":16.134952649783287},{"$f":"IF('III Tool Overview'!$H$6=\"Western Isles Health Board\",0,IF('III Tool Overview'!$H$6=\"Eilean Siar Local Authority\",0,new_ci(10,B230,C230,D230,$C$1,G230,1,F230,E230*F230)))","v":41.789777359602304},{"$f":"IF('III Tool Overview'!$H$6=\"Western Isles Health Board\",0,IF('III Tool Overview'!$H$6=\"Eilean Siar Local Authority\",0,new_ci(10,B230,C230,D230,$C$1,G230+H230,1,F230,E230*F230)))","v":41.789777359602304},{"$f":"IF('III Tool Overview'!$H$6=\"Western Isles Health Board\",0,IF('III Tool Overview'!$H$6=\"Eilean Siar Local Authority\",0,new_ci(20,B230,C230,D230,$C$1,G230,1,F230,E230*F230)))","v":114.06355812757315},{"$f":"IF('III Tool Overview'!$H$6=\"Western Isles Health Board\",0,IF('III Tool Overview'!$H$6=\"Eilean Siar Local Authority\",0,new_ci(20,B230,C230,D230,$C$1,G230+H230,1,F230,E230*F230)))","v":114.06355812757315},{"$f":"IF('III Tool Overview'!$H$6=\"Western Isles Health Board\",0,IF('III Tool Overview'!$H$6=\"Eilean Siar Local Authority\",0,new_yll(2,B230,C230,D230,$C$1,G230,1,F230,E230*F230)))","v":114.78327560743747},{"$f":"IF('III Tool Overview'!$H$6=\"Western Isles Health Board\",0,IF('III Tool Overview'!$H$6=\"Eilean Siar Local Authority\",0,new_yll(2,B230,C230,D230,$C$1,G230+H230,1,F230,E230*F230)))","v":114.78327560743747},0,{"$f":"IF('III Tool Overview'!$H$6=\"Western Isles Health Board\",0,IF('III Tool Overview'!$H$6=\"Eilean Siar Local Authority\",0,new_yll(5,B230,C230,D230,$C$1,G230,1,F230,E230*F230)))","v":474.86252979045332},{"$f":"IF('III Tool Overview'!$H$6=\"Western Isles Health Board\",0,IF('III Tool Overview'!$H$6=\"Eilean Siar Local Authority\",0,new_yll(5,B230,C230,D230,$C$1,G230+H230,1,F230,E230*F230)))","v":474.86252979045332},0,{"$f":"IF('III Tool Overview'!$H$6=\"Western Isles Health Board\",0,IF('III Tool Overview'!$H$6=\"Eilean Siar Local Authority\",0,new_yll(10,B230,C230,D230,$C$1,G230,1,F230,E230*F230)))","v":1113.6168078563187},{"$f":"IF('III Tool Overview'!$H$6=\"Western Isles Health Board\",0,IF('III Tool Overview'!$H$6=\"Eilean Siar Local Authority\",0,new_yll(10,B230,C230,D230,$C$1,G230+H230,1,F230,E230*F230)))","v":1113.6168078563187},0,{"$f":"IF('III Tool Overview'!$H$6=\"Western Isles Health Board\",0,IF('III Tool Overview'!$H$6=\"Eilean Siar Local Authority\",0,new_yll(20,B230,C230,D230,$C$1,G230,1,F230,E230*F230)))","v":2354.9241376063896},{"$f":"IF('III Tool Overview'!$H$6=\"Western Isles Health Board\",0,IF('III Tool Overview'!$H$6=\"Eilean Siar Local Authority\",0,new_yll(20,B230,C230,D230,$C$1,G230+H230,1,F230,E230*F230)))","v":2354.9241376063896},0,{"$f":"IF('III Tool Overview'!$H$6=\"Western Isles Health Board\",0,IF('III Tool Overview'!$H$6=\"Eilean Siar Local Authority\",0,hosp_count(2,B230,C230,D230,$C$1,G230,1,F230,E230*F230)))","v":103.45496517579767},{"$f":"IF('III Tool Overview'!$H$6=\"Western Isles Health Board\",0,IF('III Tool Overview'!$H$6=\"Eilean Siar Local Authority\",0,hosp_count(2,B230,C230,D230,$C$1,G230+H230,1,F230,E230*F230)))","v":103.45496517579767},0,{"$f":"IF('III Tool Overview'!$H$6=\"Western Isles Health Board\",0,IF('III Tool Overview'!$H$6=\"Eilean Siar Local Authority\",0,hosp_count(5,B230,C230,D230,$C$1,G230,1,F230,E230*F230)))","v":423.16802432350687},{"$f":"IF('III Tool Overview'!$H$6=\"Western Isles Health Board\",0,IF('III Tool Overview'!$H$6=\"Eilean Siar Local Authority\",0,hosp_count(5,B230,C230,D230,$C$1,G230+H230,1,F230,E230*F230)))","v":423.16802432350687},0,{"$f":"IF('III Tool Overview'!$H$6=\"Western Isles Health Board\",0,IF('III Tool Overview'!$H$6=\"Eilean Siar Local Authority\",0,hosp_count(10,B230,C230,D230,$C$1,G230,1,F230,E230*F230)))","v":982.59454332023768},{"$f":"IF('III Tool Overview'!$H$6=\"Western Isles Health Board\",0,IF('III Tool Overview'!$H$6=\"Eilean Siar Local Authority\",0,hosp_count(10,B230,C230,D230,$C$1,G230+H230,1,F230,E230*F230)))","v":982.59454332023768},0,{"$f":"IF('III Tool Overview'!$H$6=\"Western Isles Health Board\",0,IF('III Tool Overview'!$H$6=\"Eilean Siar Local Authority\",0,hosp_count(20,B230,C230,D230,$C$1,G230,1,F230,E230*F230)))","v":2141.9193699711186},{"$f":"IF('III Tool Overview'!$H$6=\"Western Isles Health Board\",0,IF('III Tool Overview'!$H$6=\"Eilean Siar Local Authority\",0,hosp_count(20,B230,C230,D230,$C$1,G230+H230,1,F230,E230*F230)))","v":2141.9193699711186},0]
["Female 70-74",72.5,"female",4,{"$f":"HLOOKUP('III Tool Overview'!$H$6,Prevalence!$B$2:$AV$268,Prevalence!AW220,FALSE)","v":0},{"$f":"HLOOKUP('III Tool Overview'!$H$6,LookUpData_Pop!$B$1:$AV$269,LookUpData_Pop!BB225,FALSE)/5","v":262.39999999999998}]
["Female 75-79",77.5,"female",4,{"$f":"HLOOKUP('III Tool Overview'!$H$6,Prevalence!$B$2:$AV$268,Prevalence!AW221,FALSE)","v":0},{"$f":"HLOOKUP('III Tool Overview'!$H$6,LookUpData_Pop!$B$1:$AV$269,LookUpData_Pop!BB226,FALSE)/5","v":204.8}]
["Female 80-84",82.5,"female",4,{"$f":"HLOOKUP('III Tool Overview'!$H$6,Prevalence!$B$2:$AV$268,Prevalence!AW222,FALSE)","v":0},{"$f":"HLOOKUP('III Tool Overview'!$H$6,LookUpData_Pop!$B$1:$AV$269,LookUpData_Pop!BB227,FALSE)/5","v":147.19999999999999}]
["Female 85-89",87.5,"female",4,{"$f":"HLOOKUP('III Tool Overview'!$H$6,Prevalence!$B$2:$AV$268,Prevalence!AW223,FALSE)","v":0},{"$f":"HLOOKUP('III Tool Overview'!$H$6,LookUpData_Pop!$B$1:$AV$269,LookUpData_Pop!BB228,FALSE)/5","v":96.8}]
["Female 90+",95,"female",4,null,{"$f":"HLOOKUP('III Tool Overview'!$H$6,LookUpData_Pop!$B$1:$AV$269,LookUpData_Pop!BB229,FALSE)/5","v":58.4}]
["TOTAL",null,null,null,null,{"$f":"SUM(F220:F230)","v":3930.7999999999997},{"$f":"SUM(G220:G230)","v":0},0,11.654754203370237,11.654754203370237,51.194548366681758,51.194548366681758,134.92453728677026,134.92453728677026,390.11268600179778,390.11268600179778,476.37897152241163,476.37897152241163,0,2014.9197795064119,2014.9197795064119,0,4947.701159278562,4947.701159278562,0,12038.408949332494,12038.408949332494,0,712.04818498475674,712.04818498475674,0,2944.9545917487785,2944.9545917487785,0,6996.1994755531523,6996.1994755531523,0,16327.939571192193,16327.939571192193,0]
["age/sex breakdown: Q5"]
["Male <1",0.5,"male",5,null,{"$f":"HLOOKUP('III Tool Overview'!$H$6,LookUpData_Pop!$B$1:$AV$269,LookUpData_Pop!BB231,FALSE)/5","v":4}]
["Male 1-4",2.5,"male",5,null,{"$f":"HLOOKUP('III Tool Overview'!$H$6,LookUpData_Pop!$B$1:$AV$269,LookUpData_Pop!BB232,FALSE)/5","v":12.6}]
["Male 5-9",7.5,"male",5,null,{"$f":"HLOOKUP('III Tool Overview'!$H$6,LookUpData_Pop!$B$1:$AV$269,LookUpData_Pop!BB233,FALSE)/5","v":12.6}]
["Male 10-14",12.5,"male",5,null,{"$f":"HLOOKUP('III Tool Overview'!$H$6,LookUpData_Pop!$B$1:$AV$269,LookUpData_Pop!BB234,FALSE)/5","v":19.2}]
["Male 15-19",17.5,"male",5,{"$f":"HLOOKUP('III Tool Overview'!$H$6,Prevalence!$B$2:$AV$268,Prevalence!AW230,FALSE)","v":4.6969696969696967E-2},{"$f":"HLOOKUP('III Tool Overview'!$H$6,LookUpData_Pop!$B$1:$AV$269,LookUpData_Pop!BB235,FALSE)/5","v":24.4},{"$f":"'III Tool Overview'!$H$9/110","v":0},{"$f":"IF('III Tool Overview'!$H$10=\"Even distribution\",Targeting!C232,IF('III Tool Overview'!$H$10=\"Targetting to Q1\",Targeting!D232,IF('III Tool Overview'!$H$10=\"Targeting to Q1 & Q2\",Targeting!E233,IF('III Tool Overview'!$H$10=\"Proportionate to need\",Targeting!F232))))","v":0},{"$f":"IF('III Tool Overview'!$H$6=\"Western Isles Health Board\",0,IF('III Tool Overview'!$H$6=\"Eilean Siar Local Authority\",0,new_ci(2,B242,C242,D242,$C$1,G242,1,F242,E242*F242)))","v":7.8839459548378336E-3},{"$f":"IF('III Tool Overview'!$H$6=\"Western Isles Health Board\",0,IF('III Tool Overview'!$H$6=\"Eilean Siar Local Authority\",0,new_ci(2,B242,C242,D242,$C$1,G242+H242,1,F242,E242*F242)))","v":7.8839459548378336E-3},{"$f":"IF('III Tool Overview'!$H$6=\"Western Isles Health Board\",0,IF('III Tool Overview'!$H$6=\"Eilean Siar Local Authority\",0,new_ci(5,B242,C242,D242,$C$1,G242,1,F242,E242*F242)))","v":3.4477877747095341E-2},{"$f":"IF('III Tool Overview'!$H$6=\"Western Isles Health Board\",0,IF('III Tool Overview'!$H$6=\"Eilean Siar Local Authority\",0,new_ci(5,B242,C242,D242,$C$1,G242+H242,1,F242,E242*F242)))","v":3.4477877747095341E-2},{"$f":"IF('III Tool Overview'!$H$6=\"Western Isles Health Board\",0,IF('III Tool Overview'!$H$6=\"Eilean Siar Local Authority\",0,new_ci(10,B242,C242,D242,$C$1,G242,1,F242,E242*F242)))","v":9.0497682788399481E-2},{"$f":"IF('III Tool Overview'!$H$6=\"Western Isles Health Board\",0,IF('III Tool Overview'!$H$6=\"Eilean Siar Local Authority\",0,new_ci(10,B242,C242,D242,$C$1,G242+H242,1,F242,E242*F242)))","v":9.0497682788399481E-2},{"$f":"IF('III Tool Overview'!$H$6=\"Western Isles Health Board\",0,IF('III Tool Overview'!$H$6=\"Eilean Siar Local Authority\",0,new_ci(20,B242,C242,D242,$C$1,G242,1,F242,E242*F242)))","v":0.26513983109591177},{"$f":"IF('III Tool Overview'!$H$6=\"Western Isles Health Board\",0,IF('III Tool Overview'!$H$6=\"Eilean Siar Local Authority\",0,new_ci(20,B242,C242,D242,$C$1,G242+H242,1,F242,E242*F242)))","v":0.26513983109591177},{"$f":"IF('III Tool Overview'!$H$6=\"Western Isles Health Board\",0,IF('III Tool Overview'!$H$6=\"Eilean Siar Local Authority\",0,new_yll(2,B242,C242,D242,$C$1,G242,1,F242,E242*F242)))","v":0.63859962234186451},{"$f":"IF('III Tool Overview'!$H$6=\"Western Isles Health Board\",0,IF('III Tool Overview'!$H$6=\"Eilean Siar Local Authority\",0,new_yll(2,B242,C242,D242,$C$1,G242+H242,1,F242,E242*F242)))","v":0.63859962234186451},{"$f":"Q242-R242","v":0},{"$f":"IF('III Tool Overview'!$H$6=\"Western Isles Health Board\",0,IF('III Tool Overview'!$H$6=\"Eilean Siar Local Authority\",0,new_yll(5,B242,C242,D242,$C$1,G242,1,F242,E242*F242)))","v":2.7384917636178869},{"$f":"IF('III Tool Overview'!$H$6=\"Western Isles Health Board\",0,IF('III Tool Overview'!$H$6=\"Eilean Siar Local Authority\",0,new_yll(5,B242,C242,D242,$C$1,G242+H242,1,F242,E242*F242)))","v":2.7384917636178869},{"$f":"T242-U242","v":0},{"$f":"IF('III Tool Overview'!$H$6=\"Western Isles Health Board\",0,IF('III Tool Overview'!$H$6=\"Eilean Siar Local Authority\",0,new_yll(10,B242,C242,D242,$C$1,G242,1,F242,E242*F242)))","v":6.9334945822435268},{"$f":"IF('III Tool Overview'!$H$6=\"Western Isles Health Board\",0,IF('III Tool Overview'!$H$6=\"Eilean Siar Local Authority\",0,new_yll(10,B242,C242,D242,$C$1,G242+H242,1,F242,E242*F242)))","v":6.9334945822435268},{"$f":"W242-X242","v":0},{"$f":"IF('III Tool Overview'!$H$6=\"Western Isles Health Board\",0,IF('III Tool Overview'!$H$6=\"Eilean Siar Local Authority\",0,new_yll(20,B242,C242,D242,$C$1,G242,1,F242,E242*F242)))","v":18.639201701583758},{"$f":"IF('III Tool Overview'!$H$6=\"Western Isles Health Board\",0,IF('III Tool Overview'!$H$6=\"Eilean Siar Local Authority\",0,new_yll(20,B242,C242,D242,$C$1,G242+H242,1,F242,E242*F242)))","v":18.639201701583758},{"$f":"Z242-AA242","v":0},{"$f":"IF('III Tool Overview'!$H$6=\"Western Isles Health Board\",0,IF('III Tool Overview'!$H$6=\"Eilean Siar Local Authority\",0,hosp_count(2,B242,C242,D242,$C$1,G242,1,F242,E242*F242)))","v":1.3270140997449758},{"$f":"IF('III Tool Overview'!$H$6=\"Western Isles Health Board\",0,IF('III Tool Overview'!$H$6=\"Eilean Siar Local Authority\",0,hosp_count(2,B242,C242,D242,$C$1,G242+H242,1,F242,E242*F242)))","v":1.3270140997449758},{"$f":"AC242-AD242","v":0},{"$f":"IF('III Tool Overview'!$H$6=\"Western Isles Health Board\",0,IF('III Tool Overview'!$H$6=\"Eilean Siar Local Authority\",0,hosp_count(5,B242,C242,D242,$C$1,G242,1,F242,E242*F242)))","v":5.6088092856813709},{"$f":"IF('III Tool Overview'!$H$6=\"Western Isles Health Board\",0,IF('III Tool Overview'!$H$6=\"Eilean Siar Local Authority\",0,hosp_count(5,B242,C242,D242,$C$1,G242+H242,1,F242,E242*F242)))","v":5.6088092856813709},{"$f":"AF242-AG242","v":0},{"$f":"IF('III Tool Overview'!$H$6=\"Western Isles Health Board\",0,IF('III Tool Overview'!$H$6=\"Eilean Siar Local Authority\",0,hosp_count(10,B242,C242,D242,$C$1,G242,1,F242,E242*F242)))","v":13.861877919342744},{"$f":"IF('III Tool Overview'!$H$6=\"Western Isles Health Board\",0,IF('III Tool Overview'!$H$6=\"Eilean Siar Local Authority\",0,hosp_count(10,B242,C242,D242,$C$1,G242+H242,1,F242,E242*F242)))","v":13.861877919342744},{"$f":"AI242-AJ242","v":0},{"$f":"IF('III Tool Overview'!$H$6=\"Western Isles Health Board\",0,IF('III Tool Overview'!$H$6=\"Eilean Siar Local Authority\",0,hosp_count(20,B242,C242,D242,$C$1,G242,1,F242,E242*F242)))","v":35.563363399640274},{"$f":"IF('III Tool Overview'!$H$6=\"Western Isles Health Board\",0,IF('III Tool Overview'!$H$6=\"Eilean Siar Local Authority\",0,hosp_count(20,B242,C242,D242,$C$1,G242+H242,1,F242,E242*F242)))","v":35.563363399640274},{"$f":"AL242-AM242","v":0}]
["Male 20-24",22.5,"male",5,{"$f":"HLOOKUP('III Tool Overview'!$H$6,Prevalence!$B$2:$AV$268,Prevalence!AW231,FALSE)","v":7.515151515151515E-2},{"$f":"HLOOKUP('III Tool Overview'!$H$6,LookUpData_Pop!$B$1:$AV$269,LookUpData_Pop!BB236,FALSE)/5","v":16.2},{"$f":"'III Tool Overview'!$H$9/110","v":0},{"$f":"IF('III Tool Overview'!$H$10=\"Even distribution\",Targeting!C233,IF('III Tool Overview'!$H$10=\"Targetting to Q1\",Targeting!D233,IF('III Tool Overview'!$H$10=\"Targeting to Q1 & Q2\",Targeting!E234,IF('III Tool Overview'!$H$10=\"Proportionate to need\",Targeting!F233))))","v":0},{"$f":"IF('III Tool Overview'!$H$6=\"Western Isles Health Board\",0,IF('III Tool Overview'!$H$6=\"Eilean Siar Local Authority\",0,new_ci(2,B243,C243,D243,$C$1,G243,1,F243,E243*F243)))","v":6.9922514372173557E-3},{"$f":"IF('III Tool Overview'!$H$6=\"Western Isles Health Board\",0,IF('III Tool Overview'!$H$6=\"Eilean Siar Local Authority\",0,new_ci(2,B243,C243,D243,$C$1,G243+H243,1,F243,E243*F243)))","v":6.9922514372173557E-3},{"$f":"IF('III Tool Overview'!$H$6=\"Western Isles Health Board\",0,IF('III Tool Overview'!$H$6=\"Eilean Siar Local Authority\",0,new_ci(5,B243,C243,D243,$C$1,G243,1,F243,E243*F243)))","v":3.0572514613654997E-2},{"$f":"IF('III Tool Overview'!$H$6=\"Western Isles Health Board\",0,IF('III Tool Overview'!$H$6=\"Eilean Siar Local Authority\",0,new_ci(5,B243,C243,D243,$C$1,G243+H243,1,F243,E243*F243)))","v":3.0572514613654997E-2},{"$f":"IF('III Tool Overview'!$H$6=\"Western Isles Health Board\",0,IF('III Tool Overview'!$H$6=\"Eilean Siar Local Authority\",0,new_ci(10,B243,C243,D243,$C$1,G243,1,F243,E243*F243)))","v":8.0214631611140924E-2},{"$f":"IF('III Tool Overview'!$H$6=\"Western Isles Health Board\",0,IF('III Tool Overview'!$H$6=\"Eilean Siar Local Authority\",0,new_ci(10,B243,C243,D243,$C$1,G243+H243,1,F243,E243*F243)))","v":8.0214631611140924E-2},{"$f":"IF('III Tool Overview'!$H$6=\"Western Isles Health Board\",0,IF('III Tool Overview'!$H$6=\"Eilean Siar Local Authority\",0,new_ci(20,B243,C243,D243,$C$1,G243,1,F243,E243*F243)))","v":0.23471760764965741},{"$f":"IF('III Tool Overview'!$H$6=\"Western Isles Health Board\",0,IF('III Tool Overview'!$H$6=\"Eilean Siar Local Authority\",0,new_ci(20,B243,C243,D243,$C$1,G243+H243,1,F243,E243*F243)))","v":0.23471760764965741},{"$f":"IF('III Tool Overview'!$H$6=\"Western Isles Health Board\",0,IF('III Tool Overview'!$H$6=\"Eilean Siar Local Authority\",0,new_yll(2,B243,C243,D243,$C$1,G243,1,F243,E243*F243)))","v":0.53840336066573635},{"$f":"IF('III Tool Overview'!$H$6=\"Western Isles Health Board\",0,IF('III Tool Overview'!$H$6=\"Eilean Siar Local Authority\",0,new_yll(2,B243,C243,D243,$C$1,G243+H243,1,F243,E243*F243)))","v":0.53840336066573635},0,{"$f":"IF('III Tool Overview'!$H$6=\"Western Isles Health Board\",0,IF('III Tool Overview'!$H$6=\"Eilean Siar Local Authority\",0,new_yll(5,B243,C243,D243,$C$1,G243,1,F243,E243*F243)))","v":2.3060131715462822},{"$f":"IF('III Tool Overview'!$H$6=\"Western Isles Health Board\",0,IF('III Tool Overview'!$H$6=\"Eilean Siar Local Authority\",0,new_yll(5,B243,C243,D243,$C$1,G243+H243,1,F243,E243*F243)))","v":2.3060131715462822},{"$f":"T243-U243","v":0},{"$f":"IF('III Tool Overview'!$H$6=\"Western Isles Health Board\",0,IF('III Tool Overview'!$H$6=\"Eilean Siar Local Authority\",0,new_yll(10,B243,C243,D243,$C$1,G243,1,F243,E243*F243)))","v":5.8248748599787614},{"$f":"IF('III Tool Overview'!$H$6=\"Western Isles Health Board\",0,IF('III Tool Overview'!$H$6=\"Eilean Siar Local Authority\",0,new_yll(10,B243,C243,D243,$C$1,G243+H243,1,F243,E243*F243)))","v":5.8248748599787614},{"$f":"W243-X243","v":0},{"$f":"IF('III Tool Overview'!$H$6=\"Western Isles Health Board\",0,IF('III Tool Overview'!$H$6=\"Eilean Siar Local Authority\",0,new_yll(20,B243,C243,D243,$C$1,G243,1,F243,E243*F243)))","v":15.563022833388931},{"$f":"IF('III Tool Overview'!$H$6=\"Western Isles Health Board\",0,IF('III Tool Overview'!$H$6=\"Eilean Siar Local Authority\",0,new_yll(20,B243,C243,D243,$C$1,G243+H243,1,F243,E243*F243)))","v":15.563022833388931},{"$f":"Z243-AA243","v":0},{"$f":"IF('III Tool Overview'!$H$6=\"Western Isles Health Board\",0,IF('III Tool Overview'!$H$6=\"Eilean Siar Local Authority\",0,hosp_count(2,B243,C243,D243,$C$1,G243,1,F243,E243*F243)))","v":1.0130117181899483},{"$f":"IF('III Tool Overview'!$H$6=\"Western Isles Health Board\",0,IF('III Tool Overview'!$H$6=\"Eilean Siar Local Authority\",0,hosp_count(2,B243,C243,D243,$C$1,G243+H243,1,F243,E243*F243)))","v":1.0130117181899483},{"$f":"AC243-AD243","v":0},{"$f":"IF('III Tool Overview'!$H$6=\"Western Isles Health Board\",0,IF('III Tool Overview'!$H$6=\"Eilean Siar Local Authority\",0,hosp_count(5,B243,C243,D243,$C$1,G243,1,F243,E243*F243)))","v":4.2808858972908563},{"$f":"IF('III Tool Overview'!$H$6=\"Western Isles Health Board\",0,IF('III Tool Overview'!$H$6=\"Eilean Siar Local Authority\",0,hosp_count(5,B243,C243,D243,$C$1,G243+H243,1,F243,E243*F243)))","v":4.2808858972908563},{"$f":"AF243-AG243","v":0},{"$f":"IF('III Tool Overview'!$H$6=\"Western Isles Health Board\",0,IF('III Tool Overview'!$H$6=\"Eilean Siar Local Authority\",0,hosp_count(10,B243,C243,D243,$C$1,G243,1,F243,E243*F243)))","v":10.576187038235089},{"$f":"IF('III Tool Overview'!$H$6=\"Western Isles Health Board\",0,IF('III Tool Overview'!$H$6=\"Eilean Siar Local Authority\",0,hosp_count(10,B243,C243,D243,$C$1,G243+H243,1,F243,E243*F243)))","v":10.576187038235089},{"$f":"AI243-AJ243","v":0},{"$f":"IF('III Tool Overview'!$H$6=\"Western Isles Health Board\",0,IF('III Tool Overview'!$H$6=\"Eilean Siar Local Authority\",0,hosp_count(20,B243,C243,D243,$C$1,G243,1,F243,E243*F243)))","v":27.104644530592832},{"$f":"IF('III Tool Overview'!$H$6=\"Western Isles Health Board\",0,IF('III Tool Overview'!$H$6=\"Eilean Siar Local Authority\",0,hosp_count(20,B243,C243,D243,$C$1,G243+H243,1,F243,E243*F243)))","v":27.104644530592832},{"$f":"AL243-AM243","v":0}]
["Male 25-29",27.5,"male",5,{"$f":"HLOOKUP('III Tool Overview'!$H$6,Prevalence!$B$2:$AV$268,Prevalence!AW232,FALSE)","v":0.18787878787878781},{"$f":"HLOOKUP('III Tool Overview'!$H$6,LookUpData_Pop!$B$1:$AV$269,LookUpData_Pop!BB237,FALSE)/5","v":8.8000000000000007},{"$f":"'III Tool Overview'!$H$9/110","v":0},{"$f":"IF('III Tool Overview'!$H$10=\"Even distribution\",Targeting!C234,IF('III Tool Overview'!$H$10=\"Targetting to Q1\",Targeting!D234,IF('III Tool Overview'!$H$10=\"Targeting to Q1 & Q2\",Targeting!E235,IF('III Tool Overview'!$H$10=\"Proportionate to need\",Targeting!F234))))","v":0},{"$f":"IF('III Tool Overview'!$H$6=\"Western Isles Health Board\",0,IF('III Tool Overview'!$H$6=\"Eilean Siar Local Authority\",0,new_ci(2,B244,C244,D244,$C$1,G244,1,F244,E244*F244)))","v":5.8639070881499672E-3},{"$f":"IF('III Tool Overview'!$H$6=\"Western Isles Health Board\",0,IF('III Tool Overview'!$H$6=\"Eilean Siar Local Authority\",0,new_ci(2,B244,C244,D244,$C$1,G244+H244,1,F244,E244*F244)))","v":5.8639070881499672E-3},{"$f":"IF('III Tool Overview'!$H$6=\"Western Isles Health Board\",0,IF('III Tool Overview'!$H$6=\"Eilean Siar Local Authority\",0,new_ci(5,B244,C244,D244,$C$1,G244,1,F244,E244*F244)))","v":2.5627713013751354E-2},{"$f":"IF('III Tool Overview'!$H$6=\"Western Isles Health Board\",0,IF('III Tool Overview'!$H$6=\"Eilean Siar Local Authority\",0,new_ci(5,B244,C244,D244,$C$1,G244+H244,1,F244,E244*F244)))","v":2.5627713013751354E-2},{"$f":"IF('III Tool Overview'!$H$6=\"Western Isles Health Board\",0,IF('III Tool Overview'!$H$6=\"Eilean Siar Local Authority\",0,new_ci(10,B244,C244,D244,$C$1,G244,1,F244,E244*F244)))","v":6.7178304464222766E-2},{"$f":"IF('III Tool Overview'!$H$6=\"Western Isles Health Board\",0,IF('III Tool Overview'!$H$6=\"Eilean Siar Local Authority\",0,new_ci(10,B244,C244,D244,$C$1,G244+H244,1,F244,E244*F244)))","v":6.7178304464222766E-2},{"$f":"IF('III Tool Overview'!$H$6=\"Western Isles Health Board\",0,IF('III Tool Overview'!$H$6=\"Eilean Siar Local Authority\",0,new_ci(20,B244,C244,D244,$C$1,G244,1,F244,E244*F244)))","v":0.19600293344358458},{"$f":"IF('III Tool Overview'!$H$6=\"Western Isles Health Board\",0,IF('III Tool Overview'!$H$6=\"Eilean Siar Local Authority\",0,new_ci(20,B244,C244,D244,$C$1,G244+H244,1,F244,E244*F244)))","v":0.19600293344358458},{"$f":"IF('III Tool Overview'!$H$6=\"Western Isles Health Board\",0,IF('III Tool Overview'!$H$6=\"Eilean Siar Local Authority\",0,new_yll(2,B244,C244,D244,$C$1,G244,1,F244,E244*F244)))","v":0.41633740325864765},{"$f":"IF('III Tool Overview'!$H$6=\"Western Isles Health Board\",0,IF('III Tool Overview'!$H$6=\"Eilean Siar Local Authority\",0,new_yll(2,B244,C244,D244,$C$1,G244+H244,1,F244,E244*F244)))","v":0.41633740325864765},0,{"$f":"IF('III Tool Overview'!$H$6=\"Western Isles Health Board\",0,IF('III Tool Overview'!$H$6=\"Eilean Siar Local Authority\",0,new_yll(5,B244,C244,D244,$C$1,G244,1,F244,E244*F244)))","v":1.7792812226877703},{"$f":"IF('III Tool Overview'!$H$6=\"Western Isles Health Board\",0,IF('III Tool Overview'!$H$6=\"Eilean Siar Local Authority\",0,new_yll(5,B244,C244,D244,$C$1,G244+H244,1,F244,E244*F244)))","v":1.7792812226877703},0,{"$f":"IF('III Tool Overview'!$H$6=\"Western Isles Health Board\",0,IF('III Tool Overview'!$H$6=\"Eilean Siar Local Authority\",0,new_yll(10,B244,C244,D244,$C$1,G244,1,F244,E244*F244)))","v":4.4753056023924165},{"$f":"IF('III Tool Overview'!$H$6=\"Western Isles Health Board\",0,IF('III Tool Overview'!$H$6=\"Eilean Siar Local Authority\",0,new_yll(10,B244,C244,D244,$C$1,G244+H244,1,F244,E244*F244)))","v":4.4753056023924165},0,{"$f":"IF('III Tool Overview'!$H$6=\"Western Isles Health Board\",0,IF('III Tool Overview'!$H$6=\"Eilean Siar Local Authority\",0,new_yll(20,B244,C244,D244,$C$1,G244,1,F244,E244*F244)))","v":11.822639810383404},{"$f":"IF('III Tool Overview'!$H$6=\"Western Isles Health Board\",0,IF('III Tool Overview'!$H$6=\"Eilean Siar Local Authority\",0,new_yll(20,B244,C244,D244,$C$1,G244+H244,1,F244,E244*F244)))","v":11.822639810383404},0,{"$f":"IF('III Tool Overview'!$H$6=\"Western Isles Health Board\",0,IF('III Tool Overview'!$H$6=\"Eilean Siar Local Authority\",0,hosp_count(2,B244,C244,D244,$C$1,G244,1,F244,E244*F244)))","v":0.67842640418309508},{"$f":"IF('III Tool Overview'!$H$6=\"Western Isles Health Board\",0,IF('III Tool Overview'!$H$6=\"Eilean Siar Local Authority\",0,hosp_count(2,B244,C244,D244,$C$1,G244+H244,1,F244,E244*F244)))","v":0.67842640418309508},0,{"$f":"IF('III Tool Overview'!$H$6=\"Western Isles Health Board\",0,IF('III Tool Overview'!$H$6=\"Eilean Siar Local Authority\",0,hosp_count(5,B244,C244,D244,$C$1,G244,1,F244,E244*F244)))","v":2.8658744421347282},{"$f":"IF('III Tool Overview'!$H$6=\"Western Isles Health Board\",0,IF('III Tool Overview'!$H$6=\"Eilean Siar Local Authority\",0,hosp_count(5,B244,C244,D244,$C$1,G244+H244,1,F244,E244*F244)))","v":2.8658744421347282},0,{"$f":"IF('III Tool Overview'!$H$6=\"Western Isles Health Board\",0,IF('III Tool Overview'!$H$6=\"Eilean Siar Local Authority\",0,hosp_count(10,B244,C244,D244,$C$1,G244,1,F244,E244*F244)))","v":7.07480624185406},{"$f":"IF('III Tool Overview'!$H$6=\"Western Isles Health Board\",0,IF('III Tool Overview'!$H$6=\"Eilean Siar Local Authority\",0,hosp_count(10,B244,C244,D244,$C$1,G244+H244,1,F244,E244*F244)))","v":7.07480624185406},0,{"$f":"IF('III Tool Overview'!$H$6=\"Western Isles Health Board\",0,IF('III Tool Overview'!$H$6=\"Eilean Siar Local Authority\",0,hosp_count(20,B244,C244,D244,$C$1,G244,1,F244,E244*F244)))","v":18.089223393843167},{"$f":"IF('III Tool Overview'!$H$6=\"Western Isles Health Board\",0,IF('III Tool Overview'!$H$6=\"Eilean Siar Local Authority\",0,hosp_count(20,B244,C244,D244,$C$1,G244+H244,1,F244,E244*F244)))","v":18.089223393843167},0]
["Male 30-34",32.5,"male",5,{"$f":"HLOOKUP('III Tool Overview'!$H$6,Prevalence!$B$2:$AV$268,Prevalence!AW233,FALSE)","v":6.5757575757575709E-2},{"$f":"HLOOKUP('III Tool Overview'!$H$6,LookUpData_Pop!$B$1:$AV$269,LookUpData_Pop!BB238,FALSE)/5","v":8.4},{"$f":"'III Tool Overview'!$H$9/110","v":0},{"$f":"IF('III Tool Overview'!$H$10=\"Even distribution\",Targeting!C235,IF('III Tool Overview'!$H$10=\"Targetting to Q1\",Targeting!D235,IF('III Tool Overview'!$H$10=\"Targeting to Q1 & Q2\",Targeting!E236,IF('III Tool Overview'!$H$10=\"Proportionate to need\",Targeting!F235))))","v":0},{"$f":"IF('III Tool Overview'!$H$6=\"Western Isles Health Board\",0,IF('III Tool Overview'!$H$6=\"Eilean Siar Local Authority\",0,new_ci(2,B245,C245,D245,$C$1,G245,1,F245,E245*F245)))","v":7.4766762038646073E-3},{"$f":"IF('III Tool Overview'!$H$6=\"Western Isles Health Board\",0,IF('III Tool Overview'!$H$6=\"Eilean Siar Local Authority\",0,new_ci(2,B245,C245,D245,$C$1,G245+H245,1,F245,E245*F245)))","v":7.4766762038646073E-3},{"$f":"IF('III Tool Overview'!$H$6=\"Western Isles Health Board\",0,IF('III Tool Overview'!$H$6=\"Eilean Siar Local Authority\",0,new_ci(5,B245,C245,D245,$C$1,G245,1,F245,E245*F245)))","v":3.2664040371992803E-2},{"$f":"IF('III Tool Overview'!$H$6=\"Western Isles Health Board\",0,IF('III Tool Overview'!$H$6=\"Eilean Siar Local Authority\",0,new_ci(5,B245,C245,D245,$C$1,G245+H245,1,F245,E245*F245)))","v":3.2664040371992803E-2},{"$f":"IF('III Tool Overview'!$H$6=\"Western Isles Health Board\",0,IF('III Tool Overview'!$H$6=\"Eilean Siar Local Authority\",0,new_ci(10,B245,C245,D245,$C$1,G245,1,F245,E245*F245)))","v":8.5555704787307299E-2},{"$f":"IF('III Tool Overview'!$H$6=\"Western Isles Health Board\",0,IF('III Tool Overview'!$H$6=\"Eilean Siar Local Authority\",0,new_ci(10,B245,C245,D245,$C$1,G245+H245,1,F245,E245*F245)))","v":8.5555704787307299E-2},{"$f":"IF('III Tool Overview'!$H$6=\"Western Isles Health Board\",0,IF('III Tool Overview'!$H$6=\"Eilean Siar Local Authority\",0,new_ci(20,B245,C245,D245,$C$1,G245,1,F245,E245*F245)))","v":0.24901288107281538},{"$f":"IF('III Tool Overview'!$H$6=\"Western Isles Health Board\",0,IF('III Tool Overview'!$H$6=\"Eilean Siar Local Authority\",0,new_ci(20,B245,C245,D245,$C$1,G245+H245,1,F245,E245*F245)))","v":0.24901288107281538},{"$f":"IF('III Tool Overview'!$H$6=\"Western Isles Health Board\",0,IF('III Tool Overview'!$H$6=\"Eilean Siar Local Authority\",0,new_yll(2,B245,C245,D245,$C$1,G245,1,F245,E245*F245)))","v":0.50093730565892869},{"$f":"IF('III Tool Overview'!$H$6=\"Western Isles Health Board\",0,IF('III Tool Overview'!$H$6=\"Eilean Siar Local Authority\",0,new_yll(2,B245,C245,D245,$C$1,G245+H245,1,F245,E245*F245)))","v":0.50093730565892869},0,{"$f":"IF('III Tool Overview'!$H$6=\"Western Isles Health Board\",0,IF('III Tool Overview'!$H$6=\"Eilean Siar Local Authority\",0,new_yll(5,B245,C245,D245,$C$1,G245,1,F245,E245*F245)))","v":2.1371531194750495},{"$f":"IF('III Tool Overview'!$H$6=\"Western Isles Health Board\",0,IF('III Tool Overview'!$H$6=\"Eilean Siar Local Authority\",0,new_yll(5,B245,C245,D245,$C$1,G245+H245,1,F245,E245*F245)))","v":2.1371531194750495},0,{"$f":"IF('III Tool Overview'!$H$6=\"Western Isles Health Board\",0,IF('III Tool Overview'!$H$6=\"Eilean Siar Local Authority\",0,new_yll(10,B245,C245,D245,$C$1,G245,1,F245,E245*F245)))","v":5.3575133509667241},{"$f":"IF('III Tool Overview'!$H$6=\"Western Isles Health Board\",0,IF('III Tool Overview'!$H$6=\"Eilean Siar Local Authority\",0,new_yll(10,B245,C245,D245,$C$1,G245+H245,1,F245,E245*F245)))","v":5.3575133509667241},0,{"$f":"IF('III Tool Overview'!$H$6=\"Western Isles Health Board\",0,IF('III Tool Overview'!$H$6=\"Eilean Siar Local Authority\",0,new_yll(20,B245,C245,D245,$C$1,G245,1,F245,E245*F245)))","v":14.026893265521462},{"$f":"IF('III Tool Overview'!$H$6=\"Western Isles Health Board\",0,IF('III Tool Overview'!$H$6=\"Eilean Siar Local Authority\",0,new_yll(20,B245,C245,D245,$C$1,G245+H245,1,F245,E245*F245)))","v":14.026893265521462},0,{"$f":"IF('III Tool Overview'!$H$6=\"Western Isles Health Board\",0,IF('III Tool Overview'!$H$6=\"Eilean Siar Local Authority\",0,hosp_count(2,B245,C245,D245,$C$1,G245,1,F245,E245*F245)))","v":0.74458297149331165},{"$f":"IF('III Tool Overview'!$H$6=\"Western Isles Health Board\",0,IF('III Tool Overview'!$H$6=\"Eilean Siar Local Authority\",0,hosp_count(2,B245,C245,D245,$C$1,G245+H245,1,F245,E245*F245)))","v":0.74458297149331165},0,{"$f":"IF('III Tool Overview'!$H$6=\"Western Isles Health Board\",0,IF('III Tool Overview'!$H$6=\"Eilean Siar Local Authority\",0,hosp_count(5,B245,C245,D245,$C$1,G245,1,F245,E245*F245)))","v":3.1442078842668977},{"$f":"IF('III Tool Overview'!$H$6=\"Western Isles Health Board\",0,IF('III Tool Overview'!$H$6=\"Eilean Siar Local Authority\",0,hosp_count(5,B245,C245,D245,$C$1,G245+H245,1,F245,E245*F245)))","v":3.1442078842668977},0,{"$f":"IF('III Tool Overview'!$H$6=\"Western Isles Health Board\",0,IF('III Tool Overview'!$H$6=\"Eilean Siar Local Authority\",0,hosp_count(10,B245,C245,D245,$C$1,G245,1,F245,E245*F245)))","v":7.7561834717355902},{"$f":"IF('III Tool Overview'!$H$6=\"Western Isles Health Board\",0,IF('III Tool Overview'!$H$6=\"Eilean Siar Local Authority\",0,hosp_count(10,B245,C245,D245,$C$1,G245+H245,1,F245,E245*F245)))","v":7.7561834717355902},0,{"$f":"IF('III Tool Overview'!$H$6=\"Western Isles Health Board\",0,IF('III Tool Overview'!$H$6=\"Eilean Siar Local Authority\",0,hosp_count(20,B245,C245,D245,$C$1,G245,1,F245,E245*F245)))","v":19.787782551972938},{"$f":"IF('III Tool Overview'!$H$6=\"Western Isles Health Board\",0,IF('III Tool Overview'!$H$6=\"Eilean Siar Local Authority\",0,hosp_count(20,B245,C245,D245,$C$1,G245+H245,1,F245,E245*F245)))","v":19.787782551972938},0]
["Male 35-39",37.5,"male",5,{"$f":"HLOOKUP('III Tool Overview'!$H$6,Prevalence!$B$2:$AV$268,Prevalence!AW234,FALSE)","v":1.8787878787878805E-2},{"$f":"HLOOKUP('III Tool Overview'!$H$6,LookUpData_Pop!$B$1:$AV$269,LookUpData_Pop!BB239,FALSE)/5","v":18},{"$f":"'III Tool Overview'!$H$9/110","v":0},{"$f":"IF('III Tool Overview'!$H$10=\"Even distribution\",Targeting!C236,IF('III Tool Overview'!$H$10=\"Targetting to Q1\",Targeting!D236,IF('III Tool Overview'!$H$10=\"Targeting to Q1 & Q2\",Targeting!E237,IF('III Tool Overview'!$H$10=\"Proportionate to need\",Targeting!F236))))","v":0},{"$f":"IF('III Tool Overview'!$H$6=\"Western Isles Health Board\",0,IF('III Tool Overview'!$H$6=\"Eilean Siar Local Authority\",0,new_ci(2,B246,C246,D246,$C$1,G246,1,F246,E246*F246)))","v":2.4732195840999172E-2},{"$f":"IF('III Tool Overview'!$H$6=\"Western Isles Health Board\",0,IF('III Tool Overview'!$H$6=\"Eilean Siar Local Authority\",0,new_ci(2,B246,C246,D246,$C$1,G246+H246,1,F246,E246*F246)))","v":2.4732195840999172E-2},{"$f":"IF('III Tool Overview'!$H$6=\"Western Isles Health Board\",0,IF('III Tool Overview'!$H$6=\"Eilean Siar Local Authority\",0,new_ci(5,B246,C246,D246,$C$1,G246,1,F246,E246*F246)))","v":0.10796741263017551},{"$f":"IF('III Tool Overview'!$H$6=\"Western Isles Health Board\",0,IF('III Tool Overview'!$H$6=\"Eilean Siar Local Authority\",0,new_ci(5,B246,C246,D246,$C$1,G246+H246,1,F246,E246*F246)))","v":0.10796741263017551},{"$f":"IF('III Tool Overview'!$H$6=\"Western Isles Health Board\",0,IF('III Tool Overview'!$H$6=\"Eilean Siar Local Authority\",0,new_ci(10,B246,C246,D246,$C$1,G246,1,F246,E246*F246)))","v":0.28234093086370926},{"$f":"IF('III Tool Overview'!$H$6=\"Western Isles Health Board\",0,IF('III Tool Overview'!$H$6=\"Eilean Siar Local Authority\",0,new_ci(10,B246,C246,D246,$C$1,G246+H246,1,F246,E246*F246)))","v":0.28234093086370926},{"$f":"IF('III Tool Overview'!$H$6=\"Western Isles Health Board\",0,IF('III Tool Overview'!$H$6=\"Eilean Siar Local Authority\",0,new_ci(20,B246,C246,D246,$C$1,G246,1,F246,E246*F246)))","v":0.81765642342299238},{"$f":"IF('III Tool Overview'!$H$6=\"Western Isles Health Board\",0,IF('III Tool Overview'!$H$6=\"Eilean Siar Local Authority\",0,new_ci(20,B246,C246,D246,$C$1,G246+H246,1,F246,E246*F246)))","v":0.81765642342299238},{"$f":"IF('III Tool Overview'!$H$6=\"Western Isles Health Board\",0,IF('III Tool Overview'!$H$6=\"Eilean Siar Local Authority\",0,new_yll(2,B246,C246,D246,$C$1,G246,1,F246,E246*F246)))","v":1.5086639463009495},{"$f":"IF('III Tool Overview'!$H$6=\"Western Isles Health Board\",0,IF('III Tool Overview'!$H$6=\"Eilean Siar Local Authority\",0,new_yll(2,B246,C246,D246,$C$1,G246+H246,1,F246,E246*F246)))","v":1.5086639463009495},0,{"$f":"IF('III Tool Overview'!$H$6=\"Western Isles Health Board\",0,IF('III Tool Overview'!$H$6=\"Eilean Siar Local Authority\",0,new_yll(5,B246,C246,D246,$C$1,G246,1,F246,E246*F246)))","v":6.4163880526700874},{"$f":"IF('III Tool Overview'!$H$6=\"Western Isles Health Board\",0,IF('III Tool Overview'!$H$6=\"Eilean Siar Local Authority\",0,new_yll(5,B246,C246,D246,$C$1,G246+H246,1,F246,E246*F246)))","v":6.4163880526700874},0,{"$f":"IF('III Tool Overview'!$H$6=\"Western Isles Health Board\",0,IF('III Tool Overview'!$H$6=\"Eilean Siar Local Authority\",0,new_yll(10,B246,C246,D246,$C$1,G246,1,F246,E246*F246)))","v":15.987271748602277},{"$f":"IF('III Tool Overview'!$H$6=\"Western Isles Health Board\",0,IF('III Tool Overview'!$H$6=\"Eilean Siar Local Authority\",0,new_yll(10,B246,C246,D246,$C$1,G246+H246,1,F246,E246*F246)))","v":15.987271748602277},0,{"$f":"IF('III Tool Overview'!$H$6=\"Western Isles Health Board\",0,IF('III Tool Overview'!$H$6=\"Eilean Siar Local Authority\",0,new_yll(20,B246,C246,D246,$C$1,G246,1,F246,E246*F246)))","v":41.171656528151097},{"$f":"IF('III Tool Overview'!$H$6=\"Western Isles Health Board\",0,IF('III Tool Overview'!$H$6=\"Eilean Siar Local Authority\",0,new_yll(20,B246,C246,D246,$C$1,G246+H246,1,F246,E246*F246)))","v":41.171656528151097},0,{"$f":"IF('III Tool Overview'!$H$6=\"Western Isles Health Board\",0,IF('III Tool Overview'!$H$6=\"Eilean Siar Local Authority\",0,hosp_count(2,B246,C246,D246,$C$1,G246,1,F246,E246*F246)))","v":1.9671022458319343},{"$f":"IF('III Tool Overview'!$H$6=\"Western Isles Health Board\",0,IF('III Tool Overview'!$H$6=\"Eilean Siar Local Authority\",0,hosp_count(2,B246,C246,D246,$C$1,G246+H246,1,F246,E246*F246)))","v":1.9671022458319343},0,{"$f":"IF('III Tool Overview'!$H$6=\"Western Isles Health Board\",0,IF('III Tool Overview'!$H$6=\"Eilean Siar Local Authority\",0,hosp_count(5,B246,C246,D246,$C$1,G246,1,F246,E246*F246)))","v":8.3001801176988117},{"$f":"IF('III Tool Overview'!$H$6=\"Western Isles Health Board\",0,IF('III Tool Overview'!$H$6=\"Eilean Siar Local Authority\",0,hosp_count(5,B246,C246,D246,$C$1,G246+H246,1,F246,E246*F246)))","v":8.3001801176988117},0,{"$f":"IF('III Tool Overview'!$H$6=\"Western Isles Health Board\",0,IF('III Tool Overview'!$H$6=\"Eilean Siar Local Authority\",0,hosp_count(10,B246,C246,D246,$C$1,G246,1,F246,E246*F246)))","v":20.44240934900661},{"$f":"IF('III Tool Overview'!$H$6=\"Western Isles Health Board\",0,IF('III Tool Overview'!$H$6=\"Eilean Siar Local Authority\",0,hosp_count(10,B246,C246,D246,$C$1,G246+H246,1,F246,E246*F246)))","v":20.44240934900661},0,{"$f":"IF('III Tool Overview'!$H$6=\"Western Isles Health Board\",0,IF('III Tool Overview'!$H$6=\"Eilean Siar Local Authority\",0,hosp_count(20,B246,C246,D246,$C$1,G246,1,F246,E246*F246)))","v":51.906099966311245},{"$f":"IF('III Tool Overview'!$H$6=\"Western Isles Health Board\",0,IF('III Tool Overview'!$H$6=\"Eilean Siar Local Authority\",0,hosp_count(20,B246,C246,D246,$C$1,G246+H246,1,F246,E246*F246)))","v":51.906099966311245},0]
["Male 40-44",42.5,"male",5,{"$f":"HLOOKUP('III Tool Overview'!$H$6,Prevalence!$B$2:$AV$268,Prevalence!AW235,FALSE)","v":2.8181818181818204E-2},{"$f":"HLOOKUP('III Tool Overview'!$H$6,LookUpData_Pop!$B$1:$AV$269,LookUpData_Pop!BB240,FALSE)/5","v":20.399999999999999},{"$f":"'III Tool Overview'!$H$9/110","v":0},{"$f":"IF('III Tool Overview'!$H$10=\"Even distribution\",Targeting!C237,IF('III Tool Overview'!$H$10=\"Targetting to Q1\",Targeting!D237,IF('III Tool Overview'!$H$10=\"Targeting to Q1 & Q2\",Targeting!E238,IF('III Tool Overview'!$H$10=\"Proportionate to need\",Targeting!F237))))","v":0},{"$f":"IF('III Tool Overview'!$H$6=\"Western Isles Health Board\",0,IF('III Tool Overview'!$H$6=\"Eilean Siar Local Authority\",0,new_ci(2,B247,C247,D247,$C$1,G247,1,F247,E247*F247)))","v":3.7435693140854508E-2},{"$f":"IF('III Tool Overview'!$H$6=\"Western Isles Health Board\",0,IF('III Tool Overview'!$H$6=\"Eilean Siar Local Authority\",0,new_ci(2,B247,C247,D247,$C$1,G247+H247,1,F247,E247*F247)))","v":3.7435693140854508E-2},{"$f":"IF('III Tool Overview'!$H$6=\"Western Isles Health Board\",0,IF('III Tool Overview'!$H$6=\"Eilean Siar Local Authority\",0,new_ci(5,B247,C247,D247,$C$1,G247,1,F247,E247*F247)))","v":0.16328811211098526},{"$f":"IF('III Tool Overview'!$H$6=\"Western Isles Health Board\",0,IF('III Tool Overview'!$H$6=\"Eilean Siar Local Authority\",0,new_ci(5,B247,C247,D247,$C$1,G247+H247,1,F247,E247*F247)))","v":0.16328811211098526},{"$f":"IF('III Tool Overview'!$H$6=\"Western Isles Health Board\",0,IF('III Tool Overview'!$H$6=\"Eilean Siar Local Authority\",0,new_ci(10,B247,C247,D247,$C$1,G247,1,F247,E247*F247)))","v":0.42626131585863364},{"$f":"IF('III Tool Overview'!$H$6=\"Western Isles Health Board\",0,IF('III Tool Overview'!$H$6=\"Eilean Siar Local Authority\",0,new_ci(10,B247,C247,D247,$C$1,G247+H247,1,F247,E247*F247)))","v":0.42626131585863364},{"$f":"IF('III Tool Overview'!$H$6=\"Western Isles Health Board\",0,IF('III Tool Overview'!$H$6=\"Eilean Siar Local Authority\",0,new_ci(20,B247,C247,D247,$C$1,G247,1,F247,E247*F247)))","v":1.2277670745396221},{"$f":"IF('III Tool Overview'!$H$6=\"Western Isles Health Board\",0,IF('III Tool Overview'!$H$6=\"Eilean Siar Local Authority\",0,new_ci(20,B247,C247,D247,$C$1,G247+H247,1,F247,E247*F247)))","v":1.2277670745396221},{"$f":"IF('III Tool Overview'!$H$6=\"Western Isles Health Board\",0,IF('III Tool Overview'!$H$6=\"Eilean Siar Local Authority\",0,new_yll(2,B247,C247,D247,$C$1,G247,1,F247,E247*F247)))","v":2.133834509028707},{"$f":"IF('III Tool Overview'!$H$6=\"Western Isles Health Board\",0,IF('III Tool Overview'!$H$6=\"Eilean Siar Local Authority\",0,new_yll(2,B247,C247,D247,$C$1,G247+H247,1,F247,E247*F247)))","v":2.133834509028707},0,{"$f":"IF('III Tool Overview'!$H$6=\"Western Isles Health Board\",0,IF('III Tool Overview'!$H$6=\"Eilean Siar Local Authority\",0,new_yll(5,B247,C247,D247,$C$1,G247,1,F247,E247*F247)))","v":9.0509956859238887},{"$f":"IF('III Tool Overview'!$H$6=\"Western Isles Health Board\",0,IF('III Tool Overview'!$H$6=\"Eilean Siar Local Authority\",0,new_yll(5,B247,C247,D247,$C$1,G247+H247,1,F247,E247*F247)))","v":9.0509956859238887},0,{"$f":"IF('III Tool Overview'!$H$6=\"Western Isles Health Board\",0,IF('III Tool Overview'!$H$6=\"Eilean Siar Local Authority\",0,new_yll(10,B247,C247,D247,$C$1,G247,1,F247,E247*F247)))","v":22.433348387189298},{"$f":"IF('III Tool Overview'!$H$6=\"Western Isles Health Board\",0,IF('III Tool Overview'!$H$6=\"Eilean Siar Local Authority\",0,new_yll(10,B247,C247,D247,$C$1,G247+H247,1,F247,E247*F247)))","v":22.433348387189298},0,{"$f":"IF('III Tool Overview'!$H$6=\"Western Isles Health Board\",0,IF('III Tool Overview'!$H$6=\"Eilean Siar Local Authority\",0,new_yll(20,B247,C247,D247,$C$1,G247,1,F247,E247*F247)))","v":56.942040652090185},{"$f":"IF('III Tool Overview'!$H$6=\"Western Isles Health Board\",0,IF('III Tool Overview'!$H$6=\"Eilean Siar Local Authority\",0,new_yll(20,B247,C247,D247,$C$1,G247+H247,1,F247,E247*F247)))","v":56.942040652090185},0,{"$f":"IF('III Tool Overview'!$H$6=\"Western Isles Health Board\",0,IF('III Tool Overview'!$H$6=\"Eilean Siar Local Authority\",0,hosp_count(2,B247,C247,D247,$C$1,G247,1,F247,E247*F247)))","v":2.563293523160501},{"$f":"IF('III Tool Overview'!$H$6=\"Western Isles Health Board\",0,IF('III Tool Overview'!$H$6=\"Eilean Siar Local Authority\",0,hosp_count(2,B247,C247,D247,$C$1,G247+H247,1,F247,E247*F247)))","v":2.563293523160501},0,{"$f":"IF('III Tool Overview'!$H$6=\"Western Isles Health Board\",0,IF('III Tool Overview'!$H$6=\"Eilean Siar Local Authority\",0,hosp_count(5,B247,C247,D247,$C$1,G247,1,F247,E247*F247)))","v":10.807764388433203},{"$f":"IF('III Tool Overview'!$H$6=\"Western Isles Health Board\",0,IF('III Tool Overview'!$H$6=\"Eilean Siar Local Authority\",0,hosp_count(5,B247,C247,D247,$C$1,G247+H247,1,F247,E247*F247)))","v":10.807764388433203},0,{"$f":"IF('III Tool Overview'!$H$6=\"Western Isles Health Board\",0,IF('III Tool Overview'!$H$6=\"Eilean Siar Local Authority\",0,hosp_count(10,B247,C247,D247,$C$1,G247,1,F247,E247*F247)))","v":26.577793812643591},{"$f":"IF('III Tool Overview'!$H$6=\"Western Isles Health Board\",0,IF('III Tool Overview'!$H$6=\"Eilean Siar Local Authority\",0,hosp_count(10,B247,C247,D247,$C$1,G247+H247,1,F247,E247*F247)))","v":26.577793812643591},0,{"$f":"IF('III Tool Overview'!$H$6=\"Western Isles Health Board\",0,IF('III Tool Overview'!$H$6=\"Eilean Siar Local Authority\",0,hosp_count(20,B247,C247,D247,$C$1,G247,1,F247,E247*F247)))","v":67.180405662376188},{"$f":"IF('III Tool Overview'!$H$6=\"Western Isles Health Board\",0,IF('III Tool Overview'!$H$6=\"Eilean Siar Local Authority\",0,hosp_count(20,B247,C247,D247,$C$1,G247+H247,1,F247,E247*F247)))","v":67.180405662376188},0]
["Male 45-49",47.5,"male",5,{"$f":"HLOOKUP('III Tool Overview'!$H$6,Prevalence!$B$2:$AV$268,Prevalence!AW236,FALSE)","v":2.8181818181818204E-2},{"$f":"HLOOKUP('III Tool Overview'!$H$6,LookUpData_Pop!$B$1:$AV$269,LookUpData_Pop!BB241,FALSE)/5","v":25.4},{"$f":"'III Tool Overview'!$H$9/110","v":0},{"$f":"IF('III Tool Overview'!$H$10=\"Even distribution\",Targeting!C238,IF('III Tool Overview'!$H$10=\"Targetting to Q1\",Targeting!D238,IF('III Tool Overview'!$H$10=\"Targeting to Q1 & Q2\",Targeting!E239,IF('III Tool Overview'!$H$10=\"Proportionate to need\",Targeting!F238))))","v":0},{"$f":"IF('III Tool Overview'!$H$6=\"Western Isles Health Board\",0,IF('III Tool Overview'!$H$6=\"Eilean Siar Local Authority\",0,new_ci(2,B248,C248,D248,$C$1,G248,1,F248,E248*F248)))","v":7.1933264923820753E-2},{"$f":"IF('III Tool Overview'!$H$6=\"Western Isles Health Board\",0,IF('III Tool Overview'!$H$6=\"Eilean Siar Local Authority\",0,new_ci(2,B248,C248,D248,$C$1,G248+H248,1,F248,E248*F248)))","v":7.1933264923820753E-2},{"$f":"IF('III Tool Overview'!$H$6=\"Western Isles Health Board\",0,IF('III Tool Overview'!$H$6=\"Eilean Siar Local Authority\",0,new_ci(5,B248,C248,D248,$C$1,G248,1,F248,E248*F248)))","v":0.31322858613599958},{"$f":"IF('III Tool Overview'!$H$6=\"Western Isles Health Board\",0,IF('III Tool Overview'!$H$6=\"Eilean Siar Local Authority\",0,new_ci(5,B248,C248,D248,$C$1,G248+H248,1,F248,E248*F248)))","v":0.31322858613599958},{"$f":"IF('III Tool Overview'!$H$6=\"Western Isles Health Board\",0,IF('III Tool Overview'!$H$6=\"Eilean Siar Local Authority\",0,new_ci(10,B248,C248,D248,$C$1,G248,1,F248,E248*F248)))","v":0.8147687692971769},{"$f":"IF('III Tool Overview'!$H$6=\"Western Isles Health Board\",0,IF('III Tool Overview'!$H$6=\"Eilean Siar Local Authority\",0,new_ci(10,B248,C248,D248,$C$1,G248+H248,1,F248,E248*F248)))","v":0.8147687692971769},{"$f":"IF('III Tool Overview'!$H$6=\"Western Isles Health Board\",0,IF('III Tool Overview'!$H$6=\"Eilean Siar Local Authority\",0,new_ci(20,B248,C248,D248,$C$1,G248,1,F248,E248*F248)))","v":2.3210514280112413},{"$f":"IF('III Tool Overview'!$H$6=\"Western Isles Health Board\",0,IF('III Tool Overview'!$H$6=\"Eilean Siar Local Authority\",0,new_ci(20,B248,C248,D248,$C$1,G248+H248,1,F248,E248*F248)))","v":2.3210514280112413},{"$f":"IF('III Tool Overview'!$H$6=\"Western Isles Health Board\",0,IF('III Tool Overview'!$H$6=\"Eilean Siar Local Authority\",0,new_yll(2,B248,C248,D248,$C$1,G248,1,F248,E248*F248)))","v":3.6685965111148584},{"$f":"IF('III Tool Overview'!$H$6=\"Western Isles Health Board\",0,IF('III Tool Overview'!$H$6=\"Eilean Siar Local Authority\",0,new_yll(2,B248,C248,D248,$C$1,G248+H248,1,F248,E248*F248)))","v":3.6685965111148584},0,{"$f":"IF('III Tool Overview'!$H$6=\"Western Isles Health Board\",0,IF('III Tool Overview'!$H$6=\"Eilean Siar Local Authority\",0,new_yll(5,B248,C248,D248,$C$1,G248,1,F248,E248*F248)))","v":15.483196209795867},{"$f":"IF('III Tool Overview'!$H$6=\"Western Isles Health Board\",0,IF('III Tool Overview'!$H$6=\"Eilean Siar Local Authority\",0,new_yll(5,B248,C248,D248,$C$1,G248+H248,1,F248,E248*F248)))","v":15.483196209795867},0,{"$f":"IF('III Tool Overview'!$H$6=\"Western Isles Health Board\",0,IF('III Tool Overview'!$H$6=\"Eilean Siar Local Authority\",0,new_yll(10,B248,C248,D248,$C$1,G248,1,F248,E248*F248)))","v":37.998095399908919},{"$f":"IF('III Tool Overview'!$H$6=\"Western Isles Health Board\",0,IF('III Tool Overview'!$H$6=\"Eilean Siar Local Authority\",0,new_yll(10,B248,C248,D248,$C$1,G248+H248,1,F248,E248*F248)))","v":37.998095399908919},0,{"$f":"IF('III Tool Overview'!$H$6=\"Western Isles Health Board\",0,IF('III Tool Overview'!$H$6=\"Eilean Siar Local Authority\",0,new_yll(20,B248,C248,D248,$C$1,G248,1,F248,E248*F248)))","v":93.840733552481737},{"$f":"IF('III Tool Overview'!$H$6=\"Western Isles Health Board\",0,IF('III Tool Overview'!$H$6=\"Eilean Siar Local Authority\",0,new_yll(20,B248,C248,D248,$C$1,G248+H248,1,F248,E248*F248)))","v":93.840733552481737},0,{"$f":"IF('III Tool Overview'!$H$6=\"Western Isles Health Board\",0,IF('III Tool Overview'!$H$6=\"Eilean Siar Local Authority\",0,hosp_count(2,B248,C248,D248,$C$1,G248,1,F248,E248*F248)))","v":3.9347985691684935},{"$f":"IF('III Tool Overview'!$H$6=\"Western Isles Health Board\",0,IF('III Tool Overview'!$H$6=\"Eilean Siar Local Authority\",0,hosp_count(2,B248,C248,D248,$C$1,G248+H248,1,F248,E248*F248)))","v":3.9347985691684935},0,{"$f":"IF('III Tool Overview'!$H$6=\"Western Isles Health Board\",0,IF('III Tool Overview'!$H$6=\"Eilean Siar Local Authority\",0,hosp_count(5,B248,C248,D248,$C$1,G248,1,F248,E248*F248)))","v":16.563907990145047},{"$f":"IF('III Tool Overview'!$H$6=\"Western Isles Health Board\",0,IF('III Tool Overview'!$H$6=\"Eilean Siar Local Authority\",0,hosp_count(5,B248,C248,D248,$C$1,G248+H248,1,F248,E248*F248)))","v":16.563907990145047},0,{"$f":"IF('III Tool Overview'!$H$6=\"Western Isles Health Board\",0,IF('III Tool Overview'!$H$6=\"Eilean Siar Local Authority\",0,hosp_count(10,B248,C248,D248,$C$1,G248,1,F248,E248*F248)))","v":40.599411871803248},{"$f":"IF('III Tool Overview'!$H$6=\"Western Isles Health Board\",0,IF('III Tool Overview'!$H$6=\"Eilean Siar Local Authority\",0,hosp_count(10,B248,C248,D248,$C$1,G248+H248,1,F248,E248*F248)))","v":40.599411871803248},0,{"$f":"IF('III Tool Overview'!$H$6=\"Western Isles Health Board\",0,IF('III Tool Overview'!$H$6=\"Eilean Siar Local Authority\",0,hosp_count(20,B248,C248,D248,$C$1,G248,1,F248,E248*F248)))","v":101.63102042914922},{"$f":"IF('III Tool Overview'!$H$6=\"Western Isles Health Board\",0,IF('III Tool Overview'!$H$6=\"Eilean Siar Local Authority\",0,hosp_count(20,B248,C248,D248,$C$1,G248+H248,1,F248,E248*F248)))","v":101.63102042914922},0]
["Male 50-54",52.5,"male",5,{"$f":"HLOOKUP('III Tool Overview'!$H$6,Prevalence!$B$2:$AV$268,Prevalence!AW237,FALSE)","v":7.5151515151515108E-2},{"$f":"HLOOKUP('III Tool Overview'!$H$6,LookUpData_Pop!$B$1:$AV$269,LookUpData_Pop!BB242,FALSE)/5","v":30.6},{"$f":"'III Tool Overview'!$H$9/110","v":0},{"$f":"IF('III Tool Overview'!$H$10=\"Even distribution\",Targeting!C239,IF('III Tool Overview'!$H$10=\"Targetting to Q1\",Targeting!D239,IF('III Tool Overview'!$H$10=\"Targeting to Q1 & Q2\",Targeting!E240,IF('III Tool Overview'!$H$10=\"Proportionate to need\",Targeting!F239))))","v":0},{"$f":"IF('III Tool Overview'!$H$6=\"Western Isles Health Board\",0,IF('III Tool Overview'!$H$6=\"Eilean Siar Local Authority\",0,new_ci(2,B249,C249,D249,$C$1,G249,1,F249,E249*F249)))","v":0.11571080162553404},{"$f":"IF('III Tool Overview'!$H$6=\"Western Isles Health Board\",0,IF('III Tool Overview'!$H$6=\"Eilean Siar Local Authority\",0,new_ci(2,B249,C249,D249,$C$1,G249+H249,1,F249,E249*F249)))","v":0.11571080162553404},{"$f":"IF('III Tool Overview'!$H$6=\"Western Isles Health Board\",0,IF('III Tool Overview'!$H$6=\"Eilean Siar Local Authority\",0,new_ci(5,B249,C249,D249,$C$1,G249,1,F249,E249*F249)))","v":0.50301095603599477},{"$f":"IF('III Tool Overview'!$H$6=\"Western Isles Health Board\",0,IF('III Tool Overview'!$H$6=\"Eilean Siar Local Authority\",0,new_ci(5,B249,C249,D249,$C$1,G249+H249,1,F249,E249*F249)))","v":0.50301095603599477},{"$f":"IF('III Tool Overview'!$H$6=\"Western Isles Health Board\",0,IF('III Tool Overview'!$H$6=\"Eilean Siar Local Authority\",0,new_ci(10,B249,C249,D249,$C$1,G249,1,F249,E249*F249)))","v":1.3038415334118321},{"$f":"IF('III Tool Overview'!$H$6=\"Western Isles Health Board\",0,IF('III Tool Overview'!$H$6=\"Eilean Siar Local Authority\",0,new_ci(10,B249,C249,D249,$C$1,G249+H249,1,F249,E249*F249)))","v":1.3038415334118321},{"$f":"IF('III Tool Overview'!$H$6=\"Western Isles Health Board\",0,IF('III Tool Overview'!$H$6=\"Eilean Siar Local Authority\",0,new_ci(20,B249,C249,D249,$C$1,G249,1,F249,E249*F249)))","v":3.6744247372743359},{"$f":"IF('III Tool Overview'!$H$6=\"Western Isles Health Board\",0,IF('III Tool Overview'!$H$6=\"Eilean Siar Local Authority\",0,new_ci(20,B249,C249,D249,$C$1,G249+H249,1,F249,E249*F249)))","v":3.6744247372743359},{"$f":"IF('III Tool Overview'!$H$6=\"Western Isles Health Board\",0,IF('III Tool Overview'!$H$6=\"Eilean Siar Local Authority\",0,new_yll(2,B249,C249,D249,$C$1,G249,1,F249,E249*F249)))","v":5.4384076764001001},{"$f":"IF('III Tool Overview'!$H$6=\"Western Isles Health Board\",0,IF('III Tool Overview'!$H$6=\"Eilean Siar Local Authority\",0,new_yll(2,B249,C249,D249,$C$1,G249+H249,1,F249,E249*F249)))","v":5.4384076764001001},0,{"$f":"IF('III Tool Overview'!$H$6=\"Western Isles Health Board\",0,IF('III Tool Overview'!$H$6=\"Eilean Siar Local Authority\",0,new_yll(5,B249,C249,D249,$C$1,G249,1,F249,E249*F249)))","v":22.852964817034483},{"$f":"IF('III Tool Overview'!$H$6=\"Western Isles Health Board\",0,IF('III Tool Overview'!$H$6=\"Eilean Siar Local Authority\",0,new_yll(5,B249,C249,D249,$C$1,G249+H249,1,F249,E249*F249)))","v":22.852964817034483},0,{"$f":"IF('III Tool Overview'!$H$6=\"Western Isles Health Board\",0,IF('III Tool Overview'!$H$6=\"Eilean Siar Local Authority\",0,new_yll(10,B249,C249,D249,$C$1,G249,1,F249,E249*F249)))","v":55.602403534524456},{"$f":"IF('III Tool Overview'!$H$6=\"Western Isles Health Board\",0,IF('III Tool Overview'!$H$6=\"Eilean Siar Local Authority\",0,new_yll(10,B249,C249,D249,$C$1,G249+H249,1,F249,E249*F249)))","v":55.602403534524456},0,{"$f":"IF('III Tool Overview'!$H$6=\"Western Isles Health Board\",0,IF('III Tool Overview'!$H$6=\"Eilean Siar Local Authority\",0,new_yll(20,B249,C249,D249,$C$1,G249,1,F249,E249*F249)))","v":134.04781114065455},{"$f":"IF('III Tool Overview'!$H$6=\"Western Isles Health Board\",0,IF('III Tool Overview'!$H$6=\"Eilean Siar Local Authority\",0,new_yll(20,B249,C249,D249,$C$1,G249+H249,1,F249,E249*F249)))","v":134.04781114065455},0,{"$f":"IF('III Tool Overview'!$H$6=\"Western Isles Health Board\",0,IF('III Tool Overview'!$H$6=\"Eilean Siar Local Authority\",0,hosp_count(2,B249,C249,D249,$C$1,G249,1,F249,E249*F249)))","v":5.4503445586728887},{"$f":"IF('III Tool Overview'!$H$6=\"Western Isles Health Board\",0,IF('III Tool Overview'!$H$6=\"Eilean Siar Local Authority\",0,hosp_count(2,B249,C249,D249,$C$1,G249+H249,1,F249,E249*F249)))","v":5.4503445586728887},0,{"$f":"IF('III Tool Overview'!$H$6=\"Western Isles Health Board\",0,IF('III Tool Overview'!$H$6=\"Eilean Siar Local Authority\",0,hosp_count(5,B249,C249,D249,$C$1,G249,1,F249,E249*F249)))","v":22.908647475389738},{"$f":"IF('III Tool Overview'!$H$6=\"Western Isles Health Board\",0,IF('III Tool Overview'!$H$6=\"Eilean Siar Local Authority\",0,hosp_count(5,B249,C249,D249,$C$1,G249+H249,1,F249,E249*F249)))","v":22.908647475389738},0,{"$f":"IF('III Tool Overview'!$H$6=\"Western Isles Health Board\",0,IF('III Tool Overview'!$H$6=\"Eilean Siar Local Authority\",0,hosp_count(10,B249,C249,D249,$C$1,G249,1,F249,E249*F249)))","v":55.975720626967792},{"$f":"IF('III Tool Overview'!$H$6=\"Western Isles Health Board\",0,IF('III Tool Overview'!$H$6=\"Eilean Siar Local Authority\",0,hosp_count(10,B249,C249,D249,$C$1,G249+H249,1,F249,E249*F249)))","v":55.975720626967792},0,{"$f":"IF('III Tool Overview'!$H$6=\"Western Isles Health Board\",0,IF('III Tool Overview'!$H$6=\"Eilean Siar Local Authority\",0,hosp_count(20,B249,C249,D249,$C$1,G249,1,F249,E249*F249)))","v":138.84227314704103},{"$f":"IF('III Tool Overview'!$H$6=\"Western Isles Health Board\",0,IF('III Tool Overview'!$H$6=\"Eilean Siar Local Authority\",0,hosp_count(20,B249,C249,D249,$C$1,G249+H249,1,F249,E249*F249)))","v":138.84227314704103},0]
["Male 55-59",57.5,"male",5,{"$f":"HLOOKUP('III Tool Overview'!$H$6,Prevalence!$B$2:$AV$268,Prevalence!AW238,FALSE)","v":0.15030303030303033},{"$f":"HLOOKUP('III Tool Overview'!$H$6,LookUpData_Pop!$B$1:$AV$269,LookUpData_Pop!BB243,FALSE)/5","v":33.200000000000003},{"$f":"'III Tool Overview'!$H$9/110","v":0},{"$f":"IF('III Tool Overview'!$H$10=\"Even distribution\",Targeting!C240,IF('III Tool Overview'!$H$10=\"Targetting to Q1\",Targeting!D240,IF('III Tool Overview'!$H$10=\"Targeting to Q1 & Q2\",Targeting!E241,IF('III Tool Overview'!$H$10=\"Proportionate to need\",Targeting!F240))))","v":0},{"$f":"IF('III Tool Overview'!$H$6=\"Western Isles Health Board\",0,IF('III Tool Overview'!$H$6=\"Eilean Siar Local Authority\",0,new_ci(2,B250,C250,D250,$C$1,G250,1,F250,E250*F250)))","v":0.1936275639412445},{"$f":"IF('III Tool Overview'!$H$6=\"Western Isles Health Board\",0,IF('III Tool Overview'!$H$6=\"Eilean Siar Local Authority\",0,new_ci(2,B250,C250,D250,$C$1,G250+H250,1,F250,E250*F250)))","v":0.1936275639412445},{"$f":"IF('III Tool Overview'!$H$6=\"Western Isles Health Board\",0,IF('III Tool Overview'!$H$6=\"Eilean Siar Local Authority\",0,new_ci(5,B250,C250,D250,$C$1,G250,1,F250,E250*F250)))","v":0.83858976791796758},{"$f":"IF('III Tool Overview'!$H$6=\"Western Isles Health Board\",0,IF('III Tool Overview'!$H$6=\"Eilean Siar Local Authority\",0,new_ci(5,B250,C250,D250,$C$1,G250+H250,1,F250,E250*F250)))","v":0.83858976791796758},{"$f":"IF('III Tool Overview'!$H$6=\"Western Isles Health Board\",0,IF('III Tool Overview'!$H$6=\"Eilean Siar Local Authority\",0,new_ci(10,B250,C250,D250,$C$1,G250,1,F250,E250*F250)))","v":2.1568197365438855},{"$f":"IF('III Tool Overview'!$H$6=\"Western Isles Health Board\",0,IF('III Tool Overview'!$H$6=\"Eilean Siar Local Authority\",0,new_ci(10,B250,C250,D250,$C$1,G250+H250,1,F250,E250*F250)))","v":2.1568197365438855},{"$f":"IF('III Tool Overview'!$H$6=\"Western Isles Health Board\",0,IF('III Tool Overview'!$H$6=\"Eilean Siar Local Authority\",0,new_ci(20,B250,C250,D250,$C$1,G250,1,F250,E250*F250)))","v":5.9361834262912812},{"$f":"IF('III Tool Overview'!$H$6=\"Western Isles Health Board\",0,IF('III Tool Overview'!$H$6=\"Eilean Siar Local Authority\",0,new_ci(20,B250,C250,D250,$C$1,G250+H250,1,F250,E250*F250)))","v":5.9361834262912812},{"$f":"IF('III Tool Overview'!$H$6=\"Western Isles Health Board\",0,IF('III Tool Overview'!$H$6=\"Eilean Siar Local Authority\",0,new_yll(2,B250,C250,D250,$C$1,G250,1,F250,E250*F250)))","v":7.9387301215910249},{"$f":"IF('III Tool Overview'!$H$6=\"Western Isles Health Board\",0,IF('III Tool Overview'!$H$6=\"Eilean Siar Local Authority\",0,new_yll(2,B250,C250,D250,$C$1,G250+H250,1,F250,E250*F250)))","v":7.9387301215910249},0,{"$f":"IF('III Tool Overview'!$H$6=\"Western Isles Health Board\",0,IF('III Tool Overview'!$H$6=\"Eilean Siar Local Authority\",0,new_yll(5,B250,C250,D250,$C$1,G250,1,F250,E250*F250)))","v":33.070098603639323},{"$f":"IF('III Tool Overview'!$H$6=\"Western Isles Health Board\",0,IF('III Tool Overview'!$H$6=\"Eilean Siar Local Authority\",0,new_yll(5,B250,C250,D250,$C$1,G250+H250,1,F250,E250*F250)))","v":33.070098603639323},0,{"$f":"IF('III Tool Overview'!$H$6=\"Western Isles Health Board\",0,IF('III Tool Overview'!$H$6=\"Eilean Siar Local Authority\",0,new_yll(10,B250,C250,D250,$C$1,G250,1,F250,E250*F250)))","v":79.077151031113772},{"$f":"IF('III Tool Overview'!$H$6=\"Western Isles Health Board\",0,IF('III Tool Overview'!$H$6=\"Eilean Siar Local Authority\",0,new_yll(10,B250,C250,D250,$C$1,G250+H250,1,F250,E250*F250)))","v":79.077151031113772},0,{"$f":"IF('III Tool Overview'!$H$6=\"Western Isles Health Board\",0,IF('III Tool Overview'!$H$6=\"Eilean Siar Local Authority\",0,new_yll(20,B250,C250,D250,$C$1,G250,1,F250,E250*F250)))","v":181.61555150453182},{"$f":"IF('III Tool Overview'!$H$6=\"Western Isles Health Board\",0,IF('III Tool Overview'!$H$6=\"Eilean Siar Local Authority\",0,new_yll(20,B250,C250,D250,$C$1,G250+H250,1,F250,E250*F250)))","v":181.61555150453182},0,{"$f":"IF('III Tool Overview'!$H$6=\"Western Isles Health Board\",0,IF('III Tool Overview'!$H$6=\"Eilean Siar Local Authority\",0,hosp_count(2,B250,C250,D250,$C$1,G250,1,F250,E250*F250)))","v":7.2905657488409812},{"$f":"IF('III Tool Overview'!$H$6=\"Western Isles Health Board\",0,IF('III Tool Overview'!$H$6=\"Eilean Siar Local Authority\",0,hosp_count(2,B250,C250,D250,$C$1,G250+H250,1,F250,E250*F250)))","v":7.2905657488409812},0,{"$f":"IF('III Tool Overview'!$H$6=\"Western Isles Health Board\",0,IF('III Tool Overview'!$H$6=\"Eilean Siar Local Authority\",0,hosp_count(5,B250,C250,D250,$C$1,G250,1,F250,E250*F250)))","v":30.542104223627963},{"$f":"IF('III Tool Overview'!$H$6=\"Western Isles Health Board\",0,IF('III Tool Overview'!$H$6=\"Eilean Siar Local Authority\",0,hosp_count(5,B250,C250,D250,$C$1,G250+H250,1,F250,E250*F250)))","v":30.542104223627963},0,{"$f":"IF('III Tool Overview'!$H$6=\"Western Isles Health Board\",0,IF('III Tool Overview'!$H$6=\"Eilean Siar Local Authority\",0,hosp_count(10,B250,C250,D250,$C$1,G250,1,F250,E250*F250)))","v":74.127002130864639},{"$f":"IF('III Tool Overview'!$H$6=\"Western Isles Health Board\",0,IF('III Tool Overview'!$H$6=\"Eilean Siar Local Authority\",0,hosp_count(10,B250,C250,D250,$C$1,G250+H250,1,F250,E250*F250)))","v":74.127002130864639},0,{"$f":"IF('III Tool Overview'!$H$6=\"Western Isles Health Board\",0,IF('III Tool Overview'!$H$6=\"Eilean Siar Local Authority\",0,hosp_count(20,B250,C250,D250,$C$1,G250,1,F250,E250*F250)))","v":180.30634989060584},{"$f":"IF('III Tool Overview'!$H$6=\"Western Isles Health Board\",0,IF('III Tool Overview'!$H$6=\"Eilean Siar Local Authority\",0,hosp_count(20,B250,C250,D250,$C$1,G250+H250,1,F250,E250*F250)))","v":180.30634989060584},0]
["Male 60-64",62.5,"male",5,{"$f":"HLOOKUP('III Tool Overview'!$H$6,Prevalence!$B$2:$AV$268,Prevalence!AW239,FALSE)","v":0.40393939393939399},{"$f":"HLOOKUP('III Tool Overview'!$H$6,LookUpData_Pop!$B$1:$AV$269,LookUpData_Pop!BB244,FALSE)/5","v":20.6},{"$f":"'III Tool Overview'!$H$9/110","v":0},{"$f":"IF('III Tool Overview'!$H$10=\"Even distribution\",Targeting!C241,IF('III Tool Overview'!$H$10=\"Targetting to Q1\",Targeting!D241,IF('III Tool Overview'!$H$10=\"Targeting to Q1 & Q2\",Targeting!E242,IF('III Tool Overview'!$H$10=\"Proportionate to need\",Targeting!F241))))","v":0},{"$f":"IF('III Tool Overview'!$H$6=\"Western Isles Health Board\",0,IF('III Tool Overview'!$H$6=\"Eilean Siar Local Authority\",0,new_ci(2,B251,C251,D251,$C$1,G251,1,F251,E251*F251)))","v":0.1603221784175401},{"$f":"IF('III Tool Overview'!$H$6=\"Western Isles Health Board\",0,IF('III Tool Overview'!$H$6=\"Eilean Siar Local Authority\",0,new_ci(2,B251,C251,D251,$C$1,G251+H251,1,F251,E251*F251)))","v":0.1603221784175401},{"$f":"IF('III Tool Overview'!$H$6=\"Western Isles Health Board\",0,IF('III Tool Overview'!$H$6=\"Eilean Siar Local Authority\",0,new_ci(5,B251,C251,D251,$C$1,G251,1,F251,E251*F251)))","v":0.6918015671597697},{"$f":"IF('III Tool Overview'!$H$6=\"Western Isles Health Board\",0,IF('III Tool Overview'!$H$6=\"Eilean Siar Local Authority\",0,new_ci(5,B251,C251,D251,$C$1,G251+H251,1,F251,E251*F251)))","v":0.6918015671597697},{"$f":"IF('III Tool Overview'!$H$6=\"Western Isles Health Board\",0,IF('III Tool Overview'!$H$6=\"Eilean Siar Local Authority\",0,new_ci(10,B251,C251,D251,$C$1,G251,1,F251,E251*F251)))","v":1.7657701912436208},{"$f":"IF('III Tool Overview'!$H$6=\"Western Isles Health Board\",0,IF('III Tool Overview'!$H$6=\"Eilean Siar Local Authority\",0,new_ci(10,B251,C251,D251,$C$1,G251+H251,1,F251,E251*F251)))","v":1.7657701912436208},{"$f":"IF('III Tool Overview'!$H$6=\"Western Isles Health Board\",0,IF('III Tool Overview'!$H$6=\"Eilean Siar Local Authority\",0,new_ci(20,B251,C251,D251,$C$1,G251,1,F251,E251*F251)))","v":4.7501839549745668},{"$f":"IF('III Tool Overview'!$H$6=\"Western Isles Health Board\",0,IF('III Tool Overview'!$H$6=\"Eilean Siar Local Authority\",0,new_ci(20,B251,C251,D251,$C$1,G251+H251,1,F251,E251*F251)))","v":4.7501839549745668},{"$f":"IF('III Tool Overview'!$H$6=\"Western Isles Health Board\",0,IF('III Tool Overview'!$H$6=\"Eilean Siar Local Authority\",0,new_yll(2,B251,C251,D251,$C$1,G251,1,F251,E251*F251)))","v":5.9319206014489838},{"$f":"IF('III Tool Overview'!$H$6=\"Western Isles Health Board\",0,IF('III Tool Overview'!$H$6=\"Eilean Siar Local Authority\",0,new_yll(2,B251,C251,D251,$C$1,G251+H251,1,F251,E251*F251)))","v":5.9319206014489838},0,{"$f":"IF('III Tool Overview'!$H$6=\"Western Isles Health Board\",0,IF('III Tool Overview'!$H$6=\"Eilean Siar Local Authority\",0,new_yll(5,B251,C251,D251,$C$1,G251,1,F251,E251*F251)))","v":24.516311494492758},{"$f":"IF('III Tool Overview'!$H$6=\"Western Isles Health Board\",0,IF('III Tool Overview'!$H$6=\"Eilean Siar Local Authority\",0,new_yll(5,B251,C251,D251,$C$1,G251+H251,1,F251,E251*F251)))","v":24.516311494492758},0,{"$f":"IF('III Tool Overview'!$H$6=\"Western Isles Health Board\",0,IF('III Tool Overview'!$H$6=\"Eilean Siar Local Authority\",0,new_yll(10,B251,C251,D251,$C$1,G251,1,F251,E251*F251)))","v":57.709259629785564},{"$f":"IF('III Tool Overview'!$H$6=\"Western Isles Health Board\",0,IF('III Tool Overview'!$H$6=\"Eilean Siar Local Authority\",0,new_yll(10,B251,C251,D251,$C$1,G251+H251,1,F251,E251*F251)))","v":57.709259629785564},0,{"$f":"IF('III Tool Overview'!$H$6=\"Western Isles Health Board\",0,IF('III Tool Overview'!$H$6=\"Eilean Siar Local Authority\",0,new_yll(20,B251,C251,D251,$C$1,G251,1,F251,E251*F251)))","v":126.85901728555592},{"$f":"IF('III Tool Overview'!$H$6=\"Western Isles Health Board\",0,IF('III Tool Overview'!$H$6=\"Eilean Siar Local Authority\",0,new_yll(20,B251,C251,D251,$C$1,G251+H251,1,F251,E251*F251)))","v":126.85901728555592},0,{"$f":"IF('III Tool Overview'!$H$6=\"Western Isles Health Board\",0,IF('III Tool Overview'!$H$6=\"Eilean Siar Local Authority\",0,hosp_count(2,B251,C251,D251,$C$1,G251,1,F251,E251*F251)))","v":5.2012066748858885},{"$f":"IF('III Tool Overview'!$H$6=\"Western Isles Health Board\",0,IF('III Tool Overview'!$H$6=\"Eilean Siar Local Authority\",0,hosp_count(2,B251,C251,D251,$C$1,G251+H251,1,F251,E251*F251)))","v":5.2012066748858885},0,{"$f":"IF('III Tool Overview'!$H$6=\"Western Isles Health Board\",0,IF('III Tool Overview'!$H$6=\"Eilean Siar Local Authority\",0,hosp_count(5,B251,C251,D251,$C$1,G251,1,F251,E251*F251)))","v":21.720583825720826},{"$f":"IF('III Tool Overview'!$H$6=\"Western Isles Health Board\",0,IF('III Tool Overview'!$H$6=\"Eilean Siar Local Authority\",0,hosp_count(5,B251,C251,D251,$C$1,G251+H251,1,F251,E251*F251)))","v":21.720583825720826},0,{"$f":"IF('III Tool Overview'!$H$6=\"Western Isles Health Board\",0,IF('III Tool Overview'!$H$6=\"Eilean Siar Local Authority\",0,hosp_count(10,B251,C251,D251,$C$1,G251,1,F251,E251*F251)))","v":52.381641852818909},{"$f":"IF('III Tool Overview'!$H$6=\"Western Isles Health Board\",0,IF('III Tool Overview'!$H$6=\"Eilean Siar Local Authority\",0,hosp_count(10,B251,C251,D251,$C$1,G251+H251,1,F251,E251*F251)))","v":52.381641852818909},0,{"$f":"IF('III Tool Overview'!$H$6=\"Western Isles Health Board\",0,IF('III Tool Overview'!$H$6=\"Eilean Siar Local Authority\",0,hosp_count(20,B251,C251,D251,$C$1,G251,1,F251,E251*F251)))","v":125.11360111087765},{"$f":"IF('III Tool Overview'!$H$6=\"Western Isles Health Board\",0,IF('III Tool Overview'!$H$6=\"Eilean Siar Local Authority\",0,hosp_count(20,B251,C251,D251,$C$1,G251+H251,1,F251,E251*F251)))","v":125.11360111087765},0]
["Male 65-69",67.5,"male",5,{"$f":"HLOOKUP('III Tool Overview'!$H$6,Prevalence!$B$2:$AV$268,Prevalence!AW240,FALSE)","v":0.84545454545454546},{"$f":"HLOOKUP('III Tool Overview'!$H$6,LookUpData_Pop!$B$1:$AV$269,LookUpData_Pop!BB245,FALSE)/5","v":14.8},{"$f":"'III Tool Overview'!$H$9/110","v":0},{"$f":"IF('III Tool Overview'!$H$10=\"Even distribution\",Targeting!C242,IF('III Tool Overview'!$H$10=\"Targetting to Q1\",Targeting!D242,IF('III Tool Overview'!$H$10=\"Targeting to Q1 & Q2\",Targeting!E243,IF('III Tool Overview'!$H$10=\"Proportionate to need\",Targeting!F242))))","v":0},{"$f":"IF('III Tool Overview'!$H$6=\"Western Isles Health Board\",0,IF('III Tool Overview'!$H$6=\"Eilean Siar Local Authority\",0,new_ci(2,B252,C252,D252,$C$1,G252,1,F252,E252*F252)))","v":0.17749353024143066},{"$f":"IF('III Tool Overview'!$H$6=\"Western Isles Health Board\",0,IF('III Tool Overview'!$H$6=\"Eilean Siar Local Authority\",0,new_ci(2,B252,C252,D252,$C$1,G252+H252,1,F252,E252*F252)))","v":0.17749353024143066},{"$f":"IF('III Tool Overview'!$H$6=\"Western Isles Health Board\",0,IF('III Tool Overview'!$H$6=\"Eilean Siar Local Authority\",0,new_ci(5,B252,C252,D252,$C$1,G252,1,F252,E252*F252)))","v":0.76080135878279875},{"$f":"IF('III Tool Overview'!$H$6=\"Western Isles Health Board\",0,IF('III Tool Overview'!$H$6=\"Eilean Siar Local Authority\",0,new_ci(5,B252,C252,D252,$C$1,G252+H252,1,F252,E252*F252)))","v":0.76080135878279875},{"$f":"IF('III Tool Overview'!$H$6=\"Western Isles Health Board\",0,IF('III Tool Overview'!$H$6=\"Eilean Siar Local Authority\",0,new_ci(10,B252,C252,D252,$C$1,G252,1,F252,E252*F252)))","v":1.9151634983043015},{"$f":"IF('III Tool Overview'!$H$6=\"Western Isles Health Board\",0,IF('III Tool Overview'!$H$6=\"Eilean Siar Local Authority\",0,new_ci(10,B252,C252,D252,$C$1,G252+H252,1,F252,E252*F252)))","v":1.9151634983043015},{"$f":"IF('III Tool Overview'!$H$6=\"Western Isles Health Board\",0,IF('III Tool Overview'!$H$6=\"Eilean Siar Local Authority\",0,new_ci(20,B252,C252,D252,$C$1,G252,1,F252,E252*F252)))","v":4.9431997782256731},{"$f":"IF('III Tool Overview'!$H$6=\"Western Isles Health Board\",0,IF('III Tool Overview'!$H$6=\"Eilean Siar Local Authority\",0,new_ci(20,B252,C252,D252,$C$1,G252+H252,1,F252,E252*F252)))","v":4.9431997782256731},{"$f":"IF('III Tool Overview'!$H$6=\"Western Isles Health Board\",0,IF('III Tool Overview'!$H$6=\"Eilean Siar Local Authority\",0,new_yll(2,B252,C252,D252,$C$1,G252,1,F252,E252*F252)))","v":5.5022994374843508},{"$f":"IF('III Tool Overview'!$H$6=\"Western Isles Health Board\",0,IF('III Tool Overview'!$H$6=\"Eilean Siar Local Authority\",0,new_yll(2,B252,C252,D252,$C$1,G252+H252,1,F252,E252*F252)))","v":5.5022994374843508},0,{"$f":"IF('III Tool Overview'!$H$6=\"Western Isles Health Board\",0,IF('III Tool Overview'!$H$6=\"Eilean Siar Local Authority\",0,new_yll(5,B252,C252,D252,$C$1,G252,1,F252,E252*F252)))","v":22.40088870004627},{"$f":"IF('III Tool Overview'!$H$6=\"Western Isles Health Board\",0,IF('III Tool Overview'!$H$6=\"Eilean Siar Local Authority\",0,new_yll(5,B252,C252,D252,$C$1,G252+H252,1,F252,E252*F252)))","v":22.40088870004627},0,{"$f":"IF('III Tool Overview'!$H$6=\"Western Isles Health Board\",0,IF('III Tool Overview'!$H$6=\"Eilean Siar Local Authority\",0,new_yll(10,B252,C252,D252,$C$1,G252,1,F252,E252*F252)))","v":51.165509266895739},{"$f":"IF('III Tool Overview'!$H$6=\"Western Isles Health Board\",0,IF('III Tool Overview'!$H$6=\"Eilean Siar Local Authority\",0,new_yll(10,B252,C252,D252,$C$1,G252+H252,1,F252,E252*F252)))","v":51.165509266895739},0,{"$f":"IF('III Tool Overview'!$H$6=\"Western Isles Health Board\",0,IF('III Tool Overview'!$H$6=\"Eilean Siar Local Authority\",0,new_yll(20,B252,C252,D252,$C$1,G252,1,F252,E252*F252)))","v":103.38054107057854},{"$f":"IF('III Tool Overview'!$H$6=\"Western Isles Health Board\",0,IF('III Tool Overview'!$H$6=\"Eilean Siar Local Authority\",0,new_yll(20,B252,C252,D252,$C$1,G252+H252,1,F252,E252*F252)))","v":103.38054107057854},0,{"$f":"IF('III Tool Overview'!$H$6=\"Western Isles Health Board\",0,IF('III Tool Overview'!$H$6=\"Eilean Siar Local Authority\",0,hosp_count(2,B252,C252,D252,$C$1,G252,1,F252,E252*F252)))","v":4.6070107080413853},{"$f":"IF('III Tool Overview'!$H$6=\"Western Isles Health Board\",0,IF('III Tool Overview'!$H$6=\"Eilean Siar Local Authority\",0,hosp_count(2,B252,C252,D252,$C$1,G252+H252,1,F252,E252*F252)))","v":4.6070107080413853},0,{"$f":"IF('III Tool Overview'!$H$6=\"Western Isles Health Board\",0,IF('III Tool Overview'!$H$6=\"Eilean Siar Local Authority\",0,hosp_count(5,B252,C252,D252,$C$1,G252,1,F252,E252*F252)))","v":19.109324771165149},{"$f":"IF('III Tool Overview'!$H$6=\"Western Isles Health Board\",0,IF('III Tool Overview'!$H$6=\"Eilean Siar Local Authority\",0,hosp_count(5,B252,C252,D252,$C$1,G252+H252,1,F252,E252*F252)))","v":19.109324771165149},0,{"$f":"IF('III Tool Overview'!$H$6=\"Western Isles Health Board\",0,IF('III Tool Overview'!$H$6=\"Eilean Siar Local Authority\",0,hosp_count(10,B252,C252,D252,$C$1,G252,1,F252,E252*F252)))","v":45.45834632129602},{"$f":"IF('III Tool Overview'!$H$6=\"Western Isles Health Board\",0,IF('III Tool Overview'!$H$6=\"Eilean Siar Local Authority\",0,hosp_count(10,B252,C252,D252,$C$1,G252+H252,1,F252,E252*F252)))","v":45.45834632129602},0,{"$f":"IF('III Tool Overview'!$H$6=\"Western Isles Health Board\",0,IF('III Tool Overview'!$H$6=\"Eilean Siar Local Authority\",0,hosp_count(20,B252,C252,D252,$C$1,G252,1,F252,E252*F252)))","v":104.43915345144643},{"$f":"IF('III Tool Overview'!$H$6=\"Western Isles Health Board\",0,IF('III Tool Overview'!$H$6=\"Eilean Siar Local Authority\",0,hosp_count(20,B252,C252,D252,$C$1,G252+H252,1,F252,E252*F252)))","v":104.43915345144643},0]
["Male 70-74",72.5,"male",5,{"$f":"HLOOKUP('III Tool Overview'!$H$6,Prevalence!$B$2:$AV$268,Prevalence!AW241,FALSE)","v":0},{"$f":"HLOOKUP('III Tool Overview'!$H$6,LookUpData_Pop!$B$1:$AV$269,LookUpData_Pop!BB246,FALSE)/5","v":11.2}]
["Male 75-79",77.5,"male",5,{"$f":"HLOOKUP('III Tool Overview'!$H$6,Prevalence!$B$2:$AV$268,Prevalence!AW242,FALSE)","v":0},{"$f":"HLOOKUP('III Tool Overview'!$H$6,LookUpData_Pop!$B$1:$AV$269,LookUpData_Pop!BB247,FALSE)/5","v":10}]
["Male 80-84",82.5,"male",5,{"$f":"HLOOKUP('III Tool Overview'!$H$6,Prevalence!$B$2:$AV$268,Prevalence!AW243,FALSE)","v":0},{"$f":"HLOOKUP('III Tool Overview'!$H$6,LookUpData_Pop!$B$1:$AV$269,LookUpData_Pop!BB248,FALSE)/5","v":6.6}]
["Male 85-89",87.5,"male",5,{"$f":"HLOOKUP('III Tool Overview'!$H$6,Prevalence!$B$2:$AV$268,Prevalence!AW244,FALSE)","v":0},{"$f":"HLOOKUP('III Tool Overview'!$H$6,LookUpData_Pop!$B$1:$AV$269,LookUpData_Pop!BB249,FALSE)/5","v":5.4}]
["Male 90+",95,"male",5,null,{"$f":"HLOOKUP('III Tool Overview'!$H$6,LookUpData_Pop!$B$1:$AV$269,LookUpData_Pop!BB250,FALSE)/5","v":0.6}]
["TOTAL",null,null,null,null,{"$f":"SUM(F242:F252)","v":220.79999999999998},0,0,0.80947200881549342,0.80947200881549342,3.5020299065201859,3.5020299065201859,8.9884122991742306,8.9884122991742306,24.615340076001683,24.615340076001683,34.216730495294151,34.216730495294151,0,142.75178284092965,142.75178284092965,0,342.56422739360147,342.56422739360147,0,797.90910934492149,797.90910934492149,0,34.777357222213404,34.777357222213404,0,145.85229030155458,145.85229030155458,0,354.83138063656827,354.83138063656827,0,869.96391753385683,869.96391753385683,0]
["Female <1",0.5,"female",5,null,{"$f":"HLOOKUP('III Tool Overview'!$H$6,LookUpData_Pop!$B$1:$AV$269,LookUpData_Pop!BB251,FALSE)/5","v":2.8}]
["Female 1-4",2.5,"female",5,null,{"$f":"HLOOKUP('III Tool Overview'!$H$6,LookUpData_Pop!$B$1:$AV$269,LookUpData_Pop!BB252,FALSE)/5","v":9.1999999999999993}]
["Female 5-9",7.5,"female",5,null,{"$f":"HLOOKUP('III Tool Overview'!$H$6,LookUpData_Pop!$B$1:$AV$269,LookUpData_Pop!BB253,FALSE)/5","v":14.6}]
["Female 10-14",12.5,"female",5,null,{"$f":"HLOOKUP('III Tool Overview'!$H$6,LookUpData_Pop!$B$1:$AV$269,LookUpData_Pop!BB254,FALSE)/5","v":18.2}]
["Female 15-19",17.5,"female",5,{"$f":"HLOOKUP('III Tool Overview'!$H$6,Prevalence!$B$2:$AV$268,Prevalence!AW250,FALSE)","v":4.7619047619047623E-2},{"$f":"HLOOKUP('III Tool Overview'!$H$6,LookUpData_Pop!$B$1:$AV$269,LookUpData_Pop!BB255,FALSE)/5","v":26.6},{"$f":"'III Tool Overview'!$H$9/110","v":0},{"$f":"IF('III Tool Overview'!$H$10=\"Even distribution\",Targeting!C252,IF('III Tool Overview'!$H$10=\"Targeting to Q1\",Targeting!D252,IF('III Tool Overview'!$H$10=\"Targeting to Q1 & Q2\",Targeting!E252,IF('III Tool Overview'!$H$10=\"Proportionate to need\",Targeting!F252))))","v":0},{"$f":"IF('III Tool Overview'!$H$6=\"Western Isles Health Board\",0,IF('III Tool Overview'!$H$6=\"Eilean Siar Local Authority\",0,new_ci(2,B263,C263,D263,$C$1,G263,1,F263,E263*F263)))","v":3.5246386029792465E-3},{"$f":"IF('III Tool Overview'!$H$6=\"Western Isles Health Board\",0,IF('III Tool Overview'!$H$6=\"Eilean Siar Local Authority\",0,new_ci(2,B263,C263,D263,$C$1,G263+H263,1,F263,E263*F263)))","v":3.5246386029792465E-3},{"$f":"IF('III Tool Overview'!$H$6=\"Western Isles Health Board\",0,IF('III Tool Overview'!$H$6=\"Eilean Siar Local Authority\",0,new_ci(5,B263,C263,D263,$C$1,G263,1,F263,E263*F263)))","v":1.5652511739470486E-2},{"$f":"IF('III Tool Overview'!$H$6=\"Western Isles Health Board\",0,IF('III Tool Overview'!$H$6=\"Eilean Siar Local Authority\",0,new_ci(5,B263,C263,D263,$C$1,G263+H263,1,F263,E263*F263)))","v":1.5652511739470486E-2},{"$f":"IF('III Tool Overview'!$H$6=\"Western Isles Health Board\",0,IF('III Tool Overview'!$H$6=\"Eilean Siar Local Authority\",0,new_ci(10,B263,C263,D263,$C$1,G263,1,F263,E263*F263)))","v":4.2239448198570777E-2},{"$f":"IF('III Tool Overview'!$H$6=\"Western Isles Health Board\",0,IF('III Tool Overview'!$H$6=\"Eilean Siar Local Authority\",0,new_ci(10,B263,C263,D263,$C$1,G263+H263,1,F263,E263*F263)))","v":4.2239448198570777E-2},{"$f":"IF('III Tool Overview'!$H$6=\"Western Isles Health Board\",0,IF('III Tool Overview'!$H$6=\"Eilean Siar Local Authority\",0,new_ci(20,B263,C263,D263,$C$1,G263,1,F263,E263*F263)))","v":0.1318292888675377},{"$f":"IF('III Tool Overview'!$H$6=\"Western Isles Health Board\",0,IF('III Tool Overview'!$H$6=\"Eilean Siar Local Authority\",0,new_ci(20,B263,C263,D263,$C$1,G263+H263,1,F263,E263*F263)))","v":0.1318292888675377},{"$f":"IF('III Tool Overview'!$H$6=\"Western Isles Health Board\",0,IF('III Tool Overview'!$H$6=\"Eilean Siar Local Authority\",0,new_yll(2,B263,C263,D263,$C$1,G263,1,F263,E263*F263)))","v":0.28549572684131896},{"$f":"IF('III Tool Overview'!$H$6=\"Western Isles Health Board\",0,IF('III Tool Overview'!$H$6=\"Eilean Siar Local Authority\",0,new_yll(2,B263,C263,D263,$C$1,G263+H263,1,F263,E263*F263)))","v":0.28549572684131896},{"$f":"Q263-R263","v":0},{"$f":"IF('III Tool Overview'!$H$6=\"Western Isles Health Board\",0,IF('III Tool Overview'!$H$6=\"Eilean Siar Local Authority\",0,new_yll(5,B263,C263,D263,$C$1,G263,1,F263,E263*F263)))","v":1.2430500725301639},{"$f":"IF('III Tool Overview'!$H$6=\"Western Isles Health Board\",0,IF('III Tool Overview'!$H$6=\"Eilean Siar Local Authority\",0,new_yll(5,B263,C263,D263,$C$1,G263+H263,1,F263,E263*F263)))","v":1.2430500725301639},{"$f":"T263-U263","v":0},{"$f":"IF('III Tool Overview'!$H$6=\"Western Isles Health Board\",0,IF('III Tool Overview'!$H$6=\"Eilean Siar Local Authority\",0,new_yll(10,B263,C263,D263,$C$1,G263,1,F263,E263*F263)))","v":3.233475708014748},{"$f":"IF('III Tool Overview'!$H$6=\"Western Isles Health Board\",0,IF('III Tool Overview'!$H$6=\"Eilean Siar Local Authority\",0,new_yll(10,B263,C263,D263,$C$1,G263+H263,1,F263,E263*F263)))","v":3.233475708014748},{"$f":"W263-X263","v":0},{"$f":"IF('III Tool Overview'!$H$6=\"Western Isles Health Board\",0,IF('III Tool Overview'!$H$6=\"Eilean Siar Local Authority\",0,new_yll(20,B263,C263,D263,$C$1,G263,1,F263,E263*F263)))","v":9.2312104529110943},{"$f":"IF('III Tool Overview'!$H$6=\"Western Isles Health Board\",0,IF('III Tool Overview'!$H$6=\"Eilean Siar Local Authority\",0,new_yll(20,B263,C263,D263,$C$1,G263+H263,1,F263,E263*F263)))","v":9.2312104529110943},{"$f":"Z263-AA263","v":0},{"$f":"IF('III Tool Overview'!$H$6=\"Western Isles Health Board\",0,IF('III Tool Overview'!$H$6=\"Eilean Siar Local Authority\",0,hosp_count(2,B263,C263,D263,$C$1,G263,1,F263,E263*F263)))","v":2.0852099035111564},{"$f":"IF('III Tool Overview'!$H$6=\"Western Isles Health Board\",0,IF('III Tool Overview'!$H$6=\"Eilean Siar Local Authority\",0,hosp_count(2,B263,C263,D263,$C$1,G263+H263,1,F263,E263*F263)))","v":2.0852099035111564},{"$f":"AC263-AD263","v":0},{"$f":"IF('III Tool Overview'!$H$6=\"Western Isles Health Board\",0,IF('III Tool Overview'!$H$6=\"Eilean Siar Local Authority\",0,hosp_count(5,B263,C263,D263,$C$1,G263,1,F263,E263*F263)))","v":8.6781846948765278},{"$f":"IF('III Tool Overview'!$H$6=\"Western Isles Health Board\",0,IF('III Tool Overview'!$H$6=\"Eilean Siar Local Authority\",0,hosp_count(5,B263,C263,D263,$C$1,G263+H263,1,F263,E263*F263)))","v":8.6781846948765278},{"$f":"AF263-AG263","v":0},{"$f":"IF('III Tool Overview'!$H$6=\"Western Isles Health Board\",0,IF('III Tool Overview'!$H$6=\"Eilean Siar Local Authority\",0,hosp_count(10,B263,C263,D263,$C$1,G263,1,F263,E263*F263)))","v":20.881952193724956},{"$f":"IF('III Tool Overview'!$H$6=\"Western Isles Health Board\",0,IF('III Tool Overview'!$H$6=\"Eilean Siar Local Authority\",0,hosp_count(10,B263,C263,D263,$C$1,G263+H263,1,F263,E263*F263)))","v":20.881952193724956},{"$f":"AI263-AJ263","v":0},{"$f":"IF('III Tool Overview'!$H$6=\"Western Isles Health Board\",0,IF('III Tool Overview'!$H$6=\"Eilean Siar Local Authority\",0,hosp_count(20,B263,C263,D263,$C$1,G263,1,F263,E263*F263)))","v":50.612560057392315},{"$f":"IF('III Tool Overview'!$H$6=\"Western Isles Health Board\",0,IF('III Tool Overview'!$H$6=\"Eilean Siar Local Authority\",0,hosp_count(20,B263,C263,D263,$C$1,G263+H263,1,F263,E263*F263)))","v":50.612560057392315},{"$f":"AL263-AM263","v":0}]
["Female 20-24",22.5,"female",5,{"$f":"HLOOKUP('III Tool Overview'!$H$6,Prevalence!$B$2:$AV$268,Prevalence!AW251,FALSE)","v":7.6190476190476197E-2},{"$f":"HLOOKUP('III Tool Overview'!$H$6,LookUpData_Pop!$B$1:$AV$269,LookUpData_Pop!BB256,FALSE)/5","v":10.8},{"$f":"'III Tool Overview'!$H$9/110","v":0},{"$f":"IF('III Tool Overview'!$H$10=\"Even distribution\",Targeting!C253,IF('III Tool Overview'!$H$10=\"Targeting to Q1\",Targeting!D253,IF('III Tool Overview'!$H$10=\"Targeting to Q1 & Q2\",Targeting!E253,IF('III Tool Overview'!$H$10=\"Proportionate to need\",Targeting!F253))))","v":0},{"$f":"IF('III Tool Overview'!$H$6=\"Western Isles Health Board\",0,IF('III Tool Overview'!$H$6=\"Eilean Siar Local Authority\",0,new_ci(2,B264,C264,D264,$C$1,G264,1,F264,E264*F264)))","v":1.9859460884294354E-3},{"$f":"IF('III Tool Overview'!$H$6=\"Western Isles Health Board\",0,IF('III Tool Overview'!$H$6=\"Eilean Siar Local Authority\",0,new_ci(2,B264,C264,D264,$C$1,G264+H264,1,F264,E264*F264)))","v":1.9859460884294354E-3},{"$f":"IF('III Tool Overview'!$H$6=\"Western Isles Health Board\",0,IF('III Tool Overview'!$H$6=\"Eilean Siar Local Authority\",0,new_ci(5,B264,C264,D264,$C$1,G264,1,F264,E264*F264)))","v":8.8185212372194899E-3},{"$f":"IF('III Tool Overview'!$H$6=\"Western Isles Health Board\",0,IF('III Tool Overview'!$H$6=\"Eilean Siar Local Authority\",0,new_ci(5,B264,C264,D264,$C$1,G264+H264,1,F264,E264*F264)))","v":8.8185212372194899E-3},{"$f":"IF('III Tool Overview'!$H$6=\"Western Isles Health Board\",0,IF('III Tool Overview'!$H$6=\"Eilean Siar Local Authority\",0,new_ci(10,B264,C264,D264,$C$1,G264,1,F264,E264*F264)))","v":2.3792482271325757E-2},{"$f":"IF('III Tool Overview'!$H$6=\"Western Isles Health Board\",0,IF('III Tool Overview'!$H$6=\"Eilean Siar Local Authority\",0,new_ci(10,B264,C264,D264,$C$1,G264+H264,1,F264,E264*F264)))","v":2.3792482271325757E-2},{"$f":"IF('III Tool Overview'!$H$6=\"Western Isles Health Board\",0,IF('III Tool Overview'!$H$6=\"Eilean Siar Local Authority\",0,new_ci(20,B264,C264,D264,$C$1,G264,1,F264,E264*F264)))","v":7.4204307200354078E-2},{"$f":"IF('III Tool Overview'!$H$6=\"Western Isles Health Board\",0,IF('III Tool Overview'!$H$6=\"Eilean Siar Local Authority\",0,new_ci(20,B264,C264,D264,$C$1,G264+H264,1,F264,E264*F264)))","v":7.4204307200354078E-2},{"$f":"IF('III Tool Overview'!$H$6=\"Western Isles Health Board\",0,IF('III Tool Overview'!$H$6=\"Eilean Siar Local Authority\",0,new_yll(2,B264,C264,D264,$C$1,G264,1,F264,E264*F264)))","v":0.15291784880906653},{"$f":"IF('III Tool Overview'!$H$6=\"Western Isles Health Board\",0,IF('III Tool Overview'!$H$6=\"Eilean Siar Local Authority\",0,new_yll(2,B264,C264,D264,$C$1,G264+H264,1,F264,E264*F264)))","v":0.15291784880906653},0,{"$f":"IF('III Tool Overview'!$H$6=\"Western Isles Health Board\",0,IF('III Tool Overview'!$H$6=\"Eilean Siar Local Authority\",0,new_yll(5,B264,C264,D264,$C$1,G264,1,F264,E264*F264)))","v":0.66505274828255423},{"$f":"IF('III Tool Overview'!$H$6=\"Western Isles Health Board\",0,IF('III Tool Overview'!$H$6=\"Eilean Siar Local Authority\",0,new_yll(5,B264,C264,D264,$C$1,G264+H264,1,F264,E264*F264)))","v":0.66505274828255423},{"$f":"T264-U264","v":0},{"$f":"IF('III Tool Overview'!$H$6=\"Western Isles Health Board\",0,IF('III Tool Overview'!$H$6=\"Eilean Siar Local Authority\",0,new_yll(10,B264,C264,D264,$C$1,G264,1,F264,E264*F264)))","v":1.7261819551226698},{"$f":"IF('III Tool Overview'!$H$6=\"Western Isles Health Board\",0,IF('III Tool Overview'!$H$6=\"Eilean Siar Local Authority\",0,new_yll(10,B264,C264,D264,$C$1,G264+H264,1,F264,E264*F264)))","v":1.7261819551226698},{"$f":"W264-X264","v":0},{"$f":"IF('III Tool Overview'!$H$6=\"Western Isles Health Board\",0,IF('III Tool Overview'!$H$6=\"Eilean Siar Local Authority\",0,new_yll(20,B264,C264,D264,$C$1,G264,1,F264,E264*F264)))","v":4.899492107153832},{"$f":"IF('III Tool Overview'!$H$6=\"Western Isles Health Board\",0,IF('III Tool Overview'!$H$6=\"Eilean Siar Local Authority\",0,new_yll(20,B264,C264,D264,$C$1,G264+H264,1,F264,E264*F264)))","v":4.899492107153832},{"$f":"Z264-AA264","v":0},{"$f":"IF('III Tool Overview'!$H$6=\"Western Isles Health Board\",0,IF('III Tool Overview'!$H$6=\"Eilean Siar Local Authority\",0,hosp_count(2,B264,C264,D264,$C$1,G264,1,F264,E264*F264)))","v":0.93434247876759791},{"$f":"IF('III Tool Overview'!$H$6=\"Western Isles Health Board\",0,IF('III Tool Overview'!$H$6=\"Eilean Siar Local Authority\",0,hosp_count(2,B264,C264,D264,$C$1,G264+H264,1,F264,E264*F264)))","v":0.93434247876759791},{"$f":"AC264-AD264","v":0},{"$f":"IF('III Tool Overview'!$H$6=\"Western Isles Health Board\",0,IF('III Tool Overview'!$H$6=\"Eilean Siar Local Authority\",0,hosp_count(5,B264,C264,D264,$C$1,G264,1,F264,E264*F264)))","v":3.8882059849618789},{"$f":"IF('III Tool Overview'!$H$6=\"Western Isles Health Board\",0,IF('III Tool Overview'!$H$6=\"Eilean Siar Local Authority\",0,hosp_count(5,B264,C264,D264,$C$1,G264+H264,1,F264,E264*F264)))","v":3.8882059849618789},{"$f":"AF264-AG264","v":0},{"$f":"IF('III Tool Overview'!$H$6=\"Western Isles Health Board\",0,IF('III Tool Overview'!$H$6=\"Eilean Siar Local Authority\",0,hosp_count(10,B264,C264,D264,$C$1,G264,1,F264,E264*F264)))","v":9.3544144604960078},{"$f":"IF('III Tool Overview'!$H$6=\"Western Isles Health Board\",0,IF('III Tool Overview'!$H$6=\"Eilean Siar Local Authority\",0,hosp_count(10,B264,C264,D264,$C$1,G264+H264,1,F264,E264*F264)))","v":9.3544144604960078},{"$f":"AI264-AJ264","v":0},{"$f":"IF('III Tool Overview'!$H$6=\"Western Isles Health Board\",0,IF('III Tool Overview'!$H$6=\"Eilean Siar Local Authority\",0,hosp_count(20,B264,C264,D264,$C$1,G264,1,F264,E264*F264)))","v":22.66064988104781},{"$f":"IF('III Tool Overview'!$H$6=\"Western Isles Health Board\",0,IF('III Tool Overview'!$H$6=\"Eilean Siar Local Authority\",0,hosp_count(20,B264,C264,D264,$C$1,G264+H264,1,F264,E264*F264)))","v":22.66064988104781},{"$f":"AL264-AM264","v":0}]
["Female 25-29",27.5,"female",5,{"$f":"HLOOKUP('III Tool Overview'!$H$6,Prevalence!$B$2:$AV$268,Prevalence!AW252,FALSE)","v":0.10476190476190475},{"$f":"HLOOKUP('III Tool Overview'!$H$6,LookUpData_Pop!$B$1:$AV$269,LookUpData_Pop!BB257,FALSE)/5","v":15.8},{"$f":"'III Tool Overview'!$H$9/110","v":0},{"$f":"IF('III Tool Overview'!$H$10=\"Even distribution\",Targeting!C254,IF('III Tool Overview'!$H$10=\"Targeting to Q1\",Targeting!D254,IF('III Tool Overview'!$H$10=\"Targeting to Q1 & Q2\",Targeting!E254,IF('III Tool Overview'!$H$10=\"Proportionate to need\",Targeting!F254))))","v":0},{"$f":"IF('III Tool Overview'!$H$6=\"Western Isles Health Board\",0,IF('III Tool Overview'!$H$6=\"Eilean Siar Local Authority\",0,new_ci(2,B265,C265,D265,$C$1,G265,1,F265,E265*F265)))","v":4.7496128314986844E-3},{"$f":"IF('III Tool Overview'!$H$6=\"Western Isles Health Board\",0,IF('III Tool Overview'!$H$6=\"Eilean Siar Local Authority\",0,new_ci(2,B265,C265,D265,$C$1,G265+H265,1,F265,E265*F265)))","v":4.7496128314986844E-3},{"$f":"IF('III Tool Overview'!$H$6=\"Western Isles Health Board\",0,IF('III Tool Overview'!$H$6=\"Eilean Siar Local Authority\",0,new_ci(5,B265,C265,D265,$C$1,G265,1,F265,E265*F265)))","v":2.1086034716932645E-2},{"$f":"IF('III Tool Overview'!$H$6=\"Western Isles Health Board\",0,IF('III Tool Overview'!$H$6=\"Eilean Siar Local Authority\",0,new_ci(5,B265,C265,D265,$C$1,G265+H265,1,F265,E265*F265)))","v":2.1086034716932645E-2},{"$f":"IF('III Tool Overview'!$H$6=\"Western Isles Health Board\",0,IF('III Tool Overview'!$H$6=\"Eilean Siar Local Authority\",0,new_ci(10,B265,C265,D265,$C$1,G265,1,F265,E265*F265)))","v":5.6864085330615405E-2},{"$f":"IF('III Tool Overview'!$H$6=\"Western Isles Health Board\",0,IF('III Tool Overview'!$H$6=\"Eilean Siar Local Authority\",0,new_ci(10,B265,C265,D265,$C$1,G265+H265,1,F265,E265*F265)))","v":5.6864085330615405E-2},{"$f":"IF('III Tool Overview'!$H$6=\"Western Isles Health Board\",0,IF('III Tool Overview'!$H$6=\"Eilean Siar Local Authority\",0,new_ci(20,B265,C265,D265,$C$1,G265,1,F265,E265*F265)))","v":0.17707214690488834},{"$f":"IF('III Tool Overview'!$H$6=\"Western Isles Health Board\",0,IF('III Tool Overview'!$H$6=\"Eilean Siar Local Authority\",0,new_ci(20,B265,C265,D265,$C$1,G265+H265,1,F265,E265*F265)))","v":0.17707214690488834},{"$f":"IF('III Tool Overview'!$H$6=\"Western Isles Health Board\",0,IF('III Tool Overview'!$H$6=\"Eilean Siar Local Authority\",0,new_yll(2,B265,C265,D265,$C$1,G265,1,F265,E265*F265)))","v":0.3372225110364066},{"$f":"IF('III Tool Overview'!$H$6=\"Western Isles Health Board\",0,IF('III Tool Overview'!$H$6=\"Eilean Siar Local Authority\",0,new_yll(2,B265,C265,D265,$C$1,G265+H265,1,F265,E265*F265)))","v":0.3372225110364066},0,{"$f":"IF('III Tool Overview'!$H$6=\"Western Isles Health Board\",0,IF('III Tool Overview'!$H$6=\"Eilean Siar Local Authority\",0,new_yll(5,B265,C265,D265,$C$1,G265,1,F265,E265*F265)))","v":1.4637001679982349},{"$f":"IF('III Tool Overview'!$H$6=\"Western Isles Health Board\",0,IF('III Tool Overview'!$H$6=\"Eilean Siar Local Authority\",0,new_yll(5,B265,C265,D265,$C$1,G265+H265,1,F265,E265*F265)))","v":1.4637001679982349},0,{"$f":"IF('III Tool Overview'!$H$6=\"Western Isles Health Board\",0,IF('III Tool Overview'!$H$6=\"Eilean Siar Local Authority\",0,new_yll(10,B265,C265,D265,$C$1,G265,1,F265,E265*F265)))","v":3.784455314094731},{"$f":"IF('III Tool Overview'!$H$6=\"Western Isles Health Board\",0,IF('III Tool Overview'!$H$6=\"Eilean Siar Local Authority\",0,new_yll(10,B265,C265,D265,$C$1,G265+H265,1,F265,E265*F265)))","v":3.784455314094731},0,{"$f":"IF('III Tool Overview'!$H$6=\"Western Isles Health Board\",0,IF('III Tool Overview'!$H$6=\"Eilean Siar Local Authority\",0,new_yll(20,B265,C265,D265,$C$1,G265,1,F265,E265*F265)))","v":10.630337071975068},{"$f":"IF('III Tool Overview'!$H$6=\"Western Isles Health Board\",0,IF('III Tool Overview'!$H$6=\"Eilean Siar Local Authority\",0,new_yll(20,B265,C265,D265,$C$1,G265+H265,1,F265,E265*F265)))","v":10.630337071975068},0,{"$f":"IF('III Tool Overview'!$H$6=\"Western Isles Health Board\",0,IF('III Tool Overview'!$H$6=\"Eilean Siar Local Authority\",0,hosp_count(2,B265,C265,D265,$C$1,G265,1,F265,E265*F265)))","v":1.584749851601434},{"$f":"IF('III Tool Overview'!$H$6=\"Western Isles Health Board\",0,IF('III Tool Overview'!$H$6=\"Eilean Siar Local Authority\",0,hosp_count(2,B265,C265,D265,$C$1,G265+H265,1,F265,E265*F265)))","v":1.584749851601434},0,{"$f":"IF('III Tool Overview'!$H$6=\"Western Isles Health Board\",0,IF('III Tool Overview'!$H$6=\"Eilean Siar Local Authority\",0,hosp_count(5,B265,C265,D265,$C$1,G265,1,F265,E265*F265)))","v":6.5935954364386049},{"$f":"IF('III Tool Overview'!$H$6=\"Western Isles Health Board\",0,IF('III Tool Overview'!$H$6=\"Eilean Siar Local Authority\",0,hosp_count(5,B265,C265,D265,$C$1,G265+H265,1,F265,E265*F265)))","v":6.5935954364386049},0,{"$f":"IF('III Tool Overview'!$H$6=\"Western Isles Health Board\",0,IF('III Tool Overview'!$H$6=\"Eilean Siar Local Authority\",0,hosp_count(10,B265,C265,D265,$C$1,G265,1,F265,E265*F265)))","v":15.856951796980518},{"$f":"IF('III Tool Overview'!$H$6=\"Western Isles Health Board\",0,IF('III Tool Overview'!$H$6=\"Eilean Siar Local Authority\",0,hosp_count(10,B265,C265,D265,$C$1,G265+H265,1,F265,E265*F265)))","v":15.856951796980518},0,{"$f":"IF('III Tool Overview'!$H$6=\"Western Isles Health Board\",0,IF('III Tool Overview'!$H$6=\"Eilean Siar Local Authority\",0,hosp_count(20,B265,C265,D265,$C$1,G265,1,F265,E265*F265)))","v":38.366343003708288},{"$f":"IF('III Tool Overview'!$H$6=\"Western Isles Health Board\",0,IF('III Tool Overview'!$H$6=\"Eilean Siar Local Authority\",0,hosp_count(20,B265,C265,D265,$C$1,G265+H265,1,F265,E265*F265)))","v":38.366343003708288},0]
["Female 30-34",32.5,"female",5,{"$f":"HLOOKUP('III Tool Overview'!$H$6,Prevalence!$B$2:$AV$268,Prevalence!AW253,FALSE)","v":0.12380952380952383},{"$f":"HLOOKUP('III Tool Overview'!$H$6,LookUpData_Pop!$B$1:$AV$269,LookUpData_Pop!BB258,FALSE)/5","v":17.8},{"$f":"'III Tool Overview'!$H$9/110","v":0},{"$f":"IF('III Tool Overview'!$H$10=\"Even distribution\",Targeting!C255,IF('III Tool Overview'!$H$10=\"Targeting to Q1\",Targeting!D255,IF('III Tool Overview'!$H$10=\"Targeting to Q1 & Q2\",Targeting!E255,IF('III Tool Overview'!$H$10=\"Proportionate to need\",Targeting!F255))))","v":0},{"$f":"IF('III Tool Overview'!$H$6=\"Western Isles Health Board\",0,IF('III Tool Overview'!$H$6=\"Eilean Siar Local Authority\",0,new_ci(2,B266,C266,D266,$C$1,G266,1,F266,E266*F266)))","v":7.4253654632643329E-3},{"$f":"IF('III Tool Overview'!$H$6=\"Western Isles Health Board\",0,IF('III Tool Overview'!$H$6=\"Eilean Siar Local Authority\",0,new_ci(2,B266,C266,D266,$C$1,G266+H266,1,F266,E266*F266)))","v":7.4253654632643329E-3},{"$f":"IF('III Tool Overview'!$H$6=\"Western Isles Health Board\",0,IF('III Tool Overview'!$H$6=\"Eilean Siar Local Authority\",0,new_ci(5,B266,C266,D266,$C$1,G266,1,F266,E266*F266)))","v":3.2958324761661675E-2},{"$f":"IF('III Tool Overview'!$H$6=\"Western Isles Health Board\",0,IF('III Tool Overview'!$H$6=\"Eilean Siar Local Authority\",0,new_ci(5,B266,C266,D266,$C$1,G266+H266,1,F266,E266*F266)))","v":3.2958324761661675E-2},{"$f":"IF('III Tool Overview'!$H$6=\"Western Isles Health Board\",0,IF('III Tool Overview'!$H$6=\"Eilean Siar Local Authority\",0,new_ci(10,B266,C266,D266,$C$1,G266,1,F266,E266*F266)))","v":8.8840760692055223E-2},{"$f":"IF('III Tool Overview'!$H$6=\"Western Isles Health Board\",0,IF('III Tool Overview'!$H$6=\"Eilean Siar Local Authority\",0,new_ci(10,B266,C266,D266,$C$1,G266+H266,1,F266,E266*F266)))","v":8.8840760692055223E-2},{"$f":"IF('III Tool Overview'!$H$6=\"Western Isles Health Board\",0,IF('III Tool Overview'!$H$6=\"Eilean Siar Local Authority\",0,new_ci(20,B266,C266,D266,$C$1,G266,1,F266,E266*F266)))","v":0.27622572293137215},{"$f":"IF('III Tool Overview'!$H$6=\"Western Isles Health Board\",0,IF('III Tool Overview'!$H$6=\"Eilean Siar Local Authority\",0,new_ci(20,B266,C266,D266,$C$1,G266+H266,1,F266,E266*F266)))","v":0.27622572293137215},{"$f":"IF('III Tool Overview'!$H$6=\"Western Isles Health Board\",0,IF('III Tool Overview'!$H$6=\"Eilean Siar Local Authority\",0,new_yll(2,B266,C266,D266,$C$1,G266,1,F266,E266*F266)))","v":0.4974994860387103},{"$f":"IF('III Tool Overview'!$H$6=\"Western Isles Health Board\",0,IF('III Tool Overview'!$H$6=\"Eilean Siar Local Authority\",0,new_yll(2,B266,C266,D266,$C$1,G266+H266,1,F266,E266*F266)))","v":0.4974994860387103},0,{"$f":"IF('III Tool Overview'!$H$6=\"Western Isles Health Board\",0,IF('III Tool Overview'!$H$6=\"Eilean Siar Local Authority\",0,new_yll(5,B266,C266,D266,$C$1,G266,1,F266,E266*F266)))","v":2.1559946988688008},{"$f":"IF('III Tool Overview'!$H$6=\"Western Isles Health Board\",0,IF('III Tool Overview'!$H$6=\"Eilean Siar Local Authority\",0,new_yll(5,B266,C266,D266,$C$1,G266+H266,1,F266,E266*F266)))","v":2.1559946988688008},0,{"$f":"IF('III Tool Overview'!$H$6=\"Western Isles Health Board\",0,IF('III Tool Overview'!$H$6=\"Eilean Siar Local Authority\",0,new_yll(10,B266,C266,D266,$C$1,G266,1,F266,E266*F266)))","v":5.5573178453681287},{"$f":"IF('III Tool Overview'!$H$6=\"Western Isles Health Board\",0,IF('III Tool Overview'!$H$6=\"Eilean Siar Local Authority\",0,new_yll(10,B266,C266,D266,$C$1,G266+H266,1,F266,E266*F266)))","v":5.5573178453681287},0,{"$f":"IF('III Tool Overview'!$H$6=\"Western Isles Health Board\",0,IF('III Tool Overview'!$H$6=\"Eilean Siar Local Authority\",0,new_yll(20,B266,C266,D266,$C$1,G266,1,F266,E266*F266)))","v":15.479866653016897},{"$f":"IF('III Tool Overview'!$H$6=\"Western Isles Health Board\",0,IF('III Tool Overview'!$H$6=\"Eilean Siar Local Authority\",0,new_yll(20,B266,C266,D266,$C$1,G266+H266,1,F266,E266*F266)))","v":15.479866653016897},0,{"$f":"IF('III Tool Overview'!$H$6=\"Western Isles Health Board\",0,IF('III Tool Overview'!$H$6=\"Eilean Siar Local Authority\",0,hosp_count(2,B266,C266,D266,$C$1,G266,1,F266,E266*F266)))","v":1.9703248345502264},{"$f":"IF('III Tool Overview'!$H$6=\"Western Isles Health Board\",0,IF('III Tool Overview'!$H$6=\"Eilean Siar Local Authority\",0,hosp_count(2,B266,C266,D266,$C$1,G266+H266,1,F266,E266*F266)))","v":1.9703248345502264},0,{"$f":"IF('III Tool Overview'!$H$6=\"Western Isles Health Board\",0,IF('III Tool Overview'!$H$6=\"Eilean Siar Local Authority\",0,hosp_count(5,B266,C266,D266,$C$1,G266,1,F266,E266*F266)))","v":8.1963030665209224},{"$f":"IF('III Tool Overview'!$H$6=\"Western Isles Health Board\",0,IF('III Tool Overview'!$H$6=\"Eilean Siar Local Authority\",0,hosp_count(5,B266,C266,D266,$C$1,G266+H266,1,F266,E266*F266)))","v":8.1963030665209224},0,{"$f":"IF('III Tool Overview'!$H$6=\"Western Isles Health Board\",0,IF('III Tool Overview'!$H$6=\"Eilean Siar Local Authority\",0,hosp_count(10,B266,C266,D266,$C$1,G266,1,F266,E266*F266)))","v":19.703615678001722},{"$f":"IF('III Tool Overview'!$H$6=\"Western Isles Health Board\",0,IF('III Tool Overview'!$H$6=\"Eilean Siar Local Authority\",0,hosp_count(10,B266,C266,D266,$C$1,G266+H266,1,F266,E266*F266)))","v":19.703615678001722},0,{"$f":"IF('III Tool Overview'!$H$6=\"Western Isles Health Board\",0,IF('III Tool Overview'!$H$6=\"Eilean Siar Local Authority\",0,hosp_count(20,B266,C266,D266,$C$1,G266,1,F266,E266*F266)))","v":47.61604949872028},{"$f":"IF('III Tool Overview'!$H$6=\"Western Isles Health Board\",0,IF('III Tool Overview'!$H$6=\"Eilean Siar Local Authority\",0,hosp_count(20,B266,C266,D266,$C$1,G266+H266,1,F266,E266*F266)))","v":47.61604949872028},0]
["Female 35-39",37.5,"female",5,{"$f":"HLOOKUP('III Tool Overview'!$H$6,Prevalence!$B$2:$AV$268,Prevalence!AW254,FALSE)","v":0.19047619047619044},{"$f":"HLOOKUP('III Tool Overview'!$H$6,LookUpData_Pop!$B$1:$AV$269,LookUpData_Pop!BB259,FALSE)/5","v":16.600000000000001},{"$f":"'III Tool Overview'!$H$9/110","v":0},{"$f":"IF('III Tool Overview'!$H$10=\"Even distribution\",Targeting!C256,IF('III Tool Overview'!$H$10=\"Targeting to Q1\",Targeting!D256,IF('III Tool Overview'!$H$10=\"Targeting to Q1 & Q2\",Targeting!E256,IF('III Tool Overview'!$H$10=\"Proportionate to need\",Targeting!F256))))","v":0},{"$f":"IF('III Tool Overview'!$H$6=\"Western Isles Health Board\",0,IF('III Tool Overview'!$H$6=\"Eilean Siar Local Authority\",0,new_ci(2,B267,C267,D267,$C$1,G267,1,F267,E267*F267)))","v":1.1319534296536761E-2},{"$f":"IF('III Tool Overview'!$H$6=\"Western Isles Health Board\",0,IF('III Tool Overview'!$H$6=\"Eilean Siar Local Authority\",0,new_ci(2,B267,C267,D267,$C$1,G267+H267,1,F267,E267*F267)))","v":1.1319534296536761E-2},{"$f":"IF('III Tool Overview'!$H$6=\"Western Isles Health Board\",0,IF('III Tool Overview'!$H$6=\"Eilean Siar Local Authority\",0,new_ci(5,B267,C267,D267,$C$1,G267,1,F267,E267*F267)))","v":5.0218602711695252E-2},{"$f":"IF('III Tool Overview'!$H$6=\"Western Isles Health Board\",0,IF('III Tool Overview'!$H$6=\"Eilean Siar Local Authority\",0,new_ci(5,B267,C267,D267,$C$1,G267+H267,1,F267,E267*F267)))","v":5.0218602711695252E-2},{"$f":"IF('III Tool Overview'!$H$6=\"Western Isles Health Board\",0,IF('III Tool Overview'!$H$6=\"Eilean Siar Local Authority\",0,new_ci(10,B267,C267,D267,$C$1,G267,1,F267,E267*F267)))","v":0.13522250250322138},{"$f":"IF('III Tool Overview'!$H$6=\"Western Isles Health Board\",0,IF('III Tool Overview'!$H$6=\"Eilean Siar Local Authority\",0,new_ci(10,B267,C267,D267,$C$1,G267+H267,1,F267,E267*F267)))","v":0.13522250250322138},{"$f":"IF('III Tool Overview'!$H$6=\"Western Isles Health Board\",0,IF('III Tool Overview'!$H$6=\"Eilean Siar Local Authority\",0,new_ci(20,B267,C267,D267,$C$1,G267,1,F267,E267*F267)))","v":0.41893249404605409},{"$f":"IF('III Tool Overview'!$H$6=\"Western Isles Health Board\",0,IF('III Tool Overview'!$H$6=\"Eilean Siar Local Authority\",0,new_ci(20,B267,C267,D267,$C$1,G267+H267,1,F267,E267*F267)))","v":0.41893249404605409},{"$f":"IF('III Tool Overview'!$H$6=\"Western Isles Health Board\",0,IF('III Tool Overview'!$H$6=\"Eilean Siar Local Authority\",0,new_yll(2,B267,C267,D267,$C$1,G267,1,F267,E267*F267)))","v":0.69049159208874245},{"$f":"IF('III Tool Overview'!$H$6=\"Western Isles Health Board\",0,IF('III Tool Overview'!$H$6=\"Eilean Siar Local Authority\",0,new_yll(2,B267,C267,D267,$C$1,G267+H267,1,F267,E267*F267)))","v":0.69049159208874245},0,{"$f":"IF('III Tool Overview'!$H$6=\"Western Isles Health Board\",0,IF('III Tool Overview'!$H$6=\"Eilean Siar Local Authority\",0,new_yll(5,B267,C267,D267,$C$1,G267,1,F267,E267*F267)))","v":2.9837973727083451},{"$f":"IF('III Tool Overview'!$H$6=\"Western Isles Health Board\",0,IF('III Tool Overview'!$H$6=\"Eilean Siar Local Authority\",0,new_yll(5,B267,C267,D267,$C$1,G267+H267,1,F267,E267*F267)))","v":2.9837973727083451},0,{"$f":"IF('III Tool Overview'!$H$6=\"Western Isles Health Board\",0,IF('III Tool Overview'!$H$6=\"Eilean Siar Local Authority\",0,new_yll(10,B267,C267,D267,$C$1,G267,1,F267,E267*F267)))","v":7.6476674302674903},{"$f":"IF('III Tool Overview'!$H$6=\"Western Isles Health Board\",0,IF('III Tool Overview'!$H$6=\"Eilean Siar Local Authority\",0,new_yll(10,B267,C267,D267,$C$1,G267+H267,1,F267,E267*F267)))","v":7.6476674302674903},0,{"$f":"IF('III Tool Overview'!$H$6=\"Western Isles Health Board\",0,IF('III Tool Overview'!$H$6=\"Eilean Siar Local Authority\",0,new_yll(20,B267,C267,D267,$C$1,G267,1,F267,E267*F267)))","v":20.970290537568545},{"$f":"IF('III Tool Overview'!$H$6=\"Western Isles Health Board\",0,IF('III Tool Overview'!$H$6=\"Eilean Siar Local Authority\",0,new_yll(20,B267,C267,D267,$C$1,G267+H267,1,F267,E267*F267)))","v":20.970290537568545},0,{"$f":"IF('III Tool Overview'!$H$6=\"Western Isles Health Board\",0,IF('III Tool Overview'!$H$6=\"Eilean Siar Local Authority\",0,hosp_count(2,B267,C267,D267,$C$1,G267,1,F267,E267*F267)))","v":2.1303316095426252},{"$f":"IF('III Tool Overview'!$H$6=\"Western Isles Health Board\",0,IF('III Tool Overview'!$H$6=\"Eilean Siar Local Authority\",0,hosp_count(2,B267,C267,D267,$C$1,G267+H267,1,F267,E267*F267)))","v":2.1303316095426252},0,{"$f":"IF('III Tool Overview'!$H$6=\"Western Isles Health Board\",0,IF('III Tool Overview'!$H$6=\"Eilean Siar Local Authority\",0,hosp_count(5,B267,C267,D267,$C$1,G267,1,F267,E267*F267)))","v":8.8581329311896564},{"$f":"IF('III Tool Overview'!$H$6=\"Western Isles Health Board\",0,IF('III Tool Overview'!$H$6=\"Eilean Siar Local Authority\",0,hosp_count(5,B267,C267,D267,$C$1,G267+H267,1,F267,E267*F267)))","v":8.8581329311896564},0,{"$f":"IF('III Tool Overview'!$H$6=\"Western Isles Health Board\",0,IF('III Tool Overview'!$H$6=\"Eilean Siar Local Authority\",0,hosp_count(10,B267,C267,D267,$C$1,G267,1,F267,E267*F267)))","v":21.275741113467809},{"$f":"IF('III Tool Overview'!$H$6=\"Western Isles Health Board\",0,IF('III Tool Overview'!$H$6=\"Eilean Siar Local Authority\",0,hosp_count(10,B267,C267,D267,$C$1,G267+H267,1,F267,E267*F267)))","v":21.275741113467809},0,{"$f":"IF('III Tool Overview'!$H$6=\"Western Isles Health Board\",0,IF('III Tool Overview'!$H$6=\"Eilean Siar Local Authority\",0,hosp_count(20,B267,C267,D267,$C$1,G267,1,F267,E267*F267)))","v":51.274826954124741},{"$f":"IF('III Tool Overview'!$H$6=\"Western Isles Health Board\",0,IF('III Tool Overview'!$H$6=\"Eilean Siar Local Authority\",0,hosp_count(20,B267,C267,D267,$C$1,G267+H267,1,F267,E267*F267)))","v":51.274826954124741},0]
["Female 40-44",42.5,"female",5,{"$f":"HLOOKUP('III Tool Overview'!$H$6,Prevalence!$B$2:$AV$268,Prevalence!AW255,FALSE)","v":0.16190476190476194},{"$f":"HLOOKUP('III Tool Overview'!$H$6,LookUpData_Pop!$B$1:$AV$269,LookUpData_Pop!BB260,FALSE)/5","v":29.4},{"$f":"'III Tool Overview'!$H$9/110","v":0},{"$f":"IF('III Tool Overview'!$H$10=\"Even distribution\",Targeting!C257,IF('III Tool Overview'!$H$10=\"Targeting to Q1\",Targeting!D257,IF('III Tool Overview'!$H$10=\"Targeting to Q1 & Q2\",Targeting!E257,IF('III Tool Overview'!$H$10=\"Proportionate to need\",Targeting!F257))))","v":0},{"$f":"IF('III Tool Overview'!$H$6=\"Western Isles Health Board\",0,IF('III Tool Overview'!$H$6=\"Eilean Siar Local Authority\",0,new_ci(2,B268,C268,D268,$C$1,G268,1,F268,E268*F268)))","v":2.7818306493351461E-2},{"$f":"IF('III Tool Overview'!$H$6=\"Western Isles Health Board\",0,IF('III Tool Overview'!$H$6=\"Eilean Siar Local Authority\",0,new_ci(2,B268,C268,D268,$C$1,G268+H268,1,F268,E268*F268)))","v":2.7818306493351461E-2},{"$f":"IF('III Tool Overview'!$H$6=\"Western Isles Health Board\",0,IF('III Tool Overview'!$H$6=\"Eilean Siar Local Authority\",0,new_ci(5,B268,C268,D268,$C$1,G268,1,F268,E268*F268)))","v":0.12335621970214387},{"$f":"IF('III Tool Overview'!$H$6=\"Western Isles Health Board\",0,IF('III Tool Overview'!$H$6=\"Eilean Siar Local Authority\",0,new_ci(5,B268,C268,D268,$C$1,G268+H268,1,F268,E268*F268)))","v":0.12335621970214387},{"$f":"IF('III Tool Overview'!$H$6=\"Western Isles Health Board\",0,IF('III Tool Overview'!$H$6=\"Eilean Siar Local Authority\",0,new_ci(10,B268,C268,D268,$C$1,G268,1,F268,E268*F268)))","v":0.33181420873422818},{"$f":"IF('III Tool Overview'!$H$6=\"Western Isles Health Board\",0,IF('III Tool Overview'!$H$6=\"Eilean Siar Local Authority\",0,new_ci(10,B268,C268,D268,$C$1,G268+H268,1,F268,E268*F268)))","v":0.33181420873422818},{"$f":"IF('III Tool Overview'!$H$6=\"Western Isles Health Board\",0,IF('III Tool Overview'!$H$6=\"Eilean Siar Local Authority\",0,new_ci(20,B268,C268,D268,$C$1,G268,1,F268,E268*F268)))","v":1.0244189425019181},{"$f":"IF('III Tool Overview'!$H$6=\"Western Isles Health Board\",0,IF('III Tool Overview'!$H$6=\"Eilean Siar Local Authority\",0,new_ci(20,B268,C268,D268,$C$1,G268+H268,1,F268,E268*F268)))","v":1.0244189425019181},{"$f":"IF('III Tool Overview'!$H$6=\"Western Isles Health Board\",0,IF('III Tool Overview'!$H$6=\"Eilean Siar Local Authority\",0,new_yll(2,B268,C268,D268,$C$1,G268,1,F268,E268*F268)))","v":1.5856434701210333},{"$f":"IF('III Tool Overview'!$H$6=\"Western Isles Health Board\",0,IF('III Tool Overview'!$H$6=\"Eilean Siar Local Authority\",0,new_yll(2,B268,C268,D268,$C$1,G268+H268,1,F268,E268*F268)))","v":1.5856434701210333},0,{"$f":"IF('III Tool Overview'!$H$6=\"Western Isles Health Board\",0,IF('III Tool Overview'!$H$6=\"Eilean Siar Local Authority\",0,new_yll(5,B268,C268,D268,$C$1,G268,1,F268,E268*F268)))","v":6.8359770910892577},{"$f":"IF('III Tool Overview'!$H$6=\"Western Isles Health Board\",0,IF('III Tool Overview'!$H$6=\"Eilean Siar Local Authority\",0,new_yll(5,B268,C268,D268,$C$1,G268+H268,1,F268,E268*F268)))","v":6.8359770910892577},0,{"$f":"IF('III Tool Overview'!$H$6=\"Western Isles Health Board\",0,IF('III Tool Overview'!$H$6=\"Eilean Siar Local Authority\",0,new_yll(10,B268,C268,D268,$C$1,G268,1,F268,E268*F268)))","v":17.439686770236197},{"$f":"IF('III Tool Overview'!$H$6=\"Western Isles Health Board\",0,IF('III Tool Overview'!$H$6=\"Eilean Siar Local Authority\",0,new_yll(10,B268,C268,D268,$C$1,G268+H268,1,F268,E268*F268)))","v":17.439686770236197},0,{"$f":"IF('III Tool Overview'!$H$6=\"Western Isles Health Board\",0,IF('III Tool Overview'!$H$6=\"Eilean Siar Local Authority\",0,new_yll(20,B268,C268,D268,$C$1,G268,1,F268,E268*F268)))","v":47.196958545037219},{"$f":"IF('III Tool Overview'!$H$6=\"Western Isles Health Board\",0,IF('III Tool Overview'!$H$6=\"Eilean Siar Local Authority\",0,new_yll(20,B268,C268,D268,$C$1,G268+H268,1,F268,E268*F268)))","v":47.196958545037219},0,{"$f":"IF('III Tool Overview'!$H$6=\"Western Isles Health Board\",0,IF('III Tool Overview'!$H$6=\"Eilean Siar Local Authority\",0,hosp_count(2,B268,C268,D268,$C$1,G268,1,F268,E268*F268)))","v":4.1639034423328933},{"$f":"IF('III Tool Overview'!$H$6=\"Western Isles Health Board\",0,IF('III Tool Overview'!$H$6=\"Eilean Siar Local Authority\",0,hosp_count(2,B268,C268,D268,$C$1,G268+H268,1,F268,E268*F268)))","v":4.1639034423328933},0,{"$f":"IF('III Tool Overview'!$H$6=\"Western Isles Health Board\",0,IF('III Tool Overview'!$H$6=\"Eilean Siar Local Authority\",0,hosp_count(5,B268,C268,D268,$C$1,G268,1,F268,E268*F268)))","v":17.306567185523445},{"$f":"IF('III Tool Overview'!$H$6=\"Western Isles Health Board\",0,IF('III Tool Overview'!$H$6=\"Eilean Siar Local Authority\",0,hosp_count(5,B268,C268,D268,$C$1,G268+H268,1,F268,E268*F268)))","v":17.306567185523445},0,{"$f":"IF('III Tool Overview'!$H$6=\"Western Isles Health Board\",0,IF('III Tool Overview'!$H$6=\"Eilean Siar Local Authority\",0,hosp_count(10,B268,C268,D268,$C$1,G268,1,F268,E268*F268)))","v":41.530701778446677},{"$f":"IF('III Tool Overview'!$H$6=\"Western Isles Health Board\",0,IF('III Tool Overview'!$H$6=\"Eilean Siar Local Authority\",0,hosp_count(10,B268,C268,D268,$C$1,G268+H268,1,F268,E268*F268)))","v":41.530701778446677},0,{"$f":"IF('III Tool Overview'!$H$6=\"Western Isles Health Board\",0,IF('III Tool Overview'!$H$6=\"Eilean Siar Local Authority\",0,hosp_count(20,B268,C268,D268,$C$1,G268,1,F268,E268*F268)))","v":99.81755151364041},{"$f":"IF('III Tool Overview'!$H$6=\"Western Isles Health Board\",0,IF('III Tool Overview'!$H$6=\"Eilean Siar Local Authority\",0,hosp_count(20,B268,C268,D268,$C$1,G268+H268,1,F268,E268*F268)))","v":99.81755151364041},0]
["Female 45-49",47.5,"female",5,{"$f":"HLOOKUP('III Tool Overview'!$H$6,Prevalence!$B$2:$AV$268,Prevalence!AW256,FALSE)","v":0.13333333333333336},{"$f":"HLOOKUP('III Tool Overview'!$H$6,LookUpData_Pop!$B$1:$AV$269,LookUpData_Pop!BB261,FALSE)/5","v":28.6},{"$f":"'III Tool Overview'!$H$9/110","v":0},{"$f":"IF('III Tool Overview'!$H$10=\"Even distribution\",Targeting!C258,IF('III Tool Overview'!$H$10=\"Targeting to Q1\",Targeting!D258,IF('III Tool Overview'!$H$10=\"Targeting to Q1 & Q2\",Targeting!E258,IF('III Tool Overview'!$H$10=\"Proportionate to need\",Targeting!F258))))","v":0},{"$f":"IF('III Tool Overview'!$H$6=\"Western Isles Health Board\",0,IF('III Tool Overview'!$H$6=\"Eilean Siar Local Authority\",0,new_ci(2,B269,C269,D269,$C$1,G269,1,F269,E269*F269)))","v":4.4228152803195829E-2},{"$f":"IF('III Tool Overview'!$H$6=\"Western Isles Health Board\",0,IF('III Tool Overview'!$H$6=\"Eilean Siar Local Authority\",0,new_ci(2,B269,C269,D269,$C$1,G269+H269,1,F269,E269*F269)))","v":4.4228152803195829E-2},{"$f":"IF('III Tool Overview'!$H$6=\"Western Isles Health Board\",0,IF('III Tool Overview'!$H$6=\"Eilean Siar Local Authority\",0,new_ci(5,B269,C269,D269,$C$1,G269,1,F269,E269*F269)))","v":0.19591437679672905},{"$f":"IF('III Tool Overview'!$H$6=\"Western Isles Health Board\",0,IF('III Tool Overview'!$H$6=\"Eilean Siar Local Authority\",0,new_ci(5,B269,C269,D269,$C$1,G269+H269,1,F269,E269*F269)))","v":0.19591437679672905},{"$f":"IF('III Tool Overview'!$H$6=\"Western Isles Health Board\",0,IF('III Tool Overview'!$H$6=\"Eilean Siar Local Authority\",0,new_ci(10,B269,C269,D269,$C$1,G269,1,F269,E269*F269)))","v":0.52576017561959887},{"$f":"IF('III Tool Overview'!$H$6=\"Western Isles Health Board\",0,IF('III Tool Overview'!$H$6=\"Eilean Siar Local Authority\",0,new_ci(10,B269,C269,D269,$C$1,G269+H269,1,F269,E269*F269)))","v":0.52576017561959887},{"$f":"IF('III Tool Overview'!$H$6=\"Western Isles Health Board\",0,IF('III Tool Overview'!$H$6=\"Eilean Siar Local Authority\",0,new_ci(20,B269,C269,D269,$C$1,G269,1,F269,E269*F269)))","v":1.6105713096453724},{"$f":"IF('III Tool Overview'!$H$6=\"Western Isles Health Board\",0,IF('III Tool Overview'!$H$6=\"Eilean Siar Local Authority\",0,new_ci(20,B269,C269,D269,$C$1,G269+H269,1,F269,E269*F269)))","v":1.6105713096453724},{"$f":"IF('III Tool Overview'!$H$6=\"Western Isles Health Board\",0,IF('III Tool Overview'!$H$6=\"Eilean Siar Local Authority\",0,new_yll(2,B269,C269,D269,$C$1,G269,1,F269,E269*F269)))","v":2.2556357929629871},{"$f":"IF('III Tool Overview'!$H$6=\"Western Isles Health Board\",0,IF('III Tool Overview'!$H$6=\"Eilean Siar Local Authority\",0,new_yll(2,B269,C269,D269,$C$1,G269+H269,1,F269,E269*F269)))","v":2.2556357929629871},0,{"$f":"IF('III Tool Overview'!$H$6=\"Western Isles Health Board\",0,IF('III Tool Overview'!$H$6=\"Eilean Siar Local Authority\",0,new_yll(5,B269,C269,D269,$C$1,G269,1,F269,E269*F269)))","v":9.6815822566167231},{"$f":"IF('III Tool Overview'!$H$6=\"Western Isles Health Board\",0,IF('III Tool Overview'!$H$6=\"Eilean Siar Local Authority\",0,new_yll(5,B269,C269,D269,$C$1,G269+H269,1,F269,E269*F269)))","v":9.6815822566167231},0,{"$f":"IF('III Tool Overview'!$H$6=\"Western Isles Health Board\",0,IF('III Tool Overview'!$H$6=\"Eilean Siar Local Authority\",0,new_yll(10,B269,C269,D269,$C$1,G269,1,F269,E269*F269)))","v":24.481510385858552},{"$f":"IF('III Tool Overview'!$H$6=\"Western Isles Health Board\",0,IF('III Tool Overview'!$H$6=\"Eilean Siar Local Authority\",0,new_yll(10,B269,C269,D269,$C$1,G269+H269,1,F269,E269*F269)))","v":24.481510385858552},0,{"$f":"IF('III Tool Overview'!$H$6=\"Western Isles Health Board\",0,IF('III Tool Overview'!$H$6=\"Eilean Siar Local Authority\",0,new_yll(20,B269,C269,D269,$C$1,G269,1,F269,E269*F269)))","v":64.59468502623109},{"$f":"IF('III Tool Overview'!$H$6=\"Western Isles Health Board\",0,IF('III Tool Overview'!$H$6=\"Eilean Siar Local Authority\",0,new_yll(20,B269,C269,D269,$C$1,G269+H269,1,F269,E269*F269)))","v":64.59468502623109},0,{"$f":"IF('III Tool Overview'!$H$6=\"Western Isles Health Board\",0,IF('III Tool Overview'!$H$6=\"Eilean Siar Local Authority\",0,hosp_count(2,B269,C269,D269,$C$1,G269,1,F269,E269*F269)))","v":4.696135799657764},{"$f":"IF('III Tool Overview'!$H$6=\"Western Isles Health Board\",0,IF('III Tool Overview'!$H$6=\"Eilean Siar Local Authority\",0,hosp_count(2,B269,C269,D269,$C$1,G269+H269,1,F269,E269*F269)))","v":4.696135799657764},0,{"$f":"IF('III Tool Overview'!$H$6=\"Western Isles Health Board\",0,IF('III Tool Overview'!$H$6=\"Eilean Siar Local Authority\",0,hosp_count(5,B269,C269,D269,$C$1,G269,1,F269,E269*F269)))","v":19.499865416317011},{"$f":"IF('III Tool Overview'!$H$6=\"Western Isles Health Board\",0,IF('III Tool Overview'!$H$6=\"Eilean Siar Local Authority\",0,hosp_count(5,B269,C269,D269,$C$1,G269+H269,1,F269,E269*F269)))","v":19.499865416317011},0,{"$f":"IF('III Tool Overview'!$H$6=\"Western Isles Health Board\",0,IF('III Tool Overview'!$H$6=\"Eilean Siar Local Authority\",0,hosp_count(10,B269,C269,D269,$C$1,G269,1,F269,E269*F269)))","v":46.700185373133053},{"$f":"IF('III Tool Overview'!$H$6=\"Western Isles Health Board\",0,IF('III Tool Overview'!$H$6=\"Eilean Siar Local Authority\",0,hosp_count(10,B269,C269,D269,$C$1,G269+H269,1,F269,E269*F269)))","v":46.700185373133053},0,{"$f":"IF('III Tool Overview'!$H$6=\"Western Isles Health Board\",0,IF('III Tool Overview'!$H$6=\"Eilean Siar Local Authority\",0,hosp_count(20,B269,C269,D269,$C$1,G269,1,F269,E269*F269)))","v":111.55367518367093},{"$f":"IF('III Tool Overview'!$H$6=\"Western Isles Health Board\",0,IF('III Tool Overview'!$H$6=\"Eilean Siar Local Authority\",0,hosp_count(20,B269,C269,D269,$C$1,G269+H269,1,F269,E269*F269)))","v":111.55367518367093},0]
["Female 50-54",52.5,"female",5,{"$f":"HLOOKUP('III Tool Overview'!$H$6,Prevalence!$B$2:$AV$268,Prevalence!AW257,FALSE)","v":0.16190476190476194},{"$f":"HLOOKUP('III Tool Overview'!$H$6,LookUpData_Pop!$B$1:$AV$269,LookUpData_Pop!BB262,FALSE)/5","v":26.4},{"$f":"'III Tool Overview'!$H$9/110","v":0},{"$f":"IF('III Tool Overview'!$H$10=\"Even distribution\",Targeting!C259,IF('III Tool Overview'!$H$10=\"Targeting to Q1\",Targeting!D259,IF('III Tool Overview'!$H$10=\"Targeting to Q1 & Q2\",Targeting!E259,IF('III Tool Overview'!$H$10=\"Proportionate to need\",Targeting!F259))))","v":0},{"$f":"IF('III Tool Overview'!$H$6=\"Western Isles Health Board\",0,IF('III Tool Overview'!$H$6=\"Eilean Siar Local Authority\",0,new_ci(2,B270,C270,D270,$C$1,G270,1,F270,E270*F270)))","v":5.6639947206615734E-2},{"$f":"IF('III Tool Overview'!$H$6=\"Western Isles Health Board\",0,IF('III Tool Overview'!$H$6=\"Eilean Siar Local Authority\",0,new_ci(2,B270,C270,D270,$C$1,G270+H270,1,F270,E270*F270)))","v":5.6639947206615734E-2},{"$f":"IF('III Tool Overview'!$H$6=\"Western Isles Health Board\",0,IF('III Tool Overview'!$H$6=\"Eilean Siar Local Authority\",0,new_ci(5,B270,C270,D270,$C$1,G270,1,F270,E270*F270)))","v":0.25062314064862934},{"$f":"IF('III Tool Overview'!$H$6=\"Western Isles Health Board\",0,IF('III Tool Overview'!$H$6=\"Eilean Siar Local Authority\",0,new_ci(5,B270,C270,D270,$C$1,G270+H270,1,F270,E270*F270)))","v":0.25062314064862934},{"$f":"IF('III Tool Overview'!$H$6=\"Western Isles Health Board\",0,IF('III Tool Overview'!$H$6=\"Eilean Siar Local Authority\",0,new_ci(10,B270,C270,D270,$C$1,G270,1,F270,E270*F270)))","v":0.67099251414617378},{"$f":"IF('III Tool Overview'!$H$6=\"Western Isles Health Board\",0,IF('III Tool Overview'!$H$6=\"Eilean Siar Local Authority\",0,new_ci(10,B270,C270,D270,$C$1,G270+H270,1,F270,E270*F270)))","v":0.67099251414617378},{"$f":"IF('III Tool Overview'!$H$6=\"Western Isles Health Board\",0,IF('III Tool Overview'!$H$6=\"Eilean Siar Local Authority\",0,new_ci(20,B270,C270,D270,$C$1,G270,1,F270,E270*F270)))","v":2.0393578273043245},{"$f":"IF('III Tool Overview'!$H$6=\"Western Isles Health Board\",0,IF('III Tool Overview'!$H$6=\"Eilean Siar Local Authority\",0,new_ci(20,B270,C270,D270,$C$1,G270+H270,1,F270,E270*F270)))","v":2.0393578273043245},{"$f":"IF('III Tool Overview'!$H$6=\"Western Isles Health Board\",0,IF('III Tool Overview'!$H$6=\"Eilean Siar Local Authority\",0,new_yll(2,B270,C270,D270,$C$1,G270,1,F270,E270*F270)))","v":2.6620775187109396},{"$f":"IF('III Tool Overview'!$H$6=\"Western Isles Health Board\",0,IF('III Tool Overview'!$H$6=\"Eilean Siar Local Authority\",0,new_yll(2,B270,C270,D270,$C$1,G270+H270,1,F270,E270*F270)))","v":2.6620775187109396},0,{"$f":"IF('III Tool Overview'!$H$6=\"Western Isles Health Board\",0,IF('III Tool Overview'!$H$6=\"Eilean Siar Local Authority\",0,new_yll(5,B270,C270,D270,$C$1,G270,1,F270,E270*F270)))","v":11.382873553343284},{"$f":"IF('III Tool Overview'!$H$6=\"Western Isles Health Board\",0,IF('III Tool Overview'!$H$6=\"Eilean Siar Local Authority\",0,new_yll(5,B270,C270,D270,$C$1,G270+H270,1,F270,E270*F270)))","v":11.382873553343284},0,{"$f":"IF('III Tool Overview'!$H$6=\"Western Isles Health Board\",0,IF('III Tool Overview'!$H$6=\"Eilean Siar Local Authority\",0,new_yll(10,B270,C270,D270,$C$1,G270,1,F270,E270*F270)))","v":28.56384161742838},{"$f":"IF('III Tool Overview'!$H$6=\"Western Isles Health Board\",0,IF('III Tool Overview'!$H$6=\"Eilean Siar Local Authority\",0,new_yll(10,B270,C270,D270,$C$1,G270+H270,1,F270,E270*F270)))","v":28.56384161742838},0,{"$f":"IF('III Tool Overview'!$H$6=\"Western Isles Health Board\",0,IF('III Tool Overview'!$H$6=\"Eilean Siar Local Authority\",0,new_yll(20,B270,C270,D270,$C$1,G270,1,F270,E270*F270)))","v":73.706321213905412},{"$f":"IF('III Tool Overview'!$H$6=\"Western Isles Health Board\",0,IF('III Tool Overview'!$H$6=\"Eilean Siar Local Authority\",0,new_yll(20,B270,C270,D270,$C$1,G270+H270,1,F270,E270*F270)))","v":73.706321213905412},0,{"$f":"IF('III Tool Overview'!$H$6=\"Western Isles Health Board\",0,IF('III Tool Overview'!$H$6=\"Eilean Siar Local Authority\",0,hosp_count(2,B270,C270,D270,$C$1,G270,1,F270,E270*F270)))","v":4.7840172507865564},{"$f":"IF('III Tool Overview'!$H$6=\"Western Isles Health Board\",0,IF('III Tool Overview'!$H$6=\"Eilean Siar Local Authority\",0,hosp_count(2,B270,C270,D270,$C$1,G270+H270,1,F270,E270*F270)))","v":4.7840172507865564},0,{"$f":"IF('III Tool Overview'!$H$6=\"Western Isles Health Board\",0,IF('III Tool Overview'!$H$6=\"Eilean Siar Local Authority\",0,hosp_count(5,B270,C270,D270,$C$1,G270,1,F270,E270*F270)))","v":19.845633848216938},{"$f":"IF('III Tool Overview'!$H$6=\"Western Isles Health Board\",0,IF('III Tool Overview'!$H$6=\"Eilean Siar Local Authority\",0,hosp_count(5,B270,C270,D270,$C$1,G270+H270,1,F270,E270*F270)))","v":19.845633848216938},0,{"$f":"IF('III Tool Overview'!$H$6=\"Western Isles Health Board\",0,IF('III Tool Overview'!$H$6=\"Eilean Siar Local Authority\",0,hosp_count(10,B270,C270,D270,$C$1,G270,1,F270,E270*F270)))","v":47.433273239124418},{"$f":"IF('III Tool Overview'!$H$6=\"Western Isles Health Board\",0,IF('III Tool Overview'!$H$6=\"Eilean Siar Local Authority\",0,hosp_count(10,B270,C270,D270,$C$1,G270+H270,1,F270,E270*F270)))","v":47.433273239124418},0,{"$f":"IF('III Tool Overview'!$H$6=\"Western Isles Health Board\",0,IF('III Tool Overview'!$H$6=\"Eilean Siar Local Authority\",0,hosp_count(20,B270,C270,D270,$C$1,G270,1,F270,E270*F270)))","v":112.61499619675851},{"$f":"IF('III Tool Overview'!$H$6=\"Western Isles Health Board\",0,IF('III Tool Overview'!$H$6=\"Eilean Siar Local Authority\",0,hosp_count(20,B270,C270,D270,$C$1,G270+H270,1,F270,E270*F270)))","v":112.61499619675851},0]
["Female 55-59",57.5,"female",5,{"$f":"HLOOKUP('III Tool Overview'!$H$6,Prevalence!$B$2:$AV$268,Prevalence!AW258,FALSE)","v":0.31428571428571428},{"$f":"HLOOKUP('III Tool Overview'!$H$6,LookUpData_Pop!$B$1:$AV$269,LookUpData_Pop!BB263,FALSE)/5","v":22.2},{"$f":"'III Tool Overview'!$H$9/110","v":0},{"$f":"IF('III Tool Overview'!$H$10=\"Even distribution\",Targeting!C260,IF('III Tool Overview'!$H$10=\"Targeting to Q1\",Targeting!D260,IF('III Tool Overview'!$H$10=\"Targeting to Q1 & Q2\",Targeting!E260,IF('III Tool Overview'!$H$10=\"Proportionate to need\",Targeting!F260))))","v":0},{"$f":"IF('III Tool Overview'!$H$6=\"Western Isles Health Board\",0,IF('III Tool Overview'!$H$6=\"Eilean Siar Local Authority\",0,new_ci(2,B271,C271,D271,$C$1,G271,1,F271,E271*F271)))","v":7.7809814821056145E-2},{"$f":"IF('III Tool Overview'!$H$6=\"Western Isles Health Board\",0,IF('III Tool Overview'!$H$6=\"Eilean Siar Local Authority\",0,new_ci(2,B271,C271,D271,$C$1,G271+H271,1,F271,E271*F271)))","v":7.7809814821056145E-2},{"$f":"IF('III Tool Overview'!$H$6=\"Western Isles Health Board\",0,IF('III Tool Overview'!$H$6=\"Eilean Siar Local Authority\",0,new_ci(5,B271,C271,D271,$C$1,G271,1,F271,E271*F271)))","v":0.34342272990957479},{"$f":"IF('III Tool Overview'!$H$6=\"Western Isles Health Board\",0,IF('III Tool Overview'!$H$6=\"Eilean Siar Local Authority\",0,new_ci(5,B271,C271,D271,$C$1,G271+H271,1,F271,E271*F271)))","v":0.34342272990957479},{"$f":"IF('III Tool Overview'!$H$6=\"Western Isles Health Board\",0,IF('III Tool Overview'!$H$6=\"Eilean Siar Local Authority\",0,new_ci(10,B271,C271,D271,$C$1,G271,1,F271,E271*F271)))","v":0.91436769335167323},{"$f":"IF('III Tool Overview'!$H$6=\"Western Isles Health Board\",0,IF('III Tool Overview'!$H$6=\"Eilean Siar Local Authority\",0,new_ci(10,B271,C271,D271,$C$1,G271+H271,1,F271,E271*F271)))","v":0.91436769335167323},{"$f":"IF('III Tool Overview'!$H$6=\"Western Isles Health Board\",0,IF('III Tool Overview'!$H$6=\"Eilean Siar Local Authority\",0,new_ci(20,B271,C271,D271,$C$1,G271,1,F271,E271*F271)))","v":2.7286185929590712},{"$f":"IF('III Tool Overview'!$H$6=\"Western Isles Health Board\",0,IF('III Tool Overview'!$H$6=\"Eilean Siar Local Authority\",0,new_ci(20,B271,C271,D271,$C$1,G271+H271,1,F271,E271*F271)))","v":2.7286185929590712},{"$f":"IF('III Tool Overview'!$H$6=\"Western Isles Health Board\",0,IF('III Tool Overview'!$H$6=\"Eilean Siar Local Authority\",0,new_yll(2,B271,C271,D271,$C$1,G271,1,F271,E271*F271)))","v":3.190202407663302},{"$f":"IF('III Tool Overview'!$H$6=\"Western Isles Health Board\",0,IF('III Tool Overview'!$H$6=\"Eilean Siar Local Authority\",0,new_yll(2,B271,C271,D271,$C$1,G271+H271,1,F271,E271*F271)))","v":3.190202407663302},0,{"$f":"IF('III Tool Overview'!$H$6=\"Western Isles Health Board\",0,IF('III Tool Overview'!$H$6=\"Eilean Siar Local Authority\",0,new_yll(5,B271,C271,D271,$C$1,G271,1,F271,E271*F271)))","v":13.537839228599344},{"$f":"IF('III Tool Overview'!$H$6=\"Western Isles Health Board\",0,IF('III Tool Overview'!$H$6=\"Eilean Siar Local Authority\",0,new_yll(5,B271,C271,D271,$C$1,G271+H271,1,F271,E271*F271)))","v":13.537839228599344},0,{"$f":"IF('III Tool Overview'!$H$6=\"Western Isles Health Board\",0,IF('III Tool Overview'!$H$6=\"Eilean Siar Local Authority\",0,new_yll(10,B271,C271,D271,$C$1,G271,1,F271,E271*F271)))","v":33.449867661952666},{"$f":"IF('III Tool Overview'!$H$6=\"Western Isles Health Board\",0,IF('III Tool Overview'!$H$6=\"Eilean Siar Local Authority\",0,new_yll(10,B271,C271,D271,$C$1,G271+H271,1,F271,E271*F271)))","v":33.449867661952666},0,{"$f":"IF('III Tool Overview'!$H$6=\"Western Isles Health Board\",0,IF('III Tool Overview'!$H$6=\"Eilean Siar Local Authority\",0,new_yll(20,B271,C271,D271,$C$1,G271,1,F271,E271*F271)))","v":82.471875749554997},{"$f":"IF('III Tool Overview'!$H$6=\"Western Isles Health Board\",0,IF('III Tool Overview'!$H$6=\"Eilean Siar Local Authority\",0,new_yll(20,B271,C271,D271,$C$1,G271+H271,1,F271,E271*F271)))","v":82.471875749554997},0,{"$f":"IF('III Tool Overview'!$H$6=\"Western Isles Health Board\",0,IF('III Tool Overview'!$H$6=\"Eilean Siar Local Authority\",0,hosp_count(2,B271,C271,D271,$C$1,G271,1,F271,E271*F271)))","v":4.6640487261452739},{"$f":"IF('III Tool Overview'!$H$6=\"Western Isles Health Board\",0,IF('III Tool Overview'!$H$6=\"Eilean Siar Local Authority\",0,hosp_count(2,B271,C271,D271,$C$1,G271+H271,1,F271,E271*F271)))","v":4.6640487261452739},0,{"$f":"IF('III Tool Overview'!$H$6=\"Western Isles Health Board\",0,IF('III Tool Overview'!$H$6=\"Eilean Siar Local Authority\",0,hosp_count(5,B271,C271,D271,$C$1,G271,1,F271,E271*F271)))","v":19.305602286624584},{"$f":"IF('III Tool Overview'!$H$6=\"Western Isles Health Board\",0,IF('III Tool Overview'!$H$6=\"Eilean Siar Local Authority\",0,hosp_count(5,B271,C271,D271,$C$1,G271+H271,1,F271,E271*F271)))","v":19.305602286624584},0,{"$f":"IF('III Tool Overview'!$H$6=\"Western Isles Health Board\",0,IF('III Tool Overview'!$H$6=\"Eilean Siar Local Authority\",0,hosp_count(10,B271,C271,D271,$C$1,G271,1,F271,E271*F271)))","v":45.933713481231109},{"$f":"IF('III Tool Overview'!$H$6=\"Western Isles Health Board\",0,IF('III Tool Overview'!$H$6=\"Eilean Siar Local Authority\",0,hosp_count(10,B271,C271,D271,$C$1,G271+H271,1,F271,E271*F271)))","v":45.933713481231109},0,{"$f":"IF('III Tool Overview'!$H$6=\"Western Isles Health Board\",0,IF('III Tool Overview'!$H$6=\"Eilean Siar Local Authority\",0,hosp_count(20,B271,C271,D271,$C$1,G271,1,F271,E271*F271)))","v":107.56843431884501},{"$f":"IF('III Tool Overview'!$H$6=\"Western Isles Health Board\",0,IF('III Tool Overview'!$H$6=\"Eilean Siar Local Authority\",0,hosp_count(20,B271,C271,D271,$C$1,G271+H271,1,F271,E271*F271)))","v":107.56843431884501},0]
["Female 60-64",62.5,"female",5,{"$f":"HLOOKUP('III Tool Overview'!$H$6,Prevalence!$B$2:$AV$268,Prevalence!AW259,FALSE)","v":0.63809523809523805},{"$f":"HLOOKUP('III Tool Overview'!$H$6,LookUpData_Pop!$B$1:$AV$269,LookUpData_Pop!BB264,FALSE)/5","v":27.4},{"$f":"'III Tool Overview'!$H$9/110","v":0},{"$f":"IF('III Tool Overview'!$H$10=\"Even distribution\",Targeting!C261,IF('III Tool Overview'!$H$10=\"Targeting to Q1\",Targeting!D261,IF('III Tool Overview'!$H$10=\"Targeting to Q1 & Q2\",Targeting!E261,IF('III Tool Overview'!$H$10=\"Proportionate to need\",Targeting!F261))))","v":0},{"$f":"IF('III Tool Overview'!$H$6=\"Western Isles Health Board\",0,IF('III Tool Overview'!$H$6=\"Eilean Siar Local Authority\",0,new_ci(2,B272,C272,D272,$C$1,G272,1,F272,E272*F272)))","v":0.13318446029816272},{"$f":"IF('III Tool Overview'!$H$6=\"Western Isles Health Board\",0,IF('III Tool Overview'!$H$6=\"Eilean Siar Local Authority\",0,new_ci(2,B272,C272,D272,$C$1,G272+H272,1,F272,E272*F272)))","v":0.13318446029816272},{"$f":"IF('III Tool Overview'!$H$6=\"Western Isles Health Board\",0,IF('III Tool Overview'!$H$6=\"Eilean Siar Local Authority\",0,new_ci(5,B272,C272,D272,$C$1,G272,1,F272,E272*F272)))","v":0.58642888098447732},{"$f":"IF('III Tool Overview'!$H$6=\"Western Isles Health Board\",0,IF('III Tool Overview'!$H$6=\"Eilean Siar Local Authority\",0,new_ci(5,B272,C272,D272,$C$1,G272+H272,1,F272,E272*F272)))","v":0.58642888098447732},{"$f":"IF('III Tool Overview'!$H$6=\"Western Isles Health Board\",0,IF('III Tool Overview'!$H$6=\"Eilean Siar Local Authority\",0,new_ci(10,B272,C272,D272,$C$1,G272,1,F272,E272*F272)))","v":1.5533182539052801},{"$f":"IF('III Tool Overview'!$H$6=\"Western Isles Health Board\",0,IF('III Tool Overview'!$H$6=\"Eilean Siar Local Authority\",0,new_ci(10,B272,C272,D272,$C$1,G272+H272,1,F272,E272*F272)))","v":1.5533182539052801},{"$f":"IF('III Tool Overview'!$H$6=\"Western Isles Health Board\",0,IF('III Tool Overview'!$H$6=\"Eilean Siar Local Authority\",0,new_ci(20,B272,C272,D272,$C$1,G272,1,F272,E272*F272)))","v":4.557104765522169},{"$f":"IF('III Tool Overview'!$H$6=\"Western Isles Health Board\",0,IF('III Tool Overview'!$H$6=\"Eilean Siar Local Authority\",0,new_ci(20,B272,C272,D272,$C$1,G272+H272,1,F272,E272*F272)))","v":4.557104765522169},{"$f":"IF('III Tool Overview'!$H$6=\"Western Isles Health Board\",0,IF('III Tool Overview'!$H$6=\"Eilean Siar Local Authority\",0,new_yll(2,B272,C272,D272,$C$1,G272,1,F272,E272*F272)))","v":4.9278250310320209},{"$f":"IF('III Tool Overview'!$H$6=\"Western Isles Health Board\",0,IF('III Tool Overview'!$H$6=\"Eilean Siar Local Authority\",0,new_yll(2,B272,C272,D272,$C$1,G272+H272,1,F272,E272*F272)))","v":4.9278250310320209},0,{"$f":"IF('III Tool Overview'!$H$6=\"Western Isles Health Board\",0,IF('III Tool Overview'!$H$6=\"Eilean Siar Local Authority\",0,new_yll(5,B272,C272,D272,$C$1,G272,1,F272,E272*F272)))","v":20.772633979297051},{"$f":"IF('III Tool Overview'!$H$6=\"Western Isles Health Board\",0,IF('III Tool Overview'!$H$6=\"Eilean Siar Local Authority\",0,new_yll(5,B272,C272,D272,$C$1,G272+H272,1,F272,E272*F272)))","v":20.772633979297051},0,{"$f":"IF('III Tool Overview'!$H$6=\"Western Isles Health Board\",0,IF('III Tool Overview'!$H$6=\"Eilean Siar Local Authority\",0,new_yll(10,B272,C272,D272,$C$1,G272,1,F272,E272*F272)))","v":50.629923482493055},{"$f":"IF('III Tool Overview'!$H$6=\"Western Isles Health Board\",0,IF('III Tool Overview'!$H$6=\"Eilean Siar Local Authority\",0,new_yll(10,B272,C272,D272,$C$1,G272+H272,1,F272,E272*F272)))","v":50.629923482493055},0,{"$f":"IF('III Tool Overview'!$H$6=\"Western Isles Health Board\",0,IF('III Tool Overview'!$H$6=\"Eilean Siar Local Authority\",0,new_yll(20,B272,C272,D272,$C$1,G272,1,F272,E272*F272)))","v":119.86493521844451},{"$f":"IF('III Tool Overview'!$H$6=\"Western Isles Health Board\",0,IF('III Tool Overview'!$H$6=\"Eilean Siar Local Authority\",0,new_yll(20,B272,C272,D272,$C$1,G272+H272,1,F272,E272*F272)))","v":119.86493521844451},0,{"$f":"IF('III Tool Overview'!$H$6=\"Western Isles Health Board\",0,IF('III Tool Overview'!$H$6=\"Eilean Siar Local Authority\",0,hosp_count(2,B272,C272,D272,$C$1,G272,1,F272,E272*F272)))","v":6.3529416066540705},{"$f":"IF('III Tool Overview'!$H$6=\"Western Isles Health Board\",0,IF('III Tool Overview'!$H$6=\"Eilean Siar Local Authority\",0,hosp_count(2,B272,C272,D272,$C$1,G272+H272,1,F272,E272*F272)))","v":6.3529416066540705},0,{"$f":"IF('III Tool Overview'!$H$6=\"Western Isles Health Board\",0,IF('III Tool Overview'!$H$6=\"Eilean Siar Local Authority\",0,hosp_count(5,B272,C272,D272,$C$1,G272,1,F272,E272*F272)))","v":26.238996691667236},{"$f":"IF('III Tool Overview'!$H$6=\"Western Isles Health Board\",0,IF('III Tool Overview'!$H$6=\"Eilean Siar Local Authority\",0,hosp_count(5,B272,C272,D272,$C$1,G272+H272,1,F272,E272*F272)))","v":26.238996691667236},0,{"$f":"IF('III Tool Overview'!$H$6=\"Western Isles Health Board\",0,IF('III Tool Overview'!$H$6=\"Eilean Siar Local Authority\",0,hosp_count(10,B272,C272,D272,$C$1,G272,1,F272,E272*F272)))","v":62.149629940327401},{"$f":"IF('III Tool Overview'!$H$6=\"Western Isles Health Board\",0,IF('III Tool Overview'!$H$6=\"Eilean Siar Local Authority\",0,hosp_count(10,B272,C272,D272,$C$1,G272+H272,1,F272,E272*F272)))","v":62.149629940327401},0,{"$f":"IF('III Tool Overview'!$H$6=\"Western Isles Health Board\",0,IF('III Tool Overview'!$H$6=\"Eilean Siar Local Authority\",0,hosp_count(20,B272,C272,D272,$C$1,G272,1,F272,E272*F272)))","v":143.58872850093951},{"$f":"IF('III Tool Overview'!$H$6=\"Western Isles Health Board\",0,IF('III Tool Overview'!$H$6=\"Eilean Siar Local Authority\",0,hosp_count(20,B272,C272,D272,$C$1,G272+H272,1,F272,E272*F272)))","v":143.58872850093951},0]
["Female 65-69",67.5,"female",5,{"$f":"HLOOKUP('III Tool Overview'!$H$6,Prevalence!$B$2:$AV$268,Prevalence!AW260,FALSE)","v":0.85714285714285721},{"$f":"HLOOKUP('III Tool Overview'!$H$6,LookUpData_Pop!$B$1:$AV$269,LookUpData_Pop!BB265,FALSE)/5","v":15.6},{"$f":"'III Tool Overview'!$H$9/110","v":0},{"$f":"IF('III Tool Overview'!$H$10=\"Even distribution\",Targeting!C262,IF('III Tool Overview'!$H$10=\"Targeting to Q1\",Targeting!D262,IF('III Tool Overview'!$H$10=\"Targeting to Q1 & Q2\",Targeting!E262,IF('III Tool Overview'!$H$10=\"Proportionate to need\",Targeting!F262))))","v":0},{"$f":"IF('III Tool Overview'!$H$6=\"Western Isles Health Board\",0,IF('III Tool Overview'!$H$6=\"Eilean Siar Local Authority\",0,new_ci(2,B273,C273,D273,$C$1,G273,1,F273,E273*F273)))","v":0.12378005496282318},{"$f":"IF('III Tool Overview'!$H$6=\"Western Isles Health Board\",0,IF('III Tool Overview'!$H$6=\"Eilean Siar Local Authority\",0,new_ci(2,B273,C273,D273,$C$1,G273+H273,1,F273,E273*F273)))","v":0.12378005496282318},{"$f":"IF('III Tool Overview'!$H$6=\"Western Isles Health Board\",0,IF('III Tool Overview'!$H$6=\"Eilean Siar Local Authority\",0,new_ci(5,B273,C273,D273,$C$1,G273,1,F273,E273*F273)))","v":0.54218658743709236},{"$f":"IF('III Tool Overview'!$H$6=\"Western Isles Health Board\",0,IF('III Tool Overview'!$H$6=\"Eilean Siar Local Authority\",0,new_ci(5,B273,C273,D273,$C$1,G273+H273,1,F273,E273*F273)))","v":0.54218658743709236},{"$f":"IF('III Tool Overview'!$H$6=\"Western Isles Health Board\",0,IF('III Tool Overview'!$H$6=\"Eilean Siar Local Authority\",0,new_ci(10,B273,C273,D273,$C$1,G273,1,F273,E273*F273)))","v":1.4200016945280016},{"$f":"IF('III Tool Overview'!$H$6=\"Western Isles Health Board\",0,IF('III Tool Overview'!$H$6=\"Eilean Siar Local Authority\",0,new_ci(10,B273,C273,D273,$C$1,G273+H273,1,F273,E273*F273)))","v":1.4200016945280016},{"$f":"IF('III Tool Overview'!$H$6=\"Western Isles Health Board\",0,IF('III Tool Overview'!$H$6=\"Eilean Siar Local Authority\",0,new_ci(20,B273,C273,D273,$C$1,G273,1,F273,E273*F273)))","v":4.0157944643123216},{"$f":"IF('III Tool Overview'!$H$6=\"Western Isles Health Board\",0,IF('III Tool Overview'!$H$6=\"Eilean Siar Local Authority\",0,new_ci(20,B273,C273,D273,$C$1,G273+H273,1,F273,E273*F273)))","v":4.0157944643123216},{"$f":"IF('III Tool Overview'!$H$6=\"Western Isles Health Board\",0,IF('III Tool Overview'!$H$6=\"Eilean Siar Local Authority\",0,new_yll(2,B273,C273,D273,$C$1,G273,1,F273,E273*F273)))","v":3.8371817038475187},{"$f":"IF('III Tool Overview'!$H$6=\"Western Isles Health Board\",0,IF('III Tool Overview'!$H$6=\"Eilean Siar Local Authority\",0,new_yll(2,B273,C273,D273,$C$1,G273+H273,1,F273,E273*F273)))","v":3.8371817038475187},0,{"$f":"IF('III Tool Overview'!$H$6=\"Western Isles Health Board\",0,IF('III Tool Overview'!$H$6=\"Eilean Siar Local Authority\",0,new_yll(5,B273,C273,D273,$C$1,G273,1,F273,E273*F273)))","v":15.954639702748324},{"$f":"IF('III Tool Overview'!$H$6=\"Western Isles Health Board\",0,IF('III Tool Overview'!$H$6=\"Eilean Siar Local Authority\",0,new_yll(5,B273,C273,D273,$C$1,G273+H273,1,F273,E273*F273)))","v":15.954639702748324},0,{"$f":"IF('III Tool Overview'!$H$6=\"Western Isles Health Board\",0,IF('III Tool Overview'!$H$6=\"Eilean Siar Local Authority\",0,new_yll(10,B273,C273,D273,$C$1,G273,1,F273,E273*F273)))","v":37.802495220653228},{"$f":"IF('III Tool Overview'!$H$6=\"Western Isles Health Board\",0,IF('III Tool Overview'!$H$6=\"Eilean Siar Local Authority\",0,new_yll(10,B273,C273,D273,$C$1,G273+H273,1,F273,E273*F273)))","v":37.802495220653228},0,{"$f":"IF('III Tool Overview'!$H$6=\"Western Isles Health Board\",0,IF('III Tool Overview'!$H$6=\"Eilean Siar Local Authority\",0,new_yll(20,B273,C273,D273,$C$1,G273,1,F273,E273*F273)))","v":82.222885085739819},{"$f":"IF('III Tool Overview'!$H$6=\"Western Isles Health Board\",0,IF('III Tool Overview'!$H$6=\"Eilean Siar Local Authority\",0,new_yll(20,B273,C273,D273,$C$1,G273+H273,1,F273,E273*F273)))","v":82.222885085739819},0,{"$f":"IF('III Tool Overview'!$H$6=\"Western Isles Health Board\",0,IF('III Tool Overview'!$H$6=\"Eilean Siar Local Authority\",0,hosp_count(2,B273,C273,D273,$C$1,G273,1,F273,E273*F273)))","v":4.1934376816148431},{"$f":"IF('III Tool Overview'!$H$6=\"Western Isles Health Board\",0,IF('III Tool Overview'!$H$6=\"Eilean Siar Local Authority\",0,hosp_count(2,B273,C273,D273,$C$1,G273+H273,1,F273,E273*F273)))","v":4.1934376816148431},0,{"$f":"IF('III Tool Overview'!$H$6=\"Western Isles Health Board\",0,IF('III Tool Overview'!$H$6=\"Eilean Siar Local Authority\",0,hosp_count(5,B273,C273,D273,$C$1,G273,1,F273,E273*F273)))","v":17.2344431909317},{"$f":"IF('III Tool Overview'!$H$6=\"Western Isles Health Board\",0,IF('III Tool Overview'!$H$6=\"Eilean Siar Local Authority\",0,hosp_count(5,B273,C273,D273,$C$1,G273+H273,1,F273,E273*F273)))","v":17.2344431909317},0,{"$f":"IF('III Tool Overview'!$H$6=\"Western Isles Health Board\",0,IF('III Tool Overview'!$H$6=\"Eilean Siar Local Authority\",0,hosp_count(10,B273,C273,D273,$C$1,G273,1,F273,E273*F273)))","v":40.408876351003236},{"$f":"IF('III Tool Overview'!$H$6=\"Western Isles Health Board\",0,IF('III Tool Overview'!$H$6=\"Eilean Siar Local Authority\",0,hosp_count(10,B273,C273,D273,$C$1,G273+H273,1,F273,E273*F273)))","v":40.408876351003236},0,{"$f":"IF('III Tool Overview'!$H$6=\"Western Isles Health Board\",0,IF('III Tool Overview'!$H$6=\"Eilean Siar Local Authority\",0,hosp_count(20,B273,C273,D273,$C$1,G273,1,F273,E273*F273)))","v":90.593668934645464},{"$f":"IF('III Tool Overview'!$H$6=\"Western Isles Health Board\",0,IF('III Tool Overview'!$H$6=\"Eilean Siar Local Authority\",0,hosp_count(20,B273,C273,D273,$C$1,G273+H273,1,F273,E273*F273)))","v":90.593668934645464},0]
["Female 70-74",72.5,"female",5,{"$f":"HLOOKUP('III Tool Overview'!$H$6,Prevalence!$B$2:$AV$268,Prevalence!AW261,FALSE)","v":0},{"$f":"HLOOKUP('III Tool Overview'!$H$6,LookUpData_Pop!$B$1:$AV$269,LookUpData_Pop!BB266,FALSE)/5","v":13.2}]
["Female 75-79",77.5,"female",5,{"$f":"HLOOKUP('III Tool Overview'!$H$6,Prevalence!$B$2:$AV$268,Prevalence!AW262,FALSE)","v":0},{"$f":"HLOOKUP('III Tool Overview'!$H$6,LookUpData_Pop!$B$1:$AV$269,LookUpData_Pop!BB267,FALSE)/5","v":9.1999999999999993}]
["Female 80-84",82.5,"female",5,{"$f":"HLOOKUP('III Tool Overview'!$H$6,Prevalence!$B$2:$AV$268,Prevalence!AW263,FALSE)","v":0},{"$f":"HLOOKUP('III Tool Overview'!$H$6,LookUpData_Pop!$B$1:$AV$269,LookUpData_Pop!BB268,FALSE)/5","v":6.4}]
["Female 85-89",87.5,"female",5,{"$f":"HLOOKUP('III Tool Overview'!$H$6,Prevalence!$B$2:$AV$268,Prevalence!AW264,FALSE)","v":0},{"$f":"HLOOKUP('III Tool Overview'!$H$6,LookUpData_Pop!$B$1:$AV$269,LookUpData_Pop!BB269,FALSE)/5","v":3.4}]
["Female 90+",95,"female",5,null,{"$f":"HLOOKUP('III Tool Overview'!$H$6,LookUpData_Pop!$B$1:$AV$269,LookUpData_Pop!BB270,FALSE)/5","v":5}]
["TOTAL",null,null,null,null,{"$f":"SUM(F263:F273)","v":237.2},{"$f":"SUM(G263:G273)","v":0},{"$f":"SUM(H263:H273)","v":0},0.49246583386791354,0.49246583386791354,2.170665930645626,2.170665930645626,5.7632138192807441,5.7632138192807441,17.054129862195381,17.054129862195381,20.422193089152046,20.422193089152046,0,86.677140872082077,86.677140872082077,0,214.31642339148982,214.31642339148982,0,531.2688576615385,531.2688576615385,0,37.55944318516444,37.55944318516444,0,155.64553073326849,155.64553073326849,0,371.22905540593689,371.22905540593689,0,876.26748404349337,876.26748404349337,0]

{"sheet":"Targeting","index":4,"n_rows":275,"n_cols":56,"rows_kept":275,"cut":false,"hidden":false,"merged":[]}
[null,null,"Even distribution","Targeting to Q1","Targeting to Q1 & Q2","Proportionate to need",null,null,"Scotland","Ayrshire & Arran Health Board","Borders Health Board","Dumfries & Galloway Health Board","Fife Health Board","Forth Valley Health Board","Grampian Health Board","Greater Glasgow & Clyde Health Board","Highland Health Board","Lanarkshire Health Board","Lothian Health Board","Orkney Health Board","Shetland Health Board","Tayside Health Board","Western Isles Health Board","Aberdeen City Local Authority","Aberdeenshire Local Authority","Angus Local Authority","Argyll & Bute Local Authority","Clackmannanshire Local Authority","Dumfries & Galloway Local Authority","Dundee City Local Authority","East Ayrshire Local Authority","East Dunbartonshire Local Authority","East Lothian Local Authority","East Renfrewshire Local Authority","Edinburgh, City of Local Authority","Eilean Siar Local Authority","Falkirk Local Authority","Fife Local Authority","Glasgow City Local Authority","Highland Local Authority","Inverclyde Local Authority","Midlothian Local Authority","Moray Local Authority","North Ayrshire Local Authority","North Lanarkshire Local Authority","Orkney Islands Local Authority","Perth & Kinross Local Authority","Renfrewshire Local Authority","Scottish Borders Local Authority","Shetland Islands Local Authority","South Ayrshire Local Authority","South Lanarkshire Local Authority","Stirling Local Authority","West Dunbartonshire Local Authority","West Lothian Local Authority",1]
["SIMD","Population Group",null,null,null,null,null,null,null,null,null,null,null,null,null,null,null,null,null,null,null,null,null,null,null,null,null,null,null,null,null,null,null,null,null,null,null,null,null,null,null,null,null,null,null,null,null,null,null,null,null,null,null,null,null,2]
[null,"All, by SIMD",null,null,null,null,null,null,null,null,null,null,null,null,null,null,null,null,null,null,null,null,null,null,null,null,null,null,null,null,null,null,null,null,null,null,null,null,null,null,null,null,null,null,null,null,null,null,null,null,null,null,null,null,null,3]
[null,"Total",null,null,null,null,null,null,null,null,null,null,null,null,null,null,null,null,null,null,null,null,null,null,null,null,null,null,null,null,null,null,null,null,null,null,null,null,null,null,null,null,null,null,null,null,null,null,null,null,null,null,null,null,null,4]
[null,"Q 1",null,null,null,null,null,null,null,null,null,null,null,null,null,null,null,null,null,null,null,null,null,null,null,null,null,null,null,null,null,null,null,null,null,null,null,null,null,null,null,null,null,null,null,null,null,null,null,null,null,null,null,null,null,5]
[null,"Q 2",null,null,null,null,null,null,null,null,null,null,null,null,null,null,null,null,null,null,null,null,null,null,null,null,null,null,null,null,null,null,null,null,null,null,null,null,null,null,null,null,null,null,null,null,null,null,null,null,null,null,null,null,null,6]
[null,"Q 3",null,null,null,null,null,null,null,null,null,null,null,null,null,null,null,null,null,null,null,null,null,null,null,null,null,null,null,null,null,null,null,null,null,null,null,null,null,null,null,null,null,null,null,null,null,null,null,null,null,null,null,null,null,7]
[null,"Q 4",null,null,null,null,null,null,null,null,null,null,null,null,null,null,null,null,null,null,null,null,null,null,null,null,null,null,null,null,null,null,null,null,null,null,null,null,null,null,null,null,null,null,null,null,null,null,null,null,null,null,null,null,null,8]
[null,"Q 5",null,null,null,null,null,null,null,null,null,null,null,null,null,null,null,null,null,null,null,null,null,null,null,null,null,null,null,null,null,null,null,null,null,null,null,null,null,null,null,null,null,null,null,null,null,null,null,null,null,null,null,null,null,9]
[null,"Males, by SIMD",null,null,null,null,null,null,null,null,null,null,null,null,null,null,null,null,null,null,null,null,null,null,null,null,null,null,null,null,null,null,null,null,null,null,null,null,null,null,null,null,null,null,null,null,null,null,null,null,null,null,null,null,null,10]
[null,"Males",null,null,null,null,null,null,null,null,null,null,null,null,null,null,null,null,null,null,null,null,null,null,null,null,null,null,null,null,null,null,null,null,null,null,null,null,null,null,null,null,null,null,null,null,null,null,null,null,null,null,null,null,null,11]
[null,"Q 1",null,null,null,null,null,null,null,null,null,null,null,null,null,null,null,null,null,null,null,null,null,null,null,null,null,null,null,null,null,null,null,null,null,null,null,null,null,null,null,null,null,null,null,null,null,null,null,null,null,null,null,null,null,12]
[null,"Q 2",null,null,null,null,null,null,null,null,null,null,null,null,null,null,null,null,null,null,null,null,null,null,null,null,null,null,null,null,null,null,null,null,null,null,null,null,null,null,null,null,null,null,null,null,null,null,null,null,null,null,null,null,null,13]
[null,"Q 3",null,null,null,null,null,null,null,null,null,null,null,null,null,null,null,null,null,null,null,null,null,null,null,null,null,null,null,null,null,null,null,null,null,null,null,null,null,null,null,null,null,null,null,null,null,null,null,null,null,null,null,null,null,14]
[null,"Q 4",null,null,null,null,null,null,null,null,null,null,null,null,null,null,null,null,null,null,null,null,null,null,null,null,null,null,null,null,null,null,null,null,null,null,null,null,null,null,null,null,null,null,null,null,null,null,null,null,null,null,null,null,null,15]
[null,"Q 5",null,null,null,null,null,null,null,null,null,null,null,null,null,null,null,null,null,null,null,null,null,null,null,null,null,null,null,null,null,null,null,null,null,null,null,null,null,null,null,null,null,null,null,null,null,null,null,null,null,null,null,null,null,16]
[null,"Females, by SIMD",null,null,null,null,null,null,null,null,null,null,null,null,null,null,null,null,null,null,null,null,null,null,null,null,null,null,null,null,null,null,null,null,null,null,null,null,null,null,null,null,null,null,null,null,null,null,null,null,null,null,null,null,null,17]
[null,"Females",null,null,null,null,null,null,null,null,null,null,null,null,null,null,null,null,null,null,null,null,null,null,null,null,null,null,null,null,null,null,null,null,null,null,null,null,null,null,null,null,null,null,null,null,null,null,null,null,null,null,null,null,null,18]
[null,"Q 1",null,null,null,null,null,null,null,null,null,null,null,null,null,null,null,null,null,null,null,null,null,null,null,null,null,null,null,null,null,null,null,null,null,null,null,null,null,null,null,null,null,null,null,null,null,null,null,null,null,null,null,null,null,19]
[null,"Q 2",null,null,null,null,null,null,null,null,null,null,null,null,null,null,null,null,null,null,null,null,null,null,null,null,null,null,null,null,null,null,null,null,null,null,null,null,null,null,null,null,null,null,null,null,null,null,null,null,null,null,null,null,null,20]
[null,"Q 3",null,null,null,null,null,null,null,null,null,null,null,null,null,null,null,null,null,null,null,null,null,null,null,null,null,null,null,null,null,null,null,null,null,null,null,null,null,null,null,null,null,null,null,null,null,null,null,null,null,null,null,null,null,21]
[null,"Q 4",null,null,null,null,null,null,null,null,null,null,null,null,null,null,null,null,null,null,null,null,null,null,null,null,null,null,null,null,null,null,null,null,null,null,null,null,null,null,null,null,null,null,null,null,null,null,null,null,null,null,null,null,null,22]
[null,"Q 5",null,null,null,null,null,null,null,null,null,null,null,null,null,null,null,null,null,null,null,null,null,null,null,null,null,null,null,null,null,null,null,null,null,null,null,null,null,null,null,null,null,null,null,null,null,null,null,null,null,null,null,null,null,23]
[null,"age/sex breakdown: All",null,null,null,null,null,null,null,null,null,null,null,null,null,null,null,null,null,null,null,null,null,null,null,null,null,null,null,null,null,null,null,null,null,null,null,null,null,null,null,null,null,null,null,null,null,null,null,null,null,null,null,null,null,24]
[null,"Male <1",null,null,null,null,null,null,null,null,null,null,null,null,null,null,null,null,null,null,null,null,null,null,null,null,null,null,null,null,null,null,null,null,null,null,null,null,null,null,null,null,null,null,null,null,null,null,null,null,null,null,null,null,null,25]
[null,"Male 1-4",null,null,null,null,null,null,null,null,null,null,null,null,null,null,null,null,null,null,null,null,null,null,null,null,null,null,null,null,null,null,null,null,null,null,null,null,null,null,null,null,null,null,null,null,null,null,null,null,null,null,null,null,null,26]
[null,"Male 5-9",null,null,null,null,null,null,null,null,null,null,null,null,null,null,null,null,null,null,null,null,null,null,null,null,null,null,null,null,null,null,null,null,null,null,null,null,null,null,null,null,null,null,null,null,null,null,null,null,null,null,null,null,null,27]
[null,"Male 10-14",null,null,null,null,null,null,null,null,null,null,null,null,null,null,null,null,null,null,null,null,null,null,null,null,null,null,null,null,null,null,null,null,null,null,null,null,null,null,null,null,null,null,null,null,null,null,null,null,null,null,null,null,null,28]
[null,"Male 15-19",null,null,null,null,null,null,null,null,null,null,null,null,null,null,null,null,null,null,null,null,null,null,null,null,null,null,null,null,null,null,null,null,null,null,null,null,null,null,null,null,null,null,null,null,null,null,null,null,null,null,null,null,null,29]
[null,"Male 20-24",null,null,null,null,null,null,null,null,null,null,null,null,null,null,null,null,null,null,null,null,null,null,null,null,null,null,null,null,null,null,null,null,null,null,null,null,null,null,null,null,null,null,null,null,null,null,null,null,null,null,null,null,null,30]
[null,"Male 25-29",null,null,null,null,null,null,null,null,null,null,null,null,null,null,null,null,null,null,null,null,null,null,null,null,null,null,null,null,null,null,null,null,null,null,null,null,null,null,null,null,null,null,null,null,null,null,null,null,null,null,null,null,null,31]
[null,"Male 30-34",null,null,null,null,null,null,null,null,null,null,null,null,null,null,null,null,null,null,null,null,null,null,null,null,null,null,null,null,null,null,null,null,null,null,null,null,null,null,null,null,null,null,null,null,null,null,null,null,null,null,null,null,null,32]
[null,"Male 35-39",null,null,null,null,null,null,null,null,null,null,null,null,null,null,null,null,null,null,null,null,null,null,null,null,null,null,null,null,null,null,null,null,null,null,null,null,null,null,null,null,null,null,null,null,null,null,null,null,null,null,null,null,null,33]
[null,"Male 40-44",null,null,null,null,null,null,null,null,null,null,null,null,null,null,null,null,null,null,null,null,null,null,null,null,null,null,null,null,null,null,null,null,null,null,null,null,null,null,null,null,null,null,null,null,null,null,null,null,null,null,null,null,null,34]
[null,"Male 45-49",null,null,null,null,null,null,null,null,null,null,null,null,null,null,null,null,null,null,null,null,null,null,null,null,null,null,null,null,null,null,null,null,null,null,null,null,null,null,null,null,null,null,null,null,null,null,null,null,null,null,null,null,null,35]
[null,"Male 50-54",null,null,null,null,null,null,null,null,null,null,null,null,null,null,null,null,null,null,null,null,null,null,null,null,null,null,null,null,null,null,null,null,null,null,null,null,null,null,null,null,null,null,null,null,null,null,null,null,null,null,null,null,null,36]
[null,"Male 55-59",null,null,null,null,null,null,null,null,null,null,null,null,null,null,null,null,null,null,null,null,null,null,null,null,null,null,null,null,null,null,null,null,null,null,null,null,null,null,null,null,null,null,null,null,null,null,null,null,null,null,null,null,null,37]
[null,"Male 60-64",null,null,null,null,null,null,null,null,null,null,null,null,null,null,null,null,null,null,null,null,null,null,null,null,null,null,null,null,null,null,null,null,null,null,null,null,null,null,null,null,null,null,null,null,null,null,null,null,null,null,null,null,null,38]
[null,"Male 65-69",null,null,null,null,null,null,null,null,null,null,null,null,null,null,null,null,null,null,null,null,null,null,null,null,null,null,null,null,null,null,null,null,null,null,null,null,null,null,null,null,null,null,null,null,null,null,null,null,null,null,null,null,null,39]
[null,"Male 70-74",null,null,null,null,null,null,null,null,null,null,null,null,null,null,null,null,null,null,null,null,null,null,null,null,null,null,null,null,null,null,null,null,null,null,null,null,null,null,null,null,null,null,null,null,null,null,null,null,null,null,null,null,null,40]
[null,"Male 75-79",null,null,null,null,null,null,null,null,null,null,null,null,null,null,null,null,null,null,null,null,null,null,null,null,null,null,null,null,null,null,null,null,null,null,null,null,null,null,null,null,null,null,null,null,null,null,null,null,null,null,null,null,null,41]
[null,"Male 80-84",null,null,null,null,null,null,null,null,null,null,null,null,null,null,null,null,null,null,null,null,null,null,null,null,null,null,null,null,null,null,null,null,null,null,null,null,null,null,null,null,null,null,null,null,null,null,null,null,null,null,null,null,null,42]
[null,"Male 85+",null,null,null,null,null,null,null,null,null,null,null,null,null,null,null,null,null,null,null,null,null,null,null,null,null,null,null,null,null,null,null,null,null,null,null,null,null,null,null,null,null,null,null,null,null,null,null,null,null,null,null,null,null,43]
[null,"Female <1",null,null,null,null,null,null,null,null,null,null,null,null,null,null,null,null,null,null,null,null,null,null,null,null,null,null,null,null,null,null,null,null,null,null,null,null,null,null,null,null,null,null,null,null,null,null,null,null,null,null,null,null,null,44]
[null,"Female 1-4",null,null,null,null,null,null,null,null,null,null,null,null,null,null,null,null,null,null,null,null,null,null,null,null,null,null,null,null,null,null,null,null,null,null,null,null,null,null,null,null,null,null,null,null,null,null,null,null,null,null,null,null,null,45]
[null,"Female 5-9",null,null,null,null,null,null,null,null,null,null,null,null,null,null,null,null,null,null,null,null,null,null,null,null,null,null,null,null,null,null,null,null,null,null,null,null,null,null,null,null,null,null,null,null,null,null,null,null,null,null,null,null,null,46]
[null,"Female 10-14",null,null,null,null,null,null,null,null,null,null,null,null,null,null,null,null,null,null,null,null,null,null,null,null,null,null,null,null,null,null,null,null,null,null,null,null,null,null,null,null,null,null,null,null,null,null,null,null,null,null,null,null,null,47]
[null,"Female 15-19",null,null,null,null,null,null,null,null,null,null,null,null,null,null,null,null,null,null,null,null,null,null,null,null,null,null,null,null,null,null,null,null,null,null,null,null,null,null,null,null,null,null,null,null,null,null,null,null,null,null,null,null,null,48]
[null,"Female 20-24",null,null,null,null,null,null,null,null,null,null,null,null,null,null,null,null,null,null,null,null,null,null,null,null,null,null,null,null,null,null,null,null,null,null,null,null,null,null,null,null,null,null,null,null,null,null,null,null,null,null,null,null,null,49]
[null,"Female 25-29",null,null,null,null,null,null,null,null,null,null,null,null,null,null,null,null,null,null,null,null,null,null,null,null,null,null,null,null,null,null,null,null,null,null,null,null,null,null,null,null,null,null,null,null,null,null,null,null,null,null,null,null,null,50]
[null,"Female 30-34",null,null,null,null,null,null,null,null,null,null,null,null,null,null,null,null,null,null,null,null,null,null,null,null,null,null,null,null,null,null,null,null,null,null,null,null,null,null,null,null,null,null,null,null,null,null,null,null,null,null,null,null,null,51]
[null,"Female 35-39",null,null,null,null,null,null,null,null,null,null,null,null,null,null,null,null,null,null,null,null,null,null,null,null,null,null,null,null,null,null,null,null,null,null,null,null,null,null,null,null,null,null,null,null,null,null,null,null,null,null,null,null,null,52]
[null,"Female 40-44",null,null,null,null,null,null,null,null,null,null,null,null,null,null,null,null,null,null,null,null,null,null,null,null,null,null,null,null,null,null,null,null,null,null,null,null,null,null,null,null,null,null,null,null,null,null,null,null,null,null,null,null,null,53]
[null,"Female 45-49",null,null,null,null,null,null,null,null,null,null,null,null,null,null,null,null,null,null,null,null,null,null,null,null,null,null,null,null,null,null,null,null,null,null,null,null,null,null,null,null,null,null,null,null,null,null,null,null,null,null,null,null,null,54]
[null,"Female 50-54",null,null,null,null,null,null,null,null,null,null,null,null,null,null,null,null,null,null,null,null,null,null,null,null,null,null,null,null,null,null,null,null,null,null,null,null,null,null,null,null,null,null,null,null,null,null,null,null,null,null,null,null,null,55]
[null,"Female 55-59",null,null,null,null,null,null,null,null,null,null,null,null,null,null,null,null,null,null,null,null,null,null,null,null,null,null,null,null,null,null,null,null,null,null,null,null,null,null,null,null,null,null,null,null,null,null,null,null,null,null,null,null,null,56]
[null,"Female 60-64",null,null,null,null,null,null,null,null,null,null,null,null,null,null,null,null,null,null,null,null,null,null,null,null,null,null,null,null,null,null,null,null,null,null,null,null,null,null,null,null,null,null,null,null,null,null,null,null,null,null,null,null,null,57]
[null,"Female 65-69",null,null,null,null,null,null,null,null,null,null,null,null,null,null,null,null,null,null,null,null,null,null,null,null,null,null,null,null,null,null,null,null,null,null,null,null,null,null,null,null,null,null,null,null,null,null,null,null,null,null,null,null,null,58]
[null,"Female 70-74",null,null,null,null,null,null,null,null,null,null,null,null,null,null,null,null,null,null,null,null,null,null,null,null,null,null,null,null,null,null,null,null,null,null,null,null,null,null,null,null,null,null,null,null,null,null,null,null,null,null,null,null,null,59]
[null,"Female 75-79",null,null,null,null,null,null,null,null,null,null,null,null,null,null,null,null,null,null,null,null,null,null,null,null,null,null,null,null,null,null,null,null,null,null,null,null,null,null,null,null,null,null,null,null,null,null,null,null,null,null,null,null,null,60]
[null,"Female 80-84",null,null,null,null,null,null,null,null,null,null,null,null,null,null,null,null,null,null,null,null,null,null,null,null,null,null,null,null,null,null,null,null,null,null,null,null,null,null,null,null,null,null,null,null,null,null,null,null,null,null,null,null,null,61]
[null,"Female 85+",null,null,null,null,null,null,null,null,null,null,null,null,null,null,null,null,null,null,null,null,null,null,null,null,null,null,null,null,null,null,null,null,null,null,null,null,null,null,null,null,null,null,null,null,null,null,null,null,null,null,null,null,null,62]
[null,"age/sex breakdown: Q1",null,null,null,null,null,null,null,null,null,null,null,null,null,null,null,null,null,null,null,null,null,null,null,null,null,null,null,null,null,null,null,null,null,null,null,null,null,null,null,null,null,null,null,null,null,null,null,null,null,null,null,null,null,63]
[1,"Male <1",null,null,null,null,null,null,null,null,null,null,null,null,null,null,null,null,null,null,null,null,null,null,null,null,null,null,null,null,null,null,null,null,null,null,null,null,null,null,null,null,null,null,null,null,null,null,null,null,null,null,null,null,null,64]
[1,"Male 1-4",null,null,null,null,null,null,null,null,null,null,null,null,null,null,null,null,null,null,null,null,null,null,null,null,null,null,null,null,null,null,null,null,null,null,null,null,null,null,null,null,null,null,null,null,null,null,null,null,null,null,null,null,null,65]
[1,"Male 5-9",null,null,null,null,null,null,null,null,null,null,null,null,null,null,null,null,null,null,null,null,null,null,null,null,null,null,null,null,null,null,null,null,null,null,null,null,null,null,null,null,null,null,null,null,null,null,null,null,null,null,null,null,null,66]
[1,"Male 10-14",null,null,null,null,null,null,null,null,null,null,null,null,null,null,null,null,null,null,null,null,null,null,null,null,null,null,null,null,null,null,null,null,null,null,null,null,null,null,null,null,null,null,null,null,null,null,null,null,null,null,null,null,null,67]
[1,"Male 15-19",{"$f":"'III Tool Overview'!$H$8/110","v":1.3090909090909091},{"$f":"'III Tool Overview'!$H$8/22","v":6.5454545454545459},{"$f":"'III Tool Overview'!$H$8/44","v":3.2727272727272729},{"$f":"G68*'III Tool Overview'!$H$8","v":0},{"$f":"HLOOKUP('III Tool Overview'!$H$6,Targeting!$I$1:$BC$269,Targeting!BD68,FALSE)","v":0},{"$f":"Baseline_Data_2012!B68","v":5645.86},{"$f":"Baseline_Data_2012!B68/Baseline_Data_2012!B$269","v":5.2114251264911886E-3},{"$f":"Baseline_Data_2012!C68/Baseline_Data_2012!C$269","v":7.0761768994278863E-3},{"$f":"Baseline_Data_2012!D68/Baseline_Data_2012!D$269","v":1.2895252678802854E-3},{"$f":"Baseline_Data_2012!E68/Baseline_Data_2012!E$269","v":2.497803797388442E-3},{"$f":"Baseline_Data_2012!F68/Baseline_Data_2012!F$269","v":4.8376876974862782E-3},{"$f":"Baseline_Data_2012!G68/Baseline_Data_2012!G$269","v":4.0671383189828597E-3},{"$f":"Baseline_Data_2012!H68/Baseline_Data_2012!H$269","v":1.481227331608375E-3},{"$f":"Baseline_Data_2012!I68/Baseline_Data_2012!I$269","v":8.9465871241086008E-3},{"$f":"Baseline_Data_2012!J68/Baseline_Data_2012!J$269","v":2.3832984868253177E-3},{"$f":"Baseline_Data_2012!K68/Baseline_Data_2012!K$269","v":6.750077342833477E-3},{"$f":"Baseline_Data_2012!L68/Baseline_Data_2012!L$269","v":3.3055239513246301E-3},{"$f":"Baseline_Data_2012!M68/Baseline_Data_2012!M$269","v":0},{"$f":"Baseline_Data_2012!N68/Baseline_Data_2012!N$269","v":0},{"$f":"Baseline_Data_2012!O68/Baseline_Data_2012!O$269","v":4.8217546280289103E-3},{"$f":"Baseline_Data_2012!P68/Baseline_Data_2012!P$269","v":0},{"$f":"Baseline_Data_2012!Q68/Baseline_Data_2012!Q$269","v":2.9002135833404224E-3},{"$f":"Baseline_Data_2012!R68/Baseline_Data_2012!R$269","v":5.9338516967400107E-4},{"$f":"Baseline_Data_2012!S68/Baseline_Data_2012!S$269","v":2.4928476067334095E-3},{"$f":"Baseline_Data_2012!T68/Baseline_Data_2012!T$269","v":2.492100125891121E-3},{"$f":"Baseline_Data_2012!U68/Baseline_Data_2012!U$269","v":7.026579783696708E-3},{"$f":"Baseline_Data_2012!V68/Baseline_Data_2012!V$269","v":2.4829065137757945E-3},{"$f":"Baseline_Data_2012!W68/Baseline_Data_2012!W$269","v":9.9038100395152252E-3},{"$f":"Baseline_Data_2012!X68/Baseline_Data_2012!X$269","v":7.9167733544201584E-3},{"$f":"Baseline_Data_2012!Y68/Baseline_Data_2012!Y$269","v":1.5771633170479978E-3},{"$f":"Baseline_Data_2012!Z68/Baseline_Data_2012!Z$269","v":1.583467923592878E-3},{"$f":"Baseline_Data_2012!AA68/Baseline_Data_2012!AA$269","v":2.5535861552364336E-3},{"$f":"Baseline_Data_2012!AB68/Baseline_Data_2012!AB$269","v":3.5467537666755036E-3},{"$f":"Baseline_Data_2012!AC68/Baseline_Data_2012!AC$269","v":0},{"$f":"Baseline_Data_2012!AD68/Baseline_Data_2012!AD$269","v":3.5798591960788375E-3},{"$f":"Baseline_Data_2012!AE68/Baseline_Data_2012!AE$269","v":4.8268712335206732E-3},{"$f":"Baseline_Data_2012!AF68/Baseline_Data_2012!AF$269","v":1.1611323188761364E-2},{"$f":"Baseline_Data_2012!AG68/Baseline_Data_2012!AG$269","v":2.3420402726340214E-3},{"$f":"Baseline_Data_2012!AH68/Baseline_Data_2012!AH$269","v":1.1090927645883975E-2},{"$f":"Baseline_Data_2012!AI68/Baseline_Data_2012!AI$269","v":2.4528866705370279E-3},{"$f":"Baseline_Data_2012!AJ68/Baseline_Data_2012!AJ$269","v":2.8948941752906751E-4},{"$f":"Baseline_Data_2012!AK68/Baseline_Data_2012!AK$269","v":8.8234364061287301E-3},{"$f":"Baseline_Data_2012!AL68/Baseline_Data_2012!AL$269","v":8.3875277891376204E-3},{"$f":"Baseline_Data_2012!AM68/Baseline_Data_2012!AM$269","v":0},{"$f":"Baseline_Data_2012!AN68/Baseline_Data_2012!AN$269","v":1.4411363462591429E-3},{"$f":"Baseline_Data_2012!AO68/Baseline_Data_2012!AO$269","v":6.1067987392018465E-3},{"$f":"Baseline_Data_2012!AP68/Baseline_Data_2012!AP$269","v":1.2956773077530948E-3},{"$f":"Baseline_Data_2012!AQ68/Baseline_Data_2012!AQ$269","v":0},{"$f":"Baseline_Data_2012!AR68/Baseline_Data_2012!AR$269","v":3.7512299044790793E-3},{"$f":"Baseline_Data_2012!AS68/Baseline_Data_2012!AS$269","v":5.0374166532927813E-3},{"$f":"Baseline_Data_2012!AT68/Baseline_Data_2012!AT$269","v":2.9876681368119691E-3},{"$f":"Baseline_Data_2012!AU68/Baseline_Data_2012!AU$269","v":8.5521852875393174E-3},{"$f":"Baseline_Data_2012!AV68/Baseline_Data_2012!AV$269","v":3.9352768315646727E-3},68]
[1,"Male 20-24",{"$f":"'III Tool Overview'!$H$8/110","v":1.3090909090909091},{"$f":"'III Tool Overview'!$H$8/22","v":6.5454545454545459},{"$f":"'III Tool Overview'!$H$8/44","v":3.2727272727272729},{"$f":"G69*'III Tool Overview'!$H$8","v":0},{"$f":"HLOOKUP('III Tool Overview'!$H$6,Targeting!$I$1:$BC$269,Targeting!BD69,FALSE)","v":0},{"$f":"Baseline_Data_2012!B69","v":12033.78},{"$f":"Baseline_Data_2012!B69/Baseline_Data_2012!B$269","v":1.110781058309401E-2},{"$f":"Baseline_Data_2012!C69/Baseline_Data_2012!C$269","v":1.3813893724689587E-2},{"$f":"Baseline_Data_2012!D69/Baseline_Data_2012!D$269","v":2.3325236463128691E-3},{"$f":"Baseline_Data_2012!E69/Baseline_Data_2012!E$269","v":5.1886555223352969E-3},{"$f":"Baseline_Data_2012!F69/Baseline_Data_2012!F$269","v":9.1342797335245748E-3},{"$f":"Baseline_Data_2012!G69/Baseline_Data_2012!G$269","v":8.6060494644894566E-3},{"$f":"Baseline_Data_2012!H69/Baseline_Data_2012!H$269","v":4.0767724723166279E-3},{"$f":"Baseline_Data_2012!I69/Baseline_Data_2012!I$269","v":2.0259366510846442E-2},{"$f":"Baseline_Data_2012!J69/Baseline_Data_2012!J$269","v":4.3191205230630244E-3},{"$f":"Baseline_Data_2012!K69/Baseline_Data_2012!K$269","v":1.285046439536114E-2},{"$f":"Baseline_Data_2012!L69/Baseline_Data_2012!L$269","v":6.653220443948055E-3},{"$f":"Baseline_Data_2012!M69/Baseline_Data_2012!M$269","v":0},{"$f":"Baseline_Data_2012!N69/Baseline_Data_2012!N$269","v":0},{"$f":"Baseline_Data_2012!O69/Baseline_Data_2012!O$269","v":1.151308656843745E-2},{"$f":"Baseline_Data_2012!P69/Baseline_Data_2012!P$269","v":0},{"$f":"Baseline_Data_2012!Q69/Baseline_Data_2012!Q$269","v":8.571423313139764E-3},{"$f":"Baseline_Data_2012!R69/Baseline_Data_2012!R$269","v":1.1159183787899124E-3},{"$f":"Baseline_Data_2012!S69/Baseline_Data_2012!S$269","v":3.8290139239425167E-3},{"$f":"Baseline_Data_2012!T69/Baseline_Data_2012!T$269","v":4.9206262689788973E-3},{"$f":"Baseline_Data_2012!U69/Baseline_Data_2012!U$269","v":1.2636034232866349E-2},{"$f":"Baseline_Data_2012!V69/Baseline_Data_2012!V$269","v":5.1577095877645444E-3},{"$f":"Baseline_Data_2012!W69/Baseline_Data_2012!W$269","v":2.4589914055669043E-2},{"$f":"Baseline_Data_2012!X69/Baseline_Data_2012!X$269","v":1.4948590170732927E-2},{"$f":"Baseline_Data_2012!Y69/Baseline_Data_2012!Y$269","v":2.2234445259135308E-3},{"$f":"Baseline_Data_2012!Z69/Baseline_Data_2012!Z$269","v":2.6145633156998685E-3},{"$f":"Baseline_Data_2012!AA69/Baseline_Data_2012!AA$269","v":4.5710602999812413E-3},{"$f":"Baseline_Data_2012!AB69/Baseline_Data_2012!AB$269","v":7.5136722747374497E-3},{"$f":"Baseline_Data_2012!AC69/Baseline_Data_2012!AC$269","v":0},{"$f":"Baseline_Data_2012!AD69/Baseline_Data_2012!AD$269","v":8.2663553635596403E-3},{"$f":"Baseline_Data_2012!AE69/Baseline_Data_2012!AE$269","v":9.1138566277418759E-3},{"$f":"Baseline_Data_2012!AF69/Baseline_Data_2012!AF$269","v":2.7877857799068335E-2},{"$f":"Baseline_Data_2012!AG69/Baseline_Data_2012!AG$269","v":4.1061745039687389E-3},{"$f":"Baseline_Data_2012!AH69/Baseline_Data_2012!AH$269","v":2.0932706444279317E-2},{"$f":"Baseline_Data_2012!AI69/Baseline_Data_2012!AI$269","v":3.9526516633796686E-3},{"$f":"Baseline_Data_2012!AJ69/Baseline_Data_2012!AJ$269","v":7.1743029561551505E-4},{"$f":"Baseline_Data_2012!AK69/Baseline_Data_2012!AK$269","v":1.630595614264857E-2},{"$f":"Baseline_Data_2012!AL69/Baseline_Data_2012!AL$269","v":1.607686049396587E-2},{"$f":"Baseline_Data_2012!AM69/Baseline_Data_2012!AM$269","v":0},{"$f":"Baseline_Data_2012!AN69/Baseline_Data_2012!AN$269","v":4.0769971246502178E-3},{"$f":"Baseline_Data_2012!AO69/Baseline_Data_2012!AO$269","v":1.4437460603084134E-2},{"$f":"Baseline_Data_2012!AP69/Baseline_Data_2012!AP$269","v":2.3436516007886866E-3},{"$f":"Baseline_Data_2012!AQ69/Baseline_Data_2012!AQ$269","v":0},{"$f":"Baseline_Data_2012!AR69/Baseline_Data_2012!AR$269","v":9.1316435995895829E-3},{"$f":"Baseline_Data_2012!AS69/Baseline_Data_2012!AS$269","v":9.5451402357735471E-3},{"$f":"Baseline_Data_2012!AT69/Baseline_Data_2012!AT$269","v":6.5858597624507305E-3},{"$f":"Baseline_Data_2012!AU69/Baseline_Data_2012!AU$269","v":1.5755428631345811E-2},{"$f":"Baseline_Data_2012!AV69/Baseline_Data_2012!AV$269","v":7.6629587844000173E-3},69]
[1,"Male 25-29",{"$f":"'III Tool Overview'!$H$8/110","v":1.3090909090909091},{"$f":"'III Tool Overview'!$H$8/22","v":6.5454545454545459},{"$f":"'III Tool Overview'!$H$8/44","v":3.2727272727272729},{"$f":"G70*'III Tool Overview'!$H$8","v":0},{"$f":"HLOOKUP('III Tool Overview'!$H$6,Targeting!$I$1:$BC$269,Targeting!BD70,FALSE)","v":0},{"$f":"Baseline_Data_2012!B70","v":12222.21},{"$f":"Baseline_Data_2012!B70/Baseline_Data_2012!B$269","v":1.1281741363627839E-2},{"$f":"Baseline_Data_2012!C70/Baseline_Data_2012!C$269","v":1.2294758973199506E-2},{"$f":"Baseline_Data_2012!D70/Baseline_Data_2012!D$269","v":2.1334057740666481E-3},{"$f":"Baseline_Data_2012!E70/Baseline_Data_2012!E$269","v":3.9830909135011271E-3},{"$f":"Baseline_Data_2012!F70/Baseline_Data_2012!F$269","v":9.3448683152773E-3},{"$f":"Baseline_Data_2012!G70/Baseline_Data_2012!G$269","v":7.7443031321698889E-3},{"$f":"Baseline_Data_2012!H70/Baseline_Data_2012!H$269","v":4.3330267420051017E-3},{"$f":"Baseline_Data_2012!I70/Baseline_Data_2012!I$269","v":2.0927073570248263E-2},{"$f":"Baseline_Data_2012!J70/Baseline_Data_2012!J$269","v":4.7276859779473651E-3},{"$f":"Baseline_Data_2012!K70/Baseline_Data_2012!K$269","v":1.2590774436915118E-2},{"$f":"Baseline_Data_2012!L70/Baseline_Data_2012!L$269","v":7.5569177574936718E-3},{"$f":"Baseline_Data_2012!M70/Baseline_Data_2012!M$269","v":0},{"$f":"Baseline_Data_2012!N70/Baseline_Data_2012!N$269","v":0},{"$f":"Baseline_Data_2012!O70/Baseline_Data_2012!O$269","v":1.2035488315651108E-2},{"$f":"Baseline_Data_2012!P70/Baseline_Data_2012!P$269","v":0},{"$f":"Baseline_Data_2012!Q70/Baseline_Data_2012!Q$269","v":8.8011432009291041E-3},{"$f":"Baseline_Data_2012!R70/Baseline_Data_2012!R$269","v":1.5211030282314877E-3},{"$f":"Baseline_Data_2012!S70/Baseline_Data_2012!S$269","v":4.4422544351989347E-3},{"$f":"Baseline_Data_2012!T70/Baseline_Data_2012!T$269","v":4.5391823721588273E-3},{"$f":"Baseline_Data_2012!U70/Baseline_Data_2012!U$269","v":1.2104612232418696E-2},{"$f":"Baseline_Data_2012!V70/Baseline_Data_2012!V$269","v":3.95933515051629E-3},{"$f":"Baseline_Data_2012!W70/Baseline_Data_2012!W$269","v":2.5983674366516676E-2},{"$f":"Baseline_Data_2012!X70/Baseline_Data_2012!X$269","v":1.2760116569737624E-2},{"$f":"Baseline_Data_2012!Y70/Baseline_Data_2012!Y$269","v":1.4230044965846595E-3},{"$f":"Baseline_Data_2012!Z70/Baseline_Data_2012!Z$269","v":2.7618626574294381E-3},{"$f":"Baseline_Data_2012!AA70/Baseline_Data_2012!AA$269","v":4.8673327268318762E-3},{"$f":"Baseline_Data_2012!AB70/Baseline_Data_2012!AB$269","v":8.9079619752041924E-3},{"$f":"Baseline_Data_2012!AC70/Baseline_Data_2012!AC$269","v":0},{"$f":"Baseline_Data_2012!AD70/Baseline_Data_2012!AD$269","v":7.1968538609966659E-3},{"$f":"Baseline_Data_2012!AE70/Baseline_Data_2012!AE$269","v":9.32397435979356E-3},{"$f":"Baseline_Data_2012!AF70/Baseline_Data_2012!AF$269","v":2.8572197291737402E-2},{"$f":"Baseline_Data_2012!AG70/Baseline_Data_2012!AG$269","v":4.7840191839889738E-3},{"$f":"Baseline_Data_2012!AH70/Baseline_Data_2012!AH$269","v":2.1368015891131412E-2},{"$f":"Baseline_Data_2012!AI70/Baseline_Data_2012!AI$269","v":4.0998248636118896E-3},{"$f":"Baseline_Data_2012!AJ70/Baseline_Data_2012!AJ$269","v":6.2303157250821035E-4},{"$f":"Baseline_Data_2012!AK70/Baseline_Data_2012!AK$269","v":1.4320171151014027E-2},{"$f":"Baseline_Data_2012!AL70/Baseline_Data_2012!AL$269","v":1.5883938168038274E-2},{"$f":"Baseline_Data_2012!AM70/Baseline_Data_2012!AM$269","v":0},{"$f":"Baseline_Data_2012!AN70/Baseline_Data_2012!AN$269","v":3.6513765457032166E-3},{"$f":"Baseline_Data_2012!AO70/Baseline_Data_2012!AO$269","v":1.5920036019537759E-2},{"$f":"Baseline_Data_2012!AP70/Baseline_Data_2012!AP$269","v":2.1435837812091639E-3},{"$f":"Baseline_Data_2012!AQ70/Baseline_Data_2012!AQ$269","v":0},{"$f":"Baseline_Data_2012!AR70/Baseline_Data_2012!AR$269","v":9.0084280187855241E-3},{"$f":"Baseline_Data_2012!AS70/Baseline_Data_2012!AS$269","v":9.395830779571502E-3},{"$f":"Baseline_Data_2012!AT70/Baseline_Data_2012!AT$269","v":5.8649224511765369E-3},{"$f":"Baseline_Data_2012!AU70/Baseline_Data_2012!AU$269","v":1.6747140890374681E-2},{"$f":"Baseline_Data_2012!AV70/Baseline_Data_2012!AV$269","v":8.0149674918106161E-3},70]
[1,"Male 30-34",{"$f":"'III Tool Overview'!$H$8/110","v":1.3090909090909091},{"$f":"'III Tool Overview'!$H$8/22","v":6.5454545454545459},{"$f":"'III Tool Overview'!$H$8/44","v":3.2727272727272729},{"$f":"G71*'III Tool Overview'!$H$8","v":0},{"$f":"HLOOKUP('III Tool Overview'!$H$6,Targeting!$I$1:$BC$269,Targeting!BD71,FALSE)","v":0},{"$f":"Baseline_Data_2012!B71","v":7984.45},{"$f":"Baseline_Data_2012!B71/Baseline_Data_2012!B$269","v":7.3700664471333995E-3},{"$f":"Baseline_Data_2012!C71/Baseline_Data_2012!C$269","v":8.0835666973425261E-3},{"$f":"Baseline_Data_2012!D71/Baseline_Data_2012!D$269","v":1.8338669835663815E-3},{"$f":"Baseline_Data_2012!E71/Baseline_Data_2012!E$269","v":2.5124883336220126E-3},{"$f":"Baseline_Data_2012!F71/Baseline_Data_2012!F$269","v":6.2011955854004049E-3},{"$f":"Baseline_Data_2012!G71/Baseline_Data_2012!G$269","v":5.2623076753265342E-3},{"$f":"Baseline_Data_2012!H71/Baseline_Data_2012!H$269","v":3.0829047589897409E-3},{"$f":"Baseline_Data_2012!I71/Baseline_Data_2012!I$269","v":1.3551476865121875E-2},{"$f":"Baseline_Data_2012!J71/Baseline_Data_2012!J$269","v":2.6577389186415662E-3},{"$f":"Baseline_Data_2012!K71/Baseline_Data_2012!K$269","v":8.5885536306004005E-3},{"$f":"Baseline_Data_2012!L71/Baseline_Data_2012!L$269","v":5.1857620588410536E-3},{"$f":"Baseline_Data_2012!M71/Baseline_Data_2012!M$269","v":0},{"$f":"Baseline_Data_2012!N71/Baseline_Data_2012!N$269","v":0},{"$f":"Baseline_Data_2012!O71/Baseline_Data_2012!O$269","v":6.8360140310744794E-3},{"$f":"Baseline_Data_2012!P71/Baseline_Data_2012!P$269","v":0},{"$f":"Baseline_Data_2012!Q71/Baseline_Data_2012!Q$269","v":6.3192547541596105E-3},{"$f":"Baseline_Data_2012!R71/Baseline_Data_2012!R$269","v":1.0370150590774945E-3},{"$f":"Baseline_Data_2012!S71/Baseline_Data_2012!S$269","v":3.0127196439921761E-3},{"$f":"Baseline_Data_2012!T71/Baseline_Data_2012!T$269","v":2.379400792739737E-3},{"$f":"Baseline_Data_2012!U71/Baseline_Data_2012!U$269","v":8.8480868424701351E-3},{"$f":"Baseline_Data_2012!V71/Baseline_Data_2012!V$269","v":2.4975034691908796E-3},{"$f":"Baseline_Data_2012!W71/Baseline_Data_2012!W$269","v":1.3561173856652932E-2},{"$f":"Baseline_Data_2012!X71/Baseline_Data_2012!X$269","v":8.226616859777167E-3},{"$f":"Baseline_Data_2012!Y71/Baseline_Data_2012!Y$269","v":1.5620708451145242E-3},{"$f":"Baseline_Data_2012!Z71/Baseline_Data_2012!Z$269","v":1.5142818691441405E-3},{"$f":"Baseline_Data_2012!AA71/Baseline_Data_2012!AA$269","v":2.8466521705410672E-3},{"$f":"Baseline_Data_2012!AB71/Baseline_Data_2012!AB$269","v":6.2821990789318823E-3},{"$f":"Baseline_Data_2012!AC71/Baseline_Data_2012!AC$269","v":0},{"$f":"Baseline_Data_2012!AD71/Baseline_Data_2012!AD$269","v":5.2411650338668389E-3},{"$f":"Baseline_Data_2012!AE71/Baseline_Data_2012!AE$269","v":6.1873304885219924E-3},{"$f":"Baseline_Data_2012!AF71/Baseline_Data_2012!AF$269","v":1.8479881435755997E-2},{"$f":"Baseline_Data_2012!AG71/Baseline_Data_2012!AG$269","v":2.7483125648256369E-3},{"$f":"Baseline_Data_2012!AH71/Baseline_Data_2012!AH$269","v":1.258440037263348E-2},{"$f":"Baseline_Data_2012!AI71/Baseline_Data_2012!AI$269","v":2.5790351278789322E-3},{"$f":"Baseline_Data_2012!AJ71/Baseline_Data_2012!AJ$269","v":4.2107551640591627E-4},{"$f":"Baseline_Data_2012!AK71/Baseline_Data_2012!AK$269","v":9.9093834938688927E-3},{"$f":"Baseline_Data_2012!AL71/Baseline_Data_2012!AL$269","v":1.0503966436849753E-2},{"$f":"Baseline_Data_2012!AM71/Baseline_Data_2012!AM$269","v":0},{"$f":"Baseline_Data_2012!AN71/Baseline_Data_2012!AN$269","v":2.9196078310224087E-3},{"$f":"Baseline_Data_2012!AO71/Baseline_Data_2012!AO$269","v":1.045611449915888E-2},{"$f":"Baseline_Data_2012!AP71/Baseline_Data_2012!AP$269","v":1.8426159573828268E-3},{"$f":"Baseline_Data_2012!AQ71/Baseline_Data_2012!AQ$269","v":0},{"$f":"Baseline_Data_2012!AR71/Baseline_Data_2012!AR$269","v":5.4484519282817674E-3},{"$f":"Baseline_Data_2012!AS71/Baseline_Data_2012!AS$269","v":7.2027269488635541E-3},{"$f":"Baseline_Data_2012!AT71/Baseline_Data_2012!AT$269","v":2.9605075173864052E-3},{"$f":"Baseline_Data_2012!AU71/Baseline_Data_2012!AU$269","v":9.8104868635114344E-3},{"$f":"Baseline_Data_2012!AV71/Baseline_Data_2012!AV$269","v":5.3534315696563339E-3},71]
[1,"Male 35-39",{"$f":"'III Tool Overview'!$H$8/110","v":1.3090909090909091},{"$f":"'III Tool Overview'!$H$8/22","v":6.5454545454545459},{"$f":"'III Tool Overview'!$H$8/44","v":3.2727272727272729},{"$f":"G72*'III Tool Overview'!$H$8","v":0},{"$f":"HLOOKUP('III Tool Overview'!$H$6,Targeting!$I$1:$BC$269,Targeting!BD72,FALSE)","v":0},{"$f":"Baseline_Data_2012!B72","v":10718.75},{"$f":"Baseline_Data_2012!B72/Baseline_Data_2012!B$269","v":9.8939688682640782E-3},{"$f":"Baseline_Data_2012!C72/Baseline_Data_2012!C$269","v":1.1537219018617548E-2},{"$f":"Baseline_Data_2012!D72/Baseline_Data_2012!D$269","v":2.2325337191242906E-3},{"$f":"Baseline_Data_2012!E72/Baseline_Data_2012!E$269","v":3.8484229714566684E-3},{"$f":"Baseline_Data_2012!F72/Baseline_Data_2012!F$269","v":8.9759394551991323E-3},{"$f":"Baseline_Data_2012!G72/Baseline_Data_2012!G$269","v":7.1786253771995278E-3},{"$f":"Baseline_Data_2012!H72/Baseline_Data_2012!H$269","v":3.9655877685261737E-3},{"$f":"Baseline_Data_2012!I72/Baseline_Data_2012!I$269","v":1.748424566480327E-2},{"$f":"Baseline_Data_2012!J72/Baseline_Data_2012!J$269","v":3.7348660269730083E-3},{"$f":"Baseline_Data_2012!K72/Baseline_Data_2012!K$269","v":1.2225482305728586E-2},{"$f":"Baseline_Data_2012!L72/Baseline_Data_2012!L$269","v":7.3184268637707574E-3},{"$f":"Baseline_Data_2012!M72/Baseline_Data_2012!M$269","v":0},{"$f":"Baseline_Data_2012!N72/Baseline_Data_2012!N$269","v":0},{"$f":"Baseline_Data_2012!O72/Baseline_Data_2012!O$269","v":8.289461598375061E-3},{"$f":"Baseline_Data_2012!P72/Baseline_Data_2012!P$269","v":0},{"$f":"Baseline_Data_2012!Q72/Baseline_Data_2012!Q$269","v":7.9716716742806604E-3},{"$f":"Baseline_Data_2012!R72/Baseline_Data_2012!R$269","v":1.3667182164472415E-3},{"$f":"Baseline_Data_2012!S72/Baseline_Data_2012!S$269","v":3.6644859818981113E-3},{"$f":"Baseline_Data_2012!T72/Baseline_Data_2012!T$269","v":3.4792306952376043E-3},{"$f":"Baseline_Data_2012!U72/Baseline_Data_2012!U$269","v":1.2086719235770628E-2},{"$f":"Baseline_Data_2012!V72/Baseline_Data_2012!V$269","v":3.8254703886608701E-3},{"$f":"Baseline_Data_2012!W72/Baseline_Data_2012!W$269","v":1.7023116254544803E-2},{"$f":"Baseline_Data_2012!X72/Baseline_Data_2012!X$269","v":1.2379244611690586E-2},{"$f":"Baseline_Data_2012!Y72/Baseline_Data_2012!Y$269","v":1.8299622219336816E-3},{"$f":"Baseline_Data_2012!Z72/Baseline_Data_2012!Z$269","v":2.4800968711664348E-3},{"$f":"Baseline_Data_2012!AA72/Baseline_Data_2012!AA$269","v":4.0400785479632172E-3},{"$f":"Baseline_Data_2012!AB72/Baseline_Data_2012!AB$269","v":8.5777410827229724E-3},{"$f":"Baseline_Data_2012!AC72/Baseline_Data_2012!AC$269","v":0},{"$f":"Baseline_Data_2012!AD72/Baseline_Data_2012!AD$269","v":7.2194727374713255E-3},{"$f":"Baseline_Data_2012!AE72/Baseline_Data_2012!AE$269","v":8.9558703784530149E-3},{"$f":"Baseline_Data_2012!AF72/Baseline_Data_2012!AF$269","v":2.3498023778711161E-2},{"$f":"Baseline_Data_2012!AG72/Baseline_Data_2012!AG$269","v":3.8158389329810498E-3},{"$f":"Baseline_Data_2012!AH72/Baseline_Data_2012!AH$269","v":1.7142818664570899E-2},{"$f":"Baseline_Data_2012!AI72/Baseline_Data_2012!AI$269","v":3.9692166123235541E-3},{"$f":"Baseline_Data_2012!AJ72/Baseline_Data_2012!AJ$269","v":8.6103077743329356E-4},{"$f":"Baseline_Data_2012!AK72/Baseline_Data_2012!AK$269","v":1.3418472155281195E-2},{"$f":"Baseline_Data_2012!AL72/Baseline_Data_2012!AL$269","v":1.5048915777533504E-2},{"$f":"Baseline_Data_2012!AM72/Baseline_Data_2012!AM$269","v":0},{"$f":"Baseline_Data_2012!AN72/Baseline_Data_2012!AN$269","v":2.946081838325332E-3},{"$f":"Baseline_Data_2012!AO72/Baseline_Data_2012!AO$269","v":1.2457751763256175E-2},{"$f":"Baseline_Data_2012!AP72/Baseline_Data_2012!AP$269","v":2.2431846437703982E-3},{"$f":"Baseline_Data_2012!AQ72/Baseline_Data_2012!AQ$269","v":0},{"$f":"Baseline_Data_2012!AR72/Baseline_Data_2012!AR$269","v":8.0152357613952445E-3},{"$f":"Baseline_Data_2012!AS72/Baseline_Data_2012!AS$269","v":1.0259369452670771E-2},{"$f":"Baseline_Data_2012!AT72/Baseline_Data_2012!AT$269","v":3.9058151630456859E-3},{"$f":"Baseline_Data_2012!AU72/Baseline_Data_2012!AU$269","v":1.4267375534953513E-2},{"$f":"Baseline_Data_2012!AV72/Baseline_Data_2012!AV$269","v":7.9837872333453422E-3},72]
[1,"Male 40-44",{"$f":"'III Tool Overview'!$H$8/110","v":1.3090909090909091},{"$f":"'III Tool Overview'!$H$8/22","v":6.5454545454545459},{"$f":"'III Tool Overview'!$H$8/44","v":3.2727272727272729},{"$f":"G73*'III Tool Overview'!$H$8","v":0},{"$f":"HLOOKUP('III Tool Overview'!$H$6,Targeting!$I$1:$BC$269,Targeting!BD73,FALSE)","v":0},{"$f":"Baseline_Data_2012!B73","v":11077.119999999999},{"$f":"Baseline_Data_2012!B73/Baseline_Data_2012!B$269","v":1.0224763188807032E-2},{"$f":"Baseline_Data_2012!C73/Baseline_Data_2012!C$269","v":1.2391598148753749E-2},{"$f":"Baseline_Data_2012!D73/Baseline_Data_2012!D$269","v":2.7307593908053097E-3},{"$f":"Baseline_Data_2012!E73/Baseline_Data_2012!E$269","v":4.034307710608461E-3},{"$f":"Baseline_Data_2012!F73/Baseline_Data_2012!F$269","v":9.6530402423624182E-3},{"$f":"Baseline_Data_2012!G73/Baseline_Data_2012!G$269","v":8.0574924975784241E-3},{"$f":"Baseline_Data_2012!H73/Baseline_Data_2012!H$269","v":3.2840078859250128E-3},{"$f":"Baseline_Data_2012!I73/Baseline_Data_2012!I$269","v":1.8340499698332426E-2},{"$f":"Baseline_Data_2012!J73/Baseline_Data_2012!J$269","v":3.9288314449484017E-3},{"$f":"Baseline_Data_2012!K73/Baseline_Data_2012!K$269","v":1.2775155153583049E-2},{"$f":"Baseline_Data_2012!L73/Baseline_Data_2012!L$269","v":6.7164488283772738E-3},{"$f":"Baseline_Data_2012!M73/Baseline_Data_2012!M$269","v":0},{"$f":"Baseline_Data_2012!N73/Baseline_Data_2012!N$269","v":0},{"$f":"Baseline_Data_2012!O73/Baseline_Data_2012!O$269","v":8.8669628016608184E-3},{"$f":"Baseline_Data_2012!P73/Baseline_Data_2012!P$269","v":0},{"$f":"Baseline_Data_2012!Q73/Baseline_Data_2012!Q$269","v":6.6966827894953162E-3},{"$f":"Baseline_Data_2012!R73/Baseline_Data_2012!R$269","v":1.0692204956948077E-3},{"$f":"Baseline_Data_2012!S73/Baseline_Data_2012!S$269","v":3.6839755177325716E-3},{"$f":"Baseline_Data_2012!T73/Baseline_Data_2012!T$269","v":4.2536773948419872E-3},{"$f":"Baseline_Data_2012!U73/Baseline_Data_2012!U$269","v":1.2997472765157341E-2},{"$f":"Baseline_Data_2012!V73/Baseline_Data_2012!V$269","v":4.0102464828176863E-3},{"$f":"Baseline_Data_2012!W73/Baseline_Data_2012!W$269","v":1.8449390935318419E-2},{"$f":"Baseline_Data_2012!X73/Baseline_Data_2012!X$269","v":1.4310058876652163E-2},{"$f":"Baseline_Data_2012!Y73/Baseline_Data_2012!Y$269","v":2.3285528125930794E-3},{"$f":"Baseline_Data_2012!Z73/Baseline_Data_2012!Z$269","v":2.7317332466211168E-3},{"$f":"Baseline_Data_2012!AA73/Baseline_Data_2012!AA$269","v":4.494106422877178E-3},{"$f":"Baseline_Data_2012!AB73/Baseline_Data_2012!AB$269","v":7.4054835881539422E-3},{"$f":"Baseline_Data_2012!AC73/Baseline_Data_2012!AC$269","v":0},{"$f":"Baseline_Data_2012!AD73/Baseline_Data_2012!AD$269","v":8.1346932467668484E-3},{"$f":"Baseline_Data_2012!AE73/Baseline_Data_2012!AE$269","v":9.6314572530358626E-3},{"$f":"Baseline_Data_2012!AF73/Baseline_Data_2012!AF$269","v":2.3809624907455862E-2},{"$f":"Baseline_Data_2012!AG73/Baseline_Data_2012!AG$269","v":3.8110987603934953E-3},{"$f":"Baseline_Data_2012!AH73/Baseline_Data_2012!AH$269","v":2.0261676071661447E-2},{"$f":"Baseline_Data_2012!AI73/Baseline_Data_2012!AI$269","v":4.097913523349133E-3},{"$f":"Baseline_Data_2012!AJ73/Baseline_Data_2012!AJ$269","v":6.4076709018291603E-4},{"$f":"Baseline_Data_2012!AK73/Baseline_Data_2012!AK$269","v":1.4918512177078231E-2},{"$f":"Baseline_Data_2012!AL73/Baseline_Data_2012!AL$269","v":1.6079644365912873E-2},{"$f":"Baseline_Data_2012!AM73/Baseline_Data_2012!AM$269","v":0},{"$f":"Baseline_Data_2012!AN73/Baseline_Data_2012!AN$269","v":3.0845612611406239E-3},{"$f":"Baseline_Data_2012!AO73/Baseline_Data_2012!AO$269","v":1.4753015976716037E-2},{"$f":"Baseline_Data_2012!AP73/Baseline_Data_2012!AP$269","v":2.7437872399477298E-3},{"$f":"Baseline_Data_2012!AQ73/Baseline_Data_2012!AQ$269","v":0},{"$f":"Baseline_Data_2012!AR73/Baseline_Data_2012!AR$269","v":6.7706339350916342E-3},{"$f":"Baseline_Data_2012!AS73/Baseline_Data_2012!AS$269","v":1.0202166479190767E-2},{"$f":"Baseline_Data_2012!AT73/Baseline_Data_2012!AT$269","v":4.704691643106277E-3},{"$f":"Baseline_Data_2012!AU73/Baseline_Data_2012!AU$269","v":1.5076352934914014E-2},{"$f":"Baseline_Data_2012!AV73/Baseline_Data_2012!AV$269","v":8.1046791126580739E-3},73]
[1,"Male 45-49",{"$f":"'III Tool Overview'!$H$8/110","v":1.3090909090909091},{"$f":"'III Tool Overview'!$H$8/22","v":6.5454545454545459},{"$f":"'III Tool Overview'!$H$8/44","v":3.2727272727272729},{"$f":"G74*'III Tool Overview'!$H$8","v":0},{"$f":"HLOOKUP('III Tool Overview'!$H$6,Targeting!$I$1:$BC$269,Targeting!BD74,FALSE)","v":0},{"$f":"Baseline_Data_2012!B74","v":11958.539999999999},{"$f":"Baseline_Data_2012!B74/Baseline_Data_2012!B$269","v":1.1038360113809046E-2},{"$f":"Baseline_Data_2012!C74/Baseline_Data_2012!C$269","v":1.3715504168245927E-2},{"$f":"Baseline_Data_2012!D74/Baseline_Data_2012!D$269","v":3.143217840458195E-3},{"$f":"Baseline_Data_2012!E74/Baseline_Data_2012!E$269","v":5.0231858701423699E-3},{"$f":"Baseline_Data_2012!F74/Baseline_Data_2012!F$269","v":1.0239869787726395E-2},{"$f":"Baseline_Data_2012!G74/Baseline_Data_2012!G$269","v":8.7373088396109789E-3},{"$f":"Baseline_Data_2012!H74/Baseline_Data_2012!H$269","v":3.3837211520228007E-3},{"$f":"Baseline_Data_2012!I74/Baseline_Data_2012!I$269","v":1.9828837248606655E-2},{"$f":"Baseline_Data_2012!J74/Baseline_Data_2012!J$269","v":4.4699006314131975E-3},{"$f":"Baseline_Data_2012!K74/Baseline_Data_2012!K$269","v":1.3956240992615162E-2},{"$f":"Baseline_Data_2012!L74/Baseline_Data_2012!L$269","v":6.8942063942268863E-3},{"$f":"Baseline_Data_2012!M74/Baseline_Data_2012!M$269","v":0},{"$f":"Baseline_Data_2012!N74/Baseline_Data_2012!N$269","v":0},{"$f":"Baseline_Data_2012!O74/Baseline_Data_2012!O$269","v":9.5044720985306679E-3},{"$f":"Baseline_Data_2012!P74/Baseline_Data_2012!P$269","v":0},{"$f":"Baseline_Data_2012!Q74/Baseline_Data_2012!Q$269","v":6.9274903661472953E-3},{"$f":"Baseline_Data_2012!R74/Baseline_Data_2012!R$269","v":9.8971332404581506E-4},{"$f":"Baseline_Data_2012!S74/Baseline_Data_2012!S$269","v":3.7392714101001133E-3},{"$f":"Baseline_Data_2012!T74/Baseline_Data_2012!T$269","v":4.9778428535019069E-3},{"$f":"Baseline_Data_2012!U74/Baseline_Data_2012!U$269","v":1.4850292568064888E-2},{"$f":"Baseline_Data_2012!V74/Baseline_Data_2012!V$269","v":4.9932268218677248E-3},{"$f":"Baseline_Data_2012!W74/Baseline_Data_2012!W$269","v":1.97781225063141E-2},{"$f":"Baseline_Data_2012!X74/Baseline_Data_2012!X$269","v":1.5666122498928101E-2},{"$f":"Baseline_Data_2012!Y74/Baseline_Data_2012!Y$269","v":2.2234445259135304E-3},{"$f":"Baseline_Data_2012!Z74/Baseline_Data_2012!Z$269","v":2.6329757334160645E-3},{"$f":"Baseline_Data_2012!AA74/Baseline_Data_2012!AA$269","v":5.6503384263656992E-3},{"$f":"Baseline_Data_2012!AB74/Baseline_Data_2012!AB$269","v":7.7425329578948683E-3},{"$f":"Baseline_Data_2012!AC74/Baseline_Data_2012!AC$269","v":0},{"$f":"Baseline_Data_2012!AD74/Baseline_Data_2012!AD$269","v":8.132667675739268E-3},{"$f":"Baseline_Data_2012!AE74/Baseline_Data_2012!AE$269","v":1.0216974721013225E-2},{"$f":"Baseline_Data_2012!AF74/Baseline_Data_2012!AF$269","v":2.547437493982925E-2},{"$f":"Baseline_Data_2012!AG74/Baseline_Data_2012!AG$269","v":4.2886711485895703E-3},{"$f":"Baseline_Data_2012!AH74/Baseline_Data_2012!AH$269","v":2.5134388931286552E-2},{"$f":"Baseline_Data_2012!AI74/Baseline_Data_2012!AI$269","v":4.225973320953794E-3},{"$f":"Baseline_Data_2012!AJ74/Baseline_Data_2012!AJ$269","v":9.0622774183012414E-4},{"$f":"Baseline_Data_2012!AK74/Baseline_Data_2012!AK$269","v":1.6582328280659562E-2},{"$f":"Baseline_Data_2012!AL74/Baseline_Data_2012!AL$269","v":1.7647799433661959E-2},{"$f":"Baseline_Data_2012!AM74/Baseline_Data_2012!AM$269","v":0},{"$f":"Baseline_Data_2012!AN74/Baseline_Data_2012!AN$269","v":3.4609673393321901E-3},{"$f":"Baseline_Data_2012!AO74/Baseline_Data_2012!AO$269","v":1.4958126969576775E-2},{"$f":"Baseline_Data_2012!AP74/Baseline_Data_2012!AP$269","v":3.1582134376481686E-3},{"$f":"Baseline_Data_2012!AQ74/Baseline_Data_2012!AQ$269","v":0},{"$f":"Baseline_Data_2012!AR74/Baseline_Data_2012!AR$269","v":7.5982941495835359E-3},{"$f":"Baseline_Data_2012!AS74/Baseline_Data_2012!AS$269","v":1.0297019997362414E-2},{"$f":"Baseline_Data_2012!AT74/Baseline_Data_2012!AT$269","v":5.8064680745867382E-3},{"$f":"Baseline_Data_2012!AU74/Baseline_Data_2012!AU$269","v":1.8826537562531998E-2},{"$f":"Baseline_Data_2012!AV74/Baseline_Data_2012!AV$269","v":8.0330192203957752E-3},74]
[1,"Male 50-54",{"$f":"'III Tool Overview'!$H$8/110","v":1.3090909090909091},{"$f":"'III Tool Overview'!$H$8/22","v":6.5454545454545459},{"$f":"'III Tool Overview'!$H$8/44","v":3.2727272727272729},{"$f":"G75*'III Tool Overview'!$H$8","v":0},{"$f":"HLOOKUP('III Tool Overview'!$H$6,Targeting!$I$1:$BC$269,Targeting!BD75,FALSE)","v":0},{"$f":"Baseline_Data_2012!B75","v":13157.82},{"$f":"Baseline_Data_2012!B75/Baseline_Data_2012!B$269","v":1.2145358503017839E-2},{"$f":"Baseline_Data_2012!C75/Baseline_Data_2012!C$269","v":1.6013884206769781E-2},{"$f":"Baseline_Data_2012!D75/Baseline_Data_2012!D$269","v":2.773427506286643E-3},{"$f":"Baseline_Data_2012!E75/Baseline_Data_2012!E$269","v":5.1682404353764286E-3},{"$f":"Baseline_Data_2012!F75/Baseline_Data_2012!F$269","v":1.1920191179628373E-2},{"$f":"Baseline_Data_2012!G75/Baseline_Data_2012!G$269","v":9.7323897940895642E-3},{"$f":"Baseline_Data_2012!H75/Baseline_Data_2012!H$269","v":3.8578444960435205E-3},{"$f":"Baseline_Data_2012!I75/Baseline_Data_2012!I$269","v":2.1785788440605681E-2},{"$f":"Baseline_Data_2012!J75/Baseline_Data_2012!J$269","v":5.000947288681697E-3},{"$f":"Baseline_Data_2012!K75/Baseline_Data_2012!K$269","v":1.5375016337439023E-2},{"$f":"Baseline_Data_2012!L75/Baseline_Data_2012!L$269","v":6.913558296294732E-3},{"$f":"Baseline_Data_2012!M75/Baseline_Data_2012!M$269","v":0},{"$f":"Baseline_Data_2012!N75/Baseline_Data_2012!N$269","v":0},{"$f":"Baseline_Data_2012!O75/Baseline_Data_2012!O$269","v":1.0308875070808222E-2},{"$f":"Baseline_Data_2012!P75/Baseline_Data_2012!P$269","v":0},{"$f":"Baseline_Data_2012!Q75/Baseline_Data_2012!Q$269","v":7.6949636276253197E-3},{"$f":"Baseline_Data_2012!R75/Baseline_Data_2012!R$269","v":1.3109625543035173E-3},{"$f":"Baseline_Data_2012!S75/Baseline_Data_2012!S$269","v":3.6944001531789127E-3},{"$f":"Baseline_Data_2012!T75/Baseline_Data_2012!T$269","v":5.3194085247453334E-3},{"$f":"Baseline_Data_2012!U75/Baseline_Data_2012!U$269","v":1.6050017993317917E-2},{"$f":"Baseline_Data_2012!V75/Baseline_Data_2012!V$269","v":5.1374162595045469E-3},{"$f":"Baseline_Data_2012!W75/Baseline_Data_2012!W$269","v":2.2014574837717526E-2},{"$f":"Baseline_Data_2012!X75/Baseline_Data_2012!X$269","v":1.7496917106020051E-2},{"$f":"Baseline_Data_2012!Y75/Baseline_Data_2012!Y$269","v":2.9640536843632743E-3},{"$f":"Baseline_Data_2012!Z75/Baseline_Data_2012!Z$269","v":3.4381005444606462E-3},{"$f":"Baseline_Data_2012!AA75/Baseline_Data_2012!AA$269","v":5.9273723839403216E-3},{"$f":"Baseline_Data_2012!AB75/Baseline_Data_2012!AB$269","v":7.3693139976689246E-3},{"$f":"Baseline_Data_2012!AC75/Baseline_Data_2012!AC$269","v":0},{"$f":"Baseline_Data_2012!AD75/Baseline_Data_2012!AD$269","v":9.440173774043055E-3},{"$f":"Baseline_Data_2012!AE75/Baseline_Data_2012!AE$269","v":1.1893539124675638E-2},{"$f":"Baseline_Data_2012!AF75/Baseline_Data_2012!AF$269","v":2.7548144806545501E-2},{"$f":"Baseline_Data_2012!AG75/Baseline_Data_2012!AG$269","v":4.8835628083276107E-3},{"$f":"Baseline_Data_2012!AH75/Baseline_Data_2012!AH$269","v":2.7534612956419683E-2},{"$f":"Baseline_Data_2012!AI75/Baseline_Data_2012!AI$269","v":4.6713156021759719E-3},{"$f":"Baseline_Data_2012!AJ75/Baseline_Data_2012!AJ$269","v":1.0486839967011477E-3},{"$f":"Baseline_Data_2012!AK75/Baseline_Data_2012!AK$269","v":1.9500520283361494E-2},{"$f":"Baseline_Data_2012!AL75/Baseline_Data_2012!AL$269","v":1.9184496748409868E-2},{"$f":"Baseline_Data_2012!AM75/Baseline_Data_2012!AM$269","v":0},{"$f":"Baseline_Data_2012!AN75/Baseline_Data_2012!AN$269","v":3.4548579530315161E-3},{"$f":"Baseline_Data_2012!AO75/Baseline_Data_2012!AO$269","v":1.8376554377319693E-2},{"$f":"Baseline_Data_2012!AP75/Baseline_Data_2012!AP$269","v":2.7866589155719139E-3},{"$f":"Baseline_Data_2012!AQ75/Baseline_Data_2012!AQ$269","v":0},{"$f":"Baseline_Data_2012!AR75/Baseline_Data_2012!AR$269","v":9.5946354789745256E-3},{"$f":"Baseline_Data_2012!AS75/Baseline_Data_2012!AS$269","v":1.2106185226407966E-2},{"$f":"Baseline_Data_2012!AT75/Baseline_Data_2012!AT$269","v":6.1253101287129181E-3},{"$f":"Baseline_Data_2012!AU75/Baseline_Data_2012!AU$269","v":1.8317594321094897E-2},{"$f":"Baseline_Data_2012!AV75/Baseline_Data_2012!AV$269","v":8.4908766999648114E-3},75]
[1,"Male 55-59",{"$f":"'III Tool Overview'!$H$8/110","v":1.3090909090909091},{"$f":"'III Tool Overview'!$H$8/22","v":6.5454545454545459},{"$f":"'III Tool Overview'!$H$8/44","v":3.2727272727272729},{"$f":"G76*'III Tool Overview'!$H$8","v":0},{"$f":"HLOOKUP('III Tool Overview'!$H$6,Targeting!$I$1:$BC$269,Targeting!BD76,FALSE)","v":0},{"$f":"Baseline_Data_2012!B76","v":15395.94},{"$f":"Baseline_Data_2012!B76/Baseline_Data_2012!B$269","v":1.4211260740073391E-2},{"$f":"Baseline_Data_2012!C76/Baseline_Data_2012!C$269","v":1.9597052962345183E-2},{"$f":"Baseline_Data_2012!D76/Baseline_Data_2012!D$269","v":3.0721043146559736E-3},{"$f":"Baseline_Data_2012!E76/Baseline_Data_2012!E$269","v":6.3437196529027929E-3},{"$f":"Baseline_Data_2012!F76/Baseline_Data_2012!F$269","v":1.3561426054462606E-2},{"$f":"Baseline_Data_2012!G76/Baseline_Data_2012!G$269","v":1.125302706081362E-2},{"$f":"Baseline_Data_2012!H76/Baseline_Data_2012!H$269","v":4.4886853273117368E-3},{"$f":"Baseline_Data_2012!I76/Baseline_Data_2012!I$269","v":2.5180688619252618E-2},{"$f":"Baseline_Data_2012!J76/Baseline_Data_2012!J$269","v":6.2160315635974607E-3},{"$f":"Baseline_Data_2012!K76/Baseline_Data_2012!K$269","v":1.7847782598653768E-2},{"$f":"Baseline_Data_2012!L76/Baseline_Data_2012!L$269","v":7.9131022946103378E-3},{"$f":"Baseline_Data_2012!M76/Baseline_Data_2012!M$269","v":0},{"$f":"Baseline_Data_2012!N76/Baseline_Data_2012!N$269","v":0},{"$f":"Baseline_Data_2012!O76/Baseline_Data_2012!O$269","v":1.2849094983263643E-2},{"$f":"Baseline_Data_2012!P76/Baseline_Data_2012!P$269","v":0},{"$f":"Baseline_Data_2012!Q76/Baseline_Data_2012!Q$269","v":9.2801613760352848E-3},{"$f":"Baseline_Data_2012!R76/Baseline_Data_2012!R$269","v":1.3043201830011965E-3},{"$f":"Baseline_Data_2012!S76/Baseline_Data_2012!S$269","v":4.9439966716814596E-3},{"$f":"Baseline_Data_2012!T76/Baseline_Data_2012!T$269","v":7.240498696002776E-3},{"$f":"Baseline_Data_2012!U76/Baseline_Data_2012!U$269","v":1.9565991834663485E-2},{"$f":"Baseline_Data_2012!V76/Baseline_Data_2012!V$269","v":6.3058847393170168E-3},{"$f":"Baseline_Data_2012!W76/Baseline_Data_2012!W$269","v":2.7549392118313053E-2},{"$f":"Baseline_Data_2012!X76/Baseline_Data_2012!X$269","v":2.0821483559991052E-2},{"$f":"Baseline_Data_2012!Y76/Baseline_Data_2012!Y$269","v":3.4346153985747923E-3},{"$f":"Baseline_Data_2012!Z76/Baseline_Data_2012!Z$269","v":3.0731999024487572E-3},{"$f":"Baseline_Data_2012!AA76/Baseline_Data_2012!AA$269","v":5.5753083961892413E-3},{"$f":"Baseline_Data_2012!AB76/Baseline_Data_2012!AB$269","v":8.8324219455186686E-3},{"$f":"Baseline_Data_2012!AC76/Baseline_Data_2012!AC$269","v":0},{"$f":"Baseline_Data_2012!AD76/Baseline_Data_2012!AD$269","v":1.0026576586527867E-2},{"$f":"Baseline_Data_2012!AE76/Baseline_Data_2012!AE$269","v":1.3531104403828457E-2},{"$f":"Baseline_Data_2012!AF76/Baseline_Data_2012!AF$269","v":3.2092218749078034E-2},{"$f":"Baseline_Data_2012!AG76/Baseline_Data_2012!AG$269","v":5.8552981887762014E-3},{"$f":"Baseline_Data_2012!AH76/Baseline_Data_2012!AH$269","v":3.0660926256539323E-2},{"$f":"Baseline_Data_2012!AI76/Baseline_Data_2012!AI$269","v":5.09181045998232E-3},{"$f":"Baseline_Data_2012!AJ76/Baseline_Data_2012!AJ$269","v":9.8861208199649926E-4},{"$f":"Baseline_Data_2012!AK76/Baseline_Data_2012!AK$269","v":2.3299008725653991E-2},{"$f":"Baseline_Data_2012!AL76/Baseline_Data_2012!AL$269","v":2.1564707263100918E-2},{"$f":"Baseline_Data_2012!AM76/Baseline_Data_2012!AM$269","v":0},{"$f":"Baseline_Data_2012!AN76/Baseline_Data_2012!AN$269","v":3.9405541639351508E-3},{"$f":"Baseline_Data_2012!AO76/Baseline_Data_2012!AO$269","v":1.8859514550861402E-2},{"$f":"Baseline_Data_2012!AP76/Baseline_Data_2012!AP$269","v":3.0867606449411964E-3},{"$f":"Baseline_Data_2012!AQ76/Baseline_Data_2012!AQ$269","v":0},{"$f":"Baseline_Data_2012!AR76/Baseline_Data_2012!AR$269","v":1.3172865729597402E-2},{"$f":"Baseline_Data_2012!AS76/Baseline_Data_2012!AS$269","v":1.5706579158916351E-2},{"$f":"Baseline_Data_2012!AT76/Baseline_Data_2012!AT$269","v":7.9710513531544621E-3},{"$f":"Baseline_Data_2012!AU76/Baseline_Data_2012!AU$269","v":2.3268884998504446E-2},{"$f":"Baseline_Data_2012!AV76/Baseline_Data_2012!AV$269","v":9.2309975719563325E-3},76]
[1,"Male 60-64",{"$f":"'III Tool Overview'!$H$8/110","v":1.3090909090909091},{"$f":"'III Tool Overview'!$H$8/22","v":6.5454545454545459},{"$f":"'III Tool Overview'!$H$8/44","v":3.2727272727272729},{"$f":"G77*'III Tool Overview'!$H$8","v":0},{"$f":"HLOOKUP('III Tool Overview'!$H$6,Targeting!$I$1:$BC$269,Targeting!BD77,FALSE)","v":0},{"$f":"Baseline_Data_2012!B77","v":14616.560000000001},{"$f":"Baseline_Data_2012!B77/Baseline_Data_2012!B$269","v":1.349185209106603E-2},{"$f":"Baseline_Data_2012!C77/Baseline_Data_2012!C$269","v":1.8833550004342395E-2},{"$f":"Baseline_Data_2012!D77/Baseline_Data_2012!D$269","v":4.1030349432554531E-3},{"$f":"Baseline_Data_2012!E77/Baseline_Data_2012!E$269","v":7.1202092761804159E-3},{"$f":"Baseline_Data_2012!F77/Baseline_Data_2012!F$269","v":1.3527657430873471E-2},{"$f":"Baseline_Data_2012!G77/Baseline_Data_2012!G$269","v":1.1572960979094013E-2},{"$f":"Baseline_Data_2012!H77/Baseline_Data_2012!H$269","v":4.3337326766323429E-3},{"$f":"Baseline_Data_2012!I77/Baseline_Data_2012!I$269","v":2.2967810397114315E-2},{"$f":"Baseline_Data_2012!J77/Baseline_Data_2012!J$269","v":5.843724081982078E-3},{"$f":"Baseline_Data_2012!K77/Baseline_Data_2012!K$269","v":1.7253093439983637E-2},{"$f":"Baseline_Data_2012!L77/Baseline_Data_2012!L$269","v":7.5450510250935797E-3},{"$f":"Baseline_Data_2012!M77/Baseline_Data_2012!M$269","v":0},{"$f":"Baseline_Data_2012!N77/Baseline_Data_2012!N$269","v":0},{"$f":"Baseline_Data_2012!O77/Baseline_Data_2012!O$269","v":1.2397254900284859E-2},{"$f":"Baseline_Data_2012!P77/Baseline_Data_2012!P$269","v":0},{"$f":"Baseline_Data_2012!Q77/Baseline_Data_2012!Q$269","v":8.7954872188433821E-3},{"$f":"Baseline_Data_2012!R77/Baseline_Data_2012!R$269","v":1.2624531153986891E-3},{"$f":"Baseline_Data_2012!S77/Baseline_Data_2012!S$269","v":5.4063065914756563E-3},{"$f":"Baseline_Data_2012!T77/Baseline_Data_2012!T$269","v":6.5377172133767088E-3},{"$f":"Baseline_Data_2012!U77/Baseline_Data_2012!U$269","v":1.8487044136784925E-2},{"$f":"Baseline_Data_2012!V77/Baseline_Data_2012!V$269","v":7.0777432598025233E-3},{"$f":"Baseline_Data_2012!W77/Baseline_Data_2012!W$269","v":2.5941774405271865E-2},{"$f":"Baseline_Data_2012!X77/Baseline_Data_2012!X$269","v":2.0314137469348001E-2},{"$f":"Baseline_Data_2012!Y77/Baseline_Data_2012!Y$269","v":2.9279395550938906E-3},{"$f":"Baseline_Data_2012!Z77/Baseline_Data_2012!Z$269","v":2.9995502315839726E-3},{"$f":"Baseline_Data_2012!AA77/Baseline_Data_2012!AA$269","v":5.6740658718061202E-3},{"$f":"Baseline_Data_2012!AB77/Baseline_Data_2012!AB$269","v":7.9526153285880922E-3},{"$f":"Baseline_Data_2012!AC77/Baseline_Data_2012!AC$269","v":0},{"$f":"Baseline_Data_2012!AD77/Baseline_Data_2012!AD$269","v":1.0908375173868296E-2},{"$f":"Baseline_Data_2012!AE77/Baseline_Data_2012!AE$269","v":1.3497411282653502E-2},{"$f":"Baseline_Data_2012!AF77/Baseline_Data_2012!AF$269","v":2.8632467408650181E-2},{"$f":"Baseline_Data_2012!AG77/Baseline_Data_2012!AG$269","v":5.5965637683722067E-3},{"$f":"Baseline_Data_2012!AH77/Baseline_Data_2012!AH$269","v":3.3466636156408207E-2},{"$f":"Baseline_Data_2012!AI77/Baseline_Data_2012!AI$269","v":4.8165774621454381E-3},{"$f":"Baseline_Data_2012!AJ77/Baseline_Data_2012!AJ$269","v":1.3776492438932698E-3},{"$f":"Baseline_Data_2012!AK77/Baseline_Data_2012!AK$269","v":2.2824430306847238E-2},{"$f":"Baseline_Data_2012!AL77/Baseline_Data_2012!AL$269","v":2.114740485824456E-2},{"$f":"Baseline_Data_2012!AM77/Baseline_Data_2012!AM$269","v":0},{"$f":"Baseline_Data_2012!AN77/Baseline_Data_2012!AN$269","v":3.9724587368386742E-3},{"$f":"Baseline_Data_2012!AO77/Baseline_Data_2012!AO$269","v":1.7491394812301383E-2},{"$f":"Baseline_Data_2012!AP77/Baseline_Data_2012!AP$269","v":4.1226096155780297E-3},{"$f":"Baseline_Data_2012!AQ77/Baseline_Data_2012!AQ$269","v":0},{"$f":"Baseline_Data_2012!AR77/Baseline_Data_2012!AR$269","v":1.1732446549288695E-2},{"$f":"Baseline_Data_2012!AS77/Baseline_Data_2012!AS$269","v":1.4143677578411836E-2},{"$f":"Baseline_Data_2012!AT77/Baseline_Data_2012!AT$269","v":8.2332103754359873E-3},{"$f":"Baseline_Data_2012!AU77/Baseline_Data_2012!AU$269","v":2.07920278901772E-2},{"$f":"Baseline_Data_2012!AV77/Baseline_Data_2012!AV$269","v":9.9864350621413217E-3},77]
[1,"Male 65-69",{"$f":"'III Tool Overview'!$H$8/110","v":1.3090909090909091},{"$f":"'III Tool Overview'!$H$8/22","v":6.5454545454545459},{"$f":"'III Tool Overview'!$H$8/44","v":3.2727272727272729},{"$f":"G78*'III Tool Overview'!$H$8","v":0},{"$f":"HLOOKUP('III Tool Overview'!$H$6,Targeting!$I$1:$BC$269,Targeting!BD78,FALSE)","v":0},{"$f":"Baseline_Data_2012!B78","v":21505.87},{"$f":"Baseline_Data_2012!B78/Baseline_Data_2012!B$269","v":1.9851046835212539E-2},{"$f":"Baseline_Data_2012!C78/Baseline_Data_2012!C$269","v":2.5714444933975684E-2},{"$f":"Baseline_Data_2012!D78/Baseline_Data_2012!D$269","v":6.4381445359611295E-3},{"$f":"Baseline_Data_2012!E78/Baseline_Data_2012!E$269","v":7.955052887092676E-3},{"$f":"Baseline_Data_2012!F78/Baseline_Data_2012!F$269","v":2.0223464210614182E-2},{"$f":"Baseline_Data_2012!G78/Baseline_Data_2012!G$269","v":1.6590460039849673E-2},{"$f":"Baseline_Data_2012!H78/Baseline_Data_2012!H$269","v":5.1271149558227936E-3},{"$f":"Baseline_Data_2012!I78/Baseline_Data_2012!I$269","v":3.153309449044104E-2},{"$f":"Baseline_Data_2012!J78/Baseline_Data_2012!J$269","v":8.6209964003030101E-3},{"$f":"Baseline_Data_2012!K78/Baseline_Data_2012!K$269","v":2.5818839028170636E-2},{"$f":"Baseline_Data_2012!L78/Baseline_Data_2012!L$269","v":1.0501327913627751E-2},{"$f":"Baseline_Data_2012!M78/Baseline_Data_2012!M$269","v":0},{"$f":"Baseline_Data_2012!N78/Baseline_Data_2012!N$269","v":0},{"$f":"Baseline_Data_2012!O78/Baseline_Data_2012!O$269","v":1.7532244033091948E-2},{"$f":"Baseline_Data_2012!P78/Baseline_Data_2012!P$269","v":0},{"$f":"Baseline_Data_2012!Q78/Baseline_Data_2012!Q$269","v":1.044507614792157E-2},{"$f":"Baseline_Data_2012!R78/Baseline_Data_2012!R$269","v":1.6400618597366896E-3},{"$f":"Baseline_Data_2012!S78/Baseline_Data_2012!S$269","v":6.8260525070283967E-3},{"$f":"Baseline_Data_2012!T78/Baseline_Data_2012!T$269","v":9.3268946631372435E-3},{"$f":"Baseline_Data_2012!U78/Baseline_Data_2012!U$269","v":2.6207872190426709E-2},{"$f":"Baseline_Data_2012!V78/Baseline_Data_2012!V$269","v":7.9211537806570392E-3},{"$f":"Baseline_Data_2012!W78/Baseline_Data_2012!W$269","v":3.4178810811801269E-2},{"$f":"Baseline_Data_2012!X78/Baseline_Data_2012!X$269","v":2.8303503275684976E-2},{"$f":"Baseline_Data_2012!Y78/Baseline_Data_2012!Y$269","v":4.2873400628160542E-3},{"$f":"Baseline_Data_2012!Z78/Baseline_Data_2012!Z$269","v":4.0049798292986884E-3},{"$f":"Baseline_Data_2012!AA78/Baseline_Data_2012!AA$269","v":7.0912997751392476E-3},{"$f":"Baseline_Data_2012!AB78/Baseline_Data_2012!AB$269","v":1.0525350831140479E-2},{"$f":"Baseline_Data_2012!AC78/Baseline_Data_2012!AC$269","v":0},{"$f":"Baseline_Data_2012!AD78/Baseline_Data_2012!AD$269","v":1.6567038825586713E-2},{"$f":"Baseline_Data_2012!AE78/Baseline_Data_2012!AE$269","v":2.0212813212204958E-2},{"$f":"Baseline_Data_2012!AF78/Baseline_Data_2012!AF$269","v":3.841995963384854E-2},{"$f":"Baseline_Data_2012!AG78/Baseline_Data_2012!AG$269","v":8.0081265722903548E-3},{"$f":"Baseline_Data_2012!AH78/Baseline_Data_2012!AH$269","v":3.8784056958316618E-2},{"$f":"Baseline_Data_2012!AI78/Baseline_Data_2012!AI$269","v":6.612600195715277E-3},{"$f":"Baseline_Data_2012!AJ78/Baseline_Data_2012!AJ$269","v":1.1099001383525512E-3},{"$f":"Baseline_Data_2012!AK78/Baseline_Data_2012!AK$269","v":3.0383807608299826E-2},{"$f":"Baseline_Data_2012!AL78/Baseline_Data_2012!AL$269","v":2.9277591892513437E-2},{"$f":"Baseline_Data_2012!AM78/Baseline_Data_2012!AM$269","v":0},{"$f":"Baseline_Data_2012!AN78/Baseline_Data_2012!AN$269","v":5.0701118088598857E-3},{"$f":"Baseline_Data_2012!AO78/Baseline_Data_2012!AO$269","v":2.4098001172959186E-2},{"$f":"Baseline_Data_2012!AP78/Baseline_Data_2012!AP$269","v":6.4688594997378782E-3},{"$f":"Baseline_Data_2012!AQ78/Baseline_Data_2012!AQ$269","v":0},{"$f":"Baseline_Data_2012!AR78/Baseline_Data_2012!AR$269","v":1.6353690172075015E-2},{"$f":"Baseline_Data_2012!AS78/Baseline_Data_2012!AS$269","v":2.2539587454327225E-2},{"$f":"Baseline_Data_2012!AT78/Baseline_Data_2012!AT$269","v":1.1168328618141973E-2},{"$f":"Baseline_Data_2012!AU78/Baseline_Data_2012!AU$269","v":2.6964396870714953E-2},{"$f":"Baseline_Data_2012!AV78/Baseline_Data_2012!AV$269","v":1.5414261634451644E-2},78]
[1,"Male 70-74",null,null,null,null,{"$f":"HLOOKUP('III Tool Overview'!$H$6,Targeting!$I$1:$BC$269,Targeting!BD79,FALSE)","v":0},null,{"$f":"Baseline_Data_2012!B79/Baseline_Data_2012!B$269","v":0},{"$f":"Baseline_Data_2012!C79/Baseline_Data_2012!C$269","v":0},{"$f":"Baseline_Data_2012!D79/Baseline_Data_2012!D$269","v":0},{"$f":"Baseline_Data_2012!E79/Baseline_Data_2012!E$269","v":0},{"$f":"Baseline_Data_2012!F79/Baseline_Data_2012!F$269","v":0},{"$f":"Baseline_Data_2012!G79/Baseline_Data_2012!G$269","v":0},{"$f":"Baseline_Data_2012!H79/Baseline_Data_2012!H$269","v":0},{"$f":"Baseline_Data_2012!I79/Baseline_Data_2012!I$269","v":0},{"$f":"Baseline_Data_2012!J79/Baseline_Data_2012!J$269","v":0},{"$f":"Baseline_Data_2012!K79/Baseline_Data_2012!K$269","v":0},{"$f":"Baseline_Data_2012!L79/Baseline_Data_2012!L$269","v":0},{"$f":"Baseline_Data_2012!M79/Baseline_Data_2012!M$269","v":0},{"$f":"Baseline_Data_2012!N79/Baseline_Data_2012!N$269","v":0},{"$f":"Baseline_Data_2012!O79/Baseline_Data_2012!O$269","v":0},{"$f":"Baseline_Data_2012!P79/Baseline_Data_2012!P$269","v":0},{"$f":"Baseline_Data_2012!Q79/Baseline_Data_2012!Q$269","v":0},{"$f":"Baseline_Data_2012!R79/Baseline_Data_2012!R$269","v":0},{"$f":"Baseline_Data_2012!S79/Baseline_Data_2012!S$269","v":0},{"$f":"Baseline_Data_2012!T79/Baseline_Data_2012!T$269","v":0},{"$f":"Baseline_Data_2012!U79/Baseline_Data_2012!U$269","v":0},{"$f":"Baseline_Data_2012!V79/Baseline_Data_2012!V$269","v":0},{"$f":"Baseline_Data_2012!W79/Baseline_Data_2012!W$269","v":0},{"$f":"Baseline_Data_2012!X79/Baseline_Data_2012!X$269","v":0},{"$f":"Baseline_Data_2012!Y79/Baseline_Data_2012!Y$269","v":0},{"$f":"Baseline_Data_2012!Z79/Baseline_Data_2012!Z$269","v":0},{"$f":"Baseline_Data_2012!AA79/Baseline_Data_2012!AA$269","v":0},{"$f":"Baseline_Data_2012!AB79/Baseline_Data_2012!AB$269","v":0},{"$f":"Baseline_Data_2012!AC79/Baseline_Data_2012!AC$269","v":0},{"$f":"Baseline_Data_2012!AD79/Baseline_Data_2012!AD$269","v":0},{"$f":"Baseline_Data_2012!AE79/Baseline_Data_2012!AE$269","v":0},{"$f":"Baseline_Data_2012!AF79/Baseline_Data_2012!AF$269","v":0},{"$f":"Baseline_Data_2012!AG79/Baseline_Data_2012!AG$269","v":0},{"$f":"Baseline_Data_2012!AH79/Baseline_Data_2012!AH$269","v":0},{"$f":"Baseline_Data_2012!AI79/Baseline_Data_2012!AI$269","v":0},{"$f":"Baseline_Data_2012!AJ79/Baseline_Data_2012!AJ$269","v":0},{"$f":"Baseline_Data_2012!AK79/Baseline_Data_2012!AK$269","v":0},{"$f":"Baseline_Data_2012!AL79/Baseline_Data_2012!AL$269","v":0},{"$f":"Baseline_Data_2012!AM79/Baseline_Data_2012!AM$269","v":0},{"$f":"Baseline_Data_2012!AN79/Baseline_Data_2012!AN$269","v":0},{"$f":"Baseline_Data_2012!AO79/Baseline_Data_2012!AO$269","v":0},{"$f":"Baseline_Data_2012!AP79/Baseline_Data_2012!AP$269","v":0},{"$f":"Baseline_Data_2012!AQ79/Baseline_Data_2012!AQ$269","v":0},{"$f":"Baseline_Data_2012!AR79/Baseline_Data_2012!AR$269","v":0},{"$f":"Baseline_Data_2012!AS79/Baseline_Data_2012!AS$269","v":0},{"$f":"Baseline_Data_2012!AT79/Baseline_Data_2012!AT$269","v":0},{"$f":"Baseline_Data_2012!AU79/Baseline_Data_2012!AU$269","v":0},{"$f":"Baseline_Data_2012!AV79/Baseline_Data_2012!AV$269","v":0},79]
[1,"Male 75-79",null,null,null,null,{"$f":"HLOOKUP('III Tool Overview'!$H$6,Targeting!$I$1:$BC$269,Targeting!BD80,FALSE)","v":0},null,{"$f":"Baseline_Data_2012!B80/Baseline_Data_2012!B$269","v":0},{"$f":"Baseline_Data_2012!C80/Baseline_Data_2012!C$269","v":0},{"$f":"Baseline_Data_2012!D80/Baseline_Data_2012!D$269","v":0},{"$f":"Baseline_Data_2012!E80/Baseline_Data_2012!E$269","v":0},{"$f":"Baseline_Data_2012!F80/Baseline_Data_2012!F$269","v":0},{"$f":"Baseline_Data_2012!G80/Baseline_Data_2012!G$269","v":0},{"$f":"Baseline_Data_2012!H80/Baseline_Data_2012!H$269","v":0},{"$f":"Baseline_Data_2012!I80/Baseline_Data_2012!I$269","v":0},{"$f":"Baseline_Data_2012!J80/Baseline_Data_2012!J$269","v":0},{"$f":"Baseline_Data_2012!K80/Baseline_Data_2012!K$269","v":0},{"$f":"Baseline_Data_2012!L80/Baseline_Data_2012!L$269","v":0},{"$f":"Baseline_Data_2012!M80/Baseline_Data_2012!M$269","v":0},{"$f":"Baseline_Data_2012!N80/Baseline_Data_2012!N$269","v":0},{"$f":"Baseline_Data_2012!O80/Baseline_Data_2012!O$269","v":0},{"$f":"Baseline_Data_2012!P80/Baseline_Data_2012!P$269","v":0},{"$f":"Baseline_Data_2012!Q80/Baseline_Data_2012!Q$269","v":0},{"$f":"Baseline_Data_2012!R80/Baseline_Data_2012!R$269","v":0},{"$f":"Baseline_Data_2012!S80/Baseline_Data_2012!S$269","v":0},{"$f":"Baseline_Data_2012!T80/Baseline_Data_2012!T$269","v":0},{"$f":"Baseline_Data_2012!U80/Baseline_Data_2012!U$269","v":0},{"$f":"Baseline_Data_2012!V80/Baseline_Data_2012!V$269","v":0},{"$f":"Baseline_Data_2012!W80/Baseline_Data_2012!W$269","v":0},{"$f":"Baseline_Data_2012!X80/Baseline_Data_2012!X$269","v":0},{"$f":"Baseline_Data_2012!Y80/Baseline_Data_2012!Y$269","v":0},{"$f":"Baseline_Data_2012!Z80/Baseline_Data_2012!Z$269","v":0},{"$f":"Baseline_Data_2012!AA80/Baseline_Data_2012!AA$269","v":0},{"$f":"Baseline_Data_2012!AB80/Baseline_Data_2012!AB$269","v":0},{"$f":"Baseline_Data_2012!AC80/Baseline_Data_2012!AC$269","v":0},{"$f":"Baseline_Data_2012!AD80/Baseline_Data_2012!AD$269","v":0},{"$f":"Baseline_Data_2012!AE80/Baseline_Data_2012!AE$269","v":0},{"$f":"Baseline_Data_2012!AF80/Baseline_Data_2012!AF$269","v":0},{"$f":"Baseline_Data_2012!AG80/Baseline_Data_2012!AG$269","v":0},{"$f":"Baseline_Data_2012!AH80/Baseline_Data_2012!AH$269","v":0},{"$f":"Baseline_Data_2012!AI80/Baseline_Data_2012!AI$269","v":0},{"$f":"Baseline_Data_2012!AJ80/Baseline_Data_2012!AJ$269","v":0},{"$f":"Baseline_Data_2012!AK80/Baseline_Data_2012!AK$269","v":0},{"$f":"Baseline_Data_2012!AL80/Baseline_Data_2012!AL$269","v":0},{"$f":"Baseline_Data_2012!AM80/Baseline_Data_2012!AM$269","v":0},{"$f":"Baseline_Data_2012!AN80/Baseline_Data_2012!AN$269","v":0},{"$f":"Baseline_Data_2012!AO80/Baseline_Data_2012!AO$269","v":0},{"$f":"Baseline_Data_2012!AP80/Baseline_Data_2012!AP$269","v":0},{"$f":"Baseline_Data_2012!AQ80/Baseline_Data_2012!AQ$269","v":0},{"$f":"Baseline_Data_2012!AR80/Baseline_Data_2012!AR$269","v":0},{"$f":"Baseline_Data_2012!AS80/Baseline_Data_2012!AS$269","v":0},{"$f":"Baseline_Data_2012!AT80/Baseline_Data_2012!AT$269","v":0},{"$f":"Baseline_Data_2012!AU80/Baseline_Data_2012!AU$269","v":0},{"$f":"Baseline_Data_2012!AV80/Baseline_Data_2012!AV$269","v":0},80]
[1,"Male 80-84",null,null,null,null,{"$f":"HLOOKUP('III Tool Overview'!$H$6,Targeting!$I$1:$BC$269,Targeting!BD81,FALSE)","v":0},null,{"$f":"Baseline_Data_2012!B81/Baseline_Data_2012!B$269","v":0},{"$f":"Baseline_Data_2012!C81/Baseline_Data_2012!C$269","v":0},{"$f":"Baseline_Data_2012!D81/Baseline_Data_2012!D$269","v":0},{"$f":"Baseline_Data_2012!E81/Baseline_Data_2012!E$269","v":0},{"$f":"Baseline_Data_2012!F81/Baseline_Data_2012!F$269","v":0},{"$f":"Baseline_Data_2012!G81/Baseline_Data_2012!G$269","v":0},{"$f":"Baseline_Data_2012!H81/Baseline_Data_2012!H$269","v":0},{"$f":"Baseline_Data_2012!I81/Baseline_Data_2012!I$269","v":0},{"$f":"Baseline_Data_2012!J81/Baseline_Data_2012!J$269","v":0},{"$f":"Baseline_Data_2012!K81/Baseline_Data_2012!K$269","v":0},{"$f":"Baseline_Data_2012!L81/Baseline_Data_2012!L$269","v":0},{"$f":"Baseline_Data_2012!M81/Baseline_Data_2012!M$269","v":0},{"$f":"Baseline_Data_2012!N81/Baseline_Data_2012!N$269","v":0},{"$f":"Baseline_Data_2012!O81/Baseline_Data_2012!O$269","v":0},{"$f":"Baseline_Data_2012!P81/Baseline_Data_2012!P$269","v":0},{"$f":"Baseline_Data_2012!Q81/Baseline_Data_2012!Q$269","v":0},{"$f":"Baseline_Data_2012!R81/Baseline_Data_2012!R$269","v":0},{"$f":"Baseline_Data_2012!S81/Baseline_Data_2012!S$269","v":0},{"$f":"Baseline_Data_2012!T81/Baseline_Data_2012!T$269","v":0},{"$f":"Baseline_Data_2012!U81/Baseline_Data_2012!U$269","v":0},{"$f":"Baseline_Data_2012!V81/Baseline_Data_2012!V$269","v":0},{"$f":"Baseline_Data_2012!W81/Baseline_Data_2012!W$269","v":0},{"$f":"Baseline_Data_2012!X81/Baseline_Data_2012!X$269","v":0},{"$f":"Baseline_Data_2012!Y81/Baseline_Data_2012!Y$269","v":0},{"$f":"Baseline_Data_2012!Z81/Baseline_Data_2012!Z$269","v":0},{"$f":"Baseline_Data_2012!AA81/Baseline_Data_2012!AA$269","v":0},{"$f":"Baseline_Data_2012!AB81/Baseline_Data_2012!AB$269","v":0},{"$f":"Baseline_Data_2012!AC81/Baseline_Data_2012!AC$269","v":0},{"$f":"Baseline_Data_2012!AD81/Baseline_Data_2012!AD$269","v":0},{"$f":"Baseline_Data_2012!AE81/Baseline_Data_2012!AE$269","v":0},{"$f":"Baseline_Data_2012!AF81/Baseline_Data_2012!AF$269","v":0},{"$f":"Baseline_Data_2012!AG81/Baseline_Data_2012!AG$269","v":0},{"$f":"Baseline_Data_2012!AH81/Baseline_Data_2012!AH$269","v":0},{"$f":"Baseline_Data_2012!AI81/Baseline_Data_2012!AI$269","v":0},{"$f":"Baseline_Data_2012!AJ81/Baseline_Data_2012!AJ$269","v":0},{"$f":"Baseline_Data_2012!AK81/Baseline_Data_2012!AK$269","v":0},{"$f":"Baseline_Data_2012!AL81/Baseline_Data_2012!AL$269","v":0},{"$f":"Baseline_Data_2012!AM81/Baseline_Data_2012!AM$269","v":0},{"$f":"Baseline_Data_2012!AN81/Baseline_Data_2012!AN$269","v":0},{"$f":"Baseline_Data_2012!AO81/Baseline_Data_2012!AO$269","v":0},{"$f":"Baseline_Data_2012!AP81/Baseline_Data_2012!AP$269","v":0},{"$f":"Baseline_Data_2012!AQ81/Baseline_Data_2012!AQ$269","v":0},{"$f":"Baseline_Data_2012!AR81/Baseline_Data_2012!AR$269","v":0},{"$f":"Baseline_Data_2012!AS81/Baseline_Data_2012!AS$269","v":0},{"$f":"Baseline_Data_2012!AT81/Baseline_Data_2012!AT$269","v":0},{"$f":"Baseline_Data_2012!AU81/Baseline_Data_2012!AU$269","v":0},{"$f":"Baseline_Data_2012!AV81/Baseline_Data_2012!AV$269","v":0},81]
[1,"Male 85+",null,null,null,null,{"$f":"HLOOKUP('III Tool Overview'!$H$6,Targeting!$I$1:$BC$269,Targeting!BD82,FALSE)","v":0},null,{"$f":"Baseline_Data_2012!B82/Baseline_Data_2012!B$269","v":0},{"$f":"Baseline_Data_2012!C82/Baseline_Data_2012!C$269","v":0},{"$f":"Baseline_Data_2012!D82/Baseline_Data_2012!D$269","v":0},{"$f":"Baseline_Data_2012!E82/Baseline_Data_2012!E$269","v":0},{"$f":"Baseline_Data_2012!F82/Baseline_Data_2012!F$269","v":0},{"$f":"Baseline_Data_2012!G82/Baseline_Data_2012!G$269","v":0},{"$f":"Baseline_Data_2012!H82/Baseline_Data_2012!H$269","v":0},{"$f":"Baseline_Data_2012!I82/Baseline_Data_2012!I$269","v":0},{"$f":"Baseline_Data_2012!J82/Baseline_Data_2012!J$269","v":0},{"$f":"Baseline_Data_2012!K82/Baseline_Data_2012!K$269","v":0},{"$f":"Baseline_Data_2012!L82/Baseline_Data_2012!L$269","v":0},{"$f":"Baseline_Data_2012!M82/Baseline_Data_2012!M$269","v":0},{"$f":"Baseline_Data_2012!N82/Baseline_Data_2012!N$269","v":0},{"$f":"Baseline_Data_2012!O82/Baseline_Data_2012!O$269","v":0},{"$f":"Baseline_Data_2012!P82/Baseline_Data_2012!P$269","v":0},{"$f":"Baseline_Data_2012!Q82/Baseline_Data_2012!Q$269","v":0},{"$f":"Baseline_Data_2012!R82/Baseline_Data_2012!R$269","v":0},{"$f":"Baseline_Data_2012!S82/Baseline_Data_2012!S$269","v":0},{"$f":"Baseline_Data_2012!T82/Baseline_Data_2012!T$269","v":0},{"$f":"Baseline_Data_2012!U82/Baseline_Data_2012!U$269","v":0},{"$f":"Baseline_Data_2012!V82/Baseline_Data_2012!V$269","v":0},{"$f":"Baseline_Data_2012!W82/Baseline_Data_2012!W$269","v":0},{"$f":"Baseline_Data_2012!X82/Baseline_Data_2012!X$269","v":0},{"$f":"Baseline_Data_2012!Y82/Baseline_Data_2012!Y$269","v":0},{"$f":"Baseline_Data_2012!Z82/Baseline_Data_2012!Z$269","v":0},{"$f":"Baseline_Data_2012!AA82/Baseline_Data_2012!AA$269","v":0},{"$f":"Baseline_Data_2012!AB82/Baseline_Data_2012!AB$269","v":0},{"$f":"Baseline_Data_2012!AC82/Baseline_Data_2012!AC$269","v":0},{"$f":"Baseline_Data_2012!AD82/Baseline_Data_2012!AD$269","v":0},{"$f":"Baseline_Data_2012!AE82/Baseline_Data_2012!AE$269","v":0},{"$f":"Baseline_Data_2012!AF82/Baseline_Data_2012!AF$269","v":0},{"$f":"Baseline_Data_2012!AG82/Baseline_Data_2012!AG$269","v":0},{"$f":"Baseline_Data_2012!AH82/Baseline_Data_2012!AH$269","v":0},{"$f":"Baseline_Data_2012!AI82/Baseline_Data_2012!AI$269","v":0},{"$f":"Baseline_Data_2012!AJ82/Baseline_Data_2012!AJ$269","v":0},{"$f":"Baseline_Data_2012!AK82/Baseline_Data_2012!AK$269","v":0},{"$f":"Baseline_Data_2012!AL82/Baseline_Data_2012!AL$269","v":0},{"$f":"Baseline_Data_2012!AM82/Baseline_Data_2012!AM$269","v":0},{"$f":"Baseline_Data_2012!AN82/Baseline_Data_2012!AN$269","v":0},{"$f":"Baseline_Data_2012!AO82/Baseline_Data_2012!AO$269","v":0},{"$f":"Baseline_Data_2012!AP82/Baseline_Data_2012!AP$269","v":0},{"$f":"Baseline_Data_2012!AQ82/Baseline_Data_2012!AQ$269","v":0},{"$f":"Baseline_Data_2012!AR82/Baseline_Data_2012!AR$269","v":0},{"$f":"Baseline_Data_2012!AS82/Baseline_Data_2012!AS$269","v":0},{"$f":"Baseline_Data_2012!AT82/Baseline_Data_2012!AT$269","v":0},{"$f":"Baseline_Data_2012!AU82/Baseline_Data_2012!AU$269","v":0},{"$f":"Baseline_Data_2012!AV82/Baseline_Data_2012!AV$269","v":0},82]
[null,"TOTAL",null,null,null,null,{"$f":"HLOOKUP('III Tool Overview'!$H$6,Targeting!$I$1:$BC$269,Targeting!BD83,FALSE)","v":0},null,{"$f":"Baseline_Data_2012!B83/Baseline_Data_2012!B$269","v":0},{"$f":"Baseline_Data_2012!C83/Baseline_Data_2012!C$269","v":0},{"$f":"Baseline_Data_2012!D83/Baseline_Data_2012!D$269","v":0},{"$f":"Baseline_Data_2012!E83/Baseline_Data_2012!E$269","v":0},{"$f":"Baseline_Data_2012!F83/Baseline_Data_2012!F$269","v":0},{"$f":"Baseline_Data_2012!G83/Baseline_Data_2012!G$269","v":0},{"$f":"Baseline_Data_2012!H83/Baseline_Data_2012!H$269","v":0},{"$f":"Baseline_Data_2012!I83/Baseline_Data_2012!I$269","v":0},{"$f":"Baseline_Data_2012!J83/Baseline_Data_2012!J$269","v":0},{"$f":"Baseline_Data_2012!K83/Baseline_Data_2012!K$269","v":0},{"$f":"Baseline_Data_2012!L83/Baseline_Data_2012!L$269","v":0},{"$f":"Baseline_Data_2012!M83/Baseline_Data_2012!M$269","v":0},{"$f":"Baseline_Data_2012!N83/Baseline_Data_2012!N$269","v":0},{"$f":"Baseline_Data_2012!O83/Baseline_Data_2012!O$269","v":0},{"$f":"Baseline_Data_2012!P83/Baseline_Data_2012!P$269","v":0},{"$f":"Baseline_Data_2012!Q83/Baseline_Data_2012!Q$269","v":0},{"$f":"Baseline_Data_2012!R83/Baseline_Data_2012!R$269","v":0},{"$f":"Baseline_Data_2012!S83/Baseline_Data_2012!S$269","v":0},{"$f":"Baseline_Data_2012!T83/Baseline_Data_2012!T$269","v":0},{"$f":"Baseline_Data_2012!U83/Baseline_Data_2012!U$269","v":0},{"$f":"Baseline_Data_2012!V83/Baseline_Data_2012!V$269","v":0},{"$f":"Baseline_Data_2012!W83/Baseline_Data_2012!W$269","v":0},{"$f":"Baseline_Data_2012!X83/Baseline_Data_2012!X$269","v":0},{"$f":"Baseline_Data_2012!Y83/Baseline_Data_2012!Y$269","v":0},{"$f":"Baseline_Data_2012!Z83/Baseline_Data_2012!Z$269","v":0},{"$f":"Baseline_Data_2012!AA83/Baseline_Data_2012!AA$269","v":0},{"$f":"Baseline_Data_2012!AB83/Baseline_Data_2012!AB$269","v":0},{"$f":"Baseline_Data_2012!AC83/Baseline_Data_2012!AC$269","v":0},{"$f":"Baseline_Data_2012!AD83/Baseline_Data_2012!AD$269","v":0},{"$f":"Baseline_Data_2012!AE83/Baseline_Data_2012!AE$269","v":0},{"$f":"Baseline_Data_2012!AF83/Baseline_Data_2012!AF$269","v":0},{"$f":"Baseline_Data_2012!AG83/Baseline_Data_2012!AG$269","v":0},{"$f":"Baseline_Data_2012!AH83/Baseline_Data_2012!AH$269","v":0},{"$f":"Baseline_Data_2012!AI83/Baseline_Data_2012!AI$269","v":0},{"$f":"Baseline_Data_2012!AJ83/Baseline_Data_2012!AJ$269","v":0},{"$f":"Baseline_Data_2012!AK83/Baseline_Data_2012!AK$269","v":0},{"$f":"Baseline_Data_2012!AL83/Baseline_Data_2012!AL$269","v":0},{"$f":"Baseline_Data_2012!AM83/Baseline_Data_2012!AM$269","v":0},{"$f":"Baseline_Data_2012!AN83/Baseline_Data_2012!AN$269","v":0},{"$f":"Baseline_Data_2012!AO83/Baseline_Data_2012!AO$269","v":0},{"$f":"Baseline_Data_2012!AP83/Baseline_Data_2012!AP$269","v":0},{"$f":"Baseline_Data_2012!AQ83/Baseline_Data_2012!AQ$269","v":0},{"$f":"Baseline_Data_2012!AR83/Baseline_Data_2012!AR$269","v":0},{"$f":"Baseline_Data_2012!AS83/Baseline_Data_2012!AS$269","v":0},{"$f":"Baseline_Data_2012!AT83/Baseline_Data_2012!AT$269","v":0},{"$f":"Baseline_Data_2012!AU83/Baseline_Data_2012!AU$269","v":0},{"$f":"Baseline_Data_2012!AV83/Baseline_Data_2012!AV$269","v":0},83]
[1,"Female <1",null,null,null,null,{"$f":"HLOOKUP('III Tool Overview'!$H$6,Targeting!$I$1:$BC$269,Targeting!BD84,FALSE)","v":0},null,{"$f":"Baseline_Data_2012!B84/Baseline_Data_2012!B$269","v":0},{"$f":"Baseline_Data_2012!C84/Baseline_Data_2012!C$269","v":0},{"$f":"Baseline_Data_2012!D84/Baseline_Data_2012!D$269","v":0},{"$f":"Baseline_Data_2012!E84/Baseline_Data_2012!E$269","v":0},{"$f":"Baseline_Data_2012!F84/Baseline_Data_2012!F$269","v":0},{"$f":"Baseline_Data_2012!G84/Baseline_Data_2012!G$269","v":0},{"$f":"Baseline_Data_2012!H84/Baseline_Data_2012!H$269","v":0},{"$f":"Baseline_Data_2012!I84/Baseline_Data_2012!I$269","v":0},{"$f":"Baseline_Data_2012!J84/Baseline_Data_2012!J$269","v":0},{"$f":"Baseline_Data_2012!K84/Baseline_Data_2012!K$269","v":0},{"$f":"Baseline_Data_2012!L84/Baseline_Data_2012!L$269","v":0},{"$f":"Baseline_Data_2012!M84/Baseline_Data_2012!M$269","v":0},{"$f":"Baseline_Data_2012!N84/Baseline_Data_2012!N$269","v":0},{"$f":"Baseline_Data_2012!O84/Baseline_Data_2012!O$269","v":0},{"$f":"Baseline_Data_2012!P84/Baseline_Data_2012!P$269","v":0},{"$f":"Baseline_Data_2012!Q84/Baseline_Data_2012!Q$269","v":0},{"$f":"Baseline_Data_2012!R84/Baseline_Data_2012!R$269","v":0},{"$f":"Baseline_Data_2012!S84/Baseline_Data_2012!S$269","v":0},{"$f":"Baseline_Data_2012!T84/Baseline_Data_2012!T$269","v":0},{"$f":"Baseline_Data_2012!U84/Baseline_Data_2012!U$269","v":0},{"$f":"Baseline_Data_2012!V84/Baseline_Data_2012!V$269","v":0},{"$f":"Baseline_Data_2012!W84/Baseline_Data_2012!W$269","v":0},{"$f":"Baseline_Data_2012!X84/Baseline_Data_2012!X$269","v":0},{"$f":"Baseline_Data_2012!Y84/Baseline_Data_2012!Y$269","v":0},{"$f":"Baseline_Data_2012!Z84/Baseline_Data_2012!Z$269","v":0},{"$f":"Baseline_Data_2012!AA84/Baseline_Data_2012!AA$269","v":0},{"$f":"Baseline_Data_2012!AB84/Baseline_Data_2012!AB$269","v":0},{"$f":"Baseline_Data_2012!AC84/Baseline_Data_2012!AC$269","v":0},{"$f":"Baseline_Data_2012!AD84/Baseline_Data_2012!AD$269","v":0},{"$f":"Baseline_Data_2012!AE84/Baseline_Data_2012!AE$269","v":0},{"$f":"Baseline_Data_2012!AF84/Baseline_Data_2012!AF$269","v":0},{"$f":"Baseline_Data_2012!AG84/Baseline_Data_2012!AG$269","v":0},{"$f":"Baseline_Data_2012!AH84/Baseline_Data_2012!AH$269","v":0},{"$f":"Baseline_Data_2012!AI84/Baseline_Data_2012!AI$269","v":0},{"$f":"Baseline_Data_2012!AJ84/Baseline_Data_2012!AJ$269","v":0},{"$f":"Baseline_Data_2012!AK84/Baseline_Data_2012!AK$269","v":0},{"$f":"Baseline_Data_2012!AL84/Baseline_Data_2012!AL$269","v":0},{"$f":"Baseline_Data_2012!AM84/Baseline_Data_2012!AM$269","v":0},{"$f":"Baseline_Data_2012!AN84/Baseline_Data_2012!AN$269","v":0},{"$f":"Baseline_Data_2012!AO84/Baseline_Data_2012!AO$269","v":0},{"$f":"Baseline_Data_2012!AP84/Baseline_Data_2012!AP$269","v":0},{"$f":"Baseline_Data_2012!AQ84/Baseline_Data_2012!AQ$269","v":0},{"$f":"Baseline_Data_2012!AR84/Baseline_Data_2012!AR$269","v":0},{"$f":"Baseline_Data_2012!AS84/Baseline_Data_2012!AS$269","v":0},{"$f":"Baseline_Data_2012!AT84/Baseline_Data_2012!AT$269","v":0},{"$f":"Baseline_Data_2012!AU84/Baseline_Data_2012!AU$269","v":0},{"$f":"Baseline_Data_2012!AV84/Baseline_Data_2012!AV$269","v":0},84]
[1,"Female 1-4",null,null,null,null,{"$f":"HLOOKUP('III Tool Overview'!$H$6,Targeting!$I$1:$BC$269,Targeting!BD85,FALSE)","v":0},null,{"$f":"Baseline_Data_2012!B85/Baseline_Data_2012!B$269","v":0},{"$f":"Baseline_Data_2012!C85/Baseline_Data_2012!C$269","v":0},{"$f":"Baseline_Data_2012!D85/Baseline_Data_2012!D$269","v":0},{"$f":"Baseline_Data_2012!E85/Baseline_Data_2012!E$269","v":0},{"$f":"Baseline_Data_2012!F85/Baseline_Data_2012!F$269","v":0},{"$f":"Baseline_Data_2012!G85/Baseline_Data_2012!G$269","v":0},{"$f":"Baseline_Data_2012!H85/Baseline_Data_2012!H$269","v":0},{"$f":"Baseline_Data_2012!I85/Baseline_Data_2012!I$269","v":0},{"$f":"Baseline_Data_2012!J85/Baseline_Data_2012!J$269","v":0},{"$f":"Baseline_Data_2012!K85/Baseline_Data_2012!K$269","v":0},{"$f":"Baseline_Data_2012!L85/Baseline_Data_2012!L$269","v":0},{"$f":"Baseline_Data_2012!M85/Baseline_Data_2012!M$269","v":0},{"$f":"Baseline_Data_2012!N85/Baseline_Data_2012!N$269","v":0},{"$f":"Baseline_Data_2012!O85/Baseline_Data_2012!O$269","v":0},{"$f":"Baseline_Data_2012!P85/Baseline_Data_2012!P$269","v":0},{"$f":"Baseline_Data_2012!Q85/Baseline_Data_2012!Q$269","v":0},{"$f":"Baseline_Data_2012!R85/Baseline_Data_2012!R$269","v":0},{"$f":"Baseline_Data_2012!S85/Baseline_Data_2012!S$269","v":0},{"$f":"Baseline_Data_2012!T85/Baseline_Data_2012!T$269","v":0},{"$f":"Baseline_Data_2012!U85/Baseline_Data_2012!U$269","v":0},{"$f":"Baseline_Data_2012!V85/Baseline_Data_2012!V$269","v":0},{"$f":"Baseline_Data_2012!W85/Baseline_Data_2012!W$269","v":0},{"$f":"Baseline_Data_2012!X85/Baseline_Data_2012!X$269","v":0},{"$f":"Baseline_Data_2012!Y85/Baseline_Data_2012!Y$269","v":0},{"$f":"Baseline_Data_2012!Z85/Baseline_Data_2012!Z$269","v":0},{"$f":"Baseline_Data_2012!AA85/Baseline_Data_2012!AA$269","v":0},{"$f":"Baseline_Data_2012!AB85/Baseline_Data_2012!AB$269","v":0},{"$f":"Baseline_Data_2012!AC85/Baseline_Data_2012!AC$269","v":0},{"$f":"Baseline_Data_2012!AD85/Baseline_Data_2012!AD$269","v":0},{"$f":"Baseline_Data_2012!AE85/Baseline_Data_2012!AE$269","v":0},{"$f":"Baseline_Data_2012!AF85/Baseline_Data_2012!AF$269","v":0},{"$f":"Baseline_Data_2012!AG85/Baseline_Data_2012!AG$269","v":0},{"$f":"Baseline_Data_2012!AH85/Baseline_Data_2012!AH$269","v":0},{"$f":"Baseline_Data_2012!AI85/Baseline_Data_2012!AI$269","v":0},{"$f":"Baseline_Data_2012!AJ85/Baseline_Data_2012!AJ$269","v":0},{"$f":"Baseline_Data_2012!AK85/Baseline_Data_2012!AK$269","v":0},{"$f":"Baseline_Data_2012!AL85/Baseline_Data_2012!AL$269","v":0},{"$f":"Baseline_Data_2012!AM85/Baseline_Data_2012!AM$269","v":0},{"$f":"Baseline_Data_2012!AN85/Baseline_Data_2012!AN$269","v":0},{"$f":"Baseline_Data_2012!AO85/Baseline_Data_2012!AO$269","v":0},{"$f":"Baseline_Data_2012!AP85/Baseline_Data_2012!AP$269","v":0},{"$f":"Baseline_Data_2012!AQ85/Baseline_Data_2012!AQ$269","v":0},{"$f":"Baseline_Data_2012!AR85/Baseline_Data_2012!AR$269","v":0},{"$f":"Baseline_Data_2012!AS85/Baseline_Data_2012!AS$269","v":0},{"$f":"Baseline_Data_2012!AT85/Baseline_Data_2012!AT$269","v":0},{"$f":"Baseline_Data_2012!AU85/Baseline_Data_2012!AU$269","v":0},{"$f":"Baseline_Data_2012!AV85/Baseline_Data_2012!AV$269","v":0},85]
[1,"Female 5-9",null,null,null,null,{"$f":"HLOOKUP('III Tool Overview'!$H$6,Targeting!$I$1:$BC$269,Targeting!BD86,FALSE)","v":0},null,{"$f":"Baseline_Data_2012!B86/Baseline_Data_2012!B$269","v":0},{"$f":"Baseline_Data_2012!C86/Baseline_Data_2012!C$269","v":0},{"$f":"Baseline_Data_2012!D86/Baseline_Data_2012!D$269","v":0},{"$f":"Baseline_Data_2012!E86/Baseline_Data_2012!E$269","v":0},{"$f":"Baseline_Data_2012!F86/Baseline_Data_2012!F$269","v":0},{"$f":"Baseline_Data_2012!G86/Baseline_Data_2012!G$269","v":0},{"$f":"Baseline_Data_2012!H86/Baseline_Data_2012!H$269","v":0},{"$f":"Baseline_Data_2012!I86/Baseline_Data_2012!I$269","v":0},{"$f":"Baseline_Data_2012!J86/Baseline_Data_2012!J$269","v":0},{"$f":"Baseline_Data_2012!K86/Baseline_Data_2012!K$269","v":0},{"$f":"Baseline_Data_2012!L86/Baseline_Data_2012!L$269","v":0},{"$f":"Baseline_Data_2012!M86/Baseline_Data_2012!M$269","v":0},{"$f":"Baseline_Data_2012!N86/Baseline_Data_2012!N$269","v":0},{"$f":"Baseline_Data_2012!O86/Baseline_Data_2012!O$269","v":0},{"$f":"Baseline_Data_2012!P86/Baseline_Data_2012!P$269","v":0},{"$f":"Baseline_Data_2012!Q86/Baseline_Data_2012!Q$269","v":0},{"$f":"Baseline_Data_2012!R86/Baseline_Data_2012!R$269","v":0},{"$f":"Baseline_Data_2012!S86/Baseline_Data_2012!S$269","v":0},{"$f":"Baseline_Data_2012!T86/Baseline_Data_2012!T$269","v":0},{"$f":"Baseline_Data_2012!U86/Baseline_Data_2012!U$269","v":0},{"$f":"Baseline_Data_2012!V86/Baseline_Data_2012!V$269","v":0},{"$f":"Baseline_Data_2012!W86/Baseline_Data_2012!W$269","v":0},{"$f":"Baseline_Data_2012!X86/Baseline_Data_2012!X$269","v":0},{"$f":"Baseline_Data_2012!Y86/Baseline_Data_2012!Y$269","v":0},{"$f":"Baseline_Data_2012!Z86/Baseline_Data_2012!Z$269","v":0},{"$f":"Baseline_Data_2012!AA86/Baseline_Data_2012!AA$269","v":0},{"$f":"Baseline_Data_2012!AB86/Baseline_Data_2012!AB$269","v":0},{"$f":"Baseline_Data_2012!AC86/Baseline_Data_2012!AC$269","v":0},{"$f":"Baseline_Data_2012!AD86/Baseline_Data_2012!AD$269","v":0},{"$f":"Baseline_Data_2012!AE86/Baseline_Data_2012!AE$269","v":0},{"$f":"Baseline_Data_2012!AF86/Baseline_Data_2012!AF$269","v":0},{"$f":"Baseline_Data_2012!AG86/Baseline_Data_2012!AG$269","v":0},{"$f":"Baseline_Data_2012!AH86/Baseline_Data_2012!AH$269","v":0},{"$f":"Baseline_Data_2012!AI86/Baseline_Data_2012!AI$269","v":0},{"$f":"Baseline_Data_2012!AJ86/Baseline_Data_2012!AJ$269","v":0},{"$f":"Baseline_Data_2012!AK86/Baseline_Data_2012!AK$269","v":0},{"$f":"Baseline_Data_2012!AL86/Baseline_Data_2012!AL$269","v":0},{"$f":"Baseline_Data_2012!AM86/Baseline_Data_2012!AM$269","v":0},{"$f":"Baseline_Data_2012!AN86/Baseline_Data_2012!AN$269","v":0},{"$f":"Baseline_Data_2012!AO86/Baseline_Data_2012!AO$269","v":0},{"$f":"Baseline_Data_2012!AP86/Baseline_Data_2012!AP$269","v":0},{"$f":"Baseline_Data_2012!AQ86/Baseline_Data_2012!AQ$269","v":0},{"$f":"Baseline_Data_2012!AR86/Baseline_Data_2012!AR$269","v":0},{"$f":"Baseline_Data_2012!AS86/Baseline_Data_2012!AS$269","v":0},{"$f":"Baseline_Data_2012!AT86/Baseline_Data_2012!AT$269","v":0},{"$f":"Baseline_Data_2012!AU86/Baseline_Data_2012!AU$269","v":0},{"$f":"Baseline_Data_2012!AV86/Baseline_Data_2012!AV$269","v":0},86]
[1,"Female 10-14",null,null,null,null,{"$f":"HLOOKUP('III Tool Overview'!$H$6,Targeting!$I$1:$BC$269,Targeting!BD87,FALSE)","v":0},null,{"$f":"Baseline_Data_2012!B87/Baseline_Data_2012!B$269","v":0},{"$f":"Baseline_Data_2012!C87/Baseline_Data_2012!C$269","v":0},{"$f":"Baseline_Data_2012!D87/Baseline_Data_2012!D$269","v":0},{"$f":"Baseline_Data_2012!E87/Baseline_Data_2012!E$269","v":0},{"$f":"Baseline_Data_2012!F87/Baseline_Data_2012!F$269","v":0},{"$f":"Baseline_Data_2012!G87/Baseline_Data_2012!G$269","v":0},{"$f":"Baseline_Data_2012!H87/Baseline_Data_2012!H$269","v":0},{"$f":"Baseline_Data_2012!I87/Baseline_Data_2012!I$269","v":0},{"$f":"Baseline_Data_2012!J87/Baseline_Data_2012!J$269","v":0},{"$f":"Baseline_Data_2012!K87/Baseline_Data_2012!K$269","v":0},{"$f":"Baseline_Data_2012!L87/Baseline_Data_2012!L$269","v":0},{"$f":"Baseline_Data_2012!M87/Baseline_Data_2012!M$269","v":0},{"$f":"Baseline_Data_2012!N87/Baseline_Data_2012!N$269","v":0},{"$f":"Baseline_Data_2012!O87/Baseline_Data_2012!O$269","v":0},{"$f":"Baseline_Data_2012!P87/Baseline_Data_2012!P$269","v":0},{"$f":"Baseline_Data_2012!Q87/Baseline_Data_2012!Q$269","v":0},{"$f":"Baseline_Data_2012!R87/Baseline_Data_2012!R$269","v":0},{"$f":"Baseline_Data_2012!S87/Baseline_Data_2012!S$269","v":0},{"$f":"Baseline_Data_2012!T87/Baseline_Data_2012!T$269","v":0},{"$f":"Baseline_Data_2012!U87/Baseline_Data_2012!U$269","v":0},{"$f":"Baseline_Data_2012!V87/Baseline_Data_2012!V$269","v":0},{"$f":"Baseline_Data_2012!W87/Baseline_Data_2012!W$269","v":0},{"$f":"Baseline_Data_2012!X87/Baseline_Data_2012!X$269","v":0},{"$f":"Baseline_Data_2012!Y87/Baseline_Data_2012!Y$269","v":0},{"$f":"Baseline_Data_2012!Z87/Baseline_Data_2012!Z$269","v":0},{"$f":"Baseline_Data_2012!AA87/Baseline_Data_2012!AA$269","v":0},{"$f":"Baseline_Data_2012!AB87/Baseline_Data_2012!AB$269","v":0},{"$f":"Baseline_Data_2012!AC87/Baseline_Data_2012!AC$269","v":0},{"$f":"Baseline_Data_2012!AD87/Baseline_Data_2012!AD$269","v":0},{"$f":"Baseline_Data_2012!AE87/Baseline_Data_2012!AE$269","v":0},{"$f":"Baseline_Data_2012!AF87/Baseline_Data_2012!AF$269","v":0},{"$f":"Baseline_Data_2012!AG87/Baseline_Data_2012!AG$269","v":0},{"$f":"Baseline_Data_2012!AH87/Baseline_Data_2012!AH$269","v":0},{"$f":"Baseline_Data_2012!AI87/Baseline_Data_2012!AI$269","v":0},{"$f":"Baseline_Data_2012!AJ87/Baseline_Data_2012!AJ$269","v":0},{"$f":"Baseline_Data_2012!AK87/Baseline_Data_2012!AK$269","v":0},{"$f":"Baseline_Data_2012!AL87/Baseline_Data_2012!AL$269","v":0},{"$f":"Baseline_Data_2012!AM87/Baseline_Data_2012!AM$269","v":0},{"$f":"Baseline_Data_2012!AN87/Baseline_Data_2012!AN$269","v":0},{"$f":"Baseline_Data_2012!AO87/Baseline_Data_2012!AO$269","v":0},{"$f":"Baseline_Data_2012!AP87/Baseline_Data_2012!AP$269","v":0},{"$f":"Baseline_Data_2012!AQ87/Baseline_Data_2012!AQ$269","v":0},{"$f":"Baseline_Data_2012!AR87/Baseline_Data_2012!AR$269","v":0},{"$f":"Baseline_Data_2012!AS87/Baseline_Data_2012!AS$269","v":0},{"$f":"Baseline_Data_2012!AT87/Baseline_Data_2012!AT$269","v":0},{"$f":"Baseline_Data_2012!AU87/Baseline_Data_2012!AU$269","v":0},{"$f":"Baseline_Data_2012!AV87/Baseline_Data_2012!AV$269","v":0},87]
[1,"Female 15-19",{"$f":"'III Tool Overview'!$H$8/110","v":1.3090909090909091},{"$f":"'III Tool Overview'!$H$8/22","v":6.5454545454545459},{"$f":"'III Tool Overview'!$H$8/44","v":3.2727272727272729},{"$f":"G88*'III Tool Overview'!$H$8","v":0},{"$f":"HLOOKUP('III Tool Overview'!$H$6,Targeting!$I$1:$BC$269,Targeting!BD88,FALSE)","v":0},{"$f":"Baseline_Data_2012!B88","v":5599.66},{"$f":"Baseline_Data_2012!B88/Baseline_Data_2012!B$269","v":5.1687801014916506E-3},{"$f":"Baseline_Data_2012!C88/Baseline_Data_2012!C$269","v":7.3672857046907063E-3},{"$f":"Baseline_Data_2012!D88/Baseline_Data_2012!D$269","v":1.5649995808478018E-3},{"$f":"Baseline_Data_2012!E88/Baseline_Data_2012!E$269","v":2.0114049867584272E-3},{"$f":"Baseline_Data_2012!F88/Baseline_Data_2012!F$269","v":4.9342517377549524E-3},{"$f":"Baseline_Data_2012!G88/Baseline_Data_2012!G$269","v":4.0107444336370613E-3},{"$f":"Baseline_Data_2012!H88/Baseline_Data_2012!H$269","v":1.8677915568226689E-3},{"$f":"Baseline_Data_2012!I88/Baseline_Data_2012!I$269","v":8.2222448077327037E-3},{"$f":"Baseline_Data_2012!J88/Baseline_Data_2012!J$269","v":2.2798060468645358E-3},{"$f":"Baseline_Data_2012!K88/Baseline_Data_2012!K$269","v":5.9910799932040501E-3},{"$f":"Baseline_Data_2012!L88/Baseline_Data_2012!L$269","v":3.4941599683591313E-3},{"$f":"Baseline_Data_2012!M88/Baseline_Data_2012!M$269","v":0},{"$f":"Baseline_Data_2012!N88/Baseline_Data_2012!N$269","v":0},{"$f":"Baseline_Data_2012!O88/Baseline_Data_2012!O$269","v":4.762626425438724E-3},{"$f":"Baseline_Data_2012!P88/Baseline_Data_2012!P$269","v":0},{"$f":"Baseline_Data_2012!Q88/Baseline_Data_2012!Q$269","v":3.8371911061613117E-3},{"$f":"Baseline_Data_2012!R88/Baseline_Data_2012!R$269","v":5.6825864828390766E-4},{"$f":"Baseline_Data_2012!S88/Baseline_Data_2012!S$269","v":2.2602592229905251E-3},{"$f":"Baseline_Data_2012!T88/Baseline_Data_2012!T$269","v":2.2024142816884336E-3},{"$f":"Baseline_Data_2012!U88/Baseline_Data_2012!U$269","v":7.2007950539173778E-3},{"$f":"Baseline_Data_2012!V88/Baseline_Data_2012!V$269","v":1.9975398309540551E-3},{"$f":"Baseline_Data_2012!W88/Baseline_Data_2012!W$269","v":8.5803308322840235E-3},{"$f":"Baseline_Data_2012!X88/Baseline_Data_2012!X$269","v":7.8002880981866782E-3},{"$f":"Baseline_Data_2012!Y88/Baseline_Data_2012!Y$269","v":1.2111748291421638E-3},{"$f":"Baseline_Data_2012!Z88/Baseline_Data_2012!Z$269","v":1.4351981506389869E-3},{"$f":"Baseline_Data_2012!AA88/Baseline_Data_2012!AA$269","v":2.6628889656213402E-3},{"$f":"Baseline_Data_2012!AB88/Baseline_Data_2012!AB$269","v":3.7738947435430434E-3},{"$f":"Baseline_Data_2012!AC88/Baseline_Data_2012!AC$269","v":0},{"$f":"Baseline_Data_2012!AD88/Baseline_Data_2012!AD$269","v":3.3834984242413811E-3},{"$f":"Baseline_Data_2012!AE88/Baseline_Data_2012!AE$269","v":4.9423020516890619E-3},{"$f":"Baseline_Data_2012!AF88/Baseline_Data_2012!AF$269","v":1.017025931276758E-2},{"$f":"Baseline_Data_2012!AG88/Baseline_Data_2012!AG$269","v":2.3150716445228597E-3},{"$f":"Baseline_Data_2012!AH88/Baseline_Data_2012!AH$269","v":8.9891408879368487E-3},{"$f":"Baseline_Data_2012!AI88/Baseline_Data_2012!AI$269","v":2.2187861480267505E-3},{"$f":"Baseline_Data_2012!AJ88/Baseline_Data_2012!AJ$269","v":4.042668420543714E-4},{"$f":"Baseline_Data_2012!AK88/Baseline_Data_2012!AK$269","v":9.2973700091905694E-3},{"$f":"Baseline_Data_2012!AL88/Baseline_Data_2012!AL$269","v":7.5155244227682874E-3},{"$f":"Baseline_Data_2012!AM88/Baseline_Data_2012!AM$269","v":0},{"$f":"Baseline_Data_2012!AN88/Baseline_Data_2012!AN$269","v":1.9047932533643411E-3},{"$f":"Baseline_Data_2012!AO88/Baseline_Data_2012!AO$269","v":6.6326022985176113E-3},{"$f":"Baseline_Data_2012!AP88/Baseline_Data_2012!AP$269","v":1.5597160253246903E-3},{"$f":"Baseline_Data_2012!AQ88/Baseline_Data_2012!AQ$269","v":0},{"$f":"Baseline_Data_2012!AR88/Baseline_Data_2012!AR$269","v":4.344317933975014E-3},{"$f":"Baseline_Data_2012!AS88/Baseline_Data_2012!AS$269","v":4.4866635800590781E-3},{"$f":"Baseline_Data_2012!AT88/Baseline_Data_2012!AT$269","v":3.0646471294695958E-3},{"$f":"Baseline_Data_2012!AU88/Baseline_Data_2012!AU$269","v":8.4719494586143283E-3},{"$f":"Baseline_Data_2012!AV88/Baseline_Data_2012!AV$269","v":4.5320992493899145E-3},88]
[1,"Female 20-24",{"$f":"'III Tool Overview'!$H$8/110","v":1.3090909090909091},{"$f":"'III Tool Overview'!$H$8/22","v":6.5454545454545459},{"$f":"'III Tool Overview'!$H$8/44","v":3.2727272727272729},{"$f":"G89*'III Tool Overview'!$H$8","v":0},{"$f":"HLOOKUP('III Tool Overview'!$H$6,Targeting!$I$1:$BC$269,Targeting!BD89,FALSE)","v":0},{"$f":"Baseline_Data_2012!B89","v":13255.77},{"$f":"Baseline_Data_2012!B89/Baseline_Data_2012!B$269","v":1.2235771494331795E-2},{"$f":"Baseline_Data_2012!C89/Baseline_Data_2012!C$269","v":1.4647618466514892E-2},{"$f":"Baseline_Data_2012!D89/Baseline_Data_2012!D$269","v":3.3773700631844501E-3},{"$f":"Baseline_Data_2012!E89/Baseline_Data_2012!E$269","v":5.1966901413741965E-3},{"$f":"Baseline_Data_2012!F89/Baseline_Data_2012!F$269","v":1.0308906449167422E-2},{"$f":"Baseline_Data_2012!G89/Baseline_Data_2012!G$269","v":9.3674125384003055E-3},{"$f":"Baseline_Data_2012!H89/Baseline_Data_2012!H$269","v":5.8628550995134593E-3},{"$f":"Baseline_Data_2012!I89/Baseline_Data_2012!I$269","v":2.0726073192174999E-2},{"$f":"Baseline_Data_2012!J89/Baseline_Data_2012!J$269","v":4.9214303107198995E-3},{"$f":"Baseline_Data_2012!K89/Baseline_Data_2012!K$269","v":1.2135404244593801E-2},{"$f":"Baseline_Data_2012!L89/Baseline_Data_2012!L$269","v":8.6063667370054227E-3},{"$f":"Baseline_Data_2012!M89/Baseline_Data_2012!M$269","v":0},{"$f":"Baseline_Data_2012!N89/Baseline_Data_2012!N$269","v":0},{"$f":"Baseline_Data_2012!O89/Baseline_Data_2012!O$269","v":1.2457417708819111E-2},{"$f":"Baseline_Data_2012!P89/Baseline_Data_2012!P$269","v":0},{"$f":"Baseline_Data_2012!Q89/Baseline_Data_2012!Q$269","v":1.2211601425689042E-2},{"$f":"Baseline_Data_2012!R89/Baseline_Data_2012!R$269","v":1.7875320586794763E-3},{"$f":"Baseline_Data_2012!S89/Baseline_Data_2012!S$269","v":4.5540392395423514E-3},{"$f":"Baseline_Data_2012!T89/Baseline_Data_2012!T$269","v":4.0102784113096885E-3},{"$f":"Baseline_Data_2012!U89/Baseline_Data_2012!U$269","v":1.4411216839190263E-2},{"$f":"Baseline_Data_2012!V89/Baseline_Data_2012!V$269","v":5.1608679578996905E-3},{"$f":"Baseline_Data_2012!W89/Baseline_Data_2012!W$269","v":2.3548028478333049E-2},{"$f":"Baseline_Data_2012!X89/Baseline_Data_2012!X$269","v":1.5060194791980907E-2},{"$f":"Baseline_Data_2012!Y89/Baseline_Data_2012!Y$269","v":2.2795224378666197E-3},{"$f":"Baseline_Data_2012!Z89/Baseline_Data_2012!Z$269","v":2.4730480529605685E-3},{"$f":"Baseline_Data_2012!AA89/Baseline_Data_2012!AA$269","v":5.7672194175221536E-3},{"$f":"Baseline_Data_2012!AB89/Baseline_Data_2012!AB$269","v":1.0494455153606084E-2},{"$f":"Baseline_Data_2012!AC89/Baseline_Data_2012!AC$269","v":0},{"$f":"Baseline_Data_2012!AD89/Baseline_Data_2012!AD$269","v":8.2865320689504487E-3},{"$f":"Baseline_Data_2012!AE89/Baseline_Data_2012!AE$269","v":1.0325725601826003E-2},{"$f":"Baseline_Data_2012!AF89/Baseline_Data_2012!AF$269","v":2.7247495094368305E-2},{"$f":"Baseline_Data_2012!AG89/Baseline_Data_2012!AG$269","v":5.3141417294729288E-3},{"$f":"Baseline_Data_2012!AH89/Baseline_Data_2012!AH$269","v":1.9432888210467118E-2},{"$f":"Baseline_Data_2012!AI89/Baseline_Data_2012!AI$269","v":4.9729189538622815E-3},{"$f":"Baseline_Data_2012!AJ89/Baseline_Data_2012!AJ$269","v":8.6917371041689848E-4},{"$f":"Baseline_Data_2012!AK89/Baseline_Data_2012!AK$269","v":1.787004007469898E-2},{"$f":"Baseline_Data_2012!AL89/Baseline_Data_2012!AL$269","v":1.5480623105589307E-2},{"$f":"Baseline_Data_2012!AM89/Baseline_Data_2012!AM$269","v":0},{"$f":"Baseline_Data_2012!AN89/Baseline_Data_2012!AN$269","v":4.7200273348785996E-3},{"$f":"Baseline_Data_2012!AO89/Baseline_Data_2012!AO$269","v":1.596990499719169E-2},{"$f":"Baseline_Data_2012!AP89/Baseline_Data_2012!AP$269","v":3.365967809491026E-3},{"$f":"Baseline_Data_2012!AQ89/Baseline_Data_2012!AQ$269","v":0},{"$f":"Baseline_Data_2012!AR89/Baseline_Data_2012!AR$269","v":9.9292297521882539E-3},{"$f":"Baseline_Data_2012!AS89/Baseline_Data_2012!AS$269","v":9.017123225433266E-3},{"$f":"Baseline_Data_2012!AT89/Baseline_Data_2012!AT$269","v":8.0350412133992771E-3},{"$f":"Baseline_Data_2012!AU89/Baseline_Data_2012!AU$269","v":1.8252067583632341E-2},{"$f":"Baseline_Data_2012!AV89/Baseline_Data_2012!AV$269","v":9.1001157118513632E-3},89]
[1,"Female 25-29",{"$f":"'III Tool Overview'!$H$8/110","v":1.3090909090909091},{"$f":"'III Tool Overview'!$H$8/22","v":6.5454545454545459},{"$f":"'III Tool Overview'!$H$8/44","v":3.2727272727272729},{"$f":"G90*'III Tool Overview'!$H$8","v":0},{"$f":"HLOOKUP('III Tool Overview'!$H$6,Targeting!$I$1:$BC$269,Targeting!BD90,FALSE)","v":0},{"$f":"Baseline_Data_2012!B90","v":17966.690000000002},{"$f":"Baseline_Data_2012!B90/Baseline_Data_2012!B$269","v":1.6584197926600729E-2},{"$f":"Baseline_Data_2012!C90/Baseline_Data_2012!C$269","v":1.8354975757823844E-2},{"$f":"Baseline_Data_2012!D90/Baseline_Data_2012!D$269","v":4.2034695486759576E-3},{"$f":"Baseline_Data_2012!E90/Baseline_Data_2012!E$269","v":5.3645620382623662E-3},{"$f":"Baseline_Data_2012!F90/Baseline_Data_2012!F$269","v":1.3942494380749635E-2},{"$f":"Baseline_Data_2012!G90/Baseline_Data_2012!G$269","v":1.1163615407765006E-2},{"$f":"Baseline_Data_2012!H90/Baseline_Data_2012!H$269","v":7.8039642222826316E-3},{"$f":"Baseline_Data_2012!I90/Baseline_Data_2012!I$269","v":2.8224942768242035E-2},{"$f":"Baseline_Data_2012!J90/Baseline_Data_2012!J$269","v":7.0719015139116331E-3},{"$f":"Baseline_Data_2012!K90/Baseline_Data_2012!K$269","v":1.7392406105137863E-2},{"$f":"Baseline_Data_2012!L90/Baseline_Data_2012!L$269","v":1.27791506094929E-2},{"$f":"Baseline_Data_2012!M90/Baseline_Data_2012!M$269","v":0},{"$f":"Baseline_Data_2012!N90/Baseline_Data_2012!N$269","v":0},{"$f":"Baseline_Data_2012!O90/Baseline_Data_2012!O$269","v":1.6252998792754051E-2},{"$f":"Baseline_Data_2012!P90/Baseline_Data_2012!P$269","v":0},{"$f":"Baseline_Data_2012!Q90/Baseline_Data_2012!Q$269","v":1.639631864418151E-2},{"$f":"Baseline_Data_2012!R90/Baseline_Data_2012!R$269","v":2.4478255365839464E-3},{"$f":"Baseline_Data_2012!S90/Baseline_Data_2012!S$269","v":6.1774033848681735E-3},{"$f":"Baseline_Data_2012!T90/Baseline_Data_2012!T$269","v":5.5708125948589803E-3},{"$f":"Baseline_Data_2012!U90/Baseline_Data_2012!U$269","v":1.8213775724614547E-2},{"$f":"Baseline_Data_2012!V90/Baseline_Data_2012!V$269","v":5.3275826686314904E-3},{"$f":"Baseline_Data_2012!W90/Baseline_Data_2012!W$269","v":3.0009974060492842E-2},{"$f":"Baseline_Data_2012!X90/Baseline_Data_2012!X$269","v":2.0098414829112895E-2},{"$f":"Baseline_Data_2012!Y90/Baseline_Data_2012!Y$269","v":2.8362889116403762E-3},{"$f":"Baseline_Data_2012!Z90/Baseline_Data_2012!Z$269","v":3.1760902725072402E-3},{"$f":"Baseline_Data_2012!AA90/Baseline_Data_2012!AA$269","v":6.8747067826602469E-3},{"$f":"Baseline_Data_2012!AB90/Baseline_Data_2012!AB$269","v":1.6020620639625161E-2},{"$f":"Baseline_Data_2012!AC90/Baseline_Data_2012!AC$269","v":0},{"$f":"Baseline_Data_2012!AD90/Baseline_Data_2012!AD$269","v":1.0124402243685812E-2},{"$f":"Baseline_Data_2012!AE90/Baseline_Data_2012!AE$269","v":1.3965241792668399E-2},{"$f":"Baseline_Data_2012!AF90/Baseline_Data_2012!AF$269","v":3.7152619620403213E-2},{"$f":"Baseline_Data_2012!AG90/Baseline_Data_2012!AG$269","v":7.7178165685766031E-3},{"$f":"Baseline_Data_2012!AH90/Baseline_Data_2012!AH$269","v":2.538553197532183E-2},{"$f":"Baseline_Data_2012!AI90/Baseline_Data_2012!AI$269","v":5.6982462437959744E-3},{"$f":"Baseline_Data_2012!AJ90/Baseline_Data_2012!AJ$269","v":6.5846493213401406E-4},{"$f":"Baseline_Data_2012!AK90/Baseline_Data_2012!AK$269","v":2.1143241372438559E-2},{"$f":"Baseline_Data_2012!AL90/Baseline_Data_2012!AL$269","v":2.1868356181312793E-2},{"$f":"Baseline_Data_2012!AM90/Baseline_Data_2012!AM$269","v":0},{"$f":"Baseline_Data_2012!AN90/Baseline_Data_2012!AN$269","v":6.8883792862955559E-3},{"$f":"Baseline_Data_2012!AO90/Baseline_Data_2012!AO$269","v":2.2341240956286947E-2},{"$f":"Baseline_Data_2012!AP90/Baseline_Data_2012!AP$269","v":4.189278321392622E-3},{"$f":"Baseline_Data_2012!AQ90/Baseline_Data_2012!AQ$269","v":0},{"$f":"Baseline_Data_2012!AR90/Baseline_Data_2012!AR$269","v":1.2622951162795442E-2},{"$f":"Baseline_Data_2012!AS90/Baseline_Data_2012!AS$269","v":1.3512339572456239E-2},{"$f":"Baseline_Data_2012!AT90/Baseline_Data_2012!AT$269","v":8.4061233906497987E-3},{"$f":"Baseline_Data_2012!AU90/Baseline_Data_2012!AU$269","v":2.3904753112558498E-2},{"$f":"Baseline_Data_2012!AV90/Baseline_Data_2012!AV$269","v":1.3580862251643134E-2},90]
[1,"Female 30-34",{"$f":"'III Tool Overview'!$H$8/110","v":1.3090909090909091},{"$f":"'III Tool Overview'!$H$8/22","v":6.5454545454545459},{"$f":"'III Tool Overview'!$H$8/44","v":3.2727272727272729},{"$f":"G91*'III Tool Overview'!$H$8","v":0},{"$f":"HLOOKUP('III Tool Overview'!$H$6,Targeting!$I$1:$BC$269,Targeting!BD91,FALSE)","v":0},{"$f":"Baseline_Data_2012!B91","v":14240.12},{"$f":"Baseline_Data_2012!B91/Baseline_Data_2012!B$269","v":1.3144378212043818E-2},{"$f":"Baseline_Data_2012!C91/Baseline_Data_2012!C$269","v":1.4309148746761738E-2},{"$f":"Baseline_Data_2012!D91/Baseline_Data_2012!D$269","v":3.2612571910570318E-3},{"$f":"Baseline_Data_2012!E91/Baseline_Data_2012!E$269","v":4.8221125936729085E-3},{"$f":"Baseline_Data_2012!F91/Baseline_Data_2012!F$269","v":1.1085143030129564E-2},{"$f":"Baseline_Data_2012!G91/Baseline_Data_2012!G$269","v":8.782491833813277E-3},{"$f":"Baseline_Data_2012!H91/Baseline_Data_2012!H$269","v":5.4994549900394844E-3},{"$f":"Baseline_Data_2012!I91/Baseline_Data_2012!I$269","v":2.2496061793956676E-2},{"$f":"Baseline_Data_2012!J91/Baseline_Data_2012!J$269","v":5.4061964655231446E-3},{"$f":"Baseline_Data_2012!K91/Baseline_Data_2012!K$269","v":1.4124933433014845E-2},{"$f":"Baseline_Data_2012!L91/Baseline_Data_2012!L$269","v":1.0505540587735852E-2},{"$f":"Baseline_Data_2012!M91/Baseline_Data_2012!M$269","v":0},{"$f":"Baseline_Data_2012!N91/Baseline_Data_2012!N$269","v":0},{"$f":"Baseline_Data_2012!O91/Baseline_Data_2012!O$269","v":1.2241653504155046E-2},{"$f":"Baseline_Data_2012!P91/Baseline_Data_2012!P$269","v":0},{"$f":"Baseline_Data_2012!Q91/Baseline_Data_2012!Q$269","v":1.1663468680316693E-2},{"$f":"Baseline_Data_2012!R91/Baseline_Data_2012!R$269","v":1.572366162727317E-3},{"$f":"Baseline_Data_2012!S91/Baseline_Data_2012!S$269","v":5.0620751627376394E-3},{"$f":"Baseline_Data_2012!T91/Baseline_Data_2012!T$269","v":3.8855427458664689E-3},{"$f":"Baseline_Data_2012!U91/Baseline_Data_2012!U$269","v":1.5031703432922325E-2},{"$f":"Baseline_Data_2012!V91/Baseline_Data_2012!V$269","v":4.7888724740263681E-3},{"$f":"Baseline_Data_2012!W91/Baseline_Data_2012!W$269","v":2.2462428585084453E-2},{"$f":"Baseline_Data_2012!X91/Baseline_Data_2012!X$269","v":1.4825958320248208E-2},{"$f":"Baseline_Data_2012!Y91/Baseline_Data_2012!Y$269","v":2.624904625422168E-3},{"$f":"Baseline_Data_2012!Z91/Baseline_Data_2012!Z$269","v":3.175551129700839E-3},{"$f":"Baseline_Data_2012!AA91/Baseline_Data_2012!AA$269","v":6.6656369878387361E-3},{"$f":"Baseline_Data_2012!AB91/Baseline_Data_2012!AB$269","v":1.3205190958586533E-2},{"$f":"Baseline_Data_2012!AC91/Baseline_Data_2012!AC$269","v":0},{"$f":"Baseline_Data_2012!AD91/Baseline_Data_2012!AD$269","v":8.1422529672090741E-3},{"$f":"Baseline_Data_2012!AE91/Baseline_Data_2012!AE$269","v":1.1103228625705128E-2},{"$f":"Baseline_Data_2012!AF91/Baseline_Data_2012!AF$269","v":2.9080105629170606E-2},{"$f":"Baseline_Data_2012!AG91/Baseline_Data_2012!AG$269","v":6.0587274443435722E-3},{"$f":"Baseline_Data_2012!AH91/Baseline_Data_2012!AH$269","v":2.0137656666860182E-2},{"$f":"Baseline_Data_2012!AI91/Baseline_Data_2012!AI$269","v":4.7459976432686363E-3},{"$f":"Baseline_Data_2012!AJ91/Baseline_Data_2012!AJ$269","v":5.8189924235098919E-4},{"$f":"Baseline_Data_2012!AK91/Baseline_Data_2012!AK$269","v":1.8281721062662105E-2},{"$f":"Baseline_Data_2012!AL91/Baseline_Data_2012!AL$269","v":1.7288944957773961E-2},{"$f":"Baseline_Data_2012!AM91/Baseline_Data_2012!AM$269","v":0},{"$f":"Baseline_Data_2012!AN91/Baseline_Data_2012!AN$269","v":5.0148621736552578E-3},{"$f":"Baseline_Data_2012!AO91/Baseline_Data_2012!AO$269","v":1.853317609790878E-2},{"$f":"Baseline_Data_2012!AP91/Baseline_Data_2012!AP$269","v":3.2502469430959681E-3},{"$f":"Baseline_Data_2012!AQ91/Baseline_Data_2012!AQ$269","v":0},{"$f":"Baseline_Data_2012!AR91/Baseline_Data_2012!AR$269","v":8.5249605343550947E-3},{"$f":"Baseline_Data_2012!AS91/Baseline_Data_2012!AS$269","v":1.1733806428464501E-2},{"$f":"Baseline_Data_2012!AT91/Baseline_Data_2012!AT$269","v":5.805036331184006E-3},{"$f":"Baseline_Data_2012!AU91/Baseline_Data_2012!AU$269","v":1.9313892799869094E-2},{"$f":"Baseline_Data_2012!AV91/Baseline_Data_2012!AV$269","v":1.0738356198973641E-2},91]
[1,"Female 35-39",{"$f":"'III Tool Overview'!$H$8/110","v":1.3090909090909091},{"$f":"'III Tool Overview'!$H$8/22","v":6.5454545454545459},{"$f":"'III Tool Overview'!$H$8/44","v":3.2727272727272729},{"$f":"G92*'III Tool Overview'!$H$8","v":0},{"$f":"HLOOKUP('III Tool Overview'!$H$6,Targeting!$I$1:$BC$269,Targeting!BD92,FALSE)","v":0},{"$f":"Baseline_Data_2012!B92","v":12483.9},{"$f":"Baseline_Data_2012!B92/Baseline_Data_2012!B$269","v":1.152329496951808E-2},{"$f":"Baseline_Data_2012!C92/Baseline_Data_2012!C$269","v":1.4461496051618785E-2},{"$f":"Baseline_Data_2012!D92/Baseline_Data_2012!D$269","v":3.3649785709020767E-3},{"$f":"Baseline_Data_2012!E92/Baseline_Data_2012!E$269","v":3.8518803007290829E-3},{"$f":"Baseline_Data_2012!F92/Baseline_Data_2012!F$269","v":9.7692020873108108E-3},{"$f":"Baseline_Data_2012!G92/Baseline_Data_2012!G$269","v":8.7453098119871092E-3},{"$f":"Baseline_Data_2012!H92/Baseline_Data_2012!H$269","v":4.7822179318671651E-3},{"$f":"Baseline_Data_2012!I92/Baseline_Data_2012!I$269","v":1.9222988501668724E-2},{"$f":"Baseline_Data_2012!J92/Baseline_Data_2012!J$269","v":4.8261057407536492E-3},{"$f":"Baseline_Data_2012!K92/Baseline_Data_2012!K$269","v":1.3218776552336277E-2},{"$f":"Baseline_Data_2012!L92/Baseline_Data_2012!L$269","v":8.3464341868089431E-3},{"$f":"Baseline_Data_2012!M92/Baseline_Data_2012!M$269","v":0},{"$f":"Baseline_Data_2012!N92/Baseline_Data_2012!N$269","v":0},{"$f":"Baseline_Data_2012!O92/Baseline_Data_2012!O$269","v":9.9005939131831169E-3},{"$f":"Baseline_Data_2012!P92/Baseline_Data_2012!P$269","v":0},{"$f":"Baseline_Data_2012!Q92/Baseline_Data_2012!Q$269","v":1.0162585372276121E-2},{"$f":"Baseline_Data_2012!R92/Baseline_Data_2012!R$269","v":1.3007756437107805E-3},{"$f":"Baseline_Data_2012!S92/Baseline_Data_2012!S$269","v":4.040779296571274E-3},{"$f":"Baseline_Data_2012!T92/Baseline_Data_2012!T$269","v":4.1130648824045301E-3},{"$f":"Baseline_Data_2012!U92/Baseline_Data_2012!U$269","v":1.5427274575893964E-2},{"$f":"Baseline_Data_2012!V92/Baseline_Data_2012!V$269","v":3.8253282533487732E-3},{"$f":"Baseline_Data_2012!W92/Baseline_Data_2012!W$269","v":1.8221015048671328E-2},{"$f":"Baseline_Data_2012!X92/Baseline_Data_2012!X$269","v":1.5007865367444879E-2},{"$f":"Baseline_Data_2012!Y92/Baseline_Data_2012!Y$269","v":2.4509151023678691E-3},{"$f":"Baseline_Data_2012!Z92/Baseline_Data_2012!Z$269","v":2.9857728618477497E-3},{"$f":"Baseline_Data_2012!AA92/Baseline_Data_2012!AA$269","v":5.73032474784777E-3},{"$f":"Baseline_Data_2012!AB92/Baseline_Data_2012!AB$269","v":9.7763436375450808E-3},{"$f":"Baseline_Data_2012!AC92/Baseline_Data_2012!AC$269","v":0},{"$f":"Baseline_Data_2012!AD92/Baseline_Data_2012!AD$269","v":7.9374994334612051E-3},{"$f":"Baseline_Data_2012!AE92/Baseline_Data_2012!AE$269","v":9.7851407033094345E-3},{"$f":"Baseline_Data_2012!AF92/Baseline_Data_2012!AF$269","v":2.4398997499557557E-2},{"$f":"Baseline_Data_2012!AG92/Baseline_Data_2012!AG$269","v":5.1344298515185261E-3},{"$f":"Baseline_Data_2012!AH92/Baseline_Data_2012!AH$269","v":1.8736044065600609E-2},{"$f":"Baseline_Data_2012!AI92/Baseline_Data_2012!AI$269","v":3.9561707560085858E-3},{"$f":"Baseline_Data_2012!AJ92/Baseline_Data_2012!AJ$269","v":6.2110087551989798E-4},{"$f":"Baseline_Data_2012!AK92/Baseline_Data_2012!AK$269","v":1.8888155117530496E-2},{"$f":"Baseline_Data_2012!AL92/Baseline_Data_2012!AL$269","v":1.6380542765077361E-2},{"$f":"Baseline_Data_2012!AM92/Baseline_Data_2012!AM$269","v":0},{"$f":"Baseline_Data_2012!AN92/Baseline_Data_2012!AN$269","v":4.0311894062490441E-3},{"$f":"Baseline_Data_2012!AO92/Baseline_Data_2012!AO$269","v":1.5147239911903107E-2},{"$f":"Baseline_Data_2012!AP92/Baseline_Data_2012!AP$269","v":3.3536181518125019E-3},{"$f":"Baseline_Data_2012!AQ92/Baseline_Data_2012!AQ$269","v":0},{"$f":"Baseline_Data_2012!AR92/Baseline_Data_2012!AR$269","v":8.0665067392608238E-3},{"$f":"Baseline_Data_2012!AS92/Baseline_Data_2012!AS$269","v":1.0708359161793536E-2},{"$f":"Baseline_Data_2012!AT92/Baseline_Data_2012!AT$269","v":5.7980126937597059E-3},{"$f":"Baseline_Data_2012!AU92/Baseline_Data_2012!AU$269","v":1.7981656095230711E-2},{"$f":"Baseline_Data_2012!AV92/Baseline_Data_2012!AV$269","v":9.9095887700833708E-3},92]
[1,"Female 40-44",{"$f":"'III Tool Overview'!$H$8/110","v":1.3090909090909091},{"$f":"'III Tool Overview'!$H$8/22","v":6.5454545454545459},{"$f":"'III Tool Overview'!$H$8/44","v":3.2727272727272729},{"$f":"G93*'III Tool Overview'!$H$8","v":0},{"$f":"HLOOKUP('III Tool Overview'!$H$6,Targeting!$I$1:$BC$269,Targeting!BD93,FALSE)","v":0},{"$f":"Baseline_Data_2012!B93","v":13880.55},{"$f":"Baseline_Data_2012!B93/Baseline_Data_2012!B$269","v":1.2812476228513862E-2},{"$f":"Baseline_Data_2012!C93/Baseline_Data_2012!C$269","v":1.6706702479960117E-2},{"$f":"Baseline_Data_2012!D93/Baseline_Data_2012!D$269","v":3.2773202366082558E-3},{"$f":"Baseline_Data_2012!E93/Baseline_Data_2012!E$269","v":4.3558017689835499E-3},{"$f":"Baseline_Data_2012!F93/Baseline_Data_2012!F$269","v":1.20116486879288E-2},{"$f":"Baseline_Data_2012!G93/Baseline_Data_2012!G$269","v":9.3331788707277531E-3},{"$f":"Baseline_Data_2012!H93/Baseline_Data_2012!H$269","v":4.5448390299476157E-3},{"$f":"Baseline_Data_2012!I93/Baseline_Data_2012!I$269","v":2.1870332556060888E-2},{"$f":"Baseline_Data_2012!J93/Baseline_Data_2012!J$269","v":5.3466385683750518E-3},{"$f":"Baseline_Data_2012!K93/Baseline_Data_2012!K$269","v":1.4942521514396649E-2},{"$f":"Baseline_Data_2012!L93/Baseline_Data_2012!L$269","v":8.3598307105498398E-3},{"$f":"Baseline_Data_2012!M93/Baseline_Data_2012!M$269","v":0},{"$f":"Baseline_Data_2012!N93/Baseline_Data_2012!N$269","v":0},{"$f":"Baseline_Data_2012!O93/Baseline_Data_2012!O$269","v":1.0243947722493056E-2},{"$f":"Baseline_Data_2012!P93/Baseline_Data_2012!P$269","v":0},{"$f":"Baseline_Data_2012!Q93/Baseline_Data_2012!Q$269","v":9.467009370504046E-3},{"$f":"Baseline_Data_2012!R93/Baseline_Data_2012!R$269","v":1.3268563583716483E-3},{"$f":"Baseline_Data_2012!S93/Baseline_Data_2012!S$269","v":4.3812112519600634E-3},{"$f":"Baseline_Data_2012!T93/Baseline_Data_2012!T$269","v":4.9321445739415508E-3},{"$f":"Baseline_Data_2012!U93/Baseline_Data_2012!U$269","v":1.6319935119768019E-2},{"$f":"Baseline_Data_2012!V93/Baseline_Data_2012!V$269","v":4.3257760553269244E-3},{"$f":"Baseline_Data_2012!W93/Baseline_Data_2012!W$269","v":1.8843472084495501E-2},{"$f":"Baseline_Data_2012!X93/Baseline_Data_2012!X$269","v":1.8097437309949539E-2},{"$f":"Baseline_Data_2012!Y93/Baseline_Data_2012!Y$269","v":2.9209465004697813E-3},{"$f":"Baseline_Data_2012!Z93/Baseline_Data_2012!Z$269","v":2.8526045886667468E-3},{"$f":"Baseline_Data_2012!AA93/Baseline_Data_2012!AA$269","v":6.514174659701789E-3},{"$f":"Baseline_Data_2012!AB93/Baseline_Data_2012!AB$269","v":9.6478110150605145E-3},{"$f":"Baseline_Data_2012!AC93/Baseline_Data_2012!AC$269","v":0},{"$f":"Baseline_Data_2012!AD93/Baseline_Data_2012!AD$269","v":8.0756389989582681E-3},{"$f":"Baseline_Data_2012!AE93/Baseline_Data_2012!AE$269","v":1.2031245892924276E-2},{"$f":"Baseline_Data_2012!AF93/Baseline_Data_2012!AF$269","v":2.7307633052804786E-2},{"$f":"Baseline_Data_2012!AG93/Baseline_Data_2012!AG$269","v":5.5284749071092933E-3},{"$f":"Baseline_Data_2012!AH93/Baseline_Data_2012!AH$269","v":2.440886057967381E-2},{"$f":"Baseline_Data_2012!AI93/Baseline_Data_2012!AI$269","v":4.7729702021505685E-3},{"$f":"Baseline_Data_2012!AJ93/Baseline_Data_2012!AJ$269","v":8.158839903279132E-4},{"$f":"Baseline_Data_2012!AK93/Baseline_Data_2012!AK$269","v":2.0939811188690972E-2},{"$f":"Baseline_Data_2012!AL93/Baseline_Data_2012!AL$269","v":1.8717095094339407E-2},{"$f":"Baseline_Data_2012!AM93/Baseline_Data_2012!AM$269","v":0},{"$f":"Baseline_Data_2012!AN93/Baseline_Data_2012!AN$269","v":4.0079230088811571E-3},{"$f":"Baseline_Data_2012!AO93/Baseline_Data_2012!AO$269","v":1.8424944897383607E-2},{"$f":"Baseline_Data_2012!AP93/Baseline_Data_2012!AP$269","v":3.2662557586051653E-3},{"$f":"Baseline_Data_2012!AQ93/Baseline_Data_2012!AQ$269","v":0},{"$f":"Baseline_Data_2012!AR93/Baseline_Data_2012!AR$269","v":9.5660496587387962E-3},{"$f":"Baseline_Data_2012!AS93/Baseline_Data_2012!AS$269","v":1.1299532312797834E-2},{"$f":"Baseline_Data_2012!AT93/Baseline_Data_2012!AT$269","v":7.0382700022673592E-3},{"$f":"Baseline_Data_2012!AU93/Baseline_Data_2012!AU$269","v":2.0324750405726486E-2},{"$f":"Baseline_Data_2012!AV93/Baseline_Data_2012!AV$269","v":9.9395692537215929E-3},93]
[1,"Female 45-49",{"$f":"'III Tool Overview'!$H$8/110","v":1.3090909090909091},{"$f":"'III Tool Overview'!$H$8/22","v":6.5454545454545459},{"$f":"'III Tool Overview'!$H$8/44","v":3.2727272727272729},{"$f":"G94*'III Tool Overview'!$H$8","v":0},{"$f":"HLOOKUP('III Tool Overview'!$H$6,Targeting!$I$1:$BC$269,Targeting!BD94,FALSE)","v":0},{"$f":"Baseline_Data_2012!B94","v":16986.64},{"$f":"Baseline_Data_2012!B94/Baseline_Data_2012!B$269","v":1.5679560334592123E-2},{"$f":"Baseline_Data_2012!C94/Baseline_Data_2012!C$269","v":2.1248137311382635E-2},{"$f":"Baseline_Data_2012!D94/Baseline_Data_2012!D$269","v":3.5742571072265917E-3},{"$f":"Baseline_Data_2012!E94/Baseline_Data_2012!E$269","v":5.8122204299641501E-3},{"$f":"Baseline_Data_2012!F94/Baseline_Data_2012!F$269","v":1.462601454620493E-2},{"$f":"Baseline_Data_2012!G94/Baseline_Data_2012!G$269","v":1.1625032832806071E-2},{"$f":"Baseline_Data_2012!H94/Baseline_Data_2012!H$269","v":5.4420760253856976E-3},{"$f":"Baseline_Data_2012!I94/Baseline_Data_2012!I$269","v":2.7081266800883515E-2},{"$f":"Baseline_Data_2012!J94/Baseline_Data_2012!J$269","v":6.4354463449242359E-3},{"$f":"Baseline_Data_2012!K94/Baseline_Data_2012!K$269","v":1.7820851834600672E-2},{"$f":"Baseline_Data_2012!L94/Baseline_Data_2012!L$269","v":9.4780738713694593E-3},{"$f":"Baseline_Data_2012!M94/Baseline_Data_2012!M$269","v":0},{"$f":"Baseline_Data_2012!N94/Baseline_Data_2012!N$269","v":0},{"$f":"Baseline_Data_2012!O94/Baseline_Data_2012!O$269","v":1.2819820106991672E-2},{"$f":"Baseline_Data_2012!P94/Baseline_Data_2012!P$269","v":0},{"$f":"Baseline_Data_2012!Q94/Baseline_Data_2012!Q$269","v":1.106217255830288E-2},{"$f":"Baseline_Data_2012!R94/Baseline_Data_2012!R$269","v":1.7764979101691091E-3},{"$f":"Baseline_Data_2012!S94/Baseline_Data_2012!S$269","v":5.0185416646060807E-3},{"$f":"Baseline_Data_2012!T94/Baseline_Data_2012!T$269","v":5.5590349783793619E-3},{"$f":"Baseline_Data_2012!U94/Baseline_Data_2012!U$269","v":2.0062108144871412E-2},{"$f":"Baseline_Data_2012!V94/Baseline_Data_2012!V$269","v":5.7721552305829539E-3},{"$f":"Baseline_Data_2012!W94/Baseline_Data_2012!W$269","v":2.3902350175648349E-2},{"$f":"Baseline_Data_2012!X94/Baseline_Data_2012!X$269","v":2.3338211378108736E-2},{"$f":"Baseline_Data_2012!Y94/Baseline_Data_2012!Y$269","v":3.7934909742943241E-3},{"$f":"Baseline_Data_2012!Z94/Baseline_Data_2012!Z$269","v":4.0090659083965082E-3},{"$f":"Baseline_Data_2012!AA94/Baseline_Data_2012!AA$269","v":8.401628287254494E-3},{"$f":"Baseline_Data_2012!AB94/Baseline_Data_2012!AB$269","v":1.0429574441682708E-2},{"$f":"Baseline_Data_2012!AC94/Baseline_Data_2012!AC$269","v":0},{"$f":"Baseline_Data_2012!AD94/Baseline_Data_2012!AD$269","v":1.0373360438392737E-2},{"$f":"Baseline_Data_2012!AE94/Baseline_Data_2012!AE$269","v":1.4649877132663759E-2},{"$f":"Baseline_Data_2012!AF94/Baseline_Data_2012!AF$269","v":3.3977252082912864E-2},{"$f":"Baseline_Data_2012!AG94/Baseline_Data_2012!AG$269","v":6.8149295163443483E-3},{"$f":"Baseline_Data_2012!AH94/Baseline_Data_2012!AH$269","v":2.9593341395923005E-2},{"$f":"Baseline_Data_2012!AI94/Baseline_Data_2012!AI$269","v":4.9277692357338303E-3},{"$f":"Baseline_Data_2012!AJ94/Baseline_Data_2012!AJ$269","v":1.1588982805558646E-3},{"$f":"Baseline_Data_2012!AK94/Baseline_Data_2012!AK$269","v":2.7559808589980861E-2},{"$f":"Baseline_Data_2012!AL94/Baseline_Data_2012!AL$269","v":2.2388232648412075E-2},{"$f":"Baseline_Data_2012!AM94/Baseline_Data_2012!AM$269","v":0},{"$f":"Baseline_Data_2012!AN94/Baseline_Data_2012!AN$269","v":5.0011311850447016E-3},{"$f":"Baseline_Data_2012!AO94/Baseline_Data_2012!AO$269","v":2.1471342803437495E-2},{"$f":"Baseline_Data_2012!AP94/Baseline_Data_2012!AP$269","v":3.5621901481609057E-3},{"$f":"Baseline_Data_2012!AQ94/Baseline_Data_2012!AQ$269","v":0},{"$f":"Baseline_Data_2012!AR94/Baseline_Data_2012!AR$269","v":1.0623424885967766E-2},{"$f":"Baseline_Data_2012!AS94/Baseline_Data_2012!AS$269","v":1.3871998169437899E-2},{"$f":"Baseline_Data_2012!AT94/Baseline_Data_2012!AT$269","v":8.3440812600684804E-3},{"$f":"Baseline_Data_2012!AU94/Baseline_Data_2012!AU$269","v":2.5748081687945502E-2},{"$f":"Baseline_Data_2012!AV94/Baseline_Data_2012!AV$269","v":1.2316338882347807E-2},94]
[1,"Female 50-54",{"$f":"'III Tool Overview'!$H$8/110","v":1.3090909090909091},{"$f":"'III Tool Overview'!$H$8/22","v":6.5454545454545459},{"$f":"'III Tool Overview'!$H$8/44","v":3.2727272727272729},{"$f":"G95*'III Tool Overview'!$H$8","v":0},{"$f":"HLOOKUP('III Tool Overview'!$H$6,Targeting!$I$1:$BC$269,Targeting!BD95,FALSE)","v":0},{"$f":"Baseline_Data_2012!B95","v":13174.59},{"$f":"Baseline_Data_2012!B95/Baseline_Data_2012!B$269","v":1.2160838093261178E-2},{"$f":"Baseline_Data_2012!C95/Baseline_Data_2012!C$269","v":1.6210376040237163E-2},{"$f":"Baseline_Data_2012!D95/Baseline_Data_2012!D$269","v":2.8697778237657783E-3},{"$f":"Baseline_Data_2012!E95/Baseline_Data_2012!E$269","v":4.1634676648985621E-3},{"$f":"Baseline_Data_2012!F95/Baseline_Data_2012!F$269","v":1.0881140576123736E-2},{"$f":"Baseline_Data_2012!G95/Baseline_Data_2012!G$269","v":9.0180325711966859E-3},{"$f":"Baseline_Data_2012!H95/Baseline_Data_2012!H$269","v":4.1084401265529917E-3},{"$f":"Baseline_Data_2012!I95/Baseline_Data_2012!I$269","v":2.0907071964794001E-2},{"$f":"Baseline_Data_2012!J95/Baseline_Data_2012!J$269","v":5.2048492582744974E-3},{"$f":"Baseline_Data_2012!K95/Baseline_Data_2012!K$269","v":1.3862651487821441E-2},{"$f":"Baseline_Data_2012!L95/Baseline_Data_2012!L$269","v":7.5854983084517125E-3},{"$f":"Baseline_Data_2012!M95/Baseline_Data_2012!M$269","v":0},{"$f":"Baseline_Data_2012!N95/Baseline_Data_2012!N$269","v":0},{"$f":"Baseline_Data_2012!O95/Baseline_Data_2012!O$269","v":1.0540937985326045E-2},{"$f":"Baseline_Data_2012!P95/Baseline_Data_2012!P$269","v":0},{"$f":"Baseline_Data_2012!Q95/Baseline_Data_2012!Q$269","v":8.3720533225337714E-3},{"$f":"Baseline_Data_2012!R95/Baseline_Data_2012!R$269","v":1.3825286531285006E-3},{"$f":"Baseline_Data_2012!S95/Baseline_Data_2012!S$269","v":4.6389295608988898E-3},{"$f":"Baseline_Data_2012!T95/Baseline_Data_2012!T$269","v":5.0311836216110602E-3},{"$f":"Baseline_Data_2012!U95/Baseline_Data_2012!U$269","v":1.5218987115656685E-2},{"$f":"Baseline_Data_2012!V95/Baseline_Data_2012!V$269","v":4.1347677619748262E-3},{"$f":"Baseline_Data_2012!W95/Baseline_Data_2012!W$269","v":1.9734644838349136E-2},{"$f":"Baseline_Data_2012!X95/Baseline_Data_2012!X$269","v":1.6740788079291025E-2},{"$f":"Baseline_Data_2012!Y95/Baseline_Data_2012!Y$269","v":2.8825129938846524E-3},{"$f":"Baseline_Data_2012!Z95/Baseline_Data_2012!Z$269","v":2.9523460078508985E-3},{"$f":"Baseline_Data_2012!AA95/Baseline_Data_2012!AA$269","v":5.9872928857553215E-3},{"$f":"Baseline_Data_2012!AB95/Baseline_Data_2012!AB$269","v":8.5839147956806097E-3},{"$f":"Baseline_Data_2012!AC95/Baseline_Data_2012!AC$269","v":0},{"$f":"Baseline_Data_2012!AD95/Baseline_Data_2012!AD$269","v":8.2573692717899591E-3},{"$f":"Baseline_Data_2012!AE95/Baseline_Data_2012!AE$269","v":1.0898893338296108E-2},{"$f":"Baseline_Data_2012!AF95/Baseline_Data_2012!AF$269","v":2.6079457610648154E-2},{"$f":"Baseline_Data_2012!AG95/Baseline_Data_2012!AG$269","v":5.2840758639596443E-3},{"$f":"Baseline_Data_2012!AH95/Baseline_Data_2012!AH$269","v":2.365753679306223E-2},{"$f":"Baseline_Data_2012!AI95/Baseline_Data_2012!AI$269","v":4.3607591392375647E-3},{"$f":"Baseline_Data_2012!AJ95/Baseline_Data_2012!AJ$269","v":7.2523021362481174E-4},{"$f":"Baseline_Data_2012!AK95/Baseline_Data_2012!AK$269","v":2.11895193289309E-2},{"$f":"Baseline_Data_2012!AL95/Baseline_Data_2012!AL$269","v":1.6986144226875093E-2},{"$f":"Baseline_Data_2012!AM95/Baseline_Data_2012!AM$269","v":0},{"$f":"Baseline_Data_2012!AN95/Baseline_Data_2012!AN$269","v":3.5563260501339849E-3},{"$f":"Baseline_Data_2012!AO95/Baseline_Data_2012!AO$269","v":1.7446275737522582E-2},{"$f":"Baseline_Data_2012!AP95/Baseline_Data_2012!AP$269","v":2.8600892394003785E-3},{"$f":"Baseline_Data_2012!AQ95/Baseline_Data_2012!AQ$269","v":0},{"$f":"Baseline_Data_2012!AR95/Baseline_Data_2012!AR$269","v":9.1141103047826331E-3},{"$f":"Baseline_Data_2012!AS95/Baseline_Data_2012!AS$269","v":1.1212235105166368E-2},{"$f":"Baseline_Data_2012!AT95/Baseline_Data_2012!AT$269","v":6.3019586789532346E-3},{"$f":"Baseline_Data_2012!AU95/Baseline_Data_2012!AU$269","v":1.913739385281463E-2},{"$f":"Baseline_Data_2012!AV95/Baseline_Data_2012!AV$269","v":9.2146945899142709E-3},95]
[1,"Female 55-59",{"$f":"'III Tool Overview'!$H$8/110","v":1.3090909090909091},{"$f":"'III Tool Overview'!$H$8/22","v":6.5454545454545459},{"$f":"'III Tool Overview'!$H$8/44","v":3.2727272727272729},{"$f":"G96*'III Tool Overview'!$H$8","v":0},{"$f":"HLOOKUP('III Tool Overview'!$H$6,Targeting!$I$1:$BC$269,Targeting!BD96,FALSE)","v":0},{"$f":"Baseline_Data_2012!B96","v":14989.5},{"$f":"Baseline_Data_2012!B96/Baseline_Data_2012!B$269","v":1.3836095286376155E-2},{"$f":"Baseline_Data_2012!C96/Baseline_Data_2012!C$269","v":1.9756043974976135E-2},{"$f":"Baseline_Data_2012!D96/Baseline_Data_2012!D$269","v":3.8092365164330657E-3},{"$f":"Baseline_Data_2012!E96/Baseline_Data_2012!E$269","v":5.0911968728379149E-3},{"$f":"Baseline_Data_2012!F96/Baseline_Data_2012!F$269","v":1.2550957951423875E-2},{"$f":"Baseline_Data_2012!G96/Baseline_Data_2012!G$269","v":1.0286480047063932E-2},{"$f":"Baseline_Data_2012!H96/Baseline_Data_2012!H$269","v":4.9197149323523476E-3},{"$f":"Baseline_Data_2012!I96/Baseline_Data_2012!I$269","v":2.2872790101510977E-2},{"$f":"Baseline_Data_2012!J96/Baseline_Data_2012!J$269","v":6.3310204341069367E-3},{"$f":"Baseline_Data_2012!K96/Baseline_Data_2012!K$269","v":1.6670858356209666E-2},{"$f":"Baseline_Data_2012!L96/Baseline_Data_2012!L$269","v":8.3145091376950683E-3},{"$f":"Baseline_Data_2012!M96/Baseline_Data_2012!M$269","v":0},{"$f":"Baseline_Data_2012!N96/Baseline_Data_2012!N$269","v":0},{"$f":"Baseline_Data_2012!O96/Baseline_Data_2012!O$269","v":1.1830491510591991E-2},{"$f":"Baseline_Data_2012!P96/Baseline_Data_2012!P$269","v":0},{"$f":"Baseline_Data_2012!Q96/Baseline_Data_2012!Q$269","v":1.0056520507548074E-2},{"$f":"Baseline_Data_2012!R96/Baseline_Data_2012!R$269","v":1.5924282509279847E-3},{"$f":"Baseline_Data_2012!S96/Baseline_Data_2012!S$269","v":4.6145508019452171E-3},{"$f":"Baseline_Data_2012!T96/Baseline_Data_2012!T$269","v":5.8085063092658019E-3},{"$f":"Baseline_Data_2012!U96/Baseline_Data_2012!U$269","v":1.8290789575458582E-2},{"$f":"Baseline_Data_2012!V96/Baseline_Data_2012!V$269","v":5.0561018828496522E-3},{"$f":"Baseline_Data_2012!W96/Baseline_Data_2012!W$269","v":2.2039912294100773E-2},{"$f":"Baseline_Data_2012!X96/Baseline_Data_2012!X$269","v":2.0184206606753588E-2},{"$f":"Baseline_Data_2012!Y96/Baseline_Data_2012!Y$269","v":3.4538218755554842E-3},{"$f":"Baseline_Data_2012!Z96/Baseline_Data_2012!Z$269","v":3.2618139787249706E-3},{"$f":"Baseline_Data_2012!AA96/Baseline_Data_2012!AA$269","v":6.0520203764121358E-3},{"$f":"Baseline_Data_2012!AB96/Baseline_Data_2012!AB$269","v":9.0808420665482829E-3},{"$f":"Baseline_Data_2012!AC96/Baseline_Data_2012!AC$269","v":0},{"$f":"Baseline_Data_2012!AD96/Baseline_Data_2012!AD$269","v":8.7181414669257155E-3},{"$f":"Baseline_Data_2012!AE96/Baseline_Data_2012!AE$269","v":1.257143504846975E-2},{"$f":"Baseline_Data_2012!AF96/Baseline_Data_2012!AF$269","v":2.7864152220137321E-2},{"$f":"Baseline_Data_2012!AG96/Baseline_Data_2012!AG$269","v":6.5598252028983041E-3},{"$f":"Baseline_Data_2012!AH96/Baseline_Data_2012!AH$269","v":2.7660799922384186E-2},{"$f":"Baseline_Data_2012!AI96/Baseline_Data_2012!AI$269","v":4.7201978043380933E-3},{"$f":"Baseline_Data_2012!AJ96/Baseline_Data_2012!AJ$269","v":9.4941455330950866E-4},{"$f":"Baseline_Data_2012!AK96/Baseline_Data_2012!AK$269","v":2.5372532396321996E-2},{"$f":"Baseline_Data_2012!AL96/Baseline_Data_2012!AL$269","v":2.0390210508109116E-2},{"$f":"Baseline_Data_2012!AM96/Baseline_Data_2012!AM$269","v":0},{"$f":"Baseline_Data_2012!AN96/Baseline_Data_2012!AN$269","v":4.6532794735772856E-3},{"$f":"Baseline_Data_2012!AO96/Baseline_Data_2012!AO$269","v":1.8137497943370374E-2},{"$f":"Baseline_Data_2012!AP96/Baseline_Data_2012!AP$269","v":3.7963762493240269E-3},{"$f":"Baseline_Data_2012!AQ96/Baseline_Data_2012!AQ$269","v":0},{"$f":"Baseline_Data_2012!AR96/Baseline_Data_2012!AR$269","v":1.1929570334158193E-2},{"$f":"Baseline_Data_2012!AS96/Baseline_Data_2012!AS$269","v":1.4060453965642313E-2},{"$f":"Baseline_Data_2012!AT96/Baseline_Data_2012!AT$269","v":7.9015921023375749E-3},{"$f":"Baseline_Data_2012!AU96/Baseline_Data_2012!AU$269","v":2.2274733425055499E-2},{"$f":"Baseline_Data_2012!AV96/Baseline_Data_2012!AV$269","v":1.0908740333709678E-2},96]
[1,"Female 60-64",{"$f":"'III Tool Overview'!$H$8/110","v":1.3090909090909091},{"$f":"'III Tool Overview'!$H$8/22","v":6.5454545454545459},{"$f":"'III Tool Overview'!$H$8/44","v":3.2727272727272729},{"$f":"G97*'III Tool Overview'!$H$8","v":0},{"$f":"HLOOKUP('III Tool Overview'!$H$6,Targeting!$I$1:$BC$269,Targeting!BD97,FALSE)","v":0},{"$f":"Baseline_Data_2012!B97","v":20510.25},{"$f":"Baseline_Data_2012!B97/Baseline_Data_2012!B$269","v":1.89320373159476E-2},{"$f":"Baseline_Data_2012!C97/Baseline_Data_2012!C$269","v":2.7379397712516185E-2},{"$f":"Baseline_Data_2012!D97/Baseline_Data_2012!D$269","v":5.5073299032767217E-3},{"$f":"Baseline_Data_2012!E97/Baseline_Data_2012!E$269","v":6.650662581635115E-3},{"$f":"Baseline_Data_2012!F97/Baseline_Data_2012!F$269","v":1.8885701681366045E-2},{"$f":"Baseline_Data_2012!G97/Baseline_Data_2012!G$269","v":1.4041536656601206E-2},{"$f":"Baseline_Data_2012!H97/Baseline_Data_2012!H$269","v":6.1602693996355793E-3},{"$f":"Baseline_Data_2012!I97/Baseline_Data_2012!I$269","v":3.0174362264475382E-2},{"$f":"Baseline_Data_2012!J97/Baseline_Data_2012!J$269","v":8.9217091237257275E-3},{"$f":"Baseline_Data_2012!K97/Baseline_Data_2012!K$269","v":2.3698769231866677E-2},{"$f":"Baseline_Data_2012!L97/Baseline_Data_2012!L$269","v":1.1646977729957621E-2},{"$f":"Baseline_Data_2012!M97/Baseline_Data_2012!M$269","v":0},{"$f":"Baseline_Data_2012!N97/Baseline_Data_2012!N$269","v":0},{"$f":"Baseline_Data_2012!O97/Baseline_Data_2012!O$269","v":1.6640559704518762E-2},{"$f":"Baseline_Data_2012!P97/Baseline_Data_2012!P$269","v":0},{"$f":"Baseline_Data_2012!Q97/Baseline_Data_2012!Q$269","v":1.2668858842516617E-2},{"$f":"Baseline_Data_2012!R97/Baseline_Data_2012!R$269","v":1.8432043534363286E-3},{"$f":"Baseline_Data_2012!S97/Baseline_Data_2012!S$269","v":6.1055731129511012E-3},{"$f":"Baseline_Data_2012!T97/Baseline_Data_2012!T$269","v":9.3953258735128865E-3},{"$f":"Baseline_Data_2012!U97/Baseline_Data_2012!U$269","v":2.4941985784716247E-2},{"$f":"Baseline_Data_2012!V97/Baseline_Data_2012!V$269","v":6.6048177748936907E-3},{"$f":"Baseline_Data_2012!W97/Baseline_Data_2012!W$269","v":3.1558136431645276E-2},{"$f":"Baseline_Data_2012!X97/Baseline_Data_2012!X$269","v":2.8807882180803074E-2},{"$f":"Baseline_Data_2012!Y97/Baseline_Data_2012!Y$269","v":3.6226176815036841E-3},{"$f":"Baseline_Data_2012!Z97/Baseline_Data_2012!Z$269","v":4.771413836647271E-3},{"$f":"Baseline_Data_2012!AA97/Baseline_Data_2012!AA$269","v":9.4178498905664789E-3},{"$f":"Baseline_Data_2012!AB97/Baseline_Data_2012!AB$269","v":1.2450829802341069E-2},{"$f":"Baseline_Data_2012!AC97/Baseline_Data_2012!AC$269","v":0},{"$f":"Baseline_Data_2012!AD97/Baseline_Data_2012!AD$269","v":1.2754886547562093E-2},{"$f":"Baseline_Data_2012!AE97/Baseline_Data_2012!AE$269","v":1.8916514018368965E-2},{"$f":"Baseline_Data_2012!AF97/Baseline_Data_2012!AF$269","v":3.6114024578398539E-2},{"$f":"Baseline_Data_2012!AG97/Baseline_Data_2012!AG$269","v":8.7293507257318586E-3},{"$f":"Baseline_Data_2012!AH97/Baseline_Data_2012!AH$269","v":3.9299632477013159E-2},{"$f":"Baseline_Data_2012!AI97/Baseline_Data_2012!AI$269","v":6.8164347174447613E-3},{"$f":"Baseline_Data_2012!AJ97/Baseline_Data_2012!AJ$269","v":1.3781824160944481E-3},{"$f":"Baseline_Data_2012!AK97/Baseline_Data_2012!AK$269","v":3.5286941825410451E-2},{"$f":"Baseline_Data_2012!AL97/Baseline_Data_2012!AL$269","v":2.8985201543279604E-2},{"$f":"Baseline_Data_2012!AM97/Baseline_Data_2012!AM$269","v":0},{"$f":"Baseline_Data_2012!AN97/Baseline_Data_2012!AN$269","v":6.1503386484781748E-3},{"$f":"Baseline_Data_2012!AO97/Baseline_Data_2012!AO$269","v":2.4109107199279143E-2},{"$f":"Baseline_Data_2012!AP97/Baseline_Data_2012!AP$269","v":5.4887367460106414E-3},{"$f":"Baseline_Data_2012!AQ97/Baseline_Data_2012!AQ$269","v":0},{"$f":"Baseline_Data_2012!AR97/Baseline_Data_2012!AR$269","v":1.542090363161234E-2},{"$f":"Baseline_Data_2012!AS97/Baseline_Data_2012!AS$269","v":1.950915636764004E-2},{"$f":"Baseline_Data_2012!AT97/Baseline_Data_2012!AT$269","v":9.174626385491963E-3},{"$f":"Baseline_Data_2012!AU97/Baseline_Data_2012!AU$269","v":3.0191230314998423E-2},{"$f":"Baseline_Data_2012!AV97/Baseline_Data_2012!AV$269","v":1.57174911746919E-2},97]
[1,"Female 65-69",{"$f":"'III Tool Overview'!$H$8/110","v":1.3090909090909091},{"$f":"'III Tool Overview'!$H$8/22","v":6.5454545454545459},{"$f":"'III Tool Overview'!$H$8/44","v":3.2727272727272729},{"$f":"G98*'III Tool Overview'!$H$8","v":0},{"$f":"HLOOKUP('III Tool Overview'!$H$6,Targeting!$I$1:$BC$269,Targeting!BD98,FALSE)","v":0},{"$f":"Baseline_Data_2012!B98","v":23501.16},{"$f":"Baseline_Data_2012!B98/Baseline_Data_2012!B$269","v":2.1692804236323547E-2},{"$f":"Baseline_Data_2012!C98/Baseline_Data_2012!C$269","v":2.7437630713356583E-2},{"$f":"Baseline_Data_2012!D98/Baseline_Data_2012!D$269","v":6.1631722361925392E-3},{"$f":"Baseline_Data_2012!E98/Baseline_Data_2012!E$269","v":8.6273108775512114E-3},{"$f":"Baseline_Data_2012!F98/Baseline_Data_2012!F$269","v":2.1730014786055456E-2},{"$f":"Baseline_Data_2012!G98/Baseline_Data_2012!G$269","v":1.604723646832569E-2},{"$f":"Baseline_Data_2012!H98/Baseline_Data_2012!H$269","v":6.4109304692990601E-3},{"$f":"Baseline_Data_2012!I98/Baseline_Data_2012!I$269","v":3.5308288167684131E-2},{"$f":"Baseline_Data_2012!J98/Baseline_Data_2012!J$269","v":9.9434543887408668E-3},{"$f":"Baseline_Data_2012!K98/Baseline_Data_2012!K$269","v":2.6860628669678883E-2},{"$f":"Baseline_Data_2012!L98/Baseline_Data_2012!L$269","v":1.2606728684529235E-2},{"$f":"Baseline_Data_2012!M98/Baseline_Data_2012!M$269","v":0},{"$f":"Baseline_Data_2012!N98/Baseline_Data_2012!N$269","v":0},{"$f":"Baseline_Data_2012!O98/Baseline_Data_2012!O$269","v":1.9011689709355586E-2},{"$f":"Baseline_Data_2012!P98/Baseline_Data_2012!P$269","v":0},{"$f":"Baseline_Data_2012!Q98/Baseline_Data_2012!Q$269","v":1.2803207671172141E-2},{"$f":"Baseline_Data_2012!R98/Baseline_Data_2012!R$269","v":1.970347837408059E-3},{"$f":"Baseline_Data_2012!S98/Baseline_Data_2012!S$269","v":8.6988635966480498E-3},{"$f":"Baseline_Data_2012!T98/Baseline_Data_2012!T$269","v":9.5285572504483201E-3},{"$f":"Baseline_Data_2012!U98/Baseline_Data_2012!U$269","v":2.8094427747431136E-2},{"$f":"Baseline_Data_2012!V98/Baseline_Data_2012!V$269","v":8.5905470578956627E-3},{"$f":"Baseline_Data_2012!W98/Baseline_Data_2012!W$269","v":3.5495140909513154E-2},{"$f":"Baseline_Data_2012!X98/Baseline_Data_2012!X$269","v":3.0080549714226839E-2},{"$f":"Baseline_Data_2012!Y98/Baseline_Data_2012!Y$269","v":4.0807035302615697E-3},{"$f":"Baseline_Data_2012!Z98/Baseline_Data_2012!Z$269","v":3.9222639165659772E-3},{"$f":"Baseline_Data_2012!AA98/Baseline_Data_2012!AA$269","v":9.2922785586922584E-3},{"$f":"Baseline_Data_2012!AB98/Baseline_Data_2012!AB$269","v":1.3373536745205897E-2},{"$f":"Baseline_Data_2012!AC98/Baseline_Data_2012!AC$269","v":0},{"$f":"Baseline_Data_2012!AD98/Baseline_Data_2012!AD$269","v":1.4233286875192878E-2},{"$f":"Baseline_Data_2012!AE98/Baseline_Data_2012!AE$269","v":2.1765467667286077E-2},{"$f":"Baseline_Data_2012!AF98/Baseline_Data_2012!AF$269","v":4.3144124142275433E-2},{"$f":"Baseline_Data_2012!AG98/Baseline_Data_2012!AG$269","v":1.0008516640297027E-2},{"$f":"Baseline_Data_2012!AH98/Baseline_Data_2012!AH$269","v":4.4726300064292721E-2},{"$f":"Baseline_Data_2012!AI98/Baseline_Data_2012!AI$269","v":7.6783838817151961E-3},{"$f":"Baseline_Data_2012!AJ98/Baseline_Data_2012!AJ$269","v":2.1983540850502108E-3},{"$f":"Baseline_Data_2012!AK98/Baseline_Data_2012!AK$269","v":3.3556310440066281E-2},{"$f":"Baseline_Data_2012!AL98/Baseline_Data_2012!AL$269","v":3.2874828589087447E-2},{"$f":"Baseline_Data_2012!AM98/Baseline_Data_2012!AM$269","v":0},{"$f":"Baseline_Data_2012!AN98/Baseline_Data_2012!AN$269","v":6.1107476313177382E-3},{"$f":"Baseline_Data_2012!AO98/Baseline_Data_2012!AO$269","v":2.8222702528965273E-2},{"$f":"Baseline_Data_2012!AP98/Baseline_Data_2012!AP$269","v":6.1586434481132697E-3},{"$f":"Baseline_Data_2012!AQ98/Baseline_Data_2012!AQ$269","v":0},{"$f":"Baseline_Data_2012!AR98/Baseline_Data_2012!AR$269","v":1.5992681559004927E-2},{"$f":"Baseline_Data_2012!AS98/Baseline_Data_2012!AS$269","v":2.2285266554920399E-2},{"$f":"Baseline_Data_2012!AT98/Baseline_Data_2012!AT$269","v":1.0049069244817322E-2},{"$f":"Baseline_Data_2012!AU98/Baseline_Data_2012!AU$269","v":3.0281103834045708E-2},{"$f":"Baseline_Data_2012!AV98/Baseline_Data_2012!AV$269","v":1.7794159130464227E-2},98]
[1,"Female 70-74",null,null,null,null,{"$f":"HLOOKUP('III Tool Overview'!$H$6,Targeting!$I$1:$BC$269,Targeting!BD99,FALSE)","v":0},null,{"$f":"Baseline_Data_2012!B99/Baseline_Data_2012!B$269","v":0},{"$f":"Baseline_Data_2012!C99/Baseline_Data_2012!C$269","v":0},{"$f":"Baseline_Data_2012!D99/Baseline_Data_2012!D$269","v":0},{"$f":"Baseline_Data_2012!E99/Baseline_Data_2012!E$269","v":0},{"$f":"Baseline_Data_2012!F99/Baseline_Data_2012!F$269","v":0},{"$f":"Baseline_Data_2012!G99/Baseline_Data_2012!G$269","v":0},{"$f":"Baseline_Data_2012!H99/Baseline_Data_2012!H$269","v":0},{"$f":"Baseline_Data_2012!I99/Baseline_Data_2012!I$269","v":0},{"$f":"Baseline_Data_2012!J99/Baseline_Data_2012!J$269","v":0},{"$f":"Baseline_Data_2012!K99/Baseline_Data_2012!K$269","v":0},{"$f":"Baseline_Data_2012!L99/Baseline_Data_2012!L$269","v":0},{"$f":"Baseline_Data_2012!M99/Baseline_Data_2012!M$269","v":0},{"$f":"Baseline_Data_2012!N99/Baseline_Data_2012!N$269","v":0},{"$f":"Baseline_Data_2012!O99/Baseline_Data_2012!O$269","v":0},{"$f":"Baseline_Data_2012!P99/Baseline_Data_2012!P$269","v":0},{"$f":"Baseline_Data_2012!Q99/Baseline_Data_2012!Q$269","v":0},{"$f":"Baseline_Data_2012!R99/Baseline_Data_2012!R$269","v":0},{"$f":"Baseline_Data_2012!S99/Baseline_Data_2012!S$269","v":0},{"$f":"Baseline_Data_2012!T99/Baseline_Data_2012!T$269","v":0},{"$f":"Baseline_Data_2012!U99/Baseline_Data_2012!U$269","v":0},{"$f":"Baseline_Data_2012!V99/Baseline_Data_2012!V$269","v":0},{"$f":"Baseline_Data_2012!W99/Baseline_Data_2012!W$269","v":0},{"$f":"Baseline_Data_2012!X99/Baseline_Data_2012!X$269","v":0},{"$f":"Baseline_Data_2012!Y99/Baseline_Data_2012!Y$269","v":0},{"$f":"Baseline_Data_2012!Z99/Baseline_Data_2012!Z$269","v":0},{"$f":"Baseline_Data_2012!AA99/Baseline_Data_2012!AA$269","v":0},{"$f":"Baseline_Data_2012!AB99/Baseline_Data_2012!AB$269","v":0},{"$f":"Baseline_Data_2012!AC99/Baseline_Data_2012!AC$269","v":0},{"$f":"Baseline_Data_2012!AD99/Baseline_Data_2012!AD$269","v":0},{"$f":"Baseline_Data_2012!AE99/Baseline_Data_2012!AE$269","v":0},{"$f":"Baseline_Data_2012!AF99/Baseline_Data_2012!AF$269","v":0},{"$f":"Baseline_Data_2012!AG99/Baseline_Data_2012!AG$269","v":0},{"$f":"Baseline_Data_2012!AH99/Baseline_Data_2012!AH$269","v":0},{"$f":"Baseline_Data_2012!AI99/Baseline_Data_2012!AI$269","v":0},{"$f":"Baseline_Data_2012!AJ99/Baseline_Data_2012!AJ$269","v":0},{"$f":"Baseline_Data_2012!AK99/Baseline_Data_2012!AK$269","v":0},{"$f":"Baseline_Data_2012!AL99/Baseline_Data_2012!AL$269","v":0},{"$f":"Baseline_Data_2012!AM99/Baseline_Data_2012!AM$269","v":0},{"$f":"Baseline_Data_2012!AN99/Baseline_Data_2012!AN$269","v":0},{"$f":"Baseline_Data_2012!AO99/Baseline_Data_2012!AO$269","v":0},{"$f":"Baseline_Data_2012!AP99/Baseline_Data_2012!AP$269","v":0},{"$f":"Baseline_Data_2012!AQ99/Baseline_Data_2012!AQ$269","v":0},{"$f":"Baseline_Data_2012!AR99/Baseline_Data_2012!AR$269","v":0},{"$f":"Baseline_Data_2012!AS99/Baseline_Data_2012!AS$269","v":0},{"$f":"Baseline_Data_2012!AT99/Baseline_Data_2012!AT$269","v":0},{"$f":"Baseline_Data_2012!AU99/Baseline_Data_2012!AU$269","v":0},{"$f":"Baseline_Data_2012!AV99/Baseline_Data_2012!AV$269","v":0},99]
[1,"Female 75-79",null,null,null,null,{"$f":"HLOOKUP('III Tool Overview'!$H$6,Targeting!$I$1:$BC$269,Targeting!BD100,FALSE)","v":0},null,{"$f":"Baseline_Data_2012!B100/Baseline_Data_2012!B$269","v":0},{"$f":"Baseline_Data_2012!C100/Baseline_Data_2012!C$269","v":0},{"$f":"Baseline_Data_2012!D100/Baseline_Data_2012!D$269","v":0},{"$f":"Baseline_Data_2012!E100/Baseline_Data_2012!E$269","v":0},{"$f":"Baseline_Data_2012!F100/Baseline_Data_2012!F$269","v":0},{"$f":"Baseline_Data_2012!G100/Baseline_Data_2012!G$269","v":0},{"$f":"Baseline_Data_2012!H100/Baseline_Data_2012!H$269","v":0},{"$f":"Baseline_Data_2012!I100/Baseline_Data_2012!I$269","v":0},{"$f":"Baseline_Data_2012!J100/Baseline_Data_2012!J$269","v":0},{"$f":"Baseline_Data_2012!K100/Baseline_Data_2012!K$269","v":0},{"$f":"Baseline_Data_2012!L100/Baseline_Data_2012!L$269","v":0},{"$f":"Baseline_Data_2012!M100/Baseline_Data_2012!M$269","v":0},{"$f":"Baseline_Data_2012!N100/Baseline_Data_2012!N$269","v":0},{"$f":"Baseline_Data_2012!O100/Baseline_Data_2012!O$269","v":0},{"$f":"Baseline_Data_2012!P100/Baseline_Data_2012!P$269","v":0},{"$f":"Baseline_Data_2012!Q100/Baseline_Data_2012!Q$269","v":0},{"$f":"Baseline_Data_2012!R100/Baseline_Data_2012!R$269","v":0},{"$f":"Baseline_Data_2012!S100/Baseline_Data_2012!S$269","v":0},{"$f":"Baseline_Data_2012!T100/Baseline_Data_2012!T$269","v":0},{"$f":"Baseline_Data_2012!U100/Baseline_Data_2012!U$269","v":0},{"$f":"Baseline_Data_2012!V100/Baseline_Data_2012!V$269","v":0},{"$f":"Baseline_Data_2012!W100/Baseline_Data_2012!W$269","v":0},{"$f":"Baseline_Data_2012!X100/Baseline_Data_2012!X$269","v":0},{"$f":"Baseline_Data_2012!Y100/Baseline_Data_2012!Y$269","v":0},{"$f":"Baseline_Data_2012!Z100/Baseline_Data_2012!Z$269","v":0},{"$f":"Baseline_Data_2012!AA100/Baseline_Data_2012!AA$269","v":0},{"$f":"Baseline_Data_2012!AB100/Baseline_Data_2012!AB$269","v":0},{"$f":"Baseline_Data_2012!AC100/Baseline_Data_2012!AC$269","v":0},{"$f":"Baseline_Data_2012!AD100/Baseline_Data_2012!AD$269","v":0},{"$f":"Baseline_Data_2012!AE100/Baseline_Data_2012!AE$269","v":0},{"$f":"Baseline_Data_2012!AF100/Baseline_Data_2012!AF$269","v":0},{"$f":"Baseline_Data_2012!AG100/Baseline_Data_2012!AG$269","v":0},{"$f":"Baseline_Data_2012!AH100/Baseline_Data_2012!AH$269","v":0},{"$f":"Baseline_Data_2012!AI100/Baseline_Data_2012!AI$269","v":0},{"$f":"Baseline_Data_2012!AJ100/Baseline_Data_2012!AJ$269","v":0},{"$f":"Baseline_Data_2012!AK100/Baseline_Data_2012!AK$269","v":0},{"$f":"Baseline_Data_2012!AL100/Baseline_Data_2012!AL$269","v":0},{"$f":"Baseline_Data_2012!AM100/Baseline_Data_2012!AM$269","v":0},{"$f":"Baseline_Data_2012!AN100/Baseline_Data_2012!AN$269","v":0},{"$f":"Baseline_Data_2012!AO100/Baseline_Data_2012!AO$269","v":0},{"$f":"Baseline_Data_2012!AP100/Baseline_Data_2012!AP$269","v":0},{"$f":"Baseline_Data_2012!AQ100/Baseline_Data_2012!AQ$269","v":0},{"$f":"Baseline_Data_2012!AR100/Baseline_Data_2012!AR$269","v":0},{"$f":"Baseline_Data_2012!AS100/Baseline_Data_2012!AS$269","v":0},{"$f":"Baseline_Data_2012!AT100/Baseline_Data_2012!AT$269","v":0},{"$f":"Baseline_Data_2012!AU100/Baseline_Data_2012!AU$269","v":0},{"$f":"Baseline_Data_2012!AV100/Baseline_Data_2012!AV$269","v":0},100]
[1,"Female 80-84",null,null,null,null,{"$f":"HLOOKUP('III Tool Overview'!$H$6,Targeting!$I$1:$BC$269,Targeting!BD101,FALSE)","v":0},null,{"$f":"Baseline_Data_2012!B101/Baseline_Data_2012!B$269","v":0},{"$f":"Baseline_Data_2012!C101/Baseline_Data_2012!C$269","v":0},{"$f":"Baseline_Data_2012!D101/Baseline_Data_2012!D$269","v":0},{"$f":"Baseline_Data_2012!E101/Baseline_Data_2012!E$269","v":0},{"$f":"Baseline_Data_2012!F101/Baseline_Data_2012!F$269","v":0},{"$f":"Baseline_Data_2012!G101/Baseline_Data_2012!G$269","v":0},{"$f":"Baseline_Data_2012!H101/Baseline_Data_2012!H$269","v":0},{"$f":"Baseline_Data_2012!I101/Baseline_Data_2012!I$269","v":0},{"$f":"Baseline_Data_2012!J101/Baseline_Data_2012!J$269","v":0},{"$f":"Baseline_Data_2012!K101/Baseline_Data_2012!K$269","v":0},{"$f":"Baseline_Data_2012!L101/Baseline_Data_2012!L$269","v":0},{"$f":"Baseline_Data_2012!M101/Baseline_Data_2012!M$269","v":0},{"$f":"Baseline_Data_2012!N101/Baseline_Data_2012!N$269","v":0},{"$f":"Baseline_Data_2012!O101/Baseline_Data_2012!O$269","v":0},{"$f":"Baseline_Data_2012!P101/Baseline_Data_2012!P$269","v":0},{"$f":"Baseline_Data_2012!Q101/Baseline_Data_2012!Q$269","v":0},{"$f":"Baseline_Data_2012!R101/Baseline_Data_2012!R$269","v":0},{"$f":"Baseline_Data_2012!S101/Baseline_Data_2012!S$269","v":0},{"$f":"Baseline_Data_2012!T101/Baseline_Data_2012!T$269","v":0},{"$f":"Baseline_Data_2012!U101/Baseline_Data_2012!U$269","v":0},{"$f":"Baseline_Data_2012!V101/Baseline_Data_2012!V$269","v":0},{"$f":"Baseline_Data_2012!W101/Baseline_Data_2012!W$269","v":0},{"$f":"Baseline_Data_2012!X101/Baseline_Data_2012!X$269","v":0},{"$f":"Baseline_Data_2012!Y101/Baseline_Data_2012!Y$269","v":0},{"$f":"Baseline_Data_2012!Z101/Baseline_Data_2012!Z$269","v":0},{"$f":"Baseline_Data_2012!AA101/Baseline_Data_2012!AA$269","v":0},{"$f":"Baseline_Data_2012!AB101/Baseline_Data_2012!AB$269","v":0},{"$f":"Baseline_Data_2012!AC101/Baseline_Data_2012!AC$269","v":0},{"$f":"Baseline_Data_2012!AD101/Baseline_Data_2012!AD$269","v":0},{"$f":"Baseline_Data_2012!AE101/Baseline_Data_2012!AE$269","v":0},{"$f":"Baseline_Data_2012!AF101/Baseline_Data_2012!AF$269","v":0},{"$f":"Baseline_Data_2012!AG101/Baseline_Data_2012!AG$269","v":0},{"$f":"Baseline_Data_2012!AH101/Baseline_Data_2012!AH$269","v":0},{"$f":"Baseline_Data_2012!AI101/Baseline_Data_2012!AI$269","v":0},{"$f":"Baseline_Data_2012!AJ101/Baseline_Data_2012!AJ$269","v":0},{"$f":"Baseline_Data_2012!AK101/Baseline_Data_2012!AK$269","v":0},{"$f":"Baseline_Data_2012!AL101/Baseline_Data_2012!AL$269","v":0},{"$f":"Baseline_Data_2012!AM101/Baseline_Data_2012!AM$269","v":0},{"$f":"Baseline_Data_2012!AN101/Baseline_Data_2012!AN$269","v":0},{"$f":"Baseline_Data_2012!AO101/Baseline_Data_2012!AO$269","v":0},{"$f":"Baseline_Data_2012!AP101/Baseline_Data_2012!AP$269","v":0},{"$f":"Baseline_Data_2012!AQ101/Baseline_Data_2012!AQ$269","v":0},{"$f":"Baseline_Data_2012!AR101/Baseline_Data_2012!AR$269","v":0},{"$f":"Baseline_Data_2012!AS101/Baseline_Data_2012!AS$269","v":0},{"$f":"Baseline_Data_2012!AT101/Baseline_Data_2012!AT$269","v":0},{"$f":"Baseline_Data_2012!AU101/Baseline_Data_2012!AU$269","v":0},{"$f":"Baseline_Data_2012!AV101/Baseline_Data_2012!AV$269","v":0},101]
[1,"Female 85+",null,null,null,null,{"$f":"HLOOKUP('III Tool Overview'!$H$6,Targeting!$I$1:$BC$269,Targeting!BD102,FALSE)","v":0},null,{"$f":"Baseline_Data_2012!B102/Baseline_Data_2012!B$269","v":0},{"$f":"Baseline_Data_2012!C102/Baseline_Data_2012!C$269","v":0},{"$f":"Baseline_Data_2012!D102/Baseline_Data_2012!D$269","v":0},{"$f":"Baseline_Data_2012!E102/Baseline_Data_2012!E$269","v":0},{"$f":"Baseline_Data_2012!F102/Baseline_Data_2012!F$269","v":0},{"$f":"Baseline_Data_2012!G102/Baseline_Data_2012!G$269","v":0},{"$f":"Baseline_Data_2012!H102/Baseline_Data_2012!H$269","v":0},{"$f":"Baseline_Data_2012!I102/Baseline_Data_2012!I$269","v":0},{"$f":"Baseline_Data_2012!J102/Baseline_Data_2012!J$269","v":0},{"$f":"Baseline_Data_2012!K102/Baseline_Data_2012!K$269","v":0},{"$f":"Baseline_Data_2012!L102/Baseline_Data_2012!L$269","v":0},{"$f":"Baseline_Data_2012!M102/Baseline_Data_2012!M$269","v":0},{"$f":"Baseline_Data_2012!N102/Baseline_Data_2012!N$269","v":0},{"$f":"Baseline_Data_2012!O102/Baseline_Data_2012!O$269","v":0},{"$f":"Baseline_Data_2012!P102/Baseline_Data_2012!P$269","v":0},{"$f":"Baseline_Data_2012!Q102/Baseline_Data_2012!Q$269","v":0},{"$f":"Baseline_Data_2012!R102/Baseline_Data_2012!R$269","v":0},{"$f":"Baseline_Data_2012!S102/Baseline_Data_2012!S$269","v":0},{"$f":"Baseline_Data_2012!T102/Baseline_Data_2012!T$269","v":0},{"$f":"Baseline_Data_2012!U102/Baseline_Data_2012!U$269","v":0},{"$f":"Baseline_Data_2012!V102/Baseline_Data_2012!V$269","v":0},{"$f":"Baseline_Data_2012!W102/Baseline_Data_2012!W$269","v":0},{"$f":"Baseline_Data_2012!X102/Baseline_Data_2012!X$269","v":0},{"$f":"Baseline_Data_2012!Y102/Baseline_Data_2012!Y$269","v":0},{"$f":"Baseline_Data_2012!Z102/Baseline_Data_2012!Z$269","v":0},{"$f":"Baseline_Data_2012!AA102/Baseline_Data_2012!AA$269","v":0},{"$f":"Baseline_Data_2012!AB102/Baseline_Data_2012!AB$269","v":0},{"$f":"Baseline_Data_2012!AC102/Baseline_Data_2012!AC$269","v":0},{"$f":"Baseline_Data_2012!AD102/Baseline_Data_2012!AD$269","v":0},{"$f":"Baseline_Data_2012!AE102/Baseline_Data_2012!AE$269","v":0},{"$f":"Baseline_Data_2012!AF102/Baseline_Data_2012!AF$269","v":0},{"$f":"Baseline_Data_2012!AG102/Baseline_Data_2012!AG$269","v":0},{"$f":"Baseline_Data_2012!AH102/Baseline_Data_2012!AH$269","v":0},{"$f":"Baseline_Data_2012!AI102/Baseline_Data_2012!AI$269","v":0},{"$f":"Baseline_Data_2012!AJ102/Baseline_Data_2012!AJ$269","v":0},{"$f":"Baseline_Data_2012!AK102/Baseline_Data_2012!AK$269","v":0},{"$f":"Baseline_Data_2012!AL102/Baseline_Data_2012!AL$269","v":0},{"$f":"Baseline_Data_2012!AM102/Baseline_Data_2012!AM$269","v":0},{"$f":"Baseline_Data_2012!AN102/Baseline_Data_2012!AN$269","v":0},{"$f":"Baseline_Data_2012!AO102/Baseline_Data_2012!AO$269","v":0},{"$f":"Baseline_Data_2012!AP102/Baseline_Data_2012!AP$269","v":0},{"$f":"Baseline_Data_2012!AQ102/Baseline_Data_2012!AQ$269","v":0},{"$f":"Baseline_Data_2012!AR102/Baseline_Data_2012!AR$269","v":0},{"$f":"Baseline_Data_2012!AS102/Baseline_Data_2012!AS$269","v":0},{"$f":"Baseline_Data_2012!AT102/Baseline_Data_2012!AT$269","v":0},{"$f":"Baseline_Data_2012!AU102/Baseline_Data_2012!AU$269","v":0},{"$f":"Baseline_Data_2012!AV102/Baseline_Data_2012!AV$269","v":0},102]
[null,"TOTAL",null,null,null,null,{"$f":"HLOOKUP('III Tool Overview'!$H$6,Targeting!$I$1:$BC$269,Targeting!BD103,FALSE)","v":0},null,{"$f":"Baseline_Data_2012!B103/Baseline_Data_2012!B$269","v":0},{"$f":"Baseline_Data_2012!C103/Baseline_Data_2012!C$269","v":0},{"$f":"Baseline_Data_2012!D103/Baseline_Data_2012!D$269","v":0},{"$f":"Baseline_Data_2012!E103/Baseline_Data_2012!E$269","v":0},{"$f":"Baseline_Data_2012!F103/Baseline_Data_2012!F$269","v":0},{"$f":"Baseline_Data_2012!G103/Baseline_Data_2012!G$269","v":0},{"$f":"Baseline_Data_2012!H103/Baseline_Data_2012!H$269","v":0},{"$f":"Baseline_Data_2012!I103/Baseline_Data_2012!I$269","v":0},{"$f":"Baseline_Data_2012!J103/Baseline_Data_2012!J$269","v":0},{"$f":"Baseline_Data_2012!K103/Baseline_Data_2012!K$269","v":0},{"$f":"Baseline_Data_2012!L103/Baseline_Data_2012!L$269","v":0},{"$f":"Baseline_Data_2012!M103/Baseline_Data_2012!M$269","v":0},{"$f":"Baseline_Data_2012!N103/Baseline_Data_2012!N$269","v":0},{"$f":"Baseline_Data_2012!O103/Baseline_Data_2012!O$269","v":0},{"$f":"Baseline_Data_2012!P103/Baseline_Data_2012!P$269","v":0},{"$f":"Baseline_Data_2012!Q103/Baseline_Data_2012!Q$269","v":0},{"$f":"Baseline_Data_2012!R103/Baseline_Data_2012!R$269","v":0},{"$f":"Baseline_Data_2012!S103/Baseline_Data_2012!S$269","v":0},{"$f":"Baseline_Data_2012!T103/Baseline_Data_2012!T$269","v":0},{"$f":"Baseline_Data_2012!U103/Baseline_Data_2012!U$269","v":0},{"$f":"Baseline_Data_2012!V103/Baseline_Data_2012!V$269","v":0},{"$f":"Baseline_Data_2012!W103/Baseline_Data_2012!W$269","v":0},{"$f":"Baseline_Data_2012!X103/Baseline_Data_2012!X$269","v":0},{"$f":"Baseline_Data_2012!Y103/Baseline_Data_2012!Y$269","v":0},{"$f":"Baseline_Data_2012!Z103/Baseline_Data_2012!Z$269","v":0},{"$f":"Baseline_Data_2012!AA103/Baseline_Data_2012!AA$269","v":0},{"$f":"Baseline_Data_2012!AB103/Baseline_Data_2012!AB$269","v":0},{"$f":"Baseline_Data_2012!AC103/Baseline_Data_2012!AC$269","v":0},{"$f":"Baseline_Data_2012!AD103/Baseline_Data_2012!AD$269","v":0},{"$f":"Baseline_Data_2012!AE103/Baseline_Data_2012!AE$269","v":0},{"$f":"Baseline_Data_2012!AF103/Baseline_Data_2012!AF$269","v":0},{"$f":"Baseline_Data_2012!AG103/Baseline_Data_2012!AG$269","v":0},{"$f":"Baseline_Data_2012!AH103/Baseline_Data_2012!AH$269","v":0},{"$f":"Baseline_Data_2012!AI103/Baseline_Data_2012!AI$269","v":0},{"$f":"Baseline_Data_2012!AJ103/Baseline_Data_2012!AJ$269","v":0},{"$f":"Baseline_Data_2012!AK103/Baseline_Data_2012!AK$269","v":0},{"$f":"Baseline_Data_2012!AL103/Baseline_Data_2012!AL$269","v":0},{"$f":"Baseline_Data_2012!AM103/Baseline_Data_2012!AM$269","v":0},{"$f":"Baseline_Data_2012!AN103/Baseline_Data_2012!AN$269","v":0},{"$f":"Baseline_Data_2012!AO103/Baseline_Data_2012!AO$269","v":0},{"$f":"Baseline_Data_2012!AP103/Baseline_Data_2012!AP$269","v":0},{"$f":"Baseline_Data_2012!AQ103/Baseline_Data_2012!AQ$269","v":0},{"$f":"Baseline_Data_2012!AR103/Baseline_Data_2012!AR$269","v":0},{"$f":"Baseline_Data_2012!AS103/Baseline_Data_2012!AS$269","v":0},{"$f":"Baseline_Data_2012!AT103/Baseline_Data_2012!AT$269","v":0},{"$f":"Baseline_Data_2012!AU103/Baseline_Data_2012!AU$269","v":0},{"$f":"Baseline_Data_2012!AV103/Baseline_Data_2012!AV$269","v":0},103]
[null,"age/sex breakdown: Q2",null,null,null,null,{"$f":"HLOOKUP('III Tool Overview'!$H$6,Targeting!$I$1:$BC$269,Targeting!BD104,FALSE)","v":0},null,{"$f":"Baseline_Data_2012!B104/Baseline_Data_2012!B$269","v":0},{"$f":"Baseline_Data_2012!C104/Baseline_Data_2012!C$269","v":0},{"$f":"Baseline_Data_2012!D104/Baseline_Data_2012!D$269","v":0},{"$f":"Baseline_Data_2012!E104/Baseline_Data_2012!E$269","v":0},{"$f":"Baseline_Data_2012!F104/Baseline_Data_2012!F$269","v":0},{"$f":"Baseline_Data_2012!G104/Baseline_Data_2012!G$269","v":0},{"$f":"Baseline_Data_2012!H104/Baseline_Data_2012!H$269","v":0},{"$f":"Baseline_Data_2012!I104/Baseline_Data_2012!I$269","v":0},{"$f":"Baseline_Data_2012!J104/Baseline_Data_2012!J$269","v":0},{"$f":"Baseline_Data_2012!K104/Baseline_Data_2012!K$269","v":0},{"$f":"Baseline_Data_2012!L104/Baseline_Data_2012!L$269","v":0},{"$f":"Baseline_Data_2012!M104/Baseline_Data_2012!M$269","v":0},{"$f":"Baseline_Data_2012!N104/Baseline_Data_2012!N$269","v":0},{"$f":"Baseline_Data_2012!O104/Baseline_Data_2012!O$269","v":0},{"$f":"Baseline_Data_2012!P104/Baseline_Data_2012!P$269","v":0},{"$f":"Baseline_Data_2012!Q104/Baseline_Data_2012!Q$269","v":0},{"$f":"Baseline_Data_2012!R104/Baseline_Data_2012!R$269","v":0},{"$f":"Baseline_Data_2012!S104/Baseline_Data_2012!S$269","v":0},{"$f":"Baseline_Data_2012!T104/Baseline_Data_2012!T$269","v":0},{"$f":"Baseline_Data_2012!U104/Baseline_Data_2012!U$269","v":0},{"$f":"Baseline_Data_2012!V104/Baseline_Data_2012!V$269","v":0},{"$f":"Baseline_Data_2012!W104/Baseline_Data_2012!W$269","v":0},{"$f":"Baseline_Data_2012!X104/Baseline_Data_2012!X$269","v":0},{"$f":"Baseline_Data_2012!Y104/Baseline_Data_2012!Y$269","v":0},{"$f":"Baseline_Data_2012!Z104/Baseline_Data_2012!Z$269","v":0},{"$f":"Baseline_Data_2012!AA104/Baseline_Data_2012!AA$269","v":0},{"$f":"Baseline_Data_2012!AB104/Baseline_Data_2012!AB$269","v":0},{"$f":"Baseline_Data_2012!AC104/Baseline_Data_2012!AC$269","v":0},{"$f":"Baseline_Data_2012!AD104/Baseline_Data_2012!AD$269","v":0},{"$f":"Baseline_Data_2012!AE104/Baseline_Data_2012!AE$269","v":0},{"$f":"Baseline_Data_2012!AF104/Baseline_Data_2012!AF$269","v":0},{"$f":"Baseline_Data_2012!AG104/Baseline_Data_2012!AG$269","v":0},{"$f":"Baseline_Data_2012!AH104/Baseline_Data_2012!AH$269","v":0},{"$f":"Baseline_Data_2012!AI104/Baseline_Data_2012!AI$269","v":0},{"$f":"Baseline_Data_2012!AJ104/Baseline_Data_2012!AJ$269","v":0},{"$f":"Baseline_Data_2012!AK104/Baseline_Data_2012!AK$269","v":0},{"$f":"Baseline_Data_2012!AL104/Baseline_Data_2012!AL$269","v":0},{"$f":"Baseline_Data_2012!AM104/Baseline_Data_2012!AM$269","v":0},{"$f":"Baseline_Data_2012!AN104/Baseline_Data_2012!AN$269","v":0},{"$f":"Baseline_Data_2012!AO104/Baseline_Data_2012!AO$269","v":0},{"$f":"Baseline_Data_2012!AP104/Baseline_Data_2012!AP$269","v":0},{"$f":"Baseline_Data_2012!AQ104/Baseline_Data_2012!AQ$269","v":0},{"$f":"Baseline_Data_2012!AR104/Baseline_Data_2012!AR$269","v":0},{"$f":"Baseline_Data_2012!AS104/Baseline_Data_2012!AS$269","v":0},{"$f":"Baseline_Data_2012!AT104/Baseline_Data_2012!AT$269","v":0},{"$f":"Baseline_Data_2012!AU104/Baseline_Data_2012!AU$269","v":0},{"$f":"Baseline_Data_2012!AV104/Baseline_Data_2012!AV$269","v":0},104]
[2,"Male <1",null,null,null,null,{"$f":"HLOOKUP('III Tool Overview'!$H$6,Targeting!$I$1:$BC$269,Targeting!BD105,FALSE)","v":0},null,{"$f":"Baseline_Data_2012!B105/Baseline_Data_2012!B$269","v":0},{"$f":"Baseline_Data_2012!C105/Baseline_Data_2012!C$269","v":0},{"$f":"Baseline_Data_2012!D105/Baseline_Data_2012!D$269","v":0},{"$f":"Baseline_Data_2012!E105/Baseline_Data_2012!E$269","v":0},{"$f":"Baseline_Data_2012!F105/Baseline_Data_2012!F$269","v":0},{"$f":"Baseline_Data_2012!G105/Baseline_Data_2012!G$269","v":0},{"$f":"Baseline_Data_2012!H105/Baseline_Data_2012!H$269","v":0},{"$f":"Baseline_Data_2012!I105/Baseline_Data_2012!I$269","v":0},{"$f":"Baseline_Data_2012!J105/Baseline_Data_2012!J$269","v":0},{"$f":"Baseline_Data_2012!K105/Baseline_Data_2012!K$269","v":0},{"$f":"Baseline_Data_2012!L105/Baseline_Data_2012!L$269","v":0},{"$f":"Baseline_Data_2012!M105/Baseline_Data_2012!M$269","v":0},{"$f":"Baseline_Data_2012!N105/Baseline_Data_2012!N$269","v":0},{"$f":"Baseline_Data_2012!O105/Baseline_Data_2012!O$269","v":0},{"$f":"Baseline_Data_2012!P105/Baseline_Data_2012!P$269","v":0},{"$f":"Baseline_Data_2012!Q105/Baseline_Data_2012!Q$269","v":0},{"$f":"Baseline_Data_2012!R105/Baseline_Data_2012!R$269","v":0},{"$f":"Baseline_Data_2012!S105/Baseline_Data_2012!S$269","v":0},{"$f":"Baseline_Data_2012!T105/Baseline_Data_2012!T$269","v":0},{"$f":"Baseline_Data_2012!U105/Baseline_Data_2012!U$269","v":0},{"$f":"Baseline_Data_2012!V105/Baseline_Data_2012!V$269","v":0},{"$f":"Baseline_Data_2012!W105/Baseline_Data_2012!W$269","v":0},{"$f":"Baseline_Data_2012!X105/Baseline_Data_2012!X$269","v":0},{"$f":"Baseline_Data_2012!Y105/Baseline_Data_2012!Y$269","v":0},{"$f":"Baseline_Data_2012!Z105/Baseline_Data_2012!Z$269","v":0},{"$f":"Baseline_Data_2012!AA105/Baseline_Data_2012!AA$269","v":0},{"$f":"Baseline_Data_2012!AB105/Baseline_Data_2012!AB$269","v":0},{"$f":"Baseline_Data_2012!AC105/Baseline_Data_2012!AC$269","v":0},{"$f":"Baseline_Data_2012!AD105/Baseline_Data_2012!AD$269","v":0},{"$f":"Baseline_Data_2012!AE105/Baseline_Data_2012!AE$269","v":0},{"$f":"Baseline_Data_2012!AF105/Baseline_Data_2012!AF$269","v":0},{"$f":"Baseline_Data_2012!AG105/Baseline_Data_2012!AG$269","v":0},{"$f":"Baseline_Data_2012!AH105/Baseline_Data_2012!AH$269","v":0},{"$f":"Baseline_Data_2012!AI105/Baseline_Data_2012!AI$269","v":0},{"$f":"Baseline_Data_2012!AJ105/Baseline_Data_2012!AJ$269","v":0},{"$f":"Baseline_Data_2012!AK105/Baseline_Data_2012!AK$269","v":0},{"$f":"Baseline_Data_2012!AL105/Baseline_Data_2012!AL$269","v":0},{"$f":"Baseline_Data_2012!AM105/Baseline_Data_2012!AM$269","v":0},{"$f":"Baseline_Data_2012!AN105/Baseline_Data_2012!AN$269","v":0},{"$f":"Baseline_Data_2012!AO105/Baseline_Data_2012!AO$269","v":0},{"$f":"Baseline_Data_2012!AP105/Baseline_Data_2012!AP$269","v":0},{"$f":"Baseline_Data_2012!AQ105/Baseline_Data_2012!AQ$269","v":0},{"$f":"Baseline_Data_2012!AR105/Baseline_Data_2012!AR$269","v":0},{"$f":"Baseline_Data_2012!AS105/Baseline_Data_2012!AS$269","v":0},{"$f":"Baseline_Data_2012!AT105/Baseline_Data_2012!AT$269","v":0},{"$f":"Baseline_Data_2012!AU105/Baseline_Data_2012!AU$269","v":0},{"$f":"Baseline_Data_2012!AV105/Baseline_Data_2012!AV$269","v":0},105]
[2,"Male 1-4",null,null,null,null,{"$f":"HLOOKUP('III Tool Overview'!$H$6,Targeting!$I$1:$BC$269,Targeting!BD106,FALSE)","v":0},null,{"$f":"Baseline_Data_2012!B106/Baseline_Data_2012!B$269","v":0},{"$f":"Baseline_Data_2012!C106/Baseline_Data_2012!C$269","v":0},{"$f":"Baseline_Data_2012!D106/Baseline_Data_2012!D$269","v":0},{"$f":"Baseline_Data_2012!E106/Baseline_Data_2012!E$269","v":0},{"$f":"Baseline_Data_2012!F106/Baseline_Data_2012!F$269","v":0},{"$f":"Baseline_Data_2012!G106/Baseline_Data_2012!G$269","v":0},{"$f":"Baseline_Data_2012!H106/Baseline_Data_2012!H$269","v":0},{"$f":"Baseline_Data_2012!I106/Baseline_Data_2012!I$269","v":0},{"$f":"Baseline_Data_2012!J106/Baseline_Data_2012!J$269","v":0},{"$f":"Baseline_Data_2012!K106/Baseline_Data_2012!K$269","v":0},{"$f":"Baseline_Data_2012!L106/Baseline_Data_2012!L$269","v":0},{"$f":"Baseline_Data_2012!M106/Baseline_Data_2012!M$269","v":0},{"$f":"Baseline_Data_2012!N106/Baseline_Data_2012!N$269","v":0},{"$f":"Baseline_Data_2012!O106/Baseline_Data_2012!O$269","v":0},{"$f":"Baseline_Data_2012!P106/Baseline_Data_2012!P$269","v":0},{"$f":"Baseline_Data_2012!Q106/Baseline_Data_2012!Q$269","v":0},{"$f":"Baseline_Data_2012!R106/Baseline_Data_2012!R$269","v":0},{"$f":"Baseline_Data_2012!S106/Baseline_Data_2012!S$269","v":0},{"$f":"Baseline_Data_2012!T106/Baseline_Data_2012!T$269","v":0},{"$f":"Baseline_Data_2012!U106/Baseline_Data_2012!U$269","v":0},{"$f":"Baseline_Data_2012!V106/Baseline_Data_2012!V$269","v":0},{"$f":"Baseline_Data_2012!W106/Baseline_Data_2012!W$269","v":0},{"$f":"Baseline_Data_2012!X106/Baseline_Data_2012!X$269","v":0},{"$f":"Baseline_Data_2012!Y106/Baseline_Data_2012!Y$269","v":0},{"$f":"Baseline_Data_2012!Z106/Baseline_Data_2012!Z$269","v":0},{"$f":"Baseline_Data_2012!AA106/Baseline_Data_2012!AA$269","v":0},{"$f":"Baseline_Data_2012!AB106/Baseline_Data_2012!AB$269","v":0},{"$f":"Baseline_Data_2012!AC106/Baseline_Data_2012!AC$269","v":0},{"$f":"Baseline_Data_2012!AD106/Baseline_Data_2012!AD$269","v":0},{"$f":"Baseline_Data_2012!AE106/Baseline_Data_2012!AE$269","v":0},{"$f":"Baseline_Data_2012!AF106/Baseline_Data_2012!AF$269","v":0},{"$f":"Baseline_Data_2012!AG106/Baseline_Data_2012!AG$269","v":0},{"$f":"Baseline_Data_2012!AH106/Baseline_Data_2012!AH$269","v":0},{"$f":"Baseline_Data_2012!AI106/Baseline_Data_2012!AI$269","v":0},{"$f":"Baseline_Data_2012!AJ106/Baseline_Data_2012!AJ$269","v":0},{"$f":"Baseline_Data_2012!AK106/Baseline_Data_2012!AK$269","v":0},{"$f":"Baseline_Data_2012!AL106/Baseline_Data_2012!AL$269","v":0},{"$f":"Baseline_Data_2012!AM106/Baseline_Data_2012!AM$269","v":0},{"$f":"Baseline_Data_2012!AN106/Baseline_Data_2012!AN$269","v":0},{"$f":"Baseline_Data_2012!AO106/Baseline_Data_2012!AO$269","v":0},{"$f":"Baseline_Data_2012!AP106/Baseline_Data_2012!AP$269","v":0},{"$f":"Baseline_Data_2012!AQ106/Baseline_Data_2012!AQ$269","v":0},{"$f":"Baseline_Data_2012!AR106/Baseline_Data_2012!AR$269","v":0},{"$f":"Baseline_Data_2012!AS106/Baseline_Data_2012!AS$269","v":0},{"$f":"Baseline_Data_2012!AT106/Baseline_Data_2012!AT$269","v":0},{"$f":"Baseline_Data_2012!AU106/Baseline_Data_2012!AU$269","v":0},{"$f":"Baseline_Data_2012!AV106/Baseline_Data_2012!AV$269","v":0},106]
[2,"Male 5-9",null,null,null,null,{"$f":"HLOOKUP('III Tool Overview'!$H$6,Targeting!$I$1:$BC$269,Targeting!BD107,FALSE)","v":0},null,{"$f":"Baseline_Data_2012!B107/Baseline_Data_2012!B$269","v":0},{"$f":"Baseline_Data_2012!C107/Baseline_Data_2012!C$269","v":0},{"$f":"Baseline_Data_2012!D107/Baseline_Data_2012!D$269","v":0},{"$f":"Baseline_Data_2012!E107/Baseline_Data_2012!E$269","v":0},{"$f":"Baseline_Data_2012!F107/Baseline_Data_2012!F$269","v":0},{"$f":"Baseline_Data_2012!G107/Baseline_Data_2012!G$269","v":0},{"$f":"Baseline_Data_2012!H107/Baseline_Data_2012!H$269","v":0},{"$f":"Baseline_Data_2012!I107/Baseline_Data_2012!I$269","v":0},{"$f":"Baseline_Data_2012!J107/Baseline_Data_2012!J$269","v":0},{"$f":"Baseline_Data_2012!K107/Baseline_Data_2012!K$269","v":0},{"$f":"Baseline_Data_2012!L107/Baseline_Data_2012!L$269","v":0},{"$f":"Baseline_Data_2012!M107/Baseline_Data_2012!M$269","v":0},{"$f":"Baseline_Data_2012!N107/Baseline_Data_2012!N$269","v":0},{"$f":"Baseline_Data_2012!O107/Baseline_Data_2012!O$269","v":0},{"$f":"Baseline_Data_2012!P107/Baseline_Data_2012!P$269","v":0},{"$f":"Baseline_Data_2012!Q107/Baseline_Data_2012!Q$269","v":0},{"$f":"Baseline_Data_2012!R107/Baseline_Data_2012!R$269","v":0},{"$f":"Baseline_Data_2012!S107/Baseline_Data_2012!S$269","v":0},{"$f":"Baseline_Data_2012!T107/Baseline_Data_2012!T$269","v":0},{"$f":"Baseline_Data_2012!U107/Baseline_Data_2012!U$269","v":0},{"$f":"Baseline_Data_2012!V107/Baseline_Data_2012!V$269","v":0},{"$f":"Baseline_Data_2012!W107/Baseline_Data_2012!W$269","v":0},{"$f":"Baseline_Data_2012!X107/Baseline_Data_2012!X$269","v":0},{"$f":"Baseline_Data_2012!Y107/Baseline_Data_2012!Y$269","v":0},{"$f":"Baseline_Data_2012!Z107/Baseline_Data_2012!Z$269","v":0},{"$f":"Baseline_Data_2012!AA107/Baseline_Data_2012!AA$269","v":0},{"$f":"Baseline_Data_2012!AB107/Baseline_Data_2012!AB$269","v":0},{"$f":"Baseline_Data_2012!AC107/Baseline_Data_2012!AC$269","v":0},{"$f":"Baseline_Data_2012!AD107/Baseline_Data_2012!AD$269","v":0},{"$f":"Baseline_Data_2012!AE107/Baseline_Data_2012!AE$269","v":0},{"$f":"Baseline_Data_2012!AF107/Baseline_Data_2012!AF$269","v":0},{"$f":"Baseline_Data_2012!AG107/Baseline_Data_2012!AG$269","v":0},{"$f":"Baseline_Data_2012!AH107/Baseline_Data_2012!AH$269","v":0},{"$f":"Baseline_Data_2012!AI107/Baseline_Data_2012!AI$269","v":0},{"$f":"Baseline_Data_2012!AJ107/Baseline_Data_2012!AJ$269","v":0},{"$f":"Baseline_Data_2012!AK107/Baseline_Data_2012!AK$269","v":0},{"$f":"Baseline_Data_2012!AL107/Baseline_Data_2012!AL$269","v":0},{"$f":"Baseline_Data_2012!AM107/Baseline_Data_2012!AM$269","v":0},{"$f":"Baseline_Data_2012!AN107/Baseline_Data_2012!AN$269","v":0},{"$f":"Baseline_Data_2012!AO107/Baseline_Data_2012!AO$269","v":0},{"$f":"Baseline_Data_2012!AP107/Baseline_Data_2012!AP$269","v":0},{"$f":"Baseline_Data_2012!AQ107/Baseline_Data_2012!AQ$269","v":0},{"$f":"Baseline_Data_2012!AR107/Baseline_Data_2012!AR$269","v":0},{"$f":"Baseline_Data_2012!AS107/Baseline_Data_2012!AS$269","v":0},{"$f":"Baseline_Data_2012!AT107/Baseline_Data_2012!AT$269","v":0},{"$f":"Baseline_Data_2012!AU107/Baseline_Data_2012!AU$269","v":0},{"$f":"Baseline_Data_2012!AV107/Baseline_Data_2012!AV$269","v":0},107]
[2,"Male 10-14",null,null,null,null,{"$f":"HLOOKUP('III Tool Overview'!$H$6,Targeting!$I$1:$BC$269,Targeting!BD108,FALSE)","v":0},null,{"$f":"Baseline_Data_2012!B108/Baseline_Data_2012!B$269","v":0},{"$f":"Baseline_Data_2012!C108/Baseline_Data_2012!C$269","v":0},{"$f":"Baseline_Data_2012!D108/Baseline_Data_2012!D$269","v":0},{"$f":"Baseline_Data_2012!E108/Baseline_Data_2012!E$269","v":0},{"$f":"Baseline_Data_2012!F108/Baseline_Data_2012!F$269","v":0},{"$f":"Baseline_Data_2012!G108/Baseline_Data_2012!G$269","v":0},{"$f":"Baseline_Data_2012!H108/Baseline_Data_2012!H$269","v":0},{"$f":"Baseline_Data_2012!I108/Baseline_Data_2012!I$269","v":0},{"$f":"Baseline_Data_2012!J108/Baseline_Data_2012!J$269","v":0},{"$f":"Baseline_Data_2012!K108/Baseline_Data_2012!K$269","v":0},{"$f":"Baseline_Data_2012!L108/Baseline_Data_2012!L$269","v":0},{"$f":"Baseline_Data_2012!M108/Baseline_Data_2012!M$269","v":0},{"$f":"Baseline_Data_2012!N108/Baseline_Data_2012!N$269","v":0},{"$f":"Baseline_Data_2012!O108/Baseline_Data_2012!O$269","v":0},{"$f":"Baseline_Data_2012!P108/Baseline_Data_2012!P$269","v":0},{"$f":"Baseline_Data_2012!Q108/Baseline_Data_2012!Q$269","v":0},{"$f":"Baseline_Data_2012!R108/Baseline_Data_2012!R$269","v":0},{"$f":"Baseline_Data_2012!S108/Baseline_Data_2012!S$269","v":0},{"$f":"Baseline_Data_2012!T108/Baseline_Data_2012!T$269","v":0},{"$f":"Baseline_Data_2012!U108/Baseline_Data_2012!U$269","v":0},{"$f":"Baseline_Data_2012!V108/Baseline_Data_2012!V$269","v":0},{"$f":"Baseline_Data_2012!W108/Baseline_Data_2012!W$269","v":0},{"$f":"Baseline_Data_2012!X108/Baseline_Data_2012!X$269","v":0},{"$f":"Baseline_Data_2012!Y108/Baseline_Data_2012!Y$269","v":0},{"$f":"Baseline_Data_2012!Z108/Baseline_Data_2012!Z$269","v":0},{"$f":"Baseline_Data_2012!AA108/Baseline_Data_2012!AA$269","v":0},{"$f":"Baseline_Data_2012!AB108/Baseline_Data_2012!AB$269","v":0},{"$f":"Baseline_Data_2012!AC108/Baseline_Data_2012!AC$269","v":0},{"$f":"Baseline_Data_2012!AD108/Baseline_Data_2012!AD$269","v":0},{"$f":"Baseline_Data_2012!AE108/Baseline_Data_2012!AE$269","v":0},{"$f":"Baseline_Data_2012!AF108/Baseline_Data_2012!AF$269","v":0},{"$f":"Baseline_Data_2012!AG108/Baseline_Data_2012!AG$269","v":0},{"$f":"Baseline_Data_2012!AH108/Baseline_Data_2012!AH$269","v":0},{"$f":"Baseline_Data_2012!AI108/Baseline_Data_2012!AI$269","v":0},{"$f":"Baseline_Data_2012!AJ108/Baseline_Data_2012!AJ$269","v":0},{"$f":"Baseline_Data_2012!AK108/Baseline_Data_2012!AK$269","v":0},{"$f":"Baseline_Data_2012!AL108/Baseline_Data_2012!AL$269","v":0},{"$f":"Baseline_Data_2012!AM108/Baseline_Data_2012!AM$269","v":0},{"$f":"Baseline_Data_2012!AN108/Baseline_Data_2012!AN$269","v":0},{"$f":"Baseline_Data_2012!AO108/Baseline_Data_2012!AO$269","v":0},{"$f":"Baseline_Data_2012!AP108/Baseline_Data_2012!AP$269","v":0},{"$f":"Baseline_Data_2012!AQ108/Baseline_Data_2012!AQ$269","v":0},{"$f":"Baseline_Data_2012!AR108/Baseline_Data_2012!AR$269","v":0},{"$f":"Baseline_Data_2012!AS108/Baseline_Data_2012!AS$269","v":0},{"$f":"Baseline_Data_2012!AT108/Baseline_Data_2012!AT$269","v":0},{"$f":"Baseline_Data_2012!AU108/Baseline_Data_2012!AU$269","v":0},{"$f":"Baseline_Data_2012!AV108/Baseline_Data_2012!AV$269","v":0},108]
[2,"Male 15-19",{"$f":"'III Tool Overview'!$H$8/110","v":1.3090909090909091},0,{"$f":"'III Tool Overview'!$H$8/44","v":3.2727272727272729},{"$f":"G109*'III Tool Overview'!$H$8","v":0.41299750934140145},{"$f":"HLOOKUP('III Tool Overview'!$H$6,Targeting!$I$1:$BC$269,Targeting!BD109,FALSE)","v":2.8680382593152878E-3},{"$f":"Baseline_Data_2012!B109","v":2751.76},{"$f":"Baseline_Data_2012!B109/Baseline_Data_2012!B$269","v":2.5400189175915442E-3},{"$f":"Baseline_Data_2012!C109/Baseline_Data_2012!C$269","v":3.1668318567332067E-3},{"$f":"Baseline_Data_2012!D109/Baseline_Data_2012!D$269","v":1.6024247814100602E-3},{"$f":"Baseline_Data_2012!E109/Baseline_Data_2012!E$269","v":3.1478631452892193E-3},{"$f":"Baseline_Data_2012!F109/Baseline_Data_2012!F$269","v":2.5709356022312205E-3},{"$f":"Baseline_Data_2012!G109/Baseline_Data_2012!G$269","v":3.2396335627819504E-3},{"$f":"Baseline_Data_2012!H109/Baseline_Data_2012!H$269","v":1.4598728091343356E-3},{"$f":"Baseline_Data_2012!I109/Baseline_Data_2012!I$269","v":2.2746725691591071E-3},{"$f":"Baseline_Data_2012!J109/Baseline_Data_2012!J$269","v":2.2552164593020525E-3},{"$f":"Baseline_Data_2012!K109/Baseline_Data_2012!K$269","v":3.6170436506137472E-3},{"$f":"Baseline_Data_2012!L109/Baseline_Data_2012!L$269","v":2.5638227487997838E-3},{"$f":"Baseline_Data_2012!M109/Baseline_Data_2012!M$269","v":2.8680382593152878E-3},{"$f":"Baseline_Data_2012!N109/Baseline_Data_2012!N$269","v":7.1665295839726912E-4},{"$f":"Baseline_Data_2012!O109/Baseline_Data_2012!O$269","v":2.3960286855406821E-3},{"$f":"Baseline_Data_2012!P109/Baseline_Data_2012!P$269","v":3.6129249706988767E-3},{"$f":"Baseline_Data_2012!Q109/Baseline_Data_2012!Q$269","v":2.2325901594526516E-3},{"$f":"Baseline_Data_2012!R109/Baseline_Data_2012!R$269","v":7.926563087436283E-4},{"$f":"Baseline_Data_2012!S109/Baseline_Data_2012!S$269","v":2.4828762163064759E-3},{"$f":"Baseline_Data_2012!T109/Baseline_Data_2012!T$269","v":2.2823059826400827E-3},{"$f":"Baseline_Data_2012!U109/Baseline_Data_2012!U$269","v":2.2339406315114185E-3},{"$f":"Baseline_Data_2012!V109/Baseline_Data_2012!V$269","v":3.1290888083704413E-3},{"$f":"Baseline_Data_2012!W109/Baseline_Data_2012!W$269","v":3.311102537410526E-3},{"$f":"Baseline_Data_2012!X109/Baseline_Data_2012!X$269","v":3.5517850245661434E-3},{"$f":"Baseline_Data_2012!Y109/Baseline_Data_2012!Y$269","v":2.8163630661571389E-3},{"$f":"Baseline_Data_2012!Z109/Baseline_Data_2012!Z$269","v":2.9705367248796626E-3},{"$f":"Baseline_Data_2012!AA109/Baseline_Data_2012!AA$269","v":1.7070935070917599E-3},{"$f":"Baseline_Data_2012!AB109/Baseline_Data_2012!AB$269","v":1.6630542976105852E-3},{"$f":"Baseline_Data_2012!AC109/Baseline_Data_2012!AC$269","v":3.6129249706988767E-3},{"$f":"Baseline_Data_2012!AD109/Baseline_Data_2012!AD$269","v":3.9326461500492627E-3},{"$f":"Baseline_Data_2012!AE109/Baseline_Data_2012!AE$269","v":2.5651873121309986E-3},{"$f":"Baseline_Data_2012!AF109/Baseline_Data_2012!AF$269","v":2.2729232965149836E-3},{"$f":"Baseline_Data_2012!AG109/Baseline_Data_2012!AG$269","v":2.2421016339130889E-3},{"$f":"Baseline_Data_2012!AH109/Baseline_Data_2012!AH$269","v":1.7096936245930359E-3},{"$f":"Baseline_Data_2012!AI109/Baseline_Data_2012!AI$269","v":4.1488825970226306E-3},{"$f":"Baseline_Data_2012!AJ109/Baseline_Data_2012!AJ$269","v":1.3404618681237255E-3},{"$f":"Baseline_Data_2012!AK109/Baseline_Data_2012!AK$269","v":2.8183134073713578E-3},{"$f":"Baseline_Data_2012!AL109/Baseline_Data_2012!AL$269","v":3.7191137276041042E-3},{"$f":"Baseline_Data_2012!AM109/Baseline_Data_2012!AM$269","v":2.8680382593152878E-3},{"$f":"Baseline_Data_2012!AN109/Baseline_Data_2012!AN$269","v":1.4150017493062569E-3},{"$f":"Baseline_Data_2012!AO109/Baseline_Data_2012!AO$269","v":2.0238331081747934E-3},{"$f":"Baseline_Data_2012!AP109/Baseline_Data_2012!AP$269","v":1.6100695956637722E-3},{"$f":"Baseline_Data_2012!AQ109/Baseline_Data_2012!AQ$269","v":7.1665295839726912E-4},{"$f":"Baseline_Data_2012!AR109/Baseline_Data_2012!AR$269","v":3.1807874007565916E-3},{"$f":"Baseline_Data_2012!AS109/Baseline_Data_2012!AS$269","v":3.0519563845108344E-3},{"$f":"Baseline_Data_2012!AT109/Baseline_Data_2012!AT$269","v":2.7083861153273719E-3},{"$f":"Baseline_Data_2012!AU109/Baseline_Data_2012!AU$269","v":3.6096193514115449E-3},{"$f":"Baseline_Data_2012!AV109/Baseline_Data_2012!AV$269","v":4.0225268530596084E-3},109]
[2,"Male 20-24",{"$f":"'III Tool Overview'!$H$8/110","v":1.3090909090909091},0,{"$f":"'III Tool Overview'!$H$8/44","v":3.2727272727272729},{"$f":"G110*'III Tool Overview'!$H$8","v":1.0316165483973834},{"$f":"HLOOKUP('III Tool Overview'!$H$6,Targeting!$I$1:$BC$269,Targeting!BD110,FALSE)","v":7.1640038083151626E-3},{"$f":"Baseline_Data_2012!B110","v":7593.4000000000005},{"$f":"Baseline_Data_2012!B110/Baseline_Data_2012!B$269","v":7.0091067712444513E-3},{"$f":"Baseline_Data_2012!C110/Baseline_Data_2012!C$269","v":6.7811274901653281E-3},{"$f":"Baseline_Data_2012!D110/Baseline_Data_2012!D$269","v":4.137514228492894E-3},{"$f":"Baseline_Data_2012!E110/Baseline_Data_2012!E$269","v":6.1889947833197985E-3},{"$f":"Baseline_Data_2012!F110/Baseline_Data_2012!F$269","v":6.2485248373599835E-3},{"$f":"Baseline_Data_2012!G110/Baseline_Data_2012!G$269","v":7.9447374085412272E-3},{"$f":"Baseline_Data_2012!H110/Baseline_Data_2012!H$269","v":5.4462856491641195E-3},{"$f":"Baseline_Data_2012!I110/Baseline_Data_2012!I$269","v":7.2098612977880283E-3},{"$f":"Baseline_Data_2012!J110/Baseline_Data_2012!J$269","v":4.884509081842364E-3},{"$f":"Baseline_Data_2012!K110/Baseline_Data_2012!K$269","v":8.2366310052576185E-3},{"$f":"Baseline_Data_2012!L110/Baseline_Data_2012!L$269","v":7.6214849527577724E-3},{"$f":"Baseline_Data_2012!M110/Baseline_Data_2012!M$269","v":7.1640038083151626E-3},{"$f":"Baseline_Data_2012!N110/Baseline_Data_2012!N$269","v":1.5034677448893757E-3},{"$f":"Baseline_Data_2012!O110/Baseline_Data_2012!O$269","v":8.8380018403400717E-3},{"$f":"Baseline_Data_2012!P110/Baseline_Data_2012!P$269","v":8.7356777016422138E-3},{"$f":"Baseline_Data_2012!Q110/Baseline_Data_2012!Q$269","v":9.7369906983436338E-3},{"$f":"Baseline_Data_2012!R110/Baseline_Data_2012!R$269","v":2.1939953695544814E-3},{"$f":"Baseline_Data_2012!S110/Baseline_Data_2012!S$269","v":5.6927574437402951E-3},{"$f":"Baseline_Data_2012!T110/Baseline_Data_2012!T$269","v":4.7622692572687475E-3},{"$f":"Baseline_Data_2012!U110/Baseline_Data_2012!U$269","v":4.1153892290558772E-3},{"$f":"Baseline_Data_2012!V110/Baseline_Data_2012!V$269","v":6.152082672504406E-3},{"$f":"Baseline_Data_2012!W110/Baseline_Data_2012!W$269","v":1.4554370538000109E-2},{"$f":"Baseline_Data_2012!X110/Baseline_Data_2012!X$269","v":7.8348731997877775E-3},{"$f":"Baseline_Data_2012!Y110/Baseline_Data_2012!Y$269","v":6.4143005717263073E-3},{"$f":"Baseline_Data_2012!Z110/Baseline_Data_2012!Z$269","v":6.2602220235067271E-3},{"$f":"Baseline_Data_2012!AA110/Baseline_Data_2012!AA$269","v":3.2705397769226051E-3},{"$f":"Baseline_Data_2012!AB110/Baseline_Data_2012!AB$269","v":7.2019096098488809E-3},{"$f":"Baseline_Data_2012!AC110/Baseline_Data_2012!AC$269","v":8.7356777016422138E-3},{"$f":"Baseline_Data_2012!AD110/Baseline_Data_2012!AD$269","v":8.2643297925320599E-3},{"$f":"Baseline_Data_2012!AE110/Baseline_Data_2012!AE$269","v":6.2345539182002757E-3},{"$f":"Baseline_Data_2012!AF110/Baseline_Data_2012!AF$269","v":8.8909983210460307E-3},{"$f":"Baseline_Data_2012!AG110/Baseline_Data_2012!AG$269","v":4.9179290595873781E-3},{"$f":"Baseline_Data_2012!AH110/Baseline_Data_2012!AH$269","v":5.0241248411388795E-3},{"$f":"Baseline_Data_2012!AI110/Baseline_Data_2012!AI$269","v":9.4675054348520114E-3},{"$f":"Baseline_Data_2012!AJ110/Baseline_Data_2012!AJ$269","v":3.4670076486682786E-3},{"$f":"Baseline_Data_2012!AK110/Baseline_Data_2012!AK$269","v":5.6577191889119046E-3},{"$f":"Baseline_Data_2012!AL110/Baseline_Data_2012!AL$269","v":8.4629707189015132E-3},{"$f":"Baseline_Data_2012!AM110/Baseline_Data_2012!AM$269","v":7.1640038083151626E-3},{"$f":"Baseline_Data_2012!AN110/Baseline_Data_2012!AN$269","v":5.4441420146011908E-3},{"$f":"Baseline_Data_2012!AO110/Baseline_Data_2012!AO$269","v":4.95261484717193E-3},{"$f":"Baseline_Data_2012!AP110/Baseline_Data_2012!AP$269","v":4.1572533938601976E-3},{"$f":"Baseline_Data_2012!AQ110/Baseline_Data_2012!AQ$269","v":1.5034677448893757E-3},{"$f":"Baseline_Data_2012!AR110/Baseline_Data_2012!AR$269","v":7.052743682387121E-3},{"$f":"Baseline_Data_2012!AS110/Baseline_Data_2012!AS$269","v":7.0550333958671607E-3},{"$f":"Baseline_Data_2012!AT110/Baseline_Data_2012!AT$269","v":9.9549574677173513E-3},{"$f":"Baseline_Data_2012!AU110/Baseline_Data_2012!AU$269","v":8.6374938689611561E-3},{"$f":"Baseline_Data_2012!AV110/Baseline_Data_2012!AV$269","v":8.6593595000929637E-3},110]
[2,"Male 25-29",{"$f":"'III Tool Overview'!$H$8/110","v":1.3090909090909091},0,{"$f":"'III Tool Overview'!$H$8/44","v":3.2727272727272729},{"$f":"G111*'III Tool Overview'!$H$8","v":0.87582139619043187},{"$f":"HLOOKUP('III Tool Overview'!$H$6,Targeting!$I$1:$BC$269,Targeting!BD111,FALSE)","v":6.0820930291002216E-3},{"$f":"Baseline_Data_2012!B111","v":6029.4400000000014},{"$f":"Baseline_Data_2012!B111/Baseline_Data_2012!B$269","v":5.5654896002860577E-3},{"$f":"Baseline_Data_2012!C111/Baseline_Data_2012!C$269","v":5.4325346365109231E-3},{"$f":"Baseline_Data_2012!D111/Baseline_Data_2012!D$269","v":2.9514268163249317E-3},{"$f":"Baseline_Data_2012!E111/Baseline_Data_2012!E$269","v":4.8251237106993247E-3},{"$f":"Baseline_Data_2012!F111/Baseline_Data_2012!F$269","v":4.7201622516091259E-3},{"$f":"Baseline_Data_2012!G111/Baseline_Data_2012!G$269","v":6.3419549465830198E-3},{"$f":"Baseline_Data_2012!H111/Baseline_Data_2012!H$269","v":4.5208053528512015E-3},{"$f":"Baseline_Data_2012!I111/Baseline_Data_2012!I$269","v":5.854760484358284E-3},{"$f":"Baseline_Data_2012!J111/Baseline_Data_2012!J$269","v":3.9854292568804323E-3},{"$f":"Baseline_Data_2012!K111/Baseline_Data_2012!K$269","v":6.666475622747239E-3},{"$f":"Baseline_Data_2012!L111/Baseline_Data_2012!L$269","v":6.2578452623921069E-3},{"$f":"Baseline_Data_2012!M111/Baseline_Data_2012!M$269","v":6.0820930291002216E-3},{"$f":"Baseline_Data_2012!N111/Baseline_Data_2012!N$269","v":7.2166451754690053E-4},{"$f":"Baseline_Data_2012!O111/Baseline_Data_2012!O$269","v":6.0003184946579875E-3},{"$f":"Baseline_Data_2012!P111/Baseline_Data_2012!P$269","v":5.9154982861514219E-3},{"$f":"Baseline_Data_2012!Q111/Baseline_Data_2012!Q$269","v":8.0193124464642482E-3},{"$f":"Baseline_Data_2012!R111/Baseline_Data_2012!R$269","v":1.8324893435251381E-3},{"$f":"Baseline_Data_2012!S111/Baseline_Data_2012!S$269","v":4.6702366799601909E-3},{"$f":"Baseline_Data_2012!T111/Baseline_Data_2012!T$269","v":3.606378660844295E-3},{"$f":"Baseline_Data_2012!U111/Baseline_Data_2012!U$269","v":3.9364592625751871E-3},{"$f":"Baseline_Data_2012!V111/Baseline_Data_2012!V$269","v":4.796345935415473E-3},{"$f":"Baseline_Data_2012!W111/Baseline_Data_2012!W$269","v":8.1949620201065554E-3},{"$f":"Baseline_Data_2012!X111/Baseline_Data_2012!X$269","v":6.6099947809495421E-3},{"$f":"Baseline_Data_2012!Y111/Baseline_Data_2012!Y$269","v":4.4846202316607469E-3},{"$f":"Baseline_Data_2012!Z111/Baseline_Data_2012!Z$269","v":4.9724686874770014E-3},{"$f":"Baseline_Data_2012!AA111/Baseline_Data_2012!AA$269","v":2.113666491124884E-3},{"$f":"Baseline_Data_2012!AB111/Baseline_Data_2012!AB$269","v":5.9749176022449993E-3},{"$f":"Baseline_Data_2012!AC111/Baseline_Data_2012!AC$269","v":5.9154982861514219E-3},{"$f":"Baseline_Data_2012!AD111/Baseline_Data_2012!AD$269","v":7.3298663584745131E-3},{"$f":"Baseline_Data_2012!AE111/Baseline_Data_2012!AE$269","v":4.7096085598251625E-3},{"$f":"Baseline_Data_2012!AF111/Baseline_Data_2012!AF$269","v":7.5702966286964775E-3},{"$f":"Baseline_Data_2012!AG111/Baseline_Data_2012!AG$269","v":4.1081495758802196E-3},{"$f":"Baseline_Data_2012!AH111/Baseline_Data_2012!AH$269","v":3.4503578817684359E-3},{"$f":"Baseline_Data_2012!AI111/Baseline_Data_2012!AI$269","v":6.6667548364933689E-3},{"$f":"Baseline_Data_2012!AJ111/Baseline_Data_2012!AJ$269","v":3.0116053238597065E-3},{"$f":"Baseline_Data_2012!AK111/Baseline_Data_2012!AK$269","v":4.3475105346375692E-3},{"$f":"Baseline_Data_2012!AL111/Baseline_Data_2012!AL$269","v":6.8861856481167057E-3},{"$f":"Baseline_Data_2012!AM111/Baseline_Data_2012!AM$269","v":6.0820930291002216E-3},{"$f":"Baseline_Data_2012!AN111/Baseline_Data_2012!AN$269","v":4.8006199909301278E-3},{"$f":"Baseline_Data_2012!AO111/Baseline_Data_2012!AO$269","v":4.1161256872392204E-3},{"$f":"Baseline_Data_2012!AP111/Baseline_Data_2012!AP$269","v":2.9655074209536079E-3},{"$f":"Baseline_Data_2012!AQ111/Baseline_Data_2012!AQ$269","v":7.2166451754690053E-4},{"$f":"Baseline_Data_2012!AR111/Baseline_Data_2012!AR$269","v":5.5160752941775977E-3},{"$f":"Baseline_Data_2012!AS111/Baseline_Data_2012!AS$269","v":5.5871469238548549E-3},{"$f":"Baseline_Data_2012!AT111/Baseline_Data_2012!AT$269","v":6.2351335029119355E-3},{"$f":"Baseline_Data_2012!AU111/Baseline_Data_2012!AU$269","v":6.4834521880597334E-3},{"$f":"Baseline_Data_2012!AV111/Baseline_Data_2012!AV$269","v":7.5095190914261662E-3},111]
[2,"Male 30-34",{"$f":"'III Tool Overview'!$H$8/110","v":1.3090909090909091},0,{"$f":"'III Tool Overview'!$H$8/44","v":3.2727272727272729},{"$f":"G112*'III Tool Overview'!$H$8","v":0.63160196840656124},{"$f":"HLOOKUP('III Tool Overview'!$H$6,Targeting!$I$1:$BC$269,Targeting!BD112,FALSE)","v":4.3861247806011201E-3},{"$f":"Baseline_Data_2012!B112","v":5205.7500000000009},{"$f":"Baseline_Data_2012!B112/Baseline_Data_2012!B$269","v":4.8051804954836836E-3},{"$f":"Baseline_Data_2012!C112/Baseline_Data_2012!C$269","v":4.5581198148807404E-3},{"$f":"Baseline_Data_2012!D112/Baseline_Data_2012!D$269","v":2.8962599599450262E-3},{"$f":"Baseline_Data_2012!E112/Baseline_Data_2012!E$269","v":4.1313689135181646E-3},{"$f":"Baseline_Data_2012!F112/Baseline_Data_2012!F$269","v":4.5807004951327283E-3},{"$f":"Baseline_Data_2012!G112/Baseline_Data_2012!G$269","v":5.6835828239379079E-3},{"$f":"Baseline_Data_2012!H112/Baseline_Data_2012!H$269","v":3.4401076803736745E-3},{"$f":"Baseline_Data_2012!I112/Baseline_Data_2012!I$269","v":4.8484344652071675E-3},{"$f":"Baseline_Data_2012!J112/Baseline_Data_2012!J$269","v":3.787189524983089E-3},{"$f":"Baseline_Data_2012!K112/Baseline_Data_2012!K$269","v":6.3640540158765718E-3},{"$f":"Baseline_Data_2012!L112/Baseline_Data_2012!L$269","v":5.4340506136737899E-3},{"$f":"Baseline_Data_2012!M112/Baseline_Data_2012!M$269","v":4.3861247806011201E-3},{"$f":"Baseline_Data_2012!N112/Baseline_Data_2012!N$269","v":5.6380040433351593E-4},{"$f":"Baseline_Data_2012!O112/Baseline_Data_2012!O$269","v":4.6828401864395615E-3},{"$f":"Baseline_Data_2012!P112/Baseline_Data_2012!P$269","v":5.6489569389556451E-3},{"$f":"Baseline_Data_2012!Q112/Baseline_Data_2012!Q$269","v":5.7756278606126785E-3},{"$f":"Baseline_Data_2012!R112/Baseline_Data_2012!R$269","v":1.5609572560454136E-3},{"$f":"Baseline_Data_2012!S112/Baseline_Data_2012!S$269","v":4.5347164191577747E-3},{"$f":"Baseline_Data_2012!T112/Baseline_Data_2012!T$269","v":3.242273122970592E-3},{"$f":"Baseline_Data_2012!U112/Baseline_Data_2012!U$269","v":3.4220356089432022E-3},{"$f":"Baseline_Data_2012!V112/Baseline_Data_2012!V$269","v":4.1067287978783758E-3},{"$f":"Baseline_Data_2012!W112/Baseline_Data_2012!W$269","v":5.576046842460429E-3},{"$f":"Baseline_Data_2012!X112/Baseline_Data_2012!X$269","v":5.6043623512820545E-3},{"$f":"Baseline_Data_2012!Y112/Baseline_Data_2012!Y$269","v":3.7515573091777402E-3},{"$f":"Baseline_Data_2012!Z112/Baseline_Data_2012!Z$269","v":4.5863658674888865E-3},{"$f":"Baseline_Data_2012!AA112/Baseline_Data_2012!AA$269","v":2.0969931510856706E-3},{"$f":"Baseline_Data_2012!AB112/Baseline_Data_2012!AB$269","v":5.1693706755137521E-3},{"$f":"Baseline_Data_2012!AC112/Baseline_Data_2012!AC$269","v":5.6489569389556451E-3},{"$f":"Baseline_Data_2012!AD112/Baseline_Data_2012!AD$269","v":7.0996264516727612E-3},{"$f":"Baseline_Data_2012!AE112/Baseline_Data_2012!AE$269","v":4.570458622374267E-3},{"$f":"Baseline_Data_2012!AF112/Baseline_Data_2012!AF$269","v":6.0809619238083572E-3},{"$f":"Baseline_Data_2012!AG112/Baseline_Data_2012!AG$269","v":3.9669319342093374E-3},{"$f":"Baseline_Data_2012!AH112/Baseline_Data_2012!AH$269","v":3.4669902585256311E-3},{"$f":"Baseline_Data_2012!AI112/Baseline_Data_2012!AI$269","v":5.7435774895821592E-3},{"$f":"Baseline_Data_2012!AJ112/Baseline_Data_2012!AJ$269","v":2.6774910554071859E-3},{"$f":"Baseline_Data_2012!AK112/Baseline_Data_2012!AK$269","v":3.4011453347817461E-3},{"$f":"Baseline_Data_2012!AL112/Baseline_Data_2012!AL$269","v":6.6875563846977518E-3},{"$f":"Baseline_Data_2012!AM112/Baseline_Data_2012!AM$269","v":4.3861247806011201E-3},{"$f":"Baseline_Data_2012!AN112/Baseline_Data_2012!AN$269","v":3.9100072324317779E-3},{"$f":"Baseline_Data_2012!AO112/Baseline_Data_2012!AO$269","v":3.2411280749310907E-3},{"$f":"Baseline_Data_2012!AP112/Baseline_Data_2012!AP$269","v":2.9100773757021383E-3},{"$f":"Baseline_Data_2012!AQ112/Baseline_Data_2012!AQ$269","v":5.6380040433351593E-4},{"$f":"Baseline_Data_2012!AR112/Baseline_Data_2012!AR$269","v":4.891285177373186E-3},{"$f":"Baseline_Data_2012!AS112/Baseline_Data_2012!AS$269","v":5.172506161285108E-3},{"$f":"Baseline_Data_2012!AT112/Baseline_Data_2012!AT$269","v":4.7294904695383147E-3},{"$f":"Baseline_Data_2012!AU112/Baseline_Data_2012!AU$269","v":5.8092235701178146E-3},{"$f":"Baseline_Data_2012!AV112/Baseline_Data_2012!AV$269","v":6.4575956347818972E-3},112]
[2,"Male 35-39",{"$f":"'III Tool Overview'!$H$8/110","v":1.3090909090909091},0,{"$f":"'III Tool Overview'!$H$8/44","v":3.2727272727272729},{"$f":"G113*'III Tool Overview'!$H$8","v":0.74564121270219053},{"$f":"HLOOKUP('III Tool Overview'!$H$6,Targeting!$I$1:$BC$269,Targeting!BD113,FALSE)","v":5.1780639770985454E-3},{"$f":"Baseline_Data_2012!B113","v":5326.2700000000013},{"$f":"Baseline_Data_2012!B113/Baseline_Data_2012!B$269","v":4.9164267814781511E-3},{"$f":"Baseline_Data_2012!C113/Baseline_Data_2012!C$269","v":5.2530482335440077E-3},{"$f":"Baseline_Data_2012!D113/Baseline_Data_2012!D$269","v":3.0333151187638533E-3},{"$f":"Baseline_Data_2012!E113/Baseline_Data_2012!E$269","v":4.9196777976667112E-3},{"$f":"Baseline_Data_2012!F113/Baseline_Data_2012!F$269","v":4.9428490410256785E-3},{"$f":"Baseline_Data_2012!G113/Baseline_Data_2012!G$269","v":6.2326586026083134E-3},{"$f":"Baseline_Data_2012!H113/Baseline_Data_2012!H$269","v":3.2342394947045255E-3},{"$f":"Baseline_Data_2012!I113/Baseline_Data_2012!I$269","v":4.4716139432667565E-3},{"$f":"Baseline_Data_2012!J113/Baseline_Data_2012!J$269","v":3.8436399467798796E-3},{"$f":"Baseline_Data_2012!K113/Baseline_Data_2012!K$269","v":7.1809477463548651E-3},{"$f":"Baseline_Data_2012!L113/Baseline_Data_2012!L$269","v":5.6589099788960824E-3},{"$f":"Baseline_Data_2012!M113/Baseline_Data_2012!M$269","v":5.1780639770985454E-3},{"$f":"Baseline_Data_2012!N113/Baseline_Data_2012!N$269","v":9.3716156098104444E-4},{"$f":"Baseline_Data_2012!O113/Baseline_Data_2012!O$269","v":4.0221375773255522E-3},{"$f":"Baseline_Data_2012!P113/Baseline_Data_2012!P$269","v":7.3083917779487037E-3},{"$f":"Baseline_Data_2012!Q113/Baseline_Data_2012!Q$269","v":5.1108324277677692E-3},{"$f":"Baseline_Data_2012!R113/Baseline_Data_2012!R$269","v":1.7040701650136005E-3},{"$f":"Baseline_Data_2012!S113/Baseline_Data_2012!S$269","v":4.4227648993644753E-3},{"$f":"Baseline_Data_2012!T113/Baseline_Data_2012!T$269","v":3.5075500148500039E-3},{"$f":"Baseline_Data_2012!U113/Baseline_Data_2012!U$269","v":4.0303974949775492E-3},{"$f":"Baseline_Data_2012!V113/Baseline_Data_2012!V$269","v":4.890336087356513E-3},{"$f":"Baseline_Data_2012!W113/Baseline_Data_2012!W$269","v":4.4333510993917425E-3},{"$f":"Baseline_Data_2012!X113/Baseline_Data_2012!X$269","v":6.2160767805716829E-3},{"$f":"Baseline_Data_2012!Y113/Baseline_Data_2012!Y$269","v":4.380050961835965E-3},{"$f":"Baseline_Data_2012!Z113/Baseline_Data_2012!Z$269","v":5.1409702071827977E-3},{"$f":"Baseline_Data_2012!AA113/Baseline_Data_2012!AA$269","v":2.3983958364099107E-3},{"$f":"Baseline_Data_2012!AB113/Baseline_Data_2012!AB$269","v":4.6959651504930198E-3},{"$f":"Baseline_Data_2012!AC113/Baseline_Data_2012!AC$269","v":7.3083917779487037E-3},{"$f":"Baseline_Data_2012!AD113/Baseline_Data_2012!AD$269","v":7.7076353551184433E-3},{"$f":"Baseline_Data_2012!AE113/Baseline_Data_2012!AE$269","v":4.9317974494631515E-3},{"$f":"Baseline_Data_2012!AF113/Baseline_Data_2012!AF$269","v":5.2107446730894702E-3},{"$f":"Baseline_Data_2012!AG113/Baseline_Data_2012!AG$269","v":3.9519213876820832E-3},{"$f":"Baseline_Data_2012!AH113/Baseline_Data_2012!AH$269","v":3.2565046630121646E-3},{"$f":"Baseline_Data_2012!AI113/Baseline_Data_2012!AI$269","v":6.8018228817281349E-3},{"$f":"Baseline_Data_2012!AJ113/Baseline_Data_2012!AJ$269","v":2.6843564170877169E-3},{"$f":"Baseline_Data_2012!AK113/Baseline_Data_2012!AK$269","v":4.2553864886339058E-3},{"$f":"Baseline_Data_2012!AL113/Baseline_Data_2012!AL$269","v":7.5177069992952619E-3},{"$f":"Baseline_Data_2012!AM113/Baseline_Data_2012!AM$269","v":5.1780639770985454E-3},{"$f":"Baseline_Data_2012!AN113/Baseline_Data_2012!AN$269","v":3.3235061475670115E-3},{"$f":"Baseline_Data_2012!AO113/Baseline_Data_2012!AO$269","v":3.4005102805960189E-3},{"$f":"Baseline_Data_2012!AP113/Baseline_Data_2012!AP$269","v":3.0477863943737583E-3},{"$f":"Baseline_Data_2012!AQ113/Baseline_Data_2012!AQ$269","v":9.3716156098104444E-4},{"$f":"Baseline_Data_2012!AR113/Baseline_Data_2012!AR$269","v":5.4658763538500202E-3},{"$f":"Baseline_Data_2012!AS113/Baseline_Data_2012!AS$269","v":5.7907507277667331E-3},{"$f":"Baseline_Data_2012!AT113/Baseline_Data_2012!AT$269","v":5.1392615539152921E-3},{"$f":"Baseline_Data_2012!AU113/Baseline_Data_2012!AU$269","v":5.6361828680291989E-3},{"$f":"Baseline_Data_2012!AV113/Baseline_Data_2012!AV$269","v":7.9556155963109304E-3},113]
[2,"Male 40-44",{"$f":"'III Tool Overview'!$H$8/110","v":1.3090909090909091},0,{"$f":"'III Tool Overview'!$H$8/44","v":3.2727272727272729},{"$f":"G114*'III Tool Overview'!$H$8","v":0.87336516631329464},{"$f":"HLOOKUP('III Tool Overview'!$H$6,Targeting!$I$1:$BC$269,Targeting!BD114,FALSE)","v":6.0650358771756575E-3},{"$f":"Baseline_Data_2012!B114","v":6720.8699999999981},{"$f":"Baseline_Data_2012!B114/Baseline_Data_2012!B$269","v":6.2037157828711354E-3},{"$f":"Baseline_Data_2012!C114/Baseline_Data_2012!C$269","v":7.5818395895140773E-3},{"$f":"Baseline_Data_2012!D114/Baseline_Data_2012!D$269","v":4.233625236092259E-3},{"$f":"Baseline_Data_2012!E114/Baseline_Data_2012!E$269","v":7.0636200877681144E-3},{"$f":"Baseline_Data_2012!F114/Baseline_Data_2012!F$269","v":6.8277763845169485E-3},{"$f":"Baseline_Data_2012!G114/Baseline_Data_2012!G$269","v":8.5891016136832483E-3},{"$f":"Baseline_Data_2012!H114/Baseline_Data_2012!H$269","v":3.6331808009240794E-3},{"$f":"Baseline_Data_2012!I114/Baseline_Data_2012!I$269","v":5.3843500411398333E-3},{"$f":"Baseline_Data_2012!J114/Baseline_Data_2012!J$269","v":5.1135533520047958E-3},{"$f":"Baseline_Data_2012!K114/Baseline_Data_2012!K$269","v":9.2010123856451336E-3},{"$f":"Baseline_Data_2012!L114/Baseline_Data_2012!L$269","v":6.5697881869197011E-3},{"$f":"Baseline_Data_2012!M114/Baseline_Data_2012!M$269","v":6.0650358771756575E-3},{"$f":"Baseline_Data_2012!N114/Baseline_Data_2012!N$269","v":2.8565887152898125E-4},{"$f":"Baseline_Data_2012!O114/Baseline_Data_2012!O$269","v":4.7238273096646853E-3},{"$f":"Baseline_Data_2012!P114/Baseline_Data_2012!P$269","v":1.1076082692180605E-2},{"$f":"Baseline_Data_2012!Q114/Baseline_Data_2012!Q$269","v":5.418648375894581E-3},{"$f":"Baseline_Data_2012!R114/Baseline_Data_2012!R$269","v":1.9466173595377421E-3},{"$f":"Baseline_Data_2012!S114/Baseline_Data_2012!S$269","v":5.5286827467152938E-3},{"$f":"Baseline_Data_2012!T114/Baseline_Data_2012!T$269","v":4.8755465357183427E-3},{"$f":"Baseline_Data_2012!U114/Baseline_Data_2012!U$269","v":6.5443635240312456E-3},{"$f":"Baseline_Data_2012!V114/Baseline_Data_2012!V$269","v":7.0214915779590195E-3},{"$f":"Baseline_Data_2012!W114/Baseline_Data_2012!W$269","v":4.8976026699843267E-3},{"$f":"Baseline_Data_2012!X114/Baseline_Data_2012!X$269","v":8.8270971970596974E-3},{"$f":"Baseline_Data_2012!Y114/Baseline_Data_2012!Y$269","v":5.5405542501491345E-3},{"$f":"Baseline_Data_2012!Z114/Baseline_Data_2012!Z$269","v":6.7104893294755242E-3},{"$f":"Baseline_Data_2012!AA114/Baseline_Data_2012!AA$269","v":3.0582753325772349E-3},{"$f":"Baseline_Data_2012!AB114/Baseline_Data_2012!AB$269","v":4.9504326233743437E-3},{"$f":"Baseline_Data_2012!AC114/Baseline_Data_2012!AC$269","v":1.1076082692180605E-2},{"$f":"Baseline_Data_2012!AD114/Baseline_Data_2012!AD$269","v":1.0121778424824188E-2},{"$f":"Baseline_Data_2012!AE114/Baseline_Data_2012!AE$269","v":6.8125103314257756E-3},{"$f":"Baseline_Data_2012!AF114/Baseline_Data_2012!AF$269","v":5.7080887452610187E-3},{"$f":"Baseline_Data_2012!AG114/Baseline_Data_2012!AG$269","v":5.1861438251664792E-3},{"$f":"Baseline_Data_2012!AH114/Baseline_Data_2012!AH$269","v":4.0319175380372496E-3},{"$f":"Baseline_Data_2012!AI114/Baseline_Data_2012!AI$269","v":8.3162414832519023E-3},{"$f":"Baseline_Data_2012!AJ114/Baseline_Data_2012!AJ$269","v":3.7719441299785402E-3},{"$f":"Baseline_Data_2012!AK114/Baseline_Data_2012!AK$269","v":6.058474298126496E-3},{"$f":"Baseline_Data_2012!AL114/Baseline_Data_2012!AL$269","v":9.3145571474909754E-3},{"$f":"Baseline_Data_2012!AM114/Baseline_Data_2012!AM$269","v":6.0650358771756575E-3},{"$f":"Baseline_Data_2012!AN114/Baseline_Data_2012!AN$269","v":3.96600994018796E-3},{"$f":"Baseline_Data_2012!AO114/Baseline_Data_2012!AO$269","v":4.450935287058832E-3},{"$f":"Baseline_Data_2012!AP114/Baseline_Data_2012!AP$269","v":4.2538229258217404E-3},{"$f":"Baseline_Data_2012!AQ114/Baseline_Data_2012!AQ$269","v":2.8565887152898125E-4},{"$f":"Baseline_Data_2012!AR114/Baseline_Data_2012!AR$269","v":8.1662474496534149E-3},{"$f":"Baseline_Data_2012!AS114/Baseline_Data_2012!AS$269","v":8.0347555094526495E-3},{"$f":"Baseline_Data_2012!AT114/Baseline_Data_2012!AT$269","v":7.3032543842346306E-3},{"$f":"Baseline_Data_2012!AU114/Baseline_Data_2012!AU$269","v":8.3161325650822956E-3},{"$f":"Baseline_Data_2012!AV114/Baseline_Data_2012!AV$269","v":9.9776827088879066E-3},114]
[2,"Male 45-49",{"$f":"'III Tool Overview'!$H$8/110","v":1.3090909090909091},0,{"$f":"'III Tool Overview'!$H$8/44","v":3.2727272727272729},{"$f":"G115*'III Tool Overview'!$H$8","v":1.3558388921794182},{"$f":"HLOOKUP('III Tool Overview'!$H$6,Targeting!$I$1:$BC$269,Targeting!BD115,FALSE)","v":9.415547862357071E-3},{"$f":"Baseline_Data_2012!B115","v":8545.8799999999992},{"$f":"Baseline_Data_2012!B115/Baseline_Data_2012!B$269","v":7.8882958061267053E-3},{"$f":"Baseline_Data_2012!C115/Baseline_Data_2012!C$269","v":1.0080457282909325E-2},{"$f":"Baseline_Data_2012!D115/Baseline_Data_2012!D$269","v":5.5412521287222013E-3},{"$f":"Baseline_Data_2012!E115/Baseline_Data_2012!E$269","v":9.4568413344199038E-3},{"$f":"Baseline_Data_2012!F115/Baseline_Data_2012!F$269","v":8.5709818668034191E-3},{"$f":"Baseline_Data_2012!G115/Baseline_Data_2012!G$269","v":1.0687695180349507E-2},{"$f":"Baseline_Data_2012!H115/Baseline_Data_2012!H$269","v":4.3432627941000952E-3},{"$f":"Baseline_Data_2012!I115/Baseline_Data_2012!I$269","v":6.8413216870792286E-3},{"$f":"Baseline_Data_2012!J115/Baseline_Data_2012!J$269","v":7.2647123758276481E-3},{"$f":"Baseline_Data_2012!K115/Baseline_Data_2012!K$269","v":1.1412480963027587E-2},{"$f":"Baseline_Data_2012!L115/Baseline_Data_2012!L$269","v":8.0676740910013041E-3},{"$f":"Baseline_Data_2012!M115/Baseline_Data_2012!M$269","v":9.415547862357071E-3},{"$f":"Baseline_Data_2012!N115/Baseline_Data_2012!N$269","v":1.6713549764020225E-3},{"$f":"Baseline_Data_2012!O115/Baseline_Data_2012!O$269","v":6.189669186683045E-3},{"$f":"Baseline_Data_2012!P115/Baseline_Data_2012!P$269","v":1.4554877178484192E-2},{"$f":"Baseline_Data_2012!Q115/Baseline_Data_2012!Q$269","v":6.3993086544498349E-3},{"$f":"Baseline_Data_2012!R115/Baseline_Data_2012!R$269","v":2.3286543514106236E-3},{"$f":"Baseline_Data_2012!S115/Baseline_Data_2012!S$269","v":7.4640389795792321E-3},{"$f":"Baseline_Data_2012!T115/Baseline_Data_2012!T$269","v":7.2578370549491412E-3},{"$f":"Baseline_Data_2012!U115/Baseline_Data_2012!U$269","v":7.8192395352061645E-3},{"$f":"Baseline_Data_2012!V115/Baseline_Data_2012!V$269","v":9.4004392873151786E-3},{"$f":"Baseline_Data_2012!W115/Baseline_Data_2012!W$269","v":6.6379594602491042E-3},{"$f":"Baseline_Data_2012!X115/Baseline_Data_2012!X$269","v":1.1718969913725123E-2},{"$f":"Baseline_Data_2012!Y115/Baseline_Data_2012!Y$269","v":8.4302236085545754E-3},{"$f":"Baseline_Data_2012!Z115/Baseline_Data_2012!Z$269","v":9.9069966354175983E-3},{"$f":"Baseline_Data_2012!AA115/Baseline_Data_2012!AA$269","v":4.8230842474970411E-3},{"$f":"Baseline_Data_2012!AB115/Baseline_Data_2012!AB$269","v":5.5018321620958124E-3},{"$f":"Baseline_Data_2012!AC115/Baseline_Data_2012!AC$269","v":1.4554877178484192E-2},{"$f":"Baseline_Data_2012!AD115/Baseline_Data_2012!AD$269","v":1.2866089572025705E-2},{"$f":"Baseline_Data_2012!AE115/Baseline_Data_2012!AE$269","v":8.5518182245202887E-3},{"$f":"Baseline_Data_2012!AF115/Baseline_Data_2012!AF$269","v":6.5765333454824706E-3},{"$f":"Baseline_Data_2012!AG115/Baseline_Data_2012!AG$269","v":7.2546366380603997E-3},{"$f":"Baseline_Data_2012!AH115/Baseline_Data_2012!AH$269","v":5.9360379116195662E-3},{"$f":"Baseline_Data_2012!AI115/Baseline_Data_2012!AI$269","v":1.2030612727207976E-2},{"$f":"Baseline_Data_2012!AJ115/Baseline_Data_2012!AJ$269","v":4.7107823397911884E-3},{"$f":"Baseline_Data_2012!AK115/Baseline_Data_2012!AK$269","v":8.4754122323371078E-3},{"$f":"Baseline_Data_2012!AL115/Baseline_Data_2012!AL$269","v":1.1560445840738936E-2},{"$f":"Baseline_Data_2012!AM115/Baseline_Data_2012!AM$269","v":9.415547862357071E-3},{"$f":"Baseline_Data_2012!AN115/Baseline_Data_2012!AN$269","v":4.8087658393310253E-3},{"$f":"Baseline_Data_2012!AO115/Baseline_Data_2012!AO$269","v":6.0214918203979669E-3},{"$f":"Baseline_Data_2012!AP115/Baseline_Data_2012!AP$269","v":5.5676882171729744E-3},{"$f":"Baseline_Data_2012!AQ115/Baseline_Data_2012!AQ$269","v":1.6713549764020225E-3},{"$f":"Baseline_Data_2012!AR115/Baseline_Data_2012!AR$269","v":1.0314845069128881E-2},{"$f":"Baseline_Data_2012!AS115/Baseline_Data_2012!AS$269","v":1.0123956764037316E-2},{"$f":"Baseline_Data_2012!AT115/Baseline_Data_2012!AT$269","v":8.8272013133080893E-3},{"$f":"Baseline_Data_2012!AU115/Baseline_Data_2012!AU$269","v":1.1125983965664105E-2},{"$f":"Baseline_Data_2012!AV115/Baseline_Data_2012!AV$269","v":1.2134864274814415E-2},115]
[2,"Male 50-54",{"$f":"'III Tool Overview'!$H$8/110","v":1.3090909090909091},0,{"$f":"'III Tool Overview'!$H$8/44","v":3.2727272727272729},{"$f":"G116*'III Tool Overview'!$H$8","v":1.3137320942856476},{"$f":"HLOOKUP('III Tool Overview'!$H$6,Targeting!$I$1:$BC$269,Targeting!BD116,FALSE)","v":9.1231395436503302E-3},{"$f":"Baseline_Data_2012!B116","v":9062.82},{"$f":"Baseline_Data_2012!B116/Baseline_Data_2012!B$269","v":8.3654585598769496E-3},{"$f":"Baseline_Data_2012!C116/Baseline_Data_2012!C$269","v":1.0564295380475291E-2},{"$f":"Baseline_Data_2012!D116/Baseline_Data_2012!D$269","v":6.0174972560643521E-3},{"$f":"Baseline_Data_2012!E116/Baseline_Data_2012!E$269","v":1.0159550117109339E-2},{"$f":"Baseline_Data_2012!F116/Baseline_Data_2012!F$269","v":8.9457604097080545E-3},{"$f":"Baseline_Data_2012!G116/Baseline_Data_2012!G$269","v":1.0971139338220623E-2},{"$f":"Baseline_Data_2012!H116/Baseline_Data_2012!H$269","v":4.9005981823068458E-3},{"$f":"Baseline_Data_2012!I116/Baseline_Data_2012!I$269","v":7.2268918510756831E-3},{"$f":"Baseline_Data_2012!J116/Baseline_Data_2012!J$269","v":8.2352764163808167E-3},{"$f":"Baseline_Data_2012!K116/Baseline_Data_2012!K$269","v":1.2170650408344091E-2},{"$f":"Baseline_Data_2012!L116/Baseline_Data_2012!L$269","v":8.2117788208650091E-3},{"$f":"Baseline_Data_2012!M116/Baseline_Data_2012!M$269","v":9.1231395436503302E-3},{"$f":"Baseline_Data_2012!N116/Baseline_Data_2012!N$269","v":1.3030053789041256E-3},{"$f":"Baseline_Data_2012!O116/Baseline_Data_2012!O$269","v":6.7449588052270453E-3},{"$f":"Baseline_Data_2012!P116/Baseline_Data_2012!P$269","v":1.7571093455783494E-2},{"$f":"Baseline_Data_2012!Q116/Baseline_Data_2012!Q$269","v":7.1152254638387749E-3},{"$f":"Baseline_Data_2012!R116/Baseline_Data_2012!R$269","v":2.768459845215811E-3},{"$f":"Baseline_Data_2012!S116/Baseline_Data_2012!S$269","v":7.5773502344307518E-3},{"$f":"Baseline_Data_2012!T116/Baseline_Data_2012!T$269","v":8.0392190981320739E-3},{"$f":"Baseline_Data_2012!U116/Baseline_Data_2012!U$269","v":7.6760955620216141E-3},{"$f":"Baseline_Data_2012!V116/Baseline_Data_2012!V$269","v":1.0098957007422452E-2},{"$f":"Baseline_Data_2012!W116/Baseline_Data_2012!W$269","v":7.3817675722671209E-3},{"$f":"Baseline_Data_2012!X116/Baseline_Data_2012!X$269","v":1.1937853512831128E-2},{"$f":"Baseline_Data_2012!Y116/Baseline_Data_2012!Y$269","v":8.8991682722017931E-3},{"$f":"Baseline_Data_2012!Z116/Baseline_Data_2012!Z$269","v":9.8210720194086831E-3},{"$f":"Baseline_Data_2012!AA116/Baseline_Data_2012!AA$269","v":5.3521421525874633E-3},{"$f":"Baseline_Data_2012!AB116/Baseline_Data_2012!AB$269","v":5.6618745978702324E-3},{"$f":"Baseline_Data_2012!AC116/Baseline_Data_2012!AC$269","v":1.7571093455783494E-2},{"$f":"Baseline_Data_2012!AD116/Baseline_Data_2012!AD$269","v":1.2920442394599139E-2},{"$f":"Baseline_Data_2012!AE116/Baseline_Data_2012!AE$269","v":8.9257588095289393E-3},{"$f":"Baseline_Data_2012!AF116/Baseline_Data_2012!AF$269","v":6.9674413160471871E-3},{"$f":"Baseline_Data_2012!AG116/Baseline_Data_2012!AG$269","v":8.2881917693383433E-3},{"$f":"Baseline_Data_2012!AH116/Baseline_Data_2012!AH$269","v":6.4269797910733199E-3},{"$f":"Baseline_Data_2012!AI116/Baseline_Data_2012!AI$269","v":1.3036614818838615E-2},{"$f":"Baseline_Data_2012!AJ116/Baseline_Data_2012!AJ$269","v":5.1913576574283754E-3},{"$f":"Baseline_Data_2012!AK116/Baseline_Data_2012!AK$269","v":8.7905571169826415E-3},{"$f":"Baseline_Data_2012!AL116/Baseline_Data_2012!AL$269","v":1.1783573177291557E-2},{"$f":"Baseline_Data_2012!AM116/Baseline_Data_2012!AM$269","v":9.1231395436503302E-3},{"$f":"Baseline_Data_2012!AN116/Baseline_Data_2012!AN$269","v":5.5065935190080862E-3},{"$f":"Baseline_Data_2012!AO116/Baseline_Data_2012!AO$269","v":5.9447423354552931E-3},{"$f":"Baseline_Data_2012!AP116/Baseline_Data_2012!AP$269","v":6.0462054046954263E-3},{"$f":"Baseline_Data_2012!AQ116/Baseline_Data_2012!AQ$269","v":1.3030053789041256E-3},{"$f":"Baseline_Data_2012!AR116/Baseline_Data_2012!AR$269","v":1.1325876619362848E-2},{"$f":"Baseline_Data_2012!AS116/Baseline_Data_2012!AS$269","v":1.1192391963612986E-2},{"$f":"Baseline_Data_2012!AT116/Baseline_Data_2012!AT$269","v":9.794355544157498E-3},{"$f":"Baseline_Data_2012!AU116/Baseline_Data_2012!AU$269","v":1.2715825710343824E-2},{"$f":"Baseline_Data_2012!AV116/Baseline_Data_2012!AV$269","v":1.1982518625997241E-2},116]
[2,"Male 55-59",{"$f":"'III Tool Overview'!$H$8/110","v":1.3090909090909091},0,{"$f":"'III Tool Overview'!$H$8/44","v":3.2727272727272729},{"$f":"G117*'III Tool Overview'!$H$8","v":1.9327020233240775},{"$f":"HLOOKUP('III Tool Overview'!$H$6,Targeting!$I$1:$BC$269,Targeting!BD117,FALSE)","v":1.3421541828639427E-2},{"$f":"Baseline_Data_2012!B117","v":10450.919999999998},{"$f":"Baseline_Data_2012!B117/Baseline_Data_2012!B$269","v":9.6467477200903474E-3},{"$f":"Baseline_Data_2012!C117/Baseline_Data_2012!C$269","v":1.2359159410144444E-2},{"$f":"Baseline_Data_2012!D117/Baseline_Data_2012!D$269","v":7.4001165940857268E-3},{"$f":"Baseline_Data_2012!E117/Baseline_Data_2012!E$269","v":1.2859355827564469E-2},{"$f":"Baseline_Data_2012!F117/Baseline_Data_2012!F$269","v":1.1173957777243232E-2},{"$f":"Baseline_Data_2012!G117/Baseline_Data_2012!G$269","v":1.1742093612649808E-2},{"$f":"Baseline_Data_2012!H117/Baseline_Data_2012!H$269","v":5.6314170051580638E-3},{"$f":"Baseline_Data_2012!I117/Baseline_Data_2012!I$269","v":7.9378783899332929E-3},{"$f":"Baseline_Data_2012!J117/Baseline_Data_2012!J$269","v":1.0092686900671024E-2},{"$f":"Baseline_Data_2012!K117/Baseline_Data_2012!K$269","v":1.449999064167809E-2},{"$f":"Baseline_Data_2012!L117/Baseline_Data_2012!L$269","v":9.1949528139722795E-3},{"$f":"Baseline_Data_2012!M117/Baseline_Data_2012!M$269","v":1.3421541828639427E-2},{"$f":"Baseline_Data_2012!N117/Baseline_Data_2012!N$269","v":1.2779475831559692E-3},{"$f":"Baseline_Data_2012!O117/Baseline_Data_2012!O$269","v":7.2807365896608777E-3},{"$f":"Baseline_Data_2012!P117/Baseline_Data_2012!P$269","v":2.2568313810305593E-2},{"$f":"Baseline_Data_2012!Q117/Baseline_Data_2012!Q$269","v":8.320819799187756E-3},{"$f":"Baseline_Data_2012!R117/Baseline_Data_2012!R$269","v":2.9359281156258409E-3},{"$f":"Baseline_Data_2012!S117/Baseline_Data_2012!S$269","v":8.6143748388318488E-3},{"$f":"Baseline_Data_2012!T117/Baseline_Data_2012!T$269","v":1.0355623853366675E-2},{"$f":"Baseline_Data_2012!U117/Baseline_Data_2012!U$269","v":8.5474844987825753E-3},{"$f":"Baseline_Data_2012!V117/Baseline_Data_2012!V$269","v":1.2782660663981375E-2},{"$f":"Baseline_Data_2012!W117/Baseline_Data_2012!W$269","v":7.3623259902495224E-3},{"$f":"Baseline_Data_2012!X117/Baseline_Data_2012!X$269","v":1.4046238909517773E-2},{"$f":"Baseline_Data_2012!Y117/Baseline_Data_2012!Y$269","v":9.4565117000307841E-3},{"$f":"Baseline_Data_2012!Z117/Baseline_Data_2012!Z$269","v":1.1173547793471097E-2},{"$f":"Baseline_Data_2012!AA117/Baseline_Data_2012!AA$269","v":5.5817212192812455E-3},{"$f":"Baseline_Data_2012!AB117/Baseline_Data_2012!AB$269","v":6.1959895535280618E-3},{"$f":"Baseline_Data_2012!AC117/Baseline_Data_2012!AC$269","v":2.2568313810305593E-2},{"$f":"Baseline_Data_2012!AD117/Baseline_Data_2012!AD$269","v":1.4634750674275519E-2},{"$f":"Baseline_Data_2012!AE117/Baseline_Data_2012!AE$269","v":1.1148974206742485E-2},{"$f":"Baseline_Data_2012!AF117/Baseline_Data_2012!AF$269","v":7.580932531681084E-3},{"$f":"Baseline_Data_2012!AG117/Baseline_Data_2012!AG$269","v":9.9855685700650041E-3},{"$f":"Baseline_Data_2012!AH117/Baseline_Data_2012!AH$269","v":6.8640098286244398E-3},{"$f":"Baseline_Data_2012!AI117/Baseline_Data_2012!AI$269","v":1.6289715946049541E-2},{"$f":"Baseline_Data_2012!AJ117/Baseline_Data_2012!AJ$269","v":6.2829501646328436E-3},{"$f":"Baseline_Data_2012!AK117/Baseline_Data_2012!AK$269","v":1.001887773036483E-2},{"$f":"Baseline_Data_2012!AL117/Baseline_Data_2012!AL$269","v":1.4349189563653275E-2},{"$f":"Baseline_Data_2012!AM117/Baseline_Data_2012!AM$269","v":1.3421541828639427E-2},{"$f":"Baseline_Data_2012!AN117/Baseline_Data_2012!AN$269","v":6.2315740266881449E-3},{"$f":"Baseline_Data_2012!AO117/Baseline_Data_2012!AO$269","v":6.7010055529392121E-3},{"$f":"Baseline_Data_2012!AP117/Baseline_Data_2012!AP$269","v":7.4354209138103736E-3},{"$f":"Baseline_Data_2012!AQ117/Baseline_Data_2012!AQ$269","v":1.2779475831559692E-3},{"$f":"Baseline_Data_2012!AR117/Baseline_Data_2012!AR$269","v":1.3513056895453721E-2},{"$f":"Baseline_Data_2012!AS117/Baseline_Data_2012!AS$269","v":1.2900078471343725E-2},{"$f":"Baseline_Data_2012!AT117/Baseline_Data_2012!AT$269","v":8.8531810362368884E-3},{"$f":"Baseline_Data_2012!AU117/Baseline_Data_2012!AU$269","v":1.4551899042309302E-2},{"$f":"Baseline_Data_2012!AV117/Baseline_Data_2012!AV$269","v":1.2972628587789296E-2},117]
[2,"Male 60-64",{"$f":"'III Tool Overview'!$H$8/110","v":1.3090909090909091},0,{"$f":"'III Tool Overview'!$H$8/44","v":3.2727272727272729},{"$f":"G118*'III Tool Overview'!$H$8","v":3.2106433394000198},{"$f":"HLOOKUP('III Tool Overview'!$H$6,Targeting!$I$1:$BC$269,Targeting!BD118,FALSE)","v":2.2296134301389027E-2},{"$f":"Baseline_Data_2012!B118","v":17931.560000000001},{"$f":"Baseline_Data_2012!B118/Baseline_Data_2012!B$269","v":1.6551771092656275E-2},{"$f":"Baseline_Data_2012!C118/Baseline_Data_2012!C$269","v":2.3097693750576329E-2},{"$f":"Baseline_Data_2012!D118/Baseline_Data_2012!D$269","v":1.2619418396903326E-2},{"$f":"Baseline_Data_2012!E118/Baseline_Data_2012!E$269","v":2.3355217640364627E-2},{"$f":"Baseline_Data_2012!F118/Baseline_Data_2012!F$269","v":1.8766048401972577E-2},{"$f":"Baseline_Data_2012!G118/Baseline_Data_2012!G$269","v":2.2385343918946313E-2},{"$f":"Baseline_Data_2012!H118/Baseline_Data_2012!H$269","v":9.9473248324525726E-3},{"$f":"Baseline_Data_2012!I118/Baseline_Data_2012!I$269","v":1.2511636592023952E-2},{"$f":"Baseline_Data_2012!J118/Baseline_Data_2012!J$269","v":1.8062513683485212E-2},{"$f":"Baseline_Data_2012!K118/Baseline_Data_2012!K$269","v":2.350612978708172E-2},{"$f":"Baseline_Data_2012!L118/Baseline_Data_2012!L$269","v":1.5772956431015128E-2},{"$f":"Baseline_Data_2012!M118/Baseline_Data_2012!M$269","v":2.2296134301389027E-2},{"$f":"Baseline_Data_2012!N118/Baseline_Data_2012!N$269","v":3.0570510812750642E-3},{"$f":"Baseline_Data_2012!O118/Baseline_Data_2012!O$269","v":1.3167297409978469E-2},{"$f":"Baseline_Data_2012!P118/Baseline_Data_2012!P$269","v":4.1539179244265617E-2},{"$f":"Baseline_Data_2012!Q118/Baseline_Data_2012!Q$269","v":1.3548470010802944E-2},{"$f":"Baseline_Data_2012!R118/Baseline_Data_2012!R$269","v":6.06549141891328E-3},{"$f":"Baseline_Data_2012!S118/Baseline_Data_2012!S$269","v":1.6616415656446094E-2},{"$f":"Baseline_Data_2012!T118/Baseline_Data_2012!T$269","v":1.7909368901000478E-2},{"$f":"Baseline_Data_2012!U118/Baseline_Data_2012!U$269","v":1.528061913745095E-2},{"$f":"Baseline_Data_2012!V118/Baseline_Data_2012!V$269","v":2.3215923552739572E-2},{"$f":"Baseline_Data_2012!W118/Baseline_Data_2012!W$269","v":1.4578840115367078E-2},{"$f":"Baseline_Data_2012!X118/Baseline_Data_2012!X$269","v":2.6261683211943603E-2},{"$f":"Baseline_Data_2012!Y118/Baseline_Data_2012!Y$269","v":1.4171292128677003E-2},{"$f":"Baseline_Data_2012!Z118/Baseline_Data_2012!Z$269","v":1.9399992848246783E-2},{"$f":"Baseline_Data_2012!AA118/Baseline_Data_2012!AA$269","v":9.2319001232505533E-3},{"$f":"Baseline_Data_2012!AB118/Baseline_Data_2012!AB$269","v":1.0393902643891086E-2},{"$f":"Baseline_Data_2012!AC118/Baseline_Data_2012!AC$269","v":4.1539179244265617E-2},{"$f":"Baseline_Data_2012!AD118/Baseline_Data_2012!AD$269","v":2.8480541433308085E-2},{"$f":"Baseline_Data_2012!AE118/Baseline_Data_2012!AE$269","v":1.8724089867439186E-2},{"$f":"Baseline_Data_2012!AF118/Baseline_Data_2012!AF$269","v":1.1231590623506565E-2},{"$f":"Baseline_Data_2012!AG118/Baseline_Data_2012!AG$269","v":1.8083955928710035E-2},{"$f":"Baseline_Data_2012!AH118/Baseline_Data_2012!AH$269","v":1.2524753228400781E-2},{"$f":"Baseline_Data_2012!AI118/Baseline_Data_2012!AI$269","v":2.5805642000891374E-2},{"$f":"Baseline_Data_2012!AJ118/Baseline_Data_2012!AJ$269","v":1.1621340984719262E-2},{"$f":"Baseline_Data_2012!AK118/Baseline_Data_2012!AK$269","v":1.9450891167669279E-2},{"$f":"Baseline_Data_2012!AL118/Baseline_Data_2012!AL$269","v":2.3035566006302109E-2},{"$f":"Baseline_Data_2012!AM118/Baseline_Data_2012!AM$269","v":2.2296134301389027E-2},{"$f":"Baseline_Data_2012!AN118/Baseline_Data_2012!AN$269","v":9.213293951767414E-3},{"$f":"Baseline_Data_2012!AO118/Baseline_Data_2012!AO$269","v":1.1125198859181782E-2},{"$f":"Baseline_Data_2012!AP118/Baseline_Data_2012!AP$269","v":1.2679622851273602E-2},{"$f":"Baseline_Data_2012!AQ118/Baseline_Data_2012!AQ$269","v":3.0570510812750642E-3},{"$f":"Baseline_Data_2012!AR118/Baseline_Data_2012!AR$269","v":2.4269320745644949E-2},{"$f":"Baseline_Data_2012!AS118/Baseline_Data_2012!AS$269","v":2.187270420135554E-2},{"$f":"Baseline_Data_2012!AT118/Baseline_Data_2012!AT$269","v":1.6531960506442355E-2},{"$f":"Baseline_Data_2012!AU118/Baseline_Data_2012!AU$269","v":2.2973697918470926E-2},{"$f":"Baseline_Data_2012!AV118/Baseline_Data_2012!AV$269","v":2.3658157866046779E-2},118]
[2,"Male 65-69",{"$f":"'III Tool Overview'!$H$8/110","v":1.3090909090909091},0,{"$f":"'III Tool Overview'!$H$8/44","v":3.2727272727272729},{"$f":"G119*'III Tool Overview'!$H$8","v":5.4752872861199897},{"$f":"HLOOKUP('III Tool Overview'!$H$6,Targeting!$I$1:$BC$269,Targeting!BD119,FALSE)","v":3.8022828375833262E-2},{"$f":"Baseline_Data_2012!B119","v":24191.84},{"$f":"Baseline_Data_2012!B119/Baseline_Data_2012!B$269","v":2.2330338129541754E-2},{"$f":"Baseline_Data_2012!C119/Baseline_Data_2012!C$269","v":2.9468528239055502E-2},{"$f":"Baseline_Data_2012!D119/Baseline_Data_2012!D$269","v":1.7218093065446988E-2},{"$f":"Baseline_Data_2012!E119/Baseline_Data_2012!E$269","v":2.7338491611980462E-2},{"$f":"Baseline_Data_2012!F119/Baseline_Data_2012!F$269","v":2.659372170780409E-2},{"$f":"Baseline_Data_2012!G119/Baseline_Data_2012!G$269","v":2.9781178486070255E-2},{"$f":"Baseline_Data_2012!H119/Baseline_Data_2012!H$269","v":1.2035655943488184E-2},{"$f":"Baseline_Data_2012!I119/Baseline_Data_2012!I$269","v":1.6003398963926746E-2},{"$f":"Baseline_Data_2012!J119/Baseline_Data_2012!J$269","v":2.4384223974049504E-2},{"$f":"Baseline_Data_2012!K119/Baseline_Data_2012!K$269","v":3.2746658370378955E-2},{"$f":"Baseline_Data_2012!L119/Baseline_Data_2012!L$269","v":2.0907965388206544E-2},{"$f":"Baseline_Data_2012!M119/Baseline_Data_2012!M$269","v":3.8022828375833262E-2},{"$f":"Baseline_Data_2012!N119/Baseline_Data_2012!N$269","v":4.4753223206207083E-3},{"$f":"Baseline_Data_2012!O119/Baseline_Data_2012!O$269","v":1.7106847161164767E-2},{"$f":"Baseline_Data_2012!P119/Baseline_Data_2012!P$269","v":5.2372795291577803E-2},{"$f":"Baseline_Data_2012!Q119/Baseline_Data_2012!Q$269","v":1.5193273108885521E-2},{"$f":"Baseline_Data_2012!R119/Baseline_Data_2012!R$269","v":8.438629529651567E-3},{"$f":"Baseline_Data_2012!S119/Baseline_Data_2012!S$269","v":2.0876465593843787E-2},{"$f":"Baseline_Data_2012!T119/Baseline_Data_2012!T$269","v":2.4653251298778985E-2},{"$f":"Baseline_Data_2012!U119/Baseline_Data_2012!U$269","v":2.2712959897218974E-2},{"$f":"Baseline_Data_2012!V119/Baseline_Data_2012!V$269","v":3.2663001892722469E-2},{"$f":"Baseline_Data_2012!W119/Baseline_Data_2012!W$269","v":1.7802652709986638E-2},{"$f":"Baseline_Data_2012!X119/Baseline_Data_2012!X$269","v":3.3925432008526511E-2},{"$f":"Baseline_Data_2012!Y119/Baseline_Data_2012!Y$269","v":1.9101679299229988E-2},{"$f":"Baseline_Data_2012!Z119/Baseline_Data_2012!Z$269","v":2.7534933766493488E-2},{"$f":"Baseline_Data_2012!AA119/Baseline_Data_2012!AA$269","v":9.8860080786350741E-3},{"$f":"Baseline_Data_2012!AB119/Baseline_Data_2012!AB$269","v":1.2917771856053683E-2},{"$f":"Baseline_Data_2012!AC119/Baseline_Data_2012!AC$269","v":5.2372795291577803E-2},{"$f":"Baseline_Data_2012!AD119/Baseline_Data_2012!AD$269","v":3.7160450881665599E-2},{"$f":"Baseline_Data_2012!AE119/Baseline_Data_2012!AE$269","v":2.6534261475860375E-2},{"$f":"Baseline_Data_2012!AF119/Baseline_Data_2012!AF$269","v":1.3025303388060848E-2},{"$f":"Baseline_Data_2012!AG119/Baseline_Data_2012!AG$269","v":2.3596974155226599E-2},{"$f":"Baseline_Data_2012!AH119/Baseline_Data_2012!AH$269","v":1.3462234646688413E-2},{"$f":"Baseline_Data_2012!AI119/Baseline_Data_2012!AI$269","v":3.6292528909213313E-2},{"$f":"Baseline_Data_2012!AJ119/Baseline_Data_2012!AJ$269","v":1.4090010622343623E-2},{"$f":"Baseline_Data_2012!AK119/Baseline_Data_2012!AK$269","v":2.205276358666923E-2},{"$f":"Baseline_Data_2012!AL119/Baseline_Data_2012!AL$269","v":3.0613499070551362E-2},{"$f":"Baseline_Data_2012!AM119/Baseline_Data_2012!AM$269","v":3.8022828375833262E-2},{"$f":"Baseline_Data_2012!AN119/Baseline_Data_2012!AN$269","v":1.1772787401400054E-2},{"$f":"Baseline_Data_2012!AO119/Baseline_Data_2012!AO$269","v":1.731971129546097E-2},{"$f":"Baseline_Data_2012!AP119/Baseline_Data_2012!AP$269","v":1.73002367796578E-2},{"$f":"Baseline_Data_2012!AQ119/Baseline_Data_2012!AQ$269","v":4.4753223206207083E-3},{"$f":"Baseline_Data_2012!AR119/Baseline_Data_2012!AR$269","v":3.4945633745184577E-2},{"$f":"Baseline_Data_2012!AS119/Baseline_Data_2012!AS$269","v":3.0090379953687751E-2},{"$f":"Baseline_Data_2012!AT119/Baseline_Data_2012!AT$269","v":2.0757798620110981E-2},{"$f":"Baseline_Data_2012!AU119/Baseline_Data_2012!AU$269","v":3.1917920257507636E-2},{"$f":"Baseline_Data_2012!AV119/Baseline_Data_2012!AV$269","v":3.1777606574819983E-2},119]
[2,"Male 70-74",null,null,null,null,{"$f":"HLOOKUP('III Tool Overview'!$H$6,Targeting!$I$1:$BC$269,Targeting!BD120,FALSE)","v":0},null,{"$f":"Baseline_Data_2012!B120/Baseline_Data_2012!B$269","v":0},{"$f":"Baseline_Data_2012!C120/Baseline_Data_2012!C$269","v":0},{"$f":"Baseline_Data_2012!D120/Baseline_Data_2012!D$269","v":0},{"$f":"Baseline_Data_2012!E120/Baseline_Data_2012!E$269","v":0},{"$f":"Baseline_Data_2012!F120/Baseline_Data_2012!F$269","v":0},{"$f":"Baseline_Data_2012!G120/Baseline_Data_2012!G$269","v":0},{"$f":"Baseline_Data_2012!H120/Baseline_Data_2012!H$269","v":0},{"$f":"Baseline_Data_2012!I120/Baseline_Data_2012!I$269","v":0},{"$f":"Baseline_Data_2012!J120/Baseline_Data_2012!J$269","v":0},{"$f":"Baseline_Data_2012!K120/Baseline_Data_2012!K$269","v":0},{"$f":"Baseline_Data_2012!L120/Baseline_Data_2012!L$269","v":0},{"$f":"Baseline_Data_2012!M120/Baseline_Data_2012!M$269","v":0},{"$f":"Baseline_Data_2012!N120/Baseline_Data_2012!N$269","v":0},{"$f":"Baseline_Data_2012!O120/Baseline_Data_2012!O$269","v":0},{"$f":"Baseline_Data_2012!P120/Baseline_Data_2012!P$269","v":0},{"$f":"Baseline_Data_2012!Q120/Baseline_Data_2012!Q$269","v":0},{"$f":"Baseline_Data_2012!R120/Baseline_Data_2012!R$269","v":0},{"$f":"Baseline_Data_2012!S120/Baseline_Data_2012!S$269","v":0},{"$f":"Baseline_Data_2012!T120/Baseline_Data_2012!T$269","v":0},{"$f":"Baseline_Data_2012!U120/Baseline_Data_2012!U$269","v":0},{"$f":"Baseline_Data_2012!V120/Baseline_Data_2012!V$269","v":0},{"$f":"Baseline_Data_2012!W120/Baseline_Data_2012!W$269","v":0},{"$f":"Baseline_Data_2012!X120/Baseline_Data_2012!X$269","v":0},{"$f":"Baseline_Data_2012!Y120/Baseline_Data_2012!Y$269","v":0},{"$f":"Baseline_Data_2012!Z120/Baseline_Data_2012!Z$269","v":0},{"$f":"Baseline_Data_2012!AA120/Baseline_Data_2012!AA$269","v":0},{"$f":"Baseline_Data_2012!AB120/Baseline_Data_2012!AB$269","v":0},{"$f":"Baseline_Data_2012!AC120/Baseline_Data_2012!AC$269","v":0},{"$f":"Baseline_Data_2012!AD120/Baseline_Data_2012!AD$269","v":0},{"$f":"Baseline_Data_2012!AE120/Baseline_Data_2012!AE$269","v":0},{"$f":"Baseline_Data_2012!AF120/Baseline_Data_2012!AF$269","v":0},{"$f":"Baseline_Data_2012!AG120/Baseline_Data_2012!AG$269","v":0},{"$f":"Baseline_Data_2012!AH120/Baseline_Data_2012!AH$269","v":0},{"$f":"Baseline_Data_2012!AI120/Baseline_Data_2012!AI$269","v":0},{"$f":"Baseline_Data_2012!AJ120/Baseline_Data_2012!AJ$269","v":0},{"$f":"Baseline_Data_2012!AK120/Baseline_Data_2012!AK$269","v":0},{"$f":"Baseline_Data_2012!AL120/Baseline_Data_2012!AL$269","v":0},{"$f":"Baseline_Data_2012!AM120/Baseline_Data_2012!AM$269","v":0},{"$f":"Baseline_Data_2012!AN120/Baseline_Data_2012!AN$269","v":0},{"$f":"Baseline_Data_2012!AO120/Baseline_Data_2012!AO$269","v":0},{"$f":"Baseline_Data_2012!AP120/Baseline_Data_2012!AP$269","v":0},{"$f":"Baseline_Data_2012!AQ120/Baseline_Data_2012!AQ$269","v":0},{"$f":"Baseline_Data_2012!AR120/Baseline_Data_2012!AR$269","v":0},{"$f":"Baseline_Data_2012!AS120/Baseline_Data_2012!AS$269","v":0},{"$f":"Baseline_Data_2012!AT120/Baseline_Data_2012!AT$269","v":0},{"$f":"Baseline_Data_2012!AU120/Baseline_Data_2012!AU$269","v":0},{"$f":"Baseline_Data_2012!AV120/Baseline_Data_2012!AV$269","v":0},120]
[2,"Male 75-79",null,null,null,null,{"$f":"HLOOKUP('III Tool Overview'!$H$6,Targeting!$I$1:$BC$269,Targeting!BD121,FALSE)","v":0},null,{"$f":"Baseline_Data_2012!B121/Baseline_Data_2012!B$269","v":0},{"$f":"Baseline_Data_2012!C121/Baseline_Data_2012!C$269","v":0},{"$f":"Baseline_Data_2012!D121/Baseline_Data_2012!D$269","v":0},{"$f":"Baseline_Data_2012!E121/Baseline_Data_2012!E$269","v":0},{"$f":"Baseline_Data_2012!F121/Baseline_Data_2012!F$269","v":0},{"$f":"Baseline_Data_2012!G121/Baseline_Data_2012!G$269","v":0},{"$f":"Baseline_Data_2012!H121/Baseline_Data_2012!H$269","v":0},{"$f":"Baseline_Data_2012!I121/Baseline_Data_2012!I$269","v":0},{"$f":"Baseline_Data_2012!J121/Baseline_Data_2012!J$269","v":0},{"$f":"Baseline_Data_2012!K121/Baseline_Data_2012!K$269","v":0},{"$f":"Baseline_Data_2012!L121/Baseline_Data_2012!L$269","v":0},{"$f":"Baseline_Data_2012!M121/Baseline_Data_2012!M$269","v":0},{"$f":"Baseline_Data_2012!N121/Baseline_Data_2012!N$269","v":0},{"$f":"Baseline_Data_2012!O121/Baseline_Data_2012!O$269","v":0},{"$f":"Baseline_Data_2012!P121/Baseline_Data_2012!P$269","v":0},{"$f":"Baseline_Data_2012!Q121/Baseline_Data_2012!Q$269","v":0},{"$f":"Baseline_Data_2012!R121/Baseline_Data_2012!R$269","v":0},{"$f":"Baseline_Data_2012!S121/Baseline_Data_2012!S$269","v":0},{"$f":"Baseline_Data_2012!T121/Baseline_Data_2012!T$269","v":0},{"$f":"Baseline_Data_2012!U121/Baseline_Data_2012!U$269","v":0},{"$f":"Baseline_Data_2012!V121/Baseline_Data_2012!V$269","v":0},{"$f":"Baseline_Data_2012!W121/Baseline_Data_2012!W$269","v":0},{"$f":"Baseline_Data_2012!X121/Baseline_Data_2012!X$269","v":0},{"$f":"Baseline_Data_2012!Y121/Baseline_Data_2012!Y$269","v":0},{"$f":"Baseline_Data_2012!Z121/Baseline_Data_2012!Z$269","v":0},{"$f":"Baseline_Data_2012!AA121/Baseline_Data_2012!AA$269","v":0},{"$f":"Baseline_Data_2012!AB121/Baseline_Data_2012!AB$269","v":0},{"$f":"Baseline_Data_2012!AC121/Baseline_Data_2012!AC$269","v":0},{"$f":"Baseline_Data_2012!AD121/Baseline_Data_2012!AD$269","v":0},{"$f":"Baseline_Data_2012!AE121/Baseline_Data_2012!AE$269","v":0},{"$f":"Baseline_Data_2012!AF121/Baseline_Data_2012!AF$269","v":0},{"$f":"Baseline_Data_2012!AG121/Baseline_Data_2012!AG$269","v":0},{"$f":"Baseline_Data_2012!AH121/Baseline_Data_2012!AH$269","v":0},{"$f":"Baseline_Data_2012!AI121/Baseline_Data_2012!AI$269","v":0},{"$f":"Baseline_Data_2012!AJ121/Baseline_Data_2012!AJ$269","v":0},{"$f":"Baseline_Data_2012!AK121/Baseline_Data_2012!AK$269","v":0},{"$f":"Baseline_Data_2012!AL121/Baseline_Data_2012!AL$269","v":0},{"$f":"Baseline_Data_2012!AM121/Baseline_Data_2012!AM$269","v":0},{"$f":"Baseline_Data_2012!AN121/Baseline_Data_2012!AN$269","v":0},{"$f":"Baseline_Data_2012!AO121/Baseline_Data_2012!AO$269","v":0},{"$f":"Baseline_Data_2012!AP121/Baseline_Data_2012!AP$269","v":0},{"$f":"Baseline_Data_2012!AQ121/Baseline_Data_2012!AQ$269","v":0},{"$f":"Baseline_Data_2012!AR121/Baseline_Data_2012!AR$269","v":0},{"$f":"Baseline_Data_2012!AS121/Baseline_Data_2012!AS$269","v":0},{"$f":"Baseline_Data_2012!AT121/Baseline_Data_2012!AT$269","v":0},{"$f":"Baseline_Data_2012!AU121/Baseline_Data_2012!AU$269","v":0},{"$f":"Baseline_Data_2012!AV121/Baseline_Data_2012!AV$269","v":0},121]
[2,"Male 80-84",null,null,null,null,{"$f":"HLOOKUP('III Tool Overview'!$H$6,Targeting!$I$1:$BC$269,Targeting!BD122,FALSE)","v":0},null,{"$f":"Baseline_Data_2012!B122/Baseline_Data_2012!B$269","v":0},{"$f":"Baseline_Data_2012!C122/Baseline_Data_2012!C$269","v":0},{"$f":"Baseline_Data_2012!D122/Baseline_Data_2012!D$269","v":0},{"$f":"Baseline_Data_2012!E122/Baseline_Data_2012!E$269","v":0},{"$f":"Baseline_Data_2012!F122/Baseline_Data_2012!F$269","v":0},{"$f":"Baseline_Data_2012!G122/Baseline_Data_2012!G$269","v":0},{"$f":"Baseline_Data_2012!H122/Baseline_Data_2012!H$269","v":0},{"$f":"Baseline_Data_2012!I122/Baseline_Data_2012!I$269","v":0},{"$f":"Baseline_Data_2012!J122/Baseline_Data_2012!J$269","v":0},{"$f":"Baseline_Data_2012!K122/Baseline_Data_2012!K$269","v":0},{"$f":"Baseline_Data_2012!L122/Baseline_Data_2012!L$269","v":0},{"$f":"Baseline_Data_2012!M122/Baseline_Data_2012!M$269","v":0},{"$f":"Baseline_Data_2012!N122/Baseline_Data_2012!N$269","v":0},{"$f":"Baseline_Data_2012!O122/Baseline_Data_2012!O$269","v":0},{"$f":"Baseline_Data_2012!P122/Baseline_Data_2012!P$269","v":0},{"$f":"Baseline_Data_2012!Q122/Baseline_Data_2012!Q$269","v":0},{"$f":"Baseline_Data_2012!R122/Baseline_Data_2012!R$269","v":0},{"$f":"Baseline_Data_2012!S122/Baseline_Data_2012!S$269","v":0},{"$f":"Baseline_Data_2012!T122/Baseline_Data_2012!T$269","v":0},{"$f":"Baseline_Data_2012!U122/Baseline_Data_2012!U$269","v":0},{"$f":"Baseline_Data_2012!V122/Baseline_Data_2012!V$269","v":0},{"$f":"Baseline_Data_2012!W122/Baseline_Data_2012!W$269","v":0},{"$f":"Baseline_Data_2012!X122/Baseline_Data_2012!X$269","v":0},{"$f":"Baseline_Data_2012!Y122/Baseline_Data_2012!Y$269","v":0},{"$f":"Baseline_Data_2012!Z122/Baseline_Data_2012!Z$269","v":0},{"$f":"Baseline_Data_2012!AA122/Baseline_Data_2012!AA$269","v":0},{"$f":"Baseline_Data_2012!AB122/Baseline_Data_2012!AB$269","v":0},{"$f":"Baseline_Data_2012!AC122/Baseline_Data_2012!AC$269","v":0},{"$f":"Baseline_Data_2012!AD122/Baseline_Data_2012!AD$269","v":0},{"$f":"Baseline_Data_2012!AE122/Baseline_Data_2012!AE$269","v":0},{"$f":"Baseline_Data_2012!AF122/Baseline_Data_2012!AF$269","v":0},{"$f":"Baseline_Data_2012!AG122/Baseline_Data_2012!AG$269","v":0},{"$f":"Baseline_Data_2012!AH122/Baseline_Data_2012!AH$269","v":0},{"$f":"Baseline_Data_2012!AI122/Baseline_Data_2012!AI$269","v":0},{"$f":"Baseline_Data_2012!AJ122/Baseline_Data_2012!AJ$269","v":0},{"$f":"Baseline_Data_2012!AK122/Baseline_Data_2012!AK$269","v":0},{"$f":"Baseline_Data_2012!AL122/Baseline_Data_2012!AL$269","v":0},{"$f":"Baseline_Data_2012!AM122/Baseline_Data_2012!AM$269","v":0},{"$f":"Baseline_Data_2012!AN122/Baseline_Data_2012!AN$269","v":0},{"$f":"Baseline_Data_2012!AO122/Baseline_Data_2012!AO$269","v":0},{"$f":"Baseline_Data_2012!AP122/Baseline_Data_2012!AP$269","v":0},{"$f":"Baseline_Data_2012!AQ122/Baseline_Data_2012!AQ$269","v":0},{"$f":"Baseline_Data_2012!AR122/Baseline_Data_2012!AR$269","v":0},{"$f":"Baseline_Data_2012!AS122/Baseline_Data_2012!AS$269","v":0},{"$f":"Baseline_Data_2012!AT122/Baseline_Data_2012!AT$269","v":0},{"$f":"Baseline_Data_2012!AU122/Baseline_Data_2012!AU$269","v":0},{"$f":"Baseline_Data_2012!AV122/Baseline_Data_2012!AV$269","v":0},122]
[2,"Male 85+",null,null,null,null,{"$f":"HLOOKUP('III Tool Overview'!$H$6,Targeting!$I$1:$BC$269,Targeting!BD123,FALSE)","v":0},null,{"$f":"Baseline_Data_2012!B123/Baseline_Data_2012!B$269","v":0},{"$f":"Baseline_Data_2012!C123/Baseline_Data_2012!C$269","v":0},{"$f":"Baseline_Data_2012!D123/Baseline_Data_2012!D$269","v":0},{"$f":"Baseline_Data_2012!E123/Baseline_Data_2012!E$269","v":0},{"$f":"Baseline_Data_2012!F123/Baseline_Data_2012!F$269","v":0},{"$f":"Baseline_Data_2012!G123/Baseline_Data_2012!G$269","v":0},{"$f":"Baseline_Data_2012!H123/Baseline_Data_2012!H$269","v":0},{"$f":"Baseline_Data_2012!I123/Baseline_Data_2012!I$269","v":0},{"$f":"Baseline_Data_2012!J123/Baseline_Data_2012!J$269","v":0},{"$f":"Baseline_Data_2012!K123/Baseline_Data_2012!K$269","v":0},{"$f":"Baseline_Data_2012!L123/Baseline_Data_2012!L$269","v":0},{"$f":"Baseline_Data_2012!M123/Baseline_Data_2012!M$269","v":0},{"$f":"Baseline_Data_2012!N123/Baseline_Data_2012!N$269","v":0},{"$f":"Baseline_Data_2012!O123/Baseline_Data_2012!O$269","v":0},{"$f":"Baseline_Data_2012!P123/Baseline_Data_2012!P$269","v":0},{"$f":"Baseline_Data_2012!Q123/Baseline_Data_2012!Q$269","v":0},{"$f":"Baseline_Data_2012!R123/Baseline_Data_2012!R$269","v":0},{"$f":"Baseline_Data_2012!S123/Baseline_Data_2012!S$269","v":0},{"$f":"Baseline_Data_2012!T123/Baseline_Data_2012!T$269","v":0},{"$f":"Baseline_Data_2012!U123/Baseline_Data_2012!U$269","v":0},{"$f":"Baseline_Data_2012!V123/Baseline_Data_2012!V$269","v":0},{"$f":"Baseline_Data_2012!W123/Baseline_Data_2012!W$269","v":0},{"$f":"Baseline_Data_2012!X123/Baseline_Data_2012!X$269","v":0},{"$f":"Baseline_Data_2012!Y123/Baseline_Data_2012!Y$269","v":0},{"$f":"Baseline_Data_2012!Z123/Baseline_Data_2012!Z$269","v":0},{"$f":"Baseline_Data_2012!AA123/Baseline_Data_2012!AA$269","v":0},{"$f":"Baseline_Data_2012!AB123/Baseline_Data_2012!AB$269","v":0},{"$f":"Baseline_Data_2012!AC123/Baseline_Data_2012!AC$269","v":0},{"$f":"Baseline_Data_2012!AD123/Baseline_Data_2012!AD$269","v":0},{"$f":"Baseline_Data_2012!AE123/Baseline_Data_2012!AE$269","v":0},{"$f":"Baseline_Data_2012!AF123/Baseline_Data_2012!AF$269","v":0},{"$f":"Baseline_Data_2012!AG123/Baseline_Data_2012!AG$269","v":0},{"$f":"Baseline_Data_2012!AH123/Baseline_Data_2012!AH$269","v":0},{"$f":"Baseline_Data_2012!AI123/Baseline_Data_2012!AI$269","v":0},{"$f":"Baseline_Data_2012!AJ123/Baseline_Data_2012!AJ$269","v":0},{"$f":"Baseline_Data_2012!AK123/Baseline_Data_2012!AK$269","v":0},{"$f":"Baseline_Data_2012!AL123/Baseline_Data_2012!AL$269","v":0},{"$f":"Baseline_Data_2012!AM123/Baseline_Data_2012!AM$269","v":0},{"$f":"Baseline_Data_2012!AN123/Baseline_Data_2012!AN$269","v":0},{"$f":"Baseline_Data_2012!AO123/Baseline_Data_2012!AO$269","v":0},{"$f":"Baseline_Data_2012!AP123/Baseline_Data_2012!AP$269","v":0},{"$f":"Baseline_Data_2012!AQ123/Baseline_Data_2012!AQ$269","v":0},{"$f":"Baseline_Data_2012!AR123/Baseline_Data_2012!AR$269","v":0},{"$f":"Baseline_Data_2012!AS123/Baseline_Data_2012!AS$269","v":0},{"$f":"Baseline_Data_2012!AT123/Baseline_Data_2012!AT$269","v":0},{"$f":"Baseline_Data_2012!AU123/Baseline_Data_2012!AU$269","v":0},{"$f":"Baseline_Data_2012!AV123/Baseline_Data_2012!AV$269","v":0},123]
[null,"TOTAL",null,null,null,null,{"$f":"HLOOKUP('III Tool Overview'!$H$6,Targeting!$I$1:$BC$269,Targeting!BD124,FALSE)","v":0},null,{"$f":"Baseline_Data_2012!B124/Baseline_Data_2012!B$269","v":0},{"$f":"Baseline_Data_2012!C124/Baseline_Data_2012!C$269","v":0},{"$f":"Baseline_Data_2012!D124/Baseline_Data_2012!D$269","v":0},{"$f":"Baseline_Data_2012!E124/Baseline_Data_2012!E$269","v":0},{"$f":"Baseline_Data_2012!F124/Baseline_Data_2012!F$269","v":0},{"$f":"Baseline_Data_2012!G124/Baseline_Data_2012!G$269","v":0},{"$f":"Baseline_Data_2012!H124/Baseline_Data_2012!H$269","v":0},{"$f":"Baseline_Data_2012!I124/Baseline_Data_2012!I$269","v":0},{"$f":"Baseline_Data_2012!J124/Baseline_Data_2012!J$269","v":0},{"$f":"Baseline_Data_2012!K124/Baseline_Data_2012!K$269","v":0},{"$f":"Baseline_Data_2012!L124/Baseline_Data_2012!L$269","v":0},{"$f":"Baseline_Data_2012!M124/Baseline_Data_2012!M$269","v":0},{"$f":"Baseline_Data_2012!N124/Baseline_Data_2012!N$269","v":0},{"$f":"Baseline_Data_2012!O124/Baseline_Data_2012!O$269","v":0},{"$f":"Baseline_Data_2012!P124/Baseline_Data_2012!P$269","v":0},{"$f":"Baseline_Data_2012!Q124/Baseline_Data_2012!Q$269","v":0},{"$f":"Baseline_Data_2012!R124/Baseline_Data_2012!R$269","v":0},{"$f":"Baseline_Data_2012!S124/Baseline_Data_2012!S$269","v":0},{"$f":"Baseline_Data_2012!T124/Baseline_Data_2012!T$269","v":0},{"$f":"Baseline_Data_2012!U124/Baseline_Data_2012!U$269","v":0},{"$f":"Baseline_Data_2012!V124/Baseline_Data_2012!V$269","v":0},{"$f":"Baseline_Data_2012!W124/Baseline_Data_2012!W$269","v":0},{"$f":"Baseline_Data_2012!X124/Baseline_Data_2012!X$269","v":0},{"$f":"Baseline_Data_2012!Y124/Baseline_Data_2012!Y$269","v":0},{"$f":"Baseline_Data_2012!Z124/Baseline_Data_2012!Z$269","v":0},{"$f":"Baseline_Data_2012!AA124/Baseline_Data_2012!AA$269","v":0},{"$f":"Baseline_Data_2012!AB124/Baseline_Data_2012!AB$269","v":0},{"$f":"Baseline_Data_2012!AC124/Baseline_Data_2012!AC$269","v":0},{"$f":"Baseline_Data_2012!AD124/Baseline_Data_2012!AD$269","v":0},{"$f":"Baseline_Data_2012!AE124/Baseline_Data_2012!AE$269","v":0},{"$f":"Baseline_Data_2012!AF124/Baseline_Data_2012!AF$269","v":0},{"$f":"Baseline_Data_2012!AG124/Baseline_Data_2012!AG$269","v":0},{"$f":"Baseline_Data_2012!AH124/Baseline_Data_2012!AH$269","v":0},{"$f":"Baseline_Data_2012!AI124/Baseline_Data_2012!AI$269","v":0},{"$f":"Baseline_Data_2012!AJ124/Baseline_Data_2012!AJ$269","v":0},{"$f":"Baseline_Data_2012!AK124/Baseline_Data_2012!AK$269","v":0},{"$f":"Baseline_Data_2012!AL124/Baseline_Data_2012!AL$269","v":0},{"$f":"Baseline_Data_2012!AM124/Baseline_Data_2012!AM$269","v":0},{"$f":"Baseline_Data_2012!AN124/Baseline_Data_2012!AN$269","v":0},{"$f":"Baseline_Data_2012!AO124/Baseline_Data_2012!AO$269","v":0},{"$f":"Baseline_Data_2012!AP124/Baseline_Data_2012!AP$269","v":0},{"$f":"Baseline_Data_2012!AQ124/Baseline_Data_2012!AQ$269","v":0},{"$f":"Baseline_Data_2012!AR124/Baseline_Data_2012!AR$269","v":0},{"$f":"Baseline_Data_2012!AS124/Baseline_Data_2012!AS$269","v":0},{"$f":"Baseline_Data_2012!AT124/Baseline_Data_2012!AT$269","v":0},{"$f":"Baseline_Data_2012!AU124/Baseline_Data_2012!AU$269","v":0},{"$f":"Baseline_Data_2012!AV124/Baseline_Data_2012!AV$269","v":0},124]
[2,"Female <1",null,null,null,null,{"$f":"HLOOKUP('III Tool Overview'!$H$6,Targeting!$I$1:$BC$269,Targeting!BD125,FALSE)","v":0},null,{"$f":"Baseline_Data_2012!B125/Baseline_Data_2012!B$269","v":0},{"$f":"Baseline_Data_2012!C125/Baseline_Data_2012!C$269","v":0},{"$f":"Baseline_Data_2012!D125/Baseline_Data_2012!D$269","v":0},{"$f":"Baseline_Data_2012!E125/Baseline_Data_2012!E$269","v":0},{"$f":"Baseline_Data_2012!F125/Baseline_Data_2012!F$269","v":0},{"$f":"Baseline_Data_2012!G125/Baseline_Data_2012!G$269","v":0},{"$f":"Baseline_Data_2012!H125/Baseline_Data_2012!H$269","v":0},{"$f":"Baseline_Data_2012!I125/Baseline_Data_2012!I$269","v":0},{"$f":"Baseline_Data_2012!J125/Baseline_Data_2012!J$269","v":0},{"$f":"Baseline_Data_2012!K125/Baseline_Data_2012!K$269","v":0},{"$f":"Baseline_Data_2012!L125/Baseline_Data_2012!L$269","v":0},{"$f":"Baseline_Data_2012!M125/Baseline_Data_2012!M$269","v":0},{"$f":"Baseline_Data_2012!N125/Baseline_Data_2012!N$269","v":0},{"$f":"Baseline_Data_2012!O125/Baseline_Data_2012!O$269","v":0},{"$f":"Baseline_Data_2012!P125/Baseline_Data_2012!P$269","v":0},{"$f":"Baseline_Data_2012!Q125/Baseline_Data_2012!Q$269","v":0},{"$f":"Baseline_Data_2012!R125/Baseline_Data_2012!R$269","v":0},{"$f":"Baseline_Data_2012!S125/Baseline_Data_2012!S$269","v":0},{"$f":"Baseline_Data_2012!T125/Baseline_Data_2012!T$269","v":0},{"$f":"Baseline_Data_2012!U125/Baseline_Data_2012!U$269","v":0},{"$f":"Baseline_Data_2012!V125/Baseline_Data_2012!V$269","v":0},{"$f":"Baseline_Data_2012!W125/Baseline_Data_2012!W$269","v":0},{"$f":"Baseline_Data_2012!X125/Baseline_Data_2012!X$269","v":0},{"$f":"Baseline_Data_2012!Y125/Baseline_Data_2012!Y$269","v":0},{"$f":"Baseline_Data_2012!Z125/Baseline_Data_2012!Z$269","v":0},{"$f":"Baseline_Data_2012!AA125/Baseline_Data_2012!AA$269","v":0},{"$f":"Baseline_Data_2012!AB125/Baseline_Data_2012!AB$269","v":0},{"$f":"Baseline_Data_2012!AC125/Baseline_Data_2012!AC$269","v":0},{"$f":"Baseline_Data_2012!AD125/Baseline_Data_2012!AD$269","v":0},{"$f":"Baseline_Data_2012!AE125/Baseline_Data_2012!AE$269","v":0},{"$f":"Baseline_Data_2012!AF125/Baseline_Data_2012!AF$269","v":0},{"$f":"Baseline_Data_2012!AG125/Baseline_Data_2012!AG$269","v":0},{"$f":"Baseline_Data_2012!AH125/Baseline_Data_2012!AH$269","v":0},{"$f":"Baseline_Data_2012!AI125/Baseline_Data_2012!AI$269","v":0},{"$f":"Baseline_Data_2012!AJ125/Baseline_Data_2012!AJ$269","v":0},{"$f":"Baseline_Data_2012!AK125/Baseline_Data_2012!AK$269","v":0},{"$f":"Baseline_Data_2012!AL125/Baseline_Data_2012!AL$269","v":0},{"$f":"Baseline_Data_2012!AM125/Baseline_Data_2012!AM$269","v":0},{"$f":"Baseline_Data_2012!AN125/Baseline_Data_2012!AN$269","v":0},{"$f":"Baseline_Data_2012!AO125/Baseline_Data_2012!AO$269","v":0},{"$f":"Baseline_Data_2012!AP125/Baseline_Data_2012!AP$269","v":0},{"$f":"Baseline_Data_2012!AQ125/Baseline_Data_2012!AQ$269","v":0},{"$f":"Baseline_Data_2012!AR125/Baseline_Data_2012!AR$269","v":0},{"$f":"Baseline_Data_2012!AS125/Baseline_Data_2012!AS$269","v":0},{"$f":"Baseline_Data_2012!AT125/Baseline_Data_2012!AT$269","v":0},{"$f":"Baseline_Data_2012!AU125/Baseline_Data_2012!AU$269","v":0},{"$f":"Baseline_Data_2012!AV125/Baseline_Data_2012!AV$269","v":0},125]
[2,"Female 1-4",null,null,null,null,{"$f":"HLOOKUP('III Tool Overview'!$H$6,Targeting!$I$1:$BC$269,Targeting!BD126,FALSE)","v":0},null,{"$f":"Baseline_Data_2012!B126/Baseline_Data_2012!B$269","v":0},{"$f":"Baseline_Data_2012!C126/Baseline_Data_2012!C$269","v":0},{"$f":"Baseline_Data_2012!D126/Baseline_Data_2012!D$269","v":0},{"$f":"Baseline_Data_2012!E126/Baseline_Data_2012!E$269","v":0},{"$f":"Baseline_Data_2012!F126/Baseline_Data_2012!F$269","v":0},{"$f":"Baseline_Data_2012!G126/Baseline_Data_2012!G$269","v":0},{"$f":"Baseline_Data_2012!H126/Baseline_Data_2012!H$269","v":0},{"$f":"Baseline_Data_2012!I126/Baseline_Data_2012!I$269","v":0},{"$f":"Baseline_Data_2012!J126/Baseline_Data_2012!J$269","v":0},{"$f":"Baseline_Data_2012!K126/Baseline_Data_2012!K$269","v":0},{"$f":"Baseline_Data_2012!L126/Baseline_Data_2012!L$269","v":0},{"$f":"Baseline_Data_2012!M126/Baseline_Data_2012!M$269","v":0},{"$f":"Baseline_Data_2012!N126/Baseline_Data_2012!N$269","v":0},{"$f":"Baseline_Data_2012!O126/Baseline_Data_2012!O$269","v":0},{"$f":"Baseline_Data_2012!P126/Baseline_Data_2012!P$269","v":0},{"$f":"Baseline_Data_2012!Q126/Baseline_Data_2012!Q$269","v":0},{"$f":"Baseline_Data_2012!R126/Baseline_Data_2012!R$269","v":0},{"$f":"Baseline_Data_2012!S126/Baseline_Data_2012!S$269","v":0},{"$f":"Baseline_Data_2012!T126/Baseline_Data_2012!T$269","v":0},{"$f":"Baseline_Data_2012!U126/Baseline_Data_2012!U$269","v":0},{"$f":"Baseline_Data_2012!V126/Baseline_Data_2012!V$269","v":0},{"$f":"Baseline_Data_2012!W126/Baseline_Data_2012!W$269","v":0},{"$f":"Baseline_Data_2012!X126/Baseline_Data_2012!X$269","v":0},{"$f":"Baseline_Data_2012!Y126/Baseline_Data_2012!Y$269","v":0},{"$f":"Baseline_Data_2012!Z126/Baseline_Data_2012!Z$269","v":0},{"$f":"Baseline_Data_2012!AA126/Baseline_Data_2012!AA$269","v":0},{"$f":"Baseline_Data_2012!AB126/Baseline_Data_2012!AB$269","v":0},{"$f":"Baseline_Data_2012!AC126/Baseline_Data_2012!AC$269","v":0},{"$f":"Baseline_Data_2012!AD126/Baseline_Data_2012!AD$269","v":0},{"$f":"Baseline_Data_2012!AE126/Baseline_Data_2012!AE$269","v":0},{"$f":"Baseline_Data_2012!AF126/Baseline_Data_2012!AF$269","v":0},{"$f":"Baseline_Data_2012!AG126/Baseline_Data_2012!AG$269","v":0},{"$f":"Baseline_Data_2012!AH126/Baseline_Data_2012!AH$269","v":0},{"$f":"Baseline_Data_2012!AI126/Baseline_Data_2012!AI$269","v":0},{"$f":"Baseline_Data_2012!AJ126/Baseline_Data_2012!AJ$269","v":0},{"$f":"Baseline_Data_2012!AK126/Baseline_Data_2012!AK$269","v":0},{"$f":"Baseline_Data_2012!AL126/Baseline_Data_2012!AL$269","v":0},{"$f":"Baseline_Data_2012!AM126/Baseline_Data_2012!AM$269","v":0},{"$f":"Baseline_Data_2012!AN126/Baseline_Data_2012!AN$269","v":0},{"$f":"Baseline_Data_2012!AO126/Baseline_Data_2012!AO$269","v":0},{"$f":"Baseline_Data_2012!AP126/Baseline_Data_2012!AP$269","v":0},{"$f":"Baseline_Data_2012!AQ126/Baseline_Data_2012!AQ$269","v":0},{"$f":"Baseline_Data_2012!AR126/Baseline_Data_2012!AR$269","v":0},{"$f":"Baseline_Data_2012!AS126/Baseline_Data_2012!AS$269","v":0},{"$f":"Baseline_Data_2012!AT126/Baseline_Data_2012!AT$269","v":0},{"$f":"Baseline_Data_2012!AU126/Baseline_Data_2012!AU$269","v":0},{"$f":"Baseline_Data_2012!AV126/Baseline_Data_2012!AV$269","v":0},126]
[2,"Female 5-9",null,null,null,null,{"$f":"HLOOKUP('III Tool Overview'!$H$6,Targeting!$I$1:$BC$269,Targeting!BD127,FALSE)","v":0},null,{"$f":"Baseline_Data_2012!B127/Baseline_Data_2012!B$269","v":0},{"$f":"Baseline_Data_2012!C127/Baseline_Data_2012!C$269","v":0},{"$f":"Baseline_Data_2012!D127/Baseline_Data_2012!D$269","v":0},{"$f":"Baseline_Data_2012!E127/Baseline_Data_2012!E$269","v":0},{"$f":"Baseline_Data_2012!F127/Baseline_Data_2012!F$269","v":0},{"$f":"Baseline_Data_2012!G127/Baseline_Data_2012!G$269","v":0},{"$f":"Baseline_Data_2012!H127/Baseline_Data_2012!H$269","v":0},{"$f":"Baseline_Data_2012!I127/Baseline_Data_2012!I$269","v":0},{"$f":"Baseline_Data_2012!J127/Baseline_Data_2012!J$269","v":0},{"$f":"Baseline_Data_2012!K127/Baseline_Data_2012!K$269","v":0},{"$f":"Baseline_Data_2012!L127/Baseline_Data_2012!L$269","v":0},{"$f":"Baseline_Data_2012!M127/Baseline_Data_2012!M$269","v":0},{"$f":"Baseline_Data_2012!N127/Baseline_Data_2012!N$269","v":0},{"$f":"Baseline_Data_2012!O127/Baseline_Data_2012!O$269","v":0},{"$f":"Baseline_Data_2012!P127/Baseline_Data_2012!P$269","v":0},{"$f":"Baseline_Data_2012!Q127/Baseline_Data_2012!Q$269","v":0},{"$f":"Baseline_Data_2012!R127/Baseline_Data_2012!R$269","v":0},{"$f":"Baseline_Data_2012!S127/Baseline_Data_2012!S$269","v":0},{"$f":"Baseline_Data_2012!T127/Baseline_Data_2012!T$269","v":0},{"$f":"Baseline_Data_2012!U127/Baseline_Data_2012!U$269","v":0},{"$f":"Baseline_Data_2012!V127/Baseline_Data_2012!V$269","v":0},{"$f":"Baseline_Data_2012!W127/Baseline_Data_2012!W$269","v":0},{"$f":"Baseline_Data_2012!X127/Baseline_Data_2012!X$269","v":0},{"$f":"Baseline_Data_2012!Y127/Baseline_Data_2012!Y$269","v":0},{"$f":"Baseline_Data_2012!Z127/Baseline_Data_2012!Z$269","v":0},{"$f":"Baseline_Data_2012!AA127/Baseline_Data_2012!AA$269","v":0},{"$f":"Baseline_Data_2012!AB127/Baseline_Data_2012!AB$269","v":0},{"$f":"Baseline_Data_2012!AC127/Baseline_Data_2012!AC$269","v":0},{"$f":"Baseline_Data_2012!AD127/Baseline_Data_2012!AD$269","v":0},{"$f":"Baseline_Data_2012!AE127/Baseline_Data_2012!AE$269","v":0},{"$f":"Baseline_Data_2012!AF127/Baseline_Data_2012!AF$269","v":0},{"$f":"Baseline_Data_2012!AG127/Baseline_Data_2012!AG$269","v":0},{"$f":"Baseline_Data_2012!AH127/Baseline_Data_2012!AH$269","v":0},{"$f":"Baseline_Data_2012!AI127/Baseline_Data_2012!AI$269","v":0},{"$f":"Baseline_Data_2012!AJ127/Baseline_Data_2012!AJ$269","v":0},{"$f":"Baseline_Data_2012!AK127/Baseline_Data_2012!AK$269","v":0},{"$f":"Baseline_Data_2012!AL127/Baseline_Data_2012!AL$269","v":0},{"$f":"Baseline_Data_2012!AM127/Baseline_Data_2012!AM$269","v":0},{"$f":"Baseline_Data_2012!AN127/Baseline_Data_2012!AN$269","v":0},{"$f":"Baseline_Data_2012!AO127/Baseline_Data_2012!AO$269","v":0},{"$f":"Baseline_Data_2012!AP127/Baseline_Data_2012!AP$269","v":0},{"$f":"Baseline_Data_2012!AQ127/Baseline_Data_2012!AQ$269","v":0},{"$f":"Baseline_Data_2012!AR127/Baseline_Data_2012!AR$269","v":0},{"$f":"Baseline_Data_2012!AS127/Baseline_Data_2012!AS$269","v":0},{"$f":"Baseline_Data_2012!AT127/Baseline_Data_2012!AT$269","v":0},{"$f":"Baseline_Data_2012!AU127/Baseline_Data_2012!AU$269","v":0},{"$f":"Baseline_Data_2012!AV127/Baseline_Data_2012!AV$269","v":0},127]
[2,"Female 10-14",null,null,null,null,{"$f":"HLOOKUP('III Tool Overview'!$H$6,Targeting!$I$1:$BC$269,Targeting!BD128,FALSE)","v":0},null,{"$f":"Baseline_Data_2012!B128/Baseline_Data_2012!B$269","v":0},{"$f":"Baseline_Data_2012!C128/Baseline_Data_2012!C$269","v":0},{"$f":"Baseline_Data_2012!D128/Baseline_Data_2012!D$269","v":0},{"$f":"Baseline_Data_2012!E128/Baseline_Data_2012!E$269","v":0},{"$f":"Baseline_Data_2012!F128/Baseline_Data_2012!F$269","v":0},{"$f":"Baseline_Data_2012!G128/Baseline_Data_2012!G$269","v":0},{"$f":"Baseline_Data_2012!H128/Baseline_Data_2012!H$269","v":0},{"$f":"Baseline_Data_2012!I128/Baseline_Data_2012!I$269","v":0},{"$f":"Baseline_Data_2012!J128/Baseline_Data_2012!J$269","v":0},{"$f":"Baseline_Data_2012!K128/Baseline_Data_2012!K$269","v":0},{"$f":"Baseline_Data_2012!L128/Baseline_Data_2012!L$269","v":0},{"$f":"Baseline_Data_2012!M128/Baseline_Data_2012!M$269","v":0},{"$f":"Baseline_Data_2012!N128/Baseline_Data_2012!N$269","v":0},{"$f":"Baseline_Data_2012!O128/Baseline_Data_2012!O$269","v":0},{"$f":"Baseline_Data_2012!P128/Baseline_Data_2012!P$269","v":0},{"$f":"Baseline_Data_2012!Q128/Baseline_Data_2012!Q$269","v":0},{"$f":"Baseline_Data_2012!R128/Baseline_Data_2012!R$269","v":0},{"$f":"Baseline_Data_2012!S128/Baseline_Data_2012!S$269","v":0},{"$f":"Baseline_Data_2012!T128/Baseline_Data_2012!T$269","v":0},{"$f":"Baseline_Data_2012!U128/Baseline_Data_2012!U$269","v":0},{"$f":"Baseline_Data_2012!V128/Baseline_Data_2012!V$269","v":0},{"$f":"Baseline_Data_2012!W128/Baseline_Data_2012!W$269","v":0},{"$f":"Baseline_Data_2012!X128/Baseline_Data_2012!X$269","v":0},{"$f":"Baseline_Data_2012!Y128/Baseline_Data_2012!Y$269","v":0},{"$f":"Baseline_Data_2012!Z128/Baseline_Data_2012!Z$269","v":0},{"$f":"Baseline_Data_2012!AA128/Baseline_Data_2012!AA$269","v":0},{"$f":"Baseline_Data_2012!AB128/Baseline_Data_2012!AB$269","v":0},{"$f":"Baseline_Data_2012!AC128/Baseline_Data_2012!AC$269","v":0},{"$f":"Baseline_Data_2012!AD128/Baseline_Data_2012!AD$269","v":0},{"$f":"Baseline_Data_2012!AE128/Baseline_Data_2012!AE$269","v":0},{"$f":"Baseline_Data_2012!AF128/Baseline_Data_2012!AF$269","v":0},{"$f":"Baseline_Data_2012!AG128/Baseline_Data_2012!AG$269","v":0},{"$f":"Baseline_Data_2012!AH128/Baseline_Data_2012!AH$269","v":0},{"$f":"Baseline_Data_2012!AI128/Baseline_Data_2012!AI$269","v":0},{"$f":"Baseline_Data_2012!AJ128/Baseline_Data_2012!AJ$269","v":0},{"$f":"Baseline_Data_2012!AK128/Baseline_Data_2012!AK$269","v":0},{"$f":"Baseline_Data_2012!AL128/Baseline_Data_2012!AL$269","v":0},{"$f":"Baseline_Data_2012!AM128/Baseline_Data_2012!AM$269","v":0},{"$f":"Baseline_Data_2012!AN128/Baseline_Data_2012!AN$269","v":0},{"$f":"Baseline_Data_2012!AO128/Baseline_Data_2012!AO$269","v":0},{"$f":"Baseline_Data_2012!AP128/Baseline_Data_2012!AP$269","v":0},{"$f":"Baseline_Data_2012!AQ128/Baseline_Data_2012!AQ$269","v":0},{"$f":"Baseline_Data_2012!AR128/Baseline_Data_2012!AR$269","v":0},{"$f":"Baseline_Data_2012!AS128/Baseline_Data_2012!AS$269","v":0},{"$f":"Baseline_Data_2012!AT128/Baseline_Data_2012!AT$269","v":0},{"$f":"Baseline_Data_2012!AU128/Baseline_Data_2012!AU$269","v":0},{"$f":"Baseline_Data_2012!AV128/Baseline_Data_2012!AV$269","v":0},128]
[2,"Female 15-19",{"$f":"'III Tool Overview'!$H$8/110","v":1.3090909090909091},0,{"$f":"'III Tool Overview'!$H$8/44","v":3.2727272727272729},{"$f":"G129*'III Tool Overview'!$H$8","v":0.44218605806568934},{"$f":"HLOOKUP('III Tool Overview'!$H$6,Targeting!$I$1:$BC$269,Targeting!BD129,FALSE)","v":3.0707365143450649E-3},{"$f":"Baseline_Data_2012!B129","v":2682.46},{"$f":"Baseline_Data_2012!B129/Baseline_Data_2012!B$269","v":2.4760513800922367E-3},{"$f":"Baseline_Data_2012!C129/Baseline_Data_2012!C$269","v":3.0565276886413517E-3},{"$f":"Baseline_Data_2012!D129/Baseline_Data_2012!D$269","v":1.6003382810604943E-3},{"$f":"Baseline_Data_2012!E129/Baseline_Data_2012!E$269","v":2.3914865310789993E-3},{"$f":"Baseline_Data_2012!F129/Baseline_Data_2012!F$269","v":2.4975484427156597E-3},{"$f":"Baseline_Data_2012!G129/Baseline_Data_2012!G$269","v":2.971121999581093E-3},{"$f":"Baseline_Data_2012!H129/Baseline_Data_2012!H$269","v":1.840908449308951E-3},{"$f":"Baseline_Data_2012!I129/Baseline_Data_2012!I$269","v":2.0339026058542702E-3},{"$f":"Baseline_Data_2012!J129/Baseline_Data_2012!J$269","v":2.3869463926724996E-3},{"$f":"Baseline_Data_2012!K129/Baseline_Data_2012!K$269","v":3.0777268613273166E-3},{"$f":"Baseline_Data_2012!L129/Baseline_Data_2012!L$269","v":2.8526597643485905E-3},{"$f":"Baseline_Data_2012!M129/Baseline_Data_2012!M$269","v":3.0707365143450649E-3},{"$f":"Baseline_Data_2012!N129/Baseline_Data_2012!N$269","v":3.0739102433913353E-4},{"$f":"Baseline_Data_2012!O129/Baseline_Data_2012!O$269","v":2.428754981207407E-3},{"$f":"Baseline_Data_2012!P129/Baseline_Data_2012!P$269","v":3.9697107912666021E-3},{"$f":"Baseline_Data_2012!Q129/Baseline_Data_2012!Q$269","v":2.638789079011833E-3},{"$f":"Baseline_Data_2012!R129/Baseline_Data_2012!R$269","v":1.0758294797607959E-3},{"$f":"Baseline_Data_2012!S129/Baseline_Data_2012!S$269","v":2.6002558433979982E-3},{"$f":"Baseline_Data_2012!T129/Baseline_Data_2012!T$269","v":1.8255305543406805E-3},{"$f":"Baseline_Data_2012!U129/Baseline_Data_2012!U$269","v":1.944599733811912E-3},{"$f":"Baseline_Data_2012!V129/Baseline_Data_2012!V$269","v":2.3750013709169446E-3},{"$f":"Baseline_Data_2012!W129/Baseline_Data_2012!W$269","v":2.8760707142440126E-3},{"$f":"Baseline_Data_2012!X129/Baseline_Data_2012!X$269","v":3.3636784519790949E-3},{"$f":"Baseline_Data_2012!Y129/Baseline_Data_2012!Y$269","v":2.2452439049663697E-3},{"$f":"Baseline_Data_2012!Z129/Baseline_Data_2012!Z$269","v":2.9059797265004279E-3},{"$f":"Baseline_Data_2012!AA129/Baseline_Data_2012!AA$269","v":1.5735252978671555E-3},{"$f":"Baseline_Data_2012!AB129/Baseline_Data_2012!AB$269","v":2.1545803084554479E-3},{"$f":"Baseline_Data_2012!AC129/Baseline_Data_2012!AC$269","v":3.9697107912666021E-3},{"$f":"Baseline_Data_2012!AD129/Baseline_Data_2012!AD$269","v":3.3834984242413811E-3},{"$f":"Baseline_Data_2012!AE129/Baseline_Data_2012!AE$269","v":2.5016232346188913E-3},{"$f":"Baseline_Data_2012!AF129/Baseline_Data_2012!AF$269","v":2.0937870494438888E-3},{"$f":"Baseline_Data_2012!AG129/Baseline_Data_2012!AG$269","v":2.6282577436195671E-3},{"$f":"Baseline_Data_2012!AH129/Baseline_Data_2012!AH$269","v":1.4001267928483454E-3},{"$f":"Baseline_Data_2012!AI129/Baseline_Data_2012!AI$269","v":3.5603777724150191E-3},{"$f":"Baseline_Data_2012!AJ129/Baseline_Data_2012!AJ$269","v":1.8124630085437651E-3},{"$f":"Baseline_Data_2012!AK129/Baseline_Data_2012!AK$269","v":2.7291139342566994E-3},{"$f":"Baseline_Data_2012!AL129/Baseline_Data_2012!AL$269","v":3.1215722207434873E-3},{"$f":"Baseline_Data_2012!AM129/Baseline_Data_2012!AM$269","v":3.0707365143450649E-3},{"$f":"Baseline_Data_2012!AN129/Baseline_Data_2012!AN$269","v":1.6740363614369431E-3},{"$f":"Baseline_Data_2012!AO129/Baseline_Data_2012!AO$269","v":1.7279205629978738E-3},{"$f":"Baseline_Data_2012!AP129/Baseline_Data_2012!AP$269","v":1.5949354194449254E-3},{"$f":"Baseline_Data_2012!AQ129/Baseline_Data_2012!AQ$269","v":3.0739102433913353E-4},{"$f":"Baseline_Data_2012!AR129/Baseline_Data_2012!AR$269","v":3.0858093366069946E-3},{"$f":"Baseline_Data_2012!AS129/Baseline_Data_2012!AS$269","v":2.6861586726600988E-3},{"$f":"Baseline_Data_2012!AT129/Baseline_Data_2012!AT$269","v":2.8650587659957358E-3},{"$f":"Baseline_Data_2012!AU129/Baseline_Data_2012!AU$269","v":3.1562164649739655E-3},{"$f":"Baseline_Data_2012!AV129/Baseline_Data_2012!AV$269","v":4.0978274913431867E-3},129]
[2,"Female 20-24",{"$f":"'III Tool Overview'!$H$8/110","v":1.3090909090909091},0,{"$f":"'III Tool Overview'!$H$8/44","v":3.2727272727272729},{"$f":"G130*'III Tool Overview'!$H$8","v":0.87512285023459035},{"$f":"HLOOKUP('III Tool Overview'!$H$6,Targeting!$I$1:$BC$269,Targeting!BD130,FALSE)","v":6.0772420155179889E-3},{"$f":"Baseline_Data_2012!B130","v":7758.2000000000007},{"$f":"Baseline_Data_2012!B130/Baseline_Data_2012!B$269","v":7.1612258214592541E-3},{"$f":"Baseline_Data_2012!C130/Baseline_Data_2012!C$269","v":7.3011727233376492E-3},{"$f":"Baseline_Data_2012!D130/Baseline_Data_2012!D$269","v":5.5165087864488494E-3},{"$f":"Baseline_Data_2012!E130/Baseline_Data_2012!E$269","v":5.3633389279025253E-3},{"$f":"Baseline_Data_2012!F130/Baseline_Data_2012!F$269","v":6.3953254787108447E-3},{"$f":"Baseline_Data_2012!G130/Baseline_Data_2012!G$269","v":8.0653865846724206E-3},{"$f":"Baseline_Data_2012!H130/Baseline_Data_2012!H$269","v":6.8897260521323164E-3},{"$f":"Baseline_Data_2012!I130/Baseline_Data_2012!I$269","v":6.4049646249504516E-3},{"$f":"Baseline_Data_2012!J130/Baseline_Data_2012!J$269","v":5.1893610115630638E-3},{"$f":"Baseline_Data_2012!K130/Baseline_Data_2012!K$269","v":7.6661043328041653E-3},{"$f":"Baseline_Data_2012!L130/Baseline_Data_2012!L$269","v":9.2935884101018069E-3},{"$f":"Baseline_Data_2012!M130/Baseline_Data_2012!M$269","v":6.0772420155179889E-3},{"$f":"Baseline_Data_2012!N130/Baseline_Data_2012!N$269","v":1.6258698808020286E-3},{"$f":"Baseline_Data_2012!O130/Baseline_Data_2012!O$269","v":8.2951213386672357E-3},{"$f":"Baseline_Data_2012!P130/Baseline_Data_2012!P$269","v":7.3571275973408259E-3},{"$f":"Baseline_Data_2012!Q130/Baseline_Data_2012!Q$269","v":1.2408279730406972E-2},{"$f":"Baseline_Data_2012!R130/Baseline_Data_2012!R$269","v":2.6632422086386139E-3},{"$f":"Baseline_Data_2012!S130/Baseline_Data_2012!S$269","v":5.2240197757870378E-3},{"$f":"Baseline_Data_2012!T130/Baseline_Data_2012!T$269","v":4.3470111733860195E-3},{"$f":"Baseline_Data_2012!U130/Baseline_Data_2012!U$269","v":5.0584097486196461E-3},{"$f":"Baseline_Data_2012!V130/Baseline_Data_2012!V$269","v":5.3263679895004749E-3},{"$f":"Baseline_Data_2012!W130/Baseline_Data_2012!W$269","v":1.2867013971302545E-2},{"$f":"Baseline_Data_2012!X130/Baseline_Data_2012!X$269","v":8.0167254459275281E-3},{"$f":"Baseline_Data_2012!Y130/Baseline_Data_2012!Y$269","v":5.9519998035888495E-3},{"$f":"Baseline_Data_2012!Z130/Baseline_Data_2012!Z$269","v":7.4509535844593539E-3},{"$f":"Baseline_Data_2012!AA130/Baseline_Data_2012!AA$269","v":3.3658295141543435E-3},{"$f":"Baseline_Data_2012!AB130/Baseline_Data_2012!AB$269","v":9.6288874740828624E-3},{"$f":"Baseline_Data_2012!AC130/Baseline_Data_2012!AC$269","v":7.3571275973408259E-3},{"$f":"Baseline_Data_2012!AD130/Baseline_Data_2012!AD$269","v":8.0059552625853046E-3},{"$f":"Baseline_Data_2012!AE130/Baseline_Data_2012!AE$269","v":6.4057595588005358E-3},{"$f":"Baseline_Data_2012!AF130/Baseline_Data_2012!AF$269","v":7.6832144589059018E-3},{"$f":"Baseline_Data_2012!AG130/Baseline_Data_2012!AG$269","v":5.5530742516201621E-3},{"$f":"Baseline_Data_2012!AH130/Baseline_Data_2012!AH$269","v":3.5758455763583497E-3},{"$f":"Baseline_Data_2012!AI130/Baseline_Data_2012!AI$269","v":8.8657628324958979E-3},{"$f":"Baseline_Data_2012!AJ130/Baseline_Data_2012!AJ$269","v":4.1896745449271217E-3},{"$f":"Baseline_Data_2012!AK130/Baseline_Data_2012!AK$269","v":6.2089591627224952E-3},{"$f":"Baseline_Data_2012!AL130/Baseline_Data_2012!AL$269","v":7.9967153975074017E-3},{"$f":"Baseline_Data_2012!AM130/Baseline_Data_2012!AM$269","v":6.0772420155179889E-3},{"$f":"Baseline_Data_2012!AN130/Baseline_Data_2012!AN$269","v":4.9202709187825397E-3},{"$f":"Baseline_Data_2012!AO130/Baseline_Data_2012!AO$269","v":4.6315396533963627E-3},{"$f":"Baseline_Data_2012!AP130/Baseline_Data_2012!AP$269","v":5.497884640587326E-3},{"$f":"Baseline_Data_2012!AQ130/Baseline_Data_2012!AQ$269","v":1.6258698808020286E-3},{"$f":"Baseline_Data_2012!AR130/Baseline_Data_2012!AR$269","v":7.7847571600377016E-3},{"$f":"Baseline_Data_2012!AS130/Baseline_Data_2012!AS$269","v":6.4263721428703948E-3},{"$f":"Baseline_Data_2012!AT130/Baseline_Data_2012!AT$269","v":1.0172568202861264E-2},{"$f":"Baseline_Data_2012!AU130/Baseline_Data_2012!AU$269","v":7.8716642697018151E-3},{"$f":"Baseline_Data_2012!AV130/Baseline_Data_2012!AV$269","v":9.5403241993314031E-3},130]
[2,"Female 25-29",{"$f":"'III Tool Overview'!$H$8/110","v":1.3090909090909091},0,{"$f":"'III Tool Overview'!$H$8/44","v":3.2727272727272729},{"$f":"G131*'III Tool Overview'!$H$8","v":1.1284104394081793},{"$f":"HLOOKUP('III Tool Overview'!$H$6,Targeting!$I$1:$BC$269,Targeting!BD131,FALSE)","v":7.8361836070012444E-3},{"$f":"Baseline_Data_2012!B131","v":9997.7800000000007},{"$f":"Baseline_Data_2012!B131/Baseline_Data_2012!B$269","v":9.2284757151489902E-3},{"$f":"Baseline_Data_2012!C131/Baseline_Data_2012!C$269","v":9.195692902762764E-3},{"$f":"Baseline_Data_2012!D131/Baseline_Data_2012!D$269","v":6.0020717062544138E-3},{"$f":"Baseline_Data_2012!E131/Baseline_Data_2012!E$269","v":7.3539510385436562E-3},{"$f":"Baseline_Data_2012!F131/Baseline_Data_2012!F$269","v":8.3378924229238795E-3},{"$f":"Baseline_Data_2012!G131/Baseline_Data_2012!G$269","v":9.9441433703383979E-3},{"$f":"Baseline_Data_2012!H131/Baseline_Data_2012!H$269","v":8.4676475801114173E-3},{"$f":"Baseline_Data_2012!I131/Baseline_Data_2012!I$269","v":8.3131817414377387E-3},{"$f":"Baseline_Data_2012!J131/Baseline_Data_2012!J$269","v":7.5432551664080692E-3},{"$f":"Baseline_Data_2012!K131/Baseline_Data_2012!K$269","v":1.0927117241885326E-2},{"$f":"Baseline_Data_2012!L131/Baseline_Data_2012!L$269","v":1.2090329351472232E-2},{"$f":"Baseline_Data_2012!M131/Baseline_Data_2012!M$269","v":7.8361836070012444E-3},{"$f":"Baseline_Data_2012!N131/Baseline_Data_2012!N$269","v":1.5852231337819781E-3},{"$f":"Baseline_Data_2012!O131/Baseline_Data_2012!O$269","v":9.0860570850260017E-3},{"$f":"Baseline_Data_2012!P131/Baseline_Data_2012!P$269","v":9.5642658765430731E-3},{"$f":"Baseline_Data_2012!Q131/Baseline_Data_2012!Q$269","v":1.4585097398603315E-2},{"$f":"Baseline_Data_2012!R131/Baseline_Data_2012!R$269","v":3.6578202311867061E-3},{"$f":"Baseline_Data_2012!S131/Baseline_Data_2012!S$269","v":7.9910089170289068E-3},{"$f":"Baseline_Data_2012!T131/Baseline_Data_2012!T$269","v":5.6650335266959185E-3},{"$f":"Baseline_Data_2012!U131/Baseline_Data_2012!U$269","v":6.1208508273089615E-3},{"$f":"Baseline_Data_2012!V131/Baseline_Data_2012!V$269","v":7.3032582752272767E-3},{"$f":"Baseline_Data_2012!W131/Baseline_Data_2012!W$269","v":1.1030693168181154E-2},{"$f":"Baseline_Data_2012!X131/Baseline_Data_2012!X$269","v":1.0338443179423947E-2},{"$f":"Baseline_Data_2012!Y131/Baseline_Data_2012!Y$269","v":7.2919788169622558E-3},{"$f":"Baseline_Data_2012!Z131/Baseline_Data_2012!Z$269","v":9.2937436967373624E-3},{"$f":"Baseline_Data_2012!AA131/Baseline_Data_2012!AA$269","v":3.8202164985651796E-3},{"$f":"Baseline_Data_2012!AB131/Baseline_Data_2012!AB$269","v":1.2236403964639759E-2},{"$f":"Baseline_Data_2012!AC131/Baseline_Data_2012!AC$269","v":9.5642658765430731E-3},{"$f":"Baseline_Data_2012!AD131/Baseline_Data_2012!AD$269","v":1.1213862950239311E-2},{"$f":"Baseline_Data_2012!AE131/Baseline_Data_2012!AE$269","v":8.3514958333538291E-3},{"$f":"Baseline_Data_2012!AF131/Baseline_Data_2012!AF$269","v":1.0031511459469551E-2},{"$f":"Baseline_Data_2012!AG131/Baseline_Data_2012!AG$269","v":8.3501108311892988E-3},{"$f":"Baseline_Data_2012!AH131/Baseline_Data_2012!AH$269","v":4.8546313489563082E-3},{"$f":"Baseline_Data_2012!AI131/Baseline_Data_2012!AI$269","v":1.0382089729641029E-2},{"$f":"Baseline_Data_2012!AJ131/Baseline_Data_2012!AJ$269","v":5.7650901779026419E-3},{"$f":"Baseline_Data_2012!AK131/Baseline_Data_2012!AK$269","v":7.7708401943390225E-3},{"$f":"Baseline_Data_2012!AL131/Baseline_Data_2012!AL$269","v":1.1438310462027706E-2},{"$f":"Baseline_Data_2012!AM131/Baseline_Data_2012!AM$269","v":7.8361836070012444E-3},{"$f":"Baseline_Data_2012!AN131/Baseline_Data_2012!AN$269","v":7.4277020056101681E-3},{"$f":"Baseline_Data_2012!AO131/Baseline_Data_2012!AO$269","v":5.9578441905053219E-3},{"$f":"Baseline_Data_2012!AP131/Baseline_Data_2012!AP$269","v":5.9818082636939303E-3},{"$f":"Baseline_Data_2012!AQ131/Baseline_Data_2012!AQ$269","v":1.5852231337819781E-3},{"$f":"Baseline_Data_2012!AR131/Baseline_Data_2012!AR$269","v":9.5908859655778299E-3},{"$f":"Baseline_Data_2012!AS131/Baseline_Data_2012!AS$269","v":9.0252336078990268E-3},{"$f":"Baseline_Data_2012!AT131/Baseline_Data_2012!AT$269","v":1.005901939783508E-2},{"$f":"Baseline_Data_2012!AU131/Baseline_Data_2012!AU$269","v":1.0343593373100984E-2},{"$f":"Baseline_Data_2012!AV131/Baseline_Data_2012!AV$269","v":1.3915100118738566E-2},131]
[2,"Female 30-34",{"$f":"'III Tool Overview'!$H$8/110","v":1.3090909090909091},0,{"$f":"'III Tool Overview'!$H$8/44","v":3.2727272727272729},{"$f":"G132*'III Tool Overview'!$H$8","v":1.0259570325514469},{"$f":"HLOOKUP('III Tool Overview'!$H$6,Targeting!$I$1:$BC$269,Targeting!BD132,FALSE)","v":7.1247016149406026E-3},{"$f":"Baseline_Data_2012!B132","v":9966.880000000001},{"$f":"Baseline_Data_2012!B132/Baseline_Data_2012!B$269","v":9.199953393233715E-3},{"$f":"Baseline_Data_2012!C132/Baseline_Data_2012!C$269","v":1.0224995369697865E-2},{"$f":"Baseline_Data_2012!D132/Baseline_Data_2012!D$269","v":5.6156407247078309E-3},{"$f":"Baseline_Data_2012!E132/Baseline_Data_2012!E$269","v":8.0994368028667121E-3},{"$f":"Baseline_Data_2012!F132/Baseline_Data_2012!F$269","v":8.7948895277658607E-3},{"$f":"Baseline_Data_2012!G132/Baseline_Data_2012!G$269","v":1.1085156427788194E-2},{"$f":"Baseline_Data_2012!H132/Baseline_Data_2012!H$269","v":6.98578268925643E-3},{"$f":"Baseline_Data_2012!I132/Baseline_Data_2012!I$269","v":8.2420802896635541E-3},{"$f":"Baseline_Data_2012!J132/Baseline_Data_2012!J$269","v":7.7345429969266086E-3},{"$f":"Baseline_Data_2012!K132/Baseline_Data_2012!K$269","v":1.158243296251691E-2},{"$f":"Baseline_Data_2012!L132/Baseline_Data_2012!L$269","v":1.1628182607097262E-2},{"$f":"Baseline_Data_2012!M132/Baseline_Data_2012!M$269","v":7.1247016149406026E-3},{"$f":"Baseline_Data_2012!N132/Baseline_Data_2012!N$269","v":9.2471349470615383E-4},{"$f":"Baseline_Data_2012!O132/Baseline_Data_2012!O$269","v":7.7320498439858963E-3},{"$f":"Baseline_Data_2012!P132/Baseline_Data_2012!P$269","v":1.1910875768965053E-2},{"$f":"Baseline_Data_2012!Q132/Baseline_Data_2012!Q$269","v":1.1417293438725674E-2},{"$f":"Baseline_Data_2012!R132/Baseline_Data_2012!R$269","v":3.5389523585977515E-3},{"$f":"Baseline_Data_2012!S132/Baseline_Data_2012!S$269","v":8.1790736289572407E-3},{"$f":"Baseline_Data_2012!T132/Baseline_Data_2012!T$269","v":5.8010114624151366E-3},{"$f":"Baseline_Data_2012!U132/Baseline_Data_2012!U$269","v":7.2778089047614144E-3},{"$f":"Baseline_Data_2012!V132/Baseline_Data_2012!V$269","v":8.0436052055808775E-3},{"$f":"Baseline_Data_2012!W132/Baseline_Data_2012!W$269","v":8.1578145413003407E-3},{"$f":"Baseline_Data_2012!X132/Baseline_Data_2012!X$269","v":1.184140120929544E-2},{"$f":"Baseline_Data_2012!Y132/Baseline_Data_2012!Y$269","v":7.7947306328325873E-3},{"$f":"Baseline_Data_2012!Z132/Baseline_Data_2012!Z$269","v":9.3293271219598156E-3},{"$f":"Baseline_Data_2012!AA132/Baseline_Data_2012!AA$269","v":4.621542832896541E-3},{"$f":"Baseline_Data_2012!AB132/Baseline_Data_2012!AB$269","v":1.0944687972710726E-2},{"$f":"Baseline_Data_2012!AC132/Baseline_Data_2012!AC$269","v":1.1910875768965053E-2},{"$f":"Baseline_Data_2012!AD132/Baseline_Data_2012!AD$269","v":1.2497639978925343E-2},{"$f":"Baseline_Data_2012!AE132/Baseline_Data_2012!AE$269","v":8.8092385365877227E-3},{"$f":"Baseline_Data_2012!AF132/Baseline_Data_2012!AF$269","v":9.4420761347479912E-3},{"$f":"Baseline_Data_2012!AG132/Baseline_Data_2012!AG$269","v":8.5651273239509673E-3},{"$f":"Baseline_Data_2012!AH132/Baseline_Data_2012!AH$269","v":4.5208197259001409E-3},{"$f":"Baseline_Data_2012!AI132/Baseline_Data_2012!AI$269","v":1.1935943665230589E-2},{"$f":"Baseline_Data_2012!AJ132/Baseline_Data_2012!AJ$269","v":4.9222550647711047E-3},{"$f":"Baseline_Data_2012!AK132/Baseline_Data_2012!AK$269","v":8.1256378607803079E-3},{"$f":"Baseline_Data_2012!AL132/Baseline_Data_2012!AL$269","v":1.2361364302993604E-2},{"$f":"Baseline_Data_2012!AM132/Baseline_Data_2012!AM$269","v":7.1247016149406026E-3},{"$f":"Baseline_Data_2012!AN132/Baseline_Data_2012!AN$269","v":6.7281844191724033E-3},{"$f":"Baseline_Data_2012!AO132/Baseline_Data_2012!AO$269","v":6.4388117698964817E-3},{"$f":"Baseline_Data_2012!AP132/Baseline_Data_2012!AP$269","v":5.5966819020155179E-3},{"$f":"Baseline_Data_2012!AQ132/Baseline_Data_2012!AQ$269","v":9.2471349470615383E-4},{"$f":"Baseline_Data_2012!AR132/Baseline_Data_2012!AR$269","v":1.0921460568036155E-2},{"$f":"Baseline_Data_2012!AS132/Baseline_Data_2012!AS$269","v":9.4056842762929149E-3},{"$f":"Baseline_Data_2012!AT132/Baseline_Data_2012!AT$269","v":1.0914732557362306E-2},{"$f":"Baseline_Data_2012!AU132/Baseline_Data_2012!AU$269","v":1.1231751176193239E-2},{"$f":"Baseline_Data_2012!AV132/Baseline_Data_2012!AV$269","v":1.4170973157314285E-2},132]
[2,"Female 35-39",{"$f":"'III Tool Overview'!$H$8/110","v":1.3090909090909091},0,{"$f":"'III Tool Overview'!$H$8/44","v":3.2727272727272729},{"$f":"G133*'III Tool Overview'!$H$8","v":1.3411435550343116},{"$f":"HLOOKUP('III Tool Overview'!$H$6,Targeting!$I$1:$BC$269,Targeting!BD133,FALSE)","v":9.3134969099604968E-3},{"$f":"Baseline_Data_2012!B133","v":9180.5300000000007},{"$f":"Baseline_Data_2012!B133/Baseline_Data_2012!B$269","v":8.4741110683768557E-3},{"$f":"Baseline_Data_2012!C133/Baseline_Data_2012!C$269","v":9.9962348726247863E-3},{"$f":"Baseline_Data_2012!D133/Baseline_Data_2012!D$269","v":5.5233929488279453E-3},{"$f":"Baseline_Data_2012!E133/Baseline_Data_2012!E$269","v":7.4753447417578696E-3},{"$f":"Baseline_Data_2012!F133/Baseline_Data_2012!F$269","v":8.5742929425755669E-3},{"$f":"Baseline_Data_2012!G133/Baseline_Data_2012!G$269","v":1.0920539987544577E-2},{"$f":"Baseline_Data_2012!H133/Baseline_Data_2012!H$269","v":6.0550746311036404E-3},{"$f":"Baseline_Data_2012!I133/Baseline_Data_2012!I$269","v":7.1226882027571516E-3},{"$f":"Baseline_Data_2012!J133/Baseline_Data_2012!J$269","v":8.2700850533199179E-3},{"$f":"Baseline_Data_2012!K133/Baseline_Data_2012!K$269","v":1.1291899282574191E-2},{"$f":"Baseline_Data_2012!L133/Baseline_Data_2012!L$269","v":1.0249806947965625E-2},{"$f":"Baseline_Data_2012!M133/Baseline_Data_2012!M$269","v":9.3134969099604968E-3},{"$f":"Baseline_Data_2012!N133/Baseline_Data_2012!N$269","v":1.5471168084506806E-3},{"$f":"Baseline_Data_2012!O133/Baseline_Data_2012!O$269","v":6.1008197436494853E-3},{"$f":"Baseline_Data_2012!P133/Baseline_Data_2012!P$269","v":1.400469336242627E-2},{"$f":"Baseline_Data_2012!Q133/Baseline_Data_2012!Q$269","v":8.8630943629413941E-3},{"$f":"Baseline_Data_2012!R133/Baseline_Data_2012!R$269","v":3.6144359654527625E-3},{"$f":"Baseline_Data_2012!S133/Baseline_Data_2012!S$269","v":7.6379522471819658E-3},{"$f":"Baseline_Data_2012!T133/Baseline_Data_2012!T$269","v":7.1415183562770325E-3},{"$f":"Baseline_Data_2012!U133/Baseline_Data_2012!U$269","v":7.1824167486023256E-3},{"$f":"Baseline_Data_2012!V133/Baseline_Data_2012!V$269","v":7.4238151789805086E-3},{"$f":"Baseline_Data_2012!W133/Baseline_Data_2012!W$269","v":5.6299715394055178E-3},{"$f":"Baseline_Data_2012!X133/Baseline_Data_2012!X$269","v":1.1015165873593941E-2},{"$f":"Baseline_Data_2012!Y133/Baseline_Data_2012!Y$269","v":8.1484227677578944E-3},{"$f":"Baseline_Data_2012!Z133/Baseline_Data_2012!Z$269","v":9.3185442658317991E-3},{"$f":"Baseline_Data_2012!AA133/Baseline_Data_2012!AA$269","v":4.4674914051333232E-3},{"$f":"Baseline_Data_2012!AB133/Baseline_Data_2012!AB$269","v":8.3671542353911475E-3},{"$f":"Baseline_Data_2012!AC133/Baseline_Data_2012!AC$269","v":1.400469336242627E-2},{"$f":"Baseline_Data_2012!AD133/Baseline_Data_2012!AD$269","v":1.2552281851499739E-2},{"$f":"Baseline_Data_2012!AE133/Baseline_Data_2012!AE$269","v":8.5882820443926883E-3},{"$f":"Baseline_Data_2012!AF133/Baseline_Data_2012!AF$269","v":7.2559294031787876E-3},{"$f":"Baseline_Data_2012!AG133/Baseline_Data_2012!AG$269","v":8.75873327611984E-3},{"$f":"Baseline_Data_2012!AH133/Baseline_Data_2012!AH$269","v":5.285515788212786E-3},{"$f":"Baseline_Data_2012!AI133/Baseline_Data_2012!AI$269","v":1.1716058674345272E-2},{"$f":"Baseline_Data_2012!AJ133/Baseline_Data_2012!AJ$269","v":5.3467352489281941E-3},{"$f":"Baseline_Data_2012!AK133/Baseline_Data_2012!AK$269","v":8.9097921235672065E-3},{"$f":"Baseline_Data_2012!AL133/Baseline_Data_2012!AL$269","v":1.1997772084100185E-2},{"$f":"Baseline_Data_2012!AM133/Baseline_Data_2012!AM$269","v":9.3134969099604968E-3},{"$f":"Baseline_Data_2012!AN133/Baseline_Data_2012!AN$269","v":5.3314377443986318E-3},{"$f":"Baseline_Data_2012!AO133/Baseline_Data_2012!AO$269","v":6.4730894817835076E-3},{"$f":"Baseline_Data_2012!AP133/Baseline_Data_2012!AP$269","v":5.5047455615198386E-3},{"$f":"Baseline_Data_2012!AQ133/Baseline_Data_2012!AQ$269","v":1.5471168084506806E-3},{"$f":"Baseline_Data_2012!AR133/Baseline_Data_2012!AR$269","v":1.0095348001209982E-2},{"$f":"Baseline_Data_2012!AS133/Baseline_Data_2012!AS$269","v":9.0958676661008365E-3},{"$f":"Baseline_Data_2012!AT133/Baseline_Data_2012!AT$269","v":1.028611700788745E-2},{"$f":"Baseline_Data_2012!AU133/Baseline_Data_2012!AU$269","v":1.1167569740900706E-2},{"$f":"Baseline_Data_2012!AV133/Baseline_Data_2012!AV$269","v":1.4375790322763531E-2},133]
[2,"Female 40-44",{"$f":"'III Tool Overview'!$H$8/110","v":1.3090909090909091},0,{"$f":"'III Tool Overview'!$H$8/44","v":3.2727272727272729},{"$f":"G134*'III Tool Overview'!$H$8","v":1.2948972255503697},{"$f":"HLOOKUP('III Tool Overview'!$H$6,Targeting!$I$1:$BC$269,Targeting!BD134,FALSE)","v":8.9923418440997892E-3},{"$f":"Baseline_Data_2012!B134","v":9796.5400000000009},{"$f":"Baseline_Data_2012!B134/Baseline_Data_2012!B$269","v":9.0427206322289243E-3},{"$f":"Baseline_Data_2012!C134/Baseline_Data_2012!C$269","v":1.1988966364929441E-2},{"$f":"Baseline_Data_2012!D134/Baseline_Data_2012!D$269","v":5.6918254550364913E-3},{"$f":"Baseline_Data_2012!E134/Baseline_Data_2012!E$269","v":9.6118127628100347E-3},{"$f":"Baseline_Data_2012!F134/Baseline_Data_2012!F$269","v":9.3891174635142814E-3},{"$f":"Baseline_Data_2012!G134/Baseline_Data_2012!G$269","v":1.1536909803103521E-2},{"$f":"Baseline_Data_2012!H134/Baseline_Data_2012!H$269","v":6.08068265051394E-3},{"$f":"Baseline_Data_2012!I134/Baseline_Data_2012!I$269","v":7.3329297263109725E-3},{"$f":"Baseline_Data_2012!J134/Baseline_Data_2012!J$269","v":8.9713673167902252E-3},{"$f":"Baseline_Data_2012!K134/Baseline_Data_2012!K$269","v":1.2515596322418655E-2},{"$f":"Baseline_Data_2012!L134/Baseline_Data_2012!L$269","v":1.0184157316698051E-2},{"$f":"Baseline_Data_2012!M134/Baseline_Data_2012!M$269","v":8.9923418440997892E-3},{"$f":"Baseline_Data_2012!N134/Baseline_Data_2012!N$269","v":1.9815289172274726E-3},{"$f":"Baseline_Data_2012!O134/Baseline_Data_2012!O$269","v":6.4072743996909454E-3},{"$f":"Baseline_Data_2012!P134/Baseline_Data_2012!P$269","v":1.3870451934702278E-2},{"$f":"Baseline_Data_2012!Q134/Baseline_Data_2012!Q$269","v":8.4705234191701801E-3},{"$f":"Baseline_Data_2012!R134/Baseline_Data_2012!R$269","v":3.7360623751693089E-3},{"$f":"Baseline_Data_2012!S134/Baseline_Data_2012!S$269","v":7.741997307716391E-3},{"$f":"Baseline_Data_2012!T134/Baseline_Data_2012!T$269","v":7.2657186755166322E-3},{"$f":"Baseline_Data_2012!U134/Baseline_Data_2012!U$269","v":8.1004568569590738E-3},{"$f":"Baseline_Data_2012!V134/Baseline_Data_2012!V$269","v":9.5455559510808415E-3},{"$f":"Baseline_Data_2012!W134/Baseline_Data_2012!W$269","v":5.9001382062364308E-3},{"$f":"Baseline_Data_2012!X134/Baseline_Data_2012!X$269","v":1.3725972457552115E-2},{"$f":"Baseline_Data_2012!Y134/Baseline_Data_2012!Y$269","v":9.3850468107199402E-3},{"$f":"Baseline_Data_2012!Z134/Baseline_Data_2012!Z$269","v":1.0415160734051071E-2},{"$f":"Baseline_Data_2012!AA134/Baseline_Data_2012!AA$269","v":5.637764436208525E-3},{"$f":"Baseline_Data_2012!AB134/Baseline_Data_2012!AB$269","v":6.9616512373237693E-3},{"$f":"Baseline_Data_2012!AC134/Baseline_Data_2012!AC$269","v":1.3870451934702278E-2},{"$f":"Baseline_Data_2012!AD134/Baseline_Data_2012!AD$269","v":1.2913900536289826E-2},{"$f":"Baseline_Data_2012!AE134/Baseline_Data_2012!AE$269","v":9.4044359651154815E-3},{"$f":"Baseline_Data_2012!AF134/Baseline_Data_2012!AF$269","v":6.8122557121271798E-3},{"$f":"Baseline_Data_2012!AG134/Baseline_Data_2012!AG$269","v":9.7062635832051488E-3},{"$f":"Baseline_Data_2012!AH134/Baseline_Data_2012!AH$269","v":5.3568345919517884E-3},{"$f":"Baseline_Data_2012!AI134/Baseline_Data_2012!AI$269","v":1.2851837947264886E-2},{"$f":"Baseline_Data_2012!AJ134/Baseline_Data_2012!AJ$269","v":6.1154547743497633E-3},{"$f":"Baseline_Data_2012!AK134/Baseline_Data_2012!AK$269","v":1.0444677680563202E-2},{"$f":"Baseline_Data_2012!AL134/Baseline_Data_2012!AL$269","v":1.2938690654096195E-2},{"$f":"Baseline_Data_2012!AM134/Baseline_Data_2012!AM$269","v":8.9923418440997892E-3},{"$f":"Baseline_Data_2012!AN134/Baseline_Data_2012!AN$269","v":5.8608436386056199E-3},{"$f":"Baseline_Data_2012!AO134/Baseline_Data_2012!AO$269","v":7.2490613059976415E-3},{"$f":"Baseline_Data_2012!AP134/Baseline_Data_2012!AP$269","v":5.6726094270019983E-3},{"$f":"Baseline_Data_2012!AQ134/Baseline_Data_2012!AQ$269","v":1.9815289172274726E-3},{"$f":"Baseline_Data_2012!AR134/Baseline_Data_2012!AR$269","v":1.182452497080622E-2},{"$f":"Baseline_Data_2012!AS134/Baseline_Data_2012!AS$269","v":1.0681521168906832E-2},{"$f":"Baseline_Data_2012!AT134/Baseline_Data_2012!AT$269","v":1.1185142598197858E-2},{"$f":"Baseline_Data_2012!AU134/Baseline_Data_2012!AU$269","v":1.2392680079278759E-2},{"$f":"Baseline_Data_2012!AV134/Baseline_Data_2012!AV$269","v":1.6299884332099751E-2},134]
[2,"Female 45-49",{"$f":"'III Tool Overview'!$H$8/110","v":1.3090909090909091},0,{"$f":"'III Tool Overview'!$H$8/44","v":3.2727272727272729},{"$f":"G135*'III Tool Overview'!$H$8","v":1.6371200637315386},{"$f":"HLOOKUP('III Tool Overview'!$H$6,Targeting!$I$1:$BC$269,Targeting!BD135,FALSE)","v":1.1368889331469019E-2},{"$f":"Baseline_Data_2012!B135","v":10147.800000000001},{"$f":"Baseline_Data_2012!B135/Baseline_Data_2012!B$269","v":9.3669520495738984E-3},{"$f":"Baseline_Data_2012!C135/Baseline_Data_2012!C$269","v":1.2661594088260546E-2},{"$f":"Baseline_Data_2012!D135/Baseline_Data_2012!D$269","v":6.8850802674131142E-3},{"$f":"Baseline_Data_2012!E135/Baseline_Data_2012!E$269","v":9.5879621107931353E-3},{"$f":"Baseline_Data_2012!F135/Baseline_Data_2012!F$269","v":1.0139014153707436E-2},{"$f":"Baseline_Data_2012!G135/Baseline_Data_2012!G$269","v":1.1988335583512887E-2},{"$f":"Baseline_Data_2012!H135/Baseline_Data_2012!H$269","v":6.0944961049676297E-3},{"$f":"Baseline_Data_2012!I135/Baseline_Data_2012!I$269","v":7.7083453916786697E-3},{"$f":"Baseline_Data_2012!J135/Baseline_Data_2012!J$269","v":9.7933621010218141E-3},{"$f":"Baseline_Data_2012!K135/Baseline_Data_2012!K$269","v":1.2663314759207104E-2},{"$f":"Baseline_Data_2012!L135/Baseline_Data_2012!L$269","v":9.9900743458846801E-3},{"$f":"Baseline_Data_2012!M135/Baseline_Data_2012!M$269","v":1.1368889331469019E-2},{"$f":"Baseline_Data_2012!N135/Baseline_Data_2012!N$269","v":1.5852231337819781E-3},{"$f":"Baseline_Data_2012!O135/Baseline_Data_2012!O$269","v":6.603510805709676E-3},{"$f":"Baseline_Data_2012!P135/Baseline_Data_2012!P$269","v":1.6544820118190626E-2},{"$f":"Baseline_Data_2012!Q135/Baseline_Data_2012!Q$269","v":8.7428875162496068E-3},{"$f":"Baseline_Data_2012!R135/Baseline_Data_2012!R$269","v":3.7230220178388757E-3},{"$f":"Baseline_Data_2012!S135/Baseline_Data_2012!S$269","v":7.3458424747192075E-3},{"$f":"Baseline_Data_2012!T135/Baseline_Data_2012!T$269","v":7.9199117363390106E-3},{"$f":"Baseline_Data_2012!U135/Baseline_Data_2012!U$269","v":9.3519319331746599E-3},{"$f":"Baseline_Data_2012!V135/Baseline_Data_2012!V$269","v":9.5218697080260498E-3},{"$f":"Baseline_Data_2012!W135/Baseline_Data_2012!W$269","v":6.624451847922745E-3},{"$f":"Baseline_Data_2012!X135/Baseline_Data_2012!X$269","v":1.4059172058679476E-2},{"$f":"Baseline_Data_2012!Y135/Baseline_Data_2012!Y$269","v":9.8171640739473324E-3},{"$f":"Baseline_Data_2012!Z135/Baseline_Data_2012!Z$269","v":1.1788896604760365E-2},{"$f":"Baseline_Data_2012!AA135/Baseline_Data_2012!AA$269","v":6.2941011914686221E-3},{"$f":"Baseline_Data_2012!AB135/Baseline_Data_2012!AB$269","v":6.6357731160722666E-3},{"$f":"Baseline_Data_2012!AC135/Baseline_Data_2012!AC$269","v":1.6544820118190626E-2},{"$f":"Baseline_Data_2012!AD135/Baseline_Data_2012!AD$269","v":1.3544430908580861E-2},{"$f":"Baseline_Data_2012!AE135/Baseline_Data_2012!AE$269","v":1.0155556124254903E-2},{"$f":"Baseline_Data_2012!AF135/Baseline_Data_2012!AF$269","v":6.8736436512240066E-3},{"$f":"Baseline_Data_2012!AG135/Baseline_Data_2012!AG$269","v":1.0600495310516911E-2},{"$f":"Baseline_Data_2012!AH135/Baseline_Data_2012!AH$269","v":6.5801501838638555E-3},{"$f":"Baseline_Data_2012!AI135/Baseline_Data_2012!AI$269","v":1.3354934806410486E-2},{"$f":"Baseline_Data_2012!AJ135/Baseline_Data_2012!AJ$269","v":5.5899078796790812E-3},{"$f":"Baseline_Data_2012!AK135/Baseline_Data_2012!AK$269","v":1.1054646857108092E-2},{"$f":"Baseline_Data_2012!AL135/Baseline_Data_2012!AL$269","v":1.2825076118393905E-2},{"$f":"Baseline_Data_2012!AM135/Baseline_Data_2012!AM$269","v":1.1368889331469019E-2},{"$f":"Baseline_Data_2012!AN135/Baseline_Data_2012!AN$269","v":5.8806772888208673E-3},{"$f":"Baseline_Data_2012!AO135/Baseline_Data_2012!AO$269","v":7.5648481005473932E-3},{"$f":"Baseline_Data_2012!AP135/Baseline_Data_2012!AP$269","v":6.8618357219709701E-3},{"$f":"Baseline_Data_2012!AQ135/Baseline_Data_2012!AQ$269","v":1.5852231337819781E-3},{"$f":"Baseline_Data_2012!AR135/Baseline_Data_2012!AR$269","v":1.2957223423694552E-2},{"$f":"Baseline_Data_2012!AS135/Baseline_Data_2012!AS$269","v":1.1080257063223527E-2},{"$f":"Baseline_Data_2012!AT135/Baseline_Data_2012!AT$269","v":1.0759041927790321E-2},{"$f":"Baseline_Data_2012!AU135/Baseline_Data_2012!AU$269","v":1.4282257041861856E-2},{"$f":"Baseline_Data_2012!AV135/Baseline_Data_2012!AV$269","v":1.5211681826973774E-2},135]
[2,"Female 50-54",{"$f":"'III Tool Overview'!$H$8/110","v":1.3090909090909091},0,{"$f":"'III Tool Overview'!$H$8/44","v":3.2727272727272729},{"$f":"G136*'III Tool Overview'!$H$8","v":1.4407510339228013},{"$f":"HLOOKUP('III Tool Overview'!$H$6,Targeting!$I$1:$BC$269,Targeting!BD136,FALSE)","v":1.0005215513352787E-2},{"$f":"Baseline_Data_2012!B136","v":9964.6200000000008},{"$f":"Baseline_Data_2012!B136/Baseline_Data_2012!B$269","v":9.1978672946081974E-3},{"$f":"Baseline_Data_2012!C136/Baseline_Data_2012!C$269","v":1.1867998772236347E-2},{"$f":"Baseline_Data_2012!D136/Baseline_Data_2012!D$269","v":6.6418398633517261E-3},{"$f":"Baseline_Data_2012!E136/Baseline_Data_2012!E$269","v":1.0402553610447202E-2},{"$f":"Baseline_Data_2012!F136/Baseline_Data_2012!F$269","v":1.0084490579815626E-2},{"$f":"Baseline_Data_2012!G136/Baseline_Data_2012!G$269","v":1.1259764512663518E-2},{"$f":"Baseline_Data_2012!H136/Baseline_Data_2012!H$269","v":6.0850392015339505E-3},{"$f":"Baseline_Data_2012!I136/Baseline_Data_2012!I$269","v":7.6582826771730518E-3},{"$f":"Baseline_Data_2012!J136/Baseline_Data_2012!J$269","v":9.5233556557740243E-3},{"$f":"Baseline_Data_2012!K136/Baseline_Data_2012!K$269","v":1.2349743852030781E-2},{"$f":"Baseline_Data_2012!L136/Baseline_Data_2012!L$269","v":9.7174784150376031E-3},{"$f":"Baseline_Data_2012!M136/Baseline_Data_2012!M$269","v":1.0005215513352787E-2},{"$f":"Baseline_Data_2012!N136/Baseline_Data_2012!N$269","v":1.6461932543120543E-3},{"$f":"Baseline_Data_2012!O136/Baseline_Data_2012!O$269","v":6.8930733169106978E-3},{"$f":"Baseline_Data_2012!P136/Baseline_Data_2012!P$269","v":1.7275302692428968E-2},{"$f":"Baseline_Data_2012!Q136/Baseline_Data_2012!Q$269","v":8.9306616101014827E-3},{"$f":"Baseline_Data_2012!R136/Baseline_Data_2012!R$269","v":3.338080700488568E-3},{"$f":"Baseline_Data_2012!S136/Baseline_Data_2012!S$269","v":7.8634557675034394E-3},{"$f":"Baseline_Data_2012!T136/Baseline_Data_2012!T$269","v":8.0655259037233709E-3},{"$f":"Baseline_Data_2012!U136/Baseline_Data_2012!U$269","v":8.0812033942480651E-3},{"$f":"Baseline_Data_2012!V136/Baseline_Data_2012!V$269","v":1.0330846009281993E-2},{"$f":"Baseline_Data_2012!W136/Baseline_Data_2012!W$269","v":6.9654248162646587E-3},{"$f":"Baseline_Data_2012!X136/Baseline_Data_2012!X$269","v":1.2879446120499911E-2},{"$f":"Baseline_Data_2012!Y136/Baseline_Data_2012!Y$269","v":1.0026470873323104E-2},{"$f":"Baseline_Data_2012!Z136/Baseline_Data_2012!Z$269","v":1.0946755541162281E-2},{"$f":"Baseline_Data_2012!AA136/Baseline_Data_2012!AA$269","v":5.662360882658115E-3},{"$f":"Baseline_Data_2012!AB136/Baseline_Data_2012!AB$269","v":6.4862279902943324E-3},{"$f":"Baseline_Data_2012!AC136/Baseline_Data_2012!AC$269","v":1.7275302692428968E-2},{"$f":"Baseline_Data_2012!AD136/Baseline_Data_2012!AD$269","v":1.3004458695893456E-2},{"$f":"Baseline_Data_2012!AE136/Baseline_Data_2012!AE$269","v":1.0100943594243713E-2},{"$f":"Baseline_Data_2012!AF136/Baseline_Data_2012!AF$269","v":6.9730171137212431E-3},{"$f":"Baseline_Data_2012!AG136/Baseline_Data_2012!AG$269","v":1.0153379446861031E-2},{"$f":"Baseline_Data_2012!AH136/Baseline_Data_2012!AH$269","v":6.2047359252932702E-3},{"$f":"Baseline_Data_2012!AI136/Baseline_Data_2012!AI$269","v":1.3947744741837294E-2},{"$f":"Baseline_Data_2012!AJ136/Baseline_Data_2012!AJ$269","v":6.0364389824936826E-3},{"$f":"Baseline_Data_2012!AK136/Baseline_Data_2012!AK$269","v":9.9700072518188396E-3},{"$f":"Baseline_Data_2012!AL136/Baseline_Data_2012!AL$269","v":1.2364063290832686E-2},{"$f":"Baseline_Data_2012!AM136/Baseline_Data_2012!AM$269","v":1.0005215513352787E-2},{"$f":"Baseline_Data_2012!AN136/Baseline_Data_2012!AN$269","v":5.9008923553864091E-3},{"$f":"Baseline_Data_2012!AO136/Baseline_Data_2012!AO$269","v":7.4549974805629927E-3},{"$f":"Baseline_Data_2012!AP136/Baseline_Data_2012!AP$269","v":6.619416515688834E-3},{"$f":"Baseline_Data_2012!AQ136/Baseline_Data_2012!AQ$269","v":1.6461932543120543E-3},{"$f":"Baseline_Data_2012!AR136/Baseline_Data_2012!AR$269","v":1.2982874035675846E-2},{"$f":"Baseline_Data_2012!AS136/Baseline_Data_2012!AS$269","v":1.095697924974396E-2},{"$f":"Baseline_Data_2012!AT136/Baseline_Data_2012!AT$269","v":1.0035021969968723E-2},{"$f":"Baseline_Data_2012!AU136/Baseline_Data_2012!AU$269","v":1.3965125243945813E-2},{"$f":"Baseline_Data_2012!AV136/Baseline_Data_2012!AV$269","v":1.4522427539766323E-2},136]
[2,"Female 55-59",{"$f":"'III Tool Overview'!$H$8/110","v":1.3090909090909091},0,{"$f":"'III Tool Overview'!$H$8/44","v":3.2727272727272729},{"$f":"G137*'III Tool Overview'!$H$8","v":2.0362614612775589},{"$f":"HLOOKUP('III Tool Overview'!$H$6,Targeting!$I$1:$BC$269,Targeting!BD137,FALSE)","v":1.414070459220527E-2},{"$f":"Baseline_Data_2012!B137","v":11589.48},{"$f":"Baseline_Data_2012!B137/Baseline_Data_2012!B$269","v":1.069769836215689E-2},{"$f":"Baseline_Data_2012!C137/Baseline_Data_2012!C$269","v":1.4358014863413997E-2},{"$f":"Baseline_Data_2012!D137/Baseline_Data_2012!D$269","v":8.4427367417232134E-3},{"$f":"Baseline_Data_2012!E137/Baseline_Data_2012!E$269","v":1.2229880488049566E-2},{"$f":"Baseline_Data_2012!F137/Baseline_Data_2012!F$269","v":1.1914586190445071E-2},{"$f":"Baseline_Data_2012!G137/Baseline_Data_2012!G$269","v":1.2613059069173743E-2},{"$f":"Baseline_Data_2012!H137/Baseline_Data_2012!H$269","v":7.5281201625766537E-3},{"$f":"Baseline_Data_2012!I137/Baseline_Data_2012!I$269","v":8.1606964740943335E-3},{"$f":"Baseline_Data_2012!J137/Baseline_Data_2012!J$269","v":1.1962035985915644E-2},{"$f":"Baseline_Data_2012!K137/Baseline_Data_2012!K$269","v":1.4905708647905112E-2},{"$f":"Baseline_Data_2012!L137/Baseline_Data_2012!L$269","v":1.1121114186098591E-2},{"$f":"Baseline_Data_2012!M137/Baseline_Data_2012!M$269","v":1.414070459220527E-2},{"$f":"Baseline_Data_2012!N137/Baseline_Data_2012!N$269","v":2.0120139774925101E-3},{"$f":"Baseline_Data_2012!O137/Baseline_Data_2012!O$269","v":8.0047202103464745E-3},{"$f":"Baseline_Data_2012!P137/Baseline_Data_2012!P$269","v":2.0774296789078973E-2},{"$f":"Baseline_Data_2012!Q137/Baseline_Data_2012!Q$269","v":1.0285934881626513E-2},{"$f":"Baseline_Data_2012!R137/Baseline_Data_2012!R$269","v":4.3604948704150858E-3},{"$f":"Baseline_Data_2012!S137/Baseline_Data_2012!S$269","v":9.324875299779864E-3},{"$f":"Baseline_Data_2012!T137/Baseline_Data_2012!T$269","v":9.7904113717836843E-3},{"$f":"Baseline_Data_2012!U137/Baseline_Data_2012!U$269","v":8.2859902249015245E-3},{"$f":"Baseline_Data_2012!V137/Baseline_Data_2012!V$269","v":1.21455766310183E-2},{"$f":"Baseline_Data_2012!W137/Baseline_Data_2012!W$269","v":7.7306552141520012E-3},{"$f":"Baseline_Data_2012!X137/Baseline_Data_2012!X$269","v":1.5532227560244668E-2},{"$f":"Baseline_Data_2012!Y137/Baseline_Data_2012!Y$269","v":1.0227467725329112E-2},{"$f":"Baseline_Data_2012!Z137/Baseline_Data_2012!Z$269","v":1.2577123387718365E-2},{"$f":"Baseline_Data_2012!AA137/Baseline_Data_2012!AA$269","v":6.2449082985694421E-3},{"$f":"Baseline_Data_2012!AB137/Baseline_Data_2012!AB$269","v":7.4008248441687413E-3},{"$f":"Baseline_Data_2012!AC137/Baseline_Data_2012!AC$269","v":2.0774296789078973E-2},{"$f":"Baseline_Data_2012!AD137/Baseline_Data_2012!AD$269","v":1.5604245318548166E-2},{"$f":"Baseline_Data_2012!AE137/Baseline_Data_2012!AE$269","v":1.1934025036358461E-2},{"$f":"Baseline_Data_2012!AF137/Baseline_Data_2012!AF$269","v":7.1248897639528703E-3},{"$f":"Baseline_Data_2012!AG137/Baseline_Data_2012!AG$269","v":1.289825630519879E-2},{"$f":"Baseline_Data_2012!AH137/Baseline_Data_2012!AH$269","v":6.6683081495967893E-3},{"$f":"Baseline_Data_2012!AI137/Baseline_Data_2012!AI$269","v":1.5873937261992651E-2},{"$f":"Baseline_Data_2012!AJ137/Baseline_Data_2012!AJ$269","v":8.6880619510594E-3},{"$f":"Baseline_Data_2012!AK137/Baseline_Data_2012!AK$269","v":1.2159533068362746E-2},{"$f":"Baseline_Data_2012!AL137/Baseline_Data_2012!AL$269","v":1.4653190548065154E-2},{"$f":"Baseline_Data_2012!AM137/Baseline_Data_2012!AM$269","v":1.414070459220527E-2},{"$f":"Baseline_Data_2012!AN137/Baseline_Data_2012!AN$269","v":7.153845066099636E-3},{"$f":"Baseline_Data_2012!AO137/Baseline_Data_2012!AO$269","v":7.7634968875462101E-3},{"$f":"Baseline_Data_2012!AP137/Baseline_Data_2012!AP$269","v":8.4142334316343118E-3},{"$f":"Baseline_Data_2012!AQ137/Baseline_Data_2012!AQ$269","v":2.0120139774925101E-3},{"$f":"Baseline_Data_2012!AR137/Baseline_Data_2012!AR$269","v":1.5639544562310047E-2},{"$f":"Baseline_Data_2012!AS137/Baseline_Data_2012!AS$269","v":1.3621903466493701E-2},{"$f":"Baseline_Data_2012!AT137/Baseline_Data_2012!AT$269","v":9.7769032946256936E-3},{"$f":"Baseline_Data_2012!AU137/Baseline_Data_2012!AU$269","v":1.6411570542155297E-2},{"$f":"Baseline_Data_2012!AV137/Baseline_Data_2012!AV$269","v":1.6691708474698298E-2},137]
[2,"Female 60-64",{"$f":"'III Tool Overview'!$H$8/110","v":1.3090909090909091},0,{"$f":"'III Tool Overview'!$H$8/44","v":3.2727272727272729},{"$f":"G138*'III Tool Overview'!$H$8","v":3.8046499525442861},{"$f":"HLOOKUP('III Tool Overview'!$H$6,Targeting!$I$1:$BC$269,Targeting!BD138,FALSE)","v":2.6421180226001987E-2},{"$f":"Baseline_Data_2012!B138","v":21401.73},{"$f":"Baseline_Data_2012!B138/Baseline_Data_2012!B$269","v":1.9754920148990635E-2},{"$f":"Baseline_Data_2012!C138/Baseline_Data_2012!C$269","v":2.7519528488210165E-2},{"$f":"Baseline_Data_2012!D138/Baseline_Data_2012!D$269","v":1.5611903443313684E-2},{"$f":"Baseline_Data_2012!E138/Baseline_Data_2012!E$269","v":2.2702151389007698E-2},{"$f":"Baseline_Data_2012!F138/Baseline_Data_2012!F$269","v":2.2318316246380858E-2},{"$f":"Baseline_Data_2012!G138/Baseline_Data_2012!G$269","v":2.5271326235369613E-2},{"$f":"Baseline_Data_2012!H138/Baseline_Data_2012!H$269","v":1.4685508459084683E-2},{"$f":"Baseline_Data_2012!I138/Baseline_Data_2012!I$269","v":1.4247527680209007E-2},{"$f":"Baseline_Data_2012!J138/Baseline_Data_2012!J$269","v":2.2706887387488359E-2},{"$f":"Baseline_Data_2012!K138/Baseline_Data_2012!K$269","v":2.6593054388499376E-2},{"$f":"Baseline_Data_2012!L138/Baseline_Data_2012!L$269","v":2.0722222797894384E-2},{"$f":"Baseline_Data_2012!M138/Baseline_Data_2012!M$269","v":2.6421180226001987E-2},{"$f":"Baseline_Data_2012!N138/Baseline_Data_2012!N$269","v":2.9799146409074679E-3},{"$f":"Baseline_Data_2012!O138/Baseline_Data_2012!O$269","v":1.4003228665387904E-2},{"$f":"Baseline_Data_2012!P138/Baseline_Data_2012!P$269","v":4.5110349900756831E-2},{"$f":"Baseline_Data_2012!Q138/Baseline_Data_2012!Q$269","v":1.8883474249915464E-2},{"$f":"Baseline_Data_2012!R138/Baseline_Data_2012!R$269","v":9.8803276627262467E-3},{"$f":"Baseline_Data_2012!S138/Baseline_Data_2012!S$269","v":1.6821343678034263E-2},{"$f":"Baseline_Data_2012!T138/Baseline_Data_2012!T$269","v":2.057496064368779E-2},{"$f":"Baseline_Data_2012!U138/Baseline_Data_2012!U$269","v":2.0350034928140592E-2},{"$f":"Baseline_Data_2012!V138/Baseline_Data_2012!V$269","v":2.2545659350768143E-2},{"$f":"Baseline_Data_2012!W138/Baseline_Data_2012!W$269","v":1.40762347024351E-2},{"$f":"Baseline_Data_2012!X138/Baseline_Data_2012!X$269","v":2.8787591179452364E-2},{"$f":"Baseline_Data_2012!Y138/Baseline_Data_2012!Y$269","v":1.7810814071943491E-2},{"$f":"Baseline_Data_2012!Z138/Baseline_Data_2012!Z$269","v":2.3213332672393769E-2},{"$f":"Baseline_Data_2012!AA138/Baseline_Data_2012!AA$269","v":1.1165492138300464E-2},{"$f":"Baseline_Data_2012!AB138/Baseline_Data_2012!AB$269","v":1.3421828638739775E-2},{"$f":"Baseline_Data_2012!AC138/Baseline_Data_2012!AC$269","v":4.5110349900756831E-2},{"$f":"Baseline_Data_2012!AD138/Baseline_Data_2012!AD$269","v":3.0119950860979485E-2},{"$f":"Baseline_Data_2012!AE138/Baseline_Data_2012!AE$269","v":2.2354728951247401E-2},{"$f":"Baseline_Data_2012!AF138/Baseline_Data_2012!AF$269","v":1.1796900812093428E-2},{"$f":"Baseline_Data_2012!AG138/Baseline_Data_2012!AG$269","v":2.363723681444355E-2},{"$f":"Baseline_Data_2012!AH138/Baseline_Data_2012!AH$269","v":1.298596551414348E-2},{"$f":"Baseline_Data_2012!AI138/Baseline_Data_2012!AI$269","v":3.0910552478694026E-2},{"$f":"Baseline_Data_2012!AJ138/Baseline_Data_2012!AJ$269","v":1.6356268914208907E-2},{"$f":"Baseline_Data_2012!AK138/Baseline_Data_2012!AK$269","v":2.4835836650889977E-2},{"$f":"Baseline_Data_2012!AL138/Baseline_Data_2012!AL$269","v":2.6249584583524777E-2},{"$f":"Baseline_Data_2012!AM138/Baseline_Data_2012!AM$269","v":2.6421180226001987E-2},{"$f":"Baseline_Data_2012!AN138/Baseline_Data_2012!AN$269","v":1.1342940841370072E-2},{"$f":"Baseline_Data_2012!AO138/Baseline_Data_2012!AO$269","v":1.4861412377349096E-2},{"$f":"Baseline_Data_2012!AP138/Baseline_Data_2012!AP$269","v":1.5559196490753664E-2},{"$f":"Baseline_Data_2012!AQ138/Baseline_Data_2012!AQ$269","v":2.9799146409074679E-3},{"$f":"Baseline_Data_2012!AR138/Baseline_Data_2012!AR$269","v":2.9161081449593108E-2},{"$f":"Baseline_Data_2012!AS138/Baseline_Data_2012!AS$269","v":2.4216127427769067E-2},{"$f":"Baseline_Data_2012!AT138/Baseline_Data_2012!AT$269","v":1.9264081545499009E-2},{"$f":"Baseline_Data_2012!AU138/Baseline_Data_2012!AU$269","v":2.8915624288559327E-2},{"$f":"Baseline_Data_2012!AV138/Baseline_Data_2012!AV$269","v":3.1439434896458784E-2},138]
[2,"Female 65-69",{"$f":"'III Tool Overview'!$H$8/110","v":1.3090909090909091},0,{"$f":"'III Tool Overview'!$H$8/44","v":3.2727272727272729},{"$f":"G139*'III Tool Overview'!$H$8","v":5.2165859657886315},{"$f":"HLOOKUP('III Tool Overview'!$H$6,Targeting!$I$1:$BC$269,Targeting!BD139,FALSE)","v":3.6226291429087717E-2},{"$f":"Baseline_Data_2012!B139","v":26777.78},{"$f":"Baseline_Data_2012!B139/Baseline_Data_2012!B$269","v":2.4717296483379541E-2},{"$f":"Baseline_Data_2012!C139/Baseline_Data_2012!C$269","v":3.2627702167920485E-2},{"$f":"Baseline_Data_2012!D139/Baseline_Data_2012!D$269","v":2.2174345967226502E-2},{"$f":"Baseline_Data_2012!E139/Baseline_Data_2012!E$269","v":2.9299244084151192E-2},{"$f":"Baseline_Data_2012!F139/Baseline_Data_2012!F$269","v":2.7544940771671599E-2},{"$f":"Baseline_Data_2012!G139/Baseline_Data_2012!G$269","v":3.1302020859140307E-2},{"$f":"Baseline_Data_2012!H139/Baseline_Data_2012!H$269","v":1.6590383828248408E-2},{"$f":"Baseline_Data_2012!I139/Baseline_Data_2012!I$269","v":1.7747359910232168E-2},{"$f":"Baseline_Data_2012!J139/Baseline_Data_2012!J$269","v":2.7316796364867963E-2},{"$f":"Baseline_Data_2012!K139/Baseline_Data_2012!K$269","v":3.3879822756652911E-2},{"$f":"Baseline_Data_2012!L139/Baseline_Data_2012!L$269","v":2.5686667909159754E-2},{"$f":"Baseline_Data_2012!M139/Baseline_Data_2012!M$269","v":3.6226291429087717E-2},{"$f":"Baseline_Data_2012!N139/Baseline_Data_2012!N$269","v":3.3431949423991711E-3},{"$f":"Baseline_Data_2012!O139/Baseline_Data_2012!O$269","v":1.8220993567888172E-2},{"$f":"Baseline_Data_2012!P139/Baseline_Data_2012!P$269","v":5.0802535115287116E-2},{"$f":"Baseline_Data_2012!Q139/Baseline_Data_2012!Q$269","v":2.1195688300986868E-2},{"$f":"Baseline_Data_2012!R139/Baseline_Data_2012!R$269","v":1.1597893188805894E-2},{"$f":"Baseline_Data_2012!S139/Baseline_Data_2012!S$269","v":2.0992723469000212E-2},{"$f":"Baseline_Data_2012!T139/Baseline_Data_2012!T$269","v":2.6670947864296982E-2},{"$f":"Baseline_Data_2012!U139/Baseline_Data_2012!U$269","v":2.5799389987781831E-2},{"$f":"Baseline_Data_2012!V139/Baseline_Data_2012!V$269","v":2.9858027719478035E-2},{"$f":"Baseline_Data_2012!W139/Baseline_Data_2012!W$269","v":1.8248873265659264E-2},{"$f":"Baseline_Data_2012!X139/Baseline_Data_2012!X$269","v":3.7285665274132948E-2},{"$f":"Baseline_Data_2012!Y139/Baseline_Data_2012!Y$269","v":2.4996321688230728E-2},{"$f":"Baseline_Data_2012!Z139/Baseline_Data_2012!Z$269","v":3.0103577738196274E-2},{"$f":"Baseline_Data_2012!AA139/Baseline_Data_2012!AA$269","v":1.2229612084698492E-2},{"$f":"Baseline_Data_2012!AB139/Baseline_Data_2012!AB$269","v":1.6217228857574779E-2},{"$f":"Baseline_Data_2012!AC139/Baseline_Data_2012!AC$269","v":5.0802535115287116E-2},{"$f":"Baseline_Data_2012!AD139/Baseline_Data_2012!AD$269","v":3.6214054537085441E-2},{"$f":"Baseline_Data_2012!AE139/Baseline_Data_2012!AE$269","v":2.7589880801547197E-2},{"$f":"Baseline_Data_2012!AF139/Baseline_Data_2012!AF$269","v":1.4073671141537472E-2},{"$f":"Baseline_Data_2012!AG139/Baseline_Data_2012!AG$269","v":2.7619597364703066E-2},{"$f":"Baseline_Data_2012!AH139/Baseline_Data_2012!AH$269","v":1.5751730334900727E-2},{"$f":"Baseline_Data_2012!AI139/Baseline_Data_2012!AI$269","v":3.7921072348093554E-2},{"$f":"Baseline_Data_2012!AJ139/Baseline_Data_2012!AJ$269","v":1.7733838804785091E-2},{"$f":"Baseline_Data_2012!AK139/Baseline_Data_2012!AK$269","v":2.5689535125523452E-2},{"$f":"Baseline_Data_2012!AL139/Baseline_Data_2012!AL$269","v":3.4238074494284503E-2},{"$f":"Baseline_Data_2012!AM139/Baseline_Data_2012!AM$269","v":3.6226291429087717E-2},{"$f":"Baseline_Data_2012!AN139/Baseline_Data_2012!AN$269","v":1.5631967700417335E-2},{"$f":"Baseline_Data_2012!AO139/Baseline_Data_2012!AO$269","v":2.0575803842483583E-2},{"$f":"Baseline_Data_2012!AP139/Baseline_Data_2012!AP$269","v":2.2099483718354174E-2},{"$f":"Baseline_Data_2012!AQ139/Baseline_Data_2012!AQ$269","v":3.3431949423991711E-3},{"$f":"Baseline_Data_2012!AR139/Baseline_Data_2012!AR$269","v":3.7219988007526142E-2},{"$f":"Baseline_Data_2012!AS139/Baseline_Data_2012!AS$269","v":2.9704939357597472E-2},{"$f":"Baseline_Data_2012!AT139/Baseline_Data_2012!AT$269","v":2.4868358906971772E-2},{"$f":"Baseline_Data_2012!AU139/Baseline_Data_2012!AU$269","v":3.4803886056769463E-2},{"$f":"Baseline_Data_2012!AV139/Baseline_Data_2012!AV$269","v":3.9454316467900825E-2},139]
[2,"Female 70-74",null,null,null,null,{"$f":"HLOOKUP('III Tool Overview'!$H$6,Targeting!$I$1:$BC$269,Targeting!BD140,FALSE)","v":0},null,{"$f":"Baseline_Data_2012!B140/Baseline_Data_2012!B$269","v":0},{"$f":"Baseline_Data_2012!C140/Baseline_Data_2012!C$269","v":0},{"$f":"Baseline_Data_2012!D140/Baseline_Data_2012!D$269","v":0},{"$f":"Baseline_Data_2012!E140/Baseline_Data_2012!E$269","v":0},{"$f":"Baseline_Data_2012!F140/Baseline_Data_2012!F$269","v":0},{"$f":"Baseline_Data_2012!G140/Baseline_Data_2012!G$269","v":0},{"$f":"Baseline_Data_2012!H140/Baseline_Data_2012!H$269","v":0},{"$f":"Baseline_Data_2012!I140/Baseline_Data_2012!I$269","v":0},{"$f":"Baseline_Data_2012!J140/Baseline_Data_2012!J$269","v":0},{"$f":"Baseline_Data_2012!K140/Baseline_Data_2012!K$269","v":0},{"$f":"Baseline_Data_2012!L140/Baseline_Data_2012!L$269","v":0},{"$f":"Baseline_Data_2012!M140/Baseline_Data_2012!M$269","v":0},{"$f":"Baseline_Data_2012!N140/Baseline_Data_2012!N$269","v":0},{"$f":"Baseline_Data_2012!O140/Baseline_Data_2012!O$269","v":0},{"$f":"Baseline_Data_2012!P140/Baseline_Data_2012!P$269","v":0},{"$f":"Baseline_Data_2012!Q140/Baseline_Data_2012!Q$269","v":0},{"$f":"Baseline_Data_2012!R140/Baseline_Data_2012!R$269","v":0},{"$f":"Baseline_Data_2012!S140/Baseline_Data_2012!S$269","v":0},{"$f":"Baseline_Data_2012!T140/Baseline_Data_2012!T$269","v":0},{"$f":"Baseline_Data_2012!U140/Baseline_Data_2012!U$269","v":0},{"$f":"Baseline_Data_2012!V140/Baseline_Data_2012!V$269","v":0},{"$f":"Baseline_Data_2012!W140/Baseline_Data_2012!W$269","v":0},{"$f":"Baseline_Data_2012!X140/Baseline_Data_2012!X$269","v":0},{"$f":"Baseline_Data_2012!Y140/Baseline_Data_2012!Y$269","v":0},{"$f":"Baseline_Data_2012!Z140/Baseline_Data_2012!Z$269","v":0},{"$f":"Baseline_Data_2012!AA140/Baseline_Data_2012!AA$269","v":0},{"$f":"Baseline_Data_2012!AB140/Baseline_Data_2012!AB$269","v":0},{"$f":"Baseline_Data_2012!AC140/Baseline_Data_2012!AC$269","v":0},{"$f":"Baseline_Data_2012!AD140/Baseline_Data_2012!AD$269","v":0},{"$f":"Baseline_Data_2012!AE140/Baseline_Data_2012!AE$269","v":0},{"$f":"Baseline_Data_2012!AF140/Baseline_Data_2012!AF$269","v":0},{"$f":"Baseline_Data_2012!AG140/Baseline_Data_2012!AG$269","v":0},{"$f":"Baseline_Data_2012!AH140/Baseline_Data_2012!AH$269","v":0},{"$f":"Baseline_Data_2012!AI140/Baseline_Data_2012!AI$269","v":0},{"$f":"Baseline_Data_2012!AJ140/Baseline_Data_2012!AJ$269","v":0},{"$f":"Baseline_Data_2012!AK140/Baseline_Data_2012!AK$269","v":0},{"$f":"Baseline_Data_2012!AL140/Baseline_Data_2012!AL$269","v":0},{"$f":"Baseline_Data_2012!AM140/Baseline_Data_2012!AM$269","v":0},{"$f":"Baseline_Data_2012!AN140/Baseline_Data_2012!AN$269","v":0},{"$f":"Baseline_Data_2012!AO140/Baseline_Data_2012!AO$269","v":0},{"$f":"Baseline_Data_2012!AP140/Baseline_Data_2012!AP$269","v":0},{"$f":"Baseline_Data_2012!AQ140/Baseline_Data_2012!AQ$269","v":0},{"$f":"Baseline_Data_2012!AR140/Baseline_Data_2012!AR$269","v":0},{"$f":"Baseline_Data_2012!AS140/Baseline_Data_2012!AS$269","v":0},{"$f":"Baseline_Data_2012!AT140/Baseline_Data_2012!AT$269","v":0},{"$f":"Baseline_Data_2012!AU140/Baseline_Data_2012!AU$269","v":0},{"$f":"Baseline_Data_2012!AV140/Baseline_Data_2012!AV$269","v":0},140]
[2,"Female 75-79",null,null,null,null,{"$f":"HLOOKUP('III Tool Overview'!$H$6,Targeting!$I$1:$BC$269,Targeting!BD141,FALSE)","v":0},null,{"$f":"Baseline_Data_2012!B141/Baseline_Data_2012!B$269","v":0},{"$f":"Baseline_Data_2012!C141/Baseline_Data_2012!C$269","v":0},{"$f":"Baseline_Data_2012!D141/Baseline_Data_2012!D$269","v":0},{"$f":"Baseline_Data_2012!E141/Baseline_Data_2012!E$269","v":0},{"$f":"Baseline_Data_2012!F141/Baseline_Data_2012!F$269","v":0},{"$f":"Baseline_Data_2012!G141/Baseline_Data_2012!G$269","v":0},{"$f":"Baseline_Data_2012!H141/Baseline_Data_2012!H$269","v":0},{"$f":"Baseline_Data_2012!I141/Baseline_Data_2012!I$269","v":0},{"$f":"Baseline_Data_2012!J141/Baseline_Data_2012!J$269","v":0},{"$f":"Baseline_Data_2012!K141/Baseline_Data_2012!K$269","v":0},{"$f":"Baseline_Data_2012!L141/Baseline_Data_2012!L$269","v":0},{"$f":"Baseline_Data_2012!M141/Baseline_Data_2012!M$269","v":0},{"$f":"Baseline_Data_2012!N141/Baseline_Data_2012!N$269","v":0},{"$f":"Baseline_Data_2012!O141/Baseline_Data_2012!O$269","v":0},{"$f":"Baseline_Data_2012!P141/Baseline_Data_2012!P$269","v":0},{"$f":"Baseline_Data_2012!Q141/Baseline_Data_2012!Q$269","v":0},{"$f":"Baseline_Data_2012!R141/Baseline_Data_2012!R$269","v":0},{"$f":"Baseline_Data_2012!S141/Baseline_Data_2012!S$269","v":0},{"$f":"Baseline_Data_2012!T141/Baseline_Data_2012!T$269","v":0},{"$f":"Baseline_Data_2012!U141/Baseline_Data_2012!U$269","v":0},{"$f":"Baseline_Data_2012!V141/Baseline_Data_2012!V$269","v":0},{"$f":"Baseline_Data_2012!W141/Baseline_Data_2012!W$269","v":0},{"$f":"Baseline_Data_2012!X141/Baseline_Data_2012!X$269","v":0},{"$f":"Baseline_Data_2012!Y141/Baseline_Data_2012!Y$269","v":0},{"$f":"Baseline_Data_2012!Z141/Baseline_Data_2012!Z$269","v":0},{"$f":"Baseline_Data_2012!AA141/Baseline_Data_2012!AA$269","v":0},{"$f":"Baseline_Data_2012!AB141/Baseline_Data_2012!AB$269","v":0},{"$f":"Baseline_Data_2012!AC141/Baseline_Data_2012!AC$269","v":0},{"$f":"Baseline_Data_2012!AD141/Baseline_Data_2012!AD$269","v":0},{"$f":"Baseline_Data_2012!AE141/Baseline_Data_2012!AE$269","v":0},{"$f":"Baseline_Data_2012!AF141/Baseline_Data_2012!AF$269","v":0},{"$f":"Baseline_Data_2012!AG141/Baseline_Data_2012!AG$269","v":0},{"$f":"Baseline_Data_2012!AH141/Baseline_Data_2012!AH$269","v":0},{"$f":"Baseline_Data_2012!AI141/Baseline_Data_2012!AI$269","v":0},{"$f":"Baseline_Data_2012!AJ141/Baseline_Data_2012!AJ$269","v":0},{"$f":"Baseline_Data_2012!AK141/Baseline_Data_2012!AK$269","v":0},{"$f":"Baseline_Data_2012!AL141/Baseline_Data_2012!AL$269","v":0},{"$f":"Baseline_Data_2012!AM141/Baseline_Data_2012!AM$269","v":0},{"$f":"Baseline_Data_2012!AN141/Baseline_Data_2012!AN$269","v":0},{"$f":"Baseline_Data_2012!AO141/Baseline_Data_2012!AO$269","v":0},{"$f":"Baseline_Data_2012!AP141/Baseline_Data_2012!AP$269","v":0},{"$f":"Baseline_Data_2012!AQ141/Baseline_Data_2012!AQ$269","v":0},{"$f":"Baseline_Data_2012!AR141/Baseline_Data_2012!AR$269","v":0},{"$f":"Baseline_Data_2012!AS141/Baseline_Data_2012!AS$269","v":0},{"$f":"Baseline_Data_2012!AT141/Baseline_Data_2012!AT$269","v":0},{"$f":"Baseline_Data_2012!AU141/Baseline_Data_2012!AU$269","v":0},{"$f":"Baseline_Data_2012!AV141/Baseline_Data_2012!AV$269","v":0},141]
[2,"Female 80-84",null,null,null,null,{"$f":"HLOOKUP('III Tool Overview'!$H$6,Targeting!$I$1:$BC$269,Targeting!BD142,FALSE)","v":0},null,{"$f":"Baseline_Data_2012!B142/Baseline_Data_2012!B$269","v":0},{"$f":"Baseline_Data_2012!C142/Baseline_Data_2012!C$269","v":0},{"$f":"Baseline_Data_2012!D142/Baseline_Data_2012!D$269","v":0},{"$f":"Baseline_Data_2012!E142/Baseline_Data_2012!E$269","v":0},{"$f":"Baseline_Data_2012!F142/Baseline_Data_2012!F$269","v":0},{"$f":"Baseline_Data_2012!G142/Baseline_Data_2012!G$269","v":0},{"$f":"Baseline_Data_2012!H142/Baseline_Data_2012!H$269","v":0},{"$f":"Baseline_Data_2012!I142/Baseline_Data_2012!I$269","v":0},{"$f":"Baseline_Data_2012!J142/Baseline_Data_2012!J$269","v":0},{"$f":"Baseline_Data_2012!K142/Baseline_Data_2012!K$269","v":0},{"$f":"Baseline_Data_2012!L142/Baseline_Data_2012!L$269","v":0},{"$f":"Baseline_Data_2012!M142/Baseline_Data_2012!M$269","v":0},{"$f":"Baseline_Data_2012!N142/Baseline_Data_2012!N$269","v":0},{"$f":"Baseline_Data_2012!O142/Baseline_Data_2012!O$269","v":0},{"$f":"Baseline_Data_2012!P142/Baseline_Data_2012!P$269","v":0},{"$f":"Baseline_Data_2012!Q142/Baseline_Data_2012!Q$269","v":0},{"$f":"Baseline_Data_2012!R142/Baseline_Data_2012!R$269","v":0},{"$f":"Baseline_Data_2012!S142/Baseline_Data_2012!S$269","v":0},{"$f":"Baseline_Data_2012!T142/Baseline_Data_2012!T$269","v":0},{"$f":"Baseline_Data_2012!U142/Baseline_Data_2012!U$269","v":0},{"$f":"Baseline_Data_2012!V142/Baseline_Data_2012!V$269","v":0},{"$f":"Baseline_Data_2012!W142/Baseline_Data_2012!W$269","v":0},{"$f":"Baseline_Data_2012!X142/Baseline_Data_2012!X$269","v":0},{"$f":"Baseline_Data_2012!Y142/Baseline_Data_2012!Y$269","v":0},{"$f":"Baseline_Data_2012!Z142/Baseline_Data_2012!Z$269","v":0},{"$f":"Baseline_Data_2012!AA142/Baseline_Data_2012!AA$269","v":0},{"$f":"Baseline_Data_2012!AB142/Baseline_Data_2012!AB$269","v":0},{"$f":"Baseline_Data_2012!AC142/Baseline_Data_2012!AC$269","v":0},{"$f":"Baseline_Data_2012!AD142/Baseline_Data_2012!AD$269","v":0},{"$f":"Baseline_Data_2012!AE142/Baseline_Data_2012!AE$269","v":0},{"$f":"Baseline_Data_2012!AF142/Baseline_Data_2012!AF$269","v":0},{"$f":"Baseline_Data_2012!AG142/Baseline_Data_2012!AG$269","v":0},{"$f":"Baseline_Data_2012!AH142/Baseline_Data_2012!AH$269","v":0},{"$f":"Baseline_Data_2012!AI142/Baseline_Data_2012!AI$269","v":0},{"$f":"Baseline_Data_2012!AJ142/Baseline_Data_2012!AJ$269","v":0},{"$f":"Baseline_Data_2012!AK142/Baseline_Data_2012!AK$269","v":0},{"$f":"Baseline_Data_2012!AL142/Baseline_Data_2012!AL$269","v":0},{"$f":"Baseline_Data_2012!AM142/Baseline_Data_2012!AM$269","v":0},{"$f":"Baseline_Data_2012!AN142/Baseline_Data_2012!AN$269","v":0},{"$f":"Baseline_Data_2012!AO142/Baseline_Data_2012!AO$269","v":0},{"$f":"Baseline_Data_2012!AP142/Baseline_Data_2012!AP$269","v":0},{"$f":"Baseline_Data_2012!AQ142/Baseline_Data_2012!AQ$269","v":0},{"$f":"Baseline_Data_2012!AR142/Baseline_Data_2012!AR$269","v":0},{"$f":"Baseline_Data_2012!AS142/Baseline_Data_2012!AS$269","v":0},{"$f":"Baseline_Data_2012!AT142/Baseline_Data_2012!AT$269","v":0},{"$f":"Baseline_Data_2012!AU142/Baseline_Data_2012!AU$269","v":0},{"$f":"Baseline_Data_2012!AV142/Baseline_Data_2012!AV$269","v":0},142]
[2,"Female 85+",null,null,null,null,{"$f":"HLOOKUP('III Tool Overview'!$H$6,Targeting!$I$1:$BC$269,Targeting!BD143,FALSE)","v":0},null,{"$f":"Baseline_Data_2012!B143/Baseline_Data_2012!B$269","v":0},{"$f":"Baseline_Data_2012!C143/Baseline_Data_2012!C$269","v":0},{"$f":"Baseline_Data_2012!D143/Baseline_Data_2012!D$269","v":0},{"$f":"Baseline_Data_2012!E143/Baseline_Data_2012!E$269","v":0},{"$f":"Baseline_Data_2012!F143/Baseline_Data_2012!F$269","v":0},{"$f":"Baseline_Data_2012!G143/Baseline_Data_2012!G$269","v":0},{"$f":"Baseline_Data_2012!H143/Baseline_Data_2012!H$269","v":0},{"$f":"Baseline_Data_2012!I143/Baseline_Data_2012!I$269","v":0},{"$f":"Baseline_Data_2012!J143/Baseline_Data_2012!J$269","v":0},{"$f":"Baseline_Data_2012!K143/Baseline_Data_2012!K$269","v":0},{"$f":"Baseline_Data_2012!L143/Baseline_Data_2012!L$269","v":0},{"$f":"Baseline_Data_2012!M143/Baseline_Data_2012!M$269","v":0},{"$f":"Baseline_Data_2012!N143/Baseline_Data_2012!N$269","v":0},{"$f":"Baseline_Data_2012!O143/Baseline_Data_2012!O$269","v":0},{"$f":"Baseline_Data_2012!P143/Baseline_Data_2012!P$269","v":0},{"$f":"Baseline_Data_2012!Q143/Baseline_Data_2012!Q$269","v":0},{"$f":"Baseline_Data_2012!R143/Baseline_Data_2012!R$269","v":0},{"$f":"Baseline_Data_2012!S143/Baseline_Data_2012!S$269","v":0},{"$f":"Baseline_Data_2012!T143/Baseline_Data_2012!T$269","v":0},{"$f":"Baseline_Data_2012!U143/Baseline_Data_2012!U$269","v":0},{"$f":"Baseline_Data_2012!V143/Baseline_Data_2012!V$269","v":0},{"$f":"Baseline_Data_2012!W143/Baseline_Data_2012!W$269","v":0},{"$f":"Baseline_Data_2012!X143/Baseline_Data_2012!X$269","v":0},{"$f":"Baseline_Data_2012!Y143/Baseline_Data_2012!Y$269","v":0},{"$f":"Baseline_Data_2012!Z143/Baseline_Data_2012!Z$269","v":0},{"$f":"Baseline_Data_2012!AA143/Baseline_Data_2012!AA$269","v":0},{"$f":"Baseline_Data_2012!AB143/Baseline_Data_2012!AB$269","v":0},{"$f":"Baseline_Data_2012!AC143/Baseline_Data_2012!AC$269","v":0},{"$f":"Baseline_Data_2012!AD143/Baseline_Data_2012!AD$269","v":0},{"$f":"Baseline_Data_2012!AE143/Baseline_Data_2012!AE$269","v":0},{"$f":"Baseline_Data_2012!AF143/Baseline_Data_2012!AF$269","v":0},{"$f":"Baseline_Data_2012!AG143/Baseline_Data_2012!AG$269","v":0},{"$f":"Baseline_Data_2012!AH143/Baseline_Data_2012!AH$269","v":0},{"$f":"Baseline_Data_2012!AI143/Baseline_Data_2012!AI$269","v":0},{"$f":"Baseline_Data_2012!AJ143/Baseline_Data_2012!AJ$269","v":0},{"$f":"Baseline_Data_2012!AK143/Baseline_Data_2012!AK$269","v":0},{"$f":"Baseline_Data_2012!AL143/Baseline_Data_2012!AL$269","v":0},{"$f":"Baseline_Data_2012!AM143/Baseline_Data_2012!AM$269","v":0},{"$f":"Baseline_Data_2012!AN143/Baseline_Data_2012!AN$269","v":0},{"$f":"Baseline_Data_2012!AO143/Baseline_Data_2012!AO$269","v":0},{"$f":"Baseline_Data_2012!AP143/Baseline_Data_2012!AP$269","v":0},{"$f":"Baseline_Data_2012!AQ143/Baseline_Data_2012!AQ$269","v":0},{"$f":"Baseline_Data_2012!AR143/Baseline_Data_2012!AR$269","v":0},{"$f":"Baseline_Data_2012!AS143/Baseline_Data_2012!AS$269","v":0},{"$f":"Baseline_Data_2012!AT143/Baseline_Data_2012!AT$269","v":0},{"$f":"Baseline_Data_2012!AU143/Baseline_Data_2012!AU$269","v":0},{"$f":"Baseline_Data_2012!AV143/Baseline_Data_2012!AV$269","v":0},143]
[null,"TOTAL",null,null,null,null,{"$f":"HLOOKUP('III Tool Overview'!$H$6,Targeting!$I$1:$BC$269,Targeting!BD144,FALSE)","v":0},null,{"$f":"Baseline_Data_2012!B144/Baseline_Data_2012!B$269","v":0},{"$f":"Baseline_Data_2012!C144/Baseline_Data_2012!C$269","v":0},{"$f":"Baseline_Data_2012!D144/Baseline_Data_2012!D$269","v":0},{"$f":"Baseline_Data_2012!E144/Baseline_Data_2012!E$269","v":0},{"$f":"Baseline_Data_2012!F144/Baseline_Data_2012!F$269","v":0},{"$f":"Baseline_Data_2012!G144/Baseline_Data_2012!G$269","v":0},{"$f":"Baseline_Data_2012!H144/Baseline_Data_2012!H$269","v":0},{"$f":"Baseline_Data_2012!I144/Baseline_Data_2012!I$269","v":0},{"$f":"Baseline_Data_2012!J144/Baseline_Data_2012!J$269","v":0},{"$f":"Baseline_Data_2012!K144/Baseline_Data_2012!K$269","v":0},{"$f":"Baseline_Data_2012!L144/Baseline_Data_2012!L$269","v":0},{"$f":"Baseline_Data_2012!M144/Baseline_Data_2012!M$269","v":0},{"$f":"Baseline_Data_2012!N144/Baseline_Data_2012!N$269","v":0},{"$f":"Baseline_Data_2012!O144/Baseline_Data_2012!O$269","v":0},{"$f":"Baseline_Data_2012!P144/Baseline_Data_2012!P$269","v":0},{"$f":"Baseline_Data_2012!Q144/Baseline_Data_2012!Q$269","v":0},{"$f":"Baseline_Data_2012!R144/Baseline_Data_2012!R$269","v":0},{"$f":"Baseline_Data_2012!S144/Baseline_Data_2012!S$269","v":0},{"$f":"Baseline_Data_2012!T144/Baseline_Data_2012!T$269","v":0},{"$f":"Baseline_Data_2012!U144/Baseline_Data_2012!U$269","v":0},{"$f":"Baseline_Data_2012!V144/Baseline_Data_2012!V$269","v":0},{"$f":"Baseline_Data_2012!W144/Baseline_Data_2012!W$269","v":0},{"$f":"Baseline_Data_2012!X144/Baseline_Data_2012!X$269","v":0},{"$f":"Baseline_Data_2012!Y144/Baseline_Data_2012!Y$269","v":0},{"$f":"Baseline_Data_2012!Z144/Baseline_Data_2012!Z$269","v":0},{"$f":"Baseline_Data_2012!AA144/Baseline_Data_2012!AA$269","v":0},{"$f":"Baseline_Data_2012!AB144/Baseline_Data_2012!AB$269","v":0},{"$f":"Baseline_Data_2012!AC144/Baseline_Data_2012!AC$269","v":0},{"$f":"Baseline_Data_2012!AD144/Baseline_Data_2012!AD$269","v":0},{"$f":"Baseline_Data_2012!AE144/Baseline_Data_2012!AE$269","v":0},{"$f":"Baseline_Data_2012!AF144/Baseline_Data_2012!AF$269","v":0},{"$f":"Baseline_Data_2012!AG144/Baseline_Data_2012!AG$269","v":0},{"$f":"Baseline_Data_2012!AH144/Baseline_Data_2012!AH$269","v":0},{"$f":"Baseline_Data_2012!AI144/Baseline_Data_2012!AI$269","v":0},{"$f":"Baseline_Data_2012!AJ144/Baseline_Data_2012!AJ$269","v":0},{"$f":"Baseline_Data_2012!AK144/Baseline_Data_2012!AK$269","v":0},{"$f":"Baseline_Data_2012!AL144/Baseline_Data_2012!AL$269","v":0},{"$f":"Baseline_Data_2012!AM144/Baseline_Data_2012!AM$269","v":0},{"$f":"Baseline_Data_2012!AN144/Baseline_Data_2012!AN$269","v":0},{"$f":"Baseline_Data_2012!AO144/Baseline_Data_2012!AO$269","v":0},{"$f":"Baseline_Data_2012!AP144/Baseline_Data_2012!AP$269","v":0},{"$f":"Baseline_Data_2012!AQ144/Baseline_Data_2012!AQ$269","v":0},{"$f":"Baseline_Data_2012!AR144/Baseline_Data_2012!AR$269","v":0},{"$f":"Baseline_Data_2012!AS144/Baseline_Data_2012!AS$269","v":0},{"$f":"Baseline_Data_2012!AT144/Baseline_Data_2012!AT$269","v":0},{"$f":"Baseline_Data_2012!AU144/Baseline_Data_2012!AU$269","v":0},{"$f":"Baseline_Data_2012!AV144/Baseline_Data_2012!AV$269","v":0},144]
[null,"age/sex breakdown: Q3",null,null,null,null,{"$f":"HLOOKUP('III Tool Overview'!$H$6,Targeting!$I$1:$BC$269,Targeting!BD145,FALSE)","v":0},null,{"$f":"Baseline_Data_2012!B145/Baseline_Data_2012!B$269","v":0},{"$f":"Baseline_Data_2012!C145/Baseline_Data_2012!C$269","v":0},{"$f":"Baseline_Data_2012!D145/Baseline_Data_2012!D$269","v":0},{"$f":"Baseline_Data_2012!E145/Baseline_Data_2012!E$269","v":0},{"$f":"Baseline_Data_2012!F145/Baseline_Data_2012!F$269","v":0},{"$f":"Baseline_Data_2012!G145/Baseline_Data_2012!G$269","v":0},{"$f":"Baseline_Data_2012!H145/Baseline_Data_2012!H$269","v":0},{"$f":"Baseline_Data_2012!I145/Baseline_Data_2012!I$269","v":0},{"$f":"Baseline_Data_2012!J145/Baseline_Data_2012!J$269","v":0},{"$f":"Baseline_Data_2012!K145/Baseline_Data_2012!K$269","v":0},{"$f":"Baseline_Data_2012!L145/Baseline_Data_2012!L$269","v":0},{"$f":"Baseline_Data_2012!M145/Baseline_Data_2012!M$269","v":0},{"$f":"Baseline_Data_2012!N145/Baseline_Data_2012!N$269","v":0},{"$f":"Baseline_Data_2012!O145/Baseline_Data_2012!O$269","v":0},{"$f":"Baseline_Data_2012!P145/Baseline_Data_2012!P$269","v":0},{"$f":"Baseline_Data_2012!Q145/Baseline_Data_2012!Q$269","v":0},{"$f":"Baseline_Data_2012!R145/Baseline_Data_2012!R$269","v":0},{"$f":"Baseline_Data_2012!S145/Baseline_Data_2012!S$269","v":0},{"$f":"Baseline_Data_2012!T145/Baseline_Data_2012!T$269","v":0},{"$f":"Baseline_Data_2012!U145/Baseline_Data_2012!U$269","v":0},{"$f":"Baseline_Data_2012!V145/Baseline_Data_2012!V$269","v":0},{"$f":"Baseline_Data_2012!W145/Baseline_Data_2012!W$269","v":0},{"$f":"Baseline_Data_2012!X145/Baseline_Data_2012!X$269","v":0},{"$f":"Baseline_Data_2012!Y145/Baseline_Data_2012!Y$269","v":0},{"$f":"Baseline_Data_2012!Z145/Baseline_Data_2012!Z$269","v":0},{"$f":"Baseline_Data_2012!AA145/Baseline_Data_2012!AA$269","v":0},{"$f":"Baseline_Data_2012!AB145/Baseline_Data_2012!AB$269","v":0},{"$f":"Baseline_Data_2012!AC145/Baseline_Data_2012!AC$269","v":0},{"$f":"Baseline_Data_2012!AD145/Baseline_Data_2012!AD$269","v":0},{"$f":"Baseline_Data_2012!AE145/Baseline_Data_2012!AE$269","v":0},{"$f":"Baseline_Data_2012!AF145/Baseline_Data_2012!AF$269","v":0},{"$f":"Baseline_Data_2012!AG145/Baseline_Data_2012!AG$269","v":0},{"$f":"Baseline_Data_2012!AH145/Baseline_Data_2012!AH$269","v":0},{"$f":"Baseline_Data_2012!AI145/Baseline_Data_2012!AI$269","v":0},{"$f":"Baseline_Data_2012!AJ145/Baseline_Data_2012!AJ$269","v":0},{"$f":"Baseline_Data_2012!AK145/Baseline_Data_2012!AK$269","v":0},{"$f":"Baseline_Data_2012!AL145/Baseline_Data_2012!AL$269","v":0},{"$f":"Baseline_Data_2012!AM145/Baseline_Data_2012!AM$269","v":0},{"$f":"Baseline_Data_2012!AN145/Baseline_Data_2012!AN$269","v":0},{"$f":"Baseline_Data_2012!AO145/Baseline_Data_2012!AO$269","v":0},{"$f":"Baseline_Data_2012!AP145/Baseline_Data_2012!AP$269","v":0},{"$f":"Baseline_Data_2012!AQ145/Baseline_Data_2012!AQ$269","v":0},{"$f":"Baseline_Data_2012!AR145/Baseline_Data_2012!AR$269","v":0},{"$f":"Baseline_Data_2012!AS145/Baseline_Data_2012!AS$269","v":0},{"$f":"Baseline_Data_2012!AT145/Baseline_Data_2012!AT$269","v":0},{"$f":"Baseline_Data_2012!AU145/Baseline_Data_2012!AU$269","v":0},{"$f":"Baseline_Data_2012!AV145/Baseline_Data_2012!AV$269","v":0},145]
[3,"Male <1",null,null,null,null,{"$f":"HLOOKUP('III Tool Overview'!$H$6,Targeting!$I$1:$BC$269,Targeting!BD146,FALSE)","v":0},null,{"$f":"Baseline_Data_2012!B146/Baseline_Data_2012!B$269","v":0},{"$f":"Baseline_Data_2012!C146/Baseline_Data_2012!C$269","v":0},{"$f":"Baseline_Data_2012!D146/Baseline_Data_2012!D$269","v":0},{"$f":"Baseline_Data_2012!E146/Baseline_Data_2012!E$269","v":0},{"$f":"Baseline_Data_2012!F146/Baseline_Data_2012!F$269","v":0},{"$f":"Baseline_Data_2012!G146/Baseline_Data_2012!G$269","v":0},{"$f":"Baseline_Data_2012!H146/Baseline_Data_2012!H$269","v":0},{"$f":"Baseline_Data_2012!I146/Baseline_Data_2012!I$269","v":0},{"$f":"Baseline_Data_2012!J146/Baseline_Data_2012!J$269","v":0},{"$f":"Baseline_Data_2012!K146/Baseline_Data_2012!K$269","v":0},{"$f":"Baseline_Data_2012!L146/Baseline_Data_2012!L$269","v":0},{"$f":"Baseline_Data_2012!M146/Baseline_Data_2012!M$269","v":0},{"$f":"Baseline_Data_2012!N146/Baseline_Data_2012!N$269","v":0},{"$f":"Baseline_Data_2012!O146/Baseline_Data_2012!O$269","v":0},{"$f":"Baseline_Data_2012!P146/Baseline_Data_2012!P$269","v":0},{"$f":"Baseline_Data_2012!Q146/Baseline_Data_2012!Q$269","v":0},{"$f":"Baseline_Data_2012!R146/Baseline_Data_2012!R$269","v":0},{"$f":"Baseline_Data_2012!S146/Baseline_Data_2012!S$269","v":0},{"$f":"Baseline_Data_2012!T146/Baseline_Data_2012!T$269","v":0},{"$f":"Baseline_Data_2012!U146/Baseline_Data_2012!U$269","v":0},{"$f":"Baseline_Data_2012!V146/Baseline_Data_2012!V$269","v":0},{"$f":"Baseline_Data_2012!W146/Baseline_Data_2012!W$269","v":0},{"$f":"Baseline_Data_2012!X146/Baseline_Data_2012!X$269","v":0},{"$f":"Baseline_Data_2012!Y146/Baseline_Data_2012!Y$269","v":0},{"$f":"Baseline_Data_2012!Z146/Baseline_Data_2012!Z$269","v":0},{"$f":"Baseline_Data_2012!AA146/Baseline_Data_2012!AA$269","v":0},{"$f":"Baseline_Data_2012!AB146/Baseline_Data_2012!AB$269","v":0},{"$f":"Baseline_Data_2012!AC146/Baseline_Data_2012!AC$269","v":0},{"$f":"Baseline_Data_2012!AD146/Baseline_Data_2012!AD$269","v":0},{"$f":"Baseline_Data_2012!AE146/Baseline_Data_2012!AE$269","v":0},{"$f":"Baseline_Data_2012!AF146/Baseline_Data_2012!AF$269","v":0},{"$f":"Baseline_Data_2012!AG146/Baseline_Data_2012!AG$269","v":0},{"$f":"Baseline_Data_2012!AH146/Baseline_Data_2012!AH$269","v":0},{"$f":"Baseline_Data_2012!AI146/Baseline_Data_2012!AI$269","v":0},{"$f":"Baseline_Data_2012!AJ146/Baseline_Data_2012!AJ$269","v":0},{"$f":"Baseline_Data_2012!AK146/Baseline_Data_2012!AK$269","v":0},{"$f":"Baseline_Data_2012!AL146/Baseline_Data_2012!AL$269","v":0},{"$f":"Baseline_Data_2012!AM146/Baseline_Data_2012!AM$269","v":0},{"$f":"Baseline_Data_2012!AN146/Baseline_Data_2012!AN$269","v":0},{"$f":"Baseline_Data_2012!AO146/Baseline_Data_2012!AO$269","v":0},{"$f":"Baseline_Data_2012!AP146/Baseline_Data_2012!AP$269","v":0},{"$f":"Baseline_Data_2012!AQ146/Baseline_Data_2012!AQ$269","v":0},{"$f":"Baseline_Data_2012!AR146/Baseline_Data_2012!AR$269","v":0},{"$f":"Baseline_Data_2012!AS146/Baseline_Data_2012!AS$269","v":0},{"$f":"Baseline_Data_2012!AT146/Baseline_Data_2012!AT$269","v":0},{"$f":"Baseline_Data_2012!AU146/Baseline_Data_2012!AU$269","v":0},{"$f":"Baseline_Data_2012!AV146/Baseline_Data_2012!AV$269","v":0},146]
[3,"Male 1-4",null,null,null,null,{"$f":"HLOOKUP('III Tool Overview'!$H$6,Targeting!$I$1:$BC$269,Targeting!BD147,FALSE)","v":0},null,{"$f":"Baseline_Data_2012!B147/Baseline_Data_2012!B$269","v":0},{"$f":"Baseline_Data_2012!C147/Baseline_Data_2012!C$269","v":0},{"$f":"Baseline_Data_2012!D147/Baseline_Data_2012!D$269","v":0},{"$f":"Baseline_Data_2012!E147/Baseline_Data_2012!E$269","v":0},{"$f":"Baseline_Data_2012!F147/Baseline_Data_2012!F$269","v":0},{"$f":"Baseline_Data_2012!G147/Baseline_Data_2012!G$269","v":0},{"$f":"Baseline_Data_2012!H147/Baseline_Data_2012!H$269","v":0},{"$f":"Baseline_Data_2012!I147/Baseline_Data_2012!I$269","v":0},{"$f":"Baseline_Data_2012!J147/Baseline_Data_2012!J$269","v":0},{"$f":"Baseline_Data_2012!K147/Baseline_Data_2012!K$269","v":0},{"$f":"Baseline_Data_2012!L147/Baseline_Data_2012!L$269","v":0},{"$f":"Baseline_Data_2012!M147/Baseline_Data_2012!M$269","v":0},{"$f":"Baseline_Data_2012!N147/Baseline_Data_2012!N$269","v":0},{"$f":"Baseline_Data_2012!O147/Baseline_Data_2012!O$269","v":0},{"$f":"Baseline_Data_2012!P147/Baseline_Data_2012!P$269","v":0},{"$f":"Baseline_Data_2012!Q147/Baseline_Data_2012!Q$269","v":0},{"$f":"Baseline_Data_2012!R147/Baseline_Data_2012!R$269","v":0},{"$f":"Baseline_Data_2012!S147/Baseline_Data_2012!S$269","v":0},{"$f":"Baseline_Data_2012!T147/Baseline_Data_2012!T$269","v":0},{"$f":"Baseline_Data_2012!U147/Baseline_Data_2012!U$269","v":0},{"$f":"Baseline_Data_2012!V147/Baseline_Data_2012!V$269","v":0},{"$f":"Baseline_Data_2012!W147/Baseline_Data_2012!W$269","v":0},{"$f":"Baseline_Data_2012!X147/Baseline_Data_2012!X$269","v":0},{"$f":"Baseline_Data_2012!Y147/Baseline_Data_2012!Y$269","v":0},{"$f":"Baseline_Data_2012!Z147/Baseline_Data_2012!Z$269","v":0},{"$f":"Baseline_Data_2012!AA147/Baseline_Data_2012!AA$269","v":0},{"$f":"Baseline_Data_2012!AB147/Baseline_Data_2012!AB$269","v":0},{"$f":"Baseline_Data_2012!AC147/Baseline_Data_2012!AC$269","v":0},{"$f":"Baseline_Data_2012!AD147/Baseline_Data_2012!AD$269","v":0},{"$f":"Baseline_Data_2012!AE147/Baseline_Data_2012!AE$269","v":0},{"$f":"Baseline_Data_2012!AF147/Baseline_Data_2012!AF$269","v":0},{"$f":"Baseline_Data_2012!AG147/Baseline_Data_2012!AG$269","v":0},{"$f":"Baseline_Data_2012!AH147/Baseline_Data_2012!AH$269","v":0},{"$f":"Baseline_Data_2012!AI147/Baseline_Data_2012!AI$269","v":0},{"$f":"Baseline_Data_2012!AJ147/Baseline_Data_2012!AJ$269","v":0},{"$f":"Baseline_Data_2012!AK147/Baseline_Data_2012!AK$269","v":0},{"$f":"Baseline_Data_2012!AL147/Baseline_Data_2012!AL$269","v":0},{"$f":"Baseline_Data_2012!AM147/Baseline_Data_2012!AM$269","v":0},{"$f":"Baseline_Data_2012!AN147/Baseline_Data_2012!AN$269","v":0},{"$f":"Baseline_Data_2012!AO147/Baseline_Data_2012!AO$269","v":0},{"$f":"Baseline_Data_2012!AP147/Baseline_Data_2012!AP$269","v":0},{"$f":"Baseline_Data_2012!AQ147/Baseline_Data_2012!AQ$269","v":0},{"$f":"Baseline_Data_2012!AR147/Baseline_Data_2012!AR$269","v":0},{"$f":"Baseline_Data_2012!AS147/Baseline_Data_2012!AS$269","v":0},{"$f":"Baseline_Data_2012!AT147/Baseline_Data_2012!AT$269","v":0},{"$f":"Baseline_Data_2012!AU147/Baseline_Data_2012!AU$269","v":0},{"$f":"Baseline_Data_2012!AV147/Baseline_Data_2012!AV$269","v":0},147]
[3,"Male 5-9",null,null,null,null,{"$f":"HLOOKUP('III Tool Overview'!$H$6,Targeting!$I$1:$BC$269,Targeting!BD148,FALSE)","v":0},null,{"$f":"Baseline_Data_2012!B148/Baseline_Data_2012!B$269","v":0},{"$f":"Baseline_Data_2012!C148/Baseline_Data_2012!C$269","v":0},{"$f":"Baseline_Data_2012!D148/Baseline_Data_2012!D$269","v":0},{"$f":"Baseline_Data_2012!E148/Baseline_Data_2012!E$269","v":0},{"$f":"Baseline_Data_2012!F148/Baseline_Data_2012!F$269","v":0},{"$f":"Baseline_Data_2012!G148/Baseline_Data_2012!G$269","v":0},{"$f":"Baseline_Data_2012!H148/Baseline_Data_2012!H$269","v":0},{"$f":"Baseline_Data_2012!I148/Baseline_Data_2012!I$269","v":0},{"$f":"Baseline_Data_2012!J148/Baseline_Data_2012!J$269","v":0},{"$f":"Baseline_Data_2012!K148/Baseline_Data_2012!K$269","v":0},{"$f":"Baseline_Data_2012!L148/Baseline_Data_2012!L$269","v":0},{"$f":"Baseline_Data_2012!M148/Baseline_Data_2012!M$269","v":0},{"$f":"Baseline_Data_2012!N148/Baseline_Data_2012!N$269","v":0},{"$f":"Baseline_Data_2012!O148/Baseline_Data_2012!O$269","v":0},{"$f":"Baseline_Data_2012!P148/Baseline_Data_2012!P$269","v":0},{"$f":"Baseline_Data_2012!Q148/Baseline_Data_2012!Q$269","v":0},{"$f":"Baseline_Data_2012!R148/Baseline_Data_2012!R$269","v":0},{"$f":"Baseline_Data_2012!S148/Baseline_Data_2012!S$269","v":0},{"$f":"Baseline_Data_2012!T148/Baseline_Data_2012!T$269","v":0},{"$f":"Baseline_Data_2012!U148/Baseline_Data_2012!U$269","v":0},{"$f":"Baseline_Data_2012!V148/Baseline_Data_2012!V$269","v":0},{"$f":"Baseline_Data_2012!W148/Baseline_Data_2012!W$269","v":0},{"$f":"Baseline_Data_2012!X148/Baseline_Data_2012!X$269","v":0},{"$f":"Baseline_Data_2012!Y148/Baseline_Data_2012!Y$269","v":0},{"$f":"Baseline_Data_2012!Z148/Baseline_Data_2012!Z$269","v":0},{"$f":"Baseline_Data_2012!AA148/Baseline_Data_2012!AA$269","v":0},{"$f":"Baseline_Data_2012!AB148/Baseline_Data_2012!AB$269","v":0},{"$f":"Baseline_Data_2012!AC148/Baseline_Data_2012!AC$269","v":0},{"$f":"Baseline_Data_2012!AD148/Baseline_Data_2012!AD$269","v":0},{"$f":"Baseline_Data_2012!AE148/Baseline_Data_2012!AE$269","v":0},{"$f":"Baseline_Data_2012!AF148/Baseline_Data_2012!AF$269","v":0},{"$f":"Baseline_Data_2012!AG148/Baseline_Data_2012!AG$269","v":0},{"$f":"Baseline_Data_2012!AH148/Baseline_Data_2012!AH$269","v":0},{"$f":"Baseline_Data_2012!AI148/Baseline_Data_2012!AI$269","v":0},{"$f":"Baseline_Data_2012!AJ148/Baseline_Data_2012!AJ$269","v":0},{"$f":"Baseline_Data_2012!AK148/Baseline_Data_2012!AK$269","v":0},{"$f":"Baseline_Data_2012!AL148/Baseline_Data_2012!AL$269","v":0},{"$f":"Baseline_Data_2012!AM148/Baseline_Data_2012!AM$269","v":0},{"$f":"Baseline_Data_2012!AN148/Baseline_Data_2012!AN$269","v":0},{"$f":"Baseline_Data_2012!AO148/Baseline_Data_2012!AO$269","v":0},{"$f":"Baseline_Data_2012!AP148/Baseline_Data_2012!AP$269","v":0},{"$f":"Baseline_Data_2012!AQ148/Baseline_Data_2012!AQ$269","v":0},{"$f":"Baseline_Data_2012!AR148/Baseline_Data_2012!AR$269","v":0},{"$f":"Baseline_Data_2012!AS148/Baseline_Data_2012!AS$269","v":0},{"$f":"Baseline_Data_2012!AT148/Baseline_Data_2012!AT$269","v":0},{"$f":"Baseline_Data_2012!AU148/Baseline_Data_2012!AU$269","v":0},{"$f":"Baseline_Data_2012!AV148/Baseline_Data_2012!AV$269","v":0},148]
[3,"Male 10-14",null,null,null,null,{"$f":"HLOOKUP('III Tool Overview'!$H$6,Targeting!$I$1:$BC$269,Targeting!BD149,FALSE)","v":0},null,{"$f":"Baseline_Data_2012!B149/Baseline_Data_2012!B$269","v":0},{"$f":"Baseline_Data_2012!C149/Baseline_Data_2012!C$269","v":0},{"$f":"Baseline_Data_2012!D149/Baseline_Data_2012!D$269","v":0},{"$f":"Baseline_Data_2012!E149/Baseline_Data_2012!E$269","v":0},{"$f":"Baseline_Data_2012!F149/Baseline_Data_2012!F$269","v":0},{"$f":"Baseline_Data_2012!G149/Baseline_Data_2012!G$269","v":0},{"$f":"Baseline_Data_2012!H149/Baseline_Data_2012!H$269","v":0},{"$f":"Baseline_Data_2012!I149/Baseline_Data_2012!I$269","v":0},{"$f":"Baseline_Data_2012!J149/Baseline_Data_2012!J$269","v":0},{"$f":"Baseline_Data_2012!K149/Baseline_Data_2012!K$269","v":0},{"$f":"Baseline_Data_2012!L149/Baseline_Data_2012!L$269","v":0},{"$f":"Baseline_Data_2012!M149/Baseline_Data_2012!M$269","v":0},{"$f":"Baseline_Data_2012!N149/Baseline_Data_2012!N$269","v":0},{"$f":"Baseline_Data_2012!O149/Baseline_Data_2012!O$269","v":0},{"$f":"Baseline_Data_2012!P149/Baseline_Data_2012!P$269","v":0},{"$f":"Baseline_Data_2012!Q149/Baseline_Data_2012!Q$269","v":0},{"$f":"Baseline_Data_2012!R149/Baseline_Data_2012!R$269","v":0},{"$f":"Baseline_Data_2012!S149/Baseline_Data_2012!S$269","v":0},{"$f":"Baseline_Data_2012!T149/Baseline_Data_2012!T$269","v":0},{"$f":"Baseline_Data_2012!U149/Baseline_Data_2012!U$269","v":0},{"$f":"Baseline_Data_2012!V149/Baseline_Data_2012!V$269","v":0},{"$f":"Baseline_Data_2012!W149/Baseline_Data_2012!W$269","v":0},{"$f":"Baseline_Data_2012!X149/Baseline_Data_2012!X$269","v":0},{"$f":"Baseline_Data_2012!Y149/Baseline_Data_2012!Y$269","v":0},{"$f":"Baseline_Data_2012!Z149/Baseline_Data_2012!Z$269","v":0},{"$f":"Baseline_Data_2012!AA149/Baseline_Data_2012!AA$269","v":0},{"$f":"Baseline_Data_2012!AB149/Baseline_Data_2012!AB$269","v":0},{"$f":"Baseline_Data_2012!AC149/Baseline_Data_2012!AC$269","v":0},{"$f":"Baseline_Data_2012!AD149/Baseline_Data_2012!AD$269","v":0},{"$f":"Baseline_Data_2012!AE149/Baseline_Data_2012!AE$269","v":0},{"$f":"Baseline_Data_2012!AF149/Baseline_Data_2012!AF$269","v":0},{"$f":"Baseline_Data_2012!AG149/Baseline_Data_2012!AG$269","v":0},{"$f":"Baseline_Data_2012!AH149/Baseline_Data_2012!AH$269","v":0},{"$f":"Baseline_Data_2012!AI149/Baseline_Data_2012!AI$269","v":0},{"$f":"Baseline_Data_2012!AJ149/Baseline_Data_2012!AJ$269","v":0},{"$f":"Baseline_Data_2012!AK149/Baseline_Data_2012!AK$269","v":0},{"$f":"Baseline_Data_2012!AL149/Baseline_Data_2012!AL$269","v":0},{"$f":"Baseline_Data_2012!AM149/Baseline_Data_2012!AM$269","v":0},{"$f":"Baseline_Data_2012!AN149/Baseline_Data_2012!AN$269","v":0},{"$f":"Baseline_Data_2012!AO149/Baseline_Data_2012!AO$269","v":0},{"$f":"Baseline_Data_2012!AP149/Baseline_Data_2012!AP$269","v":0},{"$f":"Baseline_Data_2012!AQ149/Baseline_Data_2012!AQ$269","v":0},{"$f":"Baseline_Data_2012!AR149/Baseline_Data_2012!AR$269","v":0},{"$f":"Baseline_Data_2012!AS149/Baseline_Data_2012!AS$269","v":0},{"$f":"Baseline_Data_2012!AT149/Baseline_Data_2012!AT$269","v":0},{"$f":"Baseline_Data_2012!AU149/Baseline_Data_2012!AU$269","v":0},{"$f":"Baseline_Data_2012!AV149/Baseline_Data_2012!AV$269","v":0},149]
[3,"Male 15-19",{"$f":"'III Tool Overview'!$H$8/110","v":1.3090909090909091},0,0,{"$f":"G150*'III Tool Overview'!$H$8","v":0.22737670862636206},{"$f":"HLOOKUP('III Tool Overview'!$H$6,Targeting!$I$1:$BC$269,Targeting!BD150,FALSE)","v":1.5790049210164031E-3},{"$f":"Baseline_Data_2012!B150","v":2057.04},{"$f":"Baseline_Data_2012!B150/Baseline_Data_2012!B$269","v":1.8987558923171024E-3},{"$f":"Baseline_Data_2012!C150/Baseline_Data_2012!C$269","v":1.4731003650812898E-3},{"$f":"Baseline_Data_2012!D150/Baseline_Data_2012!D$269","v":3.0858960287509503E-3},{"$f":"Baseline_Data_2012!E150/Baseline_Data_2012!E$269","v":3.9770022033555003E-3},{"$f":"Baseline_Data_2012!F150/Baseline_Data_2012!F$269","v":1.7261882231549366E-3},{"$f":"Baseline_Data_2012!G150/Baseline_Data_2012!G$269","v":1.9867031638946802E-3},{"$f":"Baseline_Data_2012!H150/Baseline_Data_2012!H$269","v":2.0938021043967305E-3},{"$f":"Baseline_Data_2012!I150/Baseline_Data_2012!I$269","v":1.3524446720913027E-3},{"$f":"Baseline_Data_2012!J150/Baseline_Data_2012!J$269","v":2.7202323359831826E-3},{"$f":"Baseline_Data_2012!K150/Baseline_Data_2012!K$269","v":2.139797872004876E-3},{"$f":"Baseline_Data_2012!L150/Baseline_Data_2012!L$269","v":1.6830069295230676E-3},{"$f":"Baseline_Data_2012!M150/Baseline_Data_2012!M$269","v":1.5790049210164031E-3},{"$f":"Baseline_Data_2012!N150/Baseline_Data_2012!N$269","v":4.7309118372519023E-3},{"$f":"Baseline_Data_2012!O150/Baseline_Data_2012!O$269","v":1.8564467070350545E-3},{"$f":"Baseline_Data_2012!P150/Baseline_Data_2012!P$269","v":5.5027891033966698E-3},{"$f":"Baseline_Data_2012!Q150/Baseline_Data_2012!Q$269","v":1.3556953983931527E-3},{"$f":"Baseline_Data_2012!R150/Baseline_Data_2012!R$269","v":2.004788429427765E-3},{"$f":"Baseline_Data_2012!S150/Baseline_Data_2012!S$269","v":2.4874086665005362E-3},{"$f":"Baseline_Data_2012!T150/Baseline_Data_2012!T$269","v":3.2827292938454474E-3},{"$f":"Baseline_Data_2012!U150/Baseline_Data_2012!U$269","v":2.2330459816790149E-3},{"$f":"Baseline_Data_2012!V150/Baseline_Data_2012!V$269","v":3.9532827543685718E-3},{"$f":"Baseline_Data_2012!W150/Baseline_Data_2012!W$269","v":1.6170033043600301E-3},{"$f":"Baseline_Data_2012!X150/Baseline_Data_2012!X$269","v":1.1654464482200506E-3},{"$f":"Baseline_Data_2012!Y150/Baseline_Data_2012!Y$269","v":9.3573325987536733E-4},{"$f":"Baseline_Data_2012!Z150/Baseline_Data_2012!Z$269","v":2.6558517675483086E-3},{"$f":"Baseline_Data_2012!AA150/Baseline_Data_2012!AA$269","v":8.5675316509188247E-4},{"$f":"Baseline_Data_2012!AB150/Baseline_Data_2012!AB$269","v":1.1685231710676287E-3},{"$f":"Baseline_Data_2012!AC150/Baseline_Data_2012!AC$269","v":5.5027891033966698E-3},{"$f":"Baseline_Data_2012!AD150/Baseline_Data_2012!AD$269","v":2.0768854936134488E-3},{"$f":"Baseline_Data_2012!AE150/Baseline_Data_2012!AE$269","v":1.7223286824236679E-3},{"$f":"Baseline_Data_2012!AF150/Baseline_Data_2012!AF$269","v":1.1973868751367124E-3},{"$f":"Baseline_Data_2012!AG150/Baseline_Data_2012!AG$269","v":2.5233518741079658E-3},{"$f":"Baseline_Data_2012!AH150/Baseline_Data_2012!AH$269","v":1.3948255266723463E-3},{"$f":"Baseline_Data_2012!AI150/Baseline_Data_2012!AI$269","v":2.4720000731645892E-3},{"$f":"Baseline_Data_2012!AJ150/Baseline_Data_2012!AJ$269","v":4.3114471353736215E-3},{"$f":"Baseline_Data_2012!AK150/Baseline_Data_2012!AK$269","v":1.3325417563358301E-3},{"$f":"Baseline_Data_2012!AL150/Baseline_Data_2012!AL$269","v":1.8228793509002339E-3},{"$f":"Baseline_Data_2012!AM150/Baseline_Data_2012!AM$269","v":1.5790049210164031E-3},{"$f":"Baseline_Data_2012!AN150/Baseline_Data_2012!AN$269","v":1.634600245780507E-3},{"$f":"Baseline_Data_2012!AO150/Baseline_Data_2012!AO$269","v":1.8976109587220311E-3},{"$f":"Baseline_Data_2012!AP150/Baseline_Data_2012!AP$269","v":3.1006181562540638E-3},{"$f":"Baseline_Data_2012!AQ150/Baseline_Data_2012!AQ$269","v":4.7309118372519023E-3},{"$f":"Baseline_Data_2012!AR150/Baseline_Data_2012!AR$269","v":2.0079576131031567E-3},{"$f":"Baseline_Data_2012!AS150/Baseline_Data_2012!AS$269","v":2.3786095187165505E-3},{"$f":"Baseline_Data_2012!AT150/Baseline_Data_2012!AT$269","v":1.6768730254043459E-3},{"$f":"Baseline_Data_2012!AU150/Baseline_Data_2012!AU$269","v":1.919443081991368E-3},{"$f":"Baseline_Data_2012!AV150/Baseline_Data_2012!AV$269","v":2.2055930198594332E-3},150]
[3,"Male 20-24",{"$f":"'III Tool Overview'!$H$8/110","v":1.3090909090909091},0,0,{"$f":"G151*'III Tool Overview'!$H$8","v":0.36668003165825364},{"$f":"HLOOKUP('III Tool Overview'!$H$6,Targeting!$I$1:$BC$269,Targeting!BD151,FALSE)","v":2.5463891087378725E-3},{"$f":"Baseline_Data_2012!B151","v":4113.8900000000003},{"$f":"Baseline_Data_2012!B151/Baseline_Data_2012!B$269","v":3.7973364046612629E-3},{"$f":"Baseline_Data_2012!C151/Baseline_Data_2012!C$269","v":2.207861646595686E-3},{"$f":"Baseline_Data_2012!D151/Baseline_Data_2012!D$269","v":4.5370429461817387E-3},{"$f":"Baseline_Data_2012!E151/Baseline_Data_2012!E$269","v":5.3895829571409919E-3},{"$f":"Baseline_Data_2012!F151/Baseline_Data_2012!F$269","v":3.1880771404232426E-3},{"$f":"Baseline_Data_2012!G151/Baseline_Data_2012!G$269","v":3.876907340545869E-3},{"$f":"Baseline_Data_2012!H151/Baseline_Data_2012!H$269","v":4.7494399302488721E-3},{"$f":"Baseline_Data_2012!I151/Baseline_Data_2012!I$269","v":3.405993474825131E-3},{"$f":"Baseline_Data_2012!J151/Baseline_Data_2012!J$269","v":4.0321519297514055E-3},{"$f":"Baseline_Data_2012!K151/Baseline_Data_2012!K$269","v":3.490456430726081E-3},{"$f":"Baseline_Data_2012!L151/Baseline_Data_2012!L$269","v":4.3966547817537805E-3},{"$f":"Baseline_Data_2012!M151/Baseline_Data_2012!M$269","v":2.5463891087378725E-3},{"$f":"Baseline_Data_2012!N151/Baseline_Data_2012!N$269","v":6.8357666800970282E-3},{"$f":"Baseline_Data_2012!O151/Baseline_Data_2012!O$269","v":3.7810007595489863E-3},{"$f":"Baseline_Data_2012!P151/Baseline_Data_2012!P$269","v":7.6419983673421269E-3},{"$f":"Baseline_Data_2012!Q151/Baseline_Data_2012!Q$269","v":5.8626429696237914E-3},{"$f":"Baseline_Data_2012!R151/Baseline_Data_2012!R$269","v":3.2038370914861179E-3},{"$f":"Baseline_Data_2012!S151/Baseline_Data_2012!S$269","v":4.0184703420542561E-3},{"$f":"Baseline_Data_2012!T151/Baseline_Data_2012!T$269","v":4.3039586357864522E-3},{"$f":"Baseline_Data_2012!U151/Baseline_Data_2012!U$269","v":4.3989932259277708E-3},{"$f":"Baseline_Data_2012!V151/Baseline_Data_2012!V$269","v":5.3574386606392533E-3},{"$f":"Baseline_Data_2012!W151/Baseline_Data_2012!W$269","v":4.7749195834595002E-3},{"$f":"Baseline_Data_2012!X151/Baseline_Data_2012!X$269","v":2.1366518217367596E-3},{"$f":"Baseline_Data_2012!Y151/Baseline_Data_2012!Y$269","v":2.2353028967184029E-3},{"$f":"Baseline_Data_2012!Z151/Baseline_Data_2012!Z$269","v":4.0752817878514378E-3},{"$f":"Baseline_Data_2012!AA151/Baseline_Data_2012!AA$269","v":1.6365524530797036E-3},{"$f":"Baseline_Data_2012!AB151/Baseline_Data_2012!AB$269","v":4.7966851900737208E-3},{"$f":"Baseline_Data_2012!AC151/Baseline_Data_2012!AC$269","v":7.6419983673421269E-3},{"$f":"Baseline_Data_2012!AD151/Baseline_Data_2012!AD$269","v":2.9448426789320725E-3},{"$f":"Baseline_Data_2012!AE151/Baseline_Data_2012!AE$269","v":3.1809489991158004E-3},{"$f":"Baseline_Data_2012!AF151/Baseline_Data_2012!AF$269","v":4.0219127633968977E-3},{"$f":"Baseline_Data_2012!AG151/Baseline_Data_2012!AG$269","v":3.9323681757584212E-3},{"$f":"Baseline_Data_2012!AH151/Baseline_Data_2012!AH$269","v":2.6434008439279785E-3},{"$f":"Baseline_Data_2012!AI151/Baseline_Data_2012!AI$269","v":4.2119568256935823E-3},{"$f":"Baseline_Data_2012!AJ151/Baseline_Data_2012!AJ$269","v":6.268075214325027E-3},{"$f":"Baseline_Data_2012!AK151/Baseline_Data_2012!AK$269","v":1.7401208689581023E-3},{"$f":"Baseline_Data_2012!AL151/Baseline_Data_2012!AL$269","v":3.0607280121369303E-3},{"$f":"Baseline_Data_2012!AM151/Baseline_Data_2012!AM$269","v":2.5463891087378725E-3},{"$f":"Baseline_Data_2012!AN151/Baseline_Data_2012!AN$269","v":2.6134596952886013E-3},{"$f":"Baseline_Data_2012!AO151/Baseline_Data_2012!AO$269","v":3.3946270448164408E-3},{"$f":"Baseline_Data_2012!AP151/Baseline_Data_2012!AP$269","v":4.5586881747048226E-3},{"$f":"Baseline_Data_2012!AQ151/Baseline_Data_2012!AQ$269","v":6.8357666800970282E-3},{"$f":"Baseline_Data_2012!AR151/Baseline_Data_2012!AR$269","v":2.9069749989697972E-3},{"$f":"Baseline_Data_2012!AS151/Baseline_Data_2012!AS$269","v":3.809168626678345E-3},{"$f":"Baseline_Data_2012!AT151/Baseline_Data_2012!AT$269","v":5.1829547242955463E-3},{"$f":"Baseline_Data_2012!AU151/Baseline_Data_2012!AU$269","v":3.2470578803687308E-3},{"$f":"Baseline_Data_2012!AV151/Baseline_Data_2012!AV$269","v":3.6584836599255675E-3},151]
[3,"Male 25-29",{"$f":"'III Tool Overview'!$H$8/110","v":1.3090909090909091},0,0,{"$f":"G152*'III Tool Overview'!$H$8","v":0.52633497367213455},{"$f":"HLOOKUP('III Tool Overview'!$H$6,Targeting!$I$1:$BC$269,Targeting!BD152,FALSE)","v":3.6551039838342674E-3},{"$f":"Baseline_Data_2012!B152","v":5508.6},{"$f":"Baseline_Data_2012!B152/Baseline_Data_2012!B$269","v":5.0847269418280595E-3},{"$f":"Baseline_Data_2012!C152/Baseline_Data_2012!C$269","v":2.5259282490626392E-3},{"$f":"Baseline_Data_2012!D152/Baseline_Data_2012!D$269","v":5.8507037137282341E-3},{"$f":"Baseline_Data_2012!E152/Baseline_Data_2012!E$269","v":7.2043767399582043E-3},{"$f":"Baseline_Data_2012!F152/Baseline_Data_2012!F$269","v":4.4371173712104139E-3},{"$f":"Baseline_Data_2012!G152/Baseline_Data_2012!G$269","v":4.6744939519562344E-3},{"$f":"Baseline_Data_2012!H152/Baseline_Data_2012!H$269","v":6.0039740046844894E-3},{"$f":"Baseline_Data_2012!I152/Baseline_Data_2012!I$269","v":4.6626998760264217E-3},{"$f":"Baseline_Data_2012!J152/Baseline_Data_2012!J$269","v":5.3126774247135803E-3},{"$f":"Baseline_Data_2012!K152/Baseline_Data_2012!K$269","v":4.4677842313293843E-3},{"$f":"Baseline_Data_2012!L152/Baseline_Data_2012!L$269","v":6.9009613034392491E-3},{"$f":"Baseline_Data_2012!M152/Baseline_Data_2012!M$269","v":3.6551039838342674E-3},{"$f":"Baseline_Data_2012!N152/Baseline_Data_2012!N$269","v":9.2087399374474292E-3},{"$f":"Baseline_Data_2012!O152/Baseline_Data_2012!O$269","v":4.2778775917002914E-3},{"$f":"Baseline_Data_2012!P152/Baseline_Data_2012!P$269","v":1.0137169301413555E-2},{"$f":"Baseline_Data_2012!Q152/Baseline_Data_2012!Q$269","v":7.0547499630760511E-3},{"$f":"Baseline_Data_2012!R152/Baseline_Data_2012!R$269","v":4.033730936318515E-3},{"$f":"Baseline_Data_2012!S152/Baseline_Data_2012!S$269","v":4.9426369366232419E-3},{"$f":"Baseline_Data_2012!T152/Baseline_Data_2012!T$269","v":5.5829515807301099E-3},{"$f":"Baseline_Data_2012!U152/Baseline_Data_2012!U$269","v":5.9986271262651427E-3},{"$f":"Baseline_Data_2012!V152/Baseline_Data_2012!V$269","v":7.1614087359621595E-3},{"$f":"Baseline_Data_2012!W152/Baseline_Data_2012!W$269","v":4.6458677028254607E-3},{"$f":"Baseline_Data_2012!X152/Baseline_Data_2012!X$269","v":2.5548499564525371E-3},{"$f":"Baseline_Data_2012!Y152/Baseline_Data_2012!Y$269","v":3.2906978983520264E-3},{"$f":"Baseline_Data_2012!Z152/Baseline_Data_2012!Z$269","v":4.8290750101114728E-3},{"$f":"Baseline_Data_2012!AA152/Baseline_Data_2012!AA$269","v":1.3466928493210727E-3},{"$f":"Baseline_Data_2012!AB152/Baseline_Data_2012!AB$269","v":8.1941727116502834E-3},{"$f":"Baseline_Data_2012!AC152/Baseline_Data_2012!AC$269","v":1.0137169301413555E-2},{"$f":"Baseline_Data_2012!AD152/Baseline_Data_2012!AD$269","v":4.3752334195757961E-3},{"$f":"Baseline_Data_2012!AE152/Baseline_Data_2012!AE$269","v":4.4271965323390257E-3},{"$f":"Baseline_Data_2012!AF152/Baseline_Data_2012!AF$269","v":5.5225770171164488E-3},{"$f":"Baseline_Data_2012!AG152/Baseline_Data_2012!AG$269","v":5.2112272384422891E-3},{"$f":"Baseline_Data_2012!AH152/Baseline_Data_2012!AH$269","v":2.8217687463930694E-3},{"$f":"Baseline_Data_2012!AI152/Baseline_Data_2012!AI$269","v":5.4377630475411793E-3},{"$f":"Baseline_Data_2012!AJ152/Baseline_Data_2012!AJ$269","v":8.907806780489292E-3},{"$f":"Baseline_Data_2012!AK152/Baseline_Data_2012!AK$269","v":1.8238700016887063E-3},{"$f":"Baseline_Data_2012!AL152/Baseline_Data_2012!AL$269","v":3.8626223264723197E-3},{"$f":"Baseline_Data_2012!AM152/Baseline_Data_2012!AM$269","v":3.6551039838342674E-3},{"$f":"Baseline_Data_2012!AN152/Baseline_Data_2012!AN$269","v":3.426347483628368E-3},{"$f":"Baseline_Data_2012!AO152/Baseline_Data_2012!AO$269","v":5.0662682656410496E-3},{"$f":"Baseline_Data_2012!AP152/Baseline_Data_2012!AP$269","v":5.8786161272554359E-3},{"$f":"Baseline_Data_2012!AQ152/Baseline_Data_2012!AQ$269","v":9.2087399374474292E-3},{"$f":"Baseline_Data_2012!AR152/Baseline_Data_2012!AR$269","v":3.4226550223349266E-3},{"$f":"Baseline_Data_2012!AS152/Baseline_Data_2012!AS$269","v":5.114333645881714E-3},{"$f":"Baseline_Data_2012!AT152/Baseline_Data_2012!AT$269","v":4.3486513493320462E-3},{"$f":"Baseline_Data_2012!AU152/Baseline_Data_2012!AU$269","v":4.3841824940939198E-3},{"$f":"Baseline_Data_2012!AV152/Baseline_Data_2012!AV$269","v":5.3088492702717755E-3},152]
[3,"Male 30-34",{"$f":"'III Tool Overview'!$H$8/110","v":1.3090909090909091},0,0,{"$f":"G153*'III Tool Overview'!$H$8","v":0.23299094834553136},{"$f":"HLOOKUP('III Tool Overview'!$H$6,Targeting!$I$1:$BC$269,Targeting!BD153,FALSE)","v":1.6179926968439677E-3},{"$f":"Baseline_Data_2012!B153","v":2834.7199999999984},{"$f":"Baseline_Data_2012!B153/Baseline_Data_2012!B$269","v":2.6165953520928776E-3},{"$f":"Baseline_Data_2012!C153/Baseline_Data_2012!C$269","v":1.4807330094599484E-3},{"$f":"Baseline_Data_2012!D153/Baseline_Data_2012!D$269","v":2.9376351022299533E-3},{"$f":"Baseline_Data_2012!E153/Baseline_Data_2012!E$269","v":3.4154082322764797E-3},{"$f":"Baseline_Data_2012!F153/Baseline_Data_2012!F$269","v":2.3622082831960029E-3},{"$f":"Baseline_Data_2012!G153/Baseline_Data_2012!G$269","v":2.6078937771180158E-3},{"$f":"Baseline_Data_2012!H153/Baseline_Data_2012!H$269","v":2.9183337490141874E-3},{"$f":"Baseline_Data_2012!I153/Baseline_Data_2012!I$269","v":2.2727195240573104E-3},{"$f":"Baseline_Data_2012!J153/Baseline_Data_2012!J$269","v":2.8746971977143465E-3},{"$f":"Baseline_Data_2012!K153/Baseline_Data_2012!K$269","v":2.6975939639163008E-3},{"$f":"Baseline_Data_2012!L153/Baseline_Data_2012!L$269","v":3.4779871288726605E-3},{"$f":"Baseline_Data_2012!M153/Baseline_Data_2012!M$269","v":1.6179926968439677E-3},{"$f":"Baseline_Data_2012!N153/Baseline_Data_2012!N$269","v":5.7933623769737246E-3},{"$f":"Baseline_Data_2012!O153/Baseline_Data_2012!O$269","v":1.9261493597053276E-3},{"$f":"Baseline_Data_2012!P153/Baseline_Data_2012!P$269","v":5.8329564496004674E-3},{"$f":"Baseline_Data_2012!Q153/Baseline_Data_2012!Q$269","v":2.9915794478020904E-3},{"$f":"Baseline_Data_2012!R153/Baseline_Data_2012!R$269","v":2.2479394758884805E-3},{"$f":"Baseline_Data_2012!S153/Baseline_Data_2012!S$269","v":2.719470116436445E-3},{"$f":"Baseline_Data_2012!T153/Baseline_Data_2012!T$269","v":3.0561747369462523E-3},{"$f":"Baseline_Data_2012!U153/Baseline_Data_2012!U$269","v":3.2422109926301063E-3},{"$f":"Baseline_Data_2012!V153/Baseline_Data_2012!V$269","v":3.3950382155672446E-3},{"$f":"Baseline_Data_2012!W153/Baseline_Data_2012!W$269","v":1.6411376820370449E-3},{"$f":"Baseline_Data_2012!X153/Baseline_Data_2012!X$269","v":1.3683848844772727E-3},{"$f":"Baseline_Data_2012!Y153/Baseline_Data_2012!Y$269","v":1.4057559572321176E-3},{"$f":"Baseline_Data_2012!Z153/Baseline_Data_2012!Z$269","v":2.5353341243150225E-3},{"$f":"Baseline_Data_2012!AA153/Baseline_Data_2012!AA$269","v":8.4649264814467369E-4},{"$f":"Baseline_Data_2012!AB153/Baseline_Data_2012!AB$269","v":3.8546754131054848E-3},{"$f":"Baseline_Data_2012!AC153/Baseline_Data_2012!AC$269","v":5.8329564496004674E-3},{"$f":"Baseline_Data_2012!AD153/Baseline_Data_2012!AD$269","v":2.6467461427063443E-3},{"$f":"Baseline_Data_2012!AE153/Baseline_Data_2012!AE$269","v":2.3569266812464352E-3},{"$f":"Baseline_Data_2012!AF153/Baseline_Data_2012!AF$269","v":2.5532332903919278E-3},{"$f":"Baseline_Data_2012!AG153/Baseline_Data_2012!AG$269","v":2.8077622293612103E-3},{"$f":"Baseline_Data_2012!AH153/Baseline_Data_2012!AH$269","v":1.3764725592161303E-3},{"$f":"Baseline_Data_2012!AI153/Baseline_Data_2012!AI$269","v":2.8491712183484636E-3},{"$f":"Baseline_Data_2012!AJ153/Baseline_Data_2012!AJ$269","v":4.6638690349742233E-3},{"$f":"Baseline_Data_2012!AK153/Baseline_Data_2012!AK$269","v":1.1638027629823167E-3},{"$f":"Baseline_Data_2012!AL153/Baseline_Data_2012!AL$269","v":2.4687376426058747E-3},{"$f":"Baseline_Data_2012!AM153/Baseline_Data_2012!AM$269","v":1.6179926968439677E-3},{"$f":"Baseline_Data_2012!AN153/Baseline_Data_2012!AN$269","v":1.6291696801799065E-3},{"$f":"Baseline_Data_2012!AO153/Baseline_Data_2012!AO$269","v":2.6463864215773968E-3},{"$f":"Baseline_Data_2012!AP153/Baseline_Data_2012!AP$269","v":2.9516499096407384E-3},{"$f":"Baseline_Data_2012!AQ153/Baseline_Data_2012!AQ$269","v":5.7933623769737246E-3},{"$f":"Baseline_Data_2012!AR153/Baseline_Data_2012!AR$269","v":2.0278712423240134E-3},{"$f":"Baseline_Data_2012!AS153/Baseline_Data_2012!AS$269","v":2.9991163496860839E-3},{"$f":"Baseline_Data_2012!AT153/Baseline_Data_2012!AT$269","v":2.1350608661486309E-3},{"$f":"Baseline_Data_2012!AU153/Baseline_Data_2012!AU$269","v":2.1404698611297663E-3},{"$f":"Baseline_Data_2012!AV153/Baseline_Data_2012!AV$269","v":3.2843205583422685E-3},153]
[3,"Male 35-39",{"$f":"'III Tool Overview'!$H$8/110","v":1.3090909090909091},0,0,{"$f":"G154*'III Tool Overview'!$H$8","v":0.3512408724305377},{"$f":"HLOOKUP('III Tool Overview'!$H$6,Targeting!$I$1:$BC$269,Targeting!BD154,FALSE)","v":2.4391727252120673E-3},{"$f":"Baseline_Data_2012!B154","v":3659.4799999999996},{"$f":"Baseline_Data_2012!B154/Baseline_Data_2012!B$269","v":3.3778921230586613E-3},{"$f":"Baseline_Data_2012!C154/Baseline_Data_2012!C$269","v":2.11078395090461E-3},{"$f":"Baseline_Data_2012!D154/Baseline_Data_2012!D$269","v":4.5939337668235158E-3},{"$f":"Baseline_Data_2012!E154/Baseline_Data_2012!E$269","v":5.2556313339371941E-3},{"$f":"Baseline_Data_2012!F154/Baseline_Data_2012!F$269","v":3.3752669908701113E-3},{"$f":"Baseline_Data_2012!G154/Baseline_Data_2012!G$269","v":3.5649285359092044E-3},{"$f":"Baseline_Data_2012!H154/Baseline_Data_2012!H$269","v":3.6011490172130215E-3},{"$f":"Baseline_Data_2012!I154/Baseline_Data_2012!I$269","v":2.556536038250224E-3},{"$f":"Baseline_Data_2012!J154/Baseline_Data_2012!J$269","v":4.1310507104972164E-3},{"$f":"Baseline_Data_2012!K154/Baseline_Data_2012!K$269","v":3.7873779244331795E-3},{"$f":"Baseline_Data_2012!L154/Baseline_Data_2012!L$269","v":4.116173911845919E-3},{"$f":"Baseline_Data_2012!M154/Baseline_Data_2012!M$269","v":2.4391727252120673E-3},{"$f":"Baseline_Data_2012!N154/Baseline_Data_2012!N$269","v":7.276783885264578E-3},{"$f":"Baseline_Data_2012!O154/Baseline_Data_2012!O$269","v":2.5553139728047946E-3},{"$f":"Baseline_Data_2012!P154/Baseline_Data_2012!P$269","v":9.4579187714630263E-3},{"$f":"Baseline_Data_2012!Q154/Baseline_Data_2012!Q$269","v":2.9480718932965353E-3},{"$f":"Baseline_Data_2012!R154/Baseline_Data_2012!R$269","v":3.3366845175325354E-3},{"$f":"Baseline_Data_2012!S154/Baseline_Data_2012!S$269","v":3.8988136569310513E-3},{"$f":"Baseline_Data_2012!T154/Baseline_Data_2012!T$269","v":4.6981173291671891E-3},{"$f":"Baseline_Data_2012!U154/Baseline_Data_2012!U$269","v":4.3989932259277699E-3},{"$f":"Baseline_Data_2012!V154/Baseline_Data_2012!V$269","v":5.2242859453894468E-3},{"$f":"Baseline_Data_2012!W154/Baseline_Data_2012!W$269","v":1.8030391322870236E-3},{"$f":"Baseline_Data_2012!X154/Baseline_Data_2012!X$269","v":1.893488088292837E-3},{"$f":"Baseline_Data_2012!Y154/Baseline_Data_2012!Y$269","v":1.8024723623405688E-3},{"$f":"Baseline_Data_2012!Z154/Baseline_Data_2012!Z$269","v":3.9648072815542598E-3},{"$f":"Baseline_Data_2012!AA154/Baseline_Data_2012!AA$269","v":1.3120636046242448E-3},{"$f":"Baseline_Data_2012!AB154/Baseline_Data_2012!AB$269","v":4.0150379337514554E-3},{"$f":"Baseline_Data_2012!AC154/Baseline_Data_2012!AC$269","v":9.4579187714630263E-3},{"$f":"Baseline_Data_2012!AD154/Baseline_Data_2012!AD$269","v":3.6467030399890232E-3},{"$f":"Baseline_Data_2012!AE154/Baseline_Data_2012!AE$269","v":3.3677203164950761E-3},{"$f":"Baseline_Data_2012!AF154/Baseline_Data_2012!AF$269","v":2.4331554871309226E-3},{"$f":"Baseline_Data_2012!AG154/Baseline_Data_2012!AG$269","v":3.9301955966557925E-3},{"$f":"Baseline_Data_2012!AH154/Baseline_Data_2012!AH$269","v":1.9557380945529196E-3},{"$f":"Baseline_Data_2012!AI154/Baseline_Data_2012!AI$269","v":4.2680228067344282E-3},{"$f":"Baseline_Data_2012!AJ154/Baseline_Data_2012!AJ$269","v":6.1107440091461842E-3},{"$f":"Baseline_Data_2012!AK154/Baseline_Data_2012!AK$269","v":1.7947128962195324E-3},{"$f":"Baseline_Data_2012!AL154/Baseline_Data_2012!AL$269","v":3.4159500725750329E-3},{"$f":"Baseline_Data_2012!AM154/Baseline_Data_2012!AM$269","v":2.4391727252120673E-3},{"$f":"Baseline_Data_2012!AN154/Baseline_Data_2012!AN$269","v":2.3222456149564427E-3},{"$f":"Baseline_Data_2012!AO154/Baseline_Data_2012!AO$269","v":3.4122767521551738E-3},{"$f":"Baseline_Data_2012!AP154/Baseline_Data_2012!AP$269","v":4.6158504088704005E-3},{"$f":"Baseline_Data_2012!AQ154/Baseline_Data_2012!AQ$269","v":7.276783885264578E-3},{"$f":"Baseline_Data_2012!AR154/Baseline_Data_2012!AR$269","v":2.7746323381061797E-3},{"$f":"Baseline_Data_2012!AS154/Baseline_Data_2012!AS$269","v":4.2055496830242477E-3},{"$f":"Baseline_Data_2012!AT154/Baseline_Data_2012!AT$269","v":2.8902441758289696E-3},{"$f":"Baseline_Data_2012!AU154/Baseline_Data_2012!AU$269","v":3.1564175126080267E-3},{"$f":"Baseline_Data_2012!AV154/Baseline_Data_2012!AV$269","v":4.4316993676565466E-3},154]
[3,"Male 40-44",{"$f":"'III Tool Overview'!$H$8/110","v":1.3090909090909091},0,0,{"$f":"G155*'III Tool Overview'!$H$8","v":0.39755835011368551},{"$f":"HLOOKUP('III Tool Overview'!$H$6,Targeting!$I$1:$BC$269,Targeting!BD155,FALSE)","v":2.7608218757894827E-3},{"$f":"Baseline_Data_2012!B155","v":4249.6299999999992},{"$f":"Baseline_Data_2012!B155/Baseline_Data_2012!B$269","v":3.9226315495408575E-3},{"$f":"Baseline_Data_2012!C155/Baseline_Data_2012!C$269","v":2.8152531750412014E-3},{"$f":"Baseline_Data_2012!D155/Baseline_Data_2012!D$269","v":6.0636133000694283E-3},{"$f":"Baseline_Data_2012!E155/Baseline_Data_2012!E$269","v":7.1073155370484989E-3},{"$f":"Baseline_Data_2012!F155/Baseline_Data_2012!F$269","v":3.8798021346526886E-3},{"$f":"Baseline_Data_2012!G155/Baseline_Data_2012!G$269","v":4.350582476853976E-3},{"$f":"Baseline_Data_2012!H155/Baseline_Data_2012!H$269","v":4.1155988768148809E-3},{"$f":"Baseline_Data_2012!I155/Baseline_Data_2012!I$269","v":2.7507468431727622E-3},{"$f":"Baseline_Data_2012!J155/Baseline_Data_2012!J$269","v":5.3583683666378733E-3},{"$f":"Baseline_Data_2012!K155/Baseline_Data_2012!K$269","v":4.5692401649158219E-3},{"$f":"Baseline_Data_2012!L155/Baseline_Data_2012!L$269","v":4.1027858034970947E-3},{"$f":"Baseline_Data_2012!M155/Baseline_Data_2012!M$269","v":2.7608218757894827E-3},{"$f":"Baseline_Data_2012!N155/Baseline_Data_2012!N$269","v":8.1036911449537345E-3},{"$f":"Baseline_Data_2012!O155/Baseline_Data_2012!O$269","v":3.2693980148617075E-3},{"$f":"Baseline_Data_2012!P155/Baseline_Data_2012!P$269","v":1.2484452778331195E-2},{"$f":"Baseline_Data_2012!Q155/Baseline_Data_2012!Q$269","v":2.6345999630839976E-3},{"$f":"Baseline_Data_2012!R155/Baseline_Data_2012!R$269","v":3.9101425732995737E-3},{"$f":"Baseline_Data_2012!S155/Baseline_Data_2012!S$269","v":4.8660385283436141E-3},{"$f":"Baseline_Data_2012!T155/Baseline_Data_2012!T$269","v":6.3446834837738225E-3},{"$f":"Baseline_Data_2012!U155/Baseline_Data_2012!U$269","v":5.599613301013202E-3},{"$f":"Baseline_Data_2012!V155/Baseline_Data_2012!V$269","v":7.0649264209014708E-3},{"$f":"Baseline_Data_2012!W155/Baseline_Data_2012!W$269","v":2.2418155264427616E-3},{"$f":"Baseline_Data_2012!X155/Baseline_Data_2012!X$269","v":2.359884101619704E-3},{"$f":"Baseline_Data_2012!Y155/Baseline_Data_2012!Y$269","v":2.4606119420109737E-3},{"$f":"Baseline_Data_2012!Z155/Baseline_Data_2012!Z$269","v":4.7197164079183064E-3},{"$f":"Baseline_Data_2012!AA155/Baseline_Data_2012!AA$269","v":1.6012819260736754E-3},{"$f":"Baseline_Data_2012!AB155/Baseline_Data_2012!AB$269","v":3.3859644662008032E-3},{"$f":"Baseline_Data_2012!AC155/Baseline_Data_2012!AC$269","v":1.2484452778331195E-2},{"$f":"Baseline_Data_2012!AD155/Baseline_Data_2012!AD$269","v":4.4599698075629499E-3},{"$f":"Baseline_Data_2012!AE155/Baseline_Data_2012!AE$269","v":3.8711273828689074E-3},{"$f":"Baseline_Data_2012!AF155/Baseline_Data_2012!AF$269","v":2.361093390822167E-3},{"$f":"Baseline_Data_2012!AG155/Baseline_Data_2012!AG$269","v":5.0121399897650153E-3},{"$f":"Baseline_Data_2012!AH155/Baseline_Data_2012!AH$269","v":2.1639295691343592E-3},{"$f":"Baseline_Data_2012!AI155/Baseline_Data_2012!AI$269","v":5.2421692273191337E-3},{"$f":"Baseline_Data_2012!AJ155/Baseline_Data_2012!AJ$269","v":8.6406297884219479E-3},{"$f":"Baseline_Data_2012!AK155/Baseline_Data_2012!AK$269","v":2.4873492420989336E-3},{"$f":"Baseline_Data_2012!AL155/Baseline_Data_2012!AL$269","v":3.9089737943899866E-3},{"$f":"Baseline_Data_2012!AM155/Baseline_Data_2012!AM$269","v":2.7608218757894827E-3},{"$f":"Baseline_Data_2012!AN155/Baseline_Data_2012!AN$269","v":3.1286846066454965E-3},{"$f":"Baseline_Data_2012!AO155/Baseline_Data_2012!AO$269","v":4.0006003301129621E-3},{"$f":"Baseline_Data_2012!AP155/Baseline_Data_2012!AP$269","v":6.0925414581478234E-3},{"$f":"Baseline_Data_2012!AQ155/Baseline_Data_2012!AQ$269","v":8.1036911449537345E-3},{"$f":"Baseline_Data_2012!AR155/Baseline_Data_2012!AR$269","v":3.7649205245684179E-3},{"$f":"Baseline_Data_2012!AS155/Baseline_Data_2012!AS$269","v":5.1920585900734686E-3},{"$f":"Baseline_Data_2012!AT155/Baseline_Data_2012!AT$269","v":3.3578791885473646E-3},{"$f":"Baseline_Data_2012!AU155/Baseline_Data_2012!AU$269","v":3.769572941577491E-3},{"$f":"Baseline_Data_2012!AV155/Baseline_Data_2012!AV$269","v":5.1958892110949458E-3},155]
[3,"Male 45-49",{"$f":"'III Tool Overview'!$H$8/110","v":1.3090909090909091},0,0,{"$f":"G156*'III Tool Overview'!$H$8","v":0.62739128861718418},{"$f":"HLOOKUP('III Tool Overview'!$H$6,Targeting!$I$1:$BC$269,Targeting!BD156,FALSE)","v":4.3568839487304455E-3},{"$f":"Baseline_Data_2012!B156","v":4899.24},{"$f":"Baseline_Data_2012!B156/Baseline_Data_2012!B$269","v":4.5222556770289539E-3},{"$f":"Baseline_Data_2012!C156/Baseline_Data_2012!C$269","v":3.5677842067496652E-3},{"$f":"Baseline_Data_2012!D156/Baseline_Data_2012!D$269","v":7.550963466999531E-3},{"$f":"Baseline_Data_2012!E156/Baseline_Data_2012!E$269","v":9.4640045228265232E-3},{"$f":"Baseline_Data_2012!F156/Baseline_Data_2012!F$269","v":4.3122798218001796E-3},{"$f":"Baseline_Data_2012!G156/Baseline_Data_2012!G$269","v":4.7191117632623646E-3},{"$f":"Baseline_Data_2012!H156/Baseline_Data_2012!H$269","v":4.6835232844302452E-3},{"$f":"Baseline_Data_2012!I156/Baseline_Data_2012!I$269","v":3.0640933993048222E-3},{"$f":"Baseline_Data_2012!J156/Baseline_Data_2012!J$269","v":7.0375841774233307E-3},{"$f":"Baseline_Data_2012!K156/Baseline_Data_2012!K$269","v":5.2405078222479435E-3},{"$f":"Baseline_Data_2012!L156/Baseline_Data_2012!L$269","v":4.2084910044148556E-3},{"$f":"Baseline_Data_2012!M156/Baseline_Data_2012!M$269","v":4.3568839487304455E-3},{"$f":"Baseline_Data_2012!N156/Baseline_Data_2012!N$269","v":1.0494204859327842E-2},{"$f":"Baseline_Data_2012!O156/Baseline_Data_2012!O$269","v":3.9656882459376524E-3},{"$f":"Baseline_Data_2012!P156/Baseline_Data_2012!P$269","v":1.3227329307289745E-2},{"$f":"Baseline_Data_2012!Q156/Baseline_Data_2012!Q$269","v":2.9028240366107557E-3},{"$f":"Baseline_Data_2012!R156/Baseline_Data_2012!R$269","v":4.5699514559967847E-3},{"$f":"Baseline_Data_2012!S156/Baseline_Data_2012!S$269","v":5.7870324077767578E-3},{"$f":"Baseline_Data_2012!T156/Baseline_Data_2012!T$269","v":8.0588692382712861E-3},{"$f":"Baseline_Data_2012!U156/Baseline_Data_2012!U$269","v":6.0657258636953992E-3},{"$f":"Baseline_Data_2012!V156/Baseline_Data_2012!V$269","v":9.4075597533713213E-3},{"$f":"Baseline_Data_2012!W156/Baseline_Data_2012!W$269","v":2.5622664300431323E-3},{"$f":"Baseline_Data_2012!X156/Baseline_Data_2012!X$269","v":2.9440568859887095E-3},{"$f":"Baseline_Data_2012!Y156/Baseline_Data_2012!Y$269","v":2.7101767457680562E-3},{"$f":"Baseline_Data_2012!Z156/Baseline_Data_2012!Z$269","v":5.0751318650460947E-3},{"$f":"Baseline_Data_2012!AA156/Baseline_Data_2012!AA$269","v":1.8699792136286893E-3},{"$f":"Baseline_Data_2012!AB156/Baseline_Data_2012!AB$269","v":3.3147989297597782E-3},{"$f":"Baseline_Data_2012!AC156/Baseline_Data_2012!AC$269","v":1.3227329307289745E-2},{"$f":"Baseline_Data_2012!AD156/Baseline_Data_2012!AD$269","v":4.841114755919515E-3},{"$f":"Baseline_Data_2012!AE156/Baseline_Data_2012!AE$269","v":4.3026381040583862E-3},{"$f":"Baseline_Data_2012!AF156/Baseline_Data_2012!AF$269","v":2.3278754619354574E-3},{"$f":"Baseline_Data_2012!AG156/Baseline_Data_2012!AG$269","v":6.6765330895699488E-3},{"$f":"Baseline_Data_2012!AH156/Baseline_Data_2012!AH$269","v":3.3792401328756015E-3},{"$f":"Baseline_Data_2012!AI156/Baseline_Data_2012!AI$269","v":5.9175094534929659E-3},{"$f":"Baseline_Data_2012!AJ156/Baseline_Data_2012!AJ$269","v":9.7419482246738354E-3},{"$f":"Baseline_Data_2012!AK156/Baseline_Data_2012!AK$269","v":3.0112465946248229E-3},{"$f":"Baseline_Data_2012!AL156/Baseline_Data_2012!AL$269","v":4.4313673652458642E-3},{"$f":"Baseline_Data_2012!AM156/Baseline_Data_2012!AM$269","v":4.3568839487304455E-3},{"$f":"Baseline_Data_2012!AN156/Baseline_Data_2012!AN$269","v":4.0403408068461696E-3},{"$f":"Baseline_Data_2012!AO156/Baseline_Data_2012!AO$269","v":5.0670705250655361E-3},{"$f":"Baseline_Data_2012!AP156/Baseline_Data_2012!AP$269","v":7.5869874437948601E-3},{"$f":"Baseline_Data_2012!AQ156/Baseline_Data_2012!AQ$269","v":1.0494204859327842E-2},{"$f":"Baseline_Data_2012!AR156/Baseline_Data_2012!AR$269","v":5.0132561563509381E-3},{"$f":"Baseline_Data_2012!AS156/Baseline_Data_2012!AS$269","v":5.8133733726458293E-3},{"$f":"Baseline_Data_2012!AT156/Baseline_Data_2012!AT$269","v":3.6418847960190165E-3},{"$f":"Baseline_Data_2012!AU156/Baseline_Data_2012!AU$269","v":4.6415623619063991E-3},{"$f":"Baseline_Data_2012!AV156/Baseline_Data_2012!AV$269","v":5.3892615157874833E-3},156]
[3,"Male 50-54",{"$f":"'III Tool Overview'!$H$8/110","v":1.3090909090909091},0,0,{"$f":"G157*'III Tool Overview'!$H$8","v":1.4653165667032222},{"$f":"HLOOKUP('III Tool Overview'!$H$6,Targeting!$I$1:$BC$269,Targeting!BD157,FALSE)","v":1.0175809490994598E-2},{"$f":"Baseline_Data_2012!B157","v":9200.4},{"$f":"Baseline_Data_2012!B157/Baseline_Data_2012!B$269","v":8.4924521213366137E-3},{"$f":"Baseline_Data_2012!C157/Baseline_Data_2012!C$269","v":6.706232167199731E-3},{"$f":"Baseline_Data_2012!D157/Baseline_Data_2012!D$269","v":1.495711393600181E-2},{"$f":"Baseline_Data_2012!E157/Baseline_Data_2012!E$269","v":1.8859242436949496E-2},{"$f":"Baseline_Data_2012!F157/Baseline_Data_2012!F$269","v":8.4490691588064177E-3},{"$f":"Baseline_Data_2012!G157/Baseline_Data_2012!G$269","v":8.8986592967761728E-3},{"$f":"Baseline_Data_2012!H157/Baseline_Data_2012!H$269","v":8.6364042296660816E-3},{"$f":"Baseline_Data_2012!I157/Baseline_Data_2012!I$269","v":5.6238324315219914E-3},{"$f":"Baseline_Data_2012!J157/Baseline_Data_2012!J$269","v":1.3763880389220499E-2},{"$f":"Baseline_Data_2012!K157/Baseline_Data_2012!K$269","v":9.4940414915749404E-3},{"$f":"Baseline_Data_2012!L157/Baseline_Data_2012!L$269","v":7.5961692569709053E-3},{"$f":"Baseline_Data_2012!M157/Baseline_Data_2012!M$269","v":1.0175809490994598E-2},{"$f":"Baseline_Data_2012!N157/Baseline_Data_2012!N$269","v":1.9905912942335336E-2},{"$f":"Baseline_Data_2012!O157/Baseline_Data_2012!O$269","v":7.5249413058824368E-3},{"$f":"Baseline_Data_2012!P157/Baseline_Data_2012!P$269","v":2.7073722388711616E-2},{"$f":"Baseline_Data_2012!Q157/Baseline_Data_2012!Q$269","v":5.3096619518581628E-3},{"$f":"Baseline_Data_2012!R157/Baseline_Data_2012!R$269","v":8.6954678866746418E-3},{"$f":"Baseline_Data_2012!S157/Baseline_Data_2012!S$269","v":1.1780744544402687E-2},{"$f":"Baseline_Data_2012!T157/Baseline_Data_2012!T$269","v":1.6117738476542572E-2},{"$f":"Baseline_Data_2012!U157/Baseline_Data_2012!U$269","v":1.0413724049176173E-2},{"$f":"Baseline_Data_2012!V157/Baseline_Data_2012!V$269","v":1.8746763032603704E-2},{"$f":"Baseline_Data_2012!W157/Baseline_Data_2012!W$269","v":4.6579348916639665E-3},{"$f":"Baseline_Data_2012!X157/Baseline_Data_2012!X$269","v":4.9401013626043933E-3},{"$f":"Baseline_Data_2012!Y157/Baseline_Data_2012!Y$269","v":4.5406779845565057E-3},{"$f":"Baseline_Data_2012!Z157/Baseline_Data_2012!Z$269","v":1.0458253262799474E-2},{"$f":"Baseline_Data_2012!AA157/Baseline_Data_2012!AA$269","v":3.8015215289406274E-3},{"$f":"Baseline_Data_2012!AB157/Baseline_Data_2012!AB$269","v":5.8767582416366865E-3},{"$f":"Baseline_Data_2012!AC157/Baseline_Data_2012!AC$269","v":2.7073722388711616E-2},{"$f":"Baseline_Data_2012!AD157/Baseline_Data_2012!AD$269","v":9.3986495679776356E-3},{"$f":"Baseline_Data_2012!AE157/Baseline_Data_2012!AE$269","v":8.4301780980737019E-3},{"$f":"Baseline_Data_2012!AF157/Baseline_Data_2012!AF$269","v":4.0878861906057697E-3},{"$f":"Baseline_Data_2012!AG157/Baseline_Data_2012!AG$269","v":1.2935930991435135E-2},{"$f":"Baseline_Data_2012!AH157/Baseline_Data_2012!AH$269","v":6.5244799306844615E-3},{"$f":"Baseline_Data_2012!AI157/Baseline_Data_2012!AI$269","v":1.1529204464944952E-2},{"$f":"Baseline_Data_2012!AJ157/Baseline_Data_2012!AJ$269","v":1.7314442158299796E-2},{"$f":"Baseline_Data_2012!AK157/Baseline_Data_2012!AK$269","v":6.0001600871881508E-3},{"$f":"Baseline_Data_2012!AL157/Baseline_Data_2012!AL$269","v":7.6400581713662215E-3},{"$f":"Baseline_Data_2012!AM157/Baseline_Data_2012!AM$269","v":1.0175809490994598E-2},{"$f":"Baseline_Data_2012!AN157/Baseline_Data_2012!AN$269","v":7.2742426220032859E-3},{"$f":"Baseline_Data_2012!AO157/Baseline_Data_2012!AO$269","v":8.9275428757012807E-3},{"$f":"Baseline_Data_2012!AP157/Baseline_Data_2012!AP$269","v":1.5028471018804614E-2},{"$f":"Baseline_Data_2012!AQ157/Baseline_Data_2012!AQ$269","v":1.9905912942335336E-2},{"$f":"Baseline_Data_2012!AR157/Baseline_Data_2012!AR$269","v":9.6481533575055786E-3},{"$f":"Baseline_Data_2012!AS157/Baseline_Data_2012!AS$269","v":1.1324249665194012E-2},{"$f":"Baseline_Data_2012!AT157/Baseline_Data_2012!AT$269","v":7.0712082226205807E-3},{"$f":"Baseline_Data_2012!AU157/Baseline_Data_2012!AU$269","v":9.2365927703099756E-3},{"$f":"Baseline_Data_2012!AV157/Baseline_Data_2012!AV$269","v":8.9996072328192931E-3},157]
[3,"Male 55-59",{"$f":"'III Tool Overview'!$H$8/110","v":1.3090909090909091},0,0,{"$f":"G158*'III Tool Overview'!$H$8","v":1.1965348401479854},{"$f":"HLOOKUP('III Tool Overview'!$H$6,Targeting!$I$1:$BC$269,Targeting!BD158,FALSE)","v":8.3092697232498985E-3},{"$f":"Baseline_Data_2012!B158","v":7399.9199999999992},{"$f":"Baseline_Data_2012!B158/Baseline_Data_2012!B$269","v":6.8305145756403229E-3},{"$f":"Baseline_Data_2012!C158/Baseline_Data_2012!C$269","v":5.5806556414842818E-3},{"$f":"Baseline_Data_2012!D158/Baseline_Data_2012!D$269","v":1.2003963155415007E-2},{"$f":"Baseline_Data_2012!E158/Baseline_Data_2012!E$269","v":1.5885086610520814E-2},{"$f":"Baseline_Data_2012!F158/Baseline_Data_2012!F$269","v":6.5487199242271928E-3},{"$f":"Baseline_Data_2012!G158/Baseline_Data_2012!G$269","v":6.4944856038388595E-3},{"$f":"Baseline_Data_2012!H158/Baseline_Data_2012!H$269","v":7.441080422090302E-3},{"$f":"Baseline_Data_2012!I158/Baseline_Data_2012!I$269","v":4.3955233061008054E-3},{"$f":"Baseline_Data_2012!J158/Baseline_Data_2012!J$269","v":1.2389909548516377E-2},{"$f":"Baseline_Data_2012!K158/Baseline_Data_2012!K$269","v":7.2061636497816849E-3},{"$f":"Baseline_Data_2012!L158/Baseline_Data_2012!L$269","v":5.7127058324431736E-3},{"$f":"Baseline_Data_2012!M158/Baseline_Data_2012!M$269","v":8.3092697232498985E-3},{"$f":"Baseline_Data_2012!N158/Baseline_Data_2012!N$269","v":1.8191959713161444E-2},{"$f":"Baseline_Data_2012!O158/Baseline_Data_2012!O$269","v":6.2013272007740228E-3},{"$f":"Baseline_Data_2012!P158/Baseline_Data_2012!P$269","v":2.2396351650824445E-2},{"$f":"Baseline_Data_2012!Q158/Baseline_Data_2012!Q$269","v":4.7140435306770893E-3},{"$f":"Baseline_Data_2012!R158/Baseline_Data_2012!R$269","v":7.665296482878327E-3},{"$f":"Baseline_Data_2012!S158/Baseline_Data_2012!S$269","v":9.3830783917445513E-3},{"$f":"Baseline_Data_2012!T158/Baseline_Data_2012!T$269","v":1.4774593603497359E-2},{"$f":"Baseline_Data_2012!U158/Baseline_Data_2012!U$269","v":7.4989548952057285E-3},{"$f":"Baseline_Data_2012!V158/Baseline_Data_2012!V$269","v":1.5790345526094641E-2},{"$f":"Baseline_Data_2012!W158/Baseline_Data_2012!W$269","v":3.6576990168276638E-3},{"$f":"Baseline_Data_2012!X158/Baseline_Data_2012!X$269","v":4.1058794335613099E-3},{"$f":"Baseline_Data_2012!Y158/Baseline_Data_2012!Y$269","v":3.379635679388566E-3},{"$f":"Baseline_Data_2012!Z158/Baseline_Data_2012!Z$269","v":8.1382886305587446E-3},{"$f":"Baseline_Data_2012!AA158/Baseline_Data_2012!AA$269","v":3.3013213277642288E-3},{"$f":"Baseline_Data_2012!AB158/Baseline_Data_2012!AB$269","v":4.3847359603903643E-3},{"$f":"Baseline_Data_2012!AC158/Baseline_Data_2012!AC$269","v":2.2396351650824445E-2},{"$f":"Baseline_Data_2012!AD158/Baseline_Data_2012!AD$269","v":6.9517597666593186E-3},{"$f":"Baseline_Data_2012!AE158/Baseline_Data_2012!AE$269","v":6.5340778064406201E-3},{"$f":"Baseline_Data_2012!AF158/Baseline_Data_2012!AF$269","v":3.1707322375852439E-3},{"$f":"Baseline_Data_2012!AG158/Baseline_Data_2012!AG$269","v":1.1553775667780819E-2},{"$f":"Baseline_Data_2012!AH158/Baseline_Data_2012!AH$269","v":5.1606250365944786E-3},{"$f":"Baseline_Data_2012!AI158/Baseline_Data_2012!AI$269","v":9.6994147200664179E-3},{"$f":"Baseline_Data_2012!AJ158/Baseline_Data_2012!AJ$269","v":1.4059116494781233E-2},{"$f":"Baseline_Data_2012!AK158/Baseline_Data_2012!AK$269","v":5.0565865250900141E-3},{"$f":"Baseline_Data_2012!AL158/Baseline_Data_2012!AL$269","v":5.8182923692447893E-3},{"$f":"Baseline_Data_2012!AM158/Baseline_Data_2012!AM$269","v":8.3092697232498985E-3},{"$f":"Baseline_Data_2012!AN158/Baseline_Data_2012!AN$269","v":6.4216438227091346E-3},{"$f":"Baseline_Data_2012!AO158/Baseline_Data_2012!AO$269","v":6.6774726098209006E-3},{"$f":"Baseline_Data_2012!AP158/Baseline_Data_2012!AP$269","v":1.2061231408936895E-2},{"$f":"Baseline_Data_2012!AQ158/Baseline_Data_2012!AQ$269","v":1.8191959713161444E-2},{"$f":"Baseline_Data_2012!AR158/Baseline_Data_2012!AR$269","v":7.9496867318765881E-3},{"$f":"Baseline_Data_2012!AS158/Baseline_Data_2012!AS$269","v":8.859027734654629E-3},{"$f":"Baseline_Data_2012!AT158/Baseline_Data_2012!AT$269","v":5.0660459711159463E-3},{"$f":"Baseline_Data_2012!AU158/Baseline_Data_2012!AU$269","v":7.0486215399794099E-3},{"$f":"Baseline_Data_2012!AV158/Baseline_Data_2012!AV$269","v":6.2820015476353483E-3},158]
[3,"Male 60-64",{"$f":"'III Tool Overview'!$H$8/110","v":1.3090909090909091},0,0,{"$f":"G159*'III Tool Overview'!$H$8","v":1.9600714419550285},{"$f":"HLOOKUP('III Tool Overview'!$H$6,Targeting!$I$1:$BC$269,Targeting!BD159,FALSE)","v":1.3611607235798809E-2},{"$f":"Baseline_Data_2012!B159","v":13743.240000000002},{"$f":"Baseline_Data_2012!B159/Baseline_Data_2012!B$269","v":1.2685731891226276E-2},{"$f":"Baseline_Data_2012!C159/Baseline_Data_2012!C$269","v":1.087938048123183E-2},{"$f":"Baseline_Data_2012!D159/Baseline_Data_2012!D$269","v":2.4907835655527222E-2},{"$f":"Baseline_Data_2012!E159/Baseline_Data_2012!E$269","v":3.2612564177660161E-2},{"$f":"Baseline_Data_2012!F159/Baseline_Data_2012!F$269","v":1.2356923181558746E-2},{"$f":"Baseline_Data_2012!G159/Baseline_Data_2012!G$269","v":1.2405826790141782E-2},{"$f":"Baseline_Data_2012!H159/Baseline_Data_2012!H$269","v":1.4083395813457444E-2},{"$f":"Baseline_Data_2012!I159/Baseline_Data_2012!I$269","v":7.2086113489228795E-3},{"$f":"Baseline_Data_2012!J159/Baseline_Data_2012!J$269","v":2.5176298560827447E-2},{"$f":"Baseline_Data_2012!K159/Baseline_Data_2012!K$269","v":1.2541781121196567E-2},{"$f":"Baseline_Data_2012!L159/Baseline_Data_2012!L$269","v":9.9833906856421142E-3},{"$f":"Baseline_Data_2012!M159/Baseline_Data_2012!M$269","v":1.3611607235798809E-2},{"$f":"Baseline_Data_2012!N159/Baseline_Data_2012!N$269","v":3.5887775070509401E-2},{"$f":"Baseline_Data_2012!O159/Baseline_Data_2012!O$269","v":1.1632734607792237E-2},{"$f":"Baseline_Data_2012!P159/Baseline_Data_2012!P$269","v":4.7523462394209501E-2},{"$f":"Baseline_Data_2012!Q159/Baseline_Data_2012!Q$269","v":8.7071668831971011E-3},{"$f":"Baseline_Data_2012!R159/Baseline_Data_2012!R$269","v":1.4938089206983149E-2},{"$f":"Baseline_Data_2012!S159/Baseline_Data_2012!S$269","v":1.8960145651794904E-2},{"$f":"Baseline_Data_2012!T159/Baseline_Data_2012!T$269","v":3.1264528852088615E-2},{"$f":"Baseline_Data_2012!U159/Baseline_Data_2012!U$269","v":1.5255568942143655E-2},{"$f":"Baseline_Data_2012!V159/Baseline_Data_2012!V$269","v":3.2418057860391272E-2},{"$f":"Baseline_Data_2012!W159/Baseline_Data_2012!W$269","v":6.518293170933903E-3},{"$f":"Baseline_Data_2012!X159/Baseline_Data_2012!X$269","v":7.3818856188564786E-3},{"$f":"Baseline_Data_2012!Y159/Baseline_Data_2012!Y$269","v":6.2935607962585184E-3},{"$f":"Baseline_Data_2012!Z159/Baseline_Data_2012!Z$269","v":1.3779183876338872E-2},{"$f":"Baseline_Data_2012!AA159/Baseline_Data_2012!AA$269","v":5.1713005413929194E-3},{"$f":"Baseline_Data_2012!AB159/Baseline_Data_2012!AB$269","v":6.9682476536182284E-3},{"$f":"Baseline_Data_2012!AC159/Baseline_Data_2012!AC$269","v":4.7523462394209501E-2},{"$f":"Baseline_Data_2012!AD159/Baseline_Data_2012!AD$269","v":1.2661844493411253E-2},{"$f":"Baseline_Data_2012!AE159/Baseline_Data_2012!AE$269","v":1.2329294648532827E-2},{"$f":"Baseline_Data_2012!AF159/Baseline_Data_2012!AF$269","v":4.7875436347671416E-3},{"$f":"Baseline_Data_2012!AG159/Baseline_Data_2012!AG$269","v":2.3052644336422474E-2},{"$f":"Baseline_Data_2012!AH159/Baseline_Data_2012!AH$269","v":7.9973055690457217E-3},{"$f":"Baseline_Data_2012!AI159/Baseline_Data_2012!AI$269","v":1.972120883111771E-2},{"$f":"Baseline_Data_2012!AJ159/Baseline_Data_2012!AJ$269","v":2.5951067152408105E-2},{"$f":"Baseline_Data_2012!AK159/Baseline_Data_2012!AK$269","v":9.9791744378110638E-3},{"$f":"Baseline_Data_2012!AL159/Baseline_Data_2012!AL$269","v":1.0610727926017475E-2},{"$f":"Baseline_Data_2012!AM159/Baseline_Data_2012!AM$269","v":1.3611607235798809E-2},{"$f":"Baseline_Data_2012!AN159/Baseline_Data_2012!AN$269","v":1.1375677291856201E-2},{"$f":"Baseline_Data_2012!AO159/Baseline_Data_2012!AO$269","v":1.2422184928770546E-2},{"$f":"Baseline_Data_2012!AP159/Baseline_Data_2012!AP$269","v":2.5026665431038393E-2},{"$f":"Baseline_Data_2012!AQ159/Baseline_Data_2012!AQ$269","v":3.5887775070509401E-2},{"$f":"Baseline_Data_2012!AR159/Baseline_Data_2012!AR$269","v":1.6047895948358742E-2},{"$f":"Baseline_Data_2012!AS159/Baseline_Data_2012!AS$269","v":1.4313347415005067E-2},{"$f":"Baseline_Data_2012!AT159/Baseline_Data_2012!AT$269","v":1.0142720010702768E-2},{"$f":"Baseline_Data_2012!AU159/Baseline_Data_2012!AU$269","v":1.2458930550380335E-2},{"$f":"Baseline_Data_2012!AV159/Baseline_Data_2012!AV$269","v":1.1786137699873847E-2},159]
[3,"Male 65-69",{"$f":"'III Tool Overview'!$H$8/110","v":1.3090909090909091},0,0,{"$f":"G160*'III Tool Overview'!$H$8","v":3.9383891629973578},{"$f":"HLOOKUP('III Tool Overview'!$H$6,Targeting!$I$1:$BC$269,Targeting!BD160,FALSE)","v":2.7349924743037206E-2},{"$f":"Baseline_Data_2012!B160","v":26585.24},{"$f":"Baseline_Data_2012!B160/Baseline_Data_2012!B$269","v":2.4539571957115237E-2},{"$f":"Baseline_Data_2012!C160/Baseline_Data_2012!C$269","v":2.0729514643623798E-2},{"$f":"Baseline_Data_2012!D160/Baseline_Data_2012!D$269","v":5.0674205513466714E-2},{"$f":"Baseline_Data_2012!E160/Baseline_Data_2012!E$269","v":5.8262359173073118E-2},{"$f":"Baseline_Data_2012!F160/Baseline_Data_2012!F$269","v":2.4829244651603202E-2},{"$f":"Baseline_Data_2012!G160/Baseline_Data_2012!G$269","v":2.3228931839687803E-2},{"$f":"Baseline_Data_2012!H160/Baseline_Data_2012!H$269","v":2.6717154869875543E-2},{"$f":"Baseline_Data_2012!I160/Baseline_Data_2012!I$269","v":1.3281371748944729E-2},{"$f":"Baseline_Data_2012!J160/Baseline_Data_2012!J$269","v":5.0049563003602152E-2},{"$f":"Baseline_Data_2012!K160/Baseline_Data_2012!K$269","v":2.3961539157025182E-2},{"$f":"Baseline_Data_2012!L160/Baseline_Data_2012!L$269","v":1.8234846991250001E-2},{"$f":"Baseline_Data_2012!M160/Baseline_Data_2012!M$269","v":2.7349924743037206E-2},{"$f":"Baseline_Data_2012!N160/Baseline_Data_2012!N$269","v":6.7545794218730026E-2},{"$f":"Baseline_Data_2012!O160/Baseline_Data_2012!O$269","v":2.2150717636611281E-2},{"$f":"Baseline_Data_2012!P160/Baseline_Data_2012!P$269","v":9.1284392738971529E-2},{"$f":"Baseline_Data_2012!Q160/Baseline_Data_2012!Q$269","v":1.5390362330795694E-2},{"$f":"Baseline_Data_2012!R160/Baseline_Data_2012!R$269","v":2.8462359746466232E-2},{"$f":"Baseline_Data_2012!S160/Baseline_Data_2012!S$269","v":3.5735650310052526E-2},{"$f":"Baseline_Data_2012!T160/Baseline_Data_2012!T$269","v":6.3473299356161028E-2},{"$f":"Baseline_Data_2012!U160/Baseline_Data_2012!U$269","v":2.5245415356142345E-2},{"$f":"Baseline_Data_2012!V160/Baseline_Data_2012!V$269","v":5.8014084027347326E-2},{"$f":"Baseline_Data_2012!W160/Baseline_Data_2012!W$269","v":1.0156641610184685E-2},{"$f":"Baseline_Data_2012!X160/Baseline_Data_2012!X$269","v":1.654268684606245E-2},{"$f":"Baseline_Data_2012!Y160/Baseline_Data_2012!Y$269","v":1.0760932488566724E-2},{"$f":"Baseline_Data_2012!Z160/Baseline_Data_2012!Z$269","v":2.7205742055809987E-2},{"$f":"Baseline_Data_2012!AA160/Baseline_Data_2012!AA$269","v":9.498673563877966E-3},{"$f":"Baseline_Data_2012!AB160/Baseline_Data_2012!AB$269","v":1.2348447564525484E-2},{"$f":"Baseline_Data_2012!AC160/Baseline_Data_2012!AC$269","v":9.1284392738971529E-2},{"$f":"Baseline_Data_2012!AD160/Baseline_Data_2012!AD$269","v":2.4940180872267088E-2},{"$f":"Baseline_Data_2012!AE160/Baseline_Data_2012!AE$269","v":2.4773729569427312E-2},{"$f":"Baseline_Data_2012!AF160/Baseline_Data_2012!AF$269","v":8.2730087295186053E-3},{"$f":"Baseline_Data_2012!AG160/Baseline_Data_2012!AG$269","v":4.4191048976237685E-2},{"$f":"Baseline_Data_2012!AH160/Baseline_Data_2012!AH$269","v":1.4103293439387862E-2},{"$f":"Baseline_Data_2012!AI160/Baseline_Data_2012!AI$269","v":3.4934203095814631E-2},{"$f":"Baseline_Data_2012!AJ160/Baseline_Data_2012!AJ$269","v":5.1844922957478445E-2},{"$f":"Baseline_Data_2012!AK160/Baseline_Data_2012!AK$269","v":1.7332698397943536E-2},{"$f":"Baseline_Data_2012!AL160/Baseline_Data_2012!AL$269","v":1.9426837093710406E-2},{"$f":"Baseline_Data_2012!AM160/Baseline_Data_2012!AM$269","v":2.7349924743037206E-2},{"$f":"Baseline_Data_2012!AN160/Baseline_Data_2012!AN$269","v":2.3388088400382718E-2},{"$f":"Baseline_Data_2012!AO160/Baseline_Data_2012!AO$269","v":2.4036762036889946E-2},{"$f":"Baseline_Data_2012!AP160/Baseline_Data_2012!AP$269","v":5.0915960941302775E-2},{"$f":"Baseline_Data_2012!AQ160/Baseline_Data_2012!AQ$269","v":6.7545794218730026E-2},{"$f":"Baseline_Data_2012!AR160/Baseline_Data_2012!AR$269","v":3.0216420913966421E-2},{"$f":"Baseline_Data_2012!AS160/Baseline_Data_2012!AS$269","v":2.796352815441145E-2},{"$f":"Baseline_Data_2012!AT160/Baseline_Data_2012!AT$269","v":1.8360578731680829E-2},{"$f":"Baseline_Data_2012!AU160/Baseline_Data_2012!AU$269","v":2.1493984087039557E-2},{"$f":"Baseline_Data_2012!AV160/Baseline_Data_2012!AV$269","v":2.1967312621903549E-2},160]
[3,"Male 70-74",null,null,null,null,{"$f":"HLOOKUP('III Tool Overview'!$H$6,Targeting!$I$1:$BC$269,Targeting!BD161,FALSE)","v":0},null,{"$f":"Baseline_Data_2012!B161/Baseline_Data_2012!B$269","v":0},{"$f":"Baseline_Data_2012!C161/Baseline_Data_2012!C$269","v":0},{"$f":"Baseline_Data_2012!D161/Baseline_Data_2012!D$269","v":0},{"$f":"Baseline_Data_2012!E161/Baseline_Data_2012!E$269","v":0},{"$f":"Baseline_Data_2012!F161/Baseline_Data_2012!F$269","v":0},{"$f":"Baseline_Data_2012!G161/Baseline_Data_2012!G$269","v":0},{"$f":"Baseline_Data_2012!H161/Baseline_Data_2012!H$269","v":0},{"$f":"Baseline_Data_2012!I161/Baseline_Data_2012!I$269","v":0},{"$f":"Baseline_Data_2012!J161/Baseline_Data_2012!J$269","v":0},{"$f":"Baseline_Data_2012!K161/Baseline_Data_2012!K$269","v":0},{"$f":"Baseline_Data_2012!L161/Baseline_Data_2012!L$269","v":0},{"$f":"Baseline_Data_2012!M161/Baseline_Data_2012!M$269","v":0},{"$f":"Baseline_Data_2012!N161/Baseline_Data_2012!N$269","v":0},{"$f":"Baseline_Data_2012!O161/Baseline_Data_2012!O$269","v":0},{"$f":"Baseline_Data_2012!P161/Baseline_Data_2012!P$269","v":0},{"$f":"Baseline_Data_2012!Q161/Baseline_Data_2012!Q$269","v":0},{"$f":"Baseline_Data_2012!R161/Baseline_Data_2012!R$269","v":0},{"$f":"Baseline_Data_2012!S161/Baseline_Data_2012!S$269","v":0},{"$f":"Baseline_Data_2012!T161/Baseline_Data_2012!T$269","v":0},{"$f":"Baseline_Data_2012!U161/Baseline_Data_2012!U$269","v":0},{"$f":"Baseline_Data_2012!V161/Baseline_Data_2012!V$269","v":0},{"$f":"Baseline_Data_2012!W161/Baseline_Data_2012!W$269","v":0},{"$f":"Baseline_Data_2012!X161/Baseline_Data_2012!X$269","v":0},{"$f":"Baseline_Data_2012!Y161/Baseline_Data_2012!Y$269","v":0},{"$f":"Baseline_Data_2012!Z161/Baseline_Data_2012!Z$269","v":0},{"$f":"Baseline_Data_2012!AA161/Baseline_Data_2012!AA$269","v":0},{"$f":"Baseline_Data_2012!AB161/Baseline_Data_2012!AB$269","v":0},{"$f":"Baseline_Data_2012!AC161/Baseline_Data_2012!AC$269","v":0},{"$f":"Baseline_Data_2012!AD161/Baseline_Data_2012!AD$269","v":0},{"$f":"Baseline_Data_2012!AE161/Baseline_Data_2012!AE$269","v":0},{"$f":"Baseline_Data_2012!AF161/Baseline_Data_2012!AF$269","v":0},{"$f":"Baseline_Data_2012!AG161/Baseline_Data_2012!AG$269","v":0},{"$f":"Baseline_Data_2012!AH161/Baseline_Data_2012!AH$269","v":0},{"$f":"Baseline_Data_2012!AI161/Baseline_Data_2012!AI$269","v":0},{"$f":"Baseline_Data_2012!AJ161/Baseline_Data_2012!AJ$269","v":0},{"$f":"Baseline_Data_2012!AK161/Baseline_Data_2012!AK$269","v":0},{"$f":"Baseline_Data_2012!AL161/Baseline_Data_2012!AL$269","v":0},{"$f":"Baseline_Data_2012!AM161/Baseline_Data_2012!AM$269","v":0},{"$f":"Baseline_Data_2012!AN161/Baseline_Data_2012!AN$269","v":0},{"$f":"Baseline_Data_2012!AO161/Baseline_Data_2012!AO$269","v":0},{"$f":"Baseline_Data_2012!AP161/Baseline_Data_2012!AP$269","v":0},{"$f":"Baseline_Data_2012!AQ161/Baseline_Data_2012!AQ$269","v":0},{"$f":"Baseline_Data_2012!AR161/Baseline_Data_2012!AR$269","v":0},{"$f":"Baseline_Data_2012!AS161/Baseline_Data_2012!AS$269","v":0},{"$f":"Baseline_Data_2012!AT161/Baseline_Data_2012!AT$269","v":0},{"$f":"Baseline_Data_2012!AU161/Baseline_Data_2012!AU$269","v":0},{"$f":"Baseline_Data_2012!AV161/Baseline_Data_2012!AV$269","v":0},161]
[3,"Male 75-79",null,null,null,null,{"$f":"HLOOKUP('III Tool Overview'!$H$6,Targeting!$I$1:$BC$269,Targeting!BD162,FALSE)","v":0},null,{"$f":"Baseline_Data_2012!B162/Baseline_Data_2012!B$269","v":0},{"$f":"Baseline_Data_2012!C162/Baseline_Data_2012!C$269","v":0},{"$f":"Baseline_Data_2012!D162/Baseline_Data_2012!D$269","v":0},{"$f":"Baseline_Data_2012!E162/Baseline_Data_2012!E$269","v":0},{"$f":"Baseline_Data_2012!F162/Baseline_Data_2012!F$269","v":0},{"$f":"Baseline_Data_2012!G162/Baseline_Data_2012!G$269","v":0},{"$f":"Baseline_Data_2012!H162/Baseline_Data_2012!H$269","v":0},{"$f":"Baseline_Data_2012!I162/Baseline_Data_2012!I$269","v":0},{"$f":"Baseline_Data_2012!J162/Baseline_Data_2012!J$269","v":0},{"$f":"Baseline_Data_2012!K162/Baseline_Data_2012!K$269","v":0},{"$f":"Baseline_Data_2012!L162/Baseline_Data_2012!L$269","v":0},{"$f":"Baseline_Data_2012!M162/Baseline_Data_2012!M$269","v":0},{"$f":"Baseline_Data_2012!N162/Baseline_Data_2012!N$269","v":0},{"$f":"Baseline_Data_2012!O162/Baseline_Data_2012!O$269","v":0},{"$f":"Baseline_Data_2012!P162/Baseline_Data_2012!P$269","v":0},{"$f":"Baseline_Data_2012!Q162/Baseline_Data_2012!Q$269","v":0},{"$f":"Baseline_Data_2012!R162/Baseline_Data_2012!R$269","v":0},{"$f":"Baseline_Data_2012!S162/Baseline_Data_2012!S$269","v":0},{"$f":"Baseline_Data_2012!T162/Baseline_Data_2012!T$269","v":0},{"$f":"Baseline_Data_2012!U162/Baseline_Data_2012!U$269","v":0},{"$f":"Baseline_Data_2012!V162/Baseline_Data_2012!V$269","v":0},{"$f":"Baseline_Data_2012!W162/Baseline_Data_2012!W$269","v":0},{"$f":"Baseline_Data_2012!X162/Baseline_Data_2012!X$269","v":0},{"$f":"Baseline_Data_2012!Y162/Baseline_Data_2012!Y$269","v":0},{"$f":"Baseline_Data_2012!Z162/Baseline_Data_2012!Z$269","v":0},{"$f":"Baseline_Data_2012!AA162/Baseline_Data_2012!AA$269","v":0},{"$f":"Baseline_Data_2012!AB162/Baseline_Data_2012!AB$269","v":0},{"$f":"Baseline_Data_2012!AC162/Baseline_Data_2012!AC$269","v":0},{"$f":"Baseline_Data_2012!AD162/Baseline_Data_2012!AD$269","v":0},{"$f":"Baseline_Data_2012!AE162/Baseline_Data_2012!AE$269","v":0},{"$f":"Baseline_Data_2012!AF162/Baseline_Data_2012!AF$269","v":0},{"$f":"Baseline_Data_2012!AG162/Baseline_Data_2012!AG$269","v":0},{"$f":"Baseline_Data_2012!AH162/Baseline_Data_2012!AH$269","v":0},{"$f":"Baseline_Data_2012!AI162/Baseline_Data_2012!AI$269","v":0},{"$f":"Baseline_Data_2012!AJ162/Baseline_Data_2012!AJ$269","v":0},{"$f":"Baseline_Data_2012!AK162/Baseline_Data_2012!AK$269","v":0},{"$f":"Baseline_Data_2012!AL162/Baseline_Data_2012!AL$269","v":0},{"$f":"Baseline_Data_2012!AM162/Baseline_Data_2012!AM$269","v":0},{"$f":"Baseline_Data_2012!AN162/Baseline_Data_2012!AN$269","v":0},{"$f":"Baseline_Data_2012!AO162/Baseline_Data_2012!AO$269","v":0},{"$f":"Baseline_Data_2012!AP162/Baseline_Data_2012!AP$269","v":0},{"$f":"Baseline_Data_2012!AQ162/Baseline_Data_2012!AQ$269","v":0},{"$f":"Baseline_Data_2012!AR162/Baseline_Data_2012!AR$269","v":0},{"$f":"Baseline_Data_2012!AS162/Baseline_Data_2012!AS$269","v":0},{"$f":"Baseline_Data_2012!AT162/Baseline_Data_2012!AT$269","v":0},{"$f":"Baseline_Data_2012!AU162/Baseline_Data_2012!AU$269","v":0},{"$f":"Baseline_Data_2012!AV162/Baseline_Data_2012!AV$269","v":0},162]
[3,"Male 80-84",null,null,null,null,{"$f":"HLOOKUP('III Tool Overview'!$H$6,Targeting!$I$1:$BC$269,Targeting!BD163,FALSE)","v":0},null,{"$f":"Baseline_Data_2012!B163/Baseline_Data_2012!B$269","v":0},{"$f":"Baseline_Data_2012!C163/Baseline_Data_2012!C$269","v":0},{"$f":"Baseline_Data_2012!D163/Baseline_Data_2012!D$269","v":0},{"$f":"Baseline_Data_2012!E163/Baseline_Data_2012!E$269","v":0},{"$f":"Baseline_Data_2012!F163/Baseline_Data_2012!F$269","v":0},{"$f":"Baseline_Data_2012!G163/Baseline_Data_2012!G$269","v":0},{"$f":"Baseline_Data_2012!H163/Baseline_Data_2012!H$269","v":0},{"$f":"Baseline_Data_2012!I163/Baseline_Data_2012!I$269","v":0},{"$f":"Baseline_Data_2012!J163/Baseline_Data_2012!J$269","v":0},{"$f":"Baseline_Data_2012!K163/Baseline_Data_2012!K$269","v":0},{"$f":"Baseline_Data_2012!L163/Baseline_Data_2012!L$269","v":0},{"$f":"Baseline_Data_2012!M163/Baseline_Data_2012!M$269","v":0},{"$f":"Baseline_Data_2012!N163/Baseline_Data_2012!N$269","v":0},{"$f":"Baseline_Data_2012!O163/Baseline_Data_2012!O$269","v":0},{"$f":"Baseline_Data_2012!P163/Baseline_Data_2012!P$269","v":0},{"$f":"Baseline_Data_2012!Q163/Baseline_Data_2012!Q$269","v":0},{"$f":"Baseline_Data_2012!R163/Baseline_Data_2012!R$269","v":0},{"$f":"Baseline_Data_2012!S163/Baseline_Data_2012!S$269","v":0},{"$f":"Baseline_Data_2012!T163/Baseline_Data_2012!T$269","v":0},{"$f":"Baseline_Data_2012!U163/Baseline_Data_2012!U$269","v":0},{"$f":"Baseline_Data_2012!V163/Baseline_Data_2012!V$269","v":0},{"$f":"Baseline_Data_2012!W163/Baseline_Data_2012!W$269","v":0},{"$f":"Baseline_Data_2012!X163/Baseline_Data_2012!X$269","v":0},{"$f":"Baseline_Data_2012!Y163/Baseline_Data_2012!Y$269","v":0},{"$f":"Baseline_Data_2012!Z163/Baseline_Data_2012!Z$269","v":0},{"$f":"Baseline_Data_2012!AA163/Baseline_Data_2012!AA$269","v":0},{"$f":"Baseline_Data_2012!AB163/Baseline_Data_2012!AB$269","v":0},{"$f":"Baseline_Data_2012!AC163/Baseline_Data_2012!AC$269","v":0},{"$f":"Baseline_Data_2012!AD163/Baseline_Data_2012!AD$269","v":0},{"$f":"Baseline_Data_2012!AE163/Baseline_Data_2012!AE$269","v":0},{"$f":"Baseline_Data_2012!AF163/Baseline_Data_2012!AF$269","v":0},{"$f":"Baseline_Data_2012!AG163/Baseline_Data_2012!AG$269","v":0},{"$f":"Baseline_Data_2012!AH163/Baseline_Data_2012!AH$269","v":0},{"$f":"Baseline_Data_2012!AI163/Baseline_Data_2012!AI$269","v":0},{"$f":"Baseline_Data_2012!AJ163/Baseline_Data_2012!AJ$269","v":0},{"$f":"Baseline_Data_2012!AK163/Baseline_Data_2012!AK$269","v":0},{"$f":"Baseline_Data_2012!AL163/Baseline_Data_2012!AL$269","v":0},{"$f":"Baseline_Data_2012!AM163/Baseline_Data_2012!AM$269","v":0},{"$f":"Baseline_Data_2012!AN163/Baseline_Data_2012!AN$269","v":0},{"$f":"Baseline_Data_2012!AO163/Baseline_Data_2012!AO$269","v":0},{"$f":"Baseline_Data_2012!AP163/Baseline_Data_2012!AP$269","v":0},{"$f":"Baseline_Data_2012!AQ163/Baseline_Data_2012!AQ$269","v":0},{"$f":"Baseline_Data_2012!AR163/Baseline_Data_2012!AR$269","v":0},{"$f":"Baseline_Data_2012!AS163/Baseline_Data_2012!AS$269","v":0},{"$f":"Baseline_Data_2012!AT163/Baseline_Data_2012!AT$269","v":0},{"$f":"Baseline_Data_2012!AU163/Baseline_Data_2012!AU$269","v":0},{"$f":"Baseline_Data_2012!AV163/Baseline_Data_2012!AV$269","v":0},163]
[3,"Male 85+",null,null,null,null,{"$f":"HLOOKUP('III Tool Overview'!$H$6,Targeting!$I$1:$BC$269,Targeting!BD164,FALSE)","v":0},null,{"$f":"Baseline_Data_2012!B164/Baseline_Data_2012!B$269","v":0},{"$f":"Baseline_Data_2012!C164/Baseline_Data_2012!C$269","v":0},{"$f":"Baseline_Data_2012!D164/Baseline_Data_2012!D$269","v":0},{"$f":"Baseline_Data_2012!E164/Baseline_Data_2012!E$269","v":0},{"$f":"Baseline_Data_2012!F164/Baseline_Data_2012!F$269","v":0},{"$f":"Baseline_Data_2012!G164/Baseline_Data_2012!G$269","v":0},{"$f":"Baseline_Data_2012!H164/Baseline_Data_2012!H$269","v":0},{"$f":"Baseline_Data_2012!I164/Baseline_Data_2012!I$269","v":0},{"$f":"Baseline_Data_2012!J164/Baseline_Data_2012!J$269","v":0},{"$f":"Baseline_Data_2012!K164/Baseline_Data_2012!K$269","v":0},{"$f":"Baseline_Data_2012!L164/Baseline_Data_2012!L$269","v":0},{"$f":"Baseline_Data_2012!M164/Baseline_Data_2012!M$269","v":0},{"$f":"Baseline_Data_2012!N164/Baseline_Data_2012!N$269","v":0},{"$f":"Baseline_Data_2012!O164/Baseline_Data_2012!O$269","v":0},{"$f":"Baseline_Data_2012!P164/Baseline_Data_2012!P$269","v":0},{"$f":"Baseline_Data_2012!Q164/Baseline_Data_2012!Q$269","v":0},{"$f":"Baseline_Data_2012!R164/Baseline_Data_2012!R$269","v":0},{"$f":"Baseline_Data_2012!S164/Baseline_Data_2012!S$269","v":0},{"$f":"Baseline_Data_2012!T164/Baseline_Data_2012!T$269","v":0},{"$f":"Baseline_Data_2012!U164/Baseline_Data_2012!U$269","v":0},{"$f":"Baseline_Data_2012!V164/Baseline_Data_2012!V$269","v":0},{"$f":"Baseline_Data_2012!W164/Baseline_Data_2012!W$269","v":0},{"$f":"Baseline_Data_2012!X164/Baseline_Data_2012!X$269","v":0},{"$f":"Baseline_Data_2012!Y164/Baseline_Data_2012!Y$269","v":0},{"$f":"Baseline_Data_2012!Z164/Baseline_Data_2012!Z$269","v":0},{"$f":"Baseline_Data_2012!AA164/Baseline_Data_2012!AA$269","v":0},{"$f":"Baseline_Data_2012!AB164/Baseline_Data_2012!AB$269","v":0},{"$f":"Baseline_Data_2012!AC164/Baseline_Data_2012!AC$269","v":0},{"$f":"Baseline_Data_2012!AD164/Baseline_Data_2012!AD$269","v":0},{"$f":"Baseline_Data_2012!AE164/Baseline_Data_2012!AE$269","v":0},{"$f":"Baseline_Data_2012!AF164/Baseline_Data_2012!AF$269","v":0},{"$f":"Baseline_Data_2012!AG164/Baseline_Data_2012!AG$269","v":0},{"$f":"Baseline_Data_2012!AH164/Baseline_Data_2012!AH$269","v":0},{"$f":"Baseline_Data_2012!AI164/Baseline_Data_2012!AI$269","v":0},{"$f":"Baseline_Data_2012!AJ164/Baseline_Data_2012!AJ$269","v":0},{"$f":"Baseline_Data_2012!AK164/Baseline_Data_2012!AK$269","v":0},{"$f":"Baseline_Data_2012!AL164/Baseline_Data_2012!AL$269","v":0},{"$f":"Baseline_Data_2012!AM164/Baseline_Data_2012!AM$269","v":0},{"$f":"Baseline_Data_2012!AN164/Baseline_Data_2012!AN$269","v":0},{"$f":"Baseline_Data_2012!AO164/Baseline_Data_2012!AO$269","v":0},{"$f":"Baseline_Data_2012!AP164/Baseline_Data_2012!AP$269","v":0},{"$f":"Baseline_Data_2012!AQ164/Baseline_Data_2012!AQ$269","v":0},{"$f":"Baseline_Data_2012!AR164/Baseline_Data_2012!AR$269","v":0},{"$f":"Baseline_Data_2012!AS164/Baseline_Data_2012!AS$269","v":0},{"$f":"Baseline_Data_2012!AT164/Baseline_Data_2012!AT$269","v":0},{"$f":"Baseline_Data_2012!AU164/Baseline_Data_2012!AU$269","v":0},{"$f":"Baseline_Data_2012!AV164/Baseline_Data_2012!AV$269","v":0},164]
[null,"TOTAL",null,null,null,null,{"$f":"HLOOKUP('III Tool Overview'!$H$6,Targeting!$I$1:$BC$269,Targeting!BD165,FALSE)","v":0},null,{"$f":"Baseline_Data_2012!B165/Baseline_Data_2012!B$269","v":0},{"$f":"Baseline_Data_2012!C165/Baseline_Data_2012!C$269","v":0},{"$f":"Baseline_Data_2012!D165/Baseline_Data_2012!D$269","v":0},{"$f":"Baseline_Data_2012!E165/Baseline_Data_2012!E$269","v":0},{"$f":"Baseline_Data_2012!F165/Baseline_Data_2012!F$269","v":0},{"$f":"Baseline_Data_2012!G165/Baseline_Data_2012!G$269","v":0},{"$f":"Baseline_Data_2012!H165/Baseline_Data_2012!H$269","v":0},{"$f":"Baseline_Data_2012!I165/Baseline_Data_2012!I$269","v":0},{"$f":"Baseline_Data_2012!J165/Baseline_Data_2012!J$269","v":0},{"$f":"Baseline_Data_2012!K165/Baseline_Data_2012!K$269","v":0},{"$f":"Baseline_Data_2012!L165/Baseline_Data_2012!L$269","v":0},{"$f":"Baseline_Data_2012!M165/Baseline_Data_2012!M$269","v":0},{"$f":"Baseline_Data_2012!N165/Baseline_Data_2012!N$269","v":0},{"$f":"Baseline_Data_2012!O165/Baseline_Data_2012!O$269","v":0},{"$f":"Baseline_Data_2012!P165/Baseline_Data_2012!P$269","v":0},{"$f":"Baseline_Data_2012!Q165/Baseline_Data_2012!Q$269","v":0},{"$f":"Baseline_Data_2012!R165/Baseline_Data_2012!R$269","v":0},{"$f":"Baseline_Data_2012!S165/Baseline_Data_2012!S$269","v":0},{"$f":"Baseline_Data_2012!T165/Baseline_Data_2012!T$269","v":0},{"$f":"Baseline_Data_2012!U165/Baseline_Data_2012!U$269","v":0},{"$f":"Baseline_Data_2012!V165/Baseline_Data_2012!V$269","v":0},{"$f":"Baseline_Data_2012!W165/Baseline_Data_2012!W$269","v":0},{"$f":"Baseline_Data_2012!X165/Baseline_Data_2012!X$269","v":0},{"$f":"Baseline_Data_2012!Y165/Baseline_Data_2012!Y$269","v":0},{"$f":"Baseline_Data_2012!Z165/Baseline_Data_2012!Z$269","v":0},{"$f":"Baseline_Data_2012!AA165/Baseline_Data_2012!AA$269","v":0},{"$f":"Baseline_Data_2012!AB165/Baseline_Data_2012!AB$269","v":0},{"$f":"Baseline_Data_2012!AC165/Baseline_Data_2012!AC$269","v":0},{"$f":"Baseline_Data_2012!AD165/Baseline_Data_2012!AD$269","v":0},{"$f":"Baseline_Data_2012!AE165/Baseline_Data_2012!AE$269","v":0},{"$f":"Baseline_Data_2012!AF165/Baseline_Data_2012!AF$269","v":0},{"$f":"Baseline_Data_2012!AG165/Baseline_Data_2012!AG$269","v":0},{"$f":"Baseline_Data_2012!AH165/Baseline_Data_2012!AH$269","v":0},{"$f":"Baseline_Data_2012!AI165/Baseline_Data_2012!AI$269","v":0},{"$f":"Baseline_Data_2012!AJ165/Baseline_Data_2012!AJ$269","v":0},{"$f":"Baseline_Data_2012!AK165/Baseline_Data_2012!AK$269","v":0},{"$f":"Baseline_Data_2012!AL165/Baseline_Data_2012!AL$269","v":0},{"$f":"Baseline_Data_2012!AM165/Baseline_Data_2012!AM$269","v":0},{"$f":"Baseline_Data_2012!AN165/Baseline_Data_2012!AN$269","v":0},{"$f":"Baseline_Data_2012!AO165/Baseline_Data_2012!AO$269","v":0},{"$f":"Baseline_Data_2012!AP165/Baseline_Data_2012!AP$269","v":0},{"$f":"Baseline_Data_2012!AQ165/Baseline_Data_2012!AQ$269","v":0},{"$f":"Baseline_Data_2012!AR165/Baseline_Data_2012!AR$269","v":0},{"$f":"Baseline_Data_2012!AS165/Baseline_Data_2012!AS$269","v":0},{"$f":"Baseline_Data_2012!AT165/Baseline_Data_2012!AT$269","v":0},{"$f":"Baseline_Data_2012!AU165/Baseline_Data_2012!AU$269","v":0},{"$f":"Baseline_Data_2012!AV165/Baseline_Data_2012!AV$269","v":0},165]
[3,"Female <1",null,null,null,null,{"$f":"HLOOKUP('III Tool Overview'!$H$6,Targeting!$I$1:$BC$269,Targeting!BD166,FALSE)","v":0},null,{"$f":"Baseline_Data_2012!B166/Baseline_Data_2012!B$269","v":0},{"$f":"Baseline_Data_2012!C166/Baseline_Data_2012!C$269","v":0},{"$f":"Baseline_Data_2012!D166/Baseline_Data_2012!D$269","v":0},{"$f":"Baseline_Data_2012!E166/Baseline_Data_2012!E$269","v":0},{"$f":"Baseline_Data_2012!F166/Baseline_Data_2012!F$269","v":0},{"$f":"Baseline_Data_2012!G166/Baseline_Data_2012!G$269","v":0},{"$f":"Baseline_Data_2012!H166/Baseline_Data_2012!H$269","v":0},{"$f":"Baseline_Data_2012!I166/Baseline_Data_2012!I$269","v":0},{"$f":"Baseline_Data_2012!J166/Baseline_Data_2012!J$269","v":0},{"$f":"Baseline_Data_2012!K166/Baseline_Data_2012!K$269","v":0},{"$f":"Baseline_Data_2012!L166/Baseline_Data_2012!L$269","v":0},{"$f":"Baseline_Data_2012!M166/Baseline_Data_2012!M$269","v":0},{"$f":"Baseline_Data_2012!N166/Baseline_Data_2012!N$269","v":0},{"$f":"Baseline_Data_2012!O166/Baseline_Data_2012!O$269","v":0},{"$f":"Baseline_Data_2012!P166/Baseline_Data_2012!P$269","v":0},{"$f":"Baseline_Data_2012!Q166/Baseline_Data_2012!Q$269","v":0},{"$f":"Baseline_Data_2012!R166/Baseline_Data_2012!R$269","v":0},{"$f":"Baseline_Data_2012!S166/Baseline_Data_2012!S$269","v":0},{"$f":"Baseline_Data_2012!T166/Baseline_Data_2012!T$269","v":0},{"$f":"Baseline_Data_2012!U166/Baseline_Data_2012!U$269","v":0},{"$f":"Baseline_Data_2012!V166/Baseline_Data_2012!V$269","v":0},{"$f":"Baseline_Data_2012!W166/Baseline_Data_2012!W$269","v":0},{"$f":"Baseline_Data_2012!X166/Baseline_Data_2012!X$269","v":0},{"$f":"Baseline_Data_2012!Y166/Baseline_Data_2012!Y$269","v":0},{"$f":"Baseline_Data_2012!Z166/Baseline_Data_2012!Z$269","v":0},{"$f":"Baseline_Data_2012!AA166/Baseline_Data_2012!AA$269","v":0},{"$f":"Baseline_Data_2012!AB166/Baseline_Data_2012!AB$269","v":0},{"$f":"Baseline_Data_2012!AC166/Baseline_Data_2012!AC$269","v":0},{"$f":"Baseline_Data_2012!AD166/Baseline_Data_2012!AD$269","v":0},{"$f":"Baseline_Data_2012!AE166/Baseline_Data_2012!AE$269","v":0},{"$f":"Baseline_Data_2012!AF166/Baseline_Data_2012!AF$269","v":0},{"$f":"Baseline_Data_2012!AG166/Baseline_Data_2012!AG$269","v":0},{"$f":"Baseline_Data_2012!AH166/Baseline_Data_2012!AH$269","v":0},{"$f":"Baseline_Data_2012!AI166/Baseline_Data_2012!AI$269","v":0},{"$f":"Baseline_Data_2012!AJ166/Baseline_Data_2012!AJ$269","v":0},{"$f":"Baseline_Data_2012!AK166/Baseline_Data_2012!AK$269","v":0},{"$f":"Baseline_Data_2012!AL166/Baseline_Data_2012!AL$269","v":0},{"$f":"Baseline_Data_2012!AM166/Baseline_Data_2012!AM$269","v":0},{"$f":"Baseline_Data_2012!AN166/Baseline_Data_2012!AN$269","v":0},{"$f":"Baseline_Data_2012!AO166/Baseline_Data_2012!AO$269","v":0},{"$f":"Baseline_Data_2012!AP166/Baseline_Data_2012!AP$269","v":0},{"$f":"Baseline_Data_2012!AQ166/Baseline_Data_2012!AQ$269","v":0},{"$f":"Baseline_Data_2012!AR166/Baseline_Data_2012!AR$269","v":0},{"$f":"Baseline_Data_2012!AS166/Baseline_Data_2012!AS$269","v":0},{"$f":"Baseline_Data_2012!AT166/Baseline_Data_2012!AT$269","v":0},{"$f":"Baseline_Data_2012!AU166/Baseline_Data_2012!AU$269","v":0},{"$f":"Baseline_Data_2012!AV166/Baseline_Data_2012!AV$269","v":0},166]
[3,"Female 1-4",null,null,null,null,{"$f":"HLOOKUP('III Tool Overview'!$H$6,Targeting!$I$1:$BC$269,Targeting!BD167,FALSE)","v":0},null,{"$f":"Baseline_Data_2012!B167/Baseline_Data_2012!B$269","v":0},{"$f":"Baseline_Data_2012!C167/Baseline_Data_2012!C$269","v":0},{"$f":"Baseline_Data_2012!D167/Baseline_Data_2012!D$269","v":0},{"$f":"Baseline_Data_2012!E167/Baseline_Data_2012!E$269","v":0},{"$f":"Baseline_Data_2012!F167/Baseline_Data_2012!F$269","v":0},{"$f":"Baseline_Data_2012!G167/Baseline_Data_2012!G$269","v":0},{"$f":"Baseline_Data_2012!H167/Baseline_Data_2012!H$269","v":0},{"$f":"Baseline_Data_2012!I167/Baseline_Data_2012!I$269","v":0},{"$f":"Baseline_Data_2012!J167/Baseline_Data_2012!J$269","v":0},{"$f":"Baseline_Data_2012!K167/Baseline_Data_2012!K$269","v":0},{"$f":"Baseline_Data_2012!L167/Baseline_Data_2012!L$269","v":0},{"$f":"Baseline_Data_2012!M167/Baseline_Data_2012!M$269","v":0},{"$f":"Baseline_Data_2012!N167/Baseline_Data_2012!N$269","v":0},{"$f":"Baseline_Data_2012!O167/Baseline_Data_2012!O$269","v":0},{"$f":"Baseline_Data_2012!P167/Baseline_Data_2012!P$269","v":0},{"$f":"Baseline_Data_2012!Q167/Baseline_Data_2012!Q$269","v":0},{"$f":"Baseline_Data_2012!R167/Baseline_Data_2012!R$269","v":0},{"$f":"Baseline_Data_2012!S167/Baseline_Data_2012!S$269","v":0},{"$f":"Baseline_Data_2012!T167/Baseline_Data_2012!T$269","v":0},{"$f":"Baseline_Data_2012!U167/Baseline_Data_2012!U$269","v":0},{"$f":"Baseline_Data_2012!V167/Baseline_Data_2012!V$269","v":0},{"$f":"Baseline_Data_2012!W167/Baseline_Data_2012!W$269","v":0},{"$f":"Baseline_Data_2012!X167/Baseline_Data_2012!X$269","v":0},{"$f":"Baseline_Data_2012!Y167/Baseline_Data_2012!Y$269","v":0},{"$f":"Baseline_Data_2012!Z167/Baseline_Data_2012!Z$269","v":0},{"$f":"Baseline_Data_2012!AA167/Baseline_Data_2012!AA$269","v":0},{"$f":"Baseline_Data_2012!AB167/Baseline_Data_2012!AB$269","v":0},{"$f":"Baseline_Data_2012!AC167/Baseline_Data_2012!AC$269","v":0},{"$f":"Baseline_Data_2012!AD167/Baseline_Data_2012!AD$269","v":0},{"$f":"Baseline_Data_2012!AE167/Baseline_Data_2012!AE$269","v":0},{"$f":"Baseline_Data_2012!AF167/Baseline_Data_2012!AF$269","v":0},{"$f":"Baseline_Data_2012!AG167/Baseline_Data_2012!AG$269","v":0},{"$f":"Baseline_Data_2012!AH167/Baseline_Data_2012!AH$269","v":0},{"$f":"Baseline_Data_2012!AI167/Baseline_Data_2012!AI$269","v":0},{"$f":"Baseline_Data_2012!AJ167/Baseline_Data_2012!AJ$269","v":0},{"$f":"Baseline_Data_2012!AK167/Baseline_Data_2012!AK$269","v":0},{"$f":"Baseline_Data_2012!AL167/Baseline_Data_2012!AL$269","v":0},{"$f":"Baseline_Data_2012!AM167/Baseline_Data_2012!AM$269","v":0},{"$f":"Baseline_Data_2012!AN167/Baseline_Data_2012!AN$269","v":0},{"$f":"Baseline_Data_2012!AO167/Baseline_Data_2012!AO$269","v":0},{"$f":"Baseline_Data_2012!AP167/Baseline_Data_2012!AP$269","v":0},{"$f":"Baseline_Data_2012!AQ167/Baseline_Data_2012!AQ$269","v":0},{"$f":"Baseline_Data_2012!AR167/Baseline_Data_2012!AR$269","v":0},{"$f":"Baseline_Data_2012!AS167/Baseline_Data_2012!AS$269","v":0},{"$f":"Baseline_Data_2012!AT167/Baseline_Data_2012!AT$269","v":0},{"$f":"Baseline_Data_2012!AU167/Baseline_Data_2012!AU$269","v":0},{"$f":"Baseline_Data_2012!AV167/Baseline_Data_2012!AV$269","v":0},167]
[3,"Female 5-9",null,null,null,null,{"$f":"HLOOKUP('III Tool Overview'!$H$6,Targeting!$I$1:$BC$269,Targeting!BD168,FALSE)","v":0},null,{"$f":"Baseline_Data_2012!B168/Baseline_Data_2012!B$269","v":0},{"$f":"Baseline_Data_2012!C168/Baseline_Data_2012!C$269","v":0},{"$f":"Baseline_Data_2012!D168/Baseline_Data_2012!D$269","v":0},{"$f":"Baseline_Data_2012!E168/Baseline_Data_2012!E$269","v":0},{"$f":"Baseline_Data_2012!F168/Baseline_Data_2012!F$269","v":0},{"$f":"Baseline_Data_2012!G168/Baseline_Data_2012!G$269","v":0},{"$f":"Baseline_Data_2012!H168/Baseline_Data_2012!H$269","v":0},{"$f":"Baseline_Data_2012!I168/Baseline_Data_2012!I$269","v":0},{"$f":"Baseline_Data_2012!J168/Baseline_Data_2012!J$269","v":0},{"$f":"Baseline_Data_2012!K168/Baseline_Data_2012!K$269","v":0},{"$f":"Baseline_Data_2012!L168/Baseline_Data_2012!L$269","v":0},{"$f":"Baseline_Data_2012!M168/Baseline_Data_2012!M$269","v":0},{"$f":"Baseline_Data_2012!N168/Baseline_Data_2012!N$269","v":0},{"$f":"Baseline_Data_2012!O168/Baseline_Data_2012!O$269","v":0},{"$f":"Baseline_Data_2012!P168/Baseline_Data_2012!P$269","v":0},{"$f":"Baseline_Data_2012!Q168/Baseline_Data_2012!Q$269","v":0},{"$f":"Baseline_Data_2012!R168/Baseline_Data_2012!R$269","v":0},{"$f":"Baseline_Data_2012!S168/Baseline_Data_2012!S$269","v":0},{"$f":"Baseline_Data_2012!T168/Baseline_Data_2012!T$269","v":0},{"$f":"Baseline_Data_2012!U168/Baseline_Data_2012!U$269","v":0},{"$f":"Baseline_Data_2012!V168/Baseline_Data_2012!V$269","v":0},{"$f":"Baseline_Data_2012!W168/Baseline_Data_2012!W$269","v":0},{"$f":"Baseline_Data_2012!X168/Baseline_Data_2012!X$269","v":0},{"$f":"Baseline_Data_2012!Y168/Baseline_Data_2012!Y$269","v":0},{"$f":"Baseline_Data_2012!Z168/Baseline_Data_2012!Z$269","v":0},{"$f":"Baseline_Data_2012!AA168/Baseline_Data_2012!AA$269","v":0},{"$f":"Baseline_Data_2012!AB168/Baseline_Data_2012!AB$269","v":0},{"$f":"Baseline_Data_2012!AC168/Baseline_Data_2012!AC$269","v":0},{"$f":"Baseline_Data_2012!AD168/Baseline_Data_2012!AD$269","v":0},{"$f":"Baseline_Data_2012!AE168/Baseline_Data_2012!AE$269","v":0},{"$f":"Baseline_Data_2012!AF168/Baseline_Data_2012!AF$269","v":0},{"$f":"Baseline_Data_2012!AG168/Baseline_Data_2012!AG$269","v":0},{"$f":"Baseline_Data_2012!AH168/Baseline_Data_2012!AH$269","v":0},{"$f":"Baseline_Data_2012!AI168/Baseline_Data_2012!AI$269","v":0},{"$f":"Baseline_Data_2012!AJ168/Baseline_Data_2012!AJ$269","v":0},{"$f":"Baseline_Data_2012!AK168/Baseline_Data_2012!AK$269","v":0},{"$f":"Baseline_Data_2012!AL168/Baseline_Data_2012!AL$269","v":0},{"$f":"Baseline_Data_2012!AM168/Baseline_Data_2012!AM$269","v":0},{"$f":"Baseline_Data_2012!AN168/Baseline_Data_2012!AN$269","v":0},{"$f":"Baseline_Data_2012!AO168/Baseline_Data_2012!AO$269","v":0},{"$f":"Baseline_Data_2012!AP168/Baseline_Data_2012!AP$269","v":0},{"$f":"Baseline_Data_2012!AQ168/Baseline_Data_2012!AQ$269","v":0},{"$f":"Baseline_Data_2012!AR168/Baseline_Data_2012!AR$269","v":0},{"$f":"Baseline_Data_2012!AS168/Baseline_Data_2012!AS$269","v":0},{"$f":"Baseline_Data_2012!AT168/Baseline_Data_2012!AT$269","v":0},{"$f":"Baseline_Data_2012!AU168/Baseline_Data_2012!AU$269","v":0},{"$f":"Baseline_Data_2012!AV168/Baseline_Data_2012!AV$269","v":0},168]
[3,"Female 10-14",null,null,null,null,{"$f":"HLOOKUP('III Tool Overview'!$H$6,Targeting!$I$1:$BC$269,Targeting!BD169,FALSE)","v":0},null,{"$f":"Baseline_Data_2012!B169/Baseline_Data_2012!B$269","v":0},{"$f":"Baseline_Data_2012!C169/Baseline_Data_2012!C$269","v":0},{"$f":"Baseline_Data_2012!D169/Baseline_Data_2012!D$269","v":0},{"$f":"Baseline_Data_2012!E169/Baseline_Data_2012!E$269","v":0},{"$f":"Baseline_Data_2012!F169/Baseline_Data_2012!F$269","v":0},{"$f":"Baseline_Data_2012!G169/Baseline_Data_2012!G$269","v":0},{"$f":"Baseline_Data_2012!H169/Baseline_Data_2012!H$269","v":0},{"$f":"Baseline_Data_2012!I169/Baseline_Data_2012!I$269","v":0},{"$f":"Baseline_Data_2012!J169/Baseline_Data_2012!J$269","v":0},{"$f":"Baseline_Data_2012!K169/Baseline_Data_2012!K$269","v":0},{"$f":"Baseline_Data_2012!L169/Baseline_Data_2012!L$269","v":0},{"$f":"Baseline_Data_2012!M169/Baseline_Data_2012!M$269","v":0},{"$f":"Baseline_Data_2012!N169/Baseline_Data_2012!N$269","v":0},{"$f":"Baseline_Data_2012!O169/Baseline_Data_2012!O$269","v":0},{"$f":"Baseline_Data_2012!P169/Baseline_Data_2012!P$269","v":0},{"$f":"Baseline_Data_2012!Q169/Baseline_Data_2012!Q$269","v":0},{"$f":"Baseline_Data_2012!R169/Baseline_Data_2012!R$269","v":0},{"$f":"Baseline_Data_2012!S169/Baseline_Data_2012!S$269","v":0},{"$f":"Baseline_Data_2012!T169/Baseline_Data_2012!T$269","v":0},{"$f":"Baseline_Data_2012!U169/Baseline_Data_2012!U$269","v":0},{"$f":"Baseline_Data_2012!V169/Baseline_Data_2012!V$269","v":0},{"$f":"Baseline_Data_2012!W169/Baseline_Data_2012!W$269","v":0},{"$f":"Baseline_Data_2012!X169/Baseline_Data_2012!X$269","v":0},{"$f":"Baseline_Data_2012!Y169/Baseline_Data_2012!Y$269","v":0},{"$f":"Baseline_Data_2012!Z169/Baseline_Data_2012!Z$269","v":0},{"$f":"Baseline_Data_2012!AA169/Baseline_Data_2012!AA$269","v":0},{"$f":"Baseline_Data_2012!AB169/Baseline_Data_2012!AB$269","v":0},{"$f":"Baseline_Data_2012!AC169/Baseline_Data_2012!AC$269","v":0},{"$f":"Baseline_Data_2012!AD169/Baseline_Data_2012!AD$269","v":0},{"$f":"Baseline_Data_2012!AE169/Baseline_Data_2012!AE$269","v":0},{"$f":"Baseline_Data_2012!AF169/Baseline_Data_2012!AF$269","v":0},{"$f":"Baseline_Data_2012!AG169/Baseline_Data_2012!AG$269","v":0},{"$f":"Baseline_Data_2012!AH169/Baseline_Data_2012!AH$269","v":0},{"$f":"Baseline_Data_2012!AI169/Baseline_Data_2012!AI$269","v":0},{"$f":"Baseline_Data_2012!AJ169/Baseline_Data_2012!AJ$269","v":0},{"$f":"Baseline_Data_2012!AK169/Baseline_Data_2012!AK$269","v":0},{"$f":"Baseline_Data_2012!AL169/Baseline_Data_2012!AL$269","v":0},{"$f":"Baseline_Data_2012!AM169/Baseline_Data_2012!AM$269","v":0},{"$f":"Baseline_Data_2012!AN169/Baseline_Data_2012!AN$269","v":0},{"$f":"Baseline_Data_2012!AO169/Baseline_Data_2012!AO$269","v":0},{"$f":"Baseline_Data_2012!AP169/Baseline_Data_2012!AP$269","v":0},{"$f":"Baseline_Data_2012!AQ169/Baseline_Data_2012!AQ$269","v":0},{"$f":"Baseline_Data_2012!AR169/Baseline_Data_2012!AR$269","v":0},{"$f":"Baseline_Data_2012!AS169/Baseline_Data_2012!AS$269","v":0},{"$f":"Baseline_Data_2012!AT169/Baseline_Data_2012!AT$269","v":0},{"$f":"Baseline_Data_2012!AU169/Baseline_Data_2012!AU$269","v":0},{"$f":"Baseline_Data_2012!AV169/Baseline_Data_2012!AV$269","v":0},169]
[3,"Female 15-19",{"$f":"'III Tool Overview'!$H$8/110","v":1.3090909090909091},0,0,{"$f":"G170*'III Tool Overview'!$H$8","v":0.20490681371346506},{"$f":"HLOOKUP('III Tool Overview'!$H$6,Targeting!$I$1:$BC$269,Targeting!BD170,FALSE)","v":1.4229639841212851E-3},{"$f":"Baseline_Data_2012!B170","v":1970.72},{"$f":"Baseline_Data_2012!B170/Baseline_Data_2012!B$269","v":1.8190780014521644E-3},{"$f":"Baseline_Data_2012!C170/Baseline_Data_2012!C$269","v":1.3730420620134973E-3},{"$f":"Baseline_Data_2012!D170/Baseline_Data_2012!D$269","v":3.010673680457941E-3},{"$f":"Baseline_Data_2012!E170/Baseline_Data_2012!E$269","v":3.1629633905486732E-3},{"$f":"Baseline_Data_2012!F170/Baseline_Data_2012!F$269","v":1.6941817742614561E-3},{"$f":"Baseline_Data_2012!G170/Baseline_Data_2012!G$269","v":1.6969416128595914E-3},{"$f":"Baseline_Data_2012!H170/Baseline_Data_2012!H$269","v":2.5493261480992986E-3},{"$f":"Baseline_Data_2012!I170/Baseline_Data_2012!I$269","v":1.2239659144388975E-3},{"$f":"Baseline_Data_2012!J170/Baseline_Data_2012!J$269","v":2.7757492869234556E-3},{"$f":"Baseline_Data_2012!K170/Baseline_Data_2012!K$269","v":1.8124694182979023E-3},{"$f":"Baseline_Data_2012!L170/Baseline_Data_2012!L$269","v":1.7984666498722542E-3},{"$f":"Baseline_Data_2012!M170/Baseline_Data_2012!M$269","v":1.4229639841212851E-3},{"$f":"Baseline_Data_2012!N170/Baseline_Data_2012!N$269","v":4.5117889192256289E-3},{"$f":"Baseline_Data_2012!O170/Baseline_Data_2012!O$269","v":1.7606167416674421E-3},{"$f":"Baseline_Data_2012!P170/Baseline_Data_2012!P$269","v":5.6067588514331981E-3},{"$f":"Baseline_Data_2012!Q170/Baseline_Data_2012!Q$269","v":1.9589263905328016E-3},{"$f":"Baseline_Data_2012!R170/Baseline_Data_2012!R$269","v":2.3131587695369659E-3},{"$f":"Baseline_Data_2012!S170/Baseline_Data_2012!S$269","v":2.1731922267274081E-3},{"$f":"Baseline_Data_2012!T170/Baseline_Data_2012!T$269","v":2.97224212249251E-3},{"$f":"Baseline_Data_2012!U170/Baseline_Data_2012!U$269","v":2.1423853052977325E-3},{"$f":"Baseline_Data_2012!V170/Baseline_Data_2012!V$269","v":3.1411602328046133E-3},{"$f":"Baseline_Data_2012!W170/Baseline_Data_2012!W$269","v":1.62506265762955E-3},{"$f":"Baseline_Data_2012!X170/Baseline_Data_2012!X$269","v":1.0537081403172951E-3},{"$f":"Baseline_Data_2012!Y170/Baseline_Data_2012!Y$269","v":9.1824918435821012E-4},{"$f":"Baseline_Data_2012!Z170/Baseline_Data_2012!Z$269","v":3.0450785705518403E-3},{"$f":"Baseline_Data_2012!AA170/Baseline_Data_2012!AA$269","v":7.9226448563940693E-4},{"$f":"Baseline_Data_2012!AB170/Baseline_Data_2012!AB$269","v":1.2327335265441461E-3},{"$f":"Baseline_Data_2012!AC170/Baseline_Data_2012!AC$269","v":5.6067588514331981E-3},{"$f":"Baseline_Data_2012!AD170/Baseline_Data_2012!AD$269","v":1.5668096495489031E-3},{"$f":"Baseline_Data_2012!AE170/Baseline_Data_2012!AE$269","v":1.6969458600578683E-3},{"$f":"Baseline_Data_2012!AF170/Baseline_Data_2012!AF$269","v":1.0949830584601253E-3},{"$f":"Baseline_Data_2012!AG170/Baseline_Data_2012!AG$269","v":2.6949948541907199E-3},{"$f":"Baseline_Data_2012!AH170/Baseline_Data_2012!AH$269","v":1.0658199003217685E-3},{"$f":"Baseline_Data_2012!AI170/Baseline_Data_2012!AI$269","v":2.1953317489989839E-3},{"$f":"Baseline_Data_2012!AJ170/Baseline_Data_2012!AJ$269","v":4.4640859771094832E-3},{"$f":"Baseline_Data_2012!AK170/Baseline_Data_2012!AK$269","v":1.2726438035393932E-3},{"$f":"Baseline_Data_2012!AL170/Baseline_Data_2012!AL$269","v":1.5535888094675261E-3},{"$f":"Baseline_Data_2012!AM170/Baseline_Data_2012!AM$269","v":1.4229639841212851E-3},{"$f":"Baseline_Data_2012!AN170/Baseline_Data_2012!AN$269","v":1.5653327016033752E-3},{"$f":"Baseline_Data_2012!AO170/Baseline_Data_2012!AO$269","v":1.8698896689236597E-3},{"$f":"Baseline_Data_2012!AP170/Baseline_Data_2012!AP$269","v":3.0005094211524841E-3},{"$f":"Baseline_Data_2012!AQ170/Baseline_Data_2012!AQ$269","v":4.5117889192256289E-3},{"$f":"Baseline_Data_2012!AR170/Baseline_Data_2012!AR$269","v":1.8501012832223493E-3},{"$f":"Baseline_Data_2012!AS170/Baseline_Data_2012!AS$269","v":1.9842419356233139E-3},{"$f":"Baseline_Data_2012!AT170/Baseline_Data_2012!AT$269","v":1.6435311572862159E-3},{"$f":"Baseline_Data_2012!AU170/Baseline_Data_2012!AU$269","v":1.6385142892328959E-3},{"$f":"Baseline_Data_2012!AV170/Baseline_Data_2012!AV$269","v":2.2440837257917054E-3},170]
[3,"Female 20-24",{"$f":"'III Tool Overview'!$H$8/110","v":1.3090909090909091},0,0,{"$f":"G171*'III Tool Overview'!$H$8","v":0.36783618989535216},{"$f":"HLOOKUP('III Tool Overview'!$H$6,Targeting!$I$1:$BC$269,Targeting!BD171,FALSE)","v":2.5544179853843902E-3},{"$f":"Baseline_Data_2012!B171","v":4048.55},{"$f":"Baseline_Data_2012!B171/Baseline_Data_2012!B$269","v":3.737024155019059E-3},{"$f":"Baseline_Data_2012!C171/Baseline_Data_2012!C$269","v":1.9169171495573996E-3},{"$f":"Baseline_Data_2012!D171/Baseline_Data_2012!D$269","v":4.0235634385022518E-3},{"$f":"Baseline_Data_2012!E171/Baseline_Data_2012!E$269","v":4.4735261411182406E-3},{"$f":"Baseline_Data_2012!F171/Baseline_Data_2012!F$269","v":3.072679957656563E-3},{"$f":"Baseline_Data_2012!G171/Baseline_Data_2012!G$269","v":3.5693102978593969E-3},{"$f":"Baseline_Data_2012!H171/Baseline_Data_2012!H$269","v":5.5215565171653864E-3},{"$f":"Baseline_Data_2012!I171/Baseline_Data_2012!I$269","v":3.3265999236748805E-3},{"$f":"Baseline_Data_2012!J171/Baseline_Data_2012!J$269","v":3.6550665512520026E-3},{"$f":"Baseline_Data_2012!K171/Baseline_Data_2012!K$269","v":3.0486190134037757E-3},{"$f":"Baseline_Data_2012!L171/Baseline_Data_2012!L$269","v":5.2471050972610796E-3},{"$f":"Baseline_Data_2012!M171/Baseline_Data_2012!M$269","v":2.5544179853843902E-3},{"$f":"Baseline_Data_2012!N171/Baseline_Data_2012!N$269","v":6.4272668725455185E-3},{"$f":"Baseline_Data_2012!O171/Baseline_Data_2012!O$269","v":3.5225513102373298E-3},{"$f":"Baseline_Data_2012!P171/Baseline_Data_2012!P$269","v":5.8874454730379073E-3},{"$f":"Baseline_Data_2012!Q171/Baseline_Data_2012!Q$269","v":7.0550157800218114E-3},{"$f":"Baseline_Data_2012!R171/Baseline_Data_2012!R$269","v":3.6991982881005832E-3},{"$f":"Baseline_Data_2012!S171/Baseline_Data_2012!S$269","v":3.3472906713355446E-3},{"$f":"Baseline_Data_2012!T171/Baseline_Data_2012!T$269","v":3.3978423543695891E-3},{"$f":"Baseline_Data_2012!U171/Baseline_Data_2012!U$269","v":2.9361530634288771E-3},{"$f":"Baseline_Data_2012!V171/Baseline_Data_2012!V$269","v":4.4426889216871122E-3},{"$f":"Baseline_Data_2012!W171/Baseline_Data_2012!W$269","v":4.3188942024108201E-3},{"$f":"Baseline_Data_2012!X171/Baseline_Data_2012!X$269","v":1.4919225729965483E-3},{"$f":"Baseline_Data_2012!Y171/Baseline_Data_2012!Y$269","v":1.6739350232955377E-3},{"$f":"Baseline_Data_2012!Z171/Baseline_Data_2012!Z$269","v":5.2544857911824075E-3},{"$f":"Baseline_Data_2012!AA171/Baseline_Data_2012!AA$269","v":1.281604315004923E-3},{"$f":"Baseline_Data_2012!AB171/Baseline_Data_2012!AB$269","v":6.2001630331776289E-3},{"$f":"Baseline_Data_2012!AC171/Baseline_Data_2012!AC$269","v":5.8874454730379073E-3},{"$f":"Baseline_Data_2012!AD171/Baseline_Data_2012!AD$269","v":2.7047726924324818E-3},{"$f":"Baseline_Data_2012!AE171/Baseline_Data_2012!AE$269","v":3.0776930862103642E-3},{"$f":"Baseline_Data_2012!AF171/Baseline_Data_2012!AF$269","v":4.0615343823032311E-3},{"$f":"Baseline_Data_2012!AG171/Baseline_Data_2012!AG$269","v":3.7682551443315813E-3},{"$f":"Baseline_Data_2012!AH171/Baseline_Data_2012!AH$269","v":2.0102987803931496E-3},{"$f":"Baseline_Data_2012!AI171/Baseline_Data_2012!AI$269","v":3.5410278932171109E-3},{"$f":"Baseline_Data_2012!AJ171/Baseline_Data_2012!AJ$269","v":6.2930871746463809E-3},{"$f":"Baseline_Data_2012!AK171/Baseline_Data_2012!AK$269","v":1.7817013249551506E-3},{"$f":"Baseline_Data_2012!AL171/Baseline_Data_2012!AL$269","v":2.5631387845144668E-3},{"$f":"Baseline_Data_2012!AM171/Baseline_Data_2012!AM$269","v":2.5544179853843902E-3},{"$f":"Baseline_Data_2012!AN171/Baseline_Data_2012!AN$269","v":2.6054550888529866E-3},{"$f":"Baseline_Data_2012!AO171/Baseline_Data_2012!AO$269","v":3.3905245411401577E-3},{"$f":"Baseline_Data_2012!AP171/Baseline_Data_2012!AP$269","v":4.0099795876896074E-3},{"$f":"Baseline_Data_2012!AQ171/Baseline_Data_2012!AQ$269","v":6.4272668725455185E-3},{"$f":"Baseline_Data_2012!AR171/Baseline_Data_2012!AR$269","v":2.552846620995627E-3},{"$f":"Baseline_Data_2012!AS171/Baseline_Data_2012!AS$269","v":3.4890865367704538E-3},{"$f":"Baseline_Data_2012!AT171/Baseline_Data_2012!AT$269","v":5.6335425174073453E-3},{"$f":"Baseline_Data_2012!AU171/Baseline_Data_2012!AU$269","v":3.0627758459451306E-3},{"$f":"Baseline_Data_2012!AV171/Baseline_Data_2012!AV$269","v":3.7060033487446345E-3},171]
[3,"Female 25-29",{"$f":"'III Tool Overview'!$H$8/110","v":1.3090909090909091},0,0,{"$f":"G172*'III Tool Overview'!$H$8","v":0.75452665258031137},{"$f":"HLOOKUP('III Tool Overview'!$H$6,Targeting!$I$1:$BC$269,Targeting!BD172,FALSE)","v":5.2397684206966066E-3},{"$f":"Baseline_Data_2012!B172","v":7799.6099999999988},{"$f":"Baseline_Data_2012!B172/Baseline_Data_2012!B$269","v":7.1994494250356787E-3},{"$f":"Baseline_Data_2012!C172/Baseline_Data_2012!C$269","v":3.5086590375685107E-3},{"$f":"Baseline_Data_2012!D172/Baseline_Data_2012!D$269","v":8.3945476050695401E-3},{"$f":"Baseline_Data_2012!E172/Baseline_Data_2012!E$269","v":8.4825761230868831E-3},{"$f":"Baseline_Data_2012!F172/Baseline_Data_2012!F$269","v":6.3832091289571071E-3},{"$f":"Baseline_Data_2012!G172/Baseline_Data_2012!G$269","v":6.2981758644849554E-3},{"$f":"Baseline_Data_2012!H172/Baseline_Data_2012!H$269","v":1.0036856006050495E-2},{"$f":"Baseline_Data_2012!I172/Baseline_Data_2012!I$269","v":6.002384558776718E-3},{"$f":"Baseline_Data_2012!J172/Baseline_Data_2012!J$269","v":7.9837919981281449E-3},{"$f":"Baseline_Data_2012!K172/Baseline_Data_2012!K$269","v":6.2303247111638463E-3},{"$f":"Baseline_Data_2012!L172/Baseline_Data_2012!L$269","v":1.1001145316777136E-2},{"$f":"Baseline_Data_2012!M172/Baseline_Data_2012!M$269","v":5.2397684206966066E-3},{"$f":"Baseline_Data_2012!N172/Baseline_Data_2012!N$269","v":1.1416655069256744E-2},{"$f":"Baseline_Data_2012!O172/Baseline_Data_2012!O$269","v":5.882060477843498E-3},{"$f":"Baseline_Data_2012!P172/Baseline_Data_2012!P$269","v":1.3619403030906758E-2},{"$f":"Baseline_Data_2012!Q172/Baseline_Data_2012!Q$269","v":1.1268802628106405E-2},{"$f":"Baseline_Data_2012!R172/Baseline_Data_2012!R$269","v":7.2569588543864574E-3},{"$f":"Baseline_Data_2012!S172/Baseline_Data_2012!S$269","v":7.3684798937476165E-3},{"$f":"Baseline_Data_2012!T172/Baseline_Data_2012!T$269","v":7.9145582743028204E-3},{"$f":"Baseline_Data_2012!U172/Baseline_Data_2012!U$269","v":7.0021343250356019E-3},{"$f":"Baseline_Data_2012!V172/Baseline_Data_2012!V$269","v":8.424103443371302E-3},{"$f":"Baseline_Data_2012!W172/Baseline_Data_2012!W$269","v":5.0458195519397517E-3},{"$f":"Baseline_Data_2012!X172/Baseline_Data_2012!X$269","v":2.4445316890401568E-3},{"$f":"Baseline_Data_2012!Y172/Baseline_Data_2012!Y$269","v":2.2577088260210057E-3},{"$f":"Baseline_Data_2012!Z172/Baseline_Data_2012!Z$269","v":7.2800453148302918E-3},{"$f":"Baseline_Data_2012!AA172/Baseline_Data_2012!AA$269","v":2.17484368606896E-3},{"$f":"Baseline_Data_2012!AB172/Baseline_Data_2012!AB$269","v":1.3686881092563111E-2},{"$f":"Baseline_Data_2012!AC172/Baseline_Data_2012!AC$269","v":1.3619403030906758E-2},{"$f":"Baseline_Data_2012!AD172/Baseline_Data_2012!AD$269","v":6.0339362209116841E-3},{"$f":"Baseline_Data_2012!AE172/Baseline_Data_2012!AE$269","v":6.3936234410202691E-3},{"$f":"Baseline_Data_2012!AF172/Baseline_Data_2012!AF$269","v":7.0509325748825992E-3},{"$f":"Baseline_Data_2012!AG172/Baseline_Data_2012!AG$269","v":8.0214362559190809E-3},{"$f":"Baseline_Data_2012!AH172/Baseline_Data_2012!AH$269","v":3.0057904159167342E-3},{"$f":"Baseline_Data_2012!AI172/Baseline_Data_2012!AI$269","v":6.9448475521217846E-3},{"$f":"Baseline_Data_2012!AJ172/Baseline_Data_2012!AJ$269","v":1.37763114312801E-2},{"$f":"Baseline_Data_2012!AK172/Baseline_Data_2012!AK$269","v":3.0977307127061137E-3},{"$f":"Baseline_Data_2012!AL172/Baseline_Data_2012!AL$269","v":5.279220213243555E-3},{"$f":"Baseline_Data_2012!AM172/Baseline_Data_2012!AM$269","v":5.2397684206966066E-3},{"$f":"Baseline_Data_2012!AN172/Baseline_Data_2012!AN$269","v":5.6388593227349659E-3},{"$f":"Baseline_Data_2012!AO172/Baseline_Data_2012!AO$269","v":7.220991368704327E-3},{"$f":"Baseline_Data_2012!AP172/Baseline_Data_2012!AP$269","v":8.3662069851067177E-3},{"$f":"Baseline_Data_2012!AQ172/Baseline_Data_2012!AQ$269","v":1.1416655069256744E-2},{"$f":"Baseline_Data_2012!AR172/Baseline_Data_2012!AR$269","v":5.2070742322030406E-3},{"$f":"Baseline_Data_2012!AS172/Baseline_Data_2012!AS$269","v":7.2679349198176459E-3},{"$f":"Baseline_Data_2012!AT172/Baseline_Data_2012!AT$269","v":6.3177618631579096E-3},{"$f":"Baseline_Data_2012!AU172/Baseline_Data_2012!AU$269","v":5.7777449432829323E-3},{"$f":"Baseline_Data_2012!AV172/Baseline_Data_2012!AV$269","v":8.4090804058139148E-3},172]
[3,"Female 30-34",{"$f":"'III Tool Overview'!$H$8/110","v":1.3090909090909091},0,0,{"$f":"G173*'III Tool Overview'!$H$8","v":0.67590789245761018},{"$f":"HLOOKUP('III Tool Overview'!$H$6,Targeting!$I$1:$BC$269,Targeting!BD173,FALSE)","v":4.6938048087334042E-3},{"$f":"Baseline_Data_2012!B173","v":6697.6899999999978},{"$f":"Baseline_Data_2012!B173/Baseline_Data_2012!B$269","v":6.1823194261722324E-3},{"$f":"Baseline_Data_2012!C173/Baseline_Data_2012!C$269","v":3.4794351834921589E-3},{"$f":"Baseline_Data_2012!D173/Baseline_Data_2012!D$269","v":7.6125067588042458E-3},{"$f":"Baseline_Data_2012!E173/Baseline_Data_2012!E$269","v":7.6108042141102518E-3},{"$f":"Baseline_Data_2012!F173/Baseline_Data_2012!F$269","v":6.0805637840214075E-3},{"$f":"Baseline_Data_2012!G173/Baseline_Data_2012!G$269","v":5.9006394461055883E-3},{"$f":"Baseline_Data_2012!H173/Baseline_Data_2012!H$269","v":7.845404585643697E-3},{"$f":"Baseline_Data_2012!I173/Baseline_Data_2012!I$269","v":4.8363207496800783E-3},{"$f":"Baseline_Data_2012!J173/Baseline_Data_2012!J$269","v":7.6056871711933328E-3},{"$f":"Baseline_Data_2012!K173/Baseline_Data_2012!K$269","v":5.9903795369705944E-3},{"$f":"Baseline_Data_2012!L173/Baseline_Data_2012!L$269","v":8.7288682824569908E-3},{"$f":"Baseline_Data_2012!M173/Baseline_Data_2012!M$269","v":4.6938048087334042E-3},{"$f":"Baseline_Data_2012!N173/Baseline_Data_2012!N$269","v":1.2597951154526965E-2},{"$f":"Baseline_Data_2012!O173/Baseline_Data_2012!O$269","v":4.7505263784253585E-3},{"$f":"Baseline_Data_2012!P173/Baseline_Data_2012!P$269","v":1.480665513843972E-2},{"$f":"Baseline_Data_2012!Q173/Baseline_Data_2012!Q$269","v":6.876669674145762E-3},{"$f":"Baseline_Data_2012!R173/Baseline_Data_2012!R$269","v":6.8040572132563879E-3},{"$f":"Baseline_Data_2012!S173/Baseline_Data_2012!S$269","v":6.9231322078617697E-3},{"$f":"Baseline_Data_2012!T173/Baseline_Data_2012!T$269","v":7.1099329302635114E-3},{"$f":"Baseline_Data_2012!U173/Baseline_Data_2012!U$269","v":6.5846842471650882E-3},{"$f":"Baseline_Data_2012!V173/Baseline_Data_2012!V$269","v":7.5583408927404096E-3},{"$f":"Baseline_Data_2012!W173/Baseline_Data_2012!W$269","v":3.2530272128620088E-3},{"$f":"Baseline_Data_2012!X173/Baseline_Data_2012!X$269","v":2.4146291607338548E-3},{"$f":"Baseline_Data_2012!Y173/Baseline_Data_2012!Y$269","v":2.397939187885664E-3},{"$f":"Baseline_Data_2012!Z173/Baseline_Data_2012!Z$269","v":6.187202846255826E-3},{"$f":"Baseline_Data_2012!AA173/Baseline_Data_2012!AA$269","v":2.1767855107886641E-3},{"$f":"Baseline_Data_2012!AB173/Baseline_Data_2012!AB$269","v":9.847859876824256E-3},{"$f":"Baseline_Data_2012!AC173/Baseline_Data_2012!AC$269","v":1.480665513843972E-2},{"$f":"Baseline_Data_2012!AD173/Baseline_Data_2012!AD$269","v":5.9608757396043483E-3},{"$f":"Baseline_Data_2012!AE173/Baseline_Data_2012!AE$269","v":6.090484325161051E-3},{"$f":"Baseline_Data_2012!AF173/Baseline_Data_2012!AF$269","v":4.9003408487631392E-3},{"$f":"Baseline_Data_2012!AG173/Baseline_Data_2012!AG$269","v":7.8244137281236973E-3},{"$f":"Baseline_Data_2012!AH173/Baseline_Data_2012!AH$269","v":3.0300586199668114E-3},{"$f":"Baseline_Data_2012!AI173/Baseline_Data_2012!AI$269","v":7.3195315765903594E-3},{"$f":"Baseline_Data_2012!AJ173/Baseline_Data_2012!AJ$269","v":1.2522471695393283E-2},{"$f":"Baseline_Data_2012!AK173/Baseline_Data_2012!AK$269","v":3.1446514185941819E-3},{"$f":"Baseline_Data_2012!AL173/Baseline_Data_2012!AL$269","v":5.4626228630706691E-3},{"$f":"Baseline_Data_2012!AM173/Baseline_Data_2012!AM$269","v":4.6938048087334042E-3},{"$f":"Baseline_Data_2012!AN173/Baseline_Data_2012!AN$269","v":4.7829610326769788E-3},{"$f":"Baseline_Data_2012!AO173/Baseline_Data_2012!AO$269","v":6.6512256222987492E-3},{"$f":"Baseline_Data_2012!AP173/Baseline_Data_2012!AP$269","v":7.5868063671732074E-3},{"$f":"Baseline_Data_2012!AQ173/Baseline_Data_2012!AQ$269","v":1.2597951154526965E-2},{"$f":"Baseline_Data_2012!AR173/Baseline_Data_2012!AR$269","v":5.0824855454367464E-3},{"$f":"Baseline_Data_2012!AS173/Baseline_Data_2012!AS$269","v":6.8531257220688056E-3},{"$f":"Baseline_Data_2012!AT173/Baseline_Data_2012!AT$269","v":5.3157229239577672E-3},{"$f":"Baseline_Data_2012!AU173/Baseline_Data_2012!AU$269","v":5.344048332740008E-3},{"$f":"Baseline_Data_2012!AV173/Baseline_Data_2012!AV$269","v":7.974808647767187E-3},173]
[3,"Female 35-39",{"$f":"'III Tool Overview'!$H$8/110","v":1.3090909090909091},0,0,{"$f":"G174*'III Tool Overview'!$H$8","v":0.68088826640203493},{"$f":"HLOOKUP('III Tool Overview'!$H$6,Targeting!$I$1:$BC$269,Targeting!BD174,FALSE)","v":4.7283907389030202E-3},{"$f":"Baseline_Data_2012!B174","v":7337.4399999999987},{"$f":"Baseline_Data_2012!B174/Baseline_Data_2012!B$269","v":6.7728422561171373E-3},{"$f":"Baseline_Data_2012!C174/Baseline_Data_2012!C$269","v":4.6849191641416569E-3},{"$f":"Baseline_Data_2012!D174/Baseline_Data_2012!D$269","v":1.0086674717851313E-2},{"$f":"Baseline_Data_2012!E174/Baseline_Data_2012!E$269","v":1.013102311056251E-2},{"$f":"Baseline_Data_2012!F174/Baseline_Data_2012!F$269","v":6.7103505723079661E-3},{"$f":"Baseline_Data_2012!G174/Baseline_Data_2012!G$269","v":6.9007866939936853E-3},{"$f":"Baseline_Data_2012!H174/Baseline_Data_2012!H$269","v":8.6283086811420138E-3},{"$f":"Baseline_Data_2012!I174/Baseline_Data_2012!I$269","v":4.5619420703976472E-3},{"$f":"Baseline_Data_2012!J174/Baseline_Data_2012!J$269","v":9.7796302534219823E-3},{"$f":"Baseline_Data_2012!K174/Baseline_Data_2012!K$269","v":6.9362289375448994E-3},{"$f":"Baseline_Data_2012!L174/Baseline_Data_2012!L$269","v":8.4648701205779532E-3},{"$f":"Baseline_Data_2012!M174/Baseline_Data_2012!M$269","v":4.7283907389030202E-3},{"$f":"Baseline_Data_2012!N174/Baseline_Data_2012!N$269","v":1.425176567390528E-2},{"$f":"Baseline_Data_2012!O174/Baseline_Data_2012!O$269","v":5.2897571864169999E-3},{"$f":"Baseline_Data_2012!P174/Baseline_Data_2012!P$269","v":1.9292410898619328E-2},{"$f":"Baseline_Data_2012!Q174/Baseline_Data_2012!Q$269","v":5.761548207449417E-3},{"$f":"Baseline_Data_2012!R174/Baseline_Data_2012!R$269","v":8.3914699421342061E-3},{"$f":"Baseline_Data_2012!S174/Baseline_Data_2012!S$269","v":8.0066809763562671E-3},{"$f":"Baseline_Data_2012!T174/Baseline_Data_2012!T$269","v":9.7518664451231186E-3},{"$f":"Baseline_Data_2012!U174/Baseline_Data_2012!U$269","v":7.7783989352476482E-3},{"$f":"Baseline_Data_2012!V174/Baseline_Data_2012!V$269","v":1.0061187242196677E-2},{"$f":"Baseline_Data_2012!W174/Baseline_Data_2012!W$269","v":3.2814658093705267E-3},{"$f":"Baseline_Data_2012!X174/Baseline_Data_2012!X$269","v":3.4459104048214242E-3},{"$f":"Baseline_Data_2012!Y174/Baseline_Data_2012!Y$269","v":2.9479538294214925E-3},{"$f":"Baseline_Data_2012!Z174/Baseline_Data_2012!Z$269","v":7.5318250054194754E-3},{"$f":"Baseline_Data_2012!AA174/Baseline_Data_2012!AA$269","v":2.6486489176768407E-3},{"$f":"Baseline_Data_2012!AB174/Baseline_Data_2012!AB$269","v":8.1371226203900849E-3},{"$f":"Baseline_Data_2012!AC174/Baseline_Data_2012!AC$269","v":1.9292410898619328E-2},{"$f":"Baseline_Data_2012!AD174/Baseline_Data_2012!AD$269","v":6.8818061762514317E-3},{"$f":"Baseline_Data_2012!AE174/Baseline_Data_2012!AE$269","v":6.7212986210874147E-3},{"$f":"Baseline_Data_2012!AF174/Baseline_Data_2012!AF$269","v":3.9706330109483155E-3},{"$f":"Baseline_Data_2012!AG174/Baseline_Data_2012!AG$269","v":9.8014721573305482E-3},{"$f":"Baseline_Data_2012!AH174/Baseline_Data_2012!AH$269","v":3.345050003147409E-3},{"$f":"Baseline_Data_2012!AI174/Baseline_Data_2012!AI$269","v":8.4365473302877598E-3},{"$f":"Baseline_Data_2012!AJ174/Baseline_Data_2012!AJ$269","v":1.576640684012048E-2},{"$f":"Baseline_Data_2012!AK174/Baseline_Data_2012!AK$269","v":4.3340591753869336E-3},{"$f":"Baseline_Data_2012!AL174/Baseline_Data_2012!AL$269","v":6.2685920411126002E-3},{"$f":"Baseline_Data_2012!AM174/Baseline_Data_2012!AM$269","v":4.7283907389030202E-3},{"$f":"Baseline_Data_2012!AN174/Baseline_Data_2012!AN$269","v":5.5129919271382031E-3},{"$f":"Baseline_Data_2012!AO174/Baseline_Data_2012!AO$269","v":7.054191164403689E-3},{"$f":"Baseline_Data_2012!AP174/Baseline_Data_2012!AP$269","v":1.0052621350318487E-2},{"$f":"Baseline_Data_2012!AQ174/Baseline_Data_2012!AQ$269","v":1.425176567390528E-2},{"$f":"Baseline_Data_2012!AR174/Baseline_Data_2012!AR$269","v":6.4940835095502782E-3},{"$f":"Baseline_Data_2012!AS174/Baseline_Data_2012!AS$269","v":7.7308165663635435E-3},{"$f":"Baseline_Data_2012!AT174/Baseline_Data_2012!AT$269","v":6.3353209567186593E-3},{"$f":"Baseline_Data_2012!AU174/Baseline_Data_2012!AU$269","v":6.2293746019222987E-3},{"$f":"Baseline_Data_2012!AV174/Baseline_Data_2012!AV$269","v":9.6258131031710849E-3},174]
[3,"Female 40-44",{"$f":"'III Tool Overview'!$H$8/110","v":1.3090909090909091},0,0,{"$f":"G175*'III Tool Overview'!$H$8","v":0.71077051006858216},{"$f":"HLOOKUP('III Tool Overview'!$H$6,Targeting!$I$1:$BC$269,Targeting!BD175,FALSE)","v":4.9359063199207092E-3},{"$f":"Baseline_Data_2012!B175","v":7259.0400000000018},{"$f":"Baseline_Data_2012!B175/Baseline_Data_2012!B$269","v":6.7004749409664086E-3},{"$f":"Baseline_Data_2012!C175/Baseline_Data_2012!C$269","v":5.1675918359764808E-3},{"$f":"Baseline_Data_2012!D175/Baseline_Data_2012!D$269","v":1.1961920549917043E-2},{"$f":"Baseline_Data_2012!E175/Baseline_Data_2012!E$269","v":1.08924093095635E-2},{"$f":"Baseline_Data_2012!F175/Baseline_Data_2012!F$269","v":6.5167523751558914E-3},{"$f":"Baseline_Data_2012!G175/Baseline_Data_2012!G$269","v":6.7222474702468777E-3},{"$f":"Baseline_Data_2012!H175/Baseline_Data_2012!H$269","v":8.2797845995412466E-3},{"$f":"Baseline_Data_2012!I175/Baseline_Data_2012!I$269","v":4.4741408930272708E-3},{"$f":"Baseline_Data_2012!J175/Baseline_Data_2012!J$269","v":1.0433010722939404E-2},{"$f":"Baseline_Data_2012!K175/Baseline_Data_2012!K$269","v":7.2567265785853851E-3},{"$f":"Baseline_Data_2012!L175/Baseline_Data_2012!L$269","v":7.0985579977503105E-3},{"$f":"Baseline_Data_2012!M175/Baseline_Data_2012!M$269","v":4.9359063199207092E-3},{"$f":"Baseline_Data_2012!N175/Baseline_Data_2012!N$269","v":1.4175553023242691E-2},{"$f":"Baseline_Data_2012!O175/Baseline_Data_2012!O$269","v":5.4385518239476877E-3},{"$f":"Baseline_Data_2012!P175/Baseline_Data_2012!P$269","v":2.0680153450155662E-2},{"$f":"Baseline_Data_2012!Q175/Baseline_Data_2012!Q$269","v":4.8506998135626426E-3},{"$f":"Baseline_Data_2012!R175/Baseline_Data_2012!R$269","v":8.4456375802760119E-3},{"$f":"Baseline_Data_2012!S175/Baseline_Data_2012!S$269","v":8.0319304052725738E-3},{"$f":"Baseline_Data_2012!T175/Baseline_Data_2012!T$269","v":1.0782943233293254E-2},{"$f":"Baseline_Data_2012!U175/Baseline_Data_2012!U$269","v":7.8449108973402282E-3},{"$f":"Baseline_Data_2012!V175/Baseline_Data_2012!V$269","v":1.0817325001253476E-2},{"$f":"Baseline_Data_2012!W175/Baseline_Data_2012!W$269","v":2.8572083798250989E-3},{"$f":"Baseline_Data_2012!X175/Baseline_Data_2012!X$269","v":3.9791721596171368E-3},{"$f":"Baseline_Data_2012!Y175/Baseline_Data_2012!Y$269","v":3.7675223887638333E-3},{"$f":"Baseline_Data_2012!Z175/Baseline_Data_2012!Z$269","v":8.2585895084477876E-3},{"$f":"Baseline_Data_2012!AA175/Baseline_Data_2012!AA$269","v":3.1574069942394019E-3},{"$f":"Baseline_Data_2012!AB175/Baseline_Data_2012!AB$269","v":5.5561482392563911E-3},{"$f":"Baseline_Data_2012!AC175/Baseline_Data_2012!AC$269","v":2.0680153450155662E-2},{"$f":"Baseline_Data_2012!AD175/Baseline_Data_2012!AD$269","v":7.0174899272507718E-3},{"$f":"Baseline_Data_2012!AE175/Baseline_Data_2012!AE$269","v":6.5273845652505805E-3},{"$f":"Baseline_Data_2012!AF175/Baseline_Data_2012!AF$269","v":3.3599480150009334E-3},{"$f":"Baseline_Data_2012!AG175/Baseline_Data_2012!AG$269","v":1.029482567779853E-2},{"$f":"Baseline_Data_2012!AH175/Baseline_Data_2012!AH$269","v":3.88687480377567E-3},{"$f":"Baseline_Data_2012!AI175/Baseline_Data_2012!AI$269","v":8.7180001186209673E-3},{"$f":"Baseline_Data_2012!AJ175/Baseline_Data_2012!AJ$269","v":1.5755381380791734E-2},{"$f":"Baseline_Data_2012!AK175/Baseline_Data_2012!AK$269","v":4.6451498829187862E-3},{"$f":"Baseline_Data_2012!AL175/Baseline_Data_2012!AL$269","v":6.2693631804951969E-3},{"$f":"Baseline_Data_2012!AM175/Baseline_Data_2012!AM$269","v":4.9359063199207092E-3},{"$f":"Baseline_Data_2012!AN175/Baseline_Data_2012!AN$269","v":6.5222195900140655E-3},{"$f":"Baseline_Data_2012!AO175/Baseline_Data_2012!AO$269","v":7.9772602561645062E-3},{"$f":"Baseline_Data_2012!AP175/Baseline_Data_2012!AP$269","v":1.1921536212335116E-2},{"$f":"Baseline_Data_2012!AQ175/Baseline_Data_2012!AQ$269","v":1.4175553023242691E-2},{"$f":"Baseline_Data_2012!AR175/Baseline_Data_2012!AR$269","v":7.1308701308002275E-3},{"$f":"Baseline_Data_2012!AS175/Baseline_Data_2012!AS$269","v":8.1089078507673943E-3},{"$f":"Baseline_Data_2012!AT175/Baseline_Data_2012!AT$269","v":5.394153541862453E-3},{"$f":"Baseline_Data_2012!AU175/Baseline_Data_2012!AU$269","v":6.7277245700760853E-3},{"$f":"Baseline_Data_2012!AV175/Baseline_Data_2012!AV$269","v":9.2328016146858757E-3},175]
[3,"Female 45-49",{"$f":"'III Tool Overview'!$H$8/110","v":1.3090909090909091},0,0,{"$f":"G176*'III Tool Overview'!$H$8","v":1.0679344700830242},{"$f":"HLOOKUP('III Tool Overview'!$H$6,Targeting!$I$1:$BC$269,Targeting!BD176,FALSE)","v":7.416211597798779E-3},{"$f":"Baseline_Data_2012!B176","v":8009.6399999999976},{"$f":"Baseline_Data_2012!B176/Baseline_Data_2012!B$269","v":7.393318139335526E-3},{"$f":"Baseline_Data_2012!C176/Baseline_Data_2012!C$269","v":5.8961520996914209E-3},{"$f":"Baseline_Data_2012!D176/Baseline_Data_2012!D$269","v":1.3053748703241644E-2},{"$f":"Baseline_Data_2012!E176/Baseline_Data_2012!E$269","v":1.3856311489048053E-2},{"$f":"Baseline_Data_2012!F176/Baseline_Data_2012!F$269","v":7.2065941143957431E-3},{"$f":"Baseline_Data_2012!G176/Baseline_Data_2012!G$269","v":7.1797337564164518E-3},{"$f":"Baseline_Data_2012!H176/Baseline_Data_2012!H$269","v":9.2808350180658954E-3},{"$f":"Baseline_Data_2012!I176/Baseline_Data_2012!I$269","v":4.714390875458092E-3},{"$f":"Baseline_Data_2012!J176/Baseline_Data_2012!J$269","v":1.2933005349340717E-2},{"$f":"Baseline_Data_2012!K176/Baseline_Data_2012!K$269","v":7.8964766051402065E-3},{"$f":"Baseline_Data_2012!L176/Baseline_Data_2012!L$269","v":7.1231516159612042E-3},{"$f":"Baseline_Data_2012!M176/Baseline_Data_2012!M$269","v":7.416211597798779E-3},{"$f":"Baseline_Data_2012!N176/Baseline_Data_2012!N$269","v":1.5397495855532958E-2},{"$f":"Baseline_Data_2012!O176/Baseline_Data_2012!O$269","v":6.2756115118920517E-3},{"$f":"Baseline_Data_2012!P176/Baseline_Data_2012!P$269","v":2.0934689144281662E-2},{"$f":"Baseline_Data_2012!Q176/Baseline_Data_2012!Q$269","v":5.3142425557074343E-3},{"$f":"Baseline_Data_2012!R176/Baseline_Data_2012!R$269","v":9.7248464791710697E-3},{"$f":"Baseline_Data_2012!S176/Baseline_Data_2012!S$269","v":8.8834456287258546E-3},{"$f":"Baseline_Data_2012!T176/Baseline_Data_2012!T$269","v":1.3619742766270157E-2},{"$f":"Baseline_Data_2012!U176/Baseline_Data_2012!U$269","v":8.6964390436043964E-3},{"$f":"Baseline_Data_2012!V176/Baseline_Data_2012!V$269","v":1.3760796205485402E-2},{"$f":"Baseline_Data_2012!W176/Baseline_Data_2012!W$269","v":3.6224387777124404E-3},{"$f":"Baseline_Data_2012!X176/Baseline_Data_2012!X$269","v":4.3219832877000926E-3},{"$f":"Baseline_Data_2012!Y176/Baseline_Data_2012!Y$269","v":3.3551412505396119E-3},{"$f":"Baseline_Data_2012!Z176/Baseline_Data_2012!Z$269","v":8.2154580839357162E-3},{"$f":"Baseline_Data_2012!AA176/Baseline_Data_2012!AA$269","v":3.2836256010201886E-3},{"$f":"Baseline_Data_2012!AB176/Baseline_Data_2012!AB$269","v":5.4492425207462803E-3},{"$f":"Baseline_Data_2012!AC176/Baseline_Data_2012!AC$269","v":2.0934689144281662E-2},{"$f":"Baseline_Data_2012!AD176/Baseline_Data_2012!AD$269","v":7.0923922694313976E-3},{"$f":"Baseline_Data_2012!AE176/Baseline_Data_2012!AE$269","v":7.2183517927834678E-3},{"$f":"Baseline_Data_2012!AF176/Baseline_Data_2012!AF$269","v":3.4225859347581E-3},{"$f":"Baseline_Data_2012!AG176/Baseline_Data_2012!AG$269","v":1.265408503375757E-2},{"$f":"Baseline_Data_2012!AH176/Baseline_Data_2012!AH$269","v":4.9403129673371926E-3},{"$f":"Baseline_Data_2012!AI176/Baseline_Data_2012!AI$269","v":9.7370937563774351E-3},{"$f":"Baseline_Data_2012!AJ176/Baseline_Data_2012!AJ$269","v":1.7317321452365433E-2},{"$f":"Baseline_Data_2012!AK176/Baseline_Data_2012!AK$269","v":5.4222339023526868E-3},{"$f":"Baseline_Data_2012!AL176/Baseline_Data_2012!AL$269","v":6.6054514280760659E-3},{"$f":"Baseline_Data_2012!AM176/Baseline_Data_2012!AM$269","v":7.416211597798779E-3},{"$f":"Baseline_Data_2012!AN176/Baseline_Data_2012!AN$269","v":7.4353303326160306E-3},{"$f":"Baseline_Data_2012!AO176/Baseline_Data_2012!AO$269","v":8.476851159336803E-3},{"$f":"Baseline_Data_2012!AP176/Baseline_Data_2012!AP$269","v":1.3009678272231718E-2},{"$f":"Baseline_Data_2012!AQ176/Baseline_Data_2012!AQ$269","v":1.5397495855532958E-2},{"$f":"Baseline_Data_2012!AR176/Baseline_Data_2012!AR$269","v":8.2309963779980191E-3},{"$f":"Baseline_Data_2012!AS176/Baseline_Data_2012!AS$269","v":8.9936768470322438E-3},{"$f":"Baseline_Data_2012!AT176/Baseline_Data_2012!AT$269","v":6.3165912569205255E-3},{"$f":"Baseline_Data_2012!AU176/Baseline_Data_2012!AU$269","v":7.6305119650364878E-3},{"$f":"Baseline_Data_2012!AV176/Baseline_Data_2012!AV$269","v":9.1084271330579957E-3},176]
[3,"Female 50-54",{"$f":"'III Tool Overview'!$H$8/110","v":1.3090909090909091},0,0,{"$f":"G177*'III Tool Overview'!$H$8","v":1.0095929467340516},{"$f":"HLOOKUP('III Tool Overview'!$H$6,Targeting!$I$1:$BC$269,Targeting!BD177,FALSE)","v":7.0110621300975805E-3},{"$f":"Baseline_Data_2012!B177","v":8666.6799999999985},{"$f":"Baseline_Data_2012!B177/Baseline_Data_2012!B$269","v":7.9998005468181373E-3},{"$f":"Baseline_Data_2012!C177/Baseline_Data_2012!C$269","v":6.6163284708434756E-3},{"$f":"Baseline_Data_2012!D177/Baseline_Data_2012!D$269","v":1.4791770231884058E-2},{"$f":"Baseline_Data_2012!E177/Baseline_Data_2012!E$269","v":1.4974540135532635E-2},{"$f":"Baseline_Data_2012!F177/Baseline_Data_2012!F$269","v":7.6925650990836147E-3},{"$f":"Baseline_Data_2012!G177/Baseline_Data_2012!G$269","v":7.4124899370992215E-3},{"$f":"Baseline_Data_2012!H177/Baseline_Data_2012!H$269","v":9.5563603057460186E-3},{"$f":"Baseline_Data_2012!I177/Baseline_Data_2012!I$269","v":5.1250655684491938E-3},{"$f":"Baseline_Data_2012!J177/Baseline_Data_2012!J$269","v":1.4353293540043902E-2},{"$f":"Baseline_Data_2012!K177/Baseline_Data_2012!K$269","v":8.4652470667050065E-3},{"$f":"Baseline_Data_2012!L177/Baseline_Data_2012!L$269","v":7.6041601325683821E-3},{"$f":"Baseline_Data_2012!M177/Baseline_Data_2012!M$269","v":7.0110621300975805E-3},{"$f":"Baseline_Data_2012!N177/Baseline_Data_2012!N$269","v":1.7325675917296616E-2},{"$f":"Baseline_Data_2012!O177/Baseline_Data_2012!O$269","v":7.2085131563779242E-3},{"$f":"Baseline_Data_2012!P177/Baseline_Data_2012!P$269","v":2.3511427198516198E-2},{"$f":"Baseline_Data_2012!Q177/Baseline_Data_2012!Q$269","v":5.7961174966941137E-3},{"$f":"Baseline_Data_2012!R177/Baseline_Data_2012!R$269","v":1.005210929294446E-2},{"$f":"Baseline_Data_2012!S177/Baseline_Data_2012!S$269","v":1.0899046592217023E-2},{"$f":"Baseline_Data_2012!T177/Baseline_Data_2012!T$269","v":1.4663132517123529E-2},{"$f":"Baseline_Data_2012!U177/Baseline_Data_2012!U$269","v":8.6833116826650729E-3},{"$f":"Baseline_Data_2012!V177/Baseline_Data_2012!V$269","v":1.4871316601015804E-2},{"$f":"Baseline_Data_2012!W177/Baseline_Data_2012!W$269","v":4.1497135721611711E-3},{"$f":"Baseline_Data_2012!X177/Baseline_Data_2012!X$269","v":4.6911371192909839E-3},{"$f":"Baseline_Data_2012!Y177/Baseline_Data_2012!Y$269","v":3.9534574611621567E-3},{"$f":"Baseline_Data_2012!Z177/Baseline_Data_2012!Z$269","v":9.6549693770259116E-3},{"$f":"Baseline_Data_2012!AA177/Baseline_Data_2012!AA$269","v":3.8590529929592677E-3},{"$f":"Baseline_Data_2012!AB177/Baseline_Data_2012!AB$269","v":5.8825178810527658E-3},{"$f":"Baseline_Data_2012!AC177/Baseline_Data_2012!AC$269","v":2.3511427198516198E-2},{"$f":"Baseline_Data_2012!AD177/Baseline_Data_2012!AD$269","v":7.5301412036509778E-3},{"$f":"Baseline_Data_2012!AE177/Baseline_Data_2012!AE$269","v":7.7051156472310381E-3},{"$f":"Baseline_Data_2012!AF177/Baseline_Data_2012!AF$269","v":3.6329993459157735E-3},{"$f":"Baseline_Data_2012!AG177/Baseline_Data_2012!AG$269","v":1.4236187320539922E-2},{"$f":"Baseline_Data_2012!AH177/Baseline_Data_2012!AH$269","v":5.9927605919578983E-3},{"$f":"Baseline_Data_2012!AI177/Baseline_Data_2012!AI$269","v":9.9329379882592897E-3},{"$f":"Baseline_Data_2012!AJ177/Baseline_Data_2012!AJ$269","v":1.6979207366283597E-2},{"$f":"Baseline_Data_2012!AK177/Baseline_Data_2012!AK$269","v":6.0097068500471343E-3},{"$f":"Baseline_Data_2012!AL177/Baseline_Data_2012!AL$269","v":6.9556772310045093E-3},{"$f":"Baseline_Data_2012!AM177/Baseline_Data_2012!AM$269","v":7.0110621300975805E-3},{"$f":"Baseline_Data_2012!AN177/Baseline_Data_2012!AN$269","v":7.9464282420089478E-3},{"$f":"Baseline_Data_2012!AO177/Baseline_Data_2012!AO$269","v":8.4436530604225981E-3},{"$f":"Baseline_Data_2012!AP177/Baseline_Data_2012!AP$269","v":1.4741832110326911E-2},{"$f":"Baseline_Data_2012!AQ177/Baseline_Data_2012!AQ$269","v":1.7325675917296616E-2},{"$f":"Baseline_Data_2012!AR177/Baseline_Data_2012!AR$269","v":9.5127126719205465E-3},{"$f":"Baseline_Data_2012!AS177/Baseline_Data_2012!AS$269","v":1.0027676880667104E-2},{"$f":"Baseline_Data_2012!AT177/Baseline_Data_2012!AT$269","v":6.3224442881074433E-3},{"$f":"Baseline_Data_2012!AU177/Baseline_Data_2012!AU$269","v":8.4615671676111226E-3},{"$f":"Baseline_Data_2012!AV177/Baseline_Data_2012!AV$269","v":9.3123537890922436E-3},177]
[3,"Female 55-59",{"$f":"'III Tool Overview'!$H$8/110","v":1.3090909090909091},0,0,{"$f":"G178*'III Tool Overview'!$H$8","v":1.4322132500180733},{"$f":"HLOOKUP('III Tool Overview'!$H$6,Targeting!$I$1:$BC$269,Targeting!BD178,FALSE)","v":9.9459253473477317E-3},{"$f":"Baseline_Data_2012!B178","v":11590.589999999998},{"$f":"Baseline_Data_2012!B178/Baseline_Data_2012!B$269","v":1.0698722950419865E-2},{"$f":"Baseline_Data_2012!C178/Baseline_Data_2012!C$269","v":9.0391536516242731E-3},{"$f":"Baseline_Data_2012!D178/Baseline_Data_2012!D$269","v":2.0158204278468619E-2},{"$f":"Baseline_Data_2012!E178/Baseline_Data_2012!E$269","v":2.1694920007678684E-2},{"$f":"Baseline_Data_2012!F178/Baseline_Data_2012!F$269","v":1.0591401777664841E-2},{"$f":"Baseline_Data_2012!G178/Baseline_Data_2012!G$269","v":9.7079474431430741E-3},{"$f":"Baseline_Data_2012!H178/Baseline_Data_2012!H$269","v":1.3745449754840164E-2},{"$f":"Baseline_Data_2012!I178/Baseline_Data_2012!I$269","v":6.5336764838032062E-3},{"$f":"Baseline_Data_2012!J178/Baseline_Data_2012!J$269","v":2.0623638368477179E-2},{"$f":"Baseline_Data_2012!K178/Baseline_Data_2012!K$269","v":1.084096112517046E-2},{"$f":"Baseline_Data_2012!L178/Baseline_Data_2012!L$269","v":9.2683949475443009E-3},{"$f":"Baseline_Data_2012!M178/Baseline_Data_2012!M$269","v":9.9459253473477317E-3},{"$f":"Baseline_Data_2012!N178/Baseline_Data_2012!N$269","v":2.6323849538860342E-2},{"$f":"Baseline_Data_2012!O178/Baseline_Data_2012!O$269","v":9.3776562378035302E-3},{"$f":"Baseline_Data_2012!P178/Baseline_Data_2012!P$269","v":3.538220487868058E-2},{"$f":"Baseline_Data_2012!Q178/Baseline_Data_2012!Q$269","v":8.6250376665517776E-3},{"$f":"Baseline_Data_2012!R178/Baseline_Data_2012!R$269","v":1.4805068763785102E-2},{"$f":"Baseline_Data_2012!S178/Baseline_Data_2012!S$269","v":1.4567179144782156E-2},{"$f":"Baseline_Data_2012!T178/Baseline_Data_2012!T$269","v":2.1712035980174477E-2},{"$f":"Baseline_Data_2012!U178/Baseline_Data_2012!U$269","v":1.1609838014738446E-2},{"$f":"Baseline_Data_2012!V178/Baseline_Data_2012!V$269","v":2.1545371086377347E-2},{"$f":"Baseline_Data_2012!W178/Baseline_Data_2012!W$269","v":4.9221987140557893E-3},{"$f":"Baseline_Data_2012!X178/Baseline_Data_2012!X$269","v":6.5785562273863538E-3},{"$f":"Baseline_Data_2012!Y178/Baseline_Data_2012!Y$269","v":5.8787683923928599E-3},{"$f":"Baseline_Data_2012!Z178/Baseline_Data_2012!Z$269","v":1.1671363472964982E-2},{"$f":"Baseline_Data_2012!AA178/Baseline_Data_2012!AA$269","v":4.8487363251019577E-3},{"$f":"Baseline_Data_2012!AB178/Baseline_Data_2012!AB$269","v":7.1733737120282682E-3},{"$f":"Baseline_Data_2012!AC178/Baseline_Data_2012!AC$269","v":3.538220487868058E-2},{"$f":"Baseline_Data_2012!AD178/Baseline_Data_2012!AD$269","v":9.8972394026461963E-3},{"$f":"Baseline_Data_2012!AE178/Baseline_Data_2012!AE$269","v":1.0608681826159346E-2},{"$f":"Baseline_Data_2012!AF178/Baseline_Data_2012!AF$269","v":4.3999319244059825E-3},{"$f":"Baseline_Data_2012!AG178/Baseline_Data_2012!AG$269","v":2.0181712225791813E-2},{"$f":"Baseline_Data_2012!AH178/Baseline_Data_2012!AH$269","v":7.0278737851142631E-3},{"$f":"Baseline_Data_2012!AI178/Baseline_Data_2012!AI$269","v":1.3661014713722842E-2},{"$f":"Baseline_Data_2012!AJ178/Baseline_Data_2012!AJ$269","v":2.2901716602380138E-2},{"$f":"Baseline_Data_2012!AK178/Baseline_Data_2012!AK$269","v":8.7176100542448436E-3},{"$f":"Baseline_Data_2012!AL178/Baseline_Data_2012!AL$269","v":9.0551042001186747E-3},{"$f":"Baseline_Data_2012!AM178/Baseline_Data_2012!AM$269","v":9.9459253473477317E-3},{"$f":"Baseline_Data_2012!AN178/Baseline_Data_2012!AN$269","v":1.0623208188366765E-2},{"$f":"Baseline_Data_2012!AO178/Baseline_Data_2012!AO$269","v":1.0821770536301116E-2},{"$f":"Baseline_Data_2012!AP178/Baseline_Data_2012!AP$269","v":2.0090148674585449E-2},{"$f":"Baseline_Data_2012!AQ178/Baseline_Data_2012!AQ$269","v":2.6323849538860342E-2},{"$f":"Baseline_Data_2012!AR178/Baseline_Data_2012!AR$269","v":1.215961153684759E-2},{"$f":"Baseline_Data_2012!AS178/Baseline_Data_2012!AS$269","v":1.2803049760450574E-2},{"$f":"Baseline_Data_2012!AT178/Baseline_Data_2012!AT$269","v":8.0543562163161008E-3},{"$f":"Baseline_Data_2012!AU178/Baseline_Data_2012!AU$269","v":1.1680077378604312E-2},{"$f":"Baseline_Data_2012!AV178/Baseline_Data_2012!AV$269","v":1.0608638660855785E-2},178]
[3,"Female 60-64",{"$f":"'III Tool Overview'!$H$8/110","v":1.3090909090909091},0,0,{"$f":"G179*'III Tool Overview'!$H$8","v":2.9825325107182135},{"$f":"HLOOKUP('III Tool Overview'!$H$6,Targeting!$I$1:$BC$269,Targeting!BD179,FALSE)","v":2.0712031324432039E-2},{"$f":"Baseline_Data_2012!B179","v":21675.52},{"$f":"Baseline_Data_2012!B179/Baseline_Data_2012!B$269","v":2.0007642689999806E-2},{"$f":"Baseline_Data_2012!C179/Baseline_Data_2012!C$269","v":1.6779283035575972E-2},{"$f":"Baseline_Data_2012!D179/Baseline_Data_2012!D$269","v":4.0680810218870718E-2},{"$f":"Baseline_Data_2012!E179/Baseline_Data_2012!E$269","v":4.3464449747307676E-2},{"$f":"Baseline_Data_2012!F179/Baseline_Data_2012!F$269","v":2.0060460809663009E-2},{"$f":"Baseline_Data_2012!G179/Baseline_Data_2012!G$269","v":1.8921881768102316E-2},{"$f":"Baseline_Data_2012!H179/Baseline_Data_2012!H$269","v":2.5909790261442685E-2},{"$f":"Baseline_Data_2012!I179/Baseline_Data_2012!I$269","v":1.1105536295166279E-2},{"$f":"Baseline_Data_2012!J179/Baseline_Data_2012!J$269","v":4.1949197691010714E-2},{"$f":"Baseline_Data_2012!K179/Baseline_Data_2012!K$269","v":1.8554307339497592E-2},{"$f":"Baseline_Data_2012!L179/Baseline_Data_2012!L$269","v":1.7463201813405299E-2},{"$f":"Baseline_Data_2012!M179/Baseline_Data_2012!M$269","v":2.0712031324432039E-2},{"$f":"Baseline_Data_2012!N179/Baseline_Data_2012!N$269","v":4.715022654325883E-2},{"$f":"Baseline_Data_2012!O179/Baseline_Data_2012!O$269","v":1.7987618403709608E-2},{"$f":"Baseline_Data_2012!P179/Baseline_Data_2012!P$269","v":7.0070538481593003E-2},{"$f":"Baseline_Data_2012!Q179/Baseline_Data_2012!Q$269","v":1.6140715414614659E-2},{"$f":"Baseline_Data_2012!R179/Baseline_Data_2012!R$269","v":2.7460986329073709E-2},{"$f":"Baseline_Data_2012!S179/Baseline_Data_2012!S$269","v":2.7443517222134575E-2},{"$f":"Baseline_Data_2012!T179/Baseline_Data_2012!T$269","v":4.7076203761437563E-2},{"$f":"Baseline_Data_2012!U179/Baseline_Data_2012!U$269","v":2.1171807722942297E-2},{"$f":"Baseline_Data_2012!V179/Baseline_Data_2012!V$269","v":4.3164837599746611E-2},{"$f":"Baseline_Data_2012!W179/Baseline_Data_2012!W$269","v":9.638943077825559E-3},{"$f":"Baseline_Data_2012!X179/Baseline_Data_2012!X$269","v":1.1573702384458073E-2},{"$f":"Baseline_Data_2012!Y179/Baseline_Data_2012!Y$269","v":9.8389776857929472E-3},{"$f":"Baseline_Data_2012!Z179/Baseline_Data_2012!Z$269","v":2.2255815048225915E-2},{"$f":"Baseline_Data_2012!AA179/Baseline_Data_2012!AA$269","v":9.9007169708663131E-3},{"$f":"Baseline_Data_2012!AB179/Baseline_Data_2012!AB$269","v":1.2181845184158739E-2},{"$f":"Baseline_Data_2012!AC179/Baseline_Data_2012!AC$269","v":7.0070538481593003E-2},{"$f":"Baseline_Data_2012!AD179/Baseline_Data_2012!AD$269","v":2.0294851009203977E-2},{"$f":"Baseline_Data_2012!AE179/Baseline_Data_2012!AE$269","v":2.0093189785759837E-2},{"$f":"Baseline_Data_2012!AF179/Baseline_Data_2012!AF$269","v":6.5776760082028847E-3},{"$f":"Baseline_Data_2012!AG179/Baseline_Data_2012!AG$269","v":3.9810850286922814E-2},{"$f":"Baseline_Data_2012!AH179/Baseline_Data_2012!AH$269","v":1.2108348012577416E-2},{"$f":"Baseline_Data_2012!AI179/Baseline_Data_2012!AI$269","v":2.9946576678652807E-2},{"$f":"Baseline_Data_2012!AJ179/Baseline_Data_2012!AJ$269","v":4.4533055279880329E-2},{"$f":"Baseline_Data_2012!AK179/Baseline_Data_2012!AK$269","v":1.5261441652141088E-2},{"$f":"Baseline_Data_2012!AL179/Baseline_Data_2012!AL$269","v":1.5817611015783207E-2},{"$f":"Baseline_Data_2012!AM179/Baseline_Data_2012!AM$269","v":2.0712031324432039E-2},{"$f":"Baseline_Data_2012!AN179/Baseline_Data_2012!AN$269","v":2.0553764284601043E-2},{"$f":"Baseline_Data_2012!AO179/Baseline_Data_2012!AO$269","v":2.0659473847877106E-2},{"$f":"Baseline_Data_2012!AP179/Baseline_Data_2012!AP$269","v":4.0543468763865269E-2},{"$f":"Baseline_Data_2012!AQ179/Baseline_Data_2012!AQ$269","v":4.715022654325883E-2},{"$f":"Baseline_Data_2012!AR179/Baseline_Data_2012!AR$269","v":2.4468240914729381E-2},{"$f":"Baseline_Data_2012!AS179/Baseline_Data_2012!AS$269","v":2.1536457061081583E-2},{"$f":"Baseline_Data_2012!AT179/Baseline_Data_2012!AT$269","v":1.4759003440929208E-2},{"$f":"Baseline_Data_2012!AU179/Baseline_Data_2012!AU$269","v":2.0719277463848232E-2},{"$f":"Baseline_Data_2012!AV179/Baseline_Data_2012!AV$269","v":2.0935282673629284E-2},179]
[3,"Female 65-69",{"$f":"'III Tool Overview'!$H$8/110","v":1.3090909090909091},0,0,{"$f":"G180*'III Tool Overview'!$H$8","v":4.3528468274270118},{"$f":"HLOOKUP('III Tool Overview'!$H$6,Targeting!$I$1:$BC$269,Targeting!BD180,FALSE)","v":3.0228102968243135E-2},{"$f":"Baseline_Data_2012!B180","v":28759.200000000001},{"$f":"Baseline_Data_2012!B180/Baseline_Data_2012!B$269","v":2.6546251146465801E-2},{"$f":"Baseline_Data_2012!C180/Baseline_Data_2012!C$269","v":2.340660683659055E-2},{"$f":"Baseline_Data_2012!D180/Baseline_Data_2012!D$269","v":5.6029738659302948E-2},{"$f":"Baseline_Data_2012!E180/Baseline_Data_2012!E$269","v":6.0623464985516219E-2},{"$f":"Baseline_Data_2012!F180/Baseline_Data_2012!F$269","v":2.6801365655263008E-2},{"$f":"Baseline_Data_2012!G180/Baseline_Data_2012!G$269","v":2.3508210451506615E-2},{"$f":"Baseline_Data_2012!H180/Baseline_Data_2012!H$269","v":3.4253966810206517E-2},{"$f":"Baseline_Data_2012!I180/Baseline_Data_2012!I$269","v":1.3891108864264052E-2},{"$f":"Baseline_Data_2012!J180/Baseline_Data_2012!J$269","v":5.3882492600554617E-2},{"$f":"Baseline_Data_2012!K180/Baseline_Data_2012!K$269","v":2.5633585005607914E-2},{"$f":"Baseline_Data_2012!L180/Baseline_Data_2012!L$269","v":2.1829002266756627E-2},{"$f":"Baseline_Data_2012!M180/Baseline_Data_2012!M$269","v":3.0228102968243135E-2},{"$f":"Baseline_Data_2012!N180/Baseline_Data_2012!N$269","v":6.8947044632761023E-2},{"$f":"Baseline_Data_2012!O180/Baseline_Data_2012!O$269","v":2.4666844355087071E-2},{"$f":"Baseline_Data_2012!P180/Baseline_Data_2012!P$269","v":9.7037374897628051E-2},{"$f":"Baseline_Data_2012!Q180/Baseline_Data_2012!Q$269","v":1.9901435062749825E-2},{"$f":"Baseline_Data_2012!R180/Baseline_Data_2012!R$269","v":3.5460743999089883E-2},{"$f":"Baseline_Data_2012!S180/Baseline_Data_2012!S$269","v":3.8128379003544328E-2},{"$f":"Baseline_Data_2012!T180/Baseline_Data_2012!T$269","v":6.0826035655187134E-2},{"$f":"Baseline_Data_2012!U180/Baseline_Data_2012!U$269","v":2.7938524708466018E-2},{"$f":"Baseline_Data_2012!V180/Baseline_Data_2012!V$269","v":6.0205571128755082E-2},{"$f":"Baseline_Data_2012!W180/Baseline_Data_2012!W$269","v":1.2040553533993801E-2},{"$f":"Baseline_Data_2012!X180/Baseline_Data_2012!X$269","v":1.892972434780827E-2},{"$f":"Baseline_Data_2012!Y180/Baseline_Data_2012!Y$269","v":1.2948975488924711E-2},{"$f":"Baseline_Data_2012!Z180/Baseline_Data_2012!Z$269","v":2.9413474946003222E-2},{"$f":"Baseline_Data_2012!AA180/Baseline_Data_2012!AA$269","v":1.054022457855564E-2},{"$f":"Baseline_Data_2012!AB180/Baseline_Data_2012!AB$269","v":1.5148663193018571E-2},{"$f":"Baseline_Data_2012!AC180/Baseline_Data_2012!AC$269","v":9.7037374897628051E-2},{"$f":"Baseline_Data_2012!AD180/Baseline_Data_2012!AD$269","v":2.3468991247514254E-2},{"$f":"Baseline_Data_2012!AE180/Baseline_Data_2012!AE$269","v":2.6845092529945311E-2},{"$f":"Baseline_Data_2012!AF180/Baseline_Data_2012!AF$269","v":8.1648736733579211E-3},{"$f":"Baseline_Data_2012!AG180/Baseline_Data_2012!AG$269","v":5.0983508129025863E-2},{"$f":"Baseline_Data_2012!AH180/Baseline_Data_2012!AH$269","v":1.5993241738471446E-2},{"$f":"Baseline_Data_2012!AI180/Baseline_Data_2012!AI$269","v":3.5873503312969512E-2},{"$f":"Baseline_Data_2012!AJ180/Baseline_Data_2012!AJ$269","v":6.4298028703229523E-2},{"$f":"Baseline_Data_2012!AK180/Baseline_Data_2012!AK$269","v":1.9705627345281043E-2},{"$f":"Baseline_Data_2012!AL180/Baseline_Data_2012!AL$269","v":2.0905074569221537E-2},{"$f":"Baseline_Data_2012!AM180/Baseline_Data_2012!AM$269","v":3.0228102968243135E-2},{"$f":"Baseline_Data_2012!AN180/Baseline_Data_2012!AN$269","v":2.9300404029525169E-2},{"$f":"Baseline_Data_2012!AO180/Baseline_Data_2012!AO$269","v":2.7289377113962676E-2},{"$f":"Baseline_Data_2012!AP180/Baseline_Data_2012!AP$269","v":5.5840578074996927E-2},{"$f":"Baseline_Data_2012!AQ180/Baseline_Data_2012!AQ$269","v":6.8947044632761023E-2},{"$f":"Baseline_Data_2012!AR180/Baseline_Data_2012!AR$269","v":3.393480962858833E-2},{"$f":"Baseline_Data_2012!AS180/Baseline_Data_2012!AS$269","v":3.0103970174912922E-2},{"$f":"Baseline_Data_2012!AT180/Baseline_Data_2012!AT$269","v":2.0569892803300131E-2},{"$f":"Baseline_Data_2012!AU180/Baseline_Data_2012!AU$269","v":2.4035356955046237E-2},{"$f":"Baseline_Data_2012!AV180/Baseline_Data_2012!AV$269","v":2.627121508828956E-2},180]
[3,"Female 70-74",null,null,null,null,{"$f":"HLOOKUP('III Tool Overview'!$H$6,Targeting!$I$1:$BC$269,Targeting!BD181,FALSE)","v":0},null,{"$f":"Baseline_Data_2012!B181/Baseline_Data_2012!B$269","v":0},{"$f":"Baseline_Data_2012!C181/Baseline_Data_2012!C$269","v":0},{"$f":"Baseline_Data_2012!D181/Baseline_Data_2012!D$269","v":0},{"$f":"Baseline_Data_2012!E181/Baseline_Data_2012!E$269","v":0},{"$f":"Baseline_Data_2012!F181/Baseline_Data_2012!F$269","v":0},{"$f":"Baseline_Data_2012!G181/Baseline_Data_2012!G$269","v":0},{"$f":"Baseline_Data_2012!H181/Baseline_Data_2012!H$269","v":0},{"$f":"Baseline_Data_2012!I181/Baseline_Data_2012!I$269","v":0},{"$f":"Baseline_Data_2012!J181/Baseline_Data_2012!J$269","v":0},{"$f":"Baseline_Data_2012!K181/Baseline_Data_2012!K$269","v":0},{"$f":"Baseline_Data_2012!L181/Baseline_Data_2012!L$269","v":0},{"$f":"Baseline_Data_2012!M181/Baseline_Data_2012!M$269","v":0},{"$f":"Baseline_Data_2012!N181/Baseline_Data_2012!N$269","v":0},{"$f":"Baseline_Data_2012!O181/Baseline_Data_2012!O$269","v":0},{"$f":"Baseline_Data_2012!P181/Baseline_Data_2012!P$269","v":0},{"$f":"Baseline_Data_2012!Q181/Baseline_Data_2012!Q$269","v":0},{"$f":"Baseline_Data_2012!R181/Baseline_Data_2012!R$269","v":0},{"$f":"Baseline_Data_2012!S181/Baseline_Data_2012!S$269","v":0},{"$f":"Baseline_Data_2012!T181/Baseline_Data_2012!T$269","v":0},{"$f":"Baseline_Data_2012!U181/Baseline_Data_2012!U$269","v":0},{"$f":"Baseline_Data_2012!V181/Baseline_Data_2012!V$269","v":0},{"$f":"Baseline_Data_2012!W181/Baseline_Data_2012!W$269","v":0},{"$f":"Baseline_Data_2012!X181/Baseline_Data_2012!X$269","v":0},{"$f":"Baseline_Data_2012!Y181/Baseline_Data_2012!Y$269","v":0},{"$f":"Baseline_Data_2012!Z181/Baseline_Data_2012!Z$269","v":0},{"$f":"Baseline_Data_2012!AA181/Baseline_Data_2012!AA$269","v":0},{"$f":"Baseline_Data_2012!AB181/Baseline_Data_2012!AB$269","v":0},{"$f":"Baseline_Data_2012!AC181/Baseline_Data_2012!AC$269","v":0},{"$f":"Baseline_Data_2012!AD181/Baseline_Data_2012!AD$269","v":0},{"$f":"Baseline_Data_2012!AE181/Baseline_Data_2012!AE$269","v":0},{"$f":"Baseline_Data_2012!AF181/Baseline_Data_2012!AF$269","v":0},{"$f":"Baseline_Data_2012!AG181/Baseline_Data_2012!AG$269","v":0},{"$f":"Baseline_Data_2012!AH181/Baseline_Data_2012!AH$269","v":0},{"$f":"Baseline_Data_2012!AI181/Baseline_Data_2012!AI$269","v":0},{"$f":"Baseline_Data_2012!AJ181/Baseline_Data_2012!AJ$269","v":0},{"$f":"Baseline_Data_2012!AK181/Baseline_Data_2012!AK$269","v":0},{"$f":"Baseline_Data_2012!AL181/Baseline_Data_2012!AL$269","v":0},{"$f":"Baseline_Data_2012!AM181/Baseline_Data_2012!AM$269","v":0},{"$f":"Baseline_Data_2012!AN181/Baseline_Data_2012!AN$269","v":0},{"$f":"Baseline_Data_2012!AO181/Baseline_Data_2012!AO$269","v":0},{"$f":"Baseline_Data_2012!AP181/Baseline_Data_2012!AP$269","v":0},{"$f":"Baseline_Data_2012!AQ181/Baseline_Data_2012!AQ$269","v":0},{"$f":"Baseline_Data_2012!AR181/Baseline_Data_2012!AR$269","v":0},{"$f":"Baseline_Data_2012!AS181/Baseline_Data_2012!AS$269","v":0},{"$f":"Baseline_Data_2012!AT181/Baseline_Data_2012!AT$269","v":0},{"$f":"Baseline_Data_2012!AU181/Baseline_Data_2012!AU$269","v":0},{"$f":"Baseline_Data_2012!AV181/Baseline_Data_2012!AV$269","v":0},181]
[3,"Female 75-79",null,null,null,null,{"$f":"HLOOKUP('III Tool Overview'!$H$6,Targeting!$I$1:$BC$269,Targeting!BD182,FALSE)","v":0},null,{"$f":"Baseline_Data_2012!B182/Baseline_Data_2012!B$269","v":0},{"$f":"Baseline_Data_2012!C182/Baseline_Data_2012!C$269","v":0},{"$f":"Baseline_Data_2012!D182/Baseline_Data_2012!D$269","v":0},{"$f":"Baseline_Data_2012!E182/Baseline_Data_2012!E$269","v":0},{"$f":"Baseline_Data_2012!F182/Baseline_Data_2012!F$269","v":0},{"$f":"Baseline_Data_2012!G182/Baseline_Data_2012!G$269","v":0},{"$f":"Baseline_Data_2012!H182/Baseline_Data_2012!H$269","v":0},{"$f":"Baseline_Data_2012!I182/Baseline_Data_2012!I$269","v":0},{"$f":"Baseline_Data_2012!J182/Baseline_Data_2012!J$269","v":0},{"$f":"Baseline_Data_2012!K182/Baseline_Data_2012!K$269","v":0},{"$f":"Baseline_Data_2012!L182/Baseline_Data_2012!L$269","v":0},{"$f":"Baseline_Data_2012!M182/Baseline_Data_2012!M$269","v":0},{"$f":"Baseline_Data_2012!N182/Baseline_Data_2012!N$269","v":0},{"$f":"Baseline_Data_2012!O182/Baseline_Data_2012!O$269","v":0},{"$f":"Baseline_Data_2012!P182/Baseline_Data_2012!P$269","v":0},{"$f":"Baseline_Data_2012!Q182/Baseline_Data_2012!Q$269","v":0},{"$f":"Baseline_Data_2012!R182/Baseline_Data_2012!R$269","v":0},{"$f":"Baseline_Data_2012!S182/Baseline_Data_2012!S$269","v":0},{"$f":"Baseline_Data_2012!T182/Baseline_Data_2012!T$269","v":0},{"$f":"Baseline_Data_2012!U182/Baseline_Data_2012!U$269","v":0},{"$f":"Baseline_Data_2012!V182/Baseline_Data_2012!V$269","v":0},{"$f":"Baseline_Data_2012!W182/Baseline_Data_2012!W$269","v":0},{"$f":"Baseline_Data_2012!X182/Baseline_Data_2012!X$269","v":0},{"$f":"Baseline_Data_2012!Y182/Baseline_Data_2012!Y$269","v":0},{"$f":"Baseline_Data_2012!Z182/Baseline_Data_2012!Z$269","v":0},{"$f":"Baseline_Data_2012!AA182/Baseline_Data_2012!AA$269","v":0},{"$f":"Baseline_Data_2012!AB182/Baseline_Data_2012!AB$269","v":0},{"$f":"Baseline_Data_2012!AC182/Baseline_Data_2012!AC$269","v":0},{"$f":"Baseline_Data_2012!AD182/Baseline_Data_2012!AD$269","v":0},{"$f":"Baseline_Data_2012!AE182/Baseline_Data_2012!AE$269","v":0},{"$f":"Baseline_Data_2012!AF182/Baseline_Data_2012!AF$269","v":0},{"$f":"Baseline_Data_2012!AG182/Baseline_Data_2012!AG$269","v":0},{"$f":"Baseline_Data_2012!AH182/Baseline_Data_2012!AH$269","v":0},{"$f":"Baseline_Data_2012!AI182/Baseline_Data_2012!AI$269","v":0},{"$f":"Baseline_Data_2012!AJ182/Baseline_Data_2012!AJ$269","v":0},{"$f":"Baseline_Data_2012!AK182/Baseline_Data_2012!AK$269","v":0},{"$f":"Baseline_Data_2012!AL182/Baseline_Data_2012!AL$269","v":0},{"$f":"Baseline_Data_2012!AM182/Baseline_Data_2012!AM$269","v":0},{"$f":"Baseline_Data_2012!AN182/Baseline_Data_2012!AN$269","v":0},{"$f":"Baseline_Data_2012!AO182/Baseline_Data_2012!AO$269","v":0},{"$f":"Baseline_Data_2012!AP182/Baseline_Data_2012!AP$269","v":0},{"$f":"Baseline_Data_2012!AQ182/Baseline_Data_2012!AQ$269","v":0},{"$f":"Baseline_Data_2012!AR182/Baseline_Data_2012!AR$269","v":0},{"$f":"Baseline_Data_2012!AS182/Baseline_Data_2012!AS$269","v":0},{"$f":"Baseline_Data_2012!AT182/Baseline_Data_2012!AT$269","v":0},{"$f":"Baseline_Data_2012!AU182/Baseline_Data_2012!AU$269","v":0},{"$f":"Baseline_Data_2012!AV182/Baseline_Data_2012!AV$269","v":0},182]
[3,"Female 80-84",null,null,null,null,{"$f":"HLOOKUP('III Tool Overview'!$H$6,Targeting!$I$1:$BC$269,Targeting!BD183,FALSE)","v":0},null,{"$f":"Baseline_Data_2012!B183/Baseline_Data_2012!B$269","v":0},{"$f":"Baseline_Data_2012!C183/Baseline_Data_2012!C$269","v":0},{"$f":"Baseline_Data_2012!D183/Baseline_Data_2012!D$269","v":0},{"$f":"Baseline_Data_2012!E183/Baseline_Data_2012!E$269","v":0},{"$f":"Baseline_Data_2012!F183/Baseline_Data_2012!F$269","v":0},{"$f":"Baseline_Data_2012!G183/Baseline_Data_2012!G$269","v":0},{"$f":"Baseline_Data_2012!H183/Baseline_Data_2012!H$269","v":0},{"$f":"Baseline_Data_2012!I183/Baseline_Data_2012!I$269","v":0},{"$f":"Baseline_Data_2012!J183/Baseline_Data_2012!J$269","v":0},{"$f":"Baseline_Data_2012!K183/Baseline_Data_2012!K$269","v":0},{"$f":"Baseline_Data_2012!L183/Baseline_Data_2012!L$269","v":0},{"$f":"Baseline_Data_2012!M183/Baseline_Data_2012!M$269","v":0},{"$f":"Baseline_Data_2012!N183/Baseline_Data_2012!N$269","v":0},{"$f":"Baseline_Data_2012!O183/Baseline_Data_2012!O$269","v":0},{"$f":"Baseline_Data_2012!P183/Baseline_Data_2012!P$269","v":0},{"$f":"Baseline_Data_2012!Q183/Baseline_Data_2012!Q$269","v":0},{"$f":"Baseline_Data_2012!R183/Baseline_Data_2012!R$269","v":0},{"$f":"Baseline_Data_2012!S183/Baseline_Data_2012!S$269","v":0},{"$f":"Baseline_Data_2012!T183/Baseline_Data_2012!T$269","v":0},{"$f":"Baseline_Data_2012!U183/Baseline_Data_2012!U$269","v":0},{"$f":"Baseline_Data_2012!V183/Baseline_Data_2012!V$269","v":0},{"$f":"Baseline_Data_2012!W183/Baseline_Data_2012!W$269","v":0},{"$f":"Baseline_Data_2012!X183/Baseline_Data_2012!X$269","v":0},{"$f":"Baseline_Data_2012!Y183/Baseline_Data_2012!Y$269","v":0},{"$f":"Baseline_Data_2012!Z183/Baseline_Data_2012!Z$269","v":0},{"$f":"Baseline_Data_2012!AA183/Baseline_Data_2012!AA$269","v":0},{"$f":"Baseline_Data_2012!AB183/Baseline_Data_2012!AB$269","v":0},{"$f":"Baseline_Data_2012!AC183/Baseline_Data_2012!AC$269","v":0},{"$f":"Baseline_Data_2012!AD183/Baseline_Data_2012!AD$269","v":0},{"$f":"Baseline_Data_2012!AE183/Baseline_Data_2012!AE$269","v":0},{"$f":"Baseline_Data_2012!AF183/Baseline_Data_2012!AF$269","v":0},{"$f":"Baseline_Data_2012!AG183/Baseline_Data_2012!AG$269","v":0},{"$f":"Baseline_Data_2012!AH183/Baseline_Data_2012!AH$269","v":0},{"$f":"Baseline_Data_2012!AI183/Baseline_Data_2012!AI$269","v":0},{"$f":"Baseline_Data_2012!AJ183/Baseline_Data_2012!AJ$269","v":0},{"$f":"Baseline_Data_2012!AK183/Baseline_Data_2012!AK$269","v":0},{"$f":"Baseline_Data_2012!AL183/Baseline_Data_2012!AL$269","v":0},{"$f":"Baseline_Data_2012!AM183/Baseline_Data_2012!AM$269","v":0},{"$f":"Baseline_Data_2012!AN183/Baseline_Data_2012!AN$269","v":0},{"$f":"Baseline_Data_2012!AO183/Baseline_Data_2012!AO$269","v":0},{"$f":"Baseline_Data_2012!AP183/Baseline_Data_2012!AP$269","v":0},{"$f":"Baseline_Data_2012!AQ183/Baseline_Data_2012!AQ$269","v":0},{"$f":"Baseline_Data_2012!AR183/Baseline_Data_2012!AR$269","v":0},{"$f":"Baseline_Data_2012!AS183/Baseline_Data_2012!AS$269","v":0},{"$f":"Baseline_Data_2012!AT183/Baseline_Data_2012!AT$269","v":0},{"$f":"Baseline_Data_2012!AU183/Baseline_Data_2012!AU$269","v":0},{"$f":"Baseline_Data_2012!AV183/Baseline_Data_2012!AV$269","v":0},183]
[3,"Female 85+",null,null,null,null,{"$f":"HLOOKUP('III Tool Overview'!$H$6,Targeting!$I$1:$BC$269,Targeting!BD184,FALSE)","v":0},null,{"$f":"Baseline_Data_2012!B184/Baseline_Data_2012!B$269","v":0},{"$f":"Baseline_Data_2012!C184/Baseline_Data_2012!C$269","v":0},{"$f":"Baseline_Data_2012!D184/Baseline_Data_2012!D$269","v":0},{"$f":"Baseline_Data_2012!E184/Baseline_Data_2012!E$269","v":0},{"$f":"Baseline_Data_2012!F184/Baseline_Data_2012!F$269","v":0},{"$f":"Baseline_Data_2012!G184/Baseline_Data_2012!G$269","v":0},{"$f":"Baseline_Data_2012!H184/Baseline_Data_2012!H$269","v":0},{"$f":"Baseline_Data_2012!I184/Baseline_Data_2012!I$269","v":0},{"$f":"Baseline_Data_2012!J184/Baseline_Data_2012!J$269","v":0},{"$f":"Baseline_Data_2012!K184/Baseline_Data_2012!K$269","v":0},{"$f":"Baseline_Data_2012!L184/Baseline_Data_2012!L$269","v":0},{"$f":"Baseline_Data_2012!M184/Baseline_Data_2012!M$269","v":0},{"$f":"Baseline_Data_2012!N184/Baseline_Data_2012!N$269","v":0},{"$f":"Baseline_Data_2012!O184/Baseline_Data_2012!O$269","v":0},{"$f":"Baseline_Data_2012!P184/Baseline_Data_2012!P$269","v":0},{"$f":"Baseline_Data_2012!Q184/Baseline_Data_2012!Q$269","v":0},{"$f":"Baseline_Data_2012!R184/Baseline_Data_2012!R$269","v":0},{"$f":"Baseline_Data_2012!S184/Baseline_Data_2012!S$269","v":0},{"$f":"Baseline_Data_2012!T184/Baseline_Data_2012!T$269","v":0},{"$f":"Baseline_Data_2012!U184/Baseline_Data_2012!U$269","v":0},{"$f":"Baseline_Data_2012!V184/Baseline_Data_2012!V$269","v":0},{"$f":"Baseline_Data_2012!W184/Baseline_Data_2012!W$269","v":0},{"$f":"Baseline_Data_2012!X184/Baseline_Data_2012!X$269","v":0},{"$f":"Baseline_Data_2012!Y184/Baseline_Data_2012!Y$269","v":0},{"$f":"Baseline_Data_2012!Z184/Baseline_Data_2012!Z$269","v":0},{"$f":"Baseline_Data_2012!AA184/Baseline_Data_2012!AA$269","v":0},{"$f":"Baseline_Data_2012!AB184/Baseline_Data_2012!AB$269","v":0},{"$f":"Baseline_Data_2012!AC184/Baseline_Data_2012!AC$269","v":0},{"$f":"Baseline_Data_2012!AD184/Baseline_Data_2012!AD$269","v":0},{"$f":"Baseline_Data_2012!AE184/Baseline_Data_2012!AE$269","v":0},{"$f":"Baseline_Data_2012!AF184/Baseline_Data_2012!AF$269","v":0},{"$f":"Baseline_Data_2012!AG184/Baseline_Data_2012!AG$269","v":0},{"$f":"Baseline_Data_2012!AH184/Baseline_Data_2012!AH$269","v":0},{"$f":"Baseline_Data_2012!AI184/Baseline_Data_2012!AI$269","v":0},{"$f":"Baseline_Data_2012!AJ184/Baseline_Data_2012!AJ$269","v":0},{"$f":"Baseline_Data_2012!AK184/Baseline_Data_2012!AK$269","v":0},{"$f":"Baseline_Data_2012!AL184/Baseline_Data_2012!AL$269","v":0},{"$f":"Baseline_Data_2012!AM184/Baseline_Data_2012!AM$269","v":0},{"$f":"Baseline_Data_2012!AN184/Baseline_Data_2012!AN$269","v":0},{"$f":"Baseline_Data_2012!AO184/Baseline_Data_2012!AO$269","v":0},{"$f":"Baseline_Data_2012!AP184/Baseline_Data_2012!AP$269","v":0},{"$f":"Baseline_Data_2012!AQ184/Baseline_Data_2012!AQ$269","v":0},{"$f":"Baseline_Data_2012!AR184/Baseline_Data_2012!AR$269","v":0},{"$f":"Baseline_Data_2012!AS184/Baseline_Data_2012!AS$269","v":0},{"$f":"Baseline_Data_2012!AT184/Baseline_Data_2012!AT$269","v":0},{"$f":"Baseline_Data_2012!AU184/Baseline_Data_2012!AU$269","v":0},{"$f":"Baseline_Data_2012!AV184/Baseline_Data_2012!AV$269","v":0},184]
[null,"TOTAL",null,null,null,null,{"$f":"HLOOKUP('III Tool Overview'!$H$6,Targeting!$I$1:$BC$269,Targeting!BD185,FALSE)","v":0},null,{"$f":"Baseline_Data_2012!B185/Baseline_Data_2012!B$269","v":0},{"$f":"Baseline_Data_2012!C185/Baseline_Data_2012!C$269","v":0},{"$f":"Baseline_Data_2012!D185/Baseline_Data_2012!D$269","v":0},{"$f":"Baseline_Data_2012!E185/Baseline_Data_2012!E$269","v":0},{"$f":"Baseline_Data_2012!F185/Baseline_Data_2012!F$269","v":0},{"$f":"Baseline_Data_2012!G185/Baseline_Data_2012!G$269","v":0},{"$f":"Baseline_Data_2012!H185/Baseline_Data_2012!H$269","v":0},{"$f":"Baseline_Data_2012!I185/Baseline_Data_2012!I$269","v":0},{"$f":"Baseline_Data_2012!J185/Baseline_Data_2012!J$269","v":0},{"$f":"Baseline_Data_2012!K185/Baseline_Data_2012!K$269","v":0},{"$f":"Baseline_Data_2012!L185/Baseline_Data_2012!L$269","v":0},{"$f":"Baseline_Data_2012!M185/Baseline_Data_2012!M$269","v":0},{"$f":"Baseline_Data_2012!N185/Baseline_Data_2012!N$269","v":0},{"$f":"Baseline_Data_2012!O185/Baseline_Data_2012!O$269","v":0},{"$f":"Baseline_Data_2012!P185/Baseline_Data_2012!P$269","v":0},{"$f":"Baseline_Data_2012!Q185/Baseline_Data_2012!Q$269","v":0},{"$f":"Baseline_Data_2012!R185/Baseline_Data_2012!R$269","v":0},{"$f":"Baseline_Data_2012!S185/Baseline_Data_2012!S$269","v":0},{"$f":"Baseline_Data_2012!T185/Baseline_Data_2012!T$269","v":0},{"$f":"Baseline_Data_2012!U185/Baseline_Data_2012!U$269","v":0},{"$f":"Baseline_Data_2012!V185/Baseline_Data_2012!V$269","v":0},{"$f":"Baseline_Data_2012!W185/Baseline_Data_2012!W$269","v":0},{"$f":"Baseline_Data_2012!X185/Baseline_Data_2012!X$269","v":0},{"$f":"Baseline_Data_2012!Y185/Baseline_Data_2012!Y$269","v":0},{"$f":"Baseline_Data_2012!Z185/Baseline_Data_2012!Z$269","v":0},{"$f":"Baseline_Data_2012!AA185/Baseline_Data_2012!AA$269","v":0},{"$f":"Baseline_Data_2012!AB185/Baseline_Data_2012!AB$269","v":0},{"$f":"Baseline_Data_2012!AC185/Baseline_Data_2012!AC$269","v":0},{"$f":"Baseline_Data_2012!AD185/Baseline_Data_2012!AD$269","v":0},{"$f":"Baseline_Data_2012!AE185/Baseline_Data_2012!AE$269","v":0},{"$f":"Baseline_Data_2012!AF185/Baseline_Data_2012!AF$269","v":0},{"$f":"Baseline_Data_2012!AG185/Baseline_Data_2012!AG$269","v":0},{"$f":"Baseline_Data_2012!AH185/Baseline_Data_2012!AH$269","v":0},{"$f":"Baseline_Data_2012!AI185/Baseline_Data_2012!AI$269","v":0},{"$f":"Baseline_Data_2012!AJ185/Baseline_Data_2012!AJ$269","v":0},{"$f":"Baseline_Data_2012!AK185/Baseline_Data_2012!AK$269","v":0},{"$f":"Baseline_Data_2012!AL185/Baseline_Data_2012!AL$269","v":0},{"$f":"Baseline_Data_2012!AM185/Baseline_Data_2012!AM$269","v":0},{"$f":"Baseline_Data_2012!AN185/Baseline_Data_2012!AN$269","v":0},{"$f":"Baseline_Data_2012!AO185/Baseline_Data_2012!AO$269","v":0},{"$f":"Baseline_Data_2012!AP185/Baseline_Data_2012!AP$269","v":0},{"$f":"Baseline_Data_2012!AQ185/Baseline_Data_2012!AQ$269","v":0},{"$f":"Baseline_Data_2012!AR185/Baseline_Data_2012!AR$269","v":0},{"$f":"Baseline_Data_2012!AS185/Baseline_Data_2012!AS$269","v":0},{"$f":"Baseline_Data_2012!AT185/Baseline_Data_2012!AT$269","v":0},{"$f":"Baseline_Data_2012!AU185/Baseline_Data_2012!AU$269","v":0},{"$f":"Baseline_Data_2012!AV185/Baseline_Data_2012!AV$269","v":0},185]
[null,"age/sex breakdown: Q4",null,null,null,null,{"$f":"HLOOKUP('III Tool Overview'!$H$6,Targeting!$I$1:$BC$269,Targeting!BD186,FALSE)","v":0},null,{"$f":"Baseline_Data_2012!B186/Baseline_Data_2012!B$269","v":0},{"$f":"Baseline_Data_2012!C186/Baseline_Data_2012!C$269","v":0},{"$f":"Baseline_Data_2012!D186/Baseline_Data_2012!D$269","v":0},{"$f":"Baseline_Data_2012!E186/Baseline_Data_2012!E$269","v":0},{"$f":"Baseline_Data_2012!F186/Baseline_Data_2012!F$269","v":0},{"$f":"Baseline_Data_2012!G186/Baseline_Data_2012!G$269","v":0},{"$f":"Baseline_Data_2012!H186/Baseline_Data_2012!H$269","v":0},{"$f":"Baseline_Data_2012!I186/Baseline_Data_2012!I$269","v":0},{"$f":"Baseline_Data_2012!J186/Baseline_Data_2012!J$269","v":0},{"$f":"Baseline_Data_2012!K186/Baseline_Data_2012!K$269","v":0},{"$f":"Baseline_Data_2012!L186/Baseline_Data_2012!L$269","v":0},{"$f":"Baseline_Data_2012!M186/Baseline_Data_2012!M$269","v":0},{"$f":"Baseline_Data_2012!N186/Baseline_Data_2012!N$269","v":0},{"$f":"Baseline_Data_2012!O186/Baseline_Data_2012!O$269","v":0},{"$f":"Baseline_Data_2012!P186/Baseline_Data_2012!P$269","v":0},{"$f":"Baseline_Data_2012!Q186/Baseline_Data_2012!Q$269","v":0},{"$f":"Baseline_Data_2012!R186/Baseline_Data_2012!R$269","v":0},{"$f":"Baseline_Data_2012!S186/Baseline_Data_2012!S$269","v":0},{"$f":"Baseline_Data_2012!T186/Baseline_Data_2012!T$269","v":0},{"$f":"Baseline_Data_2012!U186/Baseline_Data_2012!U$269","v":0},{"$f":"Baseline_Data_2012!V186/Baseline_Data_2012!V$269","v":0},{"$f":"Baseline_Data_2012!W186/Baseline_Data_2012!W$269","v":0},{"$f":"Baseline_Data_2012!X186/Baseline_Data_2012!X$269","v":0},{"$f":"Baseline_Data_2012!Y186/Baseline_Data_2012!Y$269","v":0},{"$f":"Baseline_Data_2012!Z186/Baseline_Data_2012!Z$269","v":0},{"$f":"Baseline_Data_2012!AA186/Baseline_Data_2012!AA$269","v":0},{"$f":"Baseline_Data_2012!AB186/Baseline_Data_2012!AB$269","v":0},{"$f":"Baseline_Data_2012!AC186/Baseline_Data_2012!AC$269","v":0},{"$f":"Baseline_Data_2012!AD186/Baseline_Data_2012!AD$269","v":0},{"$f":"Baseline_Data_2012!AE186/Baseline_Data_2012!AE$269","v":0},{"$f":"Baseline_Data_2012!AF186/Baseline_Data_2012!AF$269","v":0},{"$f":"Baseline_Data_2012!AG186/Baseline_Data_2012!AG$269","v":0},{"$f":"Baseline_Data_2012!AH186/Baseline_Data_2012!AH$269","v":0},{"$f":"Baseline_Data_2012!AI186/Baseline_Data_2012!AI$269","v":0},{"$f":"Baseline_Data_2012!AJ186/Baseline_Data_2012!AJ$269","v":0},{"$f":"Baseline_Data_2012!AK186/Baseline_Data_2012!AK$269","v":0},{"$f":"Baseline_Data_2012!AL186/Baseline_Data_2012!AL$269","v":0},{"$f":"Baseline_Data_2012!AM186/Baseline_Data_2012!AM$269","v":0},{"$f":"Baseline_Data_2012!AN186/Baseline_Data_2012!AN$269","v":0},{"$f":"Baseline_Data_2012!AO186/Baseline_Data_2012!AO$269","v":0},{"$f":"Baseline_Data_2012!AP186/Baseline_Data_2012!AP$269","v":0},{"$f":"Baseline_Data_2012!AQ186/Baseline_Data_2012!AQ$269","v":0},{"$f":"Baseline_Data_2012!AR186/Baseline_Data_2012!AR$269","v":0},{"$f":"Baseline_Data_2012!AS186/Baseline_Data_2012!AS$269","v":0},{"$f":"Baseline_Data_2012!AT186/Baseline_Data_2012!AT$269","v":0},{"$f":"Baseline_Data_2012!AU186/Baseline_Data_2012!AU$269","v":0},{"$f":"Baseline_Data_2012!AV186/Baseline_Data_2012!AV$269","v":0},186]
[4,"Male <1",null,null,null,null,{"$f":"HLOOKUP('III Tool Overview'!$H$6,Targeting!$I$1:$BC$269,Targeting!BD187,FALSE)","v":0},null,{"$f":"Baseline_Data_2012!B187/Baseline_Data_2012!B$269","v":0},{"$f":"Baseline_Data_2012!C187/Baseline_Data_2012!C$269","v":0},{"$f":"Baseline_Data_2012!D187/Baseline_Data_2012!D$269","v":0},{"$f":"Baseline_Data_2012!E187/Baseline_Data_2012!E$269","v":0},{"$f":"Baseline_Data_2012!F187/Baseline_Data_2012!F$269","v":0},{"$f":"Baseline_Data_2012!G187/Baseline_Data_2012!G$269","v":0},{"$f":"Baseline_Data_2012!H187/Baseline_Data_2012!H$269","v":0},{"$f":"Baseline_Data_2012!I187/Baseline_Data_2012!I$269","v":0},{"$f":"Baseline_Data_2012!J187/Baseline_Data_2012!J$269","v":0},{"$f":"Baseline_Data_2012!K187/Baseline_Data_2012!K$269","v":0},{"$f":"Baseline_Data_2012!L187/Baseline_Data_2012!L$269","v":0},{"$f":"Baseline_Data_2012!M187/Baseline_Data_2012!M$269","v":0},{"$f":"Baseline_Data_2012!N187/Baseline_Data_2012!N$269","v":0},{"$f":"Baseline_Data_2012!O187/Baseline_Data_2012!O$269","v":0},{"$f":"Baseline_Data_2012!P187/Baseline_Data_2012!P$269","v":0},{"$f":"Baseline_Data_2012!Q187/Baseline_Data_2012!Q$269","v":0},{"$f":"Baseline_Data_2012!R187/Baseline_Data_2012!R$269","v":0},{"$f":"Baseline_Data_2012!S187/Baseline_Data_2012!S$269","v":0},{"$f":"Baseline_Data_2012!T187/Baseline_Data_2012!T$269","v":0},{"$f":"Baseline_Data_2012!U187/Baseline_Data_2012!U$269","v":0},{"$f":"Baseline_Data_2012!V187/Baseline_Data_2012!V$269","v":0},{"$f":"Baseline_Data_2012!W187/Baseline_Data_2012!W$269","v":0},{"$f":"Baseline_Data_2012!X187/Baseline_Data_2012!X$269","v":0},{"$f":"Baseline_Data_2012!Y187/Baseline_Data_2012!Y$269","v":0},{"$f":"Baseline_Data_2012!Z187/Baseline_Data_2012!Z$269","v":0},{"$f":"Baseline_Data_2012!AA187/Baseline_Data_2012!AA$269","v":0},{"$f":"Baseline_Data_2012!AB187/Baseline_Data_2012!AB$269","v":0},{"$f":"Baseline_Data_2012!AC187/Baseline_Data_2012!AC$269","v":0},{"$f":"Baseline_Data_2012!AD187/Baseline_Data_2012!AD$269","v":0},{"$f":"Baseline_Data_2012!AE187/Baseline_Data_2012!AE$269","v":0},{"$f":"Baseline_Data_2012!AF187/Baseline_Data_2012!AF$269","v":0},{"$f":"Baseline_Data_2012!AG187/Baseline_Data_2012!AG$269","v":0},{"$f":"Baseline_Data_2012!AH187/Baseline_Data_2012!AH$269","v":0},{"$f":"Baseline_Data_2012!AI187/Baseline_Data_2012!AI$269","v":0},{"$f":"Baseline_Data_2012!AJ187/Baseline_Data_2012!AJ$269","v":0},{"$f":"Baseline_Data_2012!AK187/Baseline_Data_2012!AK$269","v":0},{"$f":"Baseline_Data_2012!AL187/Baseline_Data_2012!AL$269","v":0},{"$f":"Baseline_Data_2012!AM187/Baseline_Data_2012!AM$269","v":0},{"$f":"Baseline_Data_2012!AN187/Baseline_Data_2012!AN$269","v":0},{"$f":"Baseline_Data_2012!AO187/Baseline_Data_2012!AO$269","v":0},{"$f":"Baseline_Data_2012!AP187/Baseline_Data_2012!AP$269","v":0},{"$f":"Baseline_Data_2012!AQ187/Baseline_Data_2012!AQ$269","v":0},{"$f":"Baseline_Data_2012!AR187/Baseline_Data_2012!AR$269","v":0},{"$f":"Baseline_Data_2012!AS187/Baseline_Data_2012!AS$269","v":0},{"$f":"Baseline_Data_2012!AT187/Baseline_Data_2012!AT$269","v":0},{"$f":"Baseline_Data_2012!AU187/Baseline_Data_2012!AU$269","v":0},{"$f":"Baseline_Data_2012!AV187/Baseline_Data_2012!AV$269","v":0},187]
[4,"Male 1-4",null,null,null,null,{"$f":"HLOOKUP('III Tool Overview'!$H$6,Targeting!$I$1:$BC$269,Targeting!BD188,FALSE)","v":0},null,{"$f":"Baseline_Data_2012!B188/Baseline_Data_2012!B$269","v":0},{"$f":"Baseline_Data_2012!C188/Baseline_Data_2012!C$269","v":0},{"$f":"Baseline_Data_2012!D188/Baseline_Data_2012!D$269","v":0},{"$f":"Baseline_Data_2012!E188/Baseline_Data_2012!E$269","v":0},{"$f":"Baseline_Data_2012!F188/Baseline_Data_2012!F$269","v":0},{"$f":"Baseline_Data_2012!G188/Baseline_Data_2012!G$269","v":0},{"$f":"Baseline_Data_2012!H188/Baseline_Data_2012!H$269","v":0},{"$f":"Baseline_Data_2012!I188/Baseline_Data_2012!I$269","v":0},{"$f":"Baseline_Data_2012!J188/Baseline_Data_2012!J$269","v":0},{"$f":"Baseline_Data_2012!K188/Baseline_Data_2012!K$269","v":0},{"$f":"Baseline_Data_2012!L188/Baseline_Data_2012!L$269","v":0},{"$f":"Baseline_Data_2012!M188/Baseline_Data_2012!M$269","v":0},{"$f":"Baseline_Data_2012!N188/Baseline_Data_2012!N$269","v":0},{"$f":"Baseline_Data_2012!O188/Baseline_Data_2012!O$269","v":0},{"$f":"Baseline_Data_2012!P188/Baseline_Data_2012!P$269","v":0},{"$f":"Baseline_Data_2012!Q188/Baseline_Data_2012!Q$269","v":0},{"$f":"Baseline_Data_2012!R188/Baseline_Data_2012!R$269","v":0},{"$f":"Baseline_Data_2012!S188/Baseline_Data_2012!S$269","v":0},{"$f":"Baseline_Data_2012!T188/Baseline_Data_2012!T$269","v":0},{"$f":"Baseline_Data_2012!U188/Baseline_Data_2012!U$269","v":0},{"$f":"Baseline_Data_2012!V188/Baseline_Data_2012!V$269","v":0},{"$f":"Baseline_Data_2012!W188/Baseline_Data_2012!W$269","v":0},{"$f":"Baseline_Data_2012!X188/Baseline_Data_2012!X$269","v":0},{"$f":"Baseline_Data_2012!Y188/Baseline_Data_2012!Y$269","v":0},{"$f":"Baseline_Data_2012!Z188/Baseline_Data_2012!Z$269","v":0},{"$f":"Baseline_Data_2012!AA188/Baseline_Data_2012!AA$269","v":0},{"$f":"Baseline_Data_2012!AB188/Baseline_Data_2012!AB$269","v":0},{"$f":"Baseline_Data_2012!AC188/Baseline_Data_2012!AC$269","v":0},{"$f":"Baseline_Data_2012!AD188/Baseline_Data_2012!AD$269","v":0},{"$f":"Baseline_Data_2012!AE188/Baseline_Data_2012!AE$269","v":0},{"$f":"Baseline_Data_2012!AF188/Baseline_Data_2012!AF$269","v":0},{"$f":"Baseline_Data_2012!AG188/Baseline_Data_2012!AG$269","v":0},{"$f":"Baseline_Data_2012!AH188/Baseline_Data_2012!AH$269","v":0},{"$f":"Baseline_Data_2012!AI188/Baseline_Data_2012!AI$269","v":0},{"$f":"Baseline_Data_2012!AJ188/Baseline_Data_2012!AJ$269","v":0},{"$f":"Baseline_Data_2012!AK188/Baseline_Data_2012!AK$269","v":0},{"$f":"Baseline_Data_2012!AL188/Baseline_Data_2012!AL$269","v":0},{"$f":"Baseline_Data_2012!AM188/Baseline_Data_2012!AM$269","v":0},{"$f":"Baseline_Data_2012!AN188/Baseline_Data_2012!AN$269","v":0},{"$f":"Baseline_Data_2012!AO188/Baseline_Data_2012!AO$269","v":0},{"$f":"Baseline_Data_2012!AP188/Baseline_Data_2012!AP$269","v":0},{"$f":"Baseline_Data_2012!AQ188/Baseline_Data_2012!AQ$269","v":0},{"$f":"Baseline_Data_2012!AR188/Baseline_Data_2012!AR$269","v":0},{"$f":"Baseline_Data_2012!AS188/Baseline_Data_2012!AS$269","v":0},{"$f":"Baseline_Data_2012!AT188/Baseline_Data_2012!AT$269","v":0},{"$f":"Baseline_Data_2012!AU188/Baseline_Data_2012!AU$269","v":0},{"$f":"Baseline_Data_2012!AV188/Baseline_Data_2012!AV$269","v":0},188]
[4,"Male 5-9",null,null,null,null,{"$f":"HLOOKUP('III Tool Overview'!$H$6,Targeting!$I$1:$BC$269,Targeting!BD189,FALSE)","v":0},null,{"$f":"Baseline_Data_2012!B189/Baseline_Data_2012!B$269","v":0},{"$f":"Baseline_Data_2012!C189/Baseline_Data_2012!C$269","v":0},{"$f":"Baseline_Data_2012!D189/Baseline_Data_2012!D$269","v":0},{"$f":"Baseline_Data_2012!E189/Baseline_Data_2012!E$269","v":0},{"$f":"Baseline_Data_2012!F189/Baseline_Data_2012!F$269","v":0},{"$f":"Baseline_Data_2012!G189/Baseline_Data_2012!G$269","v":0},{"$f":"Baseline_Data_2012!H189/Baseline_Data_2012!H$269","v":0},{"$f":"Baseline_Data_2012!I189/Baseline_Data_2012!I$269","v":0},{"$f":"Baseline_Data_2012!J189/Baseline_Data_2012!J$269","v":0},{"$f":"Baseline_Data_2012!K189/Baseline_Data_2012!K$269","v":0},{"$f":"Baseline_Data_2012!L189/Baseline_Data_2012!L$269","v":0},{"$f":"Baseline_Data_2012!M189/Baseline_Data_2012!M$269","v":0},{"$f":"Baseline_Data_2012!N189/Baseline_Data_2012!N$269","v":0},{"$f":"Baseline_Data_2012!O189/Baseline_Data_2012!O$269","v":0},{"$f":"Baseline_Data_2012!P189/Baseline_Data_2012!P$269","v":0},{"$f":"Baseline_Data_2012!Q189/Baseline_Data_2012!Q$269","v":0},{"$f":"Baseline_Data_2012!R189/Baseline_Data_2012!R$269","v":0},{"$f":"Baseline_Data_2012!S189/Baseline_Data_2012!S$269","v":0},{"$f":"Baseline_Data_2012!T189/Baseline_Data_2012!T$269","v":0},{"$f":"Baseline_Data_2012!U189/Baseline_Data_2012!U$269","v":0},{"$f":"Baseline_Data_2012!V189/Baseline_Data_2012!V$269","v":0},{"$f":"Baseline_Data_2012!W189/Baseline_Data_2012!W$269","v":0},{"$f":"Baseline_Data_2012!X189/Baseline_Data_2012!X$269","v":0},{"$f":"Baseline_Data_2012!Y189/Baseline_Data_2012!Y$269","v":0},{"$f":"Baseline_Data_2012!Z189/Baseline_Data_2012!Z$269","v":0},{"$f":"Baseline_Data_2012!AA189/Baseline_Data_2012!AA$269","v":0},{"$f":"Baseline_Data_2012!AB189/Baseline_Data_2012!AB$269","v":0},{"$f":"Baseline_Data_2012!AC189/Baseline_Data_2012!AC$269","v":0},{"$f":"Baseline_Data_2012!AD189/Baseline_Data_2012!AD$269","v":0},{"$f":"Baseline_Data_2012!AE189/Baseline_Data_2012!AE$269","v":0},{"$f":"Baseline_Data_2012!AF189/Baseline_Data_2012!AF$269","v":0},{"$f":"Baseline_Data_2012!AG189/Baseline_Data_2012!AG$269","v":0},{"$f":"Baseline_Data_2012!AH189/Baseline_Data_2012!AH$269","v":0},{"$f":"Baseline_Data_2012!AI189/Baseline_Data_2012!AI$269","v":0},{"$f":"Baseline_Data_2012!AJ189/Baseline_Data_2012!AJ$269","v":0},{"$f":"Baseline_Data_2012!AK189/Baseline_Data_2012!AK$269","v":0},{"$f":"Baseline_Data_2012!AL189/Baseline_Data_2012!AL$269","v":0},{"$f":"Baseline_Data_2012!AM189/Baseline_Data_2012!AM$269","v":0},{"$f":"Baseline_Data_2012!AN189/Baseline_Data_2012!AN$269","v":0},{"$f":"Baseline_Data_2012!AO189/Baseline_Data_2012!AO$269","v":0},{"$f":"Baseline_Data_2012!AP189/Baseline_Data_2012!AP$269","v":0},{"$f":"Baseline_Data_2012!AQ189/Baseline_Data_2012!AQ$269","v":0},{"$f":"Baseline_Data_2012!AR189/Baseline_Data_2012!AR$269","v":0},{"$f":"Baseline_Data_2012!AS189/Baseline_Data_2012!AS$269","v":0},{"$f":"Baseline_Data_2012!AT189/Baseline_Data_2012!AT$269","v":0},{"$f":"Baseline_Data_2012!AU189/Baseline_Data_2012!AU$269","v":0},{"$f":"Baseline_Data_2012!AV189/Baseline_Data_2012!AV$269","v":0},189]
[4,"Male 10-14",null,null,null,null,{"$f":"HLOOKUP('III Tool Overview'!$H$6,Targeting!$I$1:$BC$269,Targeting!BD190,FALSE)","v":0},null,{"$f":"Baseline_Data_2012!B190/Baseline_Data_2012!B$269","v":0},{"$f":"Baseline_Data_2012!C190/Baseline_Data_2012!C$269","v":0},{"$f":"Baseline_Data_2012!D190/Baseline_Data_2012!D$269","v":0},{"$f":"Baseline_Data_2012!E190/Baseline_Data_2012!E$269","v":0},{"$f":"Baseline_Data_2012!F190/Baseline_Data_2012!F$269","v":0},{"$f":"Baseline_Data_2012!G190/Baseline_Data_2012!G$269","v":0},{"$f":"Baseline_Data_2012!H190/Baseline_Data_2012!H$269","v":0},{"$f":"Baseline_Data_2012!I190/Baseline_Data_2012!I$269","v":0},{"$f":"Baseline_Data_2012!J190/Baseline_Data_2012!J$269","v":0},{"$f":"Baseline_Data_2012!K190/Baseline_Data_2012!K$269","v":0},{"$f":"Baseline_Data_2012!L190/Baseline_Data_2012!L$269","v":0},{"$f":"Baseline_Data_2012!M190/Baseline_Data_2012!M$269","v":0},{"$f":"Baseline_Data_2012!N190/Baseline_Data_2012!N$269","v":0},{"$f":"Baseline_Data_2012!O190/Baseline_Data_2012!O$269","v":0},{"$f":"Baseline_Data_2012!P190/Baseline_Data_2012!P$269","v":0},{"$f":"Baseline_Data_2012!Q190/Baseline_Data_2012!Q$269","v":0},{"$f":"Baseline_Data_2012!R190/Baseline_Data_2012!R$269","v":0},{"$f":"Baseline_Data_2012!S190/Baseline_Data_2012!S$269","v":0},{"$f":"Baseline_Data_2012!T190/Baseline_Data_2012!T$269","v":0},{"$f":"Baseline_Data_2012!U190/Baseline_Data_2012!U$269","v":0},{"$f":"Baseline_Data_2012!V190/Baseline_Data_2012!V$269","v":0},{"$f":"Baseline_Data_2012!W190/Baseline_Data_2012!W$269","v":0},{"$f":"Baseline_Data_2012!X190/Baseline_Data_2012!X$269","v":0},{"$f":"Baseline_Data_2012!Y190/Baseline_Data_2012!Y$269","v":0},{"$f":"Baseline_Data_2012!Z190/Baseline_Data_2012!Z$269","v":0},{"$f":"Baseline_Data_2012!AA190/Baseline_Data_2012!AA$269","v":0},{"$f":"Baseline_Data_2012!AB190/Baseline_Data_2012!AB$269","v":0},{"$f":"Baseline_Data_2012!AC190/Baseline_Data_2012!AC$269","v":0},{"$f":"Baseline_Data_2012!AD190/Baseline_Data_2012!AD$269","v":0},{"$f":"Baseline_Data_2012!AE190/Baseline_Data_2012!AE$269","v":0},{"$f":"Baseline_Data_2012!AF190/Baseline_Data_2012!AF$269","v":0},{"$f":"Baseline_Data_2012!AG190/Baseline_Data_2012!AG$269","v":0},{"$f":"Baseline_Data_2012!AH190/Baseline_Data_2012!AH$269","v":0},{"$f":"Baseline_Data_2012!AI190/Baseline_Data_2012!AI$269","v":0},{"$f":"Baseline_Data_2012!AJ190/Baseline_Data_2012!AJ$269","v":0},{"$f":"Baseline_Data_2012!AK190/Baseline_Data_2012!AK$269","v":0},{"$f":"Baseline_Data_2012!AL190/Baseline_Data_2012!AL$269","v":0},{"$f":"Baseline_Data_2012!AM190/Baseline_Data_2012!AM$269","v":0},{"$f":"Baseline_Data_2012!AN190/Baseline_Data_2012!AN$269","v":0},{"$f":"Baseline_Data_2012!AO190/Baseline_Data_2012!AO$269","v":0},{"$f":"Baseline_Data_2012!AP190/Baseline_Data_2012!AP$269","v":0},{"$f":"Baseline_Data_2012!AQ190/Baseline_Data_2012!AQ$269","v":0},{"$f":"Baseline_Data_2012!AR190/Baseline_Data_2012!AR$269","v":0},{"$f":"Baseline_Data_2012!AS190/Baseline_Data_2012!AS$269","v":0},{"$f":"Baseline_Data_2012!AT190/Baseline_Data_2012!AT$269","v":0},{"$f":"Baseline_Data_2012!AU190/Baseline_Data_2012!AU$269","v":0},{"$f":"Baseline_Data_2012!AV190/Baseline_Data_2012!AV$269","v":0},190]
[4,"Male 15-19",{"$f":"'III Tool Overview'!$H$8/110","v":1.3090909090909091},0,0,{"$f":"G191*'III Tool Overview'!$H$8","v":0.8982783550671094},{"$f":"HLOOKUP('III Tool Overview'!$H$6,Targeting!$I$1:$BC$269,Targeting!BD191,FALSE)","v":6.2380441324104818E-3},{"$f":"Baseline_Data_2012!B191","v":2111.84},{"$f":"Baseline_Data_2012!B191/Baseline_Data_2012!B$269","v":1.9493391687234812E-3},{"$f":"Baseline_Data_2012!C191/Baseline_Data_2012!C$269","v":1.3214015580554316E-3},{"$f":"Baseline_Data_2012!D191/Baseline_Data_2012!D$269","v":3.6685959492636995E-3},{"$f":"Baseline_Data_2012!E191/Baseline_Data_2012!E$269","v":2.5329034205808804E-3},{"$f":"Baseline_Data_2012!F191/Baseline_Data_2012!F$269","v":1.900615129253156E-3},{"$f":"Baseline_Data_2012!G191/Baseline_Data_2012!G$269","v":2.1375044486192764E-3},{"$f":"Baseline_Data_2012!H191/Baseline_Data_2012!H$269","v":2.6564320023077874E-3},{"$f":"Baseline_Data_2012!I191/Baseline_Data_2012!I$269","v":1.3540071081727392E-3},{"$f":"Baseline_Data_2012!J191/Baseline_Data_2012!J$269","v":2.8935631350250238E-3},{"$f":"Baseline_Data_2012!K191/Baseline_Data_2012!K$269","v":1.3525201354842589E-3},{"$f":"Baseline_Data_2012!L191/Baseline_Data_2012!L$269","v":1.7146515492566514E-3},{"$f":"Baseline_Data_2012!M191/Baseline_Data_2012!M$269","v":6.2380441324104818E-3},{"$f":"Baseline_Data_2012!N191/Baseline_Data_2012!N$269","v":6.2343795821412779E-3},{"$f":"Baseline_Data_2012!O191/Baseline_Data_2012!O$269","v":2.9667805122474532E-3},{"$f":"Baseline_Data_2012!P191/Baseline_Data_2012!P$269","v":1.3756972758491675E-4},{"$f":"Baseline_Data_2012!Q191/Baseline_Data_2012!Q$269","v":1.1277158127840348E-3},{"$f":"Baseline_Data_2012!R191/Baseline_Data_2012!R$269","v":3.6553170560650813E-3},{"$f":"Baseline_Data_2012!S191/Baseline_Data_2012!S$269","v":3.7419908802165504E-3},{"$f":"Baseline_Data_2012!T191/Baseline_Data_2012!T$269","v":2.7186546827903139E-3},{"$f":"Baseline_Data_2012!U191/Baseline_Data_2012!U$269","v":1.5459549103931641E-3},{"$f":"Baseline_Data_2012!V191/Baseline_Data_2012!V$269","v":2.5177967974508776E-3},{"$f":"Baseline_Data_2012!W191/Baseline_Data_2012!W$269","v":1.0538678252296715E-3},{"$f":"Baseline_Data_2012!X191/Baseline_Data_2012!X$269","v":1.3538892818874717E-3},{"$f":"Baseline_Data_2012!Y191/Baseline_Data_2012!Y$269","v":2.285431464211726E-3},{"$f":"Baseline_Data_2012!Z191/Baseline_Data_2012!Z$269","v":3.8878098983774396E-3},{"$f":"Baseline_Data_2012!AA191/Baseline_Data_2012!AA$269","v":2.0674941648624471E-3},{"$f":"Baseline_Data_2012!AB191/Baseline_Data_2012!AB$269","v":1.2205903101729066E-3},{"$f":"Baseline_Data_2012!AC191/Baseline_Data_2012!AC$269","v":1.3756972758491675E-4},{"$f":"Baseline_Data_2012!AD191/Baseline_Data_2012!AD$269","v":1.7852032656417291E-3},{"$f":"Baseline_Data_2012!AE191/Baseline_Data_2012!AE$269","v":1.8963655917998115E-3},{"$f":"Baseline_Data_2012!AF191/Baseline_Data_2012!AF$269","v":1.1560764113704098E-3},{"$f":"Baseline_Data_2012!AG191/Baseline_Data_2012!AG$269","v":2.9483873494586497E-3},{"$f":"Baseline_Data_2012!AH191/Baseline_Data_2012!AH$269","v":1.2984724475272173E-3},{"$f":"Baseline_Data_2012!AI191/Baseline_Data_2012!AI$269","v":2.5076784247360373E-3},{"$f":"Baseline_Data_2012!AJ191/Baseline_Data_2012!AJ$269","v":3.867487080032601E-3},{"$f":"Baseline_Data_2012!AK191/Baseline_Data_2012!AK$269","v":1.5136880286123955E-3},{"$f":"Baseline_Data_2012!AL191/Baseline_Data_2012!AL$269","v":1.1837023518674091E-3},{"$f":"Baseline_Data_2012!AM191/Baseline_Data_2012!AM$269","v":6.2380441324104818E-3},{"$f":"Baseline_Data_2012!AN191/Baseline_Data_2012!AN$269","v":4.3363066320788535E-3},{"$f":"Baseline_Data_2012!AO191/Baseline_Data_2012!AO$269","v":1.249385343735813E-3},{"$f":"Baseline_Data_2012!AP191/Baseline_Data_2012!AP$269","v":3.6860980092227086E-3},{"$f":"Baseline_Data_2012!AQ191/Baseline_Data_2012!AQ$269","v":6.2343795821412779E-3},{"$f":"Baseline_Data_2012!AR191/Baseline_Data_2012!AR$269","v":1.0222329666706978E-3},{"$f":"Baseline_Data_2012!AS191/Baseline_Data_2012!AS$269","v":1.7826644164728928E-3},{"$f":"Baseline_Data_2012!AT191/Baseline_Data_2012!AT$269","v":3.1553554393524033E-3},{"$f":"Baseline_Data_2012!AU191/Baseline_Data_2012!AU$269","v":8.2981983746697519E-4},{"$f":"Baseline_Data_2012!AV191/Baseline_Data_2012!AV$269","v":1.5951163804340542E-3},191]
[4,"Male 20-24",{"$f":"'III Tool Overview'!$H$8/110","v":1.3090909090909091},0,0,{"$f":"G192*'III Tool Overview'!$H$8","v":0.95161363239921903},{"$f":"HLOOKUP('III Tool Overview'!$H$6,Targeting!$I$1:$BC$269,Targeting!BD192,FALSE)","v":6.6084280027723548E-3},{"$f":"Baseline_Data_2012!B192","v":2703.2000000000003},{"$f":"Baseline_Data_2012!B192/Baseline_Data_2012!B$269","v":2.4951954887175707E-3},{"$f":"Baseline_Data_2012!C192/Baseline_Data_2012!C$269","v":1.426350418262E-3},{"$f":"Baseline_Data_2012!D192/Baseline_Data_2012!D$269","v":3.1789900988920404E-3},{"$f":"Baseline_Data_2012!E192/Baseline_Data_2012!E$269","v":2.6933588408891711E-3},{"$f":"Baseline_Data_2012!F192/Baseline_Data_2012!F$269","v":1.9910193183894278E-3},{"$f":"Baseline_Data_2012!G192/Baseline_Data_2012!G$269","v":2.2661697649439322E-3},{"$f":"Baseline_Data_2012!H192/Baseline_Data_2012!H$269","v":3.5515571096493433E-3},{"$f":"Baseline_Data_2012!I192/Baseline_Data_2012!I$269","v":2.2295962882096687E-3},{"$f":"Baseline_Data_2012!J192/Baseline_Data_2012!J$269","v":2.9242202831548732E-3},{"$f":"Baseline_Data_2012!K192/Baseline_Data_2012!K$269","v":1.521754386670978E-3},{"$f":"Baseline_Data_2012!L192/Baseline_Data_2012!L$269","v":2.7813186544302241E-3},{"$f":"Baseline_Data_2012!M192/Baseline_Data_2012!M$269","v":6.6084280027723548E-3},{"$f":"Baseline_Data_2012!N192/Baseline_Data_2012!N$269","v":6.855812916695553E-3},{"$f":"Baseline_Data_2012!O192/Baseline_Data_2012!O$269","v":3.5528718311791971E-3},{"$f":"Baseline_Data_2012!P192/Baseline_Data_2012!P$269","v":2.2011156413586681E-4},{"$f":"Baseline_Data_2012!Q192/Baseline_Data_2012!Q$269","v":3.0768542546329831E-3},{"$f":"Baseline_Data_2012!R192/Baseline_Data_2012!R$269","v":3.8356675011220367E-3},{"$f":"Baseline_Data_2012!S192/Baseline_Data_2012!S$269","v":4.1480984176043931E-3},{"$f":"Baseline_Data_2012!T192/Baseline_Data_2012!T$269","v":2.5152179378196103E-3},{"$f":"Baseline_Data_2012!U192/Baseline_Data_2012!U$269","v":1.5960553010077574E-3},{"$f":"Baseline_Data_2012!V192/Baseline_Data_2012!V$269","v":2.677295237108399E-3},{"$f":"Baseline_Data_2012!W192/Baseline_Data_2012!W$269","v":2.5904232039996506E-3},{"$f":"Baseline_Data_2012!X192/Baseline_Data_2012!X$269","v":1.4582576205340433E-3},{"$f":"Baseline_Data_2012!Y192/Baseline_Data_2012!Y$269","v":2.5570959590142527E-3},{"$f":"Baseline_Data_2012!Z192/Baseline_Data_2012!Z$269","v":3.9324460625379158E-3},{"$f":"Baseline_Data_2012!AA192/Baseline_Data_2012!AA$269","v":2.4060912241203169E-3},{"$f":"Baseline_Data_2012!AB192/Baseline_Data_2012!AB$269","v":2.9848981221501079E-3},{"$f":"Baseline_Data_2012!AC192/Baseline_Data_2012!AC$269","v":2.2011156413586681E-4},{"$f":"Baseline_Data_2012!AD192/Baseline_Data_2012!AD$269","v":2.1687113801971383E-3},{"$f":"Baseline_Data_2012!AE192/Baseline_Data_2012!AE$269","v":1.9865676484886667E-3},{"$f":"Baseline_Data_2012!AF192/Baseline_Data_2012!AF$269","v":2.6111912544819656E-3},{"$f":"Baseline_Data_2012!AG192/Baseline_Data_2012!AG$269","v":3.0589913765015787E-3},{"$f":"Baseline_Data_2012!AH192/Baseline_Data_2012!AH$269","v":1.7894143269809708E-3},{"$f":"Baseline_Data_2012!AI192/Baseline_Data_2012!AI$269","v":3.0632413277771513E-3},{"$f":"Baseline_Data_2012!AJ192/Baseline_Data_2012!AJ$269","v":4.0322557603653508E-3},{"$f":"Baseline_Data_2012!AK192/Baseline_Data_2012!AK$269","v":1.5533913211661632E-3},{"$f":"Baseline_Data_2012!AL192/Baseline_Data_2012!AL$269","v":1.3173282053237489E-3},{"$f":"Baseline_Data_2012!AM192/Baseline_Data_2012!AM$269","v":6.6084280027723548E-3},{"$f":"Baseline_Data_2012!AN192/Baseline_Data_2012!AN$269","v":4.0973617456524667E-3},{"$f":"Baseline_Data_2012!AO192/Baseline_Data_2012!AO$269","v":1.5724284719962716E-3},{"$f":"Baseline_Data_2012!AP192/Baseline_Data_2012!AP$269","v":3.1941563576159183E-3},{"$f":"Baseline_Data_2012!AQ192/Baseline_Data_2012!AQ$269","v":6.855812916695553E-3},{"$f":"Baseline_Data_2012!AR192/Baseline_Data_2012!AR$269","v":1.2147313824723228E-3},{"$f":"Baseline_Data_2012!AS192/Baseline_Data_2012!AS$269","v":1.9714019108927933E-3},{"$f":"Baseline_Data_2012!AT192/Baseline_Data_2012!AT$269","v":2.8908346240773511E-3},{"$f":"Baseline_Data_2012!AU192/Baseline_Data_2012!AU$269","v":9.8104868635114366E-4},{"$f":"Baseline_Data_2012!AV192/Baseline_Data_2012!AV$269","v":1.6060568220008173E-3},192]
[4,"Male 25-29",{"$f":"'III Tool Overview'!$H$8/110","v":1.3090909090909091},0,0,{"$f":"G193*'III Tool Overview'!$H$8","v":1.0316165483973831},{"$f":"HLOOKUP('III Tool Overview'!$H$6,Targeting!$I$1:$BC$269,Targeting!BD193,FALSE)","v":7.16400380831516E-3},{"$f":"Baseline_Data_2012!B193","v":3066.0999999999995},{"$f":"Baseline_Data_2012!B193/Baseline_Data_2012!B$269","v":2.8301712370364536E-3},{"$f":"Baseline_Data_2012!C193/Baseline_Data_2012!C$269","v":1.4871730531544429E-3},{"$f":"Baseline_Data_2012!D193/Baseline_Data_2012!D$269","v":3.529816826182999E-3},{"$f":"Baseline_Data_2012!E193/Baseline_Data_2012!E$269","v":3.2305979713856811E-3},{"$f":"Baseline_Data_2012!F193/Baseline_Data_2012!F$269","v":2.1338047582899512E-3},{"$f":"Baseline_Data_2012!G193/Baseline_Data_2012!G$269","v":2.6269168749617159E-3},{"$f":"Baseline_Data_2012!H193/Baseline_Data_2012!H$269","v":4.2038407052200025E-3},{"$f":"Baseline_Data_2012!I193/Baseline_Data_2012!I$269","v":2.1967851304995046E-3},{"$f":"Baseline_Data_2012!J193/Baseline_Data_2012!J$269","v":3.7510789418493703E-3},{"$f":"Baseline_Data_2012!K193/Baseline_Data_2012!K$269","v":1.6991118819146595E-3},{"$f":"Baseline_Data_2012!L193/Baseline_Data_2012!L$269","v":3.5417632086434227E-3},{"$f":"Baseline_Data_2012!M193/Baseline_Data_2012!M$269","v":7.16400380831516E-3},{"$f":"Baseline_Data_2012!N193/Baseline_Data_2012!N$269","v":9.4718467928030636E-3},{"$f":"Baseline_Data_2012!O193/Baseline_Data_2012!O$269","v":3.82260146246311E-3},{"$f":"Baseline_Data_2012!P193/Baseline_Data_2012!P$269","v":3.6112053491040637E-4},{"$f":"Baseline_Data_2012!Q193/Baseline_Data_2012!Q$269","v":3.4414475613895497E-3},{"$f":"Baseline_Data_2012!R193/Baseline_Data_2012!R$269","v":4.7442633816879931E-3},{"$f":"Baseline_Data_2012!S193/Baseline_Data_2012!S$269","v":4.6095018473597755E-3},{"$f":"Baseline_Data_2012!T193/Baseline_Data_2012!T$269","v":2.7799168844008094E-3},{"$f":"Baseline_Data_2012!U193/Baseline_Data_2012!U$269","v":1.7982461631309372E-3},{"$f":"Baseline_Data_2012!V193/Baseline_Data_2012!V$269","v":3.2113301913188502E-3},{"$f":"Baseline_Data_2012!W193/Baseline_Data_2012!W$269","v":2.0849420715421613E-3},{"$f":"Baseline_Data_2012!X193/Baseline_Data_2012!X$269","v":1.7213528075389426E-3},{"$f":"Baseline_Data_2012!Y193/Baseline_Data_2012!Y$269","v":2.1668477561630041E-3},{"$f":"Baseline_Data_2012!Z193/Baseline_Data_2012!Z$269","v":4.2236970336850185E-3},{"$f":"Baseline_Data_2012!AA193/Baseline_Data_2012!AA$269","v":2.1482957358217106E-3},{"$f":"Baseline_Data_2012!AB193/Baseline_Data_2012!AB$269","v":4.0917516079659929E-3},{"$f":"Baseline_Data_2012!AC193/Baseline_Data_2012!AC$269","v":3.6112053491040637E-4},{"$f":"Baseline_Data_2012!AD193/Baseline_Data_2012!AD$269","v":2.6906335149706087E-3},{"$f":"Baseline_Data_2012!AE193/Baseline_Data_2012!AE$269","v":2.129033838023711E-3},{"$f":"Baseline_Data_2012!AF193/Baseline_Data_2012!AF$269","v":2.5564703043437658E-3},{"$f":"Baseline_Data_2012!AG193/Baseline_Data_2012!AG$269","v":4.0765484252965247E-3},{"$f":"Baseline_Data_2012!AH193/Baseline_Data_2012!AH$269","v":1.9557380945529191E-3},{"$f":"Baseline_Data_2012!AI193/Baseline_Data_2012!AI$269","v":2.8797526625525625E-3},{"$f":"Baseline_Data_2012!AJ193/Baseline_Data_2012!AJ$269","v":4.7199361553652295E-3},{"$f":"Baseline_Data_2012!AK193/Baseline_Data_2012!AK$269","v":1.5509098653815525E-3},{"$f":"Baseline_Data_2012!AL193/Baseline_Data_2012!AL$269","v":1.5589682903239626E-3},{"$f":"Baseline_Data_2012!AM193/Baseline_Data_2012!AM$269","v":7.16400380831516E-3},{"$f":"Baseline_Data_2012!AN193/Baseline_Data_2012!AN$269","v":5.0096967665532142E-3},{"$f":"Baseline_Data_2012!AO193/Baseline_Data_2012!AO$269","v":1.4387185679149556E-3},{"$f":"Baseline_Data_2012!AP193/Baseline_Data_2012!AP$269","v":3.5466568016369803E-3},{"$f":"Baseline_Data_2012!AQ193/Baseline_Data_2012!AQ$269","v":9.4718467928030636E-3},{"$f":"Baseline_Data_2012!AR193/Baseline_Data_2012!AR$269","v":1.1284389891819389E-3},{"$f":"Baseline_Data_2012!AS193/Baseline_Data_2012!AS$269","v":2.2170191981515665E-3},{"$f":"Baseline_Data_2012!AT193/Baseline_Data_2012!AT$269","v":3.0762353740692401E-3},{"$f":"Baseline_Data_2012!AU193/Baseline_Data_2012!AU$269","v":1.0033452474045783E-3},{"$f":"Baseline_Data_2012!AV193/Baseline_Data_2012!AV$269","v":2.1224456639520333E-3},193]
[4,"Male 30-34",{"$f":"'III Tool Overview'!$H$8/110","v":1.3090909090909091},0,0,{"$f":"G194*'III Tool Overview'!$H$8","v":1.3137320942856472},{"$f":"HLOOKUP('III Tool Overview'!$H$6,Targeting!$I$1:$BC$269,Targeting!BD194,FALSE)","v":9.1231395436503285E-3},{"$f":"Baseline_Data_2012!B194","v":3713.16},{"$f":"Baseline_Data_2012!B194/Baseline_Data_2012!B$269","v":3.4274415806771728E-3},{"$f":"Baseline_Data_2012!C194/Baseline_Data_2012!C$269","v":1.93630647081119E-3},{"$f":"Baseline_Data_2012!D194/Baseline_Data_2012!D$269","v":4.4374840100586286E-3},{"$f":"Baseline_Data_2012!E194/Baseline_Data_2012!E$269","v":3.4125429569138331E-3},{"$f":"Baseline_Data_2012!F194/Baseline_Data_2012!F$269","v":2.8253968051824333E-3},{"$f":"Baseline_Data_2012!G194/Baseline_Data_2012!G$269","v":3.6171555863528148E-3},{"$f":"Baseline_Data_2012!H194/Baseline_Data_2012!H$269","v":5.0308431210328046E-3},{"$f":"Baseline_Data_2012!I194/Baseline_Data_2012!I$269","v":2.3947457820174909E-3},{"$f":"Baseline_Data_2012!J194/Baseline_Data_2012!J$269","v":4.9098601851035855E-3},{"$f":"Baseline_Data_2012!K194/Baseline_Data_2012!K$269","v":2.2724775249352638E-3},{"$f":"Baseline_Data_2012!L194/Baseline_Data_2012!L$269","v":4.1427675634297199E-3},{"$f":"Baseline_Data_2012!M194/Baseline_Data_2012!M$269","v":9.1231395436503285E-3},{"$f":"Baseline_Data_2012!N194/Baseline_Data_2012!N$269","v":1.0373927439736693E-2},{"$f":"Baseline_Data_2012!O194/Baseline_Data_2012!O$269","v":4.7093468290043119E-3},{"$f":"Baseline_Data_2012!P194/Baseline_Data_2012!P$269","v":4.539801010302253E-4},{"$f":"Baseline_Data_2012!Q194/Baseline_Data_2012!Q$269","v":3.511059648598441E-3},{"$f":"Baseline_Data_2012!R194/Baseline_Data_2012!R$269","v":6.2873063636150264E-3},{"$f":"Baseline_Data_2012!S194/Baseline_Data_2012!S$269","v":5.4987685754344946E-3},{"$f":"Baseline_Data_2012!T194/Baseline_Data_2012!T$269","v":3.4815424764304526E-3},{"$f":"Baseline_Data_2012!U194/Baseline_Data_2012!U$269","v":2.5229125273777326E-3},{"$f":"Baseline_Data_2012!V194/Baseline_Data_2012!V$269","v":3.3921900291447905E-3},{"$f":"Baseline_Data_2012!W194/Baseline_Data_2012!W$269","v":2.2082955574469067E-3},{"$f":"Baseline_Data_2012!X194/Baseline_Data_2012!X$269","v":2.0482286459389694E-3},{"$f":"Baseline_Data_2012!Y194/Baseline_Data_2012!Y$269","v":2.2444661832494404E-3},{"$f":"Baseline_Data_2012!Z194/Baseline_Data_2012!Z$269","v":5.818323998318017E-3},{"$f":"Baseline_Data_2012!AA194/Baseline_Data_2012!AA$269","v":2.5471733321444285E-3},{"$f":"Baseline_Data_2012!AB194/Baseline_Data_2012!AB$269","v":4.3505935740918216E-3},{"$f":"Baseline_Data_2012!AC194/Baseline_Data_2012!AC$269","v":4.539801010302253E-4},{"$f":"Baseline_Data_2012!AD194/Baseline_Data_2012!AD$269","v":3.9539146458388678E-3},{"$f":"Baseline_Data_2012!AE194/Baseline_Data_2012!AE$269","v":2.8190795716934525E-3},{"$f":"Baseline_Data_2012!AF194/Baseline_Data_2012!AF$269","v":2.5646399109841168E-3},{"$f":"Baseline_Data_2012!AG194/Baseline_Data_2012!AG$269","v":5.3895762320490103E-3},{"$f":"Baseline_Data_2012!AH194/Baseline_Data_2012!AH$269","v":1.9339439456986642E-3},{"$f":"Baseline_Data_2012!AI194/Baseline_Data_2012!AI$269","v":4.3043382717267951E-3},{"$f":"Baseline_Data_2012!AJ194/Baseline_Data_2012!AJ$269","v":5.5128854294665894E-3},{"$f":"Baseline_Data_2012!AK194/Baseline_Data_2012!AK$269","v":2.1439777979034582E-3},{"$f":"Baseline_Data_2012!AL194/Baseline_Data_2012!AL$269","v":2.1062775151055538E-3},{"$f":"Baseline_Data_2012!AM194/Baseline_Data_2012!AM$269","v":9.1231395436503285E-3},{"$f":"Baseline_Data_2012!AN194/Baseline_Data_2012!AN$269","v":6.6714498403367198E-3},{"$f":"Baseline_Data_2012!AO194/Baseline_Data_2012!AO$269","v":1.7425074699877049E-3},{"$f":"Baseline_Data_2012!AP194/Baseline_Data_2012!AP$269","v":4.4586542649150615E-3},{"$f":"Baseline_Data_2012!AQ194/Baseline_Data_2012!AQ$269","v":1.0373927439736693E-2},{"$f":"Baseline_Data_2012!AR194/Baseline_Data_2012!AR$269","v":1.523392635395618E-3},{"$f":"Baseline_Data_2012!AS194/Baseline_Data_2012!AS$269","v":3.164584837944628E-3},{"$f":"Baseline_Data_2012!AT194/Baseline_Data_2012!AT$269","v":3.7694216176694878E-3},{"$f":"Baseline_Data_2012!AU194/Baseline_Data_2012!AU$269","v":1.0411524596256208E-3},{"$f":"Baseline_Data_2012!AV194/Baseline_Data_2012!AV$269","v":2.7668376722343778E-3},194]
[4,"Male 35-39",{"$f":"'III Tool Overview'!$H$8/110","v":1.3090909090909091},0,0,{"$f":"G195*'III Tool Overview'!$H$8","v":0.87862851605001591},{"$f":"HLOOKUP('III Tool Overview'!$H$6,Targeting!$I$1:$BC$269,Targeting!BD195,FALSE)","v":6.1015869170139994E-3},{"$f":"Baseline_Data_2012!B195","v":2600.7199999999989},{"$f":"Baseline_Data_2012!B195/Baseline_Data_2012!B$269","v":2.4006010696276847E-3},{"$f":"Baseline_Data_2012!C195/Baseline_Data_2012!C$269","v":1.5980849167818384E-3},{"$f":"Baseline_Data_2012!D195/Baseline_Data_2012!D$269","v":4.0375243013043129E-3},{"$f":"Baseline_Data_2012!E195/Baseline_Data_2012!E$269","v":2.518577043767639E-3},{"$f":"Baseline_Data_2012!F195/Baseline_Data_2012!F$269","v":2.1388567570946246E-3},{"$f":"Baseline_Data_2012!G195/Baseline_Data_2012!G$269","v":2.7725300420925751E-3},{"$f":"Baseline_Data_2012!H195/Baseline_Data_2012!H$269","v":3.5529689789038231E-3},{"$f":"Baseline_Data_2012!I195/Baseline_Data_2012!I$269","v":1.5196253328049914E-3},{"$f":"Baseline_Data_2012!J195/Baseline_Data_2012!J$269","v":3.3215840877609979E-3},{"$f":"Baseline_Data_2012!K195/Baseline_Data_2012!K$269","v":1.6848962048149744E-3},{"$f":"Baseline_Data_2012!L195/Baseline_Data_2012!L$269","v":2.7126741716235248E-3},{"$f":"Baseline_Data_2012!M195/Baseline_Data_2012!M$269","v":6.1015869170139994E-3},{"$f":"Baseline_Data_2012!N195/Baseline_Data_2012!N$269","v":8.4795580811760744E-3},{"$f":"Baseline_Data_2012!O195/Baseline_Data_2012!O$269","v":3.1896326552918503E-3},{"$f":"Baseline_Data_2012!P195/Baseline_Data_2012!P$269","v":1.3756972758491667E-4},{"$f":"Baseline_Data_2012!Q195/Baseline_Data_2012!Q$269","v":1.8586427284773895E-3},{"$f":"Baseline_Data_2012!R195/Baseline_Data_2012!R$269","v":4.9403139770958868E-3},{"$f":"Baseline_Data_2012!S195/Baseline_Data_2012!S$269","v":4.1626022582253851E-3},{"$f":"Baseline_Data_2012!T195/Baseline_Data_2012!T$269","v":2.5753242488336806E-3},{"$f":"Baseline_Data_2012!U195/Baseline_Data_2012!U$269","v":2.1400023991090546E-3},{"$f":"Baseline_Data_2012!V195/Baseline_Data_2012!V$269","v":2.5035558653385974E-3},{"$f":"Baseline_Data_2012!W195/Baseline_Data_2012!W$269","v":1.2683956268031409E-3},{"$f":"Baseline_Data_2012!X195/Baseline_Data_2012!X$269","v":1.748169672330075E-3},{"$f":"Baseline_Data_2012!Y195/Baseline_Data_2012!Y$269","v":1.9490849468371692E-3},{"$f":"Baseline_Data_2012!Z195/Baseline_Data_2012!Z$269","v":5.4723937260743264E-3},{"$f":"Baseline_Data_2012!AA195/Baseline_Data_2012!AA$269","v":2.1341875250192985E-3},{"$f":"Baseline_Data_2012!AB195/Baseline_Data_2012!AB$269","v":2.3882599215830705E-3},{"$f":"Baseline_Data_2012!AC195/Baseline_Data_2012!AC$269","v":1.3756972758491667E-4},{"$f":"Baseline_Data_2012!AD195/Baseline_Data_2012!AD$269","v":2.9276253251976298E-3},{"$f":"Baseline_Data_2012!AE195/Baseline_Data_2012!AE$269","v":2.1340745411916168E-3},{"$f":"Baseline_Data_2012!AF195/Baseline_Data_2012!AF$269","v":1.3354994704150968E-3},{"$f":"Baseline_Data_2012!AG195/Baseline_Data_2012!AG$269","v":3.5709300159574198E-3},{"$f":"Baseline_Data_2012!AH195/Baseline_Data_2012!AH$269","v":1.5278845407299048E-3},{"$f":"Baseline_Data_2012!AI195/Baseline_Data_2012!AI$269","v":3.2365361782670386E-3},{"$f":"Baseline_Data_2012!AJ195/Baseline_Data_2012!AJ$269","v":4.1054862849576818E-3},{"$f":"Baseline_Data_2012!AK195/Baseline_Data_2012!AK$269","v":1.7345375934427281E-3},{"$f":"Baseline_Data_2012!AL195/Baseline_Data_2012!AL$269","v":1.4799063270289612E-3},{"$f":"Baseline_Data_2012!AM195/Baseline_Data_2012!AM$269","v":6.1015869170139994E-3},{"$f":"Baseline_Data_2012!AN195/Baseline_Data_2012!AN$269","v":4.4204803988881457E-3},{"$f":"Baseline_Data_2012!AO195/Baseline_Data_2012!AO$269","v":1.322123531556048E-3},{"$f":"Baseline_Data_2012!AP195/Baseline_Data_2012!AP$269","v":4.056786436841907E-3},{"$f":"Baseline_Data_2012!AQ195/Baseline_Data_2012!AQ$269","v":8.4795580811760744E-3},{"$f":"Baseline_Data_2012!AR195/Baseline_Data_2012!AR$269","v":1.2379639498966563E-3},{"$f":"Baseline_Data_2012!AS195/Baseline_Data_2012!AS$269","v":2.3915367443617481E-3},{"$f":"Baseline_Data_2012!AT195/Baseline_Data_2012!AT$269","v":2.9333468979608405E-3},{"$f":"Baseline_Data_2012!AU195/Baseline_Data_2012!AU$269","v":7.2900060487752919E-4},{"$f":"Baseline_Data_2012!AV195/Baseline_Data_2012!AV$269","v":1.9977246300909336E-3},195]
[4,"Male 40-44",{"$f":"'III Tool Overview'!$H$8/110","v":1.3090909090909091},0,0,{"$f":"G196*'III Tool Overview'!$H$8","v":1.1544280422542139},{"$f":"HLOOKUP('III Tool Overview'!$H$6,Targeting!$I$1:$BC$269,Targeting!BD196,FALSE)","v":8.0168614045431526E-3},{"$f":"Baseline_Data_2012!B196","v":2815.8899999999981},{"$f":"Baseline_Data_2012!B196/Baseline_Data_2012!B$269","v":2.5992142737218536E-3},{"$f":"Baseline_Data_2012!C196/Baseline_Data_2012!C$269","v":1.7940292091902384E-3},{"$f":"Baseline_Data_2012!D196/Baseline_Data_2012!D$269","v":5.4576398620214042E-3},{"$f":"Baseline_Data_2012!E196/Baseline_Data_2012!E$269","v":3.1664874351464293E-3},{"$f":"Baseline_Data_2012!F196/Baseline_Data_2012!F$269","v":2.4391847912987987E-3},{"$f":"Baseline_Data_2012!G196/Baseline_Data_2012!G$269","v":3.1111411837104175E-3},{"$f":"Baseline_Data_2012!H196/Baseline_Data_2012!H$269","v":3.5134366397783275E-3},{"$f":"Baseline_Data_2012!I196/Baseline_Data_2012!I$269","v":1.6342690802803829E-3},{"$f":"Baseline_Data_2012!J196/Baseline_Data_2012!J$269","v":3.7008189057326445E-3},{"$f":"Baseline_Data_2012!K196/Baseline_Data_2012!K$269","v":1.9333320855570775E-3},{"$f":"Baseline_Data_2012!L196/Baseline_Data_2012!L$269","v":2.5495218148817206E-3},{"$f":"Baseline_Data_2012!M196/Baseline_Data_2012!M$269","v":8.0168614045431526E-3},{"$f":"Baseline_Data_2012!N196/Baseline_Data_2012!N$269","v":7.2442087507919705E-3},{"$f":"Baseline_Data_2012!O196/Baseline_Data_2012!O$269","v":3.7882409998791699E-3},{"$f":"Baseline_Data_2012!P196/Baseline_Data_2012!P$269","v":2.5278437443728438E-4},{"$f":"Baseline_Data_2012!Q196/Baseline_Data_2012!Q$269","v":1.4405351296789878E-3},{"$f":"Baseline_Data_2012!R196/Baseline_Data_2012!R$269","v":5.0047248503305129E-3},{"$f":"Baseline_Data_2012!S196/Baseline_Data_2012!S$269","v":5.0446170659896039E-3},{"$f":"Baseline_Data_2012!T196/Baseline_Data_2012!T$269","v":3.0827602206640143E-3},{"$f":"Baseline_Data_2012!U196/Baseline_Data_2012!U$269","v":2.2670426753103445E-3},{"$f":"Baseline_Data_2012!V196/Baseline_Data_2012!V$269","v":3.1476020201164014E-3},{"$f":"Baseline_Data_2012!W196/Baseline_Data_2012!W$269","v":1.3820283216990879E-3},{"$f":"Baseline_Data_2012!X196/Baseline_Data_2012!X$269","v":1.905084570364677E-3},{"$f":"Baseline_Data_2012!Y196/Baseline_Data_2012!Y$269","v":2.3204675597715738E-3},{"$f":"Baseline_Data_2012!Z196/Baseline_Data_2012!Z$269","v":5.9014588540668989E-3},{"$f":"Baseline_Data_2012!AA196/Baseline_Data_2012!AA$269","v":2.4779148427507718E-3},{"$f":"Baseline_Data_2012!AB196/Baseline_Data_2012!AB$269","v":1.8686554801021216E-3},{"$f":"Baseline_Data_2012!AC196/Baseline_Data_2012!AC$269","v":2.5278437443728438E-4},{"$f":"Baseline_Data_2012!AD196/Baseline_Data_2012!AD$269","v":3.0744792246972796E-3},{"$f":"Baseline_Data_2012!AE196/Baseline_Data_2012!AE$269","v":2.4337310795153272E-3},{"$f":"Baseline_Data_2012!AF196/Baseline_Data_2012!AF$269","v":1.3018191109638387E-3},{"$f":"Baseline_Data_2012!AG196/Baseline_Data_2012!AG$269","v":3.9057047049534271E-3},{"$f":"Baseline_Data_2012!AH196/Baseline_Data_2012!AH$269","v":1.8547967735437355E-3},{"$f":"Baseline_Data_2012!AI196/Baseline_Data_2012!AI$269","v":3.1976722595909966E-3},{"$f":"Baseline_Data_2012!AJ196/Baseline_Data_2012!AJ$269","v":4.7657052332354347E-3},{"$f":"Baseline_Data_2012!AK196/Baseline_Data_2012!AK$269","v":1.9063784065270035E-3},{"$f":"Baseline_Data_2012!AL196/Baseline_Data_2012!AL$269","v":1.6788139776426165E-3},{"$f":"Baseline_Data_2012!AM196/Baseline_Data_2012!AM$269","v":8.0168614045431526E-3},{"$f":"Baseline_Data_2012!AN196/Baseline_Data_2012!AN$269","v":5.3005714365353318E-3},{"$f":"Baseline_Data_2012!AO196/Baseline_Data_2012!AO$269","v":1.5256300055678099E-3},{"$f":"Baseline_Data_2012!AP196/Baseline_Data_2012!AP$269","v":5.4836770548387127E-3},{"$f":"Baseline_Data_2012!AQ196/Baseline_Data_2012!AQ$269","v":7.2442087507919705E-3},{"$f":"Baseline_Data_2012!AR196/Baseline_Data_2012!AR$269","v":1.5101168825817116E-3},{"$f":"Baseline_Data_2012!AS196/Baseline_Data_2012!AS$269","v":2.7000126663202996E-3},{"$f":"Baseline_Data_2012!AT196/Baseline_Data_2012!AT$269","v":3.7487559289761216E-3},{"$f":"Baseline_Data_2012!AU196/Baseline_Data_2012!AU$269","v":9.2966965435844465E-4},{"$f":"Baseline_Data_2012!AV196/Baseline_Data_2012!AV$269","v":2.4027944791003356E-3},196]
[4,"Male 45-49",{"$f":"'III Tool Overview'!$H$8/110","v":1.3090909090909091},0,0,{"$f":"G197*'III Tool Overview'!$H$8","v":2.115164814197084},{"$f":"HLOOKUP('III Tool Overview'!$H$6,Targeting!$I$1:$BC$269,Targeting!BD197,FALSE)","v":1.4688644543035305E-2},{"$f":"Baseline_Data_2012!B197","v":4808.2099999999991},{"$f":"Baseline_Data_2012!B197/Baseline_Data_2012!B$269","v":4.4382302089400368E-3},{"$f":"Baseline_Data_2012!C197/Baseline_Data_2012!C$269","v":2.980547629866547E-3},{"$f":"Baseline_Data_2012!D197/Baseline_Data_2012!D$269","v":9.5671396712588789E-3},{"$f":"Baseline_Data_2012!E197/Baseline_Data_2012!E$269","v":6.2011722036110521E-3},{"$f":"Baseline_Data_2012!F197/Baseline_Data_2012!F$269","v":4.5159551420307208E-3},{"$f":"Baseline_Data_2012!G197/Baseline_Data_2012!G$269","v":5.1210179395237872E-3},{"$f":"Baseline_Data_2012!H197/Baseline_Data_2012!H$269","v":5.9608237505943832E-3},{"$f":"Baseline_Data_2012!I197/Baseline_Data_2012!I$269","v":2.667390878228133E-3},{"$f":"Baseline_Data_2012!J197/Baseline_Data_2012!J$269","v":6.626218309969437E-3},{"$f":"Baseline_Data_2012!K197/Baseline_Data_2012!K$269","v":3.1311721154566761E-3},{"$f":"Baseline_Data_2012!L197/Baseline_Data_2012!L$269","v":4.0847118572261819E-3},{"$f":"Baseline_Data_2012!M197/Baseline_Data_2012!M$269","v":1.4688644543035305E-2},{"$f":"Baseline_Data_2012!N197/Baseline_Data_2012!N$269","v":1.3478588332933252E-2},{"$f":"Baseline_Data_2012!O197/Baseline_Data_2012!O$269","v":6.8924633624623784E-3},{"$f":"Baseline_Data_2012!P197/Baseline_Data_2012!P$269","v":4.1614842594437317E-4},{"$f":"Baseline_Data_2012!Q197/Baseline_Data_2012!Q$269","v":2.3235209483692659E-3},{"$f":"Baseline_Data_2012!R197/Baseline_Data_2012!R$269","v":8.5487318660870081E-3},{"$f":"Baseline_Data_2012!S197/Baseline_Data_2012!S$269","v":9.0191226411614738E-3},{"$f":"Baseline_Data_2012!T197/Baseline_Data_2012!T$269","v":6.2747521026901426E-3},{"$f":"Baseline_Data_2012!U197/Baseline_Data_2012!U$269","v":3.5428133363176674E-3},{"$f":"Baseline_Data_2012!V197/Baseline_Data_2012!V$269","v":6.1641874647998416E-3},{"$f":"Baseline_Data_2012!W197/Baseline_Data_2012!W$269","v":2.4482985354572265E-3},{"$f":"Baseline_Data_2012!X197/Baseline_Data_2012!X$269","v":3.025594650556344E-3},{"$f":"Baseline_Data_2012!Y197/Baseline_Data_2012!Y$269","v":4.3638804561929563E-3},{"$f":"Baseline_Data_2012!Z197/Baseline_Data_2012!Z$269","v":9.390333035260089E-3},{"$f":"Baseline_Data_2012!AA197/Baseline_Data_2012!AA$269","v":4.0631647110944361E-3},{"$f":"Baseline_Data_2012!AB197/Baseline_Data_2012!AB$269","v":2.9611051466983105E-3},{"$f":"Baseline_Data_2012!AC197/Baseline_Data_2012!AC$269","v":4.1614842594437317E-4},{"$f":"Baseline_Data_2012!AD197/Baseline_Data_2012!AD$269","v":4.861032871024064E-3},{"$f":"Baseline_Data_2012!AE197/Baseline_Data_2012!AE$269","v":4.5058580317750415E-3},{"$f":"Baseline_Data_2012!AF197/Baseline_Data_2012!AF$269","v":2.0101085923301108E-3},{"$f":"Baseline_Data_2012!AG197/Baseline_Data_2012!AG$269","v":6.7349952181497818E-3},{"$f":"Baseline_Data_2012!AH197/Baseline_Data_2012!AH$269","v":3.545563900447551E-3},{"$f":"Baseline_Data_2012!AI197/Baseline_Data_2012!AI$269","v":5.3472929417707213E-3},{"$f":"Baseline_Data_2012!AJ197/Baseline_Data_2012!AJ$269","v":8.2378619031641155E-3},{"$f":"Baseline_Data_2012!AK197/Baseline_Data_2012!AK$269","v":3.2550496254628025E-3},{"$f":"Baseline_Data_2012!AL197/Baseline_Data_2012!AL$269","v":2.630480602726987E-3},{"$f":"Baseline_Data_2012!AM197/Baseline_Data_2012!AM$269","v":1.4688644543035305E-2},{"$f":"Baseline_Data_2012!AN197/Baseline_Data_2012!AN$269","v":9.830341968135552E-3},{"$f":"Baseline_Data_2012!AO197/Baseline_Data_2012!AO$269","v":2.6415728650304709E-3},{"$f":"Baseline_Data_2012!AP197/Baseline_Data_2012!AP$269","v":9.6127823788446521E-3},{"$f":"Baseline_Data_2012!AQ197/Baseline_Data_2012!AQ$269","v":1.3478588332933252E-2},{"$f":"Baseline_Data_2012!AR197/Baseline_Data_2012!AR$269","v":2.5510188766469646E-3},{"$f":"Baseline_Data_2012!AS197/Baseline_Data_2012!AS$269","v":4.2322120859174701E-3},{"$f":"Baseline_Data_2012!AT197/Baseline_Data_2012!AT$269","v":6.6443141390405292E-3},{"$f":"Baseline_Data_2012!AU197/Baseline_Data_2012!AU$269","v":1.7594894918254204E-3},{"$f":"Baseline_Data_2012!AV197/Baseline_Data_2012!AV$269","v":3.8690871600857556E-3},197]
[4,"Male 50-54",{"$f":"'III Tool Overview'!$H$8/110","v":1.3090909090909091},0,0,{"$f":"G198*'III Tool Overview'!$H$8","v":1.694798615224272},{"$f":"HLOOKUP('III Tool Overview'!$H$6,Targeting!$I$1:$BC$269,Targeting!BD198,FALSE)","v":1.1769434827946334E-2},{"$f":"Baseline_Data_2012!B198","v":4142.7999999999993},{"$f":"Baseline_Data_2012!B198/Baseline_Data_2012!B$269","v":3.8240218521230942E-3},{"$f":"Baseline_Data_2012!C198/Baseline_Data_2012!C$269","v":2.7596779831590861E-3},{"$f":"Baseline_Data_2012!D198/Baseline_Data_2012!D$269","v":8.4000158659715083E-3},{"$f":"Baseline_Data_2012!E198/Baseline_Data_2012!E$269","v":5.3365753629320009E-3},{"$f":"Baseline_Data_2012!F198/Baseline_Data_2012!F$269","v":3.8833917127507464E-3},{"$f":"Baseline_Data_2012!G198/Baseline_Data_2012!G$269","v":4.2404214466136448E-3},{"$f":"Baseline_Data_2012!H198/Baseline_Data_2012!H$269","v":4.9830160500372285E-3},{"$f":"Baseline_Data_2012!I198/Baseline_Data_2012!I$269","v":2.4498997756921929E-3},{"$f":"Baseline_Data_2012!J198/Baseline_Data_2012!J$269","v":5.8248581446713995E-3},{"$f":"Baseline_Data_2012!K198/Baseline_Data_2012!K$269","v":2.5241288564499145E-3},{"$f":"Baseline_Data_2012!L198/Baseline_Data_2012!L$269","v":3.4851680233506667E-3},{"$f":"Baseline_Data_2012!M198/Baseline_Data_2012!M$269","v":1.1769434827946334E-2},{"$f":"Baseline_Data_2012!N198/Baseline_Data_2012!N$269","v":1.1526586044151877E-2},{"$f":"Baseline_Data_2012!O198/Baseline_Data_2012!O$269","v":5.8388243205134754E-3},{"$f":"Baseline_Data_2012!P198/Baseline_Data_2012!P$269","v":3.4392431896229176E-4},{"$f":"Baseline_Data_2012!Q198/Baseline_Data_2012!Q$269","v":1.9382615532225591E-3},{"$f":"Baseline_Data_2012!R198/Baseline_Data_2012!R$269","v":7.0731190170774741E-3},{"$f":"Baseline_Data_2012!S198/Baseline_Data_2012!S$269","v":7.6779706287388987E-3},{"$f":"Baseline_Data_2012!T198/Baseline_Data_2012!T$269","v":5.5078186919625188E-3},{"$f":"Baseline_Data_2012!U198/Baseline_Data_2012!U$269","v":3.1402209117361141E-3},{"$f":"Baseline_Data_2012!V198/Baseline_Data_2012!V$269","v":5.3047472118238218E-3},{"$f":"Baseline_Data_2012!W198/Baseline_Data_2012!W$269","v":2.3229338514127299E-3},{"$f":"Baseline_Data_2012!X198/Baseline_Data_2012!X$269","v":2.7722839952995602E-3},{"$f":"Baseline_Data_2012!Y198/Baseline_Data_2012!Y$269","v":4.3336955123260083E-3},{"$f":"Baseline_Data_2012!Z198/Baseline_Data_2012!Z$269","v":7.9563962616048048E-3},{"$f":"Baseline_Data_2012!AA198/Baseline_Data_2012!AA$269","v":3.8989964399391047E-3},{"$f":"Baseline_Data_2012!AB198/Baseline_Data_2012!AB$269","v":2.5062645442274099E-3},{"$f":"Baseline_Data_2012!AC198/Baseline_Data_2012!AC$269","v":3.4392431896229176E-4},{"$f":"Baseline_Data_2012!AD198/Baseline_Data_2012!AD$269","v":3.9397356486457974E-3},{"$f":"Baseline_Data_2012!AE198/Baseline_Data_2012!AE$269","v":3.8747089351197873E-3},{"$f":"Baseline_Data_2012!AF198/Baseline_Data_2012!AF$269","v":1.718700264904009E-3},{"$f":"Baseline_Data_2012!AG198/Baseline_Data_2012!AG$269","v":5.9232406625311426E-3},{"$f":"Baseline_Data_2012!AH198/Baseline_Data_2012!AH$269","v":3.4698579096906629E-3},{"$f":"Baseline_Data_2012!AI198/Baseline_Data_2012!AI$269","v":4.6254434358698237E-3},{"$f":"Baseline_Data_2012!AJ198/Baseline_Data_2012!AJ$269","v":7.1056493393498368E-3},{"$f":"Baseline_Data_2012!AK198/Baseline_Data_2012!AK$269","v":2.9095069074557924E-3},{"$f":"Baseline_Data_2012!AL198/Baseline_Data_2012!AL$269","v":2.1032152559638459E-3},{"$f":"Baseline_Data_2012!AM198/Baseline_Data_2012!AM$269","v":1.1769434827946334E-2},{"$f":"Baseline_Data_2012!AN198/Baseline_Data_2012!AN$269","v":8.0474193993886646E-3},{"$f":"Baseline_Data_2012!AO198/Baseline_Data_2012!AO$269","v":2.6019947334224008E-3},{"$f":"Baseline_Data_2012!AP198/Baseline_Data_2012!AP$269","v":8.4400904839932525E-3},{"$f":"Baseline_Data_2012!AQ198/Baseline_Data_2012!AQ$269","v":1.1526586044151877E-2},{"$f":"Baseline_Data_2012!AR198/Baseline_Data_2012!AR$269","v":2.5348390529050177E-3},{"$f":"Baseline_Data_2012!AS198/Baseline_Data_2012!AS$269","v":3.4725759889414846E-3},{"$f":"Baseline_Data_2012!AT198/Baseline_Data_2012!AT$269","v":5.5147866398861231E-3},{"$f":"Baseline_Data_2012!AU198/Baseline_Data_2012!AU$269","v":1.8176544337039464E-3},{"$f":"Baseline_Data_2012!AV198/Baseline_Data_2012!AV$269","v":3.3532453402128769E-3},198]
[4,"Male 55-59",{"$f":"'III Tool Overview'!$H$8/110","v":1.3090909090909091},0,0,{"$f":"G199*'III Tool Overview'!$H$8","v":3.2141522392244997},{"$f":"HLOOKUP('III Tool Overview'!$H$6,Targeting!$I$1:$BC$269,Targeting!BD199,FALSE)","v":2.2320501661281248E-2},{"$f":"Baseline_Data_2012!B199","v":7452.7999999999984},{"$f":"Baseline_Data_2012!B199/Baseline_Data_2012!B$269","v":6.8793255912674997E-3},{"$f":"Baseline_Data_2012!C199/Baseline_Data_2012!C$269","v":4.9612188461286948E-3},{"$f":"Baseline_Data_2012!D199/Baseline_Data_2012!D$269","v":1.5972528886244439E-2},{"$f":"Baseline_Data_2012!E199/Baseline_Data_2012!E$269","v":1.051556058091836E-2},{"$f":"Baseline_Data_2012!F199/Baseline_Data_2012!F$269","v":6.7909499721776146E-3},{"$f":"Baseline_Data_2012!G199/Baseline_Data_2012!G$269","v":7.3187045522304026E-3},{"$f":"Baseline_Data_2012!H199/Baseline_Data_2012!H$269","v":9.4383459662118283E-3},{"$f":"Baseline_Data_2012!I199/Baseline_Data_2012!I$269","v":4.2287332544074753E-3},{"$f":"Baseline_Data_2012!J199/Baseline_Data_2012!J$269","v":1.09098178104397E-2},{"$f":"Baseline_Data_2012!K199/Baseline_Data_2012!K$269","v":4.3527049405224149E-3},{"$f":"Baseline_Data_2012!L199/Baseline_Data_2012!L$269","v":5.9272806962520509E-3},{"$f":"Baseline_Data_2012!M199/Baseline_Data_2012!M$269","v":2.2320501661281248E-2},{"$f":"Baseline_Data_2012!N199/Baseline_Data_2012!N$269","v":1.9845774232539755E-2},{"$f":"Baseline_Data_2012!O199/Baseline_Data_2012!O$269","v":1.0828454351452483E-2},{"$f":"Baseline_Data_2012!P199/Baseline_Data_2012!P$269","v":7.9102593361327111E-4},{"$f":"Baseline_Data_2012!Q199/Baseline_Data_2012!Q$269","v":3.7590527092801148E-3},{"$f":"Baseline_Data_2012!R199/Baseline_Data_2012!R$269","v":1.3123715421555245E-2},{"$f":"Baseline_Data_2012!S199/Baseline_Data_2012!S$269","v":1.3905557195378358E-2},{"$f":"Baseline_Data_2012!T199/Baseline_Data_2012!T$269","v":1.0576398957283744E-2},{"$f":"Baseline_Data_2012!U199/Baseline_Data_2012!U$269","v":5.5110429676052605E-3},{"$f":"Baseline_Data_2012!V199/Baseline_Data_2012!V$269","v":1.0452844170412577E-2},{"$f":"Baseline_Data_2012!W199/Baseline_Data_2012!W$269","v":4.330779994264425E-3},{"$f":"Baseline_Data_2012!X199/Baseline_Data_2012!X$269","v":4.9212570792376504E-3},{"$f":"Baseline_Data_2012!Y199/Baseline_Data_2012!Y$269","v":7.6324786634995373E-3},{"$f":"Baseline_Data_2012!Z199/Baseline_Data_2012!Z$269","v":1.4071550751589983E-2},{"$f":"Baseline_Data_2012!AA199/Baseline_Data_2012!AA$269","v":6.489776969109168E-3},{"$f":"Baseline_Data_2012!AB199/Baseline_Data_2012!AB$269","v":4.2699321864615135E-3},{"$f":"Baseline_Data_2012!AC199/Baseline_Data_2012!AC$269","v":7.9102593361327111E-4},{"$f":"Baseline_Data_2012!AD199/Baseline_Data_2012!AD$269","v":6.1712397306979572E-3},{"$f":"Baseline_Data_2012!AE199/Baseline_Data_2012!AE$269","v":6.7757662583334049E-3},{"$f":"Baseline_Data_2012!AF199/Baseline_Data_2012!AF$269","v":2.9734285300446936E-3},{"$f":"Baseline_Data_2012!AG199/Baseline_Data_2012!AG$269","v":1.1005100690771432E-2},{"$f":"Baseline_Data_2012!AH199/Baseline_Data_2012!AH$269","v":5.7582435393874806E-3},{"$f":"Baseline_Data_2012!AI199/Baseline_Data_2012!AI$269","v":8.269732203524836E-3},{"$f":"Baseline_Data_2012!AJ199/Baseline_Data_2012!AJ$269","v":1.4005337828283736E-2},{"$f":"Baseline_Data_2012!AK199/Baseline_Data_2012!AK$269","v":5.2668899028357518E-3},{"$f":"Baseline_Data_2012!AL199/Baseline_Data_2012!AL$269","v":3.6357367627912413E-3},{"$f":"Baseline_Data_2012!AM199/Baseline_Data_2012!AM$269","v":2.2320501661281248E-2},{"$f":"Baseline_Data_2012!AN199/Baseline_Data_2012!AN$269","v":1.5151278025673134E-2},{"$f":"Baseline_Data_2012!AO199/Baseline_Data_2012!AO$269","v":4.6584530581930345E-3},{"$f":"Baseline_Data_2012!AP199/Baseline_Data_2012!AP$269","v":1.6048730289214469E-2},{"$f":"Baseline_Data_2012!AQ199/Baseline_Data_2012!AQ$269","v":1.9845774232539755E-2},{"$f":"Baseline_Data_2012!AR199/Baseline_Data_2012!AR$269","v":4.5801347207972817E-3},{"$f":"Baseline_Data_2012!AS199/Baseline_Data_2012!AS$269","v":6.0143917314286676E-3},{"$f":"Baseline_Data_2012!AT199/Baseline_Data_2012!AT$269","v":1.0557214681066797E-2},{"$f":"Baseline_Data_2012!AU199/Baseline_Data_2012!AU$269","v":2.9276354078858228E-3},{"$f":"Baseline_Data_2012!AV199/Baseline_Data_2012!AV$269","v":5.2459417312628858E-3},199]
[4,"Male 60-64",{"$f":"'III Tool Overview'!$H$8/110","v":1.3090909090909091},0,0,{"$f":"G200*'III Tool Overview'!$H$8","v":5.6591536369227891},{"$f":"HLOOKUP('III Tool Overview'!$H$6,Targeting!$I$1:$BC$269,Targeting!BD200,FALSE)","v":3.9299678034186034E-2},{"$f":"Baseline_Data_2012!B200","v":12926.16},{"$f":"Baseline_Data_2012!B200/Baseline_Data_2012!B$269","v":1.1931524163377297E-2},{"$f":"Baseline_Data_2012!C200/Baseline_Data_2012!C$269","v":8.6940589875668731E-3},{"$f":"Baseline_Data_2012!D200/Baseline_Data_2012!D$269","v":2.8905708778808478E-2},{"$f":"Baseline_Data_2012!E200/Baseline_Data_2012!E$269","v":1.9907933219678684E-2},{"$f":"Baseline_Data_2012!F200/Baseline_Data_2012!F$269","v":1.2491731781241362E-2},{"$f":"Baseline_Data_2012!G200/Baseline_Data_2012!G$269","v":1.2575997047216327E-2},{"$f":"Baseline_Data_2012!H200/Baseline_Data_2012!H$269","v":1.6553814041487234E-2},{"$f":"Baseline_Data_2012!I200/Baseline_Data_2012!I$269","v":6.7173814449192903E-3},{"$f":"Baseline_Data_2012!J200/Baseline_Data_2012!J$269","v":1.953685720628754E-2},{"$f":"Baseline_Data_2012!K200/Baseline_Data_2012!K$269","v":7.1129155773778019E-3},{"$f":"Baseline_Data_2012!L200/Baseline_Data_2012!L$269","v":9.751167860827966E-3},{"$f":"Baseline_Data_2012!M200/Baseline_Data_2012!M$269","v":3.9299678034186034E-2},{"$f":"Baseline_Data_2012!N200/Baseline_Data_2012!N$269","v":3.7706971041825542E-2},{"$f":"Baseline_Data_2012!O200/Baseline_Data_2012!O$269","v":1.9826968638434667E-2},{"$f":"Baseline_Data_2012!P200/Baseline_Data_2012!P$269","v":2.1048168320492262E-3},{"$f":"Baseline_Data_2012!Q200/Baseline_Data_2012!Q$269","v":6.0223156946591855E-3},{"$f":"Baseline_Data_2012!R200/Baseline_Data_2012!R$269","v":2.3557471749649388E-2},{"$f":"Baseline_Data_2012!S200/Baseline_Data_2012!S$269","v":2.5535824393338229E-2},{"$f":"Baseline_Data_2012!T200/Baseline_Data_2012!T$269","v":1.9703311106651231E-2},{"$f":"Baseline_Data_2012!U200/Baseline_Data_2012!U$269","v":9.9520847356559927E-3},{"$f":"Baseline_Data_2012!V200/Baseline_Data_2012!V$269","v":1.9789199263222507E-2},{"$f":"Baseline_Data_2012!W200/Baseline_Data_2012!W$269","v":6.8420960714338595E-3},{"$f":"Baseline_Data_2012!X200/Baseline_Data_2012!X$269","v":8.2320527107483422E-3},{"$f":"Baseline_Data_2012!Y200/Baseline_Data_2012!Y$269","v":1.3039895750521243E-2},{"$f":"Baseline_Data_2012!Z200/Baseline_Data_2012!Z$269","v":2.1914124794585578E-2},{"$f":"Baseline_Data_2012!AA200/Baseline_Data_2012!AA$269","v":1.0250256430260963E-2},{"$f":"Baseline_Data_2012!AB200/Baseline_Data_2012!AB$269","v":6.9714485023337162E-3},{"$f":"Baseline_Data_2012!AC200/Baseline_Data_2012!AC$269","v":2.1048168320492262E-3},{"$f":"Baseline_Data_2012!AD200/Baseline_Data_2012!AD$269","v":1.150929457871744E-2},{"$f":"Baseline_Data_2012!AE200/Baseline_Data_2012!AE$269","v":1.2463801833065913E-2},{"$f":"Baseline_Data_2012!AF200/Baseline_Data_2012!AF$269","v":4.6030338395124234E-3},{"$f":"Baseline_Data_2012!AG200/Baseline_Data_2012!AG$269","v":1.9446558040440692E-2},{"$f":"Baseline_Data_2012!AH200/Baseline_Data_2012!AH$269","v":9.4150723050383366E-3},{"$f":"Baseline_Data_2012!AI200/Baseline_Data_2012!AI$269","v":1.5160750964181591E-2},{"$f":"Baseline_Data_2012!AJ200/Baseline_Data_2012!AJ$269","v":2.4529937284538138E-2},{"$f":"Baseline_Data_2012!AK200/Baseline_Data_2012!AK$269","v":9.2794039065509076E-3},{"$f":"Baseline_Data_2012!AL200/Baseline_Data_2012!AL$269","v":5.7976917168369377E-3},{"$f":"Baseline_Data_2012!AM200/Baseline_Data_2012!AM$269","v":3.9299678034186034E-2},{"$f":"Baseline_Data_2012!AN200/Baseline_Data_2012!AN$269","v":2.878742824877896E-2},{"$f":"Baseline_Data_2012!AO200/Baseline_Data_2012!AO$269","v":7.393622856080426E-3},{"$f":"Baseline_Data_2012!AP200/Baseline_Data_2012!AP$269","v":2.9043611522855801E-2},{"$f":"Baseline_Data_2012!AQ200/Baseline_Data_2012!AQ$269","v":3.7706971041825542E-2},{"$f":"Baseline_Data_2012!AR200/Baseline_Data_2012!AR$269","v":8.4085299385071866E-3},{"$f":"Baseline_Data_2012!AS200/Baseline_Data_2012!AS$269","v":9.5519270292372775E-3},{"$f":"Baseline_Data_2012!AT200/Baseline_Data_2012!AT$269","v":1.6239688623493356E-2},{"$f":"Baseline_Data_2012!AU200/Baseline_Data_2012!AU$269","v":5.4791375249571769E-3},{"$f":"Baseline_Data_2012!AV200/Baseline_Data_2012!AV$269","v":8.7042153105166917E-3},200]
[4,"Male 65-69",{"$f":"'III Tool Overview'!$H$8/110","v":1.3090909090909091},0,0,{"$f":"G201*'III Tool Overview'!$H$8","v":12.80397545953079},{"$f":"HLOOKUP('III Tool Overview'!$H$6,Targeting!$I$1:$BC$269,Targeting!BD201,FALSE)","v":8.8916496246741597E-2},{"$f":"Baseline_Data_2012!B201","v":27914.850000000002},{"$f":"Baseline_Data_2012!B201/Baseline_Data_2012!B$269","v":2.576687177723723E-2},{"$f":"Baseline_Data_2012!C201/Baseline_Data_2012!C$269","v":1.9929464103196952E-2},{"$f":"Baseline_Data_2012!D201/Baseline_Data_2012!D$269","v":6.7587156904562365E-2},{"$f":"Baseline_Data_2012!E201/Baseline_Data_2012!E$269","v":3.9607199937848746E-2},{"$f":"Baseline_Data_2012!F201/Baseline_Data_2012!F$269","v":2.8717023626473794E-2},{"$f":"Baseline_Data_2012!G201/Baseline_Data_2012!G$269","v":2.8104724754280996E-2},{"$f":"Baseline_Data_2012!H201/Baseline_Data_2012!H$269","v":3.2819871480545361E-2},{"$f":"Baseline_Data_2012!I201/Baseline_Data_2012!I$269","v":1.3971733110126219E-2},{"$f":"Baseline_Data_2012!J201/Baseline_Data_2012!J$269","v":4.402307515392289E-2},{"$f":"Baseline_Data_2012!K201/Baseline_Data_2012!K$269","v":1.4128013757569684E-2},{"$f":"Baseline_Data_2012!L201/Baseline_Data_2012!L$269","v":2.0456603571737331E-2},{"$f":"Baseline_Data_2012!M201/Baseline_Data_2012!M$269","v":8.8916496246741597E-2},{"$f":"Baseline_Data_2012!N201/Baseline_Data_2012!N$269","v":7.3148717348017769E-2},{"$f":"Baseline_Data_2012!O201/Baseline_Data_2012!O$269","v":4.4080055721431755E-2},{"$f":"Baseline_Data_2012!P201/Baseline_Data_2012!P$269","v":1.836555863258639E-3},{"$f":"Baseline_Data_2012!Q201/Baseline_Data_2012!Q$269","v":1.1693960500003582E-2},{"$f":"Baseline_Data_2012!R201/Baseline_Data_2012!R$269","v":4.5108142230082429E-2},{"$f":"Baseline_Data_2012!S201/Baseline_Data_2012!S$269","v":5.8047542880355359E-2},{"$f":"Baseline_Data_2012!T201/Baseline_Data_2012!T$269","v":4.7894864486380438E-2},{"$f":"Baseline_Data_2012!U201/Baseline_Data_2012!U$269","v":2.144673216775729E-2},{"$f":"Baseline_Data_2012!V201/Baseline_Data_2012!V$269","v":3.9438420583975543E-2},{"$f":"Baseline_Data_2012!W201/Baseline_Data_2012!W$269","v":1.3979647160085661E-2},{"$f":"Baseline_Data_2012!X201/Baseline_Data_2012!X$269","v":1.9190365878573624E-2},{"$f":"Baseline_Data_2012!Y201/Baseline_Data_2012!Y$269","v":2.7008517541805891E-2},{"$f":"Baseline_Data_2012!Z201/Baseline_Data_2012!Z$269","v":4.9955679024300474E-2},{"$f":"Baseline_Data_2012!AA201/Baseline_Data_2012!AA$269","v":2.0432536935746672E-2},{"$f":"Baseline_Data_2012!AB201/Baseline_Data_2012!AB$269","v":1.351259624234861E-2},{"$f":"Baseline_Data_2012!AC201/Baseline_Data_2012!AC$269","v":1.836555863258639E-3},{"$f":"Baseline_Data_2012!AD201/Baseline_Data_2012!AD$269","v":2.4938155301239509E-2},{"$f":"Baseline_Data_2012!AE201/Baseline_Data_2012!AE$269","v":2.8652815957298173E-2},{"$f":"Baseline_Data_2012!AF201/Baseline_Data_2012!AF$269","v":8.360022575379239E-3},{"$f":"Baseline_Data_2012!AG201/Baseline_Data_2012!AG$269","v":4.2293004869304568E-2},{"$f":"Baseline_Data_2012!AH201/Baseline_Data_2012!AH$269","v":2.2663620687493599E-2},{"$f":"Baseline_Data_2012!AI201/Baseline_Data_2012!AI$269","v":3.3624935015826689E-2},{"$f":"Baseline_Data_2012!AJ201/Baseline_Data_2012!AJ$269","v":5.3820430781051309E-2},{"$f":"Baseline_Data_2012!AK201/Baseline_Data_2012!AK$269","v":2.3023567133562226E-2},{"$f":"Baseline_Data_2012!AL201/Baseline_Data_2012!AL$269","v":1.1211348298584251E-2},{"$f":"Baseline_Data_2012!AM201/Baseline_Data_2012!AM$269","v":8.8916496246741597E-2},{"$f":"Baseline_Data_2012!AN201/Baseline_Data_2012!AN$269","v":6.3647247070078489E-2},{"$f":"Baseline_Data_2012!AO201/Baseline_Data_2012!AO$269","v":1.7921673283635055E-2},{"$f":"Baseline_Data_2012!AP201/Baseline_Data_2012!AP$269","v":6.7909600283163382E-2},{"$f":"Baseline_Data_2012!AQ201/Baseline_Data_2012!AQ$269","v":7.3148717348017769E-2},{"$f":"Baseline_Data_2012!AR201/Baseline_Data_2012!AR$269","v":1.8555842711802557E-2},{"$f":"Baseline_Data_2012!AS201/Baseline_Data_2012!AS$269","v":1.9673944709427814E-2},{"$f":"Baseline_Data_2012!AT201/Baseline_Data_2012!AT$269","v":3.8098673226836424E-2},{"$f":"Baseline_Data_2012!AU201/Baseline_Data_2012!AU$269","v":1.1000444632776286E-2},{"$f":"Baseline_Data_2012!AV201/Baseline_Data_2012!AV$269","v":1.8378574276966094E-2},201]
[4,"Male 70-74",null,null,null,null,{"$f":"HLOOKUP('III Tool Overview'!$H$6,Targeting!$I$1:$BC$269,Targeting!BD202,FALSE)","v":0},null,{"$f":"Baseline_Data_2012!B202/Baseline_Data_2012!B$269","v":0},{"$f":"Baseline_Data_2012!C202/Baseline_Data_2012!C$269","v":0},{"$f":"Baseline_Data_2012!D202/Baseline_Data_2012!D$269","v":0},{"$f":"Baseline_Data_2012!E202/Baseline_Data_2012!E$269","v":0},{"$f":"Baseline_Data_2012!F202/Baseline_Data_2012!F$269","v":0},{"$f":"Baseline_Data_2012!G202/Baseline_Data_2012!G$269","v":0},{"$f":"Baseline_Data_2012!H202/Baseline_Data_2012!H$269","v":0},{"$f":"Baseline_Data_2012!I202/Baseline_Data_2012!I$269","v":0},{"$f":"Baseline_Data_2012!J202/Baseline_Data_2012!J$269","v":0},{"$f":"Baseline_Data_2012!K202/Baseline_Data_2012!K$269","v":0},{"$f":"Baseline_Data_2012!L202/Baseline_Data_2012!L$269","v":0},{"$f":"Baseline_Data_2012!M202/Baseline_Data_2012!M$269","v":0},{"$f":"Baseline_Data_2012!N202/Baseline_Data_2012!N$269","v":0},{"$f":"Baseline_Data_2012!O202/Baseline_Data_2012!O$269","v":0},{"$f":"Baseline_Data_2012!P202/Baseline_Data_2012!P$269","v":0},{"$f":"Baseline_Data_2012!Q202/Baseline_Data_2012!Q$269","v":0},{"$f":"Baseline_Data_2012!R202/Baseline_Data_2012!R$269","v":0},{"$f":"Baseline_Data_2012!S202/Baseline_Data_2012!S$269","v":0},{"$f":"Baseline_Data_2012!T202/Baseline_Data_2012!T$269","v":0},{"$f":"Baseline_Data_2012!U202/Baseline_Data_2012!U$269","v":0},{"$f":"Baseline_Data_2012!V202/Baseline_Data_2012!V$269","v":0},{"$f":"Baseline_Data_2012!W202/Baseline_Data_2012!W$269","v":0},{"$f":"Baseline_Data_2012!X202/Baseline_Data_2012!X$269","v":0},{"$f":"Baseline_Data_2012!Y202/Baseline_Data_2012!Y$269","v":0},{"$f":"Baseline_Data_2012!Z202/Baseline_Data_2012!Z$269","v":0},{"$f":"Baseline_Data_2012!AA202/Baseline_Data_2012!AA$269","v":0},{"$f":"Baseline_Data_2012!AB202/Baseline_Data_2012!AB$269","v":0},{"$f":"Baseline_Data_2012!AC202/Baseline_Data_2012!AC$269","v":0},{"$f":"Baseline_Data_2012!AD202/Baseline_Data_2012!AD$269","v":0},{"$f":"Baseline_Data_2012!AE202/Baseline_Data_2012!AE$269","v":0},{"$f":"Baseline_Data_2012!AF202/Baseline_Data_2012!AF$269","v":0},{"$f":"Baseline_Data_2012!AG202/Baseline_Data_2012!AG$269","v":0},{"$f":"Baseline_Data_2012!AH202/Baseline_Data_2012!AH$269","v":0},{"$f":"Baseline_Data_2012!AI202/Baseline_Data_2012!AI$269","v":0},{"$f":"Baseline_Data_2012!AJ202/Baseline_Data_2012!AJ$269","v":0},{"$f":"Baseline_Data_2012!AK202/Baseline_Data_2012!AK$269","v":0},{"$f":"Baseline_Data_2012!AL202/Baseline_Data_2012!AL$269","v":0},{"$f":"Baseline_Data_2012!AM202/Baseline_Data_2012!AM$269","v":0},{"$f":"Baseline_Data_2012!AN202/Baseline_Data_2012!AN$269","v":0},{"$f":"Baseline_Data_2012!AO202/Baseline_Data_2012!AO$269","v":0},{"$f":"Baseline_Data_2012!AP202/Baseline_Data_2012!AP$269","v":0},{"$f":"Baseline_Data_2012!AQ202/Baseline_Data_2012!AQ$269","v":0},{"$f":"Baseline_Data_2012!AR202/Baseline_Data_2012!AR$269","v":0},{"$f":"Baseline_Data_2012!AS202/Baseline_Data_2012!AS$269","v":0},{"$f":"Baseline_Data_2012!AT202/Baseline_Data_2012!AT$269","v":0},{"$f":"Baseline_Data_2012!AU202/Baseline_Data_2012!AU$269","v":0},{"$f":"Baseline_Data_2012!AV202/Baseline_Data_2012!AV$269","v":0},202]
[4,"Male 75-79",null,null,null,null,{"$f":"HLOOKUP('III Tool Overview'!$H$6,Targeting!$I$1:$BC$269,Targeting!BD203,FALSE)","v":0},null,{"$f":"Baseline_Data_2012!B203/Baseline_Data_2012!B$269","v":0},{"$f":"Baseline_Data_2012!C203/Baseline_Data_2012!C$269","v":0},{"$f":"Baseline_Data_2012!D203/Baseline_Data_2012!D$269","v":0},{"$f":"Baseline_Data_2012!E203/Baseline_Data_2012!E$269","v":0},{"$f":"Baseline_Data_2012!F203/Baseline_Data_2012!F$269","v":0},{"$f":"Baseline_Data_2012!G203/Baseline_Data_2012!G$269","v":0},{"$f":"Baseline_Data_2012!H203/Baseline_Data_2012!H$269","v":0},{"$f":"Baseline_Data_2012!I203/Baseline_Data_2012!I$269","v":0},{"$f":"Baseline_Data_2012!J203/Baseline_Data_2012!J$269","v":0},{"$f":"Baseline_Data_2012!K203/Baseline_Data_2012!K$269","v":0},{"$f":"Baseline_Data_2012!L203/Baseline_Data_2012!L$269","v":0},{"$f":"Baseline_Data_2012!M203/Baseline_Data_2012!M$269","v":0},{"$f":"Baseline_Data_2012!N203/Baseline_Data_2012!N$269","v":0},{"$f":"Baseline_Data_2012!O203/Baseline_Data_2012!O$269","v":0},{"$f":"Baseline_Data_2012!P203/Baseline_Data_2012!P$269","v":0},{"$f":"Baseline_Data_2012!Q203/Baseline_Data_2012!Q$269","v":0},{"$f":"Baseline_Data_2012!R203/Baseline_Data_2012!R$269","v":0},{"$f":"Baseline_Data_2012!S203/Baseline_Data_2012!S$269","v":0},{"$f":"Baseline_Data_2012!T203/Baseline_Data_2012!T$269","v":0},{"$f":"Baseline_Data_2012!U203/Baseline_Data_2012!U$269","v":0},{"$f":"Baseline_Data_2012!V203/Baseline_Data_2012!V$269","v":0},{"$f":"Baseline_Data_2012!W203/Baseline_Data_2012!W$269","v":0},{"$f":"Baseline_Data_2012!X203/Baseline_Data_2012!X$269","v":0},{"$f":"Baseline_Data_2012!Y203/Baseline_Data_2012!Y$269","v":0},{"$f":"Baseline_Data_2012!Z203/Baseline_Data_2012!Z$269","v":0},{"$f":"Baseline_Data_2012!AA203/Baseline_Data_2012!AA$269","v":0},{"$f":"Baseline_Data_2012!AB203/Baseline_Data_2012!AB$269","v":0},{"$f":"Baseline_Data_2012!AC203/Baseline_Data_2012!AC$269","v":0},{"$f":"Baseline_Data_2012!AD203/Baseline_Data_2012!AD$269","v":0},{"$f":"Baseline_Data_2012!AE203/Baseline_Data_2012!AE$269","v":0},{"$f":"Baseline_Data_2012!AF203/Baseline_Data_2012!AF$269","v":0},{"$f":"Baseline_Data_2012!AG203/Baseline_Data_2012!AG$269","v":0},{"$f":"Baseline_Data_2012!AH203/Baseline_Data_2012!AH$269","v":0},{"$f":"Baseline_Data_2012!AI203/Baseline_Data_2012!AI$269","v":0},{"$f":"Baseline_Data_2012!AJ203/Baseline_Data_2012!AJ$269","v":0},{"$f":"Baseline_Data_2012!AK203/Baseline_Data_2012!AK$269","v":0},{"$f":"Baseline_Data_2012!AL203/Baseline_Data_2012!AL$269","v":0},{"$f":"Baseline_Data_2012!AM203/Baseline_Data_2012!AM$269","v":0},{"$f":"Baseline_Data_2012!AN203/Baseline_Data_2012!AN$269","v":0},{"$f":"Baseline_Data_2012!AO203/Baseline_Data_2012!AO$269","v":0},{"$f":"Baseline_Data_2012!AP203/Baseline_Data_2012!AP$269","v":0},{"$f":"Baseline_Data_2012!AQ203/Baseline_Data_2012!AQ$269","v":0},{"$f":"Baseline_Data_2012!AR203/Baseline_Data_2012!AR$269","v":0},{"$f":"Baseline_Data_2012!AS203/Baseline_Data_2012!AS$269","v":0},{"$f":"Baseline_Data_2012!AT203/Baseline_Data_2012!AT$269","v":0},{"$f":"Baseline_Data_2012!AU203/Baseline_Data_2012!AU$269","v":0},{"$f":"Baseline_Data_2012!AV203/Baseline_Data_2012!AV$269","v":0},203]
[4,"Male 80-84",null,null,null,null,{"$f":"HLOOKUP('III Tool Overview'!$H$6,Targeting!$I$1:$BC$269,Targeting!BD204,FALSE)","v":0},null,{"$f":"Baseline_Data_2012!B204/Baseline_Data_2012!B$269","v":0},{"$f":"Baseline_Data_2012!C204/Baseline_Data_2012!C$269","v":0},{"$f":"Baseline_Data_2012!D204/Baseline_Data_2012!D$269","v":0},{"$f":"Baseline_Data_2012!E204/Baseline_Data_2012!E$269","v":0},{"$f":"Baseline_Data_2012!F204/Baseline_Data_2012!F$269","v":0},{"$f":"Baseline_Data_2012!G204/Baseline_Data_2012!G$269","v":0},{"$f":"Baseline_Data_2012!H204/Baseline_Data_2012!H$269","v":0},{"$f":"Baseline_Data_2012!I204/Baseline_Data_2012!I$269","v":0},{"$f":"Baseline_Data_2012!J204/Baseline_Data_2012!J$269","v":0},{"$f":"Baseline_Data_2012!K204/Baseline_Data_2012!K$269","v":0},{"$f":"Baseline_Data_2012!L204/Baseline_Data_2012!L$269","v":0},{"$f":"Baseline_Data_2012!M204/Baseline_Data_2012!M$269","v":0},{"$f":"Baseline_Data_2012!N204/Baseline_Data_2012!N$269","v":0},{"$f":"Baseline_Data_2012!O204/Baseline_Data_2012!O$269","v":0},{"$f":"Baseline_Data_2012!P204/Baseline_Data_2012!P$269","v":0},{"$f":"Baseline_Data_2012!Q204/Baseline_Data_2012!Q$269","v":0},{"$f":"Baseline_Data_2012!R204/Baseline_Data_2012!R$269","v":0},{"$f":"Baseline_Data_2012!S204/Baseline_Data_2012!S$269","v":0},{"$f":"Baseline_Data_2012!T204/Baseline_Data_2012!T$269","v":0},{"$f":"Baseline_Data_2012!U204/Baseline_Data_2012!U$269","v":0},{"$f":"Baseline_Data_2012!V204/Baseline_Data_2012!V$269","v":0},{"$f":"Baseline_Data_2012!W204/Baseline_Data_2012!W$269","v":0},{"$f":"Baseline_Data_2012!X204/Baseline_Data_2012!X$269","v":0},{"$f":"Baseline_Data_2012!Y204/Baseline_Data_2012!Y$269","v":0},{"$f":"Baseline_Data_2012!Z204/Baseline_Data_2012!Z$269","v":0},{"$f":"Baseline_Data_2012!AA204/Baseline_Data_2012!AA$269","v":0},{"$f":"Baseline_Data_2012!AB204/Baseline_Data_2012!AB$269","v":0},{"$f":"Baseline_Data_2012!AC204/Baseline_Data_2012!AC$269","v":0},{"$f":"Baseline_Data_2012!AD204/Baseline_Data_2012!AD$269","v":0},{"$f":"Baseline_Data_2012!AE204/Baseline_Data_2012!AE$269","v":0},{"$f":"Baseline_Data_2012!AF204/Baseline_Data_2012!AF$269","v":0},{"$f":"Baseline_Data_2012!AG204/Baseline_Data_2012!AG$269","v":0},{"$f":"Baseline_Data_2012!AH204/Baseline_Data_2012!AH$269","v":0},{"$f":"Baseline_Data_2012!AI204/Baseline_Data_2012!AI$269","v":0},{"$f":"Baseline_Data_2012!AJ204/Baseline_Data_2012!AJ$269","v":0},{"$f":"Baseline_Data_2012!AK204/Baseline_Data_2012!AK$269","v":0},{"$f":"Baseline_Data_2012!AL204/Baseline_Data_2012!AL$269","v":0},{"$f":"Baseline_Data_2012!AM204/Baseline_Data_2012!AM$269","v":0},{"$f":"Baseline_Data_2012!AN204/Baseline_Data_2012!AN$269","v":0},{"$f":"Baseline_Data_2012!AO204/Baseline_Data_2012!AO$269","v":0},{"$f":"Baseline_Data_2012!AP204/Baseline_Data_2012!AP$269","v":0},{"$f":"Baseline_Data_2012!AQ204/Baseline_Data_2012!AQ$269","v":0},{"$f":"Baseline_Data_2012!AR204/Baseline_Data_2012!AR$269","v":0},{"$f":"Baseline_Data_2012!AS204/Baseline_Data_2012!AS$269","v":0},{"$f":"Baseline_Data_2012!AT204/Baseline_Data_2012!AT$269","v":0},{"$f":"Baseline_Data_2012!AU204/Baseline_Data_2012!AU$269","v":0},{"$f":"Baseline_Data_2012!AV204/Baseline_Data_2012!AV$269","v":0},204]
[4,"Male 85+",null,null,null,null,{"$f":"HLOOKUP('III Tool Overview'!$H$6,Targeting!$I$1:$BC$269,Targeting!BD205,FALSE)","v":0},null,{"$f":"Baseline_Data_2012!B205/Baseline_Data_2012!B$269","v":0},{"$f":"Baseline_Data_2012!C205/Baseline_Data_2012!C$269","v":0},{"$f":"Baseline_Data_2012!D205/Baseline_Data_2012!D$269","v":0},{"$f":"Baseline_Data_2012!E205/Baseline_Data_2012!E$269","v":0},{"$f":"Baseline_Data_2012!F205/Baseline_Data_2012!F$269","v":0},{"$f":"Baseline_Data_2012!G205/Baseline_Data_2012!G$269","v":0},{"$f":"Baseline_Data_2012!H205/Baseline_Data_2012!H$269","v":0},{"$f":"Baseline_Data_2012!I205/Baseline_Data_2012!I$269","v":0},{"$f":"Baseline_Data_2012!J205/Baseline_Data_2012!J$269","v":0},{"$f":"Baseline_Data_2012!K205/Baseline_Data_2012!K$269","v":0},{"$f":"Baseline_Data_2012!L205/Baseline_Data_2012!L$269","v":0},{"$f":"Baseline_Data_2012!M205/Baseline_Data_2012!M$269","v":0},{"$f":"Baseline_Data_2012!N205/Baseline_Data_2012!N$269","v":0},{"$f":"Baseline_Data_2012!O205/Baseline_Data_2012!O$269","v":0},{"$f":"Baseline_Data_2012!P205/Baseline_Data_2012!P$269","v":0},{"$f":"Baseline_Data_2012!Q205/Baseline_Data_2012!Q$269","v":0},{"$f":"Baseline_Data_2012!R205/Baseline_Data_2012!R$269","v":0},{"$f":"Baseline_Data_2012!S205/Baseline_Data_2012!S$269","v":0},{"$f":"Baseline_Data_2012!T205/Baseline_Data_2012!T$269","v":0},{"$f":"Baseline_Data_2012!U205/Baseline_Data_2012!U$269","v":0},{"$f":"Baseline_Data_2012!V205/Baseline_Data_2012!V$269","v":0},{"$f":"Baseline_Data_2012!W205/Baseline_Data_2012!W$269","v":0},{"$f":"Baseline_Data_2012!X205/Baseline_Data_2012!X$269","v":0},{"$f":"Baseline_Data_2012!Y205/Baseline_Data_2012!Y$269","v":0},{"$f":"Baseline_Data_2012!Z205/Baseline_Data_2012!Z$269","v":0},{"$f":"Baseline_Data_2012!AA205/Baseline_Data_2012!AA$269","v":0},{"$f":"Baseline_Data_2012!AB205/Baseline_Data_2012!AB$269","v":0},{"$f":"Baseline_Data_2012!AC205/Baseline_Data_2012!AC$269","v":0},{"$f":"Baseline_Data_2012!AD205/Baseline_Data_2012!AD$269","v":0},{"$f":"Baseline_Data_2012!AE205/Baseline_Data_2012!AE$269","v":0},{"$f":"Baseline_Data_2012!AF205/Baseline_Data_2012!AF$269","v":0},{"$f":"Baseline_Data_2012!AG205/Baseline_Data_2012!AG$269","v":0},{"$f":"Baseline_Data_2012!AH205/Baseline_Data_2012!AH$269","v":0},{"$f":"Baseline_Data_2012!AI205/Baseline_Data_2012!AI$269","v":0},{"$f":"Baseline_Data_2012!AJ205/Baseline_Data_2012!AJ$269","v":0},{"$f":"Baseline_Data_2012!AK205/Baseline_Data_2012!AK$269","v":0},{"$f":"Baseline_Data_2012!AL205/Baseline_Data_2012!AL$269","v":0},{"$f":"Baseline_Data_2012!AM205/Baseline_Data_2012!AM$269","v":0},{"$f":"Baseline_Data_2012!AN205/Baseline_Data_2012!AN$269","v":0},{"$f":"Baseline_Data_2012!AO205/Baseline_Data_2012!AO$269","v":0},{"$f":"Baseline_Data_2012!AP205/Baseline_Data_2012!AP$269","v":0},{"$f":"Baseline_Data_2012!AQ205/Baseline_Data_2012!AQ$269","v":0},{"$f":"Baseline_Data_2012!AR205/Baseline_Data_2012!AR$269","v":0},{"$f":"Baseline_Data_2012!AS205/Baseline_Data_2012!AS$269","v":0},{"$f":"Baseline_Data_2012!AT205/Baseline_Data_2012!AT$269","v":0},{"$f":"Baseline_Data_2012!AU205/Baseline_Data_2012!AU$269","v":0},{"$f":"Baseline_Data_2012!AV205/Baseline_Data_2012!AV$269","v":0},205]
[null,"TOTAL",null,null,null,null,{"$f":"HLOOKUP('III Tool Overview'!$H$6,Targeting!$I$1:$BC$269,Targeting!BD206,FALSE)","v":0},null,{"$f":"Baseline_Data_2012!B206/Baseline_Data_2012!B$269","v":0},{"$f":"Baseline_Data_2012!C206/Baseline_Data_2012!C$269","v":0},{"$f":"Baseline_Data_2012!D206/Baseline_Data_2012!D$269","v":0},{"$f":"Baseline_Data_2012!E206/Baseline_Data_2012!E$269","v":0},{"$f":"Baseline_Data_2012!F206/Baseline_Data_2012!F$269","v":0},{"$f":"Baseline_Data_2012!G206/Baseline_Data_2012!G$269","v":0},{"$f":"Baseline_Data_2012!H206/Baseline_Data_2012!H$269","v":0},{"$f":"Baseline_Data_2012!I206/Baseline_Data_2012!I$269","v":0},{"$f":"Baseline_Data_2012!J206/Baseline_Data_2012!J$269","v":0},{"$f":"Baseline_Data_2012!K206/Baseline_Data_2012!K$269","v":0},{"$f":"Baseline_Data_2012!L206/Baseline_Data_2012!L$269","v":0},{"$f":"Baseline_Data_2012!M206/Baseline_Data_2012!M$269","v":0},{"$f":"Baseline_Data_2012!N206/Baseline_Data_2012!N$269","v":0},{"$f":"Baseline_Data_2012!O206/Baseline_Data_2012!O$269","v":0},{"$f":"Baseline_Data_2012!P206/Baseline_Data_2012!P$269","v":0},{"$f":"Baseline_Data_2012!Q206/Baseline_Data_2012!Q$269","v":0},{"$f":"Baseline_Data_2012!R206/Baseline_Data_2012!R$269","v":0},{"$f":"Baseline_Data_2012!S206/Baseline_Data_2012!S$269","v":0},{"$f":"Baseline_Data_2012!T206/Baseline_Data_2012!T$269","v":0},{"$f":"Baseline_Data_2012!U206/Baseline_Data_2012!U$269","v":0},{"$f":"Baseline_Data_2012!V206/Baseline_Data_2012!V$269","v":0},{"$f":"Baseline_Data_2012!W206/Baseline_Data_2012!W$269","v":0},{"$f":"Baseline_Data_2012!X206/Baseline_Data_2012!X$269","v":0},{"$f":"Baseline_Data_2012!Y206/Baseline_Data_2012!Y$269","v":0},{"$f":"Baseline_Data_2012!Z206/Baseline_Data_2012!Z$269","v":0},{"$f":"Baseline_Data_2012!AA206/Baseline_Data_2012!AA$269","v":0},{"$f":"Baseline_Data_2012!AB206/Baseline_Data_2012!AB$269","v":0},{"$f":"Baseline_Data_2012!AC206/Baseline_Data_2012!AC$269","v":0},{"$f":"Baseline_Data_2012!AD206/Baseline_Data_2012!AD$269","v":0},{"$f":"Baseline_Data_2012!AE206/Baseline_Data_2012!AE$269","v":0},{"$f":"Baseline_Data_2012!AF206/Baseline_Data_2012!AF$269","v":0},{"$f":"Baseline_Data_2012!AG206/Baseline_Data_2012!AG$269","v":0},{"$f":"Baseline_Data_2012!AH206/Baseline_Data_2012!AH$269","v":0},{"$f":"Baseline_Data_2012!AI206/Baseline_Data_2012!AI$269","v":0},{"$f":"Baseline_Data_2012!AJ206/Baseline_Data_2012!AJ$269","v":0},{"$f":"Baseline_Data_2012!AK206/Baseline_Data_2012!AK$269","v":0},{"$f":"Baseline_Data_2012!AL206/Baseline_Data_2012!AL$269","v":0},{"$f":"Baseline_Data_2012!AM206/Baseline_Data_2012!AM$269","v":0},{"$f":"Baseline_Data_2012!AN206/Baseline_Data_2012!AN$269","v":0},{"$f":"Baseline_Data_2012!AO206/Baseline_Data_2012!AO$269","v":0},{"$f":"Baseline_Data_2012!AP206/Baseline_Data_2012!AP$269","v":0},{"$f":"Baseline_Data_2012!AQ206/Baseline_Data_2012!AQ$269","v":0},{"$f":"Baseline_Data_2012!AR206/Baseline_Data_2012!AR$269","v":0},{"$f":"Baseline_Data_2012!AS206/Baseline_Data_2012!AS$269","v":0},{"$f":"Baseline_Data_2012!AT206/Baseline_Data_2012!AT$269","v":0},{"$f":"Baseline_Data_2012!AU206/Baseline_Data_2012!AU$269","v":0},{"$f":"Baseline_Data_2012!AV206/Baseline_Data_2012!AV$269","v":0},206]
[4,"Female <1",null,null,null,null,{"$f":"HLOOKUP('III Tool Overview'!$H$6,Targeting!$I$1:$BC$269,Targeting!BD207,FALSE)","v":0},null,{"$f":"Baseline_Data_2012!B207/Baseline_Data_2012!B$269","v":0},{"$f":"Baseline_Data_2012!C207/Baseline_Data_2012!C$269","v":0},{"$f":"Baseline_Data_2012!D207/Baseline_Data_2012!D$269","v":0},{"$f":"Baseline_Data_2012!E207/Baseline_Data_2012!E$269","v":0},{"$f":"Baseline_Data_2012!F207/Baseline_Data_2012!F$269","v":0},{"$f":"Baseline_Data_2012!G207/Baseline_Data_2012!G$269","v":0},{"$f":"Baseline_Data_2012!H207/Baseline_Data_2012!H$269","v":0},{"$f":"Baseline_Data_2012!I207/Baseline_Data_2012!I$269","v":0},{"$f":"Baseline_Data_2012!J207/Baseline_Data_2012!J$269","v":0},{"$f":"Baseline_Data_2012!K207/Baseline_Data_2012!K$269","v":0},{"$f":"Baseline_Data_2012!L207/Baseline_Data_2012!L$269","v":0},{"$f":"Baseline_Data_2012!M207/Baseline_Data_2012!M$269","v":0},{"$f":"Baseline_Data_2012!N207/Baseline_Data_2012!N$269","v":0},{"$f":"Baseline_Data_2012!O207/Baseline_Data_2012!O$269","v":0},{"$f":"Baseline_Data_2012!P207/Baseline_Data_2012!P$269","v":0},{"$f":"Baseline_Data_2012!Q207/Baseline_Data_2012!Q$269","v":0},{"$f":"Baseline_Data_2012!R207/Baseline_Data_2012!R$269","v":0},{"$f":"Baseline_Data_2012!S207/Baseline_Data_2012!S$269","v":0},{"$f":"Baseline_Data_2012!T207/Baseline_Data_2012!T$269","v":0},{"$f":"Baseline_Data_2012!U207/Baseline_Data_2012!U$269","v":0},{"$f":"Baseline_Data_2012!V207/Baseline_Data_2012!V$269","v":0},{"$f":"Baseline_Data_2012!W207/Baseline_Data_2012!W$269","v":0},{"$f":"Baseline_Data_2012!X207/Baseline_Data_2012!X$269","v":0},{"$f":"Baseline_Data_2012!Y207/Baseline_Data_2012!Y$269","v":0},{"$f":"Baseline_Data_2012!Z207/Baseline_Data_2012!Z$269","v":0},{"$f":"Baseline_Data_2012!AA207/Baseline_Data_2012!AA$269","v":0},{"$f":"Baseline_Data_2012!AB207/Baseline_Data_2012!AB$269","v":0},{"$f":"Baseline_Data_2012!AC207/Baseline_Data_2012!AC$269","v":0},{"$f":"Baseline_Data_2012!AD207/Baseline_Data_2012!AD$269","v":0},{"$f":"Baseline_Data_2012!AE207/Baseline_Data_2012!AE$269","v":0},{"$f":"Baseline_Data_2012!AF207/Baseline_Data_2012!AF$269","v":0},{"$f":"Baseline_Data_2012!AG207/Baseline_Data_2012!AG$269","v":0},{"$f":"Baseline_Data_2012!AH207/Baseline_Data_2012!AH$269","v":0},{"$f":"Baseline_Data_2012!AI207/Baseline_Data_2012!AI$269","v":0},{"$f":"Baseline_Data_2012!AJ207/Baseline_Data_2012!AJ$269","v":0},{"$f":"Baseline_Data_2012!AK207/Baseline_Data_2012!AK$269","v":0},{"$f":"Baseline_Data_2012!AL207/Baseline_Data_2012!AL$269","v":0},{"$f":"Baseline_Data_2012!AM207/Baseline_Data_2012!AM$269","v":0},{"$f":"Baseline_Data_2012!AN207/Baseline_Data_2012!AN$269","v":0},{"$f":"Baseline_Data_2012!AO207/Baseline_Data_2012!AO$269","v":0},{"$f":"Baseline_Data_2012!AP207/Baseline_Data_2012!AP$269","v":0},{"$f":"Baseline_Data_2012!AQ207/Baseline_Data_2012!AQ$269","v":0},{"$f":"Baseline_Data_2012!AR207/Baseline_Data_2012!AR$269","v":0},{"$f":"Baseline_Data_2012!AS207/Baseline_Data_2012!AS$269","v":0},{"$f":"Baseline_Data_2012!AT207/Baseline_Data_2012!AT$269","v":0},{"$f":"Baseline_Data_2012!AU207/Baseline_Data_2012!AU$269","v":0},{"$f":"Baseline_Data_2012!AV207/Baseline_Data_2012!AV$269","v":0},207]
[4,"Female 1-4",null,null,null,null,{"$f":"HLOOKUP('III Tool Overview'!$H$6,Targeting!$I$1:$BC$269,Targeting!BD208,FALSE)","v":0},null,{"$f":"Baseline_Data_2012!B208/Baseline_Data_2012!B$269","v":0},{"$f":"Baseline_Data_2012!C208/Baseline_Data_2012!C$269","v":0},{"$f":"Baseline_Data_2012!D208/Baseline_Data_2012!D$269","v":0},{"$f":"Baseline_Data_2012!E208/Baseline_Data_2012!E$269","v":0},{"$f":"Baseline_Data_2012!F208/Baseline_Data_2012!F$269","v":0},{"$f":"Baseline_Data_2012!G208/Baseline_Data_2012!G$269","v":0},{"$f":"Baseline_Data_2012!H208/Baseline_Data_2012!H$269","v":0},{"$f":"Baseline_Data_2012!I208/Baseline_Data_2012!I$269","v":0},{"$f":"Baseline_Data_2012!J208/Baseline_Data_2012!J$269","v":0},{"$f":"Baseline_Data_2012!K208/Baseline_Data_2012!K$269","v":0},{"$f":"Baseline_Data_2012!L208/Baseline_Data_2012!L$269","v":0},{"$f":"Baseline_Data_2012!M208/Baseline_Data_2012!M$269","v":0},{"$f":"Baseline_Data_2012!N208/Baseline_Data_2012!N$269","v":0},{"$f":"Baseline_Data_2012!O208/Baseline_Data_2012!O$269","v":0},{"$f":"Baseline_Data_2012!P208/Baseline_Data_2012!P$269","v":0},{"$f":"Baseline_Data_2012!Q208/Baseline_Data_2012!Q$269","v":0},{"$f":"Baseline_Data_2012!R208/Baseline_Data_2012!R$269","v":0},{"$f":"Baseline_Data_2012!S208/Baseline_Data_2012!S$269","v":0},{"$f":"Baseline_Data_2012!T208/Baseline_Data_2012!T$269","v":0},{"$f":"Baseline_Data_2012!U208/Baseline_Data_2012!U$269","v":0},{"$f":"Baseline_Data_2012!V208/Baseline_Data_2012!V$269","v":0},{"$f":"Baseline_Data_2012!W208/Baseline_Data_2012!W$269","v":0},{"$f":"Baseline_Data_2012!X208/Baseline_Data_2012!X$269","v":0},{"$f":"Baseline_Data_2012!Y208/Baseline_Data_2012!Y$269","v":0},{"$f":"Baseline_Data_2012!Z208/Baseline_Data_2012!Z$269","v":0},{"$f":"Baseline_Data_2012!AA208/Baseline_Data_2012!AA$269","v":0},{"$f":"Baseline_Data_2012!AB208/Baseline_Data_2012!AB$269","v":0},{"$f":"Baseline_Data_2012!AC208/Baseline_Data_2012!AC$269","v":0},{"$f":"Baseline_Data_2012!AD208/Baseline_Data_2012!AD$269","v":0},{"$f":"Baseline_Data_2012!AE208/Baseline_Data_2012!AE$269","v":0},{"$f":"Baseline_Data_2012!AF208/Baseline_Data_2012!AF$269","v":0},{"$f":"Baseline_Data_2012!AG208/Baseline_Data_2012!AG$269","v":0},{"$f":"Baseline_Data_2012!AH208/Baseline_Data_2012!AH$269","v":0},{"$f":"Baseline_Data_2012!AI208/Baseline_Data_2012!AI$269","v":0},{"$f":"Baseline_Data_2012!AJ208/Baseline_Data_2012!AJ$269","v":0},{"$f":"Baseline_Data_2012!AK208/Baseline_Data_2012!AK$269","v":0},{"$f":"Baseline_Data_2012!AL208/Baseline_Data_2012!AL$269","v":0},{"$f":"Baseline_Data_2012!AM208/Baseline_Data_2012!AM$269","v":0},{"$f":"Baseline_Data_2012!AN208/Baseline_Data_2012!AN$269","v":0},{"$f":"Baseline_Data_2012!AO208/Baseline_Data_2012!AO$269","v":0},{"$f":"Baseline_Data_2012!AP208/Baseline_Data_2012!AP$269","v":0},{"$f":"Baseline_Data_2012!AQ208/Baseline_Data_2012!AQ$269","v":0},{"$f":"Baseline_Data_2012!AR208/Baseline_Data_2012!AR$269","v":0},{"$f":"Baseline_Data_2012!AS208/Baseline_Data_2012!AS$269","v":0},{"$f":"Baseline_Data_2012!AT208/Baseline_Data_2012!AT$269","v":0},{"$f":"Baseline_Data_2012!AU208/Baseline_Data_2012!AU$269","v":0},{"$f":"Baseline_Data_2012!AV208/Baseline_Data_2012!AV$269","v":0},208]
[4,"Female 5-9",null,null,null,null,{"$f":"HLOOKUP('III Tool Overview'!$H$6,Targeting!$I$1:$BC$269,Targeting!BD209,FALSE)","v":0},null,{"$f":"Baseline_Data_2012!B209/Baseline_Data_2012!B$269","v":0},{"$f":"Baseline_Data_2012!C209/Baseline_Data_2012!C$269","v":0},{"$f":"Baseline_Data_2012!D209/Baseline_Data_2012!D$269","v":0},{"$f":"Baseline_Data_2012!E209/Baseline_Data_2012!E$269","v":0},{"$f":"Baseline_Data_2012!F209/Baseline_Data_2012!F$269","v":0},{"$f":"Baseline_Data_2012!G209/Baseline_Data_2012!G$269","v":0},{"$f":"Baseline_Data_2012!H209/Baseline_Data_2012!H$269","v":0},{"$f":"Baseline_Data_2012!I209/Baseline_Data_2012!I$269","v":0},{"$f":"Baseline_Data_2012!J209/Baseline_Data_2012!J$269","v":0},{"$f":"Baseline_Data_2012!K209/Baseline_Data_2012!K$269","v":0},{"$f":"Baseline_Data_2012!L209/Baseline_Data_2012!L$269","v":0},{"$f":"Baseline_Data_2012!M209/Baseline_Data_2012!M$269","v":0},{"$f":"Baseline_Data_2012!N209/Baseline_Data_2012!N$269","v":0},{"$f":"Baseline_Data_2012!O209/Baseline_Data_2012!O$269","v":0},{"$f":"Baseline_Data_2012!P209/Baseline_Data_2012!P$269","v":0},{"$f":"Baseline_Data_2012!Q209/Baseline_Data_2012!Q$269","v":0},{"$f":"Baseline_Data_2012!R209/Baseline_Data_2012!R$269","v":0},{"$f":"Baseline_Data_2012!S209/Baseline_Data_2012!S$269","v":0},{"$f":"Baseline_Data_2012!T209/Baseline_Data_2012!T$269","v":0},{"$f":"Baseline_Data_2012!U209/Baseline_Data_2012!U$269","v":0},{"$f":"Baseline_Data_2012!V209/Baseline_Data_2012!V$269","v":0},{"$f":"Baseline_Data_2012!W209/Baseline_Data_2012!W$269","v":0},{"$f":"Baseline_Data_2012!X209/Baseline_Data_2012!X$269","v":0},{"$f":"Baseline_Data_2012!Y209/Baseline_Data_2012!Y$269","v":0},{"$f":"Baseline_Data_2012!Z209/Baseline_Data_2012!Z$269","v":0},{"$f":"Baseline_Data_2012!AA209/Baseline_Data_2012!AA$269","v":0},{"$f":"Baseline_Data_2012!AB209/Baseline_Data_2012!AB$269","v":0},{"$f":"Baseline_Data_2012!AC209/Baseline_Data_2012!AC$269","v":0},{"$f":"Baseline_Data_2012!AD209/Baseline_Data_2012!AD$269","v":0},{"$f":"Baseline_Data_2012!AE209/Baseline_Data_2012!AE$269","v":0},{"$f":"Baseline_Data_2012!AF209/Baseline_Data_2012!AF$269","v":0},{"$f":"Baseline_Data_2012!AG209/Baseline_Data_2012!AG$269","v":0},{"$f":"Baseline_Data_2012!AH209/Baseline_Data_2012!AH$269","v":0},{"$f":"Baseline_Data_2012!AI209/Baseline_Data_2012!AI$269","v":0},{"$f":"Baseline_Data_2012!AJ209/Baseline_Data_2012!AJ$269","v":0},{"$f":"Baseline_Data_2012!AK209/Baseline_Data_2012!AK$269","v":0},{"$f":"Baseline_Data_2012!AL209/Baseline_Data_2012!AL$269","v":0},{"$f":"Baseline_Data_2012!AM209/Baseline_Data_2012!AM$269","v":0},{"$f":"Baseline_Data_2012!AN209/Baseline_Data_2012!AN$269","v":0},{"$f":"Baseline_Data_2012!AO209/Baseline_Data_2012!AO$269","v":0},{"$f":"Baseline_Data_2012!AP209/Baseline_Data_2012!AP$269","v":0},{"$f":"Baseline_Data_2012!AQ209/Baseline_Data_2012!AQ$269","v":0},{"$f":"Baseline_Data_2012!AR209/Baseline_Data_2012!AR$269","v":0},{"$f":"Baseline_Data_2012!AS209/Baseline_Data_2012!AS$269","v":0},{"$f":"Baseline_Data_2012!AT209/Baseline_Data_2012!AT$269","v":0},{"$f":"Baseline_Data_2012!AU209/Baseline_Data_2012!AU$269","v":0},{"$f":"Baseline_Data_2012!AV209/Baseline_Data_2012!AV$269","v":0},209]
[4,"Female 10-14",null,null,null,null,{"$f":"HLOOKUP('III Tool Overview'!$H$6,Targeting!$I$1:$BC$269,Targeting!BD210,FALSE)","v":0},null,{"$f":"Baseline_Data_2012!B210/Baseline_Data_2012!B$269","v":0},{"$f":"Baseline_Data_2012!C210/Baseline_Data_2012!C$269","v":0},{"$f":"Baseline_Data_2012!D210/Baseline_Data_2012!D$269","v":0},{"$f":"Baseline_Data_2012!E210/Baseline_Data_2012!E$269","v":0},{"$f":"Baseline_Data_2012!F210/Baseline_Data_2012!F$269","v":0},{"$f":"Baseline_Data_2012!G210/Baseline_Data_2012!G$269","v":0},{"$f":"Baseline_Data_2012!H210/Baseline_Data_2012!H$269","v":0},{"$f":"Baseline_Data_2012!I210/Baseline_Data_2012!I$269","v":0},{"$f":"Baseline_Data_2012!J210/Baseline_Data_2012!J$269","v":0},{"$f":"Baseline_Data_2012!K210/Baseline_Data_2012!K$269","v":0},{"$f":"Baseline_Data_2012!L210/Baseline_Data_2012!L$269","v":0},{"$f":"Baseline_Data_2012!M210/Baseline_Data_2012!M$269","v":0},{"$f":"Baseline_Data_2012!N210/Baseline_Data_2012!N$269","v":0},{"$f":"Baseline_Data_2012!O210/Baseline_Data_2012!O$269","v":0},{"$f":"Baseline_Data_2012!P210/Baseline_Data_2012!P$269","v":0},{"$f":"Baseline_Data_2012!Q210/Baseline_Data_2012!Q$269","v":0},{"$f":"Baseline_Data_2012!R210/Baseline_Data_2012!R$269","v":0},{"$f":"Baseline_Data_2012!S210/Baseline_Data_2012!S$269","v":0},{"$f":"Baseline_Data_2012!T210/Baseline_Data_2012!T$269","v":0},{"$f":"Baseline_Data_2012!U210/Baseline_Data_2012!U$269","v":0},{"$f":"Baseline_Data_2012!V210/Baseline_Data_2012!V$269","v":0},{"$f":"Baseline_Data_2012!W210/Baseline_Data_2012!W$269","v":0},{"$f":"Baseline_Data_2012!X210/Baseline_Data_2012!X$269","v":0},{"$f":"Baseline_Data_2012!Y210/Baseline_Data_2012!Y$269","v":0},{"$f":"Baseline_Data_2012!Z210/Baseline_Data_2012!Z$269","v":0},{"$f":"Baseline_Data_2012!AA210/Baseline_Data_2012!AA$269","v":0},{"$f":"Baseline_Data_2012!AB210/Baseline_Data_2012!AB$269","v":0},{"$f":"Baseline_Data_2012!AC210/Baseline_Data_2012!AC$269","v":0},{"$f":"Baseline_Data_2012!AD210/Baseline_Data_2012!AD$269","v":0},{"$f":"Baseline_Data_2012!AE210/Baseline_Data_2012!AE$269","v":0},{"$f":"Baseline_Data_2012!AF210/Baseline_Data_2012!AF$269","v":0},{"$f":"Baseline_Data_2012!AG210/Baseline_Data_2012!AG$269","v":0},{"$f":"Baseline_Data_2012!AH210/Baseline_Data_2012!AH$269","v":0},{"$f":"Baseline_Data_2012!AI210/Baseline_Data_2012!AI$269","v":0},{"$f":"Baseline_Data_2012!AJ210/Baseline_Data_2012!AJ$269","v":0},{"$f":"Baseline_Data_2012!AK210/Baseline_Data_2012!AK$269","v":0},{"$f":"Baseline_Data_2012!AL210/Baseline_Data_2012!AL$269","v":0},{"$f":"Baseline_Data_2012!AM210/Baseline_Data_2012!AM$269","v":0},{"$f":"Baseline_Data_2012!AN210/Baseline_Data_2012!AN$269","v":0},{"$f":"Baseline_Data_2012!AO210/Baseline_Data_2012!AO$269","v":0},{"$f":"Baseline_Data_2012!AP210/Baseline_Data_2012!AP$269","v":0},{"$f":"Baseline_Data_2012!AQ210/Baseline_Data_2012!AQ$269","v":0},{"$f":"Baseline_Data_2012!AR210/Baseline_Data_2012!AR$269","v":0},{"$f":"Baseline_Data_2012!AS210/Baseline_Data_2012!AS$269","v":0},{"$f":"Baseline_Data_2012!AT210/Baseline_Data_2012!AT$269","v":0},{"$f":"Baseline_Data_2012!AU210/Baseline_Data_2012!AU$269","v":0},{"$f":"Baseline_Data_2012!AV210/Baseline_Data_2012!AV$269","v":0},210]
[4,"Female 15-19",{"$f":"'III Tool Overview'!$H$8/110","v":1.3090909090909091},0,0,{"$f":"G211*'III Tool Overview'!$H$8","v":0.86800803031398399},{"$f":"HLOOKUP('III Tool Overview'!$H$6,Targeting!$I$1:$BC$269,Targeting!BD211,FALSE)","v":6.0278335438471112E-3},{"$f":"Baseline_Data_2012!B211","v":1971.8400000000001},{"$f":"Baseline_Data_2012!B211/Baseline_Data_2012!B$269","v":1.8201118202400321E-3},{"$f":"Baseline_Data_2012!C211/Baseline_Data_2012!C$269","v":1.1641633673038377E-3},{"$f":"Baseline_Data_2012!D211/Baseline_Data_2012!D$269","v":3.8698171453691098E-3},{"$f":"Baseline_Data_2012!E211/Baseline_Data_2012!E$269","v":2.0817338324492815E-3},{"$f":"Baseline_Data_2012!F211/Baseline_Data_2012!F$269","v":1.6299124407851196E-3},{"$f":"Baseline_Data_2012!G211/Baseline_Data_2012!G$269","v":1.8987400749293807E-3},{"$f":"Baseline_Data_2012!H211/Baseline_Data_2012!H$269","v":3.1010142675112506E-3},{"$f":"Baseline_Data_2012!I211/Baseline_Data_2012!I$269","v":1.2254244057573424E-3},{"$f":"Baseline_Data_2012!J211/Baseline_Data_2012!J$269","v":2.8536695384201562E-3},{"$f":"Baseline_Data_2012!K211/Baseline_Data_2012!K$269","v":1.1232204845789816E-3},{"$f":"Baseline_Data_2012!L211/Baseline_Data_2012!L$269","v":1.7440807624465294E-3},{"$f":"Baseline_Data_2012!M211/Baseline_Data_2012!M$269","v":6.0278335438471112E-3},{"$f":"Baseline_Data_2012!N211/Baseline_Data_2012!N$269","v":5.3856939801567201E-3},{"$f":"Baseline_Data_2012!O211/Baseline_Data_2012!O$269","v":2.6682400701154916E-3},{"$f":"Baseline_Data_2012!P211/Baseline_Data_2012!P$269","v":2.7894322643946259E-4},{"$f":"Baseline_Data_2012!Q211/Baseline_Data_2012!Q$269","v":1.7368448959911153E-3},{"$f":"Baseline_Data_2012!R211/Baseline_Data_2012!R$269","v":4.2110323133201129E-3},{"$f":"Baseline_Data_2012!S211/Baseline_Data_2012!S$269","v":3.2806844191942603E-3},{"$f":"Baseline_Data_2012!T211/Baseline_Data_2012!T$269","v":2.2356057463128096E-3},{"$f":"Baseline_Data_2012!U211/Baseline_Data_2012!U$269","v":1.1972153176663799E-3},{"$f":"Baseline_Data_2012!V211/Baseline_Data_2012!V$269","v":2.0673838809874136E-3},{"$f":"Baseline_Data_2012!W211/Baseline_Data_2012!W$269","v":1.0841489444471425E-3},{"$f":"Baseline_Data_2012!X211/Baseline_Data_2012!X$269","v":1.0337731214464273E-3},{"$f":"Baseline_Data_2012!Y211/Baseline_Data_2012!Y$269","v":2.0276271582208441E-3},{"$f":"Baseline_Data_2012!Z211/Baseline_Data_2012!Z$269","v":3.5842213769526616E-3},{"$f":"Baseline_Data_2012!AA211/Baseline_Data_2012!AA$269","v":2.0816360995231475E-3},{"$f":"Baseline_Data_2012!AB211/Baseline_Data_2012!AB$269","v":1.3595458271216539E-3},{"$f":"Baseline_Data_2012!AC211/Baseline_Data_2012!AC$269","v":2.7894322643946259E-4},{"$f":"Baseline_Data_2012!AD211/Baseline_Data_2012!AD$269","v":1.6797771164442786E-3},{"$f":"Baseline_Data_2012!AE211/Baseline_Data_2012!AE$269","v":1.6325716700929867E-3},{"$f":"Baseline_Data_2012!AF211/Baseline_Data_2012!AF$269","v":1.0688723513329688E-3},{"$f":"Baseline_Data_2012!AG211/Baseline_Data_2012!AG$269","v":3.1195613187116381E-3},{"$f":"Baseline_Data_2012!AH211/Baseline_Data_2012!AH$269","v":1.3471329595145028E-3},{"$f":"Baseline_Data_2012!AI211/Baseline_Data_2012!AI$269","v":1.8810428020269072E-3},{"$f":"Baseline_Data_2012!AJ211/Baseline_Data_2012!AJ$269","v":3.5281469852017871E-3},{"$f":"Baseline_Data_2012!AK211/Baseline_Data_2012!AK$269","v":1.4243326609309573E-3},{"$f":"Baseline_Data_2012!AL211/Baseline_Data_2012!AL$269","v":9.407900467655767E-4},{"$f":"Baseline_Data_2012!AM211/Baseline_Data_2012!AM$269","v":6.0278335438471112E-3},{"$f":"Baseline_Data_2012!AN211/Baseline_Data_2012!AN$269","v":4.1955798532254214E-3},{"$f":"Baseline_Data_2012!AO211/Baseline_Data_2012!AO$269","v":1.0947275544391402E-3},{"$f":"Baseline_Data_2012!AP211/Baseline_Data_2012!AP$269","v":3.8567523535301441E-3},{"$f":"Baseline_Data_2012!AQ211/Baseline_Data_2012!AQ$269","v":5.3856939801567201E-3},{"$f":"Baseline_Data_2012!AR211/Baseline_Data_2012!AR$269","v":9.7065172957792271E-4},{"$f":"Baseline_Data_2012!AS211/Baseline_Data_2012!AS$269","v":1.4828728377398962E-3},{"$f":"Baseline_Data_2012!AT211/Baseline_Data_2012!AT$269","v":2.7813604200228269E-3},{"$f":"Baseline_Data_2012!AU211/Baseline_Data_2012!AU$269","v":6.4936511001856712E-4},{"$f":"Baseline_Data_2012!AV211/Baseline_Data_2012!AV$269","v":1.5577978033009085E-3},211]
[4,"Female 20-24",{"$f":"'III Tool Overview'!$H$8/110","v":1.3090909090909091},0,0,{"$f":"G212*'III Tool Overview'!$H$8","v":0.84524060656804345},{"$f":"HLOOKUP('III Tool Overview'!$H$6,Targeting!$I$1:$BC$269,Targeting!BD212,FALSE)","v":5.8697264345003016E-3},{"$f":"Baseline_Data_2012!B212","v":2592.88},{"$f":"Baseline_Data_2012!B212/Baseline_Data_2012!B$269","v":2.3933643381126124E-3},{"$f":"Baseline_Data_2012!C212/Baseline_Data_2012!C$269","v":1.3625023113630098E-3},{"$f":"Baseline_Data_2012!D212/Baseline_Data_2012!D$269","v":3.3117410485037353E-3},{"$f":"Baseline_Data_2012!E212/Baseline_Data_2012!E$269","v":2.0352556387753257E-3},{"$f":"Baseline_Data_2012!F212/Baseline_Data_2012!F$269","v":1.9428303431207243E-3},{"$f":"Baseline_Data_2012!G212/Baseline_Data_2012!G$269","v":2.067779046403425E-3},{"$f":"Baseline_Data_2012!H212/Baseline_Data_2012!H$269","v":4.0267282305923224E-3},{"$f":"Baseline_Data_2012!I212/Baseline_Data_2012!I$269","v":2.1646928148358097E-3},{"$f":"Baseline_Data_2012!J212/Baseline_Data_2012!J$269","v":2.7502016634819138E-3},{"$f":"Baseline_Data_2012!K212/Baseline_Data_2012!K$269","v":1.2832358196880717E-3},{"$f":"Baseline_Data_2012!L212/Baseline_Data_2012!L$269","v":3.0013545129353452E-3},{"$f":"Baseline_Data_2012!M212/Baseline_Data_2012!M$269","v":5.8697264345003016E-3},{"$f":"Baseline_Data_2012!N212/Baseline_Data_2012!N$269","v":6.3612159086379365E-3},{"$f":"Baseline_Data_2012!O212/Baseline_Data_2012!O$269","v":3.0717347071552263E-3},{"$f":"Baseline_Data_2012!P212/Baseline_Data_2012!P$269","v":2.3710174247354318E-4},{"$f":"Baseline_Data_2012!Q212/Baseline_Data_2012!Q$269","v":3.9953717933112866E-3},{"$f":"Baseline_Data_2012!R212/Baseline_Data_2012!R$269","v":4.2571751161816487E-3},{"$f":"Baseline_Data_2012!S212/Baseline_Data_2012!S$269","v":3.0926197072659268E-3},{"$f":"Baseline_Data_2012!T212/Baseline_Data_2012!T$269","v":2.1328192752179684E-3},{"$f":"Baseline_Data_2012!U212/Baseline_Data_2012!U$269","v":1.2252203543369384E-3},{"$f":"Baseline_Data_2012!V212/Baseline_Data_2012!V$269","v":2.021226074008846E-3},{"$f":"Baseline_Data_2012!W212/Baseline_Data_2012!W$269","v":2.3168750461632728E-3},{"$f":"Baseline_Data_2012!X212/Baseline_Data_2012!X$269","v":1.438169218541173E-3},{"$f":"Baseline_Data_2012!Y212/Baseline_Data_2012!Y$269","v":2.2104460003555104E-3},{"$f":"Baseline_Data_2012!Z212/Baseline_Data_2012!Z$269","v":3.6316659439159342E-3},{"$f":"Baseline_Data_2012!AA212/Baseline_Data_2012!AA$269","v":2.0402105055027861E-3},{"$f":"Baseline_Data_2012!AB212/Baseline_Data_2012!AB$269","v":3.4229490745029639E-3},{"$f":"Baseline_Data_2012!AC212/Baseline_Data_2012!AC$269","v":2.3710174247354318E-4},{"$f":"Baseline_Data_2012!AD212/Baseline_Data_2012!AD$269","v":1.7730980673578498E-3},{"$f":"Baseline_Data_2012!AE212/Baseline_Data_2012!AE$269","v":1.94600010320069E-3},{"$f":"Baseline_Data_2012!AF212/Baseline_Data_2012!AF$269","v":2.7038470550611012E-3},{"$f":"Baseline_Data_2012!AG212/Baseline_Data_2012!AG$269","v":3.0156974196657478E-3},{"$f":"Baseline_Data_2012!AH212/Baseline_Data_2012!AH$269","v":1.4699597881761193E-3},{"$f":"Baseline_Data_2012!AI212/Baseline_Data_2012!AI$269","v":2.5471477344154877E-3},{"$f":"Baseline_Data_2012!AJ212/Baseline_Data_2012!AJ$269","v":3.469344535448424E-3},{"$f":"Baseline_Data_2012!AK212/Baseline_Data_2012!AK$269","v":1.4834656053378382E-3},{"$f":"Baseline_Data_2012!AL212/Baseline_Data_2012!AL$269","v":1.1998928793174077E-3},{"$f":"Baseline_Data_2012!AM212/Baseline_Data_2012!AM$269","v":5.8697264345003016E-3},{"$f":"Baseline_Data_2012!AN212/Baseline_Data_2012!AN$269","v":4.0247053282940586E-3},{"$f":"Baseline_Data_2012!AO212/Baseline_Data_2012!AO$269","v":1.2199626592862213E-3},{"$f":"Baseline_Data_2012!AP212/Baseline_Data_2012!AP$269","v":3.300560363267732E-3},{"$f":"Baseline_Data_2012!AQ212/Baseline_Data_2012!AQ$269","v":6.3612159086379365E-3},{"$f":"Baseline_Data_2012!AR212/Baseline_Data_2012!AR$269","v":1.1074549934781668E-3},{"$f":"Baseline_Data_2012!AS212/Baseline_Data_2012!AS$269","v":1.612638957192075E-3},{"$f":"Baseline_Data_2012!AT212/Baseline_Data_2012!AT$269","v":3.1887313906322308E-3},{"$f":"Baseline_Data_2012!AU212/Baseline_Data_2012!AU$269","v":8.2680790170968721E-4},{"$f":"Baseline_Data_2012!AV212/Baseline_Data_2012!AV$269","v":1.8095151312733115E-3},212]
[4,"Female 25-29",{"$f":"'III Tool Overview'!$H$8/110","v":1.3090909090909091},0,0,{"$f":"G213*'III Tool Overview'!$H$8","v":2.5549318334897668},{"$f":"HLOOKUP('III Tool Overview'!$H$6,Targeting!$I$1:$BC$269,Targeting!BD213,FALSE)","v":1.7742582177012269E-2},{"$f":"Baseline_Data_2012!B213","v":6540.4499999999989},{"$f":"Baseline_Data_2012!B213/Baseline_Data_2012!B$269","v":6.0371786527755366E-3},{"$f":"Baseline_Data_2012!C213/Baseline_Data_2012!C$269","v":3.4709315210355155E-3},{"$f":"Baseline_Data_2012!D213/Baseline_Data_2012!D$269","v":8.7222337343145044E-3},{"$f":"Baseline_Data_2012!E213/Baseline_Data_2012!E$269","v":5.2847540872827435E-3},{"$f":"Baseline_Data_2012!F213/Baseline_Data_2012!F$269","v":4.5938086495657515E-3},{"$f":"Baseline_Data_2012!G213/Baseline_Data_2012!G$269","v":5.654943266637502E-3},{"$f":"Baseline_Data_2012!H213/Baseline_Data_2012!H$269","v":1.0572393009485826E-2},{"$f":"Baseline_Data_2012!I213/Baseline_Data_2012!I$269","v":4.2619304061935464E-3},{"$f":"Baseline_Data_2012!J213/Baseline_Data_2012!J$269","v":8.5404108438607226E-3},{"$f":"Baseline_Data_2012!K213/Baseline_Data_2012!K$269","v":3.3995475863643231E-3},{"$f":"Baseline_Data_2012!L213/Baseline_Data_2012!L$269","v":8.3768263003703766E-3},{"$f":"Baseline_Data_2012!M213/Baseline_Data_2012!M$269","v":1.7742582177012269E-2},{"$f":"Baseline_Data_2012!N213/Baseline_Data_2012!N$269","v":1.8725448267799611E-2},{"$f":"Baseline_Data_2012!O213/Baseline_Data_2012!O$269","v":7.8167501730794474E-3},{"$f":"Baseline_Data_2012!P213/Baseline_Data_2012!P$269","v":5.8578077552287134E-4},{"$f":"Baseline_Data_2012!Q213/Baseline_Data_2012!Q$269","v":8.5794690580019498E-3},{"$f":"Baseline_Data_2012!R213/Baseline_Data_2012!R$269","v":1.2291539888343972E-2},{"$f":"Baseline_Data_2012!S213/Baseline_Data_2012!S$269","v":8.3741037005866208E-3},{"$f":"Baseline_Data_2012!T213/Baseline_Data_2012!T$269","v":5.3063515702712087E-3},{"$f":"Baseline_Data_2012!U213/Baseline_Data_2012!U$269","v":3.8043092002161931E-3},{"$f":"Baseline_Data_2012!V213/Baseline_Data_2012!V$269","v":5.2483248553327651E-3},{"$f":"Baseline_Data_2012!W213/Baseline_Data_2012!W$269","v":4.0098421077009137E-3},{"$f":"Baseline_Data_2012!X213/Baseline_Data_2012!X$269","v":3.7228647741345505E-3},{"$f":"Baseline_Data_2012!Y213/Baseline_Data_2012!Y$269","v":4.1882134743578079E-3},{"$f":"Baseline_Data_2012!Z213/Baseline_Data_2012!Z$269","v":9.6236990942546626E-3},{"$f":"Baseline_Data_2012!AA213/Baseline_Data_2012!AA$269","v":4.5943572868206778E-3},{"$f":"Baseline_Data_2012!AB213/Baseline_Data_2012!AB$269","v":9.9503419104304981E-3},{"$f":"Baseline_Data_2012!AC213/Baseline_Data_2012!AC$269","v":5.8578077552287134E-4},{"$f":"Baseline_Data_2012!AD213/Baseline_Data_2012!AD$269","v":5.5246616894458487E-3},{"$f":"Baseline_Data_2012!AE213/Baseline_Data_2012!AE$269","v":4.6013035249283648E-3},{"$f":"Baseline_Data_2012!AF213/Baseline_Data_2012!AF$269","v":4.764301286895852E-3},{"$f":"Baseline_Data_2012!AG213/Baseline_Data_2012!AG$269","v":9.9251521950101916E-3},{"$f":"Baseline_Data_2012!AH213/Baseline_Data_2012!AH$269","v":3.2866082056390591E-3},{"$f":"Baseline_Data_2012!AI213/Baseline_Data_2012!AI$269","v":6.1567797447888159E-3},{"$f":"Baseline_Data_2012!AJ213/Baseline_Data_2012!AJ$269","v":1.0856402285714663E-2},{"$f":"Baseline_Data_2012!AK213/Baseline_Data_2012!AK$269","v":3.8333573961156272E-3},{"$f":"Baseline_Data_2012!AL213/Baseline_Data_2012!AL$269","v":3.1659127352426839E-3},{"$f":"Baseline_Data_2012!AM213/Baseline_Data_2012!AM$269","v":1.7742582177012269E-2},{"$f":"Baseline_Data_2012!AN213/Baseline_Data_2012!AN$269","v":1.2278936564989634E-2},{"$f":"Baseline_Data_2012!AO213/Baseline_Data_2012!AO$269","v":3.2080699487336338E-3},{"$f":"Baseline_Data_2012!AP213/Baseline_Data_2012!AP$269","v":8.6927868214943509E-3},{"$f":"Baseline_Data_2012!AQ213/Baseline_Data_2012!AQ$269","v":1.8725448267799611E-2},{"$f":"Baseline_Data_2012!AR213/Baseline_Data_2012!AR$269","v":2.6847640540422902E-3},{"$f":"Baseline_Data_2012!AS213/Baseline_Data_2012!AS$269","v":4.357044922106275E-3},{"$f":"Baseline_Data_2012!AT213/Baseline_Data_2012!AT$269","v":7.1289919856645676E-3},{"$f":"Baseline_Data_2012!AU213/Baseline_Data_2012!AU$269","v":1.9325218935508949E-3},{"$f":"Baseline_Data_2012!AV213/Baseline_Data_2012!AV$269","v":4.8559478399770491E-3},213]
[4,"Female 30-34",{"$f":"'III Tool Overview'!$H$8/110","v":1.3090909090909091},0,0,{"$f":"G214*'III Tool Overview'!$H$8","v":2.7079004617828053},{"$f":"HLOOKUP('III Tool Overview'!$H$6,Targeting!$I$1:$BC$269,Targeting!BD214,FALSE)","v":1.8804864317936147E-2},{"$f":"Baseline_Data_2012!B214","v":7048.1399999999994},{"$f":"Baseline_Data_2012!B214/Baseline_Data_2012!B$269","v":6.5058031710009826E-3},{"$f":"Baseline_Data_2012!C214/Baseline_Data_2012!C$269","v":4.0051052471852186E-3},{"$f":"Baseline_Data_2012!D214/Baseline_Data_2012!D$269","v":9.8140618876391156E-3},{"$f":"Baseline_Data_2012!E214/Baseline_Data_2012!E$269","v":5.4489566530913905E-3},{"$f":"Baseline_Data_2012!F214/Baseline_Data_2012!F$269","v":5.3659625474587018E-3},{"$f":"Baseline_Data_2012!G214/Baseline_Data_2012!G$269","v":6.6052960888200651E-3},{"$f":"Baseline_Data_2012!H214/Baseline_Data_2012!H$269","v":1.1171684418092031E-2},{"$f":"Baseline_Data_2012!I214/Baseline_Data_2012!I$269","v":4.3004345770004896E-3},{"$f":"Baseline_Data_2012!J214/Baseline_Data_2012!J$269","v":9.7058614907345325E-3},{"$f":"Baseline_Data_2012!K214/Baseline_Data_2012!K$269","v":4.0596886721597026E-3},{"$f":"Baseline_Data_2012!L214/Baseline_Data_2012!L$269","v":8.6188301695404833E-3},{"$f":"Baseline_Data_2012!M214/Baseline_Data_2012!M$269","v":1.8804864317936147E-2},{"$f":"Baseline_Data_2012!N214/Baseline_Data_2012!N$269","v":1.9058243509026275E-2},{"$f":"Baseline_Data_2012!O214/Baseline_Data_2012!O$269","v":8.4340921756524152E-3},{"$f":"Baseline_Data_2012!P214/Baseline_Data_2012!P$269","v":4.2190162998968707E-4},{"$f":"Baseline_Data_2012!Q214/Baseline_Data_2012!Q$269","v":6.8101499812052105E-3},{"$f":"Baseline_Data_2012!R214/Baseline_Data_2012!R$269","v":1.5271261538348116E-2},{"$f":"Baseline_Data_2012!S214/Baseline_Data_2012!S$269","v":1.0276517568935734E-2},{"$f":"Baseline_Data_2012!T214/Baseline_Data_2012!T$269","v":5.9123634727678799E-3},{"$f":"Baseline_Data_2012!U214/Baseline_Data_2012!U$269","v":4.8903795285962937E-3},{"$f":"Baseline_Data_2012!V214/Baseline_Data_2012!V$269","v":5.4113955286715192E-3},{"$f":"Baseline_Data_2012!W214/Baseline_Data_2012!W$269","v":3.7730472633034653E-3},{"$f":"Baseline_Data_2012!X214/Baseline_Data_2012!X$269","v":4.4640202971550262E-3},{"$f":"Baseline_Data_2012!Y214/Baseline_Data_2012!Y$269","v":4.9589610929028204E-3},{"$f":"Baseline_Data_2012!Z214/Baseline_Data_2012!Z$269","v":1.2086503433893616E-2},{"$f":"Baseline_Data_2012!AA214/Baseline_Data_2012!AA$269","v":5.3115378832981801E-3},{"$f":"Baseline_Data_2012!AB214/Baseline_Data_2012!AB$269","v":9.2022476411321771E-3},{"$f":"Baseline_Data_2012!AC214/Baseline_Data_2012!AC$269","v":4.2190162998968707E-4},{"$f":"Baseline_Data_2012!AD214/Baseline_Data_2012!AD$269","v":6.8885596661201771E-3},{"$f":"Baseline_Data_2012!AE214/Baseline_Data_2012!AE$269","v":5.3747172047728378E-3},{"$f":"Baseline_Data_2012!AF214/Baseline_Data_2012!AF$269","v":4.1279916874114456E-3},{"$f":"Baseline_Data_2012!AG214/Baseline_Data_2012!AG$269","v":1.1329820320922479E-2},{"$f":"Baseline_Data_2012!AH214/Baseline_Data_2012!AH$269","v":3.6828237819668537E-3},{"$f":"Baseline_Data_2012!AI214/Baseline_Data_2012!AI$269","v":7.0175561891078625E-3},{"$f":"Baseline_Data_2012!AJ214/Baseline_Data_2012!AJ$269","v":1.1171240402102461E-2},{"$f":"Baseline_Data_2012!AK214/Baseline_Data_2012!AK$269","v":4.348199662092927E-3},{"$f":"Baseline_Data_2012!AL214/Baseline_Data_2012!AL$269","v":3.7125220342719189E-3},{"$f":"Baseline_Data_2012!AM214/Baseline_Data_2012!AM$269","v":1.8804864317936147E-2},{"$f":"Baseline_Data_2012!AN214/Baseline_Data_2012!AN$269","v":1.2888821309108494E-2},{"$f":"Baseline_Data_2012!AO214/Baseline_Data_2012!AO$269","v":3.5330334535523533E-3},{"$f":"Baseline_Data_2012!AP214/Baseline_Data_2012!AP$269","v":9.7809288813909614E-3},{"$f":"Baseline_Data_2012!AQ214/Baseline_Data_2012!AQ$269","v":1.9058243509026275E-2},{"$f":"Baseline_Data_2012!AR214/Baseline_Data_2012!AR$269","v":3.0007144492404736E-3},{"$f":"Baseline_Data_2012!AS214/Baseline_Data_2012!AS$269","v":5.7713481626356453E-3},{"$f":"Baseline_Data_2012!AT214/Baseline_Data_2012!AT$269","v":7.1980577536701852E-3},{"$f":"Baseline_Data_2012!AU214/Baseline_Data_2012!AU$269","v":2.0556936186343589E-3},{"$f":"Baseline_Data_2012!AV214/Baseline_Data_2012!AV$269","v":5.9491965651213424E-3},214]
[4,"Female 35-39",{"$f":"'III Tool Overview'!$H$8/110","v":1.3090909090909091},0,0,{"$f":"G215*'III Tool Overview'!$H$8","v":1.8228168636593665},{"$f":"HLOOKUP('III Tool Overview'!$H$6,Targeting!$I$1:$BC$269,Targeting!BD215,FALSE)","v":1.2658450442078934E-2},{"$f":"Baseline_Data_2012!B215","v":4860.38},{"$f":"Baseline_Data_2012!B215/Baseline_Data_2012!B$269","v":4.4863858572999054E-3},{"$f":"Baseline_Data_2012!C215/Baseline_Data_2012!C$269","v":3.0735350135546388E-3},{"$f":"Baseline_Data_2012!D215/Baseline_Data_2012!D$269","v":8.9182028900394381E-3},{"$f":"Baseline_Data_2012!E215/Baseline_Data_2012!E$269","v":4.1353361266222213E-3},{"$f":"Baseline_Data_2012!F215/Baseline_Data_2012!F$269","v":4.0950628178549218E-3},{"$f":"Baseline_Data_2012!G215/Baseline_Data_2012!G$269","v":5.0656000308200505E-3},{"$f":"Baseline_Data_2012!H215/Baseline_Data_2012!H$269","v":7.3651214000231236E-3},{"$f":"Baseline_Data_2012!I215/Baseline_Data_2012!I$269","v":2.73766112928686E-3},{"$f":"Baseline_Data_2012!J215/Baseline_Data_2012!J$269","v":6.7531949114784063E-3},{"$f":"Baseline_Data_2012!K215/Baseline_Data_2012!K$269","v":2.8667338781168386E-3},{"$f":"Baseline_Data_2012!L215/Baseline_Data_2012!L$269","v":5.3242184204860352E-3},{"$f":"Baseline_Data_2012!M215/Baseline_Data_2012!M$269","v":1.2658450442078934E-2},{"$f":"Baseline_Data_2012!N215/Baseline_Data_2012!N$269","v":1.3835136516949764E-2},{"$f":"Baseline_Data_2012!O215/Baseline_Data_2012!O$269","v":6.1302911452859972E-3},{"$f":"Baseline_Data_2012!P215/Baseline_Data_2012!P$269","v":4.3933558164215361E-4},{"$f":"Baseline_Data_2012!Q215/Baseline_Data_2012!Q$269","v":3.2924629120024583E-3},{"$f":"Baseline_Data_2012!R215/Baseline_Data_2012!R$269","v":1.0950389292129353E-2},{"$f":"Baseline_Data_2012!S215/Baseline_Data_2012!S$269","v":7.8072975549137299E-3},{"$f":"Baseline_Data_2012!T215/Baseline_Data_2012!T$269","v":4.5643617320553212E-3},{"$f":"Baseline_Data_2012!U215/Baseline_Data_2012!U$269","v":3.4551213992301665E-3},{"$f":"Baseline_Data_2012!V215/Baseline_Data_2012!V$269","v":4.1068301419614839E-3},{"$f":"Baseline_Data_2012!W215/Baseline_Data_2012!W$269","v":2.120706768206563E-3},{"$f":"Baseline_Data_2012!X215/Baseline_Data_2012!X$269","v":3.2045542834919899E-3},{"$f":"Baseline_Data_2012!Y215/Baseline_Data_2012!Y$269","v":3.7228564216513853E-3},{"$f":"Baseline_Data_2012!Z215/Baseline_Data_2012!Z$269","v":9.6387950928338885E-3},{"$f":"Baseline_Data_2012!AA215/Baseline_Data_2012!AA$269","v":4.4493677077494147E-3},{"$f":"Baseline_Data_2012!AB215/Baseline_Data_2012!AB$269","v":4.6001407794763411E-3},{"$f":"Baseline_Data_2012!AC215/Baseline_Data_2012!AC$269","v":4.3933558164215361E-4},{"$f":"Baseline_Data_2012!AD215/Baseline_Data_2012!AD$269","v":5.2173779004179395E-3},{"$f":"Baseline_Data_2012!AE215/Baseline_Data_2012!AE$269","v":4.10174398108204E-3},{"$f":"Baseline_Data_2012!AF215/Baseline_Data_2012!AF$269","v":2.08149557295052E-3},{"$f":"Baseline_Data_2012!AG215/Baseline_Data_2012!AG$269","v":7.6913950503982621E-3},{"$f":"Baseline_Data_2012!AH215/Baseline_Data_2012!AH$269","v":3.0161910747953397E-3},{"$f":"Baseline_Data_2012!AI215/Baseline_Data_2012!AI$269","v":5.1634859459628877E-3},{"$f":"Baseline_Data_2012!AJ215/Baseline_Data_2012!AJ$269","v":8.0093836768226692E-3},{"$f":"Baseline_Data_2012!AK215/Baseline_Data_2012!AK$269","v":3.4194267852674614E-3},{"$f":"Baseline_Data_2012!AL215/Baseline_Data_2012!AL$269","v":2.5658377723535488E-3},{"$f":"Baseline_Data_2012!AM215/Baseline_Data_2012!AM$269","v":1.2658450442078934E-2},{"$f":"Baseline_Data_2012!AN215/Baseline_Data_2012!AN$269","v":9.8893631304026106E-3},{"$f":"Baseline_Data_2012!AO215/Baseline_Data_2012!AO$269","v":2.8982210255343909E-3},{"$f":"Baseline_Data_2012!AP215/Baseline_Data_2012!AP$269","v":8.8880943707065653E-3},{"$f":"Baseline_Data_2012!AQ215/Baseline_Data_2012!AQ$269","v":1.3835136516949764E-2},{"$f":"Baseline_Data_2012!AR215/Baseline_Data_2012!AR$269","v":2.4510584782127076E-3},{"$f":"Baseline_Data_2012!AS215/Baseline_Data_2012!AS$269","v":4.1598888974385918E-3},{"$f":"Baseline_Data_2012!AT215/Baseline_Data_2012!AT$269","v":5.8424957307802736E-3},{"$f":"Baseline_Data_2012!AU215/Baseline_Data_2012!AU$269","v":1.3676308785129415E-3},{"$f":"Baseline_Data_2012!AV215/Baseline_Data_2012!AV$269","v":4.6793301393360373E-3},215]
[4,"Female 40-44",{"$f":"'III Tool Overview'!$H$8/110","v":1.3090909090909091},0,0,{"$f":"G216*'III Tool Overview'!$H$8","v":2.2845686765067237},{"$f":"HLOOKUP('III Tool Overview'!$H$6,Targeting!$I$1:$BC$269,Targeting!BD216,FALSE)","v":1.5865060253518914E-2},{"$f":"Baseline_Data_2012!B216","v":5617.95},{"$f":"Baseline_Data_2012!B216/Baseline_Data_2012!B$269","v":5.1856627315185243E-3},{"$f":"Baseline_Data_2012!C216/Baseline_Data_2012!C$269","v":3.7134655558904829E-3},{"$f":"Baseline_Data_2012!D216/Baseline_Data_2012!D$269","v":1.1747593627847852E-2},{"$f":"Baseline_Data_2012!E216/Baseline_Data_2012!E$269","v":5.4061477904969587E-3},{"$f":"Baseline_Data_2012!F216/Baseline_Data_2012!F$269","v":5.0883400987535455E-3},{"$f":"Baseline_Data_2012!G216/Baseline_Data_2012!G$269","v":5.8280771744360161E-3},{"$f":"Baseline_Data_2012!H216/Baseline_Data_2012!H$269","v":8.1748023456932068E-3},{"$f":"Baseline_Data_2012!I216/Baseline_Data_2012!I$269","v":3.0037993326200796E-3},{"$f":"Baseline_Data_2012!J216/Baseline_Data_2012!J$269","v":8.4503554712292931E-3},{"$f":"Baseline_Data_2012!K216/Baseline_Data_2012!K$269","v":3.4066299771692492E-3},{"$f":"Baseline_Data_2012!L216/Baseline_Data_2012!L$269","v":5.4247923226005187E-3},{"$f":"Baseline_Data_2012!M216/Baseline_Data_2012!M$269","v":1.5865060253518914E-2},{"$f":"Baseline_Data_2012!N216/Baseline_Data_2012!N$269","v":1.3738600492777144E-2},{"$f":"Baseline_Data_2012!O216/Baseline_Data_2012!O$269","v":7.6392029485863114E-3},{"$f":"Baseline_Data_2012!P216/Baseline_Data_2012!P$269","v":5.2127515440874574E-4},{"$f":"Baseline_Data_2012!Q216/Baseline_Data_2012!Q$269","v":3.0675006433570464E-3},{"$f":"Baseline_Data_2012!R216/Baseline_Data_2012!R$269","v":1.2476361875892624E-2},{"$f":"Baseline_Data_2012!S216/Baseline_Data_2012!S$269","v":9.6605185703741801E-3},{"$f":"Baseline_Data_2012!T216/Baseline_Data_2012!T$269","v":6.500173604341508E-3},{"$f":"Baseline_Data_2012!U216/Baseline_Data_2012!U$269","v":4.596326643555429E-3},{"$f":"Baseline_Data_2012!V216/Baseline_Data_2012!V$269","v":5.3688817590859979E-3},{"$f":"Baseline_Data_2012!W216/Baseline_Data_2012!W$269","v":2.4860556764129205E-3},{"$f":"Baseline_Data_2012!X216/Baseline_Data_2012!X$269","v":3.6374289789736897E-3},{"$f":"Baseline_Data_2012!Y216/Baseline_Data_2012!Y$269","v":4.8815747080219549E-3},{"$f":"Baseline_Data_2012!Z216/Baseline_Data_2012!Z$269","v":1.1767870035310731E-2},{"$f":"Baseline_Data_2012!AA216/Baseline_Data_2012!AA$269","v":4.7374050411722384E-3},{"$f":"Baseline_Data_2012!AB216/Baseline_Data_2012!AB$269","v":3.845042342413564E-3},{"$f":"Baseline_Data_2012!AC216/Baseline_Data_2012!AC$269","v":5.2127515440874574E-4},{"$f":"Baseline_Data_2012!AD216/Baseline_Data_2012!AD$269","v":5.5071640111495545E-3},{"$f":"Baseline_Data_2012!AE216/Baseline_Data_2012!AE$269","v":5.0966418104163407E-3},{"$f":"Baseline_Data_2012!AF216/Baseline_Data_2012!AF$269","v":2.1621193255426181E-3},{"$f":"Baseline_Data_2012!AG216/Baseline_Data_2012!AG$269","v":9.2887580416456846E-3},{"$f":"Baseline_Data_2012!AH216/Baseline_Data_2012!AH$269","v":3.3415831168545408E-3},{"$f":"Baseline_Data_2012!AI216/Baseline_Data_2012!AI$269","v":6.3115787783720786E-3},{"$f":"Baseline_Data_2012!AJ216/Baseline_Data_2012!AJ$269","v":9.4757697675471597E-3},{"$f":"Baseline_Data_2012!AK216/Baseline_Data_2012!AK$269","v":4.1945825565141816E-3},{"$f":"Baseline_Data_2012!AL216/Baseline_Data_2012!AL$269","v":3.0709340679531002E-3},{"$f":"Baseline_Data_2012!AM216/Baseline_Data_2012!AM$269","v":1.5865060253518914E-2},{"$f":"Baseline_Data_2012!AN216/Baseline_Data_2012!AN$269","v":1.2589409474128316E-2},{"$f":"Baseline_Data_2012!AO216/Baseline_Data_2012!AO$269","v":3.3894449281673387E-3},{"$f":"Baseline_Data_2012!AP216/Baseline_Data_2012!AP$269","v":1.1707932873969531E-2},{"$f":"Baseline_Data_2012!AQ216/Baseline_Data_2012!AQ$269","v":1.3738600492777144E-2},{"$f":"Baseline_Data_2012!AR216/Baseline_Data_2012!AR$269","v":3.1493251377035366E-3},{"$f":"Baseline_Data_2012!AS216/Baseline_Data_2012!AS$269","v":4.5988817810853361E-3},{"$f":"Baseline_Data_2012!AT216/Baseline_Data_2012!AT$269","v":7.2513203374711278E-3},{"$f":"Baseline_Data_2012!AU216/Baseline_Data_2012!AU$269","v":1.8466320316153002E-3},{"$f":"Baseline_Data_2012!AV216/Baseline_Data_2012!AV$269","v":5.1979034553357867E-3},216]
[4,"Female 45-49",{"$f":"'III Tool Overview'!$H$8/110","v":1.3090909090909091},0,0,{"$f":"G217*'III Tool Overview'!$H$8","v":2.3261903730422713},{"$f":"HLOOKUP('III Tool Overview'!$H$6,Targeting!$I$1:$BC$269,Targeting!BD217,FALSE)","v":1.6154099812793549E-2},{"$f":"Baseline_Data_2012!B217","v":6007.04},{"$f":"Baseline_Data_2012!B217/Baseline_Data_2012!B$269","v":5.5448132245287047E-3},{"$f":"Baseline_Data_2012!C217/Baseline_Data_2012!C$269","v":4.0015121503725534E-3},{"$f":"Baseline_Data_2012!D217/Baseline_Data_2012!D$269","v":1.3107904113957203E-2},{"$f":"Baseline_Data_2012!E217/Baseline_Data_2012!E$269","v":6.4158253925456548E-3},{"$f":"Baseline_Data_2012!F217/Baseline_Data_2012!F$269","v":5.4495917006502472E-3},{"$f":"Baseline_Data_2012!G217/Baseline_Data_2012!G$269","v":5.8536295771006962E-3},{"$f":"Baseline_Data_2012!H217/Baseline_Data_2012!H$269","v":8.6817561241435987E-3},{"$f":"Baseline_Data_2012!I217/Baseline_Data_2012!I$269","v":3.3265999236748809E-3},{"$f":"Baseline_Data_2012!J217/Baseline_Data_2012!J$269","v":8.782474575969328E-3},{"$f":"Baseline_Data_2012!K217/Baseline_Data_2012!K$269","v":3.6595725059165945E-3},{"$f":"Baseline_Data_2012!L217/Baseline_Data_2012!L$269","v":5.6240739444178194E-3},{"$f":"Baseline_Data_2012!M217/Baseline_Data_2012!M$269","v":1.6154099812793549E-2},{"$f":"Baseline_Data_2012!N217/Baseline_Data_2012!N$269","v":1.5092645252882583E-2},{"$f":"Baseline_Data_2012!O217/Baseline_Data_2012!O$269","v":8.2045506897355115E-3},{"$f":"Baseline_Data_2012!P217/Baseline_Data_2012!P$269","v":5.6660342870515845E-4},{"$f":"Baseline_Data_2012!Q217/Baseline_Data_2012!Q$269","v":3.1424007700538888E-3},{"$f":"Baseline_Data_2012!R217/Baseline_Data_2012!R$269","v":1.2984935811779544E-2},{"$f":"Baseline_Data_2012!S217/Baseline_Data_2012!S$269","v":1.0390575334040419E-2},{"$f":"Baseline_Data_2012!T217/Baseline_Data_2012!T$269","v":7.015176652222955E-3},{"$f":"Baseline_Data_2012!U217/Baseline_Data_2012!U$269","v":4.516687320523528E-3},{"$f":"Baseline_Data_2012!V217/Baseline_Data_2012!V$269","v":6.3715993817388249E-3},{"$f":"Baseline_Data_2012!W217/Baseline_Data_2012!W$269","v":2.7765356264642027E-3},{"$f":"Baseline_Data_2012!X217/Baseline_Data_2012!X$269","v":4.1788783308056507E-3},{"$f":"Baseline_Data_2012!Y217/Baseline_Data_2012!Y$269","v":5.8808458792353009E-3},{"$f":"Baseline_Data_2012!Z217/Baseline_Data_2012!Z$269","v":1.1312294363902037E-2},{"$f":"Baseline_Data_2012!AA217/Baseline_Data_2012!AA$269","v":5.7219101740623836E-3},{"$f":"Baseline_Data_2012!AB217/Baseline_Data_2012!AB$269","v":4.2539874357487833E-3},{"$f":"Baseline_Data_2012!AC217/Baseline_Data_2012!AC$269","v":5.6660342870515845E-4},{"$f":"Baseline_Data_2012!AD217/Baseline_Data_2012!AD$269","v":5.0482336768870916E-3},{"$f":"Baseline_Data_2012!AE217/Baseline_Data_2012!AE$269","v":5.4584828003214035E-3},{"$f":"Baseline_Data_2012!AF217/Baseline_Data_2012!AF$269","v":2.3878102781044784E-3},{"$f":"Baseline_Data_2012!AG217/Baseline_Data_2012!AG$269","v":9.5434068116748618E-3},{"$f":"Baseline_Data_2012!AH217/Baseline_Data_2012!AH$269","v":3.9468024096952483E-3},{"$f":"Baseline_Data_2012!AI217/Baseline_Data_2012!AI$269","v":6.6012406063650003E-3},{"$f":"Baseline_Data_2012!AJ217/Baseline_Data_2012!AJ$269","v":1.0980744965922298E-2},{"$f":"Baseline_Data_2012!AK217/Baseline_Data_2012!AK$269","v":4.3700531415476439E-3},{"$f":"Baseline_Data_2012!AL217/Baseline_Data_2012!AL$269","v":3.1411077517692208E-3},{"$f":"Baseline_Data_2012!AM217/Baseline_Data_2012!AM$269","v":1.6154099812793549E-2},{"$f":"Baseline_Data_2012!AN217/Baseline_Data_2012!AN$269","v":1.3367880245076777E-2},{"$f":"Baseline_Data_2012!AO217/Baseline_Data_2012!AO$269","v":3.5578645519272066E-3},{"$f":"Baseline_Data_2012!AP217/Baseline_Data_2012!AP$269","v":1.306365085023416E-2},{"$f":"Baseline_Data_2012!AQ217/Baseline_Data_2012!AQ$269","v":1.5092645252882583E-2},{"$f":"Baseline_Data_2012!AR217/Baseline_Data_2012!AR$269","v":3.2869427067460442E-3},{"$f":"Baseline_Data_2012!AS217/Baseline_Data_2012!AS$269","v":4.8998507013147648E-3},{"$f":"Baseline_Data_2012!AT217/Baseline_Data_2012!AT$269","v":8.2709183702320208E-3},{"$f":"Baseline_Data_2012!AU217/Baseline_Data_2012!AU$269","v":2.3067562919845607E-3},{"$f":"Baseline_Data_2012!AV217/Baseline_Data_2012!AV$269","v":5.201762329467439E-3},217]
[4,"Female 50-54",{"$f":"'III Tool Overview'!$H$8/110","v":1.3090909090909091},0,0,{"$f":"G218*'III Tool Overview'!$H$8","v":3.1732096845904652},{"$f":"HLOOKUP('III Tool Overview'!$H$6,Targeting!$I$1:$BC$269,Targeting!BD218,FALSE)","v":2.2036178365211562E-2},{"$f":"Baseline_Data_2012!B218","v":8509.3999999999978},{"$f":"Baseline_Data_2012!B218/Baseline_Data_2012!B$269","v":7.8546228513218727E-3},{"$f":"Baseline_Data_2012!C218/Baseline_Data_2012!C$269","v":5.5453460808814478E-3},{"$f":"Baseline_Data_2012!D218/Baseline_Data_2012!D$269","v":1.82476197461902E-2},{"$f":"Baseline_Data_2012!E218/Baseline_Data_2012!E$269","v":9.3934875635784225E-3},{"$f":"Baseline_Data_2012!F218/Baseline_Data_2012!F$269","v":8.1100523677721109E-3},{"$f":"Baseline_Data_2012!G218/Baseline_Data_2012!G$269","v":8.1178017696256106E-3},{"$f":"Baseline_Data_2012!H218/Baseline_Data_2012!H$269","v":1.2004954493675338E-2},{"$f":"Baseline_Data_2012!I218/Baseline_Data_2012!I$269","v":4.8808411971756078E-3},{"$f":"Baseline_Data_2012!J218/Baseline_Data_2012!J$269","v":1.2911130196768898E-2},{"$f":"Baseline_Data_2012!K218/Baseline_Data_2012!K$269","v":4.9156461894407201E-3},{"$f":"Baseline_Data_2012!L218/Baseline_Data_2012!L$269","v":7.7899785812729407E-3},{"$f":"Baseline_Data_2012!M218/Baseline_Data_2012!M$269","v":2.2036178365211562E-2},{"$f":"Baseline_Data_2012!N218/Baseline_Data_2012!N$269","v":2.2304902427252825E-2},{"$f":"Baseline_Data_2012!O218/Baseline_Data_2012!O$269","v":1.1628025377398059E-2},{"$f":"Baseline_Data_2012!P218/Baseline_Data_2012!P$269","v":9.0656548592825317E-4},{"$f":"Baseline_Data_2012!Q218/Baseline_Data_2012!Q$269","v":4.7820850121830152E-3},{"$f":"Baseline_Data_2012!R218/Baseline_Data_2012!R$269","v":1.7258411374624232E-2},{"$f":"Baseline_Data_2012!S218/Baseline_Data_2012!S$269","v":1.5027763555014041E-2},{"$f":"Baseline_Data_2012!T218/Baseline_Data_2012!T$269","v":1.0878234857537425E-2},{"$f":"Baseline_Data_2012!U218/Baseline_Data_2012!U$269","v":6.7562150967722589E-3},{"$f":"Baseline_Data_2012!V218/Baseline_Data_2012!V$269","v":9.3287357261946733E-3},{"$f":"Baseline_Data_2012!W218/Baseline_Data_2012!W$269","v":4.2541818858659285E-3},{"$f":"Baseline_Data_2012!X218/Baseline_Data_2012!X$269","v":5.3326175479571193E-3},{"$f":"Baseline_Data_2012!Y218/Baseline_Data_2012!Y$269","v":9.1409421067333088E-3},{"$f":"Baseline_Data_2012!Z218/Baseline_Data_2012!Z$269","v":1.512834714760705E-2},{"$f":"Baseline_Data_2012!AA218/Baseline_Data_2012!AA$269","v":8.4793012760426712E-3},{"$f":"Baseline_Data_2012!AB218/Baseline_Data_2012!AB$269","v":6.0948547564383592E-3},{"$f":"Baseline_Data_2012!AC218/Baseline_Data_2012!AC$269","v":9.0656548592825317E-4},{"$f":"Baseline_Data_2012!AD218/Baseline_Data_2012!AD$269","v":6.8701410573872345E-3},{"$f":"Baseline_Data_2012!AE218/Baseline_Data_2012!AE$269","v":8.1232840533553737E-3},{"$f":"Baseline_Data_2012!AF218/Baseline_Data_2012!AF$269","v":3.3541147719193332E-3},{"$f":"Baseline_Data_2012!AG218/Baseline_Data_2012!AG$269","v":1.3789299228592474E-2},{"$f":"Baseline_Data_2012!AH218/Baseline_Data_2012!AH$269","v":6.0918144860398456E-3},{"$f":"Baseline_Data_2012!AI218/Baseline_Data_2012!AI$269","v":8.9361260295791941E-3},{"$f":"Baseline_Data_2012!AJ218/Baseline_Data_2012!AJ$269","v":1.5864410923042752E-2},{"$f":"Baseline_Data_2012!AK218/Baseline_Data_2012!AK$269","v":6.0611268017052907E-3},{"$f":"Baseline_Data_2012!AL218/Baseline_Data_2012!AL$269","v":4.1281661614904807E-3},{"$f":"Baseline_Data_2012!AM218/Baseline_Data_2012!AM$269","v":2.2036178365211562E-2},{"$f":"Baseline_Data_2012!AN218/Baseline_Data_2012!AN$269","v":1.8262214852039375E-2},{"$f":"Baseline_Data_2012!AO218/Baseline_Data_2012!AO$269","v":5.6247835883904531E-3},{"$f":"Baseline_Data_2012!AP218/Baseline_Data_2012!AP$269","v":1.8186014418448585E-2},{"$f":"Baseline_Data_2012!AQ218/Baseline_Data_2012!AQ$269","v":2.2304902427252825E-2},{"$f":"Baseline_Data_2012!AR218/Baseline_Data_2012!AR$269","v":5.0731210363007184E-3},{"$f":"Baseline_Data_2012!AS218/Baseline_Data_2012!AS$269","v":6.6505136219241557E-3},{"$f":"Baseline_Data_2012!AT218/Baseline_Data_2012!AT$269","v":1.1389998689739941E-2},{"$f":"Baseline_Data_2012!AU218/Baseline_Data_2012!AU$269","v":3.6149249583882432E-3},{"$f":"Baseline_Data_2012!AV218/Baseline_Data_2012!AV$269","v":7.118138590540354E-3},218]
[4,"Female 55-59",{"$f":"'III Tool Overview'!$H$8/110","v":1.3090909090909091},0,0,{"$f":"G219*'III Tool Overview'!$H$8","v":5.1440148025984449},{"$f":"HLOOKUP('III Tool Overview'!$H$6,Targeting!$I$1:$BC$269,Targeting!BD219,FALSE)","v":3.5722325018044759E-2},{"$f":"Baseline_Data_2012!B219","v":11514.900000000001},{"$f":"Baseline_Data_2012!B219/Baseline_Data_2012!B$269","v":1.062885710751478E-2},{"$f":"Baseline_Data_2012!C219/Baseline_Data_2012!C$269","v":7.9407439559922282E-3},{"$f":"Baseline_Data_2012!D219/Baseline_Data_2012!D$269","v":2.533371755507292E-2},{"$f":"Baseline_Data_2012!E219/Baseline_Data_2012!E$269","v":1.3952631429885533E-2},{"$f":"Baseline_Data_2012!F219/Baseline_Data_2012!F$269","v":1.0422694777289462E-2},{"$f":"Baseline_Data_2012!G219/Baseline_Data_2012!G$269","v":1.1012102763759687E-2},{"$f":"Baseline_Data_2012!H219/Baseline_Data_2012!H$269","v":1.6671776952183227E-2},{"$f":"Baseline_Data_2012!I219/Baseline_Data_2012!I$269","v":6.2459890712399666E-3},{"$f":"Baseline_Data_2012!J219/Baseline_Data_2012!J$269","v":1.810687811419235E-2},{"$f":"Baseline_Data_2012!K219/Baseline_Data_2012!K$269","v":6.3624774538755379E-3},{"$f":"Baseline_Data_2012!L219/Baseline_Data_2012!L$269","v":9.8954322378644252E-3},{"$f":"Baseline_Data_2012!M219/Baseline_Data_2012!M$269","v":3.5722325018044759E-2},{"$f":"Baseline_Data_2012!N219/Baseline_Data_2012!N$269","v":3.1247186771663989E-2},{"$f":"Baseline_Data_2012!O219/Baseline_Data_2012!O$269","v":1.6633371557778148E-2},{"$f":"Baseline_Data_2012!P219/Baseline_Data_2012!P$269","v":9.9373524419058565E-4},{"$f":"Baseline_Data_2012!Q219/Baseline_Data_2012!Q$269","v":6.2460420339849375E-3},{"$f":"Baseline_Data_2012!R219/Baseline_Data_2012!R$269","v":2.4149738671553532E-2},{"$f":"Baseline_Data_2012!S219/Baseline_Data_2012!S$269","v":2.0856898954829752E-2},{"$f":"Baseline_Data_2012!T219/Baseline_Data_2012!T$269","v":1.5385849892009138E-2},{"$f":"Baseline_Data_2012!U219/Baseline_Data_2012!U$269","v":8.7165676637113634E-3},{"$f":"Baseline_Data_2012!V219/Baseline_Data_2012!V$269","v":1.3856452187052833E-2},{"$f":"Baseline_Data_2012!W219/Baseline_Data_2012!W$269","v":5.7196401753354352E-3},{"$f":"Baseline_Data_2012!X219/Baseline_Data_2012!X$269","v":7.2834015374634653E-3},{"$f":"Baseline_Data_2012!Y219/Baseline_Data_2012!Y$269","v":1.1919580758495996E-2},{"$f":"Baseline_Data_2012!Z219/Baseline_Data_2012!Z$269","v":2.0363423797759031E-2},{"$f":"Baseline_Data_2012!AA219/Baseline_Data_2012!AA$269","v":1.0621781216783225E-2},{"$f":"Baseline_Data_2012!AB219/Baseline_Data_2012!AB$269","v":7.2880208791201457E-3},{"$f":"Baseline_Data_2012!AC219/Baseline_Data_2012!AC$269","v":9.9373524419058565E-4},{"$f":"Baseline_Data_2012!AD219/Baseline_Data_2012!AD$269","v":9.2000950621043565E-3},{"$f":"Baseline_Data_2012!AE219/Baseline_Data_2012!AE$269","v":1.0439699577501533E-2},{"$f":"Baseline_Data_2012!AF219/Baseline_Data_2012!AF$269","v":4.222851330857447E-3},{"$f":"Baseline_Data_2012!AG219/Baseline_Data_2012!AG$269","v":1.928315283601981E-2},{"$f":"Baseline_Data_2012!AH219/Baseline_Data_2012!AH$269","v":7.8153522430657579E-3},{"$f":"Baseline_Data_2012!AI219/Baseline_Data_2012!AI$269","v":1.2841283467702391E-2},{"$f":"Baseline_Data_2012!AJ219/Baseline_Data_2012!AJ$269","v":2.2510312796209318E-2},{"$f":"Baseline_Data_2012!AK219/Baseline_Data_2012!AK$269","v":8.9856365522629905E-3},{"$f":"Baseline_Data_2012!AL219/Baseline_Data_2012!AL$269","v":5.2437478016441989E-3},{"$f":"Baseline_Data_2012!AM219/Baseline_Data_2012!AM$269","v":3.5722325018044759E-2},{"$f":"Baseline_Data_2012!AN219/Baseline_Data_2012!AN$269","v":2.716447246788314E-2},{"$f":"Baseline_Data_2012!AO219/Baseline_Data_2012!AO$269","v":7.5222033881210178E-3},{"$f":"Baseline_Data_2012!AP219/Baseline_Data_2012!AP$269","v":2.5248189031648952E-2},{"$f":"Baseline_Data_2012!AQ219/Baseline_Data_2012!AQ$269","v":3.1247186771663989E-2},{"$f":"Baseline_Data_2012!AR219/Baseline_Data_2012!AR$269","v":7.2798879718344207E-3},{"$f":"Baseline_Data_2012!AS219/Baseline_Data_2012!AS$269","v":8.6751600083768993E-3},{"$f":"Baseline_Data_2012!AT219/Baseline_Data_2012!AT$269","v":1.5978775140282654E-2},{"$f":"Baseline_Data_2012!AU219/Baseline_Data_2012!AU$269","v":4.5304542559434918E-3},{"$f":"Baseline_Data_2012!AV219/Baseline_Data_2012!AV$269","v":8.7537075494176445E-3},219]
[4,"Female 60-64",{"$f":"'III Tool Overview'!$H$8/110","v":1.3090909090909091},0,0,{"$f":"G220*'III Tool Overview'!$H$8","v":10.541317194370482},{"$f":"HLOOKUP('III Tool Overview'!$H$6,Targeting!$I$1:$BC$269,Targeting!BD220,FALSE)","v":7.3203591627572784E-2},{"$f":"Baseline_Data_2012!B220","v":23671.68},{"$f":"Baseline_Data_2012!B220/Baseline_Data_2012!B$269","v":2.1850203146776392E-2},{"$f":"Baseline_Data_2012!C220/Baseline_Data_2012!C$269","v":1.7369509072003266E-2},{"$f":"Baseline_Data_2012!D220/Baseline_Data_2012!D$269","v":5.5895726964989879E-2},{"$f":"Baseline_Data_2012!E220/Baseline_Data_2012!E$269","v":3.1135497320110988E-2},{"$f":"Baseline_Data_2012!F220/Baseline_Data_2012!F$269","v":2.3752259899844693E-2},{"$f":"Baseline_Data_2012!G220/Baseline_Data_2012!G$269","v":2.2077275902284477E-2},{"$f":"Baseline_Data_2012!H220/Baseline_Data_2012!H$269","v":3.3301901026321482E-2},{"$f":"Baseline_Data_2012!I220/Baseline_Data_2012!I$269","v":1.1735604544734443E-2},{"$f":"Baseline_Data_2012!J220/Baseline_Data_2012!J$269","v":3.8903920976778993E-2},{"$f":"Baseline_Data_2012!K220/Baseline_Data_2012!K$269","v":1.1929547940428652E-2},{"$f":"Baseline_Data_2012!L220/Baseline_Data_2012!L$269","v":1.9843384180742905E-2},{"$f":"Baseline_Data_2012!M220/Baseline_Data_2012!M$269","v":7.3203591627572784E-2},{"$f":"Baseline_Data_2012!N220/Baseline_Data_2012!N$269","v":6.0157185589675061E-2},{"$f":"Baseline_Data_2012!O220/Baseline_Data_2012!O$269","v":3.5768218181289564E-2},{"$f":"Baseline_Data_2012!P220/Baseline_Data_2012!P$269","v":2.7894322643946257E-3},{"$f":"Baseline_Data_2012!Q220/Baseline_Data_2012!Q$269","v":1.2537128899409932E-2},{"$f":"Baseline_Data_2012!R220/Baseline_Data_2012!R$269","v":4.7153932106848949E-2},{"$f":"Baseline_Data_2012!S220/Baseline_Data_2012!S$269","v":4.6194265537359516E-2},{"$f":"Baseline_Data_2012!T220/Baseline_Data_2012!T$269","v":3.5050186643341065E-2},{"$f":"Baseline_Data_2012!U220/Baseline_Data_2012!U$269","v":1.7587163029110797E-2},{"$f":"Baseline_Data_2012!V220/Baseline_Data_2012!V$269","v":3.0920871959116098E-2},{"$f":"Baseline_Data_2012!W220/Baseline_Data_2012!W$269","v":1.1663306845615513E-2},{"$f":"Baseline_Data_2012!X220/Baseline_Data_2012!X$269","v":1.6563152821852396E-2},{"$f":"Baseline_Data_2012!Y220/Baseline_Data_2012!Y$269","v":2.2935454740530856E-2},{"$f":"Baseline_Data_2012!Z220/Baseline_Data_2012!Z$269","v":4.2544837138701629E-2},{"$f":"Baseline_Data_2012!AA220/Baseline_Data_2012!AA$269","v":2.0919924980282379E-2},{"$f":"Baseline_Data_2012!AB220/Baseline_Data_2012!AB$269","v":1.5060189494941242E-2},{"$f":"Baseline_Data_2012!AC220/Baseline_Data_2012!AC$269","v":2.7894322643946257E-3},{"$f":"Baseline_Data_2012!AD220/Baseline_Data_2012!AD$269","v":1.9941213721531497E-2},{"$f":"Baseline_Data_2012!AE220/Baseline_Data_2012!AE$269","v":2.3791012107676982E-2},{"$f":"Baseline_Data_2012!AF220/Baseline_Data_2012!AF$269","v":7.2843317415165736E-3},{"$f":"Baseline_Data_2012!AG220/Baseline_Data_2012!AG$269","v":4.0583451921930844E-2},{"$f":"Baseline_Data_2012!AH220/Baseline_Data_2012!AH$269","v":1.5626742330368235E-2},{"$f":"Baseline_Data_2012!AI220/Baseline_Data_2012!AI$269","v":2.2966547527989371E-2},{"$f":"Baseline_Data_2012!AJ220/Baseline_Data_2012!AJ$269","v":4.7473177767548495E-2},{"$f":"Baseline_Data_2012!AK220/Baseline_Data_2012!AK$269","v":1.8778566345559047E-2},{"$f":"Baseline_Data_2012!AL220/Baseline_Data_2012!AL$269","v":9.8788095839602852E-3},{"$f":"Baseline_Data_2012!AM220/Baseline_Data_2012!AM$269","v":7.3203591627572784E-2},{"$f":"Baseline_Data_2012!AN220/Baseline_Data_2012!AN$269","v":5.8072927830244515E-2},{"$f":"Baseline_Data_2012!AO220/Baseline_Data_2012!AO$269","v":1.5028212581649736E-2},{"$f":"Baseline_Data_2012!AP220/Baseline_Data_2012!AP$269","v":5.5707018814177334E-2},{"$f":"Baseline_Data_2012!AQ220/Baseline_Data_2012!AQ$269","v":6.0157185589675061E-2},{"$f":"Baseline_Data_2012!AR220/Baseline_Data_2012!AR$269","v":1.6312160609819586E-2},{"$f":"Baseline_Data_2012!AS220/Baseline_Data_2012!AS$269","v":1.6081561276109997E-2},{"$f":"Baseline_Data_2012!AT220/Baseline_Data_2012!AT$269","v":2.910595348629948E-2},{"$f":"Baseline_Data_2012!AU220/Baseline_Data_2012!AU$269","v":9.7253751360920279E-3},{"$f":"Baseline_Data_2012!AV220/Baseline_Data_2012!AV$269","v":1.6945800494444031E-2},220]
[4,"Female 65-69",{"$f":"'III Tool Overview'!$H$8/110","v":1.3090909090909091},0,0,{"$f":"G221*'III Tool Overview'!$H$8","v":12.537735664092644},{"$f":"HLOOKUP('III Tool Overview'!$H$6,Targeting!$I$1:$BC$269,Targeting!BD221,FALSE)","v":8.7067608778421138E-2},{"$f":"Baseline_Data_2012!B221","v":29439.420000000002},{"$f":"Baseline_Data_2012!B221/Baseline_Data_2012!B$269","v":2.7174129910647316E-2},{"$f":"Baseline_Data_2012!C221/Baseline_Data_2012!C$269","v":2.0934655807835809E-2},{"$f":"Baseline_Data_2012!D221/Baseline_Data_2012!D$269","v":7.3359470088280351E-2},{"$f":"Baseline_Data_2012!E221/Baseline_Data_2012!E$269","v":4.2481374795585509E-2},{"$f":"Baseline_Data_2012!F221/Baseline_Data_2012!F$269","v":3.0428368614152972E-2},{"$f":"Baseline_Data_2012!G221/Baseline_Data_2012!G$269","v":2.8893543110541139E-2},{"$f":"Baseline_Data_2012!H221/Baseline_Data_2012!H$269","v":4.0740339992291104E-2},{"$f":"Baseline_Data_2012!I221/Baseline_Data_2012!I$269","v":1.38178196755122E-2},{"$f":"Baseline_Data_2012!J221/Baseline_Data_2012!J$269","v":4.8643792741220077E-2},{"$f":"Baseline_Data_2012!K221/Baseline_Data_2012!K$269","v":1.3950442002414368E-2},{"$f":"Baseline_Data_2012!L221/Baseline_Data_2012!L$269","v":2.4539832167818521E-2},{"$f":"Baseline_Data_2012!M221/Baseline_Data_2012!M$269","v":8.7067608778421138E-2},{"$f":"Baseline_Data_2012!N221/Baseline_Data_2012!N$269","v":6.3759503544327065E-2},{"$f":"Baseline_Data_2012!O221/Baseline_Data_2012!O$269","v":4.5421899253932634E-2},{"$f":"Baseline_Data_2012!P221/Baseline_Data_2012!P$269","v":3.7238920729668256E-3},{"$f":"Baseline_Data_2012!Q221/Baseline_Data_2012!Q$269","v":1.517356098142781E-2},{"$f":"Baseline_Data_2012!R221/Baseline_Data_2012!R$269","v":5.6846679244898952E-2},{"$f":"Baseline_Data_2012!S221/Baseline_Data_2012!S$269","v":5.9395798845754681E-2},{"$f":"Baseline_Data_2012!T221/Baseline_Data_2012!T$269","v":4.631172938266967E-2},{"$f":"Baseline_Data_2012!U221/Baseline_Data_2012!U$269","v":2.3288813463757337E-2},{"$f":"Baseline_Data_2012!V221/Baseline_Data_2012!V$269","v":4.2188539248193359E-2},{"$f":"Baseline_Data_2012!W221/Baseline_Data_2012!W$269","v":1.3197540108273984E-2},{"$f":"Baseline_Data_2012!X221/Baseline_Data_2012!X$269","v":1.799562632071618E-2},{"$f":"Baseline_Data_2012!Y221/Baseline_Data_2012!Y$269","v":2.7549553017588737E-2},{"$f":"Baseline_Data_2012!Z221/Baseline_Data_2012!Z$269","v":5.0430878967926446E-2},{"$f":"Baseline_Data_2012!AA221/Baseline_Data_2012!AA$269","v":2.3619061340671536E-2},{"$f":"Baseline_Data_2012!AB221/Baseline_Data_2012!AB$269","v":1.7924648350331054E-2},{"$f":"Baseline_Data_2012!AC221/Baseline_Data_2012!AC$269","v":3.7238920729668256E-3},{"$f":"Baseline_Data_2012!AD221/Baseline_Data_2012!AD$269","v":2.4179028614169151E-2},{"$f":"Baseline_Data_2012!AE221/Baseline_Data_2012!AE$269","v":3.0478013004602778E-2},{"$f":"Baseline_Data_2012!AF221/Baseline_Data_2012!AF$269","v":8.2756358485382812E-3},{"$f":"Baseline_Data_2012!AG221/Baseline_Data_2012!AG$269","v":4.9685892706077532E-2},{"$f":"Baseline_Data_2012!AH221/Baseline_Data_2012!AH$269","v":2.1069753810171319E-2},{"$f":"Baseline_Data_2012!AI221/Baseline_Data_2012!AI$269","v":3.2929389875009062E-2},{"$f":"Baseline_Data_2012!AJ221/Baseline_Data_2012!AJ$269","v":6.0511395949320229E-2},{"$f":"Baseline_Data_2012!AK221/Baseline_Data_2012!AK$269","v":2.2155934410466514E-2},{"$f":"Baseline_Data_2012!AL221/Baseline_Data_2012!AL$269","v":1.1358497535929149E-2},{"$f":"Baseline_Data_2012!AM221/Baseline_Data_2012!AM$269","v":8.7067608778421138E-2},{"$f":"Baseline_Data_2012!AN221/Baseline_Data_2012!AN$269","v":7.5224458270230041E-2},{"$f":"Baseline_Data_2012!AO221/Baseline_Data_2012!AO$269","v":1.8496469256832911E-2},{"$f":"Baseline_Data_2012!AP221/Baseline_Data_2012!AP$269","v":7.3111803035777079E-2},{"$f":"Baseline_Data_2012!AQ221/Baseline_Data_2012!AQ$269","v":6.3759503544327065E-2},{"$f":"Baseline_Data_2012!AR221/Baseline_Data_2012!AR$269","v":2.2249259402061728E-2},{"$f":"Baseline_Data_2012!AS221/Baseline_Data_2012!AS$269","v":1.8649308364769981E-2},{"$f":"Baseline_Data_2012!AT221/Baseline_Data_2012!AT$269","v":4.1569398095719953E-2},{"$f":"Baseline_Data_2012!AU221/Baseline_Data_2012!AU$269","v":1.1130287877752838E-2},{"$f":"Baseline_Data_2012!AV221/Baseline_Data_2012!AV$269","v":2.1557451918240315E-2},221]
[4,"Female 70-74",null,null,null,null,{"$f":"HLOOKUP('III Tool Overview'!$H$6,Targeting!$I$1:$BC$269,Targeting!BD222,FALSE)","v":0},null,{"$f":"Baseline_Data_2012!B222/Baseline_Data_2012!B$269","v":0},{"$f":"Baseline_Data_2012!C222/Baseline_Data_2012!C$269","v":0},{"$f":"Baseline_Data_2012!D222/Baseline_Data_2012!D$269","v":0},{"$f":"Baseline_Data_2012!E222/Baseline_Data_2012!E$269","v":0},{"$f":"Baseline_Data_2012!F222/Baseline_Data_2012!F$269","v":0},{"$f":"Baseline_Data_2012!G222/Baseline_Data_2012!G$269","v":0},{"$f":"Baseline_Data_2012!H222/Baseline_Data_2012!H$269","v":0},{"$f":"Baseline_Data_2012!I222/Baseline_Data_2012!I$269","v":0},{"$f":"Baseline_Data_2012!J222/Baseline_Data_2012!J$269","v":0},{"$f":"Baseline_Data_2012!K222/Baseline_Data_2012!K$269","v":0},{"$f":"Baseline_Data_2012!L222/Baseline_Data_2012!L$269","v":0},{"$f":"Baseline_Data_2012!M222/Baseline_Data_2012!M$269","v":0},{"$f":"Baseline_Data_2012!N222/Baseline_Data_2012!N$269","v":0},{"$f":"Baseline_Data_2012!O222/Baseline_Data_2012!O$269","v":0},{"$f":"Baseline_Data_2012!P222/Baseline_Data_2012!P$269","v":0},{"$f":"Baseline_Data_2012!Q222/Baseline_Data_2012!Q$269","v":0},{"$f":"Baseline_Data_2012!R222/Baseline_Data_2012!R$269","v":0},{"$f":"Baseline_Data_2012!S222/Baseline_Data_2012!S$269","v":0},{"$f":"Baseline_Data_2012!T222/Baseline_Data_2012!T$269","v":0},{"$f":"Baseline_Data_2012!U222/Baseline_Data_2012!U$269","v":0},{"$f":"Baseline_Data_2012!V222/Baseline_Data_2012!V$269","v":0},{"$f":"Baseline_Data_2012!W222/Baseline_Data_2012!W$269","v":0},{"$f":"Baseline_Data_2012!X222/Baseline_Data_2012!X$269","v":0},{"$f":"Baseline_Data_2012!Y222/Baseline_Data_2012!Y$269","v":0},{"$f":"Baseline_Data_2012!Z222/Baseline_Data_2012!Z$269","v":0},{"$f":"Baseline_Data_2012!AA222/Baseline_Data_2012!AA$269","v":0},{"$f":"Baseline_Data_2012!AB222/Baseline_Data_2012!AB$269","v":0},{"$f":"Baseline_Data_2012!AC222/Baseline_Data_2012!AC$269","v":0},{"$f":"Baseline_Data_2012!AD222/Baseline_Data_2012!AD$269","v":0},{"$f":"Baseline_Data_2012!AE222/Baseline_Data_2012!AE$269","v":0},{"$f":"Baseline_Data_2012!AF222/Baseline_Data_2012!AF$269","v":0},{"$f":"Baseline_Data_2012!AG222/Baseline_Data_2012!AG$269","v":0},{"$f":"Baseline_Data_2012!AH222/Baseline_Data_2012!AH$269","v":0},{"$f":"Baseline_Data_2012!AI222/Baseline_Data_2012!AI$269","v":0},{"$f":"Baseline_Data_2012!AJ222/Baseline_Data_2012!AJ$269","v":0},{"$f":"Baseline_Data_2012!AK222/Baseline_Data_2012!AK$269","v":0},{"$f":"Baseline_Data_2012!AL222/Baseline_Data_2012!AL$269","v":0},{"$f":"Baseline_Data_2012!AM222/Baseline_Data_2012!AM$269","v":0},{"$f":"Baseline_Data_2012!AN222/Baseline_Data_2012!AN$269","v":0},{"$f":"Baseline_Data_2012!AO222/Baseline_Data_2012!AO$269","v":0},{"$f":"Baseline_Data_2012!AP222/Baseline_Data_2012!AP$269","v":0},{"$f":"Baseline_Data_2012!AQ222/Baseline_Data_2012!AQ$269","v":0},{"$f":"Baseline_Data_2012!AR222/Baseline_Data_2012!AR$269","v":0},{"$f":"Baseline_Data_2012!AS222/Baseline_Data_2012!AS$269","v":0},{"$f":"Baseline_Data_2012!AT222/Baseline_Data_2012!AT$269","v":0},{"$f":"Baseline_Data_2012!AU222/Baseline_Data_2012!AU$269","v":0},{"$f":"Baseline_Data_2012!AV222/Baseline_Data_2012!AV$269","v":0},222]
[4,"Female 75-79",null,null,null,null,{"$f":"HLOOKUP('III Tool Overview'!$H$6,Targeting!$I$1:$BC$269,Targeting!BD223,FALSE)","v":0},null,{"$f":"Baseline_Data_2012!B223/Baseline_Data_2012!B$269","v":0},{"$f":"Baseline_Data_2012!C223/Baseline_Data_2012!C$269","v":0},{"$f":"Baseline_Data_2012!D223/Baseline_Data_2012!D$269","v":0},{"$f":"Baseline_Data_2012!E223/Baseline_Data_2012!E$269","v":0},{"$f":"Baseline_Data_2012!F223/Baseline_Data_2012!F$269","v":0},{"$f":"Baseline_Data_2012!G223/Baseline_Data_2012!G$269","v":0},{"$f":"Baseline_Data_2012!H223/Baseline_Data_2012!H$269","v":0},{"$f":"Baseline_Data_2012!I223/Baseline_Data_2012!I$269","v":0},{"$f":"Baseline_Data_2012!J223/Baseline_Data_2012!J$269","v":0},{"$f":"Baseline_Data_2012!K223/Baseline_Data_2012!K$269","v":0},{"$f":"Baseline_Data_2012!L223/Baseline_Data_2012!L$269","v":0},{"$f":"Baseline_Data_2012!M223/Baseline_Data_2012!M$269","v":0},{"$f":"Baseline_Data_2012!N223/Baseline_Data_2012!N$269","v":0},{"$f":"Baseline_Data_2012!O223/Baseline_Data_2012!O$269","v":0},{"$f":"Baseline_Data_2012!P223/Baseline_Data_2012!P$269","v":0},{"$f":"Baseline_Data_2012!Q223/Baseline_Data_2012!Q$269","v":0},{"$f":"Baseline_Data_2012!R223/Baseline_Data_2012!R$269","v":0},{"$f":"Baseline_Data_2012!S223/Baseline_Data_2012!S$269","v":0},{"$f":"Baseline_Data_2012!T223/Baseline_Data_2012!T$269","v":0},{"$f":"Baseline_Data_2012!U223/Baseline_Data_2012!U$269","v":0},{"$f":"Baseline_Data_2012!V223/Baseline_Data_2012!V$269","v":0},{"$f":"Baseline_Data_2012!W223/Baseline_Data_2012!W$269","v":0},{"$f":"Baseline_Data_2012!X223/Baseline_Data_2012!X$269","v":0},{"$f":"Baseline_Data_2012!Y223/Baseline_Data_2012!Y$269","v":0},{"$f":"Baseline_Data_2012!Z223/Baseline_Data_2012!Z$269","v":0},{"$f":"Baseline_Data_2012!AA223/Baseline_Data_2012!AA$269","v":0},{"$f":"Baseline_Data_2012!AB223/Baseline_Data_2012!AB$269","v":0},{"$f":"Baseline_Data_2012!AC223/Baseline_Data_2012!AC$269","v":0},{"$f":"Baseline_Data_2012!AD223/Baseline_Data_2012!AD$269","v":0},{"$f":"Baseline_Data_2012!AE223/Baseline_Data_2012!AE$269","v":0},{"$f":"Baseline_Data_2012!AF223/Baseline_Data_2012!AF$269","v":0},{"$f":"Baseline_Data_2012!AG223/Baseline_Data_2012!AG$269","v":0},{"$f":"Baseline_Data_2012!AH223/Baseline_Data_2012!AH$269","v":0},{"$f":"Baseline_Data_2012!AI223/Baseline_Data_2012!AI$269","v":0},{"$f":"Baseline_Data_2012!AJ223/Baseline_Data_2012!AJ$269","v":0},{"$f":"Baseline_Data_2012!AK223/Baseline_Data_2012!AK$269","v":0},{"$f":"Baseline_Data_2012!AL223/Baseline_Data_2012!AL$269","v":0},{"$f":"Baseline_Data_2012!AM223/Baseline_Data_2012!AM$269","v":0},{"$f":"Baseline_Data_2012!AN223/Baseline_Data_2012!AN$269","v":0},{"$f":"Baseline_Data_2012!AO223/Baseline_Data_2012!AO$269","v":0},{"$f":"Baseline_Data_2012!AP223/Baseline_Data_2012!AP$269","v":0},{"$f":"Baseline_Data_2012!AQ223/Baseline_Data_2012!AQ$269","v":0},{"$f":"Baseline_Data_2012!AR223/Baseline_Data_2012!AR$269","v":0},{"$f":"Baseline_Data_2012!AS223/Baseline_Data_2012!AS$269","v":0},{"$f":"Baseline_Data_2012!AT223/Baseline_Data_2012!AT$269","v":0},{"$f":"Baseline_Data_2012!AU223/Baseline_Data_2012!AU$269","v":0},{"$f":"Baseline_Data_2012!AV223/Baseline_Data_2012!AV$269","v":0},223]
[4,"Female 80-84",null,null,null,null,{"$f":"HLOOKUP('III Tool Overview'!$H$6,Targeting!$I$1:$BC$269,Targeting!BD224,FALSE)","v":0},null,{"$f":"Baseline_Data_2012!B224/Baseline_Data_2012!B$269","v":0},{"$f":"Baseline_Data_2012!C224/Baseline_Data_2012!C$269","v":0},{"$f":"Baseline_Data_2012!D224/Baseline_Data_2012!D$269","v":0},{"$f":"Baseline_Data_2012!E224/Baseline_Data_2012!E$269","v":0},{"$f":"Baseline_Data_2012!F224/Baseline_Data_2012!F$269","v":0},{"$f":"Baseline_Data_2012!G224/Baseline_Data_2012!G$269","v":0},{"$f":"Baseline_Data_2012!H224/Baseline_Data_2012!H$269","v":0},{"$f":"Baseline_Data_2012!I224/Baseline_Data_2012!I$269","v":0},{"$f":"Baseline_Data_2012!J224/Baseline_Data_2012!J$269","v":0},{"$f":"Baseline_Data_2012!K224/Baseline_Data_2012!K$269","v":0},{"$f":"Baseline_Data_2012!L224/Baseline_Data_2012!L$269","v":0},{"$f":"Baseline_Data_2012!M224/Baseline_Data_2012!M$269","v":0},{"$f":"Baseline_Data_2012!N224/Baseline_Data_2012!N$269","v":0},{"$f":"Baseline_Data_2012!O224/Baseline_Data_2012!O$269","v":0},{"$f":"Baseline_Data_2012!P224/Baseline_Data_2012!P$269","v":0},{"$f":"Baseline_Data_2012!Q224/Baseline_Data_2012!Q$269","v":0},{"$f":"Baseline_Data_2012!R224/Baseline_Data_2012!R$269","v":0},{"$f":"Baseline_Data_2012!S224/Baseline_Data_2012!S$269","v":0},{"$f":"Baseline_Data_2012!T224/Baseline_Data_2012!T$269","v":0},{"$f":"Baseline_Data_2012!U224/Baseline_Data_2012!U$269","v":0},{"$f":"Baseline_Data_2012!V224/Baseline_Data_2012!V$269","v":0},{"$f":"Baseline_Data_2012!W224/Baseline_Data_2012!W$269","v":0},{"$f":"Baseline_Data_2012!X224/Baseline_Data_2012!X$269","v":0},{"$f":"Baseline_Data_2012!Y224/Baseline_Data_2012!Y$269","v":0},{"$f":"Baseline_Data_2012!Z224/Baseline_Data_2012!Z$269","v":0},{"$f":"Baseline_Data_2012!AA224/Baseline_Data_2012!AA$269","v":0},{"$f":"Baseline_Data_2012!AB224/Baseline_Data_2012!AB$269","v":0},{"$f":"Baseline_Data_2012!AC224/Baseline_Data_2012!AC$269","v":0},{"$f":"Baseline_Data_2012!AD224/Baseline_Data_2012!AD$269","v":0},{"$f":"Baseline_Data_2012!AE224/Baseline_Data_2012!AE$269","v":0},{"$f":"Baseline_Data_2012!AF224/Baseline_Data_2012!AF$269","v":0},{"$f":"Baseline_Data_2012!AG224/Baseline_Data_2012!AG$269","v":0},{"$f":"Baseline_Data_2012!AH224/Baseline_Data_2012!AH$269","v":0},{"$f":"Baseline_Data_2012!AI224/Baseline_Data_2012!AI$269","v":0},{"$f":"Baseline_Data_2012!AJ224/Baseline_Data_2012!AJ$269","v":0},{"$f":"Baseline_Data_2012!AK224/Baseline_Data_2012!AK$269","v":0},{"$f":"Baseline_Data_2012!AL224/Baseline_Data_2012!AL$269","v":0},{"$f":"Baseline_Data_2012!AM224/Baseline_Data_2012!AM$269","v":0},{"$f":"Baseline_Data_2012!AN224/Baseline_Data_2012!AN$269","v":0},{"$f":"Baseline_Data_2012!AO224/Baseline_Data_2012!AO$269","v":0},{"$f":"Baseline_Data_2012!AP224/Baseline_Data_2012!AP$269","v":0},{"$f":"Baseline_Data_2012!AQ224/Baseline_Data_2012!AQ$269","v":0},{"$f":"Baseline_Data_2012!AR224/Baseline_Data_2012!AR$269","v":0},{"$f":"Baseline_Data_2012!AS224/Baseline_Data_2012!AS$269","v":0},{"$f":"Baseline_Data_2012!AT224/Baseline_Data_2012!AT$269","v":0},{"$f":"Baseline_Data_2012!AU224/Baseline_Data_2012!AU$269","v":0},{"$f":"Baseline_Data_2012!AV224/Baseline_Data_2012!AV$269","v":0},224]
[4,"Female 85+",null,null,null,null,{"$f":"HLOOKUP('III Tool Overview'!$H$6,Targeting!$I$1:$BC$269,Targeting!BD225,FALSE)","v":0},null,{"$f":"Baseline_Data_2012!B225/Baseline_Data_2012!B$269","v":0},{"$f":"Baseline_Data_2012!C225/Baseline_Data_2012!C$269","v":0},{"$f":"Baseline_Data_2012!D225/Baseline_Data_2012!D$269","v":0},{"$f":"Baseline_Data_2012!E225/Baseline_Data_2012!E$269","v":0},{"$f":"Baseline_Data_2012!F225/Baseline_Data_2012!F$269","v":0},{"$f":"Baseline_Data_2012!G225/Baseline_Data_2012!G$269","v":0},{"$f":"Baseline_Data_2012!H225/Baseline_Data_2012!H$269","v":0},{"$f":"Baseline_Data_2012!I225/Baseline_Data_2012!I$269","v":0},{"$f":"Baseline_Data_2012!J225/Baseline_Data_2012!J$269","v":0},{"$f":"Baseline_Data_2012!K225/Baseline_Data_2012!K$269","v":0},{"$f":"Baseline_Data_2012!L225/Baseline_Data_2012!L$269","v":0},{"$f":"Baseline_Data_2012!M225/Baseline_Data_2012!M$269","v":0},{"$f":"Baseline_Data_2012!N225/Baseline_Data_2012!N$269","v":0},{"$f":"Baseline_Data_2012!O225/Baseline_Data_2012!O$269","v":0},{"$f":"Baseline_Data_2012!P225/Baseline_Data_2012!P$269","v":0},{"$f":"Baseline_Data_2012!Q225/Baseline_Data_2012!Q$269","v":0},{"$f":"Baseline_Data_2012!R225/Baseline_Data_2012!R$269","v":0},{"$f":"Baseline_Data_2012!S225/Baseline_Data_2012!S$269","v":0},{"$f":"Baseline_Data_2012!T225/Baseline_Data_2012!T$269","v":0},{"$f":"Baseline_Data_2012!U225/Baseline_Data_2012!U$269","v":0},{"$f":"Baseline_Data_2012!V225/Baseline_Data_2012!V$269","v":0},{"$f":"Baseline_Data_2012!W225/Baseline_Data_2012!W$269","v":0},{"$f":"Baseline_Data_2012!X225/Baseline_Data_2012!X$269","v":0},{"$f":"Baseline_Data_2012!Y225/Baseline_Data_2012!Y$269","v":0},{"$f":"Baseline_Data_2012!Z225/Baseline_Data_2012!Z$269","v":0},{"$f":"Baseline_Data_2012!AA225/Baseline_Data_2012!AA$269","v":0},{"$f":"Baseline_Data_2012!AB225/Baseline_Data_2012!AB$269","v":0},{"$f":"Baseline_Data_2012!AC225/Baseline_Data_2012!AC$269","v":0},{"$f":"Baseline_Data_2012!AD225/Baseline_Data_2012!AD$269","v":0},{"$f":"Baseline_Data_2012!AE225/Baseline_Data_2012!AE$269","v":0},{"$f":"Baseline_Data_2012!AF225/Baseline_Data_2012!AF$269","v":0},{"$f":"Baseline_Data_2012!AG225/Baseline_Data_2012!AG$269","v":0},{"$f":"Baseline_Data_2012!AH225/Baseline_Data_2012!AH$269","v":0},{"$f":"Baseline_Data_2012!AI225/Baseline_Data_2012!AI$269","v":0},{"$f":"Baseline_Data_2012!AJ225/Baseline_Data_2012!AJ$269","v":0},{"$f":"Baseline_Data_2012!AK225/Baseline_Data_2012!AK$269","v":0},{"$f":"Baseline_Data_2012!AL225/Baseline_Data_2012!AL$269","v":0},{"$f":"Baseline_Data_2012!AM225/Baseline_Data_2012!AM$269","v":0},{"$f":"Baseline_Data_2012!AN225/Baseline_Data_2012!AN$269","v":0},{"$f":"Baseline_Data_2012!AO225/Baseline_Data_2012!AO$269","v":0},{"$f":"Baseline_Data_2012!AP225/Baseline_Data_2012!AP$269","v":0},{"$f":"Baseline_Data_2012!AQ225/Baseline_Data_2012!AQ$269","v":0},{"$f":"Baseline_Data_2012!AR225/Baseline_Data_2012!AR$269","v":0},{"$f":"Baseline_Data_2012!AS225/Baseline_Data_2012!AS$269","v":0},{"$f":"Baseline_Data_2012!AT225/Baseline_Data_2012!AT$269","v":0},{"$f":"Baseline_Data_2012!AU225/Baseline_Data_2012!AU$269","v":0},{"$f":"Baseline_Data_2012!AV225/Baseline_Data_2012!AV$269","v":0},225]
[null,"TOTAL",null,null,null,null,{"$f":"HLOOKUP('III Tool Overview'!$H$6,Targeting!$I$1:$BC$269,Targeting!BD226,FALSE)","v":0},null,{"$f":"Baseline_Data_2012!B226/Baseline_Data_2012!B$269","v":0},{"$f":"Baseline_Data_2012!C226/Baseline_Data_2012!C$269","v":0},{"$f":"Baseline_Data_2012!D226/Baseline_Data_2012!D$269","v":0},{"$f":"Baseline_Data_2012!E226/Baseline_Data_2012!E$269","v":0},{"$f":"Baseline_Data_2012!F226/Baseline_Data_2012!F$269","v":0},{"$f":"Baseline_Data_2012!G226/Baseline_Data_2012!G$269","v":0},{"$f":"Baseline_Data_2012!H226/Baseline_Data_2012!H$269","v":0},{"$f":"Baseline_Data_2012!I226/Baseline_Data_2012!I$269","v":0},{"$f":"Baseline_Data_2012!J226/Baseline_Data_2012!J$269","v":0},{"$f":"Baseline_Data_2012!K226/Baseline_Data_2012!K$269","v":0},{"$f":"Baseline_Data_2012!L226/Baseline_Data_2012!L$269","v":0},{"$f":"Baseline_Data_2012!M226/Baseline_Data_2012!M$269","v":0},{"$f":"Baseline_Data_2012!N226/Baseline_Data_2012!N$269","v":0},{"$f":"Baseline_Data_2012!O226/Baseline_Data_2012!O$269","v":0},{"$f":"Baseline_Data_2012!P226/Baseline_Data_2012!P$269","v":0},{"$f":"Baseline_Data_2012!Q226/Baseline_Data_2012!Q$269","v":0},{"$f":"Baseline_Data_2012!R226/Baseline_Data_2012!R$269","v":0},{"$f":"Baseline_Data_2012!S226/Baseline_Data_2012!S$269","v":0},{"$f":"Baseline_Data_2012!T226/Baseline_Data_2012!T$269","v":0},{"$f":"Baseline_Data_2012!U226/Baseline_Data_2012!U$269","v":0},{"$f":"Baseline_Data_2012!V226/Baseline_Data_2012!V$269","v":0},{"$f":"Baseline_Data_2012!W226/Baseline_Data_2012!W$269","v":0},{"$f":"Baseline_Data_2012!X226/Baseline_Data_2012!X$269","v":0},{"$f":"Baseline_Data_2012!Y226/Baseline_Data_2012!Y$269","v":0},{"$f":"Baseline_Data_2012!Z226/Baseline_Data_2012!Z$269","v":0},{"$f":"Baseline_Data_2012!AA226/Baseline_Data_2012!AA$269","v":0},{"$f":"Baseline_Data_2012!AB226/Baseline_Data_2012!AB$269","v":0},{"$f":"Baseline_Data_2012!AC226/Baseline_Data_2012!AC$269","v":0},{"$f":"Baseline_Data_2012!AD226/Baseline_Data_2012!AD$269","v":0},{"$f":"Baseline_Data_2012!AE226/Baseline_Data_2012!AE$269","v":0},{"$f":"Baseline_Data_2012!AF226/Baseline_Data_2012!AF$269","v":0},{"$f":"Baseline_Data_2012!AG226/Baseline_Data_2012!AG$269","v":0},{"$f":"Baseline_Data_2012!AH226/Baseline_Data_2012!AH$269","v":0},{"$f":"Baseline_Data_2012!AI226/Baseline_Data_2012!AI$269","v":0},{"$f":"Baseline_Data_2012!AJ226/Baseline_Data_2012!AJ$269","v":0},{"$f":"Baseline_Data_2012!AK226/Baseline_Data_2012!AK$269","v":0},{"$f":"Baseline_Data_2012!AL226/Baseline_Data_2012!AL$269","v":0},{"$f":"Baseline_Data_2012!AM226/Baseline_Data_2012!AM$269","v":0},{"$f":"Baseline_Data_2012!AN226/Baseline_Data_2012!AN$269","v":0},{"$f":"Baseline_Data_2012!AO226/Baseline_Data_2012!AO$269","v":0},{"$f":"Baseline_Data_2012!AP226/Baseline_Data_2012!AP$269","v":0},{"$f":"Baseline_Data_2012!AQ226/Baseline_Data_2012!AQ$269","v":0},{"$f":"Baseline_Data_2012!AR226/Baseline_Data_2012!AR$269","v":0},{"$f":"Baseline_Data_2012!AS226/Baseline_Data_2012!AS$269","v":0},{"$f":"Baseline_Data_2012!AT226/Baseline_Data_2012!AT$269","v":0},{"$f":"Baseline_Data_2012!AU226/Baseline_Data_2012!AU$269","v":0},{"$f":"Baseline_Data_2012!AV226/Baseline_Data_2012!AV$269","v":0},226]
[null,"age/sex breakdown: Q5",null,null,null,null,{"$f":"HLOOKUP('III Tool Overview'!$H$6,Targeting!$I$1:$BC$269,Targeting!BD227,FALSE)","v":0},null,{"$f":"Baseline_Data_2012!B227/Baseline_Data_2012!B$269","v":0},{"$f":"Baseline_Data_2012!C227/Baseline_Data_2012!C$269","v":0},{"$f":"Baseline_Data_2012!D227/Baseline_Data_2012!D$269","v":0},{"$f":"Baseline_Data_2012!E227/Baseline_Data_2012!E$269","v":0},{"$f":"Baseline_Data_2012!F227/Baseline_Data_2012!F$269","v":0},{"$f":"Baseline_Data_2012!G227/Baseline_Data_2012!G$269","v":0},{"$f":"Baseline_Data_2012!H227/Baseline_Data_2012!H$269","v":0},{"$f":"Baseline_Data_2012!I227/Baseline_Data_2012!I$269","v":0},{"$f":"Baseline_Data_2012!J227/Baseline_Data_2012!J$269","v":0},{"$f":"Baseline_Data_2012!K227/Baseline_Data_2012!K$269","v":0},{"$f":"Baseline_Data_2012!L227/Baseline_Data_2012!L$269","v":0},{"$f":"Baseline_Data_2012!M227/Baseline_Data_2012!M$269","v":0},{"$f":"Baseline_Data_2012!N227/Baseline_Data_2012!N$269","v":0},{"$f":"Baseline_Data_2012!O227/Baseline_Data_2012!O$269","v":0},{"$f":"Baseline_Data_2012!P227/Baseline_Data_2012!P$269","v":0},{"$f":"Baseline_Data_2012!Q227/Baseline_Data_2012!Q$269","v":0},{"$f":"Baseline_Data_2012!R227/Baseline_Data_2012!R$269","v":0},{"$f":"Baseline_Data_2012!S227/Baseline_Data_2012!S$269","v":0},{"$f":"Baseline_Data_2012!T227/Baseline_Data_2012!T$269","v":0},{"$f":"Baseline_Data_2012!U227/Baseline_Data_2012!U$269","v":0},{"$f":"Baseline_Data_2012!V227/Baseline_Data_2012!V$269","v":0},{"$f":"Baseline_Data_2012!W227/Baseline_Data_2012!W$269","v":0},{"$f":"Baseline_Data_2012!X227/Baseline_Data_2012!X$269","v":0},{"$f":"Baseline_Data_2012!Y227/Baseline_Data_2012!Y$269","v":0},{"$f":"Baseline_Data_2012!Z227/Baseline_Data_2012!Z$269","v":0},{"$f":"Baseline_Data_2012!AA227/Baseline_Data_2012!AA$269","v":0},{"$f":"Baseline_Data_2012!AB227/Baseline_Data_2012!AB$269","v":0},{"$f":"Baseline_Data_2012!AC227/Baseline_Data_2012!AC$269","v":0},{"$f":"Baseline_Data_2012!AD227/Baseline_Data_2012!AD$269","v":0},{"$f":"Baseline_Data_2012!AE227/Baseline_Data_2012!AE$269","v":0},{"$f":"Baseline_Data_2012!AF227/Baseline_Data_2012!AF$269","v":0},{"$f":"Baseline_Data_2012!AG227/Baseline_Data_2012!AG$269","v":0},{"$f":"Baseline_Data_2012!AH227/Baseline_Data_2012!AH$269","v":0},{"$f":"Baseline_Data_2012!AI227/Baseline_Data_2012!AI$269","v":0},{"$f":"Baseline_Data_2012!AJ227/Baseline_Data_2012!AJ$269","v":0},{"$f":"Baseline_Data_2012!AK227/Baseline_Data_2012!AK$269","v":0},{"$f":"Baseline_Data_2012!AL227/Baseline_Data_2012!AL$269","v":0},{"$f":"Baseline_Data_2012!AM227/Baseline_Data_2012!AM$269","v":0},{"$f":"Baseline_Data_2012!AN227/Baseline_Data_2012!AN$269","v":0},{"$f":"Baseline_Data_2012!AO227/Baseline_Data_2012!AO$269","v":0},{"$f":"Baseline_Data_2012!AP227/Baseline_Data_2012!AP$269","v":0},{"$f":"Baseline_Data_2012!AQ227/Baseline_Data_2012!AQ$269","v":0},{"$f":"Baseline_Data_2012!AR227/Baseline_Data_2012!AR$269","v":0},{"$f":"Baseline_Data_2012!AS227/Baseline_Data_2012!AS$269","v":0},{"$f":"Baseline_Data_2012!AT227/Baseline_Data_2012!AT$269","v":0},{"$f":"Baseline_Data_2012!AU227/Baseline_Data_2012!AU$269","v":0},{"$f":"Baseline_Data_2012!AV227/Baseline_Data_2012!AV$269","v":0},227]
[5,"Male <1",null,null,null,null,{"$f":"HLOOKUP('III Tool Overview'!$H$6,Targeting!$I$1:$BC$269,Targeting!BD228,FALSE)","v":0},null,{"$f":"Baseline_Data_2012!B228/Baseline_Data_2012!B$269","v":0},{"$f":"Baseline_Data_2012!C228/Baseline_Data_2012!C$269","v":0},{"$f":"Baseline_Data_2012!D228/Baseline_Data_2012!D$269","v":0},{"$f":"Baseline_Data_2012!E228/Baseline_Data_2012!E$269","v":0},{"$f":"Baseline_Data_2012!F228/Baseline_Data_2012!F$269","v":0},{"$f":"Baseline_Data_2012!G228/Baseline_Data_2012!G$269","v":0},{"$f":"Baseline_Data_2012!H228/Baseline_Data_2012!H$269","v":0},{"$f":"Baseline_Data_2012!I228/Baseline_Data_2012!I$269","v":0},{"$f":"Baseline_Data_2012!J228/Baseline_Data_2012!J$269","v":0},{"$f":"Baseline_Data_2012!K228/Baseline_Data_2012!K$269","v":0},{"$f":"Baseline_Data_2012!L228/Baseline_Data_2012!L$269","v":0},{"$f":"Baseline_Data_2012!M228/Baseline_Data_2012!M$269","v":0},{"$f":"Baseline_Data_2012!N228/Baseline_Data_2012!N$269","v":0},{"$f":"Baseline_Data_2012!O228/Baseline_Data_2012!O$269","v":0},{"$f":"Baseline_Data_2012!P228/Baseline_Data_2012!P$269","v":0},{"$f":"Baseline_Data_2012!Q228/Baseline_Data_2012!Q$269","v":0},{"$f":"Baseline_Data_2012!R228/Baseline_Data_2012!R$269","v":0},{"$f":"Baseline_Data_2012!S228/Baseline_Data_2012!S$269","v":0},{"$f":"Baseline_Data_2012!T228/Baseline_Data_2012!T$269","v":0},{"$f":"Baseline_Data_2012!U228/Baseline_Data_2012!U$269","v":0},{"$f":"Baseline_Data_2012!V228/Baseline_Data_2012!V$269","v":0},{"$f":"Baseline_Data_2012!W228/Baseline_Data_2012!W$269","v":0},{"$f":"Baseline_Data_2012!X228/Baseline_Data_2012!X$269","v":0},{"$f":"Baseline_Data_2012!Y228/Baseline_Data_2012!Y$269","v":0},{"$f":"Baseline_Data_2012!Z228/Baseline_Data_2012!Z$269","v":0},{"$f":"Baseline_Data_2012!AA228/Baseline_Data_2012!AA$269","v":0},{"$f":"Baseline_Data_2012!AB228/Baseline_Data_2012!AB$269","v":0},{"$f":"Baseline_Data_2012!AC228/Baseline_Data_2012!AC$269","v":0},{"$f":"Baseline_Data_2012!AD228/Baseline_Data_2012!AD$269","v":0},{"$f":"Baseline_Data_2012!AE228/Baseline_Data_2012!AE$269","v":0},{"$f":"Baseline_Data_2012!AF228/Baseline_Data_2012!AF$269","v":0},{"$f":"Baseline_Data_2012!AG228/Baseline_Data_2012!AG$269","v":0},{"$f":"Baseline_Data_2012!AH228/Baseline_Data_2012!AH$269","v":0},{"$f":"Baseline_Data_2012!AI228/Baseline_Data_2012!AI$269","v":0},{"$f":"Baseline_Data_2012!AJ228/Baseline_Data_2012!AJ$269","v":0},{"$f":"Baseline_Data_2012!AK228/Baseline_Data_2012!AK$269","v":0},{"$f":"Baseline_Data_2012!AL228/Baseline_Data_2012!AL$269","v":0},{"$f":"Baseline_Data_2012!AM228/Baseline_Data_2012!AM$269","v":0},{"$f":"Baseline_Data_2012!AN228/Baseline_Data_2012!AN$269","v":0},{"$f":"Baseline_Data_2012!AO228/Baseline_Data_2012!AO$269","v":0},{"$f":"Baseline_Data_2012!AP228/Baseline_Data_2012!AP$269","v":0},{"$f":"Baseline_Data_2012!AQ228/Baseline_Data_2012!AQ$269","v":0},{"$f":"Baseline_Data_2012!AR228/Baseline_Data_2012!AR$269","v":0},{"$f":"Baseline_Data_2012!AS228/Baseline_Data_2012!AS$269","v":0},{"$f":"Baseline_Data_2012!AT228/Baseline_Data_2012!AT$269","v":0},{"$f":"Baseline_Data_2012!AU228/Baseline_Data_2012!AU$269","v":0},{"$f":"Baseline_Data_2012!AV228/Baseline_Data_2012!AV$269","v":0},228]
[5,"Male 1-4",null,null,null,null,{"$f":"HLOOKUP('III Tool Overview'!$H$6,Targeting!$I$1:$BC$269,Targeting!BD229,FALSE)","v":0},null,{"$f":"Baseline_Data_2012!B229/Baseline_Data_2012!B$269","v":0},{"$f":"Baseline_Data_2012!C229/Baseline_Data_2012!C$269","v":0},{"$f":"Baseline_Data_2012!D229/Baseline_Data_2012!D$269","v":0},{"$f":"Baseline_Data_2012!E229/Baseline_Data_2012!E$269","v":0},{"$f":"Baseline_Data_2012!F229/Baseline_Data_2012!F$269","v":0},{"$f":"Baseline_Data_2012!G229/Baseline_Data_2012!G$269","v":0},{"$f":"Baseline_Data_2012!H229/Baseline_Data_2012!H$269","v":0},{"$f":"Baseline_Data_2012!I229/Baseline_Data_2012!I$269","v":0},{"$f":"Baseline_Data_2012!J229/Baseline_Data_2012!J$269","v":0},{"$f":"Baseline_Data_2012!K229/Baseline_Data_2012!K$269","v":0},{"$f":"Baseline_Data_2012!L229/Baseline_Data_2012!L$269","v":0},{"$f":"Baseline_Data_2012!M229/Baseline_Data_2012!M$269","v":0},{"$f":"Baseline_Data_2012!N229/Baseline_Data_2012!N$269","v":0},{"$f":"Baseline_Data_2012!O229/Baseline_Data_2012!O$269","v":0},{"$f":"Baseline_Data_2012!P229/Baseline_Data_2012!P$269","v":0},{"$f":"Baseline_Data_2012!Q229/Baseline_Data_2012!Q$269","v":0},{"$f":"Baseline_Data_2012!R229/Baseline_Data_2012!R$269","v":0},{"$f":"Baseline_Data_2012!S229/Baseline_Data_2012!S$269","v":0},{"$f":"Baseline_Data_2012!T229/Baseline_Data_2012!T$269","v":0},{"$f":"Baseline_Data_2012!U229/Baseline_Data_2012!U$269","v":0},{"$f":"Baseline_Data_2012!V229/Baseline_Data_2012!V$269","v":0},{"$f":"Baseline_Data_2012!W229/Baseline_Data_2012!W$269","v":0},{"$f":"Baseline_Data_2012!X229/Baseline_Data_2012!X$269","v":0},{"$f":"Baseline_Data_2012!Y229/Baseline_Data_2012!Y$269","v":0},{"$f":"Baseline_Data_2012!Z229/Baseline_Data_2012!Z$269","v":0},{"$f":"Baseline_Data_2012!AA229/Baseline_Data_2012!AA$269","v":0},{"$f":"Baseline_Data_2012!AB229/Baseline_Data_2012!AB$269","v":0},{"$f":"Baseline_Data_2012!AC229/Baseline_Data_2012!AC$269","v":0},{"$f":"Baseline_Data_2012!AD229/Baseline_Data_2012!AD$269","v":0},{"$f":"Baseline_Data_2012!AE229/Baseline_Data_2012!AE$269","v":0},{"$f":"Baseline_Data_2012!AF229/Baseline_Data_2012!AF$269","v":0},{"$f":"Baseline_Data_2012!AG229/Baseline_Data_2012!AG$269","v":0},{"$f":"Baseline_Data_2012!AH229/Baseline_Data_2012!AH$269","v":0},{"$f":"Baseline_Data_2012!AI229/Baseline_Data_2012!AI$269","v":0},{"$f":"Baseline_Data_2012!AJ229/Baseline_Data_2012!AJ$269","v":0},{"$f":"Baseline_Data_2012!AK229/Baseline_Data_2012!AK$269","v":0},{"$f":"Baseline_Data_2012!AL229/Baseline_Data_2012!AL$269","v":0},{"$f":"Baseline_Data_2012!AM229/Baseline_Data_2012!AM$269","v":0},{"$f":"Baseline_Data_2012!AN229/Baseline_Data_2012!AN$269","v":0},{"$f":"Baseline_Data_2012!AO229/Baseline_Data_2012!AO$269","v":0},{"$f":"Baseline_Data_2012!AP229/Baseline_Data_2012!AP$269","v":0},{"$f":"Baseline_Data_2012!AQ229/Baseline_Data_2012!AQ$269","v":0},{"$f":"Baseline_Data_2012!AR229/Baseline_Data_2012!AR$269","v":0},{"$f":"Baseline_Data_2012!AS229/Baseline_Data_2012!AS$269","v":0},{"$f":"Baseline_Data_2012!AT229/Baseline_Data_2012!AT$269","v":0},{"$f":"Baseline_Data_2012!AU229/Baseline_Data_2012!AU$269","v":0},{"$f":"Baseline_Data_2012!AV229/Baseline_Data_2012!AV$269","v":0},229]
[5,"Male 5-9",null,null,null,null,{"$f":"HLOOKUP('III Tool Overview'!$H$6,Targeting!$I$1:$BC$269,Targeting!BD230,FALSE)","v":0},null,{"$f":"Baseline_Data_2012!B230/Baseline_Data_2012!B$269","v":0},{"$f":"Baseline_Data_2012!C230/Baseline_Data_2012!C$269","v":0},{"$f":"Baseline_Data_2012!D230/Baseline_Data_2012!D$269","v":0},{"$f":"Baseline_Data_2012!E230/Baseline_Data_2012!E$269","v":0},{"$f":"Baseline_Data_2012!F230/Baseline_Data_2012!F$269","v":0},{"$f":"Baseline_Data_2012!G230/Baseline_Data_2012!G$269","v":0},{"$f":"Baseline_Data_2012!H230/Baseline_Data_2012!H$269","v":0},{"$f":"Baseline_Data_2012!I230/Baseline_Data_2012!I$269","v":0},{"$f":"Baseline_Data_2012!J230/Baseline_Data_2012!J$269","v":0},{"$f":"Baseline_Data_2012!K230/Baseline_Data_2012!K$269","v":0},{"$f":"Baseline_Data_2012!L230/Baseline_Data_2012!L$269","v":0},{"$f":"Baseline_Data_2012!M230/Baseline_Data_2012!M$269","v":0},{"$f":"Baseline_Data_2012!N230/Baseline_Data_2012!N$269","v":0},{"$f":"Baseline_Data_2012!O230/Baseline_Data_2012!O$269","v":0},{"$f":"Baseline_Data_2012!P230/Baseline_Data_2012!P$269","v":0},{"$f":"Baseline_Data_2012!Q230/Baseline_Data_2012!Q$269","v":0},{"$f":"Baseline_Data_2012!R230/Baseline_Data_2012!R$269","v":0},{"$f":"Baseline_Data_2012!S230/Baseline_Data_2012!S$269","v":0},{"$f":"Baseline_Data_2012!T230/Baseline_Data_2012!T$269","v":0},{"$f":"Baseline_Data_2012!U230/Baseline_Data_2012!U$269","v":0},{"$f":"Baseline_Data_2012!V230/Baseline_Data_2012!V$269","v":0},{"$f":"Baseline_Data_2012!W230/Baseline_Data_2012!W$269","v":0},{"$f":"Baseline_Data_2012!X230/Baseline_Data_2012!X$269","v":0},{"$f":"Baseline_Data_2012!Y230/Baseline_Data_2012!Y$269","v":0},{"$f":"Baseline_Data_2012!Z230/Baseline_Data_2012!Z$269","v":0},{"$f":"Baseline_Data_2012!AA230/Baseline_Data_2012!AA$269","v":0},{"$f":"Baseline_Data_2012!AB230/Baseline_Data_2012!AB$269","v":0},{"$f":"Baseline_Data_2012!AC230/Baseline_Data_2012!AC$269","v":0},{"$f":"Baseline_Data_2012!AD230/Baseline_Data_2012!AD$269","v":0},{"$f":"Baseline_Data_2012!AE230/Baseline_Data_2012!AE$269","v":0},{"$f":"Baseline_Data_2012!AF230/Baseline_Data_2012!AF$269","v":0},{"$f":"Baseline_Data_2012!AG230/Baseline_Data_2012!AG$269","v":0},{"$f":"Baseline_Data_2012!AH230/Baseline_Data_2012!AH$269","v":0},{"$f":"Baseline_Data_2012!AI230/Baseline_Data_2012!AI$269","v":0},{"$f":"Baseline_Data_2012!AJ230/Baseline_Data_2012!AJ$269","v":0},{"$f":"Baseline_Data_2012!AK230/Baseline_Data_2012!AK$269","v":0},{"$f":"Baseline_Data_2012!AL230/Baseline_Data_2012!AL$269","v":0},{"$f":"Baseline_Data_2012!AM230/Baseline_Data_2012!AM$269","v":0},{"$f":"Baseline_Data_2012!AN230/Baseline_Data_2012!AN$269","v":0},{"$f":"Baseline_Data_2012!AO230/Baseline_Data_2012!AO$269","v":0},{"$f":"Baseline_Data_2012!AP230/Baseline_Data_2012!AP$269","v":0},{"$f":"Baseline_Data_2012!AQ230/Baseline_Data_2012!AQ$269","v":0},{"$f":"Baseline_Data_2012!AR230/Baseline_Data_2012!AR$269","v":0},{"$f":"Baseline_Data_2012!AS230/Baseline_Data_2012!AS$269","v":0},{"$f":"Baseline_Data_2012!AT230/Baseline_Data_2012!AT$269","v":0},{"$f":"Baseline_Data_2012!AU230/Baseline_Data_2012!AU$269","v":0},{"$f":"Baseline_Data_2012!AV230/Baseline_Data_2012!AV$269","v":0},230]
[5,"Male 10-14",null,null,null,null,{"$f":"HLOOKUP('III Tool Overview'!$H$6,Targeting!$I$1:$BC$269,Targeting!BD231,FALSE)","v":0},null,{"$f":"Baseline_Data_2012!B231/Baseline_Data_2012!B$269","v":0},{"$f":"Baseline_Data_2012!C231/Baseline_Data_2012!C$269","v":0},{"$f":"Baseline_Data_2012!D231/Baseline_Data_2012!D$269","v":0},{"$f":"Baseline_Data_2012!E231/Baseline_Data_2012!E$269","v":0},{"$f":"Baseline_Data_2012!F231/Baseline_Data_2012!F$269","v":0},{"$f":"Baseline_Data_2012!G231/Baseline_Data_2012!G$269","v":0},{"$f":"Baseline_Data_2012!H231/Baseline_Data_2012!H$269","v":0},{"$f":"Baseline_Data_2012!I231/Baseline_Data_2012!I$269","v":0},{"$f":"Baseline_Data_2012!J231/Baseline_Data_2012!J$269","v":0},{"$f":"Baseline_Data_2012!K231/Baseline_Data_2012!K$269","v":0},{"$f":"Baseline_Data_2012!L231/Baseline_Data_2012!L$269","v":0},{"$f":"Baseline_Data_2012!M231/Baseline_Data_2012!M$269","v":0},{"$f":"Baseline_Data_2012!N231/Baseline_Data_2012!N$269","v":0},{"$f":"Baseline_Data_2012!O231/Baseline_Data_2012!O$269","v":0},{"$f":"Baseline_Data_2012!P231/Baseline_Data_2012!P$269","v":0},{"$f":"Baseline_Data_2012!Q231/Baseline_Data_2012!Q$269","v":0},{"$f":"Baseline_Data_2012!R231/Baseline_Data_2012!R$269","v":0},{"$f":"Baseline_Data_2012!S231/Baseline_Data_2012!S$269","v":0},{"$f":"Baseline_Data_2012!T231/Baseline_Data_2012!T$269","v":0},{"$f":"Baseline_Data_2012!U231/Baseline_Data_2012!U$269","v":0},{"$f":"Baseline_Data_2012!V231/Baseline_Data_2012!V$269","v":0},{"$f":"Baseline_Data_2012!W231/Baseline_Data_2012!W$269","v":0},{"$f":"Baseline_Data_2012!X231/Baseline_Data_2012!X$269","v":0},{"$f":"Baseline_Data_2012!Y231/Baseline_Data_2012!Y$269","v":0},{"$f":"Baseline_Data_2012!Z231/Baseline_Data_2012!Z$269","v":0},{"$f":"Baseline_Data_2012!AA231/Baseline_Data_2012!AA$269","v":0},{"$f":"Baseline_Data_2012!AB231/Baseline_Data_2012!AB$269","v":0},{"$f":"Baseline_Data_2012!AC231/Baseline_Data_2012!AC$269","v":0},{"$f":"Baseline_Data_2012!AD231/Baseline_Data_2012!AD$269","v":0},{"$f":"Baseline_Data_2012!AE231/Baseline_Data_2012!AE$269","v":0},{"$f":"Baseline_Data_2012!AF231/Baseline_Data_2012!AF$269","v":0},{"$f":"Baseline_Data_2012!AG231/Baseline_Data_2012!AG$269","v":0},{"$f":"Baseline_Data_2012!AH231/Baseline_Data_2012!AH$269","v":0},{"$f":"Baseline_Data_2012!AI231/Baseline_Data_2012!AI$269","v":0},{"$f":"Baseline_Data_2012!AJ231/Baseline_Data_2012!AJ$269","v":0},{"$f":"Baseline_Data_2012!AK231/Baseline_Data_2012!AK$269","v":0},{"$f":"Baseline_Data_2012!AL231/Baseline_Data_2012!AL$269","v":0},{"$f":"Baseline_Data_2012!AM231/Baseline_Data_2012!AM$269","v":0},{"$f":"Baseline_Data_2012!AN231/Baseline_Data_2012!AN$269","v":0},{"$f":"Baseline_Data_2012!AO231/Baseline_Data_2012!AO$269","v":0},{"$f":"Baseline_Data_2012!AP231/Baseline_Data_2012!AP$269","v":0},{"$f":"Baseline_Data_2012!AQ231/Baseline_Data_2012!AQ$269","v":0},{"$f":"Baseline_Data_2012!AR231/Baseline_Data_2012!AR$269","v":0},{"$f":"Baseline_Data_2012!AS231/Baseline_Data_2012!AS$269","v":0},{"$f":"Baseline_Data_2012!AT231/Baseline_Data_2012!AT$269","v":0},{"$f":"Baseline_Data_2012!AU231/Baseline_Data_2012!AU$269","v":0},{"$f":"Baseline_Data_2012!AV231/Baseline_Data_2012!AV$269","v":0},231]
[5,"Male 15-19",{"$f":"'III Tool Overview'!$H$8/110","v":1.3090909090909091},0,0,{"$f":"G232*'III Tool Overview'!$H$8","v":3.1580098420328065E-2},{"$f":"HLOOKUP('III Tool Overview'!$H$6,Targeting!$I$1:$BC$269,Targeting!BD232,FALSE)","v":2.1930623903005601E-4},{"$f":"Baseline_Data_2012!B232","v":1446.45},{"$f":"Baseline_Data_2012!B232/Baseline_Data_2012!B$269","v":1.3351492729563221E-3},{"$f":"Baseline_Data_2012!C232/Baseline_Data_2012!C$269","v":7.5431993273471156E-4},{"$f":"Baseline_Data_2012!D232/Baseline_Data_2012!D$269","v":3.9866673555790901E-4},{"$f":"Baseline_Data_2012!E232/Baseline_Data_2012!E$269","v":4.4411768121044846E-4},{"$f":"Baseline_Data_2012!F232/Baseline_Data_2012!F$269","v":1.5036343810753492E-3},{"$f":"Baseline_Data_2012!G232/Baseline_Data_2012!G$269","v":1.7656893544015224E-3},{"$f":"Baseline_Data_2012!H232/Baseline_Data_2012!H$269","v":2.2514902517566837E-3},{"$f":"Baseline_Data_2012!I232/Baseline_Data_2012!I$269","v":1.1634289671395405E-3},{"$f":"Baseline_Data_2012!J232/Baseline_Data_2012!J$269","v":5.586086125583151E-4},{"$f":"Baseline_Data_2012!K232/Baseline_Data_2012!K$269","v":8.4828668407342959E-4},{"$f":"Baseline_Data_2012!L232/Baseline_Data_2012!L$269","v":2.1229279988578321E-3},{"$f":"Baseline_Data_2012!M232/Baseline_Data_2012!M$269","v":2.1930623903005601E-4},{"$f":"Baseline_Data_2012!N232/Baseline_Data_2012!N$269","v":5.6380040433351582E-4},{"$f":"Baseline_Data_2012!O232/Baseline_Data_2012!O$269","v":1.2664284780937176E-3},{"$f":"Baseline_Data_2012!P232/Baseline_Data_2012!P$269","v":0},{"$f":"Baseline_Data_2012!Q232/Baseline_Data_2012!Q$269","v":2.5027720729321602E-3},{"$f":"Baseline_Data_2012!R232/Baseline_Data_2012!R$269","v":2.3701188510554146E-3},{"$f":"Baseline_Data_2012!S232/Baseline_Data_2012!S$269","v":8.8156156274481472E-4},{"$f":"Baseline_Data_2012!T232/Baseline_Data_2012!T$269","v":8.2357204995242301E-4},{"$f":"Baseline_Data_2012!U232/Baseline_Data_2012!U$269","v":8.9464983240345158E-4},{"$f":"Baseline_Data_2012!V232/Baseline_Data_2012!V$269","v":4.414688954806403E-4},{"$f":"Baseline_Data_2012!W232/Baseline_Data_2012!W$269","v":1.3307427691354313E-3},{"$f":"Baseline_Data_2012!X232/Baseline_Data_2012!X$269","v":6.5954991783597394E-4},{"$f":"Baseline_Data_2012!Y232/Baseline_Data_2012!Y$269","v":4.2097216357296187E-3},{"$f":"Baseline_Data_2012!Z232/Baseline_Data_2012!Z$269","v":1.3558234863744517E-3},{"$f":"Baseline_Data_2012!AA232/Baseline_Data_2012!AA$269","v":4.8961904307458998E-3},{"$f":"Baseline_Data_2012!AB232/Baseline_Data_2012!AB$269","v":2.8050104243396603E-3},{"$f":"Baseline_Data_2012!AC232/Baseline_Data_2012!AC$269","v":0},{"$f":"Baseline_Data_2012!AD232/Baseline_Data_2012!AD$269","v":1.6322726530593344E-3},{"$f":"Baseline_Data_2012!AE232/Baseline_Data_2012!AE$269","v":1.5002724428690452E-3},{"$f":"Baseline_Data_2012!AF232/Baseline_Data_2012!AF$269","v":4.6782558780122588E-4},{"$f":"Baseline_Data_2012!AG232/Baseline_Data_2012!AG$269","v":4.6710450706522686E-4},{"$f":"Baseline_Data_2012!AH232/Baseline_Data_2012!AH$269","v":6.6816272145283045E-4},{"$f":"Baseline_Data_2012!AI232/Baseline_Data_2012!AI$269","v":1.1181340537123336E-3},{"$f":"Baseline_Data_2012!AJ232/Baseline_Data_2012!AJ$269","v":1.2786736129989445E-3},{"$f":"Baseline_Data_2012!AK232/Baseline_Data_2012!AK$269","v":4.978420667874784E-4},{"$f":"Baseline_Data_2012!AL232/Baseline_Data_2012!AL$269","v":5.8391714088473442E-4},{"$f":"Baseline_Data_2012!AM232/Baseline_Data_2012!AM$269","v":2.1930623903005601E-4},{"$f":"Baseline_Data_2012!AN232/Baseline_Data_2012!AN$269","v":1.4951025919151025E-3},{"$f":"Baseline_Data_2012!AO232/Baseline_Data_2012!AO$269","v":1.4467411621598349E-3},{"$f":"Baseline_Data_2012!AP232/Baseline_Data_2012!AP$269","v":4.0056868638757115E-4},{"$f":"Baseline_Data_2012!AQ232/Baseline_Data_2012!AQ$269","v":5.6380040433351582E-4},{"$f":"Baseline_Data_2012!AR232/Baseline_Data_2012!AR$269","v":1.2031150987601559E-3},{"$f":"Baseline_Data_2012!AS232/Baseline_Data_2012!AS$269","v":1.1044698410616592E-3},{"$f":"Baseline_Data_2012!AT232/Baseline_Data_2012!AT$269","v":2.583211086670428E-3},{"$f":"Baseline_Data_2012!AU232/Baseline_Data_2012!AU$269","v":3.3444841580152623E-4},{"$f":"Baseline_Data_2012!AV232/Baseline_Data_2012!AV$269","v":1.2061836827356274E-3},232]
[5,"Male 20-24",{"$f":"'III Tool Overview'!$H$8/110","v":1.3090909090909091},0,0,{"$f":"G233*'III Tool Overview'!$H$8","v":5.6142397191694338E-2},{"$f":"HLOOKUP('III Tool Overview'!$H$6,Targeting!$I$1:$BC$269,Targeting!BD233,FALSE)","v":3.8987775827565511E-4},{"$f":"Baseline_Data_2012!B233","v":3106},{"$f":"Baseline_Data_2012!B233/Baseline_Data_2012!B$269","v":2.867001031354237E-3},{"$f":"Baseline_Data_2012!C233/Baseline_Data_2012!C$269","v":1.1706568315769058E-3},{"$f":"Baseline_Data_2012!D233/Baseline_Data_2012!D$269","v":4.0340763727805709E-4},{"$f":"Baseline_Data_2012!E233/Baseline_Data_2012!E$269","v":6.5328278268375649E-4},{"$f":"Baseline_Data_2012!F233/Baseline_Data_2012!F$269","v":3.6448841902353467E-3},{"$f":"Baseline_Data_2012!G233/Baseline_Data_2012!G$269","v":3.0921180858667205E-3},{"$f":"Baseline_Data_2012!H233/Baseline_Data_2012!H$269","v":4.8871854243892664E-3},{"$f":"Baseline_Data_2012!I233/Baseline_Data_2012!I$269","v":2.3474039687499692E-3},{"$f":"Baseline_Data_2012!J233/Baseline_Data_2012!J$269","v":9.9989467746585976E-4},{"$f":"Baseline_Data_2012!K233/Baseline_Data_2012!K$269","v":1.5197235756567373E-3},{"$f":"Baseline_Data_2012!L233/Baseline_Data_2012!L$269","v":5.7466629436188285E-3},{"$f":"Baseline_Data_2012!M233/Baseline_Data_2012!M$269","v":3.8987775827565511E-4},{"$f":"Baseline_Data_2012!N233/Baseline_Data_2012!N$269","v":5.8134086135722531E-4},{"$f":"Baseline_Data_2012!O233/Baseline_Data_2012!O$269","v":2.1696177803000897E-3},{"$f":"Baseline_Data_2012!P233/Baseline_Data_2012!P$269","v":0},{"$f":"Baseline_Data_2012!Q233/Baseline_Data_2012!Q$269","v":6.9855729514122144E-3},{"$f":"Baseline_Data_2012!R233/Baseline_Data_2012!R$269","v":3.9000783743566637E-3},{"$f":"Baseline_Data_2012!S233/Baseline_Data_2012!S$269","v":1.4213763808574493E-3},{"$f":"Baseline_Data_2012!T233/Baseline_Data_2012!T$269","v":1.9002841405218014E-3},{"$f":"Baseline_Data_2012!U233/Baseline_Data_2012!U$269","v":9.0896422972190671E-4},{"$f":"Baseline_Data_2012!V233/Baseline_Data_2012!V$269","v":6.4938650431990957E-4},{"$f":"Baseline_Data_2012!W233/Baseline_Data_2012!W$269","v":2.9738916493122279E-3},{"$f":"Baseline_Data_2012!X233/Baseline_Data_2012!X$269","v":1.0784728326812408E-3},{"$f":"Baseline_Data_2012!Y233/Baseline_Data_2012!Y$269","v":7.1150224829232989E-3},{"$f":"Baseline_Data_2012!Z233/Baseline_Data_2012!Z$269","v":1.9327459081486011E-3},{"$f":"Baseline_Data_2012!AA233/Baseline_Data_2012!AA$269","v":8.100678129820852E-3},{"$f":"Baseline_Data_2012!AB233/Baseline_Data_2012!AB$269","v":8.6935051112664724E-3},{"$f":"Baseline_Data_2012!AC233/Baseline_Data_2012!AC$269","v":0},{"$f":"Baseline_Data_2012!AD233/Baseline_Data_2012!AD$269","v":2.5522194947525472E-3},{"$f":"Baseline_Data_2012!AE233/Baseline_Data_2012!AE$269","v":3.6367346855612501E-3},{"$f":"Baseline_Data_2012!AF233/Baseline_Data_2012!AF$269","v":1.5254042889228767E-3},{"$f":"Baseline_Data_2012!AG233/Baseline_Data_2012!AG$269","v":6.9048514025371382E-4},{"$f":"Baseline_Data_2012!AH233/Baseline_Data_2012!AH$269","v":1.1149427729650664E-3},{"$f":"Baseline_Data_2012!AI233/Baseline_Data_2012!AI$269","v":1.8297897448785313E-3},{"$f":"Baseline_Data_2012!AJ233/Baseline_Data_2012!AJ$269","v":2.228954092279144E-3},{"$f":"Baseline_Data_2012!AK233/Baseline_Data_2012!AK$269","v":7.5188110273697673E-4},{"$f":"Baseline_Data_2012!AL233/Baseline_Data_2012!AL$269","v":1.091277803226774E-3},{"$f":"Baseline_Data_2012!AM233/Baseline_Data_2012!AM$269","v":3.8987775827565511E-4},{"$f":"Baseline_Data_2012!AN233/Baseline_Data_2012!AN$269","v":1.9251355054125904E-3},{"$f":"Baseline_Data_2012!AO233/Baseline_Data_2012!AO$269","v":2.4795164612839166E-3},{"$f":"Baseline_Data_2012!AP233/Baseline_Data_2012!AP$269","v":4.0533220590136925E-4},{"$f":"Baseline_Data_2012!AQ233/Baseline_Data_2012!AQ$269","v":5.8134086135722531E-4},{"$f":"Baseline_Data_2012!AR233/Baseline_Data_2012!AR$269","v":1.8320538883189132E-3},{"$f":"Baseline_Data_2012!AS233/Baseline_Data_2012!AS$269","v":1.9403765693443164E-3},{"$f":"Baseline_Data_2012!AT233/Baseline_Data_2012!AT$269","v":5.4935305029443788E-3},{"$f":"Baseline_Data_2012!AU233/Baseline_Data_2012!AU$269","v":6.6308033741519976E-4},{"$f":"Baseline_Data_2012!AV233/Baseline_Data_2012!AV$269","v":1.8095490351426101E-3},233]
[5,"Male 25-29",{"$f":"'III Tool Overview'!$H$8/110","v":1.3090909090909091},0,0,{"$f":"G234*'III Tool Overview'!$H$8","v":5.6142397191694324E-2},{"$f":"HLOOKUP('III Tool Overview'!$H$6,Targeting!$I$1:$BC$269,Targeting!BD234,FALSE)","v":3.89877758275655E-4},{"$f":"Baseline_Data_2012!B234","v":5726.1999999999989},{"$f":"Baseline_Data_2012!B234/Baseline_Data_2012!B$269","v":5.2855831634709043E-3},{"$f":"Baseline_Data_2012!C234/Baseline_Data_2012!C$269","v":2.1132884123413573E-3},{"$f":"Baseline_Data_2012!D234/Baseline_Data_2012!D$269","v":9.5680016533898149E-4},{"$f":"Baseline_Data_2012!E234/Baseline_Data_2012!E$269","v":1.6618597103358714E-3},{"$f":"Baseline_Data_2012!F234/Baseline_Data_2012!F$269","v":4.8392830655298582E-3},{"$f":"Baseline_Data_2012!G234/Baseline_Data_2012!G$269","v":4.4790748559255062E-3},{"$f":"Baseline_Data_2012!H234/Baseline_Data_2012!H$269","v":1.1314367238104717E-2},{"$f":"Baseline_Data_2012!I234/Baseline_Data_2012!I$269","v":4.2013906229823386E-3},{"$f":"Baseline_Data_2012!J234/Baseline_Data_2012!J$269","v":2.0310360636025273E-3},{"$f":"Baseline_Data_2012!K234/Baseline_Data_2012!K$269","v":2.6519007160958875E-3},{"$f":"Baseline_Data_2012!L234/Baseline_Data_2012!L$269","v":1.0470717829539299E-2},{"$f":"Baseline_Data_2012!M234/Baseline_Data_2012!M$269","v":3.89877758275655E-4},{"$f":"Baseline_Data_2012!N234/Baseline_Data_2012!N$269","v":1.2027741959115003E-3},{"$f":"Baseline_Data_2012!O234/Baseline_Data_2012!O$269","v":3.9440902408848909E-3},{"$f":"Baseline_Data_2012!P234/Baseline_Data_2012!P$269","v":0},{"$f":"Baseline_Data_2012!Q234/Baseline_Data_2012!Q$269","v":1.6380594271342169E-2},{"$f":"Baseline_Data_2012!R234/Baseline_Data_2012!R$269","v":8.9249316225729989E-3},{"$f":"Baseline_Data_2012!S234/Baseline_Data_2012!S$269","v":2.3568741009115865E-3},{"$f":"Baseline_Data_2012!T234/Baseline_Data_2012!T$269","v":3.0977867984175339E-3},{"$f":"Baseline_Data_2012!U234/Baseline_Data_2012!U$269","v":1.7892996648069025E-3},{"$f":"Baseline_Data_2012!V234/Baseline_Data_2012!V$269","v":1.651948125024331E-3},{"$f":"Baseline_Data_2012!W234/Baseline_Data_2012!W$269","v":4.6860916656204848E-3},{"$f":"Baseline_Data_2012!X234/Baseline_Data_2012!X$269","v":2.2903052091886558E-3},{"$f":"Baseline_Data_2012!Y234/Baseline_Data_2012!Y$269","v":1.1524180354916674E-2},{"$f":"Baseline_Data_2012!Z234/Baseline_Data_2012!Z$269","v":3.5374160097177043E-3},{"$f":"Baseline_Data_2012!AA234/Baseline_Data_2012!AA$269","v":1.1543081565609192E-2},{"$f":"Baseline_Data_2012!AB234/Baseline_Data_2012!AB$269","v":1.5694828201611409E-2},{"$f":"Baseline_Data_2012!AC234/Baseline_Data_2012!AC$269","v":0},{"$f":"Baseline_Data_2012!AD234/Baseline_Data_2012!AD$269","v":5.0301680518271092E-3},{"$f":"Baseline_Data_2012!AE234/Baseline_Data_2012!AE$269","v":4.8284630345210638E-3},{"$f":"Baseline_Data_2012!AF234/Baseline_Data_2012!AF$269","v":3.4081132607199677E-3},{"$f":"Baseline_Data_2012!AG234/Baseline_Data_2012!AG$269","v":1.6630105494668962E-3},{"$f":"Baseline_Data_2012!AH234/Baseline_Data_2012!AH$269","v":1.9729440015431206E-3},{"$f":"Baseline_Data_2012!AI234/Baseline_Data_2012!AI$269","v":4.3196289938288437E-3},{"$f":"Baseline_Data_2012!AJ234/Baseline_Data_2012!AJ$269","v":4.9087336015798382E-3},{"$f":"Baseline_Data_2012!AK234/Baseline_Data_2012!AK$269","v":1.3151715658435564E-3},{"$f":"Baseline_Data_2012!AL234/Baseline_Data_2012!AL$269","v":1.8679780764417481E-3},{"$f":"Baseline_Data_2012!AM234/Baseline_Data_2012!AM$269","v":3.89877758275655E-4},{"$f":"Baseline_Data_2012!AN234/Baseline_Data_2012!AN$269","v":4.3987581364857481E-3},{"$f":"Baseline_Data_2012!AO234/Baseline_Data_2012!AO$269","v":4.2680201382755923E-3},{"$f":"Baseline_Data_2012!AP234/Baseline_Data_2012!AP$269","v":9.6136484733017058E-4},{"$f":"Baseline_Data_2012!AQ234/Baseline_Data_2012!AQ$269","v":1.2027741959115003E-3},{"$f":"Baseline_Data_2012!AR234/Baseline_Data_2012!AR$269","v":2.9704496921112806E-3},{"$f":"Baseline_Data_2012!AS234/Baseline_Data_2012!AS$269","v":3.3061379587595524E-3},{"$f":"Baseline_Data_2012!AT234/Baseline_Data_2012!AT$269","v":5.3140342354363072E-3},{"$f":"Baseline_Data_2012!AU234/Baseline_Data_2012!AU$269","v":9.791098549551925E-4},{"$f":"Baseline_Data_2012!AV234/Baseline_Data_2012!AV$269","v":3.2383707037618647E-3},234]
[5,"Male 30-34",{"$f":"'III Tool Overview'!$H$8/110","v":1.3090909090909091},0,0,{"$f":"G235*'III Tool Overview'!$H$8","v":2.7018528648502883E-2},{"$f":"HLOOKUP('III Tool Overview'!$H$6,Targeting!$I$1:$BC$269,Targeting!BD235,FALSE)","v":1.8762867117015891E-4},{"$f":"Baseline_Data_2012!B235","v":1923.8799999999987},{"$f":"Baseline_Data_2012!B235/Baseline_Data_2012!B$269","v":1.7758422228595575E-3},{"$f":"Baseline_Data_2012!C235/Baseline_Data_2012!C$269","v":8.1144550550624097E-4},{"$f":"Baseline_Data_2012!D235/Baseline_Data_2012!D$269","v":3.8918493211761258E-4},{"$f":"Baseline_Data_2012!E235/Baseline_Data_2012!E$269","v":5.4655127542511603E-4},{"$f":"Baseline_Data_2012!F235/Baseline_Data_2012!F$269","v":1.7840203147347564E-3},{"$f":"Baseline_Data_2012!G235/Baseline_Data_2012!G$269","v":1.6330464812550013E-3},{"$f":"Baseline_Data_2012!H235/Baseline_Data_2012!H$269","v":3.9038184886425868E-3},{"$f":"Baseline_Data_2012!I235/Baseline_Data_2012!I$269","v":1.3529134029157328E-3},{"$f":"Baseline_Data_2012!J235/Baseline_Data_2012!J$269","v":6.5102222735358205E-4},{"$f":"Baseline_Data_2012!K235/Baseline_Data_2012!K$269","v":9.8325099939483725E-4},{"$f":"Baseline_Data_2012!L235/Baseline_Data_2012!L$269","v":3.3260929541514576E-3},{"$f":"Baseline_Data_2012!M235/Baseline_Data_2012!M$269","v":1.8762867117015891E-4},{"$f":"Baseline_Data_2012!N235/Baseline_Data_2012!N$269","v":6.6653736690095605E-4},{"$f":"Baseline_Data_2012!O235/Baseline_Data_2012!O$269","v":1.2739141502995032E-3},{"$f":"Baseline_Data_2012!P235/Baseline_Data_2012!P$269","v":0},{"$f":"Baseline_Data_2012!Q235/Baseline_Data_2012!Q$269","v":5.1713079285304886E-3},{"$f":"Baseline_Data_2012!R235/Baseline_Data_2012!R$269","v":3.6450515731433104E-3},{"$f":"Baseline_Data_2012!S235/Baseline_Data_2012!S$269","v":7.9000606882478712E-4},{"$f":"Baseline_Data_2012!T235/Baseline_Data_2012!T$269","v":7.4439354409734735E-4},{"$f":"Baseline_Data_2012!U235/Baseline_Data_2012!U$269","v":7.7029350569937107E-4},{"$f":"Baseline_Data_2012!V235/Baseline_Data_2012!V$269","v":5.4329156008343276E-4},{"$f":"Baseline_Data_2012!W235/Baseline_Data_2012!W$269","v":1.4383418696121237E-3},{"$f":"Baseline_Data_2012!X235/Baseline_Data_2012!X$269","v":8.777087368124877E-4},{"$f":"Baseline_Data_2012!Y235/Baseline_Data_2012!Y$269","v":3.395806185031572E-3},{"$f":"Baseline_Data_2012!Z235/Baseline_Data_2012!Z$269","v":1.0857746932035723E-3},{"$f":"Baseline_Data_2012!AA235/Baseline_Data_2012!AA$269","v":4.3632848318002721E-3},{"$f":"Baseline_Data_2012!AB235/Baseline_Data_2012!AB$269","v":4.844911310720409E-3},{"$f":"Baseline_Data_2012!AC235/Baseline_Data_2012!AC$269","v":0},{"$f":"Baseline_Data_2012!AD235/Baseline_Data_2012!AD$269","v":1.9354331168540137E-3},{"$f":"Baseline_Data_2012!AE235/Baseline_Data_2012!AE$269","v":1.7800314686878603E-3},{"$f":"Baseline_Data_2012!AF235/Baseline_Data_2012!AF$269","v":1.0293704366842122E-3},{"$f":"Baseline_Data_2012!AG235/Baseline_Data_2012!AG$269","v":6.1800000110236533E-4},{"$f":"Baseline_Data_2012!AH235/Baseline_Data_2012!AH$269","v":6.5439799586066859E-4},{"$f":"Baseline_Data_2012!AI235/Baseline_Data_2012!AI$269","v":1.7125608754294877E-3},{"$f":"Baseline_Data_2012!AJ235/Baseline_Data_2012!AJ$269","v":1.3496156836977661E-3},{"$f":"Baseline_Data_2012!AK235/Baseline_Data_2012!AK$269","v":4.9070788140672295E-4},{"$f":"Baseline_Data_2012!AL235/Baseline_Data_2012!AL$269","v":6.9861266510142547E-4},{"$f":"Baseline_Data_2012!AM235/Baseline_Data_2012!AM$269","v":1.8762867117015891E-4},{"$f":"Baseline_Data_2012!AN235/Baseline_Data_2012!AN$269","v":1.4754167916129273E-3},{"$f":"Baseline_Data_2012!AO235/Baseline_Data_2012!AO$269","v":1.359027465082491E-3},{"$f":"Baseline_Data_2012!AP235/Baseline_Data_2012!AP$269","v":3.9104164735997456E-4},{"$f":"Baseline_Data_2012!AQ235/Baseline_Data_2012!AQ$269","v":6.6653736690095605E-4},{"$f":"Baseline_Data_2012!AR235/Baseline_Data_2012!AR$269","v":1.1616283712167013E-3},{"$f":"Baseline_Data_2012!AS235/Baseline_Data_2012!AS$269","v":1.2747860389371501E-3},{"$f":"Baseline_Data_2012!AT235/Baseline_Data_2012!AT$269","v":1.6821870596397811E-3},{"$f":"Baseline_Data_2012!AU235/Baseline_Data_2012!AU$269","v":3.2233071957683303E-4},{"$f":"Baseline_Data_2012!AV235/Baseline_Data_2012!AV$269","v":1.261706423686949E-3},235]
[5,"Male 35-39",{"$f":"'III Tool Overview'!$H$8/110","v":1.3090909090909091},0,0,{"$f":"G236*'III Tool Overview'!$H$8","v":1.1930259403235059E-2},{"$f":"HLOOKUP('III Tool Overview'!$H$6,Targeting!$I$1:$BC$269,Targeting!BD236,FALSE)","v":8.2849023633576791E-5},{"$f":"Baseline_Data_2012!B236","v":608.50000000000057},{"$f":"Baseline_Data_2012!B236/Baseline_Data_2012!B$269","v":5.6167743965842079E-4},{"$f":"Baseline_Data_2012!C236/Baseline_Data_2012!C$269","v":2.8193080173673668E-4},{"$f":"Baseline_Data_2012!D236/Baseline_Data_2012!D$269","v":1.3446921242601917E-4},{"$f":"Baseline_Data_2012!E236/Baseline_Data_2012!E$269","v":1.6475333335226329E-4},{"$f":"Baseline_Data_2012!F236/Baseline_Data_2012!F$269","v":5.8576596666825762E-4},{"$f":"Baseline_Data_2012!G236/Baseline_Data_2012!G$269","v":6.2776222884206967E-4},{"$f":"Baseline_Data_2012!H236/Baseline_Data_2012!H$269","v":1.1349663969466778E-3},{"$f":"Baseline_Data_2012!I236/Baseline_Data_2012!I$269","v":4.618561056725849E-4},{"$f":"Baseline_Data_2012!J236/Baseline_Data_2012!J$269","v":2.0104014446689771E-4},{"$f":"Baseline_Data_2012!K236/Baseline_Data_2012!K$269","v":3.2763751029748844E-4},{"$f":"Baseline_Data_2012!L236/Baseline_Data_2012!L$269","v":9.9254566895144811E-4},{"$f":"Baseline_Data_2012!M236/Baseline_Data_2012!M$269","v":8.2849023633576791E-5},{"$f":"Baseline_Data_2012!N236/Baseline_Data_2012!N$269","v":3.3076290387566297E-4},{"$f":"Baseline_Data_2012!O236/Baseline_Data_2012!O$269","v":4.0250827598327491E-4},{"$f":"Baseline_Data_2012!P236/Baseline_Data_2012!P$269","v":0},{"$f":"Baseline_Data_2012!Q236/Baseline_Data_2012!Q$269","v":1.3134930705227638E-3},{"$f":"Baseline_Data_2012!R236/Baseline_Data_2012!R$269","v":1.2588300037792422E-3},{"$f":"Baseline_Data_2012!S236/Baseline_Data_2012!S$269","v":3.154585335066281E-4},{"$f":"Baseline_Data_2012!T236/Baseline_Data_2012!T$269","v":2.2308688510991965E-4},{"$f":"Baseline_Data_2012!U236/Baseline_Data_2012!U$269","v":2.6123775106180801E-4},{"$f":"Baseline_Data_2012!V236/Baseline_Data_2012!V$269","v":1.6377071929120539E-4},{"$f":"Baseline_Data_2012!W236/Baseline_Data_2012!W$269","v":3.8078684779290959E-4},{"$f":"Baseline_Data_2012!X236/Baseline_Data_2012!X$269","v":3.087563351627749E-4},{"$f":"Baseline_Data_2012!Y236/Baseline_Data_2012!Y$269","v":1.3529323054649618E-3},{"$f":"Baseline_Data_2012!Z236/Baseline_Data_2012!Z$269","v":5.0104094270134094E-4},{"$f":"Baseline_Data_2012!AA236/Baseline_Data_2012!AA$269","v":1.7391576225517869E-3},{"$f":"Baseline_Data_2012!AB236/Baseline_Data_2012!AB$269","v":1.3603607040825676E-3},{"$f":"Baseline_Data_2012!AC236/Baseline_Data_2012!AC$269","v":0},{"$f":"Baseline_Data_2012!AD236/Baseline_Data_2012!AD$269","v":7.4068380575226115E-4},{"$f":"Baseline_Data_2012!AE236/Baseline_Data_2012!AE$269","v":5.8445626731043498E-4},{"$f":"Baseline_Data_2012!AF236/Baseline_Data_2012!AF$269","v":2.6373956531396971E-4},{"$f":"Baseline_Data_2012!AG236/Baseline_Data_2012!AG$269","v":1.931620329428297E-4},{"$f":"Baseline_Data_2012!AH236/Baseline_Data_2012!AH$269","v":2.8791217696937435E-4},{"$f":"Baseline_Data_2012!AI236/Baseline_Data_2012!AI$269","v":5.1223919041864217E-4},{"$f":"Baseline_Data_2012!AJ236/Baseline_Data_2012!AJ$269","v":3.2610467982523438E-4},{"$f":"Baseline_Data_2012!AK236/Baseline_Data_2012!AK$269","v":1.5633171443046065E-4},{"$f":"Baseline_Data_2012!AL236/Baseline_Data_2012!AL$269","v":2.2354491734466849E-4},{"$f":"Baseline_Data_2012!AM236/Baseline_Data_2012!AM$269","v":8.2849023633576791E-5},{"$f":"Baseline_Data_2012!AN236/Baseline_Data_2012!AN$269","v":4.9146618685427248E-4},{"$f":"Baseline_Data_2012!AO236/Baseline_Data_2012!AO$269","v":5.3323509747628709E-4},{"$f":"Baseline_Data_2012!AP236/Baseline_Data_2012!AP$269","v":1.3511073530045656E-4},{"$f":"Baseline_Data_2012!AQ236/Baseline_Data_2012!AQ$269","v":3.3076290387566297E-4},{"$f":"Baseline_Data_2012!AR236/Baseline_Data_2012!AR$269","v":4.1818621363801317E-4},{"$f":"Baseline_Data_2012!AS236/Baseline_Data_2012!AS$269","v":4.3855613001336438E-4},{"$f":"Baseline_Data_2012!AT236/Baseline_Data_2012!AT$269","v":6.7547279614879347E-4},{"$f":"Baseline_Data_2012!AU236/Baseline_Data_2012!AU$269","v":1.1439105236110181E-4},{"$f":"Baseline_Data_2012!AV236/Baseline_Data_2012!AV$269","v":5.0818351077614452E-4},236]
[5,"Male 40-44",{"$f":"'III Tool Overview'!$H$8/110","v":1.3090909090909091},0,0,{"$f":"G237*'III Tool Overview'!$H$8","v":1.5790049210164043E-2},{"$f":"HLOOKUP('III Tool Overview'!$H$6,Targeting!$I$1:$BC$269,Targeting!BD237,FALSE)","v":1.0965311951502808E-4},{"$f":"Baseline_Data_2012!B237","v":1120.110000000001},{"$f":"Baseline_Data_2012!B237/Baseline_Data_2012!B$269","v":1.033920323641403E-3},{"$f":"Baseline_Data_2012!C237/Baseline_Data_2012!C$269","v":6.0643744789818364E-4},{"$f":"Baseline_Data_2012!D237/Baseline_Data_2012!D$269","v":3.4134492385066404E-4},{"$f":"Baseline_Data_2012!E237/Baseline_Data_2012!E$269","v":3.7714186960855053E-4},{"$f":"Baseline_Data_2012!F237/Baseline_Data_2012!F$269","v":1.0780699554500458E-3},{"$f":"Baseline_Data_2012!G237/Baseline_Data_2012!G$269","v":1.2404789166623048E-3},{"$f":"Baseline_Data_2012!H237/Baseline_Data_2012!H$269","v":1.9036409641836948E-3},{"$f":"Baseline_Data_2012!I237/Baseline_Data_2012!I$269","v":8.9832262502182912E-4},{"$f":"Baseline_Data_2012!J237/Baseline_Data_2012!J$269","v":4.1210281813009239E-4},{"$f":"Baseline_Data_2012!K237/Baseline_Data_2012!K$269","v":6.8133709527773163E-4},{"$f":"Baseline_Data_2012!L237/Baseline_Data_2012!L$269","v":1.6728441381855523E-3},{"$f":"Baseline_Data_2012!M237/Baseline_Data_2012!M$269","v":1.0965311951502808E-4},{"$f":"Baseline_Data_2012!N237/Baseline_Data_2012!N$269","v":7.1414717882245407E-4},{"$f":"Baseline_Data_2012!O237/Baseline_Data_2012!O$269","v":8.0513926790434982E-4},{"$f":"Baseline_Data_2012!P237/Baseline_Data_2012!P$269","v":0},{"$f":"Baseline_Data_2012!Q237/Baseline_Data_2012!Q$269","v":2.0635633101985652E-3},{"$f":"Baseline_Data_2012!R237/Baseline_Data_2012!R$269","v":2.1702438600492151E-3},{"$f":"Baseline_Data_2012!S237/Baseline_Data_2012!S$269","v":5.9828342561601868E-4},{"$f":"Baseline_Data_2012!T237/Baseline_Data_2012!T$269","v":4.6120034797335726E-4},{"$f":"Baseline_Data_2012!U237/Baseline_Data_2012!U$269","v":6.4683182882769598E-4},{"$f":"Baseline_Data_2012!V237/Baseline_Data_2012!V$269","v":3.7489253785573758E-4},{"$f":"Baseline_Data_2012!W237/Baseline_Data_2012!W$269","v":7.8939526985237864E-4},{"$f":"Baseline_Data_2012!X237/Baseline_Data_2012!X$269","v":6.3273305304484143E-4},{"$f":"Baseline_Data_2012!Y237/Baseline_Data_2012!Y$269","v":2.9672877854918784E-3},{"$f":"Baseline_Data_2012!Z237/Baseline_Data_2012!Z$269","v":9.741842828023846E-4},{"$f":"Baseline_Data_2012!AA237/Baseline_Data_2012!AA$269","v":3.4436860004067454E-3},{"$f":"Baseline_Data_2012!AB237/Baseline_Data_2012!AB$269","v":2.1548113552667869E-3},{"$f":"Baseline_Data_2012!AC237/Baseline_Data_2012!AC$269","v":0},{"$f":"Baseline_Data_2012!AD237/Baseline_Data_2012!AD$269","v":1.3490303043692049E-3},{"$f":"Baseline_Data_2012!AE237/Baseline_Data_2012!AE$269","v":1.0756595260145976E-3},{"$f":"Baseline_Data_2012!AF237/Baseline_Data_2012!AF$269","v":4.4138997386122288E-4},{"$f":"Baseline_Data_2012!AG237/Baseline_Data_2012!AG$269","v":3.9461936791387907E-4},{"$f":"Baseline_Data_2012!AH237/Baseline_Data_2012!AH$269","v":6.0392733535607806E-4},{"$f":"Baseline_Data_2012!AI237/Baseline_Data_2012!AI$269","v":1.1525381784419449E-3},{"$f":"Baseline_Data_2012!AJ237/Baseline_Data_2012!AJ$269","v":7.4660808275777346E-4},{"$f":"Baseline_Data_2012!AK237/Baseline_Data_2012!AK$269","v":3.7314891361080193E-4},{"$f":"Baseline_Data_2012!AL237/Baseline_Data_2012!AL$269","v":4.6602016392898506E-4},{"$f":"Baseline_Data_2012!AM237/Baseline_Data_2012!AM$269","v":1.0965311951502808E-4},{"$f":"Baseline_Data_2012!AN237/Baseline_Data_2012!AN$269","v":9.7953827020817014E-4},{"$f":"Baseline_Data_2012!AO237/Baseline_Data_2012!AO$269","v":1.0260898039200169E-3},{"$f":"Baseline_Data_2012!AP237/Baseline_Data_2012!AP$269","v":3.429734049934666E-4},{"$f":"Baseline_Data_2012!AQ237/Baseline_Data_2012!AQ$269","v":7.1414717882245407E-4},{"$f":"Baseline_Data_2012!AR237/Baseline_Data_2012!AR$269","v":8.8615650032817064E-4},{"$f":"Baseline_Data_2012!AS237/Baseline_Data_2012!AS$269","v":9.0797601125464057E-4},{"$f":"Baseline_Data_2012!AT237/Baseline_Data_2012!AT$269","v":1.4489600015289679E-3},{"$f":"Baseline_Data_2012!AU237/Baseline_Data_2012!AU$269","v":2.8646233875174228E-4},{"$f":"Baseline_Data_2012!AV237/Baseline_Data_2012!AV$269","v":1.0223842644140088E-3},237]
[5,"Male 45-49",{"$f":"'III Tool Overview'!$H$8/110","v":1.3090909090909091},0,0,{"$f":"G238*'III Tool Overview'!$H$8","v":4.1054127946426516E-2},{"$f":"HLOOKUP('III Tool Overview'!$H$6,Targeting!$I$1:$BC$269,Targeting!BD238,FALSE)","v":2.8509811073907304E-4},{"$f":"Baseline_Data_2012!B238","v":1248.2400000000011},{"$f":"Baseline_Data_2012!B238/Baseline_Data_2012!B$269","v":1.152191039078434E-3},{"$f":"Baseline_Data_2012!C238/Baseline_Data_2012!C$269","v":6.9516693880010069E-4},{"$f":"Baseline_Data_2012!D238/Baseline_Data_2012!D$269","v":3.7366925376076476E-4},{"$f":"Baseline_Data_2012!E238/Baseline_Data_2012!E$269","v":4.6095117396600618E-4},{"$f":"Baseline_Data_2012!F238/Baseline_Data_2012!F$269","v":1.1143645784415196E-3},{"$f":"Baseline_Data_2012!G238/Baseline_Data_2012!G$269","v":1.3732947270619492E-3},{"$f":"Baseline_Data_2012!H238/Baseline_Data_2012!H$269","v":1.9774993745587817E-3},{"$f":"Baseline_Data_2012!I238/Baseline_Data_2012!I$269","v":1.0491367677824728E-3},{"$f":"Baseline_Data_2012!J238/Baseline_Data_2012!J$269","v":5.0584294414251683E-4},{"$f":"Baseline_Data_2012!K238/Baseline_Data_2012!K$269","v":7.9607791758232725E-4},{"$f":"Baseline_Data_2012!L238/Baseline_Data_2012!L$269","v":1.8163403176697653E-3},{"$f":"Baseline_Data_2012!M238/Baseline_Data_2012!M$269","v":2.8509811073907304E-4},{"$f":"Baseline_Data_2012!N238/Baseline_Data_2012!N$269","v":6.164217754046446E-4},{"$f":"Baseline_Data_2012!O238/Baseline_Data_2012!O$269","v":1.0061479740203878E-3},{"$f":"Baseline_Data_2012!P238/Baseline_Data_2012!P$269","v":0},{"$f":"Baseline_Data_2012!Q238/Baseline_Data_2012!Q$269","v":2.1281720286393173E-3},{"$f":"Baseline_Data_2012!R238/Baseline_Data_2012!R$269","v":2.2722948373303273E-3},{"$f":"Baseline_Data_2012!S238/Baseline_Data_2012!S$269","v":8.3079812057133503E-4},{"$f":"Baseline_Data_2012!T238/Baseline_Data_2012!T$269","v":5.2535227607491443E-4},{"$f":"Baseline_Data_2012!U238/Baseline_Data_2012!U$269","v":8.1323669765473808E-4},{"$f":"Baseline_Data_2012!V238/Baseline_Data_2012!V$269","v":4.5820199071256818E-4},{"$f":"Baseline_Data_2012!W238/Baseline_Data_2012!W$269","v":8.4470321869553893E-4},{"$f":"Baseline_Data_2012!X238/Baseline_Data_2012!X$269","v":6.642609886776601E-4},{"$f":"Baseline_Data_2012!Y238/Baseline_Data_2012!Y$269","v":3.5381066346900432E-3},{"$f":"Baseline_Data_2012!Z238/Baseline_Data_2012!Z$269","v":1.3876267533387918E-3},{"$f":"Baseline_Data_2012!AA238/Baseline_Data_2012!AA$269","v":4.1901386083161409E-3},{"$f":"Baseline_Data_2012!AB238/Baseline_Data_2012!AB$269","v":2.2671611451804295E-3},{"$f":"Baseline_Data_2012!AC238/Baseline_Data_2012!AC$269","v":0},{"$f":"Baseline_Data_2012!AD238/Baseline_Data_2012!AD$269","v":1.398656794544949E-3},{"$f":"Baseline_Data_2012!AE238/Baseline_Data_2012!AE$269","v":1.1118729987735056E-3},{"$f":"Baseline_Data_2012!AF238/Baseline_Data_2012!AF$269","v":4.5295073797492702E-4},{"$f":"Baseline_Data_2012!AG238/Baseline_Data_2012!AG$269","v":4.9831064326662504E-4},{"$f":"Baseline_Data_2012!AH238/Baseline_Data_2012!AH$269","v":7.243686842874896E-4},{"$f":"Baseline_Data_2012!AI238/Baseline_Data_2012!AI$269","v":1.1754742615950184E-3},{"$f":"Baseline_Data_2012!AJ238/Baseline_Data_2012!AJ$269","v":7.6548782737923449E-4},{"$f":"Baseline_Data_2012!AK238/Baseline_Data_2012!AK$269","v":4.382871279568272E-4},{"$f":"Baseline_Data_2012!AL238/Baseline_Data_2012!AL$269","v":5.4034954491407412E-4},{"$f":"Baseline_Data_2012!AM238/Baseline_Data_2012!AM$269","v":2.8509811073907304E-4},{"$f":"Baseline_Data_2012!AN238/Baseline_Data_2012!AN$269","v":1.3053722062441519E-3},{"$f":"Baseline_Data_2012!AO238/Baseline_Data_2012!AO$269","v":1.3309483852254167E-3},{"$f":"Baseline_Data_2012!AP238/Baseline_Data_2012!AP$269","v":3.7545194713299948E-4},{"$f":"Baseline_Data_2012!AQ238/Baseline_Data_2012!AQ$269","v":6.164217754046446E-4},{"$f":"Baseline_Data_2012!AR238/Baseline_Data_2012!AR$269","v":1.0716021724474086E-3},{"$f":"Baseline_Data_2012!AS238/Baseline_Data_2012!AS$269","v":1.0393489418739719E-3},{"$f":"Baseline_Data_2012!AT238/Baseline_Data_2012!AT$269","v":1.7058049895750562E-3},{"$f":"Baseline_Data_2012!AU238/Baseline_Data_2012!AU$269","v":3.5771439255293701E-4},{"$f":"Baseline_Data_2012!AV238/Baseline_Data_2012!AV$269","v":1.1667980930952814E-3},238]
[5,"Male 50-54",{"$f":"'III Tool Overview'!$H$8/110","v":1.3090909090909091},0,0,{"$f":"G239*'III Tool Overview'!$H$8","v":9.263495536629561E-2},{"$f":"HLOOKUP('III Tool Overview'!$H$6,Targeting!$I$1:$BC$269,Targeting!BD239,FALSE)","v":6.4329830115483061E-4},{"$f":"Baseline_Data_2012!B239","v":3190.6399999999985},{"$f":"Baseline_Data_2012!B239/Baseline_Data_2012!B$269","v":2.9451281940373725E-3},{"$f":"Baseline_Data_2012!C239/Baseline_Data_2012!C$269","v":1.9377375916321874E-3},{"$f":"Baseline_Data_2012!D239/Baseline_Data_2012!D$269","v":9.2749277288715654E-4},{"$f":"Baseline_Data_2012!E239/Baseline_Data_2012!E$269","v":1.2721822610157357E-3},{"$f":"Baseline_Data_2012!F239/Baseline_Data_2012!F$269","v":2.8280557519217344E-3},{"$f":"Baseline_Data_2012!G239/Baseline_Data_2012!G$269","v":3.1668269792165188E-3},{"$f":"Baseline_Data_2012!H239/Baseline_Data_2012!H$269","v":5.0714343620991585E-3},{"$f":"Baseline_Data_2012!I239/Baseline_Data_2012!I$269","v":2.7180138072666698E-3},{"$f":"Baseline_Data_2012!J239/Baseline_Data_2012!J$269","v":1.3029287955186022E-3},{"$f":"Baseline_Data_2012!K239/Baseline_Data_2012!K$269","v":2.1147512028292406E-3},{"$f":"Baseline_Data_2012!L239/Baseline_Data_2012!L$269","v":4.5061938500623377E-3},{"$f":"Baseline_Data_2012!M239/Baseline_Data_2012!M$269","v":6.4329830115483061E-4},{"$f":"Baseline_Data_2012!N239/Baseline_Data_2012!N$269","v":1.0424043031232999E-3},{"$f":"Baseline_Data_2012!O239/Baseline_Data_2012!O$269","v":2.6889516290687526E-3},{"$f":"Baseline_Data_2012!P239/Baseline_Data_2012!P$269","v":0},{"$f":"Baseline_Data_2012!Q239/Baseline_Data_2012!Q$269","v":5.5254594222057226E-3},{"$f":"Baseline_Data_2012!R239/Baseline_Data_2012!R$269","v":5.7985888629472912E-3},{"$f":"Baseline_Data_2012!S239/Baseline_Data_2012!S$269","v":2.1175607306651786E-3},{"$f":"Baseline_Data_2012!T239/Baseline_Data_2012!T$269","v":1.5951290230657447E-3},{"$f":"Baseline_Data_2012!U239/Baseline_Data_2012!U$269","v":1.9467580353099091E-3},{"$f":"Baseline_Data_2012!V239/Baseline_Data_2012!V$269","v":1.2645947715703495E-3},{"$f":"Baseline_Data_2012!W239/Baseline_Data_2012!W$269","v":2.5689704238423022E-3},{"$f":"Baseline_Data_2012!X239/Baseline_Data_2012!X$269","v":1.6988846235247495E-3},{"$f":"Baseline_Data_2012!Y239/Baseline_Data_2012!Y$269","v":9.3659568684299373E-3},{"$f":"Baseline_Data_2012!Z239/Baseline_Data_2012!Z$269","v":3.3611031612838238E-3},{"$f":"Baseline_Data_2012!AA239/Baseline_Data_2012!AA$269","v":1.0773542794568575E-2},{"$f":"Baseline_Data_2012!AB239/Baseline_Data_2012!AB$269","v":5.6710503641879632E-3},{"$f":"Baseline_Data_2012!AC239/Baseline_Data_2012!AC$269","v":0},{"$f":"Baseline_Data_2012!AD239/Baseline_Data_2012!AD$269","v":3.189599178098156E-3},{"$f":"Baseline_Data_2012!AE239/Baseline_Data_2012!AE$269","v":2.8217325733607703E-3},{"$f":"Baseline_Data_2012!AF239/Baseline_Data_2012!AF$269","v":1.0851703914730242E-3},{"$f":"Baseline_Data_2012!AG239/Baseline_Data_2012!AG$269","v":1.2008437221803711E-3},{"$f":"Baseline_Data_2012!AH239/Baseline_Data_2012!AH$269","v":2.0325911457758196E-3},{"$f":"Baseline_Data_2012!AI239/Baseline_Data_2012!AI$269","v":2.813492866777016E-3},{"$f":"Baseline_Data_2012!AJ239/Baseline_Data_2012!AJ$269","v":1.8673783771044974E-3},{"$f":"Baseline_Data_2012!AK239/Baseline_Data_2012!AK$269","v":1.1811729534745902E-3},{"$f":"Baseline_Data_2012!AL239/Baseline_Data_2012!AL$269","v":1.4387050222132566E-3},{"$f":"Baseline_Data_2012!AM239/Baseline_Data_2012!AM$269","v":6.4329830115483061E-4},{"$f":"Baseline_Data_2012!AN239/Baseline_Data_2012!AN$269","v":3.2501935119589129E-3},{"$f":"Baseline_Data_2012!AO239/Baseline_Data_2012!AO$269","v":3.5556137693303429E-3},{"$f":"Baseline_Data_2012!AP239/Baseline_Data_2012!AP$269","v":9.3191763579032717E-4},{"$f":"Baseline_Data_2012!AQ239/Baseline_Data_2012!AQ$269","v":1.0424043031232999E-3},{"$f":"Baseline_Data_2012!AR239/Baseline_Data_2012!AR$269","v":3.2160511191685255E-3},{"$f":"Baseline_Data_2012!AS239/Baseline_Data_2012!AS$269","v":2.8194279132178228E-3},{"$f":"Baseline_Data_2012!AT239/Baseline_Data_2012!AT$269","v":3.9489178851775568E-3},{"$f":"Baseline_Data_2012!AU239/Baseline_Data_2012!AU$269","v":8.2206451188317111E-4},{"$f":"Baseline_Data_2012!AV239/Baseline_Data_2012!AV$269","v":2.8598314255518622E-3},239]
[5,"Male 55-59",{"$f":"'III Tool Overview'!$H$8/110","v":1.3090909090909091},0,0,{"$f":"G240*'III Tool Overview'!$H$8","v":0.15158447241757472},{"$f":"HLOOKUP('III Tool Overview'!$H$6,Targeting!$I$1:$BC$269,Targeting!BD240,FALSE)","v":1.052669947344269E-3},{"$f":"Baseline_Data_2012!B240","v":5767.8400000000011},{"$f":"Baseline_Data_2012!B240/Baseline_Data_2012!B$269","v":5.3240190691198411E-3},{"$f":"Baseline_Data_2012!C240/Baseline_Data_2012!C$269","v":3.6426795297152623E-3},{"$f":"Baseline_Data_2012!D240/Baseline_Data_2012!D$269","v":1.8963606880592432E-3},{"$f":"Baseline_Data_2012!E240/Baseline_Data_2012!E$269","v":2.1890703770631142E-3},{"$f":"Baseline_Data_2012!F240/Baseline_Data_2012!F$269","v":5.1179406838087228E-3},{"$f":"Baseline_Data_2012!G240/Baseline_Data_2012!G$269","v":5.8217596891844119E-3},{"$f":"Baseline_Data_2012!H240/Baseline_Data_2012!H$269","v":9.2279774472940213E-3},{"$f":"Baseline_Data_2012!I240/Baseline_Data_2012!I$269","v":4.9591721224789692E-3},{"$f":"Baseline_Data_2012!J240/Baseline_Data_2012!J$269","v":2.47379602986247E-3},{"$f":"Baseline_Data_2012!K240/Baseline_Data_2012!K$269","v":3.6879528018609825E-3},{"$f":"Baseline_Data_2012!L240/Baseline_Data_2012!L$269","v":7.9092075721815917E-3},{"$f":"Baseline_Data_2012!M240/Baseline_Data_2012!M$269","v":1.052669947344269E-3},{"$f":"Baseline_Data_2012!N240/Baseline_Data_2012!N$269","v":1.643791401079051E-3},{"$f":"Baseline_Data_2012!O240/Baseline_Data_2012!O$269","v":4.9832488021734197E-3},{"$f":"Baseline_Data_2012!P240/Baseline_Data_2012!P$269","v":0},{"$f":"Baseline_Data_2012!Q240/Baseline_Data_2012!Q$269","v":1.0187728963021205E-2},{"$f":"Baseline_Data_2012!R240/Baseline_Data_2012!R$269","v":1.0534398317523246E-2},{"$f":"Baseline_Data_2012!S240/Baseline_Data_2012!S$269","v":4.4671829112662691E-3},{"$f":"Baseline_Data_2012!T240/Baseline_Data_2012!T$269","v":2.7463960571045012E-3},{"$f":"Baseline_Data_2012!U240/Baseline_Data_2012!U$269","v":4.122546427715105E-3},{"$f":"Baseline_Data_2012!V240/Baseline_Data_2012!V$269","v":2.1760144267561881E-3},{"$f":"Baseline_Data_2012!W240/Baseline_Data_2012!W$269","v":4.2851928364300643E-3},{"$f":"Baseline_Data_2012!X240/Baseline_Data_2012!X$269","v":3.154243123540834E-3},{"$f":"Baseline_Data_2012!Y240/Baseline_Data_2012!Y$269","v":1.7852238229880281E-2},{"$f":"Baseline_Data_2012!Z240/Baseline_Data_2012!Z$269","v":5.8651919706865178E-3},{"$f":"Baseline_Data_2012!AA240/Baseline_Data_2012!AA$269","v":1.94539401319067E-2},{"$f":"Baseline_Data_2012!AB240/Baseline_Data_2012!AB$269","v":1.0176138236280696E-2},{"$f":"Baseline_Data_2012!AC240/Baseline_Data_2012!AC$269","v":0},{"$f":"Baseline_Data_2012!AD240/Baseline_Data_2012!AD$269","v":5.5635684224235437E-3},{"$f":"Baseline_Data_2012!AE240/Baseline_Data_2012!AE$269","v":5.1064976092561245E-3},{"$f":"Baseline_Data_2012!AF240/Baseline_Data_2012!AF$269","v":2.0371607803561782E-3},{"$f":"Baseline_Data_2012!AG240/Baseline_Data_2012!AG$269","v":2.3764065238937883E-3},{"$f":"Baseline_Data_2012!AH240/Baseline_Data_2012!AH$269","v":3.386122495671683E-3},{"$f":"Baseline_Data_2012!AI240/Baseline_Data_2012!AI$269","v":4.7299300369004942E-3},{"$f":"Baseline_Data_2012!AJ240/Baseline_Data_2012!AJ$269","v":3.0939896640260812E-3},{"$f":"Baseline_Data_2012!AK240/Baseline_Data_2012!AK$269","v":2.5410107234411362E-3},{"$f":"Baseline_Data_2012!AL240/Baseline_Data_2012!AL$269","v":2.4275363377901714E-3},{"$f":"Baseline_Data_2012!AM240/Baseline_Data_2012!AM$269","v":1.052669947344269E-3},{"$f":"Baseline_Data_2012!AN240/Baseline_Data_2012!AN$269","v":6.098525169473454E-3},{"$f":"Baseline_Data_2012!AO240/Baseline_Data_2012!AO$269","v":6.2041395493730453E-3},{"$f":"Baseline_Data_2012!AP240/Baseline_Data_2012!AP$269","v":1.9054078055192574E-3},{"$f":"Baseline_Data_2012!AQ240/Baseline_Data_2012!AQ$269","v":1.643791401079051E-3},{"$f":"Baseline_Data_2012!AR240/Baseline_Data_2012!AR$269","v":5.6621085751305551E-3},{"$f":"Baseline_Data_2012!AS240/Baseline_Data_2012!AS$269","v":4.9692255380143604E-3},{"$f":"Baseline_Data_2012!AT240/Baseline_Data_2012!AT$269","v":7.4254771716496691E-3},{"$f":"Baseline_Data_2012!AU240/Baseline_Data_2012!AU$269","v":1.6286183725987367E-3},{"$f":"Baseline_Data_2012!AV240/Baseline_Data_2012!AV$269","v":4.5555998684001396E-3},240]
[5,"Male 60-64",{"$f":"'III Tool Overview'!$H$8/110","v":1.3090909090909091},0,0,{"$f":"G241*'III Tool Overview'!$H$8","v":0.37720673113169634},{"$f":"HLOOKUP('III Tool Overview'!$H$6,Targeting!$I$1:$BC$269,Targeting!BD241,FALSE)","v":2.6194911884145581E-3},{"$f":"Baseline_Data_2012!B241","v":14478.960000000001},{"$f":"Baseline_Data_2012!B241/Baseline_Data_2012!B$269","v":1.3364840068556583E-2},{"$f":"Baseline_Data_2012!C241/Baseline_Data_2012!C$269","v":1.0789696909782581E-2},{"$f":"Baseline_Data_2012!D241/Baseline_Data_2012!D$269","v":5.2076650440499627E-3},{"$f":"Baseline_Data_2012!E241/Baseline_Data_2012!E$269","v":6.7147728123657172E-3},{"$f":"Baseline_Data_2012!F241/Baseline_Data_2012!F$269","v":1.3908817445952428E-2},{"$f":"Baseline_Data_2012!G241/Baseline_Data_2012!G$269","v":1.4865167466825825E-2},{"$f":"Baseline_Data_2012!H241/Baseline_Data_2012!H$269","v":2.2068222382180105E-2},{"$f":"Baseline_Data_2012!I241/Baseline_Data_2012!I$269","v":1.1859788258848708E-2},{"$f":"Baseline_Data_2012!J241/Baseline_Data_2012!J$269","v":6.6483268302553874E-3},{"$f":"Baseline_Data_2012!K241/Baseline_Data_2012!K$269","v":8.8998600356583711E-3},{"$f":"Baseline_Data_2012!L241/Baseline_Data_2012!L$269","v":1.9555097039557892E-2},{"$f":"Baseline_Data_2012!M241/Baseline_Data_2012!M$269","v":2.6194911884145581E-3},{"$f":"Baseline_Data_2012!N241/Baseline_Data_2012!N$269","v":5.0641805207023811E-3},{"$f":"Baseline_Data_2012!O241/Baseline_Data_2012!O$269","v":1.3202516884127009E-2},{"$f":"Baseline_Data_2012!P241/Baseline_Data_2012!P$269","v":0},{"$f":"Baseline_Data_2012!Q241/Baseline_Data_2012!Q$269","v":2.4002682745170686E-2},{"$f":"Baseline_Data_2012!R241/Baseline_Data_2012!R$269","v":2.5325147651982186E-2},{"$f":"Baseline_Data_2012!S241/Baseline_Data_2012!S$269","v":1.3019009937420084E-2},{"$f":"Baseline_Data_2012!T241/Baseline_Data_2012!T$269","v":7.2815328121758434E-3},{"$f":"Baseline_Data_2012!U241/Baseline_Data_2012!U$269","v":1.1694862609177917E-2},{"$f":"Baseline_Data_2012!V241/Baseline_Data_2012!V$269","v":6.6747248810250358E-3},{"$f":"Baseline_Data_2012!W241/Baseline_Data_2012!W$269","v":1.0248060121102655E-2},{"$f":"Baseline_Data_2012!X241/Baseline_Data_2012!X$269","v":8.4302800761638808E-3},{"$f":"Baseline_Data_2012!Y241/Baseline_Data_2012!Y$269","v":4.3064212594748033E-2},{"$f":"Baseline_Data_2012!Z241/Baseline_Data_2012!Z$269","v":1.4059275806445859E-2},{"$f":"Baseline_Data_2012!AA241/Baseline_Data_2012!AA$269","v":4.4120222872995142E-2},{"$f":"Baseline_Data_2012!AB241/Baseline_Data_2012!AB$269","v":2.5265472555878892E-2},{"$f":"Baseline_Data_2012!AC241/Baseline_Data_2012!AC$269","v":0},{"$f":"Baseline_Data_2012!AD241/Baseline_Data_2012!AD$269","v":1.2992350166078281E-2},{"$f":"Baseline_Data_2012!AE241/Baseline_Data_2012!AE$269","v":1.387771907166372E-2},{"$f":"Baseline_Data_2012!AF241/Baseline_Data_2012!AF$269","v":4.9247313689164303E-3},{"$f":"Baseline_Data_2012!AG241/Baseline_Data_2012!AG$269","v":6.4205637698420276E-3},{"$f":"Baseline_Data_2012!AH241/Baseline_Data_2012!AH$269","v":7.5958344059410187E-3},{"$f":"Baseline_Data_2012!AI241/Baseline_Data_2012!AI$269","v":1.3670542672652735E-2},{"$f":"Baseline_Data_2012!AJ241/Baseline_Data_2012!AJ$269","v":7.9706849110967749E-3},{"$f":"Baseline_Data_2012!AK241/Baseline_Data_2012!AK$269","v":7.8159653575768755E-3},{"$f":"Baseline_Data_2012!AL241/Baseline_Data_2012!AL$269","v":5.847662218285715E-3},{"$f":"Baseline_Data_2012!AM241/Baseline_Data_2012!AM$269","v":2.6194911884145581E-3},{"$f":"Baseline_Data_2012!AN241/Baseline_Data_2012!AN$269","v":1.6389786392959908E-2},{"$f":"Baseline_Data_2012!AO241/Baseline_Data_2012!AO$269","v":1.514425115605797E-2},{"$f":"Baseline_Data_2012!AP241/Baseline_Data_2012!AP$269","v":5.2325096622929971E-3},{"$f":"Baseline_Data_2012!AQ241/Baseline_Data_2012!AQ$269","v":5.0641805207023811E-3},{"$f":"Baseline_Data_2012!AR241/Baseline_Data_2012!AR$269","v":1.7428989108280314E-2},{"$f":"Baseline_Data_2012!AS241/Baseline_Data_2012!AS$269","v":1.2527935963082572E-2},{"$f":"Baseline_Data_2012!AT241/Baseline_Data_2012!AT$269","v":2.0311419744334334E-2},{"$f":"Baseline_Data_2012!AU241/Baseline_Data_2012!AU$269","v":3.2931051260225645E-3},{"$f":"Baseline_Data_2012!AV241/Baseline_Data_2012!AV$269","v":1.0361418696842126E-2},241]
[5,"Male 65-69",{"$f":"'III Tool Overview'!$H$8/110","v":1.3090909090909091},0,0,{"$f":"G242*'III Tool Overview'!$H$8","v":0.60002186998623319},{"$f":"HLOOKUP('III Tool Overview'!$H$6,Targeting!$I$1:$BC$269,Targeting!BD242,FALSE)","v":4.1668185415710641E-3},{"$f":"Baseline_Data_2012!B242","v":26248.5},{"$f":"Baseline_Data_2012!B242/Baseline_Data_2012!B$269","v":2.4228743261912971E-2},{"$f":"Baseline_Data_2012!C242/Baseline_Data_2012!C$269","v":2.0575658770464789E-2},{"$f":"Baseline_Data_2012!D242/Baseline_Data_2012!D$269","v":9.73608816892234E-3},{"$f":"Baseline_Data_2012!E242/Baseline_Data_2012!E$269","v":9.747740861648771E-3},{"$f":"Baseline_Data_2012!F242/Baseline_Data_2012!F$269","v":2.7544029272430666E-2},{"$f":"Baseline_Data_2012!G242/Baseline_Data_2012!G$269","v":2.814034982842465E-2},{"$f":"Baseline_Data_2012!H242/Baseline_Data_2012!H$269","v":3.714363283056793E-2},{"$f":"Baseline_Data_2012!I242/Baseline_Data_2012!I$269","v":2.1296785008018144E-2},{"$f":"Baseline_Data_2012!J242/Baseline_Data_2012!J$269","v":1.1965131178755677E-2},{"$f":"Baseline_Data_2012!K242/Baseline_Data_2012!K$269","v":1.4987385285095842E-2},{"$f":"Baseline_Data_2012!L242/Baseline_Data_2012!L$269","v":3.4849854582368202E-2},{"$f":"Baseline_Data_2012!M242/Baseline_Data_2012!M$269","v":4.1668185415710641E-3},{"$f":"Baseline_Data_2012!N242/Baseline_Data_2012!N$269","v":9.246326631069661E-3},{"$f":"Baseline_Data_2012!O242/Baseline_Data_2012!O$269","v":2.6749620121595791E-2},{"$f":"Baseline_Data_2012!P242/Baseline_Data_2012!P$269","v":0},{"$f":"Baseline_Data_2012!Q242/Baseline_Data_2012!Q$269","v":3.8510711870593684E-2},{"$f":"Baseline_Data_2012!R242/Baseline_Data_2012!R$269","v":4.3567917223859408E-2},{"$f":"Baseline_Data_2012!S242/Baseline_Data_2012!S$269","v":2.6147705169536434E-2},{"$f":"Baseline_Data_2012!T242/Baseline_Data_2012!T$269","v":1.4116381111775288E-2},{"$f":"Baseline_Data_2012!U242/Baseline_Data_2012!U$269","v":2.0338782904478315E-2},{"$f":"Baseline_Data_2012!V242/Baseline_Data_2012!V$269","v":9.7062025199600339E-3},{"$f":"Baseline_Data_2012!W242/Baseline_Data_2012!W$269","v":1.9257677210322083E-2},{"$f":"Baseline_Data_2012!X242/Baseline_Data_2012!X$269","v":1.4539470860797076E-2},{"$f":"Baseline_Data_2012!Y242/Baseline_Data_2012!Y$269","v":8.3536832151776722E-2},{"$f":"Baseline_Data_2012!Z242/Baseline_Data_2012!Z$269","v":2.9275744168752046E-2},{"$f":"Baseline_Data_2012!AA242/Baseline_Data_2012!AA$269","v":8.3918202981978843E-2},{"$f":"Baseline_Data_2012!AB242/Baseline_Data_2012!AB$269","v":4.4623031942623667E-2},{"$f":"Baseline_Data_2012!AC242/Baseline_Data_2012!AC$269","v":0},{"$f":"Baseline_Data_2012!AD242/Baseline_Data_2012!AD$269","v":2.3881482415184552E-2},{"$f":"Baseline_Data_2012!AE242/Baseline_Data_2012!AE$269","v":2.7482444271760283E-2},{"$f":"Baseline_Data_2012!AF242/Baseline_Data_2012!AF$269","v":7.1686022243644234E-3},{"$f":"Baseline_Data_2012!AG242/Baseline_Data_2012!AG$269","v":1.1056452560469936E-2},{"$f":"Baseline_Data_2012!AH242/Baseline_Data_2012!AH$269","v":1.4011713611859369E-2},{"$f":"Baseline_Data_2012!AI242/Baseline_Data_2012!AI$269","v":2.3624165647665719E-2},{"$f":"Baseline_Data_2012!AJ242/Baseline_Data_2012!AJ$269","v":1.8767864653333747E-2},{"$f":"Baseline_Data_2012!AK242/Baseline_Data_2012!AK$269","v":1.6331080882467753E-2},{"$f":"Baseline_Data_2012!AL242/Baseline_Data_2012!AL$269","v":8.8944708706876104E-3},{"$f":"Baseline_Data_2012!AM242/Baseline_Data_2012!AM$269","v":4.1668185415710641E-3},{"$f":"Baseline_Data_2012!AN242/Baseline_Data_2012!AN$269","v":3.3784906242730825E-2},{"$f":"Baseline_Data_2012!AO242/Baseline_Data_2012!AO$269","v":2.7557611231159147E-2},{"$f":"Baseline_Data_2012!AP242/Baseline_Data_2012!AP$269","v":9.7825368924272776E-3},{"$f":"Baseline_Data_2012!AQ242/Baseline_Data_2012!AQ$269","v":9.246326631069661E-3},{"$f":"Baseline_Data_2012!AR242/Baseline_Data_2012!AR$269","v":3.5053936329105605E-2},{"$f":"Baseline_Data_2012!AS242/Baseline_Data_2012!AS$269","v":2.1756520760869313E-2},{"$f":"Baseline_Data_2012!AT242/Baseline_Data_2012!AT$269","v":4.0652361901087758E-2},{"$f":"Baseline_Data_2012!AU242/Baseline_Data_2012!AU$269","v":5.2550422016409337E-3},{"$f":"Baseline_Data_2012!AV242/Baseline_Data_2012!AV$269","v":1.7748131331681374E-2},242]
[5,"Male 70-74",null,null,null,null,{"$f":"HLOOKUP('III Tool Overview'!$H$6,Targeting!$I$1:$BC$269,Targeting!BD243,FALSE)","v":0},null,{"$f":"Baseline_Data_2012!B243/Baseline_Data_2012!B$269","v":0},{"$f":"Baseline_Data_2012!C243/Baseline_Data_2012!C$269","v":0},{"$f":"Baseline_Data_2012!D243/Baseline_Data_2012!D$269","v":0},{"$f":"Baseline_Data_2012!E243/Baseline_Data_2012!E$269","v":0},{"$f":"Baseline_Data_2012!F243/Baseline_Data_2012!F$269","v":0},{"$f":"Baseline_Data_2012!G243/Baseline_Data_2012!G$269","v":0},{"$f":"Baseline_Data_2012!H243/Baseline_Data_2012!H$269","v":0},{"$f":"Baseline_Data_2012!I243/Baseline_Data_2012!I$269","v":0},{"$f":"Baseline_Data_2012!J243/Baseline_Data_2012!J$269","v":0},{"$f":"Baseline_Data_2012!K243/Baseline_Data_2012!K$269","v":0},{"$f":"Baseline_Data_2012!L243/Baseline_Data_2012!L$269","v":0},{"$f":"Baseline_Data_2012!M243/Baseline_Data_2012!M$269","v":0},{"$f":"Baseline_Data_2012!N243/Baseline_Data_2012!N$269","v":0},{"$f":"Baseline_Data_2012!O243/Baseline_Data_2012!O$269","v":0},{"$f":"Baseline_Data_2012!P243/Baseline_Data_2012!P$269","v":0},{"$f":"Baseline_Data_2012!Q243/Baseline_Data_2012!Q$269","v":0},{"$f":"Baseline_Data_2012!R243/Baseline_Data_2012!R$269","v":0},{"$f":"Baseline_Data_2012!S243/Baseline_Data_2012!S$269","v":0},{"$f":"Baseline_Data_2012!T243/Baseline_Data_2012!T$269","v":0},{"$f":"Baseline_Data_2012!U243/Baseline_Data_2012!U$269","v":0},{"$f":"Baseline_Data_2012!V243/Baseline_Data_2012!V$269","v":0},{"$f":"Baseline_Data_2012!W243/Baseline_Data_2012!W$269","v":0},{"$f":"Baseline_Data_2012!X243/Baseline_Data_2012!X$269","v":0},{"$f":"Baseline_Data_2012!Y243/Baseline_Data_2012!Y$269","v":0},{"$f":"Baseline_Data_2012!Z243/Baseline_Data_2012!Z$269","v":0},{"$f":"Baseline_Data_2012!AA243/Baseline_Data_2012!AA$269","v":0},{"$f":"Baseline_Data_2012!AB243/Baseline_Data_2012!AB$269","v":0},{"$f":"Baseline_Data_2012!AC243/Baseline_Data_2012!AC$269","v":0},{"$f":"Baseline_Data_2012!AD243/Baseline_Data_2012!AD$269","v":0},{"$f":"Baseline_Data_2012!AE243/Baseline_Data_2012!AE$269","v":0},{"$f":"Baseline_Data_2012!AF243/Baseline_Data_2012!AF$269","v":0},{"$f":"Baseline_Data_2012!AG243/Baseline_Data_2012!AG$269","v":0},{"$f":"Baseline_Data_2012!AH243/Baseline_Data_2012!AH$269","v":0},{"$f":"Baseline_Data_2012!AI243/Baseline_Data_2012!AI$269","v":0},{"$f":"Baseline_Data_2012!AJ243/Baseline_Data_2012!AJ$269","v":0},{"$f":"Baseline_Data_2012!AK243/Baseline_Data_2012!AK$269","v":0},{"$f":"Baseline_Data_2012!AL243/Baseline_Data_2012!AL$269","v":0},{"$f":"Baseline_Data_2012!AM243/Baseline_Data_2012!AM$269","v":0},{"$f":"Baseline_Data_2012!AN243/Baseline_Data_2012!AN$269","v":0},{"$f":"Baseline_Data_2012!AO243/Baseline_Data_2012!AO$269","v":0},{"$f":"Baseline_Data_2012!AP243/Baseline_Data_2012!AP$269","v":0},{"$f":"Baseline_Data_2012!AQ243/Baseline_Data_2012!AQ$269","v":0},{"$f":"Baseline_Data_2012!AR243/Baseline_Data_2012!AR$269","v":0},{"$f":"Baseline_Data_2012!AS243/Baseline_Data_2012!AS$269","v":0},{"$f":"Baseline_Data_2012!AT243/Baseline_Data_2012!AT$269","v":0},{"$f":"Baseline_Data_2012!AU243/Baseline_Data_2012!AU$269","v":0},{"$f":"Baseline_Data_2012!AV243/Baseline_Data_2012!AV$269","v":0},243]
[5,"Male 75-79",null,null,null,null,{"$f":"HLOOKUP('III Tool Overview'!$H$6,Targeting!$I$1:$BC$269,Targeting!BD244,FALSE)","v":0},null,{"$f":"Baseline_Data_2012!B244/Baseline_Data_2012!B$269","v":0},{"$f":"Baseline_Data_2012!C244/Baseline_Data_2012!C$269","v":0},{"$f":"Baseline_Data_2012!D244/Baseline_Data_2012!D$269","v":0},{"$f":"Baseline_Data_2012!E244/Baseline_Data_2012!E$269","v":0},{"$f":"Baseline_Data_2012!F244/Baseline_Data_2012!F$269","v":0},{"$f":"Baseline_Data_2012!G244/Baseline_Data_2012!G$269","v":0},{"$f":"Baseline_Data_2012!H244/Baseline_Data_2012!H$269","v":0},{"$f":"Baseline_Data_2012!I244/Baseline_Data_2012!I$269","v":0},{"$f":"Baseline_Data_2012!J244/Baseline_Data_2012!J$269","v":0},{"$f":"Baseline_Data_2012!K244/Baseline_Data_2012!K$269","v":0},{"$f":"Baseline_Data_2012!L244/Baseline_Data_2012!L$269","v":0},{"$f":"Baseline_Data_2012!M244/Baseline_Data_2012!M$269","v":0},{"$f":"Baseline_Data_2012!N244/Baseline_Data_2012!N$269","v":0},{"$f":"Baseline_Data_2012!O244/Baseline_Data_2012!O$269","v":0},{"$f":"Baseline_Data_2012!P244/Baseline_Data_2012!P$269","v":0},{"$f":"Baseline_Data_2012!Q244/Baseline_Data_2012!Q$269","v":0},{"$f":"Baseline_Data_2012!R244/Baseline_Data_2012!R$269","v":0},{"$f":"Baseline_Data_2012!S244/Baseline_Data_2012!S$269","v":0},{"$f":"Baseline_Data_2012!T244/Baseline_Data_2012!T$269","v":0},{"$f":"Baseline_Data_2012!U244/Baseline_Data_2012!U$269","v":0},{"$f":"Baseline_Data_2012!V244/Baseline_Data_2012!V$269","v":0},{"$f":"Baseline_Data_2012!W244/Baseline_Data_2012!W$269","v":0},{"$f":"Baseline_Data_2012!X244/Baseline_Data_2012!X$269","v":0},{"$f":"Baseline_Data_2012!Y244/Baseline_Data_2012!Y$269","v":0},{"$f":"Baseline_Data_2012!Z244/Baseline_Data_2012!Z$269","v":0},{"$f":"Baseline_Data_2012!AA244/Baseline_Data_2012!AA$269","v":0},{"$f":"Baseline_Data_2012!AB244/Baseline_Data_2012!AB$269","v":0},{"$f":"Baseline_Data_2012!AC244/Baseline_Data_2012!AC$269","v":0},{"$f":"Baseline_Data_2012!AD244/Baseline_Data_2012!AD$269","v":0},{"$f":"Baseline_Data_2012!AE244/Baseline_Data_2012!AE$269","v":0},{"$f":"Baseline_Data_2012!AF244/Baseline_Data_2012!AF$269","v":0},{"$f":"Baseline_Data_2012!AG244/Baseline_Data_2012!AG$269","v":0},{"$f":"Baseline_Data_2012!AH244/Baseline_Data_2012!AH$269","v":0},{"$f":"Baseline_Data_2012!AI244/Baseline_Data_2012!AI$269","v":0},{"$f":"Baseline_Data_2012!AJ244/Baseline_Data_2012!AJ$269","v":0},{"$f":"Baseline_Data_2012!AK244/Baseline_Data_2012!AK$269","v":0},{"$f":"Baseline_Data_2012!AL244/Baseline_Data_2012!AL$269","v":0},{"$f":"Baseline_Data_2012!AM244/Baseline_Data_2012!AM$269","v":0},{"$f":"Baseline_Data_2012!AN244/Baseline_Data_2012!AN$269","v":0},{"$f":"Baseline_Data_2012!AO244/Baseline_Data_2012!AO$269","v":0},{"$f":"Baseline_Data_2012!AP244/Baseline_Data_2012!AP$269","v":0},{"$f":"Baseline_Data_2012!AQ244/Baseline_Data_2012!AQ$269","v":0},{"$f":"Baseline_Data_2012!AR244/Baseline_Data_2012!AR$269","v":0},{"$f":"Baseline_Data_2012!AS244/Baseline_Data_2012!AS$269","v":0},{"$f":"Baseline_Data_2012!AT244/Baseline_Data_2012!AT$269","v":0},{"$f":"Baseline_Data_2012!AU244/Baseline_Data_2012!AU$269","v":0},{"$f":"Baseline_Data_2012!AV244/Baseline_Data_2012!AV$269","v":0},244]
[5,"Male 80-84",null,null,null,null,{"$f":"HLOOKUP('III Tool Overview'!$H$6,Targeting!$I$1:$BC$269,Targeting!BD245,FALSE)","v":0},null,{"$f":"Baseline_Data_2012!B245/Baseline_Data_2012!B$269","v":0},{"$f":"Baseline_Data_2012!C245/Baseline_Data_2012!C$269","v":0},{"$f":"Baseline_Data_2012!D245/Baseline_Data_2012!D$269","v":0},{"$f":"Baseline_Data_2012!E245/Baseline_Data_2012!E$269","v":0},{"$f":"Baseline_Data_2012!F245/Baseline_Data_2012!F$269","v":0},{"$f":"Baseline_Data_2012!G245/Baseline_Data_2012!G$269","v":0},{"$f":"Baseline_Data_2012!H245/Baseline_Data_2012!H$269","v":0},{"$f":"Baseline_Data_2012!I245/Baseline_Data_2012!I$269","v":0},{"$f":"Baseline_Data_2012!J245/Baseline_Data_2012!J$269","v":0},{"$f":"Baseline_Data_2012!K245/Baseline_Data_2012!K$269","v":0},{"$f":"Baseline_Data_2012!L245/Baseline_Data_2012!L$269","v":0},{"$f":"Baseline_Data_2012!M245/Baseline_Data_2012!M$269","v":0},{"$f":"Baseline_Data_2012!N245/Baseline_Data_2012!N$269","v":0},{"$f":"Baseline_Data_2012!O245/Baseline_Data_2012!O$269","v":0},{"$f":"Baseline_Data_2012!P245/Baseline_Data_2012!P$269","v":0},{"$f":"Baseline_Data_2012!Q245/Baseline_Data_2012!Q$269","v":0},{"$f":"Baseline_Data_2012!R245/Baseline_Data_2012!R$269","v":0},{"$f":"Baseline_Data_2012!S245/Baseline_Data_2012!S$269","v":0},{"$f":"Baseline_Data_2012!T245/Baseline_Data_2012!T$269","v":0},{"$f":"Baseline_Data_2012!U245/Baseline_Data_2012!U$269","v":0},{"$f":"Baseline_Data_2012!V245/Baseline_Data_2012!V$269","v":0},{"$f":"Baseline_Data_2012!W245/Baseline_Data_2012!W$269","v":0},{"$f":"Baseline_Data_2012!X245/Baseline_Data_2012!X$269","v":0},{"$f":"Baseline_Data_2012!Y245/Baseline_Data_2012!Y$269","v":0},{"$f":"Baseline_Data_2012!Z245/Baseline_Data_2012!Z$269","v":0},{"$f":"Baseline_Data_2012!AA245/Baseline_Data_2012!AA$269","v":0},{"$f":"Baseline_Data_2012!AB245/Baseline_Data_2012!AB$269","v":0},{"$f":"Baseline_Data_2012!AC245/Baseline_Data_2012!AC$269","v":0},{"$f":"Baseline_Data_2012!AD245/Baseline_Data_2012!AD$269","v":0},{"$f":"Baseline_Data_2012!AE245/Baseline_Data_2012!AE$269","v":0},{"$f":"Baseline_Data_2012!AF245/Baseline_Data_2012!AF$269","v":0},{"$f":"Baseline_Data_2012!AG245/Baseline_Data_2012!AG$269","v":0},{"$f":"Baseline_Data_2012!AH245/Baseline_Data_2012!AH$269","v":0},{"$f":"Baseline_Data_2012!AI245/Baseline_Data_2012!AI$269","v":0},{"$f":"Baseline_Data_2012!AJ245/Baseline_Data_2012!AJ$269","v":0},{"$f":"Baseline_Data_2012!AK245/Baseline_Data_2012!AK$269","v":0},{"$f":"Baseline_Data_2012!AL245/Baseline_Data_2012!AL$269","v":0},{"$f":"Baseline_Data_2012!AM245/Baseline_Data_2012!AM$269","v":0},{"$f":"Baseline_Data_2012!AN245/Baseline_Data_2012!AN$269","v":0},{"$f":"Baseline_Data_2012!AO245/Baseline_Data_2012!AO$269","v":0},{"$f":"Baseline_Data_2012!AP245/Baseline_Data_2012!AP$269","v":0},{"$f":"Baseline_Data_2012!AQ245/Baseline_Data_2012!AQ$269","v":0},{"$f":"Baseline_Data_2012!AR245/Baseline_Data_2012!AR$269","v":0},{"$f":"Baseline_Data_2012!AS245/Baseline_Data_2012!AS$269","v":0},{"$f":"Baseline_Data_2012!AT245/Baseline_Data_2012!AT$269","v":0},{"$f":"Baseline_Data_2012!AU245/Baseline_Data_2012!AU$269","v":0},{"$f":"Baseline_Data_2012!AV245/Baseline_Data_2012!AV$269","v":0},245]
[5,"Male 85+",null,null,null,null,{"$f":"HLOOKUP('III Tool Overview'!$H$6,Targeting!$I$1:$BC$269,Targeting!BD246,FALSE)","v":0},null,{"$f":"Baseline_Data_2012!B246/Baseline_Data_2012!B$269","v":0},{"$f":"Baseline_Data_2012!C246/Baseline_Data_2012!C$269","v":0},{"$f":"Baseline_Data_2012!D246/Baseline_Data_2012!D$269","v":0},{"$f":"Baseline_Data_2012!E246/Baseline_Data_2012!E$269","v":0},{"$f":"Baseline_Data_2012!F246/Baseline_Data_2012!F$269","v":0},{"$f":"Baseline_Data_2012!G246/Baseline_Data_2012!G$269","v":0},{"$f":"Baseline_Data_2012!H246/Baseline_Data_2012!H$269","v":0},{"$f":"Baseline_Data_2012!I246/Baseline_Data_2012!I$269","v":0},{"$f":"Baseline_Data_2012!J246/Baseline_Data_2012!J$269","v":0},{"$f":"Baseline_Data_2012!K246/Baseline_Data_2012!K$269","v":0},{"$f":"Baseline_Data_2012!L246/Baseline_Data_2012!L$269","v":0},{"$f":"Baseline_Data_2012!M246/Baseline_Data_2012!M$269","v":0},{"$f":"Baseline_Data_2012!N246/Baseline_Data_2012!N$269","v":0},{"$f":"Baseline_Data_2012!O246/Baseline_Data_2012!O$269","v":0},{"$f":"Baseline_Data_2012!P246/Baseline_Data_2012!P$269","v":0},{"$f":"Baseline_Data_2012!Q246/Baseline_Data_2012!Q$269","v":0},{"$f":"Baseline_Data_2012!R246/Baseline_Data_2012!R$269","v":0},{"$f":"Baseline_Data_2012!S246/Baseline_Data_2012!S$269","v":0},{"$f":"Baseline_Data_2012!T246/Baseline_Data_2012!T$269","v":0},{"$f":"Baseline_Data_2012!U246/Baseline_Data_2012!U$269","v":0},{"$f":"Baseline_Data_2012!V246/Baseline_Data_2012!V$269","v":0},{"$f":"Baseline_Data_2012!W246/Baseline_Data_2012!W$269","v":0},{"$f":"Baseline_Data_2012!X246/Baseline_Data_2012!X$269","v":0},{"$f":"Baseline_Data_2012!Y246/Baseline_Data_2012!Y$269","v":0},{"$f":"Baseline_Data_2012!Z246/Baseline_Data_2012!Z$269","v":0},{"$f":"Baseline_Data_2012!AA246/Baseline_Data_2012!AA$269","v":0},{"$f":"Baseline_Data_2012!AB246/Baseline_Data_2012!AB$269","v":0},{"$f":"Baseline_Data_2012!AC246/Baseline_Data_2012!AC$269","v":0},{"$f":"Baseline_Data_2012!AD246/Baseline_Data_2012!AD$269","v":0},{"$f":"Baseline_Data_2012!AE246/Baseline_Data_2012!AE$269","v":0},{"$f":"Baseline_Data_2012!AF246/Baseline_Data_2012!AF$269","v":0},{"$f":"Baseline_Data_2012!AG246/Baseline_Data_2012!AG$269","v":0},{"$f":"Baseline_Data_2012!AH246/Baseline_Data_2012!AH$269","v":0},{"$f":"Baseline_Data_2012!AI246/Baseline_Data_2012!AI$269","v":0},{"$f":"Baseline_Data_2012!AJ246/Baseline_Data_2012!AJ$269","v":0},{"$f":"Baseline_Data_2012!AK246/Baseline_Data_2012!AK$269","v":0},{"$f":"Baseline_Data_2012!AL246/Baseline_Data_2012!AL$269","v":0},{"$f":"Baseline_Data_2012!AM246/Baseline_Data_2012!AM$269","v":0},{"$f":"Baseline_Data_2012!AN246/Baseline_Data_2012!AN$269","v":0},{"$f":"Baseline_Data_2012!AO246/Baseline_Data_2012!AO$269","v":0},{"$f":"Baseline_Data_2012!AP246/Baseline_Data_2012!AP$269","v":0},{"$f":"Baseline_Data_2012!AQ246/Baseline_Data_2012!AQ$269","v":0},{"$f":"Baseline_Data_2012!AR246/Baseline_Data_2012!AR$269","v":0},{"$f":"Baseline_Data_2012!AS246/Baseline_Data_2012!AS$269","v":0},{"$f":"Baseline_Data_2012!AT246/Baseline_Data_2012!AT$269","v":0},{"$f":"Baseline_Data_2012!AU246/Baseline_Data_2012!AU$269","v":0},{"$f":"Baseline_Data_2012!AV246/Baseline_Data_2012!AV$269","v":0},246]
[null,"TOTAL",null,null,null,null,{"$f":"HLOOKUP('III Tool Overview'!$H$6,Targeting!$I$1:$BC$269,Targeting!BD247,FALSE)","v":0},null,{"$f":"Baseline_Data_2012!B247/Baseline_Data_2012!B$269","v":0},{"$f":"Baseline_Data_2012!C247/Baseline_Data_2012!C$269","v":0},{"$f":"Baseline_Data_2012!D247/Baseline_Data_2012!D$269","v":0},{"$f":"Baseline_Data_2012!E247/Baseline_Data_2012!E$269","v":0},{"$f":"Baseline_Data_2012!F247/Baseline_Data_2012!F$269","v":0},{"$f":"Baseline_Data_2012!G247/Baseline_Data_2012!G$269","v":0},{"$f":"Baseline_Data_2012!H247/Baseline_Data_2012!H$269","v":0},{"$f":"Baseline_Data_2012!I247/Baseline_Data_2012!I$269","v":0},{"$f":"Baseline_Data_2012!J247/Baseline_Data_2012!J$269","v":0},{"$f":"Baseline_Data_2012!K247/Baseline_Data_2012!K$269","v":0},{"$f":"Baseline_Data_2012!L247/Baseline_Data_2012!L$269","v":0},{"$f":"Baseline_Data_2012!M247/Baseline_Data_2012!M$269","v":0},{"$f":"Baseline_Data_2012!N247/Baseline_Data_2012!N$269","v":0},{"$f":"Baseline_Data_2012!O247/Baseline_Data_2012!O$269","v":0},{"$f":"Baseline_Data_2012!P247/Baseline_Data_2012!P$269","v":0},{"$f":"Baseline_Data_2012!Q247/Baseline_Data_2012!Q$269","v":0},{"$f":"Baseline_Data_2012!R247/Baseline_Data_2012!R$269","v":0},{"$f":"Baseline_Data_2012!S247/Baseline_Data_2012!S$269","v":0},{"$f":"Baseline_Data_2012!T247/Baseline_Data_2012!T$269","v":0},{"$f":"Baseline_Data_2012!U247/Baseline_Data_2012!U$269","v":0},{"$f":"Baseline_Data_2012!V247/Baseline_Data_2012!V$269","v":0},{"$f":"Baseline_Data_2012!W247/Baseline_Data_2012!W$269","v":0},{"$f":"Baseline_Data_2012!X247/Baseline_Data_2012!X$269","v":0},{"$f":"Baseline_Data_2012!Y247/Baseline_Data_2012!Y$269","v":0},{"$f":"Baseline_Data_2012!Z247/Baseline_Data_2012!Z$269","v":0},{"$f":"Baseline_Data_2012!AA247/Baseline_Data_2012!AA$269","v":0},{"$f":"Baseline_Data_2012!AB247/Baseline_Data_2012!AB$269","v":0},{"$f":"Baseline_Data_2012!AC247/Baseline_Data_2012!AC$269","v":0},{"$f":"Baseline_Data_2012!AD247/Baseline_Data_2012!AD$269","v":0},{"$f":"Baseline_Data_2012!AE247/Baseline_Data_2012!AE$269","v":0},{"$f":"Baseline_Data_2012!AF247/Baseline_Data_2012!AF$269","v":0},{"$f":"Baseline_Data_2012!AG247/Baseline_Data_2012!AG$269","v":0},{"$f":"Baseline_Data_2012!AH247/Baseline_Data_2012!AH$269","v":0},{"$f":"Baseline_Data_2012!AI247/Baseline_Data_2012!AI$269","v":0},{"$f":"Baseline_Data_2012!AJ247/Baseline_Data_2012!AJ$269","v":0},{"$f":"Baseline_Data_2012!AK247/Baseline_Data_2012!AK$269","v":0},{"$f":"Baseline_Data_2012!AL247/Baseline_Data_2012!AL$269","v":0},{"$f":"Baseline_Data_2012!AM247/Baseline_Data_2012!AM$269","v":0},{"$f":"Baseline_Data_2012!AN247/Baseline_Data_2012!AN$269","v":0},{"$f":"Baseline_Data_2012!AO247/Baseline_Data_2012!AO$269","v":0},{"$f":"Baseline_Data_2012!AP247/Baseline_Data_2012!AP$269","v":0},{"$f":"Baseline_Data_2012!AQ247/Baseline_Data_2012!AQ$269","v":0},{"$f":"Baseline_Data_2012!AR247/Baseline_Data_2012!AR$269","v":0},{"$f":"Baseline_Data_2012!AS247/Baseline_Data_2012!AS$269","v":0},{"$f":"Baseline_Data_2012!AT247/Baseline_Data_2012!AT$269","v":0},{"$f":"Baseline_Data_2012!AU247/Baseline_Data_2012!AU$269","v":0},{"$f":"Baseline_Data_2012!AV247/Baseline_Data_2012!AV$269","v":0},247]
[5,"Female <1",null,null,null,null,{"$f":"HLOOKUP('III Tool Overview'!$H$6,Targeting!$I$1:$BC$269,Targeting!BD248,FALSE)","v":0},null,{"$f":"Baseline_Data_2012!B248/Baseline_Data_2012!B$269","v":0},{"$f":"Baseline_Data_2012!C248/Baseline_Data_2012!C$269","v":0},{"$f":"Baseline_Data_2012!D248/Baseline_Data_2012!D$269","v":0},{"$f":"Baseline_Data_2012!E248/Baseline_Data_2012!E$269","v":0},{"$f":"Baseline_Data_2012!F248/Baseline_Data_2012!F$269","v":0},{"$f":"Baseline_Data_2012!G248/Baseline_Data_2012!G$269","v":0},{"$f":"Baseline_Data_2012!H248/Baseline_Data_2012!H$269","v":0},{"$f":"Baseline_Data_2012!I248/Baseline_Data_2012!I$269","v":0},{"$f":"Baseline_Data_2012!J248/Baseline_Data_2012!J$269","v":0},{"$f":"Baseline_Data_2012!K248/Baseline_Data_2012!K$269","v":0},{"$f":"Baseline_Data_2012!L248/Baseline_Data_2012!L$269","v":0},{"$f":"Baseline_Data_2012!M248/Baseline_Data_2012!M$269","v":0},{"$f":"Baseline_Data_2012!N248/Baseline_Data_2012!N$269","v":0},{"$f":"Baseline_Data_2012!O248/Baseline_Data_2012!O$269","v":0},{"$f":"Baseline_Data_2012!P248/Baseline_Data_2012!P$269","v":0},{"$f":"Baseline_Data_2012!Q248/Baseline_Data_2012!Q$269","v":0},{"$f":"Baseline_Data_2012!R248/Baseline_Data_2012!R$269","v":0},{"$f":"Baseline_Data_2012!S248/Baseline_Data_2012!S$269","v":0},{"$f":"Baseline_Data_2012!T248/Baseline_Data_2012!T$269","v":0},{"$f":"Baseline_Data_2012!U248/Baseline_Data_2012!U$269","v":0},{"$f":"Baseline_Data_2012!V248/Baseline_Data_2012!V$269","v":0},{"$f":"Baseline_Data_2012!W248/Baseline_Data_2012!W$269","v":0},{"$f":"Baseline_Data_2012!X248/Baseline_Data_2012!X$269","v":0},{"$f":"Baseline_Data_2012!Y248/Baseline_Data_2012!Y$269","v":0},{"$f":"Baseline_Data_2012!Z248/Baseline_Data_2012!Z$269","v":0},{"$f":"Baseline_Data_2012!AA248/Baseline_Data_2012!AA$269","v":0},{"$f":"Baseline_Data_2012!AB248/Baseline_Data_2012!AB$269","v":0},{"$f":"Baseline_Data_2012!AC248/Baseline_Data_2012!AC$269","v":0},{"$f":"Baseline_Data_2012!AD248/Baseline_Data_2012!AD$269","v":0},{"$f":"Baseline_Data_2012!AE248/Baseline_Data_2012!AE$269","v":0},{"$f":"Baseline_Data_2012!AF248/Baseline_Data_2012!AF$269","v":0},{"$f":"Baseline_Data_2012!AG248/Baseline_Data_2012!AG$269","v":0},{"$f":"Baseline_Data_2012!AH248/Baseline_Data_2012!AH$269","v":0},{"$f":"Baseline_Data_2012!AI248/Baseline_Data_2012!AI$269","v":0},{"$f":"Baseline_Data_2012!AJ248/Baseline_Data_2012!AJ$269","v":0},{"$f":"Baseline_Data_2012!AK248/Baseline_Data_2012!AK$269","v":0},{"$f":"Baseline_Data_2012!AL248/Baseline_Data_2012!AL$269","v":0},{"$f":"Baseline_Data_2012!AM248/Baseline_Data_2012!AM$269","v":0},{"$f":"Baseline_Data_2012!AN248/Baseline_Data_2012!AN$269","v":0},{"$f":"Baseline_Data_2012!AO248/Baseline_Data_2012!AO$269","v":0},{"$f":"Baseline_Data_2012!AP248/Baseline_Data_2012!AP$269","v":0},{"$f":"Baseline_Data_2012!AQ248/Baseline_Data_2012!AQ$269","v":0},{"$f":"Baseline_Data_2012!AR248/Baseline_Data_2012!AR$269","v":0},{"$f":"Baseline_Data_2012!AS248/Baseline_Data_2012!AS$269","v":0},{"$f":"Baseline_Data_2012!AT248/Baseline_Data_2012!AT$269","v":0},{"$f":"Baseline_Data_2012!AU248/Baseline_Data_2012!AU$269","v":0},{"$f":"Baseline_Data_2012!AV248/Baseline_Data_2012!AV$269","v":0},248]
[5,"Female 1-4",null,null,null,null,{"$f":"HLOOKUP('III Tool Overview'!$H$6,Targeting!$I$1:$BC$269,Targeting!BD249,FALSE)","v":0},null,{"$f":"Baseline_Data_2012!B249/Baseline_Data_2012!B$269","v":0},{"$f":"Baseline_Data_2012!C249/Baseline_Data_2012!C$269","v":0},{"$f":"Baseline_Data_2012!D249/Baseline_Data_2012!D$269","v":0},{"$f":"Baseline_Data_2012!E249/Baseline_Data_2012!E$269","v":0},{"$f":"Baseline_Data_2012!F249/Baseline_Data_2012!F$269","v":0},{"$f":"Baseline_Data_2012!G249/Baseline_Data_2012!G$269","v":0},{"$f":"Baseline_Data_2012!H249/Baseline_Data_2012!H$269","v":0},{"$f":"Baseline_Data_2012!I249/Baseline_Data_2012!I$269","v":0},{"$f":"Baseline_Data_2012!J249/Baseline_Data_2012!J$269","v":0},{"$f":"Baseline_Data_2012!K249/Baseline_Data_2012!K$269","v":0},{"$f":"Baseline_Data_2012!L249/Baseline_Data_2012!L$269","v":0},{"$f":"Baseline_Data_2012!M249/Baseline_Data_2012!M$269","v":0},{"$f":"Baseline_Data_2012!N249/Baseline_Data_2012!N$269","v":0},{"$f":"Baseline_Data_2012!O249/Baseline_Data_2012!O$269","v":0},{"$f":"Baseline_Data_2012!P249/Baseline_Data_2012!P$269","v":0},{"$f":"Baseline_Data_2012!Q249/Baseline_Data_2012!Q$269","v":0},{"$f":"Baseline_Data_2012!R249/Baseline_Data_2012!R$269","v":0},{"$f":"Baseline_Data_2012!S249/Baseline_Data_2012!S$269","v":0},{"$f":"Baseline_Data_2012!T249/Baseline_Data_2012!T$269","v":0},{"$f":"Baseline_Data_2012!U249/Baseline_Data_2012!U$269","v":0},{"$f":"Baseline_Data_2012!V249/Baseline_Data_2012!V$269","v":0},{"$f":"Baseline_Data_2012!W249/Baseline_Data_2012!W$269","v":0},{"$f":"Baseline_Data_2012!X249/Baseline_Data_2012!X$269","v":0},{"$f":"Baseline_Data_2012!Y249/Baseline_Data_2012!Y$269","v":0},{"$f":"Baseline_Data_2012!Z249/Baseline_Data_2012!Z$269","v":0},{"$f":"Baseline_Data_2012!AA249/Baseline_Data_2012!AA$269","v":0},{"$f":"Baseline_Data_2012!AB249/Baseline_Data_2012!AB$269","v":0},{"$f":"Baseline_Data_2012!AC249/Baseline_Data_2012!AC$269","v":0},{"$f":"Baseline_Data_2012!AD249/Baseline_Data_2012!AD$269","v":0},{"$f":"Baseline_Data_2012!AE249/Baseline_Data_2012!AE$269","v":0},{"$f":"Baseline_Data_2012!AF249/Baseline_Data_2012!AF$269","v":0},{"$f":"Baseline_Data_2012!AG249/Baseline_Data_2012!AG$269","v":0},{"$f":"Baseline_Data_2012!AH249/Baseline_Data_2012!AH$269","v":0},{"$f":"Baseline_Data_2012!AI249/Baseline_Data_2012!AI$269","v":0},{"$f":"Baseline_Data_2012!AJ249/Baseline_Data_2012!AJ$269","v":0},{"$f":"Baseline_Data_2012!AK249/Baseline_Data_2012!AK$269","v":0},{"$f":"Baseline_Data_2012!AL249/Baseline_Data_2012!AL$269","v":0},{"$f":"Baseline_Data_2012!AM249/Baseline_Data_2012!AM$269","v":0},{"$f":"Baseline_Data_2012!AN249/Baseline_Data_2012!AN$269","v":0},{"$f":"Baseline_Data_2012!AO249/Baseline_Data_2012!AO$269","v":0},{"$f":"Baseline_Data_2012!AP249/Baseline_Data_2012!AP$269","v":0},{"$f":"Baseline_Data_2012!AQ249/Baseline_Data_2012!AQ$269","v":0},{"$f":"Baseline_Data_2012!AR249/Baseline_Data_2012!AR$269","v":0},{"$f":"Baseline_Data_2012!AS249/Baseline_Data_2012!AS$269","v":0},{"$f":"Baseline_Data_2012!AT249/Baseline_Data_2012!AT$269","v":0},{"$f":"Baseline_Data_2012!AU249/Baseline_Data_2012!AU$269","v":0},{"$f":"Baseline_Data_2012!AV249/Baseline_Data_2012!AV$269","v":0},249]
[5,"Female 5-9",null,null,null,null,{"$f":"HLOOKUP('III Tool Overview'!$H$6,Targeting!$I$1:$BC$269,Targeting!BD250,FALSE)","v":0},null,{"$f":"Baseline_Data_2012!B250/Baseline_Data_2012!B$269","v":0},{"$f":"Baseline_Data_2012!C250/Baseline_Data_2012!C$269","v":0},{"$f":"Baseline_Data_2012!D250/Baseline_Data_2012!D$269","v":0},{"$f":"Baseline_Data_2012!E250/Baseline_Data_2012!E$269","v":0},{"$f":"Baseline_Data_2012!F250/Baseline_Data_2012!F$269","v":0},{"$f":"Baseline_Data_2012!G250/Baseline_Data_2012!G$269","v":0},{"$f":"Baseline_Data_2012!H250/Baseline_Data_2012!H$269","v":0},{"$f":"Baseline_Data_2012!I250/Baseline_Data_2012!I$269","v":0},{"$f":"Baseline_Data_2012!J250/Baseline_Data_2012!J$269","v":0},{"$f":"Baseline_Data_2012!K250/Baseline_Data_2012!K$269","v":0},{"$f":"Baseline_Data_2012!L250/Baseline_Data_2012!L$269","v":0},{"$f":"Baseline_Data_2012!M250/Baseline_Data_2012!M$269","v":0},{"$f":"Baseline_Data_2012!N250/Baseline_Data_2012!N$269","v":0},{"$f":"Baseline_Data_2012!O250/Baseline_Data_2012!O$269","v":0},{"$f":"Baseline_Data_2012!P250/Baseline_Data_2012!P$269","v":0},{"$f":"Baseline_Data_2012!Q250/Baseline_Data_2012!Q$269","v":0},{"$f":"Baseline_Data_2012!R250/Baseline_Data_2012!R$269","v":0},{"$f":"Baseline_Data_2012!S250/Baseline_Data_2012!S$269","v":0},{"$f":"Baseline_Data_2012!T250/Baseline_Data_2012!T$269","v":0},{"$f":"Baseline_Data_2012!U250/Baseline_Data_2012!U$269","v":0},{"$f":"Baseline_Data_2012!V250/Baseline_Data_2012!V$269","v":0},{"$f":"Baseline_Data_2012!W250/Baseline_Data_2012!W$269","v":0},{"$f":"Baseline_Data_2012!X250/Baseline_Data_2012!X$269","v":0},{"$f":"Baseline_Data_2012!Y250/Baseline_Data_2012!Y$269","v":0},{"$f":"Baseline_Data_2012!Z250/Baseline_Data_2012!Z$269","v":0},{"$f":"Baseline_Data_2012!AA250/Baseline_Data_2012!AA$269","v":0},{"$f":"Baseline_Data_2012!AB250/Baseline_Data_2012!AB$269","v":0},{"$f":"Baseline_Data_2012!AC250/Baseline_Data_2012!AC$269","v":0},{"$f":"Baseline_Data_2012!AD250/Baseline_Data_2012!AD$269","v":0},{"$f":"Baseline_Data_2012!AE250/Baseline_Data_2012!AE$269","v":0},{"$f":"Baseline_Data_2012!AF250/Baseline_Data_2012!AF$269","v":0},{"$f":"Baseline_Data_2012!AG250/Baseline_Data_2012!AG$269","v":0},{"$f":"Baseline_Data_2012!AH250/Baseline_Data_2012!AH$269","v":0},{"$f":"Baseline_Data_2012!AI250/Baseline_Data_2012!AI$269","v":0},{"$f":"Baseline_Data_2012!AJ250/Baseline_Data_2012!AJ$269","v":0},{"$f":"Baseline_Data_2012!AK250/Baseline_Data_2012!AK$269","v":0},{"$f":"Baseline_Data_2012!AL250/Baseline_Data_2012!AL$269","v":0},{"$f":"Baseline_Data_2012!AM250/Baseline_Data_2012!AM$269","v":0},{"$f":"Baseline_Data_2012!AN250/Baseline_Data_2012!AN$269","v":0},{"$f":"Baseline_Data_2012!AO250/Baseline_Data_2012!AO$269","v":0},{"$f":"Baseline_Data_2012!AP250/Baseline_Data_2012!AP$269","v":0},{"$f":"Baseline_Data_2012!AQ250/Baseline_Data_2012!AQ$269","v":0},{"$f":"Baseline_Data_2012!AR250/Baseline_Data_2012!AR$269","v":0},{"$f":"Baseline_Data_2012!AS250/Baseline_Data_2012!AS$269","v":0},{"$f":"Baseline_Data_2012!AT250/Baseline_Data_2012!AT$269","v":0},{"$f":"Baseline_Data_2012!AU250/Baseline_Data_2012!AU$269","v":0},{"$f":"Baseline_Data_2012!AV250/Baseline_Data_2012!AV$269","v":0},250]
[5,"Female 10-14",null,null,null,null,{"$f":"HLOOKUP('III Tool Overview'!$H$6,Targeting!$I$1:$BC$269,Targeting!BD251,FALSE)","v":0},null,{"$f":"Baseline_Data_2012!B251/Baseline_Data_2012!B$269","v":0},{"$f":"Baseline_Data_2012!C251/Baseline_Data_2012!C$269","v":0},{"$f":"Baseline_Data_2012!D251/Baseline_Data_2012!D$269","v":0},{"$f":"Baseline_Data_2012!E251/Baseline_Data_2012!E$269","v":0},{"$f":"Baseline_Data_2012!F251/Baseline_Data_2012!F$269","v":0},{"$f":"Baseline_Data_2012!G251/Baseline_Data_2012!G$269","v":0},{"$f":"Baseline_Data_2012!H251/Baseline_Data_2012!H$269","v":0},{"$f":"Baseline_Data_2012!I251/Baseline_Data_2012!I$269","v":0},{"$f":"Baseline_Data_2012!J251/Baseline_Data_2012!J$269","v":0},{"$f":"Baseline_Data_2012!K251/Baseline_Data_2012!K$269","v":0},{"$f":"Baseline_Data_2012!L251/Baseline_Data_2012!L$269","v":0},{"$f":"Baseline_Data_2012!M251/Baseline_Data_2012!M$269","v":0},{"$f":"Baseline_Data_2012!N251/Baseline_Data_2012!N$269","v":0},{"$f":"Baseline_Data_2012!O251/Baseline_Data_2012!O$269","v":0},{"$f":"Baseline_Data_2012!P251/Baseline_Data_2012!P$269","v":0},{"$f":"Baseline_Data_2012!Q251/Baseline_Data_2012!Q$269","v":0},{"$f":"Baseline_Data_2012!R251/Baseline_Data_2012!R$269","v":0},{"$f":"Baseline_Data_2012!S251/Baseline_Data_2012!S$269","v":0},{"$f":"Baseline_Data_2012!T251/Baseline_Data_2012!T$269","v":0},{"$f":"Baseline_Data_2012!U251/Baseline_Data_2012!U$269","v":0},{"$f":"Baseline_Data_2012!V251/Baseline_Data_2012!V$269","v":0},{"$f":"Baseline_Data_2012!W251/Baseline_Data_2012!W$269","v":0},{"$f":"Baseline_Data_2012!X251/Baseline_Data_2012!X$269","v":0},{"$f":"Baseline_Data_2012!Y251/Baseline_Data_2012!Y$269","v":0},{"$f":"Baseline_Data_2012!Z251/Baseline_Data_2012!Z$269","v":0},{"$f":"Baseline_Data_2012!AA251/Baseline_Data_2012!AA$269","v":0},{"$f":"Baseline_Data_2012!AB251/Baseline_Data_2012!AB$269","v":0},{"$f":"Baseline_Data_2012!AC251/Baseline_Data_2012!AC$269","v":0},{"$f":"Baseline_Data_2012!AD251/Baseline_Data_2012!AD$269","v":0},{"$f":"Baseline_Data_2012!AE251/Baseline_Data_2012!AE$269","v":0},{"$f":"Baseline_Data_2012!AF251/Baseline_Data_2012!AF$269","v":0},{"$f":"Baseline_Data_2012!AG251/Baseline_Data_2012!AG$269","v":0},{"$f":"Baseline_Data_2012!AH251/Baseline_Data_2012!AH$269","v":0},{"$f":"Baseline_Data_2012!AI251/Baseline_Data_2012!AI$269","v":0},{"$f":"Baseline_Data_2012!AJ251/Baseline_Data_2012!AJ$269","v":0},{"$f":"Baseline_Data_2012!AK251/Baseline_Data_2012!AK$269","v":0},{"$f":"Baseline_Data_2012!AL251/Baseline_Data_2012!AL$269","v":0},{"$f":"Baseline_Data_2012!AM251/Baseline_Data_2012!AM$269","v":0},{"$f":"Baseline_Data_2012!AN251/Baseline_Data_2012!AN$269","v":0},{"$f":"Baseline_Data_2012!AO251/Baseline_Data_2012!AO$269","v":0},{"$f":"Baseline_Data_2012!AP251/Baseline_Data_2012!AP$269","v":0},{"$f":"Baseline_Data_2012!AQ251/Baseline_Data_2012!AQ$269","v":0},{"$f":"Baseline_Data_2012!AR251/Baseline_Data_2012!AR$269","v":0},{"$f":"Baseline_Data_2012!AS251/Baseline_Data_2012!AS$269","v":0},{"$f":"Baseline_Data_2012!AT251/Baseline_Data_2012!AT$269","v":0},{"$f":"Baseline_Data_2012!AU251/Baseline_Data_2012!AU$269","v":0},{"$f":"Baseline_Data_2012!AV251/Baseline_Data_2012!AV$269","v":0},251]
[5,"Female 15-19",{"$f":"'III Tool Overview'!$H$8/110","v":1.3090909090909091},0,0,{"$f":"G252*'III Tool Overview'!$H$8","v":2.8459279682425703E-2},{"$f":"HLOOKUP('III Tool Overview'!$H$6,Targeting!$I$1:$BC$269,Targeting!BD252,FALSE)","v":1.9763388668351183E-4},{"$f":"Baseline_Data_2012!B252","v":1364.0500000000002},{"$f":"Baseline_Data_2012!B252/Baseline_Data_2012!B$269","v":1.2590897478489207E-3},{"$f":"Baseline_Data_2012!C252/Baseline_Data_2012!C$269","v":6.6951370609346229E-4},{"$f":"Baseline_Data_2012!D252/Baseline_Data_2012!D$269","v":3.465028397478271E-4},{"$f":"Baseline_Data_2012!E252/Baseline_Data_2012!E$269","v":3.6081755615307757E-4},{"$f":"Baseline_Data_2012!F252/Baseline_Data_2012!F$269","v":1.6469016703311184E-3},{"$f":"Baseline_Data_2012!G252/Baseline_Data_2012!G$269","v":1.4880998603117169E-3},{"$f":"Baseline_Data_2012!H252/Baseline_Data_2012!H$269","v":2.5007665428274841E-3},{"$f":"Baseline_Data_2012!I252/Baseline_Data_2012!I$269","v":9.8812786824636943E-4},{"$f":"Baseline_Data_2012!J252/Baseline_Data_2012!J$269","v":5.2212955408649899E-4},{"$f":"Baseline_Data_2012!K252/Baseline_Data_2012!K$269","v":7.2886362514427408E-4},{"$f":"Baseline_Data_2012!L252/Baseline_Data_2012!L$269","v":2.2157583669953711E-3},{"$f":"Baseline_Data_2012!M252/Baseline_Data_2012!M$269","v":1.9763388668351183E-4},{"$f":"Baseline_Data_2012!N252/Baseline_Data_2012!N$269","v":4.8268012086310228E-4},{"$f":"Baseline_Data_2012!O252/Baseline_Data_2012!O$269","v":1.2585246918356342E-3},{"$f":"Baseline_Data_2012!P252/Baseline_Data_2012!P$269","v":0},{"$f":"Baseline_Data_2012!Q252/Baseline_Data_2012!Q$269","v":2.9331518147015217E-3},{"$f":"Baseline_Data_2012!R252/Baseline_Data_2012!R$269","v":2.6469417619755715E-3},{"$f":"Baseline_Data_2012!S252/Baseline_Data_2012!S$269","v":8.097230652469909E-4},{"$f":"Baseline_Data_2012!T252/Baseline_Data_2012!T$269","v":5.4872985870944217E-4},{"$f":"Baseline_Data_2012!U252/Baseline_Data_2012!U$269","v":8.2264795219765875E-4},{"$f":"Baseline_Data_2012!V252/Baseline_Data_2012!V$269","v":3.5833034364940485E-4},{"$f":"Baseline_Data_2012!W252/Baseline_Data_2012!W$269","v":1.2695802012730861E-3},{"$f":"Baseline_Data_2012!X252/Baseline_Data_2012!X$269","v":6.3364881410972462E-4},{"$f":"Baseline_Data_2012!Y252/Baseline_Data_2012!Y$269","v":3.4642093097676809E-3},{"$f":"Baseline_Data_2012!Z252/Baseline_Data_2012!Z$269","v":1.0459370444175938E-3},{"$f":"Baseline_Data_2012!AA252/Baseline_Data_2012!AA$269","v":4.3885238665320094E-3},{"$f":"Baseline_Data_2012!AB252/Baseline_Data_2012!AB$269","v":3.1954979423624917E-3},{"$f":"Baseline_Data_2012!AC252/Baseline_Data_2012!AC$269","v":0},{"$f":"Baseline_Data_2012!AD252/Baseline_Data_2012!AD$269","v":1.0682793065106158E-3},{"$f":"Baseline_Data_2012!AE252/Baseline_Data_2012!AE$269","v":1.6495886178500966E-3},{"$f":"Baseline_Data_2012!AF252/Baseline_Data_2012!AF$269","v":4.0346597981058649E-4},{"$f":"Baseline_Data_2012!AG252/Baseline_Data_2012!AG$269","v":5.1134748543426017E-4},{"$f":"Baseline_Data_2012!AH252/Baseline_Data_2012!AH$269","v":6.2651588006832585E-4},{"$f":"Baseline_Data_2012!AI252/Baseline_Data_2012!AI$269","v":9.9094835892315244E-4},{"$f":"Baseline_Data_2012!AJ252/Baseline_Data_2012!AJ$269","v":1.0902954225102746E-3},{"$f":"Baseline_Data_2012!AK252/Baseline_Data_2012!AK$269","v":4.2742834815843268E-4},{"$f":"Baseline_Data_2012!AL252/Baseline_Data_2012!AL$269","v":4.8260473027387173E-4},{"$f":"Baseline_Data_2012!AM252/Baseline_Data_2012!AM$269","v":1.9763388668351183E-4},{"$f":"Baseline_Data_2012!AN252/Baseline_Data_2012!AN$269","v":1.6286478157520499E-3},{"$f":"Baseline_Data_2012!AO252/Baseline_Data_2012!AO$269","v":1.3130792781919176E-3},{"$f":"Baseline_Data_2012!AP252/Baseline_Data_2012!AP$269","v":3.4533302026983618E-4},{"$f":"Baseline_Data_2012!AQ252/Baseline_Data_2012!AQ$269","v":4.8268012086310228E-4},{"$f":"Baseline_Data_2012!AR252/Baseline_Data_2012!AR$269","v":1.0097383764065637E-3},{"$f":"Baseline_Data_2012!AS252/Baseline_Data_2012!AS$269","v":9.7766974087266445E-4},{"$f":"Baseline_Data_2012!AT252/Baseline_Data_2012!AT$269","v":2.7304390486966512E-3},{"$f":"Baseline_Data_2012!AU252/Baseline_Data_2012!AU$269","v":3.2562639964593844E-4},{"$f":"Baseline_Data_2012!AV252/Baseline_Data_2012!AV$269","v":1.0715796627127057E-3},252]
[5,"Female 20-24",{"$f":"'III Tool Overview'!$H$8/110","v":1.3090909090909091},0,0,{"$f":"G253*'III Tool Overview'!$H$8","v":4.2688919523638562E-2},{"$f":"HLOOKUP('III Tool Overview'!$H$6,Targeting!$I$1:$BC$269,Targeting!BD253,FALSE)","v":2.9645083002526778E-4},{"$f":"Baseline_Data_2012!B253","v":3041.28},{"$f":"Baseline_Data_2012!B253/Baseline_Data_2012!B$269","v":2.8072610742553169E-3},{"$f":"Baseline_Data_2012!C253/Baseline_Data_2012!C$269","v":1.0654729748492738E-3},{"$f":"Baseline_Data_2012!D253/Baseline_Data_2012!D$269","v":3.3043979419660331E-4},{"$f":"Baseline_Data_2012!E253/Baseline_Data_2012!E$269","v":5.7975431056460597E-4},{"$f":"Baseline_Data_2012!F253/Baseline_Data_2012!F$269","v":3.8803927080876504E-3},{"$f":"Baseline_Data_2012!G253/Baseline_Data_2012!G$269","v":2.7308311360613041E-3},{"$f":"Baseline_Data_2012!H253/Baseline_Data_2012!H$269","v":5.4752283160745515E-3},{"$f":"Baseline_Data_2012!I253/Baseline_Data_2012!I$269","v":2.1530248842882515E-3},{"$f":"Baseline_Data_2012!J253/Baseline_Data_2012!J$269","v":7.7920251496700773E-4},{"$f":"Baseline_Data_2012!K253/Baseline_Data_2012!K$269","v":1.2240861821963846E-3},{"$f":"Baseline_Data_2012!L253/Baseline_Data_2012!L$269","v":6.4820513081817362E-3},{"$f":"Baseline_Data_2012!M253/Baseline_Data_2012!M$269","v":2.9645083002526778E-4},{"$f":"Baseline_Data_2012!N253/Baseline_Data_2012!N$269","v":6.5034795232081141E-4},{"$f":"Baseline_Data_2012!O253/Baseline_Data_2012!O$269","v":2.1161904004364245E-3},{"$f":"Baseline_Data_2012!P253/Baseline_Data_2012!P$269","v":0},{"$f":"Baseline_Data_2012!Q253/Baseline_Data_2012!Q$269","v":8.853928263520449E-3},{"$f":"Baseline_Data_2012!R253/Baseline_Data_2012!R$269","v":3.9381879137910343E-3},{"$f":"Baseline_Data_2012!S253/Baseline_Data_2012!S$269","v":1.097044152915278E-3},{"$f":"Baseline_Data_2012!T253/Baseline_Data_2012!T$269","v":8.3085730801663819E-4},{"$f":"Baseline_Data_2012!U253/Baseline_Data_2012!U$269","v":7.8414102677564065E-4},{"$f":"Baseline_Data_2012!V253/Baseline_Data_2012!V$269","v":5.757579081010775E-4},{"$f":"Baseline_Data_2012!W253/Baseline_Data_2012!W$269","v":2.9135051933215504E-3},{"$f":"Baseline_Data_2012!X253/Baseline_Data_2012!X$269","v":1.1220567764459845E-3},{"$f":"Baseline_Data_2012!Y253/Baseline_Data_2012!Y$269","v":5.8585128956790775E-3},{"$f":"Baseline_Data_2012!Z253/Baseline_Data_2012!Z$269","v":1.6993781257753895E-3},{"$f":"Baseline_Data_2012!AA253/Baseline_Data_2012!AA$269","v":7.3685775363717381E-3},{"$f":"Baseline_Data_2012!AB253/Baseline_Data_2012!AB$269","v":1.0598165988574512E-2},{"$f":"Baseline_Data_2012!AC253/Baseline_Data_2012!AC$269","v":0},{"$f":"Baseline_Data_2012!AD253/Baseline_Data_2012!AD$269","v":1.8222143573123609E-3},{"$f":"Baseline_Data_2012!AE253/Baseline_Data_2012!AE$269","v":3.8867236334534389E-3},{"$f":"Baseline_Data_2012!AF253/Baseline_Data_2012!AF$269","v":1.6121972783618896E-3},{"$f":"Baseline_Data_2012!AG253/Baseline_Data_2012!AG$269","v":7.5802424566824838E-4},{"$f":"Baseline_Data_2012!AH253/Baseline_Data_2012!AH$269","v":7.8450684112903407E-4},{"$f":"Baseline_Data_2012!AI253/Baseline_Data_2012!AI$269","v":1.7309346482491988E-3},{"$f":"Baseline_Data_2012!AJ253/Baseline_Data_2012!AJ$269","v":1.2348514448206256E-3},{"$f":"Baseline_Data_2012!AK253/Baseline_Data_2012!AK$269","v":6.7617236430476859E-4},{"$f":"Baseline_Data_2012!AL253/Baseline_Data_2012!AL$269","v":8.503096925411279E-4},{"$f":"Baseline_Data_2012!AM253/Baseline_Data_2012!AM$269","v":2.9645083002526778E-4},{"$f":"Baseline_Data_2012!AN253/Baseline_Data_2012!AN$269","v":1.9467490518965955E-3},{"$f":"Baseline_Data_2012!AO253/Baseline_Data_2012!AO$269","v":2.3470786029099514E-3},{"$f":"Baseline_Data_2012!AP253/Baseline_Data_2012!AP$269","v":3.2932420476063849E-4},{"$f":"Baseline_Data_2012!AQ253/Baseline_Data_2012!AQ$269","v":6.5034795232081141E-4},{"$f":"Baseline_Data_2012!AR253/Baseline_Data_2012!AR$269","v":1.4820353589193114E-3},{"$f":"Baseline_Data_2012!AS253/Baseline_Data_2012!AS$269","v":1.600842037241877E-3},{"$f":"Baseline_Data_2012!AT253/Baseline_Data_2012!AT$269","v":5.7593826879260551E-3},{"$f":"Baseline_Data_2012!AU253/Baseline_Data_2012!AU$269","v":5.3987913216659933E-4},{"$f":"Baseline_Data_2012!AV253/Baseline_Data_2012!AV$269","v":1.4556860570479526E-3},253]
[5,"Female 25-29",{"$f":"'III Tool Overview'!$H$8/110","v":1.3090909090909091},0,0,{"$f":"G254*'III Tool Overview'!$H$8","v":8.2176170083004207E-2},{"$f":"HLOOKUP('III Tool Overview'!$H$6,Targeting!$I$1:$BC$269,Targeting!BD254,FALSE)","v":5.7066784779864028E-4},{"$f":"Baseline_Data_2012!B254","v":3057.0099999999998},{"$f":"Baseline_Data_2012!B254/Baseline_Data_2012!B$269","v":2.8217806899099212E-3},{"$f":"Baseline_Data_2012!C254/Baseline_Data_2012!C$269","v":1.1830870105172125E-3},{"$f":"Baseline_Data_2012!D254/Baseline_Data_2012!D$269","v":4.8969341723302171E-4},{"$f":"Baseline_Data_2012!E254/Baseline_Data_2012!E$269","v":6.9961912582901806E-4},{"$f":"Baseline_Data_2012!F254/Baseline_Data_2012!F$269","v":2.5018945246925431E-3},{"$f":"Baseline_Data_2012!G254/Baseline_Data_2012!G$269","v":2.2684309263023626E-3},{"$f":"Baseline_Data_2012!H254/Baseline_Data_2012!H$269","v":7.222205275098416E-3},{"$f":"Baseline_Data_2012!I254/Baseline_Data_2012!I$269","v":2.0122440097753644E-3},{"$f":"Baseline_Data_2012!J254/Baseline_Data_2012!J$269","v":1.0310062785126985E-3},{"$f":"Baseline_Data_2012!K254/Baseline_Data_2012!K$269","v":1.2670474978482412E-3},{"$f":"Baseline_Data_2012!L254/Baseline_Data_2012!L$269","v":6.3952071766673734E-3},{"$f":"Baseline_Data_2012!M254/Baseline_Data_2012!M$269","v":5.7066784779864028E-4},{"$f":"Baseline_Data_2012!N254/Baseline_Data_2012!N$269","v":7.5450524155969124E-4},{"$f":"Baseline_Data_2012!O254/Baseline_Data_2012!O$269","v":2.0663525830348418E-3},{"$f":"Baseline_Data_2012!P254/Baseline_Data_2012!P$269","v":0},{"$f":"Baseline_Data_2012!Q254/Baseline_Data_2012!Q$269","v":1.027284045388231E-2},{"$f":"Baseline_Data_2012!R254/Baseline_Data_2012!R$269","v":6.2811890395264918E-3},{"$f":"Baseline_Data_2012!S254/Baseline_Data_2012!S$269","v":1.2498467313570487E-3},{"$f":"Baseline_Data_2012!T254/Baseline_Data_2012!T$269","v":8.2443315357321042E-4},{"$f":"Baseline_Data_2012!U254/Baseline_Data_2012!U$269","v":9.3379294148393792E-4},{"$f":"Baseline_Data_2012!V254/Baseline_Data_2012!V$269","v":6.9479646294054074E-4},{"$f":"Baseline_Data_2012!W254/Baseline_Data_2012!W$269","v":2.0748567860805855E-3},{"$f":"Baseline_Data_2012!X254/Baseline_Data_2012!X$269","v":1.3470377037029203E-3},{"$f":"Baseline_Data_2012!Y254/Baseline_Data_2012!Y$269","v":4.8389862277519458E-3},{"$f":"Baseline_Data_2012!Z254/Baseline_Data_2012!Z$269","v":1.5063650010838951E-3},{"$f":"Baseline_Data_2012!AA254/Baseline_Data_2012!AA$269","v":6.2015408798293762E-3},{"$f":"Baseline_Data_2012!AB254/Baseline_Data_2012!AB$269","v":1.0284944521353513E-2},{"$f":"Baseline_Data_2012!AC254/Baseline_Data_2012!AC$269","v":0},{"$f":"Baseline_Data_2012!AD254/Baseline_Data_2012!AD$269","v":2.363721454060845E-3},{"$f":"Baseline_Data_2012!AE254/Baseline_Data_2012!AE$269","v":2.5059764073009421E-3},{"$f":"Baseline_Data_2012!AF254/Baseline_Data_2012!AF$269","v":1.6973348500052244E-3},{"$f":"Baseline_Data_2012!AG254/Baseline_Data_2012!AG$269","v":1.119953490369825E-3},{"$f":"Baseline_Data_2012!AH254/Baseline_Data_2012!AH$269","v":8.0085073365255557E-4},{"$f":"Baseline_Data_2012!AI254/Baseline_Data_2012!AI$269","v":2.0252873560476733E-3},{"$f":"Baseline_Data_2012!AJ254/Baseline_Data_2012!AJ$269","v":2.2638943155044795E-3},{"$f":"Baseline_Data_2012!AK254/Baseline_Data_2012!AK$269","v":6.96418970270168E-4},{"$f":"Baseline_Data_2012!AL254/Baseline_Data_2012!AL$269","v":8.5814960959750756E-4},{"$f":"Baseline_Data_2012!AM254/Baseline_Data_2012!AM$269","v":5.7066784779864028E-4},{"$f":"Baseline_Data_2012!AN254/Baseline_Data_2012!AN$269","v":2.7564959635691015E-3},{"$f":"Baseline_Data_2012!AO254/Baseline_Data_2012!AO$269","v":2.0337209375490438E-3},{"$f":"Baseline_Data_2012!AP254/Baseline_Data_2012!AP$269","v":4.8804017566611276E-4},{"$f":"Baseline_Data_2012!AQ254/Baseline_Data_2012!AQ$269","v":7.5450524155969124E-4},{"$f":"Baseline_Data_2012!AR254/Baseline_Data_2012!AR$269","v":1.598888146834103E-3},{"$f":"Baseline_Data_2012!AS254/Baseline_Data_2012!AS$269","v":1.6837153998920181E-3},{"$f":"Baseline_Data_2012!AT254/Baseline_Data_2012!AT$269","v":2.9745104491910781E-3},{"$f":"Baseline_Data_2012!AU254/Baseline_Data_2012!AU$269","v":4.1529164012815326E-4},{"$f":"Baseline_Data_2012!AV254/Baseline_Data_2012!AV$269","v":1.7827998488234101E-3},254]
[5,"Female 30-34",{"$f":"'III Tool Overview'!$H$8/110","v":1.3090909090909091},0,0,{"$f":"G255*'III Tool Overview'!$H$8","v":6.9369494225912653E-2},{"$f":"HLOOKUP('III Tool Overview'!$H$6,Targeting!$I$1:$BC$269,Targeting!BD255,FALSE)","v":4.817325987910601E-4},{"$f":"Baseline_Data_2012!B255","v":3811.9900000000002},{"$f":"Baseline_Data_2012!B255/Baseline_Data_2012!B$269","v":3.5186668581815967E-3},{"$f":"Baseline_Data_2012!C255/Baseline_Data_2012!C$269","v":1.6208459721937076E-3},{"$f":"Baseline_Data_2012!D255/Baseline_Data_2012!D$269","v":8.8300856115870101E-4},{"$f":"Baseline_Data_2012!E255/Baseline_Data_2012!E$269","v":9.7787673269283232E-4},{"$f":"Baseline_Data_2012!F255/Baseline_Data_2012!F$269","v":3.4618518437683947E-3},{"$f":"Baseline_Data_2012!G255/Baseline_Data_2012!G$269","v":3.2941305768551398E-3},{"$f":"Baseline_Data_2012!H255/Baseline_Data_2012!H$269","v":8.7618741599749944E-3},{"$f":"Baseline_Data_2012!I255/Baseline_Data_2012!I$269","v":2.6260136188599086E-3},{"$f":"Baseline_Data_2012!J255/Baseline_Data_2012!J$269","v":1.2869615308676399E-3},{"$f":"Baseline_Data_2012!K255/Baseline_Data_2012!K$269","v":1.8232097472108664E-3},{"$f":"Baseline_Data_2012!L255/Baseline_Data_2012!L$269","v":7.2087960587823539E-3},{"$f":"Baseline_Data_2012!M255/Baseline_Data_2012!M$269","v":4.817325987910601E-4},{"$f":"Baseline_Data_2012!N255/Baseline_Data_2012!N$269","v":1.750350543550934E-3},{"$f":"Baseline_Data_2012!O255/Baseline_Data_2012!O$269","v":2.5323840967179088E-3},{"$f":"Baseline_Data_2012!P255/Baseline_Data_2012!P$269","v":0},{"$f":"Baseline_Data_2012!Q255/Baseline_Data_2012!Q$269","v":1.1197568941177943E-2},{"$f":"Baseline_Data_2012!R255/Baseline_Data_2012!R$269","v":8.9880662900015569E-3},{"$f":"Baseline_Data_2012!S255/Baseline_Data_2012!S$269","v":1.658190943831069E-3},{"$f":"Baseline_Data_2012!T255/Baseline_Data_2012!T$269","v":9.6737058993947504E-4},{"$f":"Baseline_Data_2012!U255/Baseline_Data_2012!U$269","v":1.4562619068690468E-3},{"$f":"Baseline_Data_2012!V255/Baseline_Data_2012!V$269","v":9.7113596524643782E-4},{"$f":"Baseline_Data_2012!W255/Baseline_Data_2012!W$269","v":2.3917440043183485E-3},{"$f":"Baseline_Data_2012!X255/Baseline_Data_2012!X$269","v":1.7631812226322845E-3},{"$f":"Baseline_Data_2012!Y255/Baseline_Data_2012!Y$269","v":7.325737978151896E-3},{"$f":"Baseline_Data_2012!Z255/Baseline_Data_2012!Z$269","v":2.1657366533121003E-3},{"$f":"Baseline_Data_2012!AA255/Baseline_Data_2012!AA$269","v":9.3570060493490745E-3},{"$f":"Baseline_Data_2012!AB255/Baseline_Data_2012!AB$269","v":1.0940878688487952E-2},{"$f":"Baseline_Data_2012!AC255/Baseline_Data_2012!AC$269","v":0},{"$f":"Baseline_Data_2012!AD255/Baseline_Data_2012!AD$269","v":3.771210138069804E-3},{"$f":"Baseline_Data_2012!AE255/Baseline_Data_2012!AE$269","v":3.4674999127395157E-3},{"$f":"Baseline_Data_2012!AF255/Baseline_Data_2012!AF$269","v":1.7964999823924051E-3},{"$f":"Baseline_Data_2012!AG255/Baseline_Data_2012!AG$269","v":1.4242564928376074E-3},{"$f":"Baseline_Data_2012!AH255/Baseline_Data_2012!AH$269","v":1.3585241573339272E-3},{"$f":"Baseline_Data_2012!AI255/Baseline_Data_2012!AI$269","v":3.2853749438144517E-3},{"$f":"Baseline_Data_2012!AJ255/Baseline_Data_2012!AJ$269","v":2.3649610260180727E-3},{"$f":"Baseline_Data_2012!AK255/Baseline_Data_2012!AK$269","v":1.0319341548396443E-3},{"$f":"Baseline_Data_2012!AL255/Baseline_Data_2012!AL$269","v":1.2447474867383348E-3},{"$f":"Baseline_Data_2012!AM255/Baseline_Data_2012!AM$269","v":4.817325987910601E-4},{"$f":"Baseline_Data_2012!AN255/Baseline_Data_2012!AN$269","v":3.465930375114491E-3},{"$f":"Baseline_Data_2012!AO255/Baseline_Data_2012!AO$269","v":2.8912035412110631E-3},{"$f":"Baseline_Data_2012!AP255/Baseline_Data_2012!AP$269","v":8.8002745827703949E-4},{"$f":"Baseline_Data_2012!AQ255/Baseline_Data_2012!AQ$269","v":1.750350543550934E-3},{"$f":"Baseline_Data_2012!AR255/Baseline_Data_2012!AR$269","v":2.1860021544059843E-3},{"$f":"Baseline_Data_2012!AS255/Baseline_Data_2012!AS$269","v":2.4115853608192381E-3},{"$f":"Baseline_Data_2012!AT255/Baseline_Data_2012!AT$269","v":3.6066378173780847E-3},{"$f":"Baseline_Data_2012!AU255/Baseline_Data_2012!AU$269","v":7.1779384617604686E-4},{"$f":"Baseline_Data_2012!AV255/Baseline_Data_2012!AV$269","v":2.8208369902379066E-3},255]
[5,"Female 35-39",{"$f":"'III Tool Overview'!$H$8/110","v":1.3090909090909091},0,0,{"$f":"G256*'III Tool Overview'!$H$8","v":0.14229639841212849},{"$f":"HLOOKUP('III Tool Overview'!$H$6,Targeting!$I$1:$BC$269,Targeting!BD256,FALSE)","v":9.881694334175589E-4},{"$f":"Baseline_Data_2012!B256","v":6422.7999999999984},{"$f":"Baseline_Data_2012!B256/Baseline_Data_2012!B$269","v":5.92858152742498E-3},{"$f":"Baseline_Data_2012!C256/Baseline_Data_2012!C$269","v":3.1188080333942312E-3},{"$f":"Baseline_Data_2012!D256/Baseline_Data_2012!D$269","v":1.7807033353928062E-3},{"$f":"Baseline_Data_2012!E256/Baseline_Data_2012!E$269","v":1.4493857764115144E-3},{"$f":"Baseline_Data_2012!F256/Baseline_Data_2012!F$269","v":6.2188482105586078E-3},{"$f":"Baseline_Data_2012!G256/Baseline_Data_2012!G$269","v":6.2013715697745286E-3},{"$f":"Baseline_Data_2012!H256/Baseline_Data_2012!H$269","v":1.3322545533873374E-2},{"$f":"Baseline_Data_2012!I256/Baseline_Data_2012!I$269","v":4.7561401894485747E-3},{"$f":"Baseline_Data_2012!J256/Baseline_Data_2012!J$269","v":2.331220639040637E-3},{"$f":"Baseline_Data_2012!K256/Baseline_Data_2012!K$269","v":3.4120001416257308E-3},{"$f":"Baseline_Data_2012!L256/Baseline_Data_2012!L$269","v":1.1191762520254554E-2},{"$f":"Baseline_Data_2012!M256/Baseline_Data_2012!M$269","v":9.881694334175589E-4},{"$f":"Baseline_Data_2012!N256/Baseline_Data_2012!N$269","v":3.6073987980295001E-3},{"$f":"Baseline_Data_2012!O256/Baseline_Data_2012!O$269","v":4.6171862563869894E-3},{"$f":"Baseline_Data_2012!P256/Baseline_Data_2012!P$269","v":0},{"$f":"Baseline_Data_2012!Q256/Baseline_Data_2012!Q$269","v":1.4592430278140068E-2},{"$f":"Baseline_Data_2012!R256/Baseline_Data_2012!R$269","v":1.5889173854928676E-2},{"$f":"Baseline_Data_2012!S256/Baseline_Data_2012!S$269","v":3.6219870445456789E-3},{"$f":"Baseline_Data_2012!T256/Baseline_Data_2012!T$269","v":1.9807809533901807E-3},{"$f":"Baseline_Data_2012!U256/Baseline_Data_2012!U$269","v":2.9230257024895523E-3},{"$f":"Baseline_Data_2012!V256/Baseline_Data_2012!V$269","v":1.4393947702526935E-3},{"$f":"Baseline_Data_2012!W256/Baseline_Data_2012!W$269","v":3.9059541735167388E-3},{"$f":"Baseline_Data_2012!X256/Baseline_Data_2012!X$269","v":3.3248763616768695E-3},{"$f":"Baseline_Data_2012!Y256/Baseline_Data_2012!Y$269","v":1.5518826713022233E-2},{"$f":"Baseline_Data_2012!Z256/Baseline_Data_2012!Z$269","v":5.5208223375444116E-3},{"$f":"Baseline_Data_2012!AA256/Baseline_Data_2012!AA$269","v":2.0143195092400604E-2},{"$f":"Baseline_Data_2012!AB256/Baseline_Data_2012!AB$269","v":1.5814673531322921E-2},{"$f":"Baseline_Data_2012!AC256/Baseline_Data_2012!AC$269","v":0},{"$f":"Baseline_Data_2012!AD256/Baseline_Data_2012!AD$269","v":6.7534898687452716E-3},{"$f":"Baseline_Data_2012!AE256/Baseline_Data_2012!AE$269","v":6.2289943650445058E-3},{"$f":"Baseline_Data_2012!AF256/Baseline_Data_2012!AF$269","v":2.4180181440627575E-3},{"$f":"Baseline_Data_2012!AG256/Baseline_Data_2012!AG$269","v":2.4827116219302602E-3},{"$f":"Baseline_Data_2012!AH256/Baseline_Data_2012!AH$269","v":2.8131305919273436E-3},{"$f":"Baseline_Data_2012!AI256/Baseline_Data_2012!AI$269","v":5.3827845768725071E-3},{"$f":"Baseline_Data_2012!AJ256/Baseline_Data_2012!AJ$269","v":3.8589107650644533E-3},{"$f":"Baseline_Data_2012!AK256/Baseline_Data_2012!AK$269","v":1.6711484288901121E-3},{"$f":"Baseline_Data_2012!AL256/Baseline_Data_2012!AL$269","v":2.3442637230879941E-3},{"$f":"Baseline_Data_2012!AM256/Baseline_Data_2012!AM$269","v":9.881694334175589E-4},{"$f":"Baseline_Data_2012!AN256/Baseline_Data_2012!AN$269","v":6.392538030914368E-3},{"$f":"Baseline_Data_2012!AO256/Baseline_Data_2012!AO$269","v":5.6949584316237306E-3},{"$f":"Baseline_Data_2012!AP256/Baseline_Data_2012!AP$269","v":1.7746915478767738E-3},{"$f":"Baseline_Data_2012!AQ256/Baseline_Data_2012!AQ$269","v":3.6073987980295001E-3},{"$f":"Baseline_Data_2012!AR256/Baseline_Data_2012!AR$269","v":4.6822545680143069E-3},{"$f":"Baseline_Data_2012!AS256/Baseline_Data_2012!AS$269","v":4.5329664908636035E-3},{"$f":"Baseline_Data_2012!AT256/Baseline_Data_2012!AT$269","v":7.3279950460197352E-3},{"$f":"Baseline_Data_2012!AU256/Baseline_Data_2012!AU$269","v":1.2741902594841064E-3},{"$f":"Baseline_Data_2012!AV256/Baseline_Data_2012!AV$269","v":5.8773621389782739E-3},256]
[5,"Female 40-44",{"$f":"'III Tool Overview'!$H$8/110","v":1.3090909090909091},0,0,{"$f":"G257*'III Tool Overview'!$H$8","v":0.12095193865030927},{"$f":"HLOOKUP('III Tool Overview'!$H$6,Targeting!$I$1:$BC$269,Targeting!BD257,FALSE)","v":8.399440184049255E-4},{"$f":"Baseline_Data_2012!B257","v":6891.2900000000018},{"$f":"Baseline_Data_2012!B257/Baseline_Data_2012!B$269","v":6.3610223880750626E-3},{"$f":"Baseline_Data_2012!C257/Baseline_Data_2012!C$269","v":3.7158609537655944E-3},{"$f":"Baseline_Data_2012!D257/Baseline_Data_2012!D$269","v":2.0051270289513337E-3},{"$f":"Baseline_Data_2012!E257/Baseline_Data_2012!E$269","v":1.9441339169671758E-3},{"$f":"Baseline_Data_2012!F257/Baseline_Data_2012!F$269","v":6.4748719488331961E-3},{"$f":"Baseline_Data_2012!G257/Baseline_Data_2012!G$269","v":7.3373069061819897E-3},{"$f":"Baseline_Data_2012!H257/Baseline_Data_2012!H$269","v":1.3260597503515681E-2},{"$f":"Baseline_Data_2012!I257/Baseline_Data_2012!I$269","v":5.4206652964150009E-3},{"$f":"Baseline_Data_2012!J257/Baseline_Data_2012!J$269","v":2.7225782956357483E-3},{"$f":"Baseline_Data_2012!K257/Baseline_Data_2012!K$269","v":3.9877751655250744E-3},{"$f":"Baseline_Data_2012!L257/Baseline_Data_2012!L$269","v":1.1196694573771107E-2},{"$f":"Baseline_Data_2012!M257/Baseline_Data_2012!M$269","v":8.399440184049255E-4},{"$f":"Baseline_Data_2012!N257/Baseline_Data_2012!N$269","v":3.4117863279955075E-3},{"$f":"Baseline_Data_2012!O257/Baseline_Data_2012!O$269","v":5.0305046939722311E-3},{"$f":"Baseline_Data_2012!P257/Baseline_Data_2012!P$269","v":0},{"$f":"Baseline_Data_2012!Q257/Baseline_Data_2012!Q$269","v":1.4001871586876508E-2},{"$f":"Baseline_Data_2012!R257/Baseline_Data_2012!R$269","v":1.6021082084848072E-2},{"$f":"Baseline_Data_2012!S257/Baseline_Data_2012!S$269","v":3.8779640135592455E-3},{"$f":"Baseline_Data_2012!T257/Baseline_Data_2012!T$269","v":2.7393665239182595E-3},{"$f":"Baseline_Data_2012!U257/Baseline_Data_2012!U$269","v":3.8681956901209062E-3},{"$f":"Baseline_Data_2012!V257/Baseline_Data_2012!V$269","v":1.9307324787482343E-3},{"$f":"Baseline_Data_2012!W257/Baseline_Data_2012!W$269","v":3.995912999206948E-3},{"$f":"Baseline_Data_2012!X257/Baseline_Data_2012!X$269","v":3.7460036353239518E-3},{"$f":"Baseline_Data_2012!Y257/Baseline_Data_2012!Y$269","v":1.8100104114753178E-2},{"$f":"Baseline_Data_2012!Z257/Baseline_Data_2012!Z$269","v":6.6449350888901273E-3},{"$f":"Baseline_Data_2012!AA257/Baseline_Data_2012!AA$269","v":2.4087041098120307E-2},{"$f":"Baseline_Data_2012!AB257/Baseline_Data_2012!AB$269","v":1.4904746122624823E-2},{"$f":"Baseline_Data_2012!AC257/Baseline_Data_2012!AC$269","v":0},{"$f":"Baseline_Data_2012!AD257/Baseline_Data_2012!AD$269","v":7.2642992842721892E-3},{"$f":"Baseline_Data_2012!AE257/Baseline_Data_2012!AE$269","v":6.4854358103144487E-3},{"$f":"Baseline_Data_2012!AF257/Baseline_Data_2012!AF$269","v":2.3787826400020044E-3},{"$f":"Baseline_Data_2012!AG257/Baseline_Data_2012!AG$269","v":2.7182275684509852E-3},{"$f":"Baseline_Data_2012!AH257/Baseline_Data_2012!AH$269","v":3.4351890467619836E-3},{"$f":"Baseline_Data_2012!AI257/Baseline_Data_2012!AI$269","v":6.4593414922470126E-3},{"$f":"Baseline_Data_2012!AJ257/Baseline_Data_2012!AJ$269","v":4.5608650089952281E-3},{"$f":"Baseline_Data_2012!AK257/Baseline_Data_2012!AK$269","v":2.2072014249264029E-3},{"$f":"Baseline_Data_2012!AL257/Baseline_Data_2012!AL$269","v":2.8294389179705161E-3},{"$f":"Baseline_Data_2012!AM257/Baseline_Data_2012!AM$269","v":8.399440184049255E-4},{"$f":"Baseline_Data_2012!AN257/Baseline_Data_2012!AN$269","v":7.3659125568626685E-3},{"$f":"Baseline_Data_2012!AO257/Baseline_Data_2012!AO$269","v":7.1165388135840286E-3},{"$f":"Baseline_Data_2012!AP257/Baseline_Data_2012!AP$269","v":1.9983575702767083E-3},{"$f":"Baseline_Data_2012!AQ257/Baseline_Data_2012!AQ$269","v":3.4117863279955075E-3},{"$f":"Baseline_Data_2012!AR257/Baseline_Data_2012!AR$269","v":5.5511181548093119E-3},{"$f":"Baseline_Data_2012!AS257/Baseline_Data_2012!AS$269","v":5.1014305709637751E-3},{"$f":"Baseline_Data_2012!AT257/Baseline_Data_2012!AT$269","v":9.7810004164565392E-3},{"$f":"Baseline_Data_2012!AU257/Baseline_Data_2012!AU$269","v":1.7328987528983856E-3},{"$f":"Baseline_Data_2012!AV257/Baseline_Data_2012!AV$269","v":6.9335063051643728E-3},257]
[5,"Female 45-49",{"$f":"'III Tool Overview'!$H$8/110","v":1.3090909090909091},0,0,{"$f":"G258*'III Tool Overview'!$H$8","v":0.19423458383255546},{"$f":"HLOOKUP('III Tool Overview'!$H$6,Targeting!$I$1:$BC$269,Targeting!BD258,FALSE)","v":1.3488512766149684E-3},{"$f":"Baseline_Data_2012!B258","v":6267.1},{"$f":"Baseline_Data_2012!B258/Baseline_Data_2012!B$269","v":5.7848622548616032E-3},{"$f":"Baseline_Data_2012!C258/Baseline_Data_2012!C$269","v":3.7174179623844159E-3},{"$f":"Baseline_Data_2012!D258/Baseline_Data_2012!D$269","v":2.2424011589508388E-3},{"$f":"Baseline_Data_2012!E258/Baseline_Data_2012!E$269","v":2.13188135720276E-3},{"$f":"Baseline_Data_2012!F258/Baseline_Data_2012!F$269","v":5.2898402631363214E-3},{"$f":"Baseline_Data_2012!G258/Baseline_Data_2012!G$269","v":6.3039087753392117E-3},{"$f":"Baseline_Data_2012!H258/Baseline_Data_2012!H$269","v":1.1575037288139755E-2},{"$f":"Baseline_Data_2012!I258/Baseline_Data_2012!I$269","v":5.0919578155204977E-3},{"$f":"Baseline_Data_2012!J258/Baseline_Data_2012!J$269","v":2.7942713139185722E-3},{"$f":"Baseline_Data_2012!K258/Baseline_Data_2012!K$269","v":3.8168638445622519E-3},{"$f":"Baseline_Data_2012!L258/Baseline_Data_2012!L$269","v":9.7480038273427289E-3},{"$f":"Baseline_Data_2012!M258/Baseline_Data_2012!M$269","v":1.3488512766149684E-3},{"$f":"Baseline_Data_2012!N258/Baseline_Data_2012!N$269","v":2.6674427731908285E-3},{"$f":"Baseline_Data_2012!O258/Baseline_Data_2012!O$269","v":5.0535067635421914E-3},{"$f":"Baseline_Data_2012!P258/Baseline_Data_2012!P$269","v":0},{"$f":"Baseline_Data_2012!Q258/Baseline_Data_2012!Q$269","v":1.2429230814797699E-2},{"$f":"Baseline_Data_2012!R258/Baseline_Data_2012!R$269","v":1.392058145023818E-2},{"$f":"Baseline_Data_2012!S258/Baseline_Data_2012!S$269","v":4.0895368144786204E-3},{"$f":"Baseline_Data_2012!T258/Baseline_Data_2012!T$269","v":2.6306912445836087E-3},{"$f":"Baseline_Data_2012!U258/Baseline_Data_2012!U$269","v":4.1412447976588527E-3},{"$f":"Baseline_Data_2012!V258/Baseline_Data_2012!V$269","v":2.117185725359026E-3},{"$f":"Baseline_Data_2012!W258/Baseline_Data_2012!W$269","v":4.0260927342772113E-3},{"$f":"Baseline_Data_2012!X258/Baseline_Data_2012!X$269","v":3.2593755853868767E-3},{"$f":"Baseline_Data_2012!Y258/Baseline_Data_2012!Y$269","v":1.8098026627910737E-2},{"$f":"Baseline_Data_2012!Z258/Baseline_Data_2012!Z$269","v":6.3403194032736615E-3},{"$f":"Baseline_Data_2012!AA258/Baseline_Data_2012!AA$269","v":2.2002168624064313E-2},{"$f":"Baseline_Data_2012!AB258/Baseline_Data_2012!AB$269","v":1.2781991769449969E-2},{"$f":"Baseline_Data_2012!AC258/Baseline_Data_2012!AC$269","v":0},{"$f":"Baseline_Data_2012!AD258/Baseline_Data_2012!AD$269","v":6.025340870169647E-3},{"$f":"Baseline_Data_2012!AE258/Baseline_Data_2012!AE$269","v":5.2984707256750899E-3},{"$f":"Baseline_Data_2012!AF258/Baseline_Data_2012!AF$269","v":2.04844052882146E-3},{"$f":"Baseline_Data_2012!AG258/Baseline_Data_2012!AG$269","v":2.8667347223499322E-3},{"$f":"Baseline_Data_2012!AH258/Baseline_Data_2012!AH$269","v":3.258873115296114E-3},{"$f":"Baseline_Data_2012!AI258/Baseline_Data_2012!AI$269","v":5.1306497873240143E-3},{"$f":"Baseline_Data_2012!AJ258/Baseline_Data_2012!AJ$269","v":3.6531021909276839E-3},{"$f":"Baseline_Data_2012!AK258/Baseline_Data_2012!AK$269","v":2.4565881904684652E-3},{"$f":"Baseline_Data_2012!AL258/Baseline_Data_2012!AL$269","v":2.6270148300393975E-3},{"$f":"Baseline_Data_2012!AM258/Baseline_Data_2012!AM$269","v":1.3488512766149684E-3},{"$f":"Baseline_Data_2012!AN258/Baseline_Data_2012!AN$269","v":7.2141088494459661E-3},{"$f":"Baseline_Data_2012!AO258/Baseline_Data_2012!AO$269","v":6.956486190363511E-3},{"$f":"Baseline_Data_2012!AP258/Baseline_Data_2012!AP$269","v":2.2348306450839998E-3},{"$f":"Baseline_Data_2012!AQ258/Baseline_Data_2012!AQ$269","v":2.6674427731908285E-3},{"$f":"Baseline_Data_2012!AR258/Baseline_Data_2012!AR$269","v":5.7970383077728454E-3},{"$f":"Baseline_Data_2012!AS258/Baseline_Data_2012!AS$269","v":4.9774154499873172E-3},{"$f":"Baseline_Data_2012!AT258/Baseline_Data_2012!AT$269","v":8.2679918546385636E-3},{"$f":"Baseline_Data_2012!AU258/Baseline_Data_2012!AU$269","v":1.7970801881909181E-3},{"$f":"Baseline_Data_2012!AV258/Baseline_Data_2012!AV$269","v":6.4496628563494932E-3},258]
[5,"Female 50-54",{"$f":"'III Tool Overview'!$H$8/110","v":1.3090909090909091},0,0,{"$f":"G259*'III Tool Overview'!$H$8","v":0.16933271411043294},{"$f":"HLOOKUP('III Tool Overview'!$H$6,Targeting!$I$1:$BC$269,Targeting!BD259,FALSE)","v":1.1759216257668955E-3},{"$f":"Baseline_Data_2012!B259","v":7142.0400000000018},{"$f":"Baseline_Data_2012!B259/Baseline_Data_2012!B$269","v":6.5924777997338124E-3},{"$f":"Baseline_Data_2012!C259/Baseline_Data_2012!C$269","v":4.4569970563248691E-3},{"$f":"Baseline_Data_2012!D259/Baseline_Data_2012!D$269","v":2.1221577893959639E-3},{"$f":"Baseline_Data_2012!E259/Baseline_Data_2012!E$269","v":2.5055415721341678E-3},{"$f":"Baseline_Data_2012!F259/Baseline_Data_2012!F$269","v":6.2308328608585003E-3},{"$f":"Baseline_Data_2012!G259/Baseline_Data_2012!G$269","v":6.8221639165638986E-3},{"$f":"Baseline_Data_2012!H259/Baseline_Data_2012!H$269","v":1.3072734522945511E-2},{"$f":"Baseline_Data_2012!I259/Baseline_Data_2012!I$269","v":5.866343781048779E-3},{"$f":"Baseline_Data_2012!J259/Baseline_Data_2012!J$269","v":3.1704600690952676E-3},{"$f":"Baseline_Data_2012!K259/Baseline_Data_2012!K$269","v":4.3410385925971365E-3},{"$f":"Baseline_Data_2012!L259/Baseline_Data_2012!L$269","v":1.0924765136642483E-2},{"$f":"Baseline_Data_2012!M259/Baseline_Data_2012!M$269","v":1.1759216257668955E-3},{"$f":"Baseline_Data_2012!N259/Baseline_Data_2012!N$269","v":2.2025456041489988E-3},{"$f":"Baseline_Data_2012!O259/Baseline_Data_2012!O$269","v":6.0386422743431839E-3},{"$f":"Baseline_Data_2012!P259/Baseline_Data_2012!P$269","v":0},{"$f":"Baseline_Data_2012!Q259/Baseline_Data_2012!Q$269","v":1.4598453714902407E-2},{"$f":"Baseline_Data_2012!R259/Baseline_Data_2012!R$269","v":1.5249444017429895E-2},{"$f":"Baseline_Data_2012!S259/Baseline_Data_2012!S$269","v":4.655036955207568E-3},{"$f":"Baseline_Data_2012!T259/Baseline_Data_2012!T$269","v":3.1216037133022026E-3},{"$f":"Baseline_Data_2012!U259/Baseline_Data_2012!U$269","v":4.552568773757682E-3},{"$f":"Baseline_Data_2012!V259/Baseline_Data_2012!V$269","v":2.4882701998840879E-3},{"$f":"Baseline_Data_2012!W259/Baseline_Data_2012!W$269","v":5.1946868989690325E-3},{"$f":"Baseline_Data_2012!X259/Baseline_Data_2012!X$269","v":3.7339002310094963E-3},{"$f":"Baseline_Data_2012!Y259/Baseline_Data_2012!Y$269","v":2.1049096687595897E-2},{"$f":"Baseline_Data_2012!Z259/Baseline_Data_2012!Z$269","v":7.5889741428979661E-3},{"$f":"Baseline_Data_2012!AA259/Baseline_Data_2012!AA$269","v":2.4648228442114888E-2},{"$f":"Baseline_Data_2012!AB259/Baseline_Data_2012!AB$269","v":1.4664515456317626E-2},{"$f":"Baseline_Data_2012!AC259/Baseline_Data_2012!AC$269","v":0},{"$f":"Baseline_Data_2012!AD259/Baseline_Data_2012!AD$269","v":6.4032293260071664E-3},{"$f":"Baseline_Data_2012!AE259/Baseline_Data_2012!AE$269","v":6.2409985685010754E-3},{"$f":"Baseline_Data_2012!AF259/Baseline_Data_2012!AF$269","v":2.4012128485181522E-3},{"$f":"Baseline_Data_2012!AG259/Baseline_Data_2012!AG$269","v":3.1944982107864144E-3},{"$f":"Baseline_Data_2012!AH259/Baseline_Data_2012!AH$269","v":3.376251979783224E-3},{"$f":"Baseline_Data_2012!AI259/Baseline_Data_2012!AI$269","v":5.582146968608529E-3},{"$f":"Baseline_Data_2012!AJ259/Baseline_Data_2012!AJ$269","v":3.9673277817972186E-3},{"$f":"Baseline_Data_2012!AK259/Baseline_Data_2012!AK$269","v":3.0540237537966812E-3},{"$f":"Baseline_Data_2012!AL259/Baseline_Data_2012!AL$269","v":2.9430534536728074E-3},{"$f":"Baseline_Data_2012!AM259/Baseline_Data_2012!AM$269","v":1.1759216257668955E-3},{"$f":"Baseline_Data_2012!AN259/Baseline_Data_2012!AN$269","v":8.3190720162454254E-3},{"$f":"Baseline_Data_2012!AO259/Baseline_Data_2012!AO$269","v":8.3278645690876927E-3},{"$f":"Baseline_Data_2012!AP259/Baseline_Data_2012!AP$269","v":2.1149932261294345E-3},{"$f":"Baseline_Data_2012!AQ259/Baseline_Data_2012!AQ$269","v":2.2025456041489988E-3},{"$f":"Baseline_Data_2012!AR259/Baseline_Data_2012!AR$269","v":7.0115744274586445E-3},{"$f":"Baseline_Data_2012!AS259/Baseline_Data_2012!AS$269","v":5.7456898617439661E-3},{"$f":"Baseline_Data_2012!AT259/Baseline_Data_2012!AT$269","v":9.1242903172844819E-3},{"$f":"Baseline_Data_2012!AU259/Baseline_Data_2012!AU$269","v":1.8612616234834512E-3},{"$f":"Baseline_Data_2012!AV259/Baseline_Data_2012!AV$269","v":6.227035502600317E-3},259]
[5,"Female 55-59",{"$f":"'III Tool Overview'!$H$8/110","v":1.3090909090909091},0,0,{"$f":"G260*'III Tool Overview'!$H$8","v":0.23478905738001205},{"$f":"HLOOKUP('III Tool Overview'!$H$6,Targeting!$I$1:$BC$269,Targeting!BD260,FALSE)","v":1.6304795651389725E-3},{"$f":"Baseline_Data_2012!B260","v":12345.96},{"$f":"Baseline_Data_2012!B260/Baseline_Data_2012!B$269","v":1.1395969109162317E-2},{"$f":"Baseline_Data_2012!C260/Baseline_Data_2012!C$269","v":8.4660547100040198E-3},{"$f":"Baseline_Data_2012!D260/Baseline_Data_2012!D$269","v":4.5889826419053276E-3},{"$f":"Baseline_Data_2012!E260/Baseline_Data_2012!E$269","v":4.3894373038791748E-3},{"$f":"Baseline_Data_2012!F260/Baseline_Data_2012!F$269","v":1.0934742253838628E-2},{"$f":"Baseline_Data_2012!G260/Baseline_Data_2012!G$269","v":1.1443053862546708E-2},{"$f":"Baseline_Data_2012!H260/Baseline_Data_2012!H$269","v":2.2213628621661336E-2},{"$f":"Baseline_Data_2012!I260/Baseline_Data_2012!I$269","v":1.0077263453379715E-2},{"$f":"Baseline_Data_2012!J260/Baseline_Data_2012!J$269","v":5.8330014496433911E-3},{"$f":"Baseline_Data_2012!K260/Baseline_Data_2012!K$269","v":7.3377460162549167E-3},{"$f":"Baseline_Data_2012!L260/Baseline_Data_2012!L$269","v":1.8688550514780237E-2},{"$f":"Baseline_Data_2012!M260/Baseline_Data_2012!M$269","v":1.6304795651389725E-3},{"$f":"Baseline_Data_2012!N260/Baseline_Data_2012!N$269","v":3.6886922920696024E-3},{"$f":"Baseline_Data_2012!O260/Baseline_Data_2012!O$269","v":1.0532072604345955E-2},{"$f":"Baseline_Data_2012!P260/Baseline_Data_2012!P$269","v":0},{"$f":"Baseline_Data_2012!Q260/Baseline_Data_2012!Q$269","v":2.3386124174037185E-2},{"$f":"Baseline_Data_2012!R260/Baseline_Data_2012!R$269","v":2.7144005335503152E-2},{"$f":"Baseline_Data_2012!S260/Baseline_Data_2012!S$269","v":9.0937124247012866E-3},{"$f":"Baseline_Data_2012!T260/Baseline_Data_2012!T$269","v":5.1762624427917998E-3},{"$f":"Baseline_Data_2012!U260/Baseline_Data_2012!U$269","v":8.5485374436880084E-3},{"$f":"Baseline_Data_2012!V260/Baseline_Data_2012!V$269","v":4.3591797314298346E-3},{"$f":"Baseline_Data_2012!W260/Baseline_Data_2012!W$269","v":7.7376197683989845E-3},{"$f":"Baseline_Data_2012!X260/Baseline_Data_2012!X$269","v":6.6137984928902101E-3},{"$f":"Baseline_Data_2012!Y260/Baseline_Data_2012!Y$269","v":3.7157929663870902E-2},{"$f":"Baseline_Data_2012!Z260/Baseline_Data_2012!Z$269","v":1.1991614299967071E-2},{"$f":"Baseline_Data_2012!AA260/Baseline_Data_2012!AA$269","v":4.2527903186246691E-2},{"$f":"Baseline_Data_2012!AB260/Baseline_Data_2012!AB$269","v":2.5445404207449063E-2},{"$f":"Baseline_Data_2012!AC260/Baseline_Data_2012!AC$269","v":0},{"$f":"Baseline_Data_2012!AD260/Baseline_Data_2012!AD$269","v":1.0434141847211446E-2},{"$f":"Baseline_Data_2012!AE260/Baseline_Data_2012!AE$269","v":1.0952582468041408E-2},{"$f":"Baseline_Data_2012!AF260/Baseline_Data_2012!AF$269","v":4.0928533421818155E-3},{"$f":"Baseline_Data_2012!AG260/Baseline_Data_2012!AG$269","v":6.1184036319532724E-3},{"$f":"Baseline_Data_2012!AH260/Baseline_Data_2012!AH$269","v":6.0799280187500138E-3},{"$f":"Baseline_Data_2012!AI260/Baseline_Data_2012!AI$269","v":9.9651877869224685E-3},{"$f":"Baseline_Data_2012!AJ260/Baseline_Data_2012!AJ$269","v":7.0544563938487797E-3},{"$f":"Baseline_Data_2012!AK260/Baseline_Data_2012!AK$269","v":5.9602151465761579E-3},{"$f":"Baseline_Data_2012!AL260/Baseline_Data_2012!AL$269","v":4.7459773301792964E-3},{"$f":"Baseline_Data_2012!AM260/Baseline_Data_2012!AM$269","v":1.6304795651389725E-3},{"$f":"Baseline_Data_2012!AN260/Baseline_Data_2012!AN$269","v":1.5393582481484071E-2},{"$f":"Baseline_Data_2012!AO260/Baseline_Data_2012!AO$269","v":1.3573973907261646E-2},{"$f":"Baseline_Data_2012!AP260/Baseline_Data_2012!AP$269","v":4.5734898936133665E-3},{"$f":"Baseline_Data_2012!AQ260/Baseline_Data_2012!AQ$269","v":3.6886922920696024E-3},{"$f":"Baseline_Data_2012!AR260/Baseline_Data_2012!AR$269","v":1.3664447439750274E-2},{"$f":"Baseline_Data_2012!AS260/Baseline_Data_2012!AS$269","v":1.0121757317269935E-2},{"$f":"Baseline_Data_2012!AT260/Baseline_Data_2012!AT$269","v":1.5278167307208717E-2},{"$f":"Baseline_Data_2012!AU260/Baseline_Data_2012!AU$269","v":2.9900998089227035E-3},{"$f":"Baseline_Data_2012!AV260/Baseline_Data_2012!AV$269","v":1.0118858482607598E-2},260]
[5,"Female 60-64",{"$f":"'III Tool Overview'!$H$8/110","v":1.3090909090909091},0,0,{"$f":"G261*'III Tool Overview'!$H$8","v":0.50052758141466192},{"$f":"HLOOKUP('III Tool Overview'!$H$6,Targeting!$I$1:$BC$269,Targeting!BD261,FALSE)","v":3.4758859820462635E-3},{"$f":"Baseline_Data_2012!B261","v":23866.739999999998},{"$f":"Baseline_Data_2012!B261/Baseline_Data_2012!B$269","v":2.2030253765313399E-2},{"$f":"Baseline_Data_2012!C261/Baseline_Data_2012!C$269","v":1.7846672328725333E-2},{"$f":"Baseline_Data_2012!D261/Baseline_Data_2012!D$269","v":9.132529812108622E-3},{"$f":"Baseline_Data_2012!E261/Baseline_Data_2012!E$269","v":8.2767878050436453E-3},{"$f":"Baseline_Data_2012!F261/Baseline_Data_2012!F$269","v":2.3136169854758002E-2},{"$f":"Baseline_Data_2012!G261/Baseline_Data_2012!G$269","v":2.3858409405975126E-2},{"$f":"Baseline_Data_2012!H261/Baseline_Data_2012!H$269","v":4.1199052937495526E-2},{"$f":"Baseline_Data_2012!I261/Baseline_Data_2012!I$269","v":1.8341840971630278E-2},{"$f":"Baseline_Data_2012!J261/Baseline_Data_2012!J$269","v":1.1692987576546913E-2},{"$f":"Baseline_Data_2012!K261/Baseline_Data_2012!K$269","v":1.3208347537304847E-2},{"$f":"Baseline_Data_2012!L261/Baseline_Data_2012!L$269","v":3.6009855815526993E-2},{"$f":"Baseline_Data_2012!M261/Baseline_Data_2012!M$269","v":3.4758859820462635E-3},{"$f":"Baseline_Data_2012!N261/Baseline_Data_2012!N$269","v":6.4679136195655695E-3},{"$f":"Baseline_Data_2012!O261/Baseline_Data_2012!O$269","v":2.2932464349022866E-2},{"$f":"Baseline_Data_2012!P261/Baseline_Data_2012!P$269","v":0},{"$f":"Baseline_Data_2012!Q261/Baseline_Data_2012!Q$269","v":4.3761053744017397E-2},{"$f":"Baseline_Data_2012!R261/Baseline_Data_2012!R$269","v":4.9246658682281071E-2},{"$f":"Baseline_Data_2012!S261/Baseline_Data_2012!S$269","v":2.2079754917345231E-2},{"$f":"Baseline_Data_2012!T261/Baseline_Data_2012!T$269","v":1.1370218018663258E-2},{"$f":"Baseline_Data_2012!U261/Baseline_Data_2012!U$269","v":1.9467001115622041E-2},{"$f":"Baseline_Data_2012!V261/Baseline_Data_2012!V$269","v":8.2197336795780413E-3},{"$f":"Baseline_Data_2012!W261/Baseline_Data_2012!W$269","v":1.637076513705597E-2},{"$f":"Baseline_Data_2012!X261/Baseline_Data_2012!X$269","v":1.3237208512736015E-2},{"$f":"Baseline_Data_2012!Y261/Baseline_Data_2012!Y$269","v":7.1579289784538522E-2},{"$f":"Baseline_Data_2012!Z261/Baseline_Data_2012!Z$269","v":2.2757217858178674E-2},{"$f":"Baseline_Data_2012!AA261/Baseline_Data_2012!AA$269","v":7.4808797326613108E-2},{"$f":"Baseline_Data_2012!AB261/Baseline_Data_2012!AB$269","v":4.9694201648402214E-2},{"$f":"Baseline_Data_2012!AC261/Baseline_Data_2012!AC$269","v":0},{"$f":"Baseline_Data_2012!AD261/Baseline_Data_2012!AD$269","v":1.9662478776039643E-2},{"$f":"Baseline_Data_2012!AE261/Baseline_Data_2012!AE$269","v":2.3173916901415265E-2},{"$f":"Baseline_Data_2012!AF261/Baseline_Data_2012!AF$269","v":6.8394775131746409E-3},{"$f":"Baseline_Data_2012!AG261/Baseline_Data_2012!AG$269","v":1.1842306664898909E-2},{"$f":"Baseline_Data_2012!AH261/Baseline_Data_2012!AH$269","v":1.2344096280492451E-2},{"$f":"Baseline_Data_2012!AI261/Baseline_Data_2012!AI$269","v":1.9682345304126304E-2},{"$f":"Baseline_Data_2012!AJ261/Baseline_Data_2012!AJ$269","v":1.4856193919979884E-2},{"$f":"Baseline_Data_2012!AK261/Baseline_Data_2012!AK$269","v":1.334990494924909E-2},{"$f":"Baseline_Data_2012!AL261/Baseline_Data_2012!AL$269","v":8.4216131973170998E-3},{"$f":"Baseline_Data_2012!AM261/Baseline_Data_2012!AM$269","v":3.4758859820462635E-3},{"$f":"Baseline_Data_2012!AN261/Baseline_Data_2012!AN$269","v":3.2148058500814349E-2},{"$f":"Baseline_Data_2012!AO261/Baseline_Data_2012!AO$269","v":2.5099922005084385E-2},{"$f":"Baseline_Data_2012!AP261/Baseline_Data_2012!AP$269","v":9.1016977090721436E-3},{"$f":"Baseline_Data_2012!AQ261/Baseline_Data_2012!AQ$269","v":6.4679136195655695E-3},{"$f":"Baseline_Data_2012!AR261/Baseline_Data_2012!AR$269","v":2.8615904156847789E-2},{"$f":"Baseline_Data_2012!AS261/Baseline_Data_2012!AS$269","v":1.8692809507086332E-2},{"$f":"Baseline_Data_2012!AT261/Baseline_Data_2012!AT$269","v":3.4744763731775048E-2},{"$f":"Baseline_Data_2012!AU261/Baseline_Data_2012!AU$269","v":5.0273884571422917E-3},{"$f":"Baseline_Data_2012!AV261/Baseline_Data_2012!AV$269","v":1.7839575110629054E-2},261]
[5,"Female 65-69",{"$f":"'III Tool Overview'!$H$8/110","v":1.3090909090909091},0,0,{"$f":"G262*'III Tool Overview'!$H$8","v":0.80041724106822287},{"$f":"HLOOKUP('III Tool Overview'!$H$6,Targeting!$I$1:$BC$269,Targeting!BD262,FALSE)","v":5.55845306297377E-3},{"$f":"Baseline_Data_2012!B262","v":28210.5},{"$f":"Baseline_Data_2012!B262/Baseline_Data_2012!B$269","v":2.6039772245659596E-2},{"$f":"Baseline_Data_2012!C262/Baseline_Data_2012!C$269","v":2.1252624612364428E-2},{"$f":"Baseline_Data_2012!D262/Baseline_Data_2012!D$269","v":1.0863208234213334E-2},{"$f":"Baseline_Data_2012!E262/Baseline_Data_2012!E$269","v":1.1173113137146994E-2},{"$f":"Baseline_Data_2012!F262/Baseline_Data_2012!F$269","v":2.9016023671119707E-2},{"$f":"Baseline_Data_2012!G262/Baseline_Data_2012!G$269","v":2.8672744143925819E-2},{"$f":"Baseline_Data_2012!H262/Baseline_Data_2012!H$269","v":4.7069877337655351E-2},{"$f":"Baseline_Data_2012!I262/Baseline_Data_2012!I$269","v":2.1474826172781611E-2},{"$f":"Baseline_Data_2012!J262/Baseline_Data_2012!J$269","v":1.4542984644097348E-2},{"$f":"Baseline_Data_2012!K262/Baseline_Data_2012!K$269","v":1.4618521592188894E-2},{"$f":"Baseline_Data_2012!L262/Baseline_Data_2012!L$269","v":4.1575211663349147E-2},{"$f":"Baseline_Data_2012!M262/Baseline_Data_2012!M$269","v":5.55845306297377E-3},{"$f":"Baseline_Data_2012!N262/Baseline_Data_2012!N$269","v":1.0060069887462551E-2},{"$f":"Baseline_Data_2012!O262/Baseline_Data_2012!O$269","v":2.8529754413492425E-2},{"$f":"Baseline_Data_2012!P262/Baseline_Data_2012!P$269","v":0},{"$f":"Baseline_Data_2012!Q262/Baseline_Data_2012!Q$269","v":4.9826916452242097E-2},{"$f":"Baseline_Data_2012!R262/Baseline_Data_2012!R$269","v":5.5160711507735355E-2},{"$f":"Baseline_Data_2012!S262/Baseline_Data_2012!S$269","v":2.7230203081289938E-2},{"$f":"Baseline_Data_2012!T262/Baseline_Data_2012!T$269","v":1.6044325722460468E-2},{"$f":"Baseline_Data_2012!U262/Baseline_Data_2012!U$269","v":2.2132730543700838E-2},{"$f":"Baseline_Data_2012!V262/Baseline_Data_2012!V$269","v":1.10960938618214E-2},{"$f":"Baseline_Data_2012!W262/Baseline_Data_2012!W$269","v":2.016238454501806E-2},{"$f":"Baseline_Data_2012!X262/Baseline_Data_2012!X$269","v":1.4769713088433977E-2},{"$f":"Baseline_Data_2012!Y262/Baseline_Data_2012!Y$269","v":8.9934405409201154E-2},{"$f":"Baseline_Data_2012!Z262/Baseline_Data_2012!Z$269","v":2.9890077186861548E-2},{"$f":"Baseline_Data_2012!AA262/Baseline_Data_2012!AA$269","v":9.9266079671290405E-2},{"$f":"Baseline_Data_2012!AB262/Baseline_Data_2012!AB$269","v":5.6910706288243205E-2},{"$f":"Baseline_Data_2012!AC262/Baseline_Data_2012!AC$269","v":0},{"$f":"Baseline_Data_2012!AD262/Baseline_Data_2012!AD$269","v":2.2350981697424697E-2},{"$f":"Baseline_Data_2012!AE262/Baseline_Data_2012!AE$269","v":2.906336379725976E-2},{"$f":"Baseline_Data_2012!AF262/Baseline_Data_2012!AF$269","v":6.6811466295312446E-3},{"$f":"Baseline_Data_2012!AG262/Baseline_Data_2012!AG$269","v":1.3919129102399837E-2},{"$f":"Baseline_Data_2012!AH262/Baseline_Data_2012!AH$269","v":1.3907166729105606E-2},{"$f":"Baseline_Data_2012!AI262/Baseline_Data_2012!AI$269","v":2.3589261822176584E-2},{"$f":"Baseline_Data_2012!AJ262/Baseline_Data_2012!AJ$269","v":2.0066335978335164E-2},{"$f":"Baseline_Data_2012!AK262/Baseline_Data_2012!AK$269","v":1.5372452745795158E-2},{"$f":"Baseline_Data_2012!AL262/Baseline_Data_2012!AL$269","v":8.4671104208901907E-3},{"$f":"Baseline_Data_2012!AM262/Baseline_Data_2012!AM$269","v":5.55845306297377E-3},{"$f":"Baseline_Data_2012!AN262/Baseline_Data_2012!AN$269","v":4.0472088929613591E-2},{"$f":"Baseline_Data_2012!AO262/Baseline_Data_2012!AO$269","v":2.8347937633812357E-2},{"$f":"Baseline_Data_2012!AP262/Baseline_Data_2012!AP$269","v":1.0826533231505989E-2},{"$f":"Baseline_Data_2012!AQ262/Baseline_Data_2012!AQ$269","v":1.0060069887462551E-2},{"$f":"Baseline_Data_2012!AR262/Baseline_Data_2012!AR$269","v":3.6642374226613997E-2},{"$f":"Baseline_Data_2012!AS262/Baseline_Data_2012!AS$269","v":2.1181369770580615E-2},{"$f":"Baseline_Data_2012!AT262/Baseline_Data_2012!AT$269","v":4.5039074983324191E-2},{"$f":"Baseline_Data_2012!AU262/Baseline_Data_2012!AU$269","v":5.3940720984827183E-3},{"$f":"Baseline_Data_2012!AV262/Baseline_Data_2012!AV$269","v":1.9288433928828706E-2},262]
[5,"Female 70-74",null,null,null,null,null,null,{"$f":"Baseline_Data_2012!B263/Baseline_Data_2012!B$269","v":0},{"$f":"Baseline_Data_2012!C263/Baseline_Data_2012!C$269","v":0},{"$f":"Baseline_Data_2012!D263/Baseline_Data_2012!D$269","v":0},{"$f":"Baseline_Data_2012!E263/Baseline_Data_2012!E$269","v":0},{"$f":"Baseline_Data_2012!F263/Baseline_Data_2012!F$269","v":0},{"$f":"Baseline_Data_2012!G263/Baseline_Data_2012!G$269","v":0},{"$f":"Baseline_Data_2012!H263/Baseline_Data_2012!H$269","v":0},{"$f":"Baseline_Data_2012!I263/Baseline_Data_2012!I$269","v":0},{"$f":"Baseline_Data_2012!J263/Baseline_Data_2012!J$269","v":0},{"$f":"Baseline_Data_2012!K263/Baseline_Data_2012!K$269","v":0},{"$f":"Baseline_Data_2012!L263/Baseline_Data_2012!L$269","v":0},{"$f":"Baseline_Data_2012!M263/Baseline_Data_2012!M$269","v":0},{"$f":"Baseline_Data_2012!N263/Baseline_Data_2012!N$269","v":0},{"$f":"Baseline_Data_2012!O263/Baseline_Data_2012!O$269","v":0},{"$f":"Baseline_Data_2012!P263/Baseline_Data_2012!P$269","v":0},{"$f":"Baseline_Data_2012!Q263/Baseline_Data_2012!Q$269","v":0},{"$f":"Baseline_Data_2012!R263/Baseline_Data_2012!R$269","v":0},{"$f":"Baseline_Data_2012!S263/Baseline_Data_2012!S$269","v":0},{"$f":"Baseline_Data_2012!T263/Baseline_Data_2012!T$269","v":0},{"$f":"Baseline_Data_2012!U263/Baseline_Data_2012!U$269","v":0},{"$f":"Baseline_Data_2012!V263/Baseline_Data_2012!V$269","v":0},{"$f":"Baseline_Data_2012!W263/Baseline_Data_2012!W$269","v":0},{"$f":"Baseline_Data_2012!X263/Baseline_Data_2012!X$269","v":0},{"$f":"Baseline_Data_2012!Y263/Baseline_Data_2012!Y$269","v":0},{"$f":"Baseline_Data_2012!Z263/Baseline_Data_2012!Z$269","v":0},{"$f":"Baseline_Data_2012!AA263/Baseline_Data_2012!AA$269","v":0},{"$f":"Baseline_Data_2012!AB263/Baseline_Data_2012!AB$269","v":0},{"$f":"Baseline_Data_2012!AC263/Baseline_Data_2012!AC$269","v":0},{"$f":"Baseline_Data_2012!AD263/Baseline_Data_2012!AD$269","v":0},{"$f":"Baseline_Data_2012!AE263/Baseline_Data_2012!AE$269","v":0},{"$f":"Baseline_Data_2012!AF263/Baseline_Data_2012!AF$269","v":0},{"$f":"Baseline_Data_2012!AG263/Baseline_Data_2012!AG$269","v":0},{"$f":"Baseline_Data_2012!AH263/Baseline_Data_2012!AH$269","v":0},{"$f":"Baseline_Data_2012!AI263/Baseline_Data_2012!AI$269","v":0},{"$f":"Baseline_Data_2012!AJ263/Baseline_Data_2012!AJ$269","v":0},{"$f":"Baseline_Data_2012!AK263/Baseline_Data_2012!AK$269","v":0},{"$f":"Baseline_Data_2012!AL263/Baseline_Data_2012!AL$269","v":0},{"$f":"Baseline_Data_2012!AM263/Baseline_Data_2012!AM$269","v":0},{"$f":"Baseline_Data_2012!AN263/Baseline_Data_2012!AN$269","v":0},{"$f":"Baseline_Data_2012!AO263/Baseline_Data_2012!AO$269","v":0},{"$f":"Baseline_Data_2012!AP263/Baseline_Data_2012!AP$269","v":0},{"$f":"Baseline_Data_2012!AQ263/Baseline_Data_2012!AQ$269","v":0},{"$f":"Baseline_Data_2012!AR263/Baseline_Data_2012!AR$269","v":0},{"$f":"Baseline_Data_2012!AS263/Baseline_Data_2012!AS$269","v":0},{"$f":"Baseline_Data_2012!AT263/Baseline_Data_2012!AT$269","v":0},{"$f":"Baseline_Data_2012!AU263/Baseline_Data_2012!AU$269","v":0},{"$f":"Baseline_Data_2012!AV263/Baseline_Data_2012!AV$269","v":0},263]
[5,"Female 75-79",null,null,null,null,null,null,{"$f":"Baseline_Data_2012!B264/Baseline_Data_2012!B$269","v":0},{"$f":"Baseline_Data_2012!C264/Baseline_Data_2012!C$269","v":0},{"$f":"Baseline_Data_2012!D264/Baseline_Data_2012!D$269","v":0},{"$f":"Baseline_Data_2012!E264/Baseline_Data_2012!E$269","v":0},{"$f":"Baseline_Data_2012!F264/Baseline_Data_2012!F$269","v":0},{"$f":"Baseline_Data_2012!G264/Baseline_Data_2012!G$269","v":0},{"$f":"Baseline_Data_2012!H264/Baseline_Data_2012!H$269","v":0},{"$f":"Baseline_Data_2012!I264/Baseline_Data_2012!I$269","v":0},{"$f":"Baseline_Data_2012!J264/Baseline_Data_2012!J$269","v":0},{"$f":"Baseline_Data_2012!K264/Baseline_Data_2012!K$269","v":0},{"$f":"Baseline_Data_2012!L264/Baseline_Data_2012!L$269","v":0},{"$f":"Baseline_Data_2012!M264/Baseline_Data_2012!M$269","v":0},{"$f":"Baseline_Data_2012!N264/Baseline_Data_2012!N$269","v":0},{"$f":"Baseline_Data_2012!O264/Baseline_Data_2012!O$269","v":0},{"$f":"Baseline_Data_2012!P264/Baseline_Data_2012!P$269","v":0},{"$f":"Baseline_Data_2012!Q264/Baseline_Data_2012!Q$269","v":0},{"$f":"Baseline_Data_2012!R264/Baseline_Data_2012!R$269","v":0},{"$f":"Baseline_Data_2012!S264/Baseline_Data_2012!S$269","v":0},{"$f":"Baseline_Data_2012!T264/Baseline_Data_2012!T$269","v":0},{"$f":"Baseline_Data_2012!U264/Baseline_Data_2012!U$269","v":0},{"$f":"Baseline_Data_2012!V264/Baseline_Data_2012!V$269","v":0},{"$f":"Baseline_Data_2012!W264/Baseline_Data_2012!W$269","v":0},{"$f":"Baseline_Data_2012!X264/Baseline_Data_2012!X$269","v":0},{"$f":"Baseline_Data_2012!Y264/Baseline_Data_2012!Y$269","v":0},{"$f":"Baseline_Data_2012!Z264/Baseline_Data_2012!Z$269","v":0},{"$f":"Baseline_Data_2012!AA264/Baseline_Data_2012!AA$269","v":0},{"$f":"Baseline_Data_2012!AB264/Baseline_Data_2012!AB$269","v":0},{"$f":"Baseline_Data_2012!AC264/Baseline_Data_2012!AC$269","v":0},{"$f":"Baseline_Data_2012!AD264/Baseline_Data_2012!AD$269","v":0},{"$f":"Baseline_Data_2012!AE264/Baseline_Data_2012!AE$269","v":0},{"$f":"Baseline_Data_2012!AF264/Baseline_Data_2012!AF$269","v":0},{"$f":"Baseline_Data_2012!AG264/Baseline_Data_2012!AG$269","v":0},{"$f":"Baseline_Data_2012!AH264/Baseline_Data_2012!AH$269","v":0},{"$f":"Baseline_Data_2012!AI264/Baseline_Data_2012!AI$269","v":0},{"$f":"Baseline_Data_2012!AJ264/Baseline_Data_2012!AJ$269","v":0},{"$f":"Baseline_Data_2012!AK264/Baseline_Data_2012!AK$269","v":0},{"$f":"Baseline_Data_2012!AL264/Baseline_Data_2012!AL$269","v":0},{"$f":"Baseline_Data_2012!AM264/Baseline_Data_2012!AM$269","v":0},{"$f":"Baseline_Data_2012!AN264/Baseline_Data_2012!AN$269","v":0},{"$f":"Baseline_Data_2012!AO264/Baseline_Data_2012!AO$269","v":0},{"$f":"Baseline_Data_2012!AP264/Baseline_Data_2012!AP$269","v":0},{"$f":"Baseline_Data_2012!AQ264/Baseline_Data_2012!AQ$269","v":0},{"$f":"Baseline_Data_2012!AR264/Baseline_Data_2012!AR$269","v":0},{"$f":"Baseline_Data_2012!AS264/Baseline_Data_2012!AS$269","v":0},{"$f":"Baseline_Data_2012!AT264/Baseline_Data_2012!AT$269","v":0},{"$f":"Baseline_Data_2012!AU264/Baseline_Data_2012!AU$269","v":0},{"$f":"Baseline_Data_2012!AV264/Baseline_Data_2012!AV$269","v":0},264]
[5,"Female 80-84",null,null,null,null,null,null,{"$f":"Baseline_Data_2012!B265/Baseline_Data_2012!B$269","v":0},{"$f":"Baseline_Data_2012!C265/Baseline_Data_2012!C$269","v":0},{"$f":"Baseline_Data_2012!D265/Baseline_Data_2012!D$269","v":0},{"$f":"Baseline_Data_2012!E265/Baseline_Data_2012!E$269","v":0},{"$f":"Baseline_Data_2012!F265/Baseline_Data_2012!F$269","v":0},{"$f":"Baseline_Data_2012!G265/Baseline_Data_2012!G$269","v":0},{"$f":"Baseline_Data_2012!H265/Baseline_Data_2012!H$269","v":0},{"$f":"Baseline_Data_2012!I265/Baseline_Data_2012!I$269","v":0},{"$f":"Baseline_Data_2012!J265/Baseline_Data_2012!J$269","v":0},{"$f":"Baseline_Data_2012!K265/Baseline_Data_2012!K$269","v":0},{"$f":"Baseline_Data_2012!L265/Baseline_Data_2012!L$269","v":0},{"$f":"Baseline_Data_2012!M265/Baseline_Data_2012!M$269","v":0},{"$f":"Baseline_Data_2012!N265/Baseline_Data_2012!N$269","v":0},{"$f":"Baseline_Data_2012!O265/Baseline_Data_2012!O$269","v":0},{"$f":"Baseline_Data_2012!P265/Baseline_Data_2012!P$269","v":0},{"$f":"Baseline_Data_2012!Q265/Baseline_Data_2012!Q$269","v":0},{"$f":"Baseline_Data_2012!R265/Baseline_Data_2012!R$269","v":0},{"$f":"Baseline_Data_2012!S265/Baseline_Data_2012!S$269","v":0},{"$f":"Baseline_Data_2012!T265/Baseline_Data_2012!T$269","v":0},{"$f":"Baseline_Data_2012!U265/Baseline_Data_2012!U$269","v":0},{"$f":"Baseline_Data_2012!V265/Baseline_Data_2012!V$269","v":0},{"$f":"Baseline_Data_2012!W265/Baseline_Data_2012!W$269","v":0},{"$f":"Baseline_Data_2012!X265/Baseline_Data_2012!X$269","v":0},{"$f":"Baseline_Data_2012!Y265/Baseline_Data_2012!Y$269","v":0},{"$f":"Baseline_Data_2012!Z265/Baseline_Data_2012!Z$269","v":0},{"$f":"Baseline_Data_2012!AA265/Baseline_Data_2012!AA$269","v":0},{"$f":"Baseline_Data_2012!AB265/Baseline_Data_2012!AB$269","v":0},{"$f":"Baseline_Data_2012!AC265/Baseline_Data_2012!AC$269","v":0},{"$f":"Baseline_Data_2012!AD265/Baseline_Data_2012!AD$269","v":0},{"$f":"Baseline_Data_2012!AE265/Baseline_Data_2012!AE$269","v":0},{"$f":"Baseline_Data_2012!AF265/Baseline_Data_2012!AF$269","v":0},{"$f":"Baseline_Data_2012!AG265/Baseline_Data_2012!AG$269","v":0},{"$f":"Baseline_Data_2012!AH265/Baseline_Data_2012!AH$269","v":0},{"$f":"Baseline_Data_2012!AI265/Baseline_Data_2012!AI$269","v":0},{"$f":"Baseline_Data_2012!AJ265/Baseline_Data_2012!AJ$269","v":0},{"$f":"Baseline_Data_2012!AK265/Baseline_Data_2012!AK$269","v":0},{"$f":"Baseline_Data_2012!AL265/Baseline_Data_2012!AL$269","v":0},{"$f":"Baseline_Data_2012!AM265/Baseline_Data_2012!AM$269","v":0},{"$f":"Baseline_Data_2012!AN265/Baseline_Data_2012!AN$269","v":0},{"$f":"Baseline_Data_2012!AO265/Baseline_Data_2012!AO$269","v":0},{"$f":"Baseline_Data_2012!AP265/Baseline_Data_2012!AP$269","v":0},{"$f":"Baseline_Data_2012!AQ265/Baseline_Data_2012!AQ$269","v":0},{"$f":"Baseline_Data_2012!AR265/Baseline_Data_2012!AR$269","v":0},{"$f":"Baseline_Data_2012!AS265/Baseline_Data_2012!AS$269","v":0},{"$f":"Baseline_Data_2012!AT265/Baseline_Data_2012!AT$269","v":0},{"$f":"Baseline_Data_2012!AU265/Baseline_Data_2012!AU$269","v":0},{"$f":"Baseline_Data_2012!AV265/Baseline_Data_2012!AV$269","v":0},265]
[5,"Female 85+",null,null,null,null,null,null,{"$f":"Baseline_Data_2012!B266/Baseline_Data_2012!B$269","v":0},{"$f":"Baseline_Data_2012!C266/Baseline_Data_2012!C$269","v":0},{"$f":"Baseline_Data_2012!D266/Baseline_Data_2012!D$269","v":0},{"$f":"Baseline_Data_2012!E266/Baseline_Data_2012!E$269","v":0},{"$f":"Baseline_Data_2012!F266/Baseline_Data_2012!F$269","v":0},{"$f":"Baseline_Data_2012!G266/Baseline_Data_2012!G$269","v":0},{"$f":"Baseline_Data_2012!H266/Baseline_Data_2012!H$269","v":0},{"$f":"Baseline_Data_2012!I266/Baseline_Data_2012!I$269","v":0},{"$f":"Baseline_Data_2012!J266/Baseline_Data_2012!J$269","v":0},{"$f":"Baseline_Data_2012!K266/Baseline_Data_2012!K$269","v":0},{"$f":"Baseline_Data_2012!L266/Baseline_Data_2012!L$269","v":0},{"$f":"Baseline_Data_2012!M266/Baseline_Data_2012!M$269","v":0},{"$f":"Baseline_Data_2012!N266/Baseline_Data_2012!N$269","v":0},{"$f":"Baseline_Data_2012!O266/Baseline_Data_2012!O$269","v":0},{"$f":"Baseline_Data_2012!P266/Baseline_Data_2012!P$269","v":0},{"$f":"Baseline_Data_2012!Q266/Baseline_Data_2012!Q$269","v":0},{"$f":"Baseline_Data_2012!R266/Baseline_Data_2012!R$269","v":0},{"$f":"Baseline_Data_2012!S266/Baseline_Data_2012!S$269","v":0},{"$f":"Baseline_Data_2012!T266/Baseline_Data_2012!T$269","v":0},{"$f":"Baseline_Data_2012!U266/Baseline_Data_2012!U$269","v":0},{"$f":"Baseline_Data_2012!V266/Baseline_Data_2012!V$269","v":0},{"$f":"Baseline_Data_2012!W266/Baseline_Data_2012!W$269","v":0},{"$f":"Baseline_Data_2012!X266/Baseline_Data_2012!X$269","v":0},{"$f":"Baseline_Data_2012!Y266/Baseline_Data_2012!Y$269","v":0},{"$f":"Baseline_Data_2012!Z266/Baseline_Data_2012!Z$269","v":0},{"$f":"Baseline_Data_2012!AA266/Baseline_Data_2012!AA$269","v":0},{"$f":"Baseline_Data_2012!AB266/Baseline_Data_2012!AB$269","v":0},{"$f":"Baseline_Data_2012!AC266/Baseline_Data_2012!AC$269","v":0},{"$f":"Baseline_Data_2012!AD266/Baseline_Data_2012!AD$269","v":0},{"$f":"Baseline_Data_2012!AE266/Baseline_Data_2012!AE$269","v":0},{"$f":"Baseline_Data_2012!AF266/Baseline_Data_2012!AF$269","v":0},{"$f":"Baseline_Data_2012!AG266/Baseline_Data_2012!AG$269","v":0},{"$f":"Baseline_Data_2012!AH266/Baseline_Data_2012!AH$269","v":0},{"$f":"Baseline_Data_2012!AI266/Baseline_Data_2012!AI$269","v":0},{"$f":"Baseline_Data_2012!AJ266/Baseline_Data_2012!AJ$269","v":0},{"$f":"Baseline_Data_2012!AK266/Baseline_Data_2012!AK$269","v":0},{"$f":"Baseline_Data_2012!AL266/Baseline_Data_2012!AL$269","v":0},{"$f":"Baseline_Data_2012!AM266/Baseline_Data_2012!AM$269","v":0},{"$f":"Baseline_Data_2012!AN266/Baseline_Data_2012!AN$269","v":0},{"$f":"Baseline_Data_2012!AO266/Baseline_Data_2012!AO$269","v":0},{"$f":"Baseline_Data_2012!AP266/Baseline_Data_2012!AP$269","v":0},{"$f":"Baseline_Data_2012!AQ266/Baseline_Data_2012!AQ$269","v":0},{"$f":"Baseline_Data_2012!AR266/Baseline_Data_2012!AR$269","v":0},{"$f":"Baseline_Data_2012!AS266/Baseline_Data_2012!AS$269","v":0},{"$f":"Baseline_Data_2012!AT266/Baseline_Data_2012!AT$269","v":0},{"$f":"Baseline_Data_2012!AU266/Baseline_Data_2012!AU$269","v":0},{"$f":"Baseline_Data_2012!AV266/Baseline_Data_2012!AV$269","v":0},266]
[null,"TOTAL",null,null,null,null,null,{"$f":"SUM(H2:H266)","v":1083362.01},{"$f":"Baseline_Data_2012!B267/Baseline_Data_2012!B$269","v":0},{"$f":"Baseline_Data_2012!C267/Baseline_Data_2012!C$269","v":0},{"$f":"Baseline_Data_2012!D267/Baseline_Data_2012!D$269","v":0},{"$f":"Baseline_Data_2012!E267/Baseline_Data_2012!E$269","v":0},{"$f":"Baseline_Data_2012!F267/Baseline_Data_2012!F$269","v":0},{"$f":"Baseline_Data_2012!G267/Baseline_Data_2012!G$269","v":0},{"$f":"Baseline_Data_2012!H267/Baseline_Data_2012!H$269","v":0},{"$f":"Baseline_Data_2012!I267/Baseline_Data_2012!I$269","v":0},{"$f":"Baseline_Data_2012!J267/Baseline_Data_2012!J$269","v":0},{"$f":"Baseline_Data_2012!K267/Baseline_Data_2012!K$269","v":0},{"$f":"Baseline_Data_2012!L267/Baseline_Data_2012!L$269","v":0},{"$f":"Baseline_Data_2012!M267/Baseline_Data_2012!M$269","v":0},{"$f":"Baseline_Data_2012!N267/Baseline_Data_2012!N$269","v":0},{"$f":"Baseline_Data_2012!O267/Baseline_Data_2012!O$269","v":0},{"$f":"Baseline_Data_2012!P267/Baseline_Data_2012!P$269","v":0},{"$f":"Baseline_Data_2012!Q267/Baseline_Data_2012!Q$269","v":0},{"$f":"Baseline_Data_2012!R267/Baseline_Data_2012!R$269","v":0},{"$f":"Baseline_Data_2012!S267/Baseline_Data_2012!S$269","v":0},{"$f":"Baseline_Data_2012!T267/Baseline_Data_2012!T$269","v":0},{"$f":"Baseline_Data_2012!U267/Baseline_Data_2012!U$269","v":0},{"$f":"Baseline_Data_2012!V267/Baseline_Data_2012!V$269","v":0},{"$f":"Baseline_Data_2012!W267/Baseline_Data_2012!W$269","v":0},{"$f":"Baseline_Data_2012!X267/Baseline_Data_2012!X$269","v":0},{"$f":"Baseline_Data_2012!Y267/Baseline_Data_2012!Y$269","v":0},{"$f":"Baseline_Data_2012!Z267/Baseline_Data_2012!Z$269","v":0},{"$f":"Baseline_Data_2012!AA267/Baseline_Data_2012!AA$269","v":0},{"$f":"Baseline_Data_2012!AB267/Baseline_Data_2012!AB$269","v":0},{"$f":"Baseline_Data_2012!AC267/Baseline_Data_2012!AC$269","v":0},{"$f":"Baseline_Data_2012!AD267/Baseline_Data_2012!AD$269","v":0},{"$f":"Baseline_Data_2012!AE267/Baseline_Data_2012!AE$269","v":0},{"$f":"Baseline_Data_2012!AF267/Baseline_Data_2012!AF$269","v":0},{"$f":"Baseline_Data_2012!AG267/Baseline_Data_2012!AG$269","v":0},{"$f":"Baseline_Data_2012!AH267/Baseline_Data_2012!AH$269","v":0},{"$f":"Baseline_Data_2012!AI267/Baseline_Data_2012!AI$269","v":0},{"$f":"Baseline_Data_2012!AJ267/Baseline_Data_2012!AJ$269","v":0},{"$f":"Baseline_Data_2012!AK267/Baseline_Data_2012!AK$269","v":0},{"$f":"Baseline_Data_2012!AL267/Baseline_Data_2012!AL$269","v":0},{"$f":"Baseline_Data_2012!AM267/Baseline_Data_2012!AM$269","v":0},{"$f":"Baseline_Data_2012!AN267/Baseline_Data_2012!AN$269","v":0},{"$f":"Baseline_Data_2012!AO267/Baseline_Data_2012!AO$269","v":0},{"$f":"Baseline_Data_2012!AP267/Baseline_Data_2012!AP$269","v":0},{"$f":"Baseline_Data_2012!AQ267/Baseline_Data_2012!AQ$269","v":0},{"$f":"Baseline_Data_2012!AR267/Baseline_Data_2012!AR$269","v":0},{"$f":"Baseline_Data_2012!AS267/Baseline_Data_2012!AS$269","v":0},{"$f":"Baseline_Data_2012!AT267/Baseline_Data_2012!AT$269","v":0},{"$f":"Baseline_Data_2012!AU267/Baseline_Data_2012!AU$269","v":0},{"$f":"Baseline_Data_2012!AV267/Baseline_Data_2012!AV$269","v":0},267]
[]
[]
[]
[]
[null,null,"Even distribution"]
[null,null,"Targetting to Q1"]
[null,null,"Targetting to Q1 & Q2"]
[null,null,"Proportionate to need"]

{"sheet":"Baseline_Data_2012","index":5,"n_rows":279,"n_cols":96,"rows_kept":279,"cut":false,"hidden":false,"merged":[]}
[null,"Estimated number of people aged 25-69 not in employment and 16-24 not in full-time education or employment (2012)",null,null,null,null,null,null,null,null,null,null,null,null,null,null,null,null,null,null,null,null,null,null,null,null,null,null,null,null,null,null,null,null,null,null,null,null,null,null,null,null,null,null,null,null,null,null,null,"Mid-year population estimates (2012)"]
["Non-employment prevalence (2012)","Scotland","Ayrshire & Arran Health Board","Borders Health Board","Dumfries & Galloway Health Board","Fife Health Board","Forth Valley Health Board","Grampian Health Board","Greater Glasgow & Clyde Health Board","Highland Health Board","Lanarkshire Health Board","Lothian Health Board","Orkney Health Board","Shetland Health Board","Tayside Health Board","Western Isles Health Board","Aberdeen City Local Authority","Aberdeenshire Local Authority","Angus Local Authority","Argyll & Bute Local Authority","Clackmannanshire Local Authority","Dumfries & Galloway Local Authority","Dundee City Local Authority","East Ayrshire Local Authority","East Dunbartonshire Local Authority","East Lothian Local Authority","East Renfrewshire Local Authority","Edinburgh, City of Local Authority","Eilean Siar Local Authority","Falkirk Local Authority","Fife Local Authority","Glasgow City Local Authority","Highland Local Authority","Inverclyde Local Authority","Midlothian Local Authority","Moray Local Authority","North Ayrshire Local Authority","North Lanarkshire Local Authority","Orkney Islands Local Authority","Perth & Kinross Local Authority","Renfrewshire Local Authority","Scottish Borders Local Authority","Shetland Islands Local Authority","South Ayrshire Local Authority","South Lanarkshire Local Authority","Stirling Local Authority","West Dunbartonshire Local Authority","West Lothian Local Authority",1,"Scotland","Ayrshire & Arran Health Board","Borders Health Board","Dumfries & Galloway Health Board","Fife Health Board","Forth Valley Health Board","Grampian Health Board","Greater Glasgow & Clyde Health Board","Highland Health Board","Lanarkshire Health Board","Lothian Health Board","Orkney Health Board","Shetland Health Board","Tayside Health Board","Western Isles Health Board","Aberdeen City Local Authority","Aberdeenshire Local Authority","Angus Local Authority","Argyll & Bute Local Authority","Clackmannanshire Local Authority","Dumfries & Galloway Local Authority","Dundee City Local Authority","East Ayrshire Local Authority","East Dunbartonshire Local Authority","East Lothian Local Authority","East Renfrewshire Local Authority","Edinburgh, City of Local Authority","Eilean Siar Local Authority","Falkirk Local Authority","Fife Local Authority","Glasgow City Local Authority","Highland Local Authority","Inverclyde Local Authority","Midlothian Local Authority","Moray Local Authority","North Ayrshire Local Authority","North Lanarkshire Local Authority","Orkney Islands Local Authority","Perth & Kinross Local Authority","Renfrewshire Local Authority","Scottish Borders Local Authority","Shetland Islands Local Authority","South Ayrshire Local Authority","South Lanarkshire Local Authority","Stirling Local Authority","West Dunbartonshire Local Authority","West Lothian Local Authority"]
["All, by SIMD",null,null,null,null,null,null,null,null,null,null,null,null,null,null,null,null,null,null,null,null,null,null,null,null,null,null,null,null,null,null,null,null,null,null,null,null,null,null,null,null,null,null,null,null,null,null,null,2]
["Total",null,null,null,null,null,null,null,null,null,null,null,null,null,null,null,null,null,null,null,null,null,null,null,null,null,null,null,null,null,null,null,null,null,null,null,null,null,null,null,null,null,null,null,null,null,null,null,3]
["Q 1",{"$f":"B12+B19","v":302905.73},{"$f":"C12+C19","v":34800.471574651194},1695.0632751797962,3913.5863617776558,20400.912197202757,12922.576056139558,8398.8382666916114,135190.47659297677,7724.2640000000001,41254.136356406772,24308.300933428865,0,0,21703.214819757464,0,6775.1398005895262,1095.8655838088177,2374.1405594965258,2291.0237672539402,4474.06057778383,3906.3297624396009,17293.061785858587,11859.675920395706,1098.9805206934993,1155.2417525984483,1836.1172159565713,14636.177814028866,0,6097.0492658730154,20411.755492790038,90918.617076742143,5372.3809637221566,11814.586552248144,1540.1377620868486,314.37534574225634,17046.349421447303,32813.361847693261,0,2490.6531308481826,14054.451907603736,1697.0297534541405,0,6002.966518749161,16235.026693441434,2516.1086919238419,9849.5351674413359,6763.5859484069206,4,{"$f":"AX12+AX19","v":716052},{"$f":"AY12+AY19","v":70375},3797,7895,45423,29549,24699,303333,17978,96062,67469,0,0,49472,0,20597,3350,5465,4812,9413,7895,37969,25043,2654,2860,4704,42826,0,14254,45423,201379,13166,23797,3996,752,32898,72337,0,6038,33187,3797,0,12434,40163,5882,21174,17787]
["Q 2",{"$f":"B13+B20","v":233074.31},26239.693532048819,3651.0415267366061,8495.4266070904578,18157.182838205503,16552.599296617071,12400.251926190891,49655.389025957586,13893.3768,36332.685632686189,31342.0122376117,1020.0661904761905,135.15367965367966,15086.006076288093,2196.5253246753246,7114.9989241132589,2981.9609890406909,4458.2892480628616,3878.93872941977,2449.7593683563528,8700.7735963389241,6829.2695403964453,9389.6769953160328,3750.5392033317166,4379.0710314741618,1661.3653823341006,12405.388316312394,2196.5253246753246,9992.0404613095234,18164.629668955633,25588.999398820175,9876.0125793967673,3042.9904031465094,4796.6101042798964,2298.0065955060172,8654.6030275003723,23557.236468652587,1020.0661904761905,3823.3328122033527,6006.8197641133092,3654.1882782940688,135.15367965367966,8030.4246330478363,15607.748562733028,3975.004471891069,6879.290727272597,10235.6847544638,5,{"$f":"AX13+AX20","v":734154},68442,10512,21670,52769,49935,48521,154776,40894,111974,116583,3104,452,47983,6539,30303,11063,13457,10155,6570,21670,21858,25722,11988,13718,5649,51171,6539,30469,52769,83193,30739,8255,15744,7155,21707,69157,3104,12668,18460,10512,452,21013,50967,12896,19081,35950]
["Q 3",198066.08000000002,13838.79404299477,7586.4000816934222,13094.957035597567,14077.964440566917,10683.627349409884,18753.988242697265,32918.360348966991,20765.849600000001,22596.655500573503,24010.055068005509,683.47857142857151,1621.4037662337664,13910.853445491004,3165.0972727272729,5117.7880862028169,7743.1949235143038,5633.7512968823885,7156.19462067733,2561.8072476353545,13069.478945177703,3471.1643133287771,3352.4763239731155,1673.577001147115,3673.3487435430916,1100.3976540895922,10808.960609505828,3165.0972727272729,5546.537132936508,14085.304218112782,13651.240884385457,13558.23483831112,2444.3703834808257,3683.2243757092647,6377.3077428478045,4850.7830058211985,12270.822737384333,683.47857142857151,4694.4019991501764,7035.8087306762563,7592.2941171427592,1621.4037662337664,5606.6323619946643,12767.939664502164,2590.1666152156804,4058.2099686845322,6136.4355456480735,6,{"$f":"AX14+AX21","v":770900},42949,25496,38963,51139,41338,87950,132978,70529,89084,119053,2524,6240,50969,11688,27984,35016,19658,21505,9222,38963,14385,11084,6817,14974,4502,61016,11688,21434,51139,61345,49024,8248,14655,24950,14412,46133,2524,16926,27243,25496,6240,17453,53597,10682,14177,28408]
["Q 4",182029.81,11842.55570803461,8980.9446406146744,8100.2441142931784,13480.320641458278,10826.799142467904,21085.019422437093,28023.240202362813,17900.1728,12233.00293833766,22003.808320137592,2048.6139393939393,1777.1032900432899,22673.873127695624,101.17190476190476,3654.569994194886,12238.087624001042,7869.8167688893736,4927.1095434569252,1712.1359636688073,8084.5536007977917,3291.7610809447865,3628.3274247440027,3157.1404338028897,5747.4719277244494,2196.1461363258913,9452.322960329835,101.17190476190476,4997.9949751984122,13488.092346037989,10999.590814847656,12818.157020305425,2749.6748154107445,3030.0604297982145,5501.8916303692877,5163.9398622388026,6656.7024471524292,2048.6139393939393,11152.589733158202,4116.3144060642471,8986.4780760670237,1777.1032900432899,3097.7815660637334,8120.2394605635209,4066.4316100748283,1589.9304187346399,4248.9103392623001,7,{"$f":"AX15+AX22","v":779578},41095,33002,26617,51678,45131,110696,122687,71510,55598,116015,8835,8336,87943,435,22763,65024,30140,16700,6356,26617,13812,13693,13297,25487,10356,55451,435,21949,51678,53578,54810,9703,13898,22909,17066,29148,8835,43991,16687,33002,8336,10336,39667,16826,5849,21179]
["Q 5",167286.07999999999,10772.325916861089,1288.8876034398043,2096.3656298433111,12851.297396581318,10194.136243520303,24355.607911170016,37089.940698383449,4849.5968000000003,11562.758007443201,34725.517370982561,102.97350649350651,215.24818181818185,12867.151910066539,0,10695.395055762066,11544.647933297589,3103.6108661646476,1581.8453117949712,1438.1945204072749,2092.2268583210039,4165.6994580390374,2720.0755901258576,8965.990522732518,2858.9312186042625,7702.7166811535126,25335.76998221453,0,4633.2814087301585,12859.507245106131,8243.0622563341531,3255.3613401033654,1787.2484133369089,2132.9468636023375,1759.6015256571882,3054.9756555916301,4797.2616868465375,102.97350649350651,5495.2127282284555,6330.1384905285959,1289.4088529036662,215.24818181818185,4962.3650489346701,7817.5377083176936,4058.5339854509025,838.83205377833974,3933.68854881074,8,{"$f":"AX16+AX23","v":758226},35360,4748,7309,55350,44644,139404,156569,19623,52083,191382,472,1112,50170,0,66788,64499,10764,5926,4866,7309,17914,10549,37523,12123,35947,148151,0,22177,55350,39853,13697,6688,10187,8117,8865,21262,472,21492,27184,4748,1112,15946,36616,17601,3579,20921]
["Males, by SIMD",null,null,null,null,null,null,null,null,null,null,null,null,null,null,null,null,null,null,null,null,null,null,null,null,null,null,null,null,null,null,null,null,null,null,null,null,null,null,null,null,null,null,null,null,null,null,null,9]
["Males",null,null,null,null,null,null,null,null,null,null,null,null,null,null,null,null,null,null,null,null,null,null,null,null,null,null,null,null,null,null,null,null,null,null,null,null,null,null,null,null,null,null,null,null,null,null,null,10]
["Q 1",{"$f":"SUM(B68:B78)","v":136316.9},{"$f":"SUM(C68:C78)","v":15508.506091279702},744.3900000000001,1916.2349502397105,9288.1481972027541,6044.6843478730489,3519.9825000000001,62460.878388324156,3380.6207999999997,19344.664020436365,10434.295199999999,0,0,9913.8204855062268,0,2815.5250957468252,470.35665523738913,1072.018110516934,1100.1858171154358,2032.629298162977,1913.4436488169365,8376.2585858585844,5358.8335301062571,499.37565177964177,531.4792727272727,772.54885134531139,6149.2983892983893,0,2961.3894444444441,9274.9954872313956,42731.233454134213,2254.7654091939803,5655.4193939393926,707.06840390879472,145.99896694214874,7377.5131273441684,15282.428024163843,0,1051.4527089072542,6304.1137395131345,748.49132231404963,0,2786.0153909296118,7655.4909791557184,1141.0120861797163,4373.3552188552185,2887.8825642442666,11,{"$f":"SUM(AX68:AX78)","v":345881},{"$f":"SUM(AY68:AY78)","v":33587},1823,3819,22028,14288,12318,145951,8817,46401,32882,0,0,23967,0,10177,1747,2611,2389,4504,3819,18419,11996,1259,1392,2156,21052,0,7001,22028,97099,6428,11464,1892,394,15528,34980,0,2937,16093,1823,0,6063,19347,2783,9954,8546]
["Q 2",{"$f":"SUM(B109:B119)","v":103810.51},{"$f":"SUM(C109:C119)","v":11537.775574111682},1569.6599999999999,4050.0917176390726,8208.0124382055037,7561.761758592228,4980.0150000000003,22789.967447047566,5986.3295999999991,16811.841938803474,13129.039599999998,478.12333333333333,61.906060606060606,6998.6948959519314,1042.8681818181817,2897.836726466438,1159.5413461835478,2073.952513368984,1794.9114902692618,1090.7230334432406,4239.9131382316309,3320.4114832535879,4225.7703659976387,1630.5440187410263,1932.426909090909,717.87610619469024,5108.4577152910488,1042.8681818181817,4706.2366666666658,8193.9758334914895,12118.825249955022,4110.2362399505255,1444.7199999999998,2195.4573092488399,956.37086776859496,3695.8918259212951,10727.204115711409,478.12333333333333,1670.220997857361,2601.6653830284686,1578.3082644628103,61.906060606060606,3563.3983172583626,7318.5967770187417,1734.9914170607813,3059.3182704235337,4293.9925393755175,12,{"$f":"SUM(AX109:AX119)","v":359959},{"$f":"SUM(AY109:AY119)","v":32767},5131,10460,25819,24295,24166,76641,19886,54513,56926,1576,220,24224,3335,15364,5397,6662,4941,3195,10460,10944,12485,5712,6458,2696,25429,3335,14921,25819,42138,14945,4077,7535,3405,10291,33527,1576,6618,8950,5131,220,9991,24856,6179,9198,17504]
["Q 3",{"$f":"SUM(B150:B160)","v":84251.400000000009},{"$f":"SUM(C150:C160)","v":5857.1596556160039},3182.5,5977.4399579141573,5959.2876405669176,4699.1254142938842,7228.1925000000001,14306.403968461207,8652.7199999999993,9868.2866514299712,9603.6311999999998,302.25,727.19424242424247,5962.8472003635316,1379.6972727272728,1997.1836323321913,2957.543137800018,2451.3023172905523,3192.6129032258063,1141.6698068770606,5970.7749066002489,1551.9377990430621,1466.8341204250296,742.40995994861328,1557.6024242424244,452.91642084562437,4235.4160675827352,1379.6972727272728,2468.3322222222223,5949.0966027709246,6086.0804482483873,5467.612657184085,1081.4844444444443,1613.6869015891814,2564.6652892561983,2005.3058284217418,5323.7139138549192,302.25,1860.0032649729617,2911.4560583138491,3200.0344352617085,727.19424242424247,2376.1323619946643,5568.7878787878781,1099.0334559467508,1706.2877015771751,2458.7736943907157,13,{"$f":"SUM(AX150:AX160)","v":381588},{"$f":"SUM(AY150:AY160)","v":21102},12683,19087,25043,20615,43904,65640,34937,43708,59401,1286,3220,25057,5905,14279,17424,9668,10462,4831,19087,7062,5704,3596,7139,2194,30963,5905,10576,25043,30571,24475,4018,7124,12201,6957,22698,1286,8327,13249,12683,3220,8441,26100,5208,6922,14175]
["Q 4",{"$f":"SUM(B191:B201)","v":74255.73},{"$f":"SUM(C191:C201)","v":4766.3094205361522},3590.3899999999994,3538.7453167280278,5514.1494414582776,4520.7105598642374,7841.9399999999987,11700.988350675301,7061.8751999999986,5171.5493781650202,8339.9063999999998,849.08060606060599,766.15090909090895,9443.0761745194923,38.543333333333329,1340.7659746018946,4481.7572668581834,3314.1637076648835,2124.5499866702212,700.82948657560041,3535.1117683686175,1419.9741095162146,1497.2650531286895,1303.4060303785986,2360.7949090909087,854.08849557522103,3423.1745381745377,38.543333333333329,2126.7755555555555,5504.7196389785104,4659.9810573932709,4862.9002267573687,1205.78101010101,1309.0366202744051,2189.0826446280989,2098.9383818539022,2779.5877412700752,849.08060606060599,4294.9947964493404,1654.4725622335302,3610.1717630853991,766.15090909090895,1226.2101374923045,3461.6948177063778,1662.6158696794532,661.61306042884985,1629.8684719535781,14,{"$f":"SUM(AX191:AX201)","v":384202},{"$f":"SUM(AY191:AY201)","v":19938},16088,13152,25267,22125,55556,59730,35437,27375,57212,4395,4303,43413,211,11456,32636,14983,8186,3135,13152,6652,6699,6422,12429,4998,27571,211,10789,25267,26217,27251,4659,6852,11464,8295,14276,4395,21778,8096,16088,4303,4944,19546,8201,2891,10360]
["Q 5",{"$f":"SUM(B232:B242)","v":64865.32},{"$f":"SUM(C232:C242)","v":4229.1871393843867},481.8,865.11159046473153,5049.8933965813167,4050.4393477614722,8574.5250000000015,14796.811271433719,1807.4304,4648.9937936052011,12679.9432,39.116363636363637,81.24818181818182,5044.4302191436636,0,3828.553920580528,3908.1390047261602,1241.0292335115864,664.77605971740877,558.35091851154027,864.22727272727275,1710.6217437533226,1062.6658795749704,3504.0419406030373,1128.270303030303,2849.2207026012338,8974.9577304577306,0,1884.3144444444445,5041.2575230383163,3407.0205618526229,1147.9874252731395,721.83838383838383,860.24479320896251,703.7427685950413,1236.4968744418647,1928.7028633171258,39.116363636363637,1980.0228548107334,2436.7703204511072,484.4545454545455,81.24818181818182,1964.0605376564745,3153.6537797462652,1569.9215274128569,326.32978911926284,1432.4415584415583,15,{"$f":"SUM(AX232:AX242)","v":372008},{"$f":"SUM(AY232:AY242)","v":17220},2327,3546,26926,21974,70062,76078,9789,25495,93674,232,560,24125,0,33553,32268,5198,3125,2361,3546,8551,5138,18281,5953,17352,72234,0,11178,26926,19355,6664,3260,4980,4241,4345,10489,232,10376,13274,2327,560,7737,17794,8435,1768,10507]
["Females, by SIMD",null,null,null,null,null,null,null,null,null,null,null,null,null,null,null,null,null,null,null,null,null,null,null,null,null,null,null,null,null,null,null,null,null,null,null,null,null,null,null,null,null,null,null,null,null,null,null,16]
["Females",null,null,null,null,null,null,null,null,null,null,null,null,null,null,null,null,null,null,null,null,null,null,null,null,null,null,null,null,null,null,null,null,null,null,null,null,null,null,null,null,null,null,null,null,null,null,null,17]
["Q 1",{"$f":"SUM(B88:B98)","v":166588.82999999999},{"$f":"SUM(C88:C98)","v":19291.965483371492},950.67327517979606,1997.3514115379455,11112.764000000001,6877.8917082665102,4878.8557666916122,72729.598204652604,4343.6432000000004,21909.472335970404,13874.005733428867,0,0,11789.394334251239,0,3959.614704842701,625.50892857142867,1302.1224489795918,1190.8379501385043,2441.4312796208533,1992.8861136226642,8916.8032000000021,6500.8423902894492,599.60486891385767,623.76247987117551,1063.56836461126,8486.8794247304777,0,3135.6598214285714,11136.760005558643,48187.383622607922,3117.6155545281758,6159.1671583087509,833.0693581780539,168.3763788001076,9668.8362941031337,17530.933823529416,0,1439.2004219409284,7750.3381680906023,948.53843114009089,0,3216.9511278195491,8579.5357142857156,1375.0966057441256,5476.1799485861175,3875.7033841626544,18,{"$f":"SUM(AX88:AX98)","v":370171},{"$f":"SUM(AY88:AY98)","v":36788},1974,4076,23395,15261,12381,157382,9161,49661,34587,0,0,25505,0,10420,1603,2854,2423,4909,4076,19550,13047,1395,1468,2548,21774,0,7253,23395,104280,6738,12333,2104,358,17370,37357,0,3101,17094,1974,0,6371,20816,3099,11220,9241]
["Q 2",{"$f":"SUM(B129:B139)","v":129263.8},{"$f":"SUM(C129:C139)","v":14701.917957937136},2081.3815267366062,4445.3348894513847,9949.1703999999991,8990.8375380248435,7420.2369261908907,26865.421578910024,7907.0472000000009,19520.843693882718,18212.972637611703,541.94285714285718,73.247619047619054,8087.3111803361626,1153.6571428571428,4217.1621976468214,1822.4196428571431,2384.3367346938776,2084.0272391505082,1359.0363349131121,4460.8604581072941,3508.8580571428574,5163.9066293183942,2119.9951845906903,2446.6441223832526,943.48927613941021,7296.930601021344,1153.6571428571428,5285.8037946428576,9970.6538354641452,13470.174148865153,5765.7763394462427,1598.2704031465096,2601.152795031056,1341.6357277374225,4958.7112015790772,12830.032352941178,541.94285714285718,2153.1118143459917,3405.1543810848407,2075.8800138312586,73.247619047619054,4467.0263157894742,8289.1517857142862,2240.0130548302877,3819.9724568490633,5941.6922150882838,19,{"$f":"SUM(AX129:AX139)","v":374195},{"$f":"SUM(AY129:AY139)","v":35675},5381,11210,26950,25640,24355,78135,21008,57461,59657,1528,232,23759,3204,14939,5666,6795,5214,3375,11210,10914,13237,6276,7260,2953,25742,3204,15548,26950,41055,15794,4178,8209,3750,11416,35630,1528,6050,9510,5381,232,11022,26111,6717,9883,18446]
["Q 3",{"$f":"SUM(B170:B180)","v":113814.68},{"$f":"SUM(C170:C180)","v":7981.6343873787664},4403.9000816934222,7117.5170776834084,8118.6767999999993,5984.5019351159999,11525.795742697264,18611.956380505784,12113.1296,12728.368849143531,14406.423868005508,381.22857142857146,894.20952380952383,7948.0062451274734,1785.4,3120.6044538706255,4785.6517857142853,3182.4489795918366,3963.5817174515232,1420.1374407582939,7098.7040385774553,1919.2265142857148,1885.6422035480859,931.16704119850181,2115.7463193006674,647.48123324396784,6573.5445419230928,1785.4,3078.2049107142857,8136.2076153418566,7565.1604361370701,8090.6221811270352,1362.8859390363816,2069.5374741200831,3812.6424535916058,2845.4771773994571,6947.1088235294128,381.22857142857146,2834.3987341772149,4124.3526723624072,4392.2596818810507,894.20952380952383,3230.5,7199.1517857142862,1491.1331592689296,2351.9222671073571,3677.6618512573573,20,{"$f":"SUM(AX170:AX180)","v":389312},{"$f":"SUM(AY170:AY180)","v":21847},12813,19876,26096,20723,44046,67338,35592,45376,59652,1238,3020,25912,5783,13705,17592,9990,11043,4391,19876,7323,5380,3221,7835,2308,30053,5783,10858,26096,30774,24549,4230,7531,12749,7455,23435,1238,8599,13994,12813,3020,9012,27497,5474,7255,14233]
["Q 4",{"$f":"SUM(B211:B221)","v":107774.08},{"$f":"SUM(C211:C221)","v":7076.2462874984576},5390.554640614675,4561.4987975651511,7966.1712000000007,6306.0885826036665,13243.079422437093,16322.251851687512,10838.297600000002,7061.4535601726411,13663.90192013759,1199.5333333333335,1010.952380952381,13230.79695317613,62.628571428571433,2313.8040195929912,7756.3303571428587,4555.6530612244896,2802.559556786704,1011.3064770932069,4549.4418324291746,1871.7869714285719,2131.0623716153132,1853.734403424291,3386.6770186335407,1342.0576407506701,6029.1484221552964,62.628571428571433,2871.2194196428568,7983.3727070594787,6339.6097574543837,7955.2567935480565,1543.8938053097345,1721.0238095238096,3312.8089857411887,3065.0014803849003,3877.1147058823535,1199.5333333333335,6857.5949367088615,2461.8418438307172,5376.3063129816246,1010.952380952381,1871.5714285714287,4658.5446428571431,2403.8157403953751,928.31735830579009,2619.041867308722,21,{"$f":"SUM(AX211:AX221)","v":395376},{"$f":"SUM(AY211:AY221)","v":21157},16914,13465,26411,23006,55140,62957,36073,28223,58803,4440,4033,44530,224,11307,32388,15157,8514,3221,13465,7160,6994,6875,13058,5358,27880,224,11160,26411,27361,27559,5044,7046,11445,8771,14872,4440,22213,8591,16914,4033,5392,20121,8625,2958,10819]
["Q 5",{"$f":"SUM(B252:B262)","v":102420.76},{"$f":"SUM(C252:C262)","v":6543.1387774767036},807.0876034398043,1231.2540393785796,7801.4040000000005,6143.6968957588306,15781.082911170015,22293.129426949734,3042.1664000000001,6913.7642138380006,22045.57417098256,63.857142857142861,134.00000000000003,7822.7216909228755,0,6866.8411351815375,7636.5089285714284,1862.5816326530612,917.0692520775624,879.84360189573465,1227.9995855937311,2455.077714285715,1657.4097105508872,5461.9485821294811,1730.6609155739593,4853.4959785522788,16360.812251756797,0,2748.9669642857143,7818.249722067816,4836.0416944815306,2107.3739148302257,1065.4100294985251,1272.7020703933749,1055.8587570621469,1818.4787811497656,2868.5588235294117,63.857142857142861,3515.1898734177221,3893.3681700774887,804.95430744912073,134.00000000000003,2998.3045112781956,4663.8839285714284,2488.6124580380456,512.5022646590769,2501.2469903691817,22,{"$f":"SUM(AX252:AX262)","v":386218},{"$f":"SUM(AY252:AY262)","v":18140},2421,3763,28424,22670,69342,80491,9834,26588,97708,240,552,26045,0,33235,32231,5566,2801,2505,3763,9363,5411,19242,6170,18595,75917,0,10999,28424,20498,7033,3428,5207,3876,4520,10773,240,11116,13910,2421,552,8209,18822,9166,1811,10414]
["age/sex breakdown: All",null,null,null,null,null,null,null,null,null,null,null,null,null,null,null,null,null,null,null,null,null,null,null,null,null,null,null,null,null,null,null,null,null,null,null,null,null,null,null,null,null,null,null,null,null,null,null,23]
["Male <1",null,null,null,null,null,null,null,null,null,null,null,null,null,null,null,null,null,null,null,null,null,null,null,null,null,null,null,null,null,null,null,null,null,null,null,null,null,null,null,null,null,null,null,null,null,null,null,24]
["Male 1-4",null,null,null,null,null,null,null,null,null,null,null,null,null,null,null,null,null,null,null,null,null,null,null,null,null,null,null,null,null,null,null,null,null,null,null,null,null,null,null,null,null,null,null,null,null,null,null,25]
["Male 5-9",null,null,null,null,null,null,null,null,null,null,null,null,null,null,null,null,null,null,null,null,null,null,null,null,null,null,null,null,null,null,null,null,null,null,null,null,null,null,null,null,null,null,null,null,null,null,null,26]
["Male 10-14",null,null,null,null,null,null,null,null,null,null,null,null,null,null,null,null,null,null,null,null,null,null,null,null,null,null,null,null,null,null,null,null,null,null,null,null,null,null,null,null,null,null,null,null,null,null,null,27]
["Male 16-19 (16-)",{"$f":"B68+B109+B150+B191+B232","v":14012.95},{"$f":"C68+C109+C150+C191+C232","v":1344.6185376796218},233.07,449.81624650014322,990.18052799836073,807.36874379837036,845.0775000000001,4268.942674547674,704.15039999999999,1823.4526295449814,1553.4694999999999,42.037878787878782,45.908181818181816,1147.6481702269355,50.548787878787877,337.54807498488202,335.25444042875233,283.30716577540107,230.07464676086374,176.0715967969854,449.04701120797012,603.45571504518875,453.3417945690673,220.48069220887174,221.84727272727272,175.13685527844819,755.72725756059094,50.548787878787877,406.68444444444447,988.48721030766944,2495.8322152825967,472.27313955885381,352.96161616161606,192.81749086960809,180.18595041322314,581.01006132047394,1257.2685035116156,{"$f":"AM68+AM109+AM150+AM191+AM232","v":42.037878787878782},{"$f":"AN68+AN109+AN150+AN191+AN232","v":285.47127844097537},477.71778297345617,234.35413223140498,45.908181818181816,309.28134619331007,808.63218477091289,225.59957961114031,353.93682438419285,406.03232937275493,28,{"$f":"AX68+AX109+AX150+AX191+AX232","v":131719},{"$f":"AY68+AY109+AY150+AY191+AY232","v":9305},2618,3636,9084,7795,14099,30323,7645,14676,20255,526,618,10538,601,5267,6362,2855,2138,1312,3636,4031,3117,2917,2565,2520,10985,601,3938,9084,14560,5507,1970,2095,2470,3587,8707,{"$f":"CI68+CI109+CI150+CI191+CI232","v":526},{"$f":"CJ68+CJ109+CJ150+CJ191+CJ232","v":3652},4279,2618,618,2601,7720,2545,2326,4610]
["Male 20-24",{"$f":"B69+B110+B151+B192+B233","v":29550.27},2476.3328422021546,338.51,718.07699443422348,1911.5536088986548,1577.5796290450646,1930.3125000000005,10028.632497086606,1117.6799999999998,3424.1862801454527,3709.7098999999998,64.414242424242431,59.144242424242421,2574.6916954763346,90.670303030303032,1141.9568635355774,507.33561918883009,447.92427807486632,365.0127965875767,298.90909090909093,716.84900373598998,1734.4446570972887,849.79574970484077,383.08985112975142,335.17624242424245,289.71627782247253,2265.6472381472386,90.670303030303032,756.5483333333334,1908.2846418253516,6712.2161050710665,749.76540919398064,688.02464646464648,341.99881551673082,271.61776859504135,1008.3885217598381,2403.595648543785,{"$f":"AM69+AM110+AM151+AM192+AM233","v":64.414242424242431},502.15610651974288,1007.5425663595103,340.37506887052342,59.144242424242421,613.23045351939265,1472.6071866476491,518.0479943948153,679.85397838029405,732.73583862945577,29,{"$f":"AX69+AX110+AX151+AX192+AX233","v":184447},10758,2640,3839,11911,9716,21333,47520,8360,17712,33660,601,649,15074,674,11664,6964,3226,2302,1455,3839,7764,3742,3340,2681,2751,23278,674,4507,11911,28182,6058,2596,2492,2705,3944,10702,{"$f":"CI69+CI110+CI151+CI192+CI233","v":601},4084,5610,2640,649,3072,9142,3754,2909,5209]
["Male 25-29",32552.549999999996,2325.5872039037731,357.83,746.32237061088608,2011.7202022405299,1582.5206085278755,2581.77,10704.847584325456,1290.1536000000001,3480.8469115764142,4736.5692999999992,66.659393939393937,77.246363636363611,2594.1647050688098,89.665151515151521,1457.6480548276559,749.69116238841002,492.7358288770053,388.89149560117301,323.82477626000934,745.04607721046079,1598.1671982987771,802.74439197166475,426.80004534119246,362.06230303030304,319.2047912755877,3113.555070221737,89.665151515151521,832.41111111111093,2008.2799392674128,7115.9423240033921,890.55473098330219,689.42747474747466,355.33826868028819,360.30681818181819,905.59064118592596,2407.6426501645301,{"$f":"AM70+AM111+AM152+AM193+AM234","v":66.659393939393937},588.71176410570342,1156.6850501994222,359.80151515151516,77.246363636363611,610.67925302688275,1551.2807346795785,427.38553161674542,687.12333864965444,820.35645205857963,30,{"$f":"AX70+AX111+AX152+AX193+AX234","v":170737},9516,2413,3654,9999,8265,20401,44563,8299,16528,32173,558,665,13074,629,11039,6708,2945,2021,1433,3654,6122,3468,2478,2358,1811,22340,629,4409,9999,27678,6278,2346,2209,2654,3379,10191,{"$f":"CI70+CI111+CI152+CI193+CI234","v":558},4007,5365,2413,665,2669,8428,2423,2794,5266]
["Male 30-34",21661.959999999995,1644.7378138661093,289.89999999999992,500.46356883412273,1401.9543592587158,1150.422959538563,1561.8449999999996,6907.9483213029871,969.21599999999989,2591.9012968876727,2941.4701999999993,59.040909090909089,65.222121212121195,1675.5148943864231,65.203333333333319,792.87804878048769,526.16192506100742,388.05868092691611,255.94801386296982,237.62600094206306,499.60772104607713,856.11945773524724,560.98229043683591,230.46096879014578,276.83199999999999,184.11727898453557,1779.7733036066365,65.203333333333319,652.75555555555559,1399.5568629931881,4587.834579895647,697.01484230055644,437.13131313131311,260.97542197216455,237.67252066115697,663.32773709590981,1799.3548941604049,{"$f":"AM71+AM112+AM153+AM194+AM235","v":59.040909090909089},459.24905621875303,730.04015953788996,291.49724517906333,65.222121212121195,416.96039400779802,1199.6908890723917,262.85409003328078,443.97111465532515,598.92788063000819,31,{"$f":"AX71+AX112+AX153+AX194+AX235","v":163281},9372,2472,3278,10234,8491,19323,40689,8342,17310,30283,526,687,11609,665,9493,7327,2966,1900,1496,3278,4642,3307,2163,2381,1879,20191,665,4852,10234,24507,6442,2101,2283,2503,3391,10679,{"$f":"CI71+CI112+CI153+CI194+CI235","v":526},4001,5014,2472,687,2674,9151,2143,2505,5428]
["Male 35-39",22913.719999999998,2026.0260295790915,325.56999999999994,596.45181643856222,1580.8285252118535,1246.6292259993816,1316.46,7494.5192476442953,992.12159999999994,3125.0630466718403,2836.7324999999996,53.207272727272716,63.822424242424226,1591.929117342203,92.342424242424244,640.56198347107431,448.84292465943827,385.91265597147941,287.27805918421745,289.58266603862455,595.43181818181813,873.07336523125991,697.79574970484066,210.97279528451602,312.8026666666666,168.50844730490749,1528.1251402918072,92.342424242424244,695.4422222222222,1578.1251344341113,4891.5792016860723,693.93898165326732,527.86424242424232,285.25535485144599,228.94214876033058,828.11942608799177,2217.5227641078532,{"$f":"AM72+AM113+AM154+AM195+AM236","v":53.207272727272716},373.46311600857047,793.14083344794381,327.36377410468316,63.822424242424226,496.16252821670423,1397.8081225133246,267.45629707479418,554.93576111997174,716.46919038408396,32,{"$f":"AX72+AX113+AX154+AX195+AX236","v":158158},9821,2858,3558,10638,8999,18614,36248,8305,17614,28782,546,775,10640,760,7748,8394,3083,2018,1543,3558,3759,3489,2586,2990,2358,17480,760,5117,10638,19435,6287,2082,2452,2472,3520,10629,{"$f":"CI72+CI113+CI154+CI195+CI236","v":546},3798,4854,2858,775,2812,9495,2339,2423,5860]
["Male 40-44",25983.619999999995,2455.7877174143987,436.82999999999987,776.44736213293982,1885.5802149223628,1550.8327422516022,1398.1349999999998,8205.7610808519876,1205.8559999999995,3615.2441249187646,2947.5706999999993,65.35363636363634,61.28606060606058,1850.1793239050123,130.08727272727268,608.9159443660551,502.0467673678682,462.26652406417094,377.22154092242062,354.50588789448886,775.11955168119528,973.0227006911216,867.68536009445097,291.20698254364083,374.76484848484836,218.54223652453737,1435.7275608942275,130.08727272727268,848.58222222222219,1882.3556652116145,5023.1799933173961,821.7423211708923,631.49818181818171,334.12476557101951,301.71384297520649,998.10632851104344,2518.840430234271,{"$f":"AM73+AM114+AM155+AM196+AM237","v":65.35363636363634},455.20334659728576,966.98143309035868,439.236776859504,61.28606060606058,584.42027498460902,1637.0477191402044,353.82133473462943,658.82234626971467,836.30616192318303,33,{"$f":"AX73+AX114+AX155+AX196+AX237","v":186186},12583,4067,4808,12949,11318,20449,41973,10483,21298,30408,719,808,13303,1020,7482,9587,3902,2700,2011,4808,4471,4441,3541,3648,3039,16730,1020,6165,12949,20659,7783,2630,2956,3380,4539,12524,{"$f":"CI73+CI114+CI155+CI196+CI237","v":719},4930,6054,4067,808,3603,11771,3142,3053,7074]
["Male 45-49",31460.109999999997,3026.1561930586022,607.34999999999991,1092.6574811229209,2270.5932615240408,1874.4510279919575,1729.5225,9462.4698987593201,1687.2287999999999,4281.8064652002649,3419.4838,110.82030303030302,98.448484848484838,2376.670237604163,154.04181818181817,689.8851038097157,666.12300373768267,629.125276292335,537.42548653692336,418.14036740461603,1090.788916562889,1131.1416799574693,1052.896103896104,396.52754477442761,505.79587878787879,298.58514347009924,1582.6088664422,154.04181818181817,1003.6538888888888,2266.7102971257455,5504.2270028529556,1142.3409606266746,845.59232323232311,435.70387918270649,395.91632231404958,1231.4459724950882,2948.3465939786847,{"$f":"AM74+AM115+AM156+AM197+AM238","v":110.82030303030302},648.42118151209047,1127.0272314674735,610.69628099173553,98.448484848484838,735.41227170121078,1907.6354127567997,458.12786827815734,852.28185362395868,958.12185686653766,34,{"$f":"AX74+AX115+AX156+AX197+AX238","v":199540},13868,4547,5778,13722,11831,21336,44696,12272,22523,31011,904,949,15072,1031,7588,10168,4450,3259,2111,5778,4790,4763,4148,4032,3591,16636,1031,6272,13722,20573,9013,3252,3174,3580,5042,13118,{"$f":"CI74+CI115+CI156+CI197+CI238","v":904},5832,6810,4547,949,4063,12178,3448,3549,7169]
["Male 50-54",38754.479999999996,3702.9942259645309,767.43,1456.4333762003557,2844.9265237985041,2264.2276535738933,2333.0174999999995,11259.772895381349,2222.8607999999999,5167.2796360816292,4188.9186999999993,122.25272727272726,126.63030303030303,2855.1453662375216,245.76424242424241,920.12981253779458,913.11525036295666,769.94488413547219,725.55478539056253,{"$f":"U75+U116+U157+U198+U239","v":495.66839378238342},1453.9427148194272,1365.1009037745878,1202.2939787485241,561.31769062192984,624.11442424242432,431.32993653347614,1967.4360269360268,245.76424242424241,1215.9261111111111,2840.0613863056451,6186.3195825943922,1491.4467120181403,1004.3373737373737,556.8520382982922,528.6105371900826,1488.0919211764003,3376.0243602966461,{"$f":"AM75+AM116+AM157+AM198+AM239","v":122.25272727272726},761.46638098153232,1479.4572961078254,771.65826446281005,126.63030303030303,1006.0578698953416,2477.3313064584736,558.4214398318444,996.18367889420529,1117.6275214147554,35,{"$f":"AX75+AX116+AX157+AX198+AX239","v":188241},13538,4366,5589,13115,10768,20166,42386,11967,20973,28287,834,863,14320,1069,7248,9611,4213,3231,{"$f":"BQ75+BQ116+BQ157+BQ198+BQ239","v":1898},5589,4761,4424,4103,3795,3513,15100,1069,5697,13115,18842,8736,3184,3007,3307,4922,11880,834,5346,6643,4366,863,4192,11835,3173,3359,6385]
["Male 55-59",46467.42,4498.4405316264783,936.09999999999991,1706.2304196531768,3410.8504535850907,2608.0965490146787,3079.11,13210.939436992694,2740.9535999999998,5900.7415961807992,4999.6710000000003,173.88181818181815,153.55333333333331,3634.4467436024529,249.95393939393935,1209.6174158435799,1266.1998579062797,968.38844919786084,906.33591042388696,571.72680169571368,1703.3125778331255,1653.8930356193512,1456.1806375442738,778.58218091135791,753.92290909090889,585.69839992848847,2459.4868504868509,249.95393939393935,1355.3544444444444,3405.0175238818242,7149.5305214999871,1830.0395794681504,1131.9070707070705,669.27489882538714,624.53305785123962,1790.5206882181337,3828.1959628701934,{"$f":"AM76+AM117+AM158+AM199+AM240","v":173.88181818181815},1046.6091215182123,1618.1482602118001,941.25757575757564,153.55333333333331,1243.1241534988712,2933.5322173010031,686.06410930110349,1147.4561403508771,1199.0892511743575,36,{"$f":"AX76+AX117+AX158+AX199+AX240","v":166198},12207,4031,5250,11560,9129,18536,36378,11366,18113,24112,802,782,12931,1001,6691,8811,3852,3133,1663,5250,4109,3942,3697,3272,3053,13071,1001,4705,11560,16055,8233,2622,2705,3034,4443,10197,802,4970,5499,4031,782,3822,10423,2761,2945,5064]
["Male 60-64",73696.48000000001,7048.2567856331661,1757.4299999999998,3202.7238970583694,5610.7465303733397,4515.3886911707605,5693.43,17330.548839688981,4902.4320000000007,8593.469652683907,8539.0400000000009,300.03303030303033,306.3457575757576,6056.4340611386688,498.02909090909088,2037.3706913928645,2533.1593611960589,1864.3326203208555,1640.2935217275394,892.98539802166761,3197.2468866749696,2247.7850079744812,2185.7066115702482,1482.3173127786595,1285.3226666666667,1079.2498435684277,4180.4750811417489,498.02909090909088,2393.5566666666664,5601.1515362392192,8094.4792453800092,3258.3114821686245,1550.5511111111109,1202.1081828052511,1161.1580578512396,2688.7394177531701,5321.4615195717306,{"$f":"AM77+AM118+AM159+AM200+AM241","v":300.03303030303033},1928.7052341597794,2386.8921743914175,1767.1128099173554,306.3457575757576,2157.4882002872973,4384.2916197482664,1229.5410754948327,1508.9548998759528,2019.9168278529983,37,{"$f":"AX77+AX118+AX159+AX200+AX241","v":157797},12296,4170,5572,11387,9044,17552,31983,11515,16505,22293,756,826,12810,1088,6031,8550,4043,3238,1668,5572,3836,3846,3336,2931,2630,11805,1088,4695,11387,13647,8277,2496,2696,2971,4525,9375,756,4931,5041,4170,826,3925,9336,2681,2627,4861]
["Male 65-69",{"$f":"B78+B119+B160+B201+B242","v":126446.3},{"$f":"C78+C119+C160+C201+C242","v":11350},3518.72,5102,10100.556906203317,7699.2035974727232,9675.9750000000004,27180.666949360591,9056.3231999999989,13841.344142548305,14314.18,610.8690909090908,578.8921212121212,11006.044660496318,794.80242424242419,3043.3533561781901,4529.4070985080161,3460.4695187165771,3163,1465.1615638247763,5297.0784557907846,3343,3481.9462809917354,2698.0215370664246,2457.9326060606063,1896.5613658711002,6822.742045075378,794.80242424242419,3986.1333333333332,10086.014887918853,11242,5796.0737992166551,2249.9478787878788,2051.044911657289,2269.2035123966944,4230.8053223789966,7963.3833308776584,{"$f":"AM78+AM119+AM160+AM201+AM242","v":610.8690909090908},{"$f":"AN78+AN119+AN160+AN201+AN242","v":3807.2380369350058},4164.8452757529903,3538.1068870523418,578.8921212121212,3743,7388.3668393263761,2220.2550359082152,2243.3841041998935,3297.3755180989224,38,{"$f":"AX78+AX119+AX160+AX201+AX242","v":137334},{"$f":"AY78+AY119+AY160+AY201+AY242","v":11350},3870,5102,10484,7941,14197,27281,10312,14240,18831,717,681,11415,913,4578,6990,3587,3163,1436,5102,3343,3483,2961,2718,2251,9633,913,4108,10484,11242,7149,2199,2314,2629,4124,7968,{"$f":"CI78+CI119+CI160+CI201+CI242","v":717},{"$f":"CJ78+CJ119+CJ160+CJ201+CJ242","v":4485},4493,3870,681,3743,8164,2397,2243,4166]
["Male 70-74",null,null,null,null,null,null,null,null,null,null,null,null,null,null,null,null,null,null,null,null,null,null,null,null,null,null,null,null,null,null,null,null,null,null,null,null,null,null,null,null,null,null,null,null,null,null,null,39]
["Male 75-79",null,null,null,null,null,null,null,null,null,null,null,null,null,null,null,null,null,null,null,null,null,null,null,null,null,null,null,null,null,null,null,null,null,null,null,null,null,null,null,null,null,null,null,null,null,null,null,40]
["Male 80-84",null,null,null,null,null,null,null,null,null,null,null,null,null,null,null,null,null,null,null,null,null,null,null,null,null,null,null,null,null,null,null,null,null,null,null,null,null,null,null,null,null,null,null,null,null,null,null,41]
["Male 85+",null,null,null,null,null,null,null,null,null,null,null,null,null,null,null,null,null,null,null,null,null,null,null,null,null,null,null,null,null,null,null,null,null,null,null,null,null,null,null,null,null,null,null,null,null,null,null,42]
["Female <1",null,null,null,null,null,null,null,null,null,null,null,null,null,null,null,null,null,null,null,null,null,null,null,null,null,null,null,null,null,null,null,null,null,null,null,null,null,null,null,null,null,null,null,null,null,null,null,43]
["Female 1-4",null,null,null,null,null,null,null,null,null,null,null,null,null,null,null,null,null,null,null,null,null,null,null,null,null,null,null,null,null,null,null,null,null,null,null,null,null,null,null,null,null,null,null,null,null,null,null,44]
["Female 5-9",null,null,null,null,null,null,null,null,null,null,null,null,null,null,null,null,null,null,null,null,null,null,null,null,null,null,null,null,null,null,null,null,null,null,null,null,null,null,null,null,null,null,null,null,null,null,null,45]
["Female 10-14",null,null,null,null,null,null,null,null,null,null,null,null,null,null,null,null,null,null,null,null,null,null,null,null,null,null,null,null,null,null,null,null,null,null,null,null,null,null,null,null,null,null,null,null,null,null,null,46]
["Female 16-19 (16-)",{"$f":"B88+B129+B170+B211+B252","v":13588.73},{"$f":"C88+C129+C170+C211+C252","v":1328.8929680301319},241.12637964311915,357.30590716204858,979.42000000000019,738.17318336095957,1008.0089436259864,3873.6286160285267,704.63120000000004,1578.6723229529582,1651.0143635709105,41.323809523809523,40.06666666666667,1110.6786720265645,53.838095238095242,437.15194667474623,385.06250000000006,260.74489795918367,194.07710064635273,168.15481832543443,356.3614752863171,541.01828571428587,429.74696545284786,183.97308721241308,214.06119162640906,166.6957104557641,851.05239841124353,53.838095238095242,346.49553571428572,981.53488048916074,2215.8287438807297,505.76483279395904,293.26843657817108,164.68198757763977,183.62631154156577,587.40981988650378,1090.425,41.323809523809523,303.34388185654007,474.48340949731767,240.48903378778897,40.06666666666667,311.92105263157896,703.42857142857156,225.14434912346144,330.63177867548046,422.90322364901033,47,{"$f":"AX88+AX129+AX170+AX211+AX252","v":126402},{"$f":"AY88+AY129+AY170+AY211+AY252","v":8882},2497,3390,9083,7323,13728,29138,7069,13682,19567,506,536,10372,629,5586,5856,2717,1918,1241,3390,4287,2944,2542,2536,2319,10828,629,3521,9083,14455,5151,1944,1931,2286,3402,8043,506,3368,4045,2497,536,2536,7304,2561,2168,4272]
["Female 20-24",{"$f":"B89+B130+B171+B212+B253","v":30696.68},2563.4722047738696,384.22195858872215,630.06400793351736,2021.5832000000003,1578.4812678217386,2360.7931791675537,9837.1623697813302,1126.4968000000001,3143.7972891664785,4450.4592794702276,57.047619047619058,56.476190476190474,2540.9228447580745,73.64761904761906,1485.2333484825533,581.95535714285711,405.85714285714289,291.94921514312102,308.50868878357034,628.39862115732365,1611.0932571428575,839.65098039215695,335.15505617977533,365.35812054290318,287.3753351206434,2930.5775609969014,73.64761904761906,706.39977678571427,2025.9484435797665,6470.3236815754344,826.20727384805059,595.62241887905611,328.82981366459632,260.93112725316115,1086.3667653589932,2249.9338235294117,57.047619047619058,503.81856540084391,1034.6626266640176,383.20638213791739,56.476190476190474,633.12406015037607,1340.9107142857147,564.18015665796349,709.31680744277139,802.11329588014996,48,{"$f":"AX89+AX130+AX171+AX212+AX253","v":186192},10743,2613,3791,12448,9838,20816,49104,7403,17238,35828,529,607,14699,535,12364,6173,2819,1902,1380,3791,8282,3688,2941,2952,2527,25356,535,4387,12448,30508,5501,2488,2474,2279,3995,10568,529,3598,5445,2613,607,3060,8907,4071,2958,5046]
["Female 25-29",45361.54,3481.8312908469579,645.30377169992119,970.53676887809991,2823.8288000000002,2161.4378613931472,3748.4830230298903,13808.571081188058,2095.3607999999999,4862.0247549417227,6907.1367273742999,121.0095238095238,121.77142857142854,3544.8730453238536,129.84761904761905,2038.2515275463313,1137.0178571428569,730.39795918367349,501.45521698984305,455.84044233807259,967.97144364074745,1828.6499428571433,1174.6013071895427,399.27495987158909,550.09730848861284,343.07506702412866,4516.6106891885993,129.84761904761905,1102.4892857142859,2829.9263479710953,9068.1786270582998,1576.8401397236348,815.31956735496578,473.81904761904758,541.49206349206338,1416.741179373304,3412.8602941176478,121.0095238095238,967.70042194092821,1530.3445261275583,643.59810314167146,121.77142857142854,878.22180451127815,2170.4375,600.26408056695277,983.74403231729707,1332.3994114499733,49,{"$f":"AX90+AX131+AX172+AX213+AX254","v":176313},10190,2589,3685,10593,8654,20188,45193,8362,17969,34004,586,616,13085,599,10773,6777,3019,1965,1438,3685,6003,3599,2105,2547,1843,23631,599,4665,10593,28322,6397,2321,2285,2638,3684,11116,586,4063,5299,2589,616,2907,9277,2551,2879,5541]
["Female 30-34",41764.82,3279.6470321836032,630.78976112521843,962.45860532367396,2747.16,2182.1414235666384,3422.2036394819515,12022.547501484085,2067.2808,4659.2196666585987,6368.0645024013775,119.91428571428571,128.70476190476191,3078.0057229716272,148.25714285714287,1600.016310660001,1287.9553571428569,752.38775510204084,469.62049861495842,445.30173775671403,959.91463230861962,1403.3723428571434,1092.8276377217555,468.06270733012309,586.87226823096387,407.8297587131367,3932.7177120160623,148.25714285714287,1165.0216517857143,2753.0919955530849,7372.5184690698716,1579.8864231776852,714.78367748279265,520.84306418219467,512.93327952649975,1354.3419689119171,3209.4382352941184,119.91428571428571,909.35654008438814,1428.435724220147,629.12245603635643,128.70476190476191,823.12781954887214,2190.375,565.05632226781063,897.59658464928384,1304.5380551096844,50,{"$f":"AX91+AX132+AX173+AX214+AX255","v":169681},10283,2617,3727,10904,9104,18718,42191,8511,18315,31470,564,668,11907,702,8582,7622,3180,1918,1527,3727,4856,3592,2431,2705,2188,20480,702,5139,10904,24282,6593,2267,2572,2514,3777,11270,564,3871,5375,2617,668,2914,9855,2438,2838,5713]
["Female 35-39",40285.049999999996,3444.9441945075096,688.50504895712561,965.44970912625877,2792.9096,2314.6502341281489,3412.7750611929782,10862.894136139537,2081.6743999999999,4677.1959669474691,5943.4662669917743,106.74285714285716,124.61904761904762,2763.048247268764,184.29523809523809,1423.4520022218856,1429.3571428571429,729.31632653061229,546.48891966759004,464.57661927330173,962.89783001808325,1162.2586285714287,1114.1579831932775,611.39069020866771,623.41672417759378,542.74396782841814,3391.891929640783,184.29523809523809,1230.1167410714286,2798.940383546415,5994.7466065865592,1520.0341090049828,724.9616519174042,526.16687370600414,546.08097928436905,1443.1437207007157,3168.3338235294123,106.74285714285716,861.69831223628682,1399.1611364991059,686.68519067377997,124.61904761904762,880.56766917293248,2193.5446428571431,612.3692651995525,882.67443995593089,1392.6587747458534,51,{"$f":"AX92+AX133+AX174+AX215+AX256","v":163850},10887,3184,3875,11045,9685,18030,37826,9096,18232,28389,603,736,11464,798,6846,8438,3376,2279,1588,3875,3988,3698,2926,3162,2698,16507,798,5406,11045,19093,6817,2364,2604,2746,4096,11042,603,4100,5276,3184,736,3093,9924,2691,2735,6116]
["Female 40-44",43445.37,4025.7729207236571,804.74491647983757,1149.9265819725349,3117.7016000000008,2493.5466484171975,3428.7061072674514,11909.667188844949,2339.8440000000001,5220.672691300816,5764.3785144001004,118.09523809523813,124.8666666666667,2997.6959060631393,191.59047619047624,1329.565671867899,1495.5714285714289,789.76530612244915,639.09418282548484,514.66034755134274,1146.8870931283909,1194.6342857142859,1336.6171802054157,728.23204922418427,711.47877846790902,639.79624664879361,2972.0381039675267,191.59047619047624,1275.0171875000003,3124.4337131739862,6277.9618380062302,1684.6458622283867,882.9311701081615,593.86293995859228,596.79795534032814,1645.0938810757464,3510.2220588235305,118.09523809523813,1005.2004219409283,1657.8191933240612,802.6178126852401,{"$f":"AQ93+AQ134+AQ175+AQ216+AQ257","v":124.8666666666667},1031.0526315789475,2409.2410714285716,699.4319283849311,998.8524299179827,1490.8661048689141,52,{"$f":"AX93+AX134+AX175+AX216+AX257","v":199274},14227,4344,5307,13820,11901,20945,45845,11770,22935,31327,765,835,14265,988,7296,10172,4212,3125,2022,5307,4553,4883,4023,4141,3630,16355,988,6371,13820,21499,8645,3111,3365,3477,5222,13651,765,5500,7037,4344,{"$f":"CM93+CM134+CM175+CM216+CM257","v":835},4122,12346,3508,3483,7466]
["Female 45-49",47418.22,4633.3766111393461,901.72150804536852,1349.6318847626271,3372.7928000000002,2627.7089380487105,3491.0485171609253,13556.209731650248,2653.4351999999999,5685.325799411663,5723.3722278186542,139.89523809523808,130.24761904761905,3359.6944979868108,207.83809523809524,1357.3637832651618,1499.9821428571429,837.44897959183663,728.83240997229905,590.96366508688777,1346.064534358047,1435.4021714285716,1521.4397759103642,763.4636169074372,742.24143087186576,662.55093833780165,2872.8987604207587,207.83809523809524,1315.828794642857,3380.075736520289,7277.307604583888,1906.4929881337648,1055.2428711897737,603.54906832298138,628.92036588646749,1972.0044411547003,3811.4897058823535,139.89523809523808,1075.8016877637128,1803.1180210609971,899.33807547915433,130.24761904761905,1132.8157894736842,2653.4285714285716,721.95039164490868,1201.7585383767901,1512.2943418940613,53,{"$f":"AX94+AX135+AX176+AX217+AX258","v":210765},15476,4797,6135,14417,12233,22033,48809,13019,23922,31560,877,875,15590,1022,7625,10721,4492,3503,2190,6135,5134,5205,4593,4266,4044,16433,1022,6348,14417,22273,9516,3477,3432,3687,5752,13842,877,5964,7394,4797,875,4519,13205,3695,3903,7429]
["Female 50-54",47457.329999999994,4357.6867268169781,1036.5218454372712,1479.4174070579922,3395.5376000000001,2608.1076952552203,3810.0577804764653,12570.394523215424,2941.6191999999996,5446.944426015787,5949.5749401424573,155.08571428571426,163,3648.7912414470466,227.76190476190476,1417.0222693531282,1683.3660714285716,1009.8775510204082,828.30794090489383,547.039494470774,1475.5070072332733,1412.5062857142862,1342.5557422969189,877.35125735687552,824.2815734989648,705.0670241286864,3029.9043472567764,227.76190476190476,1315.2529017857141,3402.8696498054478,6340.7198765020021,2093.9927569733395,989.80530973451323,649.21987577639754,708.10653753026622,1794.475697014557,3474.3058823529414,155.08571428571426,1216.4556962025315,1775.7180607987284,1033.782108278996,163,1210.3421052631579,2700.0446428571431,742.857515852294,1092.0774880646345,1453.0018057784914,54,{"$f":"AX95+AX136+AX177+AX218+AX259","v":196466},14343,4430,5872,13586,11019,20140,45822,12387,22074,29148,753,824,15062,1006,7325,9482,4450,3416,1955,5872,5163,4576,4475,3945,3740,15519,1006,5757,13586,20696,8971,3321,3174,3333,5283,12548,753,5449,7049,4430,824,4484,12445,3307,3622,6510]
["Female 55-59",62030.43,5806.7342441769342,1446.2684433125401,2047.716213111858,4454.9128000000001,3368.7180885418566,5531.2790657086252,15244.381015483654,4094.0536000000002,6957.4361060051633,7813.4929255320385,236.85714285714286,237.2,4862.127618452736,312.2,1954.7610968035144,2565.3124999999995,1370.2142857142858,1147.9187442289935,700.6856240126383,2042.3036844484632,1687.7044571428576,1739.1613445378152,1279.8317281968966,1066.4450195537154,1019.053619302949,4095.9803151324686,312.2,1683.8435267857144,4464.5323790994998,7127.1510347129497,2919.0653413468949,1206.6470009832842,866.36542443064172,1009.2628463814902,2372.5904268443128,4332.2176470588238,236.85714285714286,1797.331223628692,2170.7273991655074,1442.4456629124679,237.2,1680.6541353383459,3589.4553571428569,980.58038045505418,1343.8914187783082,1787.7006420545749,55,{"$f":"AX96+AX137+AX178+AX219+AX260","v":173090},13268,4151,5550,12010,9549,18379,38278,11675,19407,24790,783,790,13495,965,6358,8889,4051,3205,1711,5550,4238,4151,3956,3358,3220,13172,965,4986,12010,16608,8470,2819,2864,3132,4946,10954,783,5206,5811,4151,790,4171,11145,2852,3172,5396]
["Female 60-64",111125.91999999998,10421.544700463566,2942.7129818767307,4006.6599586229167,8540.5840000000007,6373.1196219930607,10306.041160600702,24215.684137721339,8087.9032000000007,11652.068022830241,14414.43241122835,477.31428571428569,437.70476190476194,9256.4373802478822,644.44761904761901,3468.9282431954753,4827.3392857142862,2780.9795918367349,2448.9796860572487,1308.0489731437597,3996.0695449065706,2920.0035428571437,3063.1301587301591,2345.4559122525416,2058.2836438923396,1829.6742627345841,7467.8962070621092,644.44761904761901,3213.4053571428572,8559.0258476931631,10250.797785936804,5592.2097395592536,2017.142576204523,1675.0236024844723,2024.8466505246165,4168.3370342955832,7156.748529411765,477.31428571428569,3547.4050632911394,3745.2726008344916,2934.9347954949617,437.70476190476194,3157.218045112782,6057.0357142857147,1841.9015292801196,2195.7245684906352,3221.9515783841625,56,{"$f":"AX97+AX138+AX179+AX220+AX261","v":164841},13057,4238,5582,12188,9464,17270,33993,11811,17665,23646,770,715,13414,1028,5895,8249,4147,3505,1741,5582,4142,4041,3633,3250,2913,12434,1028,4980,12188,13985,8306,2685,2830,3126,4859,10069,770,5125,5443,4238,715,4157,10022,2743,2908,5132]
["Female 65-69",136688.06,12251,3911.6805124984485,5433.7891716649428,10701.755999999999,7856.9316972431752,12329.654291474348,28921.217141168505,10051.9848,14250.545606776397,17217.486171236036,613.27619047619055,547.75238095238103,11715.955227267379,827.96190476190486,3966.2803110639802,5733.5,3620.1530612244901,3161.3518005540168,1607.9747235387044,5447.5161618444845,3475.109257142858,3684.9742296918766,2974.2590155163189,2560.9547964113181,2246.2305630026813,8685.7472174937793,827.96190476190486,3765.9841517857144,10724.864508060034,12002.835391633289,6831.5053166897824,2433.9026548672568,2095.1238095238095,2678.3241861716442,4516,8637.7735294117665,613.27619047619055,4611.3839662447263,4615.3125372541235,3901.7191266548111,547.75238095238103,4045.3082706766918,7382.3660714285716,2444.9350988437154,2452.6262088382909,3894.919074371322,57,{"$f":"AX98+AX139+AX180+AX221+AX262","v":148398},12251,4043,5476,11182,8530,15017,30104,10565,15870,20678,710,635,12398,939,4956,7101,3899,3259,1608,5476,3664,3692,3384,2929,2640,10651,939,4258,11182,12247,7306,2416,2566,2960,4516,8964,710,4835,4925,4043,635,4043,8937,2664,2461,4532]
["Female 70-74",null,null,null,null,null,null,null,null,null,null,null,null,null,null,null,null,null,null,null,null,null,null,null,null,null,null,null,null,null,null,null,null,null,null,null,null,null,null,null,null,null,null,null,null,null,null,null,58]
["Female 75-79",null,null,null,null,null,null,null,null,null,null,null,null,null,null,null,null,null,null,null,null,null,null,null,null,null,null,null,null,null,null,null,null,null,null,null,null,null,null,null,null,null,null,null,null,null,null,null,59]
["Female 80-84",null,null,null,null,null,null,null,null,null,null,null,null,null,null,null,null,null,null,null,null,null,null,null,null,null,null,null,null,null,null,null,null,null,null,null,null,null,null,null,null,null,null,null,null,null,null,null,60]
["Female 85+",null,null,null,null,null,null,null,null,null,null,null,null,null,null,null,null,null,null,null,null,null,null,null,null,null,null,null,null,null,null,null,null,null,null,null,null,null,null,null,null,null,null,null,null,null,null,null,61]
["age/sex breakdown: Q1",null,null,null,null,null,null,null,null,null,null,null,null,null,null,null,null,null,null,null,null,null,null,null,null,null,null,null,null,null,null,null,null,null,null,null,null,null,null,null,null,null,null,null,null,null,null,null,62]
["Male <1",null,null,null,null,null,null,null,null,null,null,null,null,null,null,null,null,null,null,null,null,null,null,null,null,null,null,null,null,null,null,null,null,null,null,null,null,null,null,null,null,null,null,null,null,null,null,null,63]
["Male 1-4",null,null,null,null,null,null,null,null,null,null,null,null,null,null,null,null,null,null,null,null,null,null,null,null,null,null,null,null,null,null,null,null,null,null,null,null,null,null,null,null,null,null,null,null,null,null,null,64]
["Male 5-9",null,null,null,null,null,null,null,null,null,null,null,null,null,null,null,null,null,null,null,null,null,null,null,null,null,null,null,null,null,null,null,null,null,null,null,null,null,null,null,null,null,null,null,null,null,null,null,65]
["Male 10-14",null,null,null,null,null,null,null,null,null,null,null,null,null,null,null,null,null,null,null,null,null,null,null,null,null,null,null,null,null,null,null,null,null,null,null,null,null,null,null,null,null,null,null,null,null,null,null,66]
["Male 16-19",{"$f":"Prevalence!B67*AX68","v":5645.86},{"$f":"Prevalence!C67*AY68","v":689.88366392565763},{"$f":"Prevalence!D67*AZ68","v":29.92},{"$f":"Prevalence!E67*BA68","v":89.173043665027407},{"$f":"Prevalence!F67*BB68","v":382.02096200861303},{"$f":"Prevalence!G67*BC68","v":248.82645712366923},{"$f":"Prevalence!H67*BD68","v":125.89500000000001},{"$f":"Prevalence!I67*BE68","v":2530.7873659922725},{"$f":"Prevalence!J67*BF68","v":155.232},{"$f":"Prevalence!K67*BG68","v":836.86944834486235},{"$f":"Prevalence!L67*BH68","v":450.83939999999996},{"$f":"Prevalence!M67*BI68","v":0},{"$f":"Prevalence!N67*BJ68","v":0},{"$f":"Prevalence!O67*BK68","v":415.83342005843491},{"$f":"Prevalence!P67*BL68","v":0},{"$f":"Prevalence!Q67*BM68","v":96.745011086474491},{"$f":"Prevalence!R67*BN68","v":21.126741420319401},{"$f":"Prevalence!S67*BO68","v":58.431372549019606},{"$f":"Prevalence!T67*BP68","v":49.431085043988269},{"$f":"Prevalence!U67*BQ68","v":88.787564766839381},{"$f":"Prevalence!V67*BR68","v":89.020547945205479},{"$f":"Prevalence!W67*BS68","v":347.13801169590636},{"$f":"Prevalence!X67*BT68","v":245.02597402597405},{"$f":"Prevalence!Y67*BU68","v":29.408146300914378},{"$f":"Prevalence!Z67*BV68","v":28.207999999999998},{"$f":"Prevalence!AA67*BW68","v":37.018682399213368},{"$f":"Prevalence!AB67*BX68","v":257.6312979646313},{"$f":"Prevalence!AC67*BY68","v":0},{"$f":"Prevalence!AD67*BZ68","v":111.93111111111111},{"$f":"Prevalence!AE67*CA68","v":381.36766411505448},{"$f":"Prevalence!AF67*CB68","v":1734.7492225049475},{"$f":"Prevalence!AG67*CC68","v":105.1111111111111},{"$f":"Prevalence!AH67*CD68","v":242.21333333333328},{"$f":"Prevalence!AI67*CE68","v":37.242128121606939},{"$f":"Prevalence!AJ67*CF68","v":4.704545454545455},{"$f":"Prevalence!AK67*CG68","v":342.09037328094303},{"$f":"Prevalence!AL67*CH68","v":671.80226904376013},{"$f":"Prevalence!AM67*CI68","v":0},{"$f":"Prevalence!AN67*CJ68","v":39.856341189674517},{"$f":"Prevalence!AO67*CK68","v":229.27080181543116},{"$f":"Prevalence!AP67*CL68","v":30.084848484848486},{"$f":"Prevalence!AQ67*CM68","v":0},{"$f":"Prevalence!AR67*CN68","v":103.9097065462754},{"$f":"Prevalence!AS67*CO68","v":305.00798238370487},{"$f":"Prevalence!AT67*CP68","v":51.406551059730255},{"$f":"Prevalence!AU67*CQ68","v":198.54580896686161},{"$f":"Prevalence!AV67*CR68","v":123.24620060790274},67,25663,2697,136,317,1654,1069,763,10411,735,3626,2469,null,null,1786,null,606,134,250,196,357,317,1343,993,133,129,181,1511,null,482,1654,6848,539,879,175,23,1293,2739,null,193,1038,136,null,411,1417,230,802,654]
["Male 20-24",{"$f":"Prevalence!B68*AX69","v":12033.78},{"$f":"Prevalence!C68*AY69","v":1346.7695552720011},{"$f":"Prevalence!D68*AZ69","v":54.120000000000005},{"$f":"Prevalence!E68*BA69","v":185.2380102631563},{"$f":"Prevalence!F68*BB69","v":721.31285631976937},{"$f":"Prevalence!G68*BC69","v":526.5158522111692},{"$f":"Prevalence!H68*BD69","v":346.5},{"$f":"Prevalence!I68*BE69","v":5730.9170633897629},{"$f":"Prevalence!J68*BF69","v":281.3184},{"$f":"Prevalence!K68*BG69","v":1593.1907892787051},{"$f":"Prevalence!L68*BH69","v":907.43069999999989},{"$f":"Prevalence!M68*BI69","v":0},{"$f":"Prevalence!N68*BJ69","v":0},{"$f":"Prevalence!O68*BK69","v":992.90124291108373},{"$f":"Prevalence!P68*BL69","v":0},{"$f":"Prevalence!Q68*BM69","v":285.92461197339247},{"$f":"Prevalence!R68*BN69","v":39.730886850152899},{"$f":"Prevalence!S68*BO69","v":89.750588235294117},{"$f":"Prevalence!T68*BP69","v":97.601173020527852},{"$f":"Prevalence!U68*BQ69","v":159.66839378238342},{"$f":"Prevalence!V68*BR69","v":184.92123287671234},{"$f":"Prevalence!W68*BS69","v":861.9},{"$f":"Prevalence!X68*BT69","v":462.66233766233773},{"$f":"Prevalence!Y68*BU69","v":41.458852867830423},{"$f":"Prevalence!Z68*BV69","v":46.576000000000001},{"$f":"Prevalence!AA68*BW69","v":66.26548672566372},{"$f":"Prevalence!AB68*BX69","v":545.78278278278276},{"$f":"Prevalence!AC68*BY69","v":0},{"$f":"Prevalence!AD68*BZ69","v":258.46333333333337},{"$f":"Prevalence!AE68*CA69","v":720.07933194154487},{"$f":"Prevalence!AF68*CB69","v":4164.9940627650549},{"$f":"Prevalence!AG68*CC69","v":184.28571428571428},{"$f":"Prevalence!AH68*CD69","v":457.14666666666665},{"$f":"Prevalence!AI68*CE69","v":60.013029315960907},{"$f":"Prevalence!AJ68*CF69","v":11.65909090909091},{"$f":"Prevalence!AK68*CG69","v":632.19253438113947},{"$f":"Prevalence!AL68*CH69","v":1287.6823338735821},{"$f":"Prevalence!AM68*CI69","v":0},{"$f":"Prevalence!AN68*CJ69","v":112.75420875420875},{"$f":"Prevalence!AO68*CK69","v":542.03328290468983},{"$f":"Prevalence!AP68*CL69","v":54.418181818181822},{"$f":"Prevalence!AQ68*CM69","v":0},{"$f":"Prevalence!AR68*CN69","v":252.94808126410837},{"$f":"Prevalence!AS68*CO69","v":577.94384805945492},{"$f":"Prevalence!AT68*CP69","v":113.3179190751445},{"$f":"Prevalence!AU68*CQ69","v":365.77485380116957},{"$f":"Prevalence!AV68*CR69","v":239.99088145896658},68,36466,3510,164,439,2082,1508,1400,15717,888,4602,3313,null,null,2843,null,1194,168,256,258,428,439,2223,1250,125,142,216,2134,null,742,2082,10961,630,1106,188,38,1593,3500,null,364,1636,164,null,667,1790,338,985,849]
["Male 25-29",{"$f":"Prevalence!B69*AX70","v":12222.21},{"$f":"Prevalence!C69*AY70","v":1198.6632736950801},{"$f":"Prevalence!D69*AZ70","v":49.499999999999993},{"$f":"Prevalence!E69*BA70","v":142.19865480337964},{"$f":"Prevalence!F69*BB70","v":737.94254753175233},{"$f":"Prevalence!G69*BC70","v":473.79443730143004},{"$f":"Prevalence!H69*BD70","v":368.28},{"$f":"Prevalence!I69*BE70","v":5919.7963049012396},{"$f":"Prevalence!J69*BF70","v":307.92959999999999},{"$f":"Prevalence!K69*BG70","v":1560.9946260012343},{"$f":"Prevalence!L69*BH70","v":1030.6857},{"$f":"Prevalence!M69*BI70","v":0},{"$f":"Prevalence!N69*BJ70","v":0},{"$f":"Prevalence!O69*BK70","v":1037.9537439084561},{"$f":"Prevalence!P69*BL70","v":0},{"$f":"Prevalence!Q69*BM70","v":293.58758314855874},{"$f":"Prevalence!R69*BN70","v":54.156982670744128},{"$f":"Prevalence!S69*BO70","v":104.12470588235293},{"$f":"Prevalence!T69*BP70","v":90.035190615835759},{"$f":"Prevalence!U69*BQ70","v":152.95336787564764},{"$f":"Prevalence!V69*BR70","v":141.95547945205479},{"$f":"Prevalence!W69*BS70","v":910.75263157894722},{"$f":"Prevalence!X69*BT70","v":394.92857142857139},{"$f":"Prevalence!Y69*BU70","v":26.533665835411465},{"$f":"Prevalence!Z69*BV70","v":49.199999999999996},{"$f":"Prevalence!AA69*BW70","v":70.560471976401161},{"$f":"Prevalence!AB69*BX70","v":647.06206206206195},{"$f":"Prevalence!AC69*BY70","v":0},{"$f":"Prevalence!AD69*BZ70","v":225.02333333333328},{"$f":"Prevalence!AE69*CA70","v":736.68058455114806},{"$f":"Prevalence!AF69*CB70","v":4268.7294317217975},{"$f":"Prevalence!AG69*CC70","v":214.70748299319723},{"$f":"Prevalence!AH69*CD70","v":466.65333333333319},{"$f":"Prevalence!AI69*CE70","v":62.247557003257313},{"$f":"Prevalence!AJ69*CF70","v":10.124999999999998},{"$f":"Prevalence!AK69*CG70","v":555.20235756385057},{"$f":"Prevalence!AL69*CH70","v":1272.2301458670986},{"$f":"Prevalence!AM69*CI70","v":0},{"$f":"Prevalence!AN69*CJ70","v":100.98316498316495},{"$f":"Prevalence!AO69*CK70","v":597.69440242057476},{"$f":"Prevalence!AP69*CL70","v":49.772727272727266},{"$f":"Prevalence!AQ69*CM70","v":0},{"$f":"Prevalence!AR69*CN70","v":249.53498871331826},{"$f":"Prevalence!AS69*CO70","v":568.90338563170917},{"$f":"Prevalence!AT69*CP70","v":100.91329479768784},{"$f":"Prevalence!AU69*CQ70","v":388.79824561403501},{"$f":"Prevalence!AV69*CR70","v":251.01519756838903},69,37037,3124,150,337,2130,1357,1488,16235,972,4509,3763,null,null,2972,null,1226,229,297,238,410,337,2349,1067,80,150,230,2530,null,646,2130,11234,734,1129,195,33,1399,3458,null,326,1804,150,null,658,1762,301,1047,888]
["Male 30-34",{"$f":"Prevalence!B70*AX71","v":7984.45},{"$f":"Prevalence!C70*AY71","v":788.09796448149439},{"$f":"Prevalence!D70*AZ71","v":42.55},{"$f":"Prevalence!E70*BA71","v":89.69729012190524},{"$f":"Prevalence!F70*BB71","v":489.69401318923116},{"$f":"Prevalence!G70*BC71","v":321.94660531576369},{"$f":"Prevalence!H70*BD71","v":262.02749999999997},{"$f":"Prevalence!I70*BE71","v":3833.4066348461461},{"$f":"Prevalence!J70*BF71","v":173.10719999999998},{"$f":"Prevalence!K70*BG71","v":1064.8023383838338},{"$f":"Prevalence!L70*BH71","v":707.28449999999998},{"$f":"Prevalence!M70*BI71","v":0},{"$f":"Prevalence!N70*BJ71","v":0},{"$f":"Prevalence!O70*BK71","v":589.54536541217476},{"$f":"Prevalence!P70*BL71","v":0},{"$f":"Prevalence!Q70*BM71","v":210.79701673049786},{"$f":"Prevalence!R70*BN71","v":36.921632224384517},{"$f":"Prevalence!S70*BO71","v":70.616969696969676},{"$f":"Prevalence!T70*BP71","v":47.195681151692881},{"$f":"Prevalence!U70*BQ71","v":111.80405087140838},{"$f":"Prevalence!V70*BR71","v":89.543897882938964},{"$f":"Prevalence!W70*BS71","v":475.33211057947898},{"$f":"Prevalence!X70*BT71","v":254.61570247933884},{"$f":"Prevalence!Y70*BU71","v":29.126728632963044},{"$f":"Prevalence!Z70*BV71","v":26.97551515151515},{"$f":"Prevalence!AA70*BW71","v":41.267185125592199},{"$f":"Prevalence!AB70*BX71","v":456.33026966360296},{"$f":"Prevalence!AC70*BY71","v":0},{"$f":"Prevalence!AD70*BZ71","v":163.875},{"$f":"Prevalence!AE70*CA71","v":488.85658252672857},{"$f":"Prevalence!AF70*CB71","v":2760.9221990901374},{"$f":"Prevalence!AG70*CC71","v":123.34467120181404},{"$f":"Prevalence!AH70*CD71","v":274.82909090909089},{"$f":"Prevalence!AI70*CE71","v":39.15743756786101},{"$f":"Prevalence!AJ70*CF71","v":6.8429752066115697},{"$f":"Prevalence!AK70*CG71","v":384.19324879442752},{"$f":"Prevalence!AL70*CH71","v":841.31923775845985},{"$f":"Prevalence!AM70*CI71","v":0},{"$f":"Prevalence!AN70*CJ71","v":80.745230078563395},{"$f":"Prevalence!AO70*CK71","v":392.55948287718326},{"$f":"Prevalence!AP70*CL71","v":42.784435261707983},{"$f":"Prevalence!AQ70*CM71","v":0},{"$f":"Prevalence!AR70*CN71","v":150.92304535193924},{"$f":"Prevalence!AS70*CO71","v":436.11425568650998},{"$f":"Prevalence!AT70*CP71","v":50.939218777369064},{"$f":"Prevalence!AU70*CQ71","v":227.75828460038983},{"$f":"Prevalence!AV70*CR71","v":167.66040342636086},70,34715,2947,185,305,2028,1323,1519,15084,784,4413,3705,null,null,2422,null,1263,224,289,179,430,305,1759,987,126,118,193,2560,null,675,2028,10425,605,954,176,32,1389,3281,null,374,1700,185,null,571,1938,218,880,851]
["Male 35-39",{"$f":"Prevalence!B71*AX72","v":10718.75},{"$f":"Prevalence!C71*AY72","v":1124.8077939826762},{"$f":"Prevalence!D71*AZ72","v":51.8},{"$f":"Prevalence!E71*BA72","v":137.39093119884132},{"$f":"Prevalence!F71*BB72","v":708.80909228348651},{"$f":"Prevalence!G71*BC72","v":439.18642041004802},{"$f":"Prevalence!H71*BD72","v":337.04999999999995},{"$f":"Prevalence!I71*BE72","v":4945.8980747139431},{"$f":"Prevalence!J71*BF72","v":243.26399999999998},{"$f":"Prevalence!K71*BG72","v":1515.7059857702666},{"$f":"Prevalence!L71*BH72","v":998.1579999999999},{"$f":"Prevalence!M71*BI72","v":0},{"$f":"Prevalence!N71*BJ72","v":0},{"$f":"Prevalence!O71*BK72","v":714.89228150634426},{"$f":"Prevalence!P71*BL72","v":0},{"$f":"Prevalence!Q71*BM72","v":265.91816166095543},{"$f":"Prevalence!R71*BN72","v":48.660303339202422},{"$f":"Prevalence!S71*BO72","v":85.894117647058806},{"$f":"Prevalence!T71*BP72","v":69.010930418555049},{"$f":"Prevalence!U71*BQ72","v":152.72727272727272},{"$f":"Prevalence!V71*BR72","v":137.15597758405977},{"$f":"Prevalence!W71*BS72","v":596.67650186071228},{"$f":"Prevalence!X71*BT72","v":383.14049586776861},{"$f":"Prevalence!Y71*BU72","v":34.121892239099218},{"$f":"Prevalence!Z71*BV72","v":44.180606060606053},{"$f":"Prevalence!AA71*BW72","v":58.567980691874489},{"$f":"Prevalence!AB71*BX72","v":623.07527224193882},{"$f":"Prevalence!AC71*BY72","v":0},{"$f":"Prevalence!AD71*BZ72","v":225.73055555555553},{"$f":"Prevalence!AE71*CA72","v":707.59695071803628},{"$f":"Prevalence!AF71*CB72","v":3510.6402446860461},{"$f":"Prevalence!AG71*CC72","v":171.25541125541125},{"$f":"Prevalence!AH71*CD72","v":374.3797979797979},{"$f":"Prevalence!AI71*CE72","v":60.264534596782134},{"$f":"Prevalence!AJ71*CF72","v":13.992768595041323},{"$f":"Prevalence!AK71*CG72","v":520.24290051794958},{"$f":"Prevalence!AL71*CH72","v":1205.3487058592407},{"$f":"Prevalence!AM71*CI72","v":0},{"$f":"Prevalence!AN71*CJ72","v":81.47740026527903},{"$f":"Prevalence!AO71*CK72","v":467.70801815431162},{"$f":"Prevalence!AP71*CL72","v":52.085399449035812},{"$f":"Prevalence!AQ71*CM72","v":0},{"$f":"Prevalence!AR71*CN72","v":222.02339421301045},{"$f":"Prevalence!AS71*CO72","v":621.18935014888757},{"$f":"Prevalence!AT71*CP72","v":67.204414083026791},{"$f":"Prevalence!AU71*CQ72","v":331.22851320219741},{"$f":"Prevalence!AV71*CR72","v":250.03868471953575},71,30625,2764,148,307,1929,1186,1284,12789,724,4128,3436,null,null,1930,null,1047,194,231,172,386,307,1451,976,97,127,180,2297,null,611,1929,8711,552,854,178,43,1236,3089,null,248,1331,148,null,552,1814,189,841,834]
["Male 40-44",{"$f":"Prevalence!B72*AX73","v":11077.119999999999},{"$f":"Prevalence!C72*AY73","v":1208.104496857308},{"$f":"Prevalence!D72*AZ73","v":63.359999999999992},{"$f":"Prevalence!E72*BA73","v":144.02712415297799},{"$f":"Prevalence!F72*BB73","v":762.27816888868233},{"$f":"Prevalence!G72*BC73","v":492.95528064911963},{"$f":"Prevalence!H72*BD73","v":279.11999999999995},{"$f":"Prevalence!I72*BE73","v":5188.1129953394902},{"$f":"Prevalence!J72*BF73","v":255.89759999999993},{"$f":"Prevalence!K72*BG73","v":1583.8540068359064},{"$f":"Prevalence!L72*BH73","v":916.05439999999987},{"$f":"Prevalence!M72*BI73","v":0},{"$f":"Prevalence!N72*BJ73","v":0},{"$f":"Prevalence!O72*BK73","v":764.6966201705759},{"$f":"Prevalence!P72*BL73","v":0},{"$f":"Prevalence!Q72*BM73","v":223.38722031848414},{"$f":"Prevalence!R72*BN73","v":38.068266765514466},{"$f":"Prevalence!S72*BO73","v":86.350944741532942},{"$f":"Prevalence!T72*BP73","v":84.37216742202078},{"$f":"Prevalence!U72*BQ73","v":164.2355157795572},{"$f":"Prevalence!V72*BR73","v":143.7808219178082},{"$f":"Prevalence!W72*BS73","v":646.66879319510883},{"$f":"Prevalence!X72*BT73","v":442.89964580873669},{"$f":"Prevalence!Y72*BU73","v":43.418725912491489},{"$f":"Prevalence!Z72*BV73","v":48.663272727272719},{"$f":"Prevalence!AA72*BW73","v":65.149906141056562},{"$f":"Prevalence!AB72*BX73","v":537.9241059241059},{"$f":"Prevalence!AC72*BY73","v":0},{"$f":"Prevalence!AD72*BZ73","v":254.34666666666664},{"$f":"Prevalence!AE72*CA73","v":760.97458931696906},{"$f":"Prevalence!AF72*CB73","v":3557.1939239725493},{"$f":"Prevalence!AG72*CC73","v":171.04267161410016},{"$f":"Prevalence!AH72*CD73","v":442.49212121212111},{"$f":"Prevalence!AI72*CE73","v":62.218537163162551},{"$f":"Prevalence!AJ72*CF73","v":10.413223140495866},{"$f":"Prevalence!AK72*CG73","v":578.40042864797272},{"$f":"Prevalence!AL72*CH73","v":1287.9053091694907},{"$f":"Prevalence!AM72*CI73","v":0},{"$f":"Prevalence!AN72*CJ73","v":85.307213549637765},{"$f":"Prevalence!AO72*CK73","v":553.88034658231322},{"$f":"Prevalence!AP72*CL73","v":63.709090909090897},{"$f":"Prevalence!AQ72*CM73","v":0},{"$f":"Prevalence!AR72*CN73","v":187.54771188179762},{"$f":"Prevalence!AS72*CO73","v":617.72579636163437},{"$f":"Prevalence!AT72*CP73","v":80.950078822911181},{"$f":"Prevalence!AU72*CQ73","v":350.00956937799037},{"$f":"Prevalence!AV72*CR73","v":253.8248134843879},72,34616,3247,198,352,2269,1456,1163,14673,833,4718,3449,null,null,2258,null,962,166,254,230,454,352,1720,1234,135,153,219,2169,null,753,2269,9654,603,1104,201,35,1503,3610,null,284,1724,198,null,510,1973,249,972,926]
["Male 45-49",{"$f":"Prevalence!B73*AX74","v":11958.539999999999},{"$f":"Prevalence!C73*AY74","v":1337.1771795222003},{"$f":"Prevalence!D73*AZ74","v":72.929999999999993},{"$f":"Prevalence!E73*BA74","v":179.33064774906927},{"$f":"Prevalence!F73*BB74","v":808.61873518268078},{"$f":"Prevalence!G73*BC74","v":534.54626640271874},{"$f":"Prevalence!H73*BD74","v":287.59499999999997},{"$f":"Prevalence!I73*BE74","v":5609.1300621063001},{"$f":"Prevalence!J73*BF74","v":291.13919999999996},{"$f":"Prevalence!K73*BG74","v":1730.284129685999},{"$f":"Prevalence!L73*BH74","v":940.29869999999994},{"$f":"Prevalence!M73*BI74","v":0},{"$f":"Prevalence!N73*BJ74","v":0},{"$f":"Prevalence!O73*BK74","v":819.67612279715547},{"$f":"Prevalence!P73*BL74","v":0},{"$f":"Prevalence!Q73*BM74","v":231.08647450110863},{"$f":"Prevalence!R73*BN74","v":35.237512742099888},{"$f":"Prevalence!S73*BO74","v":87.647058823529392},{"$f":"Prevalence!T73*BP74","v":98.736070381231656},{"$f":"Prevalence!U73*BQ74","v":187.64766839378234},{"$f":"Prevalence!V73*BR74","v":179.02397260273972},{"$f":"Prevalence!W73*BS74","v":693.24210526315778},{"$f":"Prevalence!X73*BT74","v":484.8701298701298},{"$f":"Prevalence!Y73*BU74","v":41.458852867830416},{"$f":"Prevalence!Z73*BV74","v":46.903999999999996},{"$f":"Prevalence!AA73*BW74","v":81.911504424778741},{"$f":"Prevalence!AB73*BX74","v":562.40690690690678},{"$f":"Prevalence!AC73*BY74","v":0},{"$f":"Prevalence!AD73*BZ74","v":254.2833333333333},{"$f":"Prevalence!AE73*CA74","v":807.23590814196223},{"$f":"Prevalence!AF73*CB74","v":3805.9100932994056},{"$f":"Prevalence!AG73*CC74","v":192.47619047619042},{"$f":"Prevalence!AH73*CD74","v":548.90666666666652},{"$f":"Prevalence!AI73*CE74","v":64.162866449511384},{"$f":"Prevalence!AJ73*CF74","v":14.727272727272725},{"$f":"Prevalence!AK73*CG74","v":642.90766208251466},{"$f":"Prevalence!AL73*CH74","v":1413.5072933549432},{"$f":"Prevalence!AM73*CI74","v":0},{"$f":"Prevalence!AN73*CJ74","v":95.717171717171695},{"$f":"Prevalence!AO73*CK74","v":561.58093797276842},{"$f":"Prevalence!AP73*CL74","v":73.331818181818178},{"$f":"Prevalence!AQ73*CM74","v":0},{"$f":"Prevalence!AR73*CN74","v":210.47404063205417},{"$f":"Prevalence!AS73*CO74","v":623.46903385631697},{"$f":"Prevalence!AT73*CP74","v":99.907514450867041},{"$f":"Prevalence!AU73*CQ74","v":437.07309941520464},{"$f":"Prevalence!AV73*CR74","v":251.58054711246197},73,36238,3485,221,425,2334,1531,1162,15383,919,4998,3433,null,null,2347,null,965,149,250,261,503,425,1788,1310,125,143,267,2199,null,730,2334,10016,658,1328,201,48,1620,3842,null,309,1695,221,null,555,1931,298,1177,890]
["Male 50-54",{"$f":"Prevalence!B74*AX75","v":13157.82},{"$f":"Prevalence!C74*AY75","v":1561.2550770375419},{"$f":"Prevalence!D74*AZ75","v":64.350000000000009},{"$f":"Prevalence!E74*BA75","v":184.50917982310659},{"$f":"Prevalence!F74*BB75","v":941.30981297829658},{"$f":"Prevalence!G74*BC75","v":595.42505857422964},{"$f":"Prevalence!H74*BD75","v":327.89249999999998},{"$f":"Prevalence!I74*BE75","v":6162.7073406674936},{"$f":"Prevalence!J74*BF75","v":325.72800000000001},{"$f":"Prevalence!K74*BG75","v":1906.1828164482506},{"$f":"Prevalence!L74*BH75","v":942.93809999999996},{"$f":"Prevalence!M74*BI75","v":0},{"$f":"Prevalence!N74*BJ75","v":0},{"$f":"Prevalence!O74*BK75","v":889.04871947034724},{"$f":"Prevalence!P74*BL75","v":0},{"$f":"Prevalence!Q74*BM75","v":256.68776456359603},{"$f":"Prevalence!R74*BN75","v":46.675192289871184},{"$f":"Prevalence!S74*BO75","v":86.595294117647057},{"$f":"Prevalence!T74*BP75","v":105.51106371634231},{"$f":"Prevalence!U74*BQ75","v":202.80734809232217},{"$f":"Prevalence!V74*BR75","v":184.19364881693647},{"$f":"Prevalence!W74*BS75","v":771.63189792663468},{"$f":"Prevalence!X74*BT75","v":541.53364817001182},{"$f":"Prevalence!Y74*BU75","v":55.268419859442304},{"$f":"Prevalence!Z74*BV75","v":61.246545454545448},{"$f":"Prevalence!AA74*BW75","v":85.927594529364441},{"$f":"Prevalence!AB74*BX75","v":535.29679679679691},{"$f":"Prevalence!AC74*BY75","v":0},{"$f":"Prevalence!AD74*BZ75","v":295.16500000000002},{"$f":"Prevalence!AE74*CA75","v":939.70006958942236},{"$f":"Prevalence!AF74*CB75","v":4115.7344436733756},{"$f":"Prevalence!AG74*CC75","v":219.17501546072972},{"$f":"Prevalence!AH74*CD75","v":601.32484848484842},{"$f":"Prevalence!AI74*CE75","v":70.924489191590155},{"$f":"Prevalence!AJ74*CF75","v":17.042355371900829},{"$f":"Prevalence!AK74*CG75","v":756.04786569030182},{"$f":"Prevalence!AL74*CH75","v":1536.589656696626},{"$f":"Prevalence!AM74*CI75","v":0},{"$f":"Prevalence!AN74*CJ75","v":95.548209366391177},{"$f":"Prevalence!AO74*CK75","v":689.9207811855315},{"$f":"Prevalence!AP74*CL75","v":64.704545454545467},{"$f":"Prevalence!AQ74*CM75","v":0},{"$f":"Prevalence!AR74*CN75","v":265.77303509131951},{"$f":"Prevalence!AS74*CO75","v":733.01126041588464},{"$f":"Prevalence!AT74*CP75","v":105.39358906988966},{"$f":"Prevalence!AU74*CQ75","v":425.25757575757581},{"$f":"Prevalence!AV74*CR75","v":265.91986736667587},74,33738,3443,165,370,2299,1443,1121,14301,870,4659,2913,null,null,2154,null,907,167,209,236,460,370,1684,1238,141,158,237,1771,null,717,2299,9165,634,1231,188,47,1612,3534,null,261,1762,165,null,593,1921,266,969,796]
["Male 55-59",{"$f":"Prevalence!B75*AX76","v":15395.94},{"$f":"Prevalence!C75*AY76","v":1910.5919611620977},{"$f":"Prevalence!D75*AZ76","v":71.28},{"$f":"Prevalence!E75*BA76","v":226.47446937123104},{"$f":"Prevalence!F75*BB76","v":1070.9143192989607},{"$f":"Prevalence!G75*BC76","v":688.45724827949482},{"$f":"Prevalence!H75*BD76","v":381.51000000000005},{"$f":"Prevalence!I75*BE76","v":7123.0478997810469},{"$f":"Prevalence!J75*BF76","v":404.87039999999996},{"$f":"Prevalence!K75*BG76","v":2212.7544943425232},{"$f":"Prevalence!L75*BH76","v":1079.2655999999999},{"$f":"Prevalence!M75*BI76","v":0},{"$f":"Prevalence!N75*BJ76","v":0},{"$f":"Prevalence!O75*BK76","v":1108.1200773856888},{"$f":"Prevalence!P75*BL76","v":0},{"$f":"Prevalence!Q75*BM76","v":309.56661963313849},{"$f":"Prevalence!R75*BN76","v":46.438698915763133},{"$f":"Prevalence!S75*BO76","v":115.88534759358288},{"$f":"Prevalence!T75*BP76","v":143.61610237270062},{"$f":"Prevalence!U75*BQ76","v":247.23504474799813},{"$f":"Prevalence!V75*BR76","v":226.08717310087175},{"$f":"Prevalence!W75*BS76","v":965.63253588516739},{"$f":"Prevalence!X75*BT76","v":644.42975206611573},{"$f":"Prevalence!Y75*BU76","v":64.042620720924958},{"$f":"Prevalence!Z75*BV76","v":54.746181818181817},{"$f":"Prevalence!AA75*BW76","v":80.823813354786807},{"$f":"Prevalence!AB75*BX76","v":641.57493857493864},{"$f":"Prevalence!AC75*BY76","v":0},{"$f":"Prevalence!AD75*BZ76","v":313.50000000000006},{"$f":"Prevalence!AE75*CA76","v":1069.0829379388879},{"$f":"Prevalence!AF75*CB76","v":4794.6259541984737},{"$f":"Prevalence!AG75*CC76","v":262.78664192949907},{"$f":"Prevalence!AH75*CD76","v":669.59999999999991},{"$f":"Prevalence!AI75*CE76","v":77.308854012437067},{"$f":"Prevalence!AJ75*CF76","v":16.06611570247934},{"$f":"Prevalence!AK75*CG76","v":903.31773530987675},{"$f":"Prevalence!AL75*CH76","v":1727.2335346986888},{"$f":"Prevalence!AM75*CI76","v":0},{"$f":"Prevalence!AN75*CJ76","v":108.9807162534435},{"$f":"Prevalence!AO75*CK76","v":708.05281254297893},{"$f":"Prevalence!AP75*CL76","v":71.672727272727272},{"$f":"Prevalence!AQ75*CM76","v":0},{"$f":"Prevalence!AR75*CN76","v":364.89062179355631},{"$f":"Prevalence!AS75*CO76","v":951.00968395766074},{"$f":"Prevalence!AT75*CP76","v":137.1518654755649},{"$f":"Prevalence!AU75*CQ76","v":540.20574162679429},{"$f":"Prevalence!AV75*CR76","v":289.09919867366676},75,28511,3043,132,328,1889,1205,942,11938,781,3906,2408,null,null,1939,null,790,120,202,232,405,328,1522,1064,118,102,161,1533,null,550,1889,7711,549,990,148,32,1391,2869,null,215,1306,132,null,588,1800,250,889,625]
["Male 60-64",{"$f":"Prevalence!B76*AX77","v":14616.560000000001},{"$f":"Prevalence!C76*AY77","v":1836.1551253436453},{"$f":"Prevalence!D76*AZ77","v":95.2},{"$f":"Prevalence!E76*BA77","v":254.19559909101588},{"$f":"Prevalence!F76*BB77","v":1068.2476895212817},{"$f":"Prevalence!G76*BC77","v":708.03072160540637},{"$f":"Prevalence!H76*BD77","v":368.34000000000003},{"$f":"Prevalence!I76*BE77","v":6497.0746465864613},{"$f":"Prevalence!J76*BF77","v":380.62080000000003},{"$f":"Prevalence!K76*BG77","v":2139.0253853447834},{"$f":"Prevalence!L76*BH77","v":1029.0672000000002},{"$f":"Prevalence!M76*BI77","v":0},{"$f":"Prevalence!N76*BJ77","v":0},{"$f":"Prevalence!O76*BK77","v":1069.1528918859649},{"$f":"Prevalence!P76*BL77","v":0},{"$f":"Prevalence!Q76*BM77","v":293.39891150977627},{"$f":"Prevalence!R76*BN77","v":44.9480740122942},{"$f":"Prevalence!S76*BO77","v":126.72171122994654},{"$f":"Prevalence!T76*BP77","v":129.67635297254068},{"$f":"Prevalence!U76*BQ77","v":233.6015073009892},{"$f":"Prevalence!V76*BR77","v":253.76089663760899},{"$f":"Prevalence!W76*BS77","v":909.28399787347155},{"$f":"Prevalence!X76*BT77","v":628.72727272727286},{"$f":"Prevalence!Y76*BU77","v":54.59502758255875},{"$f":"Prevalence!Z76*BV77","v":53.434181818181827},{"$f":"Prevalence!AA76*BW77","v":82.25547510503263},{"$f":"Prevalence!AB76*BX77","v":577.66700033366703},{"$f":"Prevalence!AC76*BY77","v":0},{"$f":"Prevalence!AD76*BZ77","v":341.07111111111112},{"$f":"Prevalence!AE76*CA77","v":1066.4208683916409},{"$f":"Prevalence!AF76*CB77","v":4277.7338782224278},{"$f":"Prevalence!AG76*CC77","v":251.17460317460316},{"$f":"Prevalence!AH76*CD77","v":730.87353535353532},{"$f":"Prevalence!AI76*CE77","v":73.129997038791828},{"$f":"Prevalence!AJ76*CF77","v":22.388429752066116},{"$f":"Prevalence!AK76*CG77","v":884.91802107519209},{"$f":"Prevalence!AL76*CH77","v":1693.809537841953},{"$f":"Prevalence!AM76*CI77","v":0},{"$f":"Prevalence!AN76*CJ77","v":109.86307519640852},{"$f":"Prevalence!AO76*CK77","v":656.6887635813506},{"$f":"Prevalence!AP76*CL77","v":95.724517906336104},{"$f":"Prevalence!AQ76*CM77","v":0},{"$f":"Prevalence!AR76*CN77","v":324.99076544223277},{"$f":"Prevalence!AS76*CO77","v":856.37834997372568},{"$f":"Prevalence!AT76*CP77","v":141.66263794009461},{"$f":"Prevalence!AU76*CQ77","v":482.7035264930002},{"$f":"Prevalence!AV76*CR77","v":312.75822050290139},76,26101,2820,170,355,1817,1195,877,10500,708,3641,2214,null,null,1804,null,722,112,213,202,369,355,1382,1001,97,96,158,1331,null,577,1817,6634,506,1042,135,43,1314,2713,null,209,1168,170,null,505,1563,249,766,652]
["Male 65-69",{"$f":"Prevalence!B77*AX78","v":21505.87},{"$f":"Prevalence!C77*AY78","v":2507},{"$f":"Prevalence!D77*AZ78","v":149.38},{"$f":"Prevalence!E77*BA78","v":284},{"$f":"Prevalence!F77*BB78","v":1597},{"$f":"Prevalence!G77*BC78","v":1015},{"$f":"Prevalence!H77*BD78","v":435.77250000000004},{"$f":"Prevalence!I77*BE78","v":8920},{"$f":"Prevalence!J77*BF78","v":561.5136},{"$f":"Prevalence!K77*BG78","v":3201},{"$f":"Prevalence!L77*BH78","v":1432.2728999999999},{"$f":"Prevalence!M77*BI78","v":0},{"$f":"Prevalence!N77*BJ78","v":0},{"$f":"Prevalence!O77*BK78","v":1512},{"$f":"Prevalence!P77*BL78","v":0},{"$f":"Prevalence!Q77*BM78","v":348.42572062084253},{"$f":"Prevalence!R77*BN78","v":58.3923640070429},{"$f":"Prevalence!S77*BO78","v":160},{"$f":"Prevalence!T77*BP78","v":185},{"$f":"Prevalence!U77*BQ78","v":331.16156382477629},{"$f":"Prevalence!V77*BR78","v":284},{"$f":"Prevalence!W77*BS78","v":1198},{"$f":"Prevalence!X77*BT78","v":876},{"$f":"Prevalence!Y77*BU78","v":79.942718960175313},{"$f":"Prevalence!Z77*BV78","v":71.344969696969684},{"$f":"Prevalence!AA77*BW78","v":102.80075087154732},{"$f":"Prevalence!AB77*BX78","v":764.5469560469561},{"$f":"Prevalence!AC77*BY78","v":0},{"$f":"Prevalence!AD77*BZ78","v":518},{"$f":"Prevalence!AE77*CA78","v":1597},{"$f":"Prevalence!AF77*CB78","v":5740},{"$f":"Prevalence!AG77*CC78","v":359.40589569160994},{"$f":"Prevalence!AH77*CD78","v":847},{"$f":"Prevalence!AI77*CE78","v":100.39897344783337},{"$f":"Prevalence!AJ77*CF78","v":18.037190082644628},{"$f":"Prevalence!AK77*CG78","v":1178},{"$f":"Prevalence!AL77*CH78","v":2345},{"$f":"Prevalence!AM77*CI78","v":0},{"$f":"Prevalence!AN77*CJ78","v":140.21997755331086},{"$f":"Prevalence!AO77*CK78","v":904.72410947600042},{"$f":"Prevalence!AP77*CL78","v":150.20303030303032},{"$f":"Prevalence!AQ77*CM78","v":0},{"$f":"Prevalence!AR77*CN78","v":453},{"$f":"Prevalence!AS77*CO78","v":1364.738032680229},{"$f":"Prevalence!AT77*CP78","v":192.16500262743037},{"$f":"Prevalence!AU77*CQ78","v":626},{"$f":"Prevalence!AV77*CR78","v":482.74854932301741},77,22171,2507,154,284,1597,1015,599,8920,603,3201,1779,null,null,1512,null,495,84,160,185,302,284,1198,876,82,74,114,1017,null,518,1597,5740,418,847,107,20,1178,2345,null,154,929,154,null,453,1438,195,626,581]
["Male 70-74",null,null,null,null,null,null,null,null,null,null,null,null,null,null,null,null,null,null,null,null,null,null,null,null,null,null,null,null,null,null,null,null,null,null,null,null,null,null,null,null,null,null,null,null,null,null,null,78]
["Male 75-79",null,null,null,null,null,null,null,null,null,null,null,null,null,null,null,null,null,null,null,null,null,null,null,null,null,null,null,null,null,null,null,null,null,null,null,null,null,null,null,null,null,null,null,null,null,null,null,79]
["Male 80-84",null,null,null,null,null,null,null,null,null,null,null,null,null,null,null,null,null,null,null,null,null,null,null,null,null,null,null,null,null,null,null,null,null,null,null,null,null,null,null,null,null,null,null,null,null,null,null,80]
["Male 85+",null,null,null,null,null,null,null,null,null,null,null,null,null,null,null,null,null,null,null,null,null,null,null,null,null,null,null,null,null,null,null,null,null,null,null,null,null,null,null,null,null,null,null,null,null,null,null,81]
[null,null,null,null,null,null,null,null,null,null,null,null,null,null,null,null,null,null,null,null,null,null,null,null,null,null,null,null,null,null,null,null,null,null,null,null,null,null,null,null,null,null,null,null,null,null,null,null,82]
["Female <1",null,null,null,null,null,null,null,null,null,null,null,null,null,null,null,null,null,null,null,null,null,null,null,null,null,null,null,null,null,null,null,null,null,null,null,null,null,null,null,null,null,null,null,null,null,null,null,83]
["Female 1-4",null,null,null,null,null,null,null,null,null,null,null,null,null,null,null,null,null,null,null,null,null,null,null,null,null,null,null,null,null,null,null,null,null,null,null,null,null,null,null,null,null,null,null,null,null,null,null,84]
["Female 5-9",null,null,null,null,null,null,null,null,null,null,null,null,null,null,null,null,null,null,null,null,null,null,null,null,null,null,null,null,null,null,null,null,null,null,null,null,null,null,null,null,null,null,null,null,null,null,null,85]
["Female 10-14",null,null,null,null,null,null,null,null,null,null,null,null,null,null,null,null,null,null,null,null,null,null,null,null,null,null,null,null,null,null,null,null,null,null,null,null,null,null,null,null,null,null,null,null,null,null,null,86]
["Female 16-19",{"$f":"Prevalence!B87*AX88","v":5599.66},{"$f":"Prevalence!C87*AY88","v":718.26497943403228},{"$f":"Prevalence!D87*AZ88","v":36.311647879484028},{"$f":"Prevalence!E87*BA88","v":71.80832413650532},{"$f":"Prevalence!F87*BB88","v":389.64640000000003},{"$f":"Prevalence!G87*BC88","v":245.37629398843984},{"$f":"Prevalence!H87*BD88","v":158.7505260187574},{"$f":"Prevalence!I87*BE88","v":2325.8872898506293},{"$f":"Prevalence!J87*BF88","v":148.49119999999999},{"$f":"Prevalence!K87*BG88","v":742.76953496328304},{"$f":"Prevalence!L87*BH88","v":476.56740862754123},{"$f":"Prevalence!M87*BI88","v":0},{"$f":"Prevalence!N87*BJ88","v":0},{"$f":"Prevalence!O87*BK88","v":410.73413886273534},{"$f":"Prevalence!P87*BL88","v":0},{"$f":"Prevalence!Q87*BM88","v":128.0006059687926},{"$f":"Prevalence!R87*BN88","v":20.232142857142861},{"$f":"Prevalence!S87*BO88","v":52.979591836734691},{"$f":"Prevalence!T87*BP88","v":43.685133887349956},{"$f":"Prevalence!U87*BQ88","v":90.988941548183249},{"$f":"Prevalence!V87*BR88","v":71.618520192887289},{"$f":"Prevalence!W87*BS88","v":300.74880000000007},{"$f":"Prevalence!X87*BT88","v":241.42072829131655},{"$f":"Prevalence!Y87*BU88","v":22.583841626538256},{"$f":"Prevalence!Z87*BV88","v":25.566712675408329},{"$f":"Prevalence!AA87*BW88","v":38.603217158176946},{"$f":"Prevalence!AB87*BX88","v":274.13050499759942},{"$f":"Prevalence!AC87*BY88","v":0},{"$f":"Prevalence!AD87*BZ88","v":105.79151785714285},{"$f":"Prevalence!AE87*CA88","v":390.48777098387995},{"$f":"Prevalence!AF87*CB88","v":1519.4521028037384},{"$f":"Prevalence!AG87*CC88","v":103.90075512405609},{"$f":"Prevalence!AH87*CD88","v":196.31268436578171},{"$f":"Prevalence!AI87*CE88","v":33.687784679089027},{"$f":"Prevalence!AJ87*CF88","v":6.5698143664245352},{"$f":"Prevalence!AK87*CG88","v":360.46508758943997},{"$f":"Prevalence!AL87*CH88","v":601.9588235294118},{"$f":"Prevalence!AM87*CI88","v":0},{"$f":"Prevalence!AN87*CJ88","v":52.679324894514764},{"$f":"Prevalence!AO87*CK88","v":249.01132525332801},{"$f":"Prevalence!AP87*CL88","v":36.215668840150165},{"$f":"Prevalence!AQ87*CM88","v":0},{"$f":"Prevalence!AR87*CN88","v":120.33834586466166},{"$f":"Prevalence!AS87*CO88","v":271.66071428571433},{"$f":"Prevalence!AT87*CP88","v":52.731070496083554},{"$f":"Prevalence!AU87*CQ88","v":196.68307014322437},{"$f":"Prevalence!AV87*CR88","v":141.93766720171217},87,25453,2796,155,299,1703,1113,799,10250,649,3499,2383,null,null,1807,null,666,103,236,187,374,299,1344,996,106,121,187,1396,null,501,1703,6657,462,825,172,30,1315,2658,null,227,1117,155,null,485,1383,238,816,694]
["Female 20-24",{"$f":"Prevalence!B88*AX89","v":13255.77},{"$f":"Prevalence!C88*AY89","v":1428.052582501354},{"$f":"Prevalence!D88*AZ89","v":78.3628788108865},{"$f":"Prevalence!E88*BA89","v":185.52485082090419},{"$f":"Prevalence!F88*BB89","v":814.07040000000006},{"$f":"Prevalence!G88*BC89","v":573.09584566302726},{"$f":"Prevalence!H88*BD89","v":498.30578129542374},{"$f":"Prevalence!I88*BE89","v":5862.9378391722576},{"$f":"Prevalence!J88*BF89","v":320.54880000000003},{"$f":"Prevalence!K88*BG89","v":1504.5381763510343},{"$f":"Prevalence!L88*BH89","v":1173.8197251109329},{"$f":"Prevalence!M88*BI89","v":0},{"$f":"Prevalence!N88*BJ89","v":0},{"$f":"Prevalence!O88*BK89","v":1074.341398635705},{"$f":"Prevalence!P88*BL89","v":0},{"$f":"Prevalence!Q88*BM89","v":407.35327980609003},{"$f":"Prevalence!R88*BN89","v":63.642857142857146},{"$f":"Prevalence!S88*BO89","v":106.74489795918369},{"$f":"Prevalence!T88*BP89","v":79.544321329639899},{"$f":"Prevalence!U88*BQ89","v":182.09952606635073},{"$f":"Prevalence!V88*BR89","v":185.0344710669078},{"$f":"Prevalence!W88*BS89","v":825.38091428571443},{"$f":"Prevalence!X88*BT89","v":466.11652661064431},{"$f":"Prevalence!Y88*BU89","v":42.504494382022472},{"$f":"Prevalence!Z88*BV89","v":44.055037957211873},{"$f":"Prevalence!AA88*BW89","v":83.605898123324394},{"$f":"Prevalence!AB88*BX89","v":762.30273667670542},{"$f":"Prevalence!AC88*BY89","v":0},{"$f":"Prevalence!AD88*BZ89","v":259.09419642857142},{"$f":"Prevalence!AE88*CA89","v":815.82823790995008},{"$f":"Prevalence!AF88*CB89","v":4070.8169225634183},{"$f":"Prevalence!AG88*CC89","v":238.49946062567426},{"$f":"Prevalence!AH88*CD89","v":424.3923303834809},{"$f":"Prevalence!AI88*CE89","v":75.503726708074538},{"$f":"Prevalence!AJ88*CF89","v":14.125100887812751},{"$f":"Prevalence!AK88*CG89","v":692.83308660251669},{"$f":"Prevalence!AL88*CH89","v":1239.9264705882356},{"$f":"Prevalence!AM88*CI89","v":0},{"$f":"Prevalence!AN88*CJ89","v":130.53797468354432},{"$f":"Prevalence!AO88*CK89","v":599.56666004371152},{"$f":"Prevalence!AP88*CL89","v":78.155749851807954},{"$f":"Prevalence!AQ88*CM89","v":0},{"$f":"Prevalence!AR88*CN89","v":275.04135338345867},{"$f":"Prevalence!AS88*CO89","v":545.97321428571433},{"$f":"Prevalence!AT88*CP89","v":138.25289071242076},{"$f":"Prevalence!AU88*CQ89","v":423.7363202350349},{"$f":"Prevalence!AV88*CR89","v":285.00020064205461},88,40169,3706,223,515,2372,1733,1672,17225,934,4725,3913,null,null,3151,null,1413,216,317,227,499,515,2459,1282,133,139,270,2588,null,818,2372,11890,707,1189,257,43,1685,3650,null,375,1793,223,null,739,1853,416,1172,929]
["Female 25-29",{"$f":"Prevalence!B89*AX90","v":17966.690000000002},{"$f":"Prevalence!C89*AY90","v":1789.4970839547459},{"$f":"Prevalence!D89*AZ90","v":97.530317574250489},{"$f":"Prevalence!E89*BA90","v":191.51797486330941},{"$f":"Prevalence!F89*BB90","v":1101.0064000000002},{"$f":"Prevalence!G89*BC90","v":682.98706676395159},{"$f":"Prevalence!H89*BD90","v":663.28783894195124},{"$f":"Prevalence!I89*BE90","v":7984.198619296295},{"$f":"Prevalence!J89*BF90","v":460.61600000000004},{"$f":"Prevalence!K89*BG90","v":2156.2972634750167},{"$f":"Prevalence!L89*BH90","v":1742.9444403162338},{"$f":"Prevalence!M89*BI90","v":0},{"$f":"Prevalence!N89*BJ90","v":0},{"$f":"Prevalence!O89*BK90","v":1401.6764840975247},{"$f":"Prevalence!P89*BL90","v":0},{"$f":"Prevalence!Q89*BM90","v":546.94662424885132},{"$f":"Prevalence!R89*BN90","v":87.151785714285737},{"$f":"Prevalence!S89*BO90","v":144.79591836734696},{"$f":"Prevalence!T89*BP90","v":110.49769159741462},{"$f":"Prevalence!U89*BQ90","v":230.14849921011063},{"$f":"Prevalence!V89*BR90","v":191.01175406871613},{"$f":"Prevalence!W89*BS90","v":1051.878285714286},{"$f":"Prevalence!X89*BT90","v":622.0506069094306},{"$f":"Prevalence!Y89*BU90","v":52.886088817549499},{"$f":"Prevalence!Z89*BV90","v":56.579077524729712},{"$f":"Prevalence!AA89*BW90","v":99.660857908847191},{"$f":"Prevalence!AB89*BX90","v":1163.7157697176031},{"$f":"Prevalence!AC89*BY90","v":0},{"$f":"Prevalence!AD89*BZ90","v":316.55870535714291},{"$f":"Prevalence!AE89*CA90","v":1103.3838243468595},{"$f":"Prevalence!AF89*CB90","v":5550.6574877614603},{"$f":"Prevalence!AG89*CC90","v":346.37674012431302},{"$f":"Prevalence!AH89*CD90","v":554.39134709931182},{"$f":"Prevalence!AI89*CE90","v":86.516356107660471},{"$f":"Prevalence!AJ89*CF90","v":10.700834005918752},{"$f":"Prevalence!AK89*CG90","v":819.73723168023696},{"$f":"Prevalence!AL89*CH90","v":1751.5544117647062},{"$f":"Prevalence!AM89*CI90","v":0},{"$f":"Prevalence!AN89*CJ90","v":190.50632911392407},{"$f":"Prevalence!AO89*CK90","v":838.76912378303211},{"$f":"Prevalence!AP89*CL90","v":97.272525192649681},{"$f":"Prevalence!AQ89*CM90","v":0},{"$f":"Prevalence!AR89*CN90","v":349.65789473684214},{"$f":"Prevalence!AS89*CO90","v":818.15178571428589},{"$f":"Prevalence!AT89*CP90","v":144.63782170831783},{"$f":"Prevalence!AU89*CQ90","v":554.96792753090949},{"$f":"Prevalence!AV89*CR90","v":425.32958801498137},89,41783,3564,213,408,2462,1585,1708,18002,1030,5197,4459,null,null,3155,null,1456,227,330,242,484,408,2405,1313,127,137,247,3032,null,767,2462,12442,788,1192,226,25,1530,3957,null,420,1925,213,null,721,2131,334,1178,1064]
["Female 30-34",{"$f":"Prevalence!B90*AX91","v":14240.12},{"$f":"Prevalence!C90*AY91","v":1395.0538695367197},{"$f":"Prevalence!D90*AZ91","v":75.668788806924766},{"$f":"Prevalence!E90*BA91","v":172.15221520715852},{"$f":"Prevalence!F90*BB91","v":875.36799999999994},{"$f":"Prevalence!G90*BC91","v":537.310550154054},{"$f":"Prevalence!H90*BD91","v":467.41905931430244},{"$f":"Prevalence!I90*BE91","v":6363.6276250313213},{"$f":"Prevalence!J90*BF91","v":352.1232},{"$f":"Prevalence!K90*BG91","v":1751.1984899765689},{"$f":"Prevalence!L90*BH91","v":1432.8474653322314},{"$f":"Prevalence!M90*BI91","v":0},{"$f":"Prevalence!N90*BJ91","v":0},{"$f":"Prevalence!O90*BK91","v":1055.733656418776},{"$f":"Prevalence!P90*BL91","v":0},{"$f":"Prevalence!Q90*BM91","v":389.06872696056155},{"$f":"Prevalence!R90*BN91","v":55.982142857142861},{"$f":"Prevalence!S90*BO91","v":118.65306122448979},{"$f":"Prevalence!T90*BP91","v":77.070175438596493},{"$f":"Prevalence!U90*BQ91","v":189.93996840442338},{"$f":"Prevalence!V90*BR91","v":171.69718203737193},{"$f":"Prevalence!W90*BS91","v":787.32960000000014},{"$f":"Prevalence!X90*BT91","v":458.8668534080299},{"$f":"Prevalence!Y90*BU91","v":48.944569288389516},{"$f":"Prevalence!Z90*BV91","v":56.569473199907989},{"$f":"Prevalence!AA90*BW91","v":96.630026809651483},{"$f":"Prevalence!AB90*BX91","v":959.20684387412155},{"$f":"Prevalence!AC90*BY91","v":0},{"$f":"Prevalence!AD90*BZ91","v":254.58303571428573},{"$f":"Prevalence!AE90*CA91","v":877.25819899944418},{"$f":"Prevalence!AF90*CB91","v":4344.6117044948824},{"$f":"Prevalence!AG90*CC91","v":271.91657677094571},{"$f":"Prevalence!AH90*CD91","v":439.7836774827926},{"$f":"Prevalence!AI90*CE91","v":72.058385093167701},{"$f":"Prevalence!AJ90*CF91","v":9.4565509819747113},{"$f":"Prevalence!AK90*CG91","v":708.79422649888977},{"$f":"Prevalence!AL90*CH91","v":1384.7647058823532},{"$f":"Prevalence!AM90*CI91","v":0},{"$f":"Prevalence!AN90*CJ91","v":138.69198312236287},{"$f":"Prevalence!AO90*CK91","v":695.80091396781245},{"$f":"Prevalence!AP90*CL91","v":75.468780873345196},{"$f":"Prevalence!AQ90*CM91","v":0},{"$f":"Prevalence!AR90*CN91","v":236.14285714285717},{"$f":"Prevalence!AS90*CO91","v":710.46428571428578},{"$f":"Prevalence!AT90*CP91","v":99.882879522566228},{"$f":"Prevalence!AU90*CQ91","v":448.38744032317294},{"$f":"Prevalence!AV90*CR91","v":336.30711610486895},90,37474,3144,187,415,2215,1411,1362,16236,891,4776,4148,null,null,2689,null,1172,165,306,191,452,415,2037,1096,133,155,271,2828,null,698,2215,11020,700,1070,213,25,1497,3540,null,346,1807,187,null,551,2094,261,1077,952]
["Female 35-39",{"$f":"Prevalence!B91*AX92","v":12483.9},{"$f":"Prevalence!C91*AY92","v":1409.9067934188906},{"$f":"Prevalence!D91*AZ92","v":78.075367229436026},{"$f":"Prevalence!E91*BA92","v":137.51435985824833},{"$f":"Prevalence!F91*BB92","v":771.45120000000009},{"$f":"Prevalence!G91*BC92","v":535.03576379714093},{"$f":"Prevalence!H91*BD92","v":406.45842382524717},{"$f":"Prevalence!I91*BE92","v":5437.7491396178784},{"$f":"Prevalence!J91*BF92","v":314.34000000000003},{"$f":"Prevalence!K91*BG92","v":1638.8538500069997},{"$f":"Prevalence!L91*BH92","v":1138.3676041471476},{"$f":"Prevalence!M91*BI92","v":0},{"$f":"Prevalence!N91*BJ92","v":0},{"$f":"Prevalence!O91*BK92","v":853.83810358090534},{"$f":"Prevalence!P91*BL92","v":0},{"$f":"Prevalence!Q91*BM92","v":339.00242387517045},{"$f":"Prevalence!R91*BN92","v":46.312500000000007},{"$f":"Prevalence!S91*BO92","v":94.714285714285708},{"$f":"Prevalence!T91*BP92","v":81.583102493074804},{"$f":"Prevalence!U91*BQ92","v":194.93838862559241},{"$f":"Prevalence!V91*BR92","v":137.15088155515372},{"$f":"Prevalence!W91*BS92","v":638.6640000000001},{"$f":"Prevalence!X91*BT92","v":464.49691876750705},{"$f":"Prevalence!Y91*BU92","v":45.700321027287323},{"$f":"Prevalence!Z91*BV92","v":53.188750862663909},{"$f":"Prevalence!AA91*BW92","v":83.071045576407514},{"$f":"Prevalence!AB91*BX92","v":710.14010737200465},{"$f":"Prevalence!AC91*BY92","v":0},{"$f":"Prevalence!AD91*BZ92","v":248.18102678571429},{"$f":"Prevalence!AE91*CA92","v":773.11700944969436},{"$f":"Prevalence!AF91*CB92","v":3645.2470794392525},{"$f":"Prevalence!AG91*CC92","v":230.43396517182924},{"$f":"Prevalence!AH91*CD92","v":409.17404129793516},{"$f":"Prevalence!AI91*CE92","v":60.066459627329195},{"$f":"Prevalence!AJ91*CF92","v":10.09362389023406},{"$f":"Prevalence!AK91*CG92","v":732.30606957809039},{"$f":"Prevalence!AL91*CH92","v":1312.0058823529414},{"$f":"Prevalence!AM91*CI92","v":0},{"$f":"Prevalence!AN91*CJ92","v":111.48734177215191},{"$f":"Prevalence!AO91*CK92","v":568.68090602026632},{"$f":"Prevalence!AP91*CL92","v":77.868998221695321},{"$f":"Prevalence!AQ91*CM92","v":0},{"$f":"Prevalence!AR91*CN92","v":223.44360902255642},{"$f":"Prevalence!AS91*CO92","v":648.37500000000011},{"$f":"Prevalence!AT91*CP92","v":99.762029093621805},{"$f":"Prevalence!AU91*CQ92","v":417.45850165258901},{"$f":"Prevalence!AV91*CR92","v":310.35152487961483},91,32010,3096,188,323,1902,1369,1154,13518,775,4355,3211,null,null,2119,null,995,133,238,197,452,323,1610,1081,121,142,227,2040,null,663,1902,9009,578,970,173,26,1507,3268,null,271,1439,188,null,508,1862,254,977,856]
["Female 40-44",{"$f":"Prevalence!B92*AX93","v":13880.55},{"$f":"Prevalence!C92*AY93","v":1628.8005914496873},{"$f":"Prevalence!D92*AZ93","v":76.041489005101297},{"$f":"Prevalence!E92*BA93","v":155.50464842269963},{"$f":"Prevalence!F92*BB93","v":948.53200000000004},{"$f":"Prevalence!G92*BC93","v":571.00143884102363},{"$f":"Prevalence!H92*BD93","v":386.28271127968429},{"$f":"Prevalence!I92*BE93","v":6186.6229608134654},{"$f":"Prevalence!J92*BF93","v":348.24400000000003},{"$f":"Prevalence!K92*BG93","v":1852.5624376601834},{"$f":"Prevalence!L92*BH93","v":1140.1947519198966},{"$f":"Prevalence!M92*BI93","v":0},{"$f":"Prevalence!N92*BJ93","v":0},{"$f":"Prevalence!O92*BK93","v":883.44931357186465},{"$f":"Prevalence!P92*BL93","v":0},{"$f":"Prevalence!Q92*BM93","v":315.79947482704642},{"$f":"Prevalence!R92*BN93","v":47.241071428571431},{"$f":"Prevalence!S92*BO93","v":102.69387755102042},{"$f":"Prevalence!T92*BP93","v":97.829639889196685},{"$f":"Prevalence!U92*BQ93","v":206.21800947867297},{"$f":"Prevalence!V92*BR93","v":155.09361814345991},{"$f":"Prevalence!W92*BS93","v":660.48171428571436},{"$f":"Prevalence!X92*BT93","v":560.11988795518209},{"$f":"Prevalence!Y92*BU93","v":54.464633493846982},{"$f":"Prevalence!Z92*BV93","v":50.816482631700026},{"$f":"Prevalence!AA92*BW93","v":94.434316353887382},{"$f":"Prevalence!AB92*BX93","v":700.80367509056782},{"$f":"Prevalence!AC92*BY93","v":0},{"$f":"Prevalence!AD92*BZ93","v":252.50022321428571},{"$f":"Prevalence!AE92*CA93","v":950.58018343524179},{"$f":"Prevalence!AF92*CB93","v":4079.8016243880729},{"$f":"Prevalence!AG92*CC93","v":248.11876508963888},{"$f":"Prevalence!AH92*CD93","v":533.06194690265488},{"$f":"Prevalence!AI92*CE93","v":72.467908902691519},{"$f":"Prevalence!AJ92*CF93","v":13.259079903147699},{"$f":"Prevalence!AK92*CG93","v":811.85011102886756},{"$f":"Prevalence!AL92*CH93","v":1499.1529411764707},{"$f":"Prevalence!AM92*CI93","v":0},{"$f":"Prevalence!AN92*CJ93","v":110.84388185654009},{"$f":"Prevalence!AO92*CK93","v":691.73753228690634},{"$f":"Prevalence!AP92*CL93","v":75.840495949417104},{"$f":"Prevalence!AQ92*CM93","v":0},{"$f":"Prevalence!AR92*CN93","v":264.98120300751879},{"$f":"Prevalence!AS92*CO93","v":684.16964285714289},{"$f":"Prevalence!AT92*CP93","v":121.10220067139129},{"$f":"Prevalence!AU92*CQ93","v":471.8553066470804},{"$f":"Prevalence!AV92*CR93","v":311.29046281433926},92,37515,3770,193,385,2465,1540,1156,16211,905,5189,3390,null,null,2311,null,977,143,272,249,504,385,1755,1374,152,143,272,2122,null,711,2465,10628,656,1332,220,36,1761,3936,null,284,1845,193,null,635,2071,325,1164,905]
["Female 45-49",{"$f":"Prevalence!B93*AX94","v":16986.64},{"$f":"Prevalence!C93*AY94","v":2071.5625157925733},{"$f":"Prevalence!D93*AZ94","v":82.931118382821566},{"$f":"Prevalence!E93*BA94","v":207.49963897638992},{"$f":"Prevalence!F93*BB94","v":1154.9823999999999},{"$f":"Prevalence!G93*BC94","v":711.21646397727477},{"$f":"Prevalence!H93*BD94","v":462.54220847517792},{"$f":"Prevalence!I93*BE94","v":7660.6785273519254},{"$f":"Prevalence!J93*BF94","v":419.16159999999996},{"$f":"Prevalence!K93*BG94","v":2209.4156387247353},{"$f":"Prevalence!L93*BH94","v":1292.7115943635863},{"$f":"Prevalence!M93*BI94","v":0},{"$f":"Prevalence!N93*BJ94","v":0},{"$f":"Prevalence!O93*BK94","v":1105.595379871801},{"$f":"Prevalence!P93*BL94","v":0},{"$f":"Prevalence!Q93*BM94","v":369.01075594606874},{"$f":"Prevalence!R93*BN94","v":63.25},{"$f":"Prevalence!S93*BO94","v":117.63265306122447},{"$f":"Prevalence!T93*BP94","v":110.264081255771},{"$f":"Prevalence!U93*BQ94","v":253.50394944707739},{"$f":"Prevalence!V93*BR94","v":206.95117540687158},{"$f":"Prevalence!W93*BS94","v":837.80022857142865},{"$f":"Prevalence!X93*BT94","v":722.3230625583567},{"$f":"Prevalence!Y93*BU94","v":70.734296415195288},{"$f":"Prevalence!Z93*BV94","v":71.417759374281104},{"$f":"Prevalence!AA93*BW94","v":121.79624664879354},{"$f":"Prevalence!AB93*BX94","v":757.5898913185805},{"$f":"Prevalence!AC93*BY94","v":0},{"$f":"Prevalence!AD93*BZ94","v":324.3428571428571},{"$f":"Prevalence!AE93*CA94","v":1157.4763757643134},{"$f":"Prevalence!AF93*CB94","v":5076.2527814864252},{"$f":"Prevalence!AG93*CC94","v":305.85503672882311},{"$f":"Prevalence!AH93*CD94","v":646.28515240904619},{"$f":"Prevalence!AI93*CE94","v":74.818219461697723},{"$f":"Prevalence!AJ93*CF94","v":18.833467850416998},{"$f":"Prevalence!AK93*CG94","v":1068.5117197137922},{"$f":"Prevalence!AL93*CH94","v":1793.1941176470589},{"$f":"Prevalence!AM93*CI94","v":0},{"$f":"Prevalence!AN93*CJ94","v":138.31223628691981},{"$f":"Prevalence!AO93*CK94","v":806.11007351480214},{"$f":"Prevalence!AP93*CL94","v":82.711914641375216},{"$f":"Prevalence!AQ93*CM94","v":0},{"$f":"Prevalence!AR93*CN94","v":294.27067669172931},{"$f":"Prevalence!AS93*CO94","v":839.92857142857144},{"$f":"Prevalence!AT93*CP94","v":143.57030958597539},{"$f":"Prevalence!AU93*CQ94","v":597.76227200391713},{"$f":"Prevalence!AV93*CR94","v":385.72685928303906},93,38606,4032,177,432,2524,1613,1164,16880,916,5204,3232,null,null,2432,null,960,161,262,236,521,432,1872,1490,166,169,295,1929,null,768,2524,11120,680,1358,191,43,1949,3959,null,298,1808,177,null,593,2138,324,1240,943]
["Female 50-54",{"$f":"Prevalence!B94*AX95","v":13174.59},{"$f":"Prevalence!C94*AY95","v":1580.4118205631182},{"$f":"Prevalence!D94*AZ95","v":66.585552548508389},{"$f":"Prevalence!E94*BA95","v":148.63820940143756},{"$f":"Prevalence!F94*BB95","v":859.25840000000005},{"$f":"Prevalence!G94*BC95","v":551.72087077626179},{"$f":"Prevalence!H94*BD95","v":349.19155128656581},{"$f":"Prevalence!I94*BE95","v":5914.1383026171288},{"$f":"Prevalence!J94*BF95","v":339.00880000000001},{"$f":"Prevalence!K94*BG95","v":1718.6809741561231},{"$f":"Prevalence!L94*BH95","v":1034.5837925975227},{"$f":"Prevalence!M94*BI95","v":0},{"$f":"Prevalence!N94*BJ95","v":0},{"$f":"Prevalence!O94*BK95","v":909.06208034352846},{"$f":"Prevalence!P94*BL95","v":0},{"$f":"Prevalence!Q94*BM95","v":279.27404938645657},{"$f":"Prevalence!R94*BN95","v":49.223214285714285},{"$f":"Prevalence!S94*BO95","v":108.73469387755102},{"$f":"Prevalence!T94*BP95","v":99.794090489381361},{"$f":"Prevalence!U94*BQ95","v":192.30647709320695},{"$f":"Prevalence!V94*BR95","v":148.24532851115129},{"$f":"Prevalence!W94*BS95","v":691.71817142857151},{"$f":"Prevalence!X94*BT95","v":518.1312791783381},{"$f":"Prevalence!Y94*BU95","v":53.74799357945426},{"$f":"Prevalence!Z94*BV95","v":52.593282723717508},{"$f":"Prevalence!AA94*BW95","v":86.796246648793556},{"$f":"Prevalence!AB94*BX95","v":623.5237222294968},{"$f":"Prevalence!AC94*BY95","v":0},{"$f":"Prevalence!AD94*BZ95","v":258.18236607142859},{"$f":"Prevalence!AE94*CA95","v":861.11381322957197},{"$f":"Prevalence!AF94*CB95","v":3896.3103582554518},{"$f":"Prevalence!AG94*CC95","v":237.15010016951766},{"$f":"Prevalence!AH94*CD95","v":516.65388397246807},{"$f":"Prevalence!AI94*CE95","v":66.209316770186334},{"$f":"Prevalence!AJ94*CF95","v":11.785848802797954},{"$f":"Prevalence!AK94*CG95","v":821.53145817912662},{"$f":"Prevalence!AL94*CH95","v":1360.5117647058826},{"$f":"Prevalence!AM94*CI95","v":0},{"$f":"Prevalence!AN94*CJ95","v":98.354430379746844},{"$f":"Prevalence!AO94*CK95","v":654.99483409497316},{"$f":"Prevalence!AP94*CL95","v":66.409553447935195},{"$f":"Prevalence!AQ94*CM95","v":0},{"$f":"Prevalence!AR94*CN95","v":252.4624060150376},{"$f":"Prevalence!AS94*CO95","v":678.88392857142856},{"$f":"Prevalence!AT94*CP95","v":108.43304737038419},{"$f":"Prevalence!AU94*CQ95","v":444.28987636185582},{"$f":"Prevalence!AV94*CR95","v":288.58861690743714},94,35607,3658,169,368,2233,1488,1045,15497,881,4814,3076,null,null,2378,null,864,149,288,254,470,368,1838,1271,150,148,250,1888,null,727,2233,10150,627,1291,201,32,1782,3572,null,252,1747,169,null,605,2055,291,1096,839]
["Female 55-59",{"$f":"Prevalence!B95*AX96","v":14989.5},{"$f":"Prevalence!C95*AY96","v":1926.0926056321307},{"$f":"Prevalence!D95*AZ96","v":88.383189853289565},{"$f":"Prevalence!E95*BA96","v":181.75867997458397},{"$f":"Prevalence!F95*BB96","v":991.12},{"$f":"Prevalence!G95*BC96","v":629.32415512840078},{"$f":"Prevalence!H95*BD96","v":418.1448034286305},{"$f":"Prevalence!I95*BE96","v":6470.1955517662964},{"$f":"Prevalence!J95*BF96","v":412.36},{"$f":"Prevalence!K95*BG96","v":2066.8403230680874},{"$f":"Prevalence!L95*BH96","v":1134.0133564698006},{"$f":"Prevalence!M95*BI96","v":0},{"$f":"Prevalence!N95*BJ96","v":0},{"$f":"Prevalence!O95*BK96","v":1020.274594070914},{"$f":"Prevalence!P95*BL96","v":0},{"$f":"Prevalence!Q95*BM96","v":335.46432358733523},{"$f":"Prevalence!R95*BN96","v":56.696428571428577},{"$f":"Prevalence!S95*BO96","v":108.16326530612245},{"$f":"Prevalence!T95*BP96","v":115.21237303785782},{"$f":"Prevalence!U95*BQ96","v":231.12164296998421},{"$f":"Prevalence!V95*BR96","v":181.27825497287523},{"$f":"Prevalence!W95*BS96","v":772.52000000000021},{"$f":"Prevalence!X95*BT96","v":624.70588235294122},{"$f":"Prevalence!Y95*BU96","v":64.400749063670418},{"$f":"Prevalence!Z95*BV96","v":58.106165171382571},{"$f":"Prevalence!AA95*BW96","v":87.734584450402139},{"$f":"Prevalence!AB95*BX96","v":659.61983326786253},{"$f":"Prevalence!AC95*BY96","v":0},{"$f":"Prevalence!AD95*BZ96","v":272.58928571428572},{"$f":"Prevalence!AE95*CA96","v":993.26014452473601},{"$f":"Prevalence!AF95*CB96","v":4162.9464285714284},{"$f":"Prevalence!AG95*CC96","v":294.4059177068886},{"$f":"Prevalence!AH95*CD96","v":604.08062930186827},{"$f":"Prevalence!AI95*CE96","v":71.666666666666671},{"$f":"Prevalence!AJ95*CF96","v":15.429109496906106},{"$f":"Prevalence!AK95*CG96","v":983.70959782876889},{"$f":"Prevalence!AL95*CH96","v":1633.1617647058824},{"$f":"Prevalence!AM95*CI96","v":0},{"$f":"Prevalence!AN95*CJ96","v":128.69198312236287},{"$f":"Prevalence!AO95*CK96","v":680.94575799721838},{"$f":"Prevalence!AP95*CL96","v":88.149575182770207},{"$f":"Prevalence!AQ95*CM96","v":0},{"$f":"Prevalence!AR95*CN96","v":330.4511278195489},{"$f":"Prevalence!AS95*CO96","v":851.33928571428578},{"$f":"Prevalence!AT95*CP96","v":135.9567325624767},{"$f":"Prevalence!AU95*CQ96","v":517.12571918227445},{"$f":"Prevalence!AV95*CR96","v":341.64325842696633},95,29979,3299,166,333,1906,1256,926,12546,793,4284,2495,null,null,1975,null,768,127,212,217,418,333,1519,1134,133,121,187,1478,null,568,1906,8025,576,1117,161,31,1579,3173,null,244,1344,166,null,586,1907,270,944,735]
["Female 60-64",{"$f":"Prevalence!B96*AX97","v":20510.25},{"$f":"Prevalence!C96*AY97","v":2669.3226410882394},{"$f":"Prevalence!D96*AZ97","v":127.78292508909334},{"$f":"Prevalence!E96*BA97","v":237.43250987670882},{"$f":"Prevalence!F96*BB97","v":1491.3600000000001},{"$f":"Prevalence!G96*BC97","v":859.05753500608546},{"$f":"Prevalence!H96*BD97","v":523.58412481155187},{"$f":"Prevalence!I96*BE97","v":8535.6453512899698},{"$f":"Prevalence!J96*BF97","v":581.1},{"$f":"Prevalence!K96*BG97","v":2938.1553612242415},{"$f":"Prevalence!L96*BH97","v":1588.5277278003821},{"$f":"Prevalence!M96*BI97","v":0},{"$f":"Prevalence!N96*BJ97","v":0},{"$f":"Prevalence!O96*BK97","v":1435.1001632045566},{"$f":"Prevalence!P96*BL97","v":0},{"$f":"Prevalence!Q96*BM97","v":422.60642326920163},{"$f":"Prevalence!R96*BN97","v":65.625},{"$f":"Prevalence!S96*BO97","v":143.11224489795919},{"$f":"Prevalence!T96*BP97","v":186.35734072022163},{"$f":"Prevalence!U96*BQ97","v":315.16587677725119},{"$f":"Prevalence!V96*BR97","v":236.80492766726945},{"$f":"Prevalence!W96*BS97","v":1106.1428571428573},{"$f":"Prevalence!X96*BT97","v":891.61064425770314},{"$f":"Prevalence!Y96*BU97","v":67.548154093097907},{"$f":"Prevalence!Z96*BV97","v":84.998274672187719},{"$f":"Prevalence!AA96*BW97","v":136.52815013404825},{"$f":"Prevalence!AB96*BX97","v":904.4110907424382},{"$f":"Prevalence!AC96*BY97","v":0},{"$f":"Prevalence!AD96*BZ97","v":398.80580357142856},{"$f":"Prevalence!AE96*CA97","v":1494.5803224013343},{"$f":"Prevalence!AF96*CB97","v":5395.4898197596794},{"$f":"Prevalence!AG96*CC97","v":391.7745415318231},{"$f":"Prevalence!AH96*CD97","v":858.25958702064895},{"$f":"Prevalence!AI96*CE97","v":103.49378881987577},{"$f":"Prevalence!AJ96*CF97","v":22.397094430992738},{"$f":"Prevalence!AK96*CG97","v":1368.0977054034049},{"$f":"Prevalence!AL96*CH97","v":2321.5808823529414},{"$f":"Prevalence!AM96*CI97","v":0},{"$f":"Prevalence!AN96*CJ97","v":170.09493670886076},{"$f":"Prevalence!AO96*CK97","v":905.14106894496319},{"$f":"Prevalence!AP96*CL97","v":127.44516893894487},{"$f":"Prevalence!AQ96*CM97","v":0},{"$f":"Prevalence!AR96*CN97","v":427.16165413533838},{"$f":"Prevalence!AS96*CO97","v":1181.25},{"$f":"Prevalence!AT96*CP97","v":157.86087280865351},{"$f":"Prevalence!AU96*CQ97","v":700.91351450605953},{"$f":"Prevalence!AV96*CR97","v":492.2451845906902},96,27347,3048,160,290,1912,1143,773,11034,745,4060,2330,null,null,1852,null,645,98,187,234,380,290,1450,1079,93,118,194,1351,null,554,1912,6934,511,1058,155,30,1464,3007,null,215,1191,160,null,505,1764,209,853,706]
["Female 65-69",{"$f":"Prevalence!B97*AX98","v":23501.16},{"$f":"Prevalence!C97*AY98","v":2675},{"$f":"Prevalence!D97*AZ98","v":143},{"$f":"Prevalence!E97*BA98","v":308},{"$f":"Prevalence!F97*BB98","v":1715.9687999999999},{"$f":"Prevalence!G97*BC98","v":981.76572417085072},{"$f":"Prevalence!H97*BD98","v":544.88873801431942},{"$f":"Prevalence!I97*BE98","v":9987.9169978454393},{"$f":"Prevalence!J97*BF98","v":647.64959999999996},{"$f":"Prevalence!K97*BG98","v":3330.1602863641301},{"$f":"Prevalence!L97*BH98","v":1719.4278667435894},{"$f":"Prevalence!M97*BI98","v":0},{"$f":"Prevalence!N97*BJ98","v":0},{"$f":"Prevalence!O97*BK98","v":1639.5890215929264},{"$f":"Prevalence!P97*BL98","v":0},{"$f":"Prevalence!Q97*BM98","v":427.08801696712618},{"$f":"Prevalence!R97*BN98","v":70.151785714285722},{"$f":"Prevalence!S97*BO98","v":203.89795918367346},{"$f":"Prevalence!T97*BP98","v":189},{"$f":"Prevalence!U97*BQ98","v":355},{"$f":"Prevalence!V97*BR98","v":308},{"$f":"Prevalence!W97*BS98","v":1244.1386285714289},{"$f":"Prevalence!X97*BT98","v":931},{"$f":"Prevalence!Y97*BU98","v":76.089727126805784},{"$f":"Prevalence!Z97*BV98","v":69.871463077984828},{"$f":"Prevalence!AA97*BW98","v":134.7077747989276},{"$f":"Prevalence!AB97*BX98","v":971.43524944349861},{"$f":"Prevalence!AC97*BY98","v":0},{"$f":"Prevalence!AD97*BZ98","v":445.03080357142858},{"$f":"Prevalence!AE97*CA98","v":1719.6741245136186},{"$f":"Prevalence!AF97*CB98","v":6445.7973130841119},{"$f":"Prevalence!AG97*CC98","v":449.18369548466637},{"$f":"Prevalence!AH97*CD98","v":976.771878072763},{"$f":"Prevalence!AI97*CE98","v":116.58074534161491},{"$f":"Prevalence!AJ97*CF98","v":35.725854183481303},{"$f":"Prevalence!AK97*CG98","v":1301},{"$f":"Prevalence!AL97*CH98","v":2633.1220588235296},{"$f":"Prevalence!AM97*CI98","v":0},{"$f":"Prevalence!AN97*CJ98","v":169},{"$f":"Prevalence!AO97*CK98","v":1059.5799721835883},{"$f":"Prevalence!AP97*CL98","v":143},{"$f":"Prevalence!AQ97*CM98","v":0},{"$f":"Prevalence!AR97*CN98","v":443},{"$f":"Prevalence!AS97*CO98","v":1349.3392857142858},{"$f":"Prevalence!AT97*CP98","v":172.90675121223427},{"$f":"Prevalence!AU97*CQ98","v":703},{"$f":"Prevalence!AV97*CR98","v":557.28290529695028},97,24228,2675,143,308,1701,1010,622,9983,642,3558,1950,null,null,1636,null,504,81,206,189,355,308,1261,931,81,75,148,1122,null,478,1701,6405,453,931,135,37,1301,2637,null,169,1078,143,null,443,1558,177,703,618]
["Female 70-74",null,null,null,null,null,null,null,null,null,null,null,null,null,null,null,null,null,null,null,null,null,null,null,null,null,null,null,null,null,null,null,null,null,null,null,null,null,null,null,null,null,null,null,null,null,null,null,98]
["Female 75-79",null,null,null,null,null,null,null,null,null,null,null,null,null,null,null,null,null,null,null,null,null,null,null,null,null,null,null,null,null,null,null,null,null,null,null,null,null,null,null,null,null,null,null,null,null,null,null,99]
["Female 80-84",null,null,null,null,null,null,null,null,null,null,null,null,null,null,null,null,null,null,null,null,null,null,null,null,null,null,null,null,null,null,null,null,null,null,null,null,null,null,null,null,null,null,null,null,null,null,null,100]
["Female 85+",null,null,null,null,null,null,null,null,null,null,null,null,null,null,null,null,null,null,null,null,null,null,null,null,null,null,null,null,null,null,null,null,null,null,null,null,null,null,null,null,null,null,null,null,null,null,null,101]
[null,null,null,null,null,null,null,null,null,null,null,null,null,null,null,null,null,null,null,null,null,null,null,null,null,null,null,null,null,null,null,null,null,null,null,null,null,null,null,null,null,null,null,null,null,null,null,null,102]
["age/sex breakdown: Q2",null,null,null,null,null,null,null,null,null,null,null,null,null,null,null,null,null,null,null,null,null,null,null,null,null,null,null,null,null,null,null,null,null,null,null,null,null,null,null,null,null,null,null,null,null,null,null,103]
["Male <1",null,null,null,null,null,null,null,null,null,null,null,null,null,null,null,null,null,null,null,null,null,null,null,null,null,null,null,null,null,null,null,null,null,null,null,null,null,null,null,null,null,null,null,null,null,null,null,104]
["Male 1-4",null,null,null,null,null,null,null,null,null,null,null,null,null,null,null,null,null,null,null,null,null,null,null,null,null,null,null,null,null,null,null,null,null,null,null,null,null,null,null,null,null,null,null,null,null,null,null,105]
["Male 5-9",null,null,null,null,null,null,null,null,null,null,null,null,null,null,null,null,null,null,null,null,null,null,null,null,null,null,null,null,null,null,null,null,null,null,null,null,null,null,null,null,null,null,null,null,null,null,null,106]
["Male 10-14",null,null,null,null,null,null,null,null,null,null,null,null,null,null,null,null,null,null,null,null,null,null,null,null,null,null,null,null,null,null,null,null,null,null,null,null,null,null,null,null,null,null,null,null,null,null,null,107]
["Male 16-19",{"$f":"Prevalence!B108*AX109","v":2751.76},{"$f":"Prevalence!C108*AY109","v":308.74660080024796},{"$f":"Prevalence!D108*AZ109","v":37.18},{"$f":"Prevalence!E108*BA109","v":112.38053925608344},{"$f":"Prevalence!F108*BB109","v":203.02081354629436},{"$f":"Prevalence!G108*BC109","v":198.19993287259527},{"$f":"Prevalence!H108*BD109","v":124.08000000000001},{"$f":"Prevalence!I108*BE109","v":643.45347783897273},{"$f":"Prevalence!J108*BF109","v":146.8896},{"$f":"Prevalence!K108*BG109","v":448.43831719086256},{"$f":"Prevalence!L108*BH109","v":349.67899999999997},{"$f":"Prevalence!M108*BI109","v":11.056666666666667},{"$f":"Prevalence!N108*BJ109","v":2.6866666666666665},{"$f":"Prevalence!O108*BK109","v":206.63614798536449},{"$f":"Prevalence!P108*BL109","v":19.736666666666668},{"$f":"Prevalence!Q108*BM109","v":74.474501108647445},{"$f":"Prevalence!R108*BN109","v":28.221542643560991},{"$f":"Prevalence!S108*BO109","v":58.197647058823527},{"$f":"Prevalence!T108*BP109","v":45.269794721407621},{"$f":"Prevalence!U108*BQ109","v":28.2279792746114},{"$f":"Prevalence!V108*BR109","v":112.18835616438356},{"$f":"Prevalence!W108*BS109","v":116.05730994152044},{"$f":"Prevalence!X108*BT109","v":109.92857142857144},{"$f":"Prevalence!Y108*BU109","v":52.514546965918534},{"$f":"Prevalence!Z108*BV109","v":52.917333333333332},{"$f":"Prevalence!AA108*BW109","v":24.747295968534907},{"$f":"Prevalence!AB108*BX109","v":120.80196863530198},{"$f":"Prevalence!AC108*BY109","v":19.736666666666668},{"$f":"Prevalence!AD108*BZ109","v":122.96166666666666},{"$f":"Prevalence!AE108*CA109","v":202.67362560890743},{"$f":"Prevalence!AF108*CB109","v":339.57817359344074},{"$f":"Prevalence!AG108*CC109","v":100.62585034013604},{"$f":"Prevalence!AH108*CD109","v":37.337777777777767},{"$f":"Prevalence!AI108*CE109","v":62.992399565689453},{"$f":"Prevalence!AJ108*CF109","v":21.78409090909091},{"$f":"Prevalence!AK108*CG109","v":109.26784544859201},{"$f":"Prevalence!AL108*CH109","v":297.88384656942196},{"$f":"Prevalence!AM108*CI109","v":11.056666666666667},{"$f":"Prevalence!AN108*CJ109","v":39.133557800224459},{"$f":"Prevalence!AO108*CK109","v":75.981845688350987},{"$f":"Prevalence!AP108*CL109","v":37.384848484848483},{"$f":"Prevalence!AQ108*CM109","v":2.6866666666666665},{"$f":"Prevalence!AR108*CN109","v":88.108352144469535},{"$f":"Prevalence!AS108*CO109","v":184.7913570052298},{"$f":"Prevalence!AT108*CP109","v":46.601156069364166},{"$f":"Prevalence!AU108*CQ109","v":83.800194931773888},{"$f":"Prevalence!AV108*CR109","v":125.97872340425532},108,25016,2414,338,799,1758,1703,1504,5294,1391,3886,3830,107,26,1775,191,933,358,498,359,227,799,898,891,475,484,242,1417,191,1059,1758,2681,1032,271,592,213,826,2429,107,379,688,338,26,697,1717,417,677,1337]
["Male 20-24",{"$f":"Prevalence!B109*AX110","v":7593.4000000000005},{"$f":"Prevalence!C109*AY110","v":661.11816379837683},{"$f":"Prevalence!D109*AZ110","v":96},{"$f":"Prevalence!E109*BA110","v":220.95070182559127},{"$f":"Prevalence!F109*BB110","v":493.43149429495475},{"$f":"Prevalence!G109*BC110","v":486.05695383371739},{"$f":"Prevalence!H109*BD110","v":462.90000000000009},{"$f":"Prevalence!I109*BE110","v":2039.5068678008997},{"$f":"Prevalence!J109*BF110","v":318.14400000000001},{"$f":"Prevalence!K109*BG110","v":1021.1712393056324},{"$f":"Prevalence!L109*BH110","v":1039.492},{"$f":"Prevalence!M109*BI110","v":27.618181818181817},{"$f":"Prevalence!N109*BJ110","v":5.6363636363636358},{"$f":"Prevalence!O109*BK110","v":762.19899502719329},{"$f":"Prevalence!P109*BL110","v":47.721212121212119},{"$f":"Prevalence!Q109*BM110","v":324.80548276557147},{"$f":"Prevalence!R109*BN110","v":78.114478114478104},{"$f":"Prevalence!S109*BO110","v":133.43600713012478},{"$f":"Prevalence!T109*BP110","v":94.460143961610243},{"$f":"Prevalence!U109*BQ110","v":52.001884126236462},{"$f":"Prevalence!V109*BR110","v":220.57285180572853},{"$f":"Prevalence!W109*BS110","v":510.14460393407762},{"$f":"Prevalence!X109*BT110","v":242.49114521841796},{"$f":"Prevalence!Y109*BU110","v":119.60250887931686},{"$f":"Prevalence!Z109*BV110","v":111.52},{"$f":"Prevalence!AA109*BW110","v":47.412174845803165},{"$f":"Prevalence!AB109*BX110","v":523.13677313677317},{"$f":"Prevalence!AC109*BY110","v":47.721212121212119},{"$f":"Prevalence!AD109*BZ110","v":258.40000000000003},{"$f":"Prevalence!AE109*CA110","v":492.58767212838188},{"$f":"Prevalence!AF109*CB110","v":1328.3285784049142},{"$f":"Prevalence!AG109*CC110","v":220.71737786023499},{"$f":"Prevalence!AH109*CD110","v":109.72121212121212},{"$f":"Prevalence!AI109*CE110","v":143.74494126937122},{"$f":"Prevalence!AJ109*CF110","v":56.342975206611577},{"$f":"Prevalence!AK109*CG110","v":219.3534559742811},{"$f":"Prevalence!AL109*CH110","v":677.84489956288985},{"$f":"Prevalence!AM109*CI110","v":27.618181818181817},{"$f":"Prevalence!AN109*CJ110","v":150.56422813998572},{"$f":"Prevalence!AO109*CK110","v":185.93866043185255},{"$f":"Prevalence!AP109*CL110","v":96.528925619834723},{"$f":"Prevalence!AQ109*CM110","v":5.6363636363636358},{"$f":"Prevalence!AR109*CN110","v":195.36219987687258},{"$f":"Prevalence!AS109*CO110","v":427.17163376122915},{"$f":"Prevalence!AT109*CP110","v":171.28744088281661},{"$f":"Prevalence!AU109*CQ110","v":200.5263157894737},{"$f":"Prevalence!AV109*CR110","v":271.19646311135676},109,37967,2843,480,864,2350,2297,3086,9229,1657,4867,6262,147,30,3601,254,2238,545,628,412,230,864,2171,1081,595,561,255,3375,254,1224,2350,5768,1245,438,743,303,912,3040,147,802,926,480,30,850,2183,843,891,1583]
["Male 25-29",{"$f":"Prevalence!B110*AX111","v":6029.4400000000014},{"$f":"Prevalence!C110*AY111","v":529.63866685444361},{"$f":"Prevalence!D110*AZ111","v":68.480000000000018},{"$f":"Prevalence!E110*BA111","v":172.25971383069248},{"$f":"Prevalence!F110*BB111","v":372.74025049889525},{"$f":"Prevalence!G110*BC111","v":387.99914259882644},{"$f":"Prevalence!H110*BD111","v":384.24000000000007},{"$f":"Prevalence!I110*BE111","v":1656.1794636522986},{"$f":"Prevalence!J110*BF111","v":259.584},{"$f":"Prevalence!K110*BG111","v":826.50457075667714},{"$f":"Prevalence!L110*BH111","v":853.50560000000019},{"$f":"Prevalence!M110*BI111","v":23.447272727272733},{"$f":"Prevalence!N110*BJ111","v":2.705454545454546},{"$f":"Prevalence!O110*BK111","v":517.47406360524371},{"$f":"Prevalence!P110*BL111","v":32.31515151515152},{"$f":"Prevalence!Q110*BM111","v":267.50735738762353},{"$f":"Prevalence!R110*BN111","v":65.243505390294388},{"$f":"Prevalence!S110*BO111","v":109.46852049910873},{"$f":"Prevalence!T110*BP111","v":71.532924553452432},{"$f":"Prevalence!U110*BQ111","v":49.740932642487053},{"$f":"Prevalence!V110*BR111","v":171.96513075965134},{"$f":"Prevalence!W110*BS111","v":287.24125465178099},{"$f":"Prevalence!X110*BT111","v":204.58087367178283},{"$f":"Prevalence!Y110*BU111","v":83.621249905539202},{"$f":"Prevalence!Z110*BV111","v":88.579878787878798},{"$f":"Prevalence!AA110*BW111","v":30.641280057209265},{"$f":"Prevalence!AB110*BX111","v":434.0097673431008},{"$f":"Prevalence!AC110*BY111","v":32.31515151515152},{"$f":"Prevalence!AD110*BZ111","v":229.18222222222226},{"$f":"Prevalence!AE110*CA111","v":372.10282364353344},{"$f":"Prevalence!AF110*CB111","v":1131.0137507389418},{"$f":"Prevalence!AG110*CC111","v":184.37435580292723},{"$f":"Prevalence!AH110*CD111","v":75.351919191919194},{"$f":"Prevalence!AI110*CE111","v":101.22120225051822},{"$f":"Prevalence!AJ110*CF111","v":48.942148760330589},{"$f":"Prevalence!AK110*CG111","v":168.55581353813182},{"$f":"Prevalence!AL110*CH111","v":551.55169196011991},{"$f":"Prevalence!AM110*CI111","v":23.447272727272733},{"$f":"Prevalence!AN110*CJ111","v":132.76686052443628},{"$f":"Prevalence!AO110*CK111","v":154.53390180167793},{"$f":"Prevalence!AP110*CL111","v":68.857300275482103},{"$f":"Prevalence!AQ110*CM111","v":2.705454545454546},{"$f":"Prevalence!AR110*CN111","v":152.79622409193516},{"$f":"Prevalence!AS110*CO111","v":338.29332132222311},{"$f":"Prevalence!AT110*CP111","v":107.28323699421966},{"$f":"Prevalence!AU110*CQ111","v":150.51851851851856},{"$f":"Prevalence!AV110*CR111","v":235.18541033434656},110,37684,2847,428,842,2219,2292,3202,9368,1690,4924,6427,156,18,3056,215,2304,569,644,390,275,842,1528,1140,520,557,206,3500,215,1357,2219,6139,1300,376,654,329,876,3092,156,884,962,428,18,831,2161,660,836,1716]
["Male 30-34",{"$f":"Prevalence!B111*AX112","v":5205.7500000000009},{"$f":"Prevalence!C111*AY112","v":444.38860746348865},{"$f":"Prevalence!D111*AZ112","v":67.200000000000017},{"$f":"Prevalence!E111*BA112","v":147.49226536795112},{"$f":"Prevalence!F111*BB112","v":361.72727948792908},{"$f":"Prevalence!G111*BC112","v":347.72010857085598},{"$f":"Prevalence!H111*BD112","v":292.38750000000005},{"$f":"Prevalence!I111*BE112","v":1371.5125688903818},{"$f":"Prevalence!J111*BF112","v":246.67200000000003},{"$f":"Prevalence!K111*BG112","v":789.01057025042758},{"$f":"Prevalence!L111*BH112","v":741.14850000000013},{"$f":"Prevalence!M111*BI112","v":16.90909090909091},{"$f":"Prevalence!N111*BJ112","v":2.1136363636363638},{"$f":"Prevalence!O111*BK112","v":403.85328589610805},{"$f":"Prevalence!P111*BL112","v":30.859090909090913},{"$f":"Prevalence!Q111*BM112","v":192.66276960290267},{"$f":"Prevalence!R111*BN112","v":55.57594291539246},{"$f":"Prevalence!S111*BO112","v":106.29197860962567},{"$f":"Prevalence!T111*BP112","v":64.310850439882714},{"$f":"Prevalence!U111*BQ112","v":43.240697126707495},{"$f":"Prevalence!V111*BR112","v":147.24003735990038},{"$f":"Prevalence!W111*BS112","v":195.44577352472092},{"$f":"Prevalence!X111*BT112","v":173.45631641086192},{"$f":"Prevalence!Y111*BU112","v":69.952391747902979},{"$f":"Prevalence!Z111*BV112","v":81.701818181818197},{"$f":"Prevalence!AA111*BW112","v":30.399570930544385},{"$f":"Prevalence!AB111*BX112","v":375.49595049595052},{"$f":"Prevalence!AC111*BY112","v":30.859090909090913},{"$f":"Prevalence!AD111*BZ112","v":221.98333333333335},{"$f":"Prevalence!AE111*CA112","v":361.10868602517871},{"$f":"Prevalence!AF111*CB112","v":908.504896291156},{"$f":"Prevalence!AG111*CC112","v":178.03648732220162},{"$f":"Prevalence!AH111*CD112","v":75.715151515151518},{"$f":"Prevalence!AI111*CE112","v":87.20461948474977},{"$f":"Prevalence!AJ111*CF112","v":43.512396694214885},{"$f":"Prevalence!AK111*CG112","v":131.8646186819075},{"$f":"Prevalence!AL111*CH112","v":535.64240459702387},{"$f":"Prevalence!AM111*CI112","v":16.90909090909091},{"$f":"Prevalence!AN111*CJ112","v":108.13590449954087},{"$f":"Prevalence!AO111*CK112","v":121.68339980745428},{"$f":"Prevalence!AP111*CL112","v":67.570247933884303},{"$f":"Prevalence!AQ111*CM112","v":2.1136363636363638},{"$f":"Prevalence!AR111*CN112","v":135.48943156166635},{"$f":"Prevalence!AS111*CO112","v":313.18744838976056},{"$f":"Prevalence!AT111*CP112","v":81.376773515501853},{"$f":"Prevalence!AU111*CQ112","v":134.86576289207869},{"$f":"Prevalence!AV111*CR112","v":202.24095053882291},111,34705,2548,448,769,2297,2191,2599,8275,1713,5014,5953,120,15,2544,219,1770,517,667,374,255,769,1109,1031,464,548,218,3230,219,1402,2297,5260,1339,403,601,312,731,3203,120,768,808,448,15,786,2134,534,799,1574]
["Male 35-39",{"$f":"Prevalence!B112*AX113","v":5326.2700000000013},{"$f":"Prevalence!C112*AY113","v":512.13984806238318},{"$f":"Prevalence!D112*AZ113","v":70.38000000000001},{"$f":"Prevalence!E112*BA113","v":175.63534955302791},{"$f":"Prevalence!F112*BB113","v":390.3253090721729},{"$f":"Prevalence!G112*BC113","v":381.31242090046101},{"$f":"Prevalence!H112*BD113","v":274.89000000000004},{"$f":"Prevalence!I112*BE113","v":1264.9185567889881},{"$f":"Prevalence!J112*BF113","v":250.34880000000007},{"$f":"Prevalence!K112*BG113","v":890.28843283781794},{"$f":"Prevalence!L112*BH113","v":771.81700000000012},{"$f":"Prevalence!M112*BI113","v":19.962121212121215},{"$f":"Prevalence!N112*BJ113","v":3.5133333333333341},{"$f":"Prevalence!O112*BK113","v":346.87356652334483},{"$f":"Prevalence!P112*BL113","v":39.924242424242429},{"$f":"Prevalence!Q112*BM113","v":170.48659544446687},{"$f":"Prevalence!R112*BN113","v":60.671300157538695},{"$f":"Prevalence!S112*BO113","v":103.66787878787881},{"$f":"Prevalence!T112*BP113","v":69.572647294054931},{"$f":"Prevalence!U112*BQ113","v":50.927932171455495},{"$f":"Prevalence!V112*BR113","v":175.33499377334999},{"$f":"Prevalence!W112*BS113","v":155.3931951089846},{"$f":"Prevalence!X112*BT113","v":192.38902007083831},{"$f":"Prevalence!Y112*BU113","v":81.671427491876386},{"$f":"Prevalence!Z112*BV113","v":91.581575757575763},{"$f":"Prevalence!AA112*BW113","v":34.76892822025566},{"$f":"Prevalence!AB112*BX113","v":341.10842660842667},{"$f":"Prevalence!AC112*BY113","v":39.924242424242429},{"$f":"Prevalence!AD112*BZ113","v":240.99388888888896},{"$f":"Prevalence!AE112*CA113","v":389.65780983108755},{"$f":"Prevalence!AF112*CB113","v":778.49312463052934},{"$f":"Prevalence!AG112*CC113","v":177.36281179138325},{"$f":"Prevalence!AH112*CD113","v":71.118383838383849},{"$f":"Prevalence!AI112*CE113","v":103.27193761721449},{"$f":"Prevalence!AJ112*CF113","v":43.623966942148769},{"$f":"Prevalence!AK112*CG113","v":164.98410430434009},{"$f":"Prevalence!AL112*CH113","v":602.13363783704153},{"$f":"Prevalence!AM112*CI113","v":19.962121212121215},{"$f":"Prevalence!AN112*CJ113","v":91.915518824609734},{"$f":"Prevalence!AO112*CK113","v":127.66717095310138},{"$f":"Prevalence!AP112*CL113","v":70.767768595041346},{"$f":"Prevalence!AQ112*CM113","v":3.5133333333333341},{"$f":"Prevalence!AR112*CN113","v":151.40570490457628},{"$f":"Prevalence!AS112*CO113","v":350.62122463278536},{"$f":"Prevalence!AT112*CP113","v":88.427395340690154},{"$f":"Prevalence!AU112*CQ113","v":130.84848484848487},{"$f":"Prevalence!AV112*CR113","v":249.15639679469473},112,31331,2591,414,808,2187,2120,2156,6734,1534,4992,5470,125,22,1928,250,1382,498,574,357,265,808,778,1009,478,542,220,2589,250,1343,2187,3977,1177,334,628,276,807,3177,125,576,748,414,22,775,2108,512,684,1711]
["Male 40-44",{"$f":"Prevalence!B113*AX114","v":6720.8699999999981},{"$f":"Prevalence!C113*AY114","v":739.18266171857181},{"$f":"Prevalence!D113*AZ114","v":98.229999999999976},{"$f":"Prevalence!E113*BA114","v":252.17533225719382},{"$f":"Prevalence!F113*BB114","v":539.17364367034008},{"$f":"Prevalence!G113*BC114","v":525.47898713768825},{"$f":"Prevalence!H113*BD114","v":308.7974999999999},{"$f":"Prevalence!I113*BE114","v":1523.1109773107321},{"$f":"Prevalence!J113*BF114","v":333.06239999999991},{"$f":"Prevalence!K113*BG114","v":1140.734508407402},{"$f":"Prevalence!L113*BH114","v":896.05139999999972},{"$f":"Prevalence!M113*BI114","v":23.381515151515142},{"$f":"Prevalence!N113*BJ114","v":1.0709090909090904},{"$f":"Prevalence!O113*BK114","v":407.38806046343751},{"$f":"Prevalence!P113*BL114","v":60.506363636363609},{"$f":"Prevalence!Q113*BM114","v":180.75468655512995},{"$f":"Prevalence!R113*BN114","v":69.306891545423639},{"$f":"Prevalence!S113*BO114","v":129.59016042780743},{"$f":"Prevalence!T113*BP114","v":96.707011463609675},{"$f":"Prevalence!U113*BQ114","v":82.694300518134696},{"$f":"Prevalence!V113*BR114","v":251.74408468244079},{"$f":"Prevalence!W113*BS114","v":171.66565656565649},{"$f":"Prevalence!X113*BT114","v":273.2007083825265},{"$f":"Prevalence!Y113*BU114","v":103.31043603113426},{"$f":"Prevalence!Z113*BV114","v":119.54109090909087},{"$f":"Prevalence!AA113*BW114","v":44.335031733261808},{"$f":"Prevalence!AB113*BX114","v":359.59259259259244},{"$f":"Prevalence!AC113*BY114","v":60.506363636363609},{"$f":"Prevalence!AD113*BZ114","v":316.47666666666657},{"$f":"Prevalence!AE113*CA114","v":538.25159739355956},{"$f":"Prevalence!AF113*CB114","v":852.79708021692738},{"$f":"Prevalence!AG113*CC114","v":232.75489589775296},{"$f":"Prevalence!AH113*CD114","v":88.052525252525214},{"$f":"Prevalence!AI113*CE114","v":126.26532425229489},{"$f":"Prevalence!AJ113*CF114","v":61.298553719008247},{"$f":"Prevalence!AK113*CG114","v":234.89099243912594},{"$f":"Prevalence!AL113*CH114","v":746.05304258140541},{"$f":"Prevalence!AM113*CI114","v":23.381515151515142},{"$f":"Prevalence!AN113*CJ114","v":109.68472604836235},{"$f":"Prevalence!AO113*CK114","v":167.10383716132574},{"$f":"Prevalence!AP113*CL114","v":98.771212121212088},{"$f":"Prevalence!AQ113*CM114","v":1.0709090909090904},{"$f":"Prevalence!AR113*CN114","v":226.20644366919757},{"$f":"Prevalence!AS113*CO114","v":486.49233040562507},{"$f":"Prevalence!AT113*CP114","v":125.66158696794531},{"$f":"Prevalence!AU113*CQ114","v":193.06565656565652},{"$f":"Prevalence!AV113*CR114","v":312.48411163304769},113,35373,3346,517,1038,2703,2614,2167,7255,1826,5723,5682,131,6,2026,339,1311,509,642,444,385,1038,769,1282,541,633,251,2442,339,1578,2703,3898,1382,370,687,347,1028,3522,131,615,876,517,6,1036,2617,651,903,1920]
["Male 45-49",{"$f":"Prevalence!B114*AX115","v":8545.8799999999992},{"$f":"Prevalence!C114*AY115","v":982.78249727502259},{"$f":"Prevalence!D114*AZ115","v":128.57},{"$f":"Prevalence!E114*BA115","v":337.61471822933515},{"$f":"Prevalence!F114*BB115","v":676.83053203620068},{"$f":"Prevalence!G114*BC115","v":653.87039189981635},{"$f":"Prevalence!H114*BD115","v":369.15},{"$f":"Prevalence!I114*BE115","v":1935.2553383952136},{"$f":"Prevalence!J114*BF115","v":473.17439999999993},{"$f":"Prevalence!K114*BG115","v":1414.9106984552006},{"$f":"Prevalence!L114*BH115","v":1100.3475999999998},{"$f":"Prevalence!M114*BI115","v":36.298181818181817},{"$f":"Prevalence!N114*BJ115","v":6.2657575757575747},{"$f":"Prevalence!O114*BK115","v":533.8038754537157},{"$f":"Prevalence!P114*BL115","v":79.510303030303021},{"$f":"Prevalence!Q114*BM115","v":213.46744607941943},{"$f":"Prevalence!R114*BN115","v":82.90884378957773},{"$f":"Prevalence!S114*BO115","v":174.95415329768267},{"$f":"Prevalence!T114*BP115","v":143.96001066382297},{"$f":"Prevalence!U114*BQ115","v":98.803579839849263},{"$f":"Prevalence!V114*BR115","v":337.03735990037353},{"$f":"Prevalence!W114*BS115","v":232.66682615629981},{"$f":"Prevalence!X114*BT115","v":362.70484061393154},{"$f":"Prevalence!Y114*BU115","v":157.19186881281644},{"$f":"Prevalence!Z114*BV115","v":176.48387878787878},{"$f":"Prevalence!AA114*BW115","v":69.919013140252062},{"$f":"Prevalence!AB114*BX115","v":399.64549397882729},{"$f":"Prevalence!AC114*BY115","v":79.510303030303021},{"$f":"Prevalence!AD114*BZ115","v":402.28277777777777},{"$f":"Prevalence!AE114*CA115","v":675.67307732860957},{"$f":"Prevalence!AF114*CB115","v":982.54401521577074},{"$f":"Prevalence!AG114*CC115","v":325.58915687487109},{"$f":"Prevalence!AH114*CD115","v":129.63636363636363},{"$f":"Prevalence!AI114*CE115","v":182.66054683644256},{"$f":"Prevalence!AJ114*CF115","v":76.555785123966942},{"$f":"Prevalence!AK114*CG115","v":328.59724950884078},{"$f":"Prevalence!AL114*CH115","v":925.93836255586655},{"$f":"Prevalence!AM114*CI115","v":36.298181818181817},{"$f":"Prevalence!AN114*CJ115","v":132.99214365881028},{"$f":"Prevalence!AO114*CK115","v":226.0680786686838},{"$f":"Prevalence!AP114*CL115","v":129.27837465564738},{"$f":"Prevalence!AQ114*CM115","v":6.2657575757575747},{"$f":"Prevalence!AR114*CN115","v":285.72296326698131},{"$f":"Prevalence!AS114*CO115","v":612.99031604233903},{"$f":"Prevalence!AT114*CP115","v":151.88299176738482},{"$f":"Prevalence!AU114*CQ115","v":258.29860003544212},{"$f":"Prevalence!AV114*CR115","v":380.04338214976508},114,37156,3675,559,1148,2803,2687,2140,7615,2143,5864,5764,168,29,2193,368,1279,503,716,546,380,1148,861,1406,680,772,327,2242,368,1657,2803,3710,1597,450,821,358,1188,3611,168,616,979,559,29,1081,2724,650,998,1929]
["Male 50-54",{"$f":"Prevalence!B115*AX116","v":9062.82},{"$f":"Prevalence!C115*AY116","v":1029.9537317197996},{"$f":"Prevalence!D115*AZ116","v":139.62},{"$f":"Prevalence!E115*BA116","v":362.7018291657825},{"$f":"Prevalence!F115*BB116","v":706.42592315146624},{"$f":"Prevalence!G115*BC116","v":671.21143124098887},{"$f":"Prevalence!H115*BD116","v":416.52000000000004},{"$f":"Prevalence!I115*BE116","v":2044.3244265524499},{"$f":"Prevalence!J115*BF116","v":536.3904},{"$f":"Prevalence!K115*BG116","v":1508.9079688905663},{"$f":"Prevalence!L115*BH116","v":1120.002},{"$f":"Prevalence!M115*BI116","v":35.170909090909092},{"$f":"Prevalence!N115*BJ116","v":4.8848484848484848},{"$f":"Prevalence!O115*BK116","v":581.69266263086172},{"$f":"Prevalence!P115*BL116","v":95.987272727272725},{"$f":"Prevalence!Q115*BM116","v":237.34892158838946},{"$f":"Prevalence!R115*BN116","v":98.567571741883654},{"$f":"Prevalence!S115*BO116","v":177.61012477718359},{"$f":"Prevalence!T115*BP116","v":159.45881098373769},{"$f":"Prevalence!U115*BQ116","v":96.994818652849744},{"$f":"Prevalence!V115*BR116","v":362.08156911581568},{"$f":"Prevalence!W115*BS116","v":258.73801169590644},{"$f":"Prevalence!X115*BT116","v":369.47933884297527},{"$f":"Prevalence!Y115*BU116","v":165.93591778130431},{"$f":"Prevalence!Z115*BV116","v":174.95321212121215},{"$f":"Prevalence!AA115*BW116","v":77.588629659426118},{"$f":"Prevalence!AB115*BX116","v":411.27075560408895},{"$f":"Prevalence!AC115*BY116","v":95.987272727272725},{"$f":"Prevalence!AD115*BZ116","v":403.98222222222222},{"$f":"Prevalence!AE115*CA116","v":705.21785706754383},{"$f":"Prevalence!AF115*CB116","v":1040.946256457707},{"$f":"Prevalence!AG115*CC116","v":371.97526283240569},{"$f":"Prevalence!AH115*CD116","v":140.35797979797979},{"$f":"Prevalence!AI115*CE116","v":197.9346560063172},{"$f":"Prevalence!AJ115*CF116","v":84.365702479338836},{"$f":"Prevalence!AK115*CG116","v":340.81562183723281},{"$f":"Prevalence!AL115*CH116","v":943.80983252296073},{"$f":"Prevalence!AM115*CI116","v":35.170909090909092},{"$f":"Prevalence!AN115*CJ116","v":152.29139883685335},{"$f":"Prevalence!AO115*CK116","v":223.18663182505847},{"$f":"Prevalence!AP115*CL116","v":140.38925619834714},{"$f":"Prevalence!AQ115*CM116","v":4.8848484848484848},{"$f":"Prevalence!AR115*CN116","v":313.72870921403654},{"$f":"Prevalence!AS115*CO116","v":677.68245627205158},{"$f":"Prevalence!AT115*CP116","v":168.52408477842005},{"$f":"Prevalence!AU115*CQ116","v":295.20804536594011},{"$f":"Prevalence!AV115*CR116","v":375.27217463387677},115,34857,3407,537,1091,2588,2440,2136,7116,2149,5532,5190,144,20,2114,393,1258,529,643,535,330,1091,847,1267,635,677,321,2041,393,1472,2588,3477,1614,431,787,349,1090,3256,144,624,855,537,20,1050,2664,638,1009,1685]
["Male 55-59",{"$f":"Prevalence!B116*AX117","v":10450.919999999998},{"$f":"Prevalence!C116*AY117","v":1204.941919640404},{"$f":"Prevalence!D116*AZ117","v":171.7},{"$f":"Prevalence!E116*BA117","v":459.08645823761736},{"$f":"Prevalence!F116*BB117","v":882.38149430856072},{"$f":"Prevalence!G116*BC117","v":718.37821182850973},{"$f":"Prevalence!H116*BD117","v":478.63499999999999},{"$f":"Prevalence!I116*BE117","v":2245.4464549830054},{"$f":"Prevalence!J116*BF117","v":657.36959999999999},{"$f":"Prevalence!K116*BG117","v":1797.6977970763626},{"$f":"Prevalence!L116*BH117","v":1254.0967999999998},{"$f":"Prevalence!M116*BI117","v":51.741818181818175},{"$f":"Prevalence!N116*BJ117","v":4.7909090909090901},{"$f":"Prevalence!O116*BK117","v":627.89872778344034},{"$f":"Prevalence!P116*BL117","v":123.28606060606059},{"$f":"Prevalence!Q116*BM117","v":277.56500705502924},{"$f":"Prevalence!R116*BN117","v":104.5300713557594},{"$f":"Prevalence!S116*BO117","v":201.91757575757572},{"$f":"Prevalence!T116*BP117","v":205.40495867768593},{"$f":"Prevalence!U116*BQ117","v":108.00565237870937},{"$f":"Prevalence!V116*BR117","v":458.30136986301363},{"$f":"Prevalence!W116*BS117","v":258.05656565656557},{"$f":"Prevalence!X116*BT117","v":434.73435655253837},{"$f":"Prevalence!Y116*BU117","v":176.32827023350711},{"$f":"Prevalence!Z116*BV117","v":199.04630303030299},{"$f":"Prevalence!AA116*BW117","v":80.916778403504054},{"$f":"Prevalence!AB116*BX117","v":450.06812873479538},{"$f":"Prevalence!AC116*BY117","v":123.28606060606059},{"$f":"Prevalence!AD116*BZ117","v":457.58333333333331},{"$f":"Prevalence!AE116*CA117","v":880.872524830771},{"$f":"Prevalence!AF116*CB117","v":1132.6027707096409},{"$f":"Prevalence!AG116*CC117","v":448.15378272521116},{"$f":"Prevalence!AH116*CD117","v":149.90222222222218},{"$f":"Prevalence!AI116*CE117","v":247.32642384759643},{"$f":"Prevalence!AJ116*CF117","v":102.10537190082644},{"$f":"Prevalence!AK116*CG117","v":388.43841162112278},{"$f":"Prevalence!AL116*CH117","v":1149.3038652325524},{"$f":"Prevalence!AM116*CI117","v":51.741818181818175},{"$f":"Prevalence!AN116*CJ117","v":172.34159779614322},{"$f":"Prevalence!AO116*CK117","v":251.5794251134644},{"$f":"Prevalence!AP116*CL117","v":172.64600550964187},{"$f":"Prevalence!AQ116*CM117","v":4.7909090909090901},{"$f":"Prevalence!AR116*CN117","v":374.31397496408778},{"$f":"Prevalence!AS116*CO117","v":781.08029927683094},{"$f":"Prevalence!AT116*CP117","v":152.33000525486074},{"$f":"Prevalence!AU116*CQ117","v":337.83395357079564},{"$f":"Prevalence!AV116*CR117","v":406.28074053605962},116,30738,3048,505,1056,2472,1997,1877,5977,2014,5040,4444,162,15,1745,386,1125,429,559,527,281,1056,646,1140,516,589,256,1708,386,1275,2472,2893,1487,352,752,323,950,3032,162,540,737,505,15,958,2348,441,883,1395]
["Male 60-64",{"$f":"Prevalence!B117*AX118","v":17931.560000000001},{"$f":"Prevalence!C117*AY118","v":2251.8828767789419},{"$f":"Prevalence!D117*AZ118","v":292.8},{"$f":"Prevalence!E117*BA118","v":833.79480991579749},{"$f":"Prevalence!F117*BB118","v":1481.9112584193626},{"$f":"Prevalence!G117*BC118","v":1369.5294779744024},{"$f":"Prevalence!H117*BD118","v":845.46},{"$f":"Prevalence!I117*BE118","v":3539.2593148346191},{"$f":"Prevalence!J117*BF118","v":1176.4703999999999},{"$f":"Prevalence!K117*BG118","v":2914.2720695671751},{"$f":"Prevalence!L117*BH118","v":2151.2687000000001},{"$f":"Prevalence!M117*BI118","v":85.954545454545453},{"$f":"Prevalence!N117*BJ118","v":11.460606060606061},{"$f":"Prevalence!O117*BK118","v":1135.5622044907361},{"$f":"Prevalence!P117*BL118","v":226.92},{"$f":"Prevalence!Q117*BM118","v":451.94839750050392},{"$f":"Prevalence!R117*BN118","v":215.9542828900627},{"$f":"Prevalence!S117*BO118","v":389.48228163992866},{"$f":"Prevalence!T117*BP118","v":355.23433750999732},{"$f":"Prevalence!U117*BQ118","v":193.08525671219971},{"$f":"Prevalence!V117*BR118","v":832.36892901618933},{"$f":"Prevalence!W117*BS118","v":511.00228601807538},{"$f":"Prevalence!X117*BT118","v":812.80519480519479},{"$f":"Prevalence!Y117*BU118","v":264.24113957530415},{"$f":"Prevalence!Z117*BV118","v":345.59272727272725},{"$f":"Prevalence!AA117*BW118","v":133.83248413336909},{"$f":"Prevalence!AB117*BX118","v":754.99874116540775},{"$f":"Prevalence!AC117*BY118","v":226.92},{"$f":"Prevalence!AD117*BZ118","v":890.49833333333322},{"$f":"Prevalence!AE117*CA118","v":1479.3770270555237},{"$f":"Prevalence!AF117*CB118","v":1678.0166036959931},{"$f":"Prevalence!AG117*CC118","v":811.61059575345269},{"$f":"Prevalence!AH117*CD118","v":273.5264646464646},{"$f":"Prevalence!AI117*CE118","v":391.80653439936822},{"$f":"Prevalence!AJ117*CF118","v":188.86053719008262},{"$f":"Prevalence!AK117*CG118","v":754.1237125677203},{"$f":"Prevalence!AL117*CH118","v":1845.0425322921271},{"$f":"Prevalence!AM117*CI118","v":85.954545454545453},{"$f":"Prevalence!AN117*CJ118","v":254.80461177430871},{"$f":"Prevalence!AO117*CK118","v":417.67927382753396},{"$f":"Prevalence!AP117*CL118","v":294.41322314049586},{"$f":"Prevalence!AQ117*CM118","v":11.460606060606061},{"$f":"Prevalence!AR117*CN118","v":672.26431356453929},{"$f":"Prevalence!AS117*CO118","v":1324.3592573130145},{"$f":"Prevalence!AT117*CP118","v":284.4529689963216},{"$f":"Prevalence!AU117*CQ118","v":533.35273790536951},{"$f":"Prevalence!AV117*CR118","v":740.93340701851344},117,29396,3175,480,1069,2314,2122,1848,5251,2009,4554,4249,150,20,1759,396,1021,494,601,508,280,1069,713,1188,431,570,236,1597,396,1383,2314,2389,1501,358,664,333,1028,2713,150,445,682,480,20,959,2219,459,777,1418]
["Male 65-69",{"$f":"Prevalence!B118*AX119","v":24191.84},{"$f":"Prevalence!C118*AY119","v":2873},{"$f":"Prevalence!D118*AZ119","v":399.5},{"$f":"Prevalence!E118*BA119","v":976},{"$f":"Prevalence!F118*BB119","v":2100.0444397193273},{"$f":"Prevalence!G118*BC119","v":1822.0046997343663},{"$f":"Prevalence!H118*BD119","v":1022.9549999999999},{"$f":"Prevalence!I118*BE119","v":4527},{"$f":"Prevalence!J118*BF119","v":1588.2239999999997},{"$f":"Prevalence!K118*BG119","v":4059.9057660653493},{"$f":"Prevalence!L118*BH119","v":2851.6309999999994},{"$f":"Prevalence!M118*BI119","v":146.58303030303028},{"$f":"Prevalence!N118*BJ119","v":16.777575757575757},{"$f":"Prevalence!O118*BK119","v":1475.3133060924854},{"$f":"Prevalence!P118*BL119","v":286.10181818181815},{"$f":"Prevalence!Q118*BM119","v":506.81556137875424},{"$f":"Prevalence!R118*BN119","v":300.44691563957616},{"$f":"Prevalence!S118*BO119","v":489.33618538324413},{"$f":"Prevalence!T118*BP119","v":489},{"$f":"Prevalence!U118*BQ119","v":287},{"$f":"Prevalence!V118*BR119","v":1171.0784557907846},{"$f":"Prevalence!W118*BS119","v":624},{"$f":"Prevalence!X118*BT119","v":1050},{"$f":"Prevalence!Y118*BU119","v":356.17426131640593},{"$f":"Prevalence!Z118*BV119","v":490.50909090909084},{"$f":"Prevalence!AA118*BW119","v":143.3149191025297},{"$f":"Prevalence!AB118*BX119","v":938.32911699578358},{"$f":"Prevalence!AC118*BY119","v":286.10181818181815},{"$f":"Prevalence!AD118*BZ119","v":1161.8922222222222},{"$f":"Prevalence!AE118*CA119","v":2096.4531325783933},{"$f":"Prevalence!AF118*CB119","v":1946},{"$f":"Prevalence!AG118*CC119","v":1059.0356627499482},{"$f":"Prevalence!AH118*CD119","v":294},{"$f":"Prevalence!AI118*CE119","v":551.02872371927731},{"$f":"Prevalence!AJ118*CF119","v":228.97933884297518},{"$f":"Prevalence!AK118*CG119","v":855},{"$f":"Prevalence!AL118*CH119","v":2452},{"$f":"Prevalence!AM118*CI119","v":146.58303030303028},{"$f":"Prevalence!AN118*CJ119","v":325.59044995408624},{"$f":"Prevalence!AO118*CK119","v":650.24315774996546},{"$f":"Prevalence!AP118*CL119","v":401.70110192837467},{"$f":"Prevalence!AQ118*CM119","v":16.777575757575757},{"$f":"Prevalence!AR118*CN119","v":968},{"$f":"Prevalence!AS118*CO119","v":1821.9271325976526},{"$f":"Prevalence!AT118*CP119","v":357.16377649325625},{"$f":"Prevalence!AU118*CQ119","v":741},{"$f":"Prevalence!AV118*CR119","v":995.22077922077915},118,25736,2873,425,976,2128,1832,1451,4527,1760,4117,3655,166,19,1483,324,743,446,490,489,287,976,624,1050,377,525,164,1288,324,1171,2128,1946,1271,294,606,262,855,2452,166,369,689,425,19,968,1981,374,741,1236]
["Male 70-74",null,null,null,null,null,null,null,null,null,null,null,null,null,null,null,null,null,null,null,null,null,null,null,null,null,null,null,null,null,null,null,null,null,null,null,null,null,null,null,null,null,null,null,null,null,null,null,119]
["Male 75-79",null,null,null,null,null,null,null,null,null,null,null,null,null,null,null,null,null,null,null,null,null,null,null,null,null,null,null,null,null,null,null,null,null,null,null,null,null,null,null,null,null,null,null,null,null,null,null,120]
["Male 80-84",null,null,null,null,null,null,null,null,null,null,null,null,null,null,null,null,null,null,null,null,null,null,null,null,null,null,null,null,null,null,null,null,null,null,null,null,null,null,null,null,null,null,null,null,null,null,null,121]
["Male 85+",null,null,null,null,null,null,null,null,null,null,null,null,null,null,null,null,null,null,null,null,null,null,null,null,null,null,null,null,null,null,null,null,null,null,null,null,null,null,null,null,null,null,null,null,null,null,null,122]
[null,null,null,null,null,null,null,null,null,null,null,null,null,null,null,null,null,null,null,null,null,null,null,null,null,null,null,null,null,null,null,null,null,null,null,null,null,null,null,null,null,null,null,null,null,null,null,null,123]
["Female <1",null,null,null,null,null,null,null,null,null,null,null,null,null,null,null,null,null,null,null,null,null,null,null,null,null,null,null,null,null,null,null,null,null,null,null,null,null,null,null,null,null,null,null,null,null,null,null,124]
["Female 1-4",null,null,null,null,null,null,null,null,null,null,null,null,null,null,null,null,null,null,null,null,null,null,null,null,null,null,null,null,null,null,null,null,null,null,null,null,null,null,null,null,null,null,null,null,null,null,null,125]
["Female 5-9",null,null,null,null,null,null,null,null,null,null,null,null,null,null,null,null,null,null,null,null,null,null,null,null,null,null,null,null,null,null,null,null,null,null,null,null,null,null,null,null,null,null,null,null,null,null,null,126]
["Female 10-14",null,null,null,null,null,null,null,null,null,null,null,null,null,null,null,null,null,null,null,null,null,null,null,null,null,null,null,null,null,null,null,null,null,null,null,null,null,null,null,null,null,null,null,null,null,null,null,127]
["Female 16-19",{"$f":"Prevalence!B128*AX129","v":2682.46},{"$f":"Prevalence!C128*AY129","v":297.992623799527},{"$f":"Prevalence!D128*AZ129","v":37.131588315472378},{"$f":"Prevalence!E128*BA129","v":85.377455620493777},{"$f":"Prevalence!F128*BB129","v":197.22560000000001},{"$f":"Prevalence!G128*BC129","v":181.77246576232582},{"$f":"Prevalence!H128*BD129","v":156.46563108857504},{"$f":"Prevalence!I128*BE129","v":575.34509496744101},{"$f":"Prevalence!J128*BF129","v":155.46960000000001},{"$f":"Prevalence!K128*BG129","v":381.57423237968027},{"$f":"Prevalence!L128*BH129","v":389.07339214640433},{"$f":"Prevalence!M128*BI129","v":11.838095238095239},{"$f":"Prevalence!N128*BJ129","v":1.1523809523809525},{"$f":"Prevalence!O128*BK129","v":209.45849970227482},{"$f":"Prevalence!P128*BL129","v":21.685714285714287},{"$f":"Prevalence!Q128*BM129","v":88.024440741301817},{"$f":"Prevalence!R128*BN129","v":38.303571428571431},{"$f":"Prevalence!S128*BO129","v":60.948979591836732},{"$f":"Prevalence!T128*BP129","v":36.209602954755312},{"$f":"Prevalence!U128*BQ129","v":24.571879936808845},{"$f":"Prevalence!V128*BR129","v":85.151785714285708},{"$f":"Prevalence!W128*BS129","v":100.8090285714286},{"$f":"Prevalence!X128*BT129","v":104.10662931839404},{"$f":"Prevalence!Y128*BU129","v":41.865329052969507},{"$f":"Prevalence!Z128*BV129","v":51.767310789049922},{"$f":"Prevalence!AA128*BW129","v":22.810991957104559},{"$f":"Prevalence!AB128*BX129","v":156.50573960106499},{"$f":"Prevalence!AC128*BY129","v":21.685714285714287},{"$f":"Prevalence!AD128*BZ129","v":105.79151785714285},{"$f":"Prevalence!AE128*CA129","v":197.65147304057811},{"$f":"Prevalence!AF128*CB129","v":312.81494770805517},{"$f":"Prevalence!AG128*CC129","v":117.9565932090204},{"$f":"Prevalence!AH128*CD129","v":30.577187807276303},{"$f":"Prevalence!AI128*CE129","v":54.057142857142864},{"$f":"Prevalence!AJ128*CF129","v":29.454667742803334},{"$f":"Prevalence!AK128*CG129","v":105.80952380952382},{"$f":"Prevalence!AL128*CH129","v":250.02352941176474},{"$f":"Prevalence!AM128*CI129","v":11.838095238095239},{"$f":"Prevalence!AN128*CJ129","v":46.297468354430379},{"$f":"Prevalence!AO128*CK129","v":64.872243194913565},{"$f":"Prevalence!AP128*CL129","v":37.033442007508398},{"$f":"Prevalence!AQ128*CM129","v":1.1523809523809525},{"$f":"Prevalence!AR128*CN129","v":85.477443609022558},{"$f":"Prevalence!AS128*CO129","v":162.64285714285717},{"$f":"Prevalence!AT128*CP129","v":49.296904140246184},{"$f":"Prevalence!AU128*CQ129","v":73.274084955318884},{"$f":"Prevalence!AV128*CR129","v":128.33701177100056},128,24386,2320,317,711,1724,1649,1575,5071,1359,3595,3891,113,11,1843,207,916,390,543,310,202,711,901,859,393,490,221,1594,207,1002,1724,2741,1049,257,552,269,772,2208,113,399,582,317,11,689,1656,445,608,1255]
["Female 20-24",{"$f":"Prevalence!B129*AX130","v":7758.2000000000007},{"$f":"Prevalence!C129*AY130","v":711.81937095686385},{"$f":"Prevalence!D129*AZ130","v":127.99589663090849},{"$f":"Prevalence!E129*BA130","v":191.47430911436658},{"$f":"Prevalence!F129*BB130","v":505.02400000000006},{"$f":"Prevalence!G129*BC130","v":493.43823882997543},{"$f":"Prevalence!H129*BD130","v":585.58334890523554},{"$f":"Prevalence!I129*BE130","v":1811.8197841914039},{"$f":"Prevalence!J129*BF130","v":338.00000000000006},{"$f":"Prevalence!K129*BG130","v":950.43777694774337},{"$f":"Prevalence!L129*BH130","v":1267.5496787667255},{"$f":"Prevalence!M129*BI130","v":23.428571428571431},{"$f":"Prevalence!N129*BJ130","v":6.0952380952380958},{"$f":"Prevalence!O129*BK130","v":715.3803837313427},{"$f":"Prevalence!P129*BL130","v":40.190476190476197},{"$f":"Prevalence!Q129*BM130","v":413.91405342624853},{"$f":"Prevalence!R129*BN130","v":94.821428571428584},{"$f":"Prevalence!S129*BO130","v":122.44897959183673},{"$f":"Prevalence!T129*BP130","v":86.223453370267791},{"$f":"Prevalence!U129*BQ130","v":63.917851500789894},{"$f":"Prevalence!V129*BR130","v":190.96820373719109},{"$f":"Prevalence!W129*BS130","v":451.00114285714301},{"$f":"Prevalence!X129*BT130","v":248.11951447245568},{"$f":"Prevalence!Y129*BU130","v":110.98234349919744},{"$f":"Prevalence!Z129*BV130","v":132.73176903611687},{"$f":"Prevalence!AA129*BW130","v":48.793565683646115},{"$f":"Prevalence!AB129*BX130","v":699.42909519444811},{"$f":"Prevalence!AC129*BY130","v":40.190476190476197},{"$f":"Prevalence!AD129*BZ130","v":250.32142857142858},{"$f":"Prevalence!AE129*CA130","v":506.11450806003342},{"$f":"Prevalence!AF129*CB130","v":1147.8838451268357},{"$f":"Prevalence!AG129*CC130","v":249.22278728103973},{"$f":"Prevalence!AH129*CD130","v":78.092428711897739},{"$f":"Prevalence!AI129*CE130","v":134.60869565217394},{"$f":"Prevalence!AJ129*CF130","v":68.087167070217916},{"$f":"Prevalence!AK129*CG130","v":240.72538860103629},{"$f":"Prevalence!AL129*CH130","v":640.50000000000011},{"$f":"Prevalence!AM129*CI130","v":23.428571428571431},{"$f":"Prevalence!AN129*CJ130","v":136.07594936708861},{"$f":"Prevalence!AO129*CK130","v":173.88436320286112},{"$f":"Prevalence!AP129*CL130","v":127.65757755384313},{"$f":"Prevalence!AQ129*CM130","v":6.0952380952380958},{"$f":"Prevalence!AR129*CN130","v":215.63909774436092},{"$f":"Prevalence!AS129*CO130","v":389.10714285714295},{"$f":"Prevalence!AT129*CP130","v":175.03170458784038},{"$f":"Prevalence!AU129*CQ130","v":182.74697025339697},{"$f":"Prevalence!AV129*CR130","v":298.78678437667207},129,38791,3048,601,877,2428,2462,3242,8783,1625,4925,6972,123,32,3462,211,2369,531,600,406,289,877,2217,1126,573,691,260,3918,211,1304,2428,5532,1219,361,756,342,966,3111,123,645,858,601,32,956,2179,869,834,1607]
["Female 25-29",{"$f":"Prevalence!B130*AX131","v":9997.7800000000007},{"$f":"Prevalence!C130*AY131","v":896.52341967398456},{"$f":"Prevalence!D130*AZ131","v":139.26209119293023},{"$f":"Prevalence!E130*BA131","v":262.54031551884356},{"$f":"Prevalence!F130*BB131","v":658.42400000000009},{"$f":"Prevalence!G130*BC131","v":608.3800869083633},{"$f":"Prevalence!H130*BD131","v":719.69674698115693},{"$f":"Prevalence!I130*BE131","v":2351.6112938456959},{"$f":"Prevalence!J130*BF131","v":491.31680000000006},{"$f":"Prevalence!K130*BG131","v":1354.7356739437882},{"$f":"Prevalence!L130*BH131","v":1648.9963197622028},{"$f":"Prevalence!M130*BI131","v":30.209523809523812},{"$f":"Prevalence!N130*BJ131","v":5.9428571428571439},{"$f":"Prevalence!O130*BK131","v":783.5915520357089},{"$f":"Prevalence!P130*BL131","v":52.247619047619054},{"$f":"Prevalence!Q130*BM131","v":486.52810180275713},{"$f":"Prevalence!R130*BN131","v":130.23214285714286},{"$f":"Prevalence!S130*BO131","v":187.30612244897961},{"$f":"Prevalence!T130*BP131","v":112.36657433056327},{"$f":"Prevalence!U130*BQ131","v":77.342812006319107},{"$f":"Prevalence!V130*BR131","v":261.84636829415314},{"$f":"Prevalence!W130*BS131","v":386.63634285714301},{"$f":"Prevalence!X130*BT131","v":319.97721755368821},{"$f":"Prevalence!Y130*BU131","v":135.96789727126807},{"$f":"Prevalence!Z130*BV131","v":165.5593512767426},{"$f":"Prevalence!AA130*BW131","v":55.380697050938338},{"$f":"Prevalence!AB130*BX131","v":888.83549386757454},{"$f":"Prevalence!AC130*BY131","v":52.247619047619054},{"$f":"Prevalence!AD130*BZ131","v":350.62276785714289},{"$f":"Prevalence!AE130*CA131","v":659.84574763757655},{"$f":"Prevalence!AF130*CB131","v":1498.722963951936},{"$f":"Prevalence!AG130*CC131","v":374.75419941439361},{"$f":"Prevalence!AH130*CD131","v":106.01966568338251},{"$f":"Prevalence!AI130*CE131","v":157.63105590062113},{"$f":"Prevalence!AJ130*CF131","v":93.689534570890501},{"$f":"Prevalence!AK130*CG131","v":301.28053293856402},{"$f":"Prevalence!AL130*CH131","v":916.15588235294138},{"$f":"Prevalence!AM130*CI131","v":30.209523809523812},{"$f":"Prevalence!AN130*CJ131","v":205.42194092827003},{"$f":"Prevalence!AO130*CK131","v":223.67852175640772},{"$f":"Prevalence!AP130*CL131","v":138.89399328196009},{"$f":"Prevalence!AQ130*CM131","v":5.9428571428571439},{"$f":"Prevalence!AR130*CN131","v":265.66917293233087},{"$f":"Prevalence!AS130*CO131","v":546.46428571428578},{"$f":"Prevalence!AT130*CP131","v":173.07795598657219},{"$f":"Prevalence!AU130*CQ131","v":240.13477781858245},{"$f":"Prevalence!AV130*CR131","v":435.79735152487967},130,38453,2953,503,925,2435,2335,3065,8769,1817,5400,6977,122,24,2917,211,2142,561,706,407,269,925,1462,1117,540,663,227,3830,211,1405,2435,5556,1410,377,681,362,930,3423,122,749,849,503,24,906,2354,661,843,1803]
["Female 30-34",{"$f":"Prevalence!B131*AX132","v":9966.880000000001},{"$f":"Prevalence!C131*AY132","v":996.87407049424849},{"$f":"Prevalence!D131*AZ132","v":130.29598928251218},{"$f":"Prevalence!E131*BA132","v":289.15458949950641},{"$f":"Prevalence!F131*BB132","v":694.51200000000006},{"$f":"Prevalence!G131*BC132","v":678.18696691830655},{"$f":"Prevalence!H131*BD132","v":593.74755845814002},{"$f":"Prevalence!I131*BE132","v":2331.4982995432183},{"$f":"Prevalence!J131*BF132","v":503.77600000000001},{"$f":"Prevalence!K131*BG132","v":1435.9812179224684},{"$f":"Prevalence!L131*BH132","v":1585.9642667460778},{"$f":"Prevalence!M131*BI132","v":27.466666666666672},{"$f":"Prevalence!N131*BJ132","v":3.4666666666666672},{"$f":"Prevalence!O131*BK132","v":666.820479000879},{"$f":"Prevalence!P131*BL132","v":65.066666666666677},{"$f":"Prevalence!Q131*BM132","v":380.8568398727466},{"$f":"Prevalence!R131*BN132","v":126.00000000000003},{"$f":"Prevalence!S131*BO132","v":191.71428571428575},{"$f":"Prevalence!T131*BP132","v":115.06371191135736},{"$f":"Prevalence!U131*BQ132","v":91.962085308056871},{"$f":"Prevalence!V131*BR132","v":288.39029535864984},{"$f":"Prevalence!W131*BS132","v":285.93920000000008},{"$f":"Prevalence!X131*BT132","v":366.49411764705889},{"$f":"Prevalence!Y131*BU132","v":145.34232209737829},{"$f":"Prevalence!Z131*BV132","v":166.19323671497585},{"$f":"Prevalence!AA131*BW132","v":66.997319034852552},{"$f":"Prevalence!AB131*BX132","v":795.0070271921785},{"$f":"Prevalence!AC131*BY132","v":65.066666666666677},{"$f":"Prevalence!AD131*BZ132","v":390.76250000000005},{"$f":"Prevalence!AE131*CA132","v":696.0116731517511},{"$f":"Prevalence!AF131*CB132","v":1410.6604361370717},{"$f":"Prevalence!AG131*CC132","v":384.40417116145278},{"$f":"Prevalence!AH131*CD132","v":98.729596853490676},{"$f":"Prevalence!AI131*CE132","v":181.22318840579715},{"$f":"Prevalence!AJ131*CF132","v":79.992467043314505},{"$f":"Prevalence!AK131*CG132","v":315.03626943005185},{"$f":"Prevalence!AL131*CH132","v":990.08823529411791},{"$f":"Prevalence!AM131*CI132","v":27.466666666666672},{"$f":"Prevalence!AN131*CJ132","v":186.07594936708861},{"$f":"Prevalence!AO131*CK132","v":241.73574408901251},{"$f":"Prevalence!AP131*CL132","v":129.95159059474415},{"$f":"Prevalence!AQ131*CM132","v":3.4666666666666672},{"$f":"Prevalence!AR131*CN132","v":302.5263157894737},{"$f":"Prevalence!AS131*CO132","v":569.50000000000011},{"$f":"Prevalence!AT131*CP132","v":187.80156657963451},{"$f":"Prevalence!AU131*CQ132","v":260.7540702656384},{"$f":"Prevalence!AV131*CR132","v":443.81086142322101},131,35596,3049,437,946,2385,2417,2348,8073,1730,5315,6231,103,13,2305,244,1557,504,671,387,297,946,1004,1188,536,618,255,3181,244,1454,2385,4856,1343,326,727,287,903,3435,103,630,852,437,13,958,2278,666,850,1705]
["Female 35-39",{"$f":"Prevalence!B132*AX133","v":9180.5300000000007},{"$f":"Prevalence!C132*AY133","v":974.57133101708951},{"$f":"Prevalence!D132*AZ133","v":128.15562528726986},{"$f":"Prevalence!E132*BA133","v":266.87414110142072},{"$f":"Prevalence!F132*BB133","v":677.0920000000001},{"$f":"Prevalence!G132*BC133","v":668.11577621919764},{"$f":"Prevalence!H132*BD133","v":514.64323160649053},{"$f":"Prevalence!I132*BE133","v":2014.8475687298512},{"$f":"Prevalence!J132*BF133","v":538.65760000000012},{"$f":"Prevalence!K132*BG133","v":1399.9610735433221},{"$f":"Prevalence!L132*BH133","v":1397.9680324763226},{"$f":"Prevalence!M132*BI133","v":35.904761904761912},{"$f":"Prevalence!N132*BJ133","v":5.8000000000000016},{"$f":"Prevalence!O132*BK133","v":526.14140180726315},{"$f":"Prevalence!P132*BL133","v":76.504761904761921},{"$f":"Prevalence!Q132*BM133","v":295.65414331161952},{"$f":"Prevalence!R132*BN133","v":128.6875},{"$f":"Prevalence!S132*BO133","v":179.03061224489798},{"$f":"Prevalence!T132*BP133","v":141.65281625115423},{"$f":"Prevalence!U132*BQ133","v":90.756714060031612},{"$f":"Prevalence!V132*BR133","v":266.16873869801088},{"$f":"Prevalence!W132*BS133","v":197.33588571428578},{"$f":"Prevalence!X132*BT133","v":340.9219421101775},{"$f":"Prevalence!Y132*BU133","v":151.93734617442485},{"$f":"Prevalence!Z132*BV133","v":166.00115021854154},{"$f":"Prevalence!AA132*BW133","v":64.764075067024137},{"$f":"Prevalence!AB132*BX133","v":607.77853432848849},{"$f":"Prevalence!AC132*BY133","v":76.504761904761921},{"$f":"Prevalence!AD132*BZ133","v":392.47098214285722},{"$f":"Prevalence!AE132*CA133","v":678.55405780989452},{"$f":"Prevalence!AF132*CB133","v":1084.0468124165554},{"$f":"Prevalence!AG132*CC133","v":393.09323470488522},{"$f":"Prevalence!AH132*CD133","v":115.42969518190759},{"$f":"Prevalence!AI132*CE133","v":177.88467908902695},{"$f":"Prevalence!AJ132*CF133","v":86.890772128060263},{"$f":"Prevalence!AK132*CG133","v":345.43844066123859},{"$f":"Prevalence!AL132*CH133","v":960.96617647058838},{"$f":"Prevalence!AM132*CI133","v":35.904761904761912},{"$f":"Prevalence!AN132*CJ133","v":147.44725738396627},{"$f":"Prevalence!AO132*CK133","v":243.02265050665611},{"$f":"Prevalence!AP132*CL133","v":127.8168840150168},{"$f":"Prevalence!AQ132*CM133","v":5.8000000000000016},{"$f":"Prevalence!AR132*CN133","v":279.64285714285722},{"$f":"Prevalence!AS132*CO133","v":550.74107142857144},{"$f":"Prevalence!AT132*CP133","v":176.9854531891086},{"$f":"Prevalence!AU132*CQ133","v":259.26404700697759},{"$f":"Prevalence!AV132*CR133","v":450.22538790797228},132,31657,2878,415,843,2245,2299,1965,6736,1786,5003,5303,130,21,1756,277,1167,497,605,460,283,843,669,1067,541,596,238,2348,277,1410,2245,3603,1326,368,689,301,956,3219,130,482,827,415,21,855,2127,606,816,1670]
["Female 40-44",{"$f":"Prevalence!B133*AX134","v":9796.5400000000009},{"$f":"Prevalence!C133*AY134","v":1168.8503778343515},{"$f":"Prevalence!D133*AZ134","v":132.06365307957796},{"$f":"Prevalence!E133*BA134","v":343.14728806733177},{"$f":"Prevalence!F133*BB134","v":741.43680000000006},{"$f":"Prevalence!G133*BC134","v":705.82512010053802},{"$f":"Prevalence!H133*BD134","v":516.81975207358118},{"$f":"Prevalence!I133*BE134","v":2074.3201457288696},{"$f":"Prevalence!J133*BF134","v":584.33440000000007},{"$f":"Prevalence!K133*BG134","v":1551.67410061895},{"$f":"Prevalence!L133*BH134","v":1389.0140993611101},{"$f":"Prevalence!M133*BI134","v":34.666666666666671},{"$f":"Prevalence!N133*BJ134","v":7.4285714285714297},{"$f":"Prevalence!O133*BK134","v":552.57038825418351},{"$f":"Prevalence!P133*BL134","v":75.771428571428586},{"$f":"Prevalence!Q133*BM134","v":282.55880422158259},{"$f":"Prevalence!R133*BN134","v":133.01785714285714},{"$f":"Prevalence!S133*BO134","v":181.46938775510205},{"$f":"Prevalence!T133*BP134","v":144.11634349030473},{"$f":"Prevalence!U133*BQ134","v":102.35703001579779},{"$f":"Prevalence!V133*BR134","v":342.240280289331},{"$f":"Prevalence!W133*BS134","v":206.80548571428579},{"$f":"Prevalence!X133*BT134","v":424.82203548085909},{"$f":"Prevalence!Y133*BU134","v":174.9957196361691},{"$f":"Prevalence!Z133*BV134","v":185.53634690591215},{"$f":"Prevalence!AA133*BW134","v":81.729222520107243},{"$f":"Prevalence!AB133*BX134","v":505.68473658941122},{"$f":"Prevalence!AC133*BY134","v":75.771428571428586},{"$f":"Prevalence!AD133*BZ134","v":403.77767857142862},{"$f":"Prevalence!AE133*CA134","v":743.03779877709849},{"$f":"Prevalence!AF133*CB134","v":1017.7612928348909},{"$f":"Prevalence!AG133*CC134","v":435.61853392921353},{"$f":"Prevalence!AH133*CD134","v":116.98721730580139},{"$f":"Prevalence!AI133*CE134","v":195.12919254658388},{"$f":"Prevalence!AJ133*CF134","v":99.38337368845842},{"$f":"Prevalence!AK133*CG134","v":404.94695287441402},{"$f":"Prevalence!AL133*CH134","v":1036.329411764706},{"$f":"Prevalence!AM133*CI134","v":34.666666666666671},{"$f":"Prevalence!AN133*CJ134","v":162.08860759493669},{"$f":"Prevalence!AO133*CK134","v":272.15537452811446},{"$f":"Prevalence!AP133*CL134","v":131.71458209839955},{"$f":"Prevalence!AQ133*CM134","v":7.4285714285714297},{"$f":"Prevalence!AR133*CN134","v":327.54135338345867},{"$f":"Prevalence!AS133*CO134","v":646.75},{"$f":"Prevalence!AT133*CP134","v":192.4543080939948},{"$f":"Prevalence!AU133*CQ134","v":287.7059615620027},{"$f":"Prevalence!AV133*CR134","v":510.4847512038524},133,37679,3850,477,1209,2742,2709,2201,7735,2161,6185,5877,140,30,2057,306,1244,573,684,522,356,1209,782,1483,695,743,335,2179,306,1618,2742,3773,1639,416,843,384,1250,3872,140,591,1033,477,30,1117,2786,735,1010,2112]
["Female 45-49",{"$f":"Prevalence!B134*AX135","v":10147.800000000001},{"$f":"Prevalence!C134*AY135","v":1234.4274379933697},{"$f":"Prevalence!D134*AZ135","v":159.74995351554819},{"$f":"Prevalence!E134*BA135","v":342.2958059629463},{"$f":"Prevalence!F134*BB135","v":800.65440000000012},{"$f":"Prevalence!G134*BC135","v":733.44323111222388},{"$f":"Prevalence!H134*BD135","v":517.99380875707413},{"$f":"Prevalence!I134*BE135","v":2180.5167556459519},{"$f":"Prevalence!J134*BF135","v":637.87360000000012},{"$f":"Prevalence!K134*BG135","v":1569.9881199148567},{"$f":"Prevalence!L134*BH135","v":1362.543182374817},{"$f":"Prevalence!M134*BI135","v":43.828571428571436},{"$f":"Prevalence!N134*BJ135","v":5.9428571428571439},{"$f":"Prevalence!O134*BK135","v":569.49403164748128},{"$f":"Prevalence!P134*BL135","v":90.380952380952394},{"$f":"Prevalence!Q134*BM135","v":291.64429631873958},{"$f":"Prevalence!R134*BN135","v":132.55357142857144},{"$f":"Prevalence!S134*BO135","v":172.18367346938777},{"$f":"Prevalence!T134*BP135","v":157.09233610341644},{"$f":"Prevalence!U134*BQ135","v":118.17061611374407},{"$f":"Prevalence!V134*BR135","v":341.39104882459316},{"$f":"Prevalence!W134*BS135","v":232.19337142857151},{"$f":"Prevalence!X134*BT135","v":435.13464052287588},{"$f":"Prevalence!Y134*BU135","v":183.05307651150349},{"$f":"Prevalence!Z134*BV135","v":210.00816655164485},{"$f":"Prevalence!AA134*BW135","v":91.243967828418235},{"$f":"Prevalence!AB134*BX135","v":482.01339967701108},{"$f":"Prevalence!AC134*BY135","v":90.380952380952394},{"$f":"Prevalence!AD134*BZ135","v":423.49241071428577},{"$f":"Prevalence!AE134*CA135","v":802.38326848249039},{"$f":"Prevalence!AF134*CB135","v":1026.9327436582109},{"$f":"Prevalence!AG134*CC135","v":475.75178507217339},{"$f":"Prevalence!AH134*CD135","v":143.7030481809243},{"$f":"Prevalence!AI134*CE135","v":202.76770186335406},{"$f":"Prevalence!AJ134*CF135","v":90.842615012106535},{"$f":"Prevalence!AK134*CG135","v":428.59585492227978},{"$f":"Prevalence!AL134*CH135","v":1027.2294117647061},{"$f":"Prevalence!AM134*CI135","v":43.828571428571436},{"$f":"Prevalence!AN134*CJ135","v":162.63713080168776},{"$f":"Prevalence!AO134*CK135","v":284.01112656467319},{"$f":"Prevalence!AP134*CL135","v":159.32770203517092},{"$f":"Prevalence!AQ134*CM135","v":5.9428571428571439},{"$f":"Prevalence!AR134*CN135","v":358.91729323308277},{"$f":"Prevalence!AS134*CO135","v":670.89285714285711},{"$f":"Prevalence!AT134*CP135","v":185.12271540469976},{"$f":"Prevalence!AU134*CQ135","v":331.57399926551597},{"$f":"Prevalence!AV134*CR135","v":476.4040930979134},134,39030,4066,577,1206,2961,2815,2206,8131,2359,6258,5765,177,24,2120,365,1284,571,649,569,411,1206,878,1519,727,841,374,2077,365,1697,2961,3807,1790,511,876,351,1323,3838,177,593,1078,577,24,1224,2890,707,1164,1971]
["Female 50-54",{"$f":"Prevalence!B135*AX136","v":9964.6200000000008},{"$f":"Prevalence!C135*AY136","v":1157.0567826134456},{"$f":"Prevalence!D135*AZ136","v":154.10620765744656},{"$f":"Prevalence!E135*BA136","v":371.37719475887974},{"$f":"Prevalence!F135*BB136","v":796.3488000000001},{"$f":"Prevalence!G135*BC136","v":688.86944381905312},{"$f":"Prevalence!H135*BD136","v":517.19003148914442},{"$f":"Prevalence!I135*BE136","v":2166.3551447857972},{"$f":"Prevalence!J135*BF136","v":620.2872000000001},{"$f":"Prevalence!K135*BG136","v":1531.1118376476238},{"$f":"Prevalence!L135*BH136","v":1325.3639067999754},{"$f":"Prevalence!M135*BI136","v":38.571428571428577},{"$f":"Prevalence!N135*BJ136","v":6.1714285714285726},{"$f":"Prevalence!O135*BK136","v":594.4662209524879},{"$f":"Prevalence!P135*BL136","v":94.371428571428581},{"$f":"Prevalence!Q135*BM136","v":297.90804423572189},{"$f":"Prevalence!R135*BN136","v":118.84821428571431},{"$f":"Prevalence!S135*BO136","v":184.31632653061226},{"$f":"Prevalence!T135*BP136","v":159.98060941828257},{"$f":"Prevalence!U135*BQ136","v":102.11374407582939},{"$f":"Prevalence!V135*BR136","v":370.39556962025318},{"$f":"Prevalence!W135*BS136","v":244.14480000000006},{"$f":"Prevalence!X135*BT136","v":398.62184873949587},{"$f":"Prevalence!Y135*BU136","v":186.95585874799363},{"$f":"Prevalence!Z135*BV136","v":195.00621118012424},{"$f":"Prevalence!AA135*BW136","v":82.085790884718506},{"$f":"Prevalence!AB135*BX136","v":471.15064816027234},{"$f":"Prevalence!AC135*BY136","v":94.371428571428581},{"$f":"Prevalence!AD135*BZ136","v":406.60915178571435},{"$f":"Prevalence!AE135*CA136","v":798.06837131739871},{"$f":"Prevalence!AF135*CB136","v":1041.7792890520693},{"$f":"Prevalence!AG135*CC136","v":455.68515950069354},{"$f":"Prevalence!AH135*CD136","v":135.50442477876109},{"$f":"Prevalence!AI135*CE136","v":211.76832298136648},{"$f":"Prevalence!AJ135*CF136","v":98.099273607748188},{"$f":"Prevalence!AK135*CG136","v":386.54367135455226},{"$f":"Prevalence!AL135*CH136","v":990.30441176470617},{"$f":"Prevalence!AM135*CI136","v":38.571428571428577},{"$f":"Prevalence!AN135*CJ136","v":163.19620253164558},{"$f":"Prevalence!AO135*CK136","v":279.88694615537457},{"$f":"Prevalence!AP135*CL136","v":153.69887374036753},{"$f":"Prevalence!AQ135*CM136","v":6.1714285714285726},{"$f":"Prevalence!AR135*CN136","v":359.6278195488722},{"$f":"Prevalence!AS135*CO136","v":663.42857142857156},{"$f":"Prevalence!AT135*CP136","v":172.66505035434545},{"$f":"Prevalence!AU135*CQ136","v":324.2115313991921},{"$f":"Prevalence!AV135*CR136","v":454.81781701444635},135,36906,3670,536,1260,2836,2546,2121,7779,2209,5877,5400,150,24,2131,367,1263,493,669,558,342,1260,889,1340,715,752,324,1955,367,1569,2836,3719,1651,464,881,365,1149,3563,150,573,1023,536,24,1181,2752,635,1096,1812]
["Female 55-59",{"$f":"Prevalence!B136*AX137","v":11589.48},{"$f":"Prevalence!C136*AY137","v":1399.8180149328875},{"$f":"Prevalence!D136*AZ137","v":195.89122416158008},{"$f":"Prevalence!E136*BA137","v":436.61382367948715},{"$f":"Prevalence!F136*BB137","v":940.86720000000003},{"$f":"Prevalence!G136*BC137","v":771.66365034247417},{"$f":"Prevalence!H136*BD137","v":639.84283009312333},{"$f":"Prevalence!I136*BE137","v":2308.4766568339205},{"$f":"Prevalence!J136*BF137","v":779.12639999999999},{"$f":"Prevalence!K136*BG137","v":1847.9984065079368},{"$f":"Prevalence!L136*BH137","v":1516.8053600044163},{"$f":"Prevalence!M136*BI137","v":54.514285714285712},{"$f":"Prevalence!N136*BJ137","v":7.5428571428571427},{"$f":"Prevalence!O136*BK137","v":690.33587116397143},{"$f":"Prevalence!P136*BL137","v":113.48571428571428},{"$f":"Prevalence!Q136*BM137","v":343.1171034691713},{"$f":"Prevalence!R136*BN137","v":155.25},{"$f":"Prevalence!S136*BO137","v":218.57142857142858},{"$f":"Prevalence!T136*BP137","v":194.19390581717451},{"$f":"Prevalence!U136*BQ137","v":104.70142180094787},{"$f":"Prevalence!V136*BR137","v":435.45976491862569},{"$f":"Prevalence!W136*BS137","v":270.96685714285718},{"$f":"Prevalence!X136*BT137","v":480.72605042016812},{"$f":"Prevalence!Y136*BU137","v":190.70369181380417},{"$f":"Prevalence!Z136*BV137","v":224.0496894409938},{"$f":"Prevalence!AA136*BW137","v":90.530831099195694},{"$f":"Prevalence!AB136*BX137","v":537.5857011915673},{"$f":"Prevalence!AC136*BY137","v":113.48571428571428},{"$f":"Prevalence!AD136*BZ137","v":487.89642857142854},{"$f":"Prevalence!AE136*CA137","v":942.89883268482492},{"$f":"Prevalence!AF136*CB137","v":1064.4692923898531},{"$f":"Prevalence!AG136*CC137","v":578.87563569116969},{"$f":"Prevalence!AH136*CD137","v":145.6283185840708},{"$f":"Prevalence!AI136*CE137","v":241.01366459627329},{"$f":"Prevalence!AJ136*CF137","v":141.1912832929782},{"$f":"Prevalence!AK136*CG137","v":471.43301258327159},{"$f":"Prevalence!AL136*CH137","v":1173.6529411764707},{"$f":"Prevalence!AM136*CI137","v":54.514285714285712},{"$f":"Prevalence!AN136*CJ137","v":197.84810126582278},{"$f":"Prevalence!AO136*CK137","v":291.46910391416645},{"$f":"Prevalence!AP136*CL137","v":195.37344398340247},{"$f":"Prevalence!AQ136*CM137","v":7.5428571428571427},{"$f":"Prevalence!AR136*CN137","v":433.21804511278191},{"$f":"Prevalence!AS136*CO137","v":824.78571428571433},{"$f":"Prevalence!AT136*CP137","v":168.22379709063785},{"$f":"Prevalence!AU136*CQ137","v":381.00771208226217},{"$f":"Prevalence!AV136*CR137","v":522.75601926163722},136,32193,3330,511,1111,2513,2139,1968,6217,2081,5320,4635,159,22,1856,331,1091,483,595,508,263,1111,740,1212,547,648,268,1673,331,1412,2513,2850,1573,374,752,394,1051,3167,159,521,799,511,22,1067,2566,464,966,1562]
["Female 60-64",{"$f":"Prevalence!B137*AX138","v":21401.73},{"$f":"Prevalence!C137*AY138","v":2682.9845286213681},{"$f":"Prevalence!D137*AZ138","v":362.2326468963073},{"$f":"Prevalence!E137*BA138","v":810.4799661281088},{"$f":"Prevalence!F137*BB138","v":1762.4256},{"$f":"Prevalence!G137*BC138","v":1546.093120220226},{"$f":"Prevalence!H137*BD138","v":1248.1757850423485},{"$f":"Prevalence!I137*BE138","v":4030.3036844668022},{"$f":"Prevalence!J137*BF138","v":1478.9736},{"$f":"Prevalence!K137*BG138","v":3296.986630758583},{"$f":"Prevalence!L137*BH138","v":2826.2976249575277},{"$f":"Prevalence!M137*BI138","v":101.85714285714286},{"$f":"Prevalence!N137*BJ138","v":11.171428571428571},{"$f":"Prevalence!O137*BK138","v":1207.6538349627631},{"$f":"Prevalence!P137*BL138","v":246.42857142857142},{"$f":"Prevalence!Q137*BM138","v":629.91289198606262},{"$f":"Prevalence!R137*BN138","v":351.77678571428572},{"$f":"Prevalence!S137*BO138","v":394.28571428571428},{"$f":"Prevalence!T137*BP138","v":408.106648199446},{"$f":"Prevalence!U137*BQ138","v":257.14218009478674},{"$f":"Prevalence!V137*BR138","v":808.33770343580466},{"$f":"Prevalence!W137*BS138","v":493.38548571428572},{"$f":"Prevalence!X137*BT138","v":890.98263305322121},{"$f":"Prevalence!Y137*BU138","v":332.10449438202244},{"$f":"Prevalence!Z137*BV138","v":413.52380952380952},{"$f":"Prevalence!AA137*BW138","v":161.86327077747987},{"$f":"Prevalence!AB137*BX138","v":974.94310593164846},{"$f":"Prevalence!AC137*BY138","v":246.42857142857142},{"$f":"Prevalence!AD137*BZ138","v":941.75758928571429},{"$f":"Prevalence!AE137*CA138","v":1766.231239577543},{"$f":"Prevalence!AF137*CB138","v":1762.4747997329771},{"$f":"Prevalence!AG137*CC138","v":1060.8426568038217},{"$f":"Prevalence!AH137*CD138","v":283.59882005899703},{"$f":"Prevalence!AI137*CE138","v":469.31428571428575},{"$f":"Prevalence!AJ137*CF138","v":265.80871670702174},{"$f":"Prevalence!AK137*CG138","v":962.90155440414503},{"$f":"Prevalence!AL137*CH138","v":2102.4705882352941},{"$f":"Prevalence!AM137*CI138","v":101.85714285714286},{"$f":"Prevalence!AN137*CJ138","v":313.70253164556959},{"$f":"Prevalence!AO137*CK138","v":557.9499304589707},{"$f":"Prevalence!AP137*CL138","v":361.27519264967395},{"$f":"Prevalence!AQ137*CM138","v":11.171428571428571},{"$f":"Prevalence!AR137*CN138","v":807.76691729323306},{"$f":"Prevalence!AS137*CO138","v":1466.25},{"$f":"Prevalence!AT137*CP138","v":331.46251398731818},{"$f":"Prevalence!AU137*CQ138","v":671.29930224017619},{"$f":"Prevalence!AV137*CR138","v":984.6298154093098},137,31017,3330,493,1076,2456,2236,2003,5663,2061,4952,4506,155,17,1694,375,1045,571,560,557,337,1076,703,1172,497,624,250,1583,375,1422,2456,2462,1504,380,764,387,1120,2960,155,431,798,493,17,1038,2380,477,888,1535]
["Female 65-69",{"$f":"Prevalence!B138*AX139","v":26777.78},{"$f":"Prevalence!C138*AY139","v":3181},{"$f":"Prevalence!D138*AZ139","v":514.49665071705272},{"$f":"Prevalence!E138*BA139","v":1046},{"$f":"Prevalence!F138*BB139","v":2175.16},{"$f":"Prevalence!G138*BC139","v":1915.04943779216},{"$f":"Prevalence!H138*BD139","v":1410.0782016960213},{"$f":"Prevalence!I138*BE139","v":5020.3271501710706},{"$f":"Prevalence!J138*BF139","v":1779.232},{"$f":"Prevalence!K138*BG139","v":4200.3946236977654},{"$f":"Prevalence!L138*BH139","v":3503.3967742161217},{"$f":"Prevalence!M138*BI139","v":139.65714285714287},{"$f":"Prevalence!N138*BJ139","v":12.533333333333333},{"$f":"Prevalence!O138*BK139","v":1571.3985170778069},{"$f":"Prevalence!P138*BL139","v":277.52380952380952},{"$f":"Prevalence!Q138*BM139","v":707.04347826086951},{"$f":"Prevalence!R138*BN139","v":412.92857142857144},{"$f":"Prevalence!S138*BO139","v":492.0612244897959},{"$f":"Prevalence!T138*BP139","v":529.02123730378582},{"$f":"Prevalence!U138*BQ139","v":326},{"$f":"Prevalence!V138*BR139","v":1070.5106992163956},{"$f":"Prevalence!W138*BS139","v":639.64045714285726},{"$f":"Prevalence!X138*BT139","v":1154},{"$f":"Prevalence!Y138*BU139","v":466.08710540395936},{"$f":"Prevalence!Z138*BV139","v":536.26708074534167},{"$f":"Prevalence!AA138*BW139","v":177.28954423592492},{"$f":"Prevalence!AB138*BX139","v":1177.9971192876783},{"$f":"Prevalence!AC138*BY139","v":277.52380952380952},{"$f":"Prevalence!AD138*BZ139","v":1132.3013392857142},{"$f":"Prevalence!AE138*CA139","v":2179.8568649249582},{"$f":"Prevalence!AF138*CB139","v":2102.6277258566979},{"$f":"Prevalence!AG138*CC139","v":1239.5715826783787},{"$f":"Prevalence!AH138*CD139","v":344},{"$f":"Prevalence!AI138*CE139","v":575.75486542443059},{"$f":"Prevalence!AJ138*CF139","v":288.19585687382295},{"$f":"Prevalence!AK138*CG139","v":996},{"$f":"Prevalence!AL138*CH139","v":2742.3117647058825},{"$f":"Prevalence!AM138*CI139","v":139.65714285714287},{"$f":"Prevalence!AN138*CJ139","v":432.32067510548524},{"$f":"Prevalence!AO138*CK139","v":772.4883767136896},{"$f":"Prevalence!AP138*CL139","v":513.13673187117161},{"$f":"Prevalence!AQ138*CM139","v":12.533333333333333},{"$f":"Prevalence!AR138*CN139","v":1031},{"$f":"Prevalence!AS138*CO139","v":1798.5892857142858},{"$f":"Prevalence!AT138*CP139","v":427.89108541588962},{"$f":"Prevalence!AU138*CQ139","v":808},{"$f":"Prevalence!AV138*CR139","v":1235.6423220973784},138,28487,3181,514,1046,2225,2033,1661,5178,1820,4631,4100,156,14,1618,310,861,492,513,530,326,1046,669,1154,512,594,201,1404,310,1255,2225,2156,1290,344,688,308,996,2834,156,436,811,514,14,1031,2143,452,808,1414]
["Female 70-74",null,null,null,null,null,null,null,null,null,null,null,null,null,null,null,null,null,null,null,null,null,null,null,null,null,null,null,null,null,null,null,null,null,null,null,null,null,null,null,null,null,null,null,null,null,null,null,139]
["Female 75-79",null,null,null,null,null,null,null,null,null,null,null,null,null,null,null,null,null,null,null,null,null,null,null,null,null,null,null,null,null,null,null,null,null,null,null,null,null,null,null,null,null,null,null,null,null,null,null,140]
["Female 80-84",null,null,null,null,null,null,null,null,null,null,null,null,null,null,null,null,null,null,null,null,null,null,null,null,null,null,null,null,null,null,null,null,null,null,null,null,null,null,null,null,null,null,null,null,null,null,null,141]
["Female 85+",null,null,null,null,null,null,null,null,null,null,null,null,null,null,null,null,null,null,null,null,null,null,null,null,null,null,null,null,null,null,null,null,null,null,null,null,null,null,null,null,null,null,null,null,null,null,null,142]
[null,null,null,null,null,null,null,null,null,null,null,null,null,null,null,null,null,null,null,null,null,null,null,null,null,null,null,null,null,null,null,null,null,null,null,null,null,null,null,null,null,null,null,null,null,null,null,null,143]
["age/sex breakdown: Q3",null,null,null,null,null,null,null,null,null,null,null,null,null,null,null,null,null,null,null,null,null,null,null,null,null,null,null,null,null,null,null,null,null,null,null,null,null,null,null,null,null,null,null,null,null,null,null,144]
["Male <1",null,null,null,null,null,null,null,null,null,null,null,null,null,null,null,null,null,null,null,null,null,null,null,null,null,null,null,null,null,null,null,null,null,null,null,null,null,null,null,null,null,null,null,null,null,null,null,145]
["Male 1-4",null,null,null,null,null,null,null,null,null,null,null,null,null,null,null,null,null,null,null,null,null,null,null,null,null,null,null,null,null,null,null,null,null,null,null,null,null,null,null,null,null,null,null,null,null,null,null,146]
["Male 5-9",null,null,null,null,null,null,null,null,null,null,null,null,null,null,null,null,null,null,null,null,null,null,null,null,null,null,null,null,null,null,null,null,null,null,null,null,null,null,null,null,null,null,null,null,null,null,null,147]
["Male 10-14",null,null,null,null,null,null,null,null,null,null,null,null,null,null,null,null,null,null,null,null,null,null,null,null,null,null,null,null,null,null,null,null,null,null,null,null,null,null,null,null,null,null,null,null,null,null,null,148]
["Male 16-19",{"$f":"Prevalence!B149*AX150","v":2057.04},{"$f":"Prevalence!C149*AY150","v":143.61821243822635},{"$f":"Prevalence!D149*AZ150","v":71.600000000000009},{"$f":"Prevalence!E149*BA150","v":141.98128432125958},{"$f":"Prevalence!F149*BB150","v":136.3130749345892},{"$f":"Prevalence!G149*BC150","v":121.54597922598487},{"$f":"Prevalence!H149*BD150","v":177.95999999999998},{"$f":"Prevalence!I149*BE150","v":382.57604177450617},{"$f":"Prevalence!J149*BF150","v":177.17759999999998},{"$f":"Prevalence!K149*BG150","v":265.29051057695528},{"$f":"Prevalence!L149*BH150","v":229.54480000000001},{"$f":"Prevalence!M149*BI150","v":6.0872727272727269},{"$f":"Prevalence!N149*BJ150","v":17.735757575757575},{"$f":"Prevalence!O149*BK150","v":160.10200495378203},{"$f":"Prevalence!P149*BL150","v":30.060606060606059},{"$f":"Prevalence!Q149*BM150","v":45.223140495867767},{"$f":"Prevalence!R149*BN150","v":71.37800018533963},{"$f":"Prevalence!S149*BO150","v":58.303885918003559},{"$f":"Prevalence!T149*BP150","v":65.113303119168222},{"$f":"Prevalence!U149*BQ150","v":28.216674517192654},{"$f":"Prevalence!V149*BR150","v":141.7384806973848},{"$f":"Prevalence!W149*BS150","v":56.67751196172248},{"$f":"Prevalence!X149*BT150","v":36.070838252656436},{"$f":"Prevalence!Y149*BU150","v":17.447895412982696},{"$f":"Prevalence!Z149*BV150","v":47.311515151515152},{"$f":"Prevalence!AA149*BW150","v":12.420130508626084},{"$f":"Prevalence!AB149*BX150","v":84.879910213243548},{"$f":"Prevalence!AC149*BY150","v":30.060606060606059},{"$f":"Prevalence!AD149*BZ150","v":64.937777777777782},{"$f":"Prevalence!AE149*CA150","v":136.07996457265767},{"$f":"Prevalence!AF149*CB150","v":178.89140771583519},{"$f":"Prevalence!AG149*CC150","v":113.24840239125953},{"$f":"Prevalence!AH149*CD150","v":30.461414141414139},{"$f":"Prevalence!AI149*CE150","v":37.532326522554527},{"$f":"Prevalence!AJ149*CF150","v":70.066115702479337},{"$f":"Prevalence!AK149*CG150","v":51.663511341310944},{"$f":"Prevalence!AL149*CH150","v":146.00422376111194},{"$f":"Prevalence!AM149*CI150","v":6.0872727272727269},{"$f":"Prevalence!AN149*CJ150","v":45.206815631058049},{"$f":"Prevalence!AO149*CK150","v":71.243020217301606},{"$f":"Prevalence!AP149*CL150","v":71.994490358126725},{"$f":"Prevalence!AQ149*CM150","v":17.735757575757575},{"$f":"Prevalence!AR149*CN150","v":55.620767494356656},{"$f":"Prevalence!AS149*CO150","v":144.02121962815605},{"$f":"Prevalence!AT149*CP150","v":28.852688737081799},{"$f":"Prevalence!AU149*CQ150","v":44.561403508771932},{"$f":"Prevalence!AV149*CR150","v":69.075435203094784},149,25713,1544,895,1388,1623,1436,2966,4328,2307,3161,3457,81,236,1891,400,779,1245,686,710,312,1388,603,402,217,595,167,1369,400,769,1623,1942,1597,304,485,942,537,1637,81,602,887,895,236,605,1840,355,495,1008]
["Male 20-24",{"$f":"Prevalence!B150*AX151","v":4113.8900000000003},{"$f":"Prevalence!C150*AY151","v":215.25291182552496},{"$f":"Prevalence!D150*AZ151","v":105.27},{"$f":"Prevalence!E150*BA151","v":192.41123617311908},{"$f":"Prevalence!F150*BB151","v":251.755047514745},{"$f":"Prevalence!G150*BC151","v":237.18817568664073},{"$f":"Prevalence!H150*BD151","v":403.67250000000001},{"$f":"Prevalence!I150*BE151","v":963.47860197006742},{"$f":"Prevalence!J150*BF151","v":262.62720000000002},{"$f":"Prevalence!K150*BG151","v":432.74413007352922},{"$f":"Prevalence!L150*BH151","v":599.65839999999992},{"$f":"Prevalence!M150*BI151","v":9.8166666666666664},{"$f":"Prevalence!N150*BJ151","v":25.626666666666665},{"$f":"Prevalence!O150*BK151","v":326.07766225746815},{"$f":"Prevalence!P150*BL151","v":41.74666666666667},{"$f":"Prevalence!Q150*BM151","v":195.56541019955654},{"$f":"Prevalence!R150*BN151","v":114.06863744478423},{"$f":"Prevalence!S150*BO151","v":94.191372549019604},{"$f":"Prevalence!T150*BP151","v":85.369501466275665},{"$f":"Prevalence!U150*BQ151","v":55.585492227979273},{"$f":"Prevalence!V150*BR151","v":192.08219178082192},{"$f":"Prevalence!W150*BS151","v":167.36549707602336},{"$f":"Prevalence!X150*BT151","v":66.129870129870142},{"$f":"Prevalence!Y150*BU151","v":41.679966749792179},{"$f":"Prevalence!Z150*BV151","v":72.597333333333324},{"$f":"Prevalence!AA150*BW151","v":23.724680432645034},{"$f":"Prevalence!AB150*BX151","v":348.42459125792465},{"$f":"Prevalence!AC150*BY151","v":41.74666666666667},{"$f":"Prevalence!AD150*BZ151","v":92.076111111111103},{"$f":"Prevalence!AE150*CA151","v":251.32451867316166},{"$f":"Prevalence!AF150*CB151","v":600.87984167373475},{"$f":"Prevalence!AG150*CC151","v":176.48526077097503},{"$f":"Prevalence!AH150*CD151","v":57.728888888888875},{"$f":"Prevalence!AI150*CE151","v":63.950054288816489},{"$f":"Prevalence!AJ150*CF151","v":101.86363636363637},{"$f":"Prevalence!AK150*CG151","v":67.465618860510801},{"$f":"Prevalence!AL150*CH151","v":245.15018908698002},{"$f":"Prevalence!AM150*CI151","v":9.8166666666666664},{"$f":"Prevalence!AN150*CJ151","v":72.278338945005601},{"$f":"Prevalence!AO150*CK151","v":127.44629349470499},{"$f":"Prevalence!AP150*CL151","v":105.85000000000001},{"$f":"Prevalence!AQ150*CM151","v":25.626666666666665},{"$f":"Prevalence!AR150*CN151","v":80.52370203160271},{"$f":"Prevalence!AS150*CO151","v":230.63941646022568},{"$f":"Prevalence!AT150*CP151","v":89.179190751445091},{"$f":"Prevalence!AU150*CQ151","v":75.383040935672526},{"$f":"Prevalence!AV150*CR151","v":114.57750759878419},150,37399,1683,957,1368,2180,2038,4893,7927,2487,3750,6568,95,248,2801,404,2450,1447,806,677,447,1368,1295,536,377,664,232,4087,404,793,2180,4744,1810,419,601,996,510,1999,95,700,1154,957,248,637,2143,798,609,1216]
["Male 25-29",{"$f":"Prevalence!B151*AX152","v":5508.6},{"$f":"Prevalence!C151*AY152","v":246.26244652215306},{"$f":"Prevalence!D151*AZ152","v":135.75000000000003},{"$f":"Prevalence!E151*BA152","v":257.20042634385237},{"$f":"Prevalence!F151*BB152","v":350.38885366157695},{"$f":"Prevalence!G151*BC152","v":285.98431567534573},{"$f":"Prevalence!H151*BD152","v":510.30000000000007},{"$f":"Prevalence!I151*BE152","v":1318.9724499371189},{"$f":"Prevalence!J151*BF152","v":346.03200000000004},{"$f":"Prevalence!K151*BG152","v":553.9124864941175},{"$f":"Prevalence!L151*BH152","v":941.22000000000014},{"$f":"Prevalence!M151*BI152","v":14.090909090909093},{"$f":"Prevalence!N151*BJ152","v":34.52272727272728},{"$f":"Prevalence!O151*BK152","v":368.92886651829997},{"$f":"Prevalence!P151*BL152","v":55.377272727272732},{"$f":"Prevalence!Q151*BM152","v":235.331586373715},{"$f":"Prevalence!R151*BN152","v":143.61597627652674},{"$f":"Prevalence!S151*BO152","v":115.85347593582888},{"$f":"Prevalence!T151*BP152","v":110.73846974140231},{"$f":"Prevalence!U151*BQ152","v":75.798398492699022},{"$f":"Prevalence!V151*BR152","v":256.76058530510585},{"$f":"Prevalence!W151*BS152","v":162.84210526315792},{"$f":"Prevalence!X151*BT152","v":79.073199527745004},{"$f":"Prevalence!Y151*BU152","v":61.359102244389035},{"$f":"Prevalence!Z151*BV152","v":86.025454545454551},{"$f":"Prevalence!AA151*BW152","v":19.522660230624833},{"$f":"Prevalence!AB151*BX152","v":595.2133952133953},{"$f":"Prevalence!AC151*BY152","v":55.377272727272732},{"$f":"Prevalence!AD151*BZ152","v":136.80000000000001},{"$f":"Prevalence!AE151*CA152","v":349.7896501549946},{"$f":"Prevalence!AF151*CB152","v":825.08134782943955},{"$f":"Prevalence!AG151*CC152","v":233.88064316635749},{"$f":"Prevalence!AH151*CD152","v":61.624242424242432},{"$f":"Prevalence!AI151*CE152","v":82.561445069588387},{"$f":"Prevalence!AJ151*CF152","v":144.76239669421491},{"$f":"Prevalence!AK151*CG152","v":70.712627254866945},{"$f":"Prevalence!AL151*CH152","v":309.37822307352297},{"$f":"Prevalence!AM151*CI152","v":14.090909090909093},{"$f":"Prevalence!AN151*CJ152","v":94.759718396082036},{"$f":"Prevalence!AO151*CK152","v":190.20561133269155},{"$f":"Prevalence!AP151*CL152","v":136.49793388429754},{"$f":"Prevalence!AQ151*CM152","v":34.52272727272728},{"$f":"Prevalence!AR151*CN152","v":94.808126410835229},{"$f":"Prevalence!AS151*CO152","v":309.66519030102847},{"$f":"Prevalence!AT151*CP152","v":74.823962165002641},{"$f":"Prevalence!AU151*CQ152","v":101.78229665071771},{"$f":"Prevalence!AV151*CR152","v":166.26416137054437},151,36724,1412,905,1341,2225,1802,4536,7958,2403,3520,7560,100,245,2324,393,2162,1336,727,644,447,1341,924,470,407,577,140,5120,393,864,2225,4777,1759,328,569,1038,392,1850,100,673,1263,905,245,550,2110,491,603,1294]
["Male 30-34",{"$f":"Prevalence!B152*AX153","v":2834.7199999999984},{"$f":"Prevalence!C152*AY153","v":144.36234825396838},{"$f":"Prevalence!D152*AZ153","v":68.159999999999968},{"$f":"Prevalence!E152*BA153","v":121.93205397041882},{"$f":"Prevalence!F152*BB153","v":186.53810192835641},{"$f":"Prevalence!G152*BC153","v":159.55025824580875},{"$f":"Prevalence!H152*BD153","v":248.03999999999988},{"$f":"Prevalence!I152*BE153","v":642.90100550507896},{"$f":"Prevalence!J152*BF153","v":187.23839999999993},{"$f":"Prevalence!K152*BG153","v":334.44564525440251},{"$f":"Prevalence!L152*BH153","v":474.36159999999973},{"$f":"Prevalence!M152*BI153","v":6.2375757575757538},{"$f":"Prevalence!N152*BJ153","v":21.718787878787865},{"$f":"Prevalence!O152*BK153","v":166.11323834971981},{"$f":"Prevalence!P152*BL153","v":31.864242424242406},{"$f":"Prevalence!Q152*BM153","v":99.79278371296104},{"$f":"Prevalence!R152*BN153","v":80.035090970870741},{"$f":"Prevalence!S152*BO153","v":63.743315508021347},{"$f":"Prevalence!T152*BP153","v":60.619568115169251},{"$f":"Prevalence!U152*BQ153","v":40.968440885539309},{"$f":"Prevalence!V152*BR153","v":121.72353673723531},{"$f":"Prevalence!W152*BS153","v":57.523444976076526},{"$f":"Prevalence!X152*BT153","v":42.351829988193607},{"$f":"Prevalence!Y152*BU153","v":26.212045643467075},{"$f":"Prevalence!Z152*BV153","v":45.164606060606033},{"$f":"Prevalence!AA152*BW153","v":12.271386430678458},{"$f":"Prevalence!AB152*BX153","v":279.99830133163454},{"$f":"Prevalence!AC152*BY153","v":31.864242424242406},{"$f":"Prevalence!AD152*BZ153","v":82.755555555555517},{"$f":"Prevalence!AE152*CA153","v":186.21910124206565},{"$f":"Prevalence!AF152*CB153","v":381.45691006759688},{"$f":"Prevalence!AG152*CC153","v":126.01278086992366},{"$f":"Prevalence!AH152*CD153","v":30.060606060606041},{"$f":"Prevalence!AI152*CE153","v":43.258908301253548},{"$f":"Prevalence!AJ152*CF153","v":75.793388429752028},{"$f":"Prevalence!AK152*CG153","v":45.121390724534123},{"$f":"Prevalence!AL152*CH153","v":197.73449241196397},{"$f":"Prevalence!AM152*CI153","v":6.2375757575757538},{"$f":"Prevalence!AN152*CJ153","v":45.056626874808664},{"$f":"Prevalence!AO152*CK153","v":99.354696740475802},{"$f":"Prevalence!AP152*CL153","v":68.535537190082607},{"$f":"Prevalence!AQ152*CM153","v":21.718787878787865},{"$f":"Prevalence!AR152*CN153","v":56.172378411656034},{"$f":"Prevalence!AS152*CO153","v":181.59197257463143},{"$f":"Prevalence!AT152*CP153","v":36.736381152566103},{"$f":"Prevalence!AU152*CQ153","v":49.692716640085031},{"$f":"Prevalence!AV152*CR153","v":102.85935341254483},152,35434,1552,852,1192,2221,1885,4134,7273,2438,3985,7144,83,289,1962,424,1719,1396,750,661,453,1192,612,472,326,568,165,4516,424,980,2221,4141,1777,300,559,1019,469,2217,83,600,1237,852,289,611,2320,452,552,1501]
["Male 35-39",{"$f":"Prevalence!B153*AX154","v":3659.4799999999996},{"$f":"Prevalence!C153*AY154","v":205.78843441905502},{"$f":"Prevalence!D153*AZ154","v":106.58999999999999},{"$f":"Prevalence!E153*BA154","v":187.62908556647719},{"$f":"Prevalence!F153*BB154","v":266.53699525872997},{"$f":"Prevalence!G153*BC154","v":218.10139412991398},{"$f":"Prevalence!H153*BD154","v":306.07499999999999},{"$f":"Prevalence!I153*BE154","v":723.18628506646905},{"$f":"Prevalence!J153*BF154","v":269.06879999999995},{"$f":"Prevalence!K153*BG154","v":469.55623073845072},{"$f":"Prevalence!L153*BH154","v":561.40369999999984},{"$f":"Prevalence!M153*BI154","v":9.4033333333333324},{"$f":"Prevalence!N153*BJ154","v":27.279999999999998},{"$f":"Prevalence!O153*BK154","v":220.37308627396897},{"$f":"Prevalence!P153*BL154","v":51.666666666666657},{"$f":"Prevalence!Q153*BM154","v":98.341463414634148},{"$f":"Prevalence!R153*BN154","v":118.79850492694527},{"$f":"Prevalence!S153*BO154","v":91.386666666666642},{"$f":"Prevalence!T153*BP154","v":93.187683284457464},{"$f":"Prevalence!U153*BQ154","v":55.585492227979266},{"$f":"Prevalence!V153*BR154","v":187.30821917808217},{"$f":"Prevalence!W153*BS154","v":63.198245614035073},{"$f":"Prevalence!X153*BT154","v":58.603896103896105},{"$f":"Prevalence!Y153*BU154","v":33.609310058187859},{"$f":"Prevalence!Z153*BV154","v":70.629333333333321},{"$f":"Prevalence!AA153*BW154","v":19.020648967551619},{"$f":"Prevalence!AB153*BX154","v":291.64681348014682},{"$f":"Prevalence!AC153*BY154","v":51.666666666666657},{"$f":"Prevalence!AD153*BZ154","v":114.0211111111111},{"$f":"Prevalence!AE153*CA154","v":266.08118765947569},{"$f":"Prevalence!AF153*CB154","v":363.51710489115067},{"$f":"Prevalence!AG153*CC154","v":176.38775510204079},{"$f":"Prevalence!AH153*CD154","v":42.711111111111101},{"$f":"Prevalence!AI153*CE154","v":64.801302931596069},{"$f":"Prevalence!AJ153*CF154","v":99.306818181818173},{"$f":"Prevalence!AK153*CG154","v":69.582187295350337},{"$f":"Prevalence!AL153*CH154","v":273.60183684494865},{"$f":"Prevalence!AM153*CI154","v":9.4033333333333324},{"$f":"Prevalence!AN153*CJ154","v":64.224466891133545},{"$f":"Prevalence!AO153*CK154","v":128.10892586989408},{"$f":"Prevalence!AP153*CL154","v":107.17727272727272},{"$f":"Prevalence!AQ153*CM154","v":27.279999999999998},{"$f":"Prevalence!AR153*CN154","v":76.857787810383741},{"$f":"Prevalence!AS153*CO154","v":254.63969171483615},{"$f":"Prevalence!AT153*CP154","v":49.730250481695563},{"$f":"Prevalence!AU153*CQ154","v":73.278752436647167},{"$f":"Prevalence!AV153*CR154","v":138.79331306990881},153,33268,1609,969,1334,2308,1874,3710,5950,2548,4069,6149,91,264,1893,500,1232,1507,782,739,447,1334,489,475,304,646,186,3421,500,982,2308,2870,1809,310,609,971,526,2231,91,622,1160,969,264,608,2366,445,592,1473]
["Male 40-44",{"$f":"Prevalence!B154*AX155","v":4249.6299999999992},{"$f":"Prevalence!C154*AY155","v":274.46984478762715},{"$f":"Prevalence!D154*AZ155","v":140.68999999999997},{"$f":"Prevalence!E154*BA155","v":253.73528512887918},{"$f":"Prevalence!F154*BB155","v":306.3789637874396},{"$f":"Prevalence!G154*BC155","v":266.16749646484169},{"$f":"Prevalence!H154*BD155","v":349.79999999999995},{"$f":"Prevalence!I154*BE155","v":778.12413394882947},{"$f":"Prevalence!J154*BF155","v":349.00799999999992},{"$f":"Prevalence!K154*BG155","v":566.49091587492126},{"$f":"Prevalence!L154*BH155","v":559.57769999999982},{"$f":"Prevalence!M154*BI155","v":10.643333333333333},{"$f":"Prevalence!N154*BJ155","v":30.379999999999995},{"$f":"Prevalence!O154*BK155","v":281.95647911017056},{"$f":"Prevalence!P154*BL155","v":68.199999999999989},{"$f":"Prevalence!Q154*BM155","v":87.884700665188461},{"$f":"Prevalence!R154*BN155","v":139.2157662249405},{"$f":"Prevalence!S154*BO155","v":114.05803921568625},{"$f":"Prevalence!T154*BP155","v":125.84750733137827},{"$f":"Prevalence!U154*BQ155","v":70.756476683937819},{"$f":"Prevalence!V154*BR155","v":253.30136986301366},{"$f":"Prevalence!W154*BS155","v":78.577777777777769},{"$f":"Prevalence!X154*BT155","v":73.038961038961034},{"$f":"Prevalence!Y154*BU155","v":45.881130507065656},{"$f":"Prevalence!Z154*BV155","v":84.077333333333314},{"$f":"Prevalence!AA154*BW155","v":23.213372664700096},{"$f":"Prevalence!AB154*BX155","v":245.95178511845177},{"$f":"Prevalence!AC154*BY155","v":68.199999999999989},{"$f":"Prevalence!AD154*BZ155","v":139.44944444444442},{"$f":"Prevalence!AE154*CA155","v":305.85502203665038},{"$f":"Prevalence!AF154*CB155","v":352.75091885778909},{"$f":"Prevalence!AG154*CC155","v":224.94557823129247},{"$f":"Prevalence!AH154*CD155","v":47.257777777777768},{"$f":"Prevalence!AI154*CE155","v":79.59174809989139},{"$f":"Prevalence!AJ154*CF155","v":140.42045454545453},{"$f":"Prevalence!AK154*CG155","v":96.436149312377182},{"$f":"Prevalence!AL154*CH155","v":313.09076175040519},{"$f":"Prevalence!AM154*CI155","v":10.643333333333333},{"$f":"Prevalence!AN154*CJ155","v":86.527497194163843},{"$f":"Prevalence!AO154*CK155","v":150.19667170953099},{"$f":"Prevalence!AP154*CL155","v":141.46515151515149},{"$f":"Prevalence!AQ154*CM155","v":30.379999999999995},{"$f":"Prevalence!AR154*CN155","v":104.28893905191872},{"$f":"Prevalence!AS154*CO155","v":314.37131846958425},{"$f":"Prevalence!AT154*CP155","v":57.776493256262036},{"$f":"Prevalence!AU154*CQ155","v":87.513645224171526},{"$f":"Prevalence!AV154*CR155","v":162.72644376899694},154,38633,2146,1279,1804,2653,2287,4240,6402,3305,4909,6129,103,294,2422,660,1101,1766,976,998,569,1804,608,592,415,769,227,2885,660,1201,2653,2785,2307,343,748,1373,729,2553,103,838,1360,1279,294,825,2921,517,707,1727]
["Male 45-49",{"$f":"Prevalence!B155*AX156","v":4899.24},{"$f":"Prevalence!C155*AY156","v":347.8369853709504},{"$f":"Prevalence!D155*AZ156","v":175.2},{"$f":"Prevalence!E155*BA156","v":337.87044820829993},{"$f":"Prevalence!F155*BB156","v":340.53072231810961},{"$f":"Prevalence!G155*BC156","v":288.71402168512145},{"$f":"Prevalence!H155*BD156","v":398.07},{"$f":"Prevalence!I155*BE156","v":866.76279519868774},{"$f":"Prevalence!J155*BF156","v":458.38079999999997},{"$f":"Prevalence!K155*BG156","v":649.71416881730454},{"$f":"Prevalence!L155*BH156","v":573.99479999999994},{"$f":"Prevalence!M155*BI156","v":16.796363636363633},{"$f":"Prevalence!N155*BJ156","v":39.341818181818176},{"$f":"Prevalence!O155*BK156","v":342.00531412522599},{"$f":"Prevalence!P155*BL156","v":72.258181818181811},{"$f":"Prevalence!Q155*BM156","v":96.832090304374105},{"$f":"Prevalence!R155*BN156","v":162.70744138634046},{"$f":"Prevalence!S155*BO156","v":135.6457754010695},{"$f":"Prevalence!T155*BP156","v":159.84857371367633},{"$f":"Prevalence!U155*BQ156","v":76.646255299105022},{"$f":"Prevalence!V155*BR156","v":337.29265255292654},{"$f":"Prevalence!W155*BS156","v":89.809888357256767},{"$f":"Prevalence!X155*BT156","v":91.119244391971662},{"$f":"Prevalence!Y155*BU156","v":50.534572659260931},{"$f":"Prevalence!Z155*BV156","v":90.408727272727262},{"$f":"Prevalence!AA155*BW156","v":27.108608205953335},{"$f":"Prevalence!AB155*BX156","v":240.78241878241877},{"$f":"Prevalence!AC155*BY156","v":72.258181818181811},{"$f":"Prevalence!AD155*BZ156","v":151.36666666666667},{"$f":"Prevalence!AE155*CA156","v":339.94837730119565},{"$f":"Prevalence!AF155*CB156","v":347.78811010872079},{"$f":"Prevalence!AG155*CC156","v":299.6437847866419},{"$f":"Prevalence!AH155*CD156","v":73.798787878787863},{"$f":"Prevalence!AI155*CE156","v":89.845424933372797},{"$f":"Prevalence!AJ155*CF156","v":158.31818181818181},{"$f":"Prevalence!AK155*CG156","v":116.74799071262724},{"$f":"Prevalence!AL155*CH156","v":354.93207602769996},{"$f":"Prevalence!AM155*CI156","v":16.796363636363633},{"$f":"Prevalence!AN155*CJ156","v":111.74043464952554},{"$f":"Prevalence!AO155*CK156","v":190.23573098610919},{"$f":"Prevalence!AP155*CL156","v":176.16528925619835},{"$f":"Prevalence!AQ155*CM156","v":39.341818181818176},{"$f":"Prevalence!AR155*CN156","v":138.86804843012516},{"$f":"Prevalence!AS155*CO156","v":351.99099166729218},{"$f":"Prevalence!AT155*CP156","v":62.663163426169206},{"$f":"Prevalence!AU155*CQ156","v":107.75757575757576},{"$f":"Prevalence!AV155*CR156","v":168.78253661232384},155,40827,2493,1460,2202,2703,2274,4423,6537,3979,5161,5763,149,349,2693,641,1112,1892,1064,1162,565,2202,637,677,419,758,243,2589,641,1195,2703,2517,2817,491,774,1419,809,2653,149,992,1579,1460,349,1007,2998,514,798,1642]
["Male 50-54",{"$f":"Prevalence!B156*AX157","v":9200.4},{"$f":"Prevalence!C156*AY157","v":653.81633110640735},{"$f":"Prevalence!D156*AZ157","v":347.03999999999996},{"$f":"Prevalence!E156*BA157","v":673.2858886185378},{"$f":"Prevalence!F156*BB157","v":667.20336862623321},{"$f":"Prevalence!G156*BC157","v":544.41764511248937},{"$f":"Prevalence!H156*BD157","v":734.04},{"$f":"Prevalence!I156*BE157","v":1590.8551348927422},{"$f":"Prevalence!J156*BF157","v":896.4864},{"$f":"Prevalence!K156*BG157","v":1177.0640337999994},{"$f":"Prevalence!L156*BH157","v":1036.0391999999999},{"$f":"Prevalence!M156*BI157","v":39.229090909090907},{"$f":"Prevalence!N156*BJ157","v":74.625454545454545},{"$f":"Prevalence!O156*BK157","v":648.95921098399731},{"$f":"Prevalence!P156*BL157","v":147.8981818181818},{"$f":"Prevalence!Q156*BM157","v":177.119129207821},{"$f":"Prevalence!R156*BN157","v":309.59132610508755},{"$f":"Prevalence!S156*BO157","v":276.13604278074865},{"$f":"Prevalence!T156*BP157","v":319.69714742735266},{"$f":"Prevalence!U156*BQ157","v":131.58737635421571},{"$f":"Prevalence!V156*BR157","v":672.13449564134498},{"$f":"Prevalence!W156*BS157","v":163.26507177033488},{"$f":"Prevalence!X156*BT157","v":152.89728453364816},{"$f":"Prevalence!Y156*BU157","v":84.666515529358421},{"$f":"Prevalence!Z156*BV157","v":186.304},{"$f":"Prevalence!AA156*BW157","v":55.109680879592375},{"$f":"Prevalence!AB156*BX157","v":426.87960687960685},{"$f":"Prevalence!AC156*BY157","v":147.8981818181818},{"$f":"Prevalence!AD156*BZ157","v":293.86666666666667},{"$f":"Prevalence!AE156*CA157","v":666.06237742772191},{"$f":"Prevalence!AF156*CB157","v":610.73637134705837},{"$f":"Prevalence!AG156*CC157","v":580.56648113790959},{"$f":"Prevalence!AH156*CD157","v":142.48727272727271},{"$f":"Prevalence!AI156*CE157","v":175.04767545158421},{"$f":"Prevalence!AJ156*CF157","v":281.38016528925618},{"$f":"Prevalence!AK156*CG157","v":232.63011252009284},{"$f":"Prevalence!AL156*CH157","v":611.93340209223516},{"$f":"Prevalence!AM156*CI157","v":39.229090909090907},{"$f":"Prevalence!AN156*CJ157","v":201.1778389960208},{"$f":"Prevalence!AO156*CK157","v":335.17150323201759},{"$f":"Prevalence!AP156*CL157","v":348.95206611570251},{"$f":"Prevalence!AQ156*CM157","v":74.625454545454545},{"$f":"Prevalence!AR156*CN157","v":267.25548943156161},{"$f":"Prevalence!AS156*CO157","v":685.66624127317766},{"$f":"Prevalence!AT156*CP157","v":121.66894377299002},{"$f":"Prevalence!AU156*CQ157","v":214.43487506645403},{"$f":"Prevalence!AV156*CR157","v":281.8524454269135},156,38335,2343,1446,2194,2648,2144,4078,5999,3891,4675,5201,174,331,2555,656,1017,1800,1083,1162,485,2194,579,568,351,781,247,2295,656,1160,2648,2210,2729,474,754,1261,806,2287,174,893,1391,1446,331,969,2920,499,794,1371]
["Male 55-59",{"$f":"Prevalence!B157*AX158","v":7399.9199999999992},{"$f":"Prevalence!C157*AY158","v":544.07955252868862},{"$f":"Prevalence!D157*AZ158","v":278.52},{"$f":"Prevalence!E157*BA158","v":567.10680135235089},{"$f":"Prevalence!F157*BB158","v":517.13720310597614},{"$f":"Prevalence!G157*BC158","v":397.3309282601528},{"$f":"Prevalence!H157*BD158","v":632.44499999999994},{"$f":"Prevalence!I157*BE158","v":1243.3942346605006},{"$f":"Prevalence!J157*BF158","v":806.99519999999984},{"$f":"Prevalence!K157*BG158","v":893.41468134113677},{"$f":"Prevalence!L157*BH158","v":779.15419999999983},{"$f":"Prevalence!M157*BI158","v":32.033333333333331},{"$f":"Prevalence!N157*BJ158","v":68.199999999999989},{"$f":"Prevalence!O157*BK158","v":534.80927540550101},{"$f":"Prevalence!P157*BL158","v":122.34666666666665},{"$f":"Prevalence!Q157*BM158","v":157.25055432372505},{"$f":"Prevalence!R157*BN158","v":272.91335372069312},{"$f":"Prevalence!S157*BO158","v":219.93568627450975},{"$f":"Prevalence!T157*BP158","v":293.05571847507326},{"$f":"Prevalence!U157*BQ158","v":94.756476683937805},{"$f":"Prevalence!V157*BR158","v":566.1369863013698},{"$f":"Prevalence!W157*BS158","v":128.20584795321636},{"$f":"Prevalence!X157*BT158","v":127.07792207792208},{"$f":"Prevalence!Y157*BU158","v":63.017456359102226},{"$f":"Prevalence!Z157*BV158","v":144.97599999999997},{"$f":"Prevalence!AA157*BW158","v":47.858407079646007},{"$f":"Prevalence!AB157*BX158","v":318.50116783450113},{"$f":"Prevalence!AC157*BY158","v":122.34666666666665},{"$f":"Prevalence!AD157*BZ158","v":217.35999999999996},{"$f":"Prevalence!AE157*CA158","v":516.25284156808152},{"$f":"Prevalence!AF157*CB158","v":473.71218546791061},{"$f":"Prevalence!AG157*CC158","v":518.53514739229013},{"$f":"Prevalence!AH157*CD158","v":112.7022222222222},{"$f":"Prevalence!AI157*CE158","v":147.26601520086857},{"$f":"Prevalence!AJ157*CF158","v":228.47727272727272},{"$f":"Prevalence!AK157*CG158","v":196.04715127701371},{"$f":"Prevalence!AL157*CH158","v":466.01836844948673},{"$f":"Prevalence!AM157*CI158","v":32.033333333333331},{"$f":"Prevalence!AN157*CJ158","v":177.5982042648709},{"$f":"Prevalence!AO157*CK158","v":250.69591527987893},{"$f":"Prevalence!AP157*CL158","v":280.0545454545454},{"$f":"Prevalence!AQ157*CM158","v":68.199999999999989},{"$f":"Prevalence!AR157*CN158","v":220.20767494356656},{"$f":"Prevalence!AS157*CO158","v":536.40077071290932},{"$f":"Prevalence!AT157*CP158","v":87.167630057803464},{"$f":"Prevalence!AU157*CQ158","v":163.63937621832355},{"$f":"Prevalence!AV157*CR158","v":196.741641337386},157,33636,2127,1266,2016,2239,1707,3833,5115,3821,3871,4267,155,330,2297,592,985,1731,941,1162,381,2016,496,515,285,663,234,1868,592,936,2239,1870,2659,409,692,1117,741,1900,155,860,1135,1266,330,871,2492,390,661,1044]
["Male 60-64",{"$f":"Prevalence!B158*AX159","v":13743.240000000002},{"$f":"Prevalence!C158*AY159","v":1060.6725883634035},{"$f":"Prevalence!D158*AZ159","v":577.92000000000007},{"$f":"Prevalence!E158*BA159","v":1164.2874482309628},{"$f":"Prevalence!F158*BB159","v":975.79752486678433},{"$f":"Prevalence!G158*BC159","v":758.98523378788741},{"$f":"Prevalence!H158*BD159","v":1197.0000000000002},{"$f":"Prevalence!I158*BE159","v":2039.153285507208},{"$f":"Prevalence!J158*BF159","v":1639.8144},{"$f":"Prevalence!K158*BG159","v":1554.9204720300208},{"$f":"Prevalence!L158*BH159","v":1361.6316000000002},{"$f":"Prevalence!M158*BI159","v":52.474545454545449},{"$f":"Prevalence!N158*BJ159","v":134.54},{"$f":"Prevalence!O158*BK159","v":1003.2198213636182},{"$f":"Prevalence!P158*BL159","v":259.6109090909091},{"$f":"Prevalence!Q158*BM159","v":290.45273130417257},{"$f":"Prevalence!R158*BN159","v":531.85209897136508},{"$f":"Prevalence!S158*BO159","v":444.41839572192509},{"$f":"Prevalence!T158*BP159","v":620.13543055185289},{"$f":"Prevalence!U158*BQ159","v":192.76872350447482},{"$f":"Prevalence!V158*BR159","v":1162.296388542964},{"$f":"Prevalence!W158*BS159","v":228.47240829346092},{"$f":"Prevalence!X158*BT159","v":228.47107438016533},{"$f":"Prevalence!Y158*BU159","v":117.3511675357062},{"$f":"Prevalence!Z158*BV159","v":245.46327272727274},{"$f":"Prevalence!AA158*BW159","v":74.967015285599359},{"$f":"Prevalence!AB158*BX159","v":506.16389116389121},{"$f":"Prevalence!AC158*BY159","v":259.6109090909091},{"$f":"Prevalence!AD158*BZ159","v":395.89666666666676},{"$f":"Prevalence!AE158*CA159","v":974.1288036945657},{"$f":"Prevalence!AF158*CB159","v":715.26625028915112},{"$f":"Prevalence!AG158*CC159","v":1034.6060606060605},{"$f":"Prevalence!AH158*CD159","v":174.65212121212119},{"$f":"Prevalence!AI158*CE159","v":299.42671009771988},{"$f":"Prevalence!AJ158*CF159","v":421.73553719008265},{"$f":"Prevalence!AK158*CG159","v":386.89908912305771},{"$f":"Prevalence!AL158*CH159","v":849.87034035656416},{"$f":"Prevalence!AM158*CI159","v":52.474545454545449},{"$f":"Prevalence!AN158*CJ159","v":314.60789715335164},{"$f":"Prevalence!AO158*CK159","v":466.37271351946089},{"$f":"Prevalence!AP158*CL159","v":581.10413223140506},{"$f":"Prevalence!AQ158*CM159","v":134.54},{"$f":"Prevalence!AR158*CN159","v":444.52944797865791},{"$f":"Prevalence!AS158*CO159","v":866.65160273252752},{"$f":"Prevalence!AT158*CP159","v":174.51812926957439},{"$f":"Prevalence!AU158*CQ159","v":289.24401913875602},{"$f":"Prevalence!AV158*CR159","v":369.12185686653777},158,32722,2172,1376,2168,2213,1708,3800,4394,4067,3529,3906,133,341,2257,658,953,1767,996,1288,406,2168,463,485,278,588,192,1555,658,893,2213,1479,2779,332,737,1080,766,1815,133,798,1106,1376,341,921,2109,409,612,1026]
["Male 65-69",{"$f":"Prevalence!B159*AX160","v":26585.24},{"$f":"Prevalence!C159*AY160","v":2021},{"$f":"Prevalence!D159*AZ160","v":1175.76},{"$f":"Prevalence!E159*BA160","v":2080},{"$f":"Prevalence!F159*BB160","v":1960.7077845643776},{"$f":"Prevalence!G159*BC160","v":1421.1399660196978},{"$f":"Prevalence!H159*BD160","v":2270.79},{"$f":"Prevalence!I159*BE160","v":3757},{"$f":"Prevalence!J159*BF160","v":3259.8912},{"$f":"Prevalence!K159*BG160","v":2970.7333764291325},{"$f":"Prevalence!L159*BH160","v":2487.0452},{"$f":"Prevalence!M159*BI160","v":105.43757575757576},{"$f":"Prevalence!N159*BJ160","v":253.2230303030303},{"$f":"Prevalence!O159*BK160","v":1910.3022410217789},{"$f":"Prevalence!P159*BL160","v":498.66787878787881},{"$f":"Prevalence!Q159*BM160","v":513.39004233017533},{"$f":"Prevalence!R159*BN160","v":1013.366941587125},{"$f":"Prevalence!S159*BO160","v":837.62966131907297},{"$f":"Prevalence!T159*BP160","v":1259},{"$f":"Prevalence!U159*BQ160","v":319},{"$f":"Prevalence!V159*BR160","v":2080},{"$f":"Prevalence!W159*BS160","v":356},{"$f":"Prevalence!X159*BT160","v":512},{"$f":"Prevalence!Y159*BU160","v":200.65079724930101},{"$f":"Prevalence!Z159*BV160","v":484.64484848484852},{"$f":"Prevalence!AA159*BW160","v":137.69983016000714},{"$f":"Prevalence!AB159*BX160","v":896.97418630751974},{"$f":"Prevalence!AC159*BY160","v":498.66787878787881},{"$f":"Prevalence!AD159*BZ160","v":779.80222222222221},{"$f":"Prevalence!AE159*CA160","v":1957.3547584403534},{"$f":"Prevalence!AF159*CB160","v":1236},{"$f":"Prevalence!AG159*CC160","v":1983.3007627293341},{"$f":"Prevalence!AH159*CD160","v":308},{"$f":"Prevalence!AI159*CE160","v":530.40529069193553},{"$f":"Prevalence!AJ159*CF160","v":842.54132231404958},{"$f":"Prevalence!AK159*CG160","v":672},{"$f":"Prevalence!AL159*CH160","v":1556},{"$f":"Prevalence!AM159*CI160","v":105.43757575757576},{"$f":"Prevalence!AN159*CJ160","v":646.82542597694101},{"$f":"Prevalence!AO159*CK160","v":902.42497593178382},{"$f":"Prevalence!AP159*CL160","v":1182.2380165289258},{"$f":"Prevalence!AQ159*CM160","v":253.2230303030303},{"$f":"Prevalence!AR159*CN160","v":837},{"$f":"Prevalence!AS159*CO160","v":1693.1494632535096},{"$f":"Prevalence!AT159*CP160","v":315.91662287616049},{"$f":"Prevalence!AU159*CQ160","v":499},{"$f":"Prevalence!AV159*CR160","v":687.97899972368054},159,28897,2021,1278,2080,2030,1460,3291,3757,3691,3078,3257,122,293,1962,577,769,1537,857,1259,319,2080,356,512,217,530,161,1258,577,803,2030,1236,2432,308,596,985,672,1556,122,749,977,1278,293,837,1881,338,499,873]
["Male 70-74",null,null,null,null,null,null,null,null,null,null,null,null,null,null,null,null,null,null,null,null,null,null,null,null,null,null,null,null,null,null,null,null,null,null,null,null,null,null,null,null,null,null,null,null,null,null,null,160]
["Male 75-79",null,null,null,null,null,null,null,null,null,null,null,null,null,null,null,null,null,null,null,null,null,null,null,null,null,null,null,null,null,null,null,null,null,null,null,null,null,null,null,null,null,null,null,null,null,null,null,161]
["Male 80-84",null,null,null,null,null,null,null,null,null,null,null,null,null,null,null,null,null,null,null,null,null,null,null,null,null,null,null,null,null,null,null,null,null,null,null,null,null,null,null,null,null,null,null,null,null,null,null,162]
["Male 85+",null,null,null,null,null,null,null,null,null,null,null,null,null,null,null,null,null,null,null,null,null,null,null,null,null,null,null,null,null,null,null,null,null,null,null,null,null,null,null,null,null,null,null,null,null,null,null,163]
[null,null,null,null,null,null,null,null,null,null,null,null,null,null,null,null,null,null,null,null,null,null,null,null,null,null,null,null,null,null,null,null,null,null,null,null,null,null,null,null,null,null,null,null,null,null,null,null,164]
["Female <1",null,null,null,null,null,null,null,null,null,null,null,null,null,null,null,null,null,null,null,null,null,null,null,null,null,null,null,null,null,null,null,null,null,null,null,null,null,null,null,null,null,null,null,null,null,null,null,165]
["Female 1-4",null,null,null,null,null,null,null,null,null,null,null,null,null,null,null,null,null,null,null,null,null,null,null,null,null,null,null,null,null,null,null,null,null,null,null,null,null,null,null,null,null,null,null,null,null,null,null,166]
["Female 5-9",null,null,null,null,null,null,null,null,null,null,null,null,null,null,null,null,null,null,null,null,null,null,null,null,null,null,null,null,null,null,null,null,null,null,null,null,null,null,null,null,null,null,null,null,null,null,null,167]
["Female 10-14",null,null,null,null,null,null,null,null,null,null,null,null,null,null,null,null,null,null,null,null,null,null,null,null,null,null,null,null,null,null,null,null,null,null,null,null,null,null,null,null,null,null,null,null,null,null,null,168]
["Female 16-19",{"$f":"Prevalence!B169*AX170","v":1970.72},{"$f":"Prevalence!C169*AY170","v":133.86314417075928},{"$f":"Prevalence!D169*AZ170","v":69.854665715371027},{"$f":"Prevalence!E169*BA170","v":112.91962676619201},{"$f":"Prevalence!F169*BB170","v":133.78560000000002},{"$f":"Prevalence!G169*BC170","v":103.81844342564065},{"$f":"Prevalence!H169*BD170","v":216.67667654124628},{"$f":"Prevalence!I169*BE170","v":346.23230397208835},{"$f":"Prevalence!J169*BF170","v":180.79360000000003},{"$f":"Prevalence!K169*BG170","v":224.70857816811213},{"$f":"Prevalence!L169*BH170","v":245.29231591968818},{"$f":"Prevalence!M169*BI170","v":5.4857142857142858},{"$f":"Prevalence!N169*BJ170","v":16.914285714285715},{"$f":"Prevalence!O169*BK170","v":151.83752338699901},{"$f":"Prevalence!P169*BL170","v":30.62857142857143},{"$f":"Prevalence!Q169*BM170","v":65.345654698783008},{"$f":"Prevalence!R169*BN170","v":82.357142857142875},{"$f":"Prevalence!S169*BO170","v":50.938775510204088},{"$f":"Prevalence!T169*BP170","v":58.954755309325954},{"$f":"Prevalence!U169*BQ170","v":27.071090047393366},{"$f":"Prevalence!V169*BR170","v":112.62115732368898},{"$f":"Prevalence!W169*BS170","v":56.960000000000015},{"$f":"Prevalence!X169*BT170","v":32.612511671335206},{"$f":"Prevalence!Y169*BU170","v":17.121883360085612},{"$f":"Prevalence!Z169*BV170","v":54.245226593052685},{"$f":"Prevalence!AA169*BW170","v":11.485254691689008},{"$f":"Prevalence!AB169*BX170","v":89.544061804373456},{"$f":"Prevalence!AC169*BY170","v":30.62857142857143},{"$f":"Prevalence!AD169*BZ170","v":48.989285714285714},{"$f":"Prevalence!AE169*CA170","v":134.07448582545859},{"$f":"Prevalence!AF169*CB170","v":163.59212283044059},{"$f":"Prevalence!AG169*CC170","v":120.95176452458006},{"$f":"Prevalence!AH169*CD170","v":23.27630285152409},{"$f":"Prevalence!AI169*CE170","v":33.331677018633542},{"$f":"Prevalence!AJ169*CF170","v":72.546677428033362},{"$f":"Prevalence!AK169*CG170","v":49.341228719467061},{"$f":"Prevalence!AL169*CH170","v":124.43529411764708},{"$f":"Prevalence!AM169*CI170","v":5.4857142857142858},{"$f":"Prevalence!AN169*CJ170","v":43.291139240506325},{"$f":"Prevalence!AO169*CK170","v":70.202265050665602},{"$f":"Prevalence!AP169*CL170","v":69.670025686623205},{"$f":"Prevalence!AQ169*CM170","v":16.914285714285715},{"$f":"Prevalence!AR169*CN170","v":51.248120300751886},{"$f":"Prevalence!AS169*CO170","v":120.14285714285715},{"$f":"Prevalence!AT169*CP170","v":28.279000372995156},{"$f":"Prevalence!AU169*CQ170","v":38.039417309340188},{"$f":"Prevalence!AV169*CR170","v":70.280898876404507},169,24634,1433,820,1293,1608,1295,2999,4196,2173,2911,3373,72,222,1837,402,935,1153,624,694,306,1293,700,370,221,706,153,1254,402,638,1608,1971,1479,269,468,911,495,1511,72,513,866,820,222,568,1682,351,434,945]
["Female 20-24",{"$f":"Prevalence!B170*AX171","v":4048.55},{"$f":"Prevalence!C170*AY171","v":186.88761535703094},{"$f":"Prevalence!D170*AZ171","v":93.35607535467345},{"$f":"Prevalence!E170*BA171","v":159.70747675844828},{"$f":"Prevalence!F170*BB171","v":242.64240000000001},{"$f":"Prevalence!G170*BC171","v":218.36946917839143},{"$f":"Prevalence!H170*BD171","v":469.29755000789106},{"$f":"Prevalence!I170*BE171","v":941.01996009859124},{"$f":"Prevalence!J170*BF171","v":238.06640000000002},{"$f":"Prevalence!K170*BG171","v":377.96546356162486},{"$f":"Prevalence!L170*BH171","v":715.65105823485374},{"$f":"Prevalence!M170*BI171","v":9.8476190476190482},{"$f":"Prevalence!N170*BJ171","v":24.095238095238095},{"$f":"Prevalence!O170*BK171","v":303.78869761485657},{"$f":"Prevalence!P170*BL171","v":32.161904761904765},{"$f":"Prevalence!Q170*BM171","v":235.34045346664647},{"$f":"Prevalence!R170*BN171","v":131.70535714285717},{"$f":"Prevalence!S170*BO171","v":78.459183673469383},{"$f":"Prevalence!T170*BP171","v":67.396583564173596},{"$f":"Prevalence!U170*BQ171","v":37.101105845181671},{"$f":"Prevalence!V170*BR171","v":159.28533755274262},{"$f":"Prevalence!W170*BS171","v":151.38137142857147},{"$f":"Prevalence!X170*BT171","v":46.175350140056025},{"$f":"Prevalence!Y170*BU171","v":31.212573568753346},{"$f":"Prevalence!Z170*BV171","v":93.603749712445378},{"$f":"Prevalence!AA170*BW171","v":18.579088471849865},{"$f":"Prevalence!AB170*BX171","v":450.37128453581249},{"$f":"Prevalence!AC170*BY171","v":32.161904761904765},{"$f":"Prevalence!AD170*BZ171","v":84.569866071428578},{"$f":"Prevalence!AE170*CA171","v":243.16634241245137},{"$f":"Prevalence!AF170*CB171","v":606.79937138406763},{"$f":"Prevalence!AG170*CC171","v":169.11984383829045},{"$f":"Prevalence!AH170*CD171","v":43.902654867256636},{"$f":"Prevalence!AI170*CE171","v":53.763354037267085},{"$f":"Prevalence!AJ170*CF171","v":102.2701103040086},{"$f":"Prevalence!AK170*CG171","v":69.07772020725389},{"$f":"Prevalence!AL170*CH171","v":205.29558823529413},{"$f":"Prevalence!AM170*CI171","v":9.8476190476190482},{"$f":"Prevalence!AN170*CJ171","v":72.056962025316452},{"$f":"Prevalence!AO170*CK171","v":127.29227101132524},{"$f":"Prevalence!AP170*CL171","v":93.109316340644142},{"$f":"Prevalence!AQ170*CM171","v":24.095238095238095},{"$f":"Prevalence!AR170*CN171","v":70.714285714285722},{"$f":"Prevalence!AS170*CO171","v":211.25892857142858},{"$f":"Prevalence!AT170*CP171","v":96.932114882506539},{"$f":"Prevalence!AU170*CQ171","v":71.104786387562726},{"$f":"Prevalence!AV170*CR171","v":116.06574371321564},170,36805,1455,797,1330,2121,1981,4724,8294,2081,3561,7157,94,230,2673,307,2449,1341,699,577,305,1330,1353,381,293,886,180,4587,307,801,2121,5317,1504,369,549,934,504,1813,94,621,1142,797,230,570,2151,875,590,1135]
["Female 25-29",{"$f":"Prevalence!B171*AX172","v":7799.6099999999988},{"$f":"Prevalence!C171*AY172","v":342.07264554103222},{"$f":"Prevalence!D171*AZ172","v":194.77312356705048},{"$f":"Prevalence!E171*BA172","v":302.83288535585189},{"$f":"Prevalence!F171*BB172","v":504.06719999999996},{"$f":"Prevalence!G171*BC172","v":385.320749822327},{"$f":"Prevalence!H171*BD172","v":853.06958622595187},{"$f":"Prevalence!I171*BE172","v":1697.9389790151695},{"$f":"Prevalence!J171*BF172","v":520.0104},{"$f":"Prevalence!K171*BG172","v":772.430912895642},{"$f":"Prevalence!L171*BH172","v":1500.442842636515},{"$f":"Prevalence!M171*BI172","v":20.2},{"$f":"Prevalence!N171*BJ172","v":42.8},{"$f":"Prevalence!O171*BK172","v":507.27536222474657},{"$f":"Prevalence!P171*BL172","v":74.399999999999991},{"$f":"Prevalence!Q171*BM172","v":375.90349946977722},{"$f":"Prevalence!R171*BN172","v":258.37499999999994},{"$f":"Prevalence!S171*BO172","v":172.71428571428569},{"$f":"Prevalence!T171*BP172","v":156.98614958448752},{"$f":"Prevalence!U171*BQ172","v":88.478672985781969},{"$f":"Prevalence!V171*BR172","v":302.0324367088607},{"$f":"Prevalence!W171*BS172","v":176.86080000000001},{"$f":"Prevalence!X171*BT172","v":75.658823529411762},{"$f":"Prevalence!Y171*BU172","v":42.097752808988758},{"$f":"Prevalence!Z171*BV172","v":129.68719806763283},{"$f":"Prevalence!AA171*BW172","v":31.528150134048254},{"$f":"Prevalence!AB171*BX172","v":994.1961503208064},{"$f":"Prevalence!AC171*BY172","v":74.399999999999991},{"$f":"Prevalence!AD171*BZ172","v":188.66249999999997},{"$f":"Prevalence!AE171*CA172","v":505.15564202334622},{"$f":"Prevalence!AF171*CB172","v":1053.4199766355139},{"$f":"Prevalence!AG171*CC172","v":360.00323624595461},{"$f":"Prevalence!AH171*CD172","v":65.643067846607664},{"$f":"Prevalence!AI171*CE172","v":105.44347826086955},{"$f":"Prevalence!AJ171*CF172","v":223.88135593220335},{"$f":"Prevalence!AK171*CG172","v":120.10103626943004},{"$f":"Prevalence!AL171*CH172","v":422.84117647058821},{"$f":"Prevalence!AM171*CI172","v":20.2},{"$f":"Prevalence!AN171*CJ172","v":155.94936708860757},{"$f":"Prevalence!AO171*CK172","v":271.10152990264248},{"$f":"Prevalence!AP171*CL172","v":194.25829875518667},{"$f":"Prevalence!AQ171*CM172","v":42.8},{"$f":"Prevalence!AR171*CN172","v":144.23684210526312},{"$f":"Prevalence!AS171*CO172","v":440.06249999999994},{"$f":"Prevalence!AT171*CP172","v":108.70496083550914},{"$f":"Prevalence!AU171*CQ172","v":134.13496143958866},{"$f":"Prevalence!AV171*CR172","v":263.3581460674157},171,37141,1395,871,1321,2308,1831,4498,7839,2381,3812,7860,101,214,2338,372,2049,1378,806,704,381,1321,828,327,207,643,160,5304,372,936,2308,4835,1677,289,564,1071,459,1956,101,704,1274,871,214,609,2347,514,583,1349]
["Female 30-34",{"$f":"Prevalence!B172*AX173","v":6697.6899999999978},{"$f":"Prevalence!C172*AY173","v":339.22349976489249},{"$f":"Prevalence!D172*AZ173","v":176.62794820439922},{"$f":"Prevalence!E172*BA173","v":271.71012279684049},{"$f":"Prevalence!F172*BB173","v":480.16799999999984},{"$f":"Prevalence!G172*BC173","v":360.99957586537425},{"$f":"Prevalence!H172*BD173","v":666.81000899242974},{"$f":"Prevalence!I172*BE173","v":1368.0858724545344},{"$f":"Prevalence!J172*BF173","v":495.38319999999987},{"$f":"Prevalence!K172*BG173","v":742.68269293290177},{"$f":"Prevalence!L172*BH173","v":1190.5276734010447},{"$f":"Prevalence!M172*BI173","v":18.095238095238091},{"$f":"Prevalence!N172*BJ173","v":47.228571428571421},{"$f":"Prevalence!O172*BK173","v":409.69061750576145},{"$f":"Prevalence!P172*BL173","v":80.885714285714272},{"$f":"Prevalence!Q172*BM173","v":229.39120335302727},{"$f":"Prevalence!R172*BN173","v":242.24999999999994},{"$f":"Prevalence!S172*BO173","v":162.27551020408157},{"$f":"Prevalence!T172*BP173","v":141.02631578947367},{"$f":"Prevalence!U172*BQ173","v":83.2037914691943},{"$f":"Prevalence!V172*BR173","v":270.99193791440621},{"$f":"Prevalence!W172*BS173","v":114.02171428571428},{"$f":"Prevalence!X172*BT173","v":74.73333333333332},{"$f":"Prevalence!Y172*BU173","v":44.712520064205442},{"$f":"Prevalence!Z172*BV173","v":110.21923165401424},{"$f":"Prevalence!AA172*BW173","v":31.556300268096507},{"$f":"Prevalence!AB172*BX173","v":715.33494827811955},{"$f":"Prevalence!AC172*BY173","v":80.885714285714272},{"$f":"Prevalence!AD172*BZ173","v":186.37812499999995},{"$f":"Prevalence!AE172*CA173","v":481.20483602001104},{"$f":"Prevalence!AF172*CB173","v":732.11832443257651},{"$f":"Prevalence!AG172*CC173","v":351.16083628704979},{"$f":"Prevalence!AH172*CD173","v":66.173058013765967},{"$f":"Prevalence!AI172*CE173","v":111.13229813664593},{"$f":"Prevalence!AJ172*CF173","v":203.50497713209572},{"$f":"Prevalence!AK172*CG173","v":121.92018258080432},{"$f":"Prevalence!AL172*CH173","v":437.53088235294109},{"$f":"Prevalence!AM172*CI173","v":18.095238095238091},{"$f":"Prevalence!AN172*CJ173","v":132.27848101265818},{"$f":"Prevalence!AO172*CK173","v":249.71051062984296},{"$f":"Prevalence!AP172*CL173","v":176.16108476585651},{"$f":"Prevalence!AQ172*CM173","v":47.228571428571421},{"$f":"Prevalence!AR172*CN173","v":140.78571428571425},{"$f":"Prevalence!AS172*CO173","v":414.94642857142844},{"$f":"Prevalence!AT172*CP173","v":91.46363297277135},{"$f":"Prevalence!AU172*CQ173","v":124.0663483902558},{"$f":"Prevalence!AV172*CR173","v":249.75749063670406},172,35251,1529,873,1310,2430,1896,3886,6981,2507,4051,6893,100,261,2087,447,1382,1428,837,699,396,1310,590,357,243,604,177,4218,447,1022,2430,3714,1808,322,657,1076,515,2237,100,660,1297,873,261,657,2446,478,596,1414]
["Female 35-39",{"$f":"Prevalence!B173*AX174","v":7337.4399999999987},{"$f":"Prevalence!C173*AY174","v":456.75076303065418},{"$f":"Prevalence!D173*AZ174","v":234.03442730067439},{"$f":"Prevalence!E173*BA174","v":361.68339849356852},{"$f":"Prevalence!F173*BB174","v":529.90079999999989},{"$f":"Prevalence!G173*BC174","v":422.18832254075676},{"$f":"Prevalence!H173*BD174","v":733.35192933070516},{"$f":"Prevalence!I173*BE174","v":1290.4703431590758},{"$f":"Prevalence!J173*BF174","v":636.97919999999988},{"$f":"Prevalence!K173*BG174","v":859.94838129072855},{"$f":"Prevalence!L173*BH174","v":1154.5210449042363},{"$f":"Prevalence!M173*BI174","v":18.228571428571428},{"$f":"Prevalence!N173*BJ174","v":53.428571428571423},{"$f":"Prevalence!O173*BK174","v":456.19447520614818},{"$f":"Prevalence!P173*BL174","v":105.39047619047618},{"$f":"Prevalence!Q173*BM174","v":192.19310205524414},{"$f":"Prevalence!R173*BN174","v":298.76785714285711},{"$f":"Prevalence!S173*BO174","v":187.67346938775509},{"$f":"Prevalence!T173*BP174","v":193.42936288088643},{"$f":"Prevalence!U173*BQ174","v":98.287519747235379},{"$f":"Prevalence!V173*BR174","v":360.7273960216998},{"$f":"Prevalence!W173*BS174","v":115.0185142857143},{"$f":"Prevalence!X173*BT174","v":106.65172735760972},{"$f":"Prevalence!Y173*BU174","v":54.968218298555371},{"$f":"Prevalence!Z173*BV174","v":134.17241775937427},{"$f":"Prevalence!AA173*BW174","v":38.396782841823054},{"$f":"Prevalence!AB173*BX174","v":591.06935533149999},{"$f":"Prevalence!AC173*BY174","v":105.39047619047618},{"$f":"Prevalence!AD173*BZ174","v":215.17276785714282},{"$f":"Prevalence!AE173*CA174","v":531.04502501389663},{"$f":"Prevalence!AF173*CB174","v":593.21856920338212},{"$f":"Prevalence!AG173*CC174","v":439.89150870704265},{"$f":"Prevalence!AH173*CD174","v":73.052114060963618},{"$f":"Prevalence!AI173*CE174","v":128.0919254658385},{"$f":"Prevalence!AJ173*CF174","v":256.22276029055683},{"$f":"Prevalence!AK173*CG174","v":168.03429558351837},{"$f":"Prevalence!AL173*CH174","v":502.08529411764704},{"$f":"Prevalence!AM173*CI174","v":18.228571428571428},{"$f":"Prevalence!AN173*CJ174","v":152.46835443037972},{"$f":"Prevalence!AO173*CK174","v":264.83926087820379},{"$f":"Prevalence!AP173*CL174","v":233.4158269116775},{"$f":"Prevalence!AQ173*CM174","v":53.428571428571423},{"$f":"Prevalence!AR173*CN174","v":179.88721804511277},{"$f":"Prevalence!AS173*CO174","v":468.08928571428572},{"$f":"Prevalence!AT173*CP174","v":109.00708690787019},{"$f":"Prevalence!AU173*CQ174","v":144.61990451707672},{"$f":"Prevalence!AV173*CR174","v":301.46415195291598},173,33352,1778,999,1506,2316,1915,3691,5687,2784,4051,5773,87,255,2007,503,1000,1521,836,828,404,1506,514,440,258,635,186,3010,503,1019,2316,2599,1956,307,654,1170,613,2217,87,657,1188,999,255,725,2383,492,600,1474]
["Female 40-44",{"$f":"Prevalence!B174*AX175","v":7259.0400000000018},{"$f":"Prevalence!C174*AY175","v":503.80837564476468},{"$f":"Prevalence!D174*AZ175","v":277.54451329351082},{"$f":"Prevalence!E174*BA175","v":388.86532721048843},{"$f":"Prevalence!F174*BB175","v":514.61280000000022},{"$f":"Prevalence!G174*BC175","v":411.2653395934646},{"$f":"Prevalence!H174*BD175","v":703.72957608565343},{"$f":"Prevalence!I174*BE175","v":1265.6333737845296},{"$f":"Prevalence!J174*BF175","v":679.53600000000017},{"$f":"Prevalence!K174*BG175","v":899.68343474728533},{"$f":"Prevalence!L174*BH175","v":968.17015265869838},{"$f":"Prevalence!M174*BI175","v":19.028571428571436},{"$f":"Prevalence!N174*BJ175","v":53.14285714285716},{"$f":"Prevalence!O174*BK175","v":469.02668832853897},{"$f":"Prevalence!P174*BL175","v":112.9714285714286},{"$f":"Prevalence!Q174*BM175","v":161.80911983032877},{"$f":"Prevalence!R174*BN175","v":300.69642857142867},{"$f":"Prevalence!S174*BO175","v":188.26530612244903},{"$f":"Prevalence!T174*BP175","v":213.88088642659287},{"$f":"Prevalence!U174*BQ175","v":99.127962085308084},{"$f":"Prevalence!V174*BR175","v":387.83747739602182},{"$f":"Prevalence!W174*BS175","v":100.14788571428576},{"$f":"Prevalence!X174*BT175","v":123.15630252100844},{"$f":"Prevalence!Y174*BU175","v":70.25008025682186},{"$f":"Prevalence!Z174*BV175","v":147.11904761904768},{"$f":"Prevalence!AA174*BW175","v":45.772117962466496},{"$f":"Prevalence!AB174*BX175","v":403.590938850334},{"$f":"Prevalence!AC174*BY175","v":112.9714285714286},{"$f":"Prevalence!AD174*BZ175","v":219.41517857142864},{"$f":"Prevalence!AE174*CA175","v":515.72401334074505},{"$f":"Prevalence!AF174*CB175","v":501.98130841121508},{"$f":"Prevalence!AG174*CC175","v":462.03328710124845},{"$f":"Prevalence!AH174*CD175","v":84.88495575221242},{"$f":"Prevalence!AI174*CE175","v":132.36521739130438},{"$f":"Prevalence!AJ174*CF175","v":256.04358353510901},{"$f":"Prevalence!AK174*CG175","v":180.09548482605481},{"$f":"Prevalence!AL174*CH175","v":502.14705882352956},{"$f":"Prevalence!AM174*CI175","v":19.028571428571436},{"$f":"Prevalence!AN174*CJ175","v":180.37974683544309},{"$f":"Prevalence!AO174*CK175","v":299.49453606199091},{"$f":"Prevalence!AP174*CL175","v":276.81090693538835},{"$f":"Prevalence!AQ174*CM175","v":53.14285714285716},{"$f":"Prevalence!AR174*CN175","v":197.52631578947376},{"$f":"Prevalence!AS174*CO175","v":490.982142857143},{"$f":"Prevalence!AT174*CP175","v":92.813129429317456},{"$f":"Prevalence!AU174*CQ175","v":156.18949687844292},{"$f":"Prevalence!AV174*CR175","v":289.15569823435004},174,40328,2397,1448,1979,2749,2280,4329,6817,3630,5180,5917,111,310,2522,659,1029,1871,1025,1119,498,1979,547,621,403,851,271,2512,659,1270,2749,2688,2511,436,826,1429,803,2710,111,950,1642,1448,310,973,3055,512,792,1728]
["Female 45-49",{"$f":"Prevalence!B175*AX176","v":8009.6399999999976},{"$f":"Prevalence!C175*AY176","v":574.83851399008267},{"$f":"Prevalence!D175*AZ176","v":302.87747819242338},{"$f":"Prevalence!E175*BA176","v":494.67835333623253},{"$f":"Prevalence!F175*BB176","v":569.08799999999985},{"$f":"Prevalence!G175*BC176","v":439.2542307602418},{"$f":"Prevalence!H175*BD176","v":788.81256081785887},{"$f":"Prevalence!I175*BE176","v":1333.5946658147984},{"$f":"Prevalence!J175*BF176","v":842.36879999999974},{"$f":"Prevalence!K175*BG176","v":978.99915582860922},{"$f":"Prevalence!L175*BH176","v":971.52446871911752},{"$f":"Prevalence!M175*BI176","v":28.590476190476185},{"$f":"Prevalence!N175*BJ176","v":57.723809523809514},{"$f":"Prevalence!O175*BK176","v":541.21563606295365},{"$f":"Prevalence!P175*BL176","v":114.36190476190474},{"$f":"Prevalence!Q175*BM176","v":177.27192849568243},{"$f":"Prevalence!R175*BN176","v":346.24107142857133},{"$f":"Prevalence!S175*BO176","v":208.22448979591829},{"$f":"Prevalence!T175*BP176","v":270.14912280701748},{"$f":"Prevalence!U175*BQ176","v":109.88783570300156},{"$f":"Prevalence!V175*BR176","v":493.37081826401436},{"$f":"Prevalence!W175*BS176","v":126.96994285714285},{"$f":"Prevalence!X175*BT176","v":133.76638655462182},{"$f":"Prevalence!Y175*BU176","v":62.560727661851239},{"$f":"Prevalence!Z175*BV176","v":146.35070163331031},{"$f":"Prevalence!AA175*BW176","v":47.601876675603208},{"$f":"Prevalence!AB175*BX176","v":395.82545502160525},{"$f":"Prevalence!AC175*BY176","v":114.36190476190474},{"$f":"Prevalence!AD175*BZ176","v":221.75714285714281},{"$f":"Prevalence!AE175*CA176","v":570.3168426903834},{"$f":"Prevalence!AF175*CB176","v":511.33950823319964},{"$f":"Prevalence!AG175*CC176","v":567.91719319874642},{"$f":"Prevalence!AH175*CD176","v":107.89085545722712},{"$f":"Prevalence!AI175*CE176","v":147.83809523809521},{"$f":"Prevalence!AJ175*CF176","v":281.42695722356734},{"$f":"Prevalence!AK175*CG176","v":210.22353811991113},{"$f":"Prevalence!AL175*CH176","v":529.06617647058818},{"$f":"Prevalence!AM175*CI176","v":28.590476190476185},{"$f":"Prevalence!AN175*CJ176","v":205.63291139240499},{"$f":"Prevalence!AO175*CK176","v":318.2509437711106},{"$f":"Prevalence!AP175*CL176","v":302.07691167753399},{"$f":"Prevalence!AQ175*CM176","v":57.723809523809514},{"$f":"Prevalence!AR175*CN176","v":227.99999999999997},{"$f":"Prevalence!AS175*CO176","v":544.55357142857133},{"$f":"Prevalence!AT175*CP176","v":108.68481909735172},{"$f":"Prevalence!AU175*CQ176","v":177.14842698004645},{"$f":"Prevalence!AV175*CR176","v":285.26050026752267},175,42156,2591,1497,2385,2880,2307,4597,6805,4263,5340,5625,158,319,2757,632,1068,2041,1074,1339,523,2385,657,639,340,802,267,2334,632,1216,2880,2594,2924,525,874,1488,888,2705,158,1026,1653,1497,319,1064,3210,568,851,1615]
["Female 50-54",{"$f":"Prevalence!B176*AX177","v":8666.6799999999985},{"$f":"Prevalence!C176*AY177","v":645.0512744488035},{"$f":"Prevalence!D176*AZ177","v":343.20363963512312},{"$f":"Prevalence!E176*BA177","v":534.59976430722679},{"$f":"Prevalence!F176*BB177","v":607.46399999999994},{"$f":"Prevalence!G176*BC177","v":453.49419293281284},{"$f":"Prevalence!H176*BD177","v":812.23047605091381},{"$f":"Prevalence!I176*BE177","v":1449.7652580346994},{"$f":"Prevalence!J176*BF177","v":934.87679999999989},{"$f":"Prevalence!K176*BG177","v":1049.514884497991},{"$f":"Prevalence!L176*BH177","v":1037.1290730769738},{"$f":"Prevalence!M176*BI177","v":27.028571428571425},{"$f":"Prevalence!N176*BJ177","v":64.952380952380949},{"$f":"Prevalence!O176*BK177","v":621.67009949617102},{"$f":"Prevalence!P176*BL177","v":128.43809523809523},{"$f":"Prevalence!Q176*BM177","v":193.34626066757562},{"$f":"Prevalence!R176*BN177","v":357.89285714285711},{"$f":"Prevalence!S176*BO177","v":255.46938775510202},{"$f":"Prevalence!T176*BP177","v":290.84487534626038},{"$f":"Prevalence!U176*BQ177","v":109.72195892575039},{"$f":"Prevalence!V176*BR177","v":533.18670886075938},{"$f":"Prevalence!W176*BS177","v":145.45142857142858},{"$f":"Prevalence!X176*BT177","v":145.19178338001868},{"$f":"Prevalence!Y176*BU177","v":73.717067950775814},{"$f":"Prevalence!Z176*BV177","v":171.99424890729239},{"$f":"Prevalence!AA176*BW177","v":55.943699731903479},{"$f":"Prevalence!AB176*BX177","v":427.29797913665914},{"$f":"Prevalence!AC176*BY177","v":128.43809523809523},{"$f":"Prevalence!AD176*BZ177","v":235.44419642857139},{"$f":"Prevalence!AE176*CA177","v":608.77570872707054},{"$f":"Prevalence!AF176*CB177","v":542.77558967512232},{"$f":"Prevalence!AG176*CC177","v":638.92217599013713},{"$f":"Prevalence!AH176*CD177","v":130.87512291052113},{"$f":"Prevalence!AI176*CE177","v":150.81159420289853},{"$f":"Prevalence!AJ176*CF177","v":275.93220338983048},{"$f":"Prevalence!AK176*CG177","v":233.00024673081666},{"$f":"Prevalence!AL176*CH177","v":557.11764705882354},{"$f":"Prevalence!AM176*CI177","v":27.028571428571425},{"$f":"Prevalence!AN176*CJ177","v":219.76793248945145},{"$f":"Prevalence!AO176*CK177","v":317.00456983906213},{"$f":"Prevalence!AP176*CL177","v":342.29648290851605},{"$f":"Prevalence!AQ176*CM177","v":64.952380952380949},{"$f":"Prevalence!AR176*CN177","v":263.50375939849624},{"$f":"Prevalence!AS176*CO177","v":607.16071428571422},{"$f":"Prevalence!AT176*CP177","v":108.78552778813875},{"$f":"Prevalence!AU176*CQ177","v":196.44203696902923},{"$f":"Prevalence!AV176*CR177","v":291.64713750668807},176,39394,2511,1465,2226,2655,2057,4088,6389,4086,4944,5186,129,310,2735,613,1006,1822,1138,1245,451,2226,650,599,346,814,271,2176,613,1115,2655,2378,2841,550,770,1260,850,2460,129,947,1422,1465,310,1062,3091,491,815,1426]
["Female 55-59",{"$f":"Prevalence!B177*AX178","v":11590.589999999998},{"$f":"Prevalence!C177*AY178","v":881.26180684851488},{"$f":"Prevalence!D177*AZ178","v":467.71745155735385},{"$f":"Prevalence!E177*BA178","v":774.52122187367763},{"$f":"Prevalence!F177*BB178","v":836.37839999999983},{"$f":"Prevalence!G177*BC178","v":593.92968194506454},{"$f":"Prevalence!H177*BD178","v":1168.2767121280267},{"$f":"Prevalence!I177*BE178","v":1848.2294610569145},{"$f":"Prevalence!J177*BF178","v":1343.2847999999999},{"$f":"Prevalence!K177*BG178","v":1344.0541042069237},{"$f":"Prevalence!L177*BH178","v":1264.1135501194663},{"$f":"Prevalence!M177*BI178","v":38.342857142857142},{"$f":"Prevalence!N177*BJ178","v":98.685714285714283},{"$f":"Prevalence!O177*BK178","v":808.73938354931499},{"$f":"Prevalence!P177*BL178","v":193.28571428571428},{"$f":"Prevalence!Q177*BM178","v":287.71307377670047},{"$f":"Prevalence!R177*BN178","v":527.11607142857133},{"$f":"Prevalence!S177*BO178","v":341.44897959183675},{"$f":"Prevalence!T177*BP178","v":430.6606648199446},{"$f":"Prevalence!U177*BQ178","v":146.70142180094786},{"$f":"Prevalence!V177*BR178","v":772.47400542495473},{"$f":"Prevalence!W177*BS178","v":172.52777142857144},{"$f":"Prevalence!X177*BT178","v":203.60784313725489},{"$f":"Prevalence!Y177*BU178","v":109.61685393258425},{"$f":"Prevalence!Z177*BV178","v":207.91442374051067},{"$f":"Prevalence!AA177*BW178","v":70.290884718498646},{"$f":"Prevalence!AB177*BX178","v":521.06396490768611},{"$f":"Prevalence!AC177*BY178","v":193.28571428571428},{"$f":"Prevalence!AD177*BZ178","v":309.45602678571424},{"$f":"Prevalence!AE177*CA178","v":838.18440800444694},{"$f":"Prevalence!AF177*CB178","v":657.35647530040046},{"$f":"Prevalence!AG177*CC178","v":905.75820619509943},{"$f":"Prevalence!AH177*CD178","v":153.48082595870207},{"$f":"Prevalence!AI177*CE178","v":207.41490683229813},{"$f":"Prevalence!AJ177*CF178","v":372.17998385794988},{"$f":"Prevalence!AK177*CG178","v":337.98741672834933},{"$f":"Prevalence!AL177*CH178","v":725.27205882352939},{"$f":"Prevalence!AM177*CI178","v":38.342857142857142},{"$f":"Prevalence!AN177*CJ178","v":293.79746835443035},{"$f":"Prevalence!AO177*CK178","v":406.28750248360814},{"$f":"Prevalence!AP177*CL178","v":466.48117960877295},{"$f":"Prevalence!AQ177*CM178","v":98.685714285714283},{"$f":"Prevalence!AR177*CN178","v":336.82330827067665},{"$f":"Prevalence!AS177*CO178","v":775.205357142857},{"$f":"Prevalence!AT177*CP178","v":138.58522939201791},{"$f":"Prevalence!AU177*CQ178","v":271.16232096951887},{"$f":"Prevalence!AV177*CR178","v":332.24458266452649},177,35123,2287,1331,2150,2437,1796,3920,5430,3914,4221,4214,122,314,2372,615,998,1789,1014,1229,402,2150,514,560,343,656,227,1769,615,977,2437,1920,2685,430,706,1133,822,2135,122,844,1215,1331,314,905,2631,417,750,1083]
["Female 60-64",{"$f":"Prevalence!B178*AX179","v":21675.52},{"$f":"Prevalence!C178*AY179","v":1635.8767485822309},{"$f":"Prevalence!D178*AZ179","v":943.8898733247695},{"$f":"Prevalence!E178*BA179","v":1551.706054432869},{"$f":"Prevalence!F178*BB179","v":1584.1280000000002},{"$f":"Prevalence!G178*BC179","v":1157.6357707075297},{"$f":"Prevalence!H178*BD179","v":2202.169090022403},{"$f":"Prevalence!I178*BE179","v":3141.5053090622851},{"$f":"Prevalence!J178*BF179","v":2732.2880000000005},{"$f":"Prevalence!K178*BG179","v":2300.3488936481422},{"$f":"Prevalence!L178*BH179","v":2381.8007503710724},{"$f":"Prevalence!M178*BI179","v":79.847619047619048},{"$f":"Prevalence!N178*BJ179","v":176.76190476190479},{"$f":"Prevalence!O178*BK179","v":1551.2719863512234},{"$f":"Prevalence!P178*BL179","v":382.78095238095244},{"$f":"Prevalence!Q178*BM179","v":538.42023935767304},{"$f":"Prevalence!R178*BN179","v":977.71428571428589},{"$f":"Prevalence!S178*BO179","v":643.26530612244903},{"$f":"Prevalence!T178*BP179","v":933.76177285318568},{"$f":"Prevalence!U178*BQ179","v":267.52606635071089},{"$f":"Prevalence!V178*BR179","v":1547.6045810729356},{"$f":"Prevalence!W178*BS179","v":337.85417142857153},{"$f":"Prevalence!X178*BT179","v":358.208776844071},{"$f":"Prevalence!Y178*BU179","v":183.4598180845372},{"$f":"Prevalence!Z178*BV179","v":396.46652864044171},{"$f":"Prevalence!AA178*BW179","v":143.52815013404825},{"$f":"Prevalence!AB178*BX179","v":884.87241936187866},{"$f":"Prevalence!AC178*BY179","v":382.78095238095244},{"$f":"Prevalence!AD178*BZ179","v":634.55714285714294},{"$f":"Prevalence!AE178*CA179","v":1587.548638132296},{"$f":"Prevalence!AF178*CB179","v":982.71473075211395},{"$f":"Prevalence!AG178*CC179","v":1786.7168027944726},{"$f":"Prevalence!AH178*CD179","v":264.43264503441497},{"$f":"Prevalence!AI178*CE179","v":454.67826086956524},{"$f":"Prevalence!AJ178*CF179","v":723.71482378262033},{"$f":"Prevalence!AK178*CG179","v":591.69602763385149},{"$f":"Prevalence!AL178*CH179","v":1266.9176470588238},{"$f":"Prevalence!AM178*CI179","v":79.847619047619048},{"$f":"Prevalence!AN178*CJ179","v":568.43881856540077},{"$f":"Prevalence!AO178*CK179","v":775.6296443473077},{"$f":"Prevalence!AP178*CL179","v":941.39498122900613},{"$f":"Prevalence!AQ178*CM179","v":176.76190476190479},{"$f":"Prevalence!AR178*CN179","v":677.77443609022566},{"$f":"Prevalence!AS178*CO179","v":1304.0000000000002},{"$f":"Prevalence!AT178*CP179","v":253.94703468854908},{"$f":"Prevalence!AU178*CQ179","v":481.01456726649531},{"$f":"Prevalence!AV178*CR179","v":655.6575708935261},178,33868,2189,1385,2221,2380,1805,3810,4759,4105,3725,4094,131,290,2346,628,963,1711,985,1374,378,2221,519,508,296,645,239,1549,628,1033,2380,1480,2731,382,798,1136,742,1923,131,842,1196,1385,290,939,2282,394,686,1102]
["Female 65-69",{"$f":"Prevalence!B179*AX180","v":28759.200000000001},{"$f":"Prevalence!C179*AY180","v":2282},{"$f":"Prevalence!D179*AZ180","v":1300.0208855480728},{"$f":"Prevalence!E179*BA180","v":2164.2928463520129},{"$f":"Prevalence!F179*BB180","v":2116.4416000000001},{"$f":"Prevalence!G179*BC180","v":1438.2261583443963},{"$f":"Prevalence!H179*BD180","v":2911.3715764941849},{"$f":"Prevalence!I179*BE180","v":3929.4808540530994},{"$f":"Prevalence!J179*BF180","v":3509.5424000000003},{"$f":"Prevalence!K179*BG180","v":3178.0323473655708},{"$f":"Prevalence!L179*BH180","v":2977.2509379638409},{"$f":"Prevalence!M179*BI180","v":116.53333333333335},{"$f":"Prevalence!N179*BJ180","v":258.47619047619048},{"$f":"Prevalence!O179*BK180","v":2127.2957754007584},{"$f":"Prevalence!P179*BL180","v":530.09523809523819},{"$f":"Prevalence!Q179*BM180","v":663.869918699187},{"$f":"Prevalence!R179*BN180","v":1262.5357142857144},{"$f":"Prevalence!S179*BO180","v":893.71428571428578},{"$f":"Prevalence!T179*BP180","v":1206.4912280701756},{"$f":"Prevalence!U179*BQ180","v":353.03001579778834},{"$f":"Prevalence!V179*BR180","v":2158.5721820373719},{"$f":"Prevalence!W179*BS180","v":422.03291428571441},{"$f":"Prevalence!X179*BT180","v":585.87936507936513},{"$f":"Prevalence!Y179*BU180","v":241.44954521134298},{"$f":"Prevalence!Z179*BV180","v":523.97354497354502},{"$f":"Prevalence!AA179*BW180","v":152.79892761394103},{"$f":"Prevalence!AB179*BX180","v":1100.377984374318},{"$f":"Prevalence!AC179*BY180","v":530.09523809523819},{"$f":"Prevalence!AD179*BZ180","v":733.8026785714286},{"$f":"Prevalence!AE179*CA180","v":2121.0116731517514},{"$f":"Prevalence!AF179*CB180","v":1219.8444592790388},{"$f":"Prevalence!AG179*CC180","v":2288.1473262444138},{"$f":"Prevalence!AH179*CD180","v":349.2743362831859},{"$f":"Prevalence!AI179*CE180","v":544.66666666666674},{"$f":"Prevalence!AJ179*CF180","v":1044.9190207156309},{"$f":"Prevalence!AK179*CG180","v":764},{"$f":"Prevalence!AL179*CH180","v":1674.4000000000003},{"$f":"Prevalence!AM179*CI180","v":116.53333333333335},{"$f":"Prevalence!AN179*CJ180","v":810.33755274261603},{"$f":"Prevalence!AO179*CK180","v":1024.5396383866482},{"$f":"Prevalence!AP179*CL180","v":1296.5846670618455},{"$f":"Prevalence!AQ179*CM180","v":258.47619047619048},{"$f":"Prevalence!AR179*CN180","v":940},{"$f":"Prevalence!AS179*CO180","v":1822.7500000000002},{"$f":"Prevalence!AT179*CP180","v":353.93062290190232},{"$f":"Prevalence!AU179*CQ180","v":558},{"$f":"Prevalence!AV179*CR180","v":822.76993044408789},179,31260,2282,1327,2155,2212,1560,3504,4141,3668,3580,3560,133,295,2238,605,826,1537,952,1235,347,2155,451,578,271,593,177,1340,605,831,2212,1278,2433,351,665,1141,764,1768,133,835,1099,1327,295,940,2219,382,558,962]
["Female 70-74",null,null,null,null,null,null,null,null,null,null,null,null,null,null,null,null,null,null,null,null,null,null,null,null,null,null,null,null,null,null,null,null,null,null,null,null,null,null,null,null,null,null,null,null,null,null,null,180]
["Female 75-79",null,null,null,null,null,null,null,null,null,null,null,null,null,null,null,null,null,null,null,null,null,null,null,null,null,null,null,null,null,null,null,null,null,null,null,null,null,null,null,null,null,null,null,null,null,null,null,181]
["Female 80-84",null,null,null,null,null,null,null,null,null,null,null,null,null,null,null,null,null,null,null,null,null,null,null,null,null,null,null,null,null,null,null,null,null,null,null,null,null,null,null,null,null,null,null,null,null,null,null,182]
["Female 85+",null,null,null,null,null,null,null,null,null,null,null,null,null,null,null,null,null,null,null,null,null,null,null,null,null,null,null,null,null,null,null,null,null,null,null,null,null,null,null,null,null,null,null,null,null,null,null,183]
[null,null,null,null,null,null,null,null,null,null,null,null,null,null,null,null,null,null,null,null,null,null,null,null,null,null,null,null,null,null,null,null,null,null,null,null,null,null,null,null,null,null,null,null,null,null,null,null,184]
["age/sex breakdown: Q4",null,null,null,null,null,null,null,null,null,null,null,null,null,null,null,null,null,null,null,null,null,null,null,null,null,null,null,null,null,null,null,null,null,null,null,null,null,null,null,null,null,null,null,null,null,null,null,185]
["Male <1",null,null,null,null,null,null,null,null,null,null,null,null,null,null,null,null,null,null,null,null,null,null,null,null,null,null,null,null,null,null,null,null,null,null,null,null,null,null,null,null,null,null,null,null,null,null,null,186]
["Male 1-4",null,null,null,null,null,null,null,null,null,null,null,null,null,null,null,null,null,null,null,null,null,null,null,null,null,null,null,null,null,null,null,null,null,null,null,null,null,null,null,null,null,null,null,null,null,null,null,187]
["Male 5-9",null,null,null,null,null,null,null,null,null,null,null,null,null,null,null,null,null,null,null,null,null,null,null,null,null,null,null,null,null,null,null,null,null,null,null,null,null,null,null,null,null,null,null,null,null,null,null,188]
["Male 10-14",null,null,null,null,null,null,null,null,null,null,null,null,null,null,null,null,null,null,null,null,null,null,null,null,null,null,null,null,null,null,null,null,null,null,null,null,null,null,null,null,null,null,null,null,null,null,null,189]
["Male 16-19",{"$f":"Prevalence!B190*AX191","v":2111.84},{"$f":"Prevalence!C190*AY191","v":128.82851310035201},{"$f":"Prevalence!D190*AZ191","v":85.12},{"$f":"Prevalence!E190*BA191","v":90.426120561954946},{"$f":"Prevalence!F190*BB191","v":150.08716260512071},{"$f":"Prevalence!G190*BC191","v":130.77196232879291},{"$f":"Prevalence!H190*BD191","v":225.78},{"$f":"Prevalence!I190*BE191","v":383.01801964162087},{"$f":"Prevalence!J190*BF191","v":188.46719999999999},{"$f":"Prevalence!K190*BG191","v":167.68441636594645},{"$f":"Prevalence!L190*BH191","v":233.86080000000001},{"$f":"Prevalence!M190*BI191","v":24.048484848484847},{"$f":"Prevalence!N190*BJ191","v":23.372121212121211},{"$f":"Prevalence!O190*BK191","v":255.85841299329945},{"$f":"Prevalence!P190*BL191","v":0.75151515151515147},{"$f":"Prevalence!Q190*BM191","v":37.61822213263455},{"$f":"Prevalence!R190*BN191","v":130.14302041824976},{"$f":"Prevalence!S190*BO191","v":87.710802139037426},{"$f":"Prevalence!T190*BP191","v":53.924820047987204},{"$f":"Prevalence!U190*BQ191","v":19.534620819594913},{"$f":"Prevalence!V190*BR191","v":90.271481942714829},{"$f":"Prevalence!W190*BS191","v":36.939074960127591},{"$f":"Prevalence!X190*BT191","v":41.903187721369541},{"$f":"Prevalence!Y190*BU191","v":42.614675432630541},{"$f":"Prevalence!Z190*BV191","v":69.257696969696966},{"$f":"Prevalence!AA190*BW191","v":29.97193170644498},{"$f":"Prevalence!AB190*BX191","v":88.661995328662002},{"$f":"Prevalence!AC190*BY191","v":0.75151515151515147},{"$f":"Prevalence!AD190*BZ191","v":55.817777777777778},{"$f":"Prevalence!AE190*CA191","v":149.83049703717759},{"$f":"Prevalence!AF190*CB191","v":172.71956203253913},{"$f":"Prevalence!AG190*CC191","v":132.32405689548546},{"$f":"Prevalence!AH190*CD191","v":28.357171717171717},{"$f":"Prevalence!AI190*CE191","v":38.074030204323357},{"$f":"Prevalence!AJ190*CF191","v":62.851239669421489},{"$f":"Prevalence!AK190*CG191","v":58.6866702387331},{"$f":"Prevalence!AL190*CH191","v":94.809095820441044},{"$f":"Prevalence!AM190*CI191","v":24.048484848484847},{"$f":"Prevalence!AN190*CJ191","v":119.92572186511579},{"$f":"Prevalence!AO190*CK191","v":46.906340255810754},{"$f":"Prevalence!AP190*CL191","v":85.588980716253445},{"$f":"Prevalence!AQ190*CM191","v":23.372121212121211},{"$f":"Prevalence!AR190*CN191","v":28.316027088036115},{"$f":"Prevalence!AS190*CO191","v":107.9376423191452},{"$f":"Prevalence!AT190*CP191","v":54.291819933438433},{"$f":"Prevalence!AU190*CQ191","v":19.264930001772107},{"$f":"Prevalence!AV190*CR191","v":49.956341530809617},190,26398,1385,1064,884,1787,1545,3763,4333,2454,1998,3522,320,311,3022,10,648,2270,1032,588,216,884,393,467,530,871,403,1430,10,661,1787,1875,1866,283,492,845,610,1063,320,1597,584,1064,311,308,1379,668,214,729]
["Male 20-24",{"$f":"Prevalence!B191*AX192","v":2703.2000000000003},{"$f":"Prevalence!C191*AY192","v":139.06038056680595},{"$f":"Prevalence!D191*AZ192","v":73.760000000000005},{"$f":"Prevalence!E191*BA192","v":96.154472090766561},{"$f":"Prevalence!F191*BB192","v":157.22617145874983},{"$f":"Prevalence!G191*BC192","v":138.64367268256493},{"$f":"Prevalence!H191*BD192","v":301.86},{"$f":"Prevalence!I191*BE192","v":630.70241637271295},{"$f":"Prevalence!J191*BF192","v":190.46399999999997},{"$f":"Prevalence!K191*BG192","v":188.66594994526906},{"$f":"Prevalence!L191*BH192","v":379.34320000000002},{"$f":"Prevalence!M191*BI192","v":25.476363636363637},{"$f":"Prevalence!N191*BJ192","v":25.701818181818179},{"$f":"Prevalence!O191*BK192","v":306.40357267463622},{"$f":"Prevalence!P191*BL192","v":1.2024242424242424},{"$f":"Prevalence!Q191*BM192","v":102.63737149768191},{"$f":"Prevalence!R191*BN192","v":136.5641738485775},{"$f":"Prevalence!S191*BO192","v":97.229803921568617},{"$f":"Prevalence!T191*BP192","v":49.88962943215143},{"$f":"Prevalence!U191*BQ192","v":20.167687235044749},{"$f":"Prevalence!V191*BR192","v":95.990037359900384},{"$f":"Prevalence!W191*BS192","v":90.79681020733652},{"$f":"Prevalence!X191*BT192","v":45.133412042502954},{"$f":"Prevalence!Y191*BU192","v":47.680193455754555},{"$f":"Prevalence!Z191*BV192","v":70.052848484848482},{"$f":"Prevalence!AA191*BW192","v":34.880486278716369},{"$f":"Prevalence!AB191*BX192","v":216.81887948554615},{"$f":"Prevalence!AC191*BY192","v":1.2024242424242424},{"$f":"Prevalence!AD191*BZ192","v":67.808888888888887},{"$f":"Prevalence!AE191*CA192","v":156.9572973998861},{"$f":"Prevalence!AF191*CB192","v":390.11591744416171},{"$f":"Prevalence!AG191*CC192","v":137.28798185941042},{"$f":"Prevalence!AH191*CD192","v":39.078787878787878},{"$f":"Prevalence!AI191*CE192","v":46.509130391866542},{"$f":"Prevalence!AJ191*CF192","v":65.528925619834709},{"$f":"Prevalence!AK191*CG192","v":60.225992736798233},{"$f":"Prevalence!AL191*CH192","v":105.51191002406563},{"$f":"Prevalence!AM191*CI192","v":25.476363636363637},{"$f":"Prevalence!AN191*CJ192","v":113.31741659014385},{"$f":"Prevalence!AO191*CK192","v":59.034520698665929},{"$f":"Prevalence!AP191*CL192","v":74.166391184573001},{"$f":"Prevalence!AQ191*CM192","v":25.701818181818179},{"$f":"Prevalence!AR191*CN192","v":33.648265955263696},{"$f":"Prevalence!AS191*CO192","v":119.36541300703149},{"$f":"Prevalence!AT191*CP192","v":49.740409879138198},{"$f":"Prevalence!AU191*CQ192","v":22.775828460038987},{"$f":"Prevalence!AV191*CR192","v":50.298977618126557},191,33790,1495,922,940,1872,1638,5031,7135,2480,2248,5713,339,342,3619,16,1768,2382,1144,544,223,940,966,503,593,881,469,3497,16,803,1872,4235,1936,390,601,881,626,1183,339,1509,735,922,342,366,1525,612,253,734]
["Male 25-29",{"$f":"Prevalence!B192*AX193","v":3066.0999999999995},{"$f":"Prevalence!C192*AY193","v":144.99021284850082},{"$f":"Prevalence!D192*AZ193","v":81.899999999999977},{"$f":"Prevalence!E192*BA193","v":115.33422051312689},{"$f":"Prevalence!F192*BB193","v":168.50160603051108},{"$f":"Prevalence!G192*BC193","v":160.71408638951166},{"$f":"Prevalence!H192*BD193","v":357.2999999999999},{"$f":"Prevalence!I192*BE193","v":621.42088116330353},{"$f":"Prevalence!J192*BF193","v":244.31999999999994},{"$f":"Prevalence!K192*BG193","v":210.65459713639916},{"$f":"Prevalence!L192*BH193","v":483.05999999999989},{"$f":"Prevalence!M192*BI193","v":27.618181818181807},{"$f":"Prevalence!N192*BJ193","v":35.509090909090894},{"$f":"Prevalence!O192*BK193","v":329.66535261173379},{"$f":"Prevalence!P192*BL193","v":1.972727272727272},{"$f":"Prevalence!Q192*BM193","v":114.79943559766174},{"$f":"Prevalence!R192*BN193","v":168.9136008402063},{"$f":"Prevalence!S192*BO193","v":108.04491978609622},{"$f":"Prevalence!T192*BP193","v":55.139962676619554},{"$f":"Prevalence!U192*BQ193","v":22.722562411681579},{"$f":"Prevalence!V192*BR193","v":115.13698630136984},{"$f":"Prevalence!W192*BS193","v":73.079213184476316},{"$f":"Prevalence!X192*BT193","v":53.276269185360086},{"$f":"Prevalence!Y192*BU193","v":40.403536613012911},{"$f":"Prevalence!Z192*BV193","v":75.241212121212101},{"$f":"Prevalence!AA192*BW193","v":31.143291320282461},{"$f":"Prevalence!AB192*BX193","v":297.21918888585549},{"$f":"Prevalence!AC192*BY193","v":1.972727272727272},{"$f":"Prevalence!AD192*BZ193","v":84.127777777777766},{"$f":"Prevalence!AE192*CA193","v":168.21344973745803},{"$f":"Prevalence!AF192*CB193","v":381.9405248412881},{"$f":"Prevalence!AG192*CC193","v":182.95609152752004},{"$f":"Prevalence!AH192*CD193","v":42.711111111111094},{"$f":"Prevalence!AI192*CE193","v":43.723225742769699},{"$f":"Prevalence!AJ192*CF193","v":76.704545454545439},{"$f":"Prevalence!AK192*CG193","v":60.129785080669151},{"$f":"Prevalence!AL192*CH193","v":124.86616570895336},{"$f":"Prevalence!AM192*CI193","v":27.618181818181807},{"$f":"Prevalence!AN192*CJ193","v":138.54912764003669},{"$f":"Prevalence!AO192*CK193","v":54.014578462384797},{"$f":"Prevalence!AP192*CL193","v":82.351239669421474},{"$f":"Prevalence!AQ192*CM193","v":35.509090909090894},{"$f":"Prevalence!AR192*CN193","v":31.257951980299602},{"$f":"Prevalence!AS192*CO193","v":134.237169381678},{"$f":"Prevalence!AT192*CP193","v":52.930460676125406},{"$f":"Prevalence!AU192*CQ193","v":23.293460925039867},{"$f":"Prevalence!AV192*CR193","v":66.471400939486031},192,30661,1247,819,902,1605,1519,4764,5624,2545,2008,5820,294,378,3115,21,1582,2357,1017,481,201,902,622,475,402,757,335,3835,21,797,1605,3317,2064,341,452,825,500,1120,294,1476,538,819,378,272,1372,521,207,776]
["Male 30-34",{"$f":"Prevalence!B193*AX194","v":3713.16},{"$f":"Prevalence!C193*AY194","v":188.77795475607536},{"$f":"Prevalence!D193*AZ194","v":102.96},{"$f":"Prevalence!E193*BA194","v":121.82976197883295},{"$f":"Prevalence!F193*BB194","v":223.11502376077399},{"$f":"Prevalence!G193*BC194","v":221.29663139717093},{"$f":"Prevalence!H193*BD194","v":427.59},{"$f":"Prevalence!I193*BE194","v":677.41947692673943},{"$f":"Prevalence!J193*BF194","v":319.79519999999997},{"$f":"Prevalence!K193*BG194","v":281.74003290314425},{"$f":"Prevalence!L193*BH194","v":565.0308},{"$f":"Prevalence!M193*BI194","v":35.170909090909085},{"$f":"Prevalence!N193*BJ194","v":38.890909090909091},{"$f":"Prevalence!O193*BK194","v":406.13924789174627},{"$f":"Prevalence!P193*BL194","v":2.48},{"$f":"Prevalence!Q193*BM194","v":117.12154807498487},{"$f":"Prevalence!R193*BN194","v":223.85172829209526},{"$f":"Prevalence!S193*BO194","v":128.88898395721924},{"$f":"Prevalence!T193*BP194","v":69.056784857371355},{"$f":"Prevalence!U193*BQ194","v":31.879415920866691},{"$f":"Prevalence!V193*BR194","v":121.6214196762142},{"$f":"Prevalence!W193*BS194","v":77.402870813397115},{"$f":"Prevalence!X193*BT194","v":63.393152302243209},{"$f":"Prevalence!Y193*BU194","v":41.850827476762632},{"$f":"Prevalence!Z193*BV194","v":103.648},{"$f":"Prevalence!AA193*BW194","v":36.925717350496107},{"$f":"Prevalence!AB193*BX194","v":316.021112021112},{"$f":"Prevalence!AC193*BY194","v":2.48},{"$f":"Prevalence!AD193*BZ194","v":123.62666666666668},{"$f":"Prevalence!AE193*CA194","v":222.73347251217814},{"$f":"Prevalence!AF193*CB194","v":383.16107641298476},{"$f":"Prevalence!AG193*CC194","v":241.88497217068641},{"$f":"Prevalence!AH193*CD194","v":42.235151515151507},{"$f":"Prevalence!AI193*CE194","v":65.352679893396484},{"$f":"Prevalence!AJ193*CF194","v":89.590909090909093},{"$f":"Prevalence!AK193*CG194","v":83.123414895517044},{"$f":"Prevalence!AL193*CH194","v":168.70310888463237},{"$f":"Prevalence!AM193*CI194","v":35.170909090909085},{"$f":"Prevalence!AN193*CJ194","v":184.50688705234157},{"$f":"Prevalence!AO193*CK194","v":65.419887223215511},{"$f":"Prevalence!AP193*CL194","v":103.52727272727273},{"$f":"Prevalence!AQ193*CM194","v":38.890909090909091},{"$f":"Prevalence!AR193*CN194","v":42.19823517340447},{"$f":"Prevalence!AS193*CO194","v":191.61084002702498},{"$f":"Prevalence!AT193*CP194","v":64.857593273778249},{"$f":"Prevalence!AU193*CQ194","v":24.171185539606594},{"$f":"Prevalence!AV193*CR194","v":86.652666482453711},193,30943,1353,858,794,1771,1743,4751,5109,2776,2238,5673,312,345,3198,22,1345,2603,1011,502,235,794,549,471,347,869,331,3398,22,976,1771,2773,2274,281,563,803,576,1261,312,1638,543,858,345,306,1632,532,179,843]
["Male 35-39",{"$f":"Prevalence!B194*AX195","v":2600.7199999999989},{"$f":"Prevalence!C194*AY195","v":155.80343642100323},{"$f":"Prevalence!D194*AZ195","v":93.67999999999995},{"$f":"Prevalence!E194*BA195","v":89.914660604025286},{"$f":"Prevalence!F194*BB195","v":168.90055064291974},{"$f":"Prevalence!G194*BC195","v":169.62266181676432},{"$f":"Prevalence!H194*BD195","v":301.97999999999985},{"$f":"Prevalence!I194*BE195","v":429.86767355578155},{"$f":"Prevalence!J194*BF195","v":216.34559999999991},{"$f":"Prevalence!K194*BG195","v":208.89214831573599},{"$f":"Prevalence!L194*BH195","v":369.98079999999976},{"$f":"Prevalence!M194*BI195","v":23.522424242424229},{"$f":"Prevalence!N194*BJ195","v":31.789090909090891},{"$f":"Prevalence!O194*BK195","v":275.07742680848099},{"$f":"Prevalence!P194*BL195","v":0.75151515151515103},{"$f":"Prevalence!Q194*BM195","v":62.000403144527283},{"$f":"Prevalence!R194*BN195","v":175.89373860933483},{"$f":"Prevalence!S194*BO195","v":97.569768270944678},{"$f":"Prevalence!T194*BP195","v":51.081844841375606},{"$f":"Prevalence!U194*BQ195","v":27.040979745642943},{"$f":"Prevalence!V194*BR195","v":89.760896637608923},{"$f":"Prevalence!W194*BS195","v":44.458479532163722},{"$f":"Prevalence!X194*BT195","v":54.10625737898463},{"$f":"Prevalence!Y194*BU195","v":36.343081689715085},{"$f":"Prevalence!Z194*BV195","v":97.485575757575702},{"$f":"Prevalence!AA194*BW195","v":30.938768213104478},{"$f":"Prevalence!AB194*BX195","v":173.47990414657073},{"$f":"Prevalence!AC194*BY195","v":0.75151515151515103},{"$f":"Prevalence!AD194*BZ195","v":91.537777777777734},{"$f":"Prevalence!AE194*CA195","v":168.61171211066815},{"$f":"Prevalence!AF194*CB195","v":199.52563805998912},{"$f":"Prevalence!AG194*CC195","v":160.2638631210059},{"$f":"Prevalence!AH194*CD195","v":33.367272727272706},{"$f":"Prevalence!AI194*CE195","v":49.14026256045797},{"$f":"Prevalence!AJ194*CF195","v":66.719008264462772},{"$f":"Prevalence!AK194*CG195","v":67.249151634220368},{"$f":"Prevalence!AL194*CH195","v":118.53366730514213},{"$f":"Prevalence!AM194*CI195","v":23.522424242424229},{"$f":"Prevalence!AN194*CJ195","v":122.25364758698083},{"$f":"Prevalence!AO194*CK195","v":49.637188832347654},{"$f":"Prevalence!AP194*CL195","v":94.19614325068865},{"$f":"Prevalence!AQ194*CM195","v":31.789090909090891},{"$f":"Prevalence!AR194*CN195","v":34.291812025446319},{"$f":"Prevalence!AS194*CO195","v":144.80394364787421},{"$f":"Prevalence!AT194*CP195","v":50.471886495007858},{"$f":"Prevalence!AU194*CQ195","v":16.924331029594178},{"$f":"Prevalence!AV194*CR195","v":62.565349544072909},194,32509,1675,1171,879,2011,2004,5033,4863,2817,2489,5572,313,423,3249,10,1068,3068,1148,557,299,879,473,603,452,1226,416,2798,10,1084,2011,2166,2260,333,635,897,699,1329,313,1628,618,1171,423,373,1850,621,188,913]
["Male 40-44",{"$f":"Prevalence!B195*AX196","v":2815.8899999999981},{"$f":"Prevalence!C195*AY196","v":174.90679806575756},{"$f":"Prevalence!D195*AZ196","v":126.62999999999991},{"$f":"Prevalence!E195*BA196","v":113.04543720139183},{"$f":"Prevalence!F195*BB196","v":192.61675799637294},{"$f":"Prevalence!G195*BC196","v":190.338802774675},{"$f":"Prevalence!H195*BD196","v":298.61999999999978},{"$f":"Prevalence!I195*BE196","v":462.29779955532439},{"$f":"Prevalence!J195*BF196","v":241.04639999999984},{"$f":"Prevalence!K195*BG196","v":239.69303961018156},{"$f":"Prevalence!L195*BH196","v":347.72849999999977},{"$f":"Prevalence!M195*BI196","v":30.906060606060585},{"$f":"Prevalence!N195*BJ196","v":27.157878787878769},{"$f":"Prevalence!O195*BK196","v":326.70206854331354},{"$f":"Prevalence!P195*BL196","v":1.38090909090909},{"$f":"Prevalence!Q195*BM196","v":48.053215077605287},{"$f":"Prevalence!R195*BN196","v":178.18700769159472},{"$f":"Prevalence!S195*BO196","v":118.24385026737957},{"$f":"Prevalence!T195*BP196","v":61.146894161556872},{"$f":"Prevalence!U195*BQ196","v":28.646255299105018},{"$f":"Prevalence!V195*BR196","v":112.85211706102109},{"$f":"Prevalence!W195*BS196","v":48.441414141414107},{"$f":"Prevalence!X195*BT196","v":58.96280991735533},{"$f":"Prevalence!Y195*BU196","v":43.26796644751753},{"$f":"Prevalence!Z195*BV196","v":105.12896969696962},{"$f":"Prevalence!AA195*BW196","v":35.921694824349665},{"$f":"Prevalence!AB195*BX196","v":135.73655473655464},{"$f":"Prevalence!AC195*BY196","v":1.38090909090909},{"$f":"Prevalence!AD195*BZ196","v":96.129444444444374},{"$f":"Prevalence!AE195*CA196","v":192.28736213913652},{"$f":"Prevalence!AF195*CB196","v":194.49374148610778},{"$f":"Prevalence!AG195*CC196","v":175.28860028860015},{"$f":"Prevalence!AH195*CD196","v":40.506666666666632},{"$f":"Prevalence!AI195*CE196","v":48.550192478531201},{"$f":"Prevalence!AJ195*CF196","v":77.448347107437954},{"$f":"Prevalence!AK195*CG196","v":73.911531821158491},{"$f":"Prevalence!AL195*CH196","v":134.4652521978291},{"$f":"Prevalence!AM195*CI196","v":30.906060606060585},{"$f":"Prevalence!AN195*CJ196","v":146.59361289664307},{"$f":"Prevalence!AO195*CK196","v":57.277540915967499},{"$f":"Prevalence!AP195*CL196","v":127.32768595041314},{"$f":"Prevalence!AQ195*CM196","v":27.157878787878769},{"$f":"Prevalence!AR195*CN196","v":41.830494561871504},{"$f":"Prevalence!AS195*CO196","v":163.48169556840062},{"$f":"Prevalence!AT195*CP196","v":64.502014363285994},{"$f":"Prevalence!AU195*CQ196","v":21.583023214602147},{"$f":"Prevalence!AV195*CR196","v":75.251450676982543},195,40227,2149,1809,1263,2621,2570,5688,5977,3587,3264,5985,470,413,4410,21,946,3552,1590,762,362,1263,589,751,615,1511,552,2502,21,1301,2621,2413,2825,462,717,1190,878,1723,470,2231,815,1809,413,520,2387,907,274,1255]
["Male 45-49",{"$f":"Prevalence!B196*AX197","v":4808.2099999999991},{"$f":"Prevalence!C196*AY197","v":290.58503604729214},{"$f":"Prevalence!D196*AZ197","v":221.97999999999996},{"$f":"Prevalence!E196*BA197","v":221.38544278983142},{"$f":"Prevalence!F196*BB197","v":356.61448932363874},{"$f":"Prevalence!G196*BC197","v":313.30253628480705},{"$f":"Prevalence!H196*BD197","v":506.63249999999994},{"$f":"Prevalence!I196*BE197","v":754.54461473825882},{"$f":"Prevalence!J196*BF197","v":431.58719999999994},{"$f":"Prevalence!K196*BG197","v":388.20033428462722},{"$f":"Prevalence!L196*BH197","v":557.11259999999982},{"$f":"Prevalence!M196*BI197","v":56.626666666666658},{"$f":"Prevalence!N196*BJ197","v":50.529999999999994},{"$f":"Prevalence!O196*BK197","v":594.41361781029354},{"$f":"Prevalence!P196*BL197","v":2.273333333333333},{"$f":"Prevalence!Q196*BM197","v":77.507760532150769},{"$f":"Prevalence!R196*BN197","v":304.36697247706417},{"$f":"Prevalence!S196*BO197","v":211.40470588235289},{"$f":"Prevalence!T196*BP197","v":124.46041055718472},{"$f":"Prevalence!U196*BQ197","v":44.766839378238338},{"$f":"Prevalence!V196*BR197","v":221.00684931506845},{"$f":"Prevalence!W196*BS197","v":85.815204678362562},{"$f":"Prevalence!X196*BT197","v":93.642857142857139},{"$f":"Prevalence!Y196*BU197","v":81.369908561928497},{"$f":"Prevalence!Z196*BV197","v":167.27999999999997},{"$f":"Prevalence!AA196*BW197","v":58.902654867256629},{"$f":"Prevalence!AB196*BX197","v":215.09059059059058},{"$f":"Prevalence!AC196*BY197","v":2.273333333333333},{"$f":"Prevalence!AD196*BZ197","v":151.98944444444442},{"$f":"Prevalence!AE196*CA197","v":356.00463929482709},{"$f":"Prevalence!AF196*CB197","v":300.3132598247102},{"$f":"Prevalence!AG196*CC197","v":302.26757369614506},{"$f":"Prevalence!AH196*CD197","v":77.431111111111093},{"$f":"Prevalence!AI196*CE197","v":81.187839305103125},{"$f":"Prevalence!AJ196*CF197","v":133.875},{"$f":"Prevalence!AK196*CG197","v":126.20039292730841},{"$f":"Prevalence!AL196*CH197","v":210.68935710426797},{"$f":"Prevalence!AM196*CI197","v":56.626666666666658},{"$f":"Prevalence!AN196*CJ197","v":271.86980920314249},{"$f":"Prevalence!AO196*CK197","v":99.173978819969733},{"$f":"Prevalence!AP196*CL197","v":223.20303030303029},{"$f":"Prevalence!AQ196*CM197","v":50.529999999999994},{"$f":"Prevalence!AR196*CN197","v":70.663656884875834},{"$f":"Prevalence!AS196*CO197","v":256.25406000550504},{"$f":"Prevalence!AT196*CP197","v":114.3236994219653},{"$f":"Prevalence!AU196*CQ197","v":40.847953216374265},{"$f":"Prevalence!AV196*CR197","v":121.17325227963524},196,43711,2272,2018,1574,3088,2692,6141,6208,4087,3364,6102,548,489,5106,22,971,3861,1809,987,360,1574,664,759,736,1530,576,2523,22,1309,3088,2371,3100,562,763,1309,954,1718,548,2633,898,2018,489,559,2381,1023,330,1286]
["Male 50-54",{"$f":"Prevalence!B197*AX198","v":4142.7999999999993},{"$f":"Prevalence!C197*AY198","v":269.05160587925491},{"$f":"Prevalence!D197*AZ198","v":194.89999999999995},{"$f":"Prevalence!E197*BA198","v":190.51883432877946},{"$f":"Prevalence!F197*BB198","v":306.66242443309841},{"$f":"Prevalence!G197*BC198","v":259.42787348721697},{"$f":"Prevalence!H197*BD198","v":423.52499999999992},{"$f":"Prevalence!I197*BE198","v":693.02129563588903},{"$f":"Prevalence!J197*BF198","v":379.39199999999988},{"$f":"Prevalence!K197*BG198","v":312.93957333559695},{"$f":"Prevalence!L197*BH198","v":475.34099999999984},{"$f":"Prevalence!M197*BI198","v":45.372727272727253},{"$f":"Prevalence!N197*BJ198","v":43.212121212121197},{"$f":"Prevalence!O197*BK198","v":503.54662848366911},{"$f":"Prevalence!P197*BL198","v":1.878787878787878},{"$f":"Prevalence!Q197*BM198","v":64.656319290465618},{"$f":"Prevalence!R197*BN198","v":251.82961109566608},{"$f":"Prevalence!S197*BO198","v":179.96862745098034},{"$f":"Prevalence!T197*BP198","v":109.24820047987201},{"$f":"Prevalence!U197*BQ198","v":39.67969853980216},{"$f":"Prevalence!V197*BR198","v":190.19302615193024},{"$f":"Prevalence!W197*BS198","v":81.421052631578931},{"$f":"Prevalence!X197*BT198","v":85.802833530106241},{"$f":"Prevalence!Y197*BU198","v":80.807073226025821},{"$f":"Prevalence!Z197*BV198","v":141.73575757575753},{"$f":"Prevalence!AA197*BW198","v":56.522749620094736},{"$f":"Prevalence!AB197*BX198","v":182.05159705159701},{"$f":"Prevalence!AC197*BY198","v":1.878787878787878},{"$f":"Prevalence!AD197*BZ198","v":123.18333333333332},{"$f":"Prevalence!AE197*CA198","v":306.1379979334049},{"$f":"Prevalence!AF197*CB198","v":256.77641555504147},{"$f":"Prevalence!AG197*CC198","v":265.83591012162435},{"$f":"Prevalence!AH197*CD198","v":75.777777777777743},{"$f":"Prevalence!AI197*CE198","v":70.228013029315932},{"$f":"Prevalence!AJ197*CF198","v":115.47520661157023},{"$f":"Prevalence!AK197*CG198","v":112.80347681133533},{"$f":"Prevalence!AL197*CH198","v":168.45783605913263},{"$f":"Prevalence!AM197*CI198","v":45.372727272727253},{"$f":"Prevalence!AN197*CJ198","v":222.56096316702369},{"$f":"Prevalence!AO197*CK198","v":97.688075918030492},{"$f":"Prevalence!AP197*CL198","v":195.97382920110189},{"$f":"Prevalence!AQ197*CM198","v":43.212121212121197},{"$f":"Prevalence!AR197*CN198","v":70.215473014570065},{"$f":"Prevalence!AS197*CO198","v":210.25923979681198},{"$f":"Prevalence!AT197*CP198","v":94.888772114205622},{"$f":"Prevalence!AU197*CQ198","v":42.198298777246137},{"$f":"Prevalence!AV197*CR198","v":105.01796076264158},197,41428,2314,1949,1490,2921,2452,5647,6272,3952,2983,5727,483,460,4758,20,891,3514,1694,953,351,1490,693,765,804,1426,608,2349,20,1167,2921,2230,2999,605,726,1242,938,1511,483,2371,973,1949,460,611,2149,934,375,1226]
["Male 55-59",{"$f":"Prevalence!B198*AX199","v":7452.7999999999984},{"$f":"Prevalence!C198*AY199","v":483.68828023236841},{"$f":"Prevalence!D198*AZ199","v":370.59999999999991},{"$f":"Prevalence!E198*BA199","v":375.41160912033325},{"$f":"Prevalence!F198*BB199","v":536.26554741672942},{"$f":"Prevalence!G198*BC199","v":447.7564276500417},{"$f":"Prevalence!H198*BD199","v":802.19999999999982},{"$f":"Prevalence!I198*BE199","v":1196.2130973460037},{"$f":"Prevalence!J198*BF199","v":710.59199999999976},{"$f":"Prevalence!K198*BG199","v":539.64504366017798},{"$f":"Prevalence!L198*BH199","v":808.41999999999973},{"$f":"Prevalence!M198*BI199","v":86.048484848484819},{"$f":"Prevalence!N198*BJ199","v":74.399999999999977},{"$f":"Prevalence!O198*BK199","v":933.85780784781343},{"$f":"Prevalence!P198*BL199","v":4.3212121212121195},{"$f":"Prevalence!Q198*BM199","v":125.39407377544848},{"$f":"Prevalence!R198*BN199","v":467.25357551045613},{"$f":"Prevalence!S198*BO199","v":325.94081996434926},{"$f":"Prevalence!T198*BP199","v":209.78405758464405},{"$f":"Prevalence!U198*BQ199","v":69.637305699481857},{"$f":"Prevalence!V198*BR199","v":374.76961394769609},{"$f":"Prevalence!W198*BS199","v":151.79797979797976},{"$f":"Prevalence!X198*BT199","v":152.31404958677683},{"$f":"Prevalence!Y198*BU199","v":142.31693493538876},{"$f":"Prevalence!Z198*BV199","v":250.67151515151508},{"$f":"Prevalence!AA198*BW199","v":94.080629301868214},{"$f":"Prevalence!AB198*BX199","v":310.16198016198013},{"$f":"Prevalence!AC198*BY199","v":4.3212121212121195},{"$f":"Prevalence!AD198*BZ199","v":192.95555555555552},{"$f":"Prevalence!AE198*CA199","v":535.34847430463276},{"$f":"Prevalence!AF198*CB199","v":444.23471354769055},{"$f":"Prevalence!AG198*CC199","v":493.91053391053379},{"$f":"Prevalence!AH198*CD199","v":125.7535353535353},{"$f":"Prevalence!AI198*CE199","v":125.55917480998909},{"$f":"Prevalence!AJ198*CF199","v":227.60330578512392},{"$f":"Prevalence!AK198*CG199","v":204.20075013395243},{"$f":"Prevalence!AL198*CH199","v":291.20573645695197},{"$f":"Prevalence!AM198*CI199","v":86.048484848484819},{"$f":"Prevalence!AN198*CJ199","v":419.02662993572068},{"$f":"Prevalence!AO198*CK199","v":174.89478751203404},{"$f":"Prevalence!AP198*CL199","v":372.64187327823686},{"$f":"Prevalence!AQ198*CM199","v":74.399999999999977},{"$f":"Prevalence!AR198*CN199","v":126.87051097886309},{"$f":"Prevalence!AS198*CO199","v":364.16235017391074},{"$f":"Prevalence!AT198*CP199","v":181.65002627430371},{"$f":"Prevalence!AU198*CQ199","v":67.96739323055111},{"$f":"Prevalence!AV198*CR199","v":164.29400386847192},198,37264,2080,1853,1468,2554,2116,5348,5413,3701,2572,4870,458,396,4412,23,864,3260,1534,915,308,1468,646,679,708,1261,506,2001,23,914,2554,1929,2786,502,649,1224,849,1306,458,2232,871,1853,396,552,1861,894,302,959]
["Male 60-64",{"$f":"Prevalence!B199*AX200","v":12926.16},{"$f":"Prevalence!C199*AY200","v":847.61720261874189},{"$f":"Prevalence!D199*AZ200","v":670.68},{"$f":"Prevalence!E199*BA200","v":710.72475753898516},{"$f":"Prevalence!F199*BB200","v":986.44304689263708},{"$f":"Prevalence!G199*BC200","v":769.39620554610201},{"$f":"Prevalence!H199*BD200","v":1406.97},{"$f":"Prevalence!I199*BE200","v":1900.1954440863381},{"$f":"Prevalence!J199*BF200","v":1272.4992},{"$f":"Prevalence!K199*BG200","v":881.85385633892997},{"$f":"Prevalence!L199*BH200","v":1329.9587999999999},{"$f":"Prevalence!M199*BI200","v":151.50545454545454},{"$f":"Prevalence!N199*BJ200","v":141.35999999999999},{"$f":"Prevalence!O199*BK200","v":1709.8995727374836},{"$f":"Prevalence!P199*BL200","v":11.498181818181816},{"$f":"Prevalence!Q199*BM200","v":200.89175569441645},{"$f":"Prevalence!R199*BN200","v":838.73450097303305},{"$f":"Prevalence!S199*BO200","v":598.5497326203207},{"$f":"Prevalence!T199*BP200","v":390.81738203145829},{"$f":"Prevalence!U199*BQ200","v":125.75412152614224},{"$f":"Prevalence!V199*BR200","v":709.50933997509344},{"$f":"Prevalence!W199*BS200","v":239.82200956937797},{"$f":"Prevalence!X199*BT200","v":254.78394332939789},{"$f":"Prevalence!Y199*BU200","v":243.14486510995235},{"$f":"Prevalence!Z199*BV200","v":390.37963636363634},{"$f":"Prevalence!AA199*BW200","v":148.59533386967013},{"$f":"Prevalence!AB199*BX200","v":506.39639639639637},{"$f":"Prevalence!AC199*BY200","v":11.498181818181816},{"$f":"Prevalence!AD199*BZ200","v":359.86},{"$f":"Prevalence!AE199*CA200","v":984.75612070601619},{"$f":"Prevalence!AF199*CB200","v":687.70020818875776},{"$f":"Prevalence!AG199*CC200","v":872.76437847866407},{"$f":"Prevalence!AH199*CD200","v":205.61454545454541},{"$f":"Prevalence!AI199*CE200","v":230.18537163162566},{"$f":"Prevalence!AJ199*CF200","v":398.64049586776861},{"$f":"Prevalence!AK199*CG200","v":359.76853009465975},{"$f":"Prevalence!AL199*CH200","v":464.36835125976131},{"$f":"Prevalence!AM199*CI200","v":151.50545454545454},{"$f":"Prevalence!AN199*CJ200","v":796.15059687786948},{"$f":"Prevalence!AO199*CK200","v":277.58272589740056},{"$f":"Prevalence!AP199*CL200","v":674.37520661157021},{"$f":"Prevalence!AQ199*CM200","v":141.35999999999999},{"$f":"Prevalence!AR199*CN200","v":232.91770982967373},{"$f":"Prevalence!AS199*CO200","v":578.35477816980699},{"$f":"Prevalence!AT199*CP200","v":279.42406726221753},{"$f":"Prevalence!AU199*CQ200","v":127.20255183413077},{"$f":"Prevalence!AV199*CR200","v":272.60127106935619},199,35906,2025,1863,1544,2610,2020,5211,4777,3682,2335,4451,448,418,4488,34,769,3251,1565,947,309,1544,567,631,672,1091,444,1815,34,947,2610,1659,2735,456,661,1191,831,1157,448,2356,768,1863,418,563,1642,764,314,884]
["Male 65-69",{"$f":"Prevalence!B200*AX201","v":27914.850000000002},{"$f":"Prevalence!C200*AY201","v":1943},{"$f":"Prevalence!D200*AZ201","v":1568.18},{"$f":"Prevalence!E200*BA201","v":1414},{"$f":"Prevalence!F200*BB201","v":2267.7166608977254},{"$f":"Prevalence!G200*BC201","v":1719.4396995065899},{"$f":"Prevalence!H200*BD201","v":2789.4825000000001},{"$f":"Prevalence!I200*BE201","v":3952.2876316533298},{"$f":"Prevalence!J200*BF201","v":2867.3663999999999},{"$f":"Prevalence!K200*BG201","v":1751.5803862690118},{"$f":"Prevalence!L200*BH201","v":2790.0699},{"$f":"Prevalence!M200*BI201","v":342.78484848484851},{"$f":"Prevalence!N200*BJ201","v":274.22787878787881},{"$f":"Prevalence!O200*BK201","v":3801.5124661170221},{"$f":"Prevalence!P200*BL201","v":10.032727272727273},{"$f":"Prevalence!Q200*BM201","v":390.08586978431765},{"$f":"Prevalence!R200*BN201","v":1606.0193371019059},{"$f":"Prevalence!S200*BO201","v":1360.6116934046345},{"$f":"Prevalence!T200*BP201","v":950},{"$f":"Prevalence!U200*BQ201","v":271},{"$f":"Prevalence!V200*BR201","v":1414},{"$f":"Prevalence!W200*BS201","v":490},{"$f":"Prevalence!X200*BT201","v":593.94628099173553},{"$f":"Prevalence!Y200*BU201","v":503.60696742991007},{"$f":"Prevalence!Z200*BV201","v":889.91369696969696},{"$f":"Prevalence!AA200*BW201","v":296.20523822293728},{"$f":"Prevalence!AB200*BX201","v":981.53633936967265},{"$f":"Prevalence!AC200*BY201","v":10.032727272727273},{"$f":"Prevalence!AD200*BZ201","v":779.73888888888894},{"$f":"Prevalence!AE200*CA201","v":2263.8386158031249},{"$f":"Prevalence!AF200*CB201","v":1249},{"$f":"Prevalence!AG200*CC201","v":1898.1162646876933},{"$f":"Prevalence!AH200*CD201","v":494.94787878787872},{"$f":"Prevalence!AI200*CE201","v":510.52670022702591},{"$f":"Prevalence!AJ200*CF201","v":874.64566115702473},{"$f":"Prevalence!AK200*CG201","v":892.63868547954985},{"$f":"Prevalence!AL200*CH201","v":897.97726044889748},{"$f":"Prevalence!AM200*CI201","v":342.78484848484851},{"$f":"Prevalence!AN200*CJ201","v":1760.2403836343228},{"$f":"Prevalence!AO200*CK201","v":672.84293769770318},{"$f":"Prevalence!AP200*CL201","v":1576.8201101928375},{"$f":"Prevalence!AQ200*CM201","v":274.22787878787881},{"$f":"Prevalence!AR200*CN201","v":514},{"$f":"Prevalence!AS200*CO201","v":1191.2276856091883},{"$f":"Prevalence!AT200*CP201","v":655.53511998598708},{"$f":"Prevalence!AU200*CQ201","v":255.38410419989367},{"$f":"Prevalence!AV200*CR201","v":575.58579718154181},200,31365,1943,1762,1414,2427,1826,4179,4019,3356,1876,3777,410,328,4036,12,604,2518,1439,950,271,1414,490,595,563,1006,358,1423,12,830,2427,1249,2406,444,593,1057,834,905,410,2107,753,1762,328,514,1368,725,255,755]
["Male 70-74",null,null,null,null,null,null,null,null,null,null,null,null,null,null,null,null,null,null,null,null,null,null,null,null,null,null,null,null,null,null,null,null,null,null,null,null,null,null,null,null,null,null,null,null,null,null,null,201]
["Male 75-79",null,null,null,null,null,null,null,null,null,null,null,null,null,null,null,null,null,null,null,null,null,null,null,null,null,null,null,null,null,null,null,null,null,null,null,null,null,null,null,null,null,null,null,null,null,null,null,202]
["Male 80-84",null,null,null,null,null,null,null,null,null,null,null,null,null,null,null,null,null,null,null,null,null,null,null,null,null,null,null,null,null,null,null,null,null,null,null,null,null,null,null,null,null,null,null,null,null,null,null,203]
["Male 85+",null,null,null,null,null,null,null,null,null,null,null,null,null,null,null,null,null,null,null,null,null,null,null,null,null,null,null,null,null,null,null,null,null,null,null,null,null,null,null,null,null,null,null,null,null,null,null,204]
[null,null,null,null,null,null,null,null,null,null,null,null,null,null,null,null,null,null,null,null,null,null,null,null,null,null,null,null,null,null,null,null,null,null,null,null,null,null,null,null,null,null,null,null,null,null,null,null,205]
["Female <1",null,null,null,null,null,null,null,null,null,null,null,null,null,null,null,null,null,null,null,null,null,null,null,null,null,null,null,null,null,null,null,null,null,null,null,null,null,null,null,null,null,null,null,null,null,null,null,206]
["Female 1-4",null,null,null,null,null,null,null,null,null,null,null,null,null,null,null,null,null,null,null,null,null,null,null,null,null,null,null,null,null,null,null,null,null,null,null,null,null,null,null,null,null,null,null,null,null,null,null,207]
["Female 5-9",null,null,null,null,null,null,null,null,null,null,null,null,null,null,null,null,null,null,null,null,null,null,null,null,null,null,null,null,null,null,null,null,null,null,null,null,null,null,null,null,null,null,null,null,null,null,null,208]
["Female 10-14",null,null,null,null,null,null,null,null,null,null,null,null,null,null,null,null,null,null,null,null,null,null,null,null,null,null,null,null,null,null,null,null,null,null,null,null,null,null,null,null,null,null,null,null,null,null,null,209]
["Female 16-19",{"$f":"Prevalence!B210*AX211","v":1971.8400000000001},{"$f":"Prevalence!C210*AY211","v":113.49875796753143},{"$f":"Prevalence!D210*AZ211","v":89.78880202926959},{"$f":"Prevalence!E210*BA211","v":74.319104700718796},{"$f":"Prevalence!F210*BB211","v":128.71040000000002},{"$f":"Prevalence!G210*BC211","v":116.16442048166279},{"$f":"Prevalence!H210*BD211","v":263.56669423890179},{"$f":"Prevalence!I210*BE211","v":346.64487821419044},{"$f":"Prevalence!J210*BF211","v":185.86880000000002},{"$f":"Prevalence!K210*BG211","v":139.25602027319624},{"$f":"Prevalence!L210*BH211","v":237.87464137957309},{"$f":"Prevalence!M210*BI211","v":23.238095238095241},{"$f":"Prevalence!N210*BJ211","v":20.190476190476193},{"$f":"Prevalence!O210*BK211","v":230.11195705465715},{"$f":"Prevalence!P210*BL211","v":1.5238095238095239},{"$f":"Prevalence!Q210*BM211","v":57.937484219562691},{"$f":"Prevalence!R210*BN211","v":149.92857142857144},{"$f":"Prevalence!S210*BO211","v":76.897959183673478},{"$f":"Prevalence!T210*BP211","v":44.343490304709142},{"$f":"Prevalence!U210*BQ211","v":15.127962085308058},{"$f":"Prevalence!V210*BR211","v":74.122664255575657},{"$f":"Prevalence!W210*BS211","v":38.000457142857151},{"$f":"Prevalence!X210*BT211","v":31.995518207282917},{"$f":"Prevalence!Y210*BU211","v":37.807597645799902},{"$f":"Prevalence!Z210*BV211","v":63.849551414768811},{"$f":"Prevalence!AA210*BW211","v":30.1769436997319},{"$f":"Prevalence!AB210*BX211","v":98.755532277072149},{"$f":"Prevalence!AC210*BY211","v":1.5238095238095239},{"$f":"Prevalence!AD210*BZ211","v":52.521428571428572},{"$f":"Prevalence!AE210*CA211","v":128.98832684824905},{"$f":"Prevalence!AF210*CB211","v":159.69114374721852},{"$f":"Prevalence!AG210*CC211","v":140.00636975394258},{"$f":"Prevalence!AH210*CD211","v":29.419862340216323},{"$f":"Prevalence!AI210*CE211","v":28.559834368530023},{"$f":"Prevalence!AJ210*CF211","v":57.336561743341406},{"$f":"Prevalence!AK210*CG211","v":55.222304465827783},{"$f":"Prevalence!AL210*CH211","v":75.352941176470594},{"$f":"Prevalence!AM210*CI211","v":23.238095238095241},{"$f":"Prevalence!AN210*CJ211","v":116.03375527426159},{"$f":"Prevalence!AO210*CK211","v":41.099940393403536},{"$f":"Prevalence!AP210*CL211","v":89.551472041098606},{"$f":"Prevalence!AQ210*CM211","v":20.190476190476193},{"$f":"Prevalence!AR210*CN211","v":26.887218045112785},{"$f":"Prevalence!AS210*CO211","v":89.785714285714292},{"$f":"Prevalence!AT210*CP211","v":47.8567698619918},{"$f":"Prevalence!AU210*CQ211","v":15.075529440568001},{"$f":"Prevalence!AV210*CR211","v":48.787586944890322},210,24648,1215,1054,851,1547,1449,3648,4201,2234,1804,3271,305,265,2784,20,829,2099,942,522,171,851,467,363,488,831,402,1383,20,684,1547,1924,1712,340,401,720,554,915,305,1375,507,1054,265,298,1257,594,172,656]
["Female 20-24",{"$f":"Prevalence!B211*AX212","v":2592.88},{"$f":"Prevalence!C211*AY212","v":132.83558339903678},{"$f":"Prevalence!D211*AZ212","v":76.84013228690813},{"$f":"Prevalence!E211*BA212","v":72.659806240890759},{"$f":"Prevalence!F211*BB212","v":153.42080000000001},{"$f":"Prevalence!G211*BC212","v":126.50618048313586},{"$f":"Prevalence!H211*BD212","v":342.24655444344234},{"$f":"Prevalence!I211*BE212","v":612.34269012794744},{"$f":"Prevalence!J211*BF212","v":179.12960000000001},{"$f":"Prevalence!K211*BG212","v":159.09459965801412},{"$f":"Prevalence!L211*BH212","v":409.35382339517486},{"$f":"Prevalence!M211*BI212","v":22.62857142857143},{"$f":"Prevalence!N211*BJ212","v":23.847619047619048},{"$f":"Prevalence!O211*BK212","v":264.909778146615},{"$f":"Prevalence!P211*BL212","v":1.2952380952380953},{"$f":"Prevalence!Q211*BM212","v":133.27718022521839},{"$f":"Prevalence!R211*BN212","v":151.57142857142858},{"$f":"Prevalence!S211*BO212","v":72.489795918367349},{"$f":"Prevalence!T211*BP212","v":42.304709141274245},{"$f":"Prevalence!U211*BQ212","v":15.481832543443918},{"$f":"Prevalence!V211*BR212","v":72.467751657625072},{"$f":"Prevalence!W211*BS212","v":81.208685714285735},{"$f":"Prevalence!X211*BT212","v":44.511671335200752},{"$f":"Prevalence!Y211*BU212","v":41.216479400749073},{"$f":"Prevalence!Z211*BV212","v":64.694731999079835},{"$f":"Prevalence!AA211*BW212","v":29.576407506702409},{"$f":"Prevalence!AB211*BX212","v":248.63829601501465},{"$f":"Prevalence!AC211*BY212","v":1.2952380952380953},{"$f":"Prevalence!AD211*BZ212","v":55.439285714285717},{"$f":"Prevalence!AE211*CA212","v":153.75208449138412},{"$f":"Prevalence!AF211*CB212","v":403.95883400089008},{"$f":"Prevalence!AG211*CC212","v":135.3449427235835},{"$f":"Prevalence!AH211*CD212","v":32.102261553588988},{"$f":"Prevalence!AI211*CE212","v":38.67329192546584},{"$f":"Prevalence!AJ211*CF212","v":56.38095238095238},{"$f":"Prevalence!AK211*CG212","v":57.514927214409077},{"$f":"Prevalence!AL211*CH212","v":96.105882352941194},{"$f":"Prevalence!AM211*CI212","v":22.62857142857143},{"$f":"Prevalence!AN211*CJ212","v":111.30801687763713},{"$f":"Prevalence!AO211*CK212","v":45.801708722431947},{"$f":"Prevalence!AP211*CL212","v":76.637028255285514},{"$f":"Prevalence!AQ211*CM212","v":23.847619047619048},{"$f":"Prevalence!AR211*CN212","v":30.676691729323313},{"$f":"Prevalence!AS211*CO212","v":97.642857142857153},{"$f":"Prevalence!AT211*CP212","v":54.866094740768382},{"$f":"Prevalence!AU211*CQ212","v":19.195005508630189},{"$f":"Prevalence!AV211*CR212","v":56.670947030497601},211,32411,1422,902,832,1844,1578,4737,7421,2153,2061,5629,297,313,3205,17,1907,2122,888,498,175,832,998,505,532,842,394,3482,17,722,1844,4867,1655,371,543,708,577,1167,297,1319,565,902,313,340,1367,681,219,762]
["Female 25-29",{"$f":"Prevalence!B212*AX213","v":6540.4499999999989},{"$f":"Prevalence!C212*AY213","v":338.39444505134367},{"$f":"Prevalence!D212*AZ213","v":202.37620760985152},{"$f":"Prevalence!E212*BA213","v":188.66878474478887},{"$f":"Prevalence!F212*BB213","v":362.76239999999996},{"$f":"Prevalence!G212*BC213","v":345.96794795625647},{"$f":"Prevalence!H212*BD213","v":898.58686072444641},{"$f":"Prevalence!I212*BE213","v":1205.6038215586723},{"$f":"Prevalence!J212*BF213","v":556.26479999999992},{"$f":"Prevalence!K212*BG213","v":421.47332078251185},{"$f":"Prevalence!L212*BH213","v":1142.5127752136823},{"$f":"Prevalence!M212*BI213","v":68.399999999999991},{"$f":"Prevalence!N212*BJ213","v":70.199999999999989},{"$f":"Prevalence!O212*BK213","v":674.12512849969528},{"$f":"Prevalence!P212*BL213","v":3.1999999999999997},{"$f":"Prevalence!Q212*BM213","v":286.19300106044534},{"$f":"Prevalence!R212*BN213","v":437.62499999999994},{"$f":"Prevalence!S212*BO213","v":196.28571428571425},{"$f":"Prevalence!T212*BP213","v":105.25207756232686},{"$f":"Prevalence!U212*BQ213","v":48.071090047393355},{"$f":"Prevalence!V212*BR213","v":188.17009493670884},{"$f":"Prevalence!W212*BS213","v":140.5488},{"$f":"Prevalence!X212*BT213","v":115.2235294117647},{"$f":"Prevalence!Y212*BU213","v":78.094382022471905},{"$f":"Prevalence!Z212*BV213","v":171.43719806763283},{"$f":"Prevalence!AA212*BW213","v":66.603217158176932},{"$f":"Prevalence!AB212*BX213","v":722.77910174152146},{"$f":"Prevalence!AC212*BY213","v":3.1999999999999997},{"$f":"Prevalence!AD212*BZ213","v":172.73906249999999},{"$f":"Prevalence!AE212*CA213","v":363.5457198443579},{"$f":"Prevalence!AF212*CB213","v":711.79380841121474},{"$f":"Prevalence!AG212*CC213","v":445.44228694714121},{"$f":"Prevalence!AH212*CD213","v":71.775811209439524},{"$f":"Prevalence!AI212*CE213","v":93.478260869565204},{"$f":"Prevalence!AJ212*CF213","v":176.42937853107341},{"$f":"Prevalence!AK212*CG213","v":148.62176165803109},{"$f":"Prevalence!AL212*CH213","v":253.57499999999999},{"$f":"Prevalence!AM212*CI213","v":68.399999999999991},{"$f":"Prevalence!AN212*CJ213","v":339.58860759493666},{"$f":"Prevalence!AO212*CK213","v":120.44228094575797},{"$f":"Prevalence!AP212*CL213","v":201.84128630705391},{"$f":"Prevalence!AQ212*CM213","v":70.199999999999989},{"$f":"Prevalence!AR212*CN213","v":74.368421052631561},{"$f":"Prevalence!AS212*CO213","v":263.81249999999994},{"$f":"Prevalence!AT212*CP213","v":122.66318537859009},{"$f":"Prevalence!AU212*CQ213","v":44.8650385604113},{"$f":"Prevalence!AV212*CR213","v":152.08005617977526},212,31145,1380,905,823,1661,1644,4738,5566,2547,2080,5985,342,351,3107,16,1560,2334,916,472,207,823,658,498,384,850,338,3856,16,857,1661,3267,2075,316,500,844,568,1173,342,1533,566,905,351,314,1407,580,195,779]
["Female 30-34",{"$f":"Prevalence!B213*AX214","v":7048.1399999999994},{"$f":"Prevalence!C213*AY214","v":390.47309325455251},{"$f":"Prevalence!D213*AZ214","v":227.70917250876428},{"$f":"Prevalence!E213*BA214","v":194.53091154036554},{"$f":"Prevalence!F213*BB214","v":423.73759999999993},{"$f":"Prevalence!G213*BC214","v":404.11028470872435},{"$f":"Prevalence!H213*BD214","v":949.52285837752368},{"$f":"Prevalence!I213*BE214","v":1216.495781550168},{"$f":"Prevalence!J213*BF214","v":632.17439999999988},{"$f":"Prevalence!K213*BG214","v":503.31710985937229},{"$f":"Prevalence!L213*BH214","v":1175.5196088597093},{"$f":"Prevalence!M213*BI214","v":72.495238095238093},{"$f":"Prevalence!N213*BJ214","v":71.447619047619042},{"$f":"Prevalence!O213*BK214","v":727.36538149460591},{"$f":"Prevalence!P213*BL214","v":2.3047619047619046},{"$f":"Prevalence!Q213*BM214","v":227.17224662929857},{"$f":"Prevalence!R213*BN214","v":543.71428571428567},{"$f":"Prevalence!S213*BO214","v":240.87755102040813},{"$f":"Prevalence!T213*BP214","v":117.27239150507847},{"$f":"Prevalence!U213*BQ214","v":61.794628751974713},{"$f":"Prevalence!V213*BR214","v":194.0167269439421},{"$f":"Prevalence!W213*BS214","v":132.24891428571431},{"$f":"Prevalence!X213*BT214","v":138.1624649859944},{"$f":"Prevalence!Y213*BU214","v":92.465917602996242},{"$f":"Prevalence!Z213*BV214","v":215.30975385323211},{"$f":"Prevalence!AA213*BW214","v":76.999999999999986},{"$f":"Prevalence!AB213*BX214","v":668.43856662738415},{"$f":"Prevalence!AC213*BY214","v":2.3047619047619046},{"$f":"Prevalence!AD213*BZ214","v":215.38392857142856},{"$f":"Prevalence!AE213*CA214","v":424.65258476931626},{"$f":"Prevalence!AF213*CB214","v":616.72819314641731},{"$f":"Prevalence!AG213*CC214","v":508.48399856166839},{"$f":"Prevalence!AH213*CD214","v":80.428711897738438},{"$f":"Prevalence!AI213*CE214","v":106.54741200828157},{"$f":"Prevalence!AJ213*CF214","v":181.5458703255313},{"$f":"Prevalence!AK213*CG214","v":168.58253145817912},{"$f":"Prevalence!AL213*CH214","v":297.35588235294119},{"$f":"Prevalence!AM213*CI214","v":72.495238095238093},{"$f":"Prevalence!AN213*CJ214","v":356.45569620253161},{"$f":"Prevalence!AO213*CK214","v":132.64255910987481},{"$f":"Prevalence!AP213*CL214","v":227.10729104919974},{"$f":"Prevalence!AQ213*CM214","v":71.447619047619042},{"$f":"Prevalence!AR213*CN214","v":83.120300751879697},{"$f":"Prevalence!AS213*CO214","v":349.44642857142856},{"$f":"Prevalence!AT213*CP214","v":123.85154792987692},{"$f":"Prevalence!AU213*CQ214","v":47.72456849063532},{"$f":"Prevalence!AV213*CR214","v":186.31875334403423},213,32037,1520,972,810,1852,1833,4779,5361,2763,2371,5878,346,341,3200,11,1182,2768,1073,502,254,810,591,570,434,1019,373,3404,11,1020,1852,2702,2261,338,544,829,615,1313,346,1536,595,972,341,335,1779,559,198,911]
["Female 35-39",{"$f":"Prevalence!B214*AX215","v":4860.38},{"$f":"Prevalence!C214*AY215","v":299.65073322662471},{"$f":"Prevalence!D214*AZ215","v":206.92315002760515},{"$f":"Prevalence!E214*BA215","v":147.6338971757522},{"$f":"Prevalence!F214*BB215","v":323.37760000000003},{"$f":"Prevalence!G214*BC215","v":309.91208314491917},{"$f":"Prevalence!H214*BD215","v":625.988961227907},{"$f":"Prevalence!I214*BE215","v":774.42248113776043},{"$f":"Prevalence!J214*BF215","v":439.85760000000005},{"$f":"Prevalence!K214*BG215","v":355.4154830060221},{"$f":"Prevalence!L214*BH215","v":726.16852078744341},{"$f":"Prevalence!M214*BI215","v":48.800000000000011},{"$f":"Prevalence!N214*BJ215","v":51.866666666666674},{"$f":"Prevalence!O214*BK215","v":528.68304788464479},{"$f":"Prevalence!P214*BL215","v":2.4000000000000004},{"$f":"Prevalence!Q214*BM215","v":109.82962177447862},{"$f":"Prevalence!R214*BN215","v":389.87500000000011},{"$f":"Prevalence!S214*BO215","v":183.00000000000003},{"$f":"Prevalence!T214*BP215","v":90.534626038781184},{"$f":"Prevalence!U214*BQ215","v":43.658767772511851},{"$f":"Prevalence!V214*BR215","v":147.24367088607596},{"$f":"Prevalence!W214*BS215","v":74.332800000000034},{"$f":"Prevalence!X214*BT215","v":99.181699346405253},{"$f":"Prevalence!Y214*BU215","v":69.41722846441948},{"$f":"Prevalence!Z214*BV215","v":171.70611916264093},{"$f":"Prevalence!AA214*BW215","v":64.501340482573724},{"$f":"Prevalence!AB214*BX215","v":334.14787656584178},{"$f":"Prevalence!AC214*BY215","v":2.4000000000000004},{"$f":"Prevalence!AD214*BZ215","v":163.13125000000002},{"$f":"Prevalence!AE214*CA215","v":324.07587548638139},{"$f":"Prevalence!AF214*CB215","v":310.97858255451712},{"$f":"Prevalence!AG214*CC215","v":345.19093851132692},{"$f":"Prevalence!AH214*CD215","v":65.870206489675525},{"$f":"Prevalence!AI214*CE215","v":78.397101449275368},{"$f":"Prevalence!AJ214*CF215","v":130.16195856873824},{"$f":"Prevalence!AK214*CG215","v":132.57340241796203},{"$f":"Prevalence!AL214*CH215","v":205.51176470588243},{"$f":"Prevalence!AM214*CI215","v":48.800000000000011},{"$f":"Prevalence!AN214*CJ215","v":273.50210970464133},{"$f":"Prevalence!AO214*CK215","v":108.80945757997219},{"$f":"Prevalence!AP214*CL215","v":206.37621023513142},{"$f":"Prevalence!AQ214*CM215","v":51.866666666666674},{"$f":"Prevalence!AR214*CN215","v":67.894736842105274},{"$f":"Prevalence!AS214*CO215","v":251.87500000000006},{"$f":"Prevalence!AT214*CP215","v":100.52741514360316},{"$f":"Prevalence!AU214*CQ215","v":31.750642673521853},{"$f":"Prevalence!AV214*CR215","v":146.5486891385768},214,34717,1833,1388,966,2221,2209,4951,5363,3021,2631,5706,366,389,3655,18,898,3119,1281,609,282,966,522,643,512,1277,491,2674,18,1214,2221,2141,2412,435,629,934,760,1426,366,1852,767,1388,389,430,2015,713,207,1126]
["Female 40-44",{"$f":"Prevalence!B215*AX216","v":5617.95},{"$f":"Prevalence!C215*AY216","v":362.04001962791284},{"$f":"Prevalence!D215*AZ216","v":272.57162779212683},{"$f":"Prevalence!E215*BA216","v":193.00261032736609},{"$f":"Prevalence!F215*BB216","v":401.81440000000003},{"$f":"Prevalence!G215*BC216","v":356.56023508954826},{"$f":"Prevalence!H215*BD216","v":694.80674529110706},{"$f":"Prevalence!I215*BE216","v":849.70696596534242},{"$f":"Prevalence!J215*BF216","v":550.39920000000006},{"$f":"Prevalence!K215*BG216","v":422.35139020080879},{"$f":"Prevalence!L215*BH216","v":739.88576451420033},{"$f":"Prevalence!M215*BI216","v":61.161904761904772},{"$f":"Prevalence!N215*BJ216","v":51.504761904761914},{"$f":"Prevalence!O215*BK216","v":658.81326066766405},{"$f":"Prevalence!P215*BL216","v":2.8476190476190482},{"$f":"Prevalence!Q215*BM216","v":102.32535474423067},{"$f":"Prevalence!R215*BN216","v":444.20535714285717},{"$f":"Prevalence!S215*BO216","v":226.4387755102041},{"$f":"Prevalence!T215*BP216","v":128.93167128347184},{"$f":"Prevalence!U215*BQ216","v":58.078988941548182},{"$f":"Prevalence!V215*BR216","v":192.49246534056664},{"$f":"Prevalence!W215*BS216","v":87.138628571428598},{"$f":"Prevalence!X215*BT216","v":112.57927170868349},{"$f":"Prevalence!Y215*BU216","v":91.02295345104335},{"$f":"Prevalence!Z215*BV216","v":209.6335978835979},{"$f":"Prevalence!AA215*BW216","v":68.676943699731908},{"$f":"Prevalence!AB215*BX216","v":279.29856837327048},{"$f":"Prevalence!AC215*BY216","v":2.8476190476190482},{"$f":"Prevalence!AD215*BZ216","v":172.19196428571431},{"$f":"Prevalence!AE215*CA216","v":402.68204558087831},{"$f":"Prevalence!AF215*CB216","v":323.02389296840232},{"$f":"Prevalence!AG215*CC216","v":416.88082395849386},{"$f":"Prevalence!AH215*CD216","v":72.976401179941007},{"$f":"Prevalence!AI215*CE216","v":95.828571428571436},{"$f":"Prevalence!AJ215*CF216","v":153.99246704331449},{"$f":"Prevalence!AK215*CG216","v":162.62669627436466},{"$f":"Prevalence!AL215*CH216","v":245.96764705882359},{"$f":"Prevalence!AM215*CI216","v":61.161904761904772},{"$f":"Prevalence!AN215*CJ216","v":348.17510548523205},{"$f":"Prevalence!AO215*CK216","v":127.25173852573019},{"$f":"Prevalence!AP215*CL216","v":271.85116577751432},{"$f":"Prevalence!AQ215*CM216","v":51.504761904761914},{"$f":"Prevalence!AR215*CN216","v":87.236842105263165},{"$f":"Prevalence!AS215*CO216","v":278.45535714285717},{"$f":"Prevalence!AT215*CP216","v":124.76799701603881},{"$f":"Prevalence!AU215*CQ216","v":42.871036846615254},{"$f":"Prevalence!AV215*CR216","v":162.78952648475124},215,43215,2385,1969,1360,2972,2737,5918,6337,4071,3367,6261,494,416,4905,23,901,3827,1707,934,404,1360,659,786,723,1679,563,2407,23,1380,2972,2395,3137,519,828,1190,1004,1838,494,2539,966,1969,416,595,2399,953,301,1347]
["Female 45-49",{"$f":"Prevalence!B216*AX217","v":6007.04},{"$f":"Prevalence!C216*AY217","v":390.12278844601087},{"$f":"Prevalence!D216*AZ217","v":304.1340102891329},{"$f":"Prevalence!E216*BA217","v":229.04868607968297},{"$f":"Prevalence!F216*BB217","v":430.34160000000003},{"$f":"Prevalence!G216*BC217","v":358.1235243920965},{"$f":"Prevalence!H216*BD217","v":737.89462557529714},{"$f":"Prevalence!I216*BE217","v":941.01996009859135},{"$f":"Prevalence!J216*BF217","v":572.03120000000001},{"$f":"Prevalence!K216*BG217","v":453.7110122828409},{"$f":"Prevalence!L216*BH217","v":767.06572391976908},{"$f":"Prevalence!M216*BI217","v":62.276190476190486},{"$f":"Prevalence!N216*BJ217","v":56.58095238095239},{"$f":"Prevalence!O216*BK217","v":707.56947139597435},{"$f":"Prevalence!P216*BL217","v":3.0952380952380958},{"$f":"Prevalence!Q216*BM217","v":104.82386507094884},{"$f":"Prevalence!R216*BN217","v":462.3125},{"$f":"Prevalence!S216*BO217","v":243.55102040816328},{"$f":"Prevalence!T216*BP217","v":139.14681440443215},{"$f":"Prevalence!U216*BQ217","v":57.072669826224327},{"$f":"Prevalence!V216*BR217","v":228.44326401446659},{"$f":"Prevalence!W216*BS217","v":97.320228571428601},{"$f":"Prevalence!X216*BT217","v":129.33725490196079},{"$f":"Prevalence!Y216*BU217","v":109.65559122525416},{"$f":"Prevalence!Z216*BV217","v":201.51794340924778},{"$f":"Prevalence!AA216*BW217","v":82.949061662198389},{"$f":"Prevalence!AB216*BX217","v":309.00377547902758},{"$f":"Prevalence!AC216*BY217","v":3.0952380952380958},{"$f":"Prevalence!AD216*BZ217","v":157.84263392857144},{"$f":"Prevalence!AE216*CA217","v":431.27084491384107},{"$f":"Prevalence!AF216*CB217","v":356.74246217178461},{"$f":"Prevalence!AG216*CC217","v":428.30949812503212},{"$f":"Prevalence!AH216*CD217","v":86.193706981317618},{"$f":"Prevalence!AI216*CE217","v":100.22650103519669},{"$f":"Prevalence!AJ216*CF217","v":178.45009416195856},{"$f":"Prevalence!AK216*CG217","v":169.42980508265481},{"$f":"Prevalence!AL216*CH217","v":251.58823529411768},{"$f":"Prevalence!AM216*CI217","v":62.276190476190486},{"$f":"Prevalence!AN216*CJ217","v":369.70464135021092},{"$f":"Prevalence!AO216*CK217","v":133.57480627856151},{"$f":"Prevalence!AP216*CL217","v":303.33012250543374},{"$f":"Prevalence!AQ216*CM217","v":56.58095238095239},{"$f":"Prevalence!AR216*CN217","v":91.048872180451141},{"$f":"Prevalence!AS216*CO217","v":296.67857142857144},{"$f":"Prevalence!AT216*CP217","v":142.31145095113766},{"$f":"Prevalence!AU216*CQ217","v":53.553188884808421},{"$f":"Prevalence!AV216*CR217","v":162.91037988229002},216,46208,2570,2197,1614,3183,2749,6285,7018,4231,3617,6491,503,457,5268,25,923,3983,1836,1008,397,1614,736,903,871,1614,680,2663,25,1265,3183,2645,3223,613,866,1379,1046,1880,503,2696,1014,2197,457,621,2556,1087,376,1348]
["Female 50-54",{"$f":"Prevalence!B217*AX218","v":8509.3999999999978},{"$f":"Prevalence!C217*AY218","v":540.63708784945516},{"$f":"Prevalence!D217*AZ218","v":423.38742512852917},{"$f":"Prevalence!E217*BA218","v":335.35295188103419},{"$f":"Prevalence!F217*BB218","v":640.4319999999999},{"$f":"Prevalence!G217*BC218","v":496.64498611725378},{"$f":"Prevalence!H217*BD218","v":1020.3455700079194},{"$f":"Prevalence!I217*BE218","v":1380.6797011947015},{"$f":"Prevalence!J217*BF218","v":840.94399999999985},{"$f":"Prevalence!K217*BG218","v":609.43807098496904},{"$f":"Prevalence!L217*BH218","v":1062.4727944223669},{"$f":"Prevalence!M217*BI218","v":84.952380952380935},{"$f":"Prevalence!N217*BJ218","v":83.619047619047606},{"$f":"Prevalence!O217*BK218","v":1002.8136921571938},{"$f":"Prevalence!P217*BL218","v":4.9523809523809517},{"$f":"Prevalence!Q217*BM218","v":159.52027470585261},{"$f":"Prevalence!R217*BN218","v":614.46428571428567},{"$f":"Prevalence!S217*BO218","v":352.24489795918356},{"$f":"Prevalence!T217*BP218","v":215.77100646352721},{"$f":"Prevalence!U217*BQ218","v":85.371248025276444},{"$f":"Prevalence!V217*BR218","v":334.46654611211568},{"$f":"Prevalence!W217*BS218","v":149.11314285714286},{"$f":"Prevalence!X217*BT218","v":165.0457516339869},{"$f":"Prevalence!Y217*BU218","v":170.4440877474585},{"$f":"Prevalence!Z217*BV218","v":269.49735449735448},{"$f":"Prevalence!AA217*BW218","v":122.92225201072384},{"$f":"Prevalence!AB217*BX218","v":442.72183667234066},{"$f":"Prevalence!AC217*BY218","v":4.9523809523809517},{"$f":"Prevalence!AD217*BZ218","v":214.80803571428567},{"$f":"Prevalence!AE217*CA218","v":641.81489716509168},{"$f":"Prevalence!AF217*CB218","v":501.10981308411203},{"$f":"Prevalence!AG217*CC218","v":618.8657728463553},{"$f":"Prevalence!AH217*CD218","v":133.03834808259583},{"$f":"Prevalence!AI217*CE218","v":135.67701863354034},{"$f":"Prevalence!AJ217*CF218","v":257.8154425612052},{"$f":"Prevalence!AK217*CG218","v":234.99383172958298},{"$f":"Prevalence!AL217*CH218","v":330.64705882352939},{"$f":"Prevalence!AM217*CI218","v":84.952380952380935},{"$f":"Prevalence!AN217*CJ218","v":505.06329113924039},{"$f":"Prevalence!AO217*CK218","v":211.17424995032778},{"$f":"Prevalence!AP217*CL218","v":422.26832641770392},{"$f":"Prevalence!AQ217*CM218","v":83.619047619047606},{"$f":"Prevalence!AR217*CN218","v":140.52631578947367},{"$f":"Prevalence!AS217*CO218","v":402.67857142857139},{"$f":"Prevalence!AT217*CP218","v":195.97911227154046},{"$f":"Prevalence!AU217*CQ218","v":83.92336883339452},{"$f":"Prevalence!AV217*CR218","v":222.92803638309255},217,42547,2315,1988,1536,3079,2478,5649,6693,4043,3158,5844,446,439,4853,26,913,3441,1726,1016,386,1536,733,749,880,1403,655,2480,26,1119,3079,2415,3027,615,762,1295,943,1606,446,2394,1042,1988,439,623,2255,973,383,1199]
["Female 55-59",{"$f":"Prevalence!B218*AX219","v":11514.900000000001},{"$f":"Prevalence!C218*AY219","v":774.17362687729792},{"$f":"Prevalence!D218*AZ219","v":587.80145540982937},{"$f":"Prevalence!E218*BA219","v":498.11703106548163},{"$f":"Prevalence!F218*BB219","v":823.05600000000015},{"$f":"Prevalence!G218*BC219","v":673.71756288666234},{"$f":"Prevalence!H218*BD219","v":1416.9961049233723},{"$f":"Prevalence!I218*BE219","v":1766.8491918022744},{"$f":"Prevalence!J218*BF219","v":1179.3600000000001},{"$f":"Prevalence!K218*BG219","v":788.81510929419312},{"$f":"Prevalence!L218*BH219","v":1349.6349742290288},{"$f":"Prevalence!M218*BI219","v":137.71428571428572},{"$f":"Prevalence!N218*BJ219","v":117.14285714285715},{"$f":"Prevalence!O218*BK219","v":1434.4802495271465},{"$f":"Prevalence!P218*BL219","v":5.4285714285714297},{"$f":"Prevalence!Q218*BM219","v":208.35479472807154},{"$f":"Prevalence!R218*BN219","v":859.82142857142867},{"$f":"Prevalence!S218*BO219","v":488.87755102040825},{"$f":"Prevalence!T218*BP219","v":305.18005540166212},{"$f":"Prevalence!U218*BQ219","v":110.14218009478674},{"$f":"Prevalence!V218*BR219","v":496.80040687160948},{"$f":"Prevalence!W218*BS219","v":200.47885714285724},{"$f":"Prevalence!X218*BT219","v":225.42296918767511},{"$f":"Prevalence!Y218*BU219","v":222.25521669341899},{"$f":"Prevalence!Z218*BV219","v":362.75534851621813},{"$f":"Prevalence!AA218*BW219","v":153.98123324396784},{"$f":"Prevalence!AB218*BX219","v":529.39177687573658},{"$f":"Prevalence!AC218*BY219","v":5.4285714285714297},{"$f":"Prevalence!AD218*BZ219","v":287.65848214285717},{"$f":"Prevalence!AE218*CA219","v":824.83324068927197},{"$f":"Prevalence!AF218*CB219","v":630.90036715620829},{"$f":"Prevalence!AG218*CC219","v":865.43072892587475},{"$f":"Prevalence!AH218*CD219","v":170.6784660766962},{"$f":"Prevalence!AI218*CE219","v":194.96894409937892},{"$f":"Prevalence!AJ218*CF219","v":365.81920903954801},{"$f":"Prevalence!AK218*CG219","v":348.37897853441899},{"$f":"Prevalence!AL218*CH219","v":420.00000000000011},{"$f":"Prevalence!AM218*CI219","v":137.71428571428572},{"$f":"Prevalence!AN218*CJ219","v":751.26582278481021},{"$f":"Prevalence!AO218*CK219","v":282.41009338366786},{"$f":"Prevalence!AP218*CL219","v":586.24777711914646},{"$f":"Prevalence!AQ218*CM219","v":117.14285714285715},{"$f":"Prevalence!AR218*CN219","v":201.65413533834592},{"$f":"Prevalence!AS218*CO219","v":525.26785714285722},{"$f":"Prevalence!AT218*CP219","v":274.93472584856403},{"$f":"Prevalence!AU218*CQ219","v":105.17811237605584},{"$f":"Prevalence!AV218*CR219","v":274.15128410914934},218,38383,2210,1840,1521,2638,2241,5230,5710,3780,2725,4949,482,410,4628,19,795,3210,1597,958,332,1521,657,682,765,1259,547,1977,19,999,2638,2027,2822,526,730,1225,932,1360,482,2374,929,1840,410,596,1961,910,320,983]
["Female 60-64",{"$f":"Prevalence!B219*AX220","v":23671.68},{"$f":"Prevalence!C219*AY220","v":1693.4201517986912},{"$f":"Prevalence!D219*AZ220","v":1296.9115010375715},{"$f":"Prevalence!E219*BA220","v":1111.5553050890114},{"$f":"Prevalence!F219*BB220","v":1875.6608000000003},{"$f":"Prevalence!G219*BC220","v":1350.681957401694},{"$f":"Prevalence!H219*BD220","v":2830.4519773857501},{"$f":"Prevalence!I219*BE220","v":3319.737381650395},{"$f":"Prevalence!J219*BF220","v":2533.9392000000003},{"$f":"Prevalence!K219*BG220","v":1479.0162685335033},{"$f":"Prevalence!L219*BH220","v":2706.4330949502269},{"$f":"Prevalence!M219*BI220","v":282.20952380952383},{"$f":"Prevalence!N219*BJ220","v":225.52380952380955},{"$f":"Prevalence!O219*BK220","v":3084.6904587930335},{"$f":"Prevalence!P219*BL220","v":15.238095238095239},{"$f":"Prevalence!Q219*BM220","v":418.21219007221129},{"$f":"Prevalence!R219*BN220","v":1678.8571428571431},{"$f":"Prevalence!S219*BO220","v":1082.7755102040817},{"$f":"Prevalence!T219*BP220","v":695.22437673130196},{"$f":"Prevalence!U219*BQ220","v":222.23064770932069},{"$f":"Prevalence!V219*BR220","v":1108.6172393007837},{"$f":"Prevalence!W219*BS220","v":408.81005714285726},{"$f":"Prevalence!X219*BT220","v":512.63342670401494},{"$f":"Prevalence!Y219*BU220","v":427.65971107544146},{"$f":"Prevalence!Z219*BV220","v":757.89648033126298},{"$f":"Prevalence!AA219*BW220","v":303.27077747989273},{"$f":"Prevalence!AB219*BX220","v":1093.9513770677841},{"$f":"Prevalence!AC219*BY220","v":15.238095238095239},{"$f":"Prevalence!AD219*BZ220","v":623.5},{"$f":"Prevalence!AE219*CA220","v":1879.7109505280714},{"$f":"Prevalence!AF219*CB220","v":1088.2901646639966},{"$f":"Prevalence!AG219*CC220","v":1821.3912775466174},{"$f":"Prevalence!AH219*CD220","v":341.27040314650935},{"$f":"Prevalence!AI219*CE220","v":348.70062111801246},{"$f":"Prevalence!AJ219*CF220","v":771.49529190207159},{"$f":"Prevalence!AK219*CG220","v":728.0572415494695},{"$f":"Prevalence!AL219*CH220","v":791.24705882352953},{"$f":"Prevalence!AM219*CI220","v":282.20952380952383},{"$f":"Prevalence!AN219*CJ220","v":1606.0759493670885},{"$f":"Prevalence!AO219*CK220","v":564.21219948340945},{"$f":"Prevalence!AP219*CL220","v":1293.4835012843312},{"$f":"Prevalence!AQ219*CM220","v":225.52380952380955},{"$f":"Prevalence!AR219*CN220","v":451.8496240601504},{"$f":"Prevalence!AS219*CO220","v":973.71428571428589},{"$f":"Prevalence!AT219*CP220","v":500.80417754569197},{"$f":"Prevalence!AU219*CQ220","v":225.78234790059983},{"$f":"Prevalence!AV219*CR220","v":530.71375066880694},219,36987,2266,1903,1591,2818,2106,4897,5029,3807,2395,4652,463,370,4665,25,748,2938,1658,1023,314,1591,628,727,690,1233,505,1915,25,1015,2818,1639,2784,493,612,1211,913,1201,463,2379,870,1903,370,626,1704,777,322,892]
["Female 65-69",{"$f":"Prevalence!B220*AX221","v":29439.420000000002},{"$f":"Prevalence!C220*AY221","v":2041},{"$f":"Prevalence!D220*AZ221","v":1702.1111564950863},{"$f":"Prevalence!E220*BA221","v":1516.6097087200587},{"$f":"Prevalence!F220*BB221","v":2402.8576000000003},{"$f":"Prevalence!G220*BC221","v":1767.6993999417141},{"$f":"Prevalence!H220*BD221","v":3462.6724702414272},{"$f":"Prevalence!I220*BE221","v":3908.7489983874689},{"$f":"Prevalence!J220*BF221","v":3168.3288000000002},{"$f":"Prevalence!K220*BG221","v":1729.5651752972101},{"$f":"Prevalence!L220*BH221","v":3346.9801984664155},{"$f":"Prevalence!M220*BI221","v":335.6571428571429},{"$f":"Prevalence!N220*BJ221","v":239.02857142857147},{"$f":"Prevalence!O220*BK221","v":3917.2345275548996},{"$f":"Prevalence!P220*BL221","v":20.342857142857145},{"$f":"Prevalence!Q220*BM221","v":506.15800636267232},{"$f":"Prevalence!R220*BN221","v":2023.9553571428573},{"$f":"Prevalence!S220*BO221","v":1392.2142857142858},{"$f":"Prevalence!T220*BP221","v":918.59833795013856},{"$f":"Prevalence!U220*BQ221","v":294.27646129541864},{"$f":"Prevalence!V220*BR221","v":1512.6010021097047},{"$f":"Prevalence!W220*BS221","v":462.58640000000014},{"$f":"Prevalence!X220*BT221","v":556.96881419234364},{"$f":"Prevalence!Y220*BU221","v":513.6952380952381},{"$f":"Prevalence!Z220*BV221","v":898.37893949850479},{"$f":"Prevalence!AA220*BW221","v":342.39946380697052},{"$f":"Prevalence!AB220*BX221","v":1302.021714460303},{"$f":"Prevalence!AC220*BY221","v":20.342857142857145},{"$f":"Prevalence!AD220*BZ221","v":756.00334821428567},{"$f":"Prevalence!AE220*CA221","v":2408.0461367426351},{"$f":"Prevalence!AF220*CB221","v":1236.3924955496218},{"$f":"Prevalence!AG220*CC221","v":2229.9101556480196},{"$f":"Prevalence!AH220*CD221","v":460.1396263520158},{"$f":"Prevalence!AI220*CE221","v":499.96625258799173},{"$f":"Prevalence!AJ220*CF221","v":983.38175948345429},{"$f":"Prevalence!AK220*CG221","v":859},{"$f":"Prevalence!AL220*CH221","v":909.76323529411775},{"$f":"Prevalence!AM220*CI221","v":335.6571428571429},{"$f":"Prevalence!AN220*CJ221","v":2080.42194092827},{"$f":"Prevalence!AO220*CK221","v":694.42280945758},{"$f":"Prevalence!AP220*CL221","v":1697.6121319897254},{"$f":"Prevalence!AQ220*CM221","v":239.02857142857147},{"$f":"Prevalence!AR220*CN221","v":616.30827067669179},{"$f":"Prevalence!AS220*CO221","v":1129.1875},{"$f":"Prevalence!AT220*CP221","v":715.25326370757193},{"$f":"Prevalence!AU220*CQ221","v":258.39851879054964},{"$f":"Prevalence!AV220*CR221","v":675.14285714285722},220,33078,2041,1796,1561,2596,1982,4308,4258,3423,2014,4137,396,282,4260,24,651,2547,1533,972,299,1561,511,568,596,1051,410,1639,24,885,2596,1339,2451,478,631,1110,859,993,396,2216,770,1796,282,614,1421,798,265,816]
["Female 70-74",null,null,null,null,null,null,null,null,null,null,null,null,null,null,null,null,null,null,null,null,null,null,null,null,null,null,null,null,null,null,null,null,null,null,null,null,null,null,null,null,null,null,null,null,null,null,null,221]
["Female 75-79",null,null,null,null,null,null,null,null,null,null,null,null,null,null,null,null,null,null,null,null,null,null,null,null,null,null,null,null,null,null,null,null,null,null,null,null,null,null,null,null,null,null,null,null,null,null,null,222]
["Female 80-84",null,null,null,null,null,null,null,null,null,null,null,null,null,null,null,null,null,null,null,null,null,null,null,null,null,null,null,null,null,null,null,null,null,null,null,null,null,null,null,null,null,null,null,null,null,null,null,223]
["Female 85+",null,null,null,null,null,null,null,null,null,null,null,null,null,null,null,null,null,null,null,null,null,null,null,null,null,null,null,null,null,null,null,null,null,null,null,null,null,null,null,null,null,null,null,null,null,null,null,224]
[null,null,null,null,null,null,null,null,null,null,null,null,null,null,null,null,null,null,null,null,null,null,null,null,null,null,null,null,null,null,null,null,null,null,null,null,null,null,null,null,null,null,null,null,null,null,null,null,225]
["age/sex breakdown: Q5",null,null,null,null,null,null,null,null,null,null,null,null,null,null,null,null,null,null,null,null,null,null,null,null,null,null,null,null,null,null,null,null,null,null,null,null,null,null,null,null,null,null,null,null,null,null,null,226]
["Male <1",null,null,null,null,null,null,null,null,null,null,null,null,null,null,null,null,null,null,null,null,null,null,null,null,null,null,null,null,null,null,null,null,null,null,null,null,null,null,null,null,null,null,null,null,null,null,null,227]
["Male 1-4",null,null,null,null,null,null,null,null,null,null,null,null,null,null,null,null,null,null,null,null,null,null,null,null,null,null,null,null,null,null,null,null,null,null,null,null,null,null,null,null,null,null,null,null,null,null,null,228]
["Male 5-9",null,null,null,null,null,null,null,null,null,null,null,null,null,null,null,null,null,null,null,null,null,null,null,null,null,null,null,null,null,null,null,null,null,null,null,null,null,null,null,null,null,null,null,null,null,null,null,229]
["Male 10-14",null,null,null,null,null,null,null,null,null,null,null,null,null,null,null,null,null,null,null,null,null,null,null,null,null,null,null,null,null,null,null,null,null,null,null,null,null,null,null,null,null,null,null,null,null,null,null,230]
["Male 16-19",{"$f":"Prevalence!B231*AX232","v":1446.45},{"$f":"Prevalence!C231*AY232","v":73.541547415137757},{"$f":"Prevalence!D231*AZ232","v":9.25},{"$f":"Prevalence!E231*BA232","v":15.855258695817891},{"$f":"Prevalence!F231*BB232","v":118.73851490374336},{"$f":"Prevalence!G231*BC232","v":108.02441224732814},{"$f":"Prevalence!H231*BD232","v":191.36250000000004},{"$f":"Prevalence!I231*BE232","v":329.10776930030227},{"$f":"Prevalence!J231*BF232","v":36.384},{"$f":"Prevalence!K231*BG232","v":105.16993706635469},{"$f":"Prevalence!L231*BH232","v":289.5455},{"$f":"Prevalence!M231*BI232","v":0.84545454545454546},{"$f":"Prevalence!N231*BJ232","v":2.1136363636363633},{"$f":"Prevalence!O231*BK232","v":109.21818423605437},{"$f":"Prevalence!P231*BL232","v":0},{"$f":"Prevalence!Q231*BM232","v":83.487200161257803},{"$f":"Prevalence!R231*BN232","v":84.385135761282541},{"$f":"Prevalence!S231*BO232","v":20.663458110516931},{"$f":"Prevalence!T231*BP232","v":16.335643828312453},{"$f":"Prevalence!U231*BQ232","v":11.304757418747057},{"$f":"Prevalence!V231*BR232","v":15.828144458281447},{"$f":"Prevalence!W231*BS232","v":46.643806485911746},{"$f":"Prevalence!X231*BT232","v":20.41322314049587},{"$f":"Prevalence!Y231*BU232","v":78.495428096425599},{"$f":"Prevalence!Z231*BV232","v":24.152727272727272},{"$f":"Prevalence!AA231*BW232","v":70.978814695628856},{"$f":"Prevalence!AB231*BX232","v":203.7520854187521},{"$f":"Prevalence!AC231*BY232","v":0},{"$f":"Prevalence!AD231*BZ232","v":51.036111111111119},{"$f":"Prevalence!AE231*CA232","v":118.53545897387232},{"$f":"Prevalence!AF231*CB232","v":69.89384943583417},{"$f":"Prevalence!AG231*CC232","v":20.963718820861676},{"$f":"Prevalence!AH231*CD232","v":14.591919191919192},{"$f":"Prevalence!AI231*CE232","v":16.976606455433814},{"$f":"Prevalence!AJ231*CF232","v":20.779958677685954},{"$f":"Prevalence!AK231*CG232","v":19.301661010894801},{"$f":"Prevalence!AL231*CH232","v":46.769068316880315},{"$f":"Prevalence!AM231*CI232","v":0.84545454545454546},{"$f":"Prevalence!AN231*CJ232","v":41.348841954902561},{"$f":"Prevalence!AO231*CK232","v":54.315774996561679},{"$f":"Prevalence!AP231*CL232","v":9.3009641873278248},{"$f":"Prevalence!AQ231*CM232","v":2.1136363636363633},{"$f":"Prevalence!AR231*CN232","v":33.326492920172377},{"$f":"Prevalence!AS231*CO232","v":66.873983434677072},{"$f":"Prevalence!AT231*CP232","v":44.447363811525669},{"$f":"Prevalence!AU231*CQ232","v":7.7644869750132912},{"$f":"Prevalence!AV231*CR232","v":37.775628626692459},231,28929,1265,185,248,2262,2042,5103,5957,758,2005,6977,18,45,2064,null,2301,2355,389,285,200,248,794,364,1562,486,1527,5258,null,967,2262,1214,473,233,351,447,321,839,18,881,1082,185,45,580,1367,875,138,882]
["Male 20-24",{"$f":"Prevalence!B232*AX233","v":3106},{"$f":"Prevalence!C232*AY233","v":114.13183073944542},{"$f":"Prevalence!D232*AZ233","v":9.36},{"$f":"Prevalence!E232*BA233","v":23.32257408159019},{"$f":"Prevalence!F232*BB233","v":287.82803931043571},{"$f":"Prevalence!G232*BC233","v":189.17497463097226},{"$f":"Prevalence!H232*BD233","v":415.38},{"$f":"Prevalence!I232*BE233","v":664.02754755316323},{"$f":"Prevalence!J232*BF233","v":65.12639999999999},{"$f":"Prevalence!K232*BG233","v":188.41417154231721},{"$f":"Prevalence!L232*BH233","v":783.78560000000004},{"$f":"Prevalence!M232*BI233","v":1.5030303030303029},{"$f":"Prevalence!N232*BJ233","v":2.1793939393939392},{"$f":"Prevalence!O232*BK233","v":187.1102226059536},{"$f":"Prevalence!P232*BL233","v":0},{"$f":"Prevalence!Q232*BM233","v":233.02398709937512},{"$f":"Prevalence!R232*BN233","v":138.85744293083741},{"$f":"Prevalence!S232*BO233","v":33.316506238859176},{"$f":"Prevalence!T232*BP233","v":37.692348707011469},{"$f":"Prevalence!U232*BQ233","v":11.48563353744701},{"$f":"Prevalence!V232*BR233","v":23.2826899128269},{"$f":"Prevalence!W232*BS233","v":104.23774587985113},{"$f":"Prevalence!X232*BT233","v":33.378984651711924},{"$f":"Prevalence!Y232*BU233","v":132.66832917705736},{"$f":"Prevalence!Z232*BV233","v":34.430060606060607},{"$f":"Prevalence!AA232*BW233","v":117.43344953964423},{"$f":"Prevalence!AB232*BX233","v":631.48421148421153},{"$f":"Prevalence!AC232*BY233","v":0},{"$f":"Prevalence!AD232*BZ233","v":79.8},{"$f":"Prevalence!AE232*CA233","v":287.33582168237695},{"$f":"Prevalence!AF232*CB233","v":227.89770478320096},{"$f":"Prevalence!AG232*CC233","v":30.989074417645845},{"$f":"Prevalence!AH232*CD233","v":24.349090909090908},{"$f":"Prevalence!AI232*CE233","v":27.781660250715621},{"$f":"Prevalence!AJ232*CF233","v":36.223140495867767},{"$f":"Prevalence!AK232*CG233","v":29.150919807108409},{"$f":"Prevalence!AL232*CH233","v":87.406315996267381},{"$f":"Prevalence!AM232*CI233","v":1.5030303030303029},{"$f":"Prevalence!AN232*CJ233","v":53.241914090398929},{"$f":"Prevalence!AO232*CK233","v":93.089808829597018},{"$f":"Prevalence!AP232*CL233","v":9.4115702479338843},{"$f":"Prevalence!AQ232*CM233","v":2.1793939393939392},{"$f":"Prevalence!AR232*CN233","v":50.748204391545251},{"$f":"Prevalence!AS232*CO233","v":117.48687535970772},{"$f":"Prevalence!AT232*CP233","v":94.523033806270803},{"$f":"Prevalence!AU232*CQ233","v":15.393939393939394},{"$f":"Prevalence!AV232*CR233","v":56.672008842221608},232,38825,1227,117,228,3427,2235,6923,7512,848,2245,11804,20,29,2210,null,4014,2422,392,411,127,228,1109,372,1650,433,1579,10185,null,945,3427,2474,437,243,359,487,303,980,20,709,1159,117,29,552,1501,1163,171,827]
["Male 25-29",{"$f":"Prevalence!B233*AX234","v":5726.1999999999989},{"$f":"Prevalence!C233*AY234","v":206.03260398359538},{"$f":"Prevalence!D233*AZ234","v":22.199999999999996},{"$f":"Prevalence!E233*BA234","v":59.32935511983468},{"$f":"Prevalence!F233*BB234","v":382.14694451779462},{"$f":"Prevalence!G233*BC234","v":274.02862656276181},{"$f":"Prevalence!H233*BD234","v":961.64999999999975},{"$f":"Prevalence!I233*BE234","v":1188.4784846714958},{"$f":"Prevalence!J233*BF234","v":132.28799999999995},{"$f":"Prevalence!K233*BG234","v":328.78063118798553},{"$f":"Prevalence!L233*BH234","v":1428.0979999999995},{"$f":"Prevalence!M233*BI234","v":1.5030303030303025},{"$f":"Prevalence!N233*BJ234","v":4.5090909090909079},{"$f":"Prevalence!O233*BK234","v":340.14267842507621},{"$f":"Prevalence!P233*BL234","v":0},{"$f":"Prevalence!Q233*BM234","v":546.42209232009668},{"$f":"Prevalence!R233*BN234","v":317.76109721063841},{"$f":"Prevalence!S233*BO234","v":55.244206773618522},{"$f":"Prevalence!T233*BP234","v":61.444948013862955},{"$f":"Prevalence!U233*BQ234","v":22.609514837494107},{"$f":"Prevalence!V233*BR234","v":59.227895392278946},{"$f":"Prevalence!W233*BS234","v":164.25199362041462},{"$f":"Prevalence!X233*BT234","v":70.885478158205416},{"$f":"Prevalence!Y233*BU234","v":214.88249074283982},{"$f":"Prevalence!Z233*BV234","v":63.015757575757561},{"$f":"Prevalence!AA233*BW234","v":167.33708769106994},{"$f":"Prevalence!AB233*BX234","v":1140.0506567173231},{"$f":"Prevalence!AC233*BY234","v":0},{"$f":"Prevalence!AD233*BZ234","v":157.27777777777774},{"$f":"Prevalence!AE233*CA234","v":381.49343118027866},{"$f":"Prevalence!AF233*CB234","v":509.17726887192526},{"$f":"Prevalence!AG233*CC234","v":74.636157493300331},{"$f":"Prevalence!AH233*CD234","v":43.086868686868669},{"$f":"Prevalence!AI233*CE234","v":65.584838614154549},{"$f":"Prevalence!AJ233*CF234","v":79.772727272727252},{"$f":"Prevalence!AK233*CG234","v":50.990057748407438},{"$f":"Prevalence!AL233*CH234","v":149.61642355483519},{"$f":"Prevalence!AM233*CI234","v":1.5030303030303025},{"$f":"Prevalence!AN233*CJ234","v":121.65289256198342},{"$f":"Prevalence!AO233*CK234","v":160.23655618209318},{"$f":"Prevalence!AP233*CL234","v":22.322314049586776},{"$f":"Prevalence!AQ233*CM234","v":4.5090909090909079},{"$f":"Prevalence!AR233*CN234","v":82.281961830494538},{"$f":"Prevalence!AS233*CO234","v":200.18166804293966},{"$f":"Prevalence!AT233*CP234","v":91.434576983709917},{"$f":"Prevalence!AU233*CQ234","v":22.730816941343253},{"$f":"Prevalence!AV233*CR234","v":101.42028184581373},233,28631,886,111,232,1820,1295,6411,5378,689,1567,8603,8,24,1607,null,3765,2217,260,268,100,232,699,316,1069,317,900,7355,null,745,1820,2211,421,172,339,429,212,671,8,648,798,111,24,358,1023,450,101,592]
["Male 30-34",{"$f":"Prevalence!B234*AX235","v":1923.8799999999987},{"$f":"Prevalence!C234*AY235","v":79.110938911082528},{"$f":"Prevalence!D234*AZ235","v":9.029999999999994},{"$f":"Prevalence!E234*BA235","v":19.512197395014585},{"$f":"Prevalence!F234*BB235","v":140.87994089242537},{"$f":"Prevalence!G234*BC235","v":99.909356008963655},{"$f":"Prevalence!H234*BD235","v":331.79999999999978},{"$f":"Prevalence!I234*BE235","v":382.7086351346403},{"$f":"Prevalence!J234*BF235","v":42.40319999999997},{"$f":"Prevalence!K234*BG235","v":121.90271009586439},{"$f":"Prevalence!L234*BH235","v":453.64479999999969},{"$f":"Prevalence!M234*BI235","v":0.72333333333333283},{"$f":"Prevalence!N234*BJ235","v":2.4987878787878768},{"$f":"Prevalence!O234*BK235","v":109.86375683667437},{"$f":"Prevalence!P234*BL235","v":0},{"$f":"Prevalence!Q234*BM235","v":172.50393065914119},{"$f":"Prevalence!R234*BN235","v":129.77753065826451},{"$f":"Prevalence!S234*BO235","v":18.517433155080198},{"$f":"Prevalence!T234*BP235","v":14.765129298853628},{"$f":"Prevalence!U234*BQ235","v":9.7333961375412077},{"$f":"Prevalence!V234*BR235","v":19.478829389788281},{"$f":"Prevalence!W234*BS235","v":50.415257841573592},{"$f":"Prevalence!X234*BT235","v":27.165289256198328},{"$f":"Prevalence!Y234*BU235","v":63.318975289050051},{"$f":"Prevalence!Z234*BV235","v":19.342060606060592},{"$f":"Prevalence!AA234*BW235","v":63.253419147224406},{"$f":"Prevalence!AB234*BX235","v":351.92767009433652},{"$f":"Prevalence!AC234*BY235","v":0},{"$f":"Prevalence!AD234*BZ235","v":60.514999999999958},{"$f":"Prevalence!AE234*CA235","v":140.63902068703726},{"$f":"Prevalence!AF234*CB235","v":153.78949803377273},{"$f":"Prevalence!AG234*CC235","v":27.735930735930715},{"$f":"Prevalence!AH234*CD235","v":14.291313131313119},{"$f":"Prevalence!AI234*CE235","v":26.001776724903738},{"$f":"Prevalence!AJ234*CF235","v":21.932851239669404},{"$f":"Prevalence!AK234*CG235","v":19.025063999523709},{"$f":"Prevalence!AL234*CH235","v":55.955650508324702},{"$f":"Prevalence!AM234*CI235","v":0.72333333333333283},{"$f":"Prevalence!AN234*CJ235","v":40.804407713498584},{"$f":"Prevalence!AO234*CK235","v":51.022692889561235},{"$f":"Prevalence!AP234*CL235","v":9.079752066115697},{"$f":"Prevalence!AQ234*CM235","v":2.4987878787878768},{"$f":"Prevalence!AR234*CN235","v":32.177303509131924},{"$f":"Prevalence!AS234*CO235","v":77.186372394464811},{"$f":"Prevalence!AT234*CP235","v":28.944123314065489},{"$f":"Prevalence!AU234*CQ235","v":7.4831649831649782},{"$f":"Prevalence!AV234*CR235","v":39.514506769825893},234,27484,972,129,218,1917,1349,6320,4948,631,1660,7808,11,38,1483,null,3396,2587,249,184,123,218,613,346,900,278,972,6487,null,819,1917,1908,447,163,384,337,226,717,11,621,726,129,38,400,1127,407,95,659]
["Male 35-39",{"$f":"Prevalence!B235*AX236","v":608.50000000000057},{"$f":"Prevalence!C235*AY236","v":27.486516693974043},{"$f":"Prevalence!D235*AZ236","v":3.1200000000000028},{"$f":"Prevalence!E235*BA236","v":5.8817895161905129},{"$f":"Prevalence!F235*BB236","v":46.256577954544092},{"$f":"Prevalence!G235*BC236","v":38.40632874219407},{"$f":"Prevalence!H235*BD236","v":96.465000000000089},{"$f":"Prevalence!I235*BE236","v":130.6486575191129},{"$f":"Prevalence!J235*BF236","v":13.094400000000011},{"$f":"Prevalence!K235*BG236","v":40.620249009568646},{"$f":"Prevalence!L235*BH236","v":135.3730000000001},{"$f":"Prevalence!M235*BI236","v":0.31939393939393967},{"$f":"Prevalence!N235*BJ236","v":1.2400000000000011},{"$f":"Prevalence!O235*BK236","v":34.712756230063817},{"$f":"Prevalence!P235*BL236","v":0},{"$f":"Prevalence!Q235*BM236","v":43.815359806490669},{"$f":"Prevalence!R235*BN236","v":44.819077626417112},{"$f":"Prevalence!S235*BO236","v":7.3942245989304878},{"$f":"Prevalence!T235*BP236","v":4.4249533457744636},{"$f":"Prevalence!U235*BQ236","v":3.3009891662741428},{"$f":"Prevalence!V235*BR236","v":5.8717310087173153},{"$f":"Prevalence!W235*BS236","v":13.346943115364178},{"$f":"Prevalence!X235*BT236","v":9.5560802833530207},{"$f":"Prevalence!Y235*BU236","v":25.227083805637442},{"$f":"Prevalence!Z235*BV236","v":8.9255757575757642},{"$f":"Prevalence!AA235*BW236","v":25.212121212121236},{"$f":"Prevalence!AB235*BX236","v":98.814723814723905},{"$f":"Prevalence!AC235*BY236","v":0},{"$f":"Prevalence!AD235*BZ236","v":23.15888888888891},{"$f":"Prevalence!AE235*CA236","v":46.177474114843676},{"$f":"Prevalence!AF235*CB236","v":39.403089418356629},{"$f":"Prevalence!AG235*CC236","v":8.6691403834261038},{"$f":"Prevalence!AH235*CD236","v":6.2876767676767722},{"$f":"Prevalence!AI235*CE236","v":7.7773171453953269},{"$f":"Prevalence!AJ235*CF236","v":5.2995867768595089},{"$f":"Prevalence!AK235*CG236","v":6.0610823361314567},{"$f":"Prevalence!AL235*CH236","v":17.904916261480299},{"$f":"Prevalence!AM235*CI236","v":0.31939393939393967},{"$f":"Prevalence!AN235*CJ236","v":13.5920824405673},{"$f":"Prevalence!AO235*CK236","v":20.019529638289111},{"$f":"Prevalence!AP235*CL236","v":3.1371900826446315},{"$f":"Prevalence!AQ235*CM236","v":1.2400000000000011},{"$f":"Prevalence!AR235*CN236","v":11.583829263287512},{"$f":"Prevalence!AS235*CO236","v":26.553912368941294},{"$f":"Prevalence!AT235*CP236","v":11.622350674373806},{"$f":"Prevalence!AU235*CQ236","v":2.6556796030480263},{"$f":"Prevalence!AV235*CR236","v":15.915446255871801},235,30425,1182,156,230,2203,1815,6431,5912,682,1936,8155,17,66,1640,null,3019,3127,348,193,146,230,568,426,1255,449,1356,6375,null,1097,2203,1711,489,251,402,285,252,803,17,724,997,156,66,504,1357,572,118,929]
["Male 40-44",{"$f":"Prevalence!B236*AX237","v":1120.110000000001},{"$f":"Prevalence!C236*AY237","v":59.123915985134516},{"$f":"Prevalence!D236*AZ237","v":7.920000000000007},{"$f":"Prevalence!E236*BA237","v":13.464183392496979},{"$f":"Prevalence!F236*BB237","v":85.132680579527474},{"$f":"Prevalence!G236*BC237","v":75.892175225277711},{"$f":"Prevalence!H236*BD237","v":161.79750000000016},{"$f":"Prevalence!I236*BE237","v":254.11517469761151},{"$f":"Prevalence!J236*BF237","v":26.841600000000021},{"$f":"Prevalence!K236*BG237","v":84.471654190352979},{"$f":"Prevalence!L236*BH237","v":228.15870000000018},{"$f":"Prevalence!M236*BI237","v":0.42272727272727306},{"$f":"Prevalence!N236*BJ237","v":2.6772727272727295},{"$f":"Prevalence!O236*BK237","v":69.436095617514866},{"$f":"Prevalence!P236*BL237","v":0},{"$f":"Prevalence!Q236*BM237","v":68.836121749647305},{"$f":"Prevalence!R236*BN237","v":77.268835140394842},{"$f":"Prevalence!S236*BO237","v":14.023529411764716},{"$f":"Prevalence!T236*BP237","v":9.14796054385498},{"$f":"Prevalence!U236*BQ237","v":8.1733396137541288},{"$f":"Prevalence!V236*BR237","v":13.441158156911595},{"$f":"Prevalence!W236*BS237","v":27.669059011164297},{"$f":"Prevalence!X236*BT237","v":19.583234946871329},{"$f":"Prevalence!Y236*BU237","v":55.328723645431921},{"$f":"Prevalence!Z236*BV237","v":17.354181818181832},{"$f":"Prevalence!AA236*BW237","v":49.92223116116925},{"$f":"Prevalence!AB236*BX237","v":156.52252252252265},{"$f":"Prevalence!AC236*BY237","v":0},{"$f":"Prevalence!AD236*BZ237","v":42.180000000000042},{"$f":"Prevalence!AE236*CA237","v":84.987094325298997},{"$f":"Prevalence!AF236*CB237","v":65.944328784023497},{"$f":"Prevalence!AG236*CC237","v":17.710575139146581},{"$f":"Prevalence!AH236*CD237","v":13.189090909090918},{"$f":"Prevalence!AI236*CE237","v":17.498963577139484},{"$f":"Prevalence!AJ236*CF237","v":12.133264462809928},{"$f":"Prevalence!AK236*CG237","v":14.467226290409014},{"$f":"Prevalence!AL236*CH237","v":37.326064535140745},{"$f":"Prevalence!AM236*CI237","v":0.42272727272727306},{"$f":"Prevalence!AN236*CJ237","v":27.090296908478745},{"$f":"Prevalence!AO236*CK237","v":38.523036721221324},{"$f":"Prevalence!AP236*CL237","v":7.963636363636371},{"$f":"Prevalence!AQ236*CM237","v":2.6772727272727295},{"$f":"Prevalence!AR236*CN237","v":24.546685819823537},{"$f":"Prevalence!AS236*CO237","v":54.976578334959882},{"$f":"Prevalence!AT236*CP237","v":24.931161324224931},{"$f":"Prevalence!AU236*CQ237","v":6.6504518872939986},{"$f":"Prevalence!AV236*CR237","v":32.019342359767919},236,37337,1695,264,351,2703,2391,7191,7666,932,2684,9163,15,95,2187,null,3162,3594,440,266,241,351,785,582,1835,582,1790,6732,null,1332,2703,1909,666,351,603,435,401,1116,15,962,1279,264,95,712,1873,818,197,1246]
["Male 45-49",{"$f":"Prevalence!B237*AX238","v":1248.2400000000011},{"$f":"Prevalence!C237*AY238","v":67.774494843136495},{"$f":"Prevalence!D237*AZ238","v":8.670000000000007},{"$f":"Prevalence!E237*BA238","v":16.456224146385196},{"$f":"Prevalence!F237*BB238","v":87.998782663410935},{"$f":"Prevalence!G237*BC238","v":84.017811719493977},{"$f":"Prevalence!H237*BD238","v":168.07500000000016},{"$f":"Prevalence!I237*BE238","v":296.7770883208604},{"$f":"Prevalence!J237*BF238","v":32.947200000000024},{"$f":"Prevalence!K237*BG238","v":98.69713395713373},{"$f":"Prevalence!L237*BH238","v":247.73010000000019},{"$f":"Prevalence!M237*BI238","v":1.09909090909091},{"$f":"Prevalence!N237*BJ238","v":2.3109090909090928},{"$f":"Prevalence!O237*BK238","v":86.771307417772348},{"$f":"Prevalence!P237*BL238","v":0},{"$f":"Prevalence!Q237*BM238","v":70.991332392662827},{"$f":"Prevalence!R237*BN238","v":80.902233342600383},{"$f":"Prevalence!S237*BO238","v":19.473582887700548},{"$f":"Prevalence!T237*BP238","v":10.420421221007739},{"$f":"Prevalence!U237*BQ238","v":10.276024493641083},{"$f":"Prevalence!V237*BR238","v":16.428082191780838},{"$f":"Prevalence!W237*BS238","v":29.607655502392369},{"$f":"Prevalence!X237*BT238","v":20.559031877213716},{"$f":"Prevalence!Y237*BU238","v":65.972341872591301},{"$f":"Prevalence!Z237*BV238","v":24.719272727272749},{"$f":"Prevalence!AA237*BW238","v":60.743362831858455},{"$f":"Prevalence!AB237*BX238","v":164.68345618345631},{"$f":"Prevalence!AC237*BY238","v":0},{"$f":"Prevalence!AD237*BZ238","v":43.731666666666712},{"$f":"Prevalence!AE237*CA238","v":87.848295059151084},{"$f":"Prevalence!AF237*CB238","v":67.671524404348901},{"$f":"Prevalence!AG237*CC238","v":22.364254792826237},{"$f":"Prevalence!AH237*CD238","v":15.819393939393951},{"$f":"Prevalence!AI237*CE238","v":17.847201658276589},{"$f":"Prevalence!AJ237*CF238","v":12.440082644628111},{"$f":"Prevalence!AK237*CG238","v":16.99267726379712},{"$f":"Prevalence!AL237*CH238","v":43.279504935906921},{"$f":"Prevalence!AM237*CI238","v":1.09909090909091},{"$f":"Prevalence!AN237*CJ238","v":36.101622283440491},{"$f":"Prevalence!AO237*CK238","v":49.968505019942278},{"$f":"Prevalence!AP237*CL238","v":8.7177685950413313},{"$f":"Prevalence!AQ237*CM238","v":2.3109090909090928},{"$f":"Prevalence!AR237*CN238","v":29.68356248717425},{"$f":"Prevalence!AS237*CO238","v":62.931011185346499},{"$f":"Prevalence!AT237*CP238","v":29.350499211770913},{"$f":"Prevalence!AU237*CQ238","v":8.3046251993620483},{"$f":"Prevalence!AV237*CR238","v":36.542138712351509},237,41608,1943,289,429,2794,2647,7470,8953,1144,3136,9949,39,82,2733,null,3261,3763,611,303,303,429,840,611,2188,829,2178,7083,null,1381,2794,1959,841,421,615,446,471,1294,39,1282,1659,289,82,861,2144,963,246,1422]
["Male 50-54",{"$f":"Prevalence!B238*AX239","v":3190.6399999999985},{"$f":"Prevalence!C238*AY239","v":188.91748022152689},{"$f":"Prevalence!D238*AZ239","v":21.519999999999989},{"$f":"Prevalence!E238*BA239","v":45.417644264149288},{"$f":"Prevalence!F238*BB239","v":223.32499460941006},{"$f":"Prevalence!G238*BC239","v":193.74564515896881},{"$f":"Prevalence!H238*BD239","v":431.03999999999979},{"$f":"Prevalence!I238*BE239","v":768.86469763277569},{"$f":"Prevalence!J238*BF239","v":84.863999999999962},{"$f":"Prevalence!K238*BG239","v":262.18524360721545},{"$f":"Prevalence!L238*BH239","v":614.59839999999963},{"$f":"Prevalence!M238*BI239","v":2.4799999999999986},{"$f":"Prevalence!N238*BJ239","v":3.9078787878787855},{"$f":"Prevalence!O238*BK239","v":231.89814466864556},{"$f":"Prevalence!P238*BL239","v":0},{"$f":"Prevalence!Q238*BM239","v":184.31767788752259},{"$f":"Prevalence!R238*BN239","v":206.45154913044809},{"$f":"Prevalence!S238*BO239","v":49.634795008912626},{"$f":"Prevalence!T238*BP239","v":31.63956278325778},{"$f":"Prevalence!U238*BQ239","v":24.599152143193578},{"$f":"Prevalence!V238*BR239","v":45.33997509339973},{"$f":"Prevalence!W238*BS239","v":90.044869750132861},{"$f":"Prevalence!X238*BT239","v":52.58087367178274},{"$f":"Prevalence!Y238*BU239","v":174.63976422579904},{"$f":"Prevalence!Z238*BV239","v":59.874909090909057},{"$f":"Prevalence!AA238*BW239","v":156.18128184499855},{"$f":"Prevalence!AB238*BX239","v":411.93727060393707},{"$f":"Prevalence!AC238*BY239","v":0},{"$f":"Prevalence!AD238*BZ239","v":99.728888888888847},{"$f":"Prevalence!AE238*CA239","v":222.94308428755178},{"$f":"Prevalence!AF238*CB239","v":162.12609556120998},{"$f":"Prevalence!AG238*CC239","v":53.894042465471003},{"$f":"Prevalence!AH238*CD239","v":44.389494949494924},{"$f":"Prevalence!AI238*CE239","v":42.717204619484718},{"$f":"Prevalence!AJ238*CF239","v":30.347107438016511},{"$f":"Prevalence!AK238*CG239","v":45.794844317437615},{"$f":"Prevalence!AL238*CH239","v":115.23363292569123},{"$f":"Prevalence!AM238*CI239","v":2.4799999999999986},{"$f":"Prevalence!AN238*CJ239","v":89.887970615243276},{"$f":"Prevalence!AO238*CK239","v":133.49030394718739},{"$f":"Prevalence!AP238*CL239","v":21.638567493112937},{"$f":"Prevalence!AQ238*CM239","v":3.9078787878787855},{"$f":"Prevalence!AR238*CN239","v":89.085163143853848},{"$f":"Prevalence!AS238*CO239","v":170.7121087005479},{"$f":"Prevalence!AT238*CP239","v":67.946050096339079},{"$f":"Prevalence!AU238*CQ239","v":19.084883926989178},{"$f":"Prevalence!AV238*CR239","v":89.565073224647634},238,39883,2031,269,444,2659,2289,7184,8698,1105,3124,9256,33,52,2739,null,3175,3601,584,345,272,444,958,586,2172,753,2100,6644,null,1181,2659,1760,760,443,552,408,476,1292,33,1197,1662,269,52,969,2181,836,212,1307]
["Male 55-59",{"$f":"Prevalence!B239*AX240","v":5767.8400000000011},{"$f":"Prevalence!C239*AY240","v":355.13881806291988},{"$f":"Prevalence!D239*AZ240","v":44.000000000000007},{"$f":"Prevalence!E239*BA240","v":78.151081571644326},{"$f":"Prevalence!F239*BB240","v":404.15188945486341},{"$f":"Prevalence!G239*BC240","v":356.17373299647937},{"$f":"Prevalence!H239*BD240","v":784.32000000000016},{"$f":"Prevalence!I239*BE240","v":1402.8377502221381},{"$f":"Prevalence!J239*BF240","v":161.12640000000002},{"$f":"Prevalence!K239*BG240","v":457.22957976059877},{"$f":"Prevalence!L239*BH240","v":1078.7344000000003},{"$f":"Prevalence!M239*BI240","v":4.0581818181818186},{"$f":"Prevalence!N239*BJ240","v":6.162424242424243},{"$f":"Prevalence!O239*BK240","v":429.76085518000934},{"$f":"Prevalence!P239*BL240","v":0},{"$f":"Prevalence!Q239*BM240","v":339.84116105623872},{"$f":"Prevalence!R239*BN240","v":375.06415840360802},{"$f":"Prevalence!S239*BO240","v":104.70901960784313},{"$f":"Prevalence!T239*BP240","v":54.475073313783},{"$f":"Prevalence!U239*BQ240","v":52.092322185586447},{"$f":"Prevalence!V239*BR240","v":78.017434620174356},{"$f":"Prevalence!W239*BS240","v":150.20010632642212},{"$f":"Prevalence!X239*BT240","v":97.624557260920923},{"$f":"Prevalence!Y239*BU240","v":332.87689866243488},{"$f":"Prevalence!Z239*BV240","v":104.4829090909091},{"$f":"Prevalence!AA239*BW240","v":282.01877178868335},{"$f":"Prevalence!AB239*BX240","v":739.18063518063536},{"$f":"Prevalence!AC239*BY240","v":0},{"$f":"Prevalence!AD239*BZ240","v":173.95555555555558},{"$f":"Prevalence!AE239*CA240","v":403.46074523945089},{"$f":"Prevalence!AF239*CB240","v":304.35489757627164},{"$f":"Prevalence!AG239*CC240","v":106.65347351061637},{"$f":"Prevalence!AH239*CD240","v":73.949090909090913},{"$f":"Prevalence!AI239*CE240","v":71.814430954496103},{"$f":"Prevalence!AJ239*CF240","v":50.280991735537199},{"$f":"Prevalence!AK239*CG240","v":98.516639876168369},{"$f":"Prevalence!AL239*CH240","v":194.43445803251319},{"$f":"Prevalence!AM239*CI240","v":4.0581818181818186},{"$f":"Prevalence!AN239*CJ240","v":168.66197326803388},{"$f":"Prevalence!AO239*CK240","v":232.92531976344384},{"$f":"Prevalence!AP239*CL240","v":44.242424242424249},{"$f":"Prevalence!AQ239*CM240","v":6.162424242424243},{"$f":"Prevalence!AR239*CN240","v":156.84137081879749},{"$f":"Prevalence!AS239*CO240","v":300.87911317969127},{"$f":"Prevalence!AT239*CP240","v":127.7645822385707},{"$f":"Prevalence!AU239*CQ240","v":37.809675704412555},{"$f":"Prevalence!AV239*CR240","v":142.67366675877318},239,36049,1909,275,382,2406,2104,6536,7935,1049,2724,8123,27,41,2538,null,2927,3271,616,297,288,382,799,544,2070,657,1896,5961,null,1030,2406,1652,752,369,464,338,512,1090,27,1123,1450,275,41,853,1922,786,210,1041]
["Male 60-64",{"$f":"Prevalence!B240*AX241","v":14478.960000000001},{"$f":"Prevalence!C240*AY241","v":1051.9289925284338},{"$f":"Prevalence!D240*AZ241","v":120.83000000000001},{"$f":"Prevalence!E240*BA241","v":239.72128228160796},{"$f":"Prevalence!F240*BB241","v":1098.3470106732739},{"$f":"Prevalence!G240*BC241","v":909.44705225696237},{"$f":"Prevalence!H240*BD241","v":1875.66},{"$f":"Prevalence!I240*BE241","v":3354.8661486743558},{"$f":"Prevalence!J240*BF241","v":433.02720000000005},{"$f":"Prevalence!K240*BG241","v":1103.3978694029979},{"$f":"Prevalence!L240*BH241","v":2667.1137000000003},{"$f":"Prevalence!M240*BI241","v":10.09848484848485},{"$f":"Prevalence!N240*BJ241","v":18.985151515151518},{"$f":"Prevalence!O240*BK241","v":1138.5995706608669},{"$f":"Prevalence!P240*BL241","v":0},{"$f":"Prevalence!Q240*BM241","v":800.67889538399527},{"$f":"Prevalence!R240*BN241","v":901.67040434930357},{"$f":"Prevalence!S240*BO241","v":305.16049910873443},{"$f":"Prevalence!T240*BP241","v":144.43001866169021},{"$f":"Prevalence!U240*BQ241","v":147.77578897786151},{"$f":"Prevalence!V240*BR241","v":239.31133250311336},{"$f":"Prevalence!W240*BS241","v":359.2043062200957},{"$f":"Prevalence!X240*BT241","v":260.91912632821726},{"$f":"Prevalence!Y240*BU241","v":802.98511297513789},{"$f":"Prevalence!Z240*BV241","v":250.45284848484852},{"$f":"Prevalence!AA240*BW241","v":639.5995351747564},{"$f":"Prevalence!AB240*BX241","v":1835.2490520823858},{"$f":"Prevalence!AC240*BY241","v":0},{"$f":"Prevalence!AD240*BZ241","v":406.23055555555561},{"$f":"Prevalence!AE240*CA241","v":1096.4687163914723},{"$f":"Prevalence!AF240*CB241","v":735.76230498367909},{"$f":"Prevalence!AG240*CC241","v":288.15584415584414},{"$f":"Prevalence!AH240*CD241","v":165.88444444444445},{"$f":"Prevalence!AI240*CE241","v":207.55956963774554},{"$f":"Prevalence!AJ240*CF241","v":129.53305785123968},{"$f":"Prevalence!AK240*CG241","v":303.03006489254039},{"$f":"Prevalence!AL240*CH241","v":468.37075782132513},{"$f":"Prevalence!AM240*CI241","v":10.09848484848485},{"$f":"Prevalence!AN240*CJ241","v":453.27905315784102},{"$f":"Prevalence!AO240*CK241","v":568.56869756567187},{"$f":"Prevalence!AP240*CL241","v":121.49573002754823},{"$f":"Prevalence!AQ240*CM241","v":18.985151515151518},{"$f":"Prevalence!AR240*CN241","v":482.78596347219377},{"$f":"Prevalence!AS240*CO241","v":758.54763155919227},{"$f":"Prevalence!AT240*CP241","v":349.48327202662466},{"$f":"Prevalence!AU240*CQ241","v":76.452064504696096},{"$f":"Prevalence!AV240*CR241","v":324.50207239568948},240,33672,2104,281,436,2433,1999,5816,7061,1049,2446,7473,25,47,2502,null,2566,2926,668,293,304,436,711,541,1858,586,1600,5507,null,895,2433,1486,756,308,499,324,586,977,25,1123,1317,281,47,977,1803,800,158,881]
["Male 65-69",{"$f":"Prevalence!B241*AX242","v":26248.5},{"$f":"Prevalence!C241*AY242","v":2006},{"$f":"Prevalence!D241*AZ242","v":225.9},{"$f":"Prevalence!E241*BA242","v":348},{"$f":"Prevalence!F241*BB242","v":2175.0880210218875},{"$f":"Prevalence!G241*BC242","v":1721.6192322120698},{"$f":"Prevalence!H241*BD242","v":3156.9750000000004},{"$f":"Prevalence!I241*BE242","v":6024.379317707263},{"$f":"Prevalence!J241*BF242","v":779.32799999999997},{"$f":"Prevalence!K241*BG242","v":1858.124613784812},{"$f":"Prevalence!L241*BH242","v":4753.1610000000001},{"$f":"Prevalence!M241*BI242","v":16.063636363636363},{"$f":"Prevalence!N241*BJ242","v":34.663636363636364},{"$f":"Prevalence!O241*BK242","v":2306.9166472650318},{"$f":"Prevalence!P241*BL242","v":0},{"$f":"Prevalence!Q241*BM242","v":1284.6361620641001},{"$f":"Prevalence!R241*BN242","v":1551.1815401723657},{"$f":"Prevalence!S241*BO242","v":612.89197860962565},{"$f":"Prevalence!T241*BP242","v":280},{"$f":"Prevalence!U241*BQ242","v":257},{"$f":"Prevalence!V241*BR242","v":348},{"$f":"Prevalence!W241*BS242","v":675},{"$f":"Prevalence!X241*BT242","v":450},{"$f":"Prevalence!Y241*BU242","v":1557.6467921106323},{"$f":"Prevalence!Z241*BV242","v":521.52},{"$f":"Prevalence!AA241*BW242","v":1216.5406275140788},{"$f":"Prevalence!AB241*BX242","v":3241.3554463554465},{"$f":"Prevalence!AC241*BY242","v":0},{"$f":"Prevalence!AD241*BZ242","v":746.7},{"$f":"Prevalence!AE241*CA242","v":2171.3683810969824},{"$f":"Prevalence!AF241*CB242","v":1071},{"$f":"Prevalence!AG241*CC242","v":496.21521335807046},{"$f":"Prevalence!AH241*CD242","v":306},{"$f":"Prevalence!AI241*CE242","v":358.68522357121702},{"$f":"Prevalence!AJ241*CF242","v":305},{"$f":"Prevalence!AK241*CG242","v":633.1666368994463},{"$f":"Prevalence!AL241*CH242","v":712.40607042876093},{"$f":"Prevalence!AM241*CI242","v":16.063636363636363},{"$f":"Prevalence!AN241*CJ242","v":934.36179981634507},{"$f":"Prevalence!AO241*CK242","v":1034.6100948975381},{"$f":"Prevalence!AP241*CL242","v":227.14462809917359},{"$f":"Prevalence!AQ241*CM242","v":34.663636363636364},{"$f":"Prevalence!AR241*CN242","v":971},{"$f":"Prevalence!AS241*CO242","v":1317.3245251857966},{"$f":"Prevalence!AT241*CP242","v":699.47451392538096},{"$f":"Prevalence!AU241*CQ242","v":122},{"$f":"Prevalence!AV241*CR242","v":555.84139264990324},241,29165,2006,251,348,2302,1808,4677,6058,902,1968,6363,19,41,2422,null,1967,2405,641,280,257,348,675,450,1722,583,1454,4647,null,786,2302,1071,622,306,412,305,585,710,19,1106,1145,251,41,971,1496,765,122,721]
["Male 70-74",null,null,null,null,null,null,null,null,null,null,null,null,null,null,null,null,null,null,null,null,null,null,null,null,null,null,null,null,null,null,null,null,null,null,null,null,null,null,null,null,null,null,null,null,null,null,null,242]
["Male 75-79",null,null,null,null,null,null,null,null,null,null,null,null,null,null,null,null,null,null,null,null,null,null,null,null,null,null,null,null,null,null,null,null,null,null,null,null,null,null,null,null,null,null,null,null,null,null,null,243]
["Male 80-84",null,null,null,null,null,null,null,null,null,null,null,null,null,null,null,null,null,null,null,null,null,null,null,null,null,null,null,null,null,null,null,null,null,null,null,null,null,null,null,null,null,null,null,null,null,null,null,244]
["Male 85+",null,null,null,null,null,null,null,null,null,null,null,null,null,null,null,null,null,null,null,null,null,null,null,null,null,null,null,null,null,null,null,null,null,null,null,null,null,null,null,null,null,null,null,null,null,null,null,245]
[null,null,null,null,null,null,null,null,null,null,null,null,null,null,null,null,null,null,null,null,null,null,null,null,null,null,null,null,null,null,null,null,null,null,null,null,null,null,null,null,null,null,null,null,null,null,null,null,246]
["Female <1",null,null,null,null,null,null,null,null,null,null,null,null,null,null,null,null,null,null,null,null,null,null,null,null,null,null,null,null,null,null,null,null,null,null,null,null,null,null,null,null,null,null,null,null,null,null,null,247]
["Female 1-4",null,null,null,null,null,null,null,null,null,null,null,null,null,null,null,null,null,null,null,null,null,null,null,null,null,null,null,null,null,null,null,null,null,null,null,null,null,null,null,null,null,null,null,null,null,null,null,248]
["Female 5-9",null,null,null,null,null,null,null,null,null,null,null,null,null,null,null,null,null,null,null,null,null,null,null,null,null,null,null,null,null,null,null,null,null,null,null,null,null,null,null,null,null,null,null,null,null,null,null,249]
["Female 10-14",null,null,null,null,null,null,null,null,null,null,null,null,null,null,null,null,null,null,null,null,null,null,null,null,null,null,null,null,null,null,null,null,null,null,null,null,null,null,null,null,null,null,null,null,null,null,null,250]
["Female 16-19",{"$f":"Prevalence!B251*AX252","v":1364.0500000000002},{"$f":"Prevalence!C251*AY252","v":65.273462658281971},{"$f":"Prevalence!D251*AZ252","v":8.0396757035221231},{"$f":"Prevalence!E251*BA252","v":12.881395938138686},{"$f":"Prevalence!F251*BB252","v":130.05200000000002},{"$f":"Prevalence!G251*BC252","v":91.041559702890467},{"$f":"Prevalence!H251*BD252","v":212.54941573850584},{"$f":"Prevalence!I251*BE252","v":279.51904902417766},{"$f":"Prevalence!J251*BF252","v":34.008000000000003},{"$f":"Prevalence!K251*BG252","v":90.363957168686454},{"$f":"Prevalence!L251*BH252","v":302.20660549770361},{"$f":"Prevalence!M251*BI252","v":0.76190476190476197},{"$f":"Prevalence!N251*BJ252","v":1.8095238095238098},{"$f":"Prevalence!O251*BK252","v":108.53655301989825},{"$f":"Prevalence!P251*BL252","v":0},{"$f":"Prevalence!Q251*BM252","v":97.843761046306113},{"$f":"Prevalence!R251*BN252","v":94.241071428571445},{"$f":"Prevalence!S251*BO252","v":18.979591836734695},{"$f":"Prevalence!T251*BP252","v":10.884118190212375},{"$f":"Prevalence!U251*BQ252","v":10.394944707740917},{"$f":"Prevalence!V251*BR252","v":12.847347799879447},{"$f":"Prevalence!W251*BS252","v":44.500000000000014},{"$f":"Prevalence!X251*BT252","v":19.611577964519142},{"$f":"Prevalence!Y251*BU252","v":64.594435527019797},{"$f":"Prevalence!Z251*BV252","v":18.632390154129286},{"$f":"Prevalence!AA251*BW252","v":63.619302949061669},{"$f":"Prevalence!AB251*BX252","v":232.11655973113352},{"$f":"Prevalence!AC251*BY252","v":0},{"$f":"Prevalence!AD251*BZ252","v":33.401785714285715},{"$f":"Prevalence!AE251*CA252","v":130.33282379099501},{"$f":"Prevalence!AF251*CB252","v":60.278426791277255},{"$f":"Prevalence!AG251*CC252","v":22.949350182359893},{"$f":"Prevalence!AH251*CD252","v":13.682399213372666},{"$f":"Prevalence!AI251*CE252","v":15.045548654244309},{"$f":"Prevalence!AJ251*CF252","v":17.718590260963143},{"$f":"Prevalence!AK251*CG252","v":16.571675302245254},{"$f":"Prevalence!AL251*CH252","v":38.654411764705891},{"$f":"Prevalence!AM251*CI252","v":0.76190476190476197},{"$f":"Prevalence!AN251*CJ252","v":45.042194092827003},{"$f":"Prevalence!AO251*CK252","v":49.297635605006953},{"$f":"Prevalence!AP251*CL252","v":8.0184252124086157},{"$f":"Prevalence!AQ251*CM252","v":1.8095238095238098},{"$f":"Prevalence!AR251*CN252","v":27.969924812030076},{"$f":"Prevalence!AS251*CO252","v":59.196428571428584},{"$f":"Prevalence!AT251*CP252","v":46.98060425214473},{"$f":"Prevalence!AU251*CQ252","v":7.559676827029012},{"$f":"Prevalence!AV251*CR252","v":33.56005885500268},251,27281,1118,151,236,2501,1817,4707,5420,654,1873,6649,16,38,2101,null,2240,2111,372,205,188,236,875,356,1334,388,1356,5201,null,696,2501,1162,449,253,338,356,266,751,16,854,973,151,38,496,1326,933,138,722]
["Female 20-24",{"$f":"Prevalence!B252*AX253","v":3041.28},{"$f":"Prevalence!C252*AY253","v":103.87705255958433},{"$f":"Prevalence!D252*AZ253","v":7.6669755053456008},{"$f":"Prevalence!E252*BA253","v":20.697564998907584},{"$f":"Prevalence!F252*BB253","v":306.42560000000003},{"$f":"Prevalence!G252*BC253","v":167.0715336672086},{"$f":"Prevalence!H252*BD253","v":465.35994451556093},{"$f":"Prevalence!I252*BE253","v":609.04209619113067},{"$f":"Prevalence!J252*BF253","v":50.75200000000001},{"$f":"Prevalence!K252*BG253","v":151.76127264806198},{"$f":"Prevalence!L252*BH253","v":884.08499396254058},{"$f":"Prevalence!M252*BI253","v":1.142857142857143},{"$f":"Prevalence!N252*BJ253","v":2.4380952380952383},{"$f":"Prevalence!O252*BK253","v":182.50258662955568},{"$f":"Prevalence!P252*BL253","v":0},{"$f":"Prevalence!Q252*BM253","v":295.34838155834973},{"$f":"Prevalence!R252*BN253","v":140.21428571428572},{"$f":"Prevalence!S252*BO253","v":25.714285714285715},{"$f":"Prevalence!T252*BP253","v":16.480147737765467},{"$f":"Prevalence!U252*BQ253","v":9.9083728278041079},{"$f":"Prevalence!V252*BR253","v":20.642857142857142},{"$f":"Prevalence!W252*BS253","v":102.12114285714289},{"$f":"Prevalence!X252*BT253","v":34.727917833800191},{"$f":"Prevalence!Y252*BU253","v":109.23916532905298},{"$f":"Prevalence!Z252*BV253","v":30.272831838049232},{"$f":"Prevalence!AA252*BW253","v":106.82037533512063},{"$f":"Prevalence!AB252*BX253","v":769.83614857492034},{"$f":"Prevalence!AC252*BY253","v":0},{"$f":"Prevalence!AD252*BZ253","v":56.975000000000001},{"$f":"Prevalence!AE252*CA253","v":307.08727070594779},{"$f":"Prevalence!AF252*CB253","v":240.86470850022255},{"$f":"Prevalence!AG252*CC253","v":34.02023937946268},{"$f":"Prevalence!AH252*CD253","v":17.13274336283186},{"$f":"Prevalence!AI252*CE253","v":26.28074534161491},{"$f":"Prevalence!AJ252*CF253","v":20.067796610169491},{"$f":"Prevalence!AK252*CG253","v":26.21564273377745},{"$f":"Prevalence!AL252*CH253","v":68.105882352941194},{"$f":"Prevalence!AM252*CI253","v":1.142857142857143},{"$f":"Prevalence!AN252*CJ253","v":53.839662447257382},{"$f":"Prevalence!AO252*CK253","v":88.117623683687654},{"$f":"Prevalence!AP252*CL253","v":7.6467101363366927},{"$f":"Prevalence!AQ252*CM253","v":2.4380952380952383},{"$f":"Prevalence!AR252*CN253","v":41.05263157894737},{"$f":"Prevalence!AS252*CO253","v":96.928571428571445},{"$f":"Prevalence!AT252*CP253","v":99.097351734427463},{"$f":"Prevalence!AU252*CQ253","v":12.533725058146652},{"$f":"Prevalence!AV252*CR253","v":45.589620117710012},252,38016,1112,90,237,3683,2084,6441,7381,610,1966,12157,15,32,2208,null,4226,1963,315,194,112,237,1255,394,1410,394,1423,10781,null,742,3683,2902,416,198,369,252,263,827,15,638,1087,90,32,455,1357,1230,143,613]
["Female 25-29",{"$f":"Prevalence!B253*AX254","v":3057.0099999999998},{"$f":"Prevalence!C253*AY254","v":115.34369662585136},{"$f":"Prevalence!D253*AZ254","v":11.362031755838547},{"$f":"Prevalence!E253*BA254","v":24.976808395306193},{"$f":"Prevalence!F253*BB254","v":197.56879999999998},{"$f":"Prevalence!G253*BC254","v":138.78200994224875},{"$f":"Prevalence!H253*BD254","v":613.8419901563841},{"$f":"Prevalence!I253*BE254","v":569.21836747222471},{"$f":"Prevalence!J253*BF254","v":67.152799999999999},{"$f":"Prevalence!K253*BG254","v":157.08758384476403},{"$f":"Prevalence!L253*BH254","v":872.24034944566552},{"$f":"Prevalence!M253*BI254","v":2.1999999999999997},{"$f":"Prevalence!N253*BJ254","v":2.8285714285714283},{"$f":"Prevalence!O253*BK254","v":178.20451846617846},{"$f":"Prevalence!P253*BL254","v":0},{"$f":"Prevalence!Q253*BM254","v":342.6803009645003},{"$f":"Prevalence!R253*BN254","v":223.63392857142856},{"$f":"Prevalence!S253*BO254","v":29.295918367346935},{"$f":"Prevalence!T253*BP254","v":16.352723915050785},{"$f":"Prevalence!U253*BQ254","v":11.799368088467613},{"$f":"Prevalence!V253*BR254","v":24.910789632308617},{"$f":"Prevalence!W253*BS254","v":72.72571428571429},{"$f":"Prevalence!X253*BT254","v":41.691129785247433},{"$f":"Prevalence!Y253*BU254","v":90.228838951310848},{"$f":"Prevalence!Z253*BV254","v":26.834483551874854},{"$f":"Prevalence!AA253*BW254","v":89.90214477211795},{"$f":"Prevalence!AB253*BX254","v":747.08417354109361},{"$f":"Prevalence!AC253*BY254","v":0},{"$f":"Prevalence!AD253*BZ254","v":73.906249999999986},{"$f":"Prevalence!AE253*CA254","v":197.99541411895495},{"$f":"Prevalence!AF253*CB254","v":253.58439029817529},{"$f":"Prevalence!AG253*CC254","v":50.263676991832327},{"$f":"Prevalence!AH253*CD254","v":17.489675516224189},{"$f":"Prevalence!AI253*CE254","v":30.749896480331259},{"$f":"Prevalence!AJ253*CF254","v":36.790960451977391},{"$f":"Prevalence!AK253*CG254","v":27.000616827041696},{"$f":"Prevalence!AL253*CH254","v":68.733823529411765},{"$f":"Prevalence!AM253*CI254","v":2.1999999999999997},{"$f":"Prevalence!AN253*CJ254","v":76.23417721518986},{"$f":"Prevalence!AO253*CK254","v":76.353069739717853},{"$f":"Prevalence!AP253*CL254","v":11.33199960482118},{"$f":"Prevalence!AQ253*CM254","v":2.8285714285714283},{"$f":"Prevalence!AR253*CN254","v":44.28947368421052},{"$f":"Prevalence!AS253*CO254","v":101.94642857142857},{"$f":"Prevalence!AT253*CP254","v":51.180156657963444},{"$f":"Prevalence!AU253*CQ254","v":9.6413269678051154},{"$f":"Prevalence!AV253*CR254","v":55.834269662921351},253,27791,898,97,208,1727,1259,6179,5017,587,1480,8723,21,27,1568,null,3566,2277,261,140,97,208,650,344,847,254,871,7609,null,700,1727,2222,447,147,314,336,197,607,21,657,685,97,27,357,1038,462,80,546]
["Female 30-34",{"$f":"Prevalence!B254*AX255","v":3811.9900000000002},{"$f":"Prevalence!C254*AY255","v":158.02249913318963},{"$f":"Prevalence!D254*AZ255","v":20.487862322617964},{"$f":"Prevalence!E254*BA255","v":34.910766279802985},{"$f":"Prevalence!F254*BB255","v":273.37440000000004},{"$f":"Prevalence!G254*BC255","v":201.53404592017947},{"$f":"Prevalence!H254*BD255","v":744.704154339556},{"$f":"Prevalence!I254*BE255","v":742.83992290484412},{"$f":"Prevalence!J254*BF255","v":83.824000000000012},{"$f":"Prevalence!K254*BG255","v":226.04015596728763},{"$f":"Prevalence!L254*BH255","v":983.20548806231375},{"$f":"Prevalence!M254*BI255","v":1.8571428571428574},{"$f":"Prevalence!N254*BJ255","v":6.5619047619047626},{"$f":"Prevalence!O254*BK255","v":218.39558855160485},{"$f":"Prevalence!P254*BL255","v":0},{"$f":"Prevalence!Q254*BM255","v":373.52729384436702},{"$f":"Prevalence!R254*BN255","v":320.00892857142856},{"$f":"Prevalence!S254*BO255","v":38.867346938775512},{"$f":"Prevalence!T254*BP255","v":19.187903970452449},{"$f":"Prevalence!U254*BQ255","v":18.40126382306477},{"$f":"Prevalence!V254*BR255","v":34.818490054249551},{"$f":"Prevalence!W254*BS255","v":83.83291428571431},{"$f":"Prevalence!X254*BT255","v":54.570868347338944},{"$f":"Prevalence!Y254*BU255","v":136.59737827715358},{"$f":"Prevalence!Z254*BV255","v":38.580572808833686},{"$f":"Prevalence!AA254*BW255","v":135.64611260053618},{"$f":"Prevalence!AB254*BX255","v":794.73032604425828},{"$f":"Prevalence!AC254*BY255","v":0},{"$f":"Prevalence!AD254*BZ255","v":117.91406250000001},{"$f":"Prevalence!AE254*CA255","v":273.96470261256258},{"$f":"Prevalence!AF254*CB255","v":268.39981085892299},{"$f":"Prevalence!AG254*CC255","v":63.920840396568551},{"$f":"Prevalence!AH254*CD255","v":29.668633235004922},{"$f":"Prevalence!AI254*CE255","v":49.88178053830228},{"$f":"Prevalence!AJ254*CF255","v":38.433414043583532},{"$f":"Prevalence!AK254*CG255","v":40.008758943992106},{"$f":"Prevalence!AL254*CH255","v":99.698529411764724},{"$f":"Prevalence!AM254*CI255","v":1.8571428571428574},{"$f":"Prevalence!AN254*CJ255","v":95.85443037974683},{"$f":"Prevalence!AO254*CK255","v":108.54599642360422},{"$f":"Prevalence!AP254*CL255","v":20.43370875321083},{"$f":"Prevalence!AQ254*CM255","v":6.5619047619047626},{"$f":"Prevalence!AR254*CN255","v":60.552631578947377},{"$f":"Prevalence!AS254*CO255","v":146.01785714285714},{"$f":"Prevalence!AT254*CP255","v":62.05669526296159},{"$f":"Prevalence!AU254*CQ255","v":16.664157179581345},{"$f":"Prevalence!AV254*CR255","v":88.343833600856087},254,29323,1041,148,246,2022,1547,6343,5540,620,1802,8320,15,53,1626,null,3289,2757,293,139,128,246,634,381,1085,309,1112,6849,null,945,2022,1990,481,211,431,297,247,745,15,699,824,148,53,413,1258,474,117,731]
["Female 35-39",{"$f":"Prevalence!B255*AX256","v":6422.7999999999984},{"$f":"Prevalence!C255*AY256","v":304.06457381425082},{"$f":"Prevalence!D255*AZ256","v":41.316479112140172},{"$f":"Prevalence!E255*BA256","v":51.743912497268944},{"$f":"Prevalence!F255*BB256","v":491.08799999999991},{"$f":"Prevalence!G255*BC256","v":379.39828842613457},{"$f":"Prevalence!H255*BD256","v":1132.3325152026282},{"$f":"Prevalence!I255*BE256","v":1345.4046034949713},{"$f":"Prevalence!J255*BF256","v":151.83999999999997},{"$f":"Prevalence!K255*BG256","v":423.0171791003965},{"$f":"Prevalence!L255*BH256","v":1526.4410646766244},{"$f":"Prevalence!M255*BI256","v":3.8095238095238089},{"$f":"Prevalence!N255*BJ256","v":13.523809523809522},{"$f":"Prevalence!O255*BK256","v":398.19121878980269},{"$f":"Prevalence!P255*BL256","v":0},{"$f":"Prevalence!Q255*BM256","v":486.77271120537284},{"$f":"Prevalence!R255*BN256","v":565.71428571428567},{"$f":"Prevalence!S255*BO256","v":84.89795918367345},{"$f":"Prevalence!T255*BP256","v":39.289012003693436},{"$f":"Prevalence!U255*BQ256","v":36.935229067930479},{"$f":"Prevalence!V255*BR256","v":51.607142857142847},{"$f":"Prevalence!W255*BS256","v":136.90742857142857},{"$f":"Prevalence!X255*BT256","v":102.90569561157795},{"$f":"Prevalence!Y255*BU256","v":289.36757624398069},{"$f":"Prevalence!Z255*BV256","v":98.348286174373115},{"$f":"Prevalence!AA255*BW256","v":292.01072386058974},{"$f":"Prevalence!AB255*BX256","v":1148.7560560429486},{"$f":"Prevalence!AC255*BY256","v":0},{"$f":"Prevalence!AD255*BZ256","v":211.16071428571425},{"$f":"Prevalence!AE255*CA256","v":492.14841578654801},{"$f":"Prevalence!AF255*CB256","v":361.2555629728526},{"$f":"Prevalence!AG255*CC256","v":111.42446190989878},{"$f":"Prevalence!AH255*CD256","v":61.43559488692231},{"$f":"Prevalence!AI255*CE256","v":81.726708074534145},{"$f":"Prevalence!AJ255*CF256","v":62.71186440677964},{"$f":"Prevalence!AK255*CG256","v":64.79151245990623},{"$f":"Prevalence!AL255*CH256","v":187.76470588235293},{"$f":"Prevalence!AM255*CI256","v":3.8095238095238089},{"$f":"Prevalence!AN255*CJ256","v":176.79324894514764},{"$f":"Prevalence!AO255*CK256","v":213.80886151400748},{"$f":"Prevalence!AP255*CL256","v":41.207271290258838},{"$f":"Prevalence!AQ255*CM256","v":13.523809523809522},{"$f":"Prevalence!AR255*CN256","v":129.69924812030072},{"$f":"Prevalence!AS255*CO256","v":274.46428571428567},{"$f":"Prevalence!AT255*CP256","v":126.08728086534873},{"$f":"Prevalence!AU255*CQ256","v":29.581344105765691},{"$f":"Prevalence!AV255*CR256","v":184.06902086677366},255,32114,1302,194,237,2361,1893,6269,6522,730,2192,8396,20,71,1927,null,2786,3168,416,185,167,237,673,467,1494,512,1556,6435,null,1100,2361,1741,545,284,459,315,260,912,20,838,1055,194,71,575,1537,626,135,990]
["Female 40-44",{"$f":"Prevalence!B256*AX257","v":6891.2900000000018},{"$f":"Prevalence!C256*AY257","v":362.27355616694075},{"$f":"Prevalence!D256*AZ257","v":46.523633309520747},{"$f":"Prevalence!E256*BA257","v":69.406707944648971},{"$f":"Prevalence!F256*BB257","v":511.30560000000014},{"$f":"Prevalence!G256*BC257","v":448.89451479262294},{"$f":"Prevalence!H256*BD257","v":1127.0673225374258},{"$f":"Prevalence!I256*BE257","v":1533.3837425527445},{"$f":"Prevalence!J256*BF257","v":177.33040000000005},{"$f":"Prevalence!K256*BG257","v":494.40132807358862},{"$f":"Prevalence!L256*BH257","v":1527.1137459461943},{"$f":"Prevalence!M256*BI257","v":3.238095238095239},{"$f":"Prevalence!N256*BJ257","v":12.790476190476193},{"$f":"Prevalence!O256*BK257","v":433.83625524088797},{"$f":"Prevalence!P256*BL257","v":0},{"$f":"Prevalence!Q256*BM257","v":467.07291824471054},{"$f":"Prevalence!R256*BN257","v":570.41071428571445},{"$f":"Prevalence!S256*BO257","v":90.897959183673493},{"$f":"Prevalence!T256*BP257","v":54.335641735918763},{"$f":"Prevalence!U256*BQ257","v":48.878357030015806},{"$f":"Prevalence!V256*BR257","v":69.223251959011478},{"$f":"Prevalence!W256*BS257","v":140.06057142857151},{"$f":"Prevalence!X256*BT257","v":115.93968253968258},{"$f":"Prevalence!Y256*BU257","v":337.4986623863029},{"$f":"Prevalence!Z256*BV257","v":118.37330342765129},{"$f":"Prevalence!AA256*BW257","v":349.18364611260057},{"$f":"Prevalence!AB256*BX257","v":1082.6601850639433},{"$f":"Prevalence!AC256*BY257","v":0},{"$f":"Prevalence!AD256*BZ257","v":227.1321428571429},{"$f":"Prevalence!AE256*CA257","v":512.40967204002243},{"$f":"Prevalence!AF256*CB257","v":355.39371940364941},{"$f":"Prevalence!AG256*CC257","v":121.99445214979198},{"$f":"Prevalence!AH256*CD257","v":75.020648967551651},{"$f":"Prevalence!AI256*CE257","v":98.07204968944103},{"$f":"Prevalence!AJ256*CF257","v":74.119451170298646},{"$f":"Prevalence!AK256*CG257","v":85.574636072045422},{"$f":"Prevalence!AL256*CH257","v":226.62500000000009},{"$f":"Prevalence!AM256*CI257","v":3.238095238095239},{"$f":"Prevalence!AN256*CJ257","v":203.7130801687764},{"$f":"Prevalence!AO256*CK257","v":267.18001192131936},{"$f":"Prevalence!AP256*CL257","v":46.400661924520861},{"$f":"Prevalence!AQ256*CM257","v":12.790476190476193},{"$f":"Prevalence!AR256*CN257","v":153.76691729323312},{"$f":"Prevalence!AS256*CO257","v":308.88392857142867},{"$f":"Prevalence!AT256*CP257","v":168.29429317418882},{"$f":"Prevalence!AU256*CQ257","v":40.230627983841359},{"$f":"Prevalence!AV256*CR257","v":217.14566613162125},256,40537,1825,257,374,2892,2635,7341,8745,1003,3014,9882,20,79,2470,null,3145,3758,524,301,260,374,810,619,2050,725,2189,7135,null,1392,2892,2015,702,408,648,438,404,1295,20,1136,1551,257,79,802,2035,983,216,1374]
["Female 45-49",{"$f":"Prevalence!B257*AX258","v":6267.1},{"$f":"Prevalence!C257*AY258","v":362.42535491730877},{"$f":"Prevalence!D257*AZ258","v":52.028947665442509},{"$f":"Prevalence!E257*BA258","v":76.109400407375361},{"$f":"Prevalence!F257*BB258","v":417.72640000000001},{"$f":"Prevalence!G257*BC258","v":385.67148780687313},{"$f":"Prevalence!H257*BD258","v":983.80531353551703},{"$f":"Prevalence!I257*BE258","v":1440.399822738982},{"$f":"Prevalence!J257*BF258","v":182},{"$f":"Prevalence!K257*BG258","v":473.21187266062157},{"$f":"Prevalence!L257*BH258","v":1329.5272584413638},{"$f":"Prevalence!M257*BI258","v":5.2000000000000011},{"$f":"Prevalence!N257*BJ258","v":10.000000000000002},{"$f":"Prevalence!O257*BK258","v":435.81997900860051},{"$f":"Prevalence!P257*BL258","v":0},{"$f":"Prevalence!Q257*BM258","v":414.61293743372221},{"$f":"Prevalence!R257*BN258","v":495.62500000000011},{"$f":"Prevalence!S257*BO258","v":95.857142857142875},{"$f":"Prevalence!T257*BP258","v":52.180055401662059},{"$f":"Prevalence!U257*BQ258","v":52.328593996840446},{"$f":"Prevalence!V257*BR258","v":75.908227848101276},{"$f":"Prevalence!W257*BS258","v":141.11840000000007},{"$f":"Prevalence!X257*BT258","v":100.87843137254904},{"$f":"Prevalence!Y257*BU258","v":337.45992509363299},{"$f":"Prevalence!Z257*BV258","v":112.94685990338165},{"$f":"Prevalence!AA257*BW258","v":318.9597855227882},{"$f":"Prevalence!AB257*BX258","v":928.4662389245342},{"$f":"Prevalence!AC257*BY258","v":0},{"$f":"Prevalence!AD257*BZ258","v":188.39375000000004},{"$f":"Prevalence!AE257*CA258","v":418.62840466926082},{"$f":"Prevalence!AF257*CB258","v":306.04010903426791},{"$f":"Prevalence!AG257*CC258","v":128.65947500898957},{"$f":"Prevalence!AH257*CD258","v":71.170108161258611},{"$f":"Prevalence!AI257*CE258","v":77.898550724637687},{"$f":"Prevalence!AJ257*CF258","v":59.367231638418083},{"$f":"Prevalence!AK257*CG258","v":95.243523316062181},{"$f":"Prevalence!AL257*CH258","v":210.4117647058824},{"$f":"Prevalence!AM257*CI258","v":5.2000000000000011},{"$f":"Prevalence!AN257*CJ258","v":199.51476793248946},{"$f":"Prevalence!AO257*CK258","v":261.17107093184978},{"$f":"Prevalence!AP257*CL258","v":51.891424619640397},{"$f":"Prevalence!AQ257*CM258","v":10.000000000000002},{"$f":"Prevalence!AR257*CN258","v":160.57894736842107},{"$f":"Prevalence!AS257*CO258","v":301.37500000000006},{"$f":"Prevalence!AT257*CP258","v":142.26109660574417},{"$f":"Prevalence!AU257*CQ258","v":41.720651242502143},{"$f":"Prevalence!AV257*CR258","v":201.99250936329591},257,44765,2217,349,498,2869,2749,7781,9975,1250,3503,10447,39,75,3013,null,3390,3965,671,351,338,498,991,654,2489,840,2428,7430,null,1402,2869,2107,899,470,625,426,546,1460,39,1351,1841,349,75,1017,2411,1009,272,1552]
["Female 50-54",{"$f":"Prevalence!B258*AX259","v":7142.0400000000018},{"$f":"Prevalence!C258*AY259","v":434.52976134215521},{"$f":"Prevalence!D258*AZ259","v":49.239020467663977},{"$f":"Prevalence!E258*BA259","v":89.449286709413911},{"$f":"Prevalence!F258*BB259","v":492.03440000000012},{"$f":"Prevalence!G258*BC259","v":417.37820160983915},{"$f":"Prevalence!H258*BD259","v":1111.1001516419221},{"$f":"Prevalence!I258*BE259","v":1659.456116583096},{"$f":"Prevalence!J258*BF259","v":206.50240000000005},{"$f":"Prevalence!K258*BG259","v":538.19865872907906},{"$f":"Prevalence!L258*BH259","v":1490.0253732456188},{"$f":"Prevalence!M258*BI259","v":4.5333333333333341},{"$f":"Prevalence!N258*BJ259","v":8.2571428571428598},{"$f":"Prevalence!O258*BK259","v":520.77914849766512},{"$f":"Prevalence!P258*BL259","v":0},{"$f":"Prevalence!Q258*BM259","v":486.97364035752173},{"$f":"Prevalence!R258*BN259","v":542.93750000000011},{"$f":"Prevalence!S258*BO259","v":109.11224489795921},{"$f":"Prevalence!T258*BP259","v":61.917359187442308},{"$f":"Prevalence!U258*BQ259","v":57.526066350710913},{"$f":"Prevalence!V258*BR259","v":89.212854128993399},{"$f":"Prevalence!W258*BS259","v":182.07874285714294},{"$f":"Prevalence!X258*BT259","v":115.5650793650794},{"$f":"Prevalence!Y258*BU259","v":392.48624933119328},{"$f":"Prevalence!Z258*BV259","v":135.19047619047623},{"$f":"Prevalence!AA258*BW259","v":357.31903485254696},{"$f":"Prevalence!AB258*BX259","v":1065.2101610580073},{"$f":"Prevalence!AC258*BY259","v":0},{"$f":"Prevalence!AD258*BZ259","v":200.20915178571431},{"$f":"Prevalence!AE258*CA259","v":493.09685936631479},{"$f":"Prevalence!AF258*CB259","v":358.74482643524709},{"$f":"Prevalence!AG258*CC259","v":143.36954846663588},{"$f":"Prevalence!AH258*CD259","v":73.733529990167185},{"$f":"Prevalence!AI258*CE259","v":84.753623188405825},{"$f":"Prevalence!AJ258*CF259","v":64.473769168684441},{"$f":"Prevalence!AK258*CG259","v":118.40648902047869},{"$f":"Prevalence!AL258*CH259","v":235.72500000000011},{"$f":"Prevalence!AM258*CI259","v":4.5333333333333341},{"$f":"Prevalence!AN258*CJ259","v":230.07383966244728},{"$f":"Prevalence!AO258*CK259","v":312.65746075899074},{"$f":"Prevalence!AP258*CL259","v":49.108871764473442},{"$f":"Prevalence!AQ258*CM259","v":8.2571428571428598},{"$f":"Prevalence!AR258*CN259","v":194.22180451127824},{"$f":"Prevalence!AS258*CO259","v":347.89285714285722},{"$f":"Prevalence!AT258*CP259","v":156.99477806788519},{"$f":"Prevalence!AU258*CQ259","v":43.210674501162941},{"$f":"Prevalence!AV258*CR259","v":195.02019796682723},258,42012,2189,272,482,2783,2450,7237,9464,1168,3281,9642,28,51,2965,null,3279,3577,629,343,306,482,1053,617,2384,828,2240,7020,null,1227,2783,2034,825,401,560,381,559,1347,28,1283,1815,272,51,1013,2292,917,232,1234]
["Female 55-59",{"$f":"Prevalence!B259*AX260","v":12345.96},{"$f":"Prevalence!C259*AY260","v":825.38818988610353},{"$f":"Prevalence!D259*AZ260","v":106.47512233048701},{"$f":"Prevalence!E259*BA260","v":156.70545651862778},{"$f":"Prevalence!F259*BB260","v":863.49119999999982},{"$f":"Prevalence!G259*BC260","v":700.08303823925485},{"$f":"Prevalence!H259*BD260","v":1888.0186151354717},{"$f":"Prevalence!I259*BE260","v":2850.6301540242466},{"$f":"Prevalence!J259*BF260","v":379.92239999999993},{"$f":"Prevalence!K259*BG260","v":909.72816292802202},{"$f":"Prevalence!L259*BH260","v":2548.925684709327},{"$f":"Prevalence!M259*BI260","v":6.2857142857142856},{"$f":"Prevalence!N259*BJ260","v":13.828571428571429},{"$f":"Prevalence!O259*BK260","v":908.29752014138921},{"$f":"Prevalence!P259*BL260","v":0},{"$f":"Prevalence!Q259*BM260","v":780.11180124223597},{"$f":"Prevalence!R259*BN260","v":966.42857142857122},{"$f":"Prevalence!S259*BO260","v":213.15306122448979},{"$f":"Prevalence!T259*BP260","v":102.67174515235456},{"$f":"Prevalence!U259*BQ260","v":108.01895734597154},{"$f":"Prevalence!V259*BR260","v":156.29125226039781},{"$f":"Prevalence!W259*BS260","v":271.21097142857144},{"$f":"Prevalence!X259*BT260","v":204.6985994397759},{"$f":"Prevalence!Y259*BU260","v":692.85521669341881},{"$f":"Prevalence!Z259*BV260","v":213.61939268461006},{"$f":"Prevalence!AA259*BW260","v":616.51608579088463},{"$f":"Prevalence!AB259*BX260","v":1848.319038889616},{"$f":"Prevalence!AC259*BY260","v":0},{"$f":"Prevalence!AD259*BZ260","v":326.24330357142856},{"$f":"Prevalence!AE259*CA260","v":865.35575319622012},{"$f":"Prevalence!AF259*CB260","v":611.47847129505999},{"$f":"Prevalence!AG259*CC260","v":274.59485282786255},{"$f":"Prevalence!AH259*CD260","v":132.77876106194691},{"$f":"Prevalence!AI259*CE260","v":151.30124223602482},{"$f":"Prevalence!AJ259*CF260","v":114.64326069410812},{"$f":"Prevalence!AK259*CG260","v":231.08142116950404},{"$f":"Prevalence!AL259*CH260","v":380.13088235294117},{"$f":"Prevalence!AM259*CI260","v":6.2857142857142856},{"$f":"Prevalence!AN259*CJ260","v":425.72784810126581},{"$f":"Prevalence!AO259*CK260","v":509.61494138684674},{"$f":"Prevalence!AP259*CL260","v":106.19368701837581},{"$f":"Prevalence!AQ259*CM260","v":13.828571428571429},{"$f":"Prevalence!AR259*CN260","v":378.50751879699243},{"$f":"Prevalence!AS259*CO260","v":612.85714285714278},{"$f":"Prevalence!AT259*CP260","v":262.87989556135767},{"$f":"Prevalence!AU259*CQ260","v":69.41755416819683},{"$f":"Prevalence!AV259*CR260","v":316.90549759229538},259,37412,2142,303,435,2516,2117,6335,8375,1107,2857,8497,20,44,2664,null,2706,3280,633,293,296,435,808,563,2168,674,1991,6275,null,1030,2516,1786,814,372,515,349,562,1119,20,1223,1524,303,44,1017,2080,791,192,1033]
["Female 60-64",{"$f":"Prevalence!B260*AX261","v":23866.739999999998},{"$f":"Prevalence!C260*AY261","v":1739.9406303730373},{"$f":"Prevalence!D260*AZ261","v":211.89603552898899},{"$f":"Prevalence!E260*BA261","v":295.48612309621853},{"$f":"Prevalence!F260*BB261","v":1827.0095999999999},{"$f":"Prevalence!G260*BC261","v":1459.6512386575253},{"$f":"Prevalence!H260*BD261","v":3501.6601833386489},{"$f":"Prevalence!I260*BE261","v":5188.4924112518893},{"$f":"Prevalence!J260*BF261","v":761.60239999999999},{"$f":"Prevalence!K260*BG261","v":1637.5608686657711},{"$f":"Prevalence!L260*BH261","v":4911.3732131491424},{"$f":"Prevalence!M260*BI261","v":13.399999999999999},{"$f":"Prevalence!N260*BJ261","v":24.247619047619047},{"$f":"Prevalence!O260*BK261","v":1977.7209369363065},{"$f":"Prevalence!P260*BL261","v":0},{"$f":"Prevalence!Q260*BM261","v":1459.7764985103267},{"$f":"Prevalence!R260*BN261","v":1753.3660714285713},{"$f":"Prevalence!S260*BO261","v":517.5408163265306},{"$f":"Prevalence!T260*BP261","v":225.52954755309327},{"$f":"Prevalence!U260*BQ261","v":245.98420221169033},{"$f":"Prevalence!V260*BR261","v":294.70509342977698},{"$f":"Prevalence!W260*BS261","v":573.81097142857152},{"$f":"Prevalence!X260*BT261","v":409.69467787114843},{"$f":"Prevalence!Y260*BU261","v":1334.6837346174423},{"$f":"Prevalence!Z260*BV261","v":405.39855072463763},{"$f":"Prevalence!AA260*BW261","v":1084.483914209115},{"$f":"Prevalence!AB260*BX261","v":3609.7182139583597},{"$f":"Prevalence!AC260*BY261","v":0},{"$f":"Prevalence!AD260*BZ261","v":614.78482142857138},{"$f":"Prevalence!AE260*CA261","v":1830.9546970539188},{"$f":"Prevalence!AF260*CB261","v":1021.8282710280372},{"$f":"Prevalence!AG260*CC261","v":531.4844608825191},{"$f":"Prevalence!AH260*CD261","v":269.58112094395278},{"$f":"Prevalence!AI260*CE261","v":298.83664596273292},{"$f":"Prevalence!AJ260*CF261","v":241.4307237019101},{"$f":"Prevalence!AK260*CG261","v":517.58450530471259},{"$f":"Prevalence!AL260*CH261","v":674.53235294117644},{"$f":"Prevalence!AM260*CI261","v":13.399999999999999},{"$f":"Prevalence!AN260*CJ261","v":889.09282700421932},{"$f":"Prevalence!AO260*CK261","v":942.33975759984082},{"$f":"Prevalence!AP260*CL261","v":211.3359513930053},{"$f":"Prevalence!AQ260*CM261","v":24.247619047619047},{"$f":"Prevalence!AR260*CN261","v":792.66541353383457},{"$f":"Prevalence!AS260*CO261","v":1131.8214285714284},{"$f":"Prevalence!AT260*CP261","v":597.82693024990681},{"$f":"Prevalence!AU260*CQ261","v":116.71483657730442},{"$f":"Prevalence!AV260*CR261","v":558.70525682182983},260,35622,2224,297,404,2622,2174,5787,7508,1093,2533,8064,21,38,2857,null,2494,2931,757,317,332,404,842,555,2057,630,1725,6036,null,956,2622,1470,776,372,501,362,620,978,21,1258,1388,297,38,1049,1892,886,159,897]
["Female 65-69",{"$f":"Prevalence!B261*AX262","v":28210.5},{"$f":"Prevalence!C261*AY262","v":2072},{"$f":"Prevalence!D261*AZ262","v":252.05181973823662},{"$f":"Prevalence!E261*BA262","v":398.88661659287078},{"$f":"Prevalence!F261*BB262","v":2291.328},{"$f":"Prevalence!G261*BC262","v":1754.1909769940537},{"$f":"Prevalence!H261*BD262","v":4000.6433050283958},{"$f":"Prevalence!I261*BE262","v":6074.7431407114263},{"$f":"Prevalence!J261*BF262","v":947.23200000000008},{"$f":"Prevalence!K261*BG262","v":1812.3931740517219},{"$f":"Prevalence!L261*BH262","v":5670.4303938460671},{"$f":"Prevalence!M261*BI262","v":21.428571428571431},{"$f":"Prevalence!N261*BJ262","v":37.714285714285715},{"$f":"Prevalence!O261*BK262","v":2460.437385640987},{"$f":"Prevalence!P261*BL262","v":0},{"$f":"Prevalence!Q261*BM262","v":1662.1208907741252},{"$f":"Prevalence!R261*BN262","v":1963.9285714285716},{"$f":"Prevalence!S261*BO262","v":638.26530612244903},{"$f":"Prevalence!T261*BP262","v":318.2409972299169},{"$f":"Prevalence!U261*BQ262","v":279.66824644549763},{"$f":"Prevalence!V261*BR262","v":397.83227848101268},{"$f":"Prevalence!W261*BS262","v":706.71085714285732},{"$f":"Prevalence!X261*BT262","v":457.12605042016816},{"$f":"Prevalence!Y261*BU262","v":1676.937399678973},{"$f":"Prevalence!Z261*BV262","v":532.46376811594212},{"$f":"Prevalence!AA261*BW262","v":1439.0348525469169},{"$f":"Prevalence!AB261*BX262","v":4133.9151499279824},{"$f":"Prevalence!AC261*BY262","v":0},{"$f":"Prevalence!AD261*BZ262","v":698.84598214285722},{"$f":"Prevalence!AE261*CA262","v":2296.2757087270707},{"$f":"Prevalence!AF261*CB262","v":998.17339786381842},{"$f":"Prevalence!AG261*CC262","v":624.6925566343042},{"$f":"Prevalence!AH261*CD262","v":303.71681415929208},{"$f":"Prevalence!AI261*CE262","v":358.15527950310565},{"$f":"Prevalence!AJ261*CF262","v":326.10169491525426},{"$f":"Prevalence!AK261*CG262","v":596},{"$f":"Prevalence!AL261*CH262","v":678.17647058823536},{"$f":"Prevalence!AM261*CI262","v":21.428571428571431},{"$f":"Prevalence!AN261*CJ262","v":1119.3037974683546},{"$f":"Prevalence!AO261*CK262","v":1064.2817405126168},{"$f":"Prevalence!AP261*CL262","v":251.38559573206877},{"$f":"Prevalence!AQ261*CM262","v":37.714285714285715},{"$f":"Prevalence!AR261*CN262","v":1015},{"$f":"Prevalence!AS261*CO262","v":1282.5},{"$f":"Prevalence!AT261*CP262","v":774.95337560611733},{"$f":"Prevalence!AU261*CQ262","v":125.22769004774145},{"$f":"Prevalence!AV261*CR262","v":604.08105939004827},261,31345,2072,263,406,2448,1945,4922,6544,1012,2087,6931,25,44,2646,null,2114,2444,695,333,281,406,772,461,1924,616,1704,5146,null,809,2448,1069,679,312,447,364,596,732,25,1179,1167,263,44,1015,1596,855,127,722]
["Female 70-74",null,null,null,null,null,null,null,null,null,null,null,null,null,null,null,null,null,null,null,null,null,null,null,null,null,null,null,null,null,null,null,null,null,null,null,null,null,null,null,null,null,null,null,null,null,null,null,262]
["Female 75-79",null,null,null,null,null,null,null,null,null,null,null,null,null,null,null,null,null,null,null,null,null,null,null,null,null,null,null,null,null,null,null,null,null,null,null,null,null,null,null,null,null,null,null,null,null,null,null,263]
["Female 80-84",null,null,null,null,null,null,null,null,null,null,null,null,null,null,null,null,null,null,null,null,null,null,null,null,null,null,null,null,null,null,null,null,null,null,null,null,null,null,null,null,null,null,null,null,null,null,null,264]
["Female 85+",null,null,null,null,null,null,null,null,null,null,null,null,null,null,null,null,null,null,null,null,null,null,null,null,null,null,null,null,null,null,null,null,null,null,null,null,null,null,null,null,null,null,null,null,null,null,null,265]
[null,null,null,null,null,null,null,null,null,null,null,null,null,null,null,null,null,null,null,null,null,null,null,null,null,null,null,null,null,null,null,null,null,null,null,null,null,null,null,null,null,null,null,null,null,null,null,null,266]
["TOTAL AT RISK (aged 16-69)",null,null,null,null,null,null,null,null,null,null,null,null,null,null,null,null,null,null,null,null,null,null,null,null,null,null,null,null,null,null,null,null,null,null,null,null,null,null,null,null,null,null,null,null,null,null,null,267]
["Total at risk",{"$f":"SUM(B5:B9)","v":1083362.0100000002},{"$f":"SUM(C5:C9)","v":97493.84077459047},23202.337127664305,35700.579748602169,78967.677514014766,61179.738088154721,84993.705769186869,282877.40686864761,65133.26,123979.23843544732,136389.69393016622,3855.1322077922077,3748.9089177489182,86241.099379298743,5462.7945021645019,33357.891860862554,35603.757053662441,23439.608739495798,19835.111972602939,12635.957677851618,35853.36276307502,35050.956178567634,30950.23225455471,18646.22768170774,17814.064673944413,14496.743069859669,72638.619682391465,5462.7945021645019,31266.903244047619,79009.288971002563,149401.51043112957,44880.146741838835,21838.870567623133,15182.979535476563,16251.182840122554,38770.650972599309,80095.38518772916,3855.1322077922077,27656.190403588371,37543.533298986149,23219.399077861657,3748.9089177489182,27700.170128790065,60548.49208955784,17206.245374556325,23215.798335911444,31318.305136591836,268]
["Q1 only",{"$f":"B5","v":302905.73},{"$f":"C5","v":34800.471574651194},1695.0632751797962,3913.5863617776558,20400.912197202757,12922.576056139558,8398.8382666916114,135190.47659297677,7724.2640000000001,41254.136356406772,24308.300933428865,0,0,21703.214819757464,0,6775.1398005895262,1095.8655838088177,2374.1405594965258,2291.0237672539402,4474.06057778383,3906.3297624396009,17293.061785858587,11859.675920395706,1098.9805206934993,1155.2417525984483,1836.1172159565713,14636.177814028866,0,6097.0492658730154,20411.755492790038,90918.617076742143,5372.3809637221566,11814.586552248144,1540.1377620868486,314.37534574225634,17046.349421447303,32813.361847693261,0,2490.6531308481826,14054.451907603736,1697.0297534541405,0,6002.966518749161,16235.026693441434,2516.1086919238419,9849.5351674413359,6763.5859484069206,269]
["Q1 & Q2",{"$f":"B5+B6","v":535980.04},{"$f":"C5+C6","v":61040.165106700013},5346.1048019164027,12409.012968868114,38558.09503540826,29475.175352756629,20799.090192882504,184845.86561893436,21617.640800000001,77586.821989092961,55650.313171040565,1020.0661904761905,135.15367965367966,36789.220896045561,2196.5253246753246,13890.138724702785,4077.8265728495089,6832.429807559387,6169.9624966737101,6923.8199461401828,12607.103358778524,24122.331326255033,21249.352915711737,4849.5197240252164,5534.3127840726102,3497.4825982906718,27041.56613034126,2196.5253246753246,16089.089727182538,38576.385161745668,116507.61647556232,15248.393543118924,14857.576955394652,6336.7478663667453,2612.3819412482735,25700.952448947675,56370.598316345844,1020.0661904761905,6313.9859430515353,20061.271671717044,5351.2180317482089,135.15367965367966,14033.391151796997,31842.775256174464,6491.1131638149109,16728.825894713933,16999.270702870723,270]
["TOTAL ELIGIBLE AT RISK (aged 16-69)",null,null,null,null,null,null,null,null,null,null,null,null,null,null,null,null,null,null,null,null,null,null,null,null,null,null,null,null,null,null,null,null,null,null,null,null,null,null,null,null,null,null,null,null,null,null,null,271]
["Eligible at risk",{"$f":"0.34*B269","v":368343.08340000012},{"$f":"0.34*C269","v":33147.905863360764},7888.7946234058645,12138.197114524739,26849.010354765021,20801.110949972608,28897.859961523536,96178.318335340198,22145.308400000002,42152.941068052089,46372.495936256521,{"$f":"0.34*M269","v":1310.7449506493508},1274.6290320346322,29321.973788961575,1857.3501307359309,{"$f":"0.34*Q269","v":11341.683232693269},12105.277398245231,7969.4669714285719,6743.9380706849997,4296.2256104695507,12190.143339445507,11917.325100712997,10523.078966548603,6339.7174117806317,6056.7819891411009,4928.8926437522878,24697.130692013099,1857.3501307359309,10630.747102976191,26863.158250140874,50796.513546584058,15259.249892225205,7425.2159929918662,5162.2130420620315,5525.4021656416689,13182.021330683767,27232.430963827916,1310.7449506493508,9403.1047372200464,12764.801321655292,7894.5956864729642,1274.6290320346322,9418.0578437886234,20586.487310449666,5850.1234273491509,7893.371434209892,10648.223746441225,272]
["Q1",{"$f":"0.34*B270","v":102987.9482},11832.160335381406,576.3215135611307,1330.6193630044031,6936.3101470489382,4393.6758590874497,2855.6050106751482,45964.762041612106,2626.2497600000002,14026.406361178304,8264.8223173658153,{"$f":"0.34*M270","v":0},0,7379.0930387175385,0,{"$f":"0.34*Q270","v":2303.547532200439},372.59429849499804,807.20779022881879,778.94808086633975,1521.1805964465022,1328.1521192294645,5879.6410071919199,4032.2898129345404,373.65337703578979,392.78219588347247,624.27985342523425,4976.3004567698144,0,2072.9967503968255,6939.9968675486134,30912.32980609233,1826.6095276655333,4016.9594277643691,523.64683910952851,106.88761755236716,5795.758803292083,11156.543028215709,0,846.82206448838213,4778.5136485852709,576.99011617440783,0,2041.0086163747148,5519.9090757700878,855.47695525410631,3348.8419569300545,2299.6192224583533,273]
["Q1 & Q2",182233.21360000002,20753.656136278005,1817.675632651577,4219.0644094151585,13109.752312038809,10021.559619937254,7071.6906655800522,62847.594310437686,7349.9978720000008,26379.519476291607,18921.106478153793,{"$f":"0.34*M271","v":346.82250476190478},45.952251082251088,12508.335104655491,746.8186103896104,{"$f":"0.34*Q271","v":4722.6471663989469},1386.4610347688331,2323.0261345701915,2097.7872488690614,2354.0987816876623,4286.4151419846985,8201.5926509267119,7224.7799913419913,1648.8367061685738,1881.6663465846875,1189.1440834188286,9194.1324843160291,746.8186103896104,5470.2905072420635,13115.970954993529,39612.589601691194,5184.4538046604348,5051.5761648341822,2154.4942745646936,888.20986002441305,8738.3238326422106,19166.003427557589,346.82250476190478,2146.7552206375221,6820.8323683837953,1819.4141307943912,45.952251082251088,4771.3529916109792,10826.543587099319,2206.9784756970698,5687.8008042027377,5779.7520389760457,274]
[null,"Scotland","Ayrshire & Arran Health Board","Borders Health Board","Dumfries & Galloway Health Board","Fife Health Board","Forth Valley Health Board","Grampian Health Board","Greater Glasgow & Clyde Health Board","Highland Health Board","Lanarkshire Health Board","Lothian Health Board","Orkney Health Board","Shetland Health Board","Tayside Health Board","Western Isles Health Board","Aberdeen City Local Authority","Aberdeenshire Local Authority","Angus Local Authority","Argyll & Bute Local Authority","Clackmannanshire Local Authority","Dumfries & Galloway Local Authority","Dundee City Local Authority","East Ayrshire Local Authority","East Dunbartonshire Local Authority","East Lothian Local Authority","East Renfrewshire Local Authority","Edinburgh, City of Local Authority","Eilean Siar Local Authority","Falkirk Local Authority","Fife Local Authority","Glasgow City Local Authority","Highland Local Authority","Inverclyde Local Authority","Midlothian Local Authority","Moray Local Authority","North Ayrshire Local Authority","North Lanarkshire Local Authority","Orkney Islands Local Authority","Perth & Kinross Local Authority","Renfrewshire Local Authority","Scottish Borders Local Authority","Shetland Islands Local Authority","South Ayrshire Local Authority","South Lanarkshire Local Authority","Stirling Local Authority","West Dunbartonshire Local Authority","West Lothian Local Authority",275]
["all admissions, 16-69",717587,57270,14859,18725,45951,28716,67794,191129,42013,104610,94290,3525,3850,40646,4209,28335,28901,11138,13552,5034,18725,15531,18884,16243,11559,12251,50094,4209,15428,45951,102918,28461,14031,10494,10558,20760,57442,3525,13977,29052,14859,3850,17626,47168,8254,16634,22143,276]
["all admissions, 16-69: Q1 only",190678,18762,1139,1822,10357,5496,5949,85023,4398,32266,16082,0,0,9384,0,5186,608,1201,1361,1516,1822,7033,6498,746,759,1185,10096,0,2843,10357,59461,3037,7049,1207,155,8806,21013,0,1150,9709,1139,0,3458,11253,1137,6873,4020,277]
["all admissions, 16-69: Q1 & Q2",348144,35673,3496,6578,22089,13356,16639,118621,13416,60493,38267,673,309,16744,1790,11675,3336,3303,3799,2511,6578,10181,12723,4039,3459,2469,18627,1790,7652,22089,76769,9617,9167,5105,1628,13536,37662,673,3260,14535,3496,309,9414,22831,3193,11642,11076,278]

{"sheet":"Prevalence","index":6,"n_rows":278,"n_cols":49,"rows_kept":278,"cut":false,"hidden":false,"merged":[]}
["Non-employment prevalence (2012)"]
["All, by SIMD","Scotland","Ayrshire & Arran Health Board","Borders Health Board","Dumfries & Galloway Health Board","Fife Health Board","Forth Valley Health Board","Grampian Health Board","Greater Glasgow & Clyde Health Board","Highland Health Board","Lanarkshire Health Board","Lothian Health Board","Orkney Health Board","Shetland Health Board","Tayside Health Board","Western Isles Health Board","Aberdeen City Local Authority","Aberdeenshire Local Authority","Angus Local Authority","Argyll & Bute Local Authority","Clackmannanshire Local Authority","Dumfries & Galloway Local Authority","Dundee City Local Authority","East Ayrshire Local Authority","East Dunbartonshire Local Authority","East Lothian Local Authority","East Renfrewshire Local Authority","Edinburgh, City of Local Authority","Eilean Siar Local Authority","Falkirk Local Authority","Fife Local Authority","Glasgow City Local Authority","Highland Local Authority","Inverclyde Local Authority","Midlothian Local Authority","Moray Local Authority","North Ayrshire Local Authority","North Lanarkshire Local Authority","Orkney Islands Local Authority","Perth & Kinross Local Authority","Renfrewshire Local Authority","Scottish Borders Local Authority","Shetland Islands Local Authority","South Ayrshire Local Authority","South Lanarkshire Local Authority","Stirling Local Authority","West Dunbartonshire Local Authority","West Lothian Local Authority"]
["Total",null,null,null,null,null,null,null,null,null,null,null,null,null,null,null,null,null,null,null,null,null,null,null,null,null,null,null,null,null,null,null,null,null,null,null,null,null,null,null,null,null,null,null,null,null,null,null,3]
["Q 1",null,null,null,null,null,null,null,null,null,null,null,null,null,null,null,null,null,null,null,null,null,null,null,null,null,null,null,null,null,null,null,null,null,null,null,null,null,null,null,null,null,null,null,null,null,null,null,4]
["Q 2",null,null,null,null,null,null,null,null,null,null,null,null,null,null,null,null,null,null,null,null,null,null,null,null,null,null,null,null,null,null,null,null,null,null,null,null,null,null,null,null,null,null,null,null,null,null,null,5]
["Q 3",null,null,null,null,null,null,null,null,null,null,null,null,null,null,null,null,null,null,null,null,null,null,null,null,null,null,null,null,null,null,null,null,null,null,null,null,null,null,null,null,null,null,null,null,null,null,null,6]
["Q 4",null,null,null,null,null,null,null,null,null,null,null,null,null,null,null,null,null,null,null,null,null,null,null,null,null,null,null,null,null,null,null,null,null,null,null,null,null,null,null,null,null,null,null,null,null,null,null,7]
["Q 5",null,null,null,null,null,null,null,null,null,null,null,null,null,null,null,null,null,null,null,null,null,null,null,null,null,null,null,null,null,null,null,null,null,null,null,null,null,null,null,null,null,null,null,null,null,null,null,8]
["Males, by SIMD",null,null,null,null,null,null,null,null,null,null,null,null,null,null,null,null,null,null,null,null,null,null,null,null,null,null,null,null,null,null,null,null,null,null,null,null,null,null,null,null,null,null,null,null,null,null,null,9]
["Males",null,null,null,null,null,null,null,null,null,null,null,null,null,null,null,null,null,null,null,null,null,null,null,null,null,null,null,null,null,null,null,null,null,null,null,null,null,null,null,null,null,null,null,null,null,null,null,10]
["Q 1",null,null,null,null,null,null,null,null,null,null,null,null,null,null,null,null,null,null,null,null,null,null,null,null,null,null,null,null,null,null,null,null,null,null,null,null,null,null,null,null,null,null,null,null,null,null,null,11]
["Q 2",null,null,null,null,null,null,null,null,null,null,null,null,null,null,null,null,null,null,null,null,null,null,null,null,null,null,null,null,null,null,null,null,null,null,null,null,null,null,null,null,null,null,null,null,null,null,null,12]
["Q 3",null,null,null,null,null,null,null,null,null,null,null,null,null,null,null,null,null,null,null,null,null,null,null,null,null,null,null,null,null,null,null,null,null,null,null,null,null,null,null,null,null,null,null,null,null,null,null,13]
["Q 4",null,null,null,null,null,null,null,null,null,null,null,null,null,null,null,null,null,null,null,null,null,null,null,null,null,null,null,null,null,null,null,null,null,null,null,null,null,null,null,null,null,null,null,null,null,null,null,14]
["Q 5",null,null,null,null,null,null,null,null,null,null,null,null,null,null,null,null,null,null,null,null,null,null,null,null,null,null,null,null,null,null,null,null,null,null,null,null,null,null,null,null,null,null,null,null,null,null,null,15]
["Females, by SIMD",null,null,null,null,null,null,null,null,null,null,null,null,null,null,null,null,null,null,null,null,null,null,null,null,null,null,null,null,null,null,null,null,null,null,null,null,null,null,null,null,null,null,null,null,null,null,null,16]
["Females",null,null,null,null,null,null,null,null,null,null,null,null,null,null,null,null,null,null,null,null,null,null,null,null,null,null,null,null,null,null,null,null,null,null,null,null,null,null,null,null,null,null,null,null,null,null,null,17]
["Q 1",null,null,null,null,null,null,null,null,null,null,null,null,null,null,null,null,null,null,null,null,null,null,null,null,null,null,null,null,null,null,null,null,null,null,null,null,null,null,null,null,null,null,null,null,null,null,null,18]
["Q 2",null,null,null,null,null,null,null,null,null,null,null,null,null,null,null,null,null,null,null,null,null,null,null,null,null,null,null,null,null,null,null,null,null,null,null,null,null,null,null,null,null,null,null,null,null,null,null,19]
["Q 3",null,null,null,null,null,null,null,null,null,null,null,null,null,null,null,null,null,null,null,null,null,null,null,null,null,null,null,null,null,null,null,null,null,null,null,null,null,null,null,null,null,null,null,null,null,null,null,20]
["Q 4",null,null,null,null,null,null,null,null,null,null,null,null,null,null,null,null,null,null,null,null,null,null,null,null,null,null,null,null,null,null,null,null,null,null,null,null,null,null,null,null,null,null,null,null,null,null,null,21]
["Q 5",null,null,null,null,null,null,null,null,null,null,null,null,null,null,null,null,null,null,null,null,null,null,null,null,null,null,null,null,null,null,null,null,null,null,null,null,null,null,null,null,null,null,null,null,null,null,null,22]
["age/sex breakdown: All",null,null,null,null,null,null,null,null,null,null,null,null,null,null,null,null,null,null,null,null,null,null,null,null,null,null,null,null,null,null,null,null,null,null,null,null,null,null,null,null,null,null,null,null,null,null,null,23]
["Male <1",null,null,null,null,null,null,null,null,null,null,null,null,null,null,null,null,null,null,null,null,null,null,null,null,null,null,null,null,null,null,null,null,null,null,null,null,null,null,null,null,null,null,null,null,null,null,null,24]
["Male 1-4",null,null,null,null,null,null,null,null,null,null,null,null,null,null,null,null,null,null,null,null,null,null,null,null,null,null,null,null,null,null,null,null,null,null,null,null,null,null,null,null,null,null,null,null,null,null,null,25]
["Male 5-9",null,null,null,null,null,null,null,null,null,null,null,null,null,null,null,null,null,null,null,null,null,null,null,null,null,null,null,null,null,null,null,null,null,null,null,null,null,null,null,null,null,null,null,null,null,null,null,26]
["Male 10-14",null,null,null,null,null,null,null,null,null,null,null,null,null,null,null,null,null,null,null,null,null,null,null,null,null,null,null,null,null,null,null,null,null,null,null,null,null,null,null,null,null,null,null,null,null,null,null,27]
["Male 15-19 (16-)",0.18239492466296589,{"$f":"C$269*$B28","v":0.21207280633014997},{"$f":"D$269*$B28","v":0.18239492466296589},0.23321925123673701,0.19148808559204883,0.19297849690120061,0.13679619349722441,0.20153629943772164,0.17509912767644725,0.191346261825702,0.15138778747026169,0.17134068680460432,0.17134068680460432,0.19303141943373125,0.17134068680460432,{"$f":"Q$269*$B28","v":0.13235672823758862},0.13071270046584524,0.19377428716422043,0.20909042283411178,0.20619303777254738,0.23282042064699879,0.21429706725420233,0.20457518114500309,0.18331840837432525,0.18128950087712972,0.16956353057073792,0.1413592478884575,0.17134068680460432,0.19252797603313065,0.19116061988885524,0.2100211433649696,0.16167762854066239,0.22845424907280573,0.17643571826049406,0.16958205805441043,0.21934735239577965,0.20334781149498188,0.17134068680460432,0.17121041800829365,0.18312239719978696,0.18339985537736242,0.17134068680460432,0.20960631605019681,0.17845611076050261,0.18530225311704365,0.20524681403683032,0.15623770833246595,28]
["Male 20-24",0.15199102636006731,{"$f":"C$269*$B29","v":0.17672182247801332},{"$f":"D$269*$B29","v":0.15199102636006731},0.19434330986949544,0.15956842394951459,0.16081039460738911,0.11399326977005048,0.16794167412800132,0.14591138530566461,0.15945024116647316,0.12615255187885585,0.14277944900491171,0.14277944900491171,0.16085449534128707,0.14277944900491171,0.11029383085995612,0.10892385047890407,0.16147353246096277,0.17423658047141813,0.17182216828269503,0.19401096141851681,0.17857531539380581,0.17047399650774966,0.1527605720992137,0.15106986862455174,0.14129853170150172,0.11779569640852124,0.14277944900491171,0.16043497226895995,0.15929554438108315,0.17501215670524625,0.13472715179309203,0.1903725986732156,0.14702517602691337,0.14131397078931879,0.18278375498442337,0.1694512203906256,0.14277944900491171,0.14267089506301592,0.15259723455212368,0.15282844248326327,0.14277944900491171,0.17466647806615573,0.14870878389206593,0.1544137244505851,0.17103367311473108,0.13019402644824776,29]
["Male 25-29",0.19388238067756808,0.22542941172425551,0.19388238067756808,0.24790768566160371,0.20354824003233121,0.20513251927333026,0.14541178550817607,0.21422930270749188,0.18612708545046536,0.20339748403127036,0.16092237596238149,0.18213193336377606,0.18213193336377606,0.20518877493185519,0.18213193336377606,0.1406927172826537,0.13894514662587895,0.20597842938294217,0.22225919405852912,0.21917932813290786,0.24748373623226311,0.2277937593287748,0.21745957691108581,0.19486402652547838,0.19270733594618886,0.18024284965108678,0.15026222666035322,0.18213193336377606,0.20465362404854409,0.20320015013760007,0.22324853250970392,0.17186028384117555,0.24284257781836807,0.18754785614847169,0.18026254401840008,0.23316211762141303,0.21615490601546072,0.18213193336377606,0.18199346007893338,0.19465567032681155,0.19495060316064008,0.18213193336377606,0.22280757886197028,0.18969549544560996,0.19697281624275614,0.21817351006602115,0.16607775078763776,30]
["Male 30-34",0.13375367468695945,0.15551703097138245,0.13375367468695945,0.17102412207080736,0.14042186291112269,0.1415148099312353,0.10031525601521959,0.14779040964224788,0.12840352769948107,0.14031786084011175,0.11101554999017633,0.12564739137259825,0.12564739137259825,0.14155361903303892,0.12564739137259825,9.7059711524501921E-2,9.5854114624454298E-2,0.14209837809880183,0.15332999230976424,0.15120528462020852,0.17073165199767551,0.1571481239012123,0.15001887951902182,0.13443088289401953,0.13294304635552331,0.12434416883385878,0.1036614307717358,0.12564739137259825,0.14118443439179054,0.14018172606950263,0.15401250741449568,0.11856128657058866,0.16752985516346433,0.1293836750500644,0.12435775539076808,0.16085159425353221,0.1491188259611011,0.12564739137259825,0.12555186278135158,0.13428714416377444,0.13449060953371955,0.12564739137259825,0.15370830663799978,0.13086526737882825,0.13588567405576543,0.15051140071986399,0.11457208939750602,31]
["Male 35-39",0.1399476921786334,0.16271889075089441,0.1399476921786334,0.1789441018850744,0.14692467845709239,0.14806823891250609,0.10496076913397505,0.15463445624185126,0.13434978449148804,0.14681586013973516,0.11615658450826571,0.13146601386477683,0.13146601386477683,0.14810884523039347,0.13146601386477683,0.10155446318143121,0.1002930361271521,0.1486788316193681,0.16043057221224302,0.15820747113929351,0.17863808777471885,0.16442551818967557,0.15696612463955339,0.14065626131457901,0.13909952434724773,0.13010244021254913,0.10846190236187955,0.13146601386477683,0.14772256396633526,0.14667342108513273,0.16114469400372108,0.1240517576516437,0.17528801848636907,0.13537532162181493,0.13011665595120875,0.16830049306473741,0.15602439037645391,0.13146601386477683,0.13136606142673474,0.14050586616751803,0.14071875384352947,0.13146601386477683,0.16082640595123066,0.13692552521543841,0.14217842260221997,0.15748145407306788,0.11987782419280561,32]
["Male 40-44",0.13295140522728699,0.15458422247322878,0.13295140522728699,0.16999830031057664,0.13957959691471122,0.14066598831668978,9.9713553920465242E-2,0.14690394628065459,0.12763334901819551,0.1394762186597226,0.11034966633864819,0.1248937443044211,0.1248937443044211,0.14070456463717201,0.1248937443044211,9.6477536548726706E-2,9.5279170953357986E-2,0.14124605617729596,0.15241030191344548,0.15029833845760188,0.16970758450556558,0.15620553192573322,0.14911904954654387,0.13362455146398525,0.13214563913500041,0.12359833863983057,0.10303965794755915,0.1248937443044211,0.14033759440658072,0.13934090044065209,0.15308872321645095,0.11785014274939888,0.1665249924058948,0.1286076173356443,0.12361184370305608,0.15988678844979443,0.14822439461025563,0.1248937443044211,0.12479878870431997,0.1334816748946768,0.13368391985663844,0.1248937443044211,0.15278634707014305,0.13008032290836324,0.13507061662607542,0.14960861655028751,0.11388487322591591,33]
["Male 45-49",0.1535654614354513,0.17855243736731621,0.1535654614354513,0.19635646111304245,0.1612213512940191,0.16247618719935711,0.11517409607658848,0.1696813377693234,0.14742284297803324,0.16110194428660479,0.12745933299142456,0.14425846377269666,0.14425846377269666,0.16252074476116107,0.14425846377269666,0.11143633565160747,0.1100521640040302,0.16314619432358105,0.17604145139227956,0.17360202894257329,0.19602066995185252,0.18042513012883962,0.17223989181071872,0.15434297869655422,0.15263476166917583,0.14276220603635412,0.11901591105274306,0.14425846377269666,0.16209687595964303,0.1609456450378931,0.17682506161637285,0.13612275493144518,0.19234461836359554,0.14854817116448746,0.14277780505362209,0.18467716383854951,0.17120652102474065,0.14425846377269666,0.1441487853490615,0.15417794917876418,0.15441155213206537,0.14425846377269666,0.17647580218315767,0.15024921908080338,0.15601325561843013,0.17280536596050253,0.13154267213315807,34]
["Male 50-54",0.19718273757956792,0.22926677699848949,0.19718273757956792,0.25212768666722751,0.20701313372990665,0.20862438131588604,0.14788705318467593,{"$f":"I$269*$B35","v":0.21787601446815003},0.18929542807638519,0.20685981148942331,0.16366167219104136,0.18523226863535167,0.18523226863535167,0.20868159458463961,0.18523226863535167,0.14308765476445162,0.14131033613955998,0.20948469090449637,0.22604259439939803,0.22291030155014743,0.25169652057167763,0.23167137163787616,0.22116127591569013,0.19818109346393509,0.19598769068514629,0.18331102805287441,0.15282006082318561,0.18523226863535167,0.20813733411176613,0.20665911848557653,0.22704877383413377,0.17478577027255041,0.24697635818046887,0.19074038380019398,0.18333105766695365,{"$f":"AK$269*$B35","v":0.23713111264554812},0.21983439629960178,0.18523226863535167,0.18509143819324808,0.19796919052824175,0.19826914384722394,0.18523226863535167,0.22660031406640269,0.19292458122165765,0.20032577998975196,0.22188736197594477,0.16890480422676446,35]
["Male 55-59",0.28005486534849233,0.32562321199788408,0.28005486534849233,0.35809212412280578,0.29401678870952958,0.2963052127940794,0.21004114901136925,0.30944513015457054,0.26885267073455266,0.29379902806810348,0.23244553823924863,0.26308184320615946,0.26308184320615946,0.29638647170382781,0.26308184320615946,0.20322465536274387,0.20070036376254971,0.29752709402442318,0.32104396720834899,0.31659523167045767,0.35747974717584635,0.3290384117066284,0.31411112406265373,0.28147281108856254,0.27835756313425902,0.2603531420062859,0.21704740527357597,0.26308184320615946,0.29561346897896412,0.29351398763881126,0.32247302458715543,0.24824488167357595,0.35077579094154593,0.27090491367241382,0.2603815896835156,0.33679277728401169,0.31222658235895961,0.26308184320615946,0.26288182442670432,0.2811718494077835,0.28159786736143172,0.26308184320615946,0.32183608576883993,0.27400708743402769,0.28451886828188044,0.3151423701865898,0.23989225824269861,36]
["Male 60-64",0.4625953255381392,0.53786523426220001,0.4625953255381392,0.5914974643454266,0.485657665391798,0.4894376900060618,0.3469464941536044,0.51114223829647187,0.44409151251661361,0.48529796782080753,0.38395412019665554,0.43455924520249439,0.43455924520249439,0.48957191367598868,0.43455924520249439,0.3356869929323324,0.33151736176705365,0.49145599647189114,0.53030122629005561,0.52295279382549886,0.59048593857608056,0.54350646966469296,0.51884953867914085,0.46493749185046862,0.4597917175045747,0.43005196975030369,0.3585194457335959,0.43455924520249439,0.48829506584581361,0.48482713732830424,0.5326617468349818,0.41005151511317223,0.57941232693665912,0.44748141252332085,0.43009895969455092,0.55631515007860999,0.51573664798957619,0.43455924520249439,0.43422885368338743,0.46444036259502353,0.46514406011410692,0.43455924520249439,0.53160964970522873,0.45260559088509972,0.46996897672468163,0.52055295360042242,0.39625463088373347,37]
["Male 65-69",0.79962245202489968,0.92973079003633008,0.79962245202489968,{"$f":"1","v":1},0.83948702420094035,0.84602101273023622,0.59971683901867479,0.88353856460752966,0.76763755394390365,0.83886526639703651,0.66368663518066673,0.75116048523551182,0.75116048523551182,0.84625302601299457,0.75116048523551182,0.58025414781085238,0.57304670209673714,0.84950977077868117,0.91665597006320143,0.90395378467251963,1,0.93948198775918557,0.89686107369971046,0.80367102032276616,0.79477625534596086,0.74336940207910573,0.61972134708151139,0.75116048523551182,0.84404592158183855,0.83805140898837038,0.92073626470083803,0.70879747345023048,1.0015473136473489,0.77349718979804716,0.74345062688265462,0.96162252371869816,0.8914802642780425,0.75116048523551182,0.75058938461678149,0.80281170399969293,0.80402808536938952,0.75116048523551182,0.91891765469719644,0.78235462488235552,0.81236822941748432,0.89980552372109035,0.68494877073146976,38]
["Male 70-74",null,null,null,null,null,null,null,null,null,null,null,null,null,null,null,null,null,null,null,null,null,null,null,null,null,null,null,null,null,null,null,null,null,null,null,null,null,null,null,null,null,null,null,null,null,null,null,39]
["Male 75-79",null,null,null,null,null,null,null,null,null,null,null,null,null,null,null,null,null,null,null,null,null,null,null,null,null,null,null,null,null,null,null,null,null,null,null,null,null,null,null,null,null,null,null,null,null,null,null,40]
["Male 80-84",null,null,null,null,null,null,null,null,null,null,null,null,null,null,null,null,null,null,null,null,null,null,null,null,null,null,null,null,null,null,null,null,null,null,null,null,null,null,null,null,null,null,null,null,null,null,null,41]
["Male 85+",null,null,null,null,null,null,null,null,null,null,null,null,null,null,null,null,null,null,null,null,null,null,null,null,null,null,null,null,null,null,null,null,null,null,null,null,null,null,null,null,null,null,null,null,null,null,null,42]
["Female <1",null,null,null,null,null,null,null,null,null,null,null,null,null,null,null,null,null,null,null,null,null,null,null,null,null,null,null,null,null,null,null,null,null,null,null,null,null,null,null,null,null,null,null,null,null,null,null,43]
["Female 1-4",null,null,null,null,null,null,null,null,null,null,null,null,null,null,null,null,null,null,null,null,null,null,null,null,null,null,null,null,null,null,null,null,null,null,null,null,null,null,null,null,null,null,null,null,null,null,null,44]
["Female 5-9",null,null,null,null,null,null,null,null,null,null,null,null,null,null,null,null,null,null,null,null,null,null,null,null,null,null,null,null,null,null,null,null,null,null,null,null,null,null,null,null,null,null,null,null,null,null,null,45]
["Female 10-14",null,null,null,null,null,null,null,null,null,null,null,null,null,null,null,null,null,null,null,null,null,null,null,null,null,null,null,null,null,null,null,null,null,null,null,null,null,null,null,null,null,null,null,null,null,null,null,46]
["Female 15-19 (16-)",0.14438063986874489,{"$f":"C$270*$B47","v":0.16859077468786005},{"$f":"D$270*$B47","v":0.15374483740552658},0.15761221931789107,0.15015586546349469,0.14468507038582129,0.13039311938837198,0.14891933267016175,0.15015586546349469,0.1393145323767945,0.13124615152449934,0.13750537130356658,0.13750537130356658,0.14917255567977974,0.13750537130356658,0.12613165024134154,0.12891128559709367,0.14732718353953561,0.15331277548389347,0.15966263492594221,0.1571956183019412,0.14685573655220913,0.15907484131196917,0.13982287756149184,0.13866785632666437,0.13547781220927804,0.12887189931979542,0.13750537130356658,0.13857963201687568,0.15048009991878636,0.14979411067824278,0.1475920652071723,0.15616391726216261,0.12853762969681223,0.14372030333988595,0.17989692359663501,0.14862712927664917,0.13750537130356658,0.1523002530261022,0.14630265514218138,0.15333845866320961,0.13750537130356658,0.16283530812264463,0.12891128559709367,0.1454038521617349,0.15818419963585098,0.13422223743817244,47]
["Female 20-24",9.0646651270207851E-2,{"$f":"C$270*$B48","v":0.10584652606054061},9.6525785406984477E-2,9.8953847921858407E-2,9.4272517321016172E-2,9.0837782206755313E-2,8.1864851353876195E-2,9.3496183617250039E-2,9.4272517321016172E-2,8.7465991594937745E-2,8.240041143060195E-2,8.6330144066864622E-2,8.6330144066864622E-2,9.3655164889720519E-2,8.6330144066864622E-2,7.9189368629732665E-2,8.093451006268558E-2,9.249658292878353E-2,9.6254523509454321E-2,0.10024116254209399,9.8692292861249517E-2,9.2200593863411437E-2,9.9872127449902218E-2,8.7785146494957847E-2,8.70599882799903E-2,8.505717947606635E-2,8.0909782134160474E-2,8.6330144066864622E-2,8.7004598317387008E-2,9.4476081785236088E-2,9.4045396427980432E-2,9.2662883868964721E-2,9.8044558895996697E-2,8.0699917279895186E-2,9.0232071482316129E-2,0.11294487760043169,9.3312729248743384E-2,8.6330144066864622E-2,9.5618830453805745E-2,9.1853352171281544E-2,9.6270648207343851E-2,8.6330144066864622E-2,0.10223306534233968,8.093451006268558E-2,9.128905573650177E-2,9.9312954935531911E-2,8.4268890627065898E-2,48]
["Female 25-29",0.26561544205326115,0.31015455524734525,0.28284265111998569,0.28995743020099912,0.27624005973539162,0.26617549945736507,0.23988275767812026,0.27396522423935099,0.27624005973539162,0.25629538098283616,0.24145207132106494,0.25296708766977255,0.25296708766977255,0.2744310757669442,0.25296708766977255,0.23204298073632368,0.23715664469041176,0.27103616536047059,0.28204779165397076,0.29372955677295864,0.28919101398957381,0.2701688496313171,0.29264819946110943,0.25723057791139792,0.25510569831432378,0.24923700996954798,0.23708418619829735,0.25296708766977255,0.25494339304219266,0.27683655022227055,0.27557454351876504,0.27152346519031678,0.28729300517068562,0.23646923412609172,0.26440062835541195,0.33095435044879568,0.27342766093718063,0.25296708766977255,0.28018506545702654,0.26915135197131568,0.28209504071058661,0.25296708766977255,0.2995662880299938,0.23715664469041176,0.26749783421999451,0.29100969596972542,0.24692714316080328,49]
["Female 30-34",0.24607645947381129,0.28733922340869511,0.26203641489276119,0.26862782250317807,0.25591951785276373,0.24659531840023002,0.22223670145807814,0.25381202191644398,0.25591951785276373,0.23744199299640673,0.22369057455398927,0.23435853283220123,0.23435853283220123,0.25424360486081066,0.23435853283220123,0.21497362767746986,0.21971112453018868,0.25109842803450133,0.26130002621872855,0.27212246703265075,0.26791778476466044,0.25029491306479096,0.27112065562940929,0.23830839574510351,0.23633982477643484,0.23090284401027869,0.21964399616950114,0.23435853283220123,0.23618945886995282,0.25647212980177664,0.25530295778741546,0.25154988151892149,0.26615939569438785,0.21907428069097074,0.2449510088924137,0.30660896134782806,0.25331400239951163,0.23435853283220123,0.25957432433946337,0.24935226372271757,0.26134379957947751,0.23435853283220123,0.27752984151181725,0.21971112453018868,0.24782038067112666,0.26960268237123403,0.22876289370558972,50]
["Female 35-39",0.24499924616573535,0.28608138006988115,0.26088933599733749,0.26745188935646974,0.25479921601236477,0.24551583375851352,0.22126384800892884,0.25270094575603963,0.25479921601236477,0.23640257754277605,0.22271135669497114,0.23333261539593844,0.23333261539593844,0.2531306394222031,0.23333261539593844,0.21403256873540483,0.21874932693369228,0.2499992307813626,0.26015617090544385,0.27093123588627921,0.26674495984741381,0.24919923324286228,0.26993380996785038,0.23726518756553291,0.23530523412513116,0.22989205404291518,0.21868249243111551,0.23333261539593844,0.2351555264537192,0.25534940887201435,0.25418535497279504,0.25044870800319174,0.26499426822252597,0.21811527091359462,0.2438787223064893,0.30526676366567074,0.25220510634708054,0.23333261539593844,0.25843802338157734,0.24826071040040737,0.26019975264588568,0.23333261539593844,0.27631493928466394,0.21874932693369228,0.24673553325157982,0.2684224817215487,0.22776147148901296,51]
["Female 40-44",0.21575621570768902,0.25193479945059155,0.22974966957734907,0.2355289186987457,0.2243864643359966,0.21621114357315668,0.19485386696673179,0.22253864293604639,0.2243864643359966,0.20818564265977027,0.19612860148609118,0.20548211019779908,0.20548211019779908,0.22291704850576097,0.20548211019779908,0.1884857108389143,0.19263947831043662,0.22015940378335616,0.22910401483272613,0.23859297155668613,0.23490636806631301,0.21945489369124946,0.23771459807196366,0.20894529183034624,0.20721927779608965,0.20245221313053929,0.19258062115238272,0.20548211019779908,0.20708743918371939,0.22487098635459529,0.22384587355075658,0.22055523154995693,0.23336463842522903,0.1920811030109861,0.21476943721238884,0.26883022189090294,0.2221019867579152,0.20548211019779908,0.2275909448393344,0.21862839263048162,0.22914239467078215,0.20548211019779908,0.24333407786581471,0.19263947831043662,0.21728526013083194,0.23638366147433182,0.20057593621835726,52]
["Female 45-49",0.22255418712715969,0.2598726730391584,0.23698854184944923,0.24294988153182639,0.23145635461224609,0.22302344870077673,0.20099325448921129,0.22955031270159612,0.23145635461224609,0.21474508311020274,0.20230815289817913,0.21195636869253304,0.21195636869253304,0.22994064094171654,0.21195636869253304,0.19442445272432776,0.19870909564924974,0.22709610931342825,0.23632254404084363,0.24611047549606918,0.24230771579170116,0.22636940176362533,0.24520442652665589,0.21552866704128359,0.21374827036022356,0.20883100668768334,0.19864838404043539,0.21195636869253304,0.21361227782294345,0.23195614278122537,0.23089873108152692,0.22750440868292382,0.24071740987205081,0.1981331272560635,0.22153631755999215,0.27730043054333986,0.22909989851325263,0.21195636869253304,0.23476180076704609,0.22551685959636686,0.23636213313742013,0.21195636869253304,0.25100096292536805,0.19870909564924974,0.22413140814745663,0.24383155524398079,0.20689561269846976,53]
["Female 50-54",0.23761471080248975,0.27745858591457573,0.25302585658784271,0.25939060767569405,0.24711929923458933,0.23811572790104482,0.21459472254915327,0.24508427305412148,0.24711929923458933,0.22927715482761346,0.21599860179858307,0.22629972457379977,0.22629972457379977,0.24550101530054466,0.22629972457379977,0.20758140165041017,0.21215599178793729,0.24246399061478546,0.25231478986413963,0.26276508303592866,0.25870498576672524,0.2416881058448182,0.2617977205853762,0.23011376487560539,0.22821288649652513,0.22296286536426652,0.21209117174767209,0.22629972457379977,0.22806769117203257,0.24765290870187232,0.24652394061339752,0.24289992011966641,0.25700706183160149,0.21154104688420414,0.23652796071272855,{"$f":"AK$270*$B54","v":0.2960657018387795},0.2446033787672689,0.22629972457379977,0.25064842911655039,0.24077787106948095,0.25235705800501529,0.22629972457379977,0.2679865159426576,0.21215599178793729,0.2392986643665507,0.26033194536446114,0.22089650081290849,54]
["Female 55-59",0.36129215578418111,0.42187459819872875,0.38472473731539214,0.39440231423726435,0.37574384201554839,0.36205395014872349,0.32629036168613945,0.3726495933752374,0.37574384201554839,0.34861493743368005,0.32842495410583511,0.34408776741350583,0.34408776741350583,0.37328324818603625,0.34408776741350583,0.31562663712903771,0.3225822819501617,0.36866546508589909,0.38364356339040473,0.39953318965075324,0.39335982904471195,0.36748573559762432,0.39806231916464402,0.34988699944856494,0.34699672196893405,0.33901408719695275,0.3224837233550043,0.34408776741350583,0.34677595309642384,0.37655519293793199,0.37483860176763339,0.36932829404146528,0.3907781429327426,0.32164726084305983,0.35963975690112188,0.45016663871456075,0.37191839566018647,0.34408776741350583,0.38110986897065519,0.36610172749837544,0.38370783191858793,0.34408776741350583,0.40747235614757271,0.3225822819501617,0.36385260000644876,0.39583361418391733,0.33587218869717217,55]
["Female 60-64",0.67419814246359344,0.78724950404973937,0.71792508944692701,0.73598417066365918,0.70116606816213722,0.67561970763541113,0.60888218089068491,0.69539196913391388,0.70116606816213722,0.65054150634050323,0.6128654897481719,0.64209346901294617,0.64209346901294617,0.6965744163295261,0.64209346901294617,0.58898287454527931,0.601962627199637,0.6879572882281566,0.71590753816540398,0.74555876733730708,0.73403881544597094,0.68575582490582665,0.7428140131718397,0.6529152690524902,0.64752179544179955,0.63262560284787583,0.60177870950113421,0.64209346901294617,0.64710982423960983,0.7026801095715608,0.69947682226001429,0.68919417655650639,0.72922119637163507,0.60021780799036273,0.67111464275364419,0.8400445643822223,0.69402749959487564,0.64209346901294617,0.71117947517256697,0.68317316244075632,0.71602746803829576,0.64209346901294617,0.76037384488375204,0.601962627199637,0.67897612258549145,0.73865508324754081,0.62676258562359211,56]
["Female 65-69",0.86326014207687851,{"$f":"1","v":1},0.91924921722841535,0.94237251590729887,0.89779054775995371,0.86508034963145675,0.77962795338338664,0.89039724713581381,0.89779054775995371,0.83296959427730088,0.78472828154164165,0.8221525162636939,0.8221525162636939,0.89191128206084735,0.8221525162636939,0.75414838448366406,0.77076798399721302,0.88087769599681487,0.91666589417212407,0.95463206864741701,0.9398816344944918,0.87805888736962523,0.95111761685407725,0.83600901934678984,0.82910308101471542,0.81002962393272782,0.77053249118205946,0.8221525162636939,0.82857558279700394,0.89972916419908133,0.89562759511202628,0.88246143870806404,0.93371303469475564,0.76853387389867034,0.85931195202702459,1,0.88865014625561034,0.8221525162636939,0.91061196421611657,0.8747519818382834,0.91681945537704446,0.8221525162636939,0.97360166399647952,0.77076798399721302,0.86937798717179127,0.94579241909512335,0.802522470229308,57]
["Female 70-74",null,null,null,null,null,null,null,null,null,null,null,null,null,null,null,null,null,null,null,null,null,null,null,null,null,null,null,null,null,null,null,null,null,null,null,null,null,null,null,null,null,null,null,null,null,null,null,58]
["Female 75-79",null,null,null,null,null,null,null,null,null,null,null,null,null,null,null,null,null,null,null,null,null,null,null,null,null,null,null,null,null,null,null,null,null,null,null,null,null,null,null,null,null,null,null,null,null,null,null,59]
["Female 80-84",null,null,null,null,null,null,null,null,null,null,null,null,null,null,null,null,null,null,null,null,null,null,null,null,null,null,null,null,null,null,null,null,null,null,null,null,null,null,null,null,null,null,null,null,null,null,null,60]
["Female 85+",null,null,null,null,null,null,null,null,null,null,null,null,null,null,null,null,null,null,null,null,null,null,null,null,null,null,null,null,null,null,null,null,null,null,null,null,null,null,null,null,null,null,null,null,null,null,null,61]
["age/sex breakdown: Q1",null,null,null,null,null,null,null,null,null,null,null,null,null,null,null,null,null,null,null,null,null,null,null,null,null,null,null,null,null,null,null,null,null,null,null,null,null,null,null,null,null,null,null,null,null,null,null,62]
["Male <1",null,null,null,null,null,null,null,null,null,null,null,null,null,null,null,null,null,null,null,null,null,null,null,null,null,null,null,null,null,null,null,null,null,null,null,null,null,null,null,null,null,null,null,null,null,null,null,63]
["Male 1-4",null,null,null,null,null,null,null,null,null,null,null,null,null,null,null,null,null,null,null,null,null,null,null,null,null,null,null,null,null,null,null,null,null,null,null,null,null,null,null,null,null,null,null,null,null,null,null,64]
["Male 5-9",null,null,null,null,null,null,null,null,null,null,null,null,null,null,null,null,null,null,null,null,null,null,null,null,null,null,null,null,null,null,null,null,null,null,null,null,null,null,null,null,null,null,null,null,null,null,null,65]
["Male 10-14",null,null,null,null,null,null,null,null,null,null,null,null,null,null,null,null,null,null,null,null,null,null,null,null,null,null,null,null,null,null,null,null,null,null,null,null,null,null,null,null,null,null,null,null,null,null,null,66]
["Male 15-19",0.22,{"$f":"C$269*$B67","v":0.25579668666134875},{"$f":"D$269*$B67","v":0.22},0.28130297686128519,0.23096793349976605,0.23276562874056991,0.16500000000000001,0.24308782691309888,0.2112,0.23079686937254892,0.18259999999999998,0.20666666666666667,0.20666666666666667,0.23282946251872055,0.20666666666666667,0.15964523281596452,0.15766224940536866,0.23372549019607841,0.25219941348973607,0.24870466321243523,0.28082191780821919,0.25847953216374264,0.24675324675324678,0.22111388196176224,0.21866666666666665,0.20452310717797442,0.17050383717050385,0.20666666666666667,0.23222222222222222,0.23057295291115748,0.25332202431439071,0.19501133786848071,0.2755555555555555,0.21281216069489681,0.20454545454545456,0.26457105435494432,0.2452728254997299,0.20666666666666667,0.20650953984287315,0.22087745839636913,0.22121212121212122,0.20666666666666667,0.25282167042889392,0.2152491054225158,0.22350674373795762,0.24756335282651074,0.18844984802431611,67]
["Male 20-24",0.33,{"$f":"C$269*$B68","v":0.3836950299920231},{"$f":"D$269*$B68","v":0.33},0.42195446529192776,0.34645190024964906,0.34914844311085491,0.2475,0.36463174036964835,0.31680000000000003,0.34619530405882337,0.27389999999999998,0.31,0.31,0.3492441937780808,0.31,0.23946784922394679,0.23649337410805299,0.35058823529411764,0.3782991202346041,0.37305699481865284,0.42123287671232879,0.38771929824561402,0.3701298701298702,0.33167082294264338,0.32800000000000001,0.30678466076696165,0.25575575575575576,0.31,0.34833333333333338,0.34585942936673625,0.3799830364715861,0.29251700680272108,0.41333333333333333,0.31921824104234525,0.30681818181818182,0.39685658153241649,0.36790923824959487,0.31,0.30976430976430974,0.33131618759455367,0.33181818181818185,0.31,0.37923250564334088,0.32287365813377372,0.33526011560693642,0.37134502923976609,0.28267477203647418,68]
["Male 25-29",0.32999999999999996,0.38369502999202304,0.32999999999999996,0.42195446529192771,0.346451900249649,0.34914844311085486,0.24749999999999997,0.36463174036964829,0.31679999999999997,0.34619530405882332,0.27389999999999998,0.30999999999999994,0.30999999999999994,0.34924419377808075,0.30999999999999994,0.23946784922394676,0.23649337410805296,0.35058823529411759,0.37829912023460405,0.37305699481865279,0.42123287671232873,0.38771929824561396,0.37012987012987009,0.33167082294264333,0.32799999999999996,0.30678466076696159,0.25575575575575571,0.30999999999999994,0.34833333333333327,0.34585942936673619,0.37998303647158604,0.29251700680272102,0.41333333333333322,0.3192182410423452,0.30681818181818177,0.39685658153241643,0.36790923824959476,0.30999999999999994,0.30976430976430969,0.33131618759455361,0.33181818181818179,0.30999999999999994,0.37923250564334082,0.32287365813377367,0.33526011560693636,0.37134502923976603,0.28267477203647412,69]
["Male 30-34",0.22999999999999998,0.26742380878231908,0.22999999999999998,0.29408947580952538,0.24146647593157355,0.24334588459241399,0.17249999999999999,0.25413727359096699,0.22079999999999997,0.24128763616221022,0.19089999999999999,0.21606060606060604,0.21606060606060604,0.2434126199059351,0.21606060606060604,0.16690183430759925,0.16482871528743087,0.24434937611408195,0.26366302319381496,0.26000942063118226,0.29358655043586546,0.27022860180754915,0.25796930342384888,0.23116451296002416,0.22860606060606059,0.21381961204970051,0.17825401158734491,0.21606060606060604,0.24277777777777776,0.24105354167984644,0.26483666178322662,0.20387548958977528,0.28808080808080805,0.22248544072648302,0.21384297520661155,0.27659701137107812,0.25642159029517214,0.21606060606060604,0.21589633710845826,0.23091734286893134,0.23126721763085398,0.21606060606060604,0.26431356453929816,0.22503315566899379,0.23366614118059204,0.258816232500443,0.19701575020723955,70]
["Male 35-39",0.35,0.40694927423396388,0.35,0.44752746318840819,0.36744898511326413,0.37030895481454301,0.26249999999999996,0.38673063372538458,0.33599999999999997,0.36717683763814596,0.29049999999999998,0.32878787878787874,0.32878787878787874,0.37041050855250995,0.32878787878787874,0.25398105220721628,0.25082630587217741,0.37183600713012471,0.40122633964276189,0.39566650965614691,0.44676214196762137,0.41121743753322693,0.3925619834710744,0.35177208493916717,0.34787878787878784,0.32537767051041383,0.27125610458943789,0.32878787878787874,0.36944444444444441,0.36682060690411417,0.40301231140925797,0.31024531024531021,0.43838383838383832,0.33856480110551762,0.32541322314049587,0.42090849556468413,0.39020676784047936,0.32878787878787874,0.32853790429547997,0.35139595653967814,0.35192837465564736,0.32878787878787874,0.40221629386414937,0.34244175862672965,0.35557891049220525,0.39385078858763067,0.29980657640232106,71]
["Male 40-44",0.31999999999999995,0.37206790787105265,0.31999999999999995,0.40916796634368746,0.33595335781784147,0.33856818725901072,0.23999999999999996,0.35358229369178013,0.30719999999999992,0.335704537269162,0.26559999999999995,0.30060606060606054,0.30060606060606054,0.3386610363908662,0.30060606060606054,0.232211247732312,0.22932690822599075,0.33996434937611397,0.36683551053052516,0.36175223739990575,0.40846824408468235,0.37597022860180745,0.35891381345926798,0.32162019194438141,0.31806060606060599,0.29748815589523547,0.24800558133891465,0.30060606060606054,0.33777777777777773,0.33537884059804718,0.36846839900275008,0.28365285508142646,0.40080808080808072,0.30954496101075896,0.29752066115702475,0.38483062451628258,0.35676047345415252,0.30060606060606054,0.30037751249872452,0.3212763031219914,0.32176308539944898,0.30060606060606054,0.36774061153293652,0.31308960788729567,0.32510071816430192,0.36009214956583374,0.27410886985355065,72]
["Male 45-49",0.32999999999999996,0.38369502999202304,0.32999999999999996,0.42195446529192771,0.346451900249649,0.34914844311085486,0.24749999999999997,0.36463174036964829,0.31679999999999997,0.34619530405882332,0.27389999999999998,0.30999999999999994,0.30999999999999994,0.34924419377808075,0.30999999999999994,0.23946784922394676,0.23649337410805296,0.35058823529411759,0.37829912023460405,0.37305699481865279,0.42123287671232873,0.38771929824561396,0.37012987012987009,0.33167082294264333,0.32799999999999996,0.30678466076696159,0.25575575575575571,0.30999999999999994,0.34833333333333327,0.34585942936673619,0.37998303647158604,0.29251700680272102,0.41333333333333322,0.3192182410423452,0.30681818181818177,0.39685658153241643,0.36790923824959476,0.30999999999999994,0.30976430976430969,0.33131618759455361,0.33181818181818179,0.30999999999999994,0.37923250564334082,0.32287365813377367,0.33526011560693636,0.37134502923976603,0.28267477203647412,73]
["Male 50-54",0.39,0.45345776271784549,0.39,0.49867345898136917,0.40944315484049437,0.41262997822191938,0.29249999999999998,{"$f":"I$269*$B74","v":0.43092842043685714},0.37440000000000001,0.4091399047967913,0.32369999999999999,0.36636363636363634,0.36636363636363634,0.41274313810136826,0.36636363636363634,0.28300745817375528,0.27949216940042626,0.41433155080213901,0.44708077845907757,0.44088553933113517,0.49782067247820672,0.45821371610845291,0.43742621015348293,0.39197460893221492,0.38763636363636361,0.36256368999731831,0.30225680225680229,0.36636363636363634,0.41166666666666668,0.40874296197887011,0.44907086128460177,0.34570191713048853,0.48848484848484847,0.37725792123186253,0.36260330578512401,{"$f":"AK$269*$B74","v":0.46901232362921946},0.43480182702224845,0.36636363636363634,0.36608509335782058,0.3915554944299271,0.39214876033057855,0.36636363636363634,0.44818387030576645,0.38157795961264168,0.39621650026274308,0.43886230728335995,0.33407018513401493,74]
["Male 55-59",0.54,0.62786459453240151,0.54,0.69047094320497271,0.5669212913176076,0.57133381599958077,0.40500000000000003,0.59667012060487912,0.51839999999999997,0.566501406641711,0.44819999999999999,0.50727272727272732,0.50727272727272732,0.57149049890958681,0.50727272727272732,0.3918564805482766,0.38698915763135944,0.57368983957219244,0.61903492402026128,0.61045690061234104,0.68929016189290171,0.63444976076555015,0.60566706021251482,0.5427340739061437,0.53672727272727272,0.50201126307320998,0.41850941850941853,0.50727272727272732,0.57000000000000006,0.56595179350920477,0.62179042331714096,0.4786641929499072,0.67636363636363628,0.52235712170565585,0.50206611570247939,0.64940167887122702,0.60203329895388247,0.50727272727272732,0.5068870523415977,0.54215376151836059,0.54297520661157028,0.50727272727272732,0.6205622819618305,0.52833871330981153,0.54860746190225962,0.60765550239234456,0.46255871787786684,75]
["Male 60-64",0.56000000000000005,0.65111883877434229,0.56000000000000005,{"$f":"E$269*$B76","v":0.7160439411014532},0.58791837618122267,0.59249432770326893,0.42000000000000004,0.61876901396061534,0.53760000000000008,0.58748294022103364,0.46480000000000005,0.52606060606060612,0.52606060606060612,0.59265681368401602,0.52606060606060612,0.40636968353154607,0.40132208939548392,0.59493761140819967,0.64196214342841917,0.63306641544983522,0.71481942714819435,0.65794790005316317,0.62809917355371914,0.56283533590266754,0.55660606060606066,0.52060427281666222,0.43400976734310071,0.52606060606060612,0.59111111111111114,0.58691297104658269,0.64481969825481278,0.49639249639249639,0.70141414141414138,0.54170368176882833,0.52066115702479343,0.67345359290349471,0.62433082854476707,0.52606060606060612,0.52566064687276803,0.56223353046348512,0.56308539944903591,0.52606060606060612,0.6435460701826391,0.54790681380276751,0.56892625678752851,0.63016126174020914,0.47969052224371378,76]
["Male 65-69",0.97,1,0.97,1,1,1,0.72750000000000004,1,0.93119999999999992,1,0.80509999999999993,0.91121212121212114,0.91121212121212114,1,0.91121212121212114,0.70389034468857081,0.69514719056003449,1,1,1.0965614696184645,1,1,1,0.9749112068314062,0.96412121212121205,0.90176097255743271,0.75176691843358512,0.91121212121212114,1,1,1,0.859822716965574,1,0.93830816306386322,0.90185950413223137,1,1,0.91121212121212114,0.91051933476175884,0.97386879383853653,0.97534435261707997,0.91121212121212114,1,0.94905287390836512,0.9854615519355403,1,0.83089251174357559,77]
["Male 70-74",null,null,null,null,null,null,null,null,null,null,null,null,null,null,null,null,null,null,null,null,null,null,null,null,null,null,null,null,null,null,null,null,null,null,null,null,null,null,null,null,null,null,null,null,null,null,null,78]
["Male 75-79",null,null,null,null,null,null,null,null,null,null,null,null,null,null,null,null,null,null,null,null,null,null,null,null,null,null,null,null,null,null,null,null,null,null,null,null,null,null,null,null,null,null,null,null,null,null,null,79]
["Male 80-84",null,null,null,null,null,null,null,null,null,null,null,null,null,null,null,null,null,null,null,null,null,null,null,null,null,null,null,null,null,null,null,null,null,null,null,null,null,null,null,null,null,null,null,null,null,null,null,80]
["Male 85+",null,null,null,null,null,null,null,null,null,null,null,null,null,null,null,null,null,null,null,null,null,null,null,null,null,null,null,null,null,null,null,null,null,null,null,null,null,null,null,null,null,null,null,null,null,null,null,81]
[null,null,null,null,null,null,null,null,null,null,null,null,null,null,null,null,null,null,null,null,null,null,null,null,null,null,null,null,null,null,null,null,null,null,null,null,null,null,null,null,null,null,null,null,null,null,null,null,82]
["Female <1",null,null,null,null,null,null,null,null,null,null,null,null,null,null,null,null,null,null,null,null,null,null,null,null,null,null,null,null,null,null,null,null,null,null,null,null,null,null,null,null,null,null,null,null,null,null,null,83]
["Female 1-4",null,null,null,null,null,null,null,null,null,null,null,null,null,null,null,null,null,null,null,null,null,null,null,null,null,null,null,null,null,null,null,null,null,null,null,null,null,null,null,null,null,null,null,null,null,null,null,84]
["Female 5-9",null,null,null,null,null,null,null,null,null,null,null,null,null,null,null,null,null,null,null,null,null,null,null,null,null,null,null,null,null,null,null,null,null,null,null,null,null,null,null,null,null,null,null,null,null,null,null,85]
["Female 10-14",null,null,null,null,null,null,null,null,null,null,null,null,null,null,null,null,null,null,null,null,null,null,null,null,null,null,null,null,null,null,null,null,null,null,null,null,null,null,null,null,null,null,null,null,null,null,null,86]
["Female 15-19",0.22,{"$f":"C$270*$B87","v":0.2568901929306267},{"$f":"D$270*$B87","v":0.23426869599667113},0.2401616191856365,0.2288,0.22046387600039519,0.19868651566803178,0.22691583315615896,0.2288,0.21228051870914061,0.19998632338545583,0.20952380952380953,0.20952380952380953,0.22730168171706439,0.20952380952380953,0.19219310205524415,0.19642857142857145,0.22448979591836735,0.23361034164358266,0.24328593996840442,0.23952682338758288,0.22377142857142862,0.24239028944911301,0.21305510968432317,0.21129514607775479,0.2064343163538874,0.19636855658853825,0.20952380952380953,0.21116071428571428,0.22929405225125071,0.22824877614597242,0.22489340935942878,0.23795476892822026,0.19585921325051761,0.21899381221415118,0.2741179373303726,0.22647058823529415,0.20952380952380953,0.2320675105485232,0.22292867077289885,0.2336494763880656,0.20952380952380953,0.24812030075187971,0.19642857142857145,0.22155911973144352,0.2410331741951279,0.20452113429641522,87]
["Female 20-24",0.33,{"$f":"C$270*$B88","v":0.38533528939594008},0.35140304399500671,0.36024242877845475,0.34320000000000001,0.33069581400059278,0.29802977350204768,0.34037374973423845,0.34320000000000001,0.31842077806371094,0.29997948507818373,0.31428571428571433,0.31428571428571433,0.34095252257559661,0.31428571428571433,0.28828965308286625,0.29464285714285715,0.33673469387755106,0.350415512465374,0.36492890995260668,0.35929023508137437,0.33565714285714293,0.36358543417366951,0.31958266452648476,0.31694271911663219,0.30965147453083108,0.29455283488280737,0.31428571428571433,0.31674107142857144,0.3439410783768761,0.34237316421895864,0.33734011403914321,0.35693215339233042,0.29378881987577643,0.32849071832122678,0.41117690599555889,0.33970588235294125,0.31428571428571433,0.34810126582278483,0.3343930061593483,0.35047421458209843,0.31428571428571433,0.37218045112781956,0.29464285714285715,0.33233867959716529,0.3615497612926919,0.30678170144462286,88]
["Female 25-29",0.43000000000000005,0.50210355890986136,0.45788881490258448,0.46940680113556227,0.44720000000000004,0.43090666672804517,0.38834182607842577,0.44351731025976532,0.44720000000000004,0.41491192293150214,0.39088235934430005,0.40952380952380957,0.40952380952380957,0.4442714688106259,0.40952380952380957,0.37565015401706819,0.38392857142857151,0.43877551020408168,0.45660203139427524,0.47551342812006325,0.46816606389391208,0.43737142857142869,0.47376283846872091,0.41642589620117715,0.4129859673337935,0.40348525469168905,0.38381126969577933,0.40952380952380957,0.41272321428571435,0.44816564758199007,0.44612260792167335,0.43956439102070177,0.46509341199606696,0.3828157349896481,0.42803336023675009,0.53577596841845554,0.4426470588235295,0.40952380952380957,0.45358649789029543,0.43572422014702966,0.45667852203121917,0.40952380952380957,0.48496240601503765,0.38392857142857151,0.43304737038418512,0.47111029501775004,0.39974585339753888,89]
["Female 30-34",0.38,0.44371942415290067,0.40464592944879557,0.41482461495700851,0.3952,0.38080124036431895,0.34318579979023672,0.39194552999700183,0.3952,0.36666635049760654,0.34543092221124189,0.36190476190476195,0.36190476190476195,0.39261199569311123,0.36190476190476195,0.33196990354996719,0.3392857142857143,0.38775510204081631,0.40350877192982459,0.42022116903633494,0.41372814948764319,0.38651428571428581,0.41867413632119516,0.36800428036383093,0.36496434322521282,0.35656836461126007,0.33918205228929332,0.36190476190476195,0.36473214285714289,0.39605336297943305,0.39424788607031597,0.38845225252992244,0.41101278269419866,0.33830227743271224,0.37826203927898844,0.47347643720700716,0.39117647058823535,0.36190476190476195,0.40084388185654007,0.38505861315318896,0.40357636830665877,0.36190476190476195,0.4285714285714286,0.3392857142857143,0.3826930249906752,0.41633002815522091,0.35326377742108084,90]
["Female 35-39",0.39,0.45539625110429283,0.41529450653955335,0.42574105219271924,0.40560000000000002,0.39082232563706421,0.35221700504787451,0.40225988604955454,0.40560000000000002,0.37631546498438567,0.3545212096378535,0.37142857142857144,0.37142857142857144,0.40294389031661415,0.37142857142857144,0.3407059536433874,0.34821428571428575,0.39795918367346939,0.41412742382271472,0.43127962085308058,0.42461573236889694,0.39668571428571436,0.42969187675070031,0.37768860353130018,0.37456866804692895,0.36595174262734587,0.34810789577059054,0.37142857142857144,0.37433035714285717,0.40647581989994447,0.40462283044058744,0.39867468022807828,0.42182890855457233,0.34720496894409941,0.38821630347054076,0.48593634344929687,0.40147058823529419,0.37142857142857144,0.41139240506329117,0.39519173455195711,0.41419679905157086,0.37142857142857144,0.43984962406015043,0.34821428571428575,0.39276389406937717,0.42728608152772674,0.36256019261637246,91]
["Female 40-44",0.37,0.43204259720150856,0.39399735235803779,0.40390817772129772,0.38480000000000003,0.37078015509157375,0.33415459453259888,0.38163117394444918,0.38480000000000003,0.35701723601082741,0.33634063478463028,0.35238095238095241,0.35238095238095241,0.38228010106960825,0.35238095238095241,0.32323385345654698,0.33035714285714285,0.3775510204081633,0.39289012003693446,0.40916271721958924,0.40284056660638939,0.3763428571428572,0.40765639589169006,0.35831995719636173,0.35536001840349668,0.34718498659517422,0.33025620880799617,0.35238095238095241,0.35513392857142856,0.38563090605892164,0.38387294170004449,0.37822982483176659,0.40019665683382499,0.32939958592132507,0.36830777508743606,0.46101653096471751,0.38088235294117651,0.35238095238095241,0.39029535864978904,0.3749254917544208,0.39295593756174668,0.35238095238095241,0.41729323308270677,0.33035714285714285,0.37262215591197317,0.40537397478271514,0.34396736222578922,92]
["Female 45-49",0.43999999999999995,0.5137803858612533,0.46853739199334216,0.48032323837127294,0.45759999999999995,0.44092775200079032,0.3973730313360635,0.45383166631231786,0.45759999999999995,0.42456103741828116,0.3999726467709116,0.419047619047619,0.419047619047619,0.45460336343412872,0.419047619047619,0.38438620411048829,0.39285714285714285,0.44897959183673464,0.46722068328716526,0.48657187993680878,0.47905364677516571,0.44754285714285719,0.48478057889822596,0.42611021936864629,0.42259029215550953,0.41286863270777474,0.39273711317707644,0.419047619047619,0.42232142857142851,0.45858810450250137,0.45649755229194472,0.44978681871885751,0.47590953785644047,0.39171842650103517,0.4379876244283023,0.54823587466074508,0.45294117647058824,0.419047619047619,0.46413502109704635,0.44585734154579765,0.46729895277613115,0.419047619047619,0.49624060150375937,0.39285714285714285,0.44311823946288698,0.48206634839025575,0.40904226859283038,93]
["Female 50-54",0.37,0.43204259720150856,0.39399735235803779,0.40390817772129772,0.38480000000000003,0.37078015509157375,0.33415459453259888,0.38163117394444918,0.38480000000000003,0.35701723601082741,0.33634063478463028,0.35238095238095241,0.35238095238095241,0.38228010106960825,0.35238095238095241,0.32323385345654698,0.33035714285714285,0.3775510204081633,0.39289012003693446,0.40916271721958924,0.40284056660638939,0.3763428571428572,0.40765639589169006,0.35831995719636173,0.35536001840349668,0.34718498659517422,0.33025620880799617,0.35238095238095241,0.35513392857142856,0.38563090605892164,0.38387294170004449,0.37822982483176659,0.40019665683382499,0.32939958592132507,0.36830777508743606,{"$f":"AK$270*$B94","v":0.46101653096471751},0.38088235294117651,0.35238095238095241,0.39029535864978904,0.3749254917544208,0.39295593756174668,0.35238095238095241,0.41729323308270677,0.33035714285714285,0.37262215591197317,0.40537397478271514,0.34396736222578922,94]
["Female 55-59",0.5,0.58384134756960615,0.53242885453788891,0.54582186178553749,0.52,0.5010542636372618,0.45156026288189038,0.515717802627634,0.52,0.48245572433895595,0.45451437133058142,0.47619047619047622,0.47619047619047622,0.51659473117514632,0.47619047619047622,0.43680250467100945,0.44642857142857145,0.51020408163265307,0.53093259464450604,0.55292259083728279,0.54437914406268839,0.50857142857142867,0.55088702147525681,0.48421615837346177,0.48021624108580635,0.46916890080428952,0.44629217406485966,0.47619047619047622,0.4799107142857143,0.5211228460255698,0.51874721851357364,0.51112138490779269,0.54080629301868244,0.4451345755693582,0.49771320957761633,0.62299531211448311,0.51470588235294124,0.47619047619047622,0.52742616033755274,0.50665606993840651,0.53102153724560364,0.47619047619047622,0.56390977443609025,0.44642857142857145,0.50354345393509892,0.5478026686252907,0.46482075976458004,95]
["Female 60-64",0.75,0.87576202135440928,0.79864328180683342,0.81873279267830623,0.78,0.75158139545589275,0.67734039432283555,0.77357670394145095,0.78,0.7236835865084339,0.68177155699587211,0.7142857142857143,0.7142857142857143,0.77489209676271953,0.7142857142857143,0.65520375700651412,0.66964285714285721,0.76530612244897966,0.79639889196675906,0.82938388625592419,0.81656871609403259,0.76285714285714301,0.82633053221288522,0.7263242375601926,0.7203243616287095,0.70375335120643423,0.66943826109728954,0.7142857142857143,0.7198660714285714,0.78168426903835475,0.7781208277703604,0.76668207736168903,0.8112094395280236,0.66770186335403725,0.74656981436642456,0.93449296817172467,0.77205882352941191,0.7142857142857143,0.79113924050632911,0.7599841049076097,0.79653230586840551,0.7142857142857143,0.84586466165413543,0.66964285714285721,0.75531518090264838,0.82170400293793611,0.69723113964687,96]
["Female 65-69",0.97,1,1,1,1.0087999999999999,0.97204527145628783,0.8760269099908673,1.0004925370976099,1.0087999999999999,0.93596410521757456,0.88175788038132796,0.92380952380952386,0.92380952380952386,1.0021937784797839,0.92380952380952386,0.84739685906175832,0.8660714285714286,0.98979591836734693,1,1,1,0.98662857142857163,1,0.93937934724451577,0.93161950770646429,0.91018766756032166,0.86580681768582768,0.92380952380952386,0.93102678571428577,1.0109783212896053,1.0063696039163328,0.99157548672111784,1.0491642084562438,0.86356107660455494,0.96556362658057571,1,0.998529411764706,0.92380952380952386,1,0.98291277568050861,1,0.92380952380952386,1,0.8660714285714286,0.97687430063409186,1,0.90175227394328528,97]
["Female 70-74",null,null,null,null,null,null,null,null,null,null,null,null,null,null,null,null,null,null,null,null,null,null,null,null,null,null,null,null,null,null,null,null,null,null,null,null,null,null,null,null,null,null,null,null,null,null,null,98]
["Female 75-79",null,null,null,null,null,null,null,null,null,null,null,null,null,null,null,null,null,null,null,null,null,null,null,null,null,null,null,null,null,null,null,null,null,null,null,null,null,null,null,null,null,null,null,null,null,null,null,99]
["Female 80-84",null,null,null,null,null,null,null,null,null,null,null,null,null,null,null,null,null,null,null,null,null,null,null,null,null,null,null,null,null,null,null,null,null,null,null,null,null,null,null,null,null,null,null,null,null,null,null,100]
["Female 85+",null,null,null,null,null,null,null,null,null,null,null,null,null,null,null,null,null,null,null,null,null,null,null,null,null,null,null,null,null,null,null,null,null,null,null,null,null,null,null,null,null,null,null,null,null,null,null,101]
[null,null,null,null,null,null,null,null,null,null,null,null,null,null,null,null,null,null,null,null,null,null,null,null,null,null,null,null,null,null,null,null,null,null,null,null,null,null,null,null,null,null,null,null,null,null,null,null,102]
["age/sex breakdown: Q2",null,null,null,null,null,null,null,null,null,null,null,null,null,null,null,null,null,null,null,null,null,null,null,null,null,null,null,null,null,null,null,null,null,null,null,null,null,null,null,null,null,null,null,null,null,null,null,103]
["Male <1",null,null,null,null,null,null,null,null,null,null,null,null,null,null,null,null,null,null,null,null,null,null,null,null,null,null,null,null,null,null,null,null,null,null,null,null,null,null,null,null,null,null,null,null,null,null,null,104]
["Male 1-4",null,null,null,null,null,null,null,null,null,null,null,null,null,null,null,null,null,null,null,null,null,null,null,null,null,null,null,null,null,null,null,null,null,null,null,null,null,null,null,null,null,null,null,null,null,null,null,105]
["Male 5-9",null,null,null,null,null,null,null,null,null,null,null,null,null,null,null,null,null,null,null,null,null,null,null,null,null,null,null,null,null,null,null,null,null,null,null,null,null,null,null,null,null,null,null,null,null,null,null,106]
["Male 10-14",null,null,null,null,null,null,null,null,null,null,null,null,null,null,null,null,null,null,null,null,null,null,null,null,null,null,null,null,null,null,null,null,null,null,null,null,null,null,null,null,null,null,null,null,null,null,null,107]
["Male 15-19",0.11,{"$f":"C$269*$B108","v":0.12789834333067437},{"$f":"D$269*$B108","v":0.11},0.1406514884306426,0.11548396674988302,0.11638281437028496,8.2500000000000004E-2,0.12154391345654944,0.1056,0.11539843468627446,9.1299999999999992E-2,0.10333333333333333,0.10333333333333333,0.11641473125936028,0.10333333333333333,7.9822616407982258E-2,7.883112470268433E-2,0.11686274509803921,0.12609970674486803,0.12435233160621761,0.1404109589041096,0.12923976608187132,0.12337662337662339,0.11055694098088112,0.10933333333333332,0.10226155358898721,8.5251918585251926E-2,0.10333333333333333,0.11611111111111111,0.11528647645557874,0.12666101215719536,9.7505668934240355E-2,0.13777777777777775,0.1064060803474484,0.10227272727272728,0.13228552717747216,0.12263641274986495,0.10333333333333333,0.10325476992143658,0.11043872919818457,0.11060606060606061,0.10333333333333333,0.12641083521444696,0.1076245527112579,0.11175337186897881,0.12378167641325537,9.4224924012158054E-2,108]
["Male 20-24",0.2,{"$f":"C$269*$B109","v":0.23254244241940794},{"$f":"D$269*$B109","v":0.2},0.25572997896480471,0.20997084863615095,0.21160511703688176,0.15000000000000002,0.22098893355736263,0.192,0.20981533579322631,0.16600000000000001,0.18787878787878787,0.18787878787878787,0.2116631477442914,0.18787878787878787,0.14513202983269502,0.14332931764124424,0.21247771836007129,0.22927219408157826,0.22609514837494113,0.25529265255292655,0.23498139287612971,0.22432113341204252,0.20101261996523842,0.19878787878787879,0.18593009743452221,0.15500348833682168,0.18787878787878787,0.21111111111111114,0.20961177537377954,0.23029274937671884,0.17728303442589155,0.25050505050505051,0.19346560063172438,0.18595041322314051,0.24051914032267666,0.22297529590884535,0.18787878787878787,0.18773594531170287,0.20079768945124465,0.20110192837465568,0.18787878787878787,0.22983788220808538,0.19568100492955984,0.20318794885268876,0.22505759347864612,0.1713180436584692,109]
["Male 25-29",0.16000000000000003,0.18603395393552638,0.16000000000000003,0.20458398317184379,0.16797667890892079,0.16928409362950542,0.12000000000000002,0.17679114684589012,0.15360000000000001,0.16785226863458105,0.13280000000000003,0.15030303030303033,0.15030303030303033,0.16933051819543316,0.15030303030303033,0.11610562386615604,0.11466345411299542,0.16998217468805704,0.18341775526526263,0.18087611869995293,0.20423412204234126,0.18798511430090378,0.17945690672963405,0.16081009597219076,0.15903030303030305,0.14874407794761779,0.12400279066945737,0.15030303030303033,0.16888888888888892,0.16768942029902364,0.1842341995013751,0.14182642754071326,0.20040404040404042,0.15477248050537953,0.14876033057851243,0.19241531225814135,0.17838023672707631,0.15030303030303033,0.15018875624936232,0.16063815156099576,0.16088154269972454,0.15030303030303033,0.18387030576646832,0.15654480394364789,0.16255035908215101,0.18004607478291693,0.13705443492677538,110]
["Male 30-34",0.15000000000000002,0.17440683181455599,0.15000000000000002,0.19179748422360354,0.15747813647711323,0.15870383777766134,0.11250000000000002,0.16574170016802198,0.14400000000000002,0.15736150184491973,0.12450000000000001,0.14090909090909093,0.14090909090909093,0.15874736080821858,0.14090909090909093,0.10884902237452128,0.10749698823093319,0.15935828877005348,0.17195414556118371,0.16957136128120587,0.19146948941469491,0.1762360446570973,0.16824085005903192,0.15075946497392884,0.14909090909090911,0.13944757307589167,0.11625261625261626,0.14090909090909093,0.15833333333333335,0.15720883153033466,0.17271956203253916,0.13296227581941869,0.1878787878787879,0.14509920047379329,0.13946280991735541,0.18038935524200753,0.16723147193163404,0.14090909090909093,0.14080195898377718,0.15059826708843352,0.15082644628099176,0.14090909090909093,0.17237841165606405,0.1467607536971699,0.15239096163951657,0.16879319510898461,0.12848853274385191,111]
["Male 35-39",0.17000000000000004,0.1976610760564968,0.17000000000000004,0.21737048212008403,0.17847522134072835,0.17986434948134952,0.12750000000000003,0.18784059352375826,0.16320000000000004,0.17834303542424237,0.14110000000000003,0.15969696969696973,0.15969696969696973,0.17991367558264773,0.15969696969696973,0.12336222535779079,0.12182991999505763,0.18060606060606063,0.19488136496934155,0.19218087611869999,0.21699875466998761,0.19973418394471029,0.19067296340023618,0.17086072697045268,0.16896969696969699,0.15804058281934391,0.13175296508629844,0.15969696969696973,0.17944444444444449,0.17817000906771263,0.19574883697021106,0.15069057926200785,0.21292929292929294,0.16444576053696575,0.15805785123966945,0.20444126927427519,0.18952900152251859,0.15969696969696973,0.15957555351494745,0.17067803603355799,0.17093663911845736,0.15969696969696973,0.19536219987687262,0.16632885419012589,0.17270975652478546,0.19129895445684925,0.14562033710969885,112]
["Male 40-44",0.18999999999999995,0.22091532029843747,0.18999999999999995,0.24294348001656438,0.19947230620434334,0.2010248611850376,0.14249999999999996,0.20993948687949443,0.18239999999999995,0.19932456900356491,0.15769999999999995,0.17848484848484841,0.17848484848484841,0.20107999035707677,0.17848484848484841,0.13787542834106023,0.136162851759182,0.20185383244206764,0.21780858437749925,0.21479039095619401,0.24252801992528014,0.22323232323232314,0.21310507674144033,0.19096198896697644,0.18884848484848479,0.17663359256279604,0.14725331391998053,0.17848484848484841,0.20055555555555551,0.19913118660509049,0.21877811190788285,0.16841888270459693,0.23797979797979787,0.18379232060013811,0.17665289256198341,0.22849318330654275,0.21182653111340302,0.17848484848484841,0.17834914804611765,0.19075780497868236,0.19104683195592281,0.17848484848484841,0.21834598809768105,0.18589695468308179,0.19302855141005423,0.21380471380471375,0.16275214147554568,113]
["Male 45-49",0.22999999999999998,0.26742380878231908,0.22999999999999998,0.29408947580952538,0.24146647593157355,0.24334588459241399,0.17249999999999999,0.25413727359096699,0.22079999999999997,0.24128763616221022,0.19089999999999999,0.21606060606060604,0.21606060606060604,0.2434126199059351,0.21606060606060604,0.16690183430759925,0.16482871528743087,0.24434937611408195,0.26366302319381496,0.26000942063118226,0.29358655043586546,0.27022860180754915,0.25796930342384888,0.23116451296002416,0.22860606060606059,0.21381961204970051,0.17825401158734491,0.21606060606060604,0.24277777777777776,0.24105354167984644,0.26483666178322662,0.20387548958977528,0.28808080808080805,0.22248544072648302,0.21384297520661155,0.27659701137107812,0.25642159029517214,0.21606060606060604,0.21589633710845826,0.23091734286893134,0.23126721763085398,0.21606060606060604,0.26431356453929816,0.22503315566899379,0.23366614118059204,0.258816232500443,0.19701575020723955,114]
["Male 50-54",0.26,0.30230517514523031,0.26,0.33244897265424611,0.27296210322699621,0.27508665214794625,0.19500000000000001,{"$f":"I$269*$B115","v":0.28728561362457139},0.24959999999999999,0.27275993653119418,0.21579999999999999,0.24424242424242423,0.24424242424242423,0.27516209206757886,0.24424242424242423,0.18867163878250354,0.18632811293361751,0.27622103386809266,0.29805385230605175,0.29392369288742348,0.33188044831880448,0.30547581073896862,0.29161747343565531,0.26131640595480993,0.25842424242424245,0.24170912666487887,0.20150453483786818,0.24424242424242423,0.27444444444444444,0.27249530798591337,0.29938057418973452,0.23046794475365903,0.32565656565656564,0.25150528082124168,0.24173553719008264,{"$f":"AK$269*$B115","v":0.31267488241947966},0.28986788468149899,0.24424242424242423,0.24405672890521371,0.26103699628661808,0.26143250688705238,0.24424242424242423,0.298789246870511,0.25438530640842777,0.26414433350849537,0.29257487152223993,0.22271345675600995,115]
["Male 55-59",0.33999999999999997,0.39532215211299343,0.33999999999999997,0.43474096424016795,0.35695044268145659,0.35972869896269893,0.255,0.37568118704751641,0.32639999999999997,0.35668607084848464,0.28219999999999995,0.31939393939393934,0.31939393939393934,0.35982735116529535,0.31939393939393934,0.24672445071558152,0.24365983999011517,0.36121212121212115,0.38976272993868299,0.38436175223739988,0.43399750933997505,0.39946836788942042,0.38134592680047225,0.34172145394090525,0.33793939393939387,0.31608116563868771,0.26350593017259683,0.31939393939393934,0.35888888888888887,0.35634001813542515,0.39149767394042201,0.30138115852401559,0.42585858585858577,0.32889152107393144,0.31611570247933884,0.40888253854855028,0.37905800304503706,0.31939393939393934,0.31915110702989485,0.34135607206711588,0.3418732782369146,0.31939393939393934,0.39072439975374507,0.33265770838025166,0.3454195130495708,0.38259790891369838,0.29124067421939759,116]
["Male 60-64",0.61,0.70925444937919424,0.61,0.7799764358426543,0.64041108834026039,0.64539560696248932,0.45750000000000002,0.67401624734995602,0.58560000000000001,0.63993677416934014,0.50629999999999997,0.573030303030303,0.573030303030303,0.64557260062008881,0.573030303030303,0.44265269098971982,0.43715441880579492,0.64805704099821737,0.69928019194881363,0.6895902025435704,0.77864259028642591,0.71669324827219549,0.68417945690672965,0.6130884908939771,0.60630303030303023,0.56708679717529276,0.47276063942730606,0.573030303030303,0.64388888888888884,0.63931591489002759,0.70239288559899249,0.54071325499896916,0.76404040404040396,0.59007008192675936,0.56714876033057848,0.73358337798416373,0.6800746525219783,0.573030303030303,0.5725946332006937,0.61243295282629617,0.61336088154269974,0.573030303030303,0.70100554073466037,0.59682706503515748,0.61972324400070067,0.68642566010987061,0.52252003315833107,117]
["Male 65-69",0.94,1,0.94,1,0.9868629885899094,0.99454405007334412,0.70499999999999996,1,0.90239999999999987,0.98613207822816351,0.78019999999999989,0.88303030303030294,0.88303030303030294,0.9948167943981695,0.88303030303030294,0.68212054021366653,0.67364779291384791,0.9986452762923349,1,1,1.1998754669987546,1,1,0.94475931383662048,0.93430303030303019,0.87387145794225429,0.72851639518306177,0.88303030303030294,0.99222222222222223,0.98517534425676379,1,0.83323026180169024,1,0.90928832296910456,0.87396694214876025,1,1,0.88303030303030294,0.88235894296500339,0.94374914042084979,0.94517906336088153,0.88303030303030294,1,0.91970072316893114,0.95498335960763703,1,0.80519480519480513,118]
["Male 70-74",null,null,null,null,null,null,null,null,null,null,null,null,null,null,null,null,null,null,null,null,null,null,null,null,null,null,null,null,null,null,null,null,null,null,null,null,null,null,null,null,null,null,null,null,null,null,null,119]
["Male 75-79",null,null,null,null,null,null,null,null,null,null,null,null,null,null,null,null,null,null,null,null,null,null,null,null,null,null,null,null,null,null,null,null,null,null,null,null,null,null,null,null,null,null,null,null,null,null,null,120]
["Male 80-84",null,null,null,null,null,null,null,null,null,null,null,null,null,null,null,null,null,null,null,null,null,null,null,null,null,null,null,null,null,null,null,null,null,null,null,null,null,null,null,null,null,null,null,null,null,null,null,121]
["Male 85+",null,null,null,null,null,null,null,null,null,null,null,null,null,null,null,null,null,null,null,null,null,null,null,null,null,null,null,null,null,null,null,null,null,null,null,null,null,null,null,null,null,null,null,null,null,null,null,122]
[null,null,null,null,null,null,null,null,null,null,null,null,null,null,null,null,null,null,null,null,null,null,null,null,null,null,null,null,null,null,null,null,null,null,null,null,null,null,null,null,null,null,null,null,null,null,null,null,123]
["Female <1",null,null,null,null,null,null,null,null,null,null,null,null,null,null,null,null,null,null,null,null,null,null,null,null,null,null,null,null,null,null,null,null,null,null,null,null,null,null,null,null,null,null,null,null,null,null,null,124]
["Female 1-4",null,null,null,null,null,null,null,null,null,null,null,null,null,null,null,null,null,null,null,null,null,null,null,null,null,null,null,null,null,null,null,null,null,null,null,null,null,null,null,null,null,null,null,null,null,null,null,125]
["Female 5-9",null,null,null,null,null,null,null,null,null,null,null,null,null,null,null,null,null,null,null,null,null,null,null,null,null,null,null,null,null,null,null,null,null,null,null,null,null,null,null,null,null,null,null,null,null,null,null,126]
["Female 10-14",null,null,null,null,null,null,null,null,null,null,null,null,null,null,null,null,null,null,null,null,null,null,null,null,null,null,null,null,null,null,null,null,null,null,null,null,null,null,null,null,null,null,null,null,null,null,null,127]
["Female 15-19",0.11,{"$f":"C$270*$B128","v":0.12844509646531335},{"$f":"D$270*$B128","v":0.11713434799833557},0.12008080959281825,0.1144,0.11023193800019759,9.9343257834015888E-2,0.11345791657807948,0.1144,0.1061402593545703,9.9993161692727914E-2,0.10476190476190476,0.10476190476190476,0.11365084085853219,0.10476190476190476,9.6096551027622074E-2,9.8214285714285726E-2,0.11224489795918367,0.11680517082179133,0.12164296998420221,0.11976341169379144,0.11188571428571431,0.1211951447245565,0.10652755484216159,0.1056475730388774,0.1032171581769437,9.8184278294269123E-2,0.10476190476190476,0.10558035714285714,0.11464702612562536,0.11412438807298621,0.11244670467971439,0.11897738446411013,9.7929606625258805E-2,0.10949690610707559,0.1370589686651863,0.11323529411764707,0.10476190476190476,0.1160337552742616,0.11146433538644943,0.1168247381940328,0.10476190476190476,0.12406015037593986,9.8214285714285726E-2,0.11077955986572176,0.12051658709756395,0.10226056714820761,128]
["Female 20-24",0.2,{"$f":"C$270*$B129","v":0.23353653902784247},0.21297154181515557,0.21832874471421501,0.20800000000000002,0.20042170545490473,0.18062410515275618,0.20628712105105362,0.20800000000000002,0.1929822897355824,0.18180574853223258,0.19047619047619049,0.19047619047619049,0.20663789247005854,0.19047619047619049,0.17472100186840378,0.1785714285714286,0.20408163265306123,0.21237303785780243,0.22116903633491314,0.21775165762507537,0.20342857142857149,0.22035480859010273,0.19368646334938472,0.19208649643432255,0.18766756032171583,0.17851686962594387,0.19047619047619049,0.19196428571428573,0.20844913841022794,0.20749888740542946,0.20444855396311709,0.21632251720747298,0.17805383022774329,0.19908528383104654,0.24919812484579326,0.20588235294117652,0.19047619047619049,0.2109704641350211,0.2026624279753626,0.21240861489824148,0.19047619047619049,0.22556390977443611,0.1785714285714286,0.20141738157403957,0.21912106745011628,0.18592830390583204,129]
["Female 25-29",0.26,0.30359750073619524,0.27686300435970224,0.28382736812847953,0.27040000000000003,0.26054821709137616,0.23481133669858301,0.26817325736636971,0.27040000000000003,0.25087697665625708,0.23634747309190235,0.24761904761904766,0.24761904761904766,0.26862926021107608,0.24761904761904766,0.22713730242892491,0.23214285714285715,0.26530612244897961,0.27608494921514315,0.28751974723538704,0.28307715491259799,0.26445714285714295,0.28646125116713356,0.25179240235420014,0.24971244536461931,0.24396782841823056,0.23207193051372704,0.24761904761904766,0.24955357142857146,0.27098387993329631,0.2697485536270583,0.26578312015205219,0.28121927236971489,0.23146997929606627,0.25881086898036049,0.32395756229953121,0.26764705882352946,0.24761904761904766,0.27426160337552741,0.26346115636797141,0.27613119936771391,0.24761904761904766,0.29323308270676696,0.23214285714285715,0.26184259604625143,0.28485738768515118,0.24170679507758164,130]
["Female 30-34",0.28000000000000003,0.3269511546389795,0.2981601585412178,0.30566024259990104,0.29120000000000001,0.28059038763686661,0.25287374721385864,0.28880196947147507,0.29120000000000001,0.27017520562981534,0.25452804794512562,0.26666666666666672,0.26666666666666672,0.28929304945808199,0.26666666666666672,0.2446094026157653,0.25000000000000006,0.28571428571428575,0.29732225300092341,0.30963665086887837,0.30485232067510554,0.28480000000000011,0.30849673202614386,0.2711610486891386,0.26892109500805156,0.26273458445040215,0.24992361747632144,0.26666666666666672,0.26875000000000004,0.29182879377431914,0.29049844236760125,0.28622797554836393,0.30285152409046218,0.24927536231884062,0.27871939736346518,0.34887737478411057,0.28823529411764715,0.26666666666666672,0.29535864978902954,0.28372739916550765,0.29737206085753809,0.26666666666666672,0.31578947368421056,0.25000000000000006,0.28198433420365543,0.30676949443016283,0.26029962546816482,131]
["Female 35-39",0.29000000000000004,0.33862798159037161,0.30880873563197558,0.31657667983561177,0.30160000000000003,0.29061147290961187,0.26190495247149648,0.29911632552402778,0.30160000000000003,0.27982432011659447,0.26361833537173723,0.27619047619047626,0.27619047619047626,0.29962494408158491,0.27619047619047626,0.25334545270918551,0.25892857142857145,0.29591836734693883,0.30794090489381354,0.32069510268562407,0.31573990355635928,0.29497142857142866,0.31951447245564901,0.28084537185660785,0.2785254198297677,0.27211796246648795,0.25884946095761863,0.27619047619047626,0.27834821428571432,0.3022512506948305,0.30087338673787273,0.29645040324651978,0.31366764995083585,0.25817805383022779,0.2886736615550175,0.36133728102640023,0.29852941176470593,0.27619047619047626,0.30590717299578063,0.29386052056427581,0.30799249160245012,0.27619047619047626,0.3270676691729324,0.25892857142857145,0.2920552032823574,0.31772554780266865,0.26959604066345644,132]
["Female 40-44",0.26,0.30359750073619524,0.27686300435970224,0.28382736812847953,0.27040000000000003,0.26054821709137616,0.23481133669858301,0.26817325736636971,0.27040000000000003,0.25087697665625708,0.23634747309190235,0.24761904761904766,0.24761904761904766,0.26862926021107608,0.24761904761904766,0.22713730242892491,0.23214285714285715,0.26530612244897961,0.27608494921514315,0.28751974723538704,0.28307715491259799,0.26445714285714295,0.28646125116713356,0.25179240235420014,0.24971244536461931,0.24396782841823056,0.23207193051372704,0.24761904761904766,0.24955357142857146,0.27098387993329631,0.2697485536270583,0.26578312015205219,0.28121927236971489,0.23146997929606627,0.25881086898036049,0.32395756229953121,0.26764705882352946,0.24761904761904766,0.27426160337552741,0.26346115636797141,0.27613119936771391,0.24761904761904766,0.29323308270676696,0.23214285714285715,0.26184259604625143,0.28485738768515118,0.24170679507758164,133]
["Female 45-49",0.26,0.30359750073619524,0.27686300435970224,0.28382736812847953,0.27040000000000003,0.26054821709137616,0.23481133669858301,0.26817325736636971,0.27040000000000003,0.25087697665625708,0.23634747309190235,0.24761904761904766,0.24761904761904766,0.26862926021107608,0.24761904761904766,0.22713730242892491,0.23214285714285715,0.26530612244897961,0.27608494921514315,0.28751974723538704,0.28307715491259799,0.26445714285714295,0.28646125116713356,0.25179240235420014,0.24971244536461931,0.24396782841823056,0.23207193051372704,0.24761904761904766,0.24955357142857146,0.27098387993329631,0.2697485536270583,0.26578312015205219,0.28121927236971489,0.23146997929606627,0.25881086898036049,0.32395756229953121,0.26764705882352946,0.24761904761904766,0.27426160337552741,0.26346115636797141,0.27613119936771391,0.24761904761904766,0.29323308270676696,0.23214285714285715,0.26184259604625143,0.28485738768515118,0.24170679507758164,134]
["Female 50-54",0.27,0.31527432768758734,0.28751158145046002,0.29474380536419026,0.28080000000000005,0.27056930236412141,0.24384254195622082,0.27848761341892236,0.28080000000000005,0.26052609114303621,0.24543776051851399,0.25714285714285717,0.25714285714285717,0.27896115483457901,0.25714285714285717,0.23587335252234512,0.2410714285714286,0.27551020408163268,0.28670360110803328,0.29857819905213273,0.29396473779385174,0.2746285714285715,0.29747899159663871,0.2614767255216694,0.25931677018633542,0.25335120643431636,0.24099777399502423,0.25714285714285717,0.25915178571428577,0.28140633685380773,0.28012349799732977,0.27600554785020809,0.29203539823008856,0.24037267080745345,0.26876513317191286,{"$f":"AK$270*$B135","v":0.33641746854182092},0.2779411764705883,0.25714285714285717,0.2848101265822785,0.27359427776673956,0.286751630112626,0.25714285714285717,0.30451127819548873,0.2410714285714286,0.27191346512495346,0.295813441057657,0.25100321027287326,135]
["Female 55-59",0.36,0.4203657702501164,0.38334877526728001,0.39299174048558699,0.37440000000000001,0.36075906981882849,0.32512338927496104,0.37131681789189647,0.37440000000000001,0.34736812152404828,0.32725034735801861,0.34285714285714286,0.34285714285714286,0.37194820644610532,0.34285714285714286,0.31449780336312677,0.32142857142857145,0.36734693877551022,0.38227146814404434,0.3981042654028436,0.39195298372513565,0.36617142857142865,0.39663865546218491,0.34863563402889247,0.34575569358178054,0.33780160857908842,0.32133036532669895,0.34285714285714286,0.34553571428571428,0.37520844913841023,0.37349799732977301,0.36800739713361075,0.38938053097345132,0.32049689440993789,0.35835351089588374,0.4485566247224278,0.37058823529411766,0.34285714285714286,0.37974683544303794,0.36479237035565265,0.38233550681683459,0.34285714285714286,0.40601503759398494,0.32142857142857145,0.3625512868332712,0.39441792141020932,0.3346709470304976,136]
["Female 60-64",0.69,0.80570105964605643,0.73475181926228661,0.75323416926404163,0.71760000000000002,0.69145488381942122,0.62315316277700872,0.71169056762613492,0.71760000000000002,0.66578889958775911,0.62722983243620234,0.65714285714285714,0.65714285714285714,0.71290072902170187,0.65714285714285714,0.60278745644599296,0.6160714285714286,0.70408163265306123,0.73268698060941828,0.76303317535545023,0.7512432188065099,0.70182857142857147,0.76022408963585431,0.66821829855537718,0.66269841269841268,0.64745308310991945,0.61588320020950627,0.65714285714285714,0.66227678571428572,0.71914952751528627,0.71587116154873154,0.70534751117275385,0.74631268436578169,0.61428571428571432,0.68684422921711052,0.85973353071798664,0.71029411764705885,0.65714285714285714,0.72784810126582278,0.6991853765150009,0.73280972139893297,0.65714285714285714,0.77819548872180444,0.6160714285714286,0.69488996643043643,0.75596768270290116,0.6414526484751204,137]
["Female 65-69",0.94,1,1.000966246531231,1,0.97760000000000002,0.94198201563805217,0.84893329421795383,0.96954946893995186,0.97760000000000002,0.90701676175723711,0.85448701810149308,0.89523809523809528,0.89523809523809528,0.97119809460927498,0.89523809523809528,0.82118870878149774,0.8392857142857143,0.95918367346938771,0.9981532779316713,1,1.0234327908378542,0.95611428571428581,1,0.91032637774210812,0.90280653324131588,0.88203753351206426,0.83902928724193615,0.89523809523809528,0.90223214285714282,0.97971095052807111,0.97524477080551841,0.96090820362665019,1,0.83685300207039337,0.93570083400591864,1,0.96764705882352942,0.89523809523809528,0.99156118143459915,0.95251341148420421,0.99832049002173473,0.89523809523809528,1,0.8392857142857143,0.94666169339798589,1,0.87386302835741048,138]
["Female 70-74",null,null,null,null,null,null,null,null,null,null,null,null,null,null,null,null,null,null,null,null,null,null,null,null,null,null,null,null,null,null,null,null,null,null,null,null,null,null,null,null,null,null,null,null,null,null,null,139]
["Female 75-79",null,null,null,null,null,null,null,null,null,null,null,null,null,null,null,null,null,null,null,null,null,null,null,null,null,null,null,null,null,null,null,null,null,null,null,null,null,null,null,null,null,null,null,null,null,null,null,140]
["Female 80-84",null,null,null,null,null,null,null,null,null,null,null,null,null,null,null,null,null,null,null,null,null,null,null,null,null,null,null,null,null,null,null,null,null,null,null,null,null,null,null,null,null,null,null,null,null,null,null,141]
["Female 85+",null,null,null,null,null,null,null,null,null,null,null,null,null,null,null,null,null,null,null,null,null,null,null,null,null,null,null,null,null,null,null,null,null,null,null,null,null,null,null,null,null,null,null,null,null,null,null,142]
[null,null,null,null,null,null,null,null,null,null,null,null,null,null,null,null,null,null,null,null,null,null,null,null,null,null,null,null,null,null,null,null,null,null,null,null,null,null,null,null,null,null,null,null,null,null,null,null,143]
["age/sex breakdown: Q3",null,null,null,null,null,null,null,null,null,null,null,null,null,null,null,null,null,null,null,null,null,null,null,null,null,null,null,null,null,null,null,null,null,null,null,null,null,null,null,null,null,null,null,null,null,null,null,144]
["Male <1",null,null,null,null,null,null,null,null,null,null,null,null,null,null,null,null,null,null,null,null,null,null,null,null,null,null,null,null,null,null,null,null,null,null,null,null,null,null,null,null,null,null,null,null,null,null,null,145]
["Male 1-4",null,null,null,null,null,null,null,null,null,null,null,null,null,null,null,null,null,null,null,null,null,null,null,null,null,null,null,null,null,null,null,null,null,null,null,null,null,null,null,null,null,null,null,null,null,null,null,146]
["Male 5-9",null,null,null,null,null,null,null,null,null,null,null,null,null,null,null,null,null,null,null,null,null,null,null,null,null,null,null,null,null,null,null,null,null,null,null,null,null,null,null,null,null,null,null,null,null,null,null,147]
["Male 10-14",null,null,null,null,null,null,null,null,null,null,null,null,null,null,null,null,null,null,null,null,null,null,null,null,null,null,null,null,null,null,null,null,null,null,null,null,null,null,null,null,null,null,null,null,null,null,null,148]
["Male 15-19",0.08,{"$f":"C$269*$B149","v":9.3016976967763176E-2},{"$f":"D$269*$B149","v":0.08},0.10229199158592188,8.3988339454460381E-2,8.4642046814752694E-2,0.06,8.8395573422945045E-2,7.6799999999999993E-2,8.3926134317290513E-2,6.6400000000000001E-2,7.515151515151515E-2,7.515151515151515E-2,8.4665259097716564E-2,7.515151515151515E-2,5.8052811933078007E-2,5.7331727056497694E-2,8.4991087344028507E-2,9.1708877632631303E-2,9.0438059349976452E-2,0.10211706102117062,9.3992557150451878E-2,8.972845336481701E-2,8.0405047986095365E-2,7.9515151515151511E-2,7.4372038973808882E-2,6.2001395334728669E-2,7.515151515151515E-2,8.4444444444444447E-2,8.3844710149511809E-2,9.2117099750687534E-2,7.0913213770356628E-2,0.10020202020202019,7.7386240252689753E-2,7.43801652892562E-2,9.6207656129070659E-2,8.9190118363538143E-2,7.515151515151515E-2,7.5094378124681144E-2,8.0319075780497864E-2,8.0440771349862258E-2,7.515151515151515E-2,9.1935152883234145E-2,7.8272401971823932E-2,8.1275179541075493E-2,9.0023037391458449E-2,6.8527217463387677E-2,149]
["Male 20-24",0.11,{"$f":"C$269*$B150","v":0.12789834333067437},{"$f":"D$269*$B150","v":0.11},0.1406514884306426,0.11548396674988302,0.11638281437028496,8.2500000000000004E-2,0.12154391345654944,0.1056,0.11539843468627446,9.1299999999999992E-2,0.10333333333333333,0.10333333333333333,0.11641473125936028,0.10333333333333333,7.9822616407982258E-2,7.883112470268433E-2,0.11686274509803921,0.12609970674486803,0.12435233160621761,0.1404109589041096,0.12923976608187132,0.12337662337662339,0.11055694098088112,0.10933333333333332,0.10226155358898721,8.5251918585251926E-2,0.10333333333333333,0.11611111111111111,0.11528647645557874,0.12666101215719536,9.7505668934240355E-2,0.13777777777777775,0.1064060803474484,0.10227272727272728,0.13228552717747216,0.12263641274986495,0.10333333333333333,0.10325476992143658,0.11043872919818457,0.11060606060606061,0.10333333333333333,0.12641083521444696,0.1076245527112579,0.11175337186897881,0.12378167641325537,9.4224924012158054E-2,150]
["Male 25-29",0.15000000000000002,0.17440683181455599,0.15000000000000002,0.19179748422360354,0.15747813647711323,0.15870383777766134,0.11250000000000002,0.16574170016802198,0.14400000000000002,0.15736150184491973,0.12450000000000001,0.14090909090909093,0.14090909090909093,0.15874736080821858,0.14090909090909093,0.10884902237452128,0.10749698823093319,0.15935828877005348,0.17195414556118371,0.16957136128120587,0.19146948941469491,0.1762360446570973,0.16824085005903192,0.15075946497392884,0.14909090909090911,0.13944757307589167,0.11625261625261626,0.14090909090909093,0.15833333333333335,0.15720883153033466,0.17271956203253916,0.13296227581941869,0.1878787878787879,0.14509920047379329,0.13946280991735541,0.18038935524200753,0.16723147193163404,0.14090909090909093,0.14080195898377718,0.15059826708843352,0.15082644628099176,0.14090909090909093,0.17237841165606405,0.1467607536971699,0.15239096163951657,0.16879319510898461,0.12848853274385191,151]
["Male 30-34",7.999999999999996E-2,9.3016976967763121E-2,7.999999999999996E-2,0.10229199158592182,8.398833945446034E-2,8.4642046814752653E-2,5.999999999999997E-2,8.8395573422945004E-2,7.6799999999999966E-2,8.3926134317290471E-2,6.6399999999999959E-2,7.5151515151515108E-2,7.5151515151515108E-2,8.4665259097716522E-2,7.5151515151515108E-2,5.8052811933077979E-2,5.7331727056497667E-2,8.4991087344028465E-2,9.1708877632631247E-2,9.0438059349976396E-2,0.10211706102117056,9.3992557150451836E-2,8.9728453364816968E-2,8.0405047986095324E-2,7.9515151515151469E-2,7.4372038973808841E-2,6.2001395334728635E-2,7.5151515151515108E-2,8.4444444444444405E-2,8.3844710149511767E-2,9.2117099750687492E-2,7.0913213770356587E-2,0.10020202020202014,7.7386240252689711E-2,7.4380165289256159E-2,9.6207656129070618E-2,8.9190118363538101E-2,7.5151515151515108E-2,7.5094378124681102E-2,8.0319075780497823E-2,8.0440771349862217E-2,7.5151515151515108E-2,9.1935152883234103E-2,7.8272401971823891E-2,8.1275179541075451E-2,9.0023037391458394E-2,6.8527217463387635E-2,152]
["Male 35-39",0.10999999999999999,0.12789834333067435,0.10999999999999999,0.14065148843064257,0.11548396674988301,0.11638281437028494,8.249999999999999E-2,0.12154391345654943,0.10559999999999999,0.11539843468627445,9.1299999999999978E-2,0.10333333333333332,0.10333333333333332,0.11641473125936026,0.10333333333333332,7.9822616407982258E-2,7.8831124702684316E-2,0.11686274509803919,0.12609970674486801,0.1243523316062176,0.14041095890410957,0.12923976608187132,0.12337662337662338,0.1105569409808811,0.10933333333333331,0.1022615535889872,8.5251918585251912E-2,0.10333333333333332,0.1161111111111111,0.11528647645557873,0.12666101215719536,9.7505668934240342E-2,0.13777777777777775,0.10640608034744839,0.10227272727272727,0.13228552717747213,0.12263641274986493,0.10333333333333332,0.10325476992143656,0.11043872919818455,0.1106060606060606,0.10333333333333332,0.12641083521444693,0.10762455271125788,0.1117533718689788,0.12378167641325534,9.422492401215804E-2,153]
["Male 40-44",0.10999999999999999,0.12789834333067435,0.10999999999999999,0.14065148843064257,0.11548396674988301,0.11638281437028494,8.249999999999999E-2,0.12154391345654943,0.10559999999999999,0.11539843468627445,9.1299999999999978E-2,0.10333333333333332,0.10333333333333332,0.11641473125936026,0.10333333333333332,7.9822616407982258E-2,7.8831124702684316E-2,0.11686274509803919,0.12609970674486801,0.1243523316062176,0.14041095890410957,0.12923976608187132,0.12337662337662338,0.1105569409808811,0.10933333333333331,0.1022615535889872,8.5251918585251912E-2,0.10333333333333332,0.1161111111111111,0.11528647645557873,0.12666101215719536,9.7505668934240342E-2,0.13777777777777775,0.10640608034744839,0.10227272727272727,0.13228552717747213,0.12263641274986493,0.10333333333333332,0.10325476992143656,0.11043872919818455,0.1106060606060606,0.10333333333333332,0.12641083521444693,0.10762455271125788,0.1117533718689788,0.12378167641325534,9.422492401215804E-2,154]
["Male 45-49",0.12,0.13952546545164476,0.12,0.15343798737888281,0.12598250918169057,0.12696307022212905,0.09,0.13259336013441758,0.1152,0.12588920147593577,9.9599999999999994E-2,0.11272727272727272,0.11272727272727272,0.12699788864657482,0.11272727272727272,8.7079217899617006E-2,8.5997590584746542E-2,0.12748663101604277,0.13756331644894693,0.13565708902496465,0.15317559153175592,0.1409888357256778,0.13459268004722549,0.12060757197914304,0.11927272727272727,0.11155805846071332,9.3002093002093E-2,0.11272727272727272,0.12666666666666668,0.12576706522426773,0.13817564962603129,0.10636982065553492,0.15030303030303027,0.11607936037903462,0.1115702479338843,0.14431148419360598,0.13378517754530719,0.11272727272727272,0.11264156718702172,0.12047861367074679,0.12066115702479339,0.11272727272727272,0.1379027293248512,0.11740860295773589,0.12191276931161324,0.13503455608718767,0.10279082619508151,155]
["Male 50-54",0.24,0.27905093090328953,0.24,0.30687597475776562,0.25196501836338114,0.2539261404442581,0.18,{"$f":"I$269*$B156","v":0.26518672026883516},0.23039999999999999,0.25177840295187154,0.19919999999999999,0.22545454545454544,0.22545454545454544,0.25399577729314965,0.22545454545454544,0.17415843579923401,0.17199518116949308,0.25497326203208553,0.27512663289789385,0.2713141780499293,0.30635118306351183,0.2819776714513556,0.26918536009445099,0.24121514395828608,0.23854545454545453,0.22311611692142663,0.186004186004186,0.22545454545454544,0.25333333333333335,0.25153413044853545,0.27635129925206259,0.21273964131106984,0.30060606060606054,0.23215872075806923,0.2231404958677686,{"$f":"AK$269*$B156","v":0.28862296838721196},0.26757035509061439,0.22545454545454544,0.22528313437404343,0.24095722734149358,0.24132231404958679,0.22545454545454544,0.27580545864970241,0.23481720591547178,0.24382553862322648,0.27006911217437535,0.20558165239016302,156]
["Male 55-59",0.21999999999999997,0.25579668666134869,0.21999999999999997,0.28130297686128514,0.23096793349976602,0.23276562874056989,0.16499999999999998,0.24308782691309885,0.21119999999999997,0.2307968693725489,0.18259999999999996,0.20666666666666664,0.20666666666666664,0.23282946251872053,0.20666666666666664,0.15964523281596452,0.15766224940536863,0.23372549019607838,0.25219941348973601,0.2487046632124352,0.28082191780821913,0.25847953216374264,0.24675324675324675,0.22111388196176221,0.21866666666666662,0.20452310717797439,0.17050383717050382,0.20666666666666664,0.23222222222222219,0.23057295291115745,0.25332202431439071,0.19501133786848068,0.2755555555555555,0.21281216069489678,0.20454545454545453,0.26457105435494427,0.24527282549972987,0.20666666666666664,0.20650953984287312,0.2208774583963691,0.22121212121212119,0.20666666666666664,0.25282167042889386,0.21524910542251577,0.22350674373795759,0.24756335282651068,0.18844984802431608,157]
["Male 60-64",0.42000000000000004,0.48833912908075672,0.42000000000000004,0.5370329558260899,0.44093878213591703,0.44437074577745167,0.31500000000000006,0.46407676047046154,0.4032,0.44061220516577526,0.34860000000000002,0.39454545454545453,0.39454545454545453,0.44449261026301201,0.39454545454545453,0.30477726264865956,0.30099156704661295,0.4462032085561497,0.48147160757131435,0.47479981158737639,0.53611457036114574,0.49346092503987238,0.47107438016528935,0.42212650192700069,0.41745454545454547,0.39045320461249666,0.32550732550732553,0.39454545454545453,0.44333333333333341,0.44018472828493704,0.48361477369110961,0.37229437229437229,0.52606060606060601,0.40627776132662125,0.39049586776859507,0.50509019467762106,0.4682481214085753,0.39454545454545453,0.39424548515457603,0.42167514784761384,0.42231404958677693,0.39454545454545453,0.48265955263697929,0.41093011035207566,0.42669469259064641,0.47262094630515689,0.35976789168278533,158]
["Male 65-69",0.92,1,0.92,1,0.96586590372629433,0.97338353836965608,0.69000000000000006,1,0.88319999999999999,0.96515054464884098,0.76359999999999995,0.86424242424242426,0.86424242424242426,0.97365047962374052,0.86424242424242426,0.66760733723039711,0.65931486114972349,0.97739750445632789,1,1,1,1,1,0.92465805184009675,0.91442424242424247,0.85527844819880217,0.71301604634937976,0.86424242424242426,0.97111111111111115,0.96421416671938587,1,0.81550195835910122,1,0.88994176290593219,0.85537190082644632,1,1,0.86424242424242426,0.86358534843383317,0.92366937147572548,0.92506887052341602,0.86424242424242426,1,0.90013262267597527,0.93466456472236825,1,0.7880630008289583,159]
["Male 70-74",null,null,null,null,null,null,null,null,null,null,null,null,null,null,null,null,null,null,null,null,null,null,null,null,null,null,null,null,null,null,null,null,null,null,null,null,null,null,null,null,null,null,null,null,null,null,null,160]
["Male 75-79",null,null,null,null,null,null,null,null,null,null,null,null,null,null,null,null,null,null,null,null,null,null,null,null,null,null,null,null,null,null,null,null,null,null,null,null,null,null,null,null,null,null,null,null,null,null,null,161]
["Male 80-84",null,null,null,null,null,null,null,null,null,null,null,null,null,null,null,null,null,null,null,null,null,null,null,null,null,null,null,null,null,null,null,null,null,null,null,null,null,null,null,null,null,null,null,null,null,null,null,162]
["Male 85+",null,null,null,null,null,null,null,null,null,null,null,null,null,null,null,null,null,null,null,null,null,null,null,null,null,null,null,null,null,null,null,null,null,null,null,null,null,null,null,null,null,null,null,null,null,null,null,163]
[null,null,null,null,null,null,null,null,null,null,null,null,null,null,null,null,null,null,null,null,null,null,null,null,null,null,null,null,null,null,null,null,null,null,null,null,null,null,null,null,null,null,null,null,null,null,null,null,164]
["Female <1",null,null,null,null,null,null,null,null,null,null,null,null,null,null,null,null,null,null,null,null,null,null,null,null,null,null,null,null,null,null,null,null,null,null,null,null,null,null,null,null,null,null,null,null,null,null,null,165]
["Female 1-4",null,null,null,null,null,null,null,null,null,null,null,null,null,null,null,null,null,null,null,null,null,null,null,null,null,null,null,null,null,null,null,null,null,null,null,null,null,null,null,null,null,null,null,null,null,null,null,166]
["Female 5-9",null,null,null,null,null,null,null,null,null,null,null,null,null,null,null,null,null,null,null,null,null,null,null,null,null,null,null,null,null,null,null,null,null,null,null,null,null,null,null,null,null,null,null,null,null,null,null,167]
["Female 10-14",null,null,null,null,null,null,null,null,null,null,null,null,null,null,null,null,null,null,null,null,null,null,null,null,null,null,null,null,null,null,null,null,null,null,null,null,null,null,null,null,null,null,null,null,null,null,null,168]
["Female 15-19",0.08,{"$f":"C$270*$B169","v":9.3414615611136981E-2},{"$f":"D$270*$B169","v":8.5188616726062233E-2},8.7331497885686005E-2,8.320000000000001E-2,8.0168682181961895E-2,7.2249642061102459E-2,8.2514848420421436E-2,8.320000000000001E-2,7.7192915894232952E-2,7.2722299412893029E-2,7.6190476190476197E-2,7.6190476190476197E-2,8.2655156988023407E-2,7.6190476190476197E-2,6.9888400747361509E-2,7.1428571428571438E-2,8.1632653061224497E-2,8.4949215143120968E-2,8.8467614533965247E-2,8.7100663050030142E-2,8.1371428571428595E-2,8.8141923436041089E-2,7.747458533975389E-2,7.6834598573729013E-2,7.5067024128686322E-2,7.1406747850377553E-2,7.6190476190476197E-2,7.678571428571429E-2,8.3379655364091171E-2,8.299955496217179E-2,8.1779421585246828E-2,8.6529006882989187E-2,7.1221532091097314E-2,7.9634113532418616E-2,9.9679249938317296E-2,8.2352941176470601E-2,7.6190476190476197E-2,8.4388185654008435E-2,8.1064971190145038E-2,8.4963445959296585E-2,7.6190476190476197E-2,9.0225563909774445E-2,7.1428571428571438E-2,8.0566952629615829E-2,8.7648426980046518E-2,7.4371321562332809E-2,169]
["Female 20-24",0.11,{"$f":"C$270*$B170","v":0.12844509646531335},0.11713434799833557,0.12008080959281825,0.1144,0.11023193800019759,9.9343257834015888E-2,0.11345791657807948,0.1144,0.1061402593545703,9.9993161692727914E-2,0.10476190476190476,0.10476190476190476,0.11365084085853219,0.10476190476190476,9.6096551027622074E-2,9.8214285714285726E-2,0.11224489795918367,0.11680517082179133,0.12164296998420221,0.11976341169379144,0.11188571428571431,0.1211951447245565,0.10652755484216159,0.1056475730388774,0.1032171581769437,9.8184278294269123E-2,0.10476190476190476,0.10558035714285714,0.11464702612562536,0.11412438807298621,0.11244670467971439,0.11897738446411013,9.7929606625258805E-2,0.10949690610707559,0.1370589686651863,0.11323529411764707,0.10476190476190476,0.1160337552742616,0.11146433538644943,0.1168247381940328,0.10476190476190476,0.12406015037593986,9.8214285714285726E-2,0.11077955986572176,0.12051658709756395,0.10226056714820761,170]
["Female 25-29",0.20999999999999996,0.24521336597923454,0.2236201189059133,0.22924518194992571,0.21839999999999998,0.21044279072764993,0.18965531041039393,0.21660147710360625,0.21839999999999998,0.20263140422236148,0.19089603595884416,0.19999999999999998,0.19999999999999998,0.21696978709356141,0.19999999999999998,0.18345705196182394,0.18749999999999997,0.21428571428571425,0.2229916897506925,0.23222748815165872,0.22863924050632908,0.21360000000000001,0.23137254901960783,0.20337078651685392,0.20169082125603863,0.19705093833780157,0.18744271310724103,0.19999999999999998,0.20156249999999998,0.21887159533073927,0.21787383177570088,0.21467098166127288,0.22713864306784659,0.18695652173913041,0.20903954802259883,0.26165803108808289,0.21617647058823528,0.19999999999999998,0.22151898734177211,0.2127955493741307,0.22302904564315348,0.19999999999999998,0.23684210526315785,0.18749999999999997,0.21148825065274152,0.23007712082262205,0.19522471910112357,171]
["Female 30-34",0.18999999999999995,0.22185971207645028,0.20232296472439773,0.2074123074785042,0.19759999999999994,0.19040062018215942,0.17159289989511831,0.19597276499850086,0.19759999999999994,0.18333317524880322,0.17271546110562089,0.18095238095238092,0.18095238095238092,0.19630599784655556,0.18095238095238092,0.16598495177498354,0.1696428571428571,0.1938775510204081,0.20175438596491224,0.21011058451816741,0.20686407474382154,0.19325714285714285,0.20933706816059752,0.18400214018191541,0.18248217161260635,0.17828418230562998,0.16959102614464663,0.18095238095238092,0.18236607142857139,0.19802668148971647,0.19712394303515793,0.19422612626496116,0.20550639134709928,0.16915113871635606,0.18913101963949416,0.23673821860350353,0.19558823529411762,0.18095238095238092,0.20042194092826998,0.19252930657659442,0.20178818415332933,0.18095238095238092,0.21428571428571425,0.1696428571428571,0.19134651249533755,0.2081650140776104,0.17663188871054036,172]
["Female 35-39",0.21999999999999997,0.25689019293062665,0.23426869599667108,0.24016161918563647,0.22879999999999998,0.22046387600039516,0.19868651566803175,0.22691583315615893,0.22879999999999998,0.21228051870914058,0.1999863233854558,0.2095238095238095,0.2095238095238095,0.22730168171706436,0.2095238095238095,0.19219310205524415,0.19642857142857142,0.22448979591836732,0.23361034164358263,0.24328593996840439,0.23952682338758285,0.22377142857142859,0.24239028944911298,0.21305510968432315,0.21129514607775476,0.20643431635388737,0.19636855658853822,0.2095238095238095,0.21116071428571426,0.22929405225125069,0.22824877614597236,0.22489340935942875,0.23795476892822023,0.19585921325051758,0.21899381221415115,0.27411793733037254,0.22647058823529412,0.2095238095238095,0.23206751054852318,0.22292867077289882,0.23364947638806557,0.2095238095238095,0.24812030075187969,0.19642857142857142,0.22155911973144349,0.24103317419512788,0.20452113429641519,173]
["Female 40-44",0.18000000000000005,0.21018288512505828,0.19167438763364006,0.19649587024279355,0.18720000000000006,0.1803795349094143,0.16256169463748057,0.18565840894594829,0.18720000000000006,0.17368406076202419,0.16362517367900936,0.17142857142857149,0.17142857142857149,0.18597410322305272,0.17142857142857149,0.15724890168156344,0.16071428571428575,0.18367346938775517,0.19113573407202222,0.19905213270142186,0.19597649186256788,0.18308571428571438,0.19831932773109251,0.17431781701444629,0.17287784679089033,0.16890080428954427,0.16066518266334953,0.17142857142857149,0.1727678571428572,0.18760422456920517,0.18674899866488656,0.18400369856680543,0.19469026548672574,0.160248447204969,0.17917675544794193,0.22427831236121398,0.18529411764705889,0.17142857142857149,0.18987341772151903,0.18239618517782638,0.19116775340841735,0.17142857142857149,0.20300751879699255,0.16071428571428575,0.18127564341663566,0.19720896070510471,0.16733547351524886,174]
["Female 45-49",0.18999999999999995,0.22185971207645028,0.20232296472439773,0.2074123074785042,0.19759999999999994,0.19040062018215942,0.17159289989511831,0.19597276499850086,0.19759999999999994,0.18333317524880322,0.17271546110562089,0.18095238095238092,0.18095238095238092,0.19630599784655556,0.18095238095238092,0.16598495177498354,0.1696428571428571,0.1938775510204081,0.20175438596491224,0.21011058451816741,0.20686407474382154,0.19325714285714285,0.20933706816059752,0.18400214018191541,0.18248217161260635,0.17828418230562998,0.16959102614464663,0.18095238095238092,0.18236607142857139,0.19802668148971647,0.19712394303515793,0.19422612626496116,0.20550639134709928,0.16915113871635606,0.18913101963949416,0.23673821860350353,0.19558823529411762,0.18095238095238092,0.20042194092826998,0.19252930657659442,0.20178818415332933,0.18095238095238092,0.21428571428571425,0.1696428571428571,0.19134651249533755,0.2081650140776104,0.17663188871054036,175]
["Female 50-54",0.21999999999999997,0.25689019293062665,0.23426869599667108,0.24016161918563647,0.22879999999999998,0.22046387600039516,0.19868651566803175,0.22691583315615893,0.22879999999999998,0.21228051870914058,0.1999863233854558,0.2095238095238095,0.2095238095238095,0.22730168171706436,0.2095238095238095,0.19219310205524415,0.19642857142857142,0.22448979591836732,0.23361034164358263,0.24328593996840439,0.23952682338758285,0.22377142857142859,0.24239028944911298,0.21305510968432315,0.21129514607775476,0.20643431635388737,0.19636855658853822,0.2095238095238095,0.21116071428571426,0.22929405225125069,0.22824877614597236,0.22489340935942875,0.23795476892822023,0.19585921325051758,0.21899381221415115,{"$f":"AK$270*$B176","v":0.27411793733037254},0.22647058823529412,0.2095238095238095,0.23206751054852318,0.22292867077289882,0.23364947638806557,0.2095238095238095,0.24812030075187969,0.19642857142857142,0.22155911973144349,0.24103317419512788,0.20452113429641519,176]
["Female 55-59",0.32999999999999996,0.38533528939594003,0.35140304399500666,0.36024242877845469,0.34319999999999995,0.33069581400059272,0.29802977350204762,0.3403737497342384,0.34319999999999995,0.31842077806371089,0.29997948507818373,0.31428571428571428,0.31428571428571428,0.34095252257559655,0.31428571428571428,0.28828965308286619,0.2946428571428571,0.33673469387755101,0.35041551246537395,0.36492890995260657,0.35929023508137431,0.33565714285714288,0.36358543417366945,0.31958266452648471,0.31694271911663213,0.30965147453083103,0.29455283488280731,0.31428571428571428,0.31674107142857139,0.34394107837687604,0.34237316421895858,0.33734011403914316,0.35693215339233036,0.29378881987577637,0.32849071832122673,0.41117690599555878,0.33970588235294119,0.31428571428571428,0.34810126582278478,0.33439300615934825,0.35047421458209838,0.31428571428571428,0.3721804511278195,0.2946428571428571,0.33233867959716523,0.36154976129269184,0.3067817014446228,177]
["Female 60-64",0.64,0.74731692488909585,0.68150893380849786,0.69865198308548804,0.66560000000000008,0.64134945745569516,0.57799713648881967,0.66011878736337148,0.66560000000000008,0.61754332715386362,0.58177839530314424,0.60952380952380958,0.60952380952380958,0.66124125590418725,0.60952380952380958,0.55910720597889207,0.57142857142857151,0.65306122448979598,0.67959372114496774,0.70774091627172198,0.69680530440024113,0.65097142857142876,0.70513538748832871,0.61979668271803112,0.6146767885898321,0.60053619302949057,0.57125398280302042,0.60952380952380958,0.61428571428571432,0.66703724291272937,0.66399643969737432,0.65423537268197463,0.6922320550639135,0.56977225672877851,0.63707290825934892,0.79743399950653837,0.65882352941176481,0.60952380952380958,0.67510548523206748,0.64851976952116031,0.67970756767437268,0.60952380952380958,0.72180451127819556,0.57142857142857151,0.64453562103692663,0.70118741584037214,0.59497057249866248,178]
["Female 65-69",0.92,1,0.97966909234971566,1.0043122256853889,0.95680000000000009,0.92193984509256177,0.83087088370267836,0.94892075683484656,0.95680000000000009,0.88771853278367896,0.83630644324826986,0.8761904761904763,0.8761904761904763,0.95053430536226924,0.8761904761904763,0.80371660859465743,0.82142857142857151,0.93877551020408168,0.97691597414589115,1.0173775671406005,1.0016576250753466,0.93577142857142881,1.0136321195144726,0.89095773140716972,0.88359788359788372,0.86327077747989278,0.82117760027934183,0.8761904761904763,0.88303571428571437,0.95886603668704851,0.95449488206497557,0.94046334823033861,0.99508357915437573,0.81904761904761914,0.91579230562281411,1,0.94705882352941195,0.8761904761904763,0.97046413502109707,0.93224716868666802,0.97707962853191077,0.8761904761904763,1,0.82142857142857151,0.92651995524058206,1,0.85527019796682735,179]
["Female 70-74",null,null,null,null,null,null,null,null,null,null,null,null,null,null,null,null,null,null,null,null,null,null,null,null,null,null,null,null,null,null,null,null,null,null,null,null,null,null,null,null,null,null,null,null,null,null,null,180]
["Female 75-79",null,null,null,null,null,null,null,null,null,null,null,null,null,null,null,null,null,null,null,null,null,null,null,null,null,null,null,null,null,null,null,null,null,null,null,null,null,null,null,null,null,null,null,null,null,null,null,181]
["Female 80-84",null,null,null,null,null,null,null,null,null,null,null,null,null,null,null,null,null,null,null,null,null,null,null,null,null,null,null,null,null,null,null,null,null,null,null,null,null,null,null,null,null,null,null,null,null,null,null,182]
["Female 85+",null,null,null,null,null,null,null,null,null,null,null,null,null,null,null,null,null,null,null,null,null,null,null,null,null,null,null,null,null,null,null,null,null,null,null,null,null,null,null,null,null,null,null,null,null,null,null,183]
[null,null,null,null,null,null,null,null,null,null,null,null,null,null,null,null,null,null,null,null,null,null,null,null,null,null,null,null,null,null,null,null,null,null,null,null,null,null,null,null,null,null,null,null,null,null,null,null,184]
["age/sex breakdown: Q4",null,null,null,null,null,null,null,null,null,null,null,null,null,null,null,null,null,null,null,null,null,null,null,null,null,null,null,null,null,null,null,null,null,null,null,null,null,null,null,null,null,null,null,null,null,null,null,185]
["Male <1",null,null,null,null,null,null,null,null,null,null,null,null,null,null,null,null,null,null,null,null,null,null,null,null,null,null,null,null,null,null,null,null,null,null,null,null,null,null,null,null,null,null,null,null,null,null,null,186]
["Male 1-4",null,null,null,null,null,null,null,null,null,null,null,null,null,null,null,null,null,null,null,null,null,null,null,null,null,null,null,null,null,null,null,null,null,null,null,null,null,null,null,null,null,null,null,null,null,null,null,187]
["Male 5-9",null,null,null,null,null,null,null,null,null,null,null,null,null,null,null,null,null,null,null,null,null,null,null,null,null,null,null,null,null,null,null,null,null,null,null,null,null,null,null,null,null,null,null,null,null,null,null,188]
["Male 10-14",null,null,null,null,null,null,null,null,null,null,null,null,null,null,null,null,null,null,null,null,null,null,null,null,null,null,null,null,null,null,null,null,null,null,null,null,null,null,null,null,null,null,null,null,null,null,null,189]
["Male 15-19",0.08,{"$f":"C$269*$B190","v":9.3016976967763176E-2},{"$f":"D$269*$B190","v":0.08},0.10229199158592188,8.3988339454460381E-2,8.4642046814752694E-2,0.06,8.8395573422945045E-2,7.6799999999999993E-2,8.3926134317290513E-2,6.6400000000000001E-2,7.515151515151515E-2,7.515151515151515E-2,8.4665259097716564E-2,7.515151515151515E-2,5.8052811933078007E-2,5.7331727056497694E-2,8.4991087344028507E-2,9.1708877632631303E-2,9.0438059349976452E-2,0.10211706102117062,9.3992557150451878E-2,8.972845336481701E-2,8.0405047986095365E-2,7.9515151515151511E-2,7.4372038973808882E-2,6.2001395334728669E-2,7.515151515151515E-2,8.4444444444444447E-2,8.3844710149511809E-2,9.2117099750687534E-2,7.0913213770356628E-2,0.10020202020202019,7.7386240252689753E-2,7.43801652892562E-2,9.6207656129070659E-2,8.9190118363538143E-2,7.515151515151515E-2,7.5094378124681144E-2,8.0319075780497864E-2,8.0440771349862258E-2,7.515151515151515E-2,9.1935152883234145E-2,7.8272401971823932E-2,8.1275179541075493E-2,9.0023037391458449E-2,6.8527217463387677E-2,190]
["Male 20-24",0.08,{"$f":"C$269*$B191","v":9.3016976967763176E-2},{"$f":"D$269*$B191","v":0.08},0.10229199158592188,8.3988339454460381E-2,8.4642046814752694E-2,0.06,8.8395573422945045E-2,7.6799999999999993E-2,8.3926134317290513E-2,6.6400000000000001E-2,7.515151515151515E-2,7.515151515151515E-2,8.4665259097716564E-2,7.515151515151515E-2,5.8052811933078007E-2,5.7331727056497694E-2,8.4991087344028507E-2,9.1708877632631303E-2,9.0438059349976452E-2,0.10211706102117062,9.3992557150451878E-2,8.972845336481701E-2,8.0405047986095365E-2,7.9515151515151511E-2,7.4372038973808882E-2,6.2001395334728669E-2,7.515151515151515E-2,8.4444444444444447E-2,8.3844710149511809E-2,9.2117099750687534E-2,7.0913213770356628E-2,0.10020202020202019,7.7386240252689753E-2,7.43801652892562E-2,9.6207656129070659E-2,8.9190118363538143E-2,7.515151515151515E-2,7.5094378124681144E-2,8.0319075780497864E-2,8.0440771349862258E-2,7.515151515151515E-2,9.1935152883234145E-2,7.8272401971823932E-2,8.1275179541075493E-2,9.0023037391458449E-2,6.8527217463387677E-2,191]
["Male 25-29",9.9999999999999978E-2,0.11627122120970394,9.9999999999999978E-2,0.12786498948240232,0.10498542431807545,0.10580255851844085,7.4999999999999983E-2,0.11049446677868129,9.5999999999999974E-2,0.10490766789661313,8.2999999999999977E-2,9.3939393939393906E-2,9.3939393939393906E-2,0.10583157387214567,9.3939393939393906E-2,7.2566014916347496E-2,7.1664658820622104E-2,0.10623885918003562,0.1146360970407891,0.11304757418747054,0.12764632627646325,0.11749069643806483,0.11216056670602123,0.10050630998261918,9.9393939393939368E-2,9.2965048717261078E-2,7.7501744168410824E-2,9.3939393939393906E-2,0.10555555555555554,0.10480588768688974,0.11514637468835939,8.8641517212945761E-2,0.1252525252525252,9.6732800315862164E-2,9.297520661157023E-2,0.1202595701613383,0.11148764795442265,9.3939393939393906E-2,9.3867972655851409E-2,0.1003988447256223,0.10055096418732781,9.3939393939393906E-2,0.11491894110404266,9.7840502464779891E-2,0.10159397442634435,0.11252879673932303,8.5659021829234572E-2,192]
["Male 30-34",0.12,0.13952546545164476,0.12,0.15343798737888281,0.12598250918169057,0.12696307022212905,0.09,0.13259336013441758,0.1152,0.12588920147593577,9.9599999999999994E-2,0.11272727272727272,0.11272727272727272,0.12699788864657482,0.11272727272727272,8.7079217899617006E-2,8.5997590584746542E-2,0.12748663101604277,0.13756331644894693,0.13565708902496465,0.15317559153175592,0.1409888357256778,0.13459268004722549,0.12060757197914304,0.11927272727272727,0.11155805846071332,9.3002093002093E-2,0.11272727272727272,0.12666666666666668,0.12576706522426773,0.13817564962603129,0.10636982065553492,0.15030303030303027,0.11607936037903462,0.1115702479338843,0.14431148419360598,0.13378517754530719,0.11272727272727272,0.11264156718702172,0.12047861367074679,0.12066115702479339,0.11272727272727272,0.1379027293248512,0.11740860295773589,0.12191276931161324,0.13503455608718767,0.10279082619508151,193]
["Male 35-39",7.999999999999996E-2,9.3016976967763121E-2,7.999999999999996E-2,0.10229199158592182,8.398833945446034E-2,8.4642046814752653E-2,5.999999999999997E-2,8.8395573422945004E-2,7.6799999999999966E-2,8.3926134317290471E-2,6.6399999999999959E-2,7.5151515151515108E-2,7.5151515151515108E-2,8.4665259097716522E-2,7.5151515151515108E-2,5.8052811933077979E-2,5.7331727056497667E-2,8.4991087344028465E-2,9.1708877632631247E-2,9.0438059349976396E-2,0.10211706102117056,9.3992557150451836E-2,8.9728453364816968E-2,8.0405047986095324E-2,7.9515151515151469E-2,7.4372038973808841E-2,6.2001395334728635E-2,7.5151515151515108E-2,8.4444444444444405E-2,8.3844710149511767E-2,9.2117099750687492E-2,7.0913213770356587E-2,0.10020202020202014,7.7386240252689711E-2,7.4380165289256159E-2,9.6207656129070618E-2,8.9190118363538101E-2,7.5151515151515108E-2,7.5094378124681102E-2,8.0319075780497823E-2,8.0440771349862217E-2,7.5151515151515108E-2,9.1935152883234103E-2,7.8272401971823891E-2,8.1275179541075451E-2,9.0023037391458394E-2,6.8527217463387635E-2,194]
["Male 40-44",6.9999999999999951E-2,8.1389854846792717E-2,6.9999999999999951E-2,8.950549263768158E-2,7.3489797022652778E-2,7.4061790962908561E-2,5.2499999999999963E-2,7.7346126745076862E-2,6.7199999999999954E-2,7.343536752762915E-2,5.8099999999999957E-2,6.5757575757575709E-2,6.5757575757575709E-2,7.4082101710501932E-2,6.5757575757575709E-2,5.0796210441443224E-2,5.0165261174435448E-2,7.436720142602489E-2,8.0245267928552327E-2,7.9133301931229333E-2,8.9352428393524225E-2,8.2243487506645341E-2,7.8512396694214823E-2,7.0354416987833387E-2,6.9575757575757527E-2,6.5075534102082722E-2,5.4251220917887547E-2,6.5757575757575709E-2,7.3888888888888837E-2,7.336412138082278E-2,8.0602462281851542E-2,6.2049062049062E-2,8.7676767676767603E-2,6.7712960221103485E-2,6.5082644628099123E-2,8.418169911293677E-2,7.8041353568095814E-2,6.5757575757575709E-2,6.5707580859095949E-2,7.0279191307935585E-2,7.0385674931129433E-2,6.5757575757575709E-2,8.0443258772829818E-2,6.8488351725345883E-2,7.1115782098441008E-2,7.8770157717526088E-2,5.9961315280464174E-2,195]
["Male 45-49",0.10999999999999999,0.12789834333067435,0.10999999999999999,0.14065148843064257,0.11548396674988301,0.11638281437028494,8.249999999999999E-2,0.12154391345654943,0.10559999999999999,0.11539843468627445,9.1299999999999978E-2,0.10333333333333332,0.10333333333333332,0.11641473125936026,0.10333333333333332,7.9822616407982258E-2,7.8831124702684316E-2,0.11686274509803919,0.12609970674486801,0.1243523316062176,0.14041095890410957,0.12923976608187132,0.12337662337662338,0.1105569409808811,0.10933333333333331,0.1022615535889872,8.5251918585251912E-2,0.10333333333333332,0.1161111111111111,0.11528647645557873,0.12666101215719536,9.7505668934240342E-2,0.13777777777777775,0.10640608034744839,0.10227272727272727,0.13228552717747213,0.12263641274986493,0.10333333333333332,0.10325476992143656,0.11043872919818455,0.1106060606060606,0.10333333333333332,0.12641083521444693,0.10762455271125788,0.1117533718689788,0.12378167641325534,9.422492401215804E-2,196]
["Male 50-54",9.9999999999999978E-2,0.11627122120970394,9.9999999999999978E-2,0.12786498948240232,0.10498542431807545,0.10580255851844085,7.4999999999999983E-2,{"$f":"I$269*$B197","v":0.11049446677868129},9.5999999999999974E-2,0.10490766789661313,8.2999999999999977E-2,9.3939393939393906E-2,9.3939393939393906E-2,0.10583157387214567,9.3939393939393906E-2,7.2566014916347496E-2,7.1664658820622104E-2,0.10623885918003562,0.1146360970407891,0.11304757418747054,0.12764632627646325,0.11749069643806483,0.11216056670602123,0.10050630998261918,9.9393939393939368E-2,9.2965048717261078E-2,7.7501744168410824E-2,9.3939393939393906E-2,0.10555555555555554,0.10480588768688974,0.11514637468835939,8.8641517212945761E-2,0.1252525252525252,9.6732800315862164E-2,9.297520661157023E-2,{"$f":"AK$269*$B197","v":0.1202595701613383},0.11148764795442265,9.3939393939393906E-2,9.3867972655851409E-2,0.1003988447256223,0.10055096418732781,9.3939393939393906E-2,0.11491894110404266,9.7840502464779891E-2,0.10159397442634435,0.11252879673932303,8.5659021829234572E-2,197]
["Male 55-59",0.19999999999999996,0.23254244241940789,0.19999999999999996,0.25572997896480465,0.2099708486361509,0.2116051170368817,0.14999999999999997,0.22098893355736257,0.19199999999999995,0.20981533579322625,0.16599999999999995,0.18787878787878781,0.18787878787878781,0.21166314774429135,0.18787878787878781,0.14513202983269499,0.14332931764124421,0.21247771836007123,0.2292721940815782,0.22609514837494107,0.25529265255292649,0.23498139287612965,0.22432113341204246,0.20101261996523836,0.19878787878787874,0.18593009743452216,0.15500348833682165,0.18787878787878781,0.21111111111111108,0.20961177537377948,0.23029274937671879,0.17728303442589152,0.2505050505050504,0.19346560063172433,0.18595041322314046,0.2405191403226766,0.22297529590884529,0.18787878787878781,0.18773594531170282,0.2007976894512446,0.20110192837465563,0.18787878787878781,0.22983788220808532,0.19568100492955978,0.2031879488526887,0.22505759347864607,0.17131804365846914,198]
["Male 60-64",0.36,0.41857639635493427,0.36,0.46031396213664844,0.37794752754507166,0.38088921066638715,0.27,0.39778008040325269,0.34559999999999996,0.37766760442780728,0.29879999999999995,0.33818181818181814,0.33818181818181814,0.3809936659397245,0.33818181818181814,0.26123765369885105,0.25799277175423962,0.38245989304812827,0.41268994934684083,0.40697126707489401,0.45952677459526775,0.42296650717703344,0.40377804014167651,0.3618227159374291,0.35781818181818181,0.33467417538213995,0.279006279006279,0.33818181818181814,0.38,0.37730119567280312,0.41452694887809388,0.31910946196660478,0.45090909090909082,0.34823808113710386,0.33471074380165289,0.43293445258081797,0.40135553263592161,0.33818181818181814,0.33792470156106513,0.36143584101224036,0.36198347107438017,0.33818181818181814,0.41370818797455367,0.35222580887320765,0.36573830793483969,0.40510366826156297,0.30837247858524452,199]
["Male 65-69",0.89,1,0.89,1,0.93437027643087167,0.94164277081412373,0.66749999999999998,0.98340075433026364,0.85439999999999994,0.93367824427985702,0.73870000000000002,0.83606060606060606,0.83606060606060606,0.94190100746209671,0.83606060606060606,0.64583753275549283,0.63781546350353691,0.94552584670231721,1,1,1,1,0.99822904368358922,0.89450615884531093,0.88460606060606062,0.82738893358362375,0.68976552309885641,0.83606060606060606,0.93944444444444453,0.93277240041331888,1,0.78890950319521747,1.1147474747474746,0.86092192281117352,0.8274793388429752,1.0703101744359111,0.99224006679436183,0.83606060606060606,0.83542495663707772,0.89354971805803873,0.8949035812672177,0.83606060606060606,1,0.87078047193654118,0.90418637239446487,1.0015062909799752,0.76236529428018784,200]
["Male 70-74",null,null,null,null,null,null,null,null,null,null,null,null,null,null,null,null,null,null,null,null,null,null,null,null,null,null,null,null,null,null,null,null,null,null,null,null,null,null,null,null,null,null,null,null,null,null,null,201]
["Male 75-79",null,null,null,null,null,null,null,null,null,null,null,null,null,null,null,null,null,null,null,null,null,null,null,null,null,null,null,null,null,null,null,null,null,null,null,null,null,null,null,null,null,null,null,null,null,null,null,202]
["Male 80-84",null,null,null,null,null,null,null,null,null,null,null,null,null,null,null,null,null,null,null,null,null,null,null,null,null,null,null,null,null,null,null,null,null,null,null,null,null,null,null,null,null,null,null,null,null,null,null,203]
["Male 85+",null,null,null,null,null,null,null,null,null,null,null,null,null,null,null,null,null,null,null,null,null,null,null,null,null,null,null,null,null,null,null,null,null,null,null,null,null,null,null,null,null,null,null,null,null,null,null,204]
[null,null,null,null,null,null,null,null,null,null,null,null,null,null,null,null,null,null,null,null,null,null,null,null,null,null,null,null,null,null,null,null,null,null,null,null,null,null,null,null,null,null,null,null,null,null,null,null,205]
["Female <1",null,null,null,null,null,null,null,null,null,null,null,null,null,null,null,null,null,null,null,null,null,null,null,null,null,null,null,null,null,null,null,null,null,null,null,null,null,null,null,null,null,null,null,null,null,null,null,206]
["Female 1-4",null,null,null,null,null,null,null,null,null,null,null,null,null,null,null,null,null,null,null,null,null,null,null,null,null,null,null,null,null,null,null,null,null,null,null,null,null,null,null,null,null,null,null,null,null,null,null,207]
["Female 5-9",null,null,null,null,null,null,null,null,null,null,null,null,null,null,null,null,null,null,null,null,null,null,null,null,null,null,null,null,null,null,null,null,null,null,null,null,null,null,null,null,null,null,null,null,null,null,null,208]
["Female 10-14",null,null,null,null,null,null,null,null,null,null,null,null,null,null,null,null,null,null,null,null,null,null,null,null,null,null,null,null,null,null,null,null,null,null,null,null,null,null,null,null,null,null,null,null,null,null,null,209]
["Female 15-19",0.08,{"$f":"C$270*$B210","v":9.3414615611136981E-2},{"$f":"D$270*$B210","v":8.5188616726062233E-2},8.7331497885686005E-2,8.320000000000001E-2,8.0168682181961895E-2,7.2249642061102459E-2,8.2514848420421436E-2,8.320000000000001E-2,7.7192915894232952E-2,7.2722299412893029E-2,7.6190476190476197E-2,7.6190476190476197E-2,8.2655156988023407E-2,7.6190476190476197E-2,6.9888400747361509E-2,7.1428571428571438E-2,8.1632653061224497E-2,8.4949215143120968E-2,8.8467614533965247E-2,8.7100663050030142E-2,8.1371428571428595E-2,8.8141923436041089E-2,7.747458533975389E-2,7.6834598573729013E-2,7.5067024128686322E-2,7.1406747850377553E-2,7.6190476190476197E-2,7.678571428571429E-2,8.3379655364091171E-2,8.299955496217179E-2,8.1779421585246828E-2,8.6529006882989187E-2,7.1221532091097314E-2,7.9634113532418616E-2,9.9679249938317296E-2,8.2352941176470601E-2,7.6190476190476197E-2,8.4388185654008435E-2,8.1064971190145038E-2,8.4963445959296585E-2,7.6190476190476197E-2,9.0225563909774445E-2,7.1428571428571438E-2,8.0566952629615829E-2,8.7648426980046518E-2,7.4371321562332809E-2,210]
["Female 20-24",0.08,{"$f":"C$270*$B211","v":9.3414615611136981E-2},8.5188616726062233E-2,8.7331497885686005E-2,8.320000000000001E-2,8.0168682181961895E-2,7.2249642061102459E-2,8.2514848420421436E-2,8.320000000000001E-2,7.7192915894232952E-2,7.2722299412893029E-2,7.6190476190476197E-2,7.6190476190476197E-2,8.2655156988023407E-2,7.6190476190476197E-2,6.9888400747361509E-2,7.1428571428571438E-2,8.1632653061224497E-2,8.4949215143120968E-2,8.8467614533965247E-2,8.7100663050030142E-2,8.1371428571428595E-2,8.8141923436041089E-2,7.747458533975389E-2,7.6834598573729013E-2,7.5067024128686322E-2,7.1406747850377553E-2,7.6190476190476197E-2,7.678571428571429E-2,8.3379655364091171E-2,8.299955496217179E-2,8.1779421585246828E-2,8.6529006882989187E-2,7.1221532091097314E-2,7.9634113532418616E-2,9.9679249938317296E-2,8.2352941176470601E-2,7.6190476190476197E-2,8.4388185654008435E-2,8.1064971190145038E-2,8.4963445959296585E-2,7.6190476190476197E-2,9.0225563909774445E-2,7.1428571428571438E-2,8.0566952629615829E-2,8.7648426980046518E-2,7.4371321562332809E-2,211]
["Female 25-29",0.20999999999999996,0.24521336597923454,0.2236201189059133,0.22924518194992571,0.21839999999999998,0.21044279072764993,0.18965531041039393,0.21660147710360625,0.21839999999999998,0.20263140422236148,0.19089603595884416,0.19999999999999998,0.19999999999999998,0.21696978709356141,0.19999999999999998,0.18345705196182394,0.18749999999999997,0.21428571428571425,0.2229916897506925,0.23222748815165872,0.22863924050632908,0.21360000000000001,0.23137254901960783,0.20337078651685392,0.20169082125603863,0.19705093833780157,0.18744271310724103,0.19999999999999998,0.20156249999999998,0.21887159533073927,0.21787383177570088,0.21467098166127288,0.22713864306784659,0.18695652173913041,0.20903954802259883,0.26165803108808289,0.21617647058823528,0.19999999999999998,0.22151898734177211,0.2127955493741307,0.22302904564315348,0.19999999999999998,0.23684210526315785,0.18749999999999997,0.21148825065274152,0.23007712082262205,0.19522471910112357,212]
["Female 30-34",0.21999999999999997,0.25689019293062665,0.23426869599667108,0.24016161918563647,0.22879999999999998,0.22046387600039516,0.19868651566803175,0.22691583315615893,0.22879999999999998,0.21228051870914058,0.1999863233854558,0.2095238095238095,0.2095238095238095,0.22730168171706436,0.2095238095238095,0.19219310205524415,0.19642857142857142,0.22448979591836732,0.23361034164358263,0.24328593996840439,0.23952682338758285,0.22377142857142859,0.24239028944911298,0.21305510968432315,0.21129514607775476,0.20643431635388737,0.19636855658853822,0.2095238095238095,0.21116071428571426,0.22929405225125069,0.22824877614597236,0.22489340935942875,0.23795476892822023,0.19585921325051758,0.21899381221415115,0.27411793733037254,0.22647058823529412,0.2095238095238095,0.23206751054852318,0.22292867077289882,0.23364947638806557,0.2095238095238095,0.24812030075187969,0.19642857142857142,0.22155911973144349,0.24103317419512788,0.20452113429641519,213]
["Female 35-39",0.14000000000000001,0.16347557731948975,0.1490800792706089,0.15283012129995052,0.14560000000000001,0.14029519381843331,0.12643687360692932,0.14440098473573754,0.14560000000000001,0.13508760281490767,0.12726402397256281,0.13333333333333336,0.13333333333333336,0.14464652472904099,0.13333333333333336,0.12230470130788265,0.12500000000000003,0.14285714285714288,0.1486611265004617,0.15481832543443919,0.15242616033755277,0.14240000000000005,0.15424836601307193,0.1355805243445693,0.13446054750402578,0.13136729222520108,0.12496180873816072,0.13333333333333336,0.13437500000000002,0.14591439688715957,0.14524922118380063,0.14311398777418197,0.15142576204523109,0.12463768115942031,0.13935969868173259,0.17443868739205529,0.14411764705882357,0.13333333333333336,0.14767932489451477,0.14186369958275383,0.14868603042876904,0.13333333333333336,0.15789473684210528,0.12500000000000003,0.14099216710182771,0.15338474721508141,0.13014981273408241,214]
["Female 40-44",0.13,0.15179875036809762,0.13843150217985112,0.14191368406423976,0.13520000000000001,0.13027410854568808,0.1174056683492915,0.13408662868318486,0.13520000000000001,0.12543848832812854,0.11817373654595117,0.12380952380952383,0.12380952380952383,0.13431463010553804,0.12380952380952383,0.11356865121446245,0.11607142857142858,0.1326530612244898,0.13804247460757157,0.14375987361769352,0.141538577456299,0.13222857142857147,0.14323062558356678,0.12589620117710007,0.12485622268230966,0.12198391420911528,0.11603596525686352,0.12380952380952383,0.12477678571428573,0.13549193996664816,0.13487427681352915,0.13289156007602609,0.14060963618485744,0.11573498964803314,0.12940543449018024,0.1619787811497656,0.13382352941176473,0.12380952380952383,0.1371308016877637,0.1317305781839857,0.13806559968385695,0.12380952380952383,0.14661654135338348,0.11607142857142858,0.13092129802312572,0.14242869384257559,0.12085339753879082,215]
["Female 45-49",0.13,0.15179875036809762,0.13843150217985112,0.14191368406423976,0.13520000000000001,0.13027410854568808,0.1174056683492915,0.13408662868318486,0.13520000000000001,0.12543848832812854,0.11817373654595117,0.12380952380952383,0.12380952380952383,0.13431463010553804,0.12380952380952383,0.11356865121446245,0.11607142857142858,0.1326530612244898,0.13804247460757157,0.14375987361769352,0.141538577456299,0.13222857142857147,0.14323062558356678,0.12589620117710007,0.12485622268230966,0.12198391420911528,0.11603596525686352,0.12380952380952383,0.12477678571428573,0.13549193996664816,0.13487427681352915,0.13289156007602609,0.14060963618485744,0.11573498964803314,0.12940543449018024,0.1619787811497656,0.13382352941176473,0.12380952380952383,0.1371308016877637,0.1317305781839857,0.13806559968385695,0.12380952380952383,0.14661654135338348,0.11607142857142858,0.13092129802312572,0.14242869384257559,0.12085339753879082,216]
["Female 50-54",0.19999999999999996,0.23353653902784241,0.21297154181515551,0.21832874471421496,0.20799999999999996,0.20042170545490468,0.18062410515275612,0.20628712105105357,0.20799999999999996,0.19298228973558235,0.18180574853223253,0.19047619047619044,0.19047619047619044,0.20663789247005848,0.19047619047619044,0.17472100186840375,0.17857142857142855,0.20408163265306117,0.21237303785780237,0.22116903633491306,0.21775165762507531,0.20342857142857143,0.22035480859010267,0.19368646334938466,0.19208649643432249,0.18766756032171578,0.17851686962594382,0.19047619047619044,0.19196428571428567,0.20844913841022789,0.20749888740542941,0.20444855396311704,0.21632251720747292,0.17805383022774324,0.19908528383104648,{"$f":"AK$270*$B217","v":0.24919812484579318},0.20588235294117646,0.19047619047619044,0.21097046413502105,0.20266242797536255,0.21240861489824142,0.19047619047619044,0.22556390977443605,0.17857142857142855,0.20141738157403952,0.21912106745011622,0.18592830390583198,217]
["Female 55-59",0.30000000000000004,0.35030480854176377,0.31945731272273337,0.32749311707132256,0.31200000000000006,0.30063255818235712,0.27093615772913426,0.30943068157658044,0.31200000000000006,0.2894734346033736,0.2727086227983489,0.28571428571428575,0.28571428571428575,0.30995683870508783,0.28571428571428575,0.26208150280260573,0.2678571428571429,0.3061224489795919,0.31855955678670367,0.33175355450236971,0.32662748643761308,0.30514285714285727,0.33053221288515411,0.29052969502407711,0.28812974465148383,0.28150134048257375,0.26777530443891584,0.28571428571428575,0.2879464285714286,0.31267370761534191,0.31124833110814421,0.30667283094467568,0.32448377581120952,0.26708074534161497,0.29862792574656982,0.37379718726868993,0.30882352941176477,0.28571428571428575,0.31645569620253167,0.30399364196304396,0.31861292234736222,0.28571428571428575,0.33834586466165423,0.2678571428571429,0.30212607236105937,0.32868160117517448,0.27889245585874806,218]
["Female 60-64",0.64,0.74731692488909585,0.68150893380849786,0.69865198308548804,0.66560000000000008,0.64134945745569516,0.57799713648881967,0.66011878736337148,0.66560000000000008,0.61754332715386362,0.58177839530314424,0.60952380952380958,0.60952380952380958,0.66124125590418725,0.60952380952380958,0.55910720597889207,0.57142857142857151,0.65306122448979598,0.67959372114496774,0.70774091627172198,0.69680530440024113,0.65097142857142876,0.70513538748832871,0.61979668271803112,0.6146767885898321,0.60053619302949057,0.57125398280302042,0.60952380952380958,0.61428571428571432,0.66703724291272937,0.66399643969737432,0.65423537268197463,0.6922320550639135,0.56977225672877851,0.63707290825934892,0.79743399950653837,0.65882352941176481,0.60952380952380958,0.67510548523206748,0.64851976952116031,0.67970756767437268,0.60952380952380958,0.72180451127819556,0.57142857142857151,0.64453562103692663,0.70118741584037214,0.59497057249866248,219]
["Female 65-69",0.89,1,0.94772336107744226,0.97156291397825678,0.92560000000000009,0.891876589274326,0.80377726792976489,0.91797768867718854,0.92560000000000009,0.85877118932334162,0.80903558096843498,0.84761904761904772,0.84761904761904772,0.91953862149176047,0.84761904761904772,0.77750845831439686,0.79464285714285721,0.90816326530612246,0.94506001846722076,0.98420221169036337,0.96899487643158533,0.90525714285714309,0.98057889822595712,0.86190476190476195,0.8547849091327353,0.83512064343163539,0.7944000698354502,0.84761904761904772,0.85424107142857142,0.92759866592551421,0.92337004895416108,0.90979606513587097,0.96263520157325477,0.79233954451345756,0.88592951304815704,1,0.91617647058823537,0.84761904761904772,0.93881856540084385,0.90184780449036361,0.94521833629717444,0.84761904761904772,1.0037593984962407,0.79464285714285721,0.89630734800447609,0.97508875015301744,0.82738095238095244,220]
["Female 70-74",null,null,null,null,null,null,null,null,null,null,null,null,null,null,null,null,null,null,null,null,null,null,null,null,null,null,null,null,null,null,null,null,null,null,null,null,null,null,null,null,null,null,null,null,null,null,null,221]
["Female 75-79",null,null,null,null,null,null,null,null,null,null,null,null,null,null,null,null,null,null,null,null,null,null,null,null,null,null,null,null,null,null,null,null,null,null,null,null,null,null,null,null,null,null,null,null,null,null,null,222]
["Female 80-84",null,null,null,null,null,null,null,null,null,null,null,null,null,null,null,null,null,null,null,null,null,null,null,null,null,null,null,null,null,null,null,null,null,null,null,null,null,null,null,null,null,null,null,null,null,null,null,223]
["Female 85+",null,null,null,null,null,null,null,null,null,null,null,null,null,null,null,null,null,null,null,null,null,null,null,null,null,null,null,null,null,null,null,null,null,null,null,null,null,null,null,null,null,null,null,null,null,null,null,224]
[null,null,null,null,null,null,null,null,null,null,null,null,null,null,null,null,null,null,null,null,null,null,null,null,null,null,null,null,null,null,null,null,null,null,null,null,null,null,null,null,null,null,null,null,null,null,null,null,225]
["age/sex breakdown: Q5",null,null,null,null,null,null,null,null,null,null,null,null,null,null,null,null,null,null,null,null,null,null,null,null,null,null,null,null,null,null,null,null,null,null,null,null,null,null,null,null,null,null,null,null,null,null,null,226]
["Male <1",null,null,null,null,null,null,null,null,null,null,null,null,null,null,null,null,null,null,null,null,null,null,null,null,null,null,null,null,null,null,null,null,null,null,null,null,null,null,null,null,null,null,null,null,null,null,null,227]
["Male 1-4",null,null,null,null,null,null,null,null,null,null,null,null,null,null,null,null,null,null,null,null,null,null,null,null,null,null,null,null,null,null,null,null,null,null,null,null,null,null,null,null,null,null,null,null,null,null,null,228]
["Male 5-9",null,null,null,null,null,null,null,null,null,null,null,null,null,null,null,null,null,null,null,null,null,null,null,null,null,null,null,null,null,null,null,null,null,null,null,null,null,null,null,null,null,null,null,null,null,null,null,229]
["Male 10-14",null,null,null,null,null,null,null,null,null,null,null,null,null,null,null,null,null,null,null,null,null,null,null,null,null,null,null,null,null,null,null,null,null,null,null,null,null,null,null,null,null,null,null,null,null,null,null,230]
["Male 15-19",0.05,{"$f":"C$269*$B231","v":5.8135610604851985E-2},{"$f":"D$269*$B231","v":0.05},6.3932494741201176E-2,5.2492712159037738E-2,5.2901279259220439E-2,3.7500000000000006E-2,5.5247233389340657E-2,4.8000000000000001E-2,5.2453833948306577E-2,4.1500000000000002E-2,4.6969696969696967E-2,4.6969696969696967E-2,5.2915786936072851E-2,4.6969696969696967E-2,3.6283007458173755E-2,3.5832329410311059E-2,5.3119429590017822E-2,5.7318048520394564E-2,5.6523787093735282E-2,6.3823163138231637E-2,5.8745348219032427E-2,5.6080283353010629E-2,5.0253154991309605E-2,4.9696969696969698E-2,4.6482524358630553E-2,3.8750872084205419E-2,4.6969696969696967E-2,5.2777777777777785E-2,5.2402943843444884E-2,5.757318734417971E-2,4.4320758606472888E-2,6.2626262626262627E-2,4.8366400157931096E-2,4.6487603305785129E-2,6.0129785080669164E-2,5.5743823977211338E-2,4.6969696969696967E-2,4.6933986327925718E-2,5.0199422362811164E-2,5.027548209366392E-2,4.6969696969696967E-2,5.7459470552021344E-2,4.8920251232389959E-2,5.079698721317219E-2,5.6264398369661531E-2,4.28295109146173E-2,231]
["Male 20-24",0.08,{"$f":"C$269*$B232","v":9.3016976967763176E-2},{"$f":"D$269*$B232","v":0.08},0.10229199158592188,8.3988339454460381E-2,8.4642046814752694E-2,0.06,8.8395573422945045E-2,7.6799999999999993E-2,8.3926134317290513E-2,6.6400000000000001E-2,7.515151515151515E-2,7.515151515151515E-2,8.4665259097716564E-2,7.515151515151515E-2,5.8052811933078007E-2,5.7331727056497694E-2,8.4991087344028507E-2,9.1708877632631303E-2,9.0438059349976452E-2,0.10211706102117062,9.3992557150451878E-2,8.972845336481701E-2,8.0405047986095365E-2,7.9515151515151511E-2,7.4372038973808882E-2,6.2001395334728669E-2,7.515151515151515E-2,8.4444444444444447E-2,8.3844710149511809E-2,9.2117099750687534E-2,7.0913213770356628E-2,0.10020202020202019,7.7386240252689753E-2,7.43801652892562E-2,9.6207656129070659E-2,8.9190118363538143E-2,7.515151515151515E-2,7.5094378124681144E-2,8.0319075780497864E-2,8.0440771349862258E-2,7.515151515151515E-2,9.1935152883234145E-2,7.8272401971823932E-2,8.1275179541075493E-2,9.0023037391458449E-2,6.8527217463387677E-2,232]
["Male 25-29",0.19999999999999996,0.23254244241940789,0.19999999999999996,0.25572997896480465,0.2099708486361509,0.2116051170368817,0.14999999999999997,0.22098893355736257,0.19199999999999995,0.20981533579322625,0.16599999999999995,0.18787878787878781,0.18787878787878781,0.21166314774429135,0.18787878787878781,0.14513202983269499,0.14332931764124421,0.21247771836007123,0.2292721940815782,0.22609514837494107,0.25529265255292649,0.23498139287612965,0.22432113341204246,0.20101261996523836,0.19878787878787874,0.18593009743452216,0.15500348833682165,0.18787878787878781,0.21111111111111108,0.20961177537377948,0.23029274937671879,0.17728303442589152,0.2505050505050504,0.19346560063172433,0.18595041322314046,0.2405191403226766,0.22297529590884529,0.18787878787878781,0.18773594531170282,0.2007976894512446,0.20110192837465563,0.18787878787878781,0.22983788220808532,0.19568100492955978,0.2031879488526887,0.22505759347864607,0.17131804365846914,233]
["Male 30-34",6.9999999999999951E-2,8.1389854846792717E-2,6.9999999999999951E-2,8.950549263768158E-2,7.3489797022652778E-2,7.4061790962908561E-2,5.2499999999999963E-2,7.7346126745076862E-2,6.7199999999999954E-2,7.343536752762915E-2,5.8099999999999957E-2,6.5757575757575709E-2,6.5757575757575709E-2,7.4082101710501932E-2,6.5757575757575709E-2,5.0796210441443224E-2,5.0165261174435448E-2,7.436720142602489E-2,8.0245267928552327E-2,7.9133301931229333E-2,8.9352428393524225E-2,8.2243487506645341E-2,7.8512396694214823E-2,7.0354416987833387E-2,6.9575757575757527E-2,6.5075534102082722E-2,5.4251220917887547E-2,6.5757575757575709E-2,7.3888888888888837E-2,7.336412138082278E-2,8.0602462281851542E-2,6.2049062049062E-2,8.7676767676767603E-2,6.7712960221103485E-2,6.5082644628099123E-2,8.418169911293677E-2,7.8041353568095814E-2,6.5757575757575709E-2,6.5707580859095949E-2,7.0279191307935585E-2,7.0385674931129433E-2,6.5757575757575709E-2,8.0443258772829818E-2,6.8488351725345883E-2,7.1115782098441008E-2,7.8770157717526088E-2,5.9961315280464174E-2,234]
["Male 35-39",2.0000000000000018E-2,2.3254244241940815E-2,2.0000000000000018E-2,2.5572997896480491E-2,2.0997084863615113E-2,2.1160511703688194E-2,1.5000000000000013E-2,2.2098893355736282E-2,1.9200000000000016E-2,2.0981533579322649E-2,1.6600000000000014E-2,1.8787878787878805E-2,1.8787878787878805E-2,2.1166314774429158E-2,1.8787878787878805E-2,1.4513202983269516E-2,1.4332931764124436E-2,2.1247771836007148E-2,2.2927219408157843E-2,2.260951483749413E-2,2.5529265255292675E-2,2.349813928761299E-2,2.2432113341204273E-2,2.0101261996523859E-2,1.9878787878787895E-2,1.8593009743452238E-2,1.5500348833682181E-2,1.8787878787878805E-2,2.1111111111111129E-2,2.0961177537377973E-2,2.3029274937671904E-2,1.7728303442589171E-2,2.505050505050507E-2,1.9346560063172456E-2,1.8595041322314067E-2,2.4051914032267686E-2,2.2297529590884557E-2,1.8787878787878805E-2,1.8773594531170303E-2,2.0079768945124483E-2,2.0110192837465585E-2,1.8787878787878805E-2,2.2983788220808557E-2,1.9568100492956E-2,2.0318794885268891E-2,2.250575934786463E-2,1.7131804365846933E-2,235]
["Male 40-44",3.0000000000000027E-2,3.4881366362911219E-2,3.0000000000000027E-2,3.8359496844720738E-2,3.1495627295422671E-2,3.174076755553229E-2,2.250000000000002E-2,3.3148340033604423E-2,2.8800000000000023E-2,3.147230036898397E-2,2.4900000000000019E-2,2.8181818181818204E-2,2.8181818181818204E-2,3.1749472161643741E-2,2.8181818181818204E-2,2.1769804474904272E-2,2.1499397646186656E-2,3.187165775401072E-2,3.4390829112236766E-2,3.3914272256241197E-2,3.8293897882939014E-2,3.5247208931419485E-2,3.3648170011806408E-2,3.0151892994785788E-2,2.9818181818181844E-2,2.7889514615178353E-2,2.3250523250523271E-2,2.8181818181818204E-2,3.1666666666666697E-2,3.1441766306066959E-2,3.4543912406507858E-2,2.6592455163883755E-2,3.7575757575757603E-2,2.9019840094758682E-2,2.7892561983471099E-2,3.607787104840153E-2,3.3446294386326833E-2,2.8181818181818204E-2,2.8160391796755453E-2,3.0119653417686725E-2,3.0165289256198376E-2,2.8181818181818204E-2,3.4475682331212835E-2,2.9352150739434001E-2,3.0478192327903338E-2,3.3758639021796946E-2,2.5697706548770401E-2,236]
["Male 45-49",3.0000000000000027E-2,3.4881366362911219E-2,3.0000000000000027E-2,3.8359496844720738E-2,3.1495627295422671E-2,3.174076755553229E-2,2.250000000000002E-2,3.3148340033604423E-2,2.8800000000000023E-2,3.147230036898397E-2,2.4900000000000019E-2,2.8181818181818204E-2,2.8181818181818204E-2,3.1749472161643741E-2,2.8181818181818204E-2,2.1769804474904272E-2,2.1499397646186656E-2,3.187165775401072E-2,3.4390829112236766E-2,3.3914272256241197E-2,3.8293897882939014E-2,3.5247208931419485E-2,3.3648170011806408E-2,3.0151892994785788E-2,2.9818181818181844E-2,2.7889514615178353E-2,2.3250523250523271E-2,2.8181818181818204E-2,3.1666666666666697E-2,3.1441766306066959E-2,3.4543912406507858E-2,2.6592455163883755E-2,3.7575757575757603E-2,2.9019840094758682E-2,2.7892561983471099E-2,3.607787104840153E-2,3.3446294386326833E-2,2.8181818181818204E-2,2.8160391796755453E-2,3.0119653417686725E-2,3.0165289256198376E-2,2.8181818181818204E-2,3.4475682331212835E-2,2.9352150739434001E-2,3.0478192327903338E-2,3.3758639021796946E-2,2.5697706548770401E-2,237]
["Male 50-54",7.999999999999996E-2,9.3016976967763121E-2,7.999999999999996E-2,0.10229199158592182,8.398833945446034E-2,8.4642046814752653E-2,5.999999999999997E-2,{"$f":"I$269*$B238","v":8.8395573422945004E-2},7.6799999999999966E-2,8.3926134317290471E-2,6.6399999999999959E-2,7.5151515151515108E-2,7.5151515151515108E-2,8.4665259097716522E-2,7.5151515151515108E-2,5.8052811933077979E-2,5.7331727056497667E-2,8.4991087344028465E-2,9.1708877632631247E-2,9.0438059349976396E-2,0.10211706102117056,9.3992557150451836E-2,8.9728453364816968E-2,8.0405047986095324E-2,7.9515151515151469E-2,7.4372038973808841E-2,6.2001395334728635E-2,7.5151515151515108E-2,8.4444444444444405E-2,8.3844710149511767E-2,9.2117099750687492E-2,7.0913213770356587E-2,0.10020202020202014,7.7386240252689711E-2,7.4380165289256159E-2,{"$f":"AK$269*$B238","v":9.6207656129070618E-2},8.9190118363538101E-2,7.5151515151515108E-2,7.5094378124681102E-2,8.0319075780497823E-2,8.0440771349862217E-2,7.5151515151515108E-2,9.1935152883234103E-2,7.8272401971823891E-2,8.1275179541075451E-2,9.0023037391458394E-2,6.8527217463387635E-2,238]
["Male 55-59",0.16000000000000003,0.18603395393552638,0.16000000000000003,0.20458398317184379,0.16797667890892079,0.16928409362950542,0.12000000000000002,0.17679114684589012,{"$f":"J$269*$B239","v":0.15360000000000001},0.16785226863458105,0.13280000000000003,0.15030303030303033,0.15030303030303033,0.16933051819543316,0.15030303030303033,0.11610562386615604,0.11466345411299542,0.16998217468805704,0.18341775526526263,0.18087611869995293,0.20423412204234126,0.18798511430090378,0.17945690672963405,0.16081009597219076,0.15903030303030305,0.14874407794761779,0.12400279066945737,0.15030303030303033,0.16888888888888892,0.16768942029902364,0.1842341995013751,0.14182642754071326,0.20040404040404042,0.15477248050537953,0.14876033057851243,0.19241531225814135,0.17838023672707631,0.15030303030303033,0.15018875624936232,0.16063815156099576,0.16088154269972454,0.15030303030303033,0.18387030576646832,0.15654480394364789,0.16255035908215101,0.18004607478291693,0.13705443492677538,239]
["Male 60-64",0.43000000000000005,0.49996625120172711,0.43000000000000005,0.54981945477433014,0.45143732456772456,0.4549510016292958,0.32250000000000001,0.4751262071483297,0.41280000000000006,0.45110297195543658,0.35690000000000005,0.40393939393939399,0.40393939393939399,0.45507576765022656,0.40393939393939399,0.31203386414029433,0.30815803292867516,0.45682709447415332,0.49293521727539324,0.48610456900612342,0.54887920298879211,0.50520999468367889,0.48229043683589146,0.43217713292526261,0.42739393939393944,0.39974970948422278,0.33325749992416664,0.40393939393939399,0.45388888888888895,0.45066531705362606,0.49512941115994558,0.38115852401566686,0.53858585858585861,0.41595104135820749,0.39979338842975209,0.51711615169375491,0.47939688620401755,0.40393939393939399,0.40363228242016119,0.43171503232017605,0.43236914600550974,0.40393939393939399,0.49415144674738359,0.42071416059855365,0.43685409003328085,0.48387382597908918,0.3683337938657088,240]
["Male 65-69",0.9,1,0.9,1,0.94486881886267926,0.95222302666596781,0.67500000000000004,0.99445020100813186,0.86399999999999999,0.94416901106951834,0.747,0.84545454545454546,0.84545454545454546,0.95248416484931131,0.84545454545454546,0.65309413424712759,0.64498192938559906,0.95614973262032077,1,1,1,1,1,0.90455678984357279,0.89454545454545453,0.83668543845534993,0.69751569751569753,0.84545454545454546,0.95000000000000007,0.94325298918200795,1,0.79777365491651198,1,0.87059520284275971,1,1.082336131452045,1.0033888315898041,0.84545454545454546,0.84481175390266283,0.90358960253060094,0.90495867768595051,0.84545454545454546,1,0.88056452218301917,0.91434576983709936,1,0.77093119646311137,241]
["Male 70-74",null,null,null,null,null,null,null,null,null,null,null,null,null,null,null,null,null,null,null,null,null,null,null,null,null,null,null,null,null,null,null,null,null,null,null,null,null,null,null,null,null,null,null,null,null,null,null,242]
["Male 75-79",null,null,null,null,null,null,null,null,null,null,null,null,null,null,null,null,null,null,null,null,null,null,null,null,null,null,null,null,null,null,null,null,null,null,null,null,null,null,null,null,null,null,null,null,null,null,null,243]
["Male 80-84",null,null,null,null,null,null,null,null,null,null,null,null,null,null,null,null,null,null,null,null,null,null,null,null,null,null,null,null,null,null,null,null,null,null,null,null,null,null,null,null,null,null,null,null,null,null,null,244]
["Male 85+",null,null,null,null,null,null,null,null,null,null,null,null,null,null,null,null,null,null,null,null,null,null,null,null,null,null,null,null,null,null,null,null,null,null,null,null,null,null,null,null,null,null,null,null,null,null,null,245]
[null,null,null,null,null,null,null,null,null,null,null,null,null,null,null,null,null,null,null,null,null,null,null,null,null,null,null,null,null,null,null,null,null,null,null,null,null,null,null,null,null,null,null,null,null,null,null,null,246]
["Female <1",null,null,null,null,null,null,null,null,null,null,null,null,null,null,null,null,null,null,null,null,null,null,null,null,null,null,null,null,null,null,null,null,null,null,null,null,null,null,null,null,null,null,null,null,null,null,null,247]
["Female 1-4",null,null,null,null,null,null,null,null,null,null,null,null,null,null,null,null,null,null,null,null,null,null,null,null,null,null,null,null,null,null,null,null,null,null,null,null,null,null,null,null,null,null,null,null,null,null,null,248]
["Female 5-9",null,null,null,null,null,null,null,null,null,null,null,null,null,null,null,null,null,null,null,null,null,null,null,null,null,null,null,null,null,null,null,null,null,null,null,null,null,null,null,null,null,null,null,null,null,null,null,249]
["Female 10-14",null,null,null,null,null,null,null,null,null,null,null,null,null,null,null,null,null,null,null,null,null,null,null,null,null,null,null,null,null,null,null,null,null,null,null,null,null,null,null,null,null,null,null,null,null,null,null,250]
["Female 15-19",0.05,{"$f":"C$270*$B251","v":5.8384134756960616E-2},{"$f":"D$270*$B251","v":5.3242885453788892E-2},5.4582186178553753E-2,5.2000000000000005E-2,5.0105426363726183E-2,4.5156026288189044E-2,5.1571780262763406E-2,{"$f":"J$270*$B251","v":5.2000000000000005E-2},4.82455724338956E-2,4.5451437133058145E-2,4.7619047619047623E-2,4.7619047619047623E-2,5.1659473117514634E-2,4.7619047619047623E-2,4.3680250467100945E-2,4.4642857142857151E-2,5.1020408163265307E-2,5.3093259464450607E-2,5.5292259083728285E-2,5.4437914406268842E-2,5.0857142857142872E-2,5.5088702147525682E-2,4.842161583734618E-2,4.8021624108580636E-2,4.6916890080428958E-2,4.4629217406485969E-2,4.7619047619047623E-2,4.7991071428571432E-2,5.2112284602556985E-2,5.1874721851357365E-2,5.1112138490779273E-2,5.4080629301868244E-2,4.4513457556935823E-2,4.9771320957761635E-2,6.2299531211448315E-2,5.1470588235294129E-2,4.7619047619047623E-2,5.2742616033755275E-2,5.0665606993840651E-2,5.3102153724560369E-2,4.7619047619047623E-2,5.6390977443609026E-2,4.4642857142857151E-2,5.0354345393509893E-2,5.478026686252907E-2,4.6482075976458009E-2,251]
["Female 20-24",0.08,{"$f":"C$270*$B252","v":9.3414615611136981E-2},8.5188616726062233E-2,8.7331497885686005E-2,8.320000000000001E-2,8.0168682181961895E-2,7.2249642061102459E-2,8.2514848420421436E-2,8.320000000000001E-2,7.7192915894232952E-2,7.2722299412893029E-2,7.6190476190476197E-2,7.6190476190476197E-2,8.2655156988023407E-2,7.6190476190476197E-2,6.9888400747361509E-2,7.1428571428571438E-2,8.1632653061224497E-2,8.4949215143120968E-2,8.8467614533965247E-2,8.7100663050030142E-2,8.1371428571428595E-2,8.8141923436041089E-2,7.747458533975389E-2,7.6834598573729013E-2,7.5067024128686322E-2,7.1406747850377553E-2,7.6190476190476197E-2,7.678571428571429E-2,8.3379655364091171E-2,8.299955496217179E-2,8.1779421585246828E-2,8.6529006882989187E-2,7.1221532091097314E-2,7.9634113532418616E-2,9.9679249938317296E-2,8.2352941176470601E-2,7.6190476190476197E-2,8.4388185654008435E-2,8.1064971190145038E-2,8.4963445959296585E-2,7.6190476190476197E-2,9.0225563909774445E-2,7.1428571428571438E-2,8.0566952629615829E-2,8.7648426980046518E-2,7.4371321562332809E-2,252]
["Female 25-29",0.10999999999999999,0.12844509646531332,0.11713434799833554,0.12008080959281824,0.11439999999999999,0.11023193800019758,9.9343257834015875E-2,0.11345791657807947,0.11439999999999999,0.10614025935457029,9.99931616927279E-2,0.10476190476190475,0.10476190476190475,0.11365084085853218,0.10476190476190475,9.6096551027622074E-2,9.8214285714285712E-2,0.11224489795918366,0.11680517082179132,0.1216429699842022,0.11976341169379143,0.1118857142857143,0.12119514472455649,0.10652755484216157,0.10564757303887738,0.10321715817694369,9.8184278294269109E-2,0.10476190476190475,0.10558035714285713,0.11464702612562534,0.11412438807298618,0.11244670467971438,0.11897738446411012,9.7929606625258792E-2,0.10949690610707558,0.13705896866518627,0.11323529411764706,0.10476190476190475,0.11603375527426159,0.11146433538644941,0.11682473819403279,0.10476190476190475,0.12406015037593984,9.8214285714285712E-2,0.11077955986572174,0.12051658709756394,0.1022605671482076,253]
["Female 30-34",0.13,0.15179875036809762,0.13843150217985112,0.14191368406423976,0.13520000000000001,0.13027410854568808,0.1174056683492915,0.13408662868318486,0.13520000000000001,0.12543848832812854,0.11817373654595117,0.12380952380952383,0.12380952380952383,0.13431463010553804,0.12380952380952383,0.11356865121446245,0.11607142857142858,0.1326530612244898,0.13804247460757157,0.14375987361769352,0.141538577456299,0.13222857142857147,0.14323062558356678,0.12589620117710007,0.12485622268230966,0.12198391420911528,0.11603596525686352,0.12380952380952383,0.12477678571428573,0.13549193996664816,0.13487427681352915,0.13289156007602609,0.14060963618485744,0.11573498964803314,0.12940543449018024,0.1619787811497656,0.13382352941176473,0.12380952380952383,0.1371308016877637,0.1317305781839857,0.13806559968385695,0.12380952380952383,0.14661654135338348,0.11607142857142858,0.13092129802312572,0.14242869384257559,0.12085339753879082,254]
["Female 35-39",0.19999999999999996,0.23353653902784241,0.21297154181515551,0.21832874471421496,0.20799999999999996,0.20042170545490468,0.18062410515275612,0.20628712105105357,0.20799999999999996,0.19298228973558235,0.18180574853223253,0.19047619047619044,0.19047619047619044,0.20663789247005848,0.19047619047619044,0.17472100186840375,0.17857142857142855,0.20408163265306117,0.21237303785780237,0.22116903633491306,0.21775165762507531,0.20342857142857143,0.22035480859010267,0.19368646334938466,0.19208649643432249,0.18766756032171578,0.17851686962594382,0.19047619047619044,0.19196428571428567,0.20844913841022789,0.20749888740542941,0.20444855396311704,0.21632251720747292,0.17805383022774324,0.19908528383104648,0.24919812484579318,0.20588235294117646,0.19047619047619044,0.21097046413502105,0.20266242797536255,0.21240861489824142,0.19047619047619044,0.22556390977443605,0.17857142857142855,0.20141738157403952,0.21912106745011622,0.18592830390583198,255]
["Female 40-44",0.17000000000000004,0.19850605817366615,0.18102581054288228,0.18557943300708279,0.17680000000000004,0.17035844963666905,0.15353048937984276,0.17534405289339561,0.17680000000000004,0.16403494627524506,0.15453488625239772,0.16190476190476194,0.16190476190476194,0.17564220859954979,0.16190476190476194,0.14851285158814326,0.15178571428571433,0.17346938775510209,0.18051708217913209,0.18799368088467619,0.18508890898131411,0.1729142857142858,0.18730158730158736,0.16463349384697704,0.16327352196917419,0.15951742627345847,0.15173933918205232,0.16190476190476194,0.16316964285714289,0.17718176764869378,0.17637405429461508,0.17378127086864956,0.18387413962635207,0.15134575569358183,0.16922249125638961,0.2118184061189243,0.17500000000000007,0.16190476190476194,0.17932489451476796,0.17226306377905826,0.18054732266350529,0.16190476190476194,0.19172932330827072,0.15178571428571433,0.17120477433793369,0.18625290733259889,0.15803905831995724,256]
["Female 45-49",0.14000000000000001,0.16347557731948975,0.1490800792706089,0.15283012129995052,0.14560000000000001,0.14029519381843331,0.12643687360692932,0.14440098473573754,0.14560000000000001,0.13508760281490767,0.12726402397256281,0.13333333333333336,0.13333333333333336,0.14464652472904099,0.13333333333333336,0.12230470130788265,0.12500000000000003,0.14285714285714288,0.1486611265004617,0.15481832543443919,0.15242616033755277,0.14240000000000005,0.15424836601307193,0.1355805243445693,0.13446054750402578,0.13136729222520108,0.12496180873816072,0.13333333333333336,0.13437500000000002,0.14591439688715957,0.14524922118380063,0.14311398777418197,0.15142576204523109,0.12463768115942031,0.13935969868173259,0.17443868739205529,0.14411764705882357,0.13333333333333336,0.14767932489451477,0.14186369958275383,0.14868603042876904,0.13333333333333336,0.15789473684210528,0.12500000000000003,0.14099216710182771,0.15338474721508141,0.13014981273408241,257]
["Female 50-54",0.17000000000000004,0.19850605817366615,0.18102581054288228,0.18557943300708279,0.17680000000000004,0.17035844963666905,0.15353048937984276,0.17534405289339561,0.17680000000000004,0.16403494627524506,0.15453488625239772,0.16190476190476194,0.16190476190476194,0.17564220859954979,0.16190476190476194,0.14851285158814326,0.15178571428571433,0.17346938775510209,0.18051708217913209,0.18799368088467619,0.18508890898131411,0.1729142857142858,0.18730158730158736,0.16463349384697704,0.16327352196917419,0.15951742627345847,0.15173933918205232,0.16190476190476194,0.16316964285714289,0.17718176764869378,0.17637405429461508,0.17378127086864956,0.18387413962635207,0.15134575569358183,0.16922249125638961,0.2118184061189243,{"$f":"AL$270*$B258","v":0.17500000000000007},0.16190476190476194,0.17932489451476796,0.17226306377905826,0.18054732266350529,0.16190476190476194,0.19172932330827072,0.15178571428571433,0.17120477433793369,0.18625290733259889,0.15803905831995724,258]
["Female 55-59",0.32999999999999996,0.38533528939594003,0.35140304399500666,0.36024242877845469,0.34319999999999995,0.33069581400059272,0.29802977350204762,0.3403737497342384,0.34319999999999995,0.31842077806371089,0.29997948507818373,0.31428571428571428,0.31428571428571428,0.34095252257559655,0.31428571428571428,0.28828965308286619,0.2946428571428571,0.33673469387755101,0.35041551246537395,0.36492890995260657,0.35929023508137431,0.33565714285714288,0.36358543417366945,0.31958266452648471,0.31694271911663213,0.30965147453083103,0.29455283488280731,0.31428571428571428,0.31674107142857139,0.34394107837687604,0.34237316421895858,0.33734011403914316,0.35693215339233036,0.29378881987577637,0.32849071832122673,0.41117690599555878,0.33970588235294119,0.31428571428571428,0.34810126582278478,0.33439300615934825,0.35047421458209838,0.31428571428571428,0.3721804511278195,0.2946428571428571,0.33233867959716523,0.36154976129269184,0.3067817014446228,259]
["Female 60-64",0.66999999999999993,0.78234740574327211,0.71345466508077104,0.73140129479262017,0.69679999999999997,0.67141271327393071,0.60509075226173303,0.6910618555210295,0.69679999999999997,0.64649067061420096,0.60904925758297901,0.63809523809523805,0.63809523809523805,0.69223693977469603,0.63809523809523805,0.58531535625915265,0.5982142857142857,0.68367346938775508,0.71144967682363802,0.74091627172195884,0.72946805304400242,0.68148571428571436,0.738188608776844,0.64884965222043867,0.6434897630549804,0.62868632707774785,0.59803151324691184,0.63809523809523805,0.64308035714285705,0.69830461367426344,0.69512127280818858,0.68490265577644216,0.72468043264503434,0.59648033126293998,0.66693570083400577,0.83481371823340733,0.68970588235294117,0.63809523809523805,0.70675105485232059,0.6789191337174646,0.71156885990910879,0.63809523809523805,0.75563909774436089,0.5982142857142857,0.67474822827303249,0.73405557595788951,0.62285981808453716,260]
["Female 65-69",0.9,1,0.9583719381682001,0.98247935121396746,0.93600000000000005,0.90189767454707126,0.81280847318740268,0.92829204472974125,0.93600000000000005,0.8684203038101207,0.81812586839504653,0.85714285714285721,0.85714285714285721,0.92987051611526339,0.85714285714285721,0.78624450840781701,0.8035714285714286,0.91836734693877553,0.95567867036011089,0.99526066350710907,0.97988245931283913,0.91542857142857159,0.99159663865546233,0.87158908507223121,0.86438923395445144,0.84450402144772119,0.80332591331674741,0.85714285714285721,0.86383928571428581,0.93802112284602568,0.93374499332443262,0.92001849283402681,0.97345132743362839,0.80124223602484479,0.89588377723970947,1,0.92647058823529427,0.85714285714285721,0.949367088607595,0.91198092588913171,0.95583876704208659,0.85714285714285721,1,0.8035714285714286,0.90637821708317812,0.98604480352552326,0.83667736757624411,261]
["Female 70-74",null,null,null,null,null,null,null,null,null,null,null,null,null,null,null,null,null,null,null,null,null,null,null,null,null,null,null,null,null,null,null,null,null,null,null,null,null,null,null,null,null,null,null,null,null,null,null,262]
["Female 75-79",null,null,null,null,null,null,null,null,null,null,null,null,null,null,null,null,null,null,null,null,null,null,null,null,null,null,null,null,null,null,null,null,null,null,null,null,null,null,null,null,null,null,null,null,null,null,null,263]
["Female 80-84",null,null,null,null,null,null,null,null,null,null,null,null,null,null,null,null,null,null,null,null,null,null,null,null,null,null,null,null,null,null,null,null,null,null,null,null,null,null,null,null,null,null,null,null,null,null,null,264]
["Female 85+",null,null,null,null,null,null,null,null,null,null,null,null,null,null,null,null,null,null,null,null,null,null,null,null,null,null,null,null,null,null,null,null,null,null,null,null,null,null,null,null,null,null,null,null,null,null,null,265]
[null,null,null,null,null,null,null,null,null,null,null,null,null,null,null,null,null,null,null,null,null,null,null,null,null,null,null,null,null,null,null,null,null,null,null,null,null,null,null,null,null,null,null,null,null,null,null,null,266]
["Overall prevalence (aged 16+)","Men",0.38303886925795055,0.33181818181818185,0.42123287671232879,0.34585942936673625,0.3485513608428446,0.24876957494407159,0.36400817995910023,0.29251700680272108,0.3456032719836401,0.27531455961653684,0.31,0.31,0.3486469477658905,0.31,0.23946784922394679,0.23649337410805302,0.35058823529411764,0.3782991202346041,0.37305699481865284,0.42123287671232879,0.38771929824561402,0.37012987012987014,0.33167082294264338,0.32800000000000001,0.30678466076696165,0.25575575575575576,{"$f":"P267","v":0.31},0.34833333333333333,0.34585942936673625,0.3799830364715861,0.29251700680272108,0.41333333333333333,0.31921824104234525,0.30681818181818182,0.39685658153241649,0.36790923824959482,{"$f":"M267","v":0.31},0.30976430976430974,0.33131618759455372,0.33181818181818185,{"$f":"N267","v":0.31},0.37923250564334088,0.32287365813377372,0.33526011560693642,0.37134502923976609,0.28267477203647418,267]
[null,"Women",0.4891304347826087,0.44605809128630708,0.45727848101265822,0.4377431906614786,0.41977309562398701,0.37830802603036878,0.43205791106514996,0.42934196332254587,0.40419161676646709,0.38078291814946619,0.4,0.4,0.43279258400927001,0.4,0.36691410392364793,0.375,0.42857142857142855,0.44598337950138506,0.46445497630331756,0.45727848101265822,0.42720000000000002,0.46274509803921571,0.40674157303370789,0.40338164251207731,0.3941018766756032,0.37488542621448212,{"$f":"P268","v":0.4},0.40312500000000001,0.4377431906614786,0.43574766355140188,0.42934196332254587,0.45427728613569324,0.37391304347826088,0.41807909604519772,0.52331606217616577,0.43235294117647061,{"$f":"M268","v":0.4},0.44303797468354428,0.42559109874826145,0.44605809128630708,{"$f":"N268","v":0.4},0.47368421052631576,0.375,0.42297650130548303,0.46015424164524421,0.3904494382022472,268]
["Crude weights","Men",1.1627122120970397,1,1.2786498948240235,1.0498542431807547,1.0580255851844087,0.75,1.1049446677868131,0.96,1.0490766789661314,0.83,{"$f":"M267/0.33","v":0.93939393939393934},{"$f":"N267/0.33","v":0.93939393939393934},1.058315738721457,{"$f":"P267/0.33","v":0.93939393939393934},0.7256601491634751,0.71664658820622118,1.0623885918003564,1.1463609704078912,1.1304757418747056,1.2764632627646326,1.1749069643806485,1.1216056670602126,1.005063099826192,0.9939393939393939,0.92965048717261101,0.77501744168410835,0.93939393939393934,1.0555555555555556,1.0480588768688976,1.1514637468835942,0.88641517212945775,1.2525252525252524,0.96732800315862189,0.92975206611570249,1.2025957016133833,1.1148764795442268,0.93939393939393934,0.93867972655851428,1.0039884472562233,1.0055096418732783,0.93939393939393934,1.1491894110404268,0.9784050246477991,1.0159397442634437,1.1252879673932306,0.85659021829234594,269]
[null,"Women",1.1676826951392123,1.0648577090757778,1.091643723571075,1.04,1.0021085272745236,0.90312052576378077,1.031435605255268,1.04,0.9649114486779119,0.90902874266116285,{"$f":"M268/0.42","v":0.95238095238095244},{"$f":"N268/0.42","v":0.95238095238095244},1.0331894623502926,{"$f":"P268/0.42","v":0.95238095238095244},0.8736050093420189,0.8928571428571429,1.0204081632653061,1.0618651892890121,1.1058451816745656,1.0887582881253768,1.0171428571428573,1.1017740429505136,0.96843231674692354,0.9604324821716127,0.93833780160857905,0.89258434812971932,0.95238095238095244,0.9598214285714286,1.0422456920511396,1.0374944370271473,1.0222427698155854,1.0816125860373649,0.89026915113871641,0.99542641915523267,1.2459906242289662,1.0294117647058825,0.95238095238095244,1.0548523206751055,1.013312139876813,1.0620430744912073,0.95238095238095244,1.1278195488721805,0.8928571428571429,1.0070869078701978,1.0956053372505814,0.92964151952916008,270]
[null,null,null,null,null,null,null,null,null,null,null,null,null,null,null,null,null,null,null,null,null,null,null,null,null,null,null,null,null,null,null,null,null,null,null,null,null,null,null,null,null,null,null,null,null,null,null,null,275]
[null,null,null,null,null,null,null,null,null,null,null,null,null,null,null,null,null,null,null,null,null,null,null,null,null,null,null,null,null,null,null,null,null,null,null,null,null,null,null,null,null,null,null,null,null,null,null,null,276]
[null,null,null,null,null,null,null,null,null,null,null,null,null,null,null,null,null,null,null,null,null,null,null,null,null,null,null,null,null,null,null,null,null,null,null,null,null,null,null,null,null,null,null,null,null,null,null,null,277]
["eligible population is taken to be 16-69",null,null,null,null,null,null,null,null,null,null,null,null,null,null,null,null,null,null,null,null,null,null,null,null,null,null,null,null,null,null,null,null,null,null,null,null,null,null,null,null,null,null,null,null,null,null,null,278]
[null,null,null,null,null,null,null,null,null,null,null,null,null,null,null,null,null,null,null,null,null,null,null,null,null,null,null,null,null,null,null,null,null,null,null,null,null,null,null,null,null,null,null,null,null,null,null,null,279]
[null,null,null,null,null,null,null,null,null,null,null,null,null,null,null,null,null,null,null,null,null,null,null,null,null,null,null,null,null,null,null,null,null,null,null,null,null,null,null,null,null,null,null,null,null,null,null,null,280]
[null,null,null,null,null,null,null,null,null,null,null,null,null,null,null,null,null,null,null,null,null,null,null,null,null,null,null,null,null,null,null,null,null,null,null,null,null,null,null,null,null,null,null,null,null,null,null,null,281]
[null,null,null,null,null,null,null,null,null,null,null,null,null,null,null,null,null,null,null,null,null,null,null,null,null,null,null,null,null,null,null,null,null,null,null,null,null,null,null,null,null,null,null,null,null,null,null,null,282]

{"sheet":"LookUpData_Pop","index":7,"n_rows":294,"n_cols":56,"rows_kept":294,"cut":false,"hidden":false,"merged":[]}
["POPULATION (2007-2011)","Scotland","Ayrshire & Arran Health Board","Borders Health Board","Dumfries & Galloway Health Board","Fife Health Board","Forth Valley Health Board","Grampian Health Board","Greater Glasgow & Clyde Health Board","Highland Health Board","Lanarkshire Health Board","Lothian Health Board","Orkney Health Board","Shetland Health Board","Tayside Health Board","Western Isles Health Board","Aberdeen City Local Authority","Aberdeenshire Local Authority","Angus Local Authority","Argyll & Bute Local Authority","Clackmannanshire Local Authority","Dumfries & Galloway Local Authority","Dundee City Local Authority","East Ayrshire Local Authority","East Dunbartonshire Local Authority","East Lothian Local Authority","East Renfrewshire Local Authority","Edinburgh, City of Local Authority","Eilean Siar Local Authority","Falkirk Local Authority","Fife Local Authority","Glasgow City Local Authority","Highland Local Authority","Inverclyde Local Authority","Midlothian Local Authority","Moray Local Authority","North Ayrshire Local Authority","North Lanarkshire Local Authority","Orkney Islands Local Authority","Perth & Kinross Local Authority","Renfrewshire Local Authority","Scottish Borders Local Authority","Shetland Islands Local Authority","South Ayrshire Local Authority","South Lanarkshire Local Authority","Stirling Local Authority","West Dunbartonshire Local Authority","West Lothian Local Authority","Death Rate (Scotland)",null,"Life expectancy, Scotland",null,null,"Population LookUp Reference"]
[]
["All, by SIMD",null,null,null,null,null,null,null,null,null,null,null,null,null,null,null,null,null,null,null,null,null,null,null,null,null,null,null,null,null,null,null,null,null,null,null,null,null,null,null,null,null,null,null,null,null,null,null,null,null,"National LE"]
["Total",{"$f":"B11+B18","v":26028700},{"$f":"C11+C18","v":1842310},563290,744990,1816170,1462810,2740100,5623880,1561710,3196900,4127400,101240,111780,2003560,132560,1073050,1223560,557200,450020,253050,744990,719500,602630,523830,484790,448070,2381440,132560,764300,1816170,2940530,1111690,403060,405470,443490,680460,1640600,101240,726860,854260,563290,111780,559220,1556300,445460,454130,855700,1.0669987246485007E-2,"Based on average deaths for 2005-2009 inclusive, supplied by ISD Scotland",null,null,null,3,null,"Scotland"]
["Q 1",{"$f":"B12+B19","v":5252913},{"$f":"C12+C19","v":517418},31103,57195,337361,226030,165297,2077406,133916,840054,513447,0,0,353686,0,138557,21399,48445,38987,66589,57195,264551,178759,20668,24104,31965,312418,0,113376,337361,1440003,94929,175340,42770,5341,248383,534582,0,40690,239460,31103,0,90276,305472,46065,169970,134155,1.3274686939749862E-2,null,null,null,null,4,null,"Ayrshire & Arran Health Board"]
["Q 2",{"$f":"B13+B20","v":5226592},{"$f":"C13+C20","v":512891},86790,171875,403234,345510,354054,992686,300723,832227,803580,21780,6985,335883,58374,195837,102868,95352,75798,45819,171875,151204,191788,87017,99564,40509,332546,58374,210535,403234,543394,224925,60443,130423,55349,150283,466570,21780,89327,134521,86790,6985,170820,365657,89156,126802,241047,1.2350565421834908E-2,null,null,null,null,5,null,"Borders Health Board"]
["Q 3",{"$f":"B14+B21","v":5199490},285226,172634,286916,361361,273321,599274,762939,525596,679083,761694,20767,45086,351407,74186,176873,253919,125199,176950,60904,286916,88915,76172,39685,123150,36343,360804,74186,147202,361361,367308,348646,52877,84227,168482,100046,300385,20767,137293,175756,172634,45086,109008,378698,65215,90970,193513,1.0812425014975131E-2,null,null,null,null,6,null,"Dumfries & Galloway Health Board"]
["Q 4",5176374,280310,235385,174280,337393,320273,720264,758168,457561,453856,732850,55582,52135,598317,0,124011,438626,207869,109451,43903,174280,93869,81268,104396,148200,71641,363963,0,147402,337393,331938,348110,66049,81692,157627,118478,196730,55582,296579,142333,235385,52135,80564,257126,128968,41811,138995,9.3648469224185404E-3,null,null,null,null,7,null,"Fife Health Board"]
["Q 5",{"$f":"B16+B23","v":5173331},{"$f":"C16+C23","v":246465},37378,54724,376821,297676,901211,1032681,143914,391680,1315829,3111,7574,364267,0,437772,406748,80335,48834,35835,54724,120961,74643,272064,89772,267612,1011709,0,145785,376821,257887,95080,48351,66358,56691,63270,142333,3111,162971,162190,37378,7574,108552,249347,116056,24577,147990,7.5394980282599859E-3,null,null,null,null,8,null,"Forth Valley Health Board"]
["Males, by SIMD",null,null,null,null,null,null,null,null,null,null,null,null,null,null,null,null,null,null,null,null,null,null,null,null,null,null,null,null,null,null,null,null,null,null,null,null,null,null,null,null,null,null,null,null,null,null,null,null,null,null,null,null,9,null,"Grampian Health Board"]
["Males",{"$f":"SUM(B25:B44)","v":12601707},{"$f":"SUM(C25:C44)","v":881719},272816,360664,877215,707304,1359925,2703249,768233,1535610,1995974,49915,56486,967406,65191,530543,606876,269930,223465,123571,360664,342436,291443,252488,232415,214048,1153351,65191,370889,877215,1419490,544768,192577,193129,222506,322835,790075,49915,355040,408975,272816,56486,267441,745535,212844,215671,417079,1.5074592828583706E-2,null,75.47334646653772,null,null,10,null,"Greater Glasgow & Clyde Health Board"]
["Q 1",{"$f":"SUM(B66:B85)","v":2489967},{"$f":"SUM(C66:C85)","v":243769},14990,27388,161229,107930,81121,980921,64398,395397,244770,0,0,168054,0,67739,10712,23176,18860,31854,27388,125102,84633,9531,11475,15056,149231,0,54297,161229,682938,45538,82655,20062,2670,116302,252535,0,19776,111860,14990,0,42834,142862,21779,78881,64002,1.4024652873725566E-2,null,69.397490798675804,null,null,11,null,"Highland Health Board"]
["Q 2",{"$f":"SUM(B107:B126)","v":2515468},{"$f":"SUM(C107:C126)","v":243384},42187,82024,193054,164859,172125,483558,145741,396840,386866,10659,3421,162117,28633,95907,49848,44921,36440,21998,82024,72585,91481,41368,47086,18816,162356,28633,100709,193054,270693,109301,29182,61547,26370,70322,222777,10659,44611,63521,42187,3421,81581,174063,42152,59978,115877,1.2355683314045119E-2,null,73.483643760491603,null,null,12,null,"Lanarkshire Health Board"]
["Q 3",{"$f":"SUM(B148:B167)","v":2536055},{"$f":"SUM(C148:C167)","v":140231},84479,139327,175017,133170,295453,369979,258965,329437,370346,10154,22979,169960,36558,86858,124753,61249,86543,31114,139327,42215,39036,18792,58215,17182,177090,36558,71099,175017,179870,172422,25376,39735,83842,48191,146785,10154,66496,84772,84479,22979,53004,182652,30957,43987,95306,1.0514159718652391E-2,null,76.091259232499397,null,null,13,null,"Lothian Health Board"]
["Q 4",{"$f":"SUM(B189:B208)","v":2527989},{"$f":"SUM(C189:C208)","v":135325},113175,85417,163742,154937,359507,367772,225348,221768,355392,27587,26243,291776,0,61731,218453,101536,53830,21251,85417,44727,39835,50647,71747,34112,176414,0,71864,163742,161551,171518,31705,39436,79323,57394,96942,27587,145513,69293,113175,26243,38096,124826,61822,20464,67795,8.836763619667419E-3,null,78.197975247128667,null,null,14,null,"Orkney Health Board"]
["Q 5",{"$f":"SUM(B230:B249)","v":2532228},{"$f":"SUM(C230:C249)","v":119010},17985,26508,184173,146408,451719,501019,73781,192168,638600,1515,3843,175499,0,218308,203110,39048,27792,17354,26508,57807,36458,132150,43892,128882,488260,0,72920,184173,124438,45989,23659,32349,30301,30626,71036,1515,78644,79529,17985,3843,51926,121132,56134,12361,74099,7.052410019778489E-3,null,80.400122020022721,null,null,15,null,"Shetland Health Board"]
["Females, by SIMD",null,null,null,null,null,null,null,null,null,null,null,null,null,null,null,null,null,null,null,null,null,null,null,null,null,null,null,null,null,null,null,null,null,null,null,null,null,null,null,null,null,null,null,null,null,null,null,null,null,null,null,null,16,null,"Tayside Health Board"]
["Females",{"$f":"SUM(B45:B64)","v":13426993},{"$f":"SUM(C45:C64)","v":960591},290474,384326,938955,755506,1380175,2920631,793477,1661290,2131426,51325,55294,1036154,67369,542507,616684,287270,226555,129479,384326,377064,311187,271342,252375,234022,1228089,67369,393411,938955,1521040,566922,210483,212341,220984,357625,850525,51325,371820,445285,290474,55294,291779,810765,232616,238459,438621,1.4821357832814819E-2,null,80.153860442430641,null,null,17,null,"Western Isles Health Board"]
["Q 1",{"$f":"SUM(B86:B105)","v":2762946},{"$f":"SUM(C86:C105)","v":273649},16113,29807,176132,118100,84176,1096485,69518,444657,268677,0,0,185632,0,70818,10687,25269,20127,34735,29807,139449,94126,11137,12629,16909,163187,0,59079,176132,757065,49391,92685,22708,2671,132081,282047,0,20914,127600,16113,0,47442,162610,24286,91089,70153,1.2601400802765186E-2,null,76.387523110784798,null,null,18,null,"Aberdeen City Local Authority"]
["Q 2",{"$f":"SUM(B127:B146)","v":2711124},{"$f":"SUM(C127:C146)","v":269507},44603,89851,210180,180651,181929,509128,154982,435387,416714,11121,3564,173766,29741,99930,53020,50431,39358,23821,89851,78619,100307,45649,52478,21693,170190,29741,109826,210180,272701,115624,31261,68876,28979,79961,243793,11121,44716,71000,44603,3564,89239,191594,47004,66824,125170,1.2345867551879089E-2,null,78.909902133926195,null,null,19,null,"Aberdeenshire Local Authority"]
["Q 3",{"$f":"SUM(B168:B187)","v":2663435},{"$f":"SUM(C168:C187)","v":144995},88155,147589,186344,140151,303821,392960,266631,349646,391348,10613,22107,181447,37628,90015,129166,63950,90407,29790,147589,46700,37136,20893,64935,19161,183714,37628,76103,186344,187438,176224,27501,44492,84640,51855,153600,10613,70797,90984,88155,22107,56004,196046,34258,46983,98207,1.1094864097283233E-2,null,80.300411181728805,null,null,20,null,"Angus Local Authority"]
["Q 4",{"$f":"SUM(B209:B228)","v":2648385},{"$f":"SUM(C209:C228)","v":144985},122210,88863,173651,165336,360757,390396,232213,232088,377458,27995,25892,306541,0,62280,220173,106333,55621,22652,88863,49142,41433,53749,76453,37529,187549,0,75538,173651,170387,176592,34344,42256,78304,61084,99788,27995,151066,73040,122210,25892,42468,132300,67146,21347,71200,9.8672552757737737E-3,null,81.727055289388218,null,null,21,null,"Argyll & Bute Local Authority"]
["Q 5",{"$f":"SUM(B250:B269)","v":2641103},{"$f":"SUM(C250:C269)","v":127455},19393,28216,192648,151268,449492,531662,70133,199512,677229,1596,3731,188768,0,219464,203638,41287,21042,18481,28216,63154,38185,139914,45880,138730,523449,0,72865,192648,133449,49091,24692,34009,26390,32644,71297,1596,84327,82661,19393,3731,56626,128215,59922,12216,73891,8.0081230210156448E-3,null,83.577579806016075,null,null,22,null,"Clackmannanshire Local Authority"]
["age/sex breakdown: All",null,null,null,null,null,null,null,null,null,null,null,null,null,null,null,null,null,null,null,null,null,null,null,null,null,null,null,null,null,null,null,null,null,null,null,null,null,null,null,null,null,null,null,null,null,null,null,null,null,null,null,null,23,null,"Dumfries & Galloway Local Authority"]
["Male <1",{"$f":"B66+B107+B148+B189+B230","v":151126},{"$f":"C66+C107+C148+C189+C230","v":10078},2888,3807,10867,8505,16288,33179,8283,19350,24961,539,709,11005,667,6458,7287,2893,2034,1542,3807,4390,3522,2476,2927,2330,13714,667,4716,10867,18451,6249,2253,2446,2543,3785,10404,539,3722,4899,2888,709,2771,8946,2247,2770,5874,null,null,null,"LE calculated within spreadsheet using the Chiang method",null,24,null,"Dundee City Local Authority"]
["Male 1-4",{"$f":"B67+B108+B149+B190+B231","v":582809},39813,11966,15224,41408,33902,61770,125685,32770,76641,93513,2077,2678,42672,2690,22314,29599,12041,8246,5993,15224,15931,13653,10669,12020,10161,48856,2690,18337,41408,65881,24524,8950,9734,9857,15300,41252,2077,14700,19364,11966,2678,10860,35389,9572,10660,22903,null,null,null,"LE calculated within spreadsheet using the Chiang method",null,25,null,"East Ayrshire Local Authority"]
["Male 5-9",691028,48419,15358,18658,49425,41396,72534,145777,41394,91320,105585,2441,3345,52019,3357,24843,35963,15249,11012,7209,18658,17665,15991,14986,13976,14196,53543,3357,21563,49425,71160,30382,10620,11739,11728,18304,48905,2441,19105,22928,15358,3345,14124,42415,12624,11887,26327,null,null,null,"LE calculated within spreadsheet using the Chiang method",null,26,null,"East Dunbartonshire Local Authority"]
["Male 10-14",754433,54401,16733,21625,52714,44892,79652,158759,47337,98584,111712,3240,3570,57350,3864,26117,39498,16865,13518,7783,21625,18929,18095,17506,15486,15944,55920,3864,22774,52714,74744,33819,11872,12577,14037,20655,51626,3240,21556,25278,16733,3570,15651,46958,14335,13415,27729,null,null,null,"LE calculated within spreadsheet using the Chiang method",null,27,null,"East Lothian Local Authority"]
["Male 15-19",836097,60263,16823,22638,59075,50460,86055,183987,48465,105021,127785,3169,3840,64440,4076,31608,39114,17626,14373,8267,22638,23798,20187,18676,15969,16003,69745,4076,25447,59075,93412,34092,13263,13655,15333,22998,54489,3169,23016,27353,16823,3840,17078,50532,16746,15280,28416,null,null,null,"LE calculated within spreadsheet using the Chiang method",null,28,null,"East Renfrewshire Local Authority"]
["Male 20-24",903866,55996,13335,19296,62809,47724,94502,222196,43732,102100,161018,2588,3129,72198,3243,46664,33858,15083,14029,8113,19296,33555,19050,16599,13385,13957,108561,3243,22322,62809,134258,29703,13597,12335,13980,20582,53324,2588,23560,27825,13335,{"$f":"AQ71+AQ112+AQ153+AQ194+AQ235","v":3129},16364,48776,17289,15960,26737,null,null,null,"LE calculated within spreadsheet using the Chiang method",null,29,null,"Edinburgh, City of Local Authority"]
["Male 25-29",855992,46857,11626,15987,51583,40455,93778,219213,40430,97892,166136,2405,3099,63726,2805,51962,29730,13275,11650,7219,15987,29051,15989,13359,10170,10227,121000,2805,22056,51583,143102,28780,11837,9998,12086,17190,52205,2405,21400,26534,11626,3099,13678,45687,11180,14154,24968,null,null,null,"LE calculated within spreadsheet using the Chiang method",null,30,null,"Eilean Siar Local Authority"]
["Male 30-34",762431,43723,12252,15365,47357,38973,86364,183098,39122,90237,145919,2355,3347,51082,3237,43294,31209,12991,10135,6915,15365,20219,15523,10111,10721,8583,99670,3237,23024,47357,119940,28987,9982,9671,11861,15892,48266,2355,17872,22589,12252,3347,12308,41971,9034,11893,25857,null,null,null,"LE calculated within spreadsheet using the Chiang method",null,31,null,"Falkirk Local Authority"]
["Male 35-39",847252,55445,17284,20672,58124,48361,95314,183200,46703,106939,147767,2956,3806,56504,4177,38177,41750,16706,13483,8488,20672,19329,19733,13620,15952,11969,87503,4177,26972,58124,106137,33220,11581,12712,15387,19768,56153,2956,20469,26310,17284,3806,15944,50786,12901,13583,31600,null,null,null,"LE calculated within spreadsheet using the Chiang method",null,32,null,"Fife Local Authority"]
["Male 40-44",956360,66008,21921,26241,67135,56498,105267,200493,57299,121764,153053,4052,4249,67396,4984,37977,49381,19630,16534,10154,26241,21717,23103,18172,18878,16031,83774,4984,30382,67135,103079,40765,14184,14717,17909,23706,63294,4052,26049,32520,21921,4249,19199,58470,15962,16507,35684,null,null,null,"LE calculated within spreadsheet using the Chiang method",null,33,null,"Glasgow City Local Authority"]
["Male 45-49",960786,67168,22027,28025,66358,55252,104289,205891,60323,119628,146422,4097,4477,71717,5112,37445,49404,21353,17245,9851,28025,23087,22250,20819,18943,18189,79191,5112,28889,66358,100599,43078,15938,14766,17440,24309,60364,4097,27277,33338,22027,4477,20609,59264,16512,17008,33522,null,null,null,"LE calculated within spreadsheet using the Chiang method",null,34,null,"Highland Local Authority"]
["Male 50-54",875149,62887,20231,26009,60969,48220,97647,184308,57578,108519,130276,3772,3931,65852,4950,35755,46445,19140,16382,8515,{"$f":"V77+V118+V159+V200+V241","v":26009},22068,20332,19646,17247,16865,70889,4950,25140,60969,88689,41196,14248,13752,15447,22808,53727,3772,24644,29219,20231,3931,19747,54792,14565,15641,28388,null,null,null,"LE calculated within spreadsheet using the Chiang method",null,35,null,"Inverclyde Local Authority"]
["Male 55-59",800746,60660,19620,26661,56147,44977,89976,158294,56308,96998,115456,3702,4032,62964,4951,32149,43365,19181,15787,8090,26661,19581,19531,17285,14779,13944,62681,4951,23074,56147,74191,40521,12843,12969,14462,21937,47969,3702,24202,25991,19620,4032,19192,49029,13813,14040,25027,null,null,null,"LE calculated within spreadsheet using the Chiang method",null,36,null,"Midlothian Local Authority"]
["Male 60-64",778002,61807,20706,28413,58308,45165,84479,145722,56446,90559,108918,3720,3992,64671,5096,28506,41550,19823,16931,8252,28413,19810,19596,16780,14767,13130,57046,5096,23106,58308,65137,39515,12296,13091,14423,22641,45299,3720,25038,25132,20706,3992,19570,45260,13807,13247,24014,null,null,null,"LE calculated within spreadsheet using the Chiang method",null,37,null,"Moray Local Authority"]
["Male 65-69",595909,48643,16063,23061,44573,34091,61325,111907,44642,70596,80634,3121,2932,50443,3878,20209,29521,15337,14206,5919,23061,15806,14917,12829,11831,9882,41164,3878,17585,44573,50401,30436,9580,9679,11595,17914,35254,3121,19300,19518,16063,2932,15812,35342,10587,9697,17960,null,null,null,"LE calculated within spreadsheet using the Chiang method",null,38,null,"North Ayrshire Local Authority"]
["Male 70-74",492020,40236,13203,19243,35674,28147,50929,94967,34272,57305,67547,2345,2139,42750,3263,17626,23495,12632,11161,4734,19243,13843,12242,11335,9568,8757,35929,3263,14595,35674,43110,23111,7833,7818,9808,14615,28248,2345,16275,15902,13203,2139,13379,29057,8818,8030,14232,null,null,null,"LE calculated within spreadsheet using the Chiang method",null,39,null,"North Lanarkshire Local Authority"]
["Male 75-79",369617,29280,9948,14615,26277,20116,38519,72617,25794,41794,51850,1585,1525,33347,2350,14263,17050,9643,8111,3391,14615,10933,8872,8864,7583,6741,29317,2350,10408,26277,33149,17683,5907,5719,7206,10385,20408,1585,12771,11874,9948,1525,10023,21386,6317,{"$f":"AU82+AU123+AU164+AU205+AU246","v":6082},9231,null,null,null,"LE calculated within spreadsheet using the Chiang method",null,40,null,"Orkney Islands Local Authority"]
["Male 80-84",232112,17877,6555,9212,17081,12190,24357,44763,16401,24924,33529,1061,962,21670,1530,8997,10928,6155,5162,1981,9212,7295,5408,5318,4971,4327,19544,1530,6357,17081,20593,11239,3530,3535,4432,6033,11855,1061,8220,7497,6555,962,6436,13069,3852,3498,5479,null,null,null,"LE calculated within spreadsheet using the Chiang method",null,41,null,"Perth & Kinross Local Authority"]
["Male 85-89",114610,8973,3280,4374,8318,5905,12312,21569,8060,11323,17477,528,521,11228,742,4511,5690,3031,2477,872,4374,4025,2551,2512,2397,2187,11022,742,3124,8318,10030,5583,1644,1685,2111,2951,5257,528,4172,3555,3280,521,3471,6066,1909,1641,2373,null,null,null,"LE calculated within spreadsheet using the Chiang method",null,42,null,"Renfrewshire Local Authority"]
["Male 90+",41362,3185,997,1538,3013,2075,4568,7624,2874,4116,6416,162,203,4372,219,1668,2039,1276,989,283,1538,1404,898,926,845,625,4282,219,1018,3013,3427,1885,619,531,861,1062,1776,162,1692,1349,997,203,1225,2340,774,678,758,null,null,null,null,null,43,null,"Scottish Borders Local Authority"]
["Female <1",144841,9551,2903,3705,10158,8349,15426,31881,7753,18679,24119,501,619,10618,579,6144,6928,2929,1954,1517,3705,4157,3273,2318,2776,2176,13468,579,4701,10158,18022,5799,1936,2370,2354,3645,9950,501,3532,4770,2903,619,2633,8729,2131,2659,5505,null,null,null,"LE calculated within spreadsheet using the Chiang method",null,44,null,"Shetland Islands Local Authority"]
["Female 1-4",555491,37792,11617,14693,39837,32681,58490,119844,30875,73343,88464,2011,2448,40827,2569,21824,27561,11679,7812,5736,14693,15136,12669,9920,11311,9810,46106,2569,17949,39837,63378,23063,8086,9272,9105,14469,38870,2011,14012,18587,11617,2448,10654,34473,8996,10063,21775,null,null,null,"LE calculated within spreadsheet using the Chiang method",null,45,null,"South Ayrshire Local Authority"]
["Female 5-9",660895,46883,14830,17449,46839,39007,68022,140168,39268,88693,101271,2459,3131,49470,3405,23564,33746,14554,10710,6701,17449,16752,15689,13868,{"$f":"Z88+Z129+Z170+Z211+Z252","v":13635},13368,50077,3405,20433,46839,68594,28558,9989,11444,10712,17921,46862,2459,18164,22673,14830,3131,13273,41831,11873,11676,26115,null,null,null,"LE calculated within spreadsheet using the Chiang method",null,46,null,"South Lanarkshire Local Authority"]
["Female 10-14",717767,51980,16183,20817,50950,42892,73548,150050,44406,94570,107084,2908,3595,54863,3921,23712,36760,16023,12699,7628,20817,17848,16631,16057,15233,14997,52108,3921,21578,50950,71193,31707,11403,12543,13076,20018,49347,2908,20992,23798,16183,3595,15331,45223,13686,12602,27200,null,null,null,"LE calculated within spreadsheet using the Chiang method",null,47,null,"Stirling Local Authority"]
["Female 15-19",797443,57079,16381,21201,57680,48249,83738,175113,43957,98344,123449,3141,3388,62107,3616,33374,36909,15934,12953,8091,21201,25676,19394,16569,15577,14627,68210,3616,22770,57680,91001,31004,12467,12922,13455,21323,50877,3141,20497,26184,16381,3388,16362,47467,17388,14265,26740,null,null,null,"LE calculated within spreadsheet using the Chiang method",null,48,null,"West Dunbartonshire Local Authority"]
["Female 20-24",882758,53556,13065,17635,62826,45921,92063,218316,35029,98375,168992,2252,2519,69756,2453,51974,29413,13451,9796,6991,17635,35823,18198,14354,12623,12112,118795,2453,21547,62826,137048,25233,12668,11869,10676,19959,52508,2252,20482,26856,13065,2519,15399,45867,17383,15278,25705,null,null,null,"LE calculated within spreadsheet using the Chiang method",null,49,null,"West Lothian Local Authority"]
["Female 25-29",841950,48543,11874,16676,51044,41686,84325,213184,36958,98731,171903,2340,2720,59153,2813,45694,28637,12747,8462,6850,16676,27686,16675,11446,10774,9330,124620,2813,23257,51044,140111,28496,11465,10785,9994,18335,52621,2340,18720,26133,11874,2720,13533,46110,11579,14699,25724,null,null,null,"LE calculated within spreadsheet using the Chiang method",null,50]
["Female 30-34",779499,48166,13139,17027,50942,43055,80222,181746,38937,97175,147502,2593,3439,52120,3436,35552,33713,14044,9556,7400,17027,20734,16620,11329,12681,10131,96654,3436,24268,50942,112305,29381,10543,11353,10957,18209,51635,2593,17342,24258,13139,3439,13337,45540,11387,13180,26814,null,null,null,"LE calculated within spreadsheet using the Chiang method",null,51]
["Female 35-39",910501,62054,18914,{"$f":"E94+E135+E176+E217+E258","v":22780},62195,54059,96258,196649,50627,118100,153593,3290,3851,63943,4188,35993,45340,18572,13718,9032,22780,21928,21220,16307,17855,14500,86593,4188,29319,62195,106703,36909,13248,14498,14925,23203,61981,3290,23443,30431,18914,3851,17631,56119,15708,15460,34647,null,null,null,"LE calculated within spreadsheet using the Chiang method",null,52]
["Female 40-44",1033085,74151,22915,28510,71617,60811,105983,224723,61005,133016,162123,3978,4098,75153,5002,37406,51361,21637,16958,10669,28510,25105,25297,21454,21008,19290,85926,5002,31929,71617,111900,44047,16658,17115,17216,27716,68680,3978,28411,36583,22915,4098,21138,64336,18213,18838,38074,null,null,null,"LE calculated within spreadsheet using the Chiang method",null,53]
["Female 45-49",1027033,74265,23109,30223,70237,57710,105216,227120,62646,130225,155619,3954,4297,77431,4981,38488,49805,22356,17596,10046,30223,26874,24181,23481,20067,19988,83541,4981,30163,70237,111192,45050,17190,17023,16923,27460,65674,3954,28201,36462,23109,4297,22624,64551,17501,18807,34988,null,null,null,"LE calculated within spreadsheet using the Chiang method",null,54]
["Female 50-54",920769,68111,21209,27865,63529,50333,96666,197960,58943,117851,135792,3828,3890,70082,4710,35051,45986,20446,16529,9144,27865,23515,21513,21536,17857,17507,73104,4710,26227,63529,95267,42414,15149,15237,15629,25201,58542,3828,26121,31248,21209,3890,21397,59309,14962,17253,29594,null,null,null,"LE calculated within spreadsheet using the Chiang method",null,55]
["Female 55-59",834550,64241,20034,27511,59721,47629,88676,166368,57741,103428,121018,3624,3736,66112,4711,30910,42847,19878,16667,8602,27511,20761,20095,18662,16101,14971,64556,4711,24877,59721,76001,41074,13537,13964,14919,23893,51644,3624,25473,28164,20034,3736,20253,51784,14150,15033,26397,null,null,null,"LE calculated within spreadsheet using the Chiang method",null,56]
["Female 60-64",819517,66240,21455,28884,62142,47153,84850,156286,57555,98217,116928,3622,3415,68077,4693,29083,40424,21005,18097,8685,28884,21126,20643,18249,15794,14448,61420,4693,{"$f":"AD99+AD140+AD181+AD222+AD263","v":24099},62142,68692,39458,13261,14190,15343,24626,49035,3622,25946,27281,21455,3415,20971,49182,14369,14355,25524,null,null,null,"LE calculated within spreadsheet using the Chiang method",null,57]
["Female 65-69",667449,54738,17461,24916,48839,38336,65782,131245,46679,82090,91597,3277,2951,55359,4179,22838,30352,16409,14478,6755,24916,17396,16628,15102,13133,11829,47518,4179,19734,48839,59316,32201,11056,10699,12592,20447,40986,3277,21554,22304,17461,2951,17663,41104,11847,11638,20247,null,null,null,"LE calculated within spreadsheet using the Chiang method",null,58]
["Female 70-74",593990,47248,15018,21050,41856,33173,57399,125294,39534,72794,82052,2526,2244,50088,3714,21605,24881,14427,12632,5607,21050,17245,14431,13673,11482,10832,45298,3714,17247,41856,59789,26902,10085,9232,10913,17184,36446,2526,18416,20475,15018,2244,15633,36348,10319,10440,16040,null,null,null,"LE calculated within spreadsheet using the Chiang method",null,59]
["Female 75-79",504598,39644,12329,17721,34447,26680,49824,110374,32702,59278,71100,1974,1818,43567,3140,20034,20435,12423,10381,4129,17721,15696,11968,11162,9722,9675,41630,3140,13972,34447,54510,22321,8974,7584,9355,14318,28422,1974,15448,16758,12329,1818,13358,30856,8579,9295,12164,null,null,null,"LE calculated within spreadsheet using the Chiang method",null,60]
["Female 80-84",374911,28274,9160,13303,26770,19382,37559,79645,24636,41882,54542,1461,1512,34292,2493,15276,15578,9595,7715,3039,13303,12089,8158,8458,7472,7406,33719,2493,10107,26770,38982,16921,6399,5212,6705,9944,19651,1461,12608,11684,9160,1512,10172,22231,6236,6716,8139,null,null,null,"LE calculated within spreadsheet using the Chiang method",null,61]
["Female 85-89",236401,18194,5980,8041,17369,12481,23909,49153,15603,24421,35461,971,1052,21933,1833,9491,10339,6049,4983,2066,8041,7810,5210,5001,4747,4644,22617,1833,6244,17369,24305,10620,4138,3329,4079,6408,11163,971,8074,6987,5980,1052,6576,13258,4171,4078,4768,null,null,null,"LE calculated within spreadsheet using the Chiang method",null,62]
["Female 90+",123545,9881,2898,4319,9957,5919,12219,{"$f":"I105+I146+I187+I228+I269","v":25512},8623,12078,18817,615,571,11203,933,4494,5669,3112,2859,791,4319,3707,2694,2396,2527,2381,12129,933,2990,9957,12731,5764,2231,1700,2056,3346,5631,615,4384,3649,2898,571,3841,6447,2138,2124,2461,null,null,null,null,null,63]
["age/sex breakdown: Q1",null,null,null,null,null,null,null,null,null,null,null,null,null,null,null,null,null,null,null,null,null,null,null,null,null,null,null,null,null,null,null,null,null,null,null,null,null,null,null,null,null,null,null,null,null,null,null,null,null,null,null,null,64]
["Male <1",38398,3577,241,482,2678,1686,1515,14419,1036,5753,4162,0,0,2849,0,1300,179,388,274,515,482,2115,1276,174,200,226,2584,0,878,2678,9899,762,1125,330,36,1703,3662,0,346,1705,241,0,598,2091,293,1290,1048,null,null,null,"LE calculated within spreadsheet using the Chiang method",null,65]
["Male 1-4",140243,13236,953,1739,9221,6347,4983,53195,3787,21781,14769,0,0,10232,0,4244,619,1519,867,1896,1739,7572,4684,645,774,884,8933,0,3266,9221,36387,2920,4403,1164,120,6463,13996,0,1141,6201,953,0,2089,7785,1185,4675,3898,null,null,null,"LE calculated within spreadsheet using the Chiang method",null,66]
["Male 5-9",151263,14526,1058,1789,9971,7173,4940,56487,4131,24860,15839,0,0,10489,0,4212,597,1487,993,2198,1789,7804,4884,733,828,956,9331,0,3514,9971,38943,3138,4595,1365,131,7335,16265,0,1198,6386,1058,0,2307,8595,1461,4874,4315,null,null,null,"LE calculated within spreadsheet using the Chiang method",null,67]
["Male 10-14",156100,15630,1105,1663,10285,7327,4887,59111,4202,25789,15710,0,0,10391,0,4181,580,1546,1366,2141,1663,7742,5528,773,914,1200,9146,0,3553,10285,40504,2836,5023,1450,126,7747,17039,0,1103,6389,1105,0,2355,8750,1633,5222,4200,null,null,null,"LE calculated within spreadsheet using the Chiang method",null,68]
["Male 15-19",176384,18227,1129,2047,11680,7890,4947,68740,4527,28358,17205,0,0,11634,0,4157,601,1592,1477,2376,2047,8764,6496,809,999,1190,10048,0,3691,11680,47745,3050,5831,1621,189,8897,18332,0,1278,7340,1129,0,2834,10026,1823,5825,4537,null,null,null,"LE calculated within spreadsheet using the Chiang method",null,69]
["Male 20-24",197596,17853,973,2138,12015,8169,6558,83094,4633,29412,19450,0,0,13301,0,5525,837,1589,1401,2409,2138,10062,5898,781,839,1161,12114,0,3937,12015,60060,3232,6314,1595,196,8620,18774,0,1650,8337,973,0,3335,10638,1823,6441,4902,null,null,null,"LE calculated within spreadsheet using the Chiang method",null,70]
["Male 25-29",192409,15617,768,1758,11141,6831,7248,82361,4673,28212,19774,0,0,14026,0,6086,981,1592,1167,2038,1758,10354,5051,616,681,1072,13259,0,3557,11141,60713,3506,5747,1328,181,7370,17905,0,2080,8672,768,0,3196,10307,1236,5541,4506,null,null,null,"LE calculated within spreadsheet using the Chiang method",null,71]
["Male 30-34",161537,13373,803,1476,9541,5971,6282,68674,3922,23799,17105,0,0,10591,0,5359,805,1437,886,1834,1476,7620,4501,544,570,827,11385,0,3200,9541,50836,3036,4542,1037,118,6385,14889,0,1534,7367,803,0,2487,8910,937,4558,4113,null,null,null,"LE calculated within spreadsheet using the Chiang method",null,72]
["Male 35-39",161448,15106,1060,1759,10280,6657,5695,64841,4059,25098,17060,0,0,9833,0,4691,787,1493,1112,1983,1759,7044,5533,533,831,867,10511,0,3517,10280,46683,2947,4649,1343,217,6829,15777,0,1296,7225,1060,0,2744,9321,1157,4884,4375,null,null,null,"LE calculated within spreadsheet using the Chiang method",null,73]
["Male 40-44",173363,16580,1144,1858,11425,8065,5579,68111,4501,28108,17372,0,0,10620,0,4722,692,1583,1324,2436,1858,7749,6111,571,788,1043,10640,0,4040,11425,46741,3177,5670,1312,165,7634,18467,0,1288,8397,1144,0,2835,9641,1589,5689,4632,null,null,null,"LE calculated within spreadsheet using the Chiang method",null,74]
["Male 45-49",172304,17178,1017,1768,11547,7620,5437,68544,4515,26958,16783,0,0,10937,0,4460,765,1626,1373,2298,1768,8055,5993,603,799,1156,10426,0,3724,11547,46756,3142,6030,1323,212,8286,17411,0,1256,8184,1017,0,2899,9547,1598,5815,4235,null,null,null,"LE calculated within spreadsheet using the Chiang method",null,75]
["Male 50-54",156483,16110,956,1578,10254,6545,4937,61652,4186,25761,14418,0,0,10086,0,4071,660,1369,1255,2141,1578,7596,5533,650,709,952,8789,0,2960,10254,42029,2931,5712,1266,206,7758,16097,0,1121,7074,956,0,2819,9664,1444,5235,3654,null,null,null,"LE calculated within spreadsheet using the Chiang method",null,76]
["Male 55-59",140292,14873,860,1772,9137,6317,4460,53132,3905,23346,12910,0,0,9580,0,3639,634,1331,1182,1894,1772,7065,4933,529,632,734,7687,0,3063,9137,35611,2723,5292,1103,187,7171,14584,0,1184,6261,860,0,2769,8762,1360,4705,3488,null,null,null,"LE calculated within spreadsheet using the Chiang method",null,77]
["Male 60-64",133950,14523,962,1714,9400,6255,4059,49136,3614,22877,12171,0,0,9239,0,3302,603,1293,1151,1841,1714,7078,4962,493,609,827,7046,0,3064,9400,32664,2463,5046,1071,154,6948,14365,0,868,5971,962,0,2613,8512,1350,4135,3445,null,null,null,"LE calculated within spreadsheet using the Chiang method",null,78]
["Male 65-69",107896,11925,692,1273,7327,4845,2891,40611,2949,18355,9443,0,0,7585,0,2363,415,1010,981,1370,1273,5792,4133,383,430,646,5249,0,2465,7327,27503,1968,4150,892,113,5771,11401,0,783,4843,692,0,2021,6954,1010,3086,2872,null,null,null,"LE calculated within spreadsheet using the Chiang method",null,79]
["Male 70-74",92303,10408,533,1046,5792,4238,2443,35411,2219,15581,8115,0,0,6517,0,1910,401,913,759,1027,1046,4923,3642,274,396,602,4555,0,2412,5792,23914,1460,3374,652,132,4849,9799,0,681,4599,533,0,1917,5782,799,2648,2512,null,null,null,"LE calculated within spreadsheet using the Chiang method",null,80]
["Male 75-79",68682,7534,324,760,4534,2938,2101,26976,1661,11087,5953,0,0,4814,0,1690,310,704,607,701,760,3613,2736,199,223,364,3575,0,1745,4534,18192,1054,2761,553,101,3280,7161,0,497,3423,324,0,1518,3926,492,2037,1602,null,null,null,"LE calculated within spreadsheet using the Chiang method",null,81]
["Male 80-84",41736,4419,235,483,3042,1853,1270,16037,1137,6304,3843,0,0,3113,0,1049,165,435,411,458,483,2380,1656,121,150,213,2268,0,1084,3042,10814,726,1472,361,56,1929,4064,0,298,2162,235,0,834,2240,311,1255,1064,null,null,null,"LE calculated within spreadsheet using the Chiang method",null,82]
["Male 85-89",20215,2308,133,190,1449,891,652,7518,534,2906,2003,0,0,1631,0,557,73,199,186,219,190,1299,808,71,80,101,1229,0,472,1449,5074,348,670,243,22,995,1888,0,133,966,133,0,505,1018,200,636,451,null,null,null,"LE calculated within spreadsheet using the Chiang method",null,83]
["Male 90+",7365,766,44,95,510,312,237,2871,207,1052,685,0,0,586,0,221,8,70,88,79,95,475,275,29,23,35,456,0,155,510,1870,119,249,53,8,332,659,0,41,358,44,0,159,393,78,330,153,null,null,null,null,null,84]
["Female <1",36506,3389,245,461,2356,1631,1362,13984,975,5369,4042,0,0,2692,0,1157,178,401,253,518,461,1958,1101,172,181,196,2602,0,829,2356,9782,722,899,295,27,1634,3409,0,333,1697,245,0,654,1960,284,1238,964,4.8490760931940774E-3,"National death rate calcuated from population size and average number of deaths for 2005-2009 inclusive (supplied by ISD Scotland)",null,"LE calculated within spreadsheet using the Chiang method",null,85]
["Female 1-4",133201,12749,900,1718,8938,5933,4659,50579,3623,20574,13911,0,0,9617,0,4044,534,1272,863,1846,1718,7213,4283,563,657,792,8511,0,2968,8938,34852,2760,3869,1105,81,6187,13086,0,1132,5984,900,0,2279,7488,1119,4519,3638,2.7637833825549992E-4,"National death rate calcuated from population size and average number of deaths for 2005-2009 inclusive (supplied by ISD Scotland)",null,"LE calculated within spreadsheet using the Chiang method",null,86]
["Female 5-9",145745,14503,1003,1778,9940,6522,4355,54561,3883,24376,14913,0,0,9911,0,3759,442,1478,1048,1912,1778,7236,5018,637,847,1096,8632,0,3242,9940,36932,2835,4440,1196,154,7177,15849,0,1197,6597,1003,0,2308,8527,1368,4859,4238,6.8724271350913E-5,"National death rate calcuated from population size and average number of deaths for 2005-2009 inclusive (supplied by ISD Scotland)",null,"LE calculated within spreadsheet using the Chiang method",null,87]
["Female 10-14",150444,15248,1027,1806,10158,6798,4478,56554,3896,25385,15231,0,0,9863,0,3786,519,1400,1202,2178,1806,7418,5089,674,918,1136,8577,0,3120,10158,38476,2694,4888,1425,173,7652,16684,0,1045,6346,1027,0,2507,8701,1500,5034,4311,1.4849823093411843E-4,"National death rate calcuated from population size and average number of deaths for 2005-2009 inclusive (supplied by ISD Scotland)",null,"LE calculated within spreadsheet using the Chiang method",null,88]
["Female 15-19",172731,18184,1122,2081,11722,8168,5240,65111,4581,27683,17077,0,0,11762,0,4358,695,1614,1439,2445,2081,8913,6349,705,990,1114,9952,0,3743,11722,44416,3142,5543,1626,187,8751,18067,0,1235,7410,1122,0,3084,9616,1980,5923,4509,4.1819671285926242E-4,"National death rate calcuated from population size and average number of deaths for 2005-2009 inclusive (supplied by ISD Scotland)",null,"LE calculated within spreadsheet using the Chiang method",null,89]
["Female 20-24",204286,19142,1103,2063,12671,8264,7448,82959,4473,30662,20853,0,0,14648,0,6197,1099,1770,1231,2448,2063,11128,6508,825,878,1178,13130,0,3961,12671,58517,3242,6333,1795,152,8983,19675,0,1750,9353,1103,0,3651,10987,1855,6753,5050,5.083808071292931E-4,"National death rate calcuated from population size and average number of deaths for 2005-2009 inclusive (supplied by ISD Scotland)",null,"LE calculated within spreadsheet using the Chiang method",null,90]
["Female 25-29",203207,16807,976,2071,11488,7959,7153,85378,4685,30044,22357,0,0,14289,0,6115,893,1733,931,2268,2071,10625,5663,751,809,1031,14912,0,4152,11488,61554,3754,6051,1461,145,7884,18688,0,1931,9454,976,0,3260,11356,1539,6537,5175,7.1807977021447341E-4,"National death rate calcuated from population size and average number of deaths for 2005-2009 inclusive (supplied by ISD Scotland)",null,"LE calculated within spreadsheet using the Chiang method",null,91]
["Female 30-34",170841,14839,840,1661,10095,7345,5743,70058,4161,26305,18575,0,0,11219,0,4900,723,1494,1035,2179,1661,8365,5149,666,747,937,12117,0,3876,10095,50430,3126,4788,1366,120,7107,16288,0,1360,7833,840,0,2583,10017,1290,5404,4345,1.3012171924050929E-3,"National death rate calcuated from population size and average number of deaths for 2005-2009 inclusive (supplied by ISD Scotland)",null,"LE calculated within spreadsheet using the Chiang method",null,92]
["Female 35-39",184293,17844,1126,1868,11523,7866,5914,72881,4773,29912,19090,0,0,11496,0,4994,758,1580,1378,2440,1868,8501,6315,724,909,1148,11772,0,3773,11523,50935,3395,5746,1514,162,8548,19116,0,1415,8483,1126,0,2981,10796,1653,5845,4895,1.8920600317742689E-3,"National death rate calcuated from population size and average number of deaths for 2005-2009 inclusive (supplied by ISD Scotland)",null,"LE calculated within spreadsheet using the Chiang method",null,93]
["Female 40-44",202466,20386,1245,2140,13003,8667,5781,81434,5062,32476,19495,0,0,12777,0,4842,772,1897,1407,2563,2140,9508,7263,895,945,1390,11643,0,4200,13003,55891,3655,7009,1693,167,9823,20957,0,1372,9342,1245,0,3300,11519,1904,6907,5214,2.5314072841120753E-3,"National death rate calcuated from population size and average number of deaths for 2005-2009 inclusive (supplied by ISD Scotland)",null,"LE calculated within spreadsheet using the Chiang method",null,94]
["Female 45-49",196805,19906,992,2024,12107,8155,5559,80166,4678,31734,18498,0,0,12986,0,4588,773,1798,1355,2457,2024,9930,6824,880,952,1344,10960,0,3969,12107,55354,3323,6854,1697,198,9824,20230,0,1258,9213,992,0,3258,11504,1729,6521,4889,4.0045090987170535E-3,"National death rate calcuated from population size and average number of deaths for 2005-2009 inclusive (supplied by ISD Scotland)",null,"LE calculated within spreadsheet using the Chiang method",null,95]
["Female 50-54",172244,17742,942,1807,10471,7074,5068,68340,4359,29121,16121,0,0,11199,0,4188,705,1572,1283,2159,1807,8378,5938,838,881,1032,9508,0,3326,10471,46903,3076,6135,1453,175,8708,18242,0,1249,7598,942,0,3096,10879,1589,5834,4279,5.9880616959451368E-3,"National death rate calcuated from population size and average number of deaths for 2005-2009 inclusive (supplied by ISD Scotland)",null,"LE calculated within spreadsheet using the Chiang method",null,96]
["Female 55-59",148521,15815,973,1614,9399,6602,4326,56557,3915,25913,13376,0,0,10031,0,3628,527,1396,1189,2029,1614,7419,5282,586,744,938,7702,0,3211,9399,38059,2726,5446,1223,171,7830,16191,0,1216,6557,973,0,2703,9722,1362,4971,3707,9.6664369959064567E-3,"National death rate calcuated from population size and average number of deaths for 2005-2009 inclusive (supplied by ISD Scotland)",null,"LE calculated within spreadsheet using the Chiang method",null,97]
["Female 60-64",144406,15707,970,1635,9829,6187,3840,54072,3835,25191,13260,0,0,9880,0,3193,488,1354,1214,1916,1635,7487,5406,537,581,848,7678,0,3059,9829,36056,2621,5414,1214,159,7802,15536,0,1039,6608,970,0,2499,9655,1212,4609,3787,1.4360888993414865E-2,"National death rate calcuated from population size and average number of deaths for 2005-2009 inclusive (supplied by ISD Scotland)",null,"LE calculated within spreadsheet using the Chiang method",null,98]
["Female 65-69",126534,13882,770,1479,8455,5481,3097,49742,3087,21940,10706,0,0,7895,0,2557,345,1107,993,1557,1479,5928,4750,427,398,739,6143,0,2935,8455,33618,2094,4866,910,195,6763,13569,0,860,6133,770,0,2369,8371,989,3959,3255,2.1763388502625807E-2,"National death rate calcuated from population size and average number of deaths for 2005-2009 inclusive (supplied by ISD Scotland)",null,"LE calculated within spreadsheet using the Chiang method",null,99]
["Female 70-74",121724,12673,587,1272,7460,5295,3111,49833,2969,20295,10336,0,0,7893,0,2590,378,1108,961,1269,1272,6025,4486,326,435,709,6052,0,3029,7460,33982,2008,4817,858,143,6040,12798,0,760,6365,587,0,2147,7497,997,3634,2991,3.2162780364988729E-2,"National death rate calcuated from population size and average number of deaths for 2005-2009 inclusive (supplied by ISD Scotland)",null,"LE calculated within spreadsheet using the Chiang method",null,100]
["Female 75-79",105266,10515,555,1070,6432,4227,3064,44649,2609,16387,8769,0,0,6989,0,2545,401,995,888,992,1070,5322,3726,314,332,534,5437,0,2465,6432,30680,1721,4342,737,118,4872,10291,0,672,5369,555,0,1917,6096,770,3410,2263,4.9069240618536389E-2,"National death rate calcuated from population size and average number of deaths for 2005-2009 inclusive (supplied by ISD Scotland)",null,"LE calculated within spreadsheet using the Chiang method",null,101]
["Female 80-84",74638,7338,429,725,5031,3090,2058,30940,2051,11500,6157,0,0,5319,0,1716,271,696,784,778,725,4082,2552,322,237,390,3855,0,1743,5031,21108,1267,2841,594,71,3407,7198,0,541,3700,429,0,1379,4302,569,2579,1471,8.1111647472588103E-2,"National death rate calcuated from population size and average number of deaths for 2005-2009 inclusive (supplied by ISD Scotland)",null,"LE calculated within spreadsheet using the Chiang method",null,102]
["Female 85-89",45718,4607,227,368,3330,1849,1299,18996,1226,6441,3976,0,0,3399,0,1118,126,412,443,499,368,2653,1611,219,116,250,2670,0,978,3330,12850,783,1612,366,55,2142,4006,0,334,2335,227,0,854,2435,372,1730,824,0.15014568410829185,"National death rate calcuated from population size and average number of deaths for 2005-2009 inclusive (supplied by ISD Scotland)",null,"LE calculated within spreadsheet using the Chiang method",null,103]
["Female 90+",23370,2373,81,166,1724,987,621,9691,677,3349,1934,0,0,1767,0,543,60,192,230,282,166,1360,813,76,72,107,1334,0,500,1724,6670,447,792,180,18,947,2167,0,215,1223,81,0,613,1182,205,823,348,null,null,null,null,null,104]
["age/sex breakdown: Q2",null,null,null,null,null,null,null,null,null,null,null,null,null,null,null,null,null,null,null,null,null,null,null,null,null,null,null,null,null,null,null,null,null,null,null,null,null,null,null,null,null,null,null,null,null,null,null,null,null,null,null,null,105]
["Male <1",31272,2777,500,1000,2511,2052,2241,5802,1921,4925,5066,119,65,2009,284,1217,666,594,436,288,1000,841,1020,517,613,229,1921,284,1193,2511,3306,1485,337,863,358,839,2969,119,574,726,500,65,918,1956,571,687,1669,6.0561448121256743E-3,"National death rate calcuated from population size and average number of deaths for 2005-2009 inclusive (supplied by ISD Scotland)",null,"LE calculated within spreadsheet using the Chiang method",null,106]
["Male 1-4",116436,10794,1869,3838,9445,7780,7897,20833,7180,19626,18425,471,214,7013,1051,4044,2530,2199,1616,1128,3838,2775,4027,1966,2428,918,6485,1051,4543,9445,11023,5564,1269,3274,1323,3294,11700,471,2039,2847,1869,214,3473,7926,2109,2810,6238,2.3672949103159429E-4,"National death rate calcuated from population size and average number of deaths for 2005-2009 inclusive (supplied by ISD Scotland)",null,"LE calculated within spreadsheet using the Chiang method",null,107]
["Male 5-9",132379,13150,2166,4495,10596,9391,8234,23671,8268,22406,20067,452,208,7948,1327,4063,2719,2439,1982,1330,4495,3122,4900,2429,2613,1164,6654,1327,5504,10596,12042,6286,1489,3732,1452,3848,12984,452,2387,3422,2166,208,4402,9422,2557,3125,7068,8.9337561977933619E-5,"National death rate calcuated from population size and average number of deaths for 2005-2009 inclusive (supplied by ISD Scotland)",null,"LE calculated within spreadsheet using the Chiang method",null,108]
["Male 10-14",144032,14711,2175,5100,11569,10014,8985,25639,8854,24088,21760,729,182,8543,1683,4430,2969,2559,2212,1296,5100,3542,5499,2698,2928,1277,7058,1683,6137,11569,12498,6642,1841,4094,1586,4400,13800,729,2442,3651,2175,182,4812,10288,2581,3674,7680,1.0116269659284038E-4,"National death rate calcuated from population size and average number of deaths for 2005-2009 inclusive (supplied by ISD Scotland)",null,"LE calculated within spreadsheet using the Chiang method",null,109]
["Male 15-19",164145,16514,2507,5204,12971,11191,10395,31616,9488,26137,25112,673,257,10318,1762,5526,3235,2875,2207,1347,5204,4403,6178,3116,3210,1256,9526,1762,6850,12971,16698,7281,2037,4475,1634,5197,14705,673,3040,4209,2507,257,5139,11432,2994,4300,7901,7.5952289809633178E-4,"National death rate calcuated from population size and average number of deaths for 2005-2009 inclusive (supplied by ISD Scotland)",null,"LE calculated within spreadsheet using the Chiang method",null,110]
["Male 20-24",186609,15952,2515,4678,12777,11370,14115,41604,8918,26610,31204,534,236,14696,1400,9131,3138,2779,2152,1362,4678,7847,5987,2879,3023,1288,15807,1400,6370,12777,26037,6766,2310,4251,1846,4727,15131,534,4070,4648,2515,236,5238,11479,3638,4442,8123,1.142844337878567E-3,"National death rate calcuated from population size and average number of deaths for 2005-2009 inclusive (supplied by ISD Scotland)",null,"LE calculated within spreadsheet using the Chiang method",null,111]
["Male 25-29",188045,14119,2517,4050,12568,10570,15560,44598,8441,26271,32137,579,242,15120,1273,10634,3236,2879,2078,1197,4050,8167,5461,2769,2416,1046,18530,1273,6495,12568,30215,6363,2076,3417,1690,4030,15388,579,4074,4468,2517,242,4628,10883,2878,4024,7774,1.3542260316098927E-3,"National death rate calcuated from population size and average number of deaths for 2005-2009 inclusive (supplied by ISD Scotland)",null,"LE calculated within spreadsheet using the Chiang method",null,112]
["Male 30-34",165793,12599,2420,3997,11213,10119,12343,39165,8321,23723,28274,580,236,11414,1389,8015,2800,2651,2037,1229,3997,5211,4964,2301,2367,959,15423,1389,6497,11213,26967,6284,1841,3200,1528,3464,13914,580,3552,3743,2420,236,4171,9809,2393,3354,7284,1.8834825962515003E-3,"National death rate calcuated from population size and average number of deaths for 2005-2009 inclusive (supplied by ISD Scotland)",null,"LE calculated within spreadsheet using the Chiang method",null,113]
["Male 35-39",171182,15672,2622,4878,12277,11399,11062,35860,8883,27371,28567,625,173,9992,1801,6298,3106,3106,2399,1627,4878,4003,6066,2562,3102,1132,13346,1801,6850,12277,22357,6484,1818,3776,1658,4477,15645,625,2883,4342,2622,173,5129,11726,2922,3649,8343,2.3115702853008999E-3,"National death rate calcuated from population size and average number of deaths for 2005-2009 inclusive (supplied by ISD Scotland)",null,"LE calculated within spreadsheet using the Chiang method",null,114]
["Male 40-44",185043,18335,3353,5871,14753,12717,11622,35999,10243,29590,28612,786,257,10673,2232,6123,3467,3175,2664,1853,5871,4338,6927,2919,3591,1388,11692,2232,7588,14753,20270,7579,2167,4326,2032,5293,16468,786,3160,4796,3353,257,6115,13122,3276,4459,9003,3.3468609031673917E-3,"National death rate calcuated from population size and average number of deaths for 2005-2009 inclusive (supplied by ISD Scotland)",null,"LE calculated within spreadsheet using the Chiang method",null,115]
["Male 45-49",182687,18103,3094,6106,13986,12313,11548,35450,10969,29629,27257,733,283,10918,2298,6341,3292,3280,2715,1597,6106,4463,6837,3361,3545,1584,10698,2298,7385,13986,19085,8254,2244,4560,1915,5235,16250,733,3175,4694,3094,283,6031,13379,3331,4482,8454,4.4750763898390115E-3,"National death rate calcuated from population size and average number of deaths for 2005-2009 inclusive (supplied by ISD Scotland)",null,"LE calculated within spreadsheet using the Chiang method",null,116]
["Male 50-54",165669,16364,3057,5621,13042,10724,11353,30791,10588,27038,24089,762,199,9895,2146,6238,3279,2967,2670,1368,5621,4133,5978,2848,3210,1487,9329,2146,6682,13042,16282,7918,1975,4225,1836,4872,14688,762,2795,3972,3057,199,5514,12350,2674,4227,7325,7.2939973150930124E-3,"National death rate calcuated from population size and average number of deaths for 2005-2009 inclusive (supplied by ISD Scotland)",null,"LE calculated within spreadsheet using the Chiang method",null,117]
["Male 55-59",152444,16031,2793,5671,12308,10170,10531,25841,10144,24882,21652,781,235,9166,2239,5585,3227,2968,2416,1418,5671,3719,6130,2294,2728,1240,8275,2239,6484,12308,12795,7728,1963,3867,1719,4598,13404,781,2479,3619,2793,235,5303,11478,2268,3930,6782,1.100690921077294E-2,"National death rate calcuated from population size and average number of deaths for 2005-2009 inclusive (supplied by ISD Scotland)",null,"LE calculated within spreadsheet using the Chiang method",null,118]
["Male 60-64",150760,16763,2897,6049,12418,10205,9924,24269,10114,24176,21225,835,212,9382,2291,4880,3495,2857,2485,1551,6049,4148,6232,2280,2868,1088,7511,2291,6408,12418,11322,7629,1834,3868,1549,4859,13242,835,2377,3765,2897,212,5672,10934,2246,3980,6978,1.6729692721377538E-2,"National death rate calcuated from population size and average number of deaths for 2005-2009 inclusive (supplied by ISD Scotland)",null,"LE calculated within spreadsheet using the Chiang method",null,119]
["Male 65-69",120137,13216,2144,5130,9751,8142,7696,19511,8099,19964,16508,694,168,7415,1699,3678,2634,2237,2164,1101,5130,3474,4798,1865,2386,831,5660,1699,5244,9751,8835,5935,1339,3198,1384,3655,11179,694,1704,3480,2144,168,4763,8785,1797,3161,5264,2.6436067443463756E-2,"National death rate calcuated from population size and average number of deaths for 2005-2009 inclusive (supplied by ISD Scotland)",null,"LE calculated within spreadsheet using the Chiang method",null,120]
["Male 70-74",101827,11211,1992,4238,8207,6684,7091,16887,6184,16107,14520,579,96,6547,1484,3592,2364,1928,1600,969,4238,3189,4156,1788,2290,775,5323,1484,4136,8207,7863,4584,1096,2617,1135,3181,8730,579,1430,2969,1992,96,3874,7377,1579,2396,4290,4.1069856765623754E-2,"National death rate calcuated from population size and average number of deaths for 2005-2009 inclusive (supplied by ISD Scotland)",null,"LE calculated within spreadsheet using the Chiang method",null,121]
["Male 75-79",76621,8542,1645,3066,6082,5003,5724,12722,4449,11975,10941,291,71,4960,1150,3007,1849,1476,1266,714,3066,2445,3186,1256,1904,593,4169,1150,3080,6082,6255,3183,795,1819,868,2340,6398,291,1039,2161,1645,71,3016,5577,1209,1662,3049,6.6036602458852262E-2,"National death rate calcuated from population size and average number of deaths for 2005-2009 inclusive (supplied by ISD Scotland)",null,"LE calculated within spreadsheet using the Chiang method",null,122]
["Male 80-84",48275,5055,1178,1780,3998,2997,3420,8163,2813,7616,6867,247,54,3414,673,1800,1109,1063,788,416,1780,1584,1941,884,1130,344,2838,673,1894,3998,4172,2025,489,1236,511,1183,3979,247,767,1260,1178,54,1931,3637,687,1014,1663,0.1025071405902888,"National death rate calcuated from population size and average number of deaths for 2005-2009 inclusive (supplied by ISD Scotland)",null,"LE calculated within spreadsheet using the Chiang method",null,123]
["Male 85-89",23980,2579,606,939,1861,1533,1791,3958,1390,3444,3408,154,22,1967,328,993,547,660,383,172,939,851,904,476,573,179,1546,328,1054,1861,2077,1007,199,557,251,635,1652,154,456,573,606,22,1040,1792,307,454,732,0.17940501888828925,"National death rate calcuated from population size and average number of deaths for 2005-2009 inclusive (supplied by ISD Scotland)",null,"LE calculated within spreadsheet using the Chiang method",null,124]
["Male 90+",8132,897,137,313,721,485,593,1179,474,1262,1175,35,11,727,123,312,186,229,170,35,313,330,290,160,161,38,565,123,315,721,594,304,63,192,95,195,551,35,168,176,137,11,412,711,135,148,257,null,null,null,null,null,125]
["Female <1",30074,2731,496,981,2301,2077,2204,5434,1713,4794,4877,114,39,2064,249,1220,628,669,419,271,981,809,1071,438,569,214,1955,249,1270,2301,3019,1294,322,800,356,786,2850,114,586,771,496,39,874,1944,536,670,1553,4.3626640396861698E-3,"National death rate calcuated from population size and average number of deaths for 2005-2009 inclusive (supplied by ISD Scotland)",null,"LE calculated within spreadsheet using the Chiang method",null,126]
["Female 1-4",110650,10427,1856,3689,8710,7630,7577,19728,6687,18527,17205,415,135,6968,1096,4094,2170,2315,1642,931,3689,2705,3896,1690,2184,847,6220,1096,4691,8710,10619,5045,1179,2907,1313,3257,11090,415,1948,2826,1856,135,3274,7437,2008,2567,5894,2.0952979608941208E-4,"National death rate calcuated from population size and average number of deaths for 2005-2009 inclusive (supplied by ISD Scotland)",null,"LE calculated within spreadsheet using the Chiang method",null,127]
["Female 5-9",126577,12668,1836,4157,10289,8714,8011,22516,7760,21447,19236,585,169,7828,1361,4114,2583,2581,1846,1169,4157,3052,4885,2102,2563,1010,5989,1361,5194,10289,11483,5914,1412,3555,1314,3988,12506,585,2195,3473,1836,169,3795,8941,2351,3036,7129,1.4806156243911943E-4,"National death rate calcuated from population size and average number of deaths for 2005-2009 inclusive (supplied by ISD Scotland)",null,"LE calculated within spreadsheet using the Chiang method",null,128]
["Female 10-14",137431,14255,2136,4888,11289,9776,7935,24021,8466,23454,20620,589,179,8119,1704,3827,2734,2684,2155,1367,4888,3072,5190,2369,2865,1372,6243,1704,5854,11289,11904,6311,1638,3996,1374,4507,13360,589,2363,3370,2136,179,4558,10094,2555,3368,7516,1.4037057832678272E-4,"National death rate calcuated from population size and average number of deaths for 2005-2009 inclusive (supplied by ISD Scotland)",null,"LE calculated within spreadsheet using the Chiang method",null,129]
["Female 15-19",158191,15696,2458,5077,12593,11107,10418,29953,8847,24267,24740,683,203,10590,1559,5322,3356,3085,2304,1410,5077,4971,6047,2688,3260,1355,9867,1559,6634,12593,16480,6543,1837,4283,1740,4610,13373,683,2534,3823,2458,203,5039,10894,3063,3770,7330,3.1382985400635192E-4,"National death rate calcuated from population size and average number of deaths for 2005-2009 inclusive (supplied by ISD Scotland)",null,"LE calculated within spreadsheet using the Chiang method",null,130]
["Female 20-24",185087,15585,2763,4593,13369,11733,15145,38697,7979,25784,32404,491,242,15215,1087,10311,3149,3036,2162,1360,4593,8777,5889,2782,3024,1298,17280,1087,6618,13369,24050,5817,2011,4097,1685,4589,14874,491,3402,4415,2763,242,5107,10910,3755,4141,8003,3.7582349560065438E-4,"National death rate calcuated from population size and average number of deaths for 2005-2009 inclusive (supplied by ISD Scotland)",null,"LE calculated within spreadsheet using the Chiang method",null,131]
["Female 25-29",186058,14818,2361,4543,12518,11073,13910,41532,8306,26849,34292,555,217,13892,1192,9370,3037,3132,1944,1376,4543,7266,5717,2611,2768,1130,19915,1192,6557,12518,27438,6362,1861,3821,1503,4361,15549,555,3494,4494,2361,217,4740,11300,3140,3998,7788,3.6025488032783196E-4,"National death rate calcuated from population size and average number of deaths for 2005-2009 inclusive (supplied by ISD Scotland)",null,"LE calculated within spreadsheet using the Chiang method",null,132]
["Female 30-34",163784,14239,2210,4421,11588,11058,10418,35400,8347,25321,28381,583,331,10039,1448,5989,2871,2675,1983,1328,4421,4676,5325,2456,2829,1054,14135,1448,6626,11588,22656,6364,1670,3874,1558,4275,14971,583,2688,3991,2210,331,4639,10350,3104,3573,7543,7.2237229489786631E-4,"National death rate calcuated from population size and average number of deaths for 2005-2009 inclusive (supplied by ISD Scotland)",null,"LE calculated within spreadsheet using the Chiang method",null,133]
["Female 35-39",180460,17585,2819,5577,13438,12584,11578,34501,10007,29901,29304,727,245,10454,1740,6344,3348,3255,2455,1661,5577,4214,6646,3165,3332,1347,12112,1740,7315,13438,19101,7552,2006,4498,1886,5396,17156,727,2985,4707,2819,245,5543,12745,3608,4175,9362,1.02781929258764E-3,"National death rate calcuated from population size and average number of deaths for 2005-2009 inclusive (supplied by ISD Scotland)",null,"LE calculated within spreadsheet using the Chiang method",null,134]
["Female 40-44",199405,20857,3157,6606,15695,14069,12135,37599,11575,33040,30518,724,228,11141,2061,6278,3774,3257,2714,1985,6606,4773,7979,3613,3979,1750,11326,2061,8274,15695,19170,8861,2336,5272,2083,6339,18494,724,3111,5563,3157,228,6539,14546,3810,5167,9941,1.6632618913235667E-3,"National death rate calcuated from population size and average number of deaths for 2005-2009 inclusive (supplied by ISD Scotland)",null,"LE calculated within spreadsheet using the Chiang method",null,135]
["Female 45-49",195652,20081,3068,6555,15331,13373,12287,37869,11712,32015,28648,788,237,11487,2201,6864,3568,3358,2860,1744,6555,4971,7387,3666,3898,1818,10469,2201,8170,15331,18967,8852,2675,5179,1855,6001,17704,788,3158,5439,3068,237,6693,14311,3459,5304,9102,2.6937322622540769E-3,"National death rate calcuated from population size and average number of deaths for 2005-2009 inclusive (supplied by ISD Scotland)",null,"LE calculated within spreadsheet using the Chiang method",null,136]
["Female 50-54",176250,18002,3003,6190,14121,11326,11440,32911,10722,29629,25504,803,236,10371,1992,6046,3358,3223,2635,1478,6190,4415,6567,3228,3426,1468,9059,1992,7102,14121,16637,8087,2210,4727,2036,5368,16167,803,2733,4476,3003,236,6067,13462,2746,4892,8292,4.4989456532157574E-3,"National death rate calcuated from population size and average number of deaths for 2005-2009 inclusive (supplied by ISD Scotland)",null,"LE calculated within spreadsheet using the Chiang method",null,137]
["Female 55-59",161590,16969,2761,5985,13349,10770,10974,27100,10699,27071,23262,735,254,9601,2060,5408,3576,2865,2596,1449,5985,4076,6042,2514,3119,1310,8083,2060,6953,13349,12630,8103,2082,4439,1990,5207,14880,735,2660,4174,2761,254,5720,12191,2368,4390,7621,6.4236693609882566E-3,"National death rate calcuated from population size and average number of deaths for 2005-2009 inclusive (supplied by ISD Scotland)",null,"LE calculated within spreadsheet using the Chiang method",null,138]
["Female 60-64",162769,18034,3122,6245,13462,11209,10996,26495,10340,26542,23480,820,211,9679,2134,5401,3778,2918,2730,1780,6245,4281,6589,2694,3084,1210,8228,2134,6962,13462,11736,7610,2019,4449,1817,5382,14848,820,2480,4401,3122,211,6063,11694,2467,4435,7719,1.0521629248426994E-2,"National death rate calcuated from population size and average number of deaths for 2005-2009 inclusive (supplied by ISD Scotland)",null,"LE calculated within spreadsheet using the Chiang method",null,139]
["Female 65-69",138177,15319,2685,5488,10947,9589,8792,22853,8772,23498,19055,737,163,8424,1855,4235,2970,2555,2335,1299,5488,3930,5572,2428,2803,1108,6623,1855,6043,10947,10185,6437,1610,3406,1587,4525,13281,737,1939,4001,2685,163,5222,10217,2247,3521,6223,1.6824723702746271E-2,"National death rate calcuated from population size and average number of deaths for 2005-2009 inclusive (supplied by ISD Scotland)",null,"LE calculated within spreadsheet using the Chiang method",null,140]
["Female 70-74",127643,13719,2350,4694,9638,8357,8598,23114,7761,20963,17746,588,118,8205,1792,4513,2626,2444,2288,1201,4694,3966,5171,2251,2825,1161,6750,1792,5165,9638,10979,5473,1486,3072,1459,3903,11617,588,1795,4012,2350,118,4645,9346,1991,3225,5099,2.5172437764063426E-2,"National death rate calcuated from population size and average number of deaths for 2005-2009 inclusive (supplied by ISD Scotland)",null,"LE calculated within spreadsheet using the Chiang method",null,141]
["Female 75-79",111446,11905,2227,4156,8591,6775,7999,21038,6163,17722,15431,480,107,7302,1550,4460,2125,2337,1694,828,4156,3385,4437,2023,2406,1032,6233,1550,4236,8591,10519,4469,1180,2837,1414,3190,9210,480,1580,3396,2227,107,4278,8512,1711,2888,3955,4.4394997039137227E-2,"National death rate calcuated from population size and average number of deaths for 2005-2009 inclusive (supplied by ISD Scotland)",null,"LE calculated within spreadsheet using the Chiang method",null,142]
["Female 80-84",82955,8282,1703,3006,6555,4817,6083,15064,4732,13275,11512,344,98,6276,1208,3340,1644,2040,1266,601,3006,2714,2981,1551,1893,654,5163,1208,3140,6555,7812,3466,867,1801,1099,2093,6506,344,1522,2174,1703,98,3208,6769,1076,2006,2655,7.3692721090053023E-2,"National death rate calcuated from population size and average number of deaths for 2005-2009 inclusive (supplied by ISD Scotland)",null,"LE calculated within spreadsheet using the Chiang method",null,143]
["Female 85-89",52017,5574,1122,1915,4181,3240,3666,8938,2926,7737,7170,210,95,4284,959,1978,1073,1367,845,446,1915,1822,1993,947,1152,373,3248,959,2103,4181,4895,2081,582,1193,615,1489,3668,210,1095,1076,1122,95,2092,4069,691,1065,1577,0.15636309216075753,"National death rate calcuated from population size and average number of deaths for 2005-2009 inclusive (supplied by ISD Scotland)",null,"LE calculated within spreadsheet using the Chiang method",null,144]
["Female 90+",24908,2761,470,1085,2215,1374,1763,4365,1468,3551,3329,150,57,1827,493,816,652,635,485,137,1085,744,923,433,499,182,1292,493,919,2215,2421,983,278,670,295,695,1689,150,448,418,470,57,1143,1862,318,633,868,null,null,null,null,null,145]
["age/sex breakdown: Q3",null,null,null,null,null,null,null,null,null,null,null,null,null,null,null,null,null,null,null,null,null,null,null,null,null,null,null,null,null,null,null,null,null,null,null,null,null,null,null,null,null,null,null,null,null,null,null,null,null,null,null,null,146]
["Male <1",28766,1369,863,1398,2039,1545,3400,4219,2422,4103,4863,89,269,1804,383,941,1414,643,718,342,1398,476,345,234,788,184,2176,383,873,2039,2043,1704,238,441,1045,480,1886,89,685,1055,863,269,544,2217,330,465,1458,4.4682097861119246E-3,"National death rate calcuated from population size and average number of deaths for 2005-2009 inclusive (supplied by ISD Scotland)",null,"LE calculated within spreadsheet using the Chiang method",null,147]
["Male 1-4",109815,5570,3554,5530,7985,6335,12829,15275,9794,15843,16953,372,1011,7125,1639,3037,5692,2664,3109,1349,5530,1788,1435,884,2813,717,6859,1639,3566,7985,6926,6685,1001,1811,4100,2037,7497,372,2673,3942,3554,1011,2098,8346,1420,1805,5470,2.4109398808031324E-4,"National death rate calcuated from population size and average number of deaths for 2005-2009 inclusive (supplied by ISD Scotland)",null,"LE calculated within spreadsheet using the Chiang method",null,148]
["Male 5-9",131075,7316,4530,6934,9774,7254,15127,17466,13113,19469,17663,420,1315,8664,2030,3660,6746,3402,4232,1608,6934,1756,2008,1154,3106,967,6579,2030,4005,9774,7209,8881,1327,2194,4721,2426,9154,420,3506,4716,4530,1315,2882,10315,1641,2093,5784,1.7882822803579542E-4,"National death rate calcuated from population size and average number of deaths for 2005-2009 inclusive (supplied by ISD Scotland)",null,"LE calculated within spreadsheet using the Chiang method",null,149]
["Male 10-14",146678,8709,5152,8578,10116,7733,16717,19332,15980,21050,19106,559,1451,10014,2181,3479,7664,3845,5361,1875,8578,2001,2371,1264,3840,1127,6839,2181,4090,10116,7483,10619,1670,2360,5574,3070,9300,559,4168,5229,5152,1451,3268,11750,1768,2559,6067,1.5170403202933823E-4,"National death rate calcuated from population size and average number of deaths for 2005-2009 inclusive (supplied by ISD Scotland)",null,"LE calculated within spreadsheet using the Chiang method",null,150]
["Male 15-19",159461,9336,5394,8705,10690,8339,18610,23527,15851,21984,21081,562,1500,11568,2314,4916,7978,4136,5309,1901,8705,3015,2663,1286,4202,1261,7877,2314,4449,10690,10530,10542,1930,2687,5716,3195,9531,562,4417,5545,5394,1500,3478,12453,1989,2975,6315,6.7441730963179293E-4,"National death rate calcuated from population size and average number of deaths for 2005-2009 inclusive (supplied by ISD Scotland)",null,"LE calculated within spreadsheet using the Chiang method",null,151]
["Male 20-24",172572,8367,4135,6860,10627,9102,21033,31883,12751,20773,29829,605,1253,13511,1843,8951,7252,3706,4182,2261,6860,5816,2770,1234,4051,1178,17376,1843,3941,10627,19291,8569,1812,2303,4830,2547,9117,605,3989,5490,4135,1253,3050,11656,2900,2878,6099,8.8048622405928608E-4,"National death rate calcuated from population size and average number of deaths for 2005-2009 inclusive (supplied by ISD Scotland)",null,"LE calculated within spreadsheet using the Chiang method",null,152]
["Male 25-29",173497,6674,3777,5475,10231,9114,20290,35350,11999,20984,35693,482,1154,10742,1532,9764,6333,3094,3584,2342,5475,3910,2084,1200,2964,839,24804,1532,4533,10231,23468,8415,1465,2057,4193,2049,9505,482,3738,5563,3777,1154,2541,11479,2239,2815,5868,9.9650295546684E-4,"National death rate calcuated from population size and average number of deaths for 2005-2009 inclusive (supplied by ISD Scotland)",null,"LE calculated within spreadsheet using the Chiang method",null,153]
["Male 30-34",160910,6641,3947,5608,9882,8211,18299,29485,12046,20640,33887,499,1247,8670,1848,7580,6264,3070,3556,2112,5608,2624,2152,1009,3011,763,22153,1848,4518,9882,19145,8490,1154,2059,4455,2051,9945,499,2976,4961,3947,1247,2438,10695,1581,2453,6664,1.1979843438024911E-3,"National death rate calcuated from population size and average number of deaths for 2005-2009 inclusive (supplied by ISD Scotland)",null,"LE calculated within spreadsheet using the Chiang method",null,154]
["Male 35-39",176562,9076,5296,7814,12412,9666,19857,28245,14758,23822,31065,586,1416,10173,2376,6054,8138,3908,4797,2307,7814,2601,2695,1351,4084,987,16384,2376,5191,12412,15446,9961,1483,2517,5665,3107,11408,586,3664,6012,5296,1416,3274,12414,2168,2966,8080,1.6348014386252658E-3,"National death rate calcuated from population size and average number of deaths for 2005-2009 inclusive (supplied by ISD Scotland)",null,"LE calculated within spreadsheet using the Chiang method",null,155]
["Male 40-44",197583,11220,6635,9980,13900,10723,22524,29065,19346,27886,29078,768,1611,12095,2752,6000,9662,4464,6314,2724,9980,2656,3427,1669,4536,1238,13136,2752,5731,13900,13374,13032,2176,2991,6862,3764,12885,768,4975,7068,6635,1611,4029,15001,2268,3540,8415,2.0985150126461823E-3,"National death rate calcuated from population size and average number of deaths for 2005-2009 inclusive (supplied by ISD Scotland)",null,"LE calculated within spreadsheet using the Chiang method",null,156]
["Male 45-49",194828,11355,6857,10934,13609,10513,21420,28669,20458,26583,26211,911,1810,12684,2814,5477,9214,4768,6701,2795,10934,2756,3077,1494,4495,1400,11095,2814,5489,13609,12777,13757,2460,3009,6729,3886,11725,911,5160,6785,6857,1810,4392,14858,2229,3753,7612,3.1664640270656023E-3,"National death rate calcuated from population size and average number of deaths for 2005-2009 inclusive (supplied by ISD Scotland)",null,"LE calculated within spreadsheet using the Chiang method",null,157]
["Male 50-54",175613,10443,6060,10177,12405,9094,19731,24294,19887,23155,23158,854,1683,11868,2804,4930,9061,4444,6468,2085,10177,2623,2864,1324,4248,1337,9813,2804,5018,12405,10665,13419,2052,2909,5740,3641,9847,854,4801,5547,6060,1683,3938,13308,1991,3369,6188,5.1463833996749659E-3,"National death rate calcuated from population size and average number of deaths for 2005-2009 inclusive (supplied by ISD Scotland)",null,"LE calculated within spreadsheet using the Chiang method",null,158]
["Male 55-59",162440,9904,6059,10495,11247,8346,19124,20797,20256,20110,20041,782,1747,10820,2712,4943,8969,4234,6540,1895,10495,2102,2590,1222,3650,1139,8031,2712,4549,11247,8858,13716,1550,2955,5212,3447,8661,782,4484,5042,6059,1747,3867,11449,1902,2986,5405,7.7142010080047431E-3,"National death rate calcuated from population size and average number of deaths for 2005-2009 inclusive (supplied by ISD Scotland)",null,"LE calculated within spreadsheet using the Chiang method",null,159]
["Male 60-64",161710,10384,6603,11478,11972,8335,19480,18839,20878,18519,18638,794,1753,11232,2805,4874,9197,4474,7284,1847,11478,2085,2677,1114,3360,997,7284,2805,4536,11972,7278,13594,1524,2921,5409,3796,8279,794,4673,5098,6603,1753,3911,10240,1952,2828,5073,1.3107909011026765E-2,"National death rate calcuated from population size and average number of deaths for 2005-2009 inclusive (supplied by ISD Scotland)",null,"LE calculated within spreadsheet using the Chiang method",null,160]
["Male 65-69",125415,8336,5189,9425,9343,6334,14906,13580,16924,14570,13743,720,1315,8851,2179,3519,6950,3438,6273,1286,9425,1610,2176,742,2790,866,4963,2179,3577,9343,5146,10651,1118,2057,4437,2976,6088,720,3803,3723,5189,1315,3184,8482,1471,1985,3933,2.0239849544481259E-2,"National death rate calcuated from population size and average number of deaths for 2005-2009 inclusive (supplied by ISD Scotland)",null,"LE calculated within spreadsheet using the Chiang method",null,161]
["Male 70-74",102564,6660,4053,7896,7471,5242,12586,11442,13122,12029,11462,476,1021,7325,1779,3374,5478,2691,5057,982,7896,1428,1708,642,2251,859,4262,1779,3039,7471,4047,8065,980,1739,3734,2412,4859,476,3206,3124,4053,1021,2540,7170,1221,1790,3210,3.3849414257961966E-2,"National death rate calcuated from population size and average number of deaths for 2005-2009 inclusive (supplied by ISD Scotland)",null,"LE calculated within spreadsheet using the Chiang method",null,162]
["Male 75-79",76406,4475,3105,5935,5461,3600,9457,9039,9654,8842,8616,328,681,6013,1200,2691,4062,2011,3434,727,5935,1248,1011,537,1851,678,3394,1200,1965,5461,3117,6220,699,1400,2704,1747,3694,328,2754,2530,3105,681,1717,5148,908,1478,1971,5.7181139021221308E-2,"National death rate calcuated from population size and average number of deaths for 2005-2009 inclusive (supplied by ISD Scotland)",null,"LE calculated within spreadsheet using the Chiang method",null,163]
["Male 80-84",47593,2697,1957,3621,3458,2183,5964,5549,5938,5560,5361,198,441,3809,857,1633,2736,1311,2186,404,3621,899,609,244,1241,409,2234,857,1208,3458,1820,3752,472,811,1595,939,2140,198,1599,1827,1957,441,1149,3420,571,777,1075,9.7975221694973483E-2,"National death rate calcuated from population size and average number of deaths for 2005-2009 inclusive (supplied by ISD Scotland)",null,"LE calculated within spreadsheet using the Chiang method",null,164]
["Male 85-89",23854,1251,982,1797,1675,1096,3003,2848,2809,2636,2888,114,227,2114,414,796,1423,665,1030,205,1797,613,267,130,657,190,1398,414,600,1675,924,1779,192,364,784,443,964,114,836,1067,982,227,541,1672,291,345,469,0.17718641347954001,"National death rate calcuated from population size and average number of deaths for 2005-2009 inclusive (supplied by ISD Scotland)",null,"LE calculated within spreadsheet using the Chiang method",null,165]
["Male 90+",8713,448,331,687,720,405,1096,1075,979,879,1010,35,74,878,96,239,520,281,408,67,687,208,107,58,277,46,433,96,221,720,323,571,73,150,337,178,300,35,389,448,331,74,163,579,117,127,150,null,null,null,null,null,166]
["Female <1",27728,1269,874,1325,2019,1499,3254,4173,2313,4041,4614,92,238,1687,330,931,1368,602,717,350,1325,448,324,244,674,173,2125,330,840,2019,2089,1596,252,441,955,484,1873,92,637,941,874,238,461,2168,309,474,1374,3.2833199709846137E-3,"National death rate calcuated from population size and average number of deaths for 2005-2009 inclusive (supplied by ISD Scotland)",null,"LE calculated within spreadsheet using the Chiang method",null,167]
["Female 1-4",104708,5086,3177,5588,7735,5995,12138,14772,9367,15450,16092,406,938,6491,1473,3131,5350,2521,2948,1341,5588,1509,1309,894,2540,732,6526,1473,3317,7735,6668,6419,1028,1856,3657,1792,7258,406,2461,3676,3177,938,1985,8192,1337,1774,5170,1.9078029139179241E-4,"National death rate calcuated from population size and average number of deaths for 2005-2009 inclusive (supplied by ISD Scotland)",null,"LE calculated within spreadsheet using the Chiang method",null,168]
["Female 5-9",126132,6997,4477,6784,9039,7039,14092,17347,12538,18512,17362,411,1200,8290,2044,3184,6524,3095,4148,1529,6784,1862,1773,1173,3051,919,6325,2044,3827,9039,7261,8390,1449,2253,4384,2494,8479,411,3333,4447,4477,1200,2730,10033,1683,2098,5733,6.9984447900466566E-5,"National death rate calcuated from population size and average number of deaths for 2005-2009 inclusive (supplied by ISD Scotland)",null,"LE calculated within spreadsheet using the Chiang method",null,169]
["Female 10-14",139583,7902,5016,7929,10024,7359,16003,18470,15017,19637,18658,550,1435,9366,2217,3247,7490,3539,5059,1775,7929,1939,1988,1282,3811,1049,6250,2217,3974,10024,7386,9958,1584,2586,5266,2731,8774,550,3888,4886,5016,1435,3183,10863,1610,2283,6011,1.2437295302848142E-4,"National death rate calcuated from population size and average number of deaths for 2005-2009 inclusive (supplied by ISD Scotland)",null,"LE calculated within spreadsheet using the Chiang method",null,170]
["Female 15-19",151944,8357,4922,7846,10307,8410,18338,23117,14346,19959,21425,618,1386,10856,2057,5411,7660,3532,4763,1941,7846,3639,2229,1248,4698,1048,7960,2057,4150,10307,11401,9583,1657,2549,5267,2939,8723,618,3685,5220,4922,1386,3189,11236,2319,2543,6218,3.3697842677326634E-4,"National death rate calcuated from population size and average number of deaths for 2005-2009 inclusive (supplied by ISD Scotland)",null,"LE calculated within spreadsheet using the Chiang method",null,171]
["Female 20-24",167413,6810,3817,6318,10019,8837,20372,33544,10352,19218,32880,504,1016,12360,1366,10023,6278,2994,3352,1478,6318,5895,1839,1307,4163,974,20789,1366,4013,10019,22038,7000,1581,2181,4071,2341,8438,504,3471,5064,3817,1016,2630,10780,3346,2580,5747,3.3007699680713982E-4,"National death rate calcuated from population size and average number of deaths for 2005-2009 inclusive (supplied by ISD Scotland)",null,"LE calculated within spreadsheet using the Chiang method",null,172]
["Female 25-29",169727,5970,3804,5920,10171,8308,18697,34182,11155,20265,38151,485,984,10014,1621,8637,6041,3029,3230,1547,5920,3700,1530,1009,3058,833,26969,1621,4696,10171,22841,7925,1298,2247,4019,2151,9320,485,3285,5596,3804,984,2289,10945,2065,2605,5877,3.9815710141630168E-4,"National death rate calcuated from population size and average number of deaths for 2005-2009 inclusive (supplied by ISD Scotland)",null,"LE calculated within spreadsheet using the Chiang method",null,173]
["Female 30-34",159870,6918,4069,6295,10720,8453,16727,28106,12020,21093,32340,495,1355,9291,1988,5718,6622,3458,3625,1781,6295,2559,1890,1150,3356,912,20146,1988,4689,10720,16667,8395,1386,2264,4387,2409,9994,495,3274,5356,4069,1355,2619,11099,1983,2635,6574,5.0221034553311796E-4,"National death rate calcuated from population size and average number of deaths for 2005-2009 inclusive (supplied by ISD Scotland)",null,"LE calculated within spreadsheet using the Chiang method",null,174]
["Female 35-39",182846,9575,5677,8581,12887,10186,20104,28573,16118,25226,30047,586,1503,11335,2448,5314,8788,4210,5227,2211,8581,2762,2566,1608,4545,1154,14477,2448,5715,12887,14215,10891,1730,2894,6002,3349,11507,586,4363,6746,5677,1503,3660,13719,2260,3120,8131,9.0306575252884348E-4,"National death rate calcuated from population size and average number of deaths for 2005-2009 inclusive (supplied by ISD Scotland)",null,"LE calculated within spreadsheet using the Chiang method",null,175]
["Female 40-44",204996,11538,6829,10795,14410,11347,22209,30647,20494,28998,29208,810,1580,13190,2941,5743,9909,4896,6799,2785,10795,2832,3168,1747,5184,1462,12128,2941,6120,14410,13543,13695,2413,3467,6557,4046,12852,810,5462,7694,6829,1580,4324,16146,2442,3788,8429,1.3737190672206531E-3,"National death rate calcuated from population size and average number of deaths for 2005-2009 inclusive (supplied by ISD Scotland)",null,"LE calculated within spreadsheet using the Chiang method",null,176]
["Female 45-49",202729,12101,7100,11785,14240,10528,21798,29721,21194,27828,27298,810,1660,13886,2780,5595,9704,5260,7012,2440,11785,3018,3145,1660,4707,1539,11327,2780,5718,14240,13170,14182,2510,3541,6499,4222,12147,810,5608,6951,7100,1660,4734,15681,2370,3891,7723,2.1359715880263828E-3,"National death rate calcuated from population size and average number of deaths for 2005-2009 inclusive (supplied by ISD Scotland)",null,"LE calculated within spreadsheet using the Chiang method",null,177]
["Female 50-54",181789,11022,6426,10618,13033,9269,20042,25633,20753,24940,22893,762,1566,12114,2718,5289,9004,4578,6630,2102,10618,2646,2759,1538,4240,1387,9233,2718,5202,13033,11086,14123,2126,3223,5749,4006,10571,762,4890,5902,6426,1566,4257,14369,1965,3594,6197,3.4926512346380133E-3,"National death rate calcuated from population size and average number of deaths for 2005-2009 inclusive (supplied by ISD Scotland)",null,"LE calculated within spreadsheet using the Chiang method",null,178]
["Female 55-59",168767,10481,6196,10861,12124,8937,19754,21612,20408,21341,20730,788,1496,11388,2651,5168,9253,4445,6986,1923,10861,2355,2702,1404,3887,1238,8017,2651,4992,12124,8356,13422,1857,3095,5333,3662,9284,788,4588,5549,6196,1496,4117,12057,2022,3208,5731,5.3473473358237747E-3,"National death rate calcuated from population size and average number of deaths for 2005-2009 inclusive (supplied by ISD Scotland)",null,"LE calculated within spreadsheet using the Chiang method",null,179]
["Female 60-64",168891,10955,6744,11709,12823,8656,19658,20037,20902,20415,19951,793,1469,12220,2559,5033,8866,4694,7664,1830,11709,2349,2921,1299,3867,1239,7328,2559,4771,12823,7291,13238,1667,3171,5759,3917,8947,793,5177,5545,6744,1469,4117,11468,2055,2996,5585,8.3389986964467252E-3,"National death rate calcuated from population size and average number of deaths for 2005-2009 inclusive (supplied by ISD Scotland)",null,"LE calculated within spreadsheet using the Chiang method",null,180]
["Female 65-69",138124,9053,5322,10074,9943,7260,16016,15889,17181,17145,15929,762,1328,9898,2324,4061,7080,3690,6195,1412,10074,1858,2288,971,3229,1020,5813,2324,4077,9943,5619,10986,1391,2381,4875,3345,7165,762,4350,4497,5322,1328,3420,9980,1771,2391,4506,1.3253003260370091E-2,"National death rate calcuated from population size and average number of deaths for 2005-2009 inclusive (supplied by ISD Scotland)",null,"LE calculated within spreadsheet using the Chiang method",null,181]
["Female 70-74",120141,7261,4563,8371,8564,6202,14305,14967,14153,15233,14098,560,1054,8888,1922,4111,5998,3039,5263,1168,8371,2035,1783,734,2994,1059,5413,1922,3510,8564,5595,8890,1206,2116,4196,2627,6299,560,3814,4118,4563,1054,2851,8934,1524,2255,3575,2.236666029439878E-2,"National death rate calcuated from population size and average number of deaths for 2005-2009 inclusive (supplied by ISD Scotland)",null,"LE calculated within spreadsheet using the Chiang method",null,182]
["Female 75-79",100381,5851,3682,6671,6754,5018,12403,13075,11724,12777,11874,424,769,7769,1590,3853,5101,2455,4457,847,6671,1946,1343,648,2688,1009,4877,1590,2818,6754,4985,7267,1058,1797,3449,2175,5163,424,3368,3311,3682,769,2333,7614,1353,2064,2512,3.9151295866598497E-2,"National death rate calcuated from population size and average number of deaths for 2005-2009 inclusive (supplied by ISD Scotland)",null,"LE calculated within spreadsheet using the Chiang method",null,183]
["Female 80-84",75560,3997,2770,5125,5702,3713,9353,9675,8531,9108,9004,349,545,6403,1285,3028,4017,2044,3179,704,5125,1658,781,496,2061,742,3877,1285,2047,5702,3680,5352,704,1297,2308,1558,3594,349,2701,2589,2770,545,1658,5514,962,1464,1769,6.9160279691357227E-2,"National death rate calcuated from population size and average number of deaths for 2005-2009 inclusive (supplied by ISD Scotland)",null,"LE calculated within spreadsheet using the Chiang method",null,184]
["Female 85-89",47917,2528,1860,3246,3653,2226,5613,6303,5293,5639,5880,260,411,4131,874,1711,2614,1305,2034,456,3246,1191,510,349,1363,489,2751,874,1163,3653,2353,3259,391,801,1288,1038,2149,260,1635,1852,1860,411,980,3490,607,869,965,0.16079817203843261,"National death rate calcuated from population size and average number of deaths for 2005-2009 inclusive (supplied by ISD Scotland)",null,"LE calculated within spreadsheet using the Chiang method",null,185]
["Female 90+",24189,1324,830,1748,2177,909,2945,3117,2772,2821,2914,148,174,1870,440,827,1499,564,1119,170,1748,499,288,132,819,183,1383,440,464,2177,1194,1653,213,332,619,569,1063,148,807,1044,830,174,467,1758,275,351,380,null,null,null,null,null,186]
["age/sex breakdown: Q4",null,null,null,null,null,null,null,null,null,null,null,null,null,null,null,null,null,null,null,null,null,null,null,null,null,null,null,null,null,null,null,null,null,null,null,null,null,null,null,null,null,null,null,null,null,null,null,null,null,null,null,null,187]
["Male <1",27546,1353,1127,695,1724,1789,4082,3969,2312,2734,4266,311,323,2861,0,630,2684,996,416,263,695,433,488,423,915,404,2020,0,935,1724,1833,1896,325,443,768,541,1180,311,1432,767,1127,323,324,1554,591,217,888,4.2772537837245002E-3,"National death rate calcuated from population size and average number of deaths for 2005-2009 inclusive (supplied by ISD Scotland)",null,"LE calculated within spreadsheet using the Chiang method",null,188]
["Male 1-4",110551,5755,4719,3096,6754,7278,16153,15561,9477,11175,16235,1171,1212,11965,0,2006,11000,4357,1850,1052,3096,1656,1935,1919,3984,1709,6908,0,3661,6754,6527,7627,1237,1853,3147,2505,4778,1171,5952,3307,4719,1212,1315,6397,2565,862,3490,1.7636193181290783E-4,"National death rate calcuated from population size and average number of deaths for 2005-2009 inclusive (supplied by ISD Scotland)",null,"LE calculated within spreadsheet using the Chiang method",null,189]
["Male 5-9",137119,7257,6342,4149,9180,8789,19645,18653,12354,13170,18522,1506,1446,16106,0,2016,13568,5943,2728,1114,4149,2215,2119,2950,4711,2256,7427,0,4330,9180,6998,9626,1652,2358,4061,3296,5874,1506,7948,3776,6342,1446,1842,7296,3345,1021,4026,1.3597068758229805E-4,"National death rate calcuated from population size and average number of deaths for 2005-2009 inclusive (supplied by ISD Scotland)",null,"LE calculated within spreadsheet using the Chiang method",null,190]
["Male 10-14",150805,7854,7035,4745,9929,10134,21596,20831,13973,14344,18932,1856,1653,17923,0,2184,14558,6434,3297,1233,4745,2391,2227,3403,4608,2513,7701,0,4408,9929,7666,10676,1783,2414,4854,3670,6507,1856,9098,4329,7035,1653,1957,7837,4493,1137,4209,1.1661807580174928E-4,"National death rate calcuated from population size and average number of deaths for 2005-2009 inclusive (supplied by ISD Scotland)",null,"LE calculated within spreadsheet using the Chiang method",null,191]
["Male 15-19",157477,8407,6633,4976,10137,9967,22538,24451,13542,14542,20684,1812,1803,17985,0,3581,13924,6368,3270,1353,4976,2824,2555,3706,4532,2508,9264,0,4168,10137,10689,10272,1952,2748,5033,3735,6520,1812,8793,4393,6633,1803,2117,8022,4446,1203,4140,5.4037215748351864E-4,"National death rate calcuated from population size and average number of deaths for 2005-2009 inclusive (supplied by ISD Scotland)",null,"LE calculated within spreadsheet using the Chiang method",null,192]
["Male 20-24",158119,7301,4960,4268,9552,8857,22194,30498,11344,13122,25289,1368,1483,17883,0,6513,11405,5044,2589,1098,4268,4504,2242,3287,3367,2194,16069,0,3554,9552,17275,8755,1975,2338,4276,3088,5641,1368,8335,4387,4960,1483,1971,7481,4205,1380,3515,8.8087730272816639E-4,"National death rate calcuated from population size and average number of deaths for 2005-2009 inclusive (supplied by ISD Scotland)",null,"LE calculated within spreadsheet using the Chiang method",null,193]
["Male 25-29",149252,6101,3990,3629,7870,8055,21500,28776,10640,12778,28259,1300,1538,14816,0,7584,9935,4226,2054,1012,3629,3195,1883,2611,2776,1717,20011,0,3936,7870,17583,8586,1713,1841,3981,2642,5844,1300,7395,3949,3990,1538,1576,6934,3107,1203,3631,8.0050904164699599E-4,"National death rate calcuated from population size and average number of deaths for 2005-2009 inclusive (supplied by ISD Scotland)",null,"LE calculated within spreadsheet using the Chiang method",null,194]
["Male 30-34",141579,6514,4360,3262,7790,8404,21358,22605,11371,13533,26152,1234,1693,13303,0,6074,11204,4399,2257,1189,3262,2270,2185,1858,3232,1506,16934,0,4686,7790,13185,9114,1579,1945,4080,2829,6112,1234,6634,3461,4360,1693,1500,7421,2529,1016,4041,9.519961098288462E-4,"National death rate calcuated from population size and average number of deaths for 2005-2009 inclusive (supplied by ISD Scotland)",null,"LE calculated within spreadsheet using the Chiang method",null,195]
["Male 35-39",173907,8817,7155,4678,10688,11201,25733,24744,14176,18105,27827,1655,1892,17236,0,4752,15204,6258,3069,1671,4678,2456,2869,2765,5263,2090,14455,0,5754,10688,12198,11107,2104,2744,5777,3810,8137,1655,8522,4362,7155,1892,2138,9968,3776,1225,5365,1.2247594797995262E-3,"National death rate calcuated from population size and average number of deaths for 2005-2009 inclusive (supplied by ISD Scotland)",null,"LE calculated within spreadsheet using the Chiang method",null,196]
["Male 40-44",203052,10855,9301,6512,13254,12771,29247,28605,17581,20100,28490,2396,1971,21969,0,4137,18488,7778,4153,1797,6512,3140,3315,3695,6156,2561,12665,0,6409,13254,12725,13428,2363,3208,6622,4870,9096,2396,11051,5702,9301,1971,2670,11004,4565,1559,6461,1.5718403590567023E-3,"National death rate calcuated from population size and average number of deaths for 2005-2009 inclusive (supplied by ISD Scotland)",null,"LE calculated within spreadsheet using the Chiang method",null,197]
["Male 45-49",204991,10872,9635,6842,13565,12789,28687,30241,18482,18820,27384,2326,2077,23271,0,4093,18231,8441,4458,1752,6842,3320,3224,4343,6124,2909,12055,0,5883,13565,12292,14024,2786,3176,6363,4599,8149,2326,11510,6160,9635,2077,3049,10671,5154,1751,6029,2.2931281587086068E-3,"National death rate calcuated from population size and average number of deaths for 2005-2009 inclusive (supplied by ISD Scotland)",null,"LE calculated within spreadsheet using the Chiang method",null,198]
["Male 50-54",186249,10590,8856,6528,12587,11054,26667,27150,17472,16377,24032,2003,1810,21123,0,3974,16881,7373,4349,1530,6528,3429,3090,4232,5453,2676,10596,0,4960,12587,10486,13123,2509,2936,5812,4271,7221,2003,10321,5511,8856,1810,3229,9156,4564,1736,5047,3.4603611197373675E-3,"National death rate calcuated from population size and average number of deaths for 2005-2009 inclusive (supplied by ISD Scotland)",null,"LE calculated within spreadsheet using the Chiang method",null,199]
["Male 55-59",172680,10064,8453,6506,11542,10233,24854,23576,16965,14353,21271,1973,1872,21018,0,3561,15691,7443,4203,1394,6506,3024,3031,3659,4675,2242,9558,0,4510,11542,9005,12762,2328,2650,5602,4025,6227,1973,10551,4821,8453,1872,3008,8126,4329,1521,4388,5.6190913158982907E-3,"National death rate calcuated from population size and average number of deaths for 2005-2009 inclusive (supplied by ISD Scotland)",null,"LE calculated within spreadsheet using the Chiang method",null,200]
["Male 60-64",169605,10415,8902,7115,12196,10448,23840,21624,16729,12624,20385,1988,1780,21559,0,3220,14970,7655,4402,1549,7115,2799,3152,3637,4876,2021,8473,0,4787,12196,7393,12327,2238,2808,5650,4201,5225,1988,11105,4809,8902,1780,3062,7399,4112,1526,4228,9.5723001163590549E-3,"National death rate calcuated from population size and average number of deaths for 2005-2009 inclusive (supplied by ISD Scotland)",null,"LE calculated within spreadsheet using the Chiang method",null,201]
["Male 65-69",127123,7893,7193,5724,9325,7722,16858,15137,12933,9174,15499,1633,1243,16789,0,2396,10153,6208,3548,1107,5724,2084,2054,2591,3777,1450,6477,0,3379,9325,4924,9385,1655,2121,4309,3329,3953,1633,8497,3491,7193,1243,2510,5221,3236,1026,3124,1.6677171100643536E-2,"National death rate calcuated from population size and average number of deaths for 2005-2009 inclusive (supplied by ISD Scotland)",null,"LE calculated within spreadsheet using the Chiang method",null,202]
["Male 70-74",100958,6169,5793,4661,7129,6246,13614,12188,9918,7001,12260,1234,928,13817,0,1844,8207,4986,2861,967,4661,1721,1434,2210,2834,1211,5565,0,2621,7129,4055,7057,1323,1546,3563,2480,2907,1234,7110,2543,5793,928,2255,4094,2658,846,2315,2.8047565682978459E-2,"National death rate calcuated from population size and average number of deaths for 2005-2009 inclusive (supplied by ISD Scotland)",null,"LE calculated within spreadsheet using the Chiang method",null,203]
["Male 75-79",76200,4471,4239,3827,5107,4594,9790,9381,7642,5185,9645,916,714,10689,0,1445,5735,3761,2127,581,3827,1478,1007,1666,2216,984,4776,0,1927,5107,3212,5515,971,1162,2610,1751,1914,916,5450,1856,4239,714,1713,3271,2086,692,1491,4.8154071158130696E-2,"National death rate calcuated from population size and average number of deaths for 2005-2009 inclusive (supplied by ISD Scotland)",null,"LE calculated within spreadsheet using the Chiang method",null,204]
["Male 80-84",48612,2850,2754,2671,3307,2778,6527,5798,4973,2841,6221,583,447,6862,0,978,3873,2308,1309,365,2671,1078,611,1027,1448,643,3149,0,1213,3307,2060,3664,675,727,1676,1099,1027,583,3476,1060,2754,447,1140,1814,1200,333,897,8.5749321187702551E-2,"National death rate calcuated from population size and average number of deaths for 2005-2009 inclusive (supplied by ISD Scotland)",null,"LE calculated within spreadsheet using the Chiang method",null,205]
["Male 85-89",23607,1283,1297,1169,1593,1345,3378,2947,2544,1264,2983,233,253,3318,0,534,2032,1067,658,160,1169,565,290,491,585,407,1685,0,574,1593,1064,1886,391,315,812,466,470,233,1686,435,1297,253,527,794,611,159,398,0.17755831772518305,"National death rate calcuated from population size and average number of deaths for 2005-2009 inclusive (supplied by ISD Scotland)",null,"LE calculated within spreadsheet using the Chiang method",null,206]
["Male 90+",8557,504,431,364,513,483,1246,1037,920,526,1056,89,105,1283,0,209,710,491,232,64,364,145,124,174,215,111,626,0,169,513,381,688,146,103,327,187,160,89,647,174,431,105,193,366,250,51,112,null,null,null,null,null,207]
["Female <1",26555,1240,1104,704,1676,1755,3938,3738,2173,2631,4210,281,288,2817,0,581,2611,988,419,262,704,455,425,427,937,362,1927,0,939,1676,1765,1754,282,495,746,544,1147,281,1374,726,1104,288,271,1484,554,176,851,3.5551433650204802E-3,"National death rate calcuated from population size and average number of deaths for 2005-2009 inclusive (supplied by ISD Scotland)",null,"LE calculated within spreadsheet using the Chiang method",null,208]
["Female 1-4",106001,5462,4860,2757,6799,7056,15319,14635,8741,10580,15773,1144,1129,11746,0,1966,10334,4306,1694,1056,2757,1703,1766,1944,4047,1605,6371,0,3572,6799,6170,7047,1112,1819,3019,2361,4433,1144,5737,3069,4860,1129,1335,6147,2428,735,3536,2.2378329992800016E-4,"National death rate calcuated from population size and average number of deaths for 2005-2009 inclusive (supplied by ISD Scotland)",null,"LE calculated within spreadsheet using the Chiang method",null,209]
["Female 5-9",131633,6856,6474,3513,8502,8658,18688,17918,11671,13342,18146,1390,1465,15010,0,2098,12779,5577,2527,1193,3513,1951,2007,2707,4521,2121,7214,0,4124,8502,6896,9144,1524,2369,3811,2993,5727,1390,7482,3693,6474,1465,1856,7615,3341,977,4042,6.7693094552210182E-5,"National death rate calcuated from population size and average number of deaths for 2005-2009 inclusive (supplied by ISD Scotland)",null,"LE calculated within spreadsheet using the Chiang method",null,210]
["Female 10-14",142831,7601,6829,4572,9537,9586,19673,19636,13030,13423,18245,1678,1684,17337,0,1936,13139,6116,3009,1151,4572,2356,2149,3130,4744,2331,6961,0,4097,9537,7419,10021,1726,2412,4598,3440,5701,1678,8865,3937,6829,1684,2012,7722,4338,1093,4128,8.1994096425057393E-5,"National death rate calcuated from population size and average number of deaths for 2005-2009 inclusive (supplied by ISD Scotland)",null,"LE calculated within spreadsheet using the Chiang method",null,211]
["Female 15-19",148112,7680,6861,4570,9440,9491,21404,24077,12275,13528,19238,1707,1599,16242,0,4429,12715,5357,3051,1205,4570,2932,2314,3513,4043,2211,8805,0,3979,9440,11001,9224,1942,2432,4260,3388,5975,1707,7953,4213,6861,1599,1978,7553,4307,1197,3958,2.5251686214572882E-4,"National death rate calcuated from population size and average number of deaths for 2005-2009 inclusive (supplied by ISD Scotland)",null,"LE calculated within spreadsheet using the Chiang method",null,212]
["Female 20-24",148606,6593,4723,3577,8814,8488,20503,31408,9509,12297,24895,1203,1147,15449,0,7461,9855,4031,2164,1019,3577,4626,2028,2764,2933,1904,16257,0,3495,8814,20163,7345,1702,2132,3187,2821,5668,1203,6792,3721,4723,1147,1744,6629,3974,1154,3573,2.9236386382643103E-4,"National death rate calcuated from population size and average number of deaths for 2005-2009 inclusive (supplied by ISD Scotland)",null,"LE calculated within spreadsheet using the Chiang method",null,213]
["Female 25-29",143589,6365,4098,3204,7686,8263,18952,26506,10360,12793,29397,1221,1356,13388,0,6123,9732,3846,1702,1008,3204,2939,2045,2193,2820,1582,20788,0,4211,7686,16816,8658,1466,1894,3097,2806,5712,1221,6603,3376,4098,1356,1514,7081,3044,1073,3895,2.7883034246085648E-4,"National death rate calcuated from population size and average number of deaths for 2005-2009 inclusive (supplied by ISD Scotland)",null,"LE calculated within spreadsheet using the Chiang method",null,214]
["Female 30-34",148727,7246,5219,3555,8730,9189,20961,22959,11579,15059,27239,1426,1476,14089,0,4568,12714,5021,2249,1398,3555,2336,2375,2033,3997,1639,16509,0,4772,8730,12842,9330,1631,2239,3679,3262,6636,1426,6732,3795,5219,1476,1609,8423,3019,1019,4494,3.5388208648878193E-4,"National death rate calcuated from population size and average number of deaths for 2005-2009 inclusive (supplied by ISD Scotland)",null,"LE calculated within spreadsheet using the Chiang method",null,215]
["Female 35-39",187192,9771,7968,5112,11661,12531,26451,26662,15356,19234,28798,1894,1766,19988,0,4050,17193,7220,3372,1735,5112,2855,3085,3191,6062,2415,13499,0,6367,11661,12114,11984,2227,3039,5208,4241,8614,1894,9913,5332,7968,1766,2445,10620,4429,1383,6198,6.4912519058617506E-4,"National death rate calcuated from population size and average number of deaths for 2005-2009 inclusive (supplied by ISD Scotland)",null,"LE calculated within spreadsheet using the Chiang method",null,216]
["Female 40-44",214110,11506,10099,6672,14036,13617,29350,31098,18474,20673,30280,2297,1954,24054,0,4014,19014,8514,4452,1921,6672,3465,3480,4349,6836,3054,13114,0,6357,14036,12815,14022,2697,3745,6322,5100,9244,2297,12075,6481,10099,1954,2926,11429,5339,1702,6585,9.9207716155701002E-4,"National death rate calcuated from population size and average number of deaths for 2005-2009 inclusive (supplied by ISD Scotland)",null,"LE calculated within spreadsheet using the Chiang method",null,217]
["Female 45-49",213171,11465,10336,7252,14334,13040,28405,32241,19035,19734,28944,2213,2088,24084,0,4127,17919,8652,4624,1774,7252,3875,3432,4936,6232,3129,13195,0,5882,14334,12892,14411,2893,3545,6359,4805,8501,2213,11557,6521,10336,2088,3228,11233,5384,1870,5972,1.473167989610289E-3,"National death rate calcuated from population size and average number of deaths for 2005-2009 inclusive (supplied by ISD Scotland)",null,"LE calculated within spreadsheet using the Chiang method",null,218]
["Female 50-54",193072,11039,9307,6803,12916,11651,26334,28632,17402,17246,25182,2131,1848,22581,0,3803,16682,7837,4315,1782,6803,3653,3289,4565,5715,2758,11262,0,5264,12916,10865,13087,2767,3152,5849,4438,7507,2131,11091,5832,9307,1848,3312,9739,4605,1845,5053,2.6288146093139762E-3,"National death rate calcuated from population size and average number of deaths for 2005-2009 inclusive (supplied by ISD Scotland)",null,"LE calculated within spreadsheet using the Chiang method",null,219]
["Female 55-59",177948,10813,8612,6940,12361,11025,24109,24394,17382,14869,22117,1990,1766,21570,0,3448,14974,7674,4427,1576,6940,2998,3221,3922,5180,2380,9749,0,5035,12361,8839,12955,2368,2762,5687,4373,6447,1990,10898,5350,8612,1766,3219,8422,4414,1535,4426,3.8901058881304867E-3,"National death rate calcuated from population size and average number of deaths for 2005-2009 inclusive (supplied by ISD Scotland)",null,"LE calculated within spreadsheet using the Chiang method",null,220]
["Female 60-64",174063,11158,9228,7260,13004,10825,23145,22053,17079,13285,21415,1872,1565,22174,0,3239,14038,8234,4700,1599,7260,2937,3020,3726,5049,2118,9150,0,4882,13004,7453,12379,2384,2955,5868,4568,5662,1872,11003,4847,9228,1565,3570,7623,4344,1525,4261,6.819231835402101E-3,"National death rate calcuated from population size and average number of deaths for 2005-2009 inclusive (supplied by ISD Scotland)",null,"LE calculated within spreadsheet using the Chiang method",null,221]
["Female 65-69",136352,8707,7618,6056,9884,8325,17505,16805,13524,10038,16997,1700,1287,17906,0,2552,10447,6340,3716,1259,6056,2321,2142,2890,4023,1623,7400,0,3499,9884,5587,9808,1779,2300,4506,3523,4188,1700,9245,3707,7618,1287,3042,5850,3567,1219,3274,1.1184768365065906E-2,"National death rate calcuated from population size and average number of deaths for 2005-2009 inclusive (supplied by ISD Scotland)",null,"LE calculated within spreadsheet using the Chiang method",null,222]
["Female 70-74",115107,7086,6452,5189,8146,7197,14283,14883,11182,8664,14489,1312,957,15267,0,2212,8314,5432,3094,1018,5189,2146,1577,2696,3047,1593,7074,0,3006,8146,5249,8088,1432,1847,3757,2714,3512,1312,7689,2948,6452,957,2795,5152,3173,965,2521,1.8843057633397449E-2,"National death rate calcuated from population size and average number of deaths for 2005-2009 inclusive (supplied by ISD Scotland)",null,"LE calculated within spreadsheet using the Chiang method",null,223]
["Female 75-79",96370,5864,4984,4508,6504,5869,12325,12869,9290,6545,12585,1024,852,13151,0,2113,6841,4669,2528,760,4508,2172,1227,2012,2511,1657,6799,0,2453,6504,4690,6762,1441,1351,3371,2379,2336,1024,6310,2338,4984,852,2258,4209,2656,731,1924,3.5393844823768804E-2,"National death rate calcuated from population size and average number of deaths for 2005-2009 inclusive (supplied by ISD Scotland)",null,"LE calculated within spreadsheet using the Chiang method",null,224]
["Female 80-84",72368,4213,3613,3456,4556,4338,9673,9815,6938,4417,9940,736,836,9837,0,1792,5375,3378,1771,517,3456,1674,861,1543,1905,1401,5870,0,1780,4556,3381,5167,1273,946,2506,1695,1559,736,4785,1677,3613,836,1657,2858,2041,540,1219,6.4578740867057643E-2,"National death rate calcuated from population size and average number of deaths for 2005-2009 inclusive (supplied by ISD Scotland)",null,"LE calculated within spreadsheet using the Chiang method",null,225]
["Female 85-89",46705,2680,2459,2039,3070,2938,6477,6337,4604,2522,6316,484,520,6259,0,1213,3636,1993,1181,309,2039,1060,593,849,1225,1027,3717,0,1159,3070,2185,3423,1003,582,1628,1006,810,484,3206,920,2459,520,1081,1712,1470,353,792,0.15722515602496401,"National death rate calcuated from population size and average number of deaths for 2005-2009 inclusive (supplied by ISD Scotland)",null,"LE calculated within spreadsheet using the Chiang method",null,226]
["Female 90+",25873,1640,1366,1124,1995,1494,3262,3730,2609,1208,3252,292,309,3592,0,555,1861,1148,626,110,1124,688,397,359,626,619,1888,0,665,1995,1245,1983,695,240,846,627,409,292,1756,557,1366,309,616,799,719,255,498,null,null,null,null,null,227]
["age/sex breakdown: Q5",null,null,null,null,null,null,null,null,null,null,null,null,null,null,null,null,null,null,null,null,null,null,null,null,null,null,null,null,null,null,null,null,null,null,null,null,null,null,null,null,null,null,null,null,null,null,null,null,null,null,null,null,228]
["Male <1",25144,1002,157,232,1915,1433,5050,4770,592,1835,6604,20,52,1482,0,2370,2344,272,190,134,232,525,393,1128,411,1287,5013,0,837,1915,1370,402,228,369,336,222,707,20,685,646,157,52,387,1128,462,111,811,3.4642032332563508E-3,"National death rate calcuated from population size and average number of deaths for 2005-2009 inclusive (supplied by ISD Scotland)",null,"LE calculated within spreadsheet using the Chiang method",null,229]
["Male 1-4",105764,4458,871,1021,8003,6162,19908,20821,2532,8216,27131,63,241,6337,0,8983,9758,1302,804,568,1021,2140,1572,5255,2021,5933,19671,0,3301,8003,5018,1728,1040,1632,1167,1001,3281,63,2895,3067,871,241,1885,4935,2293,508,3807,1.7940607147915583E-4,"National death rate calcuated from population size and average number of deaths for 2005-2009 inclusive (supplied by ISD Scotland)",null,"LE calculated within spreadsheet using the Chiang method",null,230]
["Male 5-9",139192,6170,1262,1291,9904,8789,24588,29500,3528,11415,33494,63,376,8812,0,10892,12333,1978,1077,959,1291,2768,2080,7720,2718,8853,23552,0,4210,9904,5968,2451,1557,2090,1363,1399,4628,63,4066,4628,1262,376,2691,6787,3620,774,5134,3.4653156556030687E-5,"National death rate calcuated from population size and average number of deaths for 2005-2009 inclusive (supplied by ISD Scotland)",null,"LE calculated within spreadsheet using the Chiang method",null,231]
["Male 10-14",156818,7497,1266,1539,10815,9684,27467,33846,4328,13313,36204,96,284,10479,0,11843,13727,2481,1282,1238,1539,3253,2470,9368,3196,9827,25176,0,4586,10815,6593,3046,1555,2259,1897,1768,4980,96,4745,5680,1266,284,3259,8333,3860,823,5573,1.23205056335512E-4,"National death rate calcuated from population size and average number of deaths for 2005-2009 inclusive (supplied by ISD Scotland)",null,"LE calculated within spreadsheet using the Chiang method",null,232]
["Male 15-19",178630,7779,1160,1706,13597,13073,29565,35653,5057,14000,43703,122,280,12935,0,13428,13376,2655,2110,1290,1706,4792,2295,9759,3026,9788,33030,0,6289,13597,7750,2947,1513,2124,2761,1974,5401,122,5488,5866,1160,280,3510,8599,5494,977,5523,3.2224144364166753E-4,"National death rate calcuated from population size and average number of deaths for 2005-2009 inclusive (supplied by ISD Scotland)",null,"LE calculated within spreadsheet using the Chiang method",null,233]
["Male 20-24",188970,6523,752,1352,17838,10226,30602,35117,6086,12183,55246,81,157,12807,0,16544,11226,1965,3705,983,1352,5326,2153,8418,2105,8136,47195,0,4520,17838,11595,2381,1186,1848,2832,1600,4661,81,5516,4963,752,157,2770,7522,4723,819,4098,4.0470994875496999E-4,"National death rate calcuated from population size and average number of deaths for 2005-2009 inclusive (supplied by ISD Scotland)",null,"LE calculated within spreadsheet using the Chiang method",null,234]
["Male 25-29",152789,4346,574,1075,9773,5885,29180,28128,4677,9647,50273,44,165,9022,0,17894,9245,1484,2767,630,1075,3425,1510,6163,1333,5553,44396,0,3535,9773,11123,1910,836,1355,2041,1099,3563,44,4113,3882,574,165,1737,6084,1720,571,3189,4.9970625375623785E-4,"National death rate calcuated from population size and average number of deaths for 2005-2009 inclusive (supplied by ISD Scotland)",null,"LE calculated within spreadsheet using the Chiang method",null,235]
["Male 30-34",132612,4596,722,1022,8931,6268,28082,23169,3462,8542,40501,42,171,7104,0,16266,10136,1434,1399,551,1022,2494,1721,4399,1541,4528,33775,0,4123,8931,9807,2063,866,1430,1680,1163,3406,42,3176,3057,722,171,1712,5136,1594,512,3755,5.7469147172591636E-4,"National death rate calcuated from population size and average number of deaths for 2005-2009 inclusive (supplied by ISD Scotland)",null,"LE calculated within spreadsheet using the Chiang method",null,236]
["Male 35-39",164153,6774,1151,1543,12467,9438,32967,29510,4827,12543,43248,90,325,9270,0,16382,14515,1941,2106,900,1543,3225,2570,6409,2672,6893,32807,0,5660,12467,9453,2721,1527,2332,2070,1545,5186,90,4104,4369,1151,325,2659,7357,2878,859,5437,8.3160083160083165E-4,"National death rate calcuated from population size and average number of deaths for 2005-2009 inclusive (supplied by ISD Scotland)",null,"LE calculated within spreadsheet using the Chiang method",null,237]
["Male 40-44",197319,9018,1488,2020,13803,12222,36295,38713,5628,16080,49501,102,410,12039,0,16995,17072,2630,2079,1344,2020,3834,3323,9318,3807,9801,35641,0,6614,13803,9969,3549,1808,2880,2228,2145,6378,102,5575,6557,1488,410,3550,9702,4264,1260,7173,1.0352017185320547E-3,"National death rate calcuated from population size and average number of deaths for 2005-2009 inclusive (supplied by ISD Scotland)",null,"LE calculated within spreadsheet using the Chiang method",null,238]
["Male 45-49",205976,9660,1424,2375,13651,12017,37197,42987,5899,17638,48787,127,307,13907,0,17074,17902,3238,1998,1409,2375,4493,3119,11018,3980,11140,34917,0,6408,13651,9689,3901,2418,2698,2221,2303,6829,127,6176,7515,1424,307,4238,10809,4200,1207,7192,1.516777214202107E-3,"National death rate calcuated from population size and average number of deaths for 2005-2009 inclusive (supplied by ISD Scotland)",null,"LE calculated within spreadsheet using the Chiang method",null,239]
["Male 50-54",191135,9380,1302,2105,12681,10803,34959,40421,5445,16188,44579,153,239,12880,0,16542,16564,2987,1640,1391,2105,4287,2867,10592,3627,10413,32362,0,5520,12681,9227,3805,2000,2416,1853,2266,5874,153,5606,7115,1302,239,4247,10314,3892,1074,6174,2.5946292242806043E-3,"National death rate calcuated from population size and average number of deaths for 2005-2009 inclusive (supplied by ISD Scotland)",null,"LE calculated within spreadsheet using the Chiang method",null,240]
["Male 55-59",172890,9788,1455,2217,11913,9911,31007,34948,5038,14307,39582,166,178,12380,0,14421,14844,3205,1446,1489,2217,3671,2847,9581,3094,8589,29130,0,4468,11913,7922,3592,1710,2394,1742,2696,5093,166,5504,6248,1455,178,4245,9214,3954,898,4964,4.4584435669814577E-3,"National death rate calcuated from population size and average number of deaths for 2005-2009 inclusive (supplied by ISD Scotland)",null,"LE calculated within spreadsheet using the Chiang method",null,241]
["Male 60-64",161977,9722,1342,2057,12322,9922,27176,31854,5111,12363,36499,103,247,13259,0,12230,13285,3544,1609,1464,2057,3700,2573,9256,3054,8197,26732,0,4311,12322,6480,3502,1654,2423,1661,2837,4188,103,6015,5489,1342,247,4312,8175,4147,778,4290,8.0806573082116036E-3,"National death rate calcuated from population size and average number of deaths for 2005-2009 inclusive (supplied by ISD Scotland)",null,"LE calculated within spreadsheet using the Chiang method",null,242]
["Male 65-69",115338,7273,845,1509,8827,7048,18974,23068,3737,8533,25441,74,206,9803,0,8253,9369,2444,1240,1055,1509,2846,1756,7248,2448,6089,18815,0,2920,8827,3993,2497,1318,1411,1352,2183,2633,74,4513,3981,845,206,3334,5900,3073,439,2767,1.3626805505817104E-2,"National death rate calcuated from population size and average number of deaths for 2005-2009 inclusive (supplied by ISD Scotland)",null,"LE calculated within spreadsheet using the Chiang method",null,243]
["Male 70-74",94368,5788,832,1402,7075,5737,15195,19039,2829,6587,21190,56,94,8544,0,6906,7045,2114,884,789,1402,2582,1302,6421,1797,5310,16224,0,2387,7075,3231,1945,1060,1264,1244,1693,1953,56,3848,2667,832,94,2793,4634,2561,350,1905,2.3273438186451105E-2,"National death rate calcuated from population size and average number of deaths for 2005-2009 inclusive (supplied by ISD Scotland)",null,"LE calculated within spreadsheet using the Chiang method",null,244]
["Male 75-79",71708,4258,635,1027,5093,3981,11447,14499,2388,4705,16695,50,59,6871,0,5430,5094,1691,677,668,1027,2149,932,5206,1389,4122,13403,0,1691,5093,2373,1711,681,785,923,1267,1241,50,3031,1904,635,59,2059,3464,1622,213,1118,4.2219842445758216E-2,"National death rate calcuated from population size and average number of deaths for 2005-2009 inclusive (supplied by ISD Scotland)",null,"LE calculated within spreadsheet using the Chiang method",null,245]
["Male 80-84",45896,2856,431,657,3276,2379,7176,9216,1540,2603,11237,33,20,4472,0,3537,3045,1038,468,338,657,1354,591,3042,1002,2718,9055,0,958,3276,1727,1072,422,400,594,883,645,33,2080,1188,431,20,1382,1958,1083,119,780,7.6608974061528473E-2,"National death rate calcuated from population size and average number of deaths for 2005-2009 inclusive (supplied by ISD Scotland)",null,"LE calculated within spreadsheet using the Chiang method",null,246]
["Male 85-89",22954,1552,262,279,1740,1040,3488,4298,783,1073,6195,27,19,2198,0,1631,1615,440,220,116,279,697,282,1344,502,1310,5164,0,424,1740,891,563,192,206,242,412,283,27,1061,514,262,19,858,790,500,47,323,0.15848437277008703,"National death rate calcuated from population size and average number of deaths for 2005-2009 inclusive (supplied by ISD Scotland)",null,"LE calculated within spreadsheet using the Chiang method",null,247]
["Male 90+",8595,570,54,79,549,390,1396,1462,294,397,2490,3,13,898,0,687,615,205,91,38,79,246,102,505,169,395,2202,0,158,549,259,203,88,33,94,170,106,3,447,193,54,13,298,291,194,22,86,null,null,null,null,null,248]
["Female <1",23978,922,184,234,1806,1387,4668,4552,579,1844,6376,14,54,1358,0,2255,2143,269,146,116,234,487,352,1037,415,1231,4859,0,823,1806,1367,433,181,339,270,197,671,14,602,635,184,54,373,1173,448,101,763,3.0316873624319945E-3,"National death rate calcuated from population size and average number of deaths for 2005-2009 inclusive (supplied by ISD Scotland)",null,"LE calculated within spreadsheet using the Chiang method",null,249]
["Female 1-4",100931,4068,824,941,7655,6067,18797,20130,2457,8212,25483,46,246,6005,0,8589,9173,1265,665,562,941,2006,1415,4829,1883,5834,18478,0,3401,7655,5069,1792,898,1585,1035,872,3003,46,2734,3032,824,246,1781,5209,2104,468,3537,1.198394151836539E-4,"National death rate calcuated from population size and average number of deaths for 2005-2009 inclusive (supplied by ISD Scotland)",null,"LE calculated within spreadsheet using the Chiang method",null,250]
["Female 5-9",130808,5859,1040,1217,9069,8074,22876,27826,3416,11016,31614,73,297,8431,0,10409,11418,1823,1141,898,1217,2651,2006,7249,2653,8222,21917,0,4046,9069,6022,2275,1164,2071,1049,1269,4301,73,3957,4463,1040,297,2584,6715,3130,706,4973,5.8919707169055379E-5,"National death rate calcuated from population size and average number of deaths for 2005-2009 inclusive (supplied by ISD Scotland)",null,"LE calculated within spreadsheet using the Chiang method",null,251]
["Female 10-14",147478,6974,1175,1622,9942,9373,25459,31369,3997,12671,34330,91,297,10178,0,10916,12878,2284,1274,1157,1622,3063,2215,8602,2895,9109,24077,0,4533,9942,6008,2723,1567,2124,1665,1688,4828,91,4831,5259,1175,297,3071,7843,3683,824,5234,8.5121428992358727E-5,"National death rate calcuated from population size and average number of deaths for 2005-2009 inclusive (supplied by ISD Scotland)",null,"LE calculated within spreadsheet using the Chiang method",null,252]
["Female 15-19",166465,7162,1018,1627,13618,11073,28338,32855,3908,12907,40969,133,200,12657,0,13854,12483,2346,1396,1090,1627,5221,2455,8415,2586,8899,31626,0,4264,13618,7703,2512,1488,2032,2001,1635,4739,133,5090,5518,1018,200,3072,8168,5719,832,4725,1.9095489768513384E-4,"National death rate calcuated from population size and average number of deaths for 2005-2009 inclusive (supplied by ISD Scotland)",null,"LE calculated within spreadsheet using the Chiang method",null,253]
["Female 20-24",177366,5426,659,1084,17953,8599,28595,31708,2716,10414,57960,54,114,12084,0,17982,9032,1620,887,686,1084,5397,1934,6676,1625,6758,51339,0,3460,17953,12280,1829,1041,1664,1581,1225,3853,54,5067,4303,659,114,2267,6561,4453,650,3332,1.3680460139302772E-4,"National death rate calcuated from population size and average number of deaths for 2005-2009 inclusive (supplied by ISD Scotland)",null,"LE calculated within spreadsheet using the Chiang method",null,254]
["Female 25-29",139369,4583,635,938,9181,6083,25613,25586,2452,8780,47706,79,163,7570,0,15449,8934,1007,655,651,938,3156,1720,4882,1319,4754,42036,0,3641,9181,11462,1797,789,1362,1230,1133,3352,79,3407,3213,635,163,1730,5428,1791,486,2989,1.6736019718074143E-4,"National death rate calcuated from population size and average number of deaths for 2005-2009 inclusive (supplied by ISD Scotland)",null,"LE calculated within spreadsheet using the Chiang method",null,255]
["Female 30-34",136277,4924,801,1095,9809,7010,26373,25223,2830,9397,40967,89,277,7482,0,14377,10783,1396,664,714,1095,2798,1881,5024,1752,5589,33747,0,4305,9809,9710,2166,1068,1610,1213,1156,3746,89,3288,3283,801,277,1887,5651,1991,549,3858,2.7406886858749119E-4,"National death rate calcuated from population size and average number of deaths for 2005-2009 inclusive (supplied by ISD Scotland)",null,"LE calculated within spreadsheet using the Chiang method",null,256]
["Female 35-39",175710,7279,1324,1642,12686,10892,32211,34032,4373,13827,46354,83,337,10670,0,15291,15253,2307,1286,985,1642,3596,2608,7619,3007,8436,34733,0,6149,12686,10338,3087,1539,2553,1667,1669,5588,83,4767,5163,1324,337,3002,8239,3758,937,6061,4.6829288826215983E-4,"National death rate calcuated from population size and average number of deaths for 2005-2009 inclusive (supplied by ISD Scotland)",null,"LE calculated within spreadsheet using the Chiang method",null,257]
["Female 40-44",212108,9864,1585,2297,14473,13111,36508,43945,5400,17829,52622,147,336,13991,0,16529,17892,3073,1586,1415,2297,4527,3407,10850,4064,11634,37715,0,6978,14473,10481,3814,2203,2938,2087,2408,7133,147,6391,7503,1585,336,4049,10696,4718,1274,7905,7.3722484902818291E-4,"National death rate calcuated from population size and average number of deaths for 2005-2009 inclusive (supplied by ISD Scotland)",null,"LE calculated within spreadsheet using the Chiang method",null,258]
["Female 45-49",218676,10712,1613,2607,14225,12614,37167,47123,6027,18914,52231,143,312,14988,0,17314,17841,3288,1745,1631,2607,5080,3393,12339,4278,12158,37590,0,6424,14225,10809,4282,2258,3061,2012,2608,7092,143,6620,8338,1613,312,4711,11822,4559,1221,7302,1.3387254218379585E-3,"National death rate calcuated from population size and average number of deaths for 2005-2009 inclusive (supplied by ISD Scotland)",null,"LE calculated within spreadsheet using the Chiang method",null,259]
["Female 50-54",197414,10306,1531,2447,12988,11013,33782,42444,5707,16915,46092,132,240,13817,0,15725,16237,3236,1666,1623,2447,4423,2960,11367,3595,10862,34042,0,5333,12988,9776,4041,1911,2682,1820,2681,6055,132,6158,7440,1531,240,4665,10860,4057,1088,5773,1.954158480681074E-3,"National death rate calcuated from population size and average number of deaths for 2005-2009 inclusive (supplied by ISD Scotland)",null,"LE calculated within spreadsheet using the Chiang method",null,260]
["Female 55-59",177724,10163,1492,2111,12488,10295,29513,36705,5337,14234,41533,111,220,13522,0,13258,14517,3498,1469,1625,2111,3913,2848,10236,3171,9105,31005,0,4686,12488,8117,3868,1784,2445,1738,2821,4842,111,6111,6534,1492,220,4494,9392,3984,929,4912,2.9644542030540515E-3,"National death rate calcuated from population size and average number of deaths for 2005-2009 inclusive (supplied by ISD Scotland)",null,"LE calculated within spreadsheet using the Chiang method",null,261]
["Female 60-64",169388,10386,1391,2035,13024,10276,27211,33629,5399,12784,38822,137,170,14124,0,12217,13254,3805,1789,1560,2035,4072,2707,9993,3213,9033,29036,0,4425,13024,6156,3610,1777,2401,1740,2957,4042,137,6247,5880,1391,170,4722,8742,4291,790,4172,5.1582710096119665E-3,"National death rate calcuated from population size and average number of deaths for 2005-2009 inclusive (supplied by ISD Scotland)",null,"LE calculated within spreadsheet using the Chiang method",null,262]
["Female 65-69",128262,7777,1066,1819,9610,7681,20372,25956,4115,9469,28910,78,173,11236,0,9433,9510,2717,1239,1228,1819,3359,1876,8386,2680,7339,21539,0,3180,9610,4307,2876,1410,1702,1429,2291,2783,78,5160,3966,1066,173,3610,6686,3273,548,2989,8.9234873997429513E-3,"National death rate calcuated from population size and average number of deaths for 2005-2009 inclusive (supplied by ISD Scotland)",null,"LE calculated within spreadsheet using the Chiang method",null,263]
["Female 70-74",109375,6509,1066,1524,8048,6122,17102,22497,3469,7639,25383,66,115,9835,0,8179,7565,2404,1026,951,1524,3073,1414,7666,2181,6310,20009,0,2537,8048,3984,2443,1144,1339,1358,1900,2220,66,4358,3032,1066,115,3195,5419,2634,361,1854,1.5629541427191838E-2,"National death rate calcuated from population size and average number of deaths for 2005-2009 inclusive (supplied by ISD Scotland)",null,"LE calculated within spreadsheet using the Chiang method",null,264]
["Female 75-79",91135,5509,881,1316,6166,4791,14033,18743,2916,5847,22441,46,90,8356,0,7063,5967,1967,814,702,1316,2871,1235,6165,1785,5443,18284,0,2000,6166,3636,2102,953,862,1003,1702,1422,46,3518,2344,881,90,2572,4425,2089,202,1510,2.8866371404285777E-2,"National death rate calcuated from population size and average number of deaths for 2005-2009 inclusive (supplied by ISD Scotland)",null,"LE calculated within spreadsheet using the Chiang method",null,265]
["Female 80-84",69390,4444,645,991,4926,3424,10392,14151,2384,3582,17929,32,33,6457,0,5400,4271,1437,715,439,991,1961,983,4546,1376,4219,14954,0,1397,4926,3001,1669,714,574,721,1191,794,32,3059,1544,645,33,2270,2788,1588,127,1025,5.5945720747530056E-2,"National death rate calcuated from population size and average number of deaths for 2005-2009 inclusive (supplied by ISD Scotland)",null,"LE calculated within spreadsheet using the Chiang method",null,266]
["Female 85-89",44044,2805,312,473,3135,2228,6854,8579,1554,2082,12119,17,26,3860,0,3471,2890,972,480,356,473,1084,503,2637,891,2505,10231,0,841,3135,2022,1074,550,387,493,733,530,17,1804,804,312,26,1569,1552,1031,61,610,null,null,null,null,null,267]
["Female 90+",25205,1783,151,196,1846,1155,3628,4609,1097,1149,7388,25,31,2147,0,1753,1597,573,399,92,196,416,273,1396,511,1290,6232,0,442,1846,1201,698,253,278,278,508,303,25,1158,407,151,31,1002,846,621,62,367,0.14414649095923998,"National death rate calcuated from population size and average number of deaths for 2005-2009 inclusive (supplied by ISD Scotland)",null,"LE calculated within spreadsheet using the Chiang method",null,268]
[null,null,null,null,null,null,null,null,null,null,null,null,null,null,null,null,null,null,null,null,null,null,null,null,null,null,null,null,null,null,null,null,null,null,null,null,null,null,null,null,null,null,null,null,null,null,null,null,null,null,null,null,null,269]
[null,null,null,null,null,null,null,null,null,null,null,null,null,null,null,null,null,null,null,null,null,null,null,null,null,null,null,null,null,null,null,null,null,null,null,null,null,null,null,null,null,null,null,null,null,null,null,null,null,null,null,null,null,270]
[null,null,null,null,null,null,null,null,null,null,null,null,null,null,null,null,null,null,null,null,null,null,null,null,null,null,null,null,null,null,null,null,null,null,null,null,null,null,null,null,null,null,null,null,null,null,null,null,null,null,null,null,null,271]
[null,null,null,null,null,null,null,null,null,null,null,null,null,null,null,null,null,null,null,null,null,null,null,null,null,null,null,null,null,null,null,null,null,null,null,null,null,null,null,null,null,null,null,null,null,null,null,null,null,null,null,null,null,272]
[null,null,null,null,null,null,null,null,null,null,null,null,null,null,null,null,null,null,null,null,null,null,null,null,null,null,null,null,null,null,null,null,null,null,null,null,null,null,null,null,null,null,null,null,null,null,null,null,null,null,null,null,null,273]
[null,null,null,null,null,null,null,null,null,null,null,null,null,null,null,null,null,null,null,null,null,null,null,null,null,null,null,null,null,null,null,null,null,null,null,null,null,null,null,null,null,null,null,null,null,null,null,null,null,null,null,null,null,274]
["Age","European Standard Population",null,null,null,null,null,null,null,null,null,null,null,null,null,null,null,null,null,null,null,null,null,null,null,null,null,null,null,null,null,null,null,null,null,null,null,null,null,null,null,null,null,null,null,null,null,null,null,null,null,null,null,275]
["0-4",8000]
["5-9",7000]
["10-14",7000]
["15-19",7000]
["20-24",7000]
["25-29",7000]
["30-34",7000]
["35-39",7000]
["40-44",7000]
["45-49",7000]
["50-54",7000]
["55-59",6000]
["60-64",5000]
["65-69",4000]
["70-74",3000]
["75-79",2000]
["80-84",1000]
["85+",1000]