{"text_format":"1","workbook":"xlsx","n_sheets":7,"sheets":["III Tool Overview","Baseline_Data_2012","Calculations","LookUpData_Pop","RII","RateRatios","Income"],"not_rendered":{"charts":0,"images":1,"macros":1,"external_links":0,"defined_names":3,"comments":1,"pivot_tables":0},"unopened":[],"bounds":{"document_bytes":16777216,"sheet_cells":100000,"rows_first":2000,"rows_last":500,"rows_between":2000,"halvings":0,"cell_chars":16384,"cell_head_chars":4096},"cells_cut":0,"cells_raw":0,"read":"whole","date_system":"1900"}

{"sheet":"III Tool Overview","index":0,"n_rows":61,"n_cols":25,"rows_kept":61,"cut":false,"hidden":false,"merged":[[38,3,38,9],[1,2,1,9],[2,2,3,9],[9,8,9,9],[14,2,14,3],[35,6,37,9],[10,8,10,9],[11,8,11,9],[44,3,44,9],[45,3,45,9],[46,3,46,9],[47,3,47,9],[39,3,39,9],[40,3,40,9],[41,3,41,9],[42,3,42,9],[43,3,43,9]]}
[]
[null,null,"Informing Investment to tackle health Inequalities in Scotland (III) - Income (v 1.1)"]
[null,null,"What is the nature of the intervention?  There are five options here, showing the effect of different policies to change the income distribution in Scotland.  These are (1) Introduction of a Living Wage, (2) 10% rise in Working Tax Credit,  (3) 10% rise in council tax, (4) 10% rise in JSA/IS and (5) 1p on standard rate of income tax .  These policies are taken from the paper by Comerford & Eiser (2014)."]
[null,null,null,null,null,null,null,null,null,null,null,null,null,null,null,null,null,null,null,null,null,null,null,"Geographies"]
[null,null,null,null,null,null,null,null,null,null,null,null,null,null,null,null,null,null,null,null,null,null,null,"Scotland"]
[null,null,null,null,null,null,"Population","Greater Glasgow & Clyde Health Board",null,null,null,null,null,null,null,null,null,null,null,null,null,null,null,"Ayrshire & Arran Health Board"]
[null,null,null,null,null,null,"Intervention name","Income",null,null,null,null,null,null,null,null,null,null,null,null,null,null,null,"Borders Health Board"]
[null,null,null,null,null,null,"Additional number of people treated",0,{"$f":"IF(H8>#REF!,\"Too high - please check & re-enter\",\"\")","v":{"$error":"#REF!"}},null,null,null,null,null,null,null,null,null,null,null,null,null,null,"Dumfries & Galloway Health Board","10% rise in JSA/IS "]
[null,null,null,null,null,null,"Number treated at baseline",0,null,null,null,null,null,null,null,null,null,null,null,null,null,null,null,"Fife Health Board","1p on standard rate of income tax "]
[null,null,null,null,null,null,"Income intervention","10% rise in JSA/IS ",null,null,null,null,null,null,null,null,null,null,null,null,null,null,null,"Forth Valley Health Board"]
[null,null,null,null,null,null,"Total direct cost of intervention (£m, 2012 prices)",{"$f":"(D35*H8)/1000000","v":0},null,null,null,null,null,null,null,null,null,null,null,null,null,null,null,"Grampian Health Board"]
[null,null,null,null,null,null,null,null,null,null,null,null,null,null,null,null,null,null,null,null,null,null,null,"Greater Glasgow & Clyde Health Board"]
[null,null,null,null,null,null,null,null,null,null,null,null,null,null,null,null,null,null,null,null,null,null,null,"Highland Health Board"]
[null,null,null,null,null,null,null,null,null,null,null,null,null,null,null,null,null,null,null,null,null,null,null,"Lanarkshire Health Board"]
[null,null,"Baseline Information: Income",null,null,null,"Model Outcomes (whole population)","2 years","10 years","20 years",null,null,null,null,null,null,null,null,null,null,null,null,null,"Lothian Health Board"]
[null,null,"Baseline year",{"$f":"Calculations!C1","v":2012},null,null,"Years of life gained",{"$f":"Calculations!S86+Calculations!S107+Calculations!S129+Calculations!S150+Calculations!S172+Calculations!S193+Calculations!S215+Calculations!S236+Calculations!S258+Calculations!S279","v":1288.3817183602794},{"$f":"Calculations!Y86+Calculations!Y107+Calculations!Y129+Calculations!Y150+Calculations!Y172+Calculations!Y193+Calculations!Y215+Calculations!Y236+Calculations!Y258+Calculations!Y279","v":9747.3067519756987},{"$f":"Calculations!AB86+Calculations!AB107+Calculations!AB129+Calculations!AB150+Calculations!AB172+Calculations!AB193+Calculations!AB215+Calculations!AB236+Calculations!AB258+Calculations!AB279","v":17583.665283437909},null,null,null,null,null,null,null,null,null,null,null,null,null,"Orkney Health Board"]
[null,null,"Age group","All",null,null,"Continuous inpatient stays prevented",{"$f":"Calculations!AE86+Calculations!AE107+Calculations!AE129+Calculations!AE150+Calculations!AE172+Calculations!AE193+Calculations!AE215+Calculations!AE236+Calculations!AE258+Calculations!AE279","v":807.81457348211006},{"$f":"Calculations!AK86+Calculations!AK107+Calculations!AK129+Calculations!AK150+Calculations!AK172+Calculations!AK193+Calculations!AK215+Calculations!AK236+Calculations!AK258+Calculations!AK279","v":6269.917287212088},{"$f":"Calculations!AN86+Calculations!AN107+Calculations!AN129+Calculations!AN150+Calculations!AN172+Calculations!AN193+Calculations!AN215+Calculations!AN236+Calculations!AN258+Calculations!AN279","v":11527.807811480479},null,null,null,null,null,null,null,null,null,null,null,null,null,"Shetland Health Board"]
[null,null,"Number of people affected by intervention",{"$f":"HLOOKUP('III Tool Overview'!$H$6,Baseline_Data_2012!$B$1:$AV$280,Baseline_Data_2012!AW272,FALSE)","v":1137320},null,null,null,null,null,null,null,null,null,null,null,null,null,null,null,null,null,null,null,"Tayside Health Board"]
[null,null,"Of which, Q1 only:",{"$f":"HLOOKUP('III Tool Overview'!$H$6,Baseline_Data_2012!$B$1:$AV$280,Baseline_Data_2012!AW273,FALSE)","v":421784},null,null,"Model Outcomes (Most deprived SIMD quintile)","2 years","10 years","20 years",null,null,null,null,null,null,null,null,null,null,null,null,null,"Western Isles Health Board"]
[null,null,"Of which, Q1 & Q2:",{"$f":"HLOOKUP('III Tool Overview'!$H$6,Baseline_Data_2012!$B$1:$AV$280,Baseline_Data_2012!AW274,FALSE)","v":620109},null,null,"Years of life gained",{"$f":"Calculations!S86+Calculations!S107","v":1236.8508801982093},{"$f":"Calculations!Y86+Calculations!Y107","v":9325.5026330190049},{"$f":"Calculations!AB86+Calculations!AB107","v":16772.435611809677},null,null,null,null,null,null,null,null,null,null,null,null,null,"Aberdeen City Local Authority"]
[null,null,null,null,null,null,"Continuous inpatient stays prevented",{"$f":"Calculations!AE86+Calculations!AE107","v":770.20125347369083},{"$f":"Calculations!AK86+Calculations!AK107","v":5953.279125477573},{"$f":"Calculations!AN86+Calculations!AN107","v":10912.685408013338},null,null,null,null,null,null,null,null,null,null,null,null,null,"Aberdeenshire Local Authority"]
[null,null,"Annual continuous inpatient stays (2012)",{"$f":"HLOOKUP('III Tool Overview'!$H$6,Baseline_Data_2012!$B$1:$AV$280,Baseline_Data_2012!AW278,FALSE)","v":302228},null,null,null,null,null,null,null,null,null,null,null,null,null,null,null,null,null,null,null,"Angus Local Authority"]
[null,null,"Of which, Q1 only:",{"$f":"HLOOKUP('III Tool Overview'!$H$6,Baseline_Data_2012!$B$1:$AV$280,Baseline_Data_2012!AW279,FALSE)","v":130770},null,null,"Model Outcomes (comparative health inequalities)","2 years","10 years","20 years",null,null,null,null,null,null,null,null,null,null,null,null,null,"Argyll & Bute Local Authority"]
[null,null,"Of which, Q1 & Q2:",{"$f":"HLOOKUP('III Tool Overview'!$H$6,Baseline_Data_2012!$B$1:$AV$280,Baseline_Data_2012!AW280,FALSE)","v":184477},null,null,"RII: Years of life lost (without intervention)",{"$f":"RII!H20","v":3.3171854760508506},{"$f":"RII!H39","v":3.1555282540516463},{"$f":"RII!H58","v":3.0226305443407453},null,null,null,null,null,null,null,null,null,null,null,null,null,"Clackmannanshire Local Authority"]
[null,null,null,null,null,null,"RII: Years of life lost (with intervention)",{"$f":"RII!S20","v":3.2993594995555089},{"$f":"RII!S39","v":3.1396959463217029},{"$f":"RII!S58","v":3.0083147307898881},null,null,null,null,null,null,null,null,null,null,null,null,null,"Dumfries & Galloway Local Authority"]
[null,null,null,null,null,null,"RII: years of life lost (difference)",{"$f":"H25-H24","v":-1.7825976495341678E-2},{"$f":"I25-I24","v":-1.5832307729943373E-2},-1.4315813550857204E-2,null,null,null,null,null,null,null,null,null,null,null,null,null,"Dundee City Local Authority"]
[null,null,null,null,null,null,"RII: continuous inpatient stays (without intervention)",{"$f":"RII!H77","v":2.5791870868493958},{"$f":"RII!H96","v":2.4170200624809888},{"$f":"RII!H115","v":2.2538357341134634},null,null,null,null,null,null,null,null,null,null,null,null,null,"East Ayrshire Local Authority"]
[null,null,null,null,null,null,"RII: continuous inpatient stays (with intervention)",{"$f":"RII!S77","v":2.564585918076939},{"$f":"RII!S96","v":2.4044275965101685},{"$f":"RII!S115","v":2.2429201250240567},null,null,null,null,null,null,null,null,null,null,null,null,null,"East Dunbartonshire Local Authority"]
[null,null,null,null,null,null,"RII: continuous inpatient stays (difference)",{"$f":"H28-H27","v":-1.4601168772456763E-2},{"$f":"I28-I27","v":-1.259246597082031E-2},-1.0915609089406697E-2,null,null,null,null,null,null,null,null,null,null,null,null,null,"East Lothian Local Authority"]
[null,null,null,null,null,null,null,null,null,null,null,null,null,null,null,null,null,null,null,null,null,null,null,"East Renfrewshire Local Authority"]
[null,null,null,null,null,null,"Direct financial savings","2 years","10 years","20 years",null,null,null,null,null,null,null,null,null,null,null,null,null,"Edinburgh, City of Local Authority"]
[null,null,null,null,null,null,"Reduced continuous inpatient stays (£m) - all",{"$f":"(H17*2445)/1000000","v":1.9751066321637591},{"$f":"(I17*2445)/1000000","v":15.329947767233554},{"$f":"(J17*2445)/1000000","v":28.185490099069771},null,null,null,null,null,null,null,null,null,null,null,null,null,"Eilean Siar Local Authority"]
[null,null,null,null,null,null,"Reduced continuous inpatient stays (£m) - MDQ",{"$f":"(H21*2445)/1000000","v":1.883142064743174},{"$f":"(I21*2445)/1000000","v":14.555767461792666},26.681515822592612,null,null,null,null,null,null,null,null,null,null,null,null,null,"Falkirk Local Authority"]
[null,null,null,null,null,null,null,null,null,null,null,null,null,null,null,null,null,null,null,null,null,null,null,"Fife Local Authority"]
[null,null,null,null,null,null,"How are costs and financial savings estimated?",null,null,null,null,null,null,null,null,null,null,null,null,null,null,null,null,"Glasgow City Local Authority"]
[null,null,null,null,null,null,"Geue et al. (2012) estimated the cost of a continuous inpatient stay at £2113 in 2006/07 - this has been adjusted to 2012/13 prices.  Please note that for the income interventions we have not attempted to estimate the direct costs.",null,null,null,null,null,null,null,null,null,null,null,null,null,null,null,null,"Highland Local Authority"]
[null,null,null,null,null,null,null,null,null,null,null,null,null,null,null,null,null,null,null,null,null,null,null,"Inverclyde Local Authority"]
[null,null,"An error was identified in the previous version of this tool connected to the rounding of decimal places in Excel.  This resulted in areas with very small population showing no impact from income interventions (when in fact, there was an impact, albeit small), and introduced some minor discrepancies into the modelled figures for larger areas.  This version addresses these problems.",null,null,null,null,null,null,null,null,null,null,null,null,null,null,null,null,null,null,null,null,"Midlothian Local Authority"]
[null,null,null,null,null,null,null,null,null,null,null,null,null,null,null,null,null,null,null,null,null,null,null,"Moray Local Authority"]
[null,null,null,null,null,null,null,null,null,null,null,null,null,null,null,null,null,null,null,null,null,null,null,"North Ayrshire Local Authority"]
[null,null,null,null,null,null,null,null,null,null,null,null,null,null,null,null,null,null,null,null,null,null,null,"North Lanarkshire Local Authority"]
[null,null,null,null,null,null,null,null,null,null,null,null,null,null,null,null,null,null,null,null,null,null,null,"Orkney Islands Local Authority"]
[null,null,null,null,null,null,null,null,null,null,null,null,null,null,null,null,null,null,null,null,null,null,null,"Perth & Kinross Local Authority"]
[null,null,null,null,null,null,null,null,null,null,null,null,null,null,null,null,null,null,null,null,null,null,null,"Renfrewshire Local Authority"]
[null,null,null,null,null,null,null,null,null,null,null,null,null,null,null,null,null,null,null,null,null,null,null,"Scottish Borders Local Authority"]
[null,null,null,null,null,null,null,null,null,null,null,null,null,null,null,null,null,null,null,null,null,null,null,"Shetland Islands Local Authority"]
[null,null,null,null,null,null,null,null,null,null,null,null,null,null,null,null,null,null,null,null,null,null,null,"South Ayrshire Local Authority"]
[null,null,null,null,null,null,null,null,null,null,null,null,null,null,null,null,null,null,null,null,null,null,null,"South Lanarkshire Local Authority"]
[null,null,null,null,null,null,null,null,null,null,null,null,null,null,null,null,null,null,null,null,null,null,null,"Stirling Local Authority"]
[null,null,null,null,null,null,null,null,null,null,null,null,null,null,null,null,null,null,null,null,null,null,null,"West Dunbartonshire Local Authority"]
[null,null,null,null,null,null,null,null,null,null,null,null,null,null,null,null,null,null,null,null,null,null,null,"West Lothian Local Authority"]
[]
[]
[]
[]
[null,null,null,null,null,null,null,null,null,null,null,null,null,null,null,null,null,null,null,null,null,null,null,"Options"]
[null,null,null,null,null,null,null,null,null,null,null,null,null,null,null,null,null,null,null,null,null,null,null,"Introduction of a Living Wage"]
[null,null,null,null,null,null,null,null,null,null,null,null,null,null,null,null,null,null,null,null,null,null,null,"10% rise in Working Tax Credit "]
[null,null,null,null,null,null,null,null,null,null,null,null,null,null,null,null,null,null,null,null,null,null,null,"10% rise in council tax"]
[null,null,null,null,null,null,null,null,null,null,null,null,null,null,null,null,null,null,null,null,null,null,null,"10% rise in JSA/IS "]
[null,null,null,null,null,null,null,null,null,null,null,null,null,null,null,null,null,null,null,null,null,null,null,"1p on standard rate of income tax "]

{"sheet":"Baseline_Data_2012","index":1,"n_rows":280,"n_cols":49,"rows_kept":280,"cut":false,"hidden":false,"merged":[]}
["POPULATION (2012)","Scotland","Ayrshire & Arran Health Board","Borders Health Board","Dumfries & Galloway Health Board","Fife Health Board","Forth Valley Health Board","Grampian Health Board","Greater Glasgow & Clyde Health Board","Highland Health Board","Lanarkshire Health Board","Lothian Health Board","Orkney Health Board","Shetland Health Board","Tayside Health Board","Western Isles Health Board","Aberdeen City Local Authority","Aberdeenshire Local Authority","Angus Local Authority","Argyll & Bute Local Authority","Clackmannanshire Local Authority","Dumfries & Galloway Local Authority","Dundee City Local Authority","East Ayrshire Local Authority","East Dunbartonshire Local Authority","East Lothian Local Authority","East Renfrewshire Local Authority","Edinburgh, City of Local Authority","Eilean Siar Local Authority","Falkirk Local Authority","Fife Local Authority","Glasgow City Local Authority","Highland Local Authority","Inverclyde Local Authority","Midlothian Local Authority","Moray Local Authority","North Ayrshire Local Authority","North Lanarkshire Local Authority","Orkney Islands Local Authority","Perth & Kinross Local Authority","Renfrewshire Local Authority","Scottish Borders Local Authority","Shetland Islands Local Authority","South Ayrshire Local Authority","South Lanarkshire Local Authority","Stirling Local Authority","West Dunbartonshire Local Authority","West Lothian Local Authority",1]
[null,null,null,null,null,null,null,null,null,null,null,null,null,null,null,null,null,null,null,null,null,null,null,null,null,null,null,null,null,null,null,null,null,null,null,null,null,null,null,null,null,null,null,null,null,null,null,null,2]
["All, by SIMD",null,null,null,null,null,null,null,null,null,null,null,null,null,null,null,null,null,null,null,null,null,null,null,null,null,null,null,null,null,null,null,null,null,null,null,null,null,null,null,null,null,null,null,null,null,null,null,3]
["Total",{"$f":"B11+B18","v":5313600},{"$f":"C11+C18","v":373190},113710,150830,366220,299100,573420,1137320,319810,652230,843720,21530,23210,411750,27560,224970,255540,116210,86900,51280,150830,147800,122720,105880,100850,91030,482640,27560,156800,366220,595080,232910,80680,84240,92910,137560,337870,21530,147740,174310,113710,23210,112910,314360,91020,90340,175990,4]
["Q 1",{"$f":"B12+B19","v":1076082},106129,6593,11471,67730,45857,36050,421784,27647,172315,107011,0,0,73495,0,30357,4588,10531,7767,13478,11471,54439,36315,4433,4962,6830,65832,0,23088,67730,291581,19880,34829,8620,1105,50912,110413,0,8525,50067,6593,0,18902,61902,9291,34044,27597,5]
["Q 2",{"$f":"B13+B20","v":1065342},103370,17468,34938,81378,70392,74134,198325,62172,170175,164673,4526,1368,70570,11853,41595,21314,20321,14946,9212,34938,31462,38738,17407,20070,8135,68377,11853,42475,81378,107894,47226,12321,26488,11225,30123,97135,4526,18787,27350,17468,1368,34509,73040,18705,25218,49738,6]
["Q 3",{"$f":"B14+B21","v":1073886},57580,34499,58150,73468,57383,126653,158193,106230,140309,160239,4253,9175,72047,15707,37758,52614,25793,34195,12628,58150,18149,15518,8787,25848,7380,75036,15707,30589,73468,76891,72035,10511,17782,36281,20236,62631,4253,28105,36484,34499,9175,21826,77678,14166,18140,41573,7]
["Q 4",1063254,57543,48000,35638,67672,65043,153078,152770,95915,92067,149112,12091,11010,123315,0,26369,93637,43656,21502,8966,35638,19293,17333,20805,32046,14942,72159,0,30686,67672,67014,74413,13214,16903,33072,23990,39877,12091,60366,28647,48000,11010,16220,52190,25391,8148,28004,8]
["Q 5",{"$f":"B16+B23","v":1035036},48568,7150,10633,75972,60425,183505,206248,27846,77364,262685,660,1657,72323,0,88891,83387,15909,8490,6996,10633,24457,14816,54448,17924,53743,201236,0,29962,75972,51700,19356,9805,14447,11227,12299,27814,660,31957,31762,7150,{"$f":"AQ16+AQ23","v":1657},21453,49550,23467,4790,29078,9]
["Males, by SIMD",null,null,null,null,null,null,null,null,null,null,null,null,null,null,null,null,null,null,null,null,null,null,null,null,null,null,null,null,null,null,null,null,null,null,null,null,null,null,null,null,null,null,null,null,null,null,null,10]
["Males",{"$f":"SUM(B25:B44)","v":2577140},{"$f":"SUM(C25:C44)","v":178654},55179,73206,177448,145353,283622,546961,156214,314535,410312,10693,11771,199589,13603,111301,126725,56456,42184,25093,73206,71096,59419,51270,48315,43361,235183,13603,76547,177448,286906,114030,38580,40607,45596,65417,163399,10693,72037,83793,55179,11771,53818,151136,43713,43051,86207,11]
["Q 1",{"$f":"SUM(B66:B85)","v":514542},{"$f":"SUM(C66:C85)","v":50443},3158,5523,32711,22080,17755,199875,13455,82410,51725,0,0,35407,0,14810,2384,5048,3794,6487,5523,26226,17382,2118,2396,3139,31941,0,11174,32711,138465,9661,16590,4134,561,23997,53001,0,4133,23679,3158,0,9064,29409,4419,15884,13254,12]
["Q 2",{"$f":"SUM(B107:B126)","v":514954},{"$f":"SUM(C107:C126)","v":49006},8428,16775,39383,33898,36286,96493,29904,81719,79787,2245,702,34514,5814,20619,10424,9753,7109,4445,16775,15304,18559,8242,9458,3815,33503,5814,20518,39383,53444,22795,5977,12675,5243,14149,46777,2245,9457,13009,8428,702,16298,34942,8935,12006,24151,13]
["Q 3",{"$f":"SUM(B148:B167)","v":525433},{"$f":"SUM(C148:C167)","v":28108},16896,28323,35729,28191,62407,77297,52233,67839,78941,2109,4654,34917,7789,18800,25883,12583,16498,6429,28323,8732,7836,4506,12241,3514,37550,7789,14958,35729,37737,35735,5008,8490,17724,9685,30428,2109,13602,17728,16896,4654,10587,37411,6804,8804,20660,14]
["Q 4",{"$f":"SUM(B189:B208)","v":518750},{"$f":"SUM(C189:C208)","v":27723},23238,17459,32779,31613,75845,73566,47055,44906,72686,6015,5575,60290,0,13023,46578,21482,10487,4375,17459,9210,8439,9987,15579,7082,35200,0,14985,32779,32464,36568,6227,8261,16244,11641,19491,6015,29598,13822,23238,5575,7643,25415,12253,3984,13646,15]
["Q 5",{"$f":"SUM(B230:B249)","v":503461},{"$f":"SUM(C230:C249)","v":23374},3459,5126,36846,29571,91329,99730,13567,37661,127173,324,840,34461,0,44049,41456,7590,4296,3357,5126,11624,7203,26417,8641,25811,96989,0,14912,36846,24796,9271,4778,7047,5824,5945,13702,324,15247,15555,3459,840,10226,23959,11302,2373,14496,16]
["Females, by SIMD",null,null,null,null,null,null,null,null,null,null,null,null,null,null,null,null,null,null,null,null,null,null,null,null,null,null,null,null,null,null,null,null,null,null,null,null,null,null,null,null,null,null,null,null,null,null,null,17]
["Females",{"$f":"SUM(B45:B64)","v":2736460},{"$f":"SUM(C45:C64)","v":194536},58531,77624,188772,153747,289798,590359,163596,337695,433408,10837,11439,212161,13957,113669,128815,59754,44716,26187,77624,76704,63301,54610,52535,47669,247457,13957,80253,188772,308174,118880,42100,43633,47314,72143,174471,10837,75703,90517,58531,11439,59092,163224,47307,47289,89783,18]
["Q 1",{"$f":"SUM(B86:B105)","v":561540},{"$f":"SUM(C86:C105)","v":55686},3435,5948,35019,23777,18295,221909,14192,89905,55286,0,0,38088,0,15547,2204,5483,3973,6991,5948,28213,18933,2315,2566,3691,33891,0,11914,35019,153116,10219,18239,4486,544,26915,57412,0,4392,26388,3435,0,9838,32493,4872,18160,14343,19]
["Q 2",{"$f":"SUM(B127:B146)","v":550388},{"$f":"SUM(C127:C146)","v":54364},9040,18163,41995,36494,37848,101832,32268,88456,84886,2281,666,36056,6039,20976,10890,10568,7837,4767,18163,16158,20179,9165,10612,4320,34874,6039,21957,41995,54450,24431,6344,13813,5982,15974,50358,2281,9330,14341,9040,666,18211,38098,9770,13212,25587,20]
["Q 3",{"$f":"SUM(B168:B187)","v":548453},{"$f":"SUM(C168:C187)","v":29472},17603,29827,37739,29192,64246,80896,53997,72470,81298,2144,4521,37130,7918,18958,26731,13210,17697,6199,29827,9417,7682,4281,13607,3866,37486,7918,15631,37739,39154,36300,5503,9292,18557,10551,32203,2144,14503,18756,17603,4521,11239,40267,7362,9336,20913,21]
["Q 4",{"$f":"SUM(B209:B228)","v":544504},{"$f":"SUM(C209:C228)","v":29820},24762,18179,34893,33430,77233,79204,48860,47161,76426,6076,5435,63025,0,13346,47059,22174,11015,4591,18179,10083,8894,10818,16467,7860,36959,0,15701,34893,34550,37845,6987,8642,16828,12349,20386,6076,30768,14825,24762,5435,8577,26775,13138,4164,14358,22]
["Q 5",{"$f":"SUM(B250:B269)","v":531575},{"$f":"SUM(C250:C269)","v":25194},3691,5507,39126,30854,92176,106518,14279,39703,135512,336,817,37862,0,44842,41931,8319,4194,3639,5507,12833,7613,28031,9283,27932,104247,0,15050,39126,26904,10085,5027,7400,5403,6354,14112,336,16710,16207,3691,817,11227,25591,12165,2417,14582,23]
["age/sex breakdown: All",null,null,null,null,null,null,null,null,null,null,null,null,null,null,null,null,null,null,null,null,null,null,null,null,null,null,null,null,null,null,null,null,null,null,null,null,null,null,null,null,null,null,null,null,null,null,null,24]
["Male 0",{"$f":"B66+B107+B148+B189+B230","v":30180},{"$f":"C66+C107+C148+C189+C230","v":1991},572,703,2130,1692,3251,6755,1642,3870,4985,122,143,2178,146,1363,1438,582,385,324,703,890,758,465,578,464,2762,146,949,2130,3896,1257,411,553,450,732,2028,122,706,976,572,143,501,1842,419,543,1092,25]
["Male 1-4",{"$f":"B67+B108+B149+B190+B231","v":120848},{"$f":"C67+C108+C149+C190+C231","v":8069},2330,3081,8713,6727,13448,25647,6903,15379,20193,447,597,8743,571,4886,6402,2365,1678,1138,3081,3302,2784,2224,2456,2070,10889,571,3749,8713,13510,5225,1748,2037,2160,3005,8333,447,3076,3893,2330,597,2280,7046,1840,2202,4811,26]
["Male 5-9",{"$f":"B68+B109+B150+B191+B232","v":141094},9833,3032,3938,9980,8412,14853,29122,8599,18771,22138,546,714,10414,742,4877,7466,3128,2198,1398,3938,3589,3311,2934,2946,2814,11111,742,4492,9980,14124,6401,2141,2475,2510,3748,10255,546,3697,4631,3032,714,2774,8516,2522,2478,5606,27]
["Male 10-14",144077,10371,3087,4060,10067,8616,15218,30070,9174,18877,21293,560,701,11268,715,4772,7640,3375,2408,1481,4060,3595,3395,3288,2867,3120,10600,715,4355,10067,14319,6766,2167,2476,2806,3882,10048,560,4298,4785,3087,701,3094,8829,2780,2391,5350,28]
["Male 15-19",163400,11686,3315,4483,11222,9685,17397,35205,9678,20607,24857,687,753,13043,782,6296,7980,3604,2714,1628,4483,4836,3905,3573,3201,3161,13333,782,4900,11222,17695,6964,2471,2607,3121,4525,10952,687,4603,5440,3315,753,3256,9655,3157,2865,5716,29]
["Male 20-24",184447,10758,2640,3839,11911,9716,21333,45388,8360,19844,33660,601,649,15074,674,11664,6964,3226,2302,1455,3839,7764,3742,3340,2681,2751,23278,674,4507,11911,28182,6058,2596,2492,2705,3944,10702,601,4084,5610,2640,649,3072,9142,3754,2909,5209,30]
["Male 25-29",170737,9516,2413,3654,9999,8265,20401,42472,8299,18619,32173,558,665,13074,629,11039,6708,2945,2021,1433,3654,6122,3468,2478,2358,1811,22340,629,4409,9999,27678,6278,2346,2209,2654,3379,10191,558,4007,5365,2413,665,2669,8428,2423,2794,5266,31]
["Male 30-34",163281,9372,2472,3278,10234,8491,19323,38169,8342,19830,30283,526,687,11609,665,9493,7327,2966,1900,1496,3278,4642,3307,2163,2381,1879,20191,665,4852,10234,24507,6442,2101,2283,2503,3391,10679,526,4001,5014,2472,687,2674,9151,2143,2505,5428,32]
["Male 35-39",158158,9821,2858,3558,10638,8999,18614,33738,8305,20124,28782,546,775,10640,760,7748,8394,3083,2018,1543,3558,3759,3489,2586,2990,2358,17480,760,5117,10638,19435,6287,{"$f":"AH74+AH115+AH156+AH197+AH238","v":2082},2452,2472,3520,10629,546,3798,4854,2858,775,2812,9495,2339,2423,5860,33]
["Male 40-44",186186,12583,4067,4808,12949,11318,20449,38976,10483,24295,30408,719,808,13303,1020,7482,9587,3902,2700,2011,4808,4471,4441,3541,3648,3039,16730,1020,6165,12949,20659,7783,2630,2956,3380,4539,12524,719,4930,6054,4067,808,3603,11771,3142,3053,7074,34]
["Male 45-49",199540,13868,4547,5778,13722,11831,21336,41923,12272,25296,31011,904,949,15072,1031,7588,10168,4450,3259,2111,5778,4790,4763,4148,4032,3591,16636,1031,6272,13722,20573,9013,3252,3174,3580,5042,13118,904,5832,6810,4547,949,4063,12178,3448,3549,7169,35]
["Male 50-54",188241,13538,4366,5589,13115,10768,20166,39644,11967,23715,28287,834,863,14320,1069,7248,9611,4213,3231,1898,5589,4761,4424,4103,3795,3513,15100,1069,5697,13115,18842,8736,3184,3007,3307,4922,11880,834,5346,6643,4366,863,4192,11835,3173,3359,6385,36]
["Male 55-59",166198,12207,4031,5250,11560,9129,18536,33871,11366,20620,24112,802,782,12931,1001,6691,8811,3852,3133,1663,5250,4109,3942,3697,3272,3053,13071,1001,4705,11560,16055,8233,2622,2705,3034,4443,10197,802,4970,5499,4031,782,3822,10423,2761,2945,5064,37]
["Male 60-64",157797,12296,4170,5572,11387,9044,17552,29777,11515,18711,22293,756,826,12810,1088,6031,8550,4043,3238,1668,5572,3836,3846,3336,2931,2630,11805,1088,4695,11387,13647,8277,2496,2696,2971,4525,9375,756,4931,5041,4170,826,3925,9336,2681,2627,4861,38]
["Male 65-69",137334,11350,3870,5102,10484,7941,14197,25389,10312,16132,18831,717,681,11415,913,4578,6990,3587,3163,1436,5102,3343,3483,2961,2718,2251,9633,913,4108,10484,11242,7149,2199,2314,2629,4124,7968,717,4485,4493,3870,681,3743,8164,2397,2243,4166,39]
["Male 70-74",101619,8383,2799,3983,7437,5744,10436,19215,7441,11992,13754,576,478,8658,723,3443,4904,2672,2332,981,3983,2607,2519,2298,2035,1769,7006,723,2934,7437,8536,5109,1603,1656,2089,3120,6011,576,3379,3392,2799,478,2744,5981,1829,1617,3057,40]
["Male 75-79",78407,6373,2102,3188,5681,4479,8098,15150,5461,8892,10817,359,339,6961,507,2798,3706,2086,1660,723,3188,2152,1915,1988,1551,1436,5943,507,2343,5681,6715,{"$f":"AG82+AG123+AG164+AG205+AG246","v":3801},1218,1223,1594,2252,4264,359,2723,2554,2102,339,2206,4628,1413,1239,2100,41]
["Male 80-84",50919,3981,1494,1968,3656,2697,5219,9924,3663,5533,7202,250,211,4785,336,1924,2331,1425,1109,449,1968,1489,1185,1297,1090,933,4098,336,1353,3656,4416,2554,788,779,964,1430,2672,250,1871,1682,1494,211,1366,2861,895,808,1235,42]
["Male 85-89",{"$f":"B84+B125+B166+B207+B248","v":24838},1943,731,989,1839,1282,2680,4663,1763,2495,3715,124,106,2332,176,976,1240,659,535,174,989,746,543,611,581,514,2215,176,686,1839,2068,1228,384,363,464,659,1156,124,927,739,731,106,741,1339,422,347,556,43]
["Male 90+",9839,715,283,385,724,517,1115,1863,669,933,1518,59,44,959,55,404,508,293,200,83,385,293,199,239,204,204,962,55,259,724,807,469,141,150,203,235,417,59,373,318,283,44,281,516,175,154,202,44]
["Female 0",{"$f":"B86+B127+B168+B209+B250","v":28511},1902,549,664,1960,1622,3135,6403,1590,3471,4768,93,115,2139,100,1314,1362,561,425,294,664,880,681,428,570,417,2725,100,890,1960,3761,1165,354,500,459,711,1857,93,698,932,549,115,510,1614,438,511,973,45]
["Female 1-4",{"$f":"B87+B128+B169+B210+B251","v":116332},{"$f":"C87+C128+C169+C210+C251","v":7798},2270,3034,8204,6625,12764,24652,6512,15057,19612,439,498,8384,483,4626,6112,2424,1639,1175,3034,3077,2666,2101,2436,2001,10681,483,3739,8204,13118,4873,1592,2052,2026,2947,8088,439,2883,3809,2270,498,2185,6969,1711,2031,4443,46]
["Female 5-9",{"$f":"B88+B129+B170+B211+B252","v":134447},9485,2861,3685,9606,7925,14190,27930,8180,17990,20731,540,651,9937,736,4675,7085,2944,2050,1311,3685,3391,3157,2719,2806,2764,10227,736,4268,9606,13594,6130,1976,2324,2430,3602,9703,540,3602,4529,2861,651,2726,8287,2346,2348,5374,47]
["Female 10-14",137520,9945,3086,3736,9471,8212,14121,28752,8529,18274,20730,546,695,10680,743,4419,7135,3139,2232,1419,3736,3413,3322,3010,2853,2935,10083,743,4150,9471,13712,6297,2037,2474,2567,3757,9767,546,4128,4691,3086,695,2866,8507,2643,2367,5320,48]
["Female 15-19",156383,11094,3145,4258,11188,9114,16773,33831,8857,19351,23871,624,691,12800,786,6528,7354,3428,2396,1551,4258,5071,3644,3203,3158,2950,12823,786,4390,11188,17549,6461,2420,2463,2891,4250,10160,624,4301,5038,3145,691,3200,9191,3173,2671,5427,49]
["Female 20-24",186192,10743,2613,3791,12448,9838,20816,46867,7403,19475,35828,529,607,14699,535,12364,6173,2819,1902,1380,3791,8282,3688,2941,2952,2527,25356,535,4387,12448,30508,5501,2488,2474,2279,3995,10568,529,3598,5445,2613,607,3060,8907,4071,2958,5046,50]
["Female 25-29",176313,10190,2589,3685,10593,8654,20188,42769,8362,20393,34004,586,616,13085,599,10773,6777,3019,1965,1438,3685,6003,3599,2105,2547,1843,23631,599,4665,10593,28322,6397,2321,2285,2638,3684,11116,586,4063,5299,2589,616,2907,9277,2551,2879,5541,51]
["Female 30-34",169681,10283,2617,3727,10904,9104,18718,39381,8511,21125,31470,564,668,11907,702,8582,7622,3180,1918,1527,3727,4856,3592,2431,2705,2188,20480,702,5139,10904,24282,6593,2267,2572,2514,3777,11270,564,3871,5375,2617,668,2914,9855,2438,2838,5713,52]
["Female 35-39",163850,10887,3184,3875,11045,9685,18030,35092,9096,20966,28389,603,736,11464,798,6846,8438,3376,2279,1588,3875,3988,3698,2926,3162,2698,16507,798,5406,11045,19093,6817,{"$f":"AH94+AH135+AH176+AH217+AH258","v":2364},2604,2746,4096,11042,603,4100,5276,3184,736,3093,9924,2691,2735,6116,53]
["Female 40-44",199274,14227,4344,5307,13820,11901,20945,42783,11770,25997,31327,765,835,14265,988,7296,10172,4212,3125,2022,5307,4553,4883,4023,4141,3630,16355,988,6371,13820,21499,8645,3111,3365,3477,5222,13651,765,5500,7037,4344,835,4122,12346,3508,3483,7466,54]
["Female 45-49",210765,15476,4797,6135,14417,12233,22033,45684,13019,27047,31560,877,875,15590,1022,7625,10721,4492,3503,2190,6135,5134,5205,4593,4266,4044,16433,1022,6348,14417,22273,9516,3477,3432,3687,5752,13842,877,5964,7394,4797,875,4519,13205,3695,3903,7429,55]
["Female 50-54",196466,14343,4430,5872,13586,11019,20140,42903,12387,24993,29148,753,824,15062,1006,7325,9482,4450,3416,1955,5872,5163,4576,4475,3945,3740,15519,1006,5757,13586,20696,8971,3321,3174,3333,5283,12548,753,5449,7049,4430,824,4484,12445,3307,3622,6510,56]
["Female 55-59",173090,13268,4151,5550,12010,9549,18379,35586,11675,22099,24790,783,790,13495,965,6358,8889,4051,3205,1711,5550,4238,4151,3956,3358,3220,13172,965,4986,12010,16608,8470,2819,2864,3132,4946,10954,783,5206,5811,4151,790,4171,11145,2852,3172,5396,57]
["Female 60-64",164841,13057,4238,5582,12188,9464,17270,31567,11811,20091,23646,770,715,13414,1028,5895,8249,4147,3505,1741,5582,4142,4041,3633,3250,2913,12434,1028,4980,12188,13985,8306,2685,2830,3126,4859,10069,770,5125,5443,4238,715,4157,10022,2743,2908,5132,58]
["Female 65-69",148398,12251,4043,5476,11182,8530,15017,28073,10565,17901,20678,710,635,12398,939,4956,7101,3899,3259,1608,5476,3664,3692,3384,2929,2640,10651,939,4258,11182,12247,7306,2416,2566,2960,4516,8964,710,4835,4925,4043,635,4043,8937,2664,2461,4532,59]
["Female 70-74",119914,9751,3152,4299,8418,6841,11817,24133,8322,14675,16532,598,508,10099,769,4175,5368,2984,2574,1138,4299,3247,2871,2828,2376,2103,8779,769,3571,8418,11086,5748,1980,1885,2274,3682,7308,598,3868,4069,3152,508,3198,7367,2132,2067,3492,60]
["Female 75-79",102204,8075,2588,3611,7162,5592,10004,21773,6792,12339,14053,416,387,8731,681,3793,4252,2536,2126,904,3611,2969,2457,2432,2011,1929,7881,681,2913,7162,10328,{"$f":"AG102+AG143+AG184+AG225+AG266","v":4666},1752,1601,1959,2889,6069,416,3226,3584,2588,387,2729,6270,1775,1748,2560,61]
["Female 80-84",77714,5960,1927,2773,5251,4053,7885,16597,5127,8846,11221,316,290,6955,513,3197,3230,2016,1576,643,2773,2380,1756,1759,1550,1560,6771,513,2114,5251,7978,3551,1403,1125,1458,2143,4095,316,2559,2534,1927,290,2061,4751,1296,1363,1775,62]
["Female 85-89",{"$f":"B104+B145+B186+B227+B268","v":47499},3602,1239,1635,3424,2400,4869,9839,3162,4968,7006,189,184,4635,347,1904,2089,1364,973,375,1635,1507,1015,1093,956,953,4374,347,1226,3424,4732,2189,835,677,876,1240,2281,189,1764,1441,1239,184,1347,2687,799,785,999,63]
["Female 90+",27066,2199,708,929,1895,1386,2704,5744,1926,2637,4044,136,119,2422,217,1018,1204,713,648,217,929,746,607,570,564,614,2575,217,695,1895,2803,1278,482,366,482,792,1119,136,963,836,708,119,800,1518,474,439,539,64]
["age/sex breakdown: Q1",null,null,null,null,null,null,null,null,null,null,null,null,null,null,null,null,null,null,null,null,null,null,null,null,null,null,null,null,null,null,null,null,null,null,null,null,null,null,null,null,null,null,null,null,null,null,null,65]
["Male 0",7747,750,49,87,558,354,289,2880,197,1152,819,null,null,612,null,239,47,93,51,121,87,438,285,29,45,41,503,0,174,558,2061,146,193,90,3,324,719,0,81,332,49,0,141,433,59,224,181,66]
["Male 1-4",29238,2712,184,341,2075,1279,1125,10860,829,4353,3398,null,null,2082,null,940,153,289,199,386,341,1534,961,148,163,217,2151,0,666,2075,7404,630,837,242,32,1313,2890,0,259,1260,184,0,438,1463,227,994,842,67]
["Male 5-9",31097,3004,240,380,2045,1381,1017,11586,842,5092,3320,null,null,2190,null,870,129,317,206,421,380,1644,1063,153,136,199,1986,0,682,2045,7983,636,964,263,18,1480,3378,0,229,1265,240,0,461,1714,278,1022,935,68]
["Male 10-14",30405,2919,213,297,2036,1353,1005,11479,815,5037,3150,null,null,2101,null,862,107,319,222,433,297,1536,962,152,158,206,1928,0,620,2036,8000,593,911,276,36,1465,3353,0,246,1243,213,0,492,1684,300,967,788,69]
["Male 15-19",33526,3517,206,377,2094,1429,981,12763,976,5514,3380,null,null,2289,null,791,156,381,283,454,377,1677,1238,181,192,228,2006,0,657,2094,8745,693,1095,299,34,1752,3638,0,231,1395,206,0,527,1876,318,1119,883,70]
["Male 20-24",38154,3650,196,439,2128,1601,1484,15516,942,5581,3697,null,null,2920,null,1278,168,333,282,428,439,2223,1250,143,167,216,2337,0,800,2128,11199,660,1120,285,38,1704,3674,0,364,1719,196,0,696,1907,373,1119,908,71]
["Male 25-29",38609,3254,164,337,2161,1479,1557,15963,1020,5536,4069,null,null,3069,null,1295,229,394,255,410,337,2349,1067,105,166,230,2678,0,727,2161,11470,765,1153,295,33,1495,3626,0,326,1866,164,0,692,1910,342,1139,930,72]
["Male 30-34",36193,3066,216,305,2066,1398,1581,14711,822,5532,3984,null,null,2512,null,1325,224,379,202,430,305,1759,987,141,140,193,2708,0,723,2066,10655,620,978,249,32,1472,3446,0,374,1766,216,0,607,2086,245,978,887,73]
["Male 35-39",32115,2894,186,307,1982,1276,1333,12405,760,5246,3726,null,null,2000,null,1096,194,301,180,386,307,1451,976,109,142,180,2440,0,681,1982,8908,580,883,260,43,1319,3282,0,248,1396,186,0,599,1964,209,929,884,74]
["Male 40-44",36315,3384,227,352,2326,1578,1217,14280,874,5959,3787,null,null,2331,null,1016,166,327,243,454,352,1720,1234,154,180,219,2327,0,847,2326,9901,631,1146,300,35,1613,3798,0,284,1792,227,0,537,2161,277,1068,980,75]
["Male 45-49",38167,3640,265,425,2379,1650,1217,15132,988,6202,3819,null,null,2450,null,1020,149,353,297,503,425,1788,1310,151,180,267,2396,0,818,2379,10255,691,1358,268,48,1733,4094,0,309,1811,265,0,597,2108,329,1290,975,76]
["Male 50-54",35452,3583,199,370,2355,1554,1174,13975,928,5803,3270,null,null,2241,null,960,167,296,268,460,370,1684,1238,164,188,237,1949,0,792,2355,9380,660,1252,282,47,1713,3725,0,261,1835,199,0,632,2078,302,1107,851,77]
["Male 55-59",30023,3169,157,328,1926,1300,972,11576,834,5021,2731,null,null,2009,null,820,120,272,248,405,328,1522,1064,133,127,161,1685,0,615,1926,7881,586,1019,244,32,1476,3073,0,215,1379,157,0,629,1948,280,1003,675,78]
["Male 60-64",27632,2972,197,355,1863,1279,924,10223,769,4645,2517,null,null,1888,null,769,112,297,242,369,355,1382,1001,110,124,158,1483,0,643,1863,6780,527,1075,212,43,1436,2933,0,209,1240,197,0,535,1712,267,860,698,79]
["Male 65-69",23363,2604,185,284,1634,1094,632,8623,653,4052,2033,null,null,1569,null,528,84,217,217,302,284,1198,876,90,95,114,1144,0,572,1634,5858,436,871,176,20,1258,2505,0,154,999,185,0,470,1547,220,691,618,80]
["Male 70-74",18365,2133,96,228,1198,806,444,7014,502,3174,1533,null,null,1237,null,362,60,182,169,228,228,911,742,70,86,121,810,0,400,1198,4691,333,689,144,22,1009,2016,0,144,926,96,0,382,1158,178,517,493,81]
["Male 75-79",13854,1570,81,148,847,630,393,5348,334,2337,1238,null,null,928,null,311,57,150,97,143,148,697,552,43,57,89,691,0,371,847,3588,237,509,107,25,713,1450,0,81,730,81,0,305,887,116,389,383,82]
["Male 80-84",8729,989,48,94,593,386,232,3443,222,1369,763,null,null,590,null,187,33,94,87,96,94,417,359,27,33,38,438,0,229,593,2318,135,342,84,12,444,867,0,79,458,48,0,186,502,61,260,208,83]
["Male 85-89",4001,455,36,43,320,185,129,1496,113,595,352,null,null,277,null,103,22,36,33,38,43,213,155,8,11,19,201,0,122,320,993,80,144,39,4,199,399,0,28,196,36,0,101,196,25,136,101,84]
["Male 90+",1557,178,13,26,125,68,49,602,35,210,139,null,null,112,null,38,7,18,13,20,26,83,62,7,6,6,80,0,35,125,395,22,51,19,4,79,135,0,11,71,13,0,37,75,13,72,34,85]
["Female 0",7441,704,64,85,519,340,304,2812,189,1041,828,null,null,555,null,265,33,71,56,113,85,418,242,28,35,43,529,0,175,519,1991,133,170,73,6,346,649,0,66,336,64,0,116,392,52,244,191,86]
["Female 1-4",28152,2637,212,319,1836,1183,1054,10584,755,4294,3315,null,null,1963,null,888,144,297,205,369,319,1411,862,153,138,189,2147,0,609,1836,7312,550,727,246,22,1280,2788,0,255,1265,212,0,495,1506,205,938,784,87]
["Female 5-9",30018,2941,200,375,1963,1292,963,11286,785,4954,3156,null,null,2103,null,841,97,296,219,389,375,1579,1026,142,152,241,1917,0,625,1963,7639,566,887,221,25,1443,3242,0,228,1353,200,0,472,1712,278,1024,866,88]
["Female 10-14",29394,2909,218,319,1912,1276,902,11050,770,4930,3053,null,null,2055,null,778,87,328,191,377,319,1497,975,127,160,213,1806,0,622,1912,7571,579,831,256,37,1438,3246,0,230,1332,218,0,496,1684,277,976,831,89]
["Female 15-19",33041,3557,215,366,2172,1462,1035,12420,843,5382,3295,null,null,2294,null,876,124,358,240,458,366,1660,1205,145,193,242,1905,0,673,2172,8475,603,1040,292,35,1726,3526,0,276,1435,215,0,626,1856,331,1083,905,90]
["Female 20-24",41964,3863,245,515,2428,1861,1765,16949,991,5836,4277,null,null,3234,null,1506,216,400,239,499,515,2459,1282,149,173,270,2784,0,914,2428,12147,752,1214,340,43,1807,3841,0,375,1881,245,0,774,1995,448,1288,980,91]
["Female 25-29",43616,3720,247,408,2510,1672,1773,17673,1077,6455,4808,null,null,3273,null,1521,227,448,256,484,408,2405,1313,151,161,247,3210,0,832,2510,12734,821,1222,301,25,1641,4162,0,420,1995,247,0,766,2293,356,1324,1136,92]
["Female 30-34",39128,3276,219,415,2243,1527,1422,15870,927,5960,4469,null,null,2800,null,1232,165,417,203,452,415,2037,1096,152,176,271,3006,0,788,2243,11278,724,1088,288,25,1587,3720,0,346,1877,219,0,593,2240,287,1204,999,93]
["Female 35-39",33576,3212,225,323,1932,1472,1209,13183,817,5454,3568,null,null,2181,null,1050,133,300,210,452,323,1610,1081,135,165,227,2230,0,731,1932,9236,607,989,264,26,1587,3454,0,271,1521,225,0,544,2000,289,1075,909,94]
["Female 40-44",39423,3943,230,385,2513,1654,1217,15931,960,6422,3772,null,null,2396,null,1038,143,357,263,504,385,1755,1374,168,169,272,2309,0,784,2513,10906,697,1358,314,36,1881,4181,0,284,1937,230,0,688,2241,366,1290,980,95]
["Female 45-49",40563,4178,214,432,2589,1738,1224,16547,972,6529,3631,null,null,2509,null,1020,161,339,261,521,432,1872,1490,187,212,295,2109,0,856,2589,11376,711,1378,307,43,2065,4208,0,298,1915,214,0,623,2321,361,1396,1003,96]
["Female 50-54",37487,3817,202,368,2291,1588,1101,15201,928,6024,3496,null,null,2471,null,920,149,381,275,470,368,1838,1271,172,189,250,2090,0,789,2291,10386,653,1321,309,32,1887,3807,0,252,1840,202,0,659,2217,329,1232,908,97]
["Female 55-59",31645,3455,195,333,1945,1357,970,12165,853,5466,2853,null,null,2053,null,812,127,290,249,418,333,1519,1134,140,154,187,1663,0,638,1945,8195,604,1137,243,31,1693,3378,0,244,1432,195,0,628,2088,301,1074,793,98]
["Female 60-64",28929,3178,191,290,1951,1237,818,10733,796,5148,2671,null,null,1916,null,690,98,251,260,380,290,1450,1079,109,152,194,1501,0,625,1951,7120,536,1086,251,30,1561,3202,0,215,1264,191,0,538,1946,232,960,767,99]
["Female 65-69",25631,2787,173,308,1737,1098,658,9752,687,4499,2228,null,null,1704,null,540,81,274,214,355,308,1261,931,99,97,148,1253,0,541,1737,6567,473,968,213,37,1389,2805,0,169,1173,173,0,467,1694,202,797,665,100]
["Female 70-74",22967,2549,129,247,1422,986,556,9292,580,3927,1865,null,null,1414,null,460,59,211,184,256,247,1063,812,87,80,142,1061,0,551,1422,6289,396,883,169,37,1277,2451,0,140,1213,129,0,460,1476,179,678,555,101]
["Female 75-79",20241,2065,99,196,1216,884,550,8488,474,3338,1675,null,null,1256,null,448,71,182,142,202,196,941,732,58,74,118,976,0,505,1216,5754,332,834,146,31,974,2102,0,133,1105,99,0,359,1236,177,619,479,102]
["Female 80-84",15085,1545,91,157,932,618,426,6305,409,2332,1243,null,null,1027,null,366,48,160,159,150,157,765,555,51,52,74,765,0,355,932,4321,250,599,123,12,717,1465,0,102,785,91,0,273,867,113,475,303,103]
["Female 85-89",8509,832,45,80,596,340,238,3556,253,1254,706,null,null,609,null,198,31,91,97,95,80,470,285,39,23,43,420,0,196,596,2381,156,327,91,9,379,807,0,48,457,45,0,168,447,49,309,172,104]
["Female 90+",4730,518,21,27,312,192,110,2112,126,660,377,null,null,275,null,98,10,32,50,47,27,203,188,23,11,25,210,0,105,312,1438,76,180,39,2,237,378,0,40,272,21,0,93,282,40,174,117,105]
["age/sex breakdown: Q2",null,null,null,null,null,null,null,null,null,null,null,null,null,null,null,null,null,null,null,null,null,null,null,null,null,null,null,null,null,null,null,null,null,null,null,null,null,null,null,null,null,null,null,null,null,null,null,106]
["Male 0",6416,530,107,190,487,426,481,1182,384,1027,1078,20,17,429,58,275,141,142,84,65,190,180,216,86,115,36,444,58,259,487,699,300,57,173,65,158,615,20,107,156,107,17,156,412,102,148,346,107]
["Male 1-4",24399,2151,388,777,1976,1560,1814,4339,1532,3991,4004,100,38,1492,237,931,591,470,348,184,777,601,821,435,480,177,1490,237,952,1976,2348,1184,284,710,292,619,2402,100,421,563,388,38,711,1589,424,532,1324,108]
["Male 5-9",27132,2624,412,936,2218,1895,1688,4529,1794,4739,4324,95,47,1565,266,837,587,502,438,237,936,599,972,457,579,233,1425,266,1128,2218,2189,1356,305,791,264,782,2881,95,464,707,412,47,870,1858,530,638,1529,109]
["Male 10-14",27129,2902,381,951,2170,1890,1586,4797,1645,4646,4135,106,28,1598,294,782,539,525,397,232,951,602,1074,506,504,244,1354,294,1120,2170,2374,1248,322,753,265,861,2747,106,471,705,381,28,967,1899,538,646,1524,110]
["Male 15-19",31657,3146,501,1084,2407,2139,2034,5941,1873,5136,4712,140,51,2196,297,1112,615,629,458,272,1084,1068,1173,555,580,294,1714,297,1319,2407,3126,1415,379,832,307,969,2985,140,499,828,501,51,1004,2151,548,759,1586,111]
["Male 20-24",38654,2903,518,956,2502,2265,3317,8740,1726,5179,6306,147,52,3744,299,2280,707,640,407,230,956,2224,1132,593,567,255,3367,299,1192,2502,5671,1319,483,848,330,846,3003,147,880,923,518,52,925,2176,843,815,1524,112]
["Male 25-29",38727,2938,497,914,2406,2254,3450,9010,1797,5163,6610,156,44,3233,255,2384,710,646,395,275,914,1608,1179,512,558,206,3638,255,1314,2406,6060,1402,416,740,356,831,3041,156,979,1022,497,44,928,2122,665,794,1674,113]
["Male 30-34",35787,2653,481,828,2483,2218,2846,7883,1805,5304,6154,120,47,2697,268,1844,674,676,362,255,828,1172,1071,463,533,218,3376,268,1386,2483,5192,1443,427,707,328,702,3180,120,849,838,481,47,880,2124,577,745,1538,114]
["Male 35-39",32305,2674,459,878,2363,2117,2380,6368,1647,5237,5610,125,50,2064,333,1418,672,590,372,265,878,837,1051,477,540,220,2666,333,1313,2363,3892,1275,353,743,290,772,3115,125,637,778,459,50,851,2122,539,648,1661,115]
["Male 40-44",36351,3509,581,1136,2882,2605,2403,6755,1932,6064,5752,131,26,2149,426,1337,689,663,449,385,1136,837,1340,546,627,251,2465,426,1529,2882,3807,1483,374,794,377,987,3470,131,649,916,581,26,1182,2594,691,861,1866,116]
["Male 45-49",38035,3819,628,1259,3003,2678,2348,7048,2213,6223,5848,168,63,2301,436,1295,670,718,524,380,1259,931,1468,678,771,327,2238,436,1615,3003,3604,1689,488,995,383,1139,3506,168,652,994,628,63,1212,2717,683,957,1844,117]
["Male 50-54",35899,3569,641,1206,2774,2417,2371,6613,2226,5889,5299,144,48,2236,466,1279,716,672,519,330,1206,909,1313,635,683,321,2072,466,1432,2774,3362,1707,459,914,376,1064,3215,144,655,912,641,48,1192,2674,655,924,1630,118]
["Male 55-59",31719,3203,595,1151,2662,1984,2140,5548,2061,5342,4497,162,45,1872,457,1178,614,586,517,281,1151,710,1187,521,583,256,1731,457,1252,2662,2810,1544,382,838,348,958,2969,162,576,750,595,45,1058,2373,451,829,1345,119]
["Male 60-64",30376,3344,569,1183,2479,2127,2089,4799,2063,4848,4313,150,43,1877,492,1039,694,631,470,280,1183,776,1241,438,562,236,1579,492,1365,2479,2313,1593,372,800,356,988,2641,150,470,704,569,43,1115,2207,482,736,1372,120]
["Male 65-69",26690,3075,496,1085,2256,1807,1654,4182,1813,4416,3685,166,45,1598,412,774,603,527,460,287,1085,676,1122,386,529,164,1266,412,1146,2256,1891,1353,311,691,277,833,2437,166,395,702,496,45,1120,1979,374,728,1199,121]
["Male 70-74",20368,2275,385,874,1607,1368,1314,3278,1356,3337,2838,130,21,1267,318,629,434,419,378,197,874,560,796,334,450,130,964,318,861,1607,1447,978,227,542,251,676,1872,130,288,619,385,21,803,1465,310,521,882,122]
["Male 75-79",15971,1793,319,691,1318,1079,1152,2623,985,2508,2201,84,15,968,235,579,380,305,263,144,691,450,684,285,373,126,797,235,666,1318,1210,722,173,372,193,487,1342,84,213,475,319,15,622,1166,269,354,659,123]
["Male 80-84",10257,1138,278,405,823,636,733,1698,606,1625,1419,49,11,681,155,394,223,207,162,102,405,338,440,179,251,76,492,155,385,823,855,444,90,259,116,296,872,49,136,267,278,11,402,753,149,231,417,124]
["Male 85-89",5089,553,135,192,415,315,336,851,326,750,718,32,9,376,81,174,119,134,79,39,192,153,209,110,130,39,298,81,198,415,426,247,60,127,43,134,352,32,89,108,135,9,210,398,78,108,163,125]
["Male 90+",1993,207,57,79,152,118,150,309,120,295,284,20,2,171,29,78,46,71,27,5,79,73,70,46,43,6,127,29,86,152,168,93,15,46,26,47,132,20,27,42,57,2,90,163,27,32,68,126]
["Female 0",5999,531,113,177,450,396,485,1130,376,882,964,22,8,425,40,288,131,128,83,44,177,187,220,91,139,36,403,40,250,450,675,293,61,151,66,148,521,22,110,142,113,8,163,361,102,125,271,127]
["Female 1-4",23206,2150,344,810,1800,1592,1646,4024,1368,3776,3879,88,32,1488,209,886,512,519,331,210,810,569,826,339,454,178,1533,209,972,1800,2141,1037,256,646,248,613,2277,88,400,602,344,32,711,1499,410,508,1246,128]
["Female 5-9",25324,2497,378,858,2073,1784,1645,4245,1641,4412,3853,120,29,1529,260,825,506,475,389,193,858,611,928,405,486,195,1224,260,1105,2073,2095,1252,279,699,314,782,2710,120,443,653,378,29,787,1702,486,618,1444,129]
["Female 10-14",25891,2711,346,919,2110,1830,1498,4449,1630,4448,3925,123,33,1552,317,750,512,534,344,226,919,553,1042,451,511,252,1184,317,1073,2110,2160,1286,292,755,236,842,2610,123,465,702,346,33,827,1838,531,592,1475,130]
["Female 15-19",30623,2989,454,978,2283,2031,2030,5755,1765,4811,4780,138,25,2266,318,1065,617,660,396,252,978,1081,1108,483,602,291,1834,318,1214,2283,3196,1369,352,802,348,939,2748,138,525,721,454,25,942,2063,565,712,1542,131]
["Female 20-24",39463,3116,657,957,2566,2416,3433,8306,1706,5207,7047,123,59,3636,234,2410,671,613,423,289,957,2301,1169,577,676,260,3958,234,1242,2566,5414,1283,393,857,352,905,3030,123,722,890,657,59,1042,2177,885,772,1556,132]
["Female 25-29",39452,3069,557,996,2633,2342,3302,8267,1948,5680,7139,122,33,3103,261,2199,725,704,437,269,996,1557,1164,534,652,227,3993,261,1380,2633,5429,1511,402,763,378,880,3342,122,842,914,557,33,1025,2338,693,761,1731,133]
["Female 30-34",36523,3141,457,1020,2596,2394,2545,7542,1850,5678,6427,103,46,2422,302,1586,651,662,403,297,1020,1072,1210,536,616,255,3310,302,1390,2596,4755,1447,353,843,308,870,3386,103,688,872,457,46,1061,2292,707,771,1658,134]
["Female 35-39",32575,2997,456,913,2421,2305,2165,6286,1892,5342,5402,130,40,1888,338,1195,644,637,473,283,913,718,1107,537,583,238,2397,338,1376,2421,3505,1419,394,805,326,931,3167,130,533,844,456,40,959,2175,646,768,1617,135]
["Female 40-44",38713,4013,566,1302,2981,2715,2430,7129,2286,6575,5970,140,49,2170,387,1254,757,695,557,356,1302,834,1545,698,739,335,2197,387,1594,2981,3646,1729,436,997,419,1215,3795,140,641,1072,566,49,1253,2780,765,942,2037,136]
["Female 45-49",40145,4277,667,1331,3161,2807,2442,7559,2472,6676,5827,177,44,2258,447,1287,776,668,568,411,1331,963,1591,726,826,374,2073,447,1658,3161,3689,1904,564,1017,379,1292,3756,177,627,1118,667,44,1394,2920,738,1088,1911,137]
["Female 50-54",37880,3845,613,1378,3028,2547,2350,7222,2301,6274,5443,150,37,2264,428,1280,677,693,559,342,1378,965,1397,714,755,324,1936,428,1549,3028,3586,1742,508,1009,393,1133,3516,150,606,1071,613,37,1315,2758,656,1019,1743,138]
["Female 55-59",33208,3457,600,1212,2727,2127,2200,5762,2139,5693,4683,159,55,1984,410,1114,662,618,492,263,1212,809,1270,573,642,268,1655,410,1387,2727,2773,1647,417,882,424,1004,3129,159,557,817,600,55,1183,2564,477,914,1504,139]
["Female 60-64",32038,3526,558,1188,2648,2230,2252,5186,2135,5280,4539,155,43,1825,473,1065,767,593,535,337,1188,783,1230,504,610,250,1572,473,1401,2648,2338,1600,409,883,420,1105,2915,155,449,837,558,43,1191,2365,492,848,1474,140]
["Female 65-69",29567,3402,631,1162,2407,2019,1861,4761,1887,4961,4137,156,35,1758,390,882,649,556,512,326,1162,739,1238,527,589,201,1395,390,1240,2407,2069,1375,358,786,330,965,2824,156,463,831,631,35,1199,2137,453,775,1367,141]
["Female 70-74",24832,2716,469,949,1888,1676,1653,4163,1596,4129,3461,122,28,1633,349,822,514,513,438,235,949,788,982,442,540,192,1232,349,1032,1888,1893,1158,265,598,317,808,2304,122,332,720,469,28,926,1825,409,651,1091,142]
["Female 75-79",22083,2396,433,839,1706,1362,1520,4051,1327,3588,3002,88,22,1415,334,804,439,436,385,180,839,675,895,403,484,205,1121,334,851,1706,1928,942,273,538,277,658,1948,88,304,718,433,22,843,1640,331,524,859,143]
["Female 80-84",16804,1766,353,603,1297,970,1240,3193,996,2659,2233,72,24,1155,243,671,335,379,244,129,603,489,643,318,348,138,917,243,622,1297,1588,752,199,404,234,465,1276,72,287,497,353,24,658,1383,219,453,564,144]
["Female 85-89",10292,1096,254,358,783,601,751,1809,579,1598,1391,55,13,828,176,391,225,310,149,80,358,311,393,182,240,72,604,176,386,783,1009,430,80,233,135,253,769,55,207,224,254,13,450,829,135,242,314,145]
["Female 90+",5770,669,134,213,437,350,400,993,374,787,784,38,11,457,123,202,120,175,119,45,213,153,221,125,120,29,336,123,235,437,561,255,53,145,78,166,335,38,129,96,134,11,282,452,70,129,183,146]
["age/sex breakdown: Q3",null,null,null,null,null,null,null,null,null,null,null,null,null,null,null,null,null,null,null,null,null,null,null,null,null,null,null,null,null,null,null,null,null,null,null,null,null,null,null,null,null,null,null,null,null,null,null,147]
["Male 0",5844,238,176,246,416,329,684,907,490,817,1030,27,50,346,88,210,281,122,133,70,246,94,49,41,160,40,472,88,185,416,445,357,50,114,193,94,357,27,130,215,176,50,95,460,74,116,284,148]
["Male 1-4",23267,1184,671,1144,1678,1262,2769,3303,2006,3310,3878,69,222,1437,334,656,1166,517,613,271,1144,334,303,184,639,163,1603,334,716,1678,1514,1393,190,398,947,421,1512,69,586,849,671,222,460,1798,275,403,1238,149]
["Male 5-9",27180,1481,863,1437,1929,1557,3137,3616,2681,3999,3951,98,240,1715,476,656,1403,669,813,307,1437,391,373,240,687,196,1416,476,887,1929,1445,1868,271,481,1078,518,1910,98,655,984,863,240,590,2089,363,480,1367,150]
["Male 10-14",27773,1597,845,1611,1936,1528,3313,3555,3080,4052,3565,82,281,1907,421,666,1532,743,969,357,1611,356,426,249,687,210,1221,421,837,1936,1401,2111,254,474,1115,540,1840,82,808,1023,845,281,631,2212,334,418,1183,151]
["Male 15-19",31773,1844,1051,1740,2007,1764,3700,4737,3073,4334,4308,118,291,2321,485,928,1591,794,982,388,1740,654,515,256,886,240,1607,485,944,2007,2222,2091,355,505,1181,671,1969,118,873,1099,1051,291,658,2365,432,565,1310,152]
["Male 20-24",37024,1603,901,1372,2133,2037,4924,7428,2553,4076,6554,111,245,2712,375,2449,1487,733,736,447,1372,1260,529,361,753,244,4036,375,808,2133,4776,1817,381,494,988,494,1904,111,719,1115,901,245,580,2172,782,551,1271,153]
["Male 25-29",36157,1294,833,1325,2138,1793,4597,7339,2439,3917,7535,120,240,2213,374,2158,1408,647,677,447,1325,858,463,390,692,158,5053,374,889,2138,4783,1762,281,433,1031,366,1804,120,708,1174,833,240,465,2113,457,553,1357,154]
["Male 30-34",34981,1419,801,1201,2162,1858,4205,6546,2530,4464,7140,101,279,1878,397,1729,1462,661,727,453,1201,563,467,312,675,173,4449,397,1003,2162,4107,1803,269,462,1014,435,2119,101,654,1177,801,279,517,2345,402,508,1554,155]
["Male 35-39",32896,1534,900,1338,2266,1856,3814,5263,2589,4543,6193,109,257,1807,427,1296,1550,707,786,447,1338,445,487,293,814,199,3346,427,992,2266,2854,1803,282,515,968,511,2146,109,655,1095,900,257,536,2397,417,540,1518,156]
["Male 40-44",38508,2001,1207,1814,2704,2262,4380,5629,3413,5501,6158,123,310,2412,594,1158,1857,905,1053,569,1814,552,602,391,949,246,2808,594,1205,2704,2725,2360,329,635,1365,706,2469,123,955,1285,1207,310,693,3032,488,653,1766,157]
["Male 45-49",41010,2371,1381,2219,2815,2263,4650,5834,4161,5695,5787,174,352,2713,595,1223,1995,993,1258,565,2219,594,682,395,913,278,2517,595,1198,2815,2500,2903,459,650,1432,802,2586,174,1126,1476,1381,352,887,3109,500,726,1707,158]
["Male 50-54",38342,2228,1336,2224,2717,2129,4207,5314,4071,5187,5181,198,341,2606,603,1068,1879,1002,1244,485,2224,549,590,328,925,262,2187,603,1169,2717,2227,2827,449,629,1260,781,2200,198,1055,1307,1336,341,857,2987,475,741,1440,159]
["Male 55-59",33598,2000,1180,2067,2276,1677,3958,4441,4027,4308,4301,177,332,2310,544,1039,1807,878,1252,381,2067,464,530,265,818,250,1769,544,916,2276,1880,2775,364,618,1112,691,1814,177,968,1081,1180,332,779,2494,380,601,1096,160]
["Male 60-64",32642,2003,1289,2193,2293,1678,3899,3847,4280,3866,3900,158,354,2286,596,984,1829,921,1397,406,2193,427,490,258,716,211,1486,596,876,2293,1475,2883,304,622,1086,727,1719,158,938,1040,1289,354,786,2147,396,559,1076,161]
["Male 65-69",28874,1857,1218,2123,2141,1484,3407,3245,3850,3336,3272,145,300,1995,501,794,1615,789,1341,319,2123,328,488,200,628,187,1213,501,815,2141,1212,2509,284,524,998,667,1452,145,878,915,1218,300,702,1884,350,447,907,162]
["Male 70-74",21485,1475,884,1637,1604,1073,2565,2296,2828,2519,2353,128,225,1493,405,643,1136,554,1018,212,1637,279,382,124,479,147,817,405,607,1604,855,1810,176,353,786,537,1016,128,660,642,884,225,556,1503,254,352,704,163]
["Male 75-79",16448,1004,636,1295,1225,810,2019,1881,2002,1942,1831,80,159,1292,272,534,900,455,712,150,1295,264,244,106,367,153,732,272,459,1225,653,1290,151,280,585,358,781,80,573,514,636,159,402,1161,201,304,452,164]
["Male 80-84",10484,606,433,783,752,499,1247,1248,1336,1207,1163,53,99,877,181,355,552,296,458,89,783,185,138,66,264,85,442,181,281,752,415,878,101,190,340,235,524,53,396,388,433,99,233,683,129,193,267,165]
["Male 85-89",5117,269,205,398,376,239,678,588,611,558,598,26,51,425,95,188,316,144,244,37,398,103,61,32,142,48,260,95,133,376,186,367,43,74,174,89,221,26,178,219,205,51,119,337,69,60,122,166]
["Male 90+",2030,100,86,156,161,93,254,280,213,208,243,12,26,172,26,66,117,53,85,29,156,32,17,15,47,24,116,26,38,161,62,128,15,39,71,42,85,12,87,130,86,26,41,123,26,34,41,167]
["Female 0",5452,244,172,238,358,321,669,845,459,748,952,17,43,326,60,200,281,122,158,79,238,74,67,39,151,35,433,60,155,358,454,301,38,106,188,83,350,17,130,196,172,43,94,398,87,83,262,168]
["Female 1-4",22313,1069,655,1089,1614,1274,2755,3062,1924,3267,3690,83,187,1370,274,689,1197,510,592,277,1089,336,280,192,611,149,1571,274,730,1614,1385,1332,193,423,869,392,1526,83,524,779,655,187,397,1741,267,364,1085,169]
["Female 5-9",26138,1479,782,1448,1904,1500,2989,3474,2586,3828,3751,90,230,1601,476,641,1354,635,786,334,1448,325,387,249,618,210,1348,476,823,1904,1406,1800,280,513,994,523,1761,90,641,923,782,230,569,2067,343,406,1272,170]
["Female 10-14",26417,1491,979,1424,1729,1483,3010,3539,2800,3907,3538,81,253,1757,426,538,1418,669,919,356,1424,364,400,235,681,192,1185,426,774,1729,1447,1881,317,505,1054,528,1836,81,724,916,979,253,563,2071,353,432,1167,171]
["Female 15-19",30251,1681,958,1635,2038,1592,3713,4573,2822,3999,4152,104,299,2217,468,1099,1466,719,947,381,1635,757,455,263,987,218,1397,468,810,2038,2291,1875,307,504,1148,590,1824,104,741,1014,958,299,636,2175,401,480,1264,172]
["Female 20-24",36234,1334,733,1322,2083,1965,4724,7741,2102,3923,7146,106,219,2535,301,2408,1382,608,600,305,1322,1279,374,273,999,198,4511,301,805,2083,5357,1502,331,446,934,467,1752,106,648,1046,733,219,493,2171,855,536,1190,173]
["Female 25-29",36373,1219,795,1316,2213,1793,4584,7124,2375,4242,7832,125,228,2189,338,2092,1426,693,716,381,1316,742,315,189,748,175,5206,338,939,2213,4807,1659,254,471,1066,425,1898,125,754,1180,795,228,479,2344,473,519,1407,174]
["Female 30-34",34895,1429,827,1304,2349,1887,4024,6180,2566,4648,6894,110,254,2023,400,1460,1501,750,747,396,1304,546,389,224,743,191,4129,400,1061,2349,3688,1819,292,556,1063,488,2158,110,727,1237,827,254,552,2490,430,548,1466,175]
["Female 35-39",33095,1711,935,1528,2325,1887,3748,4978,2852,4555,5791,100,263,1962,460,1030,1560,754,881,404,1528,482,464,248,795,202,2925,460,1033,2325,2577,1971,285,550,1158,605,2137,100,726,1116,935,263,642,2418,450,550,1521,176]
["Female 40-44",40181,2247,1357,2005,2787,2236,4460,6040,3779,5743,5927,136,324,2539,601,1098,1945,958,1198,498,2005,516,625,384,1046,290,2403,601,1260,2787,2668,2581,419,691,1417,778,2600,136,1065,1545,1357,324,844,3143,478,734,1787,177]
["Female 45-49",42149,2459,1400,2422,2945,2295,4756,5977,4444,5875,5687,190,337,2787,575,1145,2123,1012,1435,523,2422,605,656,320,979,287,2284,575,1216,2945,2570,3009,486,733,1488,869,2615,190,1170,1543,1400,337,934,3260,556,771,1691,178]
["Female 50-54",39397,2347,1385,2252,2732,2027,4245,5607,4292,5495,5216,147,335,2739,578,1078,1900,1052,1348,451,2252,602,608,325,944,305,2117,578,1111,2732,2391,2944,505,659,1267,813,2338,147,1085,1325,1385,335,926,3157,465,756,1496,179]
["Female 55-59",34971,2163,1245,2190,2488,1772,4040,4661,4113,4659,4226,148,317,2394,555,1040,1881,948,1315,402,2190,475,552,310,811,242,1666,555,959,2488,1907,2798,388,599,1119,809,2032,148,971,1142,1245,317,802,2627,411,672,1150,180]
["Female 60-64",33802,2041,1333,2286,2440,1789,3918,4110,4269,4101,4117,158,298,2387,555,1015,1766,931,1470,378,2286,469,514,273,792,266,1489,555,1012,2440,1491,2799,345,672,1137,728,1822,158,987,1116,1333,298,799,2279,399,619,1164,181]
["Female 65-69",30988,2096,1213,2211,2281,1572,3602,3522,3824,3868,3533,158,303,2256,549,860,1599,874,1314,347,2211,409,556,238,699,204,1268,549,830,2281,1263,2510,317,561,1143,752,1653,158,973,1003,1213,303,788,2215,395,497,1005,182]
["Female 70-74",24726,1599,935,1690,1764,1332,2843,2939,3007,3132,2909,151,217,1788,420,697,1284,597,1092,233,1690,387,395,158,608,200,1077,420,764,1764,1049,1915,265,433,862,593,1306,151,804,831,935,217,611,1826,335,436,791,183]
["Female 75-79",20451,1218,790,1383,1452,1036,2474,2588,2348,2648,2314,91,186,1576,347,727,1036,518,876,181,1383,376,304,135,515,191,913,347,590,1452,973,1472,191,373,711,440,1088,91,682,710,790,186,474,1560,265,388,513,184]
["Female 80-84",15443,849,571,1071,1074,756,1889,1931,1737,1972,1844,71,107,1301,270,592,789,428,657,127,1071,304,174,104,449,136,767,270,427,1074,742,1080,159,255,508,331,819,71,569,501,571,107,344,1153,202,289,373,185]
["Female 85-89",9694,498,349,651,746,432,1169,1243,1077,1184,1171,42,70,891,171,368,521,283,383,93,651,237,107,79,265,102,522,171,221,746,448,694,90,161,280,195,430,42,371,358,349,70,196,754,118,166,223,186]
["Female 90+",5483,298,189,362,417,243,634,762,621,676,608,36,51,492,94,181,302,149,263,53,362,132,60,43,166,73,275,94,111,417,240,358,41,81,151,142,258,36,211,275,189,51,96,418,79,90,86,187]
["age/sex breakdown: Q4",null,null,null,null,null,null,null,null,null,null,null,null,null,null,null,null,null,null,null,null,null,null,null,null,null,null,null,null,null,null,null,null,null,null,null,null,null,null,null,null,null,null,null,null,null,null,null,188]
["Male 0",5433,299,202,134,340,320,842,788,471,544,818,70,69,536,null,152,542,178,90,43,134,92,122,92,194,80,385,0,171,340,383,381,70,91,148,131,225,70,266,130,202,69,46,319,106,33,148,189]
["Male 1-4",22890,1157,954,641,1398,1397,3600,3086,2050,2169,3413,266,285,2474,null,477,2473,847,371,200,641,377,377,381,806,344,1529,0,707,1398,1270,1679,242,363,650,485,957,266,1250,660,954,285,295,1212,490,189,715,190]
["Male 5-9",28329,1555,1283,912,1724,1860,4178,3727,2591,2702,3867,328,341,3261,null,437,2850,1269,526,255,912,422,510,547,1056,493,1497,0,932,1724,1388,2065,293,466,891,710,1191,328,1570,813,1283,341,335,1511,673,193,848,191]
["Male 10-14",29518,1597,1420,920,1897,1964,4260,3823,2839,2765,3674,361,326,3672,null,415,2861,1349,596,245,920,493,469,631,977,520,1378,0,883,1897,1356,2243,344,501,984,700,1189,361,1830,780,1420,326,428,1576,836,192,818,192]
["Male 15-19",31769,1683,1323,968,2037,1963,4659,4883,2842,2916,3996,404,354,3741,null,708,2910,1299,651,266,968,509,521,704,932,485,1701,0,848,2037,2137,2191,341,521,1041,752,1331,404,1933,957,1323,354,410,1585,849,259,842,193]
["Male 20-24",32672,1441,908,844,1738,1715,4932,6685,2301,2621,5333,323,323,3508,null,1695,2356,1128,466,223,844,968,459,639,761,457,3387,0,785,1738,4082,1835,369,506,881,606,1188,323,1412,885,908,323,376,1433,707,253,679,194]
["Male 25-29",29473,1188,808,846,1500,1555,4671,5157,2371,2404,5380,274,357,2962,null,1513,2335,998,426,201,846,618,443,431,625,317,3640,0,771,1500,3212,1945,324,402,823,480,1081,274,1346,666,808,357,265,1323,583,207,713,195]
["Male 30-34",29808,1332,845,726,1651,1762,4797,4455,2567,2780,5223,294,323,3053,null,1264,2719,1001,425,235,726,549,436,370,755,323,3197,0,952,1651,2680,2142,264,481,814,573,1237,294,1503,639,845,323,323,1543,575,179,790,196]
["Male 35-39",31521,1597,1157,805,1863,2014,5109,4294,2645,3048,5150,295,402,3142,null,947,3266,1137,487,299,805,471,549,490,1045,403,2705,0,1066,1863,2108,2158,313,532,896,686,1305,295,1534,792,1157,402,362,1743,649,188,868,197]
["Male 40-44",38841,2090,1788,1155,2384,2564,5680,5236,3356,3890,5618,450,377,4253,null,835,3654,1567,689,362,1155,606,683,675,1310,533,2468,0,1293,2384,2348,2667,430,624,1191,852,1701,450,2080,976,1788,377,555,2189,909,274,1216,198]
["Male 45-49",41914,2194,1984,1446,2782,2680,5986,5620,3784,3863,5695,523,452,4905,null,809,3888,1775,877,360,1446,667,692,798,1339,541,2489,0,1292,2782,2295,2907,526,646,1289,914,1683,523,2463,1130,1984,452,588,2180,1028,330,1221,199]
["Male 50-54",39765,2235,1921,1345,2650,2458,5531,5735,3661,3479,5344,459,422,4525,null,783,3518,1659,855,351,1345,688,697,865,1246,593,2311,0,1154,2650,2142,2806,581,630,1230,908,1506,459,2178,1179,1921,422,630,1973,953,375,1157,200]
["Male 55-59",35797,2034,1824,1322,2337,2125,5199,4944,3414,3060,4516,436,364,4222,null,752,3226,1500,819,308,1322,634,617,774,1087,490,1981,0,921,2337,1860,2595,488,541,1221,828,1312,436,2088,1030,1824,364,589,1748,896,302,907,201]
["Male 60-64",34390,1996,1834,1405,2371,2045,5013,4423,3377,2682,4156,423,382,4283,null,688,3160,1526,836,309,1405,566,573,728,943,425,1816,0,950,2371,1617,2541,437,563,1165,821,1164,423,2191,902,1834,382,602,1518,786,314,834,202]
["Male 65-69",30040,1965,1720,1262,2201,1808,3980,3717,3113,2203,3522,387,295,3867,null,531,2419,1413,865,271,1262,502,547,621,883,332,1407,0,803,2201,1229,2248,427,511,1030,834,907,387,1952,853,1720,295,584,1296,734,255,721,203]
["Male 70-74",21770,1307,1272,973,1562,1312,2933,2602,2146,1562,2663,307,196,2935,null,407,1743,1106,588,172,973,338,316,440,602,282,1173,0,582,1562,849,1558,295,368,783,537,689,307,1491,574,1272,196,454,873,558,162,520,204]
["Male 75-79",16360,1025,929,805,1134,1001,2084,2046,1632,1086,1964,186,154,2314,null,249,1243,811,447,151,805,312,228,384,461,202,907,0,437,1134,684,1185,214,258,592,405,420,186,1191,418,929,154,392,666,413,144,338,205]
["Male 80-84",11026,617,635,564,718,632,1392,1419,1139,696,1395,138,97,1584,null,222,819,569,295,74,564,226,127,254,324,142,730,0,250,718,491,844,156,154,351,248,245,138,789,284,635,97,242,451,308,92,187,206]
["Male 85-89",5292,313,315,281,348,314,690,650,532,305,682,66,43,753,null,92,418,238,127,33,281,125,53,119,169,79,346,0,138,348,233,405,75,75,180,140,114,66,390,114,315,43,120,191,143,30,92,207]
["Male 90+",2142,98,116,105,144,124,309,276,224,131,277,25,13,300,null,47,178,112,51,17,105,47,20,44,64,41,153,0,50,144,100,173,38,28,84,31,46,25,141,40,116,13,47,85,57,13,32,208]
["Female 0",5153,251,180,120,301,316,760,762,463,478,822,52,60,588,null,120,502,199,96,37,120,99,90,76,185,74,408,0,172,301,376,367,52,100,138,103,214,52,290,149,180,60,58,264,107,35,129,209]
["Female 1-4",22334,1155,914,632,1389,1362,3488,3013,1935,2124,3418,254,233,2417,null,446,2358,879,372,204,632,356,391,399,886,346,1453,0,726,1389,1247,1563,253,386,684,510,926,254,1182,632,914,233,254,1198,432,136,693,210]
["Female 5-9",27111,1404,1288,776,1709,1757,4031,3563,2499,2692,3681,313,326,3072,null,435,2746,1180,465,241,776,377,444,553,1008,448,1371,0,872,1709,1304,2034,290,438,850,593,1186,313,1515,782,1288,326,367,1506,644,186,864,211]
["Female 10-14",27982,1504,1339,791,1858,1823,4045,3724,2580,2716,3585,326,327,3364,null,402,2732,1212,525,232,791,418,466,555,941,495,1344,0,809,1858,1382,2055,317,519,911,646,1179,326,1734,769,1339,327,392,1537,782,206,781,212]
["Female 15-19",29765,1528,1317,982,1795,1868,4415,4756,2628,2612,3723,363,320,3458,null,847,2640,1209,553,224,982,568,440,674,878,478,1626,0,833,1795,2184,2075,391,433,928,672,1140,363,1681,804,1317,320,416,1472,811,225,786,213]
["Female 20-24",31404,1379,888,760,1704,1681,4672,6994,2007,2413,5228,285,297,3096,null,1868,2071,883,446,175,760,998,469,565,710,376,3349,0,701,1704,4729,1561,352,462,733,573,1154,285,1215,753,888,297,337,1259,805,219,707,214]
["Female 25-29",29937,1333,893,757,1543,1665,4698,5082,2388,2445,5523,318,328,2964,null,1461,2363,913,416,207,757,661,463,407,732,323,3634,0,838,1543,3193,1972,296,436,874,553,1130,318,1390,668,893,328,317,1315,620,195,721,215]
["Female 30-34",30854,1459,966,742,1735,1837,4872,4670,2553,2919,5395,336,315,3055,null,1056,2967,1058,426,254,742,586,516,460,861,359,3221,0,990,1735,2603,2127,323,454,849,607,1275,336,1411,727,966,315,336,1644,593,198,859,216]
["Female 35-39",33599,1719,1374,874,2041,2193,5091,4669,2816,3280,5301,353,362,3526,null,814,3328,1269,530,282,874,525,579,556,1107,475,2589,0,1204,2041,2071,2286,412,526,949,727,1397,353,1732,948,1374,362,413,1883,707,207,1079,217]
["Female 40-44",41666,2291,1934,1241,2704,2748,5918,5604,3754,4059,5841,469,383,4720,null,786,3939,1678,806,404,1241,668,720,788,1462,544,2376,0,1374,2704,2286,2948,490,715,1193,962,1818,469,2374,1195,1934,383,609,2241,970,301,1288,218]
["Female 45-49",44390,2464,2167,1452,2891,2738,6187,6364,3914,4213,6056,471,419,5054,null,807,4013,1802,888,397,1452,734,814,939,1409,660,2625,0,1252,2891,2564,3026,579,750,1367,1002,1854,471,2518,1246,2167,419,648,2359,1089,376,1272,219]
["Female 50-54",40828,2255,1958,1392,2801,2492,5494,6123,3718,3701,5410,428,401,4655,null,790,3429,1695,891,386,1392,737,683,956,1229,621,2415,0,1110,2801,2331,2827,586,637,1275,919,1603,428,2223,1246,1958,401,653,2098,996,383,1129,220]
["Female 55-59",36959,2193,1808,1380,2394,2243,5103,5292,3487,3193,4602,456,374,4434,null,702,3176,1562,856,332,1380,661,632,848,1077,532,1984,0,997,2394,1963,2631,505,625,1225,909,1354,456,2211,1124,1808,374,652,1839,914,320,916,221]
["Female 60-64",35430,2246,1859,1414,2586,2134,4699,4597,3537,2817,4312,436,336,4457,null,654,2864,1615,923,314,1414,626,663,748,1066,478,1893,0,1025,2586,1579,2614,473,523,1181,886,1222,436,2216,997,1859,336,697,1595,795,322,830,222]
["Female 65-69",31711,2076,1763,1389,2365,1964,4124,3935,3179,2321,3901,371,253,4070,null,574,2460,1500,886,299,1389,519,506,652,928,383,1641,0,859,2365,1295,2293,461,559,1090,861,989,371,2051,879,1763,253,709,1332,806,265,773,223]
["Female 70-74",24392,1505,1412,1094,1706,1503,3088,3117,2382,1848,3009,312,235,3181,null,452,1836,1163,648,215,1094,388,362,555,667,318,1374,0,649,1706,1051,1734,327,394,800,603,761,312,1630,652,1412,235,540,1087,639,214,574,224]
["Female 75-79",20151,1237,1077,919,1404,1220,2480,2675,1995,1484,2529,223,164,2744,null,386,1405,959,532,175,919,435,271,479,538,318,1241,0,503,1404,920,1463,252,317,689,479,579,223,1350,545,1077,164,487,905,542,161,433,225]
["Female 80-84",15413,895,794,732,984,948,2019,2104,1480,1016,2087,166,147,2041,null,384,1098,702,375,124,732,354,188,313,406,288,1191,0,397,984,729,1105,272,198,537,358,334,166,985,381,794,147,349,682,427,121,292,226]
["Female 85-89",9702,574,501,453,606,605,1293,1338,923,536,1277,85,100,1411,null,228,709,467,232,54,453,242,116,199,237,199,767,0,250,606,448,691,218,119,356,243,186,85,702,215,501,100,215,350,301,59,154,227]
["Female 90+",5723,352,330,279,377,333,756,822,622,294,726,59,55,718,null,134,423,229,149,35,279,131,81,96,140,145,457,0,140,377,295,473,138,51,199,143,85,59,358,113,330,55,128,209,158,35,78,228]
["age/sex breakdown: Q5",null,null,null,null,null,null,null,null,null,null,null,null,null,null,null,null,null,null,null,null,null,null,null,null,null,null,null,null,null,null,null,null,null,null,null,null,null,null,null,null,null,null,null,null,null,null,null,229]
["Male 0",4740,174,38,46,329,263,955,998,100,330,1240,5,7,255,null,487,427,47,27,25,46,86,86,217,64,267,958,0,160,329,308,73,41,85,41,25,112,5,122,143,38,7,63,218,78,22,133,230]
["Male 1-4",21054,865,133,178,1586,1229,4140,4059,486,1556,5500,12,52,1258,null,1882,2019,242,147,97,178,456,322,1076,368,1169,4116,0,708,1586,974,339,195,324,239,167,572,12,560,561,133,52,376,984,424,84,692,231]
["Male 5-9",27356,1169,234,273,2064,1719,4833,5664,691,2239,6676,25,86,1683,null,2077,2497,371,215,178,273,533,393,1537,488,1693,4787,0,863,2064,1119,476,308,474,259,258,895,25,779,862,234,86,518,1344,678,145,927,232]
["Male 10-14",29252,1356,228,281,2028,1881,5054,6416,795,2377,6769,11,66,1990,null,2047,2601,439,224,214,281,608,464,1750,541,1940,4719,0,895,2028,1188,571,336,472,406,316,919,11,943,1034,228,66,576,1458,772,168,1037,233]
["Male 15-19",34675,1496,234,314,2677,2390,6023,6881,914,2707,8461,25,57,2496,null,2757,2708,501,340,248,314,928,458,1877,611,1914,6305,0,1132,2677,1465,574,301,450,558,381,1029,25,1067,1161,234,57,657,1678,1010,163,1095,234]
["Male 20-24",37943,1161,117,228,3410,2098,6676,7019,838,2387,11770,20,29,2190,null,3962,2246,392,411,127,228,1089,372,1604,433,1579,10151,0,922,3410,2454,427,243,359,468,294,933,20,709,968,117,29,495,1454,1049,171,827,235]
["Male 25-29",27771,842,111,232,1794,1184,6126,5003,672,1599,8579,8,24,1597,null,3689,2026,260,268,100,232,689,316,1040,317,900,7331,0,708,1794,2153,404,172,339,411,207,639,8,648,637,111,24,319,960,376,101,592,236]
["Male 30-34",26512,902,129,218,1872,1255,5894,4574,618,1750,7782,11,38,1469,null,3331,2248,249,184,123,218,599,346,877,278,972,6461,0,788,1872,1873,434,163,384,315,209,697,11,621,594,129,38,347,1053,344,95,659,237]
["Male 35-39",29321,1122,156,230,2164,1736,5978,5408,664,2050,8103,17,66,1627,null,2991,2712,348,193,146,230,555,426,1217,449,1356,6323,0,1065,2164,1673,471,251,402,275,232,781,17,724,793,156,66,464,1269,525,118,929,238]
["Male 40-44",36171,1599,264,351,2653,2309,6769,7076,908,2881,9093,15,95,2158,null,3136,3221,440,266,241,351,756,582,1775,582,1790,6662,0,1291,2653,1878,642,351,603,412,381,1086,15,962,1085,264,95,636,1795,777,197,1246,239]
["Male 45-49",40414,1844,289,429,2743,2560,7135,8289,1126,3313,9862,39,82,2703,null,3241,3466,611,303,303,429,810,611,2126,829,2178,6996,0,1349,2743,1919,823,421,615,428,454,1249,39,1282,1399,289,82,779,2064,908,246,1422,240]
["Male 50-54",38783,1923,269,444,2619,2210,6883,8007,1081,3357,9193,33,52,2712,null,3158,3331,584,345,272,444,931,586,2111,753,2100,6581,0,1150,2619,1731,736,443,552,394,456,1234,33,1197,1410,269,52,881,2123,788,212,1307,241]
["Male 55-59",35061,1801,275,382,2359,2043,6267,7362,1030,2889,8067,27,41,2518,null,2902,3044,616,297,288,382,779,544,2004,657,1896,5905,0,1001,2359,1624,733,369,464,321,490,1029,27,1123,1259,275,41,767,1860,754,210,1041,242]
["Male 60-64",32757,1981,281,436,2381,1915,5627,6485,1026,2670,7407,25,47,2476,null,2551,2755,668,293,304,436,685,541,1802,586,1600,5441,0,861,2381,1462,733,308,499,321,553,918,25,1123,1155,281,47,887,1752,750,158,881,243]
["Male 65-69",28367,1849,251,348,2252,1748,4524,5622,883,2125,6319,19,41,2386,null,1951,2269,641,280,257,348,639,450,1664,583,1454,4603,0,772,2252,1052,603,306,412,304,532,667,19,1106,1024,251,41,867,1458,719,122,721,244]
["Male 70-74",19631,1193,162,271,1466,1185,3180,4025,609,1400,4367,11,36,1726,null,1402,1531,411,179,172,271,519,283,1330,418,1089,3242,0,484,1466,694,430,216,249,247,361,418,11,796,631,162,36,549,982,529,65,458,245]
["Male 75-79",15774,981,137,249,1157,959,2450,3252,508,1019,3583,9,11,1459,null,1125,1126,365,141,135,249,429,207,1170,293,866,2816,0,410,1157,580,367,171,206,199,289,271,9,665,417,137,11,485,748,414,48,268,246]
["Male 80-84",10423,631,100,122,770,544,1615,2116,360,636,2462,10,4,1053,null,766,704,259,107,88,122,323,121,771,218,592,1996,0,208,770,337,253,99,92,145,207,164,10,471,285,100,4,303,472,248,32,156,247]
["Male 85-89",5339,353,40,75,380,229,847,1078,181,287,1365,0,3,501,null,419,365,107,52,27,75,152,65,342,129,329,1110,0,95,380,230,129,62,48,63,97,70,0,242,102,40,3,191,217,107,13,78,248]
["Male 90+",2117,132,11,19,142,114,353,396,77,89,575,2,3,204,null,175,160,39,24,12,19,58,30,127,44,127,486,0,50,142,82,53,22,18,18,36,19,2,107,35,11,3,66,70,52,3,27,249]
["Female 0",4466,172,20,44,332,249,917,854,103,322,1202,2,4,245,null,441,415,41,32,21,44,102,62,194,60,229,952,0,138,332,265,71,33,70,61,31,123,2,102,109,20,4,79,199,90,24,120,250]
["Female 1-4",20327,787,145,184,1565,1214,3821,3969,530,1596,5310,14,46,1146,null,1717,1901,219,139,115,184,405,307,1018,347,1139,3977,0,702,1565,1033,391,163,351,203,152,571,14,522,531,145,46,328,1025,397,85,635,251]
["Female 5-9",25856,1164,213,228,1957,1592,4562,5362,669,2104,6290,17,66,1632,null,1933,2382,358,191,154,228,499,372,1370,542,1670,4367,0,843,1957,1150,478,240,453,247,261,804,17,775,818,213,66,531,1300,595,114,928,252]
["Female 10-14",27836,1330,204,283,1862,1800,4666,5990,749,2273,6629,16,82,1952,null,1951,2386,396,253,228,283,581,439,1642,560,1783,4564,0,872,1862,1152,496,280,439,329,303,896,16,975,972,204,82,588,1377,700,161,1066,253]
["Female 15-19",32703,1339,201,297,2900,2161,5580,6327,799,2547,7921,19,47,2565,null,2641,2507,482,260,236,297,1005,436,1638,498,1721,6061,0,860,2900,1403,539,330,432,432,323,922,19,1078,1064,201,47,580,1625,1065,171,930,254]
["Female 20-24",37127,1051,90,237,3667,1915,6222,6877,597,2096,12130,15,32,2198,null,4172,1833,315,194,112,237,1245,394,1377,394,1423,10754,0,725,3667,2861,403,198,369,217,243,791,15,638,875,90,32,414,1305,1078,143,613,255]
["Female 25-29",26935,849,97,208,1694,1182,5831,4623,574,1571,8702,21,27,1556,null,3500,2036,261,140,97,208,638,344,824,254,871,7588,0,676,1694,2159,434,147,314,295,185,584,21,657,542,97,27,320,987,409,80,546,256]
["Female 30-34",28281,978,148,246,1981,1459,5855,5119,615,1920,8285,15,53,1607,null,3248,2338,293,139,128,246,615,381,1059,309,1112,6814,0,910,1981,1958,476,211,431,269,225,731,15,699,662,148,53,372,1189,421,117,731,257]
["Female 35-39",31005,1248,194,237,2326,1828,5817,5976,719,2335,8327,20,71,1907,null,2757,2773,416,185,167,237,653,467,1450,512,1556,6366,0,1062,2326,1704,534,284,459,287,246,887,20,838,847,194,71,535,1448,599,135,990,258]
["Female 40-44",39291,1733,257,374,2835,2548,6920,8079,991,3198,9817,20,79,2440,null,3120,3388,524,301,260,374,780,619,1985,725,2189,7070,0,1359,2835,1993,690,408,648,412,386,1257,20,1136,1288,257,79,728,1941,929,216,1374,259]
["Female 45-49",43518,2098,349,498,2831,2655,7424,9237,1217,3754,10359,39,75,2982,null,3366,3648,671,351,338,498,960,654,2421,840,2428,7342,0,1366,2831,2074,866,470,625,410,524,1409,39,1351,1572,349,75,920,2345,951,272,1552,260]
["Female 50-54",40874,2079,272,482,2734,2365,6950,8750,1148,3499,9583,28,51,2933,null,3257,3327,629,343,306,482,1021,617,2308,828,2240,6961,0,1198,2734,2002,805,401,560,366,531,1284,28,1283,1567,272,51,931,2215,861,232,1234,261]
["Female 55-59",36307,2000,303,435,2456,2050,6066,7706,1083,3088,8426,20,44,2630,null,2690,3043,633,293,296,435,774,563,2085,674,1991,6204,0,1005,2456,1770,790,372,515,333,531,1061,20,1223,1296,303,44,906,2027,749,192,1033,262]
["Female 60-64",34642,2066,297,404,2563,2074,5583,6941,1074,2745,8007,21,38,2829,null,2471,2754,757,317,332,404,814,555,1999,630,1725,5979,0,917,2563,1457,757,372,501,358,579,908,21,1258,1229,297,38,932,1837,825,159,897,263]
["Female 65-69",30501,1890,263,406,2392,1877,4772,6103,988,2252,6879,25,44,2610,null,2100,2312,695,333,281,406,736,461,1868,616,1704,5094,0,788,2392,1053,655,312,447,360,549,693,25,1179,1039,263,44,880,1559,808,127,722,264]
["Female 70-74",22997,1382,207,319,1638,1344,3677,4622,757,1639,5288,13,28,2083,null,1744,1675,500,212,199,319,621,320,1586,481,1251,4035,0,575,1638,804,545,240,291,258,401,486,13,962,653,207,28,661,1153,570,88,481,265]
["Female 75-79",19278,1159,189,274,1384,1090,2980,3971,648,1281,4533,14,15,1740,null,1428,1301,441,191,166,274,542,255,1357,400,1097,3630,0,464,1384,753,457,202,227,251,338,352,14,757,506,189,15,566,929,460,56,276,266]
["Female 80-84",14969,905,118,210,964,761,2311,3064,505,867,3814,7,12,1431,null,1184,960,347,141,113,210,468,196,973,295,924,3131,0,313,964,598,364,174,145,167,272,201,7,616,370,118,12,437,666,335,25,243,267]
["Female 85-89",9302,602,90,93,693,422,1418,1893,330,396,2461,7,1,896,null,719,603,213,112,53,93,247,114,594,191,537,2061,0,173,693,446,218,120,73,96,170,89,7,436,187,90,1,318,307,196,9,136,268]
["Female 90+",5360,362,34,48,352,268,804,1055,183,220,1549,3,2,480,null,403,349,128,67,37,48,127,57,283,127,342,1297,0,104,352,269,116,70,50,52,104,63,3,225,80,34,2,201,157,127,11,75,269]
[null,null,null,null,null,null,null,null,null,null,null,null,null,null,null,null,null,null,null,null,null,null,null,null,null,null,null,null,null,null,null,null,null,null,null,null,null,null,null,null,null,null,null,null,null,null,null,null,270]
["Mid-year population estimates (2012)",null,null,null,null,null,null,null,null,null,null,null,null,null,null,null,null,null,null,null,null,null,null,null,null,null,null,null,null,null,null,null,null,null,null,null,null,null,null,null,null,null,null,null,null,null,null,null,271]
["TOTAL POPULATION",{"$f":"SUM(B5:B9)","v":5313600},{"$f":"SUM(C5:C9)","v":373190},113710,150830,366220,299100,573420,1137320,319810,652230,843720,21530,23210,411750,27560,224970,255540,116210,86900,51280,150830,147800,122720,105880,100850,91030,482640,27560,156800,366220,595080,232910,80680,84240,92910,137560,337870,21530,147740,174310,113710,23210,112910,314360,91020,90340,175990,272]
["Q1 only",{"$f":"SUM(B5)","v":1076082},{"$f":"SUM(C5)","v":106129},6593,11471,67730,45857,36050,421784,27647,172315,107011,0,0,73495,0,30357,4588,10531,7767,13478,11471,54439,36315,4433,4962,6830,65832,0,23088,67730,291581,19880,34829,8620,1105,50912,110413,0,8525,50067,6593,0,18902,61902,9291,34044,27597,273]
["Q1 & Q2",{"$f":"B5+B6","v":2141424},{"$f":"C5+C6","v":209499},24061,46409,149108,116249,110184,620109,89819,342490,271684,4526,1368,144065,11853,71952,25902,30852,22713,22690,46409,85901,75053,21840,25032,14965,134209,11853,65563,149108,399475,67106,47150,35108,12330,81035,207548,4526,27312,77417,24061,1368,53411,134942,27996,59262,77335,274]
[null,null,null,null,null,null,null,null,null,null,null,null,null,null,null,null,null,null,null,null,null,null,null,null,null,null,null,null,null,null,null,null,null,null,null,null,null,null,null,null,null,null,null,null,null,null,null,null,275]
["Number of continuous inpatient stays, 2012",null,null,null,null,null,null,null,null,null,null,null,null,null,null,null,null,null,null,null,null,null,null,null,null,null,null,null,null,null,null,null,null,null,null,null,null,null,null,null,null,null,null,null,null,null,null,null,276]
[null,"Scotland","Ayrshire & Arran Health Board","Borders Health Board","Dumfries & Galloway Health Board","Fife Health Board","Forth Valley Health Board","Grampian Health Board","Greater Glasgow & Clyde Health Board","Highland Health Board","Lanarkshire Health Board","Lothian Health Board","Orkney Health Board","Shetland Health Board","Tayside Health Board","Western Isles Health Board","Aberdeen City Local Authority","Aberdeenshire Local Authority","Angus Local Authority","Argyll & Bute Local Authority","Clackmannanshire Local Authority","Dumfries & Galloway Local Authority","Dundee City Local Authority","East Ayrshire Local Authority","East Dunbartonshire Local Authority","East Lothian Local Authority","East Renfrewshire Local Authority","Edinburgh, City of Local Authority","Eilean Siar Local Authority","Falkirk Local Authority","Fife Local Authority","Glasgow City Local Authority","Highland Local Authority","Inverclyde Local Authority","Midlothian Local Authority","Moray Local Authority","North Ayrshire Local Authority","North Lanarkshire Local Authority","Orkney Islands Local Authority","Perth & Kinross Local Authority","Renfrewshire Local Authority","Scottish Borders Local Authority","Shetland Islands Local Authority","South Ayrshire Local Authority","South Lanarkshire Local Authority","Stirling Local Authority","West Dunbartonshire Local Authority","West Lothian Local Authority",277]
["all admissions, 16+",1186349,99595,26073,34003,75237,49328,111601,302228,71053,166128,159117,5908,5755,73398,6925,45776,47882,20037,23184,8205,34003,27334,31968,27317,20146,21759,85078,6925,26572,75237,155963,47869,22896,17600,17943,35961,89703,5908,26027,47701,26073,5755,31666,76425,14551,26592,36293,278]
["all admissions, 16+: Q1 only",298417,30853,1722,2907,16161,8996,8776,130770,7052,50244,25323,0,0,15613,0,7596,910,1965,2233,2304,2907,11879,10799,1140,1141,1932,15459,0,4893,16161,89817,4819,11263,1998,270,14446,32756,0,1769,15928,1722,0,5608,17488,1799,10690,6725,279]
["all admissions, 16+: Q1 & Q2",559313,60000,5975,11488,35219,22206,26310,184477,21969,96188,62148,1413,439,28512,2969,17786,5626,5783,6348,3909,11488,17400,21484,6359,6168,4181,29476,2969,13197,35219,116809,15621,14688,8396,2898,22563,59293,1413,5329,24019,5975,439,15953,36895,5100,18421,18108,280]

{"sheet":"Calculations","index":2,"n_rows":279,"n_cols":40,"rows_kept":279,"cut":false,"hidden":false,"merged":[]}
["USING Scotland AS EXAMPLE. NEED TO ADD LOOKUP FOR MORTALITY WHEN UPDATE","YEAR START",2012,"AGE GROUP","16+",null,null,null,"Cumulative incidence: years 2, 5, 10 and 20",null,null,null,null,null,null,null,"Years of life lost: years 2,5,10 and 20",null,null,null,null,null,null,null,null,null,null,null,"Hospitalisations: years 2,5,10 and 20"]
["Population Group","mid-age","Sex","SIMD","Prevalence exposure","TOTAL POPULATION 2007-11 (annual average - '0s)","Number treated at base","Additional number treated under policy","Baseline-2","Policy-2","Baseline-5","Policy-5","Baseline-10","Policy-10","Baseline-20","Policy-20","Baseline-2","Policy-2","Diff YLL-2","Baseline-5","Policy-5","Diff YLL-5","Baseline-10","Policy-10","Diff YLL-10","Baseline-20","Policy-20","Diff YLL-20","Baseline-2","Policy-2","Diff hosp-2 years","Baseline-5","Policy-5","Diff hosp - 5 years","Baseline-10","Policy-10","Diff hosp - 10 years","Baseline-20","Policy-20","Diff hosp - 20 years"]
["All, by SIMD"]
["Total",null,null,null,null,{"$f":"SUM(F5:F9)","v":112477.6},{"$f":"SUM(G5:G9)","v":0},112477.6,10471.696943679484,10424.181949510747,4217389.27613205,4200916.4107678263,96223.602677079558,95908.424712443753,209298.56012168207,208813.78635613414,{"$f":"SUM(Q5:Q9)","v":282067.17602775682},280778.79430939653,1288.3817183602796,111946204.01600718,111466515.43926126,479688.57674592891,2486182.6886736667,2476435.3819216909,9747.3067519757005,5095449.9446505988,5077866.2793671619,17583.665283437909,253885.82017359912,253078.00560011706,807.81457348211006,102620644.96660751,102316726.94050743,303918.02610007126,2350157.6420251774,2343887.724737965,6269.9172872120871,5132780.5650578151,5121252.7572463341,11527.807811480478]
["Q 1","n/a","both",1,1,{"$f":"F12+F19","v":41548.119999999995},{"$f":"G12+G19","v":0},{"$f":"H12+H19","v":41548.119999999995},{"$f":"I12+I19","v":5634.7921015744523},5589.1578872808623,2212227.2201504675,2196468.7984841769,48592.527134625132,48291.954370318272,99096.237363356136,98636.577806950809,149989.75168914947,148752.90080895129,{"$f":"S12+S19","v":1236.8508801982093},58765527.341466293,58305692.331539661,459835.00992663141,1281964.407199505,1272638.9045664857,9325.5026330190049,2559760.9173997538,2542988.4817879451,16772.435611809677,117693.4877015505,116923.28644807683,770.20125347369083,46925280.135156915,46636041.893972255,289238.24118465651,1052850.6771466041,1046897.3980211264,5953.279125477573,2221468.1172579494,2210555.4318499365,10912.685408013338]
["Q 2","n/a","both",2,1,{"$f":"F13+F20","v":19853.719999999998},0,19853.719999999998,1857.7520529630101,1856.0751298807413,758133.12831082754,757498.33845861233,17530.649957814043,17517.748908352354,38463.200637082729,38441.267984306702,50243.492947578001,50197.641578769864,45.851368808144187,20045630.935758315,20028004.691875741,17626.243882570983,447676.00063831173,447302.80070163816,373.19993667353179,923112.82608786691,922399.21861216775,713.60747569896898,46028.133540234812,45995.034535799823,33.099004434993027,18670733.772037834,18657844.914722286,12888.857315545934,429034.64659863396,428757.63333586417,277.0132627698539,938130.47399909352,937595.65709111001,534.81690798346335]
["Q 3","n/a","both",3,1,15258.779999999999,0,15258.779999999999,1092.0663797976836,1091.8987531348516,451574.4074529474,451509.27944708167,10674.477628187844,10673.097182046824,24443.102655266885,24440.566262378616,30220.791204070487,30216.109789828399,4.6814142420802733,12173075.546999969,12171244.219482809,1831.3275171613409,276033.08740087959,275993.26111221116,39.826288668451767,584904.82809671748,584825.20971800841,79.618378709208315,29861.194490648217,29857.560930524771,3.6335601234551724,12200942.427719731,12199504.79752614,1437.6301935900738,283774.57718290249,283742.89894627238,31.678236630204651,635199.57101489021,635135.76074633258,63.81026855760399]
["Q 4","n/a","both",4,1,15163.36,0,15163.36,916.30330104969346,916.27785041564812,383377.66754998674,383367.55097969749,9240.1629741408033,9239.9408066135384,21916.51203150897,21916.080359690604,25100.030371578716,25099.328305035662,0.70206654305295357,10162905.21186066,10162627.629971746,277.58188891255986,232056.85511751665,232050.72986385808,6.1252536585884343,495284.80633618933,495272.31126722507,12.495068964297928,26835.592564831521,26835.004076548837,0.58848828268699194,11014465.349567214,11014230.205621395,235.14394581819943,258060.42829423692,258055.17147255031,5.256821686591536,585157.33162259706,585146.5249448336,10.806677763482071]
["Q 5","n/a","both",5,1,20653.620000000003,0,20653.620000000003,970.78310829464453,970.77232879864346,412076.85266782099,412072.44339825795,10185.784982311741,10185.683445112762,25379.507434467385,25379.293942807381,26513.109815380107,26512.813826811311,0.2959885687927386,10799064.979921961,10798946.566391312,118.41353065262115,248452.33831745383,248449.68567749771,2.6526399561217886,532386.56673007098,532381.05798181531,5.5087482557567,33467.411876334059,33467.119609166773,0.29226716728405933,13809223.282125814,13809105.128665354,118.15346046051309,326437.31280279951,326434.62296215171,2.6898406478644006,752825.07116328436,752819.38261412177,5.6885491625928353]
["Males, by SIMD"]
["Males",null,null,null,null,{"$f":"SUM(F12:F16)","v":54064.98},{"$f":"SUM(G12:G16)","v":0},54064.98,5043.1957714177433,5020.78686027206,2040450.9391800379,2032688.9437486422,46807.525956213227,46652.182588550313,102513.51198316211,102267.58399240643,155680.35529249892,154981.35902092874,698.99627157018017,61983749.932221651,61722101.536338948,261648.39588269254,1382074.4227378343,1376740.0126272752,5334.4101105590717,2848181.0515497769,2838576.2956990302,9604.7558507472295,114534.88886191895,114179.64494982186,355.24391209710456,46595817.768242843,46461776.893085741,134040.87515711164,1077613.6421073778,1074856.0467190293,2757.5953883484926,2394744.4134717006,2389758.9729876644,4985.4404840365596]
["Q 1","n/a","male",1,1,{"$f":"F86","v":19618.420000000006},{"$f":"G86","v":0},{"$f":"H86","v":19618.420000000006},{"$f":"I86","v":2640.2593029811565},{"$f":"J86","v":2618.7658959371965},1045364.2376477942,1037952.6180153626,23179.070195520369,23031.000400772034,47730.471326641869,47497.448824228704,81192.282948126274,80521.949141897014,670.33380622926688,31935739.356984306,31685176.983221255,250562.37376304093,699469.39996941353,694371.48730458634,5097.912664827064,1402840.2266311187,1393690.6232949356,9149.6033361835343,51662.623502686285,51324.573118500361,338.05038418592483,20732211.90462799,20604893.526948005,127318.37767999162,469232.41068335593,466620.09571724868,2612.3149661072771,1003316.2564981473,998612.71634927357,4703.5401488738898]
["Q 2","n/a","male",2,1,{"$f":"F129","v":9671.159999999998},{"$f":"G129","v":0},{"$f":"H129","v":9671.159999999998},{"$f":"I129","v":898.4673259016065},897.65423451107119,366710.22000917542,366400.02708764165,8495.5424975769129,8489.1375519177036,18765.654082296729,18754.406775154195,27854.3552072497,27828.920391474636,25.434815775065811,11144630.378183182,11134812.90159888,9817.4765843016248,250075.87809680466,249867.10257986886,208.77551693578408,520092.66401215416,519692.88464734447,399.77936480958772,21013.299730304294,20998.188776200543,15.110954103755866,8571997.1939489804,8566102.4142844137,5894.7796645681337,198832.99048877019,198706.06452695376,126.92596181640556,442745.05810734938,442500.34855764988,244.70954969951754]
["Q 3","n/a","male",3,1,{"$f":"F172","v":7399.579999999999},{"$f":"G172","v":0},{"$f":"H172","v":7399.579999999999},546.30299985776367,546.21892079689781,225571.99807681545,225539.18907380608,5328.635495918209,5327.9324979848125,12231.401424359556,12230.078890224815,17145.137125005956,17142.479711526154,2.657413479797885,6917962.8648612695,6916920.8590327566,1042.005828513541,157335.46070283299,157312.76007803949,22.700624793508354,334912.05001457542,334866.87883984327,45.171174732253405,13741.480664436023,13739.807905644881,1.6727587911474622,5645322.221869899,5644659.427889986,662.79397991174119,132502.27453536319,132487.64581581624,14.628719546965954,301881.48497402354,301852.05102277745,29.433951246153242]
["Q 4","n/a","male",4,1,{"$f":"F215","v":7355.44},{"$f":"G215","v":0},{"$f":"H215","v":7355.44},459.81979145861249,459.80699426597812,192137.75794136661,192132.64658053228,4627.9370717868005,4627.8235856262309,10997.819820599292,10997.594517597192,14329.905017753426,14329.503990841027,0.40102691240043065,5811574.8222553805,5811415.9592416352,158.86301374457389,133065.2015887069,133061.69409084436,3.5074978625375905,285004.70849137841,284997.61854439834,7.0899469800935435,12445.893619094686,12445.620631859512,0.27298723517509771,5139847.7822814202,5139738.3600583067,109.42222311489968,121652.71607784796,121650.25993449296,2.4561433549912408,281220.96201296733,281215.90364207339,5.0583708939760754]
["Q 5","n/a","male",5,1,{"$f":"F258","v":10020.379999999999},{"$f":"G258","v":0},{"$f":"H258","v":10020.379999999999},498.3463512186043,498.34081476091586,210666.7255048863,210664.46299129963,5176.3406954109414,5176.2885522495362,12788.165329264666,12788.054985201543,15158.674994363555,15158.505785189904,0.16920917364912391,6173842.5099375118,6173774.8332444215,67.676693091864308,142128.48238007625,142126.96857393609,1.5138061401766976,305331.40240055037,305328.29037250864,3.1120280417597144,15671.591345397674,15671.454517616572,0.13682778110125327,6506438.6655145511,6506383.1639050264,55.50160952524493,155393.25032204046,155391.98072451763,1.2695975228530187,365580.65187921317,365577.95341589017,2.698463323023816]
["Females, by SIMD"]
["Females",null,null,null,null,{"$f":"SUM(F19:F23)","v":58412.619999999995},{"$f":"SUM(G19:G23)","v":0},58412.619999999995,5428.501172261741,5403.3950892386874,2176938.3369520125,2168227.467019184,49416.076720866331,49256.242123893426,106785.04813852,106546.20236372766,{"$f":"SUM(Q19:Q23)","v":126386.82073525788},125797.43528846776,589.38544679009942,49962454.083785549,49744413.902922325,218040.18086323634,1104108.2659358326,1099695.3692944157,4412.8966414166271,2247268.8931008214,2239289.9836681313,7978.9094326906798,139350.93131168015,138898.36065029516,452.57066138500556,56024827.19836466,55854950.047421694,169877.15094295962,1272543.9999177991,1269031.6780189357,3512.3218988635954,2738036.151586114,2731493.7842586702,6542.3673274439188]
["Q 1","n/a","female",1,1,{"$f":"F107","v":21929.699999999993},{"$f":"G107","v":0},{"$f":"H107","v":21929.699999999993},{"$f":"I107","v":2994.5327985932954},2970.3919913436662,1166862.9825026733,{"$f":"L107","v":1158516.1804688142},25413.456939104763,25260.953969546241,51365.766036714267,51139.128982722112,68797.4687410232,68230.951667054265,566.51707396894244,26829787.98448199,26620515.348318405,209272.63616359048,582495.00723009149,578267.41726189933,4227.58996819194,1156920.6907686351,1149297.8584930093,7622.8322756261423,66030.864198864219,65598.713329576465,432.150869287766,26193068.230528921,26031148.36702425,161919.86350466491,583618.26646324806,580277.30230387766,3340.9641593702963,1218151.8607598022,1211942.715500663,6209.1452591394482]
["Q 2","n/a","female",2,1,{"$f":"F150","v":10182.56},{"$f":"G150","v":0},{"$f":"H150","v":10182.56},959.2847270614036,958.42089536967001,391422.90830165218,391098.31137097062,9035.1074602371282,9028.6113564346506,19697.546554786,19686.86120915251,22389.1377403283,22368.721187295225,20.416553033078372,8901000.5575751327,8893191.7902768608,7808.7672982693584,197600.12254150707,197435.6981217693,164.42441973774771,403020.16207571269,402706.33396482334,313.82811088938126,25014.833809930518,24996.84575959928,17.988050331237162,10098736.578088852,10091742.500437872,6994.0776509778007,230201.65610986378,230051.56880891038,150.08730095344833,495385.41589174408,495095.30853346013,290.10735828394581]
["Q 3","n/a","female",3,1,{"$f":"F193","v":7859.1999999999989},{"$f":"G193","v":0},{"$f":"H193","v":7859.1999999999989},545.7633799399199,545.67983233795383,226002.40937613195,225970.0903732756,5345.8421322696349,5345.1646840620115,12211.701230907331,12210.487372153801,13075.65407906453,13073.630078302247,2.0240007622823883,5255112.6821387,5254323.3604500536,789.32168864779987,118697.62669804657,118680.50103417164,17.125663874943413,249992.77808214209,249958.33087816511,34.44720397695491,16119.713826212195,16117.753024879888,1.9608013323077103,6555620.2058498319,6554845.3696361547,774.83621367833257,151272.30264753933,151255.25313045614,17.049517083238698,333318.08604086668,333283.70972355519,34.376317311450748]
["Q 4","n/a","female",4,1,{"$f":"F236","v":7807.920000000001},{"$f":"G236","v":0},{"$f":"H236","v":7807.920000000001},456.48350959108097,456.47085614967,191239.90960862016,191234.90439916524,4612.2259023540028,4612.1172209873075,10918.692210909678,10918.485842093411,10770.125353825288,10769.824314194637,0.30103963065252293,4351330.3896052791,4351211.6707301112,118.71887516798597,98991.653528809766,98989.035773013718,2.6177557960508437,210280.09784481092,210274.6927228267,5.4051219842043849,14389.698945736835,14389.383444689325,0.31550104751189423,5874617.5672857938,5874491.8455630895,125.72172270329975,136407.71221638896,136404.91153805735,2.8006783316002952,303936.36960962968,303930.62130276021,5.7483068695059956]
["Q 5","n/a","female",5,1,{"$f":"F279","v":10633.240000000003},{"$f":"G279","v":0},{"$f":"H279","v":10633.240000000003},472.43675707604024,472.43151403772754,201410.12716293472,201407.98040695835,5009.4442869007999,5009.3948928632253,12591.342105202721,12591.238957605836,11354.434821016552,11354.308041621405,0.12677939514361469,4625222.4699844494,4625171.7331468891,50.73683756075684,106323.85593737758,106322.71710356163,1.138833815945091,227055.1643295206,227052.76760930667,2.3967202139969856,17795.820530936384,17795.665091550203,0.15543938618280606,7302784.6166112628,7302721.9647603277,62.651850935268158,171044.06248075902,171042.64223763408,1.4202431250113818,387244.41928407113,387241.42919823161,2.9900858395690193]
["age/sex breakdown: All"]
["Male <1",0.5,"male","all",1,{"$f":"F66+F109+F152+F195+F238","v":663.58},{"$f":"G66+G109+G152+G195+G238","v":0},{"$f":"H66+H109+H152+H195+H238","v":663.58},{"$f":"I66+I109+I152+I195+I238","v":1.3009490044600336},{"$f":"J66+J109+J152+J195+J238","v":1.2941889108193882},{"$f":"K66+K109+K152+K195+K238","v":231.92881435273762},566.07459526246646,14.941573995737139,{"$f":"N66+N109+N152+N195+N238","v":14.864059812192295},43.827637294988513,43.601053871627656,128.79395144154336,128.12470217111945,0.66924927042388305,55439.078672973912,55151.151376741189,287.92729623272771,1413.6860328850203,1406.3518822015371,7.3341506834832728,3869.7201152299631,3849.7105238910131,20.009591338950344,287.8007053390171,286.76426385661193,1.0364414824051451,121664.91083306573,121227.04430346818,437.86652959757157,3007.9987424748756,2997.187246882364,10.811495592510937,7725.7381240463083,7698.0786273599169,27.659496686389957]
["Male 1-4",2.5,"male","all",1,2513.7000000000003,{"$f":"G67+G110+G153+G196+G239","v":0},2513.7000000000003,5.6035992578778613,5.5747569155219212,{"$f":"K67+K110+K153+K196+K239","v":2450.8573721372077},2438.2502203853269,64.347110681536606,64.016535899242058,188.67900246896005,187.7135866317827,543.54912801415253,540.75142080562637,2.7977072085261057,233878.95425482272,232675.88029306868,1203.0739617540603,5959.4779754143592,5928.8609364772274,30.617038937131667,16282.191943602411,16198.862732194215,83.329211408200536,1157.4143187686714,1153.3122260999269,4.1020926687444046,489261.7746550116,487529.02340957307,1732.7512454385651,12095.125192223093,12052.354705619822,42.770486603270683,31055.8491531045,30946.530342823953,109.31881028054613]
["Male 5-9",7.5,"male","all",1,2915.54,{"$f":"G68+G111+G154+G197+G240","v":0},2915.54,9.6800427083147067,9.6326469376296835,{"$f":"K68+K111+K154+K197+K240","v":4232.8549877438627},4212.1496977170054,111.08218483506042,110.53991222378212,325.24740874694044,323.6696346844036,880.88388645663827,876.57087132430138,4.313015132336929,378533.97653214872,376682.33657657506,1851.6399555736825,9621.4534801587452,9574.4816036448738,46.971876513871166,26118.134616920121,25991.389563528948,126.74505339117195,1620.4625001207808,1615.0766826394492,5.385817481331685,684868.3160588867,682594.70424591668,2273.6118129701645,16923.99973566167,16867.949491701725,56.050243959944282,43402.872140736385,43260.150707533743,142.72143320263785]
["Male 10-14",12.5,"male","all",1,3175.18,{"$f":"G69+G112+G155+G198+G241","v":0},3175.18,13.884305389867711,13.81799603640094,{"$f":"K69+K112+K155+K198+K241","v":6070.0135151497361},6041.0611981587663,159.22442263294613,158.46701859592699,465.56751264795139,463.37160819665962,1207.9345689184909,1202.1656551668821,5.7689137516088493,518547.58719419572,516074.22589740815,2473.3612967875524,13154.592152649488,13092.013080124329,62.579072525155652,35526.849443252024,35359.196442614339,167.65300063768836,2012.4618110369533,2005.9737057641587,6.4881052727944848,850383.53202064498,847646.18997840933,2737.3420422357449,21006.067842553242,20938.666393582873,67.401448970373622,53810.178389954533,53639.169433649622,171.00895630491232]
["Male 15-19",17.5,"male","all",1,3679.74,{"$f":"G70+G113+G156+G199+G242","v":0},3679.74,25.069471939307284,24.950172971479155,{"$f":"K70+K113+K156+K199+K242","v":10954.864682341151},10902.836236684745,287.07670187274448,285.71894844313215,836.82115616786018,832.91478713341417,2030.6272270838899,2020.9640106898116,9.6632163940783471,870124.39069951675,865991.78548346122,4132.6052160554536,21995.535058809135,21891.491856574041,104.04320223509262,58847.718735241986,58572.773450578767,274.94528466321844,2891.5688885389986,2882.2417473710148,9.3271411679837684,1221339.3289575295,1217409.1577065254,3930.1712510040525,30143.107760263367,30046.586134596138,96.521625667228818,77015.755588295855,76772.762166871587,242.99342142426849]
["Male 20-24",22.5,"male","all",1,4443.92,{"$f":"G71+G114+G157+G200+G243","v":0},4443.92,41.030861611850604,40.837640189905009,{"$f":"K71+K114+K157+K200+K243","v":17921.606175912631},17837.431760479183,469.19798655576898,467.00644968364929,1363.6687287314264,1357.4093184491653,3159.3763441124961,3144.4982946226855,14.878049489809996,1351799.7268563188,1345450.3984175397,6349.3284387787717,34073.753520841725,33914.572353564989,159.18116727672987,90461.153813794735,90045.415731925677,415.73808186905535,4050.9175502081716,4037.9032738891037,13.014276319068244,1710317.3688305663,1704840.1230886558,5477.2457419104176,42175.516683828733,42041.33144943451,134.18523439422643,107487.09550056609,107151.77288795231,335.32261261379972]
["Male 25-29",27.5,"male","all",1,4384.26,{"$f":"G72+G115+G158+G201+G244","v":0},4384.26,63.427752291844719,63.131318552813234,{"$f":"K72+K115+K158+K201+K244","v":27677.169059057498},27548.339602712709,723.11786136697788,719.78056152313093,2088.2988954045236,2078.9162451633988,4503.3704127209749,4482.32361724974,21.046795471235441,1921605.974614138,1912661.0157752528,8944.958838885228,48178.560623678452,47956.141101965106,222.4195217133456,126062.75842937909,125495.17460245267,567.5838269264259,4973.4761260129262,4957.5126027980969,15.963523214830559,2097947.8937299671,2091246.823641811,6701.0700881563534,51639.549563838838,51476.255999727036,163.29356411181197,130892.64480066829,130491.06575604196,401.57904462631996]
["Male 30-34",32.5,"male","all",1,3661.9599999999996,{"$f":"G73+G116+G159+G202+G245","v":0},3661.9599999999996,70.987407559018095,70.656832064820151,{"$f":"K73+K116+K159+K202+K245","v":30947.183245330642},30803.842440930937,806.98028784188784,803.28486106518085,2316.490281628242,2306.2558217407632,4756.1563064542124,4734.0077483429495,22.14855811126273,2024875.2045233981,2015495.7837744176,9379.4207489807013,50541.812193542421,50310.263818880274,231.54837466213985,130637.02348265813,130058.10998576415,578.91349689397975,4787.5909640950767,4772.2531832596842,15.33778083539255,2017829.1115418258,2011406.6054590372,6422.5060827884299,49581.638065194675,49425.926600747975,155.71146444671467,125035.14331052532,124658.01598389386,377.12732663146744]
["Male 35-39",37.5,"male","all",1,3664,{"$f":"G74+G117+G160+G203+G246","v":0},3664,106.35497282709797,105.87402608338192,{"$f":"K74+K117+K160+K203+K246","v":46277.65999310866},46070.14374315404,1201.9366234194747,1196.6421417360498,3408.2186302771356,3394.026066244669,6487.6533424529762,6458.3155910862952,29.337751366680379,2750354.1735671703,2738019.7334443228,12334.44012284762,68078.05848617389,67777.94991019342,300.10857598046277,171951.45986428438,171231.54280946433,719.91705482004545,5799.0930913759812,5781.2520569013523,17.841034474627236,2439990.3070697477,2432559.5490118037,7430.7580579441274,59746.999441863161,59568.821773817224,178.17766804593884,149141.18293436232,148723.73926427503,417.44367008726658]
["Male 40-44",42.5,"male","all",1,4009.8599999999997,{"$f":"G75+G118+G161+G204+G247","v":0},4009.8599999999997,151.63657997731625,150.96399340930034,{"$f":"K75+K118+K161+K204+K247","v":65863.89763517605},65575.058259856596,1704.309376720106,1697.0129617617279,4778.499223364106,4759.5396321330763,8643.2850587070243,8604.9476243301197,38.337434376905549,3651034.2392635797,3635020.3251801436,16013.914083436364,89730.485900820262,89345.909850345721,384.5760504745449,222226.84313593918,221337.98561578081,888.85752015837716,7190.1242804930489,7168.6264247670051,21.497855726044122,3020523.1830891878,3011615.0849672775,8908.0981219109381,73726.30549633209,73514.945770441016,211.35972589106314,182333.14194400201,181853.4517650191,479.69017898293896]
["Male 45-49",47.5,"male","all",1,4117.8200000000006,{"$f":"G76+G119+G162+G205+G248","v":0},4117.8200000000006,237.25944305135585,236.21812720625937,{"$f":"K76+K119+K162+K205+K248","v":102652.33246145908},102209.67741222892,2634.7327063379116,2623.7885070916013,7208.4561256890165,7181.8677424462921,12100.231595619149,12047.124487519226,53.107108099919969,5074739.999488594,5052850.4191941684,21889.580294425425,122959.66883052289,122447.91058143471,511.75824908816685,292832.09973528143,291735.72856484988,1096.3711704315247,9037.6542383688866,9011.0016199679667,26.652618400918755,3783407.5170322941,3772484.9187665824,10922.598265711858,91695.468075462704,91442.161990718392,253.30608474431938,222202.79894423118,221666.23331675422,536.56562747695716]
["Male 50-54",52.5,"male","all",1,3686.1600000000003,{"$f":"G77+G120+G163+G206+G249","v":0},3686.1600000000003,282.35037844705761,281.10477642290391,{"$f":"K77+K120+K163+K206+K249","v":121702.88645939907},121178.51647040516,3099.4976995096904,3086.7964473362117,8287.0444365622807,8258.1055161503464,13270.467787011707,13211.924491876483,58.543295135224753,5530087.5751529671,5506250.4005892994,23837.174563668435,132310.01347391788,131766.24315287196,543.77032104593127,304434.60391268838,303346.74090130127,1087.8630113870458,9280.4740321617282,9252.9629715913234,27.511060570406698,3872032.9203381334,3860876.9010468712,11156.019291262317,93210.994253864104,92957.863672333391,253.13058153070415,221601.9208892842,221100.10253881715,501.81835046705964]
["Male 55-59",57.5,"male","all",1,3165.88,{"$f":"G78+G121+G164+G207+G250","v":0},3165.88,373.23341901284232,371.58724300930254,{"$f":"K78+K121+K164+K207+K250","v":159578.11300073532},158899.53368440957,3997.138535568999,3981.4150591097696,10187.039026873183,10155.851836669162,15302.570179526538,15235.076963381403,67.493216145135193,6294696.307980801,6267908.5320950728,26787.775885727955,146807.54273974855,146226.91911627672,580.6236234718217,315569.56179138046,314558.03997397196,1011.5218174084948,9821.0091287124415,9791.8015714967514,29.207557215693441,4067879.8337377775,4056302.8334111902,11577.000326587178,96515.50845983719,96264.967261364,250.54119847319453,220482.60380829219,220052.81906835677,429.78473993539228]
["Male 60-64",62.5,"male","all",1,2914.4399999999996,{"$f":"G79+G122+G165+G208+G251","v":0},2914.4399999999996,459.08747782590081,457.06504586771672,{"$f":"K79+K122+K165+K208+K251","v":194774.97808884861},193957.83006977552,4803.0181549003973,4784.8665593205096,11718.854971543511,11687.297940255321,16986.236679558329,16911.406697105518,74.829982452810782,6905200.2436117474,6876197.0245321067,29003.219079640578,157379.92529945751,156780.18438474819,599.74091470934218,318812.27883301565,317886.51245742838,925.76637558733637,10411.272765931284,10380.2027912513,31.069974679983034,4282497.4097743817,4270446.2682784097,12051.141495972406,100224.69187613402,99975.414016712108,249.27785942189075,220774.68766255415,220402.87904564303,371.80861691113387]
["Male 65-69",67.5,"male","all",1,2238.14,{"$f":"G80+G123+G166+G209+G252","v":0},2238.14,555.15828838235382,552.61574742951927,{"$f":"K80+K123+K166+K209+K252","v":231472.95676126634},230489.30334240364,5513.8375536489339,5493.8972985798782,12277.456639475249,12251.392217354114,17209.906939852968,17131.088170315095,78.818769537870367,6820707.6694838312,6791659.6094423784,29048.060041453806,148069.99089621633,147525.59300179299,544.39789442335132,266530.95624915825,265861.11411702941,669.8421321288115,10002.800562645534,9971.2191359818335,31.58142666370054,4050103.0469344957,4038414.7547061928,11688.292228302686,91935.659933291579,91716.568695280323,219.09123801124588,187540.90318256273,187301.92415456037,238.97902800240627]
["Male 70-74",72.5,"male","all",1,1899.34,{"$f":"G81+G124+G167+G210+G253","v":0},1899.34,{"$f":"I81+I124+I167+I210+I253","v":632.63984736742805},629.71550020257428,{"$f":"K81+K124+K167+K210+K253","v":259519.76631793557},258434.22936758748,5989.925436108133,5969.7549086142608,12346.330507090301,12326.219148356195,17081.275878920558,17002.318505469506,78.957373451053172,6612585.9313480463,6584831.3503279835,27754.581020064768,137385.26288392025,136909.8421821415,475.4207017787212,224264.86718608439,223770.04757645266,494.81960963169331,9819.2811744867777,9787.6351908249471,31.645983661830201,3917457.8477176651,3906255.7507211189,11202.096996546257,86479.168516219186,86288.120446833331,191.04806938584807,165313.5010767022,165161.48311584065,152.01796086157992]
["Male 75-79",77.5,"male","all",1,1452.3400000000001,{"$f":"G82+G125+G168+G211+G254","v":0},1452.3400000000001,738.22374720847199,734.8712954412739,{"$f":"K82+K125+K168+K211+K254","v":292805.55253623193},291667.5448620696,6348.2219072278613,6330.7017048711496,11424.533294722043,11414.768826451753,15502.698691377911,15432.297204266752,70.401487111158076,5712182.120949015,5689819.3096838286,22362.81126518792,108583.54572688621,108264.20073355325,319.34499333295571,148977.28424373016,148702.53868429837,274.74555943180349,9249.450021941353,9219.7056602990633,29.744361642288823,3579198.7862207331,3569631.3085811469,9567.4776395863737,74766.068419698975,74633.349065018061,132.71935468090851,127482.57576431546,127434.99711661894,47.578647696533153]
["Male 80-84",82.5,"male","all",1,{"$f":"F83+F126+F169+F212+F255","v":895.26},0,895.26,596.41987492904195,593.81643469835763,{"$f":"K83+K126+K169+K212+K255","v":229497.5717920204},228685.70762124655,4717.7208758132601,4707.2601692289863,7693.9707413711521,7690.5862803071032,10139.137873793714,10094.879389872078,44.258483921635388,3565103.8714654888,3552329.4635785627,12774.4078869269,62532.439505608374,62375.916389163831,156.52311644454585,74987.608580207438,74852.533374680817,135.07520552662936,6521.7362117641551,6501.3375915042225,20.398620259932841,2455274.5164209646,2449278.2570847562,5996.2593362086336,48931.09613336029,48862.906892086859,68.189241273425978,76732.049302975283,76724.835810361968,7.2134926133276167]
["Male 85-89",87.5,"male","all",1,431.38,0,431.38,432.40143285290003,430.61958623497389,{"$f":"K84+K127+K170+K213+K256","v":156163.40972182801},155700.92503561106,2897.6754364009907,2893.6155305019852,4052.1487047792803,4051.7291726264357,4756.4157613819007,4736.8154485847135,19.600312797187087,1497588.6526635643,1492994.4784350861,4594.174228478194,21916.428213443029,21871.599953215722,44.828260227302508,20285.631979424776,20234.843092260693,50.788887164078005,3863.1377344536636,3851.3611133560416,11.776621097620932,1372463.0090031268,1369605.5895479361,2857.4194551906548,24956.457916409185,24935.520969718295,20.936946690884724,34226.201186955674,34230.09680401178,-3.8956170561050385]
["Male 90+",95,"female","all",1,152.47999999999999,0,152.47999999999999,247.44591977343552,246.43953168710624,{"$f":"K85+K128+K171+K214+K257","v":79655.336560003503},79470.488127563061,1263.543520774813,1262.7529531519476,1502.359058323967,1502.3475575407715,989.78367909374208,985.75812674842496,4.0255523453171946,214664.25389932885,214038.31224154247,625.94165778637034,1382.189743139739,1373.5667381047647,8.623005034974625,-497.69454149590797,-511.96450143860721,14.269959942699273,1757.1627554635227,1751.5011362020157,5.6616192615070133,561377.15427683806,560406.00512905105,971.14914778691309,8852.2199988668344,8849.1481424138456,3.0718564529875039,10487.569767565976,10488.865081278247,-1.295313712270854]
["Female <1",0.5,"female","all",1,{"$f":"F87+F130+F173+F216+F259","v":637.62},{"$f":"G86+G129+G172+G215+G258","v":0},{"$f":"H87+H130+H173+H216+H259","v":637.62},0.43286955429609136,0.43060102494364089,{"$f":"K87+K130+K173+K216+K259","v":192.25141681087436},191.24407500153944,5.1891736398520347,5.1619948645827849,16.207300834153905,16.122529479888222,42.854085875313046,42.629501469420447,0.22458440589259654,18728.228323150361,18630.097675123743,98.130648026618701,490.63939012443905,488.06959555119965,2.5697945732394629,1426.5786250362021,1419.116477727709,7.4621473084935985,479.95472517647607,478.21009362207178,1.744631554404215,199765.67534953641,199039.68804755446,725.98730198191697,4807.8345127344201,4790.3698954841311,17.464617250288825,11660.148891802943,11617.852935074347,42.295956728598412]
["Female 1-4",2.5,"female","all",1,{"$f":"F88+F131+F174+F217+F260","v":2396.88},{"$f":"G87+G130+G173+G216+G259","v":0},{"$f":"H88+H131+H174+H217+H260","v":2396.88},1.8786799909457494,1.8690203901259159,{"$f":"K88+K131+K174+K217+K260","v":834.36450829996772},830.07539831389056,22.519754319283461,22.40404547389894,70.324368996823139,69.963620418876772,182.23195912173767,181.29497784221383,0.93698127952385057,79611.149676120694,79201.902154949392,409.24752117129992,2084.2188882954242,2073.509825302564,10.709062992860567,6049.4044060716806,6018.3697130738256,31.034692997855416,1872.5352752721587,1865.9102707945435,6.625004477614965,779367.69032045256,776611.01614340825,2756.6741770442168,18756.592521696442,18690.285240519006,66.307281177439336,45483.685451755817,45323.164013783397,160.52143797241388]
["Female 5-9",7.5,"female","all",1,2803.36,{"$f":"G88+G131+G174+G217+G260","v":0},{"$f":"H89+H132+H175+H218+H261","v":2803.36},3.4776370926725817,3.4605793819059238,{"$f":"K89+K132+K175+K218+K261","v":1544.3548941171869},1536.7826225114236,41.674159611485472,41.469985559747137,130.05044414003243,129.41499803751461,316.46497543320487,314.91272375343908,1.5522516797658596,138089.08917978161,137412.00938247124,677.07979731039813,3606.9470710476353,3589.2751915182675,17.671879529367118,10407.217296841274,10356.358534757444,50.858762083831493,2491.1233400753945,2482.8230078945348,8.3003321808604085,1036746.3796261906,1033293.4673434305,3452.9122827600804,24946.577294743125,24863.566651189776,83.010643553347563,60462.571643276024,60261.939129086873,200.63251418915024]
["Female 10-14",12.5,"female","all",1,3001,{"$f":"G89+G132+G175+G218+G261","v":0},{"$f":"H90+H133+H176+H219+H262","v":3001},5.1040688892874266,5.0795056708544708,{"$f":"K90+K133+K176+K219+K262","v":2266.4133202895564},2255.5117691402011,61.146353852730542,60.852563188227478,190.6855469988808,189.77278524085801,444.0539933680061,441.91699336433896,2.1370000036671613,193586.73787770019,192655.57243009476,931.16544760539546,5047.7316437446043,5023.477985445621,24.253658298984703,14497.342664401051,14427.932583898797,69.410080502251731,2922.3518189821043,2912.8442558260476,9.507563156056392,1216114.7081863959,1212160.5843043383,3954.1238820575818,29257.657445759934,29162.647010988949,95.010434770987558,70874.211480249811,70644.947592310564,229.26388793925071]
["Female 15-19",17.5,"female","all",1,3502.2599999999998,{"$f":"G90+G133+G176+G219+G262","v":0},3502.2599999999998,9.7868712572149192,9.7405152261150558,{"$f":"K91+K134+K177+K220+K263","v":4344.8354988192241},4324.2729501579479,117.16573615004185,116.61223700597576,364.80409469281261,363.09126106027907,792.73657183440821,788.9817333153195,3.7548385190887643,345047.86215635517,343414.86066560098,1633.0014907542536,8969.3570088142951,8926.9828032259338,42.374205588360383,25548.861485504473,25428.857664372317,120.00382113215755,3966.7146996222968,3953.9817058773306,12.732993744966734,1650404.8738755616,1645112.3317607965,5292.5421147653251,39690.236550653608,39563.217155032951,127.01939562065581,96028.844968817575,95723.465667348923,305.37930146866711]
["Female 20-24",22.5,"female","all",1,4366.32,{"$f":"G91+G134+G177+G220+G263","v":0},4366.32,17.268935143126175,17.186899810889606,{"$f":"K92+K135+K178+K221+K264","v":7664.7757427095776},7628.4060547037752,206.5937963856048,205.61595032862726,642.20098161541921,639.18693806543513,1329.7080060207156,1323.3912854384996,6.3167205822157655,578045.27258007298,575302.38970823225,2742.8828718407094,14989.175714432653,14918.223517545794,70.95219688685836,42412.00518130757,42212.839720921518,199.16546038604019,5521.2476630042374,5503.3225387368957,17.925124267341175,2296734.6343200421,2289288.189194642,7446.4451254000305,55210.934401047263,55032.43369383613,178.50070721114025,133410.82399400472,132983.24483915823,427.57915484646401]
["Female 25-29",27.5,"female","all",1,4263.6799999999994,{"$f":"G92+G135+G178+G221+G264","v":0},4263.6799999999994,28.328249201847836,28.190043029130251,{"$f":"K93+K136+K179+K222+K265","v":12567.0078280076},12505.80960094542,338.34825355987527,336.70723637317968,1047.8139262996335,1042.8010562118668,2011.3056933311964,2001.4930550682477,9.8126382629482691,872354.19281987508,868105.95228459639,4248.2405352787537,22519.260175806943,22410.024398094218,109.23577771273017,62929.894312081706,62628.523970043709,301.37034203800158,6356.5091479455268,6335.0820790172811,21.427068928245035,2642974.7889018459,2634085.0609917706,8889.7279100753367,63473.540017892927,63261.015146004924,212.52487188800478,152926.10696410068,152421.25116848736,504.85579561329723]
["Female 30-34",32.5,"female","all",1,3634.9199999999996,{"$f":"G93+G136+G179+G222+G265","v":0},3634.9199999999996,32.986609525566351,32.829115605490017,{"$f":"K94+K137+K180+K223+K266","v":14626.518893725708},14556.864381211928,393.38324189137887,391.52042660935638,1213.9545437961692,1208.3149564408382,2210.1028382129448,2199.5507455678312,10.552092645114129,956817.25354485691,952260.54711889056,4556.7064259664767,24609.625288542487,24493.065008409743,116.56028013274317,68071.2049663051,67754.487546650329,316.7174196547694,5925.3653488417549,5905.9357958681012,19.429552973653017,2462663.929474514,2454613.3161616325,8050.6133128813526,59091.039808781832,58899.091756342466,191.9480524393739,141981.98286108804,141529.78068992839,452.20217115962805]
["Female 35-39",37.5,"female","all",1,3932.98,{"$f":"G94+G137+G180+G223+G266","v":0},3932.98,56.841645071239824,56.574522164640435,{"$f":"K95+K138+K181+K224+K267","v":25176.747433537403},25058.93308742435,675.53254501141623,672.40077559843382,2068.2182534222175,2058.9287822856222,3467.3403493456299,3451.0458520430666,16.294497302562661,1495938.8856806611,1488938.2500364403,7000.635644220587,38211.111319930882,38033.896016210652,177.21530372022426,103636.70254395825,103169.88090504365,466.82163891459641,7316.3739937040737,7292.9950815205366,23.378912183536158,3037902.9590842319,3028244.3406520304,9658.6184322009794,72750.32008481762,72521.438967458729,228.88111735889743,173751.7690940662,173222.67428229307,529.09481177311682]
["Female 40-44",42.5,"female","all",1,4494.46,{"$f":"G95+G138+G181+G224+G267","v":0},4494.46,88.775828121019288,88.362361798564649,{"$f":"K96+K139+K182+K225+K268","v":39279.059116966673},39097.201906038834,1051.4515577759157,1046.6465162745369,3194.1330984528558,3180.1682464836513,5060.2222028980996,5036.6546225181864,23.567580379914205,2176780.4693576712,2166701.3720051963,10079.097352474608,55274.708918334531,55021.960941828387,252.74797650614801,147390.39579797725,146743.16260748974,647.23319048748635,9144.7784663372768,9115.9831333295115,28.795333007763929,3793531.535039769,3781670.0384597848,11861.496579984494,90669.273814078144,90389.904867925507,279.36894615263373,215270.83774097252,214637.12767967445,633.71006129806483]
["Female 45-49",47.5,"female","all",1,4542.3999999999996,{"$f":"G96+G139+G182+G225+G268","v":0},4542.3999999999996,144.97800842885923,144.31353387559949,{"$f":"K97+K140+K183+K226+K269","v":63989.497922950388},63699.059783777717,1703.8451037139043,1696.2756442247053,5086.1136912001093,5065.1096521507288,7393.8784298718201,7359.990227655574,33.888202216246896,3162381.0177732795,3148025.1805623346,14355.837210944912,79369.110048806673,79016.121848925803,352.98819988086507,204580.3620029107,203728.27447884969,852.08752406098938,10647.225612335495,10614.344107743394,32.88150459210101,4407349.7698860038,4393894.8349637929,13454.934922210814,104875.21911176476,104562.68804905821,312.53106270655189,245700.29911279713,245021.11269804288,679.1864147542874]
["Female 50-54",52.5,"female","all",1,3959.2,{"$f":"G97+G140+G183+G226+G269","v":0},3959.2,173.83416050658184,173.04861297372483,{"$f":"K98+K141+K184+K227+K270","v":76541.219776424463},76199.997053999658,2027.4398557771181,2018.6677084289115,5949.8766549932316,5926.633786008525,8170.2055438093466,8133.2848097650667,36.920734044281176,3476675.0291704144,3461172.1575258886,15502.871644526138,86358.072532139136,85983.79873590458,374.27379623454908,215988.42356074438,215133.16784220689,855.25571853748988,10194.106809484074,10163.133337064675,30.973472419397467,4210886.1552413581,4198295.7556681614,12590.399573196599,99765.760051543606,99477.334197654782,288.42585388880616,230725.44785882041,230124.87786498986,600.56999383054426]
["Female 55-59",57.5,"female","all",1,3327.36,{"$f":"G98+G141+G184+G227+G270","v":0},3327.36,236.87595712211393,235.81783547472838,{"$f":"K99+K142+K185+K228+K271","v":103729.64770731801},103276.49892647828,2715.3774782283508,2704.0847239065529,7673.5304480899176,7646.5888988799543,9711.914242006671,9668.5312544638655,43.382987542806632,4089716.4300458524,4071842.0100038489,17874.420042003854,99444.151515098682,99029.227717772141,414.92379732653717,233872.70641745179,233028.07542585934,844.63099159243939,9893.5851384029083,9863.8765648653352,29.708573537573102,4067175.7899130704,4055280.1563682407,11895.633544829674,95419.162657713983,95155.107866901235,264.05479081275371,214441.58746255568,213942.64240451567,498.94505803997527]
["Female 60-64",62.5,"female","all",1,3125.7200000000003,{"$f":"G99+G142+G185+G228+G271","v":0},3125.7200000000003,310.81557959366108,309.4169086365207,{"$f":"K100+K143+K186+K229+K272","v":135349.49287879505},134758.91995354762,3501.0167586848975,3486.7490182372876,9531.7432898316656,9501.0843590833065,11500.17644496546,11448.425619551266,51.750825414192832,4795598.0826807925,4774658.3477616115,20939.734919180977,114312.22490044743,113843.9480133183,468.27688712912459,254089.14140108589,253232.08283878083,857.05856230506834,10307.465669558231,10276.105231194255,31.3604383639763,4216461.5535794729,4204091.6904558279,12369.863123646181,97936.350566540335,97670.277099747676,266.07346679268085,213935.4877278991,213479.09638161457,456.39134628456668]
["Female 65-69",67.5,"female","all",1,2624.9,{"$f":"G100+G143+G186+G229+G272","v":0},2624.9,438.22746624691888,436.14842234639246,{"$f":"K101+K144+K187+K230+K273","v":188331.20342089998},187481.2116338028,4737.7728657931175,4718.6393727321174,11868.992159072757,11836.586873140413,13585.051453654485,13520.601092738165,64.450360916320051,5544843.7315322338,5519782.7691711169,25060.962361116603,126587.18543222336,126070.45097055161,516.73446167173825,250155.80581585033,249392.54984088455,763.25597496577757,10215.741446473759,10182.392944640143,33.348501833614932,4130233.3755950509,4117521.4029821455,12711.972612905549,93710.325213001823,93455.854776776629,254.47043622519777,192103.07438890086,191752.90036715619,350.17402174463859]
["Female 70-74",72.5,"female","all",1,2505.88,{"$f":"G101+G144+G187+G230+G273","v":0},2505.88,590.80877017584112,587.94455906278813,{"$f":"K102+K145+K188+K231+K274","v":250571.02527857435},249437.08191652375,6133.5045086454866,6109.7155005163149,14227.259253379596,14195.462824401213,15951.836794747709,15874.503094695283,77.333700052428412,6377741.2478215648,6348812.7591819828,28928.488639581366,139761.4034109255,139209.40378133114,551.99962959432924,248821.17668303961,248136.9654230678,684.21125997180206,10902.241890026535,10865.365126692526,36.87676333400907,4355949.5894823847,4342362.4376942692,13587.151788115443,96565.054302110293,96311.900299930334,253.15400217998103,186627.0364283059,186347.25573840583,279.78068990006068]
["Female 75-79",77.5,"female","all",1,2207.48,{"$f":"G102+G145+G188+G231+G274","v":0},2207.48,851.04842198733763,846.94033167043074,{"$f":"K103+K146+K189+K232+K275","v":350649.20974816318},349137.3062864517,8100.4744874128282,8073.4402117373202,16228.925715041029,16207.760931962537,17872.016861734093,17785.746965079041,86.269896655049479,6829536.7450437872,6799939.0933556613,29597.651688127895,137182.2987032489,136703.81464919171,478.4840540571895,200379.94206923048,199916.06726047478,463.87480875569599,11195.260492436557,11156.94486526362,38.315627172938093,4358976.5658356454,4345903.0131572941,13073.552678351291,92017.535573329907,91810.659207792502,206.87636553740776,159115.76271748464,158976.7871139897,138.97560349492778]
["Female 80-84",82.5,"female","all",1,{"$f":"F104+F147+F190+F233+F276","v":1592.8999999999999},{"$f":"G103+G146+G189+G232+G275","v":0},1592.8999999999999,833.48954887007028,829.61528264214542,{"$f":"K104+K147+K190+K233+K276","v":334267.15672370588},332941.35301790194,7335.2121226995123,7314.9904131246813,13147.092433881673,13137.755618278115,14169.322330791196,14103.459804916471,65.86252587472336,5180989.2754757125,5160247.7480895733,20741.527386139554,95891.617486287505,95603.106284751339,288.5112015361774,119264.17073622276,118998.2404715342,265.93026468857897,8841.9783943895418,8812.6203877422977,29.358006647243428,3361271.6008094344,3351987.6174454242,9283.9833640104043,67961.417105267814,67836.626262061487,124.79084320633774,108066.50752328422,108015.69994595612,50.807577328097977]
["Female 85-89",87.5,"female","all",1,983.06000000000006,{"$f":"G104+G147+G190+G233+G276","v":0},983.06000000000006,823.03292804332523,819.33073934395611,{"$f":"K105+K148+K191+K234+K277","v":310696.4247536055},309622.69828671828,6127.5604550342468,6116.1435684640164,9117.0833487209038,9115.4594247838595,9053.3622084765775,9012.6381327835188,40.724075693060627,2967636.2844669279,2957100.2642773492,10536.020189578994,45208.33293199919,45095.171540737916,113.16139126126745,40682.340013152614,40548.584889861682,133.75512329092999,6315.6150461529014,6294.7419312395205,20.873114913381073,2274479.5090231453,2268914.3900121897,5565.1190109558811,42014.820727055579,41963.237185183098,51.583541872476417,57966.287648737445,57960.21634443455,6.0713043028899847]
["Female 90+",95,"female","all",1,510.24000000000007,{"$f":"G105+G148+G191+G234+G277","v":0},510.24000000000007,780.50893743981533,777.09569910974119,{"$f":"K106+K149+K192+K235+K278","v":254317.13008829189},253688.23831453308,4120.8685126792861,4118.1442312449608,5016.0385850601178,5015.9948213141888,3122.0357497592613,3108.3827964389648,13.65295332029666,682337.09857874445,680210.61953135743,2126.4790473869725,4191.0935555821834,4161.8404687988505,29.253086783332961,-2934.7828783513251,-2983.5545273677503,48.771649016424874,4840.7563334588604,4821.7481913625315,19.008142096329095,1525836.11482055,1522580.7156149636,3255.3992055864655,23624.348157265762,23614.022689047124,10.325468218632523,27503.67762719428,27507.747402419005,-4.0697752247201606]
["age/sex breakdown: Q1"]
["Male <1",0.5,"male",1,1,{"$f":"HLOOKUP('III Tool Overview'!$H$6,LookUpData_Pop!$B$1:$AV$269,LookUpData_Pop!BB67,FALSE)/50","v":288.38},{"$f":"'III Tool Overview'!$H$9/110","v":0},{"$f":"F66","v":288.38},{"$f":"IF('III Tool Overview'!$H$6=\"Orkney Health Board\",0,IF('III Tool Overview'!$H$6=\"Shetland Health Board\",0,IF('III Tool Overview'!$H$6=\"Western Isles Health Board\",0,IF('III Tool Overview'!$H$6=\"Orkney Islands Local Authority\",0,IF('III Tool Overview'!$H$6=\"Shetland Islands Local Authority\",0,IF('III Tool Overview'!$H$6=\"Eilean Siar Local Authority\",0,new_ci(2,B66,C66,D66,$C$1,G66,1,F66,F66,SIMDrateratios,RateRatios!$B$3)*10))))))","v":0.7785483515270375},{"$f":"IF('III Tool Overview'!$H$6=\"Orkney Health Board\",0,IF('III Tool Overview'!$H$6=\"Shetland Health Board\",0,IF('III Tool Overview'!$H$6=\"Western Isles Health Board\",0,IF('III Tool Overview'!$H$6=\"Orkney Islands Local Authority\",0,IF('III Tool Overview'!$H$6=\"Shetland Islands Local Authority\",0,IF('III Tool Overview'!$H$6=\"Eilean Siar Local Authority\",0,new_ci(2,B66,C66,D66,$C$1,G66+H66,1,H66,H66,SIMDrateratios,RateRatios!$B$3)*10))))))","v":0.77201048696211139},{"$f":"IF('III Tool Overview'!$H$6=\"Orkney Health Board\",0,IF('III Tool Overview'!$H$6=\"Shetland Health Board\",0,IF('III Tool Overview'!$H$6=\"Western Isles Health Board\",0,IF('III Tool Overview'!$H$6=\"Orkney Islands Local Authority\",0,IF('III Tool Overview'!$H$6=\"Shetland Islands Local Authority\",0,IF('III Tool Overview'!$H$6=\"Eilean Siar Local Authority\",0,new_ci(5,B66,C66,D66,$C$1,G66,1,F66,F66,SIMDrateratios,RateRatios!$B$3)*10))))))","v":3.4050613166689887},{"$f":"IF('III Tool Overview'!$H$6=\"Orkney Health Board\",0,IF('III Tool Overview'!$H$6=\"Shetland Health Board\",0,IF('III Tool Overview'!$H$6=\"Western Isles Health Board\",0,IF('III Tool Overview'!$H$6=\"Orkney Islands Local Authority\",0,IF('III Tool Overview'!$H$6=\"Shetland Islands Local Authority\",0,IF('III Tool Overview'!$H$6=\"Eilean Siar Local Authority\",0,new_ci(5,B66,C66,D66,$C$1,G66+H66,1,F66,F66,SIMDrateratios,RateRatios!$B$3)*1000))))))","v":337.64802133260804},{"$f":"IF('III Tool Overview'!$H$6=\"Orkney Health Board\",0,IF('III Tool Overview'!$H$6=\"Shetland Health Board\",0,IF('III Tool Overview'!$H$6=\"Western Isles Health Board\",0,IF('III Tool Overview'!$H$6=\"Orkney Islands Local Authority\",0,IF('III Tool Overview'!$H$6=\"Shetland Islands Local Authority\",0,IF('III Tool Overview'!$H$6=\"Eilean Siar Local Authority\",0,new_ci(10,B66,C66,D66,$C$1,G66,1,F66,F66,SIMDrateratios,RateRatios!$B$3)*10))))))","v":8.939462510725475},{"$f":"IF('III Tool Overview'!$H$6=\"Orkney Health Board\",0,IF('III Tool Overview'!$H$6=\"Shetland Health Board\",0,IF('III Tool Overview'!$H$6=\"Western Isles Health Board\",0,IF('III Tool Overview'!$H$6=\"Orkney Islands Local Authority\",0,IF('III Tool Overview'!$H$6=\"Shetland Islands Local Authority\",0,IF('III Tool Overview'!$H$6=\"Eilean Siar Local Authority\",0,new_ci(10,B66,C66,D66,$C$1,G66+H66,1,F66,F66,SIMDrateratios,RateRatios!$B$3)*10))))))","v":8.8644987794888959},{"$f":"IF('III Tool Overview'!$H$6=\"Orkney Health Board\",0,IF('III Tool Overview'!$H$6=\"Shetland Health Board\",0,IF('III Tool Overview'!$H$6=\"Western Isles Health Board\",0,IF('III Tool Overview'!$H$6=\"Orkney Islands Local Authority\",0,IF('III Tool Overview'!$H$6=\"Shetland Islands Local Authority\",0,IF('III Tool Overview'!$H$6=\"Eilean Siar Local Authority\",0,new_ci(20,B66,C66,D66,$C$1,G66,1,F66,F66,SIMDrateratios,RateRatios!$B$3)*10))))))","v":26.207698259012311},{"$f":"IF('III Tool Overview'!$H$6=\"Orkney Health Board\",0,IF('III Tool Overview'!$H$6=\"Shetland Health Board\",0,IF('III Tool Overview'!$H$6=\"Western Isles Health Board\",0,IF('III Tool Overview'!$H$6=\"Orkney Islands Local Authority\",0,IF('III Tool Overview'!$H$6=\"Shetland Islands Local Authority\",0,IF('III Tool Overview'!$H$6=\"Eilean Siar Local Authority\",0,new_ci(20,B66,C66,D66,$C$1,G66+H66,1,F66,F66,SIMDrateratios,RateRatios!$B$3)*10))))))","v":25.988584283459559},{"$f":"IF('III Tool Overview'!$H$6=\"Orkney Health Board\",0,IF('III Tool Overview'!$H$6=\"Shetland Health Board\",0,IF('III Tool Overview'!$H$6=\"Western Isles Health Board\",0,IF('III Tool Overview'!$H$6=\"Orkney Islands Local Authority\",0,IF('III Tool Overview'!$H$6=\"Shetland Islands Local Authority\",0,IF('III Tool Overview'!$H$6=\"Eilean Siar Local Authority\",0,new_yll(2,B66,C66,D66,$C$1,G66,1,F66,F66,SIMDrateratios,RateRatios!$B$3)*10))))))","v":77.076286801176707},{"$f":"IF('III Tool Overview'!$H$6=\"Orkney Health Board\",0,IF('III Tool Overview'!$H$6=\"Shetland Health Board\",0,IF('III Tool Overview'!$H$6=\"Western Isles Health Board\",0,IF('III Tool Overview'!$H$6=\"Orkney Islands Local Authority\",0,IF('III Tool Overview'!$H$6=\"Shetland Islands Local Authority\",0,IF('III Tool Overview'!$H$6=\"Eilean Siar Local Authority\",0,new_yll(2,B66,C66,D66,$C$1,G66+H66,1,F66,F66,SIMDrateratios,RateRatios!$B$3)*10))))))","v":76.429038209249029},{"$f":"Q66-R66","v":0.64724859192767781},{"$f":"IF('III Tool Overview'!$H$6=\"Orkney Health Board\",0,IF('III Tool Overview'!$H$6=\"Shetland Health Board\",0,IF('III Tool Overview'!$H$6=\"Western Isles Health Board\",0,IF('III Tool Overview'!$H$6=\"Orkney Islands Local Authority\",0,IF('III Tool Overview'!$H$6=\"Shetland Islands Local Authority\",0,IF('III Tool Overview'!$H$6=\"Eilean Siar Local Authority\",0,new_yll(5,B66,C66,D66,$C$1,G66,1,F66,F66,SIMDrateratios,RateRatios!$B$3)*1000))))))","v":33174.635497427371},{"$f":"IF('III Tool Overview'!$H$6=\"Orkney Health Board\",0,IF('III Tool Overview'!$H$6=\"Shetland Health Board\",0,IF('III Tool Overview'!$H$6=\"Western Isles Health Board\",0,IF('III Tool Overview'!$H$6=\"Orkney Islands Local Authority\",0,IF('III Tool Overview'!$H$6=\"Shetland Islands Local Authority\",0,IF('III Tool Overview'!$H$6=\"Eilean Siar Local Authority\",0,new_yll(5,B66,C66,D66,$C$1,G66+H66,1,F66,F66,SIMDrateratios,RateRatios!$B$3)*1000))))))","v":32896.176123429213},{"$f":"T66-U66","v":278.45937399815739},{"$f":"IF('III Tool Overview'!$H$6=\"Orkney Health Board\",0,IF('III Tool Overview'!$H$6=\"Shetland Health Board\",0,IF('III Tool Overview'!$H$6=\"Western Isles Health Board\",0,IF('III Tool Overview'!$H$6=\"Orkney Islands Local Authority\",0,IF('III Tool Overview'!$H$6=\"Shetland Islands Local Authority\",0,IF('III Tool Overview'!$H$6=\"Eilean Siar Local Authority\",0,new_yll(10,B66,C66,D66,$C$1,G66,1,F66,F66,SIMDrateratios,RateRatios!$B$3)*10))))))","v":845.80431978883496},{"$f":"IF('III Tool Overview'!$H$6=\"Orkney Health Board\",0,IF('III Tool Overview'!$H$6=\"Shetland Health Board\",0,IF('III Tool Overview'!$H$6=\"Western Isles Health Board\",0,IF('III Tool Overview'!$H$6=\"Orkney Islands Local Authority\",0,IF('III Tool Overview'!$H$6=\"Shetland Islands Local Authority\",0,IF('III Tool Overview'!$H$6=\"Eilean Siar Local Authority\",0,new_yll(10,B66,C66,D66,$C$1,G66+H66,1,F66,F66,SIMDrateratios,RateRatios!$B$3)*10))))))","v":838.71148129548055},{"$f":"W66-X66","v":7.0928384933544066},{"$f":"IF('III Tool Overview'!$H$6=\"Orkney Health Board\",0,IF('III Tool Overview'!$H$6=\"Shetland Health Board\",0,IF('III Tool Overview'!$H$6=\"Western Isles Health Board\",0,IF('III Tool Overview'!$H$6=\"Orkney Islands Local Authority\",0,IF('III Tool Overview'!$H$6=\"Shetland Islands Local Authority\",0,IF('III Tool Overview'!$H$6=\"Eilean Siar Local Authority\",0,new_yll(20,B66,C66,D66,$C$1,G66,1,F66,F66,SIMDrateratios,RateRatios!$B$3)*10))))))","v":2314.0492299365214},{"$f":"IF('III Tool Overview'!$H$6=\"Orkney Health Board\",0,IF('III Tool Overview'!$H$6=\"Shetland Health Board\",0,IF('III Tool Overview'!$H$6=\"Western Isles Health Board\",0,IF('III Tool Overview'!$H$6=\"Orkney Islands Local Authority\",0,IF('III Tool Overview'!$H$6=\"Shetland Islands Local Authority\",0,IF('III Tool Overview'!$H$6=\"Eilean Siar Local Authority\",0,new_yll(20,B66,C66,D66,$C$1,G66+H66,1,F66,F66,SIMDrateratios,RateRatios!$B$3)*10))))))","v":2294.6992004140934},{"$f":"Z66-AA66","v":19.350029522428031},{"$f":"IF('III Tool Overview'!$H$6=\"Orkney Health Board\",0,IF('III Tool Overview'!$H$6=\"Shetland Health Board\",0,IF('III Tool Overview'!$H$6=\"Western Isles Health Board\",0,IF('III Tool Overview'!$H$6=\"Orkney Islands Local Authority\",0,IF('III Tool Overview'!$H$6=\"Shetland Islands Local Authority\",0,IF('III Tool Overview'!$H$6=\"Eilean Siar Local Authority\",0,hosp_count(2,B66,C66,D66,$C$1,G66,1,F66,F66,SIMDRateRatios_hosp,SIMDrateratios,RateRatios!$B$3)*10))))))","v":152.36684158933051},{"$f":"IF('III Tool Overview'!$H$6=\"Orkney Health Board\",0,IF('III Tool Overview'!$H$6=\"Shetland Health Board\",0,IF('III Tool Overview'!$H$6=\"Western Isles Health Board\",0,IF('III Tool Overview'!$H$6=\"Orkney Islands Local Authority\",0,IF('III Tool Overview'!$H$6=\"Shetland Islands Local Authority\",0,IF('III Tool Overview'!$H$6=\"Eilean Siar Local Authority\",0,hosp_count(2,B66,C66,D66,$C$1,G66+H66,1,F66,F66,SIMDRateRatios_hosp,SIMDrateratios,RateRatios!$B$3)*10))))))","v":151.37106359326867},{"$f":"AC66-AD66","v":0.99577799606183248},{"$f":"IF('III Tool Overview'!$H$6=\"Orkney Health Board\",0,IF('III Tool Overview'!$H$6=\"Shetland Health Board\",0,IF('III Tool Overview'!$H$6=\"Western Isles Health Board\",0,IF('III Tool Overview'!$H$6=\"Orkney Islands Local Authority\",0,IF('III Tool Overview'!$H$6=\"Shetland Islands Local Authority\",0,IF('III Tool Overview'!$H$6=\"Eilean Siar Local Authority\",0,hosp_count(5,B66,C66,D66,$C$1,G66,1,F66,F66,SIMDRateRatios_hosp,SIMDrateratios,RateRatios!$B$3)*1000))))))","v":64405.485027477465},{"$f":"IF('III Tool Overview'!$H$6=\"Orkney Health Board\",0,IF('III Tool Overview'!$H$6=\"Shetland Health Board\",0,IF('III Tool Overview'!$H$6=\"Western Isles Health Board\",0,IF('III Tool Overview'!$H$6=\"Orkney Islands Local Authority\",0,IF('III Tool Overview'!$H$6=\"Shetland Islands Local Authority\",0,IF('III Tool Overview'!$H$6=\"Eilean Siar Local Authority\",0,hosp_count(5,B66,C66,D66,$C$1,G66+H66,1,F66,F66,SIMDRateRatios_hosp,SIMDrateratios,RateRatios!$B$3)*1000))))))","v":63984.803013033263},{"$f":"AF66-AG66","v":420.68201444420265},{"$f":"IF('III Tool Overview'!$H$6=\"Orkney Health Board\",0,IF('III Tool Overview'!$H$6=\"Shetland Health Board\",0,IF('III Tool Overview'!$H$6=\"Western Isles Health Board\",0,IF('III Tool Overview'!$H$6=\"Orkney Islands Local Authority\",0,IF('III Tool Overview'!$H$6=\"Shetland Islands Local Authority\",0,IF('III Tool Overview'!$H$6=\"Eilean Siar Local Authority\",0,hosp_count(10,B66,C66,D66,$C$1,G66,1,F66,F66,SIMDRateRatios_hosp,SIMDrateratios,RateRatios!$B$3)*10))))))","v":1592.0281479093956},{"$f":"IF('III Tool Overview'!$H$6=\"Orkney Health Board\",0,IF('III Tool Overview'!$H$6=\"Shetland Health Board\",0,IF('III Tool Overview'!$H$6=\"Western Isles Health Board\",0,IF('III Tool Overview'!$H$6=\"Orkney Islands Local Authority\",0,IF('III Tool Overview'!$H$6=\"Shetland Islands Local Authority\",0,IF('III Tool Overview'!$H$6=\"Eilean Siar Local Authority\",0,hosp_count(10,B66,C66,D66,$C$1,G66+H66,1,F66,F66,SIMDRateRatios_hosp,SIMDrateratios,RateRatios!$B$3)*10))))))","v":1581.6412329404861},{"$f":"AI66-AJ66","v":10.386914968909423},{"$f":"IF('III Tool Overview'!$H$6=\"Orkney Health Board\",0,IF('III Tool Overview'!$H$6=\"Shetland Health Board\",0,IF('III Tool Overview'!$H$6=\"Western Isles Health Board\",0,IF('III Tool Overview'!$H$6=\"Orkney Islands Local Authority\",0,IF('III Tool Overview'!$H$6=\"Shetland Islands Local Authority\",0,IF('III Tool Overview'!$H$6=\"Eilean Siar Local Authority\",0,hosp_count(20,B66,C66,D66,$C$1,G66,1,F66,F66,SIMDRateRatios_hosp,SIMDrateratios,RateRatios!$B$3)*10))))))","v":4086.5824325795115},{"$f":"IF('III Tool Overview'!$H$6=\"Orkney Health Board\",0,IF('III Tool Overview'!$H$6=\"Shetland Health Board\",0,IF('III Tool Overview'!$H$6=\"Western Isles Health Board\",0,IF('III Tool Overview'!$H$6=\"Orkney Islands Local Authority\",0,IF('III Tool Overview'!$H$6=\"Shetland Islands Local Authority\",0,IF('III Tool Overview'!$H$6=\"Eilean Siar Local Authority\",0,hosp_count(20,B66,C66,D66,$C$1,G66+H66,1,F66,F66,SIMDRateRatios_hosp,SIMDrateratios,RateRatios!$B$3)*10))))))","v":4060.0112504489571},{"$f":"AL66-AM66","v":26.571182130554462}]
["Male 1-4",2.5,"male",1,1,{"$f":"HLOOKUP('III Tool Overview'!$H$6,LookUpData_Pop!$B$1:$AV$269,LookUpData_Pop!BB68,FALSE)/50","v":1063.9000000000001},{"$f":"'III Tool Overview'!$H$9/110","v":0},{"$f":"F67","v":1063.9000000000001},{"$f":"IF('III Tool Overview'!$H$6=\"Orkney Health Board\",0,IF('III Tool Overview'!$H$6=\"Shetland Health Board\",0,IF('III Tool Overview'!$H$6=\"Western Isles Health Board\",0,IF('III Tool Overview'!$H$6=\"Orkney Islands Local Authority\",0,IF('III Tool Overview'!$H$6=\"Shetland Islands Local Authority\",0,IF('III Tool Overview'!$H$6=\"Eilean Siar Local Authority\",0,new_ci(2,B67,C67,D67,$C$1,G67,1,F67,F67,SIMDrateratios,RateRatios!$B$3)*10))))))","v":3.319697366689744},{"$f":"IF('III Tool Overview'!$H$6=\"Orkney Health Board\",0,IF('III Tool Overview'!$H$6=\"Shetland Health Board\",0,IF('III Tool Overview'!$H$6=\"Western Isles Health Board\",0,IF('III Tool Overview'!$H$6=\"Orkney Islands Local Authority\",0,IF('III Tool Overview'!$H$6=\"Shetland Islands Local Authority\",0,IF('III Tool Overview'!$H$6=\"Eilean Siar Local Authority\",0,new_ci(2,B67,C67,D67,$C$1,G67+H67,1,H67,H67,SIMDrateratios,RateRatios!$B$3)*10))))))","v":3.2917813638413636},{"$f":"IF('III Tool Overview'!$H$6=\"Orkney Health Board\",0,IF('III Tool Overview'!$H$6=\"Shetland Health Board\",0,IF('III Tool Overview'!$H$6=\"Western Isles Health Board\",0,IF('III Tool Overview'!$H$6=\"Orkney Islands Local Authority\",0,IF('III Tool Overview'!$H$6=\"Shetland Islands Local Authority\",0,IF('III Tool Overview'!$H$6=\"Eilean Siar Local Authority\",0,new_ci(5,B67,C67,D67,$C$1,G67,1,F67,F67,SIMDrateratios,RateRatios!$B$3)*1000))))))","v":1451.8007349961736},{"$f":"IF('III Tool Overview'!$H$6=\"Orkney Health Board\",0,IF('III Tool Overview'!$H$6=\"Shetland Health Board\",0,IF('III Tool Overview'!$H$6=\"Western Isles Health Board\",0,IF('III Tool Overview'!$H$6=\"Orkney Islands Local Authority\",0,IF('III Tool Overview'!$H$6=\"Shetland Islands Local Authority\",0,IF('III Tool Overview'!$H$6=\"Eilean Siar Local Authority\",0,new_ci(5,B67,C67,D67,$C$1,G67+H67,1,F67,F67,SIMDrateratios,RateRatios!$B$3)*1000))))))","v":1439.5986263125412},{"$f":"IF('III Tool Overview'!$H$6=\"Orkney Health Board\",0,IF('III Tool Overview'!$H$6=\"Shetland Health Board\",0,IF('III Tool Overview'!$H$6=\"Western Isles Health Board\",0,IF('III Tool Overview'!$H$6=\"Orkney Islands Local Authority\",0,IF('III Tool Overview'!$H$6=\"Shetland Islands Local Authority\",0,IF('III Tool Overview'!$H$6=\"Eilean Siar Local Authority\",0,new_ci(10,B67,C67,D67,$C$1,G67,1,F67,F67,SIMDrateratios,RateRatios!$B$3)*10))))))","v":38.109079774455743},{"$f":"IF('III Tool Overview'!$H$6=\"Orkney Health Board\",0,IF('III Tool Overview'!$H$6=\"Shetland Health Board\",0,IF('III Tool Overview'!$H$6=\"Western Isles Health Board\",0,IF('III Tool Overview'!$H$6=\"Orkney Islands Local Authority\",0,IF('III Tool Overview'!$H$6=\"Shetland Islands Local Authority\",0,IF('III Tool Overview'!$H$6=\"Eilean Siar Local Authority\",0,new_ci(10,B67,C67,D67,$C$1,G67+H67,1,F67,F67,SIMDrateratios,RateRatios!$B$3)*10))))))","v":37.789133174359321},{"$f":"IF('III Tool Overview'!$H$6=\"Orkney Health Board\",0,IF('III Tool Overview'!$H$6=\"Shetland Health Board\",0,IF('III Tool Overview'!$H$6=\"Western Isles Health Board\",0,IF('III Tool Overview'!$H$6=\"Orkney Islands Local Authority\",0,IF('III Tool Overview'!$H$6=\"Shetland Islands Local Authority\",0,IF('III Tool Overview'!$H$6=\"Eilean Siar Local Authority\",0,new_ci(20,B67,C67,D67,$C$1,G67,1,F67,F67,SIMDrateratios,RateRatios!$B$3)*10))))))","v":111.6715497295351},{"$f":"IF('III Tool Overview'!$H$6=\"Orkney Health Board\",0,IF('III Tool Overview'!$H$6=\"Shetland Health Board\",0,IF('III Tool Overview'!$H$6=\"Western Isles Health Board\",0,IF('III Tool Overview'!$H$6=\"Orkney Islands Local Authority\",0,IF('III Tool Overview'!$H$6=\"Shetland Islands Local Authority\",0,IF('III Tool Overview'!$H$6=\"Eilean Siar Local Authority\",0,new_ci(20,B67,C67,D67,$C$1,G67+H67,1,F67,F67,SIMDrateratios,RateRatios!$B$3)*10))))))","v":110.73724097342092},{"$f":"IF('III Tool Overview'!$H$6=\"Orkney Health Board\",0,IF('III Tool Overview'!$H$6=\"Shetland Health Board\",0,IF('III Tool Overview'!$H$6=\"Western Isles Health Board\",0,IF('III Tool Overview'!$H$6=\"Orkney Islands Local Authority\",0,IF('III Tool Overview'!$H$6=\"Shetland Islands Local Authority\",0,IF('III Tool Overview'!$H$6=\"Eilean Siar Local Authority\",0,new_yll(2,B67,C67,D67,$C$1,G67,1,F67,F67,SIMDrateratios,RateRatios!$B$3)*10))))))","v":322.01064456890515},{"$f":"IF('III Tool Overview'!$H$6=\"Orkney Health Board\",0,IF('III Tool Overview'!$H$6=\"Shetland Health Board\",0,IF('III Tool Overview'!$H$6=\"Western Isles Health Board\",0,IF('III Tool Overview'!$H$6=\"Orkney Islands Local Authority\",0,IF('III Tool Overview'!$H$6=\"Shetland Islands Local Authority\",0,IF('III Tool Overview'!$H$6=\"Eilean Siar Local Authority\",0,new_yll(2,B67,C67,D67,$C$1,G67+H67,1,F67,F67,SIMDrateratios,RateRatios!$B$3)*10))))))","v":319.30279229261225},{"$f":"Q67-R67","v":2.7078522762928969},{"$f":"IF('III Tool Overview'!$H$6=\"Orkney Health Board\",0,IF('III Tool Overview'!$H$6=\"Shetland Health Board\",0,IF('III Tool Overview'!$H$6=\"Western Isles Health Board\",0,IF('III Tool Overview'!$H$6=\"Orkney Islands Local Authority\",0,IF('III Tool Overview'!$H$6=\"Shetland Islands Local Authority\",0,IF('III Tool Overview'!$H$6=\"Eilean Siar Local Authority\",0,new_yll(5,B67,C67,D67,$C$1,G67,1,F67,F67,SIMDrateratios,RateRatios!$B$3)*1000))))))","v":138541.68862702302},{"$f":"IF('III Tool Overview'!$H$6=\"Orkney Health Board\",0,IF('III Tool Overview'!$H$6=\"Shetland Health Board\",0,IF('III Tool Overview'!$H$6=\"Western Isles Health Board\",0,IF('III Tool Overview'!$H$6=\"Orkney Islands Local Authority\",0,IF('III Tool Overview'!$H$6=\"Shetland Islands Local Authority\",0,IF('III Tool Overview'!$H$6=\"Eilean Siar Local Authority\",0,new_yll(5,B67,C67,D67,$C$1,G67+H67,1,F67,F67,SIMDrateratios,RateRatios!$B$3)*1000))))))","v":137377.26696386479},{"$f":"T67-U67","v":1164.421663158224},{"$f":"IF('III Tool Overview'!$H$6=\"Orkney Health Board\",0,IF('III Tool Overview'!$H$6=\"Shetland Health Board\",0,IF('III Tool Overview'!$H$6=\"Western Isles Health Board\",0,IF('III Tool Overview'!$H$6=\"Orkney Islands Local Authority\",0,IF('III Tool Overview'!$H$6=\"Shetland Islands Local Authority\",0,IF('III Tool Overview'!$H$6=\"Eilean Siar Local Authority\",0,new_yll(10,B67,C67,D67,$C$1,G67,1,F67,F67,SIMDrateratios,RateRatios!$B$3)*10))))))","v":3529.4734775968977},{"$f":"IF('III Tool Overview'!$H$6=\"Orkney Health Board\",0,IF('III Tool Overview'!$H$6=\"Shetland Health Board\",0,IF('III Tool Overview'!$H$6=\"Western Isles Health Board\",0,IF('III Tool Overview'!$H$6=\"Orkney Islands Local Authority\",0,IF('III Tool Overview'!$H$6=\"Shetland Islands Local Authority\",0,IF('III Tool Overview'!$H$6=\"Eilean Siar Local Authority\",0,new_yll(10,B67,C67,D67,$C$1,G67+H67,1,F67,F67,SIMDrateratios,RateRatios!$B$3)*10))))))","v":3499.840777546864},{"$f":"W67-X67","v":29.632700050033691},{"$f":"IF('III Tool Overview'!$H$6=\"Orkney Health Board\",0,IF('III Tool Overview'!$H$6=\"Shetland Health Board\",0,IF('III Tool Overview'!$H$6=\"Western Isles Health Board\",0,IF('III Tool Overview'!$H$6=\"Orkney Islands Local Authority\",0,IF('III Tool Overview'!$H$6=\"Shetland Islands Local Authority\",0,IF('III Tool Overview'!$H$6=\"Eilean Siar Local Authority\",0,new_yll(20,B67,C67,D67,$C$1,G67,1,F67,F67,SIMDrateratios,RateRatios!$B$3)*10))))))","v":9637.1099455623316},{"$f":"IF('III Tool Overview'!$H$6=\"Orkney Health Board\",0,IF('III Tool Overview'!$H$6=\"Shetland Health Board\",0,IF('III Tool Overview'!$H$6=\"Western Isles Health Board\",0,IF('III Tool Overview'!$H$6=\"Orkney Islands Local Authority\",0,IF('III Tool Overview'!$H$6=\"Shetland Islands Local Authority\",0,IF('III Tool Overview'!$H$6=\"Eilean Siar Local Authority\",0,new_yll(20,B67,C67,D67,$C$1,G67+H67,1,F67,F67,SIMDrateratios,RateRatios!$B$3)*10))))))","v":9556.4654046559845},{"$f":"Z67-AA67","v":80.644540906347174},{"$f":"IF('III Tool Overview'!$H$6=\"Orkney Health Board\",0,IF('III Tool Overview'!$H$6=\"Shetland Health Board\",0,IF('III Tool Overview'!$H$6=\"Western Isles Health Board\",0,IF('III Tool Overview'!$H$6=\"Orkney Islands Local Authority\",0,IF('III Tool Overview'!$H$6=\"Shetland Islands Local Authority\",0,IF('III Tool Overview'!$H$6=\"Eilean Siar Local Authority\",0,hosp_count(2,B67,C67,D67,$C$1,G67,1,F67,F67,SIMDRateRatios_hosp,SIMDrateratios,RateRatios!$B$3)*10))))))","v":602.74415608819504},{"$f":"IF('III Tool Overview'!$H$6=\"Orkney Health Board\",0,IF('III Tool Overview'!$H$6=\"Shetland Health Board\",0,IF('III Tool Overview'!$H$6=\"Western Isles Health Board\",0,IF('III Tool Overview'!$H$6=\"Orkney Islands Local Authority\",0,IF('III Tool Overview'!$H$6=\"Shetland Islands Local Authority\",0,IF('III Tool Overview'!$H$6=\"Eilean Siar Local Authority\",0,hosp_count(2,B67,C67,D67,$C$1,G67+H67,1,F67,F67,SIMDRateRatios_hosp,SIMDrateratios,RateRatios!$B$3)*10))))))","v":598.79941469437756},{"$f":"AC67-AD67","v":3.9447413938174805},{"$f":"IF('III Tool Overview'!$H$6=\"Orkney Health Board\",0,IF('III Tool Overview'!$H$6=\"Shetland Health Board\",0,IF('III Tool Overview'!$H$6=\"Western Isles Health Board\",0,IF('III Tool Overview'!$H$6=\"Orkney Islands Local Authority\",0,IF('III Tool Overview'!$H$6=\"Shetland Islands Local Authority\",0,IF('III Tool Overview'!$H$6=\"Eilean Siar Local Authority\",0,hosp_count(5,B67,C67,D67,$C$1,G67,1,F67,F67,SIMDRateRatios_hosp,SIMDrateratios,RateRatios!$B$3)*1000))))))","v":254762.79133096724},{"$f":"IF('III Tool Overview'!$H$6=\"Orkney Health Board\",0,IF('III Tool Overview'!$H$6=\"Shetland Health Board\",0,IF('III Tool Overview'!$H$6=\"Western Isles Health Board\",0,IF('III Tool Overview'!$H$6=\"Orkney Islands Local Authority\",0,IF('III Tool Overview'!$H$6=\"Shetland Islands Local Authority\",0,IF('III Tool Overview'!$H$6=\"Eilean Siar Local Authority\",0,hosp_count(5,B67,C67,D67,$C$1,G67+H67,1,F67,F67,SIMDRateRatios_hosp,SIMDrateratios,RateRatios!$B$3)*1000))))))","v":253096.53040694565},{"$f":"AF67-AG67","v":1666.260924021597},{"$f":"IF('III Tool Overview'!$H$6=\"Orkney Health Board\",0,IF('III Tool Overview'!$H$6=\"Shetland Health Board\",0,IF('III Tool Overview'!$H$6=\"Western Isles Health Board\",0,IF('III Tool Overview'!$H$6=\"Orkney Islands Local Authority\",0,IF('III Tool Overview'!$H$6=\"Shetland Islands Local Authority\",0,IF('III Tool Overview'!$H$6=\"Eilean Siar Local Authority\",0,hosp_count(10,B67,C67,D67,$C$1,G67,1,F67,F67,SIMDRateRatios_hosp,SIMDrateratios,RateRatios!$B$3)*10))))))","v":6296.5624551647024},{"$f":"IF('III Tool Overview'!$H$6=\"Orkney Health Board\",0,IF('III Tool Overview'!$H$6=\"Shetland Health Board\",0,IF('III Tool Overview'!$H$6=\"Western Isles Health Board\",0,IF('III Tool Overview'!$H$6=\"Orkney Islands Local Authority\",0,IF('III Tool Overview'!$H$6=\"Shetland Islands Local Authority\",0,IF('III Tool Overview'!$H$6=\"Eilean Siar Local Authority\",0,hosp_count(10,B67,C67,D67,$C$1,G67+H67,1,F67,F67,SIMDRateRatios_hosp,SIMDrateratios,RateRatios!$B$3)*10))))))","v":6255.4344099092132},{"$f":"AI67-AJ67","v":41.128045255489269},{"$f":"IF('III Tool Overview'!$H$6=\"Orkney Health Board\",0,IF('III Tool Overview'!$H$6=\"Shetland Health Board\",0,IF('III Tool Overview'!$H$6=\"Western Isles Health Board\",0,IF('III Tool Overview'!$H$6=\"Orkney Islands Local Authority\",0,IF('III Tool Overview'!$H$6=\"Shetland Islands Local Authority\",0,IF('III Tool Overview'!$H$6=\"Eilean Siar Local Authority\",0,hosp_count(20,B67,C67,D67,$C$1,G67,1,F67,F67,SIMDRateRatios_hosp,SIMDrateratios,RateRatios!$B$3)*10))))))","v":16155.947379496492},{"$f":"IF('III Tool Overview'!$H$6=\"Orkney Health Board\",0,IF('III Tool Overview'!$H$6=\"Shetland Health Board\",0,IF('III Tool Overview'!$H$6=\"Western Isles Health Board\",0,IF('III Tool Overview'!$H$6=\"Orkney Islands Local Authority\",0,IF('III Tool Overview'!$H$6=\"Shetland Islands Local Authority\",0,IF('III Tool Overview'!$H$6=\"Eilean Siar Local Authority\",0,hosp_count(20,B67,C67,D67,$C$1,G67+H67,1,F67,F67,SIMDRateRatios_hosp,SIMDrateratios,RateRatios!$B$3)*10))))))","v":16050.835933059914},{"$f":"AL67-AM67","v":105.11144643657826}]
["Male 5-9",7.5,"male",1,1,{"$f":"HLOOKUP('III Tool Overview'!$H$6,LookUpData_Pop!$B$1:$AV$269,LookUpData_Pop!BB69,FALSE)/50","v":1129.74},{"$f":"'III Tool Overview'!$H$9/110","v":0},1129.74,{"$f":"IF('III Tool Overview'!$H$6=\"Orkney Health Board\",0,IF('III Tool Overview'!$H$6=\"Shetland Health Board\",0,IF('III Tool Overview'!$H$6=\"Western Isles Health Board\",0,IF('III Tool Overview'!$H$6=\"Orkney Islands Local Authority\",0,IF('III Tool Overview'!$H$6=\"Shetland Islands Local Authority\",0,IF('III Tool Overview'!$H$6=\"Eilean Siar Local Authority\",0,new_ci(2,B68,C68,D68,$C$1,G68,1,F68,F68,SIMDrateratios,RateRatios!$B$3)*10))))))","v":5.4424998939467493},{"$f":"IF('III Tool Overview'!$H$6=\"Orkney Health Board\",0,IF('III Tool Overview'!$H$6=\"Shetland Health Board\",0,IF('III Tool Overview'!$H$6=\"Western Isles Health Board\",0,IF('III Tool Overview'!$H$6=\"Orkney Islands Local Authority\",0,IF('III Tool Overview'!$H$6=\"Shetland Islands Local Authority\",0,IF('III Tool Overview'!$H$6=\"Eilean Siar Local Authority\",0,new_ci(2,B68,C68,D68,$C$1,G68+H68,1,H68,H68,SIMDrateratios,RateRatios!$B$3)*10))))))","v":5.3967304404058938},{"$f":"IF('III Tool Overview'!$H$6=\"Orkney Health Board\",0,IF('III Tool Overview'!$H$6=\"Shetland Health Board\",0,IF('III Tool Overview'!$H$6=\"Western Isles Health Board\",0,IF('III Tool Overview'!$H$6=\"Orkney Islands Local Authority\",0,IF('III Tool Overview'!$H$6=\"Shetland Islands Local Authority\",0,IF('III Tool Overview'!$H$6=\"Eilean Siar Local Authority\",0,new_ci(5,B68,C68,D68,$C$1,G68,1,F68,F68,SIMDrateratios,RateRatios!$B$3)*1000))))))","v":2379.4826323497796},{"$f":"IF('III Tool Overview'!$H$6=\"Orkney Health Board\",0,IF('III Tool Overview'!$H$6=\"Shetland Health Board\",0,IF('III Tool Overview'!$H$6=\"Western Isles Health Board\",0,IF('III Tool Overview'!$H$6=\"Orkney Islands Local Authority\",0,IF('III Tool Overview'!$H$6=\"Shetland Islands Local Authority\",0,IF('III Tool Overview'!$H$6=\"Eilean Siar Local Authority\",0,new_ci(5,B68,C68,D68,$C$1,G68+H68,1,F68,F68,SIMDrateratios,RateRatios!$B$3)*1000))))))","v":2359.4881794895427},{"$f":"IF('III Tool Overview'!$H$6=\"Orkney Health Board\",0,IF('III Tool Overview'!$H$6=\"Shetland Health Board\",0,IF('III Tool Overview'!$H$6=\"Western Isles Health Board\",0,IF('III Tool Overview'!$H$6=\"Orkney Islands Local Authority\",0,IF('III Tool Overview'!$H$6=\"Shetland Islands Local Authority\",0,IF('III Tool Overview'!$H$6=\"Eilean Siar Local Authority\",0,new_ci(10,B68,C68,D68,$C$1,G68,1,F68,F68,SIMDrateratios,RateRatios!$B$3)*10))))))","v":62.422571615133407},{"$f":"IF('III Tool Overview'!$H$6=\"Orkney Health Board\",0,IF('III Tool Overview'!$H$6=\"Shetland Health Board\",0,IF('III Tool Overview'!$H$6=\"Western Isles Health Board\",0,IF('III Tool Overview'!$H$6=\"Orkney Islands Local Authority\",0,IF('III Tool Overview'!$H$6=\"Shetland Islands Local Authority\",0,IF('III Tool Overview'!$H$6=\"Eilean Siar Local Authority\",0,new_ci(10,B68,C68,D68,$C$1,G68+H68,1,F68,F68,SIMDrateratios,RateRatios!$B$3)*10))))))","v":61.898936062235698},{"$f":"IF('III Tool Overview'!$H$6=\"Orkney Health Board\",0,IF('III Tool Overview'!$H$6=\"Shetland Health Board\",0,IF('III Tool Overview'!$H$6=\"Western Isles Health Board\",0,IF('III Tool Overview'!$H$6=\"Orkney Islands Local Authority\",0,IF('III Tool Overview'!$H$6=\"Shetland Islands Local Authority\",0,IF('III Tool Overview'!$H$6=\"Eilean Siar Local Authority\",0,new_ci(20,B68,C68,D68,$C$1,G68,1,F68,F68,SIMDrateratios,RateRatios!$B$3)*10))))))","v":182.57258290682563},{"$f":"IF('III Tool Overview'!$H$6=\"Orkney Health Board\",0,IF('III Tool Overview'!$H$6=\"Shetland Health Board\",0,IF('III Tool Overview'!$H$6=\"Western Isles Health Board\",0,IF('III Tool Overview'!$H$6=\"Orkney Islands Local Authority\",0,IF('III Tool Overview'!$H$6=\"Shetland Islands Local Authority\",0,IF('III Tool Overview'!$H$6=\"Eilean Siar Local Authority\",0,new_ci(20,B68,C68,D68,$C$1,G68+H68,1,F68,F68,SIMDrateratios,RateRatios!$B$3)*10))))))","v":181.04921894997435},{"$f":"IF('III Tool Overview'!$H$6=\"Orkney Health Board\",0,IF('III Tool Overview'!$H$6=\"Shetland Health Board\",0,IF('III Tool Overview'!$H$6=\"Western Isles Health Board\",0,IF('III Tool Overview'!$H$6=\"Orkney Islands Local Authority\",0,IF('III Tool Overview'!$H$6=\"Shetland Islands Local Authority\",0,IF('III Tool Overview'!$H$6=\"Eilean Siar Local Authority\",0,new_yll(2,B68,C68,D68,$C$1,G68,1,F68,F68,SIMDrateratios,RateRatios!$B$3)*10))))))","v":495.26749034915417},{"$f":"IF('III Tool Overview'!$H$6=\"Orkney Health Board\",0,IF('III Tool Overview'!$H$6=\"Shetland Health Board\",0,IF('III Tool Overview'!$H$6=\"Western Isles Health Board\",0,IF('III Tool Overview'!$H$6=\"Orkney Islands Local Authority\",0,IF('III Tool Overview'!$H$6=\"Shetland Islands Local Authority\",0,IF('III Tool Overview'!$H$6=\"Eilean Siar Local Authority\",0,new_yll(2,B68,C68,D68,$C$1,G68+H68,1,F68,F68,SIMDrateratios,RateRatios!$B$3)*10))))))","v":491.1024700769363},4.1650202722178733,{"$f":"IF('III Tool Overview'!$H$6=\"Orkney Health Board\",0,IF('III Tool Overview'!$H$6=\"Shetland Health Board\",0,IF('III Tool Overview'!$H$6=\"Western Isles Health Board\",0,IF('III Tool Overview'!$H$6=\"Orkney Islands Local Authority\",0,IF('III Tool Overview'!$H$6=\"Shetland Islands Local Authority\",0,IF('III Tool Overview'!$H$6=\"Eilean Siar Local Authority\",0,new_yll(5,B68,C68,D68,$C$1,G68,1,F68,F68,SIMDrateratios,RateRatios!$B$3)*1000))))))","v":212791.69167656379},{"$f":"IF('III Tool Overview'!$H$6=\"Orkney Health Board\",0,IF('III Tool Overview'!$H$6=\"Shetland Health Board\",0,IF('III Tool Overview'!$H$6=\"Western Isles Health Board\",0,IF('III Tool Overview'!$H$6=\"Orkney Islands Local Authority\",0,IF('III Tool Overview'!$H$6=\"Shetland Islands Local Authority\",0,IF('III Tool Overview'!$H$6=\"Eilean Siar Local Authority\",0,new_yll(5,B68,C68,D68,$C$1,G68+H68,1,F68,F68,SIMDrateratios,RateRatios!$B$3)*1000))))))","v":211003.62042150056},1788.0712550632306,{"$f":"IF('III Tool Overview'!$H$6=\"Orkney Health Board\",0,IF('III Tool Overview'!$H$6=\"Shetland Health Board\",0,IF('III Tool Overview'!$H$6=\"Western Isles Health Board\",0,IF('III Tool Overview'!$H$6=\"Orkney Islands Local Authority\",0,IF('III Tool Overview'!$H$6=\"Shetland Islands Local Authority\",0,IF('III Tool Overview'!$H$6=\"Eilean Siar Local Authority\",0,new_yll(10,B68,C68,D68,$C$1,G68,1,F68,F68,SIMDrateratios,RateRatios!$B$3)*10))))))","v":5406.822186478993},{"$f":"IF('III Tool Overview'!$H$6=\"Orkney Health Board\",0,IF('III Tool Overview'!$H$6=\"Shetland Health Board\",0,IF('III Tool Overview'!$H$6=\"Western Isles Health Board\",0,IF('III Tool Overview'!$H$6=\"Orkney Islands Local Authority\",0,IF('III Tool Overview'!$H$6=\"Shetland Islands Local Authority\",0,IF('III Tool Overview'!$H$6=\"Eilean Siar Local Authority\",0,new_yll(10,B68,C68,D68,$C$1,G68+H68,1,F68,F68,SIMDrateratios,RateRatios!$B$3)*10))))))","v":5361.4646116406711},45.357574838321852,{"$f":"IF('III Tool Overview'!$H$6=\"Orkney Health Board\",0,IF('III Tool Overview'!$H$6=\"Shetland Health Board\",0,IF('III Tool Overview'!$H$6=\"Western Isles Health Board\",0,IF('III Tool Overview'!$H$6=\"Orkney Islands Local Authority\",0,IF('III Tool Overview'!$H$6=\"Shetland Islands Local Authority\",0,IF('III Tool Overview'!$H$6=\"Eilean Siar Local Authority\",0,new_yll(20,B68,C68,D68,$C$1,G68,1,F68,F68,SIMDrateratios,RateRatios!$B$3)*10))))))","v":14661.931609855914},{"$f":"IF('III Tool Overview'!$H$6=\"Orkney Health Board\",0,IF('III Tool Overview'!$H$6=\"Shetland Health Board\",0,IF('III Tool Overview'!$H$6=\"Western Isles Health Board\",0,IF('III Tool Overview'!$H$6=\"Orkney Islands Local Authority\",0,IF('III Tool Overview'!$H$6=\"Shetland Islands Local Authority\",0,IF('III Tool Overview'!$H$6=\"Eilean Siar Local Authority\",0,new_yll(20,B68,C68,D68,$C$1,G68+H68,1,F68,F68,SIMDrateratios,RateRatios!$B$3)*10))))))","v":14539.556549616826},122.37506023908827,{"$f":"IF('III Tool Overview'!$H$6=\"Orkney Health Board\",0,IF('III Tool Overview'!$H$6=\"Shetland Health Board\",0,IF('III Tool Overview'!$H$6=\"Western Isles Health Board\",0,IF('III Tool Overview'!$H$6=\"Orkney Islands Local Authority\",0,IF('III Tool Overview'!$H$6=\"Shetland Islands Local Authority\",0,IF('III Tool Overview'!$H$6=\"Eilean Siar Local Authority\",0,hosp_count(2,B68,C68,D68,$C$1,G68,1,F68,F68,SIMDRateRatios_hosp,SIMDrateratios,RateRatios!$B$3)*10))))))","v":789.09868696266301},{"$f":"IF('III Tool Overview'!$H$6=\"Orkney Health Board\",0,IF('III Tool Overview'!$H$6=\"Shetland Health Board\",0,IF('III Tool Overview'!$H$6=\"Western Isles Health Board\",0,IF('III Tool Overview'!$H$6=\"Orkney Islands Local Authority\",0,IF('III Tool Overview'!$H$6=\"Shetland Islands Local Authority\",0,IF('III Tool Overview'!$H$6=\"Eilean Siar Local Authority\",0,hosp_count(2,B68,C68,D68,$C$1,G68+H68,1,F68,F68,SIMDRateRatios_hosp,SIMDrateratios,RateRatios!$B$3)*10))))))","v":783.93361985736408},5.165067105298931,{"$f":"IF('III Tool Overview'!$H$6=\"Orkney Health Board\",0,IF('III Tool Overview'!$H$6=\"Shetland Health Board\",0,IF('III Tool Overview'!$H$6=\"Western Isles Health Board\",0,IF('III Tool Overview'!$H$6=\"Orkney Islands Local Authority\",0,IF('III Tool Overview'!$H$6=\"Shetland Islands Local Authority\",0,IF('III Tool Overview'!$H$6=\"Eilean Siar Local Authority\",0,hosp_count(5,B68,C68,D68,$C$1,G68,1,F68,F68,SIMDRateRatios_hosp,SIMDrateratios,RateRatios!$B$3)*1000))))))","v":333438.44501365983},{"$f":"IF('III Tool Overview'!$H$6=\"Orkney Health Board\",0,IF('III Tool Overview'!$H$6=\"Shetland Health Board\",0,IF('III Tool Overview'!$H$6=\"Western Isles Health Board\",0,IF('III Tool Overview'!$H$6=\"Orkney Islands Local Authority\",0,IF('III Tool Overview'!$H$6=\"Shetland Islands Local Authority\",0,IF('III Tool Overview'!$H$6=\"Eilean Siar Local Authority\",0,hosp_count(5,B68,C68,D68,$C$1,G68+H68,1,F68,F68,SIMDRateRatios_hosp,SIMDrateratios,RateRatios!$B$3)*1000))))))","v":331258.07468005532},2180.3703336045146,{"$f":"IF('III Tool Overview'!$H$6=\"Orkney Health Board\",0,IF('III Tool Overview'!$H$6=\"Shetland Health Board\",0,IF('III Tool Overview'!$H$6=\"Western Isles Health Board\",0,IF('III Tool Overview'!$H$6=\"Orkney Islands Local Authority\",0,IF('III Tool Overview'!$H$6=\"Shetland Islands Local Authority\",0,IF('III Tool Overview'!$H$6=\"Eilean Siar Local Authority\",0,hosp_count(10,B68,C68,D68,$C$1,G68,1,F68,F68,SIMDRateRatios_hosp,SIMDrateratios,RateRatios!$B$3)*10))))))","v":8236.4415307241579},{"$f":"IF('III Tool Overview'!$H$6=\"Orkney Health Board\",0,IF('III Tool Overview'!$H$6=\"Shetland Health Board\",0,IF('III Tool Overview'!$H$6=\"Western Isles Health Board\",0,IF('III Tool Overview'!$H$6=\"Orkney Islands Local Authority\",0,IF('III Tool Overview'!$H$6=\"Shetland Islands Local Authority\",0,IF('III Tool Overview'!$H$6=\"Eilean Siar Local Authority\",0,hosp_count(10,B68,C68,D68,$C$1,G68+H68,1,F68,F68,SIMDRateRatios_hosp,SIMDrateratios,RateRatios!$B$3)*10))))))","v":8182.6925683763948},53.748962347763154,{"$f":"IF('III Tool Overview'!$H$6=\"Orkney Health Board\",0,IF('III Tool Overview'!$H$6=\"Shetland Health Board\",0,IF('III Tool Overview'!$H$6=\"Western Isles Health Board\",0,IF('III Tool Overview'!$H$6=\"Orkney Islands Local Authority\",0,IF('III Tool Overview'!$H$6=\"Shetland Islands Local Authority\",0,IF('III Tool Overview'!$H$6=\"Eilean Siar Local Authority\",0,hosp_count(20,B68,C68,D68,$C$1,G68,1,F68,F68,SIMDRateRatios_hosp,SIMDrateratios,RateRatios!$B$3)*10))))))","v":21097.950660433969},{"$f":"IF('III Tool Overview'!$H$6=\"Orkney Health Board\",0,IF('III Tool Overview'!$H$6=\"Shetland Health Board\",0,IF('III Tool Overview'!$H$6=\"Western Isles Health Board\",0,IF('III Tool Overview'!$H$6=\"Orkney Islands Local Authority\",0,IF('III Tool Overview'!$H$6=\"Shetland Islands Local Authority\",0,IF('III Tool Overview'!$H$6=\"Eilean Siar Local Authority\",0,hosp_count(20,B68,C68,D68,$C$1,G68+H68,1,F68,F68,SIMDRateRatios_hosp,SIMDrateratios,RateRatios!$B$3)*10))))))","v":20961.109243972605},136.84141646136413]
["Male 10-14",12.5,"male",1,1,{"$f":"HLOOKUP('III Tool Overview'!$H$6,LookUpData_Pop!$B$1:$AV$269,LookUpData_Pop!BB70,FALSE)/50","v":1182.22},{"$f":"'III Tool Overview'!$H$9/110","v":0},1182.22,{"$f":"IF('III Tool Overview'!$H$6=\"Orkney Health Board\",0,IF('III Tool Overview'!$H$6=\"Shetland Health Board\",0,IF('III Tool Overview'!$H$6=\"Western Isles Health Board\",0,IF('III Tool Overview'!$H$6=\"Orkney Islands Local Authority\",0,IF('III Tool Overview'!$H$6=\"Shetland Islands Local Authority\",0,IF('III Tool Overview'!$H$6=\"Eilean Siar Local Authority\",0,new_ci(2,B69,C69,D69,$C$1,G69,1,F69,F69,SIMDrateratios,RateRatios!$B$3)*10))))))","v":7.6077427411949907},{"$f":"IF('III Tool Overview'!$H$6=\"Orkney Health Board\",0,IF('III Tool Overview'!$H$6=\"Shetland Health Board\",0,IF('III Tool Overview'!$H$6=\"Western Isles Health Board\",0,IF('III Tool Overview'!$H$6=\"Orkney Islands Local Authority\",0,IF('III Tool Overview'!$H$6=\"Shetland Islands Local Authority\",0,IF('III Tool Overview'!$H$6=\"Eilean Siar Local Authority\",0,new_ci(2,B69,C69,D69,$C$1,G69+H69,1,H69,H69,SIMDrateratios,RateRatios!$B$3)*10))))))","v":7.5437961352468106},{"$f":"IF('III Tool Overview'!$H$6=\"Orkney Health Board\",0,IF('III Tool Overview'!$H$6=\"Shetland Health Board\",0,IF('III Tool Overview'!$H$6=\"Western Isles Health Board\",0,IF('III Tool Overview'!$H$6=\"Orkney Islands Local Authority\",0,IF('III Tool Overview'!$H$6=\"Shetland Islands Local Authority\",0,IF('III Tool Overview'!$H$6=\"Eilean Siar Local Authority\",0,new_ci(5,B69,C69,D69,$C$1,G69,1,F69,F69,SIMDrateratios,RateRatios!$B$3)*1000))))))","v":3325.2273754939415},{"$f":"IF('III Tool Overview'!$H$6=\"Orkney Health Board\",0,IF('III Tool Overview'!$H$6=\"Shetland Health Board\",0,IF('III Tool Overview'!$H$6=\"Western Isles Health Board\",0,IF('III Tool Overview'!$H$6=\"Orkney Islands Local Authority\",0,IF('III Tool Overview'!$H$6=\"Shetland Islands Local Authority\",0,IF('III Tool Overview'!$H$6=\"Eilean Siar Local Authority\",0,new_ci(5,B69,C69,D69,$C$1,G69+H69,1,F69,F69,SIMDrateratios,RateRatios!$B$3)*1000))))))","v":3297.3074013575492},{"$f":"IF('III Tool Overview'!$H$6=\"Orkney Health Board\",0,IF('III Tool Overview'!$H$6=\"Shetland Health Board\",0,IF('III Tool Overview'!$H$6=\"Western Isles Health Board\",0,IF('III Tool Overview'!$H$6=\"Orkney Islands Local Authority\",0,IF('III Tool Overview'!$H$6=\"Shetland Islands Local Authority\",0,IF('III Tool Overview'!$H$6=\"Eilean Siar Local Authority\",0,new_ci(10,B69,C69,D69,$C$1,G69,1,F69,F69,SIMDrateratios,RateRatios!$B$3)*10))))))","v":87.18273532990662},{"$f":"IF('III Tool Overview'!$H$6=\"Orkney Health Board\",0,IF('III Tool Overview'!$H$6=\"Shetland Health Board\",0,IF('III Tool Overview'!$H$6=\"Western Isles Health Board\",0,IF('III Tool Overview'!$H$6=\"Orkney Islands Local Authority\",0,IF('III Tool Overview'!$H$6=\"Shetland Islands Local Authority\",0,IF('III Tool Overview'!$H$6=\"Eilean Siar Local Authority\",0,new_ci(10,B69,C69,D69,$C$1,G69+H69,1,F69,F69,SIMDrateratios,RateRatios!$B$3)*10))))))","v":86.452376934222301},{"$f":"IF('III Tool Overview'!$H$6=\"Orkney Health Board\",0,IF('III Tool Overview'!$H$6=\"Shetland Health Board\",0,IF('III Tool Overview'!$H$6=\"Western Isles Health Board\",0,IF('III Tool Overview'!$H$6=\"Orkney Islands Local Authority\",0,IF('III Tool Overview'!$H$6=\"Shetland Islands Local Authority\",0,IF('III Tool Overview'!$H$6=\"Eilean Siar Local Authority\",0,new_ci(20,B69,C69,D69,$C$1,G69,1,F69,F69,SIMDrateratios,RateRatios!$B$3)*10))))))","v":254.53264854946096},{"$f":"IF('III Tool Overview'!$H$6=\"Orkney Health Board\",0,IF('III Tool Overview'!$H$6=\"Shetland Health Board\",0,IF('III Tool Overview'!$H$6=\"Western Isles Health Board\",0,IF('III Tool Overview'!$H$6=\"Orkney Islands Local Authority\",0,IF('III Tool Overview'!$H$6=\"Shetland Islands Local Authority\",0,IF('III Tool Overview'!$H$6=\"Eilean Siar Local Authority\",0,new_ci(20,B69,C69,D69,$C$1,G69+H69,1,F69,F69,SIMDrateratios,RateRatios!$B$3)*10))))))","v":252.41551277717184},{"$f":"IF('III Tool Overview'!$H$6=\"Orkney Health Board\",0,IF('III Tool Overview'!$H$6=\"Shetland Health Board\",0,IF('III Tool Overview'!$H$6=\"Western Isles Health Board\",0,IF('III Tool Overview'!$H$6=\"Orkney Islands Local Authority\",0,IF('III Tool Overview'!$H$6=\"Shetland Islands Local Authority\",0,IF('III Tool Overview'!$H$6=\"Eilean Siar Local Authority\",0,new_yll(2,B69,C69,D69,$C$1,G69,1,F69,F69,SIMDrateratios,RateRatios!$B$3)*10))))))","v":661.87361848396426},{"$f":"IF('III Tool Overview'!$H$6=\"Orkney Health Board\",0,IF('III Tool Overview'!$H$6=\"Shetland Health Board\",0,IF('III Tool Overview'!$H$6=\"Western Isles Health Board\",0,IF('III Tool Overview'!$H$6=\"Orkney Islands Local Authority\",0,IF('III Tool Overview'!$H$6=\"Shetland Islands Local Authority\",0,IF('III Tool Overview'!$H$6=\"Eilean Siar Local Authority\",0,new_yll(2,B69,C69,D69,$C$1,G69+H69,1,F69,F69,SIMDrateratios,RateRatios!$B$3)*10))))))","v":656.31026376647253},5.5633547174917339,{"$f":"IF('III Tool Overview'!$H$6=\"Orkney Health Board\",0,IF('III Tool Overview'!$H$6=\"Shetland Health Board\",0,IF('III Tool Overview'!$H$6=\"Western Isles Health Board\",0,IF('III Tool Overview'!$H$6=\"Orkney Islands Local Authority\",0,IF('III Tool Overview'!$H$6=\"Shetland Islands Local Authority\",0,IF('III Tool Overview'!$H$6=\"Eilean Siar Local Authority\",0,new_yll(5,B69,C69,D69,$C$1,G69,1,F69,F69,SIMDrateratios,RateRatios!$B$3)*1000))))))","v":284067.30665142345},{"$f":"IF('III Tool Overview'!$H$6=\"Orkney Health Board\",0,IF('III Tool Overview'!$H$6=\"Shetland Health Board\",0,IF('III Tool Overview'!$H$6=\"Western Isles Health Board\",0,IF('III Tool Overview'!$H$6=\"Orkney Islands Local Authority\",0,IF('III Tool Overview'!$H$6=\"Shetland Islands Local Authority\",0,IF('III Tool Overview'!$H$6=\"Eilean Siar Local Authority\",0,new_yll(5,B69,C69,D69,$C$1,G69+H69,1,F69,F69,SIMDrateratios,RateRatios!$B$3)*1000))))))","v":281682.13657808542},2385.1700733380276,{"$f":"IF('III Tool Overview'!$H$6=\"Orkney Health Board\",0,IF('III Tool Overview'!$H$6=\"Shetland Health Board\",0,IF('III Tool Overview'!$H$6=\"Western Isles Health Board\",0,IF('III Tool Overview'!$H$6=\"Orkney Islands Local Authority\",0,IF('III Tool Overview'!$H$6=\"Shetland Islands Local Authority\",0,IF('III Tool Overview'!$H$6=\"Eilean Siar Local Authority\",0,new_yll(10,B69,C69,D69,$C$1,G69,1,F69,F69,SIMDrateratios,RateRatios!$B$3)*10))))))","v":7202.8480388186181},{"$f":"IF('III Tool Overview'!$H$6=\"Orkney Health Board\",0,IF('III Tool Overview'!$H$6=\"Shetland Health Board\",0,IF('III Tool Overview'!$H$6=\"Western Isles Health Board\",0,IF('III Tool Overview'!$H$6=\"Orkney Islands Local Authority\",0,IF('III Tool Overview'!$H$6=\"Shetland Islands Local Authority\",0,IF('III Tool Overview'!$H$6=\"Eilean Siar Local Authority\",0,new_yll(10,B69,C69,D69,$C$1,G69+H69,1,F69,F69,SIMDrateratios,RateRatios!$B$3)*10))))))","v":7142.5034680369163},60.344570781701805,{"$f":"IF('III Tool Overview'!$H$6=\"Orkney Health Board\",0,IF('III Tool Overview'!$H$6=\"Shetland Health Board\",0,IF('III Tool Overview'!$H$6=\"Western Isles Health Board\",0,IF('III Tool Overview'!$H$6=\"Orkney Islands Local Authority\",0,IF('III Tool Overview'!$H$6=\"Shetland Islands Local Authority\",0,IF('III Tool Overview'!$H$6=\"Eilean Siar Local Authority\",0,new_yll(20,B69,C69,D69,$C$1,G69,1,F69,F69,SIMDrateratios,RateRatios!$B$3)*10))))))","v":19424.84114766014},{"$f":"IF('III Tool Overview'!$H$6=\"Orkney Health Board\",0,IF('III Tool Overview'!$H$6=\"Shetland Health Board\",0,IF('III Tool Overview'!$H$6=\"Western Isles Health Board\",0,IF('III Tool Overview'!$H$6=\"Orkney Islands Local Authority\",0,IF('III Tool Overview'!$H$6=\"Shetland Islands Local Authority\",0,IF('III Tool Overview'!$H$6=\"Eilean Siar Local Authority\",0,new_yll(20,B69,C69,D69,$C$1,G69+H69,1,F69,F69,SIMDrateratios,RateRatios!$B$3)*10))))))","v":19263.200322537501},161.64082512263849,{"$f":"IF('III Tool Overview'!$H$6=\"Orkney Health Board\",0,IF('III Tool Overview'!$H$6=\"Shetland Health Board\",0,IF('III Tool Overview'!$H$6=\"Western Isles Health Board\",0,IF('III Tool Overview'!$H$6=\"Orkney Islands Local Authority\",0,IF('III Tool Overview'!$H$6=\"Shetland Islands Local Authority\",0,IF('III Tool Overview'!$H$6=\"Eilean Siar Local Authority\",0,hosp_count(2,B69,C69,D69,$C$1,G69,1,F69,F69,SIMDRateRatios_hosp,SIMDrateratios,RateRatios!$B$3)*10))))))","v":949.43417622257709},{"$f":"IF('III Tool Overview'!$H$6=\"Orkney Health Board\",0,IF('III Tool Overview'!$H$6=\"Shetland Health Board\",0,IF('III Tool Overview'!$H$6=\"Western Isles Health Board\",0,IF('III Tool Overview'!$H$6=\"Orkney Islands Local Authority\",0,IF('III Tool Overview'!$H$6=\"Shetland Islands Local Authority\",0,IF('III Tool Overview'!$H$6=\"Eilean Siar Local Authority\",0,hosp_count(2,B69,C69,D69,$C$1,G69+H69,1,F69,F69,SIMDRateRatios_hosp,SIMDrateratios,RateRatios!$B$3)*10))))))","v":943.2222148718414},6.2119613507356917,{"$f":"IF('III Tool Overview'!$H$6=\"Orkney Health Board\",0,IF('III Tool Overview'!$H$6=\"Shetland Health Board\",0,IF('III Tool Overview'!$H$6=\"Western Isles Health Board\",0,IF('III Tool Overview'!$H$6=\"Orkney Islands Local Authority\",0,IF('III Tool Overview'!$H$6=\"Shetland Islands Local Authority\",0,IF('III Tool Overview'!$H$6=\"Eilean Siar Local Authority\",0,hosp_count(5,B69,C69,D69,$C$1,G69,1,F69,F69,SIMDRateRatios_hosp,SIMDrateratios,RateRatios!$B$3)*1000))))))","v":401084.73114952585},{"$f":"IF('III Tool Overview'!$H$6=\"Orkney Health Board\",0,IF('III Tool Overview'!$H$6=\"Shetland Health Board\",0,IF('III Tool Overview'!$H$6=\"Western Isles Health Board\",0,IF('III Tool Overview'!$H$6=\"Orkney Islands Local Authority\",0,IF('III Tool Overview'!$H$6=\"Shetland Islands Local Authority\",0,IF('III Tool Overview'!$H$6=\"Eilean Siar Local Authority\",0,hosp_count(5,B69,C69,D69,$C$1,G69+H69,1,F69,F69,SIMDRateRatios_hosp,SIMDrateratios,RateRatios!$B$3)*1000))))))","v":398463.98178422631},2620.7493652995327,{"$f":"IF('III Tool Overview'!$H$6=\"Orkney Health Board\",0,IF('III Tool Overview'!$H$6=\"Shetland Health Board\",0,IF('III Tool Overview'!$H$6=\"Western Isles Health Board\",0,IF('III Tool Overview'!$H$6=\"Orkney Islands Local Authority\",0,IF('III Tool Overview'!$H$6=\"Shetland Islands Local Authority\",0,IF('III Tool Overview'!$H$6=\"Eilean Siar Local Authority\",0,hosp_count(10,B69,C69,D69,$C$1,G69,1,F69,F69,SIMDRateRatios_hosp,SIMDrateratios,RateRatios!$B$3)*10))))))","v":9902.1154311725677},{"$f":"IF('III Tool Overview'!$H$6=\"Orkney Health Board\",0,IF('III Tool Overview'!$H$6=\"Shetland Health Board\",0,IF('III Tool Overview'!$H$6=\"Western Isles Health Board\",0,IF('III Tool Overview'!$H$6=\"Orkney Islands Local Authority\",0,IF('III Tool Overview'!$H$6=\"Shetland Islands Local Authority\",0,IF('III Tool Overview'!$H$6=\"Eilean Siar Local Authority\",0,hosp_count(10,B69,C69,D69,$C$1,G69+H69,1,F69,F69,SIMDRateRatios_hosp,SIMDrateratios,RateRatios!$B$3)*10))))))","v":9837.5892519316185},64.526179240949205,{"$f":"IF('III Tool Overview'!$H$6=\"Orkney Health Board\",0,IF('III Tool Overview'!$H$6=\"Shetland Health Board\",0,IF('III Tool Overview'!$H$6=\"Western Isles Health Board\",0,IF('III Tool Overview'!$H$6=\"Orkney Islands Local Authority\",0,IF('III Tool Overview'!$H$6=\"Shetland Islands Local Authority\",0,IF('III Tool Overview'!$H$6=\"Eilean Siar Local Authority\",0,hosp_count(20,B69,C69,D69,$C$1,G69,1,F69,F69,SIMDRateRatios_hosp,SIMDrateratios,RateRatios!$B$3)*10))))))","v":25324.175296807098},{"$f":"IF('III Tool Overview'!$H$6=\"Orkney Health Board\",0,IF('III Tool Overview'!$H$6=\"Shetland Health Board\",0,IF('III Tool Overview'!$H$6=\"Western Isles Health Board\",0,IF('III Tool Overview'!$H$6=\"Orkney Islands Local Authority\",0,IF('III Tool Overview'!$H$6=\"Shetland Islands Local Authority\",0,IF('III Tool Overview'!$H$6=\"Eilean Siar Local Authority\",0,hosp_count(20,B69,C69,D69,$C$1,G69+H69,1,F69,F69,SIMDRateRatios_hosp,SIMDrateratios,RateRatios!$B$3)*10))))))","v":25160.495065344494},163.68023146260384]
["Male 15-19",17.5,"male",1,1,{"$f":"HLOOKUP('III Tool Overview'!$H$6,LookUpData_Pop!$B$1:$AV$269,LookUpData_Pop!BB71,FALSE)/50","v":1374.8},{"$f":"'III Tool Overview'!$H$9/110","v":0},1374.8,{"$f":"IF('III Tool Overview'!$H$6=\"Orkney Health Board\",0,IF('III Tool Overview'!$H$6=\"Shetland Health Board\",0,IF('III Tool Overview'!$H$6=\"Western Isles Health Board\",0,IF('III Tool Overview'!$H$6=\"Orkney Islands Local Authority\",0,IF('III Tool Overview'!$H$6=\"Shetland Islands Local Authority\",0,IF('III Tool Overview'!$H$6=\"Eilean Siar Local Authority\",0,new_ci(2,B70,C70,D70,$C$1,G70,1,F70,F70,SIMDrateratios,RateRatios!$B$3)*10))))))","v":13.657779811497413},{"$f":"IF('III Tool Overview'!$H$6=\"Orkney Health Board\",0,IF('III Tool Overview'!$H$6=\"Shetland Health Board\",0,IF('III Tool Overview'!$H$6=\"Western Isles Health Board\",0,IF('III Tool Overview'!$H$6=\"Orkney Islands Local Authority\",0,IF('III Tool Overview'!$H$6=\"Shetland Islands Local Authority\",0,IF('III Tool Overview'!$H$6=\"Eilean Siar Local Authority\",0,new_ci(2,B70,C70,D70,$C$1,G70+H70,1,H70,H70,SIMDrateratios,RateRatios!$B$3)*10))))))","v":13.542961707962966},{"$f":"IF('III Tool Overview'!$H$6=\"Orkney Health Board\",0,IF('III Tool Overview'!$H$6=\"Shetland Health Board\",0,IF('III Tool Overview'!$H$6=\"Western Isles Health Board\",0,IF('III Tool Overview'!$H$6=\"Orkney Islands Local Authority\",0,IF('III Tool Overview'!$H$6=\"Shetland Islands Local Authority\",0,IF('III Tool Overview'!$H$6=\"Eilean Siar Local Authority\",0,new_ci(5,B70,C70,D70,$C$1,G70,1,F70,F70,SIMDrateratios,RateRatios!$B$3)*1000))))))","v":5966.0806367674359},{"$f":"IF('III Tool Overview'!$H$6=\"Orkney Health Board\",0,IF('III Tool Overview'!$H$6=\"Shetland Health Board\",0,IF('III Tool Overview'!$H$6=\"Western Isles Health Board\",0,IF('III Tool Overview'!$H$6=\"Orkney Islands Local Authority\",0,IF('III Tool Overview'!$H$6=\"Shetland Islands Local Authority\",0,IF('III Tool Overview'!$H$6=\"Eilean Siar Local Authority\",0,new_ci(5,B70,C70,D70,$C$1,G70+H70,1,F70,F70,SIMDrateratios,RateRatios!$B$3)*1000))))))","v":5916.0084416494738},{"$f":"IF('III Tool Overview'!$H$6=\"Orkney Health Board\",0,IF('III Tool Overview'!$H$6=\"Shetland Health Board\",0,IF('III Tool Overview'!$H$6=\"Western Isles Health Board\",0,IF('III Tool Overview'!$H$6=\"Orkney Islands Local Authority\",0,IF('III Tool Overview'!$H$6=\"Shetland Islands Local Authority\",0,IF('III Tool Overview'!$H$6=\"Eilean Siar Local Authority\",0,new_ci(10,B70,C70,D70,$C$1,G70,1,F70,F70,SIMDrateratios,RateRatios!$B$3)*10))))))","v":156.22759889233856},{"$f":"IF('III Tool Overview'!$H$6=\"Orkney Health Board\",0,IF('III Tool Overview'!$H$6=\"Shetland Health Board\",0,IF('III Tool Overview'!$H$6=\"Western Isles Health Board\",0,IF('III Tool Overview'!$H$6=\"Orkney Islands Local Authority\",0,IF('III Tool Overview'!$H$6=\"Shetland Islands Local Authority\",0,IF('III Tool Overview'!$H$6=\"Eilean Siar Local Authority\",0,new_ci(10,B70,C70,D70,$C$1,G70+H70,1,F70,F70,SIMDrateratios,RateRatios!$B$3)*10))))))","v":154.92101035176773},{"$f":"IF('III Tool Overview'!$H$6=\"Orkney Health Board\",0,IF('III Tool Overview'!$H$6=\"Shetland Health Board\",0,IF('III Tool Overview'!$H$6=\"Western Isles Health Board\",0,IF('III Tool Overview'!$H$6=\"Orkney Islands Local Authority\",0,IF('III Tool Overview'!$H$6=\"Shetland Islands Local Authority\",0,IF('III Tool Overview'!$H$6=\"Eilean Siar Local Authority\",0,new_ci(20,B70,C70,D70,$C$1,G70,1,F70,F70,SIMDrateratios,RateRatios!$B$3)*10))))))","v":454.34358985286042},{"$f":"IF('III Tool Overview'!$H$6=\"Orkney Health Board\",0,IF('III Tool Overview'!$H$6=\"Shetland Health Board\",0,IF('III Tool Overview'!$H$6=\"Western Isles Health Board\",0,IF('III Tool Overview'!$H$6=\"Orkney Islands Local Authority\",0,IF('III Tool Overview'!$H$6=\"Shetland Islands Local Authority\",0,IF('III Tool Overview'!$H$6=\"Eilean Siar Local Authority\",0,new_ci(20,B70,C70,D70,$C$1,G70+H70,1,F70,F70,SIMDrateratios,RateRatios!$B$3)*10))))))","v":450.58545726669337},{"$f":"IF('III Tool Overview'!$H$6=\"Orkney Health Board\",0,IF('III Tool Overview'!$H$6=\"Shetland Health Board\",0,IF('III Tool Overview'!$H$6=\"Western Isles Health Board\",0,IF('III Tool Overview'!$H$6=\"Orkney Islands Local Authority\",0,IF('III Tool Overview'!$H$6=\"Shetland Islands Local Authority\",0,IF('III Tool Overview'!$H$6=\"Eilean Siar Local Authority\",0,new_yll(2,B70,C70,D70,$C$1,G70,1,F70,F70,SIMDrateratios,RateRatios!$B$3)*10))))))","v":1106.2801647312904},{"$f":"IF('III Tool Overview'!$H$6=\"Orkney Health Board\",0,IF('III Tool Overview'!$H$6=\"Shetland Health Board\",0,IF('III Tool Overview'!$H$6=\"Western Isles Health Board\",0,IF('III Tool Overview'!$H$6=\"Orkney Islands Local Authority\",0,IF('III Tool Overview'!$H$6=\"Shetland Islands Local Authority\",0,IF('III Tool Overview'!$H$6=\"Eilean Siar Local Authority\",0,new_yll(2,B70,C70,D70,$C$1,G70+H70,1,F70,F70,SIMDrateratios,RateRatios!$B$3)*10))))))","v":1096.9798983450003},9.3002663862901045,{"$f":"IF('III Tool Overview'!$H$6=\"Orkney Health Board\",0,IF('III Tool Overview'!$H$6=\"Shetland Health Board\",0,IF('III Tool Overview'!$H$6=\"Western Isles Health Board\",0,IF('III Tool Overview'!$H$6=\"Orkney Islands Local Authority\",0,IF('III Tool Overview'!$H$6=\"Shetland Islands Local Authority\",0,IF('III Tool Overview'!$H$6=\"Eilean Siar Local Authority\",0,new_yll(5,B70,C70,D70,$C$1,G70,1,F70,F70,SIMDrateratios,RateRatios!$B$3)*1000))))))","v":473876.31318973185},{"$f":"IF('III Tool Overview'!$H$6=\"Orkney Health Board\",0,IF('III Tool Overview'!$H$6=\"Shetland Health Board\",0,IF('III Tool Overview'!$H$6=\"Western Isles Health Board\",0,IF('III Tool Overview'!$H$6=\"Orkney Islands Local Authority\",0,IF('III Tool Overview'!$H$6=\"Shetland Islands Local Authority\",0,IF('III Tool Overview'!$H$6=\"Eilean Siar Local Authority\",0,new_yll(5,B70,C70,D70,$C$1,G70+H70,1,F70,F70,SIMDrateratios,RateRatios!$B$3)*1000))))))","v":469899.09074653621},3977.222443195642,{"$f":"IF('III Tool Overview'!$H$6=\"Orkney Health Board\",0,IF('III Tool Overview'!$H$6=\"Shetland Health Board\",0,IF('III Tool Overview'!$H$6=\"Western Isles Health Board\",0,IF('III Tool Overview'!$H$6=\"Orkney Islands Local Authority\",0,IF('III Tool Overview'!$H$6=\"Shetland Islands Local Authority\",0,IF('III Tool Overview'!$H$6=\"Eilean Siar Local Authority\",0,new_yll(10,B70,C70,D70,$C$1,G70,1,F70,F70,SIMDrateratios,RateRatios!$B$3)*10))))))","v":11970.28060810764},{"$f":"IF('III Tool Overview'!$H$6=\"Orkney Health Board\",0,IF('III Tool Overview'!$H$6=\"Shetland Health Board\",0,IF('III Tool Overview'!$H$6=\"Western Isles Health Board\",0,IF('III Tool Overview'!$H$6=\"Orkney Islands Local Authority\",0,IF('III Tool Overview'!$H$6=\"Shetland Islands Local Authority\",0,IF('III Tool Overview'!$H$6=\"Eilean Siar Local Authority\",0,new_yll(10,B70,C70,D70,$C$1,G70+H70,1,F70,F70,SIMDrateratios,RateRatios!$B$3)*10))))))","v":11870.15784558727},100.12276252037009,{"$f":"IF('III Tool Overview'!$H$6=\"Orkney Health Board\",0,IF('III Tool Overview'!$H$6=\"Shetland Health Board\",0,IF('III Tool Overview'!$H$6=\"Western Isles Health Board\",0,IF('III Tool Overview'!$H$6=\"Orkney Islands Local Authority\",0,IF('III Tool Overview'!$H$6=\"Shetland Islands Local Authority\",0,IF('III Tool Overview'!$H$6=\"Eilean Siar Local Authority\",0,new_yll(20,B70,C70,D70,$C$1,G70,1,F70,F70,SIMDrateratios,RateRatios!$B$3)*10))))))","v":31955.659820029778},{"$f":"IF('III Tool Overview'!$H$6=\"Orkney Health Board\",0,IF('III Tool Overview'!$H$6=\"Shetland Health Board\",0,IF('III Tool Overview'!$H$6=\"Western Isles Health Board\",0,IF('III Tool Overview'!$H$6=\"Orkney Islands Local Authority\",0,IF('III Tool Overview'!$H$6=\"Shetland Islands Local Authority\",0,IF('III Tool Overview'!$H$6=\"Eilean Siar Local Authority\",0,new_yll(20,B70,C70,D70,$C$1,G70+H70,1,F70,F70,SIMDrateratios,RateRatios!$B$3)*10))))))","v":31691.143159765288},264.51666026448947,{"$f":"IF('III Tool Overview'!$H$6=\"Orkney Health Board\",0,IF('III Tool Overview'!$H$6=\"Shetland Health Board\",0,IF('III Tool Overview'!$H$6=\"Western Isles Health Board\",0,IF('III Tool Overview'!$H$6=\"Orkney Islands Local Authority\",0,IF('III Tool Overview'!$H$6=\"Shetland Islands Local Authority\",0,IF('III Tool Overview'!$H$6=\"Eilean Siar Local Authority\",0,hosp_count(2,B70,C70,D70,$C$1,G70,1,F70,F70,SIMDRateRatios_hosp,SIMDrateratios,RateRatios!$B$3)*10))))))","v":1361.2149098648069},{"$f":"IF('III Tool Overview'!$H$6=\"Orkney Health Board\",0,IF('III Tool Overview'!$H$6=\"Shetland Health Board\",0,IF('III Tool Overview'!$H$6=\"Western Isles Health Board\",0,IF('III Tool Overview'!$H$6=\"Orkney Islands Local Authority\",0,IF('III Tool Overview'!$H$6=\"Shetland Islands Local Authority\",0,IF('III Tool Overview'!$H$6=\"Eilean Siar Local Authority\",0,hosp_count(2,B70,C70,D70,$C$1,G70+H70,1,F70,F70,SIMDRateRatios_hosp,SIMDrateratios,RateRatios!$B$3)*10))))))","v":1352.3057945130222},8.9091153517847488,{"$f":"IF('III Tool Overview'!$H$6=\"Orkney Health Board\",0,IF('III Tool Overview'!$H$6=\"Shetland Health Board\",0,IF('III Tool Overview'!$H$6=\"Western Isles Health Board\",0,IF('III Tool Overview'!$H$6=\"Orkney Islands Local Authority\",0,IF('III Tool Overview'!$H$6=\"Shetland Islands Local Authority\",0,IF('III Tool Overview'!$H$6=\"Eilean Siar Local Authority\",0,hosp_count(5,B70,C70,D70,$C$1,G70,1,F70,F70,SIMDRateRatios_hosp,SIMDrateratios,RateRatios!$B$3)*1000))))))","v":574716.07147876383},{"$f":"IF('III Tool Overview'!$H$6=\"Orkney Health Board\",0,IF('III Tool Overview'!$H$6=\"Shetland Health Board\",0,IF('III Tool Overview'!$H$6=\"Western Isles Health Board\",0,IF('III Tool Overview'!$H$6=\"Orkney Islands Local Authority\",0,IF('III Tool Overview'!$H$6=\"Shetland Islands Local Authority\",0,IF('III Tool Overview'!$H$6=\"Eilean Siar Local Authority\",0,hosp_count(5,B70,C70,D70,$C$1,G70+H70,1,F70,F70,SIMDRateRatios_hosp,SIMDrateratios,RateRatios!$B$3)*1000))))))","v":570962.24591986637},3753.8255588974571,{"$f":"IF('III Tool Overview'!$H$6=\"Orkney Health Board\",0,IF('III Tool Overview'!$H$6=\"Shetland Health Board\",0,IF('III Tool Overview'!$H$6=\"Western Isles Health Board\",0,IF('III Tool Overview'!$H$6=\"Orkney Islands Local Authority\",0,IF('III Tool Overview'!$H$6=\"Shetland Islands Local Authority\",0,IF('III Tool Overview'!$H$6=\"Eilean Siar Local Authority\",0,hosp_count(10,B70,C70,D70,$C$1,G70,1,F70,F70,SIMDRateRatios_hosp,SIMDrateratios,RateRatios!$B$3)*10))))))","v":14172.39867947341},{"$f":"IF('III Tool Overview'!$H$6=\"Orkney Health Board\",0,IF('III Tool Overview'!$H$6=\"Shetland Health Board\",0,IF('III Tool Overview'!$H$6=\"Western Isles Health Board\",0,IF('III Tool Overview'!$H$6=\"Orkney Islands Local Authority\",0,IF('III Tool Overview'!$H$6=\"Shetland Islands Local Authority\",0,IF('III Tool Overview'!$H$6=\"Eilean Siar Local Authority\",0,hosp_count(10,B70,C70,D70,$C$1,G70+H70,1,F70,F70,SIMDRateRatios_hosp,SIMDrateratios,RateRatios!$B$3)*10))))))","v":14080.218190294645},92.180489178765129,{"$f":"IF('III Tool Overview'!$H$6=\"Orkney Health Board\",0,IF('III Tool Overview'!$H$6=\"Shetland Health Board\",0,IF('III Tool Overview'!$H$6=\"Western Isles Health Board\",0,IF('III Tool Overview'!$H$6=\"Orkney Islands Local Authority\",0,IF('III Tool Overview'!$H$6=\"Shetland Islands Local Authority\",0,IF('III Tool Overview'!$H$6=\"Eilean Siar Local Authority\",0,hosp_count(20,B70,C70,D70,$C$1,G70,1,F70,F70,SIMDRateRatios_hosp,SIMDrateratios,RateRatios!$B$3)*10))))))","v":36120.489893287697},{"$f":"IF('III Tool Overview'!$H$6=\"Orkney Health Board\",0,IF('III Tool Overview'!$H$6=\"Shetland Health Board\",0,IF('III Tool Overview'!$H$6=\"Western Isles Health Board\",0,IF('III Tool Overview'!$H$6=\"Orkney Islands Local Authority\",0,IF('III Tool Overview'!$H$6=\"Shetland Islands Local Authority\",0,IF('III Tool Overview'!$H$6=\"Eilean Siar Local Authority\",0,hosp_count(20,B70,C70,D70,$C$1,G70+H70,1,F70,F70,SIMDRateRatios_hosp,SIMDrateratios,RateRatios!$B$3)*10))))))","v":35888.502956386321},231.98693690137588]
["Male 20-24",22.5,"male",1,1,{"$f":"HLOOKUP('III Tool Overview'!$H$6,LookUpData_Pop!$B$1:$AV$269,LookUpData_Pop!BB72,FALSE)/50","v":1661.88},{"$f":"'III Tool Overview'!$H$9/110","v":0},1661.88,{"$f":"IF('III Tool Overview'!$H$6=\"Orkney Health Board\",0,IF('III Tool Overview'!$H$6=\"Shetland Health Board\",0,IF('III Tool Overview'!$H$6=\"Western Isles Health Board\",0,IF('III Tool Overview'!$H$6=\"Orkney Islands Local Authority\",0,IF('III Tool Overview'!$H$6=\"Shetland Islands Local Authority\",0,IF('III Tool Overview'!$H$6=\"Eilean Siar Local Authority\",0,new_ci(2,B71,C71,D71,$C$1,G71,1,F71,F71,SIMDrateratios,RateRatios!$B$3)*10))))))","v":22.051619923673975},{"$f":"IF('III Tool Overview'!$H$6=\"Orkney Health Board\",0,IF('III Tool Overview'!$H$6=\"Shetland Health Board\",0,IF('III Tool Overview'!$H$6=\"Western Isles Health Board\",0,IF('III Tool Overview'!$H$6=\"Orkney Islands Local Authority\",0,IF('III Tool Overview'!$H$6=\"Shetland Islands Local Authority\",0,IF('III Tool Overview'!$H$6=\"Eilean Siar Local Authority\",0,new_ci(2,B71,C71,D71,$C$1,G71+H71,1,H71,H71,SIMDrateratios,RateRatios!$B$3)*10))))))","v":21.866280826251817},{"$f":"IF('III Tool Overview'!$H$6=\"Orkney Health Board\",0,IF('III Tool Overview'!$H$6=\"Shetland Health Board\",0,IF('III Tool Overview'!$H$6=\"Western Isles Health Board\",0,IF('III Tool Overview'!$H$6=\"Orkney Islands Local Authority\",0,IF('III Tool Overview'!$H$6=\"Shetland Islands Local Authority\",0,IF('III Tool Overview'!$H$6=\"Eilean Siar Local Authority\",0,new_ci(5,B71,C71,D71,$C$1,G71,1,F71,F71,SIMDrateratios,RateRatios!$B$3)*1000))))))","v":9627.3120062541439},{"$f":"IF('III Tool Overview'!$H$6=\"Orkney Health Board\",0,IF('III Tool Overview'!$H$6=\"Shetland Health Board\",0,IF('III Tool Overview'!$H$6=\"Western Isles Health Board\",0,IF('III Tool Overview'!$H$6=\"Orkney Islands Local Authority\",0,IF('III Tool Overview'!$H$6=\"Shetland Islands Local Authority\",0,IF('III Tool Overview'!$H$6=\"Eilean Siar Local Authority\",0,new_ci(5,B71,C71,D71,$C$1,G71+H71,1,F71,F71,SIMDrateratios,RateRatios!$B$3)*1000))))))","v":9546.5762483013732},{"$f":"IF('III Tool Overview'!$H$6=\"Orkney Health Board\",0,IF('III Tool Overview'!$H$6=\"Shetland Health Board\",0,IF('III Tool Overview'!$H$6=\"Western Isles Health Board\",0,IF('III Tool Overview'!$H$6=\"Orkney Islands Local Authority\",0,IF('III Tool Overview'!$H$6=\"Shetland Islands Local Authority\",0,IF('III Tool Overview'!$H$6=\"Eilean Siar Local Authority\",0,new_ci(10,B71,C71,D71,$C$1,G71,1,F71,F71,SIMDrateratios,RateRatios!$B$3)*10))))))","v":251.80183324198731},{"$f":"IF('III Tool Overview'!$H$6=\"Orkney Health Board\",0,IF('III Tool Overview'!$H$6=\"Shetland Health Board\",0,IF('III Tool Overview'!$H$6=\"Western Isles Health Board\",0,IF('III Tool Overview'!$H$6=\"Orkney Islands Local Authority\",0,IF('III Tool Overview'!$H$6=\"Shetland Islands Local Authority\",0,IF('III Tool Overview'!$H$6=\"Eilean Siar Local Authority\",0,new_ci(10,B71,C71,D71,$C$1,G71+H71,1,F71,F71,SIMDrateratios,RateRatios!$B$3)*10))))))","v":249.7000897314536},{"$f":"IF('III Tool Overview'!$H$6=\"Orkney Health Board\",0,IF('III Tool Overview'!$H$6=\"Shetland Health Board\",0,IF('III Tool Overview'!$H$6=\"Western Isles Health Board\",0,IF('III Tool Overview'!$H$6=\"Orkney Islands Local Authority\",0,IF('III Tool Overview'!$H$6=\"Shetland Islands Local Authority\",0,IF('III Tool Overview'!$H$6=\"Eilean Siar Local Authority\",0,new_ci(20,B71,C71,D71,$C$1,G71,1,F71,F71,SIMDrateratios,RateRatios!$B$3)*10))))))","v":729.59541911486167},{"$f":"IF('III Tool Overview'!$H$6=\"Orkney Health Board\",0,IF('III Tool Overview'!$H$6=\"Shetland Health Board\",0,IF('III Tool Overview'!$H$6=\"Western Isles Health Board\",0,IF('III Tool Overview'!$H$6=\"Orkney Islands Local Authority\",0,IF('III Tool Overview'!$H$6=\"Shetland Islands Local Authority\",0,IF('III Tool Overview'!$H$6=\"Eilean Siar Local Authority\",0,new_ci(20,B71,C71,D71,$C$1,G71+H71,1,F71,F71,SIMDrateratios,RateRatios!$B$3)*10))))))","v":723.59486523612236},{"$f":"IF('III Tool Overview'!$H$6=\"Orkney Health Board\",0,IF('III Tool Overview'!$H$6=\"Shetland Health Board\",0,IF('III Tool Overview'!$H$6=\"Western Isles Health Board\",0,IF('III Tool Overview'!$H$6=\"Orkney Islands Local Authority\",0,IF('III Tool Overview'!$H$6=\"Shetland Islands Local Authority\",0,IF('III Tool Overview'!$H$6=\"Eilean Siar Local Authority\",0,new_yll(2,B71,C71,D71,$C$1,G71,1,F71,F71,SIMDrateratios,RateRatios!$B$3)*10))))))","v":1697.9747341228961},{"$f":"IF('III Tool Overview'!$H$6=\"Orkney Health Board\",0,IF('III Tool Overview'!$H$6=\"Shetland Health Board\",0,IF('III Tool Overview'!$H$6=\"Western Isles Health Board\",0,IF('III Tool Overview'!$H$6=\"Orkney Islands Local Authority\",0,IF('III Tool Overview'!$H$6=\"Shetland Islands Local Authority\",0,IF('III Tool Overview'!$H$6=\"Eilean Siar Local Authority\",0,new_yll(2,B71,C71,D71,$C$1,G71+H71,1,F71,F71,SIMDrateratios,RateRatios!$B$3)*10))))))","v":1683.7036236213899},14.2711105015062,{"$f":"IF('III Tool Overview'!$H$6=\"Orkney Health Board\",0,IF('III Tool Overview'!$H$6=\"Shetland Health Board\",0,IF('III Tool Overview'!$H$6=\"Western Isles Health Board\",0,IF('III Tool Overview'!$H$6=\"Orkney Islands Local Authority\",0,IF('III Tool Overview'!$H$6=\"Shetland Islands Local Authority\",0,IF('III Tool Overview'!$H$6=\"Eilean Siar Local Authority\",0,new_yll(5,B71,C71,D71,$C$1,G71,1,F71,F71,SIMDrateratios,RateRatios!$B$3)*1000))))))","v":726177.24570139416},{"$f":"IF('III Tool Overview'!$H$6=\"Orkney Health Board\",0,IF('III Tool Overview'!$H$6=\"Shetland Health Board\",0,IF('III Tool Overview'!$H$6=\"Western Isles Health Board\",0,IF('III Tool Overview'!$H$6=\"Orkney Islands Local Authority\",0,IF('III Tool Overview'!$H$6=\"Shetland Islands Local Authority\",0,IF('III Tool Overview'!$H$6=\"Eilean Siar Local Authority\",0,new_yll(5,B71,C71,D71,$C$1,G71+H71,1,F71,F71,SIMDrateratios,RateRatios!$B$3)*1000))))))","v":720087.29341974785},6089.9522816463141,{"$f":"IF('III Tool Overview'!$H$6=\"Orkney Health Board\",0,IF('III Tool Overview'!$H$6=\"Shetland Health Board\",0,IF('III Tool Overview'!$H$6=\"Western Isles Health Board\",0,IF('III Tool Overview'!$H$6=\"Orkney Islands Local Authority\",0,IF('III Tool Overview'!$H$6=\"Shetland Islands Local Authority\",0,IF('III Tool Overview'!$H$6=\"Eilean Siar Local Authority\",0,new_yll(10,B71,C71,D71,$C$1,G71,1,F71,F71,SIMDrateratios,RateRatios!$B$3)*10))))))","v":18286.755114875272},{"$f":"IF('III Tool Overview'!$H$6=\"Orkney Health Board\",0,IF('III Tool Overview'!$H$6=\"Shetland Health Board\",0,IF('III Tool Overview'!$H$6=\"Western Isles Health Board\",0,IF('III Tool Overview'!$H$6=\"Orkney Islands Local Authority\",0,IF('III Tool Overview'!$H$6=\"Shetland Islands Local Authority\",0,IF('III Tool Overview'!$H$6=\"Eilean Siar Local Authority\",0,new_yll(10,B71,C71,D71,$C$1,G71+H71,1,F71,F71,SIMDrateratios,RateRatios!$B$3)*10))))))","v":18134.095408437752},152.65970643752007,{"$f":"IF('III Tool Overview'!$H$6=\"Orkney Health Board\",0,IF('III Tool Overview'!$H$6=\"Shetland Health Board\",0,IF('III Tool Overview'!$H$6=\"Western Isles Health Board\",0,IF('III Tool Overview'!$H$6=\"Orkney Islands Local Authority\",0,IF('III Tool Overview'!$H$6=\"Shetland Islands Local Authority\",0,IF('III Tool Overview'!$H$6=\"Eilean Siar Local Authority\",0,new_yll(20,B71,C71,D71,$C$1,G71,1,F71,F71,SIMDrateratios,RateRatios!$B$3)*10))))))","v":48409.258684646877},{"$f":"IF('III Tool Overview'!$H$6=\"Orkney Health Board\",0,IF('III Tool Overview'!$H$6=\"Shetland Health Board\",0,IF('III Tool Overview'!$H$6=\"Western Isles Health Board\",0,IF('III Tool Overview'!$H$6=\"Orkney Islands Local Authority\",0,IF('III Tool Overview'!$H$6=\"Shetland Islands Local Authority\",0,IF('III Tool Overview'!$H$6=\"Eilean Siar Local Authority\",0,new_yll(20,B71,C71,D71,$C$1,G71+H71,1,F71,F71,SIMDrateratios,RateRatios!$B$3)*10))))))","v":48010.70208332959},398.55660131728655,{"$f":"IF('III Tool Overview'!$H$6=\"Orkney Health Board\",0,IF('III Tool Overview'!$H$6=\"Shetland Health Board\",0,IF('III Tool Overview'!$H$6=\"Western Isles Health Board\",0,IF('III Tool Overview'!$H$6=\"Orkney Islands Local Authority\",0,IF('III Tool Overview'!$H$6=\"Shetland Islands Local Authority\",0,IF('III Tool Overview'!$H$6=\"Eilean Siar Local Authority\",0,hosp_count(2,B71,C71,D71,$C$1,G71,1,F71,F71,SIMDRateRatios_hosp,SIMDrateratios,RateRatios!$B$3)*10))))))","v":1891.9104624418887},{"$f":"IF('III Tool Overview'!$H$6=\"Orkney Health Board\",0,IF('III Tool Overview'!$H$6=\"Shetland Health Board\",0,IF('III Tool Overview'!$H$6=\"Western Isles Health Board\",0,IF('III Tool Overview'!$H$6=\"Orkney Islands Local Authority\",0,IF('III Tool Overview'!$H$6=\"Shetland Islands Local Authority\",0,IF('III Tool Overview'!$H$6=\"Eilean Siar Local Authority\",0,hosp_count(2,B71,C71,D71,$C$1,G71+H71,1,F71,F71,SIMDRateRatios_hosp,SIMDrateratios,RateRatios!$B$3)*10))))))","v":1879.5288659380694},12.38159650381931,{"$f":"IF('III Tool Overview'!$H$6=\"Orkney Health Board\",0,IF('III Tool Overview'!$H$6=\"Shetland Health Board\",0,IF('III Tool Overview'!$H$6=\"Western Isles Health Board\",0,IF('III Tool Overview'!$H$6=\"Orkney Islands Local Authority\",0,IF('III Tool Overview'!$H$6=\"Shetland Islands Local Authority\",0,IF('III Tool Overview'!$H$6=\"Eilean Siar Local Authority\",0,hosp_count(5,B71,C71,D71,$C$1,G71,1,F71,F71,SIMDRateRatios_hosp,SIMDrateratios,RateRatios!$B$3)*1000))))))","v":798351.40178877907},{"$f":"IF('III Tool Overview'!$H$6=\"Orkney Health Board\",0,IF('III Tool Overview'!$H$6=\"Shetland Health Board\",0,IF('III Tool Overview'!$H$6=\"Western Isles Health Board\",0,IF('III Tool Overview'!$H$6=\"Orkney Islands Local Authority\",0,IF('III Tool Overview'!$H$6=\"Shetland Islands Local Authority\",0,IF('III Tool Overview'!$H$6=\"Eilean Siar Local Authority\",0,hosp_count(5,B71,C71,D71,$C$1,G71+H71,1,F71,F71,SIMDRateRatios_hosp,SIMDrateratios,RateRatios!$B$3)*1000))))))","v":793140.83496522647},5210.5668235525955,{"$f":"IF('III Tool Overview'!$H$6=\"Orkney Health Board\",0,IF('III Tool Overview'!$H$6=\"Shetland Health Board\",0,IF('III Tool Overview'!$H$6=\"Western Isles Health Board\",0,IF('III Tool Overview'!$H$6=\"Orkney Islands Local Authority\",0,IF('III Tool Overview'!$H$6=\"Shetland Islands Local Authority\",0,IF('III Tool Overview'!$H$6=\"Eilean Siar Local Authority\",0,hosp_count(10,B71,C71,D71,$C$1,G71,1,F71,F71,SIMDRateRatios_hosp,SIMDrateratios,RateRatios!$B$3)*10))))))","v":19665.55224834778},{"$f":"IF('III Tool Overview'!$H$6=\"Orkney Health Board\",0,IF('III Tool Overview'!$H$6=\"Shetland Health Board\",0,IF('III Tool Overview'!$H$6=\"Western Isles Health Board\",0,IF('III Tool Overview'!$H$6=\"Orkney Islands Local Authority\",0,IF('III Tool Overview'!$H$6=\"Shetland Islands Local Authority\",0,IF('III Tool Overview'!$H$6=\"Eilean Siar Local Authority\",0,hosp_count(10,B71,C71,D71,$C$1,G71+H71,1,F71,F71,SIMDRateRatios_hosp,SIMDrateratios,RateRatios!$B$3)*10))))))","v":19537.920816210702},127.63143213707735,{"$f":"IF('III Tool Overview'!$H$6=\"Orkney Health Board\",0,IF('III Tool Overview'!$H$6=\"Shetland Health Board\",0,IF('III Tool Overview'!$H$6=\"Western Isles Health Board\",0,IF('III Tool Overview'!$H$6=\"Orkney Islands Local Authority\",0,IF('III Tool Overview'!$H$6=\"Shetland Islands Local Authority\",0,IF('III Tool Overview'!$H$6=\"Eilean Siar Local Authority\",0,hosp_count(20,B71,C71,D71,$C$1,G71,1,F71,F71,SIMDRateRatios_hosp,SIMDrateratios,RateRatios!$B$3)*10))))))","v":49956.639867867169},{"$f":"IF('III Tool Overview'!$H$6=\"Orkney Health Board\",0,IF('III Tool Overview'!$H$6=\"Shetland Health Board\",0,IF('III Tool Overview'!$H$6=\"Western Isles Health Board\",0,IF('III Tool Overview'!$H$6=\"Orkney Islands Local Authority\",0,IF('III Tool Overview'!$H$6=\"Shetland Islands Local Authority\",0,IF('III Tool Overview'!$H$6=\"Eilean Siar Local Authority\",0,hosp_count(20,B71,C71,D71,$C$1,G71+H71,1,F71,F71,SIMDRateRatios_hosp,SIMDrateratios,RateRatios!$B$3)*10))))))","v":49637.849721626255},318.7901462409136]
["Male 25-29",27.5,"male",1,1,{"$f":"HLOOKUP('III Tool Overview'!$H$6,LookUpData_Pop!$B$1:$AV$269,LookUpData_Pop!BB73,FALSE)/50","v":1647.22},{"$f":"'III Tool Overview'!$H$9/110","v":0},1647.22,{"$f":"IF('III Tool Overview'!$H$6=\"Orkney Health Board\",0,IF('III Tool Overview'!$H$6=\"Shetland Health Board\",0,IF('III Tool Overview'!$H$6=\"Western Isles Health Board\",0,IF('III Tool Overview'!$H$6=\"Orkney Islands Local Authority\",0,IF('III Tool Overview'!$H$6=\"Shetland Islands Local Authority\",0,IF('III Tool Overview'!$H$6=\"Eilean Siar Local Authority\",0,new_ci(2,B72,C72,D72,$C$1,G72,1,F72,F72,SIMDrateratios,RateRatios!$B$3)*10))))))","v":33.736088776170583},{"$f":"IF('III Tool Overview'!$H$6=\"Orkney Health Board\",0,IF('III Tool Overview'!$H$6=\"Shetland Health Board\",0,IF('III Tool Overview'!$H$6=\"Western Isles Health Board\",0,IF('III Tool Overview'!$H$6=\"Orkney Islands Local Authority\",0,IF('III Tool Overview'!$H$6=\"Shetland Islands Local Authority\",0,IF('III Tool Overview'!$H$6=\"Eilean Siar Local Authority\",0,new_ci(2,B72,C72,D72,$C$1,G72+H72,1,H72,H72,SIMDrateratios,RateRatios!$B$3)*10))))))","v":33.452704124960079},{"$f":"IF('III Tool Overview'!$H$6=\"Orkney Health Board\",0,IF('III Tool Overview'!$H$6=\"Shetland Health Board\",0,IF('III Tool Overview'!$H$6=\"Western Isles Health Board\",0,IF('III Tool Overview'!$H$6=\"Orkney Islands Local Authority\",0,IF('III Tool Overview'!$H$6=\"Shetland Islands Local Authority\",0,IF('III Tool Overview'!$H$6=\"Eilean Siar Local Authority\",0,new_ci(5,B72,C72,D72,$C$1,G72,1,F72,F72,SIMDrateratios,RateRatios!$B$3)*1000))))))","v":14710.606549988643},{"$f":"IF('III Tool Overview'!$H$6=\"Orkney Health Board\",0,IF('III Tool Overview'!$H$6=\"Shetland Health Board\",0,IF('III Tool Overview'!$H$6=\"Western Isles Health Board\",0,IF('III Tool Overview'!$H$6=\"Orkney Islands Local Authority\",0,IF('III Tool Overview'!$H$6=\"Shetland Islands Local Authority\",0,IF('III Tool Overview'!$H$6=\"Eilean Siar Local Authority\",0,new_ci(5,B72,C72,D72,$C$1,G72+H72,1,F72,F72,SIMDrateratios,RateRatios!$B$3)*1000))))))","v":14587.460450883404},{"$f":"IF('III Tool Overview'!$H$6=\"Orkney Health Board\",0,IF('III Tool Overview'!$H$6=\"Shetland Health Board\",0,IF('III Tool Overview'!$H$6=\"Western Isles Health Board\",0,IF('III Tool Overview'!$H$6=\"Orkney Islands Local Authority\",0,IF('III Tool Overview'!$H$6=\"Shetland Islands Local Authority\",0,IF('III Tool Overview'!$H$6=\"Eilean Siar Local Authority\",0,new_ci(10,B72,C72,D72,$C$1,G72,1,F72,F72,SIMDrateratios,RateRatios!$B$3)*10))))))","v":383.77095721630036},{"$f":"IF('III Tool Overview'!$H$6=\"Orkney Health Board\",0,IF('III Tool Overview'!$H$6=\"Shetland Health Board\",0,IF('III Tool Overview'!$H$6=\"Western Isles Health Board\",0,IF('III Tool Overview'!$H$6=\"Orkney Islands Local Authority\",0,IF('III Tool Overview'!$H$6=\"Shetland Islands Local Authority\",0,IF('III Tool Overview'!$H$6=\"Eilean Siar Local Authority\",0,new_ci(10,B72,C72,D72,$C$1,G72+H72,1,F72,F72,SIMDrateratios,RateRatios!$B$3)*10))))))","v":380.5815554675201},{"$f":"IF('III Tool Overview'!$H$6=\"Orkney Health Board\",0,IF('III Tool Overview'!$H$6=\"Shetland Health Board\",0,IF('III Tool Overview'!$H$6=\"Western Isles Health Board\",0,IF('III Tool Overview'!$H$6=\"Orkney Islands Local Authority\",0,IF('III Tool Overview'!$H$6=\"Shetland Islands Local Authority\",0,IF('III Tool Overview'!$H$6=\"Eilean Siar Local Authority\",0,new_ci(20,B72,C72,D72,$C$1,G72,1,F72,F72,SIMDrateratios,RateRatios!$B$3)*10))))))","v":1103.1635270605962},{"$f":"IF('III Tool Overview'!$H$6=\"Orkney Health Board\",0,IF('III Tool Overview'!$H$6=\"Shetland Health Board\",0,IF('III Tool Overview'!$H$6=\"Western Isles Health Board\",0,IF('III Tool Overview'!$H$6=\"Orkney Islands Local Authority\",0,IF('III Tool Overview'!$H$6=\"Shetland Islands Local Authority\",0,IF('III Tool Overview'!$H$6=\"Eilean Siar Local Authority\",0,new_ci(20,B72,C72,D72,$C$1,G72+H72,1,F72,F72,SIMDrateratios,RateRatios!$B$3)*10))))))","v":1094.2026572236687},{"$f":"IF('III Tool Overview'!$H$6=\"Orkney Health Board\",0,IF('III Tool Overview'!$H$6=\"Shetland Health Board\",0,IF('III Tool Overview'!$H$6=\"Western Isles Health Board\",0,IF('III Tool Overview'!$H$6=\"Orkney Islands Local Authority\",0,IF('III Tool Overview'!$H$6=\"Shetland Islands Local Authority\",0,IF('III Tool Overview'!$H$6=\"Eilean Siar Local Authority\",0,new_yll(2,B72,C72,D72,$C$1,G72,1,F72,F72,SIMDrateratios,RateRatios!$B$3)*10))))))","v":2395.2623031081116},{"$f":"IF('III Tool Overview'!$H$6=\"Orkney Health Board\",0,IF('III Tool Overview'!$H$6=\"Shetland Health Board\",0,IF('III Tool Overview'!$H$6=\"Western Isles Health Board\",0,IF('III Tool Overview'!$H$6=\"Orkney Islands Local Authority\",0,IF('III Tool Overview'!$H$6=\"Shetland Islands Local Authority\",0,IF('III Tool Overview'!$H$6=\"Eilean Siar Local Authority\",0,new_yll(2,B72,C72,D72,$C$1,G72+H72,1,F72,F72,SIMDrateratios,RateRatios!$B$3)*10))))))","v":2375.1419928721652},20.120310235946363,{"$f":"IF('III Tool Overview'!$H$6=\"Orkney Health Board\",0,IF('III Tool Overview'!$H$6=\"Shetland Health Board\",0,IF('III Tool Overview'!$H$6=\"Western Isles Health Board\",0,IF('III Tool Overview'!$H$6=\"Orkney Islands Local Authority\",0,IF('III Tool Overview'!$H$6=\"Shetland Islands Local Authority\",0,IF('III Tool Overview'!$H$6=\"Eilean Siar Local Authority\",0,new_yll(5,B72,C72,D72,$C$1,G72,1,F72,F72,SIMDrateratios,RateRatios!$B$3)*1000))))))","v":1021355.2585172888},{"$f":"IF('III Tool Overview'!$H$6=\"Orkney Health Board\",0,IF('III Tool Overview'!$H$6=\"Shetland Health Board\",0,IF('III Tool Overview'!$H$6=\"Western Isles Health Board\",0,IF('III Tool Overview'!$H$6=\"Orkney Islands Local Authority\",0,IF('III Tool Overview'!$H$6=\"Shetland Islands Local Authority\",0,IF('III Tool Overview'!$H$6=\"Eilean Siar Local Authority\",0,new_yll(5,B72,C72,D72,$C$1,G72+H72,1,F72,F72,SIMDrateratios,RateRatios!$B$3)*1000))))))","v":1012804.8997630022},8550.358754286659,{"$f":"IF('III Tool Overview'!$H$6=\"Orkney Health Board\",0,IF('III Tool Overview'!$H$6=\"Shetland Health Board\",0,IF('III Tool Overview'!$H$6=\"Western Isles Health Board\",0,IF('III Tool Overview'!$H$6=\"Orkney Islands Local Authority\",0,IF('III Tool Overview'!$H$6=\"Shetland Islands Local Authority\",0,IF('III Tool Overview'!$H$6=\"Eilean Siar Local Authority\",0,new_yll(10,B72,C72,D72,$C$1,G72,1,F72,F72,SIMDrateratios,RateRatios!$B$3)*10))))))","v":25570.541557074499},{"$f":"IF('III Tool Overview'!$H$6=\"Orkney Health Board\",0,IF('III Tool Overview'!$H$6=\"Shetland Health Board\",0,IF('III Tool Overview'!$H$6=\"Western Isles Health Board\",0,IF('III Tool Overview'!$H$6=\"Orkney Islands Local Authority\",0,IF('III Tool Overview'!$H$6=\"Shetland Islands Local Authority\",0,IF('III Tool Overview'!$H$6=\"Eilean Siar Local Authority\",0,new_yll(10,B72,C72,D72,$C$1,G72+H72,1,F72,F72,SIMDrateratios,RateRatios!$B$3)*10))))))","v":25357.977321422368},212.56423565213117,{"$f":"IF('III Tool Overview'!$H$6=\"Orkney Health Board\",0,IF('III Tool Overview'!$H$6=\"Shetland Health Board\",0,IF('III Tool Overview'!$H$6=\"Western Isles Health Board\",0,IF('III Tool Overview'!$H$6=\"Orkney Islands Local Authority\",0,IF('III Tool Overview'!$H$6=\"Shetland Islands Local Authority\",0,IF('III Tool Overview'!$H$6=\"Eilean Siar Local Authority\",0,new_yll(20,B72,C72,D72,$C$1,G72,1,F72,F72,SIMDrateratios,RateRatios!$B$3)*10))))))","v":66617.762751541901},{"$f":"IF('III Tool Overview'!$H$6=\"Orkney Health Board\",0,IF('III Tool Overview'!$H$6=\"Shetland Health Board\",0,IF('III Tool Overview'!$H$6=\"Western Isles Health Board\",0,IF('III Tool Overview'!$H$6=\"Orkney Islands Local Authority\",0,IF('III Tool Overview'!$H$6=\"Shetland Islands Local Authority\",0,IF('III Tool Overview'!$H$6=\"Eilean Siar Local Authority\",0,new_yll(20,B72,C72,D72,$C$1,G72+H72,1,F72,F72,SIMDrateratios,RateRatios!$B$3)*10))))))","v":66075.665115535623},542.09763600627775,{"$f":"IF('III Tool Overview'!$H$6=\"Orkney Health Board\",0,IF('III Tool Overview'!$H$6=\"Shetland Health Board\",0,IF('III Tool Overview'!$H$6=\"Western Isles Health Board\",0,IF('III Tool Overview'!$H$6=\"Orkney Islands Local Authority\",0,IF('III Tool Overview'!$H$6=\"Shetland Islands Local Authority\",0,IF('III Tool Overview'!$H$6=\"Eilean Siar Local Authority\",0,hosp_count(2,B72,C72,D72,$C$1,G72,1,F72,F72,SIMDRateRatios_hosp,SIMDrateratios,RateRatios!$B$3)*10))))))","v":2311.921797847066},{"$f":"IF('III Tool Overview'!$H$6=\"Orkney Health Board\",0,IF('III Tool Overview'!$H$6=\"Shetland Health Board\",0,IF('III Tool Overview'!$H$6=\"Western Isles Health Board\",0,IF('III Tool Overview'!$H$6=\"Orkney Islands Local Authority\",0,IF('III Tool Overview'!$H$6=\"Shetland Islands Local Authority\",0,IF('III Tool Overview'!$H$6=\"Eilean Siar Local Authority\",0,hosp_count(2,B72,C72,D72,$C$1,G72+H72,1,F72,F72,SIMDRateRatios_hosp,SIMDrateratios,RateRatios!$B$3)*10))))))","v":2296.7945528001733},15.127245046892767,{"$f":"IF('III Tool Overview'!$H$6=\"Orkney Health Board\",0,IF('III Tool Overview'!$H$6=\"Shetland Health Board\",0,IF('III Tool Overview'!$H$6=\"Western Isles Health Board\",0,IF('III Tool Overview'!$H$6=\"Orkney Islands Local Authority\",0,IF('III Tool Overview'!$H$6=\"Shetland Islands Local Authority\",0,IF('III Tool Overview'!$H$6=\"Eilean Siar Local Authority\",0,hosp_count(5,B72,C72,D72,$C$1,G72,1,F72,F72,SIMDRateRatios_hosp,SIMDrateratios,RateRatios!$B$3)*1000))))))","v":974456.50023310946},{"$f":"IF('III Tool Overview'!$H$6=\"Orkney Health Board\",0,IF('III Tool Overview'!$H$6=\"Shetland Health Board\",0,IF('III Tool Overview'!$H$6=\"Western Isles Health Board\",0,IF('III Tool Overview'!$H$6=\"Orkney Islands Local Authority\",0,IF('III Tool Overview'!$H$6=\"Shetland Islands Local Authority\",0,IF('III Tool Overview'!$H$6=\"Eilean Siar Local Authority\",0,hosp_count(5,B72,C72,D72,$C$1,G72+H72,1,F72,F72,SIMDRateRatios_hosp,SIMDrateratios,RateRatios!$B$3)*1000))))))","v":968107.3008820744},6349.1993510350585,{"$f":"IF('III Tool Overview'!$H$6=\"Orkney Health Board\",0,IF('III Tool Overview'!$H$6=\"Shetland Health Board\",0,IF('III Tool Overview'!$H$6=\"Western Isles Health Board\",0,IF('III Tool Overview'!$H$6=\"Orkney Islands Local Authority\",0,IF('III Tool Overview'!$H$6=\"Shetland Islands Local Authority\",0,IF('III Tool Overview'!$H$6=\"Eilean Siar Local Authority\",0,hosp_count(10,B72,C72,D72,$C$1,G72,1,F72,F72,SIMDRateRatios_hosp,SIMDrateratios,RateRatios!$B$3)*10))))))","v":23946.486442043089},{"$f":"IF('III Tool Overview'!$H$6=\"Orkney Health Board\",0,IF('III Tool Overview'!$H$6=\"Shetland Health Board\",0,IF('III Tool Overview'!$H$6=\"Western Isles Health Board\",0,IF('III Tool Overview'!$H$6=\"Orkney Islands Local Authority\",0,IF('III Tool Overview'!$H$6=\"Shetland Islands Local Authority\",0,IF('III Tool Overview'!$H$6=\"Eilean Siar Local Authority\",0,hosp_count(10,B72,C72,D72,$C$1,G72+H72,1,F72,F72,SIMDRateRatios_hosp,SIMDrateratios,RateRatios!$B$3)*10))))))","v":23791.808762167966},154.67767987512343,{"$f":"IF('III Tool Overview'!$H$6=\"Orkney Health Board\",0,IF('III Tool Overview'!$H$6=\"Shetland Health Board\",0,IF('III Tool Overview'!$H$6=\"Western Isles Health Board\",0,IF('III Tool Overview'!$H$6=\"Orkney Islands Local Authority\",0,IF('III Tool Overview'!$H$6=\"Shetland Islands Local Authority\",0,IF('III Tool Overview'!$H$6=\"Eilean Siar Local Authority\",0,hosp_count(20,B72,C72,D72,$C$1,G72,1,F72,F72,SIMDRateRatios_hosp,SIMDrateratios,RateRatios!$B$3)*10))))))","v":60403.579029927379},{"$f":"IF('III Tool Overview'!$H$6=\"Orkney Health Board\",0,IF('III Tool Overview'!$H$6=\"Shetland Health Board\",0,IF('III Tool Overview'!$H$6=\"Western Isles Health Board\",0,IF('III Tool Overview'!$H$6=\"Orkney Islands Local Authority\",0,IF('III Tool Overview'!$H$6=\"Shetland Islands Local Authority\",0,IF('III Tool Overview'!$H$6=\"Eilean Siar Local Authority\",0,hosp_count(20,B72,C72,D72,$C$1,G72+H72,1,F72,F72,SIMDRateRatios_hosp,SIMDrateratios,RateRatios!$B$3)*10))))))","v":60023.497120367167},380.08190956021281]
["Male 30-34",32.5,"male",1,1,{"$f":"HLOOKUP('III Tool Overview'!$H$6,LookUpData_Pop!$B$1:$AV$269,LookUpData_Pop!BB74,FALSE)/50","v":1373.48},{"$f":"'III Tool Overview'!$H$9/110","v":0},1373.48,{"$f":"IF('III Tool Overview'!$H$6=\"Orkney Health Board\",0,IF('III Tool Overview'!$H$6=\"Shetland Health Board\",0,IF('III Tool Overview'!$H$6=\"Western Isles Health Board\",0,IF('III Tool Overview'!$H$6=\"Orkney Islands Local Authority\",0,IF('III Tool Overview'!$H$6=\"Shetland Islands Local Authority\",0,IF('III Tool Overview'!$H$6=\"Eilean Siar Local Authority\",0,new_ci(2,B73,C73,D73,$C$1,G73,1,F73,F73,SIMDrateratios,RateRatios!$B$3)*10))))))","v":37.565461018492769},{"$f":"IF('III Tool Overview'!$H$6=\"Orkney Health Board\",0,IF('III Tool Overview'!$H$6=\"Shetland Health Board\",0,IF('III Tool Overview'!$H$6=\"Western Isles Health Board\",0,IF('III Tool Overview'!$H$6=\"Orkney Islands Local Authority\",0,IF('III Tool Overview'!$H$6=\"Shetland Islands Local Authority\",0,IF('III Tool Overview'!$H$6=\"Eilean Siar Local Authority\",0,new_ci(2,B73,C73,D73,$C$1,G73+H73,1,H73,H73,SIMDrateratios,RateRatios!$B$3)*10))))))","v":37.250085351157153},{"$f":"IF('III Tool Overview'!$H$6=\"Orkney Health Board\",0,IF('III Tool Overview'!$H$6=\"Shetland Health Board\",0,IF('III Tool Overview'!$H$6=\"Western Isles Health Board\",0,IF('III Tool Overview'!$H$6=\"Orkney Islands Local Authority\",0,IF('III Tool Overview'!$H$6=\"Shetland Islands Local Authority\",0,IF('III Tool Overview'!$H$6=\"Eilean Siar Local Authority\",0,new_ci(5,B73,C73,D73,$C$1,G73,1,F73,F73,SIMDrateratios,RateRatios!$B$3)*1000))))))","v":16361.415722023345},{"$f":"IF('III Tool Overview'!$H$6=\"Orkney Health Board\",0,IF('III Tool Overview'!$H$6=\"Shetland Health Board\",0,IF('III Tool Overview'!$H$6=\"Western Isles Health Board\",0,IF('III Tool Overview'!$H$6=\"Orkney Islands Local Authority\",0,IF('III Tool Overview'!$H$6=\"Shetland Islands Local Authority\",0,IF('III Tool Overview'!$H$6=\"Eilean Siar Local Authority\",0,new_ci(5,B73,C73,D73,$C$1,G73+H73,1,F73,F73,SIMDrateratios,RateRatios!$B$3)*1000))))))","v":16224.68465220802},{"$f":"IF('III Tool Overview'!$H$6=\"Orkney Health Board\",0,IF('III Tool Overview'!$H$6=\"Shetland Health Board\",0,IF('III Tool Overview'!$H$6=\"Western Isles Health Board\",0,IF('III Tool Overview'!$H$6=\"Orkney Islands Local Authority\",0,IF('III Tool Overview'!$H$6=\"Shetland Islands Local Authority\",0,IF('III Tool Overview'!$H$6=\"Eilean Siar Local Authority\",0,new_ci(10,B73,C73,D73,$C$1,G73,1,F73,F73,SIMDrateratios,RateRatios!$B$3)*10))))))","v":425.79839219517862},{"$f":"IF('III Tool Overview'!$H$6=\"Orkney Health Board\",0,IF('III Tool Overview'!$H$6=\"Shetland Health Board\",0,IF('III Tool Overview'!$H$6=\"Western Isles Health Board\",0,IF('III Tool Overview'!$H$6=\"Orkney Islands Local Authority\",0,IF('III Tool Overview'!$H$6=\"Shetland Islands Local Authority\",0,IF('III Tool Overview'!$H$6=\"Eilean Siar Local Authority\",0,new_ci(10,B73,C73,D73,$C$1,G73+H73,1,F73,F73,SIMDrateratios,RateRatios!$B$3)*10))))))","v":422.27440381426538},{"$f":"IF('III Tool Overview'!$H$6=\"Orkney Health Board\",0,IF('III Tool Overview'!$H$6=\"Shetland Health Board\",0,IF('III Tool Overview'!$H$6=\"Western Isles Health Board\",0,IF('III Tool Overview'!$H$6=\"Orkney Islands Local Authority\",0,IF('III Tool Overview'!$H$6=\"Shetland Islands Local Authority\",0,IF('III Tool Overview'!$H$6=\"Eilean Siar Local Authority\",0,new_ci(20,B73,C73,D73,$C$1,G73,1,F73,F73,SIMDrateratios,RateRatios!$B$3)*10))))))","v":1214.7740554571265},{"$f":"IF('III Tool Overview'!$H$6=\"Orkney Health Board\",0,IF('III Tool Overview'!$H$6=\"Shetland Health Board\",0,IF('III Tool Overview'!$H$6=\"Western Isles Health Board\",0,IF('III Tool Overview'!$H$6=\"Orkney Islands Local Authority\",0,IF('III Tool Overview'!$H$6=\"Shetland Islands Local Authority\",0,IF('III Tool Overview'!$H$6=\"Eilean Siar Local Authority\",0,new_ci(20,B73,C73,D73,$C$1,G73+H73,1,F73,F73,SIMDrateratios,RateRatios!$B$3)*10))))))","v":1205.0234805614812},{"$f":"IF('III Tool Overview'!$H$6=\"Orkney Health Board\",0,IF('III Tool Overview'!$H$6=\"Shetland Health Board\",0,IF('III Tool Overview'!$H$6=\"Western Isles Health Board\",0,IF('III Tool Overview'!$H$6=\"Orkney Islands Local Authority\",0,IF('III Tool Overview'!$H$6=\"Shetland Islands Local Authority\",0,IF('III Tool Overview'!$H$6=\"Eilean Siar Local Authority\",0,new_yll(2,B73,C73,D73,$C$1,G73,1,F73,F73,SIMDrateratios,RateRatios!$B$3)*10))))))","v":2516.8858882390155},{"$f":"IF('III Tool Overview'!$H$6=\"Orkney Health Board\",0,IF('III Tool Overview'!$H$6=\"Shetland Health Board\",0,IF('III Tool Overview'!$H$6=\"Western Isles Health Board\",0,IF('III Tool Overview'!$H$6=\"Orkney Islands Local Authority\",0,IF('III Tool Overview'!$H$6=\"Shetland Islands Local Authority\",0,IF('III Tool Overview'!$H$6=\"Eilean Siar Local Authority\",0,new_yll(2,B73,C73,D73,$C$1,G73+H73,1,F73,F73,SIMDrateratios,RateRatios!$B$3)*10))))))","v":2495.7557185275291},21.13016971148636,{"$f":"IF('III Tool Overview'!$H$6=\"Orkney Health Board\",0,IF('III Tool Overview'!$H$6=\"Shetland Health Board\",0,IF('III Tool Overview'!$H$6=\"Western Isles Health Board\",0,IF('III Tool Overview'!$H$6=\"Orkney Islands Local Authority\",0,IF('III Tool Overview'!$H$6=\"Shetland Islands Local Authority\",0,IF('III Tool Overview'!$H$6=\"Eilean Siar Local Authority\",0,new_yll(5,B73,C73,D73,$C$1,G73,1,F73,F73,SIMDrateratios,RateRatios!$B$3)*1000))))))","v":1070540.4086400727},{"$f":"IF('III Tool Overview'!$H$6=\"Orkney Health Board\",0,IF('III Tool Overview'!$H$6=\"Shetland Health Board\",0,IF('III Tool Overview'!$H$6=\"Western Isles Health Board\",0,IF('III Tool Overview'!$H$6=\"Orkney Islands Local Authority\",0,IF('III Tool Overview'!$H$6=\"Shetland Islands Local Authority\",0,IF('III Tool Overview'!$H$6=\"Eilean Siar Local Authority\",0,new_yll(5,B73,C73,D73,$C$1,G73+H73,1,F73,F73,SIMDrateratios,RateRatios!$B$3)*1000))))))","v":1061593.476553876},8946.9320861967281,{"$f":"IF('III Tool Overview'!$H$6=\"Orkney Health Board\",0,IF('III Tool Overview'!$H$6=\"Shetland Health Board\",0,IF('III Tool Overview'!$H$6=\"Western Isles Health Board\",0,IF('III Tool Overview'!$H$6=\"Orkney Islands Local Authority\",0,IF('III Tool Overview'!$H$6=\"Shetland Islands Local Authority\",0,IF('III Tool Overview'!$H$6=\"Eilean Siar Local Authority\",0,new_yll(10,B73,C73,D73,$C$1,G73,1,F73,F73,SIMDrateratios,RateRatios!$B$3)*10))))))","v":26670.098038187105},{"$f":"IF('III Tool Overview'!$H$6=\"Orkney Health Board\",0,IF('III Tool Overview'!$H$6=\"Shetland Health Board\",0,IF('III Tool Overview'!$H$6=\"Western Isles Health Board\",0,IF('III Tool Overview'!$H$6=\"Orkney Islands Local Authority\",0,IF('III Tool Overview'!$H$6=\"Shetland Islands Local Authority\",0,IF('III Tool Overview'!$H$6=\"Eilean Siar Local Authority\",0,new_yll(10,B73,C73,D73,$C$1,G73+H73,1,F73,F73,SIMDrateratios,RateRatios!$B$3)*10))))))","v":26449.289172916644},220.80886527046096,{"$f":"IF('III Tool Overview'!$H$6=\"Orkney Health Board\",0,IF('III Tool Overview'!$H$6=\"Shetland Health Board\",0,IF('III Tool Overview'!$H$6=\"Western Isles Health Board\",0,IF('III Tool Overview'!$H$6=\"Orkney Islands Local Authority\",0,IF('III Tool Overview'!$H$6=\"Shetland Islands Local Authority\",0,IF('III Tool Overview'!$H$6=\"Eilean Siar Local Authority\",0,new_yll(20,B73,C73,D73,$C$1,G73,1,F73,F73,SIMDrateratios,RateRatios!$B$3)*10))))))","v":68541.595013082115},{"$f":"IF('III Tool Overview'!$H$6=\"Orkney Health Board\",0,IF('III Tool Overview'!$H$6=\"Shetland Health Board\",0,IF('III Tool Overview'!$H$6=\"Western Isles Health Board\",0,IF('III Tool Overview'!$H$6=\"Orkney Islands Local Authority\",0,IF('III Tool Overview'!$H$6=\"Shetland Islands Local Authority\",0,IF('III Tool Overview'!$H$6=\"Eilean Siar Local Authority\",0,new_yll(20,B73,C73,D73,$C$1,G73+H73,1,F73,F73,SIMDrateratios,RateRatios!$B$3)*10))))))","v":67990.008543700067},551.58646938204765,{"$f":"IF('III Tool Overview'!$H$6=\"Orkney Health Board\",0,IF('III Tool Overview'!$H$6=\"Shetland Health Board\",0,IF('III Tool Overview'!$H$6=\"Western Isles Health Board\",0,IF('III Tool Overview'!$H$6=\"Orkney Islands Local Authority\",0,IF('III Tool Overview'!$H$6=\"Shetland Islands Local Authority\",0,IF('III Tool Overview'!$H$6=\"Eilean Siar Local Authority\",0,hosp_count(2,B73,C73,D73,$C$1,G73,1,F73,F73,SIMDRateRatios_hosp,SIMDrateratios,RateRatios!$B$3)*10))))))","v":2216.4483554963372},{"$f":"IF('III Tool Overview'!$H$6=\"Orkney Health Board\",0,IF('III Tool Overview'!$H$6=\"Shetland Health Board\",0,IF('III Tool Overview'!$H$6=\"Western Isles Health Board\",0,IF('III Tool Overview'!$H$6=\"Orkney Islands Local Authority\",0,IF('III Tool Overview'!$H$6=\"Shetland Islands Local Authority\",0,IF('III Tool Overview'!$H$6=\"Eilean Siar Local Authority\",0,hosp_count(2,B73,C73,D73,$C$1,G73+H73,1,F73,F73,SIMDRateRatios_hosp,SIMDrateratios,RateRatios!$B$3)*10))))))","v":2201.9489390455838},14.499416450753415,{"$f":"IF('III Tool Overview'!$H$6=\"Orkney Health Board\",0,IF('III Tool Overview'!$H$6=\"Shetland Health Board\",0,IF('III Tool Overview'!$H$6=\"Western Isles Health Board\",0,IF('III Tool Overview'!$H$6=\"Orkney Islands Local Authority\",0,IF('III Tool Overview'!$H$6=\"Shetland Islands Local Authority\",0,IF('III Tool Overview'!$H$6=\"Eilean Siar Local Authority\",0,hosp_count(5,B73,C73,D73,$C$1,G73,1,F73,F73,SIMDRateRatios_hosp,SIMDrateratios,RateRatios!$B$3)*1000))))))","v":933182.4841692982},{"$f":"IF('III Tool Overview'!$H$6=\"Orkney Health Board\",0,IF('III Tool Overview'!$H$6=\"Shetland Health Board\",0,IF('III Tool Overview'!$H$6=\"Western Isles Health Board\",0,IF('III Tool Overview'!$H$6=\"Orkney Islands Local Authority\",0,IF('III Tool Overview'!$H$6=\"Shetland Islands Local Authority\",0,IF('III Tool Overview'!$H$6=\"Eilean Siar Local Authority\",0,hosp_count(5,B73,C73,D73,$C$1,G73+H73,1,F73,F73,SIMDRateRatios_hosp,SIMDrateratios,RateRatios!$B$3)*1000))))))","v":927112.12673653173},6070.3574327664683,{"$f":"IF('III Tool Overview'!$H$6=\"Orkney Health Board\",0,IF('III Tool Overview'!$H$6=\"Shetland Health Board\",0,IF('III Tool Overview'!$H$6=\"Western Isles Health Board\",0,IF('III Tool Overview'!$H$6=\"Orkney Islands Local Authority\",0,IF('III Tool Overview'!$H$6=\"Shetland Islands Local Authority\",0,IF('III Tool Overview'!$H$6=\"Eilean Siar Local Authority\",0,hosp_count(10,B73,C73,D73,$C$1,G73,1,F73,F73,SIMDRateRatios_hosp,SIMDrateratios,RateRatios!$B$3)*10))))))","v":22880.383594387171},{"$f":"IF('III Tool Overview'!$H$6=\"Orkney Health Board\",0,IF('III Tool Overview'!$H$6=\"Shetland Health Board\",0,IF('III Tool Overview'!$H$6=\"Western Isles Health Board\",0,IF('III Tool Overview'!$H$6=\"Orkney Islands Local Authority\",0,IF('III Tool Overview'!$H$6=\"Shetland Islands Local Authority\",0,IF('III Tool Overview'!$H$6=\"Eilean Siar Local Authority\",0,hosp_count(10,B73,C73,D73,$C$1,G73+H73,1,F73,F73,SIMDRateRatios_hosp,SIMDrateratios,RateRatios!$B$3)*10))))))","v":22733.264686539263},147.11890784790739,{"$f":"IF('III Tool Overview'!$H$6=\"Orkney Health Board\",0,IF('III Tool Overview'!$H$6=\"Shetland Health Board\",0,IF('III Tool Overview'!$H$6=\"Western Isles Health Board\",0,IF('III Tool Overview'!$H$6=\"Orkney Islands Local Authority\",0,IF('III Tool Overview'!$H$6=\"Shetland Islands Local Authority\",0,IF('III Tool Overview'!$H$6=\"Eilean Siar Local Authority\",0,hosp_count(20,B73,C73,D73,$C$1,G73,1,F73,F73,SIMDRateRatios_hosp,SIMDrateratios,RateRatios!$B$3)*10))))))","v":57329.471054589143},{"$f":"IF('III Tool Overview'!$H$6=\"Orkney Health Board\",0,IF('III Tool Overview'!$H$6=\"Shetland Health Board\",0,IF('III Tool Overview'!$H$6=\"Western Isles Health Board\",0,IF('III Tool Overview'!$H$6=\"Orkney Islands Local Authority\",0,IF('III Tool Overview'!$H$6=\"Shetland Islands Local Authority\",0,IF('III Tool Overview'!$H$6=\"Eilean Siar Local Authority\",0,hosp_count(20,B73,C73,D73,$C$1,G73+H73,1,F73,F73,SIMDRateRatios_hosp,SIMDrateratios,RateRatios!$B$3)*10))))))","v":56973.558579458106},355.91247513103735]
["Male 35-39",37.5,"male",1,1,{"$f":"HLOOKUP('III Tool Overview'!$H$6,LookUpData_Pop!$B$1:$AV$269,LookUpData_Pop!BB75,FALSE)/50","v":1296.82},{"$f":"'III Tool Overview'!$H$9/110","v":0},1296.82,{"$f":"IF('III Tool Overview'!$H$6=\"Orkney Health Board\",0,IF('III Tool Overview'!$H$6=\"Shetland Health Board\",0,IF('III Tool Overview'!$H$6=\"Western Isles Health Board\",0,IF('III Tool Overview'!$H$6=\"Orkney Islands Local Authority\",0,IF('III Tool Overview'!$H$6=\"Shetland Islands Local Authority\",0,IF('III Tool Overview'!$H$6=\"Eilean Siar Local Authority\",0,new_ci(2,B74,C74,D74,$C$1,G74,1,F74,F74,SIMDrateratios,RateRatios!$B$3)*10))))))","v":54.724502273978715},{"$f":"IF('III Tool Overview'!$H$6=\"Orkney Health Board\",0,IF('III Tool Overview'!$H$6=\"Shetland Health Board\",0,IF('III Tool Overview'!$H$6=\"Western Isles Health Board\",0,IF('III Tool Overview'!$H$6=\"Orkney Islands Local Authority\",0,IF('III Tool Overview'!$H$6=\"Shetland Islands Local Authority\",0,IF('III Tool Overview'!$H$6=\"Eilean Siar Local Authority\",0,new_ci(2,B74,C74,D74,$C$1,G74+H74,1,H74,H74,SIMDrateratios,RateRatios!$B$3)*10))))))","v":54.265185466963558},{"$f":"IF('III Tool Overview'!$H$6=\"Orkney Health Board\",0,IF('III Tool Overview'!$H$6=\"Shetland Health Board\",0,IF('III Tool Overview'!$H$6=\"Western Isles Health Board\",0,IF('III Tool Overview'!$H$6=\"Orkney Islands Local Authority\",0,IF('III Tool Overview'!$H$6=\"Shetland Islands Local Authority\",0,IF('III Tool Overview'!$H$6=\"Eilean Siar Local Authority\",0,new_ci(5,B74,C74,D74,$C$1,G74,1,F74,F74,SIMDrateratios,RateRatios!$B$3)*1000))))))","v":23775.255670787847},{"$f":"IF('III Tool Overview'!$H$6=\"Orkney Health Board\",0,IF('III Tool Overview'!$H$6=\"Shetland Health Board\",0,IF('III Tool Overview'!$H$6=\"Western Isles Health Board\",0,IF('III Tool Overview'!$H$6=\"Orkney Islands Local Authority\",0,IF('III Tool Overview'!$H$6=\"Shetland Islands Local Authority\",0,IF('III Tool Overview'!$H$6=\"Eilean Siar Local Authority\",0,new_ci(5,B74,C74,D74,$C$1,G74+H74,1,F74,F74,SIMDrateratios,RateRatios!$B$3)*1000))))))","v":23577.113839887814},{"$f":"IF('III Tool Overview'!$H$6=\"Orkney Health Board\",0,IF('III Tool Overview'!$H$6=\"Shetland Health Board\",0,IF('III Tool Overview'!$H$6=\"Western Isles Health Board\",0,IF('III Tool Overview'!$H$6=\"Orkney Islands Local Authority\",0,IF('III Tool Overview'!$H$6=\"Shetland Islands Local Authority\",0,IF('III Tool Overview'!$H$6=\"Eilean Siar Local Authority\",0,new_ci(10,B74,C74,D74,$C$1,G74,1,F74,F74,SIMDrateratios,RateRatios!$B$3)*10))))))","v":615.49556222136255},{"$f":"IF('III Tool Overview'!$H$6=\"Orkney Health Board\",0,IF('III Tool Overview'!$H$6=\"Shetland Health Board\",0,IF('III Tool Overview'!$H$6=\"Western Isles Health Board\",0,IF('III Tool Overview'!$H$6=\"Orkney Islands Local Authority\",0,IF('III Tool Overview'!$H$6=\"Shetland Islands Local Authority\",0,IF('III Tool Overview'!$H$6=\"Eilean Siar Local Authority\",0,new_ci(10,B74,C74,D74,$C$1,G74+H74,1,F74,F74,SIMDrateratios,RateRatios!$B$3)*10))))))","v":610.4425131853468},{"$f":"IF('III Tool Overview'!$H$6=\"Orkney Health Board\",0,IF('III Tool Overview'!$H$6=\"Shetland Health Board\",0,IF('III Tool Overview'!$H$6=\"Western Isles Health Board\",0,IF('III Tool Overview'!$H$6=\"Orkney Islands Local Authority\",0,IF('III Tool Overview'!$H$6=\"Shetland Islands Local Authority\",0,IF('III Tool Overview'!$H$6=\"Eilean Siar Local Authority\",0,new_ci(20,B74,C74,D74,$C$1,G74,1,F74,F74,SIMDrateratios,RateRatios!$B$3)*10))))))","v":1727.7734507316811},{"$f":"IF('III Tool Overview'!$H$6=\"Orkney Health Board\",0,IF('III Tool Overview'!$H$6=\"Shetland Health Board\",0,IF('III Tool Overview'!$H$6=\"Western Isles Health Board\",0,IF('III Tool Overview'!$H$6=\"Orkney Islands Local Authority\",0,IF('III Tool Overview'!$H$6=\"Shetland Islands Local Authority\",0,IF('III Tool Overview'!$H$6=\"Eilean Siar Local Authority\",0,new_ci(20,B74,C74,D74,$C$1,G74+H74,1,F74,F74,SIMDrateratios,RateRatios!$B$3)*10))))))","v":1714.2474008279646},{"$f":"IF('III Tool Overview'!$H$6=\"Orkney Health Board\",0,IF('III Tool Overview'!$H$6=\"Shetland Health Board\",0,IF('III Tool Overview'!$H$6=\"Western Isles Health Board\",0,IF('III Tool Overview'!$H$6=\"Orkney Islands Local Authority\",0,IF('III Tool Overview'!$H$6=\"Shetland Islands Local Authority\",0,IF('III Tool Overview'!$H$6=\"Eilean Siar Local Authority\",0,new_yll(2,B74,C74,D74,$C$1,G74,1,F74,F74,SIMDrateratios,RateRatios!$B$3)*10))))))","v":3338.1946387127018},{"$f":"IF('III Tool Overview'!$H$6=\"Orkney Health Board\",0,IF('III Tool Overview'!$H$6=\"Shetland Health Board\",0,IF('III Tool Overview'!$H$6=\"Western Isles Health Board\",0,IF('III Tool Overview'!$H$6=\"Orkney Islands Local Authority\",0,IF('III Tool Overview'!$H$6=\"Shetland Islands Local Authority\",0,IF('III Tool Overview'!$H$6=\"Eilean Siar Local Authority\",0,new_yll(2,B74,C74,D74,$C$1,G74+H74,1,F74,F74,SIMDrateratios,RateRatios!$B$3)*10))))))","v":3310.1763134847765},28.018325227925288,{"$f":"IF('III Tool Overview'!$H$6=\"Orkney Health Board\",0,IF('III Tool Overview'!$H$6=\"Shetland Health Board\",0,IF('III Tool Overview'!$H$6=\"Western Isles Health Board\",0,IF('III Tool Overview'!$H$6=\"Orkney Islands Local Authority\",0,IF('III Tool Overview'!$H$6=\"Shetland Islands Local Authority\",0,IF('III Tool Overview'!$H$6=\"Eilean Siar Local Authority\",0,new_yll(5,B74,C74,D74,$C$1,G74,1,F74,F74,SIMDrateratios,RateRatios!$B$3)*1000))))))","v":1413030.6433987825},{"$f":"IF('III Tool Overview'!$H$6=\"Orkney Health Board\",0,IF('III Tool Overview'!$H$6=\"Shetland Health Board\",0,IF('III Tool Overview'!$H$6=\"Western Isles Health Board\",0,IF('III Tool Overview'!$H$6=\"Orkney Islands Local Authority\",0,IF('III Tool Overview'!$H$6=\"Shetland Islands Local Authority\",0,IF('III Tool Overview'!$H$6=\"Eilean Siar Local Authority\",0,new_yll(5,B74,C74,D74,$C$1,G74+H74,1,F74,F74,SIMDrateratios,RateRatios!$B$3)*1000))))))","v":1401253.3700156091},11777.273383173393,{"$f":"IF('III Tool Overview'!$H$6=\"Orkney Health Board\",0,IF('III Tool Overview'!$H$6=\"Shetland Health Board\",0,IF('III Tool Overview'!$H$6=\"Western Isles Health Board\",0,IF('III Tool Overview'!$H$6=\"Orkney Islands Local Authority\",0,IF('III Tool Overview'!$H$6=\"Shetland Islands Local Authority\",0,IF('III Tool Overview'!$H$6=\"Eilean Siar Local Authority\",0,new_yll(10,B74,C74,D74,$C$1,G74,1,F74,F74,SIMDrateratios,RateRatios!$B$3)*10))))))","v":34866.645186680413},{"$f":"IF('III Tool Overview'!$H$6=\"Orkney Health Board\",0,IF('III Tool Overview'!$H$6=\"Shetland Health Board\",0,IF('III Tool Overview'!$H$6=\"Western Isles Health Board\",0,IF('III Tool Overview'!$H$6=\"Orkney Islands Local Authority\",0,IF('III Tool Overview'!$H$6=\"Shetland Islands Local Authority\",0,IF('III Tool Overview'!$H$6=\"Eilean Siar Local Authority\",0,new_yll(10,B74,C74,D74,$C$1,G74+H74,1,F74,F74,SIMDrateratios,RateRatios!$B$3)*10))))))","v":34580.216316174352},286.42887050606078,{"$f":"IF('III Tool Overview'!$H$6=\"Orkney Health Board\",0,IF('III Tool Overview'!$H$6=\"Shetland Health Board\",0,IF('III Tool Overview'!$H$6=\"Western Isles Health Board\",0,IF('III Tool Overview'!$H$6=\"Orkney Islands Local Authority\",0,IF('III Tool Overview'!$H$6=\"Shetland Islands Local Authority\",0,IF('III Tool Overview'!$H$6=\"Eilean Siar Local Authority\",0,new_yll(20,B74,C74,D74,$C$1,G74,1,F74,F74,SIMDrateratios,RateRatios!$B$3)*10))))))","v":87252.545115661575},{"$f":"IF('III Tool Overview'!$H$6=\"Orkney Health Board\",0,IF('III Tool Overview'!$H$6=\"Shetland Health Board\",0,IF('III Tool Overview'!$H$6=\"Western Isles Health Board\",0,IF('III Tool Overview'!$H$6=\"Orkney Islands Local Authority\",0,IF('III Tool Overview'!$H$6=\"Shetland Islands Local Authority\",0,IF('III Tool Overview'!$H$6=\"Eilean Siar Local Authority\",0,new_yll(20,B74,C74,D74,$C$1,G74+H74,1,F74,F74,SIMDrateratios,RateRatios!$B$3)*10))))))","v":86566.340732319295},686.20438334227947,{"$f":"IF('III Tool Overview'!$H$6=\"Orkney Health Board\",0,IF('III Tool Overview'!$H$6=\"Shetland Health Board\",0,IF('III Tool Overview'!$H$6=\"Western Isles Health Board\",0,IF('III Tool Overview'!$H$6=\"Orkney Islands Local Authority\",0,IF('III Tool Overview'!$H$6=\"Shetland Islands Local Authority\",0,IF('III Tool Overview'!$H$6=\"Eilean Siar Local Authority\",0,hosp_count(2,B74,C74,D74,$C$1,G74,1,F74,F74,SIMDRateRatios_hosp,SIMDrateratios,RateRatios!$B$3)*10))))))","v":2580.0943742818577},{"$f":"IF('III Tool Overview'!$H$6=\"Orkney Health Board\",0,IF('III Tool Overview'!$H$6=\"Shetland Health Board\",0,IF('III Tool Overview'!$H$6=\"Western Isles Health Board\",0,IF('III Tool Overview'!$H$6=\"Orkney Islands Local Authority\",0,IF('III Tool Overview'!$H$6=\"Shetland Islands Local Authority\",0,IF('III Tool Overview'!$H$6=\"Eilean Siar Local Authority\",0,hosp_count(2,B74,C74,D74,$C$1,G74+H74,1,F74,F74,SIMDRateRatios_hosp,SIMDrateratios,RateRatios!$B$3)*10))))))","v":2563.2078379758905},16.886536305967184,{"$f":"IF('III Tool Overview'!$H$6=\"Orkney Health Board\",0,IF('III Tool Overview'!$H$6=\"Shetland Health Board\",0,IF('III Tool Overview'!$H$6=\"Western Isles Health Board\",0,IF('III Tool Overview'!$H$6=\"Orkney Islands Local Authority\",0,IF('III Tool Overview'!$H$6=\"Shetland Islands Local Authority\",0,IF('III Tool Overview'!$H$6=\"Eilean Siar Local Authority\",0,hosp_count(5,B74,C74,D74,$C$1,G74,1,F74,F74,SIMDRateRatios_hosp,SIMDrateratios,RateRatios!$B$3)*1000))))))","v":1083692.8198151812},{"$f":"IF('III Tool Overview'!$H$6=\"Orkney Health Board\",0,IF('III Tool Overview'!$H$6=\"Shetland Health Board\",0,IF('III Tool Overview'!$H$6=\"Western Isles Health Board\",0,IF('III Tool Overview'!$H$6=\"Orkney Islands Local Authority\",0,IF('III Tool Overview'!$H$6=\"Shetland Islands Local Authority\",0,IF('III Tool Overview'!$H$6=\"Eilean Siar Local Authority\",0,hosp_count(5,B74,C74,D74,$C$1,G74+H74,1,F74,F74,SIMDRateRatios_hosp,SIMDrateratios,RateRatios!$B$3)*1000))))))","v":1076661.5338703187},7031.285944862524,{"$f":"IF('III Tool Overview'!$H$6=\"Orkney Health Board\",0,IF('III Tool Overview'!$H$6=\"Shetland Health Board\",0,IF('III Tool Overview'!$H$6=\"Western Isles Health Board\",0,IF('III Tool Overview'!$H$6=\"Orkney Islands Local Authority\",0,IF('III Tool Overview'!$H$6=\"Shetland Islands Local Authority\",0,IF('III Tool Overview'!$H$6=\"Eilean Siar Local Authority\",0,hosp_count(10,B74,C74,D74,$C$1,G74,1,F74,F74,SIMDRateRatios_hosp,SIMDrateratios,RateRatios!$B$3)*10))))))","v":26441.314827499562},{"$f":"IF('III Tool Overview'!$H$6=\"Orkney Health Board\",0,IF('III Tool Overview'!$H$6=\"Shetland Health Board\",0,IF('III Tool Overview'!$H$6=\"Western Isles Health Board\",0,IF('III Tool Overview'!$H$6=\"Orkney Islands Local Authority\",0,IF('III Tool Overview'!$H$6=\"Shetland Islands Local Authority\",0,IF('III Tool Overview'!$H$6=\"Eilean Siar Local Authority\",0,hosp_count(10,B74,C74,D74,$C$1,G74+H74,1,F74,F74,SIMDRateRatios_hosp,SIMDrateratios,RateRatios!$B$3)*10))))))","v":26272.811644615689},168.5031828838728,{"$f":"IF('III Tool Overview'!$H$6=\"Orkney Health Board\",0,IF('III Tool Overview'!$H$6=\"Shetland Health Board\",0,IF('III Tool Overview'!$H$6=\"Western Isles Health Board\",0,IF('III Tool Overview'!$H$6=\"Orkney Islands Local Authority\",0,IF('III Tool Overview'!$H$6=\"Shetland Islands Local Authority\",0,IF('III Tool Overview'!$H$6=\"Eilean Siar Local Authority\",0,hosp_count(20,B74,C74,D74,$C$1,G74,1,F74,F74,SIMDRateRatios_hosp,SIMDrateratios,RateRatios!$B$3)*10))))))","v":65307.851887172626},{"$f":"IF('III Tool Overview'!$H$6=\"Orkney Health Board\",0,IF('III Tool Overview'!$H$6=\"Shetland Health Board\",0,IF('III Tool Overview'!$H$6=\"Western Isles Health Board\",0,IF('III Tool Overview'!$H$6=\"Orkney Islands Local Authority\",0,IF('III Tool Overview'!$H$6=\"Shetland Islands Local Authority\",0,IF('III Tool Overview'!$H$6=\"Eilean Siar Local Authority\",0,hosp_count(20,B74,C74,D74,$C$1,G74+H74,1,F74,F74,SIMDRateRatios_hosp,SIMDrateratios,RateRatios!$B$3)*10))))))","v":64913.76264731188},394.0892398607466]
["Male 40-44",42.5,"male",1,1,{"$f":"HLOOKUP('III Tool Overview'!$H$6,LookUpData_Pop!$B$1:$AV$269,LookUpData_Pop!BB76,FALSE)/50","v":1362.22},{"$f":"'III Tool Overview'!$H$9/110","v":0},1362.22,{"$f":"IF('III Tool Overview'!$H$6=\"Orkney Health Board\",0,IF('III Tool Overview'!$H$6=\"Shetland Health Board\",0,IF('III Tool Overview'!$H$6=\"Western Isles Health Board\",0,IF('III Tool Overview'!$H$6=\"Orkney Islands Local Authority\",0,IF('III Tool Overview'!$H$6=\"Shetland Islands Local Authority\",0,IF('III Tool Overview'!$H$6=\"Eilean Siar Local Authority\",0,new_ci(2,B75,C75,D75,$C$1,G75,1,F75,F75,SIMDrateratios,RateRatios!$B$3)*10))))))","v":76.738607909394048},{"$f":"IF('III Tool Overview'!$H$6=\"Orkney Health Board\",0,IF('III Tool Overview'!$H$6=\"Shetland Health Board\",0,IF('III Tool Overview'!$H$6=\"Western Isles Health Board\",0,IF('III Tool Overview'!$H$6=\"Orkney Islands Local Authority\",0,IF('III Tool Overview'!$H$6=\"Shetland Islands Local Authority\",0,IF('III Tool Overview'!$H$6=\"Eilean Siar Local Authority\",0,new_ci(2,B75,C75,D75,$C$1,G75+H75,1,H75,H75,SIMDrateratios,RateRatios!$B$3)*10))))))","v":76.095168131070992},{"$f":"IF('III Tool Overview'!$H$6=\"Orkney Health Board\",0,IF('III Tool Overview'!$H$6=\"Shetland Health Board\",0,IF('III Tool Overview'!$H$6=\"Western Isles Health Board\",0,IF('III Tool Overview'!$H$6=\"Orkney Islands Local Authority\",0,IF('III Tool Overview'!$H$6=\"Shetland Islands Local Authority\",0,IF('III Tool Overview'!$H$6=\"Eilean Siar Local Authority\",0,new_ci(5,B75,C75,D75,$C$1,G75,1,F75,F75,SIMDrateratios,RateRatios!$B$3)*1000))))))","v":33259.882394206958},{"$f":"IF('III Tool Overview'!$H$6=\"Orkney Health Board\",0,IF('III Tool Overview'!$H$6=\"Shetland Health Board\",0,IF('III Tool Overview'!$H$6=\"Western Isles Health Board\",0,IF('III Tool Overview'!$H$6=\"Orkney Islands Local Authority\",0,IF('III Tool Overview'!$H$6=\"Shetland Islands Local Authority\",0,IF('III Tool Overview'!$H$6=\"Eilean Siar Local Authority\",0,new_ci(5,B75,C75,D75,$C$1,G75+H75,1,F75,F75,SIMDrateratios,RateRatios!$B$3)*1000))))))","v":32983.635046658601},{"$f":"IF('III Tool Overview'!$H$6=\"Orkney Health Board\",0,IF('III Tool Overview'!$H$6=\"Shetland Health Board\",0,IF('III Tool Overview'!$H$6=\"Western Isles Health Board\",0,IF('III Tool Overview'!$H$6=\"Orkney Islands Local Authority\",0,IF('III Tool Overview'!$H$6=\"Shetland Islands Local Authority\",0,IF('III Tool Overview'!$H$6=\"Eilean Siar Local Authority\",0,new_ci(10,B75,C75,D75,$C$1,G75,1,F75,F75,SIMDrateratios,RateRatios!$B$3)*10))))))","v":856.74605469735525},{"$f":"IF('III Tool Overview'!$H$6=\"Orkney Health Board\",0,IF('III Tool Overview'!$H$6=\"Shetland Health Board\",0,IF('III Tool Overview'!$H$6=\"Western Isles Health Board\",0,IF('III Tool Overview'!$H$6=\"Orkney Islands Local Authority\",0,IF('III Tool Overview'!$H$6=\"Shetland Islands Local Authority\",0,IF('III Tool Overview'!$H$6=\"Eilean Siar Local Authority\",0,new_ci(10,B75,C75,D75,$C$1,G75+H75,1,F75,F75,SIMDrateratios,RateRatios!$B$3)*10))))))","v":849.77176682319555},{"$f":"IF('III Tool Overview'!$H$6=\"Orkney Health Board\",0,IF('III Tool Overview'!$H$6=\"Shetland Health Board\",0,IF('III Tool Overview'!$H$6=\"Western Isles Health Board\",0,IF('III Tool Overview'!$H$6=\"Orkney Islands Local Authority\",0,IF('III Tool Overview'!$H$6=\"Shetland Islands Local Authority\",0,IF('III Tool Overview'!$H$6=\"Eilean Siar Local Authority\",0,new_ci(20,B75,C75,D75,$C$1,G75,1,F75,F75,SIMDrateratios,RateRatios!$B$3)*10))))))","v":2368.5805475387228},{"$f":"IF('III Tool Overview'!$H$6=\"Orkney Health Board\",0,IF('III Tool Overview'!$H$6=\"Shetland Health Board\",0,IF('III Tool Overview'!$H$6=\"Western Isles Health Board\",0,IF('III Tool Overview'!$H$6=\"Orkney Islands Local Authority\",0,IF('III Tool Overview'!$H$6=\"Shetland Islands Local Authority\",0,IF('III Tool Overview'!$H$6=\"Eilean Siar Local Authority\",0,new_ci(20,B75,C75,D75,$C$1,G75+H75,1,F75,F75,SIMDrateratios,RateRatios!$B$3)*10))))))","v":2350.4917182797753},{"$f":"IF('III Tool Overview'!$H$6=\"Orkney Health Board\",0,IF('III Tool Overview'!$H$6=\"Shetland Health Board\",0,IF('III Tool Overview'!$H$6=\"Western Isles Health Board\",0,IF('III Tool Overview'!$H$6=\"Orkney Islands Local Authority\",0,IF('III Tool Overview'!$H$6=\"Shetland Islands Local Authority\",0,IF('III Tool Overview'!$H$6=\"Eilean Siar Local Authority\",0,new_yll(2,B75,C75,D75,$C$1,G75,1,F75,F75,SIMDrateratios,RateRatios!$B$3)*10))))))","v":4374.1006508354612},{"$f":"IF('III Tool Overview'!$H$6=\"Orkney Health Board\",0,IF('III Tool Overview'!$H$6=\"Shetland Health Board\",0,IF('III Tool Overview'!$H$6=\"Western Isles Health Board\",0,IF('III Tool Overview'!$H$6=\"Orkney Islands Local Authority\",0,IF('III Tool Overview'!$H$6=\"Shetland Islands Local Authority\",0,IF('III Tool Overview'!$H$6=\"Eilean Siar Local Authority\",0,new_yll(2,B75,C75,D75,$C$1,G75+H75,1,F75,F75,SIMDrateratios,RateRatios!$B$3)*10))))))","v":4337.4245834710464},36.676067364414848,{"$f":"IF('III Tool Overview'!$H$6=\"Orkney Health Board\",0,IF('III Tool Overview'!$H$6=\"Shetland Health Board\",0,IF('III Tool Overview'!$H$6=\"Western Isles Health Board\",0,IF('III Tool Overview'!$H$6=\"Orkney Islands Local Authority\",0,IF('III Tool Overview'!$H$6=\"Shetland Islands Local Authority\",0,IF('III Tool Overview'!$H$6=\"Eilean Siar Local Authority\",0,new_yll(5,B75,C75,D75,$C$1,G75,1,F75,F75,SIMDrateratios,RateRatios!$B$3)*1000))))))","v":1843753.7579508012},{"$f":"IF('III Tool Overview'!$H$6=\"Orkney Health Board\",0,IF('III Tool Overview'!$H$6=\"Shetland Health Board\",0,IF('III Tool Overview'!$H$6=\"Western Isles Health Board\",0,IF('III Tool Overview'!$H$6=\"Orkney Islands Local Authority\",0,IF('III Tool Overview'!$H$6=\"Shetland Islands Local Authority\",0,IF('III Tool Overview'!$H$6=\"Eilean Siar Local Authority\",0,new_yll(5,B75,C75,D75,$C$1,G75+H75,1,F75,F75,SIMDrateratios,RateRatios!$B$3)*1000))))))","v":1828437.9131165706},15315.844834230607,{"$f":"IF('III Tool Overview'!$H$6=\"Orkney Health Board\",0,IF('III Tool Overview'!$H$6=\"Shetland Health Board\",0,IF('III Tool Overview'!$H$6=\"Western Isles Health Board\",0,IF('III Tool Overview'!$H$6=\"Orkney Islands Local Authority\",0,IF('III Tool Overview'!$H$6=\"Shetland Islands Local Authority\",0,IF('III Tool Overview'!$H$6=\"Eilean Siar Local Authority\",0,new_yll(10,B75,C75,D75,$C$1,G75,1,F75,F75,SIMDrateratios,RateRatios!$B$3)*10))))))","v":45116.31541729399},{"$f":"IF('III Tool Overview'!$H$6=\"Orkney Health Board\",0,IF('III Tool Overview'!$H$6=\"Shetland Health Board\",0,IF('III Tool Overview'!$H$6=\"Western Isles Health Board\",0,IF('III Tool Overview'!$H$6=\"Orkney Islands Local Authority\",0,IF('III Tool Overview'!$H$6=\"Shetland Islands Local Authority\",0,IF('III Tool Overview'!$H$6=\"Eilean Siar Local Authority\",0,new_yll(10,B75,C75,D75,$C$1,G75+H75,1,F75,F75,SIMDrateratios,RateRatios!$B$3)*10))))))","v":44748.707989234405},367.6074280595858,{"$f":"IF('III Tool Overview'!$H$6=\"Orkney Health Board\",0,IF('III Tool Overview'!$H$6=\"Shetland Health Board\",0,IF('III Tool Overview'!$H$6=\"Western Isles Health Board\",0,IF('III Tool Overview'!$H$6=\"Orkney Islands Local Authority\",0,IF('III Tool Overview'!$H$6=\"Shetland Islands Local Authority\",0,IF('III Tool Overview'!$H$6=\"Eilean Siar Local Authority\",0,new_yll(20,B75,C75,D75,$C$1,G75,1,F75,F75,SIMDrateratios,RateRatios!$B$3)*10))))))","v":110312.27122535359},{"$f":"IF('III Tool Overview'!$H$6=\"Orkney Health Board\",0,IF('III Tool Overview'!$H$6=\"Shetland Health Board\",0,IF('III Tool Overview'!$H$6=\"Western Isles Health Board\",0,IF('III Tool Overview'!$H$6=\"Orkney Islands Local Authority\",0,IF('III Tool Overview'!$H$6=\"Shetland Islands Local Authority\",0,IF('III Tool Overview'!$H$6=\"Eilean Siar Local Authority\",0,new_yll(20,B75,C75,D75,$C$1,G75+H75,1,F75,F75,SIMDrateratios,RateRatios!$B$3)*10))))))","v":109464.06392481446},848.20730053912848,{"$f":"IF('III Tool Overview'!$H$6=\"Orkney Health Board\",0,IF('III Tool Overview'!$H$6=\"Shetland Health Board\",0,IF('III Tool Overview'!$H$6=\"Western Isles Health Board\",0,IF('III Tool Overview'!$H$6=\"Orkney Islands Local Authority\",0,IF('III Tool Overview'!$H$6=\"Shetland Islands Local Authority\",0,IF('III Tool Overview'!$H$6=\"Eilean Siar Local Authority\",0,hosp_count(2,B75,C75,D75,$C$1,G75,1,F75,F75,SIMDRateRatios_hosp,SIMDrateratios,RateRatios!$B$3)*10))))))","v":3116.1394749124574},{"$f":"IF('III Tool Overview'!$H$6=\"Orkney Health Board\",0,IF('III Tool Overview'!$H$6=\"Shetland Health Board\",0,IF('III Tool Overview'!$H$6=\"Western Isles Health Board\",0,IF('III Tool Overview'!$H$6=\"Orkney Islands Local Authority\",0,IF('III Tool Overview'!$H$6=\"Shetland Islands Local Authority\",0,IF('III Tool Overview'!$H$6=\"Eilean Siar Local Authority\",0,hosp_count(2,B75,C75,D75,$C$1,G75+H75,1,F75,F75,SIMDRateRatios_hosp,SIMDrateratios,RateRatios!$B$3)*10))))))","v":3095.7506848917978},20.388790020659599,{"$f":"IF('III Tool Overview'!$H$6=\"Orkney Health Board\",0,IF('III Tool Overview'!$H$6=\"Shetland Health Board\",0,IF('III Tool Overview'!$H$6=\"Western Isles Health Board\",0,IF('III Tool Overview'!$H$6=\"Orkney Islands Local Authority\",0,IF('III Tool Overview'!$H$6=\"Shetland Islands Local Authority\",0,IF('III Tool Overview'!$H$6=\"Eilean Siar Local Authority\",0,hosp_count(5,B75,C75,D75,$C$1,G75,1,F75,F75,SIMDRateRatios_hosp,SIMDrateratios,RateRatios!$B$3)*1000))))))","v":1305866.8147218016},{"$f":"IF('III Tool Overview'!$H$6=\"Orkney Health Board\",0,IF('III Tool Overview'!$H$6=\"Shetland Health Board\",0,IF('III Tool Overview'!$H$6=\"Western Isles Health Board\",0,IF('III Tool Overview'!$H$6=\"Orkney Islands Local Authority\",0,IF('III Tool Overview'!$H$6=\"Shetland Islands Local Authority\",0,IF('III Tool Overview'!$H$6=\"Eilean Siar Local Authority\",0,hosp_count(5,B75,C75,D75,$C$1,G75+H75,1,F75,F75,SIMDRateRatios_hosp,SIMDrateratios,RateRatios!$B$3)*1000))))))","v":1297421.2750077713},8445.539714030223,{"$f":"IF('III Tool Overview'!$H$6=\"Orkney Health Board\",0,IF('III Tool Overview'!$H$6=\"Shetland Health Board\",0,IF('III Tool Overview'!$H$6=\"Western Isles Health Board\",0,IF('III Tool Overview'!$H$6=\"Orkney Islands Local Authority\",0,IF('III Tool Overview'!$H$6=\"Shetland Islands Local Authority\",0,IF('III Tool Overview'!$H$6=\"Eilean Siar Local Authority\",0,hosp_count(10,B75,C75,D75,$C$1,G75,1,F75,F75,SIMDRateRatios_hosp,SIMDrateratios,RateRatios!$B$3)*10))))))","v":31714.859819898797},{"$f":"IF('III Tool Overview'!$H$6=\"Orkney Health Board\",0,IF('III Tool Overview'!$H$6=\"Shetland Health Board\",0,IF('III Tool Overview'!$H$6=\"Western Isles Health Board\",0,IF('III Tool Overview'!$H$6=\"Orkney Islands Local Authority\",0,IF('III Tool Overview'!$H$6=\"Shetland Islands Local Authority\",0,IF('III Tool Overview'!$H$6=\"Eilean Siar Local Authority\",0,hosp_count(10,B75,C75,D75,$C$1,G75+H75,1,F75,F75,SIMDRateRatios_hosp,SIMDrateratios,RateRatios!$B$3)*10))))))","v":31514.622922833834},200.23689706496225,{"$f":"IF('III Tool Overview'!$H$6=\"Orkney Health Board\",0,IF('III Tool Overview'!$H$6=\"Shetland Health Board\",0,IF('III Tool Overview'!$H$6=\"Western Isles Health Board\",0,IF('III Tool Overview'!$H$6=\"Orkney Islands Local Authority\",0,IF('III Tool Overview'!$H$6=\"Shetland Islands Local Authority\",0,IF('III Tool Overview'!$H$6=\"Eilean Siar Local Authority\",0,hosp_count(20,B75,C75,D75,$C$1,G75,1,F75,F75,SIMDRateRatios_hosp,SIMDrateratios,RateRatios!$B$3)*10))))))","v":77281.408102989182},{"$f":"IF('III Tool Overview'!$H$6=\"Orkney Health Board\",0,IF('III Tool Overview'!$H$6=\"Shetland Health Board\",0,IF('III Tool Overview'!$H$6=\"Western Isles Health Board\",0,IF('III Tool Overview'!$H$6=\"Orkney Islands Local Authority\",0,IF('III Tool Overview'!$H$6=\"Shetland Islands Local Authority\",0,IF('III Tool Overview'!$H$6=\"Eilean Siar Local Authority\",0,hosp_count(20,B75,C75,D75,$C$1,G75+H75,1,F75,F75,SIMDRateRatios_hosp,SIMDrateratios,RateRatios!$B$3)*10))))))","v":76827.999964281626},453.40813870755665]
["Male 45-49",47.5,"male",1,1,{"$f":"HLOOKUP('III Tool Overview'!$H$6,LookUpData_Pop!$B$1:$AV$269,LookUpData_Pop!BB77,FALSE)/50","v":1370.88},{"$f":"'III Tool Overview'!$H$9/110","v":0},1370.88,{"$f":"IF('III Tool Overview'!$H$6=\"Orkney Health Board\",0,IF('III Tool Overview'!$H$6=\"Shetland Health Board\",0,IF('III Tool Overview'!$H$6=\"Western Isles Health Board\",0,IF('III Tool Overview'!$H$6=\"Orkney Islands Local Authority\",0,IF('III Tool Overview'!$H$6=\"Shetland Islands Local Authority\",0,IF('III Tool Overview'!$H$6=\"Eilean Siar Local Authority\",0,new_ci(2,B76,C76,D76,$C$1,G76,1,F76,F76,SIMDrateratios,RateRatios!$B$3)*10))))))","v":119.05800977975451},{"$f":"IF('III Tool Overview'!$H$6=\"Orkney Health Board\",0,IF('III Tool Overview'!$H$6=\"Shetland Health Board\",0,IF('III Tool Overview'!$H$6=\"Western Isles Health Board\",0,IF('III Tool Overview'!$H$6=\"Orkney Islands Local Authority\",0,IF('III Tool Overview'!$H$6=\"Shetland Islands Local Authority\",0,IF('III Tool Overview'!$H$6=\"Eilean Siar Local Authority\",0,new_ci(2,B76,C76,D76,$C$1,G76+H76,1,H76,H76,SIMDrateratios,RateRatios!$B$3)*10))))))","v":118.06100281876292},{"$f":"IF('III Tool Overview'!$H$6=\"Orkney Health Board\",0,IF('III Tool Overview'!$H$6=\"Shetland Health Board\",0,IF('III Tool Overview'!$H$6=\"Western Isles Health Board\",0,IF('III Tool Overview'!$H$6=\"Orkney Islands Local Authority\",0,IF('III Tool Overview'!$H$6=\"Shetland Islands Local Authority\",0,IF('III Tool Overview'!$H$6=\"Eilean Siar Local Authority\",0,new_ci(5,B76,C76,D76,$C$1,G76,1,F76,F76,SIMDrateratios,RateRatios!$B$3)*1000))))))","v":51336.596985863223},{"$f":"IF('III Tool Overview'!$H$6=\"Orkney Health Board\",0,IF('III Tool Overview'!$H$6=\"Shetland Health Board\",0,IF('III Tool Overview'!$H$6=\"Western Isles Health Board\",0,IF('III Tool Overview'!$H$6=\"Orkney Islands Local Authority\",0,IF('III Tool Overview'!$H$6=\"Shetland Islands Local Authority\",0,IF('III Tool Overview'!$H$6=\"Eilean Siar Local Authority\",0,new_ci(5,B76,C76,D76,$C$1,G76+H76,1,F76,F76,SIMDrateratios,RateRatios!$B$3)*1000))))))","v":50912.952389617232},{"$f":"IF('III Tool Overview'!$H$6=\"Orkney Health Board\",0,IF('III Tool Overview'!$H$6=\"Shetland Health Board\",0,IF('III Tool Overview'!$H$6=\"Western Isles Health Board\",0,IF('III Tool Overview'!$H$6=\"Orkney Islands Local Authority\",0,IF('III Tool Overview'!$H$6=\"Shetland Islands Local Authority\",0,IF('III Tool Overview'!$H$6=\"Eilean Siar Local Authority\",0,new_ci(10,B76,C76,D76,$C$1,G76,1,F76,F76,SIMDrateratios,RateRatios!$B$3)*10))))))","v":1308.2631024851546},{"$f":"IF('III Tool Overview'!$H$6=\"Orkney Health Board\",0,IF('III Tool Overview'!$H$6=\"Shetland Health Board\",0,IF('III Tool Overview'!$H$6=\"Western Isles Health Board\",0,IF('III Tool Overview'!$H$6=\"Orkney Islands Local Authority\",0,IF('III Tool Overview'!$H$6=\"Shetland Islands Local Authority\",0,IF('III Tool Overview'!$H$6=\"Eilean Siar Local Authority\",0,new_ci(10,B76,C76,D76,$C$1,G76+H76,1,F76,F76,SIMDrateratios,RateRatios!$B$3)*10))))))","v":1297.7981827437636},{"$f":"IF('III Tool Overview'!$H$6=\"Orkney Health Board\",0,IF('III Tool Overview'!$H$6=\"Shetland Health Board\",0,IF('III Tool Overview'!$H$6=\"Western Isles Health Board\",0,IF('III Tool Overview'!$H$6=\"Orkney Islands Local Authority\",0,IF('III Tool Overview'!$H$6=\"Shetland Islands Local Authority\",0,IF('III Tool Overview'!$H$6=\"Eilean Siar Local Authority\",0,new_ci(20,B76,C76,D76,$C$1,G76,1,F76,F76,SIMDrateratios,RateRatios!$B$3)*10))))))","v":3501.440844613674},{"$f":"IF('III Tool Overview'!$H$6=\"Orkney Health Board\",0,IF('III Tool Overview'!$H$6=\"Shetland Health Board\",0,IF('III Tool Overview'!$H$6=\"Western Isles Health Board\",0,IF('III Tool Overview'!$H$6=\"Orkney Islands Local Authority\",0,IF('III Tool Overview'!$H$6=\"Shetland Islands Local Authority\",0,IF('III Tool Overview'!$H$6=\"Eilean Siar Local Authority\",0,new_ci(20,B76,C76,D76,$C$1,G76+H76,1,F76,F76,SIMDrateratios,RateRatios!$B$3)*10))))))","v":3476.0902163092724},{"$f":"IF('III Tool Overview'!$H$6=\"Orkney Health Board\",0,IF('III Tool Overview'!$H$6=\"Shetland Health Board\",0,IF('III Tool Overview'!$H$6=\"Western Isles Health Board\",0,IF('III Tool Overview'!$H$6=\"Orkney Islands Local Authority\",0,IF('III Tool Overview'!$H$6=\"Shetland Islands Local Authority\",0,IF('III Tool Overview'!$H$6=\"Eilean Siar Local Authority\",0,new_yll(2,B76,C76,D76,$C$1,G76,1,F76,F76,SIMDrateratios,RateRatios!$B$3)*10))))))","v":6071.9584987674798},{"$f":"IF('III Tool Overview'!$H$6=\"Orkney Health Board\",0,IF('III Tool Overview'!$H$6=\"Shetland Health Board\",0,IF('III Tool Overview'!$H$6=\"Western Isles Health Board\",0,IF('III Tool Overview'!$H$6=\"Orkney Islands Local Authority\",0,IF('III Tool Overview'!$H$6=\"Shetland Islands Local Authority\",0,IF('III Tool Overview'!$H$6=\"Eilean Siar Local Authority\",0,new_yll(2,B76,C76,D76,$C$1,G76+H76,1,F76,F76,SIMDrateratios,RateRatios!$B$3)*10))))))","v":6021.1111437569089},50.847355010570936,{"$f":"IF('III Tool Overview'!$H$6=\"Orkney Health Board\",0,IF('III Tool Overview'!$H$6=\"Shetland Health Board\",0,IF('III Tool Overview'!$H$6=\"Western Isles Health Board\",0,IF('III Tool Overview'!$H$6=\"Orkney Islands Local Authority\",0,IF('III Tool Overview'!$H$6=\"Shetland Islands Local Authority\",0,IF('III Tool Overview'!$H$6=\"Eilean Siar Local Authority\",0,new_yll(5,B76,C76,D76,$C$1,G76,1,F76,F76,SIMDrateratios,RateRatios!$B$3)*1000))))))","v":2538027.925680486},{"$f":"IF('III Tool Overview'!$H$6=\"Orkney Health Board\",0,IF('III Tool Overview'!$H$6=\"Shetland Health Board\",0,IF('III Tool Overview'!$H$6=\"Western Isles Health Board\",0,IF('III Tool Overview'!$H$6=\"Orkney Islands Local Authority\",0,IF('III Tool Overview'!$H$6=\"Shetland Islands Local Authority\",0,IF('III Tool Overview'!$H$6=\"Eilean Siar Local Authority\",0,new_yll(5,B76,C76,D76,$C$1,G76+H76,1,F76,F76,SIMDrateratios,RateRatios!$B$3)*1000))))))","v":2517078.2801320534},20949.6455484326,{"$f":"IF('III Tool Overview'!$H$6=\"Orkney Health Board\",0,IF('III Tool Overview'!$H$6=\"Shetland Health Board\",0,IF('III Tool Overview'!$H$6=\"Western Isles Health Board\",0,IF('III Tool Overview'!$H$6=\"Orkney Islands Local Authority\",0,IF('III Tool Overview'!$H$6=\"Shetland Islands Local Authority\",0,IF('III Tool Overview'!$H$6=\"Eilean Siar Local Authority\",0,new_yll(10,B76,C76,D76,$C$1,G76,1,F76,F76,SIMDrateratios,RateRatios!$B$3)*10))))))","v":61077.62249822219},{"$f":"IF('III Tool Overview'!$H$6=\"Orkney Health Board\",0,IF('III Tool Overview'!$H$6=\"Shetland Health Board\",0,IF('III Tool Overview'!$H$6=\"Western Isles Health Board\",0,IF('III Tool Overview'!$H$6=\"Orkney Islands Local Authority\",0,IF('III Tool Overview'!$H$6=\"Shetland Islands Local Authority\",0,IF('III Tool Overview'!$H$6=\"Eilean Siar Local Authority\",0,new_yll(10,B76,C76,D76,$C$1,G76+H76,1,F76,F76,SIMDrateratios,RateRatios!$B$3)*10))))))","v":60588.252531830942},489.36996639124845,{"$f":"IF('III Tool Overview'!$H$6=\"Orkney Health Board\",0,IF('III Tool Overview'!$H$6=\"Shetland Health Board\",0,IF('III Tool Overview'!$H$6=\"Western Isles Health Board\",0,IF('III Tool Overview'!$H$6=\"Orkney Islands Local Authority\",0,IF('III Tool Overview'!$H$6=\"Shetland Islands Local Authority\",0,IF('III Tool Overview'!$H$6=\"Eilean Siar Local Authority\",0,new_yll(20,B76,C76,D76,$C$1,G76,1,F76,F76,SIMDrateratios,RateRatios!$B$3)*10))))))","v":142619.46161264609},{"$f":"IF('III Tool Overview'!$H$6=\"Orkney Health Board\",0,IF('III Tool Overview'!$H$6=\"Shetland Health Board\",0,IF('III Tool Overview'!$H$6=\"Western Isles Health Board\",0,IF('III Tool Overview'!$H$6=\"Orkney Islands Local Authority\",0,IF('III Tool Overview'!$H$6=\"Shetland Islands Local Authority\",0,IF('III Tool Overview'!$H$6=\"Eilean Siar Local Authority\",0,new_yll(20,B76,C76,D76,$C$1,G76+H76,1,F76,F76,SIMDrateratios,RateRatios!$B$3)*10))))))","v":141573.7309164516},1045.7306961944851,{"$f":"IF('III Tool Overview'!$H$6=\"Orkney Health Board\",0,IF('III Tool Overview'!$H$6=\"Shetland Health Board\",0,IF('III Tool Overview'!$H$6=\"Western Isles Health Board\",0,IF('III Tool Overview'!$H$6=\"Orkney Islands Local Authority\",0,IF('III Tool Overview'!$H$6=\"Shetland Islands Local Authority\",0,IF('III Tool Overview'!$H$6=\"Eilean Siar Local Authority\",0,hosp_count(2,B76,C76,D76,$C$1,G76,1,F76,F76,SIMDRateRatios_hosp,SIMDrateratios,RateRatios!$B$3)*10))))))","v":3866.2478510060241},{"$f":"IF('III Tool Overview'!$H$6=\"Orkney Health Board\",0,IF('III Tool Overview'!$H$6=\"Shetland Health Board\",0,IF('III Tool Overview'!$H$6=\"Western Isles Health Board\",0,IF('III Tool Overview'!$H$6=\"Orkney Islands Local Authority\",0,IF('III Tool Overview'!$H$6=\"Shetland Islands Local Authority\",0,IF('III Tool Overview'!$H$6=\"Eilean Siar Local Authority\",0,hosp_count(2,B76,C76,D76,$C$1,G76+H76,1,F76,F76,SIMDRateRatios_hosp,SIMDrateratios,RateRatios!$B$3)*10))))))","v":3840.9448276806352},25.303023325388949,{"$f":"IF('III Tool Overview'!$H$6=\"Orkney Health Board\",0,IF('III Tool Overview'!$H$6=\"Shetland Health Board\",0,IF('III Tool Overview'!$H$6=\"Western Isles Health Board\",0,IF('III Tool Overview'!$H$6=\"Orkney Islands Local Authority\",0,IF('III Tool Overview'!$H$6=\"Shetland Islands Local Authority\",0,IF('III Tool Overview'!$H$6=\"Eilean Siar Local Authority\",0,hosp_count(5,B76,C76,D76,$C$1,G76,1,F76,F76,SIMDRateRatios_hosp,SIMDrateratios,RateRatios!$B$3)*1000))))))","v":1612266.587981432},{"$f":"IF('III Tool Overview'!$H$6=\"Orkney Health Board\",0,IF('III Tool Overview'!$H$6=\"Shetland Health Board\",0,IF('III Tool Overview'!$H$6=\"Western Isles Health Board\",0,IF('III Tool Overview'!$H$6=\"Orkney Islands Local Authority\",0,IF('III Tool Overview'!$H$6=\"Shetland Islands Local Authority\",0,IF('III Tool Overview'!$H$6=\"Eilean Siar Local Authority\",0,hosp_count(5,B76,C76,D76,$C$1,G76+H76,1,F76,F76,SIMDRateRatios_hosp,SIMDrateratios,RateRatios!$B$3)*1000))))))","v":1601902.6565688699},10363.931412562029,{"$f":"IF('III Tool Overview'!$H$6=\"Orkney Health Board\",0,IF('III Tool Overview'!$H$6=\"Shetland Health Board\",0,IF('III Tool Overview'!$H$6=\"Western Isles Health Board\",0,IF('III Tool Overview'!$H$6=\"Orkney Islands Local Authority\",0,IF('III Tool Overview'!$H$6=\"Shetland Islands Local Authority\",0,IF('III Tool Overview'!$H$6=\"Eilean Siar Local Authority\",0,hosp_count(10,B76,C76,D76,$C$1,G76,1,F76,F76,SIMDRateRatios_hosp,SIMDrateratios,RateRatios!$B$3)*10))))))","v":38767.862617630199},{"$f":"IF('III Tool Overview'!$H$6=\"Orkney Health Board\",0,IF('III Tool Overview'!$H$6=\"Shetland Health Board\",0,IF('III Tool Overview'!$H$6=\"Western Isles Health Board\",0,IF('III Tool Overview'!$H$6=\"Orkney Islands Local Authority\",0,IF('III Tool Overview'!$H$6=\"Shetland Islands Local Authority\",0,IF('III Tool Overview'!$H$6=\"Eilean Siar Local Authority\",0,hosp_count(10,B76,C76,D76,$C$1,G76+H76,1,F76,F76,SIMDRateRatios_hosp,SIMDrateratios,RateRatios!$B$3)*10))))))","v":38527.784184013624},240.07843361657433,{"$f":"IF('III Tool Overview'!$H$6=\"Orkney Health Board\",0,IF('III Tool Overview'!$H$6=\"Shetland Health Board\",0,IF('III Tool Overview'!$H$6=\"Western Isles Health Board\",0,IF('III Tool Overview'!$H$6=\"Orkney Islands Local Authority\",0,IF('III Tool Overview'!$H$6=\"Shetland Islands Local Authority\",0,IF('III Tool Overview'!$H$6=\"Eilean Siar Local Authority\",0,hosp_count(20,B76,C76,D76,$C$1,G76,1,F76,F76,SIMDRateRatios_hosp,SIMDrateratios,RateRatios!$B$3)*10))))))","v":91795.106371480855},{"$f":"IF('III Tool Overview'!$H$6=\"Orkney Health Board\",0,IF('III Tool Overview'!$H$6=\"Shetland Health Board\",0,IF('III Tool Overview'!$H$6=\"Western Isles Health Board\",0,IF('III Tool Overview'!$H$6=\"Orkney Islands Local Authority\",0,IF('III Tool Overview'!$H$6=\"Shetland Islands Local Authority\",0,IF('III Tool Overview'!$H$6=\"Eilean Siar Local Authority\",0,hosp_count(20,B76,C76,D76,$C$1,G76+H76,1,F76,F76,SIMDRateRatios_hosp,SIMDrateratios,RateRatios!$B$3)*10))))))","v":91288.373493508829},506.73287797202647]
["Male 50-54",52.5,"male",1,1,{"$f":"HLOOKUP('III Tool Overview'!$H$6,LookUpData_Pop!$B$1:$AV$269,LookUpData_Pop!BB78,FALSE)/50","v":1233.04},{"$f":"'III Tool Overview'!$H$9/110","v":0},1233.04,{"$f":"IF('III Tool Overview'!$H$6=\"Orkney Health Board\",0,IF('III Tool Overview'!$H$6=\"Shetland Health Board\",0,IF('III Tool Overview'!$H$6=\"Western Isles Health Board\",0,IF('III Tool Overview'!$H$6=\"Orkney Islands Local Authority\",0,IF('III Tool Overview'!$H$6=\"Shetland Islands Local Authority\",0,IF('III Tool Overview'!$H$6=\"Eilean Siar Local Authority\",0,new_ci(2,B77,C77,D77,$C$1,G77,1,F77,F77,SIMDrateratios,RateRatios!$B$3)*10))))))","v":142.84792418179904},{"$f":"IF('III Tool Overview'!$H$6=\"Orkney Health Board\",0,IF('III Tool Overview'!$H$6=\"Shetland Health Board\",0,IF('III Tool Overview'!$H$6=\"Western Isles Health Board\",0,IF('III Tool Overview'!$H$6=\"Orkney Islands Local Authority\",0,IF('III Tool Overview'!$H$6=\"Shetland Islands Local Authority\",0,IF('III Tool Overview'!$H$6=\"Eilean Siar Local Authority\",0,new_ci(2,B77,C77,D77,$C$1,G77+H77,1,H77,H77,SIMDrateratios,RateRatios!$B$3)*10))))))","v":141.65358014096282},{"$f":"IF('III Tool Overview'!$H$6=\"Orkney Health Board\",0,IF('III Tool Overview'!$H$6=\"Shetland Health Board\",0,IF('III Tool Overview'!$H$6=\"Western Isles Health Board\",0,IF('III Tool Overview'!$H$6=\"Orkney Islands Local Authority\",0,IF('III Tool Overview'!$H$6=\"Shetland Islands Local Authority\",0,IF('III Tool Overview'!$H$6=\"Eilean Siar Local Authority\",0,new_ci(5,B77,C77,D77,$C$1,G77,1,F77,F77,SIMDrateratios,RateRatios!$B$3)*1000))))))","v":61293.490188220225},{"$f":"IF('III Tool Overview'!$H$6=\"Orkney Health Board\",0,IF('III Tool Overview'!$H$6=\"Shetland Health Board\",0,IF('III Tool Overview'!$H$6=\"Western Isles Health Board\",0,IF('III Tool Overview'!$H$6=\"Orkney Islands Local Authority\",0,IF('III Tool Overview'!$H$6=\"Shetland Islands Local Authority\",0,IF('III Tool Overview'!$H$6=\"Eilean Siar Local Authority\",0,new_ci(5,B77,C77,D77,$C$1,G77+H77,1,F77,F77,SIMDrateratios,RateRatios!$B$3)*1000))))))","v":60790.967463429915},{"$f":"IF('III Tool Overview'!$H$6=\"Orkney Health Board\",0,IF('III Tool Overview'!$H$6=\"Shetland Health Board\",0,IF('III Tool Overview'!$H$6=\"Western Isles Health Board\",0,IF('III Tool Overview'!$H$6=\"Orkney Islands Local Authority\",0,IF('III Tool Overview'!$H$6=\"Shetland Islands Local Authority\",0,IF('III Tool Overview'!$H$6=\"Eilean Siar Local Authority\",0,new_ci(10,B77,C77,D77,$C$1,G77,1,F77,F77,SIMDrateratios,RateRatios!$B$3)*10))))))","v":1546.2250525012985},{"$f":"IF('III Tool Overview'!$H$6=\"Orkney Health Board\",0,IF('III Tool Overview'!$H$6=\"Shetland Health Board\",0,IF('III Tool Overview'!$H$6=\"Western Isles Health Board\",0,IF('III Tool Overview'!$H$6=\"Orkney Islands Local Authority\",0,IF('III Tool Overview'!$H$6=\"Shetland Islands Local Authority\",0,IF('III Tool Overview'!$H$6=\"Eilean Siar Local Authority\",0,new_ci(10,B77,C77,D77,$C$1,G77+H77,1,F77,F77,SIMDrateratios,RateRatios!$B$3)*10))))))","v":1534.0669863165238},{"$f":"IF('III Tool Overview'!$H$6=\"Orkney Health Board\",0,IF('III Tool Overview'!$H$6=\"Shetland Health Board\",0,IF('III Tool Overview'!$H$6=\"Western Isles Health Board\",0,IF('III Tool Overview'!$H$6=\"Orkney Islands Local Authority\",0,IF('III Tool Overview'!$H$6=\"Shetland Islands Local Authority\",0,IF('III Tool Overview'!$H$6=\"Eilean Siar Local Authority\",0,new_ci(20,B77,C77,D77,$C$1,G77,1,F77,F77,SIMDrateratios,RateRatios!$B$3)*10))))))","v":4015.2996099853367},{"$f":"IF('III Tool Overview'!$H$6=\"Orkney Health Board\",0,IF('III Tool Overview'!$H$6=\"Shetland Health Board\",0,IF('III Tool Overview'!$H$6=\"Western Isles Health Board\",0,IF('III Tool Overview'!$H$6=\"Orkney Islands Local Authority\",0,IF('III Tool Overview'!$H$6=\"Shetland Islands Local Authority\",0,IF('III Tool Overview'!$H$6=\"Eilean Siar Local Authority\",0,new_ci(20,B77,C77,D77,$C$1,G77+H77,1,F77,F77,SIMDrateratios,RateRatios!$B$3)*10))))))","v":3987.7037166963605},{"$f":"IF('III Tool Overview'!$H$6=\"Orkney Health Board\",0,IF('III Tool Overview'!$H$6=\"Shetland Health Board\",0,IF('III Tool Overview'!$H$6=\"Western Isles Health Board\",0,IF('III Tool Overview'!$H$6=\"Orkney Islands Local Authority\",0,IF('III Tool Overview'!$H$6=\"Shetland Islands Local Authority\",0,IF('III Tool Overview'!$H$6=\"Eilean Siar Local Authority\",0,new_yll(2,B77,C77,D77,$C$1,G77,1,F77,F77,SIMDrateratios,RateRatios!$B$3)*10))))))","v":6713.8524365445555},{"$f":"IF('III Tool Overview'!$H$6=\"Orkney Health Board\",0,IF('III Tool Overview'!$H$6=\"Shetland Health Board\",0,IF('III Tool Overview'!$H$6=\"Western Isles Health Board\",0,IF('III Tool Overview'!$H$6=\"Orkney Islands Local Authority\",0,IF('III Tool Overview'!$H$6=\"Shetland Islands Local Authority\",0,IF('III Tool Overview'!$H$6=\"Eilean Siar Local Authority\",0,new_yll(2,B77,C77,D77,$C$1,G77+H77,1,F77,F77,SIMDrateratios,RateRatios!$B$3)*10))))))","v":6657.7182666252529},56.134169919302622,{"$f":"IF('III Tool Overview'!$H$6=\"Orkney Health Board\",0,IF('III Tool Overview'!$H$6=\"Shetland Health Board\",0,IF('III Tool Overview'!$H$6=\"Western Isles Health Board\",0,IF('III Tool Overview'!$H$6=\"Orkney Islands Local Authority\",0,IF('III Tool Overview'!$H$6=\"Shetland Islands Local Authority\",0,IF('III Tool Overview'!$H$6=\"Eilean Siar Local Authority\",0,new_yll(5,B77,C77,D77,$C$1,G77,1,F77,F77,SIMDrateratios,RateRatios!$B$3)*1000))))))","v":2785357.5099757132},{"$f":"IF('III Tool Overview'!$H$6=\"Orkney Health Board\",0,IF('III Tool Overview'!$H$6=\"Shetland Health Board\",0,IF('III Tool Overview'!$H$6=\"Western Isles Health Board\",0,IF('III Tool Overview'!$H$6=\"Orkney Islands Local Authority\",0,IF('III Tool Overview'!$H$6=\"Shetland Islands Local Authority\",0,IF('III Tool Overview'!$H$6=\"Eilean Siar Local Authority\",0,new_yll(5,B77,C77,D77,$C$1,G77+H77,1,F77,F77,SIMDrateratios,RateRatios!$B$3)*1000))))))","v":2762513.2600441384},22844.249931574799,{"$f":"IF('III Tool Overview'!$H$6=\"Orkney Health Board\",0,IF('III Tool Overview'!$H$6=\"Shetland Health Board\",0,IF('III Tool Overview'!$H$6=\"Western Isles Health Board\",0,IF('III Tool Overview'!$H$6=\"Orkney Islands Local Authority\",0,IF('III Tool Overview'!$H$6=\"Shetland Islands Local Authority\",0,IF('III Tool Overview'!$H$6=\"Eilean Siar Local Authority\",0,new_yll(10,B77,C77,D77,$C$1,G77,1,F77,F77,SIMDrateratios,RateRatios!$B$3)*10))))))","v":66040.499723288434},{"$f":"IF('III Tool Overview'!$H$6=\"Orkney Health Board\",0,IF('III Tool Overview'!$H$6=\"Shetland Health Board\",0,IF('III Tool Overview'!$H$6=\"Western Isles Health Board\",0,IF('III Tool Overview'!$H$6=\"Orkney Islands Local Authority\",0,IF('III Tool Overview'!$H$6=\"Shetland Islands Local Authority\",0,IF('III Tool Overview'!$H$6=\"Eilean Siar Local Authority\",0,new_yll(10,B77,C77,D77,$C$1,G77+H77,1,F77,F77,SIMDrateratios,RateRatios!$B$3)*10))))))","v":65519.948830517184},520.5508927712508,{"$f":"IF('III Tool Overview'!$H$6=\"Orkney Health Board\",0,IF('III Tool Overview'!$H$6=\"Shetland Health Board\",0,IF('III Tool Overview'!$H$6=\"Western Isles Health Board\",0,IF('III Tool Overview'!$H$6=\"Orkney Islands Local Authority\",0,IF('III Tool Overview'!$H$6=\"Shetland Islands Local Authority\",0,IF('III Tool Overview'!$H$6=\"Eilean Siar Local Authority\",0,new_yll(20,B77,C77,D77,$C$1,G77,1,F77,F77,SIMDrateratios,RateRatios!$B$3)*10))))))","v":148095.70855447117},{"$f":"IF('III Tool Overview'!$H$6=\"Orkney Health Board\",0,IF('III Tool Overview'!$H$6=\"Shetland Health Board\",0,IF('III Tool Overview'!$H$6=\"Western Isles Health Board\",0,IF('III Tool Overview'!$H$6=\"Orkney Islands Local Authority\",0,IF('III Tool Overview'!$H$6=\"Shetland Islands Local Authority\",0,IF('III Tool Overview'!$H$6=\"Eilean Siar Local Authority\",0,new_yll(20,B77,C77,D77,$C$1,G77+H77,1,F77,F77,SIMDrateratios,RateRatios!$B$3)*10))))))","v":147057.72652961328},1037.9820248578908,{"$f":"IF('III Tool Overview'!$H$6=\"Orkney Health Board\",0,IF('III Tool Overview'!$H$6=\"Shetland Health Board\",0,IF('III Tool Overview'!$H$6=\"Western Isles Health Board\",0,IF('III Tool Overview'!$H$6=\"Orkney Islands Local Authority\",0,IF('III Tool Overview'!$H$6=\"Shetland Islands Local Authority\",0,IF('III Tool Overview'!$H$6=\"Eilean Siar Local Authority\",0,hosp_count(2,B77,C77,D77,$C$1,G77,1,F77,F77,SIMDRateRatios_hosp,SIMDrateratios,RateRatios!$B$3)*10))))))","v":3998.3532431432996},{"$f":"IF('III Tool Overview'!$H$6=\"Orkney Health Board\",0,IF('III Tool Overview'!$H$6=\"Shetland Health Board\",0,IF('III Tool Overview'!$H$6=\"Western Isles Health Board\",0,IF('III Tool Overview'!$H$6=\"Orkney Islands Local Authority\",0,IF('III Tool Overview'!$H$6=\"Shetland Islands Local Authority\",0,IF('III Tool Overview'!$H$6=\"Eilean Siar Local Authority\",0,hosp_count(2,B77,C77,D77,$C$1,G77+H77,1,F77,F77,SIMDRateRatios_hosp,SIMDrateratios,RateRatios!$B$3)*10))))))","v":3972.1887828197559},26.164460323543608,{"$f":"IF('III Tool Overview'!$H$6=\"Orkney Health Board\",0,IF('III Tool Overview'!$H$6=\"Shetland Health Board\",0,IF('III Tool Overview'!$H$6=\"Western Isles Health Board\",0,IF('III Tool Overview'!$H$6=\"Orkney Islands Local Authority\",0,IF('III Tool Overview'!$H$6=\"Shetland Islands Local Authority\",0,IF('III Tool Overview'!$H$6=\"Eilean Siar Local Authority\",0,hosp_count(5,B77,C77,D77,$C$1,G77,1,F77,F77,SIMDRateRatios_hosp,SIMDrateratios,RateRatios!$B$3)*1000))))))","v":1659581.3906554794},{"$f":"IF('III Tool Overview'!$H$6=\"Orkney Health Board\",0,IF('III Tool Overview'!$H$6=\"Shetland Health Board\",0,IF('III Tool Overview'!$H$6=\"Western Isles Health Board\",0,IF('III Tool Overview'!$H$6=\"Orkney Islands Local Authority\",0,IF('III Tool Overview'!$H$6=\"Shetland Islands Local Authority\",0,IF('III Tool Overview'!$H$6=\"Eilean Siar Local Authority\",0,hosp_count(5,B77,C77,D77,$C$1,G77+H77,1,F77,F77,SIMDRateRatios_hosp,SIMDrateratios,RateRatios!$B$3)*1000))))))","v":1648978.821794111},10602.568861368345,{"$f":"IF('III Tool Overview'!$H$6=\"Orkney Health Board\",0,IF('III Tool Overview'!$H$6=\"Shetland Health Board\",0,IF('III Tool Overview'!$H$6=\"Western Isles Health Board\",0,IF('III Tool Overview'!$H$6=\"Orkney Islands Local Authority\",0,IF('III Tool Overview'!$H$6=\"Shetland Islands Local Authority\",0,IF('III Tool Overview'!$H$6=\"Eilean Siar Local Authority\",0,hosp_count(10,B77,C77,D77,$C$1,G77,1,F77,F77,SIMDRateRatios_hosp,SIMDrateratios,RateRatios!$B$3)*10))))))","v":39531.249491460359},{"$f":"IF('III Tool Overview'!$H$6=\"Orkney Health Board\",0,IF('III Tool Overview'!$H$6=\"Shetland Health Board\",0,IF('III Tool Overview'!$H$6=\"Western Isles Health Board\",0,IF('III Tool Overview'!$H$6=\"Orkney Islands Local Authority\",0,IF('III Tool Overview'!$H$6=\"Shetland Islands Local Authority\",0,IF('III Tool Overview'!$H$6=\"Eilean Siar Local Authority\",0,hosp_count(10,B77,C77,D77,$C$1,G77+H77,1,F77,F77,SIMDRateRatios_hosp,SIMDrateratios,RateRatios!$B$3)*10))))))","v":39291.030844370995},240.21864708936482,{"$f":"IF('III Tool Overview'!$H$6=\"Orkney Health Board\",0,IF('III Tool Overview'!$H$6=\"Shetland Health Board\",0,IF('III Tool Overview'!$H$6=\"Western Isles Health Board\",0,IF('III Tool Overview'!$H$6=\"Orkney Islands Local Authority\",0,IF('III Tool Overview'!$H$6=\"Shetland Islands Local Authority\",0,IF('III Tool Overview'!$H$6=\"Eilean Siar Local Authority\",0,hosp_count(20,B77,C77,D77,$C$1,G77,1,F77,F77,SIMDRateRatios_hosp,SIMDrateratios,RateRatios!$B$3)*10))))))","v":91139.241925631184},{"$f":"IF('III Tool Overview'!$H$6=\"Orkney Health Board\",0,IF('III Tool Overview'!$H$6=\"Shetland Health Board\",0,IF('III Tool Overview'!$H$6=\"Western Isles Health Board\",0,IF('III Tool Overview'!$H$6=\"Orkney Islands Local Authority\",0,IF('III Tool Overview'!$H$6=\"Shetland Islands Local Authority\",0,IF('III Tool Overview'!$H$6=\"Eilean Siar Local Authority\",0,hosp_count(20,B77,C77,D77,$C$1,G77+H77,1,F77,F77,SIMDRateRatios_hosp,SIMDrateratios,RateRatios!$B$3)*10))))))","v":90665.273943727341},473.96798190384288]
["Male 55-59",57.5,"male",1,1,{"$f":"HLOOKUP('III Tool Overview'!$H$6,LookUpData_Pop!$B$1:$AV$269,LookUpData_Pop!BB79,FALSE)/50","v":1062.6400000000001},{"$f":"'III Tool Overview'!$H$9/110","v":0},1062.6400000000001,{"$f":"IF('III Tool Overview'!$H$6=\"Orkney Health Board\",0,IF('III Tool Overview'!$H$6=\"Shetland Health Board\",0,IF('III Tool Overview'!$H$6=\"Western Isles Health Board\",0,IF('III Tool Overview'!$H$6=\"Orkney Islands Local Authority\",0,IF('III Tool Overview'!$H$6=\"Shetland Islands Local Authority\",0,IF('III Tool Overview'!$H$6=\"Eilean Siar Local Authority\",0,new_ci(2,B78,C78,D78,$C$1,G78,1,F78,F78,SIMDrateratios,RateRatios!$B$3)*10))))))","v":189.48237580030064},{"$f":"IF('III Tool Overview'!$H$6=\"Orkney Health Board\",0,IF('III Tool Overview'!$H$6=\"Shetland Health Board\",0,IF('III Tool Overview'!$H$6=\"Western Isles Health Board\",0,IF('III Tool Overview'!$H$6=\"Orkney Islands Local Authority\",0,IF('III Tool Overview'!$H$6=\"Shetland Islands Local Authority\",0,IF('III Tool Overview'!$H$6=\"Eilean Siar Local Authority\",0,new_ci(2,B78,C78,D78,$C$1,G78+H78,1,H78,H78,SIMDrateratios,RateRatios!$B$3)*10))))))","v":187.9025212939307},{"$f":"IF('III Tool Overview'!$H$6=\"Orkney Health Board\",0,IF('III Tool Overview'!$H$6=\"Shetland Health Board\",0,IF('III Tool Overview'!$H$6=\"Western Isles Health Board\",0,IF('III Tool Overview'!$H$6=\"Orkney Islands Local Authority\",0,IF('III Tool Overview'!$H$6=\"Shetland Islands Local Authority\",0,IF('III Tool Overview'!$H$6=\"Eilean Siar Local Authority\",0,new_ci(5,B78,C78,D78,$C$1,G78,1,F78,F78,SIMDrateratios,RateRatios!$B$3)*1000))))))","v":80449.631714075222},{"$f":"IF('III Tool Overview'!$H$6=\"Orkney Health Board\",0,IF('III Tool Overview'!$H$6=\"Shetland Health Board\",0,IF('III Tool Overview'!$H$6=\"Western Isles Health Board\",0,IF('III Tool Overview'!$H$6=\"Orkney Islands Local Authority\",0,IF('III Tool Overview'!$H$6=\"Shetland Islands Local Authority\",0,IF('III Tool Overview'!$H$6=\"Eilean Siar Local Authority\",0,new_ci(5,B78,C78,D78,$C$1,G78+H78,1,F78,F78,SIMDrateratios,RateRatios!$B$3)*1000))))))","v":79798.91993755009},{"$f":"IF('III Tool Overview'!$H$6=\"Orkney Health Board\",0,IF('III Tool Overview'!$H$6=\"Shetland Health Board\",0,IF('III Tool Overview'!$H$6=\"Western Isles Health Board\",0,IF('III Tool Overview'!$H$6=\"Orkney Islands Local Authority\",0,IF('III Tool Overview'!$H$6=\"Shetland Islands Local Authority\",0,IF('III Tool Overview'!$H$6=\"Eilean Siar Local Authority\",0,new_ci(10,B78,C78,D78,$C$1,G78,1,F78,F78,SIMDrateratios,RateRatios!$B$3)*10))))))","v":1985.9176971218255},{"$f":"IF('III Tool Overview'!$H$6=\"Orkney Health Board\",0,IF('III Tool Overview'!$H$6=\"Shetland Health Board\",0,IF('III Tool Overview'!$H$6=\"Western Isles Health Board\",0,IF('III Tool Overview'!$H$6=\"Orkney Islands Local Authority\",0,IF('III Tool Overview'!$H$6=\"Shetland Islands Local Authority\",0,IF('III Tool Overview'!$H$6=\"Eilean Siar Local Authority\",0,new_ci(10,B78,C78,D78,$C$1,G78+H78,1,F78,F78,SIMDrateratios,RateRatios!$B$3)*10))))))","v":1970.8665704683954},{"$f":"IF('III Tool Overview'!$H$6=\"Orkney Health Board\",0,IF('III Tool Overview'!$H$6=\"Shetland Health Board\",0,IF('III Tool Overview'!$H$6=\"Western Isles Health Board\",0,IF('III Tool Overview'!$H$6=\"Orkney Islands Local Authority\",0,IF('III Tool Overview'!$H$6=\"Shetland Islands Local Authority\",0,IF('III Tool Overview'!$H$6=\"Eilean Siar Local Authority\",0,new_ci(20,B78,C78,D78,$C$1,G78,1,F78,F78,SIMDrateratios,RateRatios!$B$3)*10))))))","v":4842.9678062660214},{"$f":"IF('III Tool Overview'!$H$6=\"Orkney Health Board\",0,IF('III Tool Overview'!$H$6=\"Shetland Health Board\",0,IF('III Tool Overview'!$H$6=\"Western Isles Health Board\",0,IF('III Tool Overview'!$H$6=\"Orkney Islands Local Authority\",0,IF('III Tool Overview'!$H$6=\"Shetland Islands Local Authority\",0,IF('III Tool Overview'!$H$6=\"Eilean Siar Local Authority\",0,new_ci(20,B78,C78,D78,$C$1,G78+H78,1,F78,F78,SIMDrateratios,RateRatios!$B$3)*10))))))","v":4813.2939072397457},{"$f":"IF('III Tool Overview'!$H$6=\"Orkney Health Board\",0,IF('III Tool Overview'!$H$6=\"Shetland Health Board\",0,IF('III Tool Overview'!$H$6=\"Western Isles Health Board\",0,IF('III Tool Overview'!$H$6=\"Orkney Islands Local Authority\",0,IF('III Tool Overview'!$H$6=\"Shetland Islands Local Authority\",0,IF('III Tool Overview'!$H$6=\"Eilean Siar Local Authority\",0,new_yll(2,B78,C78,D78,$C$1,G78,1,F78,F78,SIMDrateratios,RateRatios!$B$3)*10))))))","v":7768.7774078123266},{"$f":"IF('III Tool Overview'!$H$6=\"Orkney Health Board\",0,IF('III Tool Overview'!$H$6=\"Shetland Health Board\",0,IF('III Tool Overview'!$H$6=\"Western Isles Health Board\",0,IF('III Tool Overview'!$H$6=\"Orkney Islands Local Authority\",0,IF('III Tool Overview'!$H$6=\"Shetland Islands Local Authority\",0,IF('III Tool Overview'!$H$6=\"Eilean Siar Local Authority\",0,new_yll(2,B78,C78,D78,$C$1,G78+H78,1,F78,F78,SIMDrateratios,RateRatios!$B$3)*10))))))","v":7704.0033730511595},64.774034761167059,{"$f":"IF('III Tool Overview'!$H$6=\"Orkney Health Board\",0,IF('III Tool Overview'!$H$6=\"Shetland Health Board\",0,IF('III Tool Overview'!$H$6=\"Western Isles Health Board\",0,IF('III Tool Overview'!$H$6=\"Orkney Islands Local Authority\",0,IF('III Tool Overview'!$H$6=\"Shetland Islands Local Authority\",0,IF('III Tool Overview'!$H$6=\"Eilean Siar Local Authority\",0,new_yll(5,B78,C78,D78,$C$1,G78,1,F78,F78,SIMDrateratios,RateRatios!$B$3)*1000))))))","v":3173867.6172145158},{"$f":"IF('III Tool Overview'!$H$6=\"Orkney Health Board\",0,IF('III Tool Overview'!$H$6=\"Shetland Health Board\",0,IF('III Tool Overview'!$H$6=\"Western Isles Health Board\",0,IF('III Tool Overview'!$H$6=\"Orkney Islands Local Authority\",0,IF('III Tool Overview'!$H$6=\"Shetland Islands Local Authority\",0,IF('III Tool Overview'!$H$6=\"Eilean Siar Local Authority\",0,new_yll(5,B78,C78,D78,$C$1,G78+H78,1,F78,F78,SIMDrateratios,RateRatios!$B$3)*1000))))))","v":3148179.5013904637},25688.115824052133,{"$f":"IF('III Tool Overview'!$H$6=\"Orkney Health Board\",0,IF('III Tool Overview'!$H$6=\"Shetland Health Board\",0,IF('III Tool Overview'!$H$6=\"Western Isles Health Board\",0,IF('III Tool Overview'!$H$6=\"Orkney Islands Local Authority\",0,IF('III Tool Overview'!$H$6=\"Shetland Islands Local Authority\",0,IF('III Tool Overview'!$H$6=\"Eilean Siar Local Authority\",0,new_yll(10,B78,C78,D78,$C$1,G78,1,F78,F78,SIMDrateratios,RateRatios!$B$3)*10))))))","v":73011.007682087817},{"$f":"IF('III Tool Overview'!$H$6=\"Orkney Health Board\",0,IF('III Tool Overview'!$H$6=\"Shetland Health Board\",0,IF('III Tool Overview'!$H$6=\"Western Isles Health Board\",0,IF('III Tool Overview'!$H$6=\"Orkney Islands Local Authority\",0,IF('III Tool Overview'!$H$6=\"Shetland Islands Local Authority\",0,IF('III Tool Overview'!$H$6=\"Eilean Siar Local Authority\",0,new_yll(10,B78,C78,D78,$C$1,G78+H78,1,F78,F78,SIMDrateratios,RateRatios!$B$3)*10))))))","v":72455.141570189386},555.86611189843097,{"$f":"IF('III Tool Overview'!$H$6=\"Orkney Health Board\",0,IF('III Tool Overview'!$H$6=\"Shetland Health Board\",0,IF('III Tool Overview'!$H$6=\"Western Isles Health Board\",0,IF('III Tool Overview'!$H$6=\"Orkney Islands Local Authority\",0,IF('III Tool Overview'!$H$6=\"Shetland Islands Local Authority\",0,IF('III Tool Overview'!$H$6=\"Eilean Siar Local Authority\",0,new_yll(20,B78,C78,D78,$C$1,G78,1,F78,F78,SIMDrateratios,RateRatios!$B$3)*10))))))","v":151147.5075345778},{"$f":"IF('III Tool Overview'!$H$6=\"Orkney Health Board\",0,IF('III Tool Overview'!$H$6=\"Shetland Health Board\",0,IF('III Tool Overview'!$H$6=\"Western Isles Health Board\",0,IF('III Tool Overview'!$H$6=\"Orkney Islands Local Authority\",0,IF('III Tool Overview'!$H$6=\"Shetland Islands Local Authority\",0,IF('III Tool Overview'!$H$6=\"Eilean Siar Local Authority\",0,new_yll(20,B78,C78,D78,$C$1,G78+H78,1,F78,F78,SIMDrateratios,RateRatios!$B$3)*10))))))","v":150183.89931995876},963.60821461904561,{"$f":"IF('III Tool Overview'!$H$6=\"Orkney Health Board\",0,IF('III Tool Overview'!$H$6=\"Shetland Health Board\",0,IF('III Tool Overview'!$H$6=\"Western Isles Health Board\",0,IF('III Tool Overview'!$H$6=\"Orkney Islands Local Authority\",0,IF('III Tool Overview'!$H$6=\"Shetland Islands Local Authority\",0,IF('III Tool Overview'!$H$6=\"Eilean Siar Local Authority\",0,hosp_count(2,B78,C78,D78,$C$1,G78,1,F78,F78,SIMDRateRatios_hosp,SIMDrateratios,RateRatios!$B$3)*10))))))","v":4248.2568840264357},{"$f":"IF('III Tool Overview'!$H$6=\"Orkney Health Board\",0,IF('III Tool Overview'!$H$6=\"Shetland Health Board\",0,IF('III Tool Overview'!$H$6=\"Western Isles Health Board\",0,IF('III Tool Overview'!$H$6=\"Orkney Islands Local Authority\",0,IF('III Tool Overview'!$H$6=\"Shetland Islands Local Authority\",0,IF('III Tool Overview'!$H$6=\"Eilean Siar Local Authority\",0,hosp_count(2,B78,C78,D78,$C$1,G78+H78,1,F78,F78,SIMDRateRatios_hosp,SIMDrateratios,RateRatios!$B$3)*10))))))","v":4220.4467818412895},27.810102185146206,{"$f":"IF('III Tool Overview'!$H$6=\"Orkney Health Board\",0,IF('III Tool Overview'!$H$6=\"Shetland Health Board\",0,IF('III Tool Overview'!$H$6=\"Western Isles Health Board\",0,IF('III Tool Overview'!$H$6=\"Orkney Islands Local Authority\",0,IF('III Tool Overview'!$H$6=\"Shetland Islands Local Authority\",0,IF('III Tool Overview'!$H$6=\"Eilean Siar Local Authority\",0,hosp_count(5,B78,C78,D78,$C$1,G78,1,F78,F78,SIMDRateRatios_hosp,SIMDrateratios,RateRatios!$B$3)*1000))))))","v":1745638.5050915275},{"$f":"IF('III Tool Overview'!$H$6=\"Orkney Health Board\",0,IF('III Tool Overview'!$H$6=\"Shetland Health Board\",0,IF('III Tool Overview'!$H$6=\"Western Isles Health Board\",0,IF('III Tool Overview'!$H$6=\"Orkney Islands Local Authority\",0,IF('III Tool Overview'!$H$6=\"Shetland Islands Local Authority\",0,IF('III Tool Overview'!$H$6=\"Eilean Siar Local Authority\",0,hosp_count(5,B78,C78,D78,$C$1,G78+H78,1,F78,F78,SIMDRateRatios_hosp,SIMDrateratios,RateRatios!$B$3)*1000))))))","v":1734627.0464301875},11011.458661339944,{"$f":"IF('III Tool Overview'!$H$6=\"Orkney Health Board\",0,IF('III Tool Overview'!$H$6=\"Shetland Health Board\",0,IF('III Tool Overview'!$H$6=\"Western Isles Health Board\",0,IF('III Tool Overview'!$H$6=\"Orkney Islands Local Authority\",0,IF('III Tool Overview'!$H$6=\"Shetland Islands Local Authority\",0,IF('III Tool Overview'!$H$6=\"Eilean Siar Local Authority\",0,hosp_count(10,B78,C78,D78,$C$1,G78,1,F78,F78,SIMDRateRatios_hosp,SIMDrateratios,RateRatios!$B$3)*10))))))","v":40752.359283496124},{"$f":"IF('III Tool Overview'!$H$6=\"Orkney Health Board\",0,IF('III Tool Overview'!$H$6=\"Shetland Health Board\",0,IF('III Tool Overview'!$H$6=\"Western Isles Health Board\",0,IF('III Tool Overview'!$H$6=\"Orkney Islands Local Authority\",0,IF('III Tool Overview'!$H$6=\"Shetland Islands Local Authority\",0,IF('III Tool Overview'!$H$6=\"Eilean Siar Local Authority\",0,hosp_count(10,B78,C78,D78,$C$1,G78+H78,1,F78,F78,SIMDRateRatios_hosp,SIMDrateratios,RateRatios!$B$3)*10))))))","v":40514.596969750375},237.76231374574854,{"$f":"IF('III Tool Overview'!$H$6=\"Orkney Health Board\",0,IF('III Tool Overview'!$H$6=\"Shetland Health Board\",0,IF('III Tool Overview'!$H$6=\"Western Isles Health Board\",0,IF('III Tool Overview'!$H$6=\"Orkney Islands Local Authority\",0,IF('III Tool Overview'!$H$6=\"Shetland Islands Local Authority\",0,IF('III Tool Overview'!$H$6=\"Eilean Siar Local Authority\",0,hosp_count(20,B78,C78,D78,$C$1,G78,1,F78,F78,SIMDRateRatios_hosp,SIMDrateratios,RateRatios!$B$3)*10))))))","v":88888.566524975307},{"$f":"IF('III Tool Overview'!$H$6=\"Orkney Health Board\",0,IF('III Tool Overview'!$H$6=\"Shetland Health Board\",0,IF('III Tool Overview'!$H$6=\"Western Isles Health Board\",0,IF('III Tool Overview'!$H$6=\"Orkney Islands Local Authority\",0,IF('III Tool Overview'!$H$6=\"Shetland Islands Local Authority\",0,IF('III Tool Overview'!$H$6=\"Eilean Siar Local Authority\",0,hosp_count(20,B78,C78,D78,$C$1,G78+H78,1,F78,F78,SIMDRateRatios_hosp,SIMDrateratios,RateRatios!$B$3)*10))))))","v":88483.799554408164},404.76697056714329]
["Male 60-64",62.5,"male",1,1,{"$f":"HLOOKUP('III Tool Overview'!$H$6,LookUpData_Pop!$B$1:$AV$269,LookUpData_Pop!BB80,FALSE)/50","v":982.72},{"$f":"'III Tool Overview'!$H$9/110","v":0},982.72,{"$f":"IF('III Tool Overview'!$H$6=\"Orkney Health Board\",0,IF('III Tool Overview'!$H$6=\"Shetland Health Board\",0,IF('III Tool Overview'!$H$6=\"Western Isles Health Board\",0,IF('III Tool Overview'!$H$6=\"Orkney Islands Local Authority\",0,IF('III Tool Overview'!$H$6=\"Shetland Islands Local Authority\",0,IF('III Tool Overview'!$H$6=\"Eilean Siar Local Authority\",0,new_ci(2,B79,C79,D79,$C$1,G79,1,F79,F79,SIMDrateratios,RateRatios!$B$3)*10))))))","v":233.38742814702795},{"$f":"IF('III Tool Overview'!$H$6=\"Orkney Health Board\",0,IF('III Tool Overview'!$H$6=\"Shetland Health Board\",0,IF('III Tool Overview'!$H$6=\"Western Isles Health Board\",0,IF('III Tool Overview'!$H$6=\"Orkney Islands Local Authority\",0,IF('III Tool Overview'!$H$6=\"Shetland Islands Local Authority\",0,IF('III Tool Overview'!$H$6=\"Eilean Siar Local Authority\",0,new_ci(2,B79,C79,D79,$C$1,G79+H79,1,H79,H79,SIMDrateratios,RateRatios!$B$3)*10))))))","v":231.44745169583905},{"$f":"IF('III Tool Overview'!$H$6=\"Orkney Health Board\",0,IF('III Tool Overview'!$H$6=\"Shetland Health Board\",0,IF('III Tool Overview'!$H$6=\"Western Isles Health Board\",0,IF('III Tool Overview'!$H$6=\"Orkney Islands Local Authority\",0,IF('III Tool Overview'!$H$6=\"Shetland Islands Local Authority\",0,IF('III Tool Overview'!$H$6=\"Eilean Siar Local Authority\",0,new_ci(5,B79,C79,D79,$C$1,G79,1,F79,F79,SIMDrateratios,RateRatios!$B$3)*1000))))))","v":98103.880971673789},{"$f":"IF('III Tool Overview'!$H$6=\"Orkney Health Board\",0,IF('III Tool Overview'!$H$6=\"Shetland Health Board\",0,IF('III Tool Overview'!$H$6=\"Western Isles Health Board\",0,IF('III Tool Overview'!$H$6=\"Orkney Islands Local Authority\",0,IF('III Tool Overview'!$H$6=\"Shetland Islands Local Authority\",0,IF('III Tool Overview'!$H$6=\"Eilean Siar Local Authority\",0,new_ci(5,B79,C79,D79,$C$1,G79+H79,1,F79,F79,SIMDrateratios,RateRatios!$B$3)*1000))))))","v":97320.910298936156},{"$f":"IF('III Tool Overview'!$H$6=\"Orkney Health Board\",0,IF('III Tool Overview'!$H$6=\"Shetland Health Board\",0,IF('III Tool Overview'!$H$6=\"Western Isles Health Board\",0,IF('III Tool Overview'!$H$6=\"Orkney Islands Local Authority\",0,IF('III Tool Overview'!$H$6=\"Shetland Islands Local Authority\",0,IF('III Tool Overview'!$H$6=\"Eilean Siar Local Authority\",0,new_ci(10,B79,C79,D79,$C$1,G79,1,F79,F79,SIMDrateratios,RateRatios!$B$3)*10))))))","v":2372.984332108218},{"$f":"IF('III Tool Overview'!$H$6=\"Orkney Health Board\",0,IF('III Tool Overview'!$H$6=\"Shetland Health Board\",0,IF('III Tool Overview'!$H$6=\"Western Isles Health Board\",0,IF('III Tool Overview'!$H$6=\"Orkney Islands Local Authority\",0,IF('III Tool Overview'!$H$6=\"Shetland Islands Local Authority\",0,IF('III Tool Overview'!$H$6=\"Eilean Siar Local Authority\",0,new_ci(10,B79,C79,D79,$C$1,G79+H79,1,F79,F79,SIMDrateratios,RateRatios!$B$3)*10))))))","v":2355.6339406629327},{"$f":"IF('III Tool Overview'!$H$6=\"Orkney Health Board\",0,IF('III Tool Overview'!$H$6=\"Shetland Health Board\",0,IF('III Tool Overview'!$H$6=\"Western Isles Health Board\",0,IF('III Tool Overview'!$H$6=\"Orkney Islands Local Authority\",0,IF('III Tool Overview'!$H$6=\"Shetland Islands Local Authority\",0,IF('III Tool Overview'!$H$6=\"Eilean Siar Local Authority\",0,new_ci(20,B79,C79,D79,$C$1,G79,1,F79,F79,SIMDrateratios,RateRatios!$B$3)*10))))))","v":5467.2117595765685},{"$f":"IF('III Tool Overview'!$H$6=\"Orkney Health Board\",0,IF('III Tool Overview'!$H$6=\"Shetland Health Board\",0,IF('III Tool Overview'!$H$6=\"Western Isles Health Board\",0,IF('III Tool Overview'!$H$6=\"Orkney Islands Local Authority\",0,IF('III Tool Overview'!$H$6=\"Shetland Islands Local Authority\",0,IF('III Tool Overview'!$H$6=\"Eilean Siar Local Authority\",0,new_ci(20,B79,C79,D79,$C$1,G79+H79,1,F79,F79,SIMDrateratios,RateRatios!$B$3)*10))))))","v":5437.3030851128751},{"$f":"IF('III Tool Overview'!$H$6=\"Orkney Health Board\",0,IF('III Tool Overview'!$H$6=\"Shetland Health Board\",0,IF('III Tool Overview'!$H$6=\"Western Isles Health Board\",0,IF('III Tool Overview'!$H$6=\"Orkney Islands Local Authority\",0,IF('III Tool Overview'!$H$6=\"Shetland Islands Local Authority\",0,IF('III Tool Overview'!$H$6=\"Eilean Siar Local Authority\",0,new_yll(2,B79,C79,D79,$C$1,G79,1,F79,F79,SIMDrateratios,RateRatios!$B$3)*10))))))","v":8635.3348414400334},{"$f":"IF('III Tool Overview'!$H$6=\"Orkney Health Board\",0,IF('III Tool Overview'!$H$6=\"Shetland Health Board\",0,IF('III Tool Overview'!$H$6=\"Western Isles Health Board\",0,IF('III Tool Overview'!$H$6=\"Orkney Islands Local Authority\",0,IF('III Tool Overview'!$H$6=\"Shetland Islands Local Authority\",0,IF('III Tool Overview'!$H$6=\"Eilean Siar Local Authority\",0,new_yll(2,B79,C79,D79,$C$1,G79+H79,1,F79,F79,SIMDrateratios,RateRatios!$B$3)*10))))))","v":8563.5557127460452},71.779128693988241,{"$f":"IF('III Tool Overview'!$H$6=\"Orkney Health Board\",0,IF('III Tool Overview'!$H$6=\"Shetland Health Board\",0,IF('III Tool Overview'!$H$6=\"Western Isles Health Board\",0,IF('III Tool Overview'!$H$6=\"Orkney Islands Local Authority\",0,IF('III Tool Overview'!$H$6=\"Shetland Islands Local Authority\",0,IF('III Tool Overview'!$H$6=\"Eilean Siar Local Authority\",0,new_yll(5,B79,C79,D79,$C$1,G79,1,F79,F79,SIMDrateratios,RateRatios!$B$3)*1000))))))","v":3478750.0165133779},{"$f":"IF('III Tool Overview'!$H$6=\"Orkney Health Board\",0,IF('III Tool Overview'!$H$6=\"Shetland Health Board\",0,IF('III Tool Overview'!$H$6=\"Western Isles Health Board\",0,IF('III Tool Overview'!$H$6=\"Orkney Islands Local Authority\",0,IF('III Tool Overview'!$H$6=\"Shetland Islands Local Authority\",0,IF('III Tool Overview'!$H$6=\"Eilean Siar Local Authority\",0,new_yll(5,B79,C79,D79,$C$1,G79+H79,1,F79,F79,SIMDrateratios,RateRatios!$B$3)*1000))))))","v":3450959.123721702},27790.892791675869,{"$f":"IF('III Tool Overview'!$H$6=\"Orkney Health Board\",0,IF('III Tool Overview'!$H$6=\"Shetland Health Board\",0,IF('III Tool Overview'!$H$6=\"Western Isles Health Board\",0,IF('III Tool Overview'!$H$6=\"Orkney Islands Local Authority\",0,IF('III Tool Overview'!$H$6=\"Shetland Islands Local Authority\",0,IF('III Tool Overview'!$H$6=\"Eilean Siar Local Authority\",0,new_yll(10,B79,C79,D79,$C$1,G79,1,F79,F79,SIMDrateratios,RateRatios!$B$3)*10))))))","v":77870.50467853398},{"$f":"IF('III Tool Overview'!$H$6=\"Orkney Health Board\",0,IF('III Tool Overview'!$H$6=\"Shetland Health Board\",0,IF('III Tool Overview'!$H$6=\"Western Isles Health Board\",0,IF('III Tool Overview'!$H$6=\"Orkney Islands Local Authority\",0,IF('III Tool Overview'!$H$6=\"Shetland Islands Local Authority\",0,IF('III Tool Overview'!$H$6=\"Eilean Siar Local Authority\",0,new_yll(10,B79,C79,D79,$C$1,G79+H79,1,F79,F79,SIMDrateratios,RateRatios!$B$3)*10))))))","v":77297.120651886798},573.3840266471816,{"$f":"IF('III Tool Overview'!$H$6=\"Orkney Health Board\",0,IF('III Tool Overview'!$H$6=\"Shetland Health Board\",0,IF('III Tool Overview'!$H$6=\"Western Isles Health Board\",0,IF('III Tool Overview'!$H$6=\"Orkney Islands Local Authority\",0,IF('III Tool Overview'!$H$6=\"Shetland Islands Local Authority\",0,IF('III Tool Overview'!$H$6=\"Eilean Siar Local Authority\",0,new_yll(20,B79,C79,D79,$C$1,G79,1,F79,F79,SIMDrateratios,RateRatios!$B$3)*10))))))","v":150456.28914581431},{"$f":"IF('III Tool Overview'!$H$6=\"Orkney Health Board\",0,IF('III Tool Overview'!$H$6=\"Shetland Health Board\",0,IF('III Tool Overview'!$H$6=\"Western Isles Health Board\",0,IF('III Tool Overview'!$H$6=\"Orkney Islands Local Authority\",0,IF('III Tool Overview'!$H$6=\"Shetland Islands Local Authority\",0,IF('III Tool Overview'!$H$6=\"Eilean Siar Local Authority\",0,new_yll(20,B79,C79,D79,$C$1,G79+H79,1,F79,F79,SIMDrateratios,RateRatios!$B$3)*10))))))","v":149577.00907247787},879.280073336442,{"$f":"IF('III Tool Overview'!$H$6=\"Orkney Health Board\",0,IF('III Tool Overview'!$H$6=\"Shetland Health Board\",0,IF('III Tool Overview'!$H$6=\"Western Isles Health Board\",0,IF('III Tool Overview'!$H$6=\"Orkney Islands Local Authority\",0,IF('III Tool Overview'!$H$6=\"Shetland Islands Local Authority\",0,IF('III Tool Overview'!$H$6=\"Eilean Siar Local Authority\",0,hosp_count(2,B79,C79,D79,$C$1,G79,1,F79,F79,SIMDRateRatios_hosp,SIMDrateratios,RateRatios!$B$3)*10))))))","v":4517.1878213119799},{"$f":"IF('III Tool Overview'!$H$6=\"Orkney Health Board\",0,IF('III Tool Overview'!$H$6=\"Shetland Health Board\",0,IF('III Tool Overview'!$H$6=\"Western Isles Health Board\",0,IF('III Tool Overview'!$H$6=\"Orkney Islands Local Authority\",0,IF('III Tool Overview'!$H$6=\"Shetland Islands Local Authority\",0,IF('III Tool Overview'!$H$6=\"Eilean Siar Local Authority\",0,hosp_count(2,B79,C79,D79,$C$1,G79+H79,1,F79,F79,SIMDRateRatios_hosp,SIMDrateratios,RateRatios!$B$3)*10))))))","v":4487.6188251053845},29.56899620659533,{"$f":"IF('III Tool Overview'!$H$6=\"Orkney Health Board\",0,IF('III Tool Overview'!$H$6=\"Shetland Health Board\",0,IF('III Tool Overview'!$H$6=\"Western Isles Health Board\",0,IF('III Tool Overview'!$H$6=\"Orkney Islands Local Authority\",0,IF('III Tool Overview'!$H$6=\"Shetland Islands Local Authority\",0,IF('III Tool Overview'!$H$6=\"Eilean Siar Local Authority\",0,hosp_count(5,B79,C79,D79,$C$1,G79,1,F79,F79,SIMDRateRatios_hosp,SIMDrateratios,RateRatios!$B$3)*1000))))))","v":1838505.6597471519},{"$f":"IF('III Tool Overview'!$H$6=\"Orkney Health Board\",0,IF('III Tool Overview'!$H$6=\"Shetland Health Board\",0,IF('III Tool Overview'!$H$6=\"Western Isles Health Board\",0,IF('III Tool Overview'!$H$6=\"Orkney Islands Local Authority\",0,IF('III Tool Overview'!$H$6=\"Shetland Islands Local Authority\",0,IF('III Tool Overview'!$H$6=\"Eilean Siar Local Authority\",0,hosp_count(5,B79,C79,D79,$C$1,G79+H79,1,F79,F79,SIMDRateRatios_hosp,SIMDrateratios,RateRatios!$B$3)*1000))))))","v":1827053.0385399926},11452.621207159245,{"$f":"IF('III Tool Overview'!$H$6=\"Orkney Health Board\",0,IF('III Tool Overview'!$H$6=\"Shetland Health Board\",0,IF('III Tool Overview'!$H$6=\"Western Isles Health Board\",0,IF('III Tool Overview'!$H$6=\"Orkney Islands Local Authority\",0,IF('III Tool Overview'!$H$6=\"Shetland Islands Local Authority\",0,IF('III Tool Overview'!$H$6=\"Eilean Siar Local Authority\",0,hosp_count(10,B79,C79,D79,$C$1,G79,1,F79,F79,SIMDRateRatios_hosp,SIMDrateratios,RateRatios!$B$3)*10))))))","v":42118.336445675857},{"$f":"IF('III Tool Overview'!$H$6=\"Orkney Health Board\",0,IF('III Tool Overview'!$H$6=\"Shetland Health Board\",0,IF('III Tool Overview'!$H$6=\"Western Isles Health Board\",0,IF('III Tool Overview'!$H$6=\"Orkney Islands Local Authority\",0,IF('III Tool Overview'!$H$6=\"Shetland Islands Local Authority\",0,IF('III Tool Overview'!$H$6=\"Eilean Siar Local Authority\",0,hosp_count(10,B79,C79,D79,$C$1,G79+H79,1,F79,F79,SIMDRateRatios_hosp,SIMDrateratios,RateRatios!$B$3)*10))))))","v":41882.174106050908},236.1623396249488,{"$f":"IF('III Tool Overview'!$H$6=\"Orkney Health Board\",0,IF('III Tool Overview'!$H$6=\"Shetland Health Board\",0,IF('III Tool Overview'!$H$6=\"Western Isles Health Board\",0,IF('III Tool Overview'!$H$6=\"Orkney Islands Local Authority\",0,IF('III Tool Overview'!$H$6=\"Shetland Islands Local Authority\",0,IF('III Tool Overview'!$H$6=\"Eilean Siar Local Authority\",0,hosp_count(20,B79,C79,D79,$C$1,G79,1,F79,F79,SIMDRateRatios_hosp,SIMDrateratios,RateRatios!$B$3)*10))))))","v":87389.000503244955},{"$f":"IF('III Tool Overview'!$H$6=\"Orkney Health Board\",0,IF('III Tool Overview'!$H$6=\"Shetland Health Board\",0,IF('III Tool Overview'!$H$6=\"Western Isles Health Board\",0,IF('III Tool Overview'!$H$6=\"Orkney Islands Local Authority\",0,IF('III Tool Overview'!$H$6=\"Shetland Islands Local Authority\",0,IF('III Tool Overview'!$H$6=\"Eilean Siar Local Authority\",0,hosp_count(20,B79,C79,D79,$C$1,G79+H79,1,F79,F79,SIMDRateRatios_hosp,SIMDrateratios,RateRatios!$B$3)*10))))))","v":87040.57461610841},348.4258871365455]
["Male 65-69",67.5,"male",1,1,{"$f":"HLOOKUP('III Tool Overview'!$H$6,LookUpData_Pop!$B$1:$AV$269,LookUpData_Pop!BB81,FALSE)/50","v":812.22},{"$f":"'III Tool Overview'!$H$9/110","v":0},812.22,{"$f":"IF('III Tool Overview'!$H$6=\"Orkney Health Board\",0,IF('III Tool Overview'!$H$6=\"Shetland Health Board\",0,IF('III Tool Overview'!$H$6=\"Western Isles Health Board\",0,IF('III Tool Overview'!$H$6=\"Orkney Islands Local Authority\",0,IF('III Tool Overview'!$H$6=\"Shetland Islands Local Authority\",0,IF('III Tool Overview'!$H$6=\"Eilean Siar Local Authority\",0,new_ci(2,B80,C80,D80,$C$1,G80,1,F80,F80,SIMDrateratios,RateRatios!$B$3)*10))))))","v":295.90711449058807},{"$f":"IF('III Tool Overview'!$H$6=\"Orkney Health Board\",0,IF('III Tool Overview'!$H$6=\"Shetland Health Board\",0,IF('III Tool Overview'!$H$6=\"Western Isles Health Board\",0,IF('III Tool Overview'!$H$6=\"Orkney Islands Local Authority\",0,IF('III Tool Overview'!$H$6=\"Shetland Islands Local Authority\",0,IF('III Tool Overview'!$H$6=\"Eilean Siar Local Authority\",0,new_ci(2,B80,C80,D80,$C$1,G80+H80,1,H80,H80,SIMDrateratios,RateRatios!$B$3)*10))))))","v":293.4647924058645},{"$f":"IF('III Tool Overview'!$H$6=\"Orkney Health Board\",0,IF('III Tool Overview'!$H$6=\"Shetland Health Board\",0,IF('III Tool Overview'!$H$6=\"Western Isles Health Board\",0,IF('III Tool Overview'!$H$6=\"Orkney Islands Local Authority\",0,IF('III Tool Overview'!$H$6=\"Shetland Islands Local Authority\",0,IF('III Tool Overview'!$H$6=\"Eilean Siar Local Authority\",0,new_ci(5,B80,C80,D80,$C$1,G80,1,F80,F80,SIMDrateratios,RateRatios!$B$3)*1000))))))","v":121742.31908824897},{"$f":"IF('III Tool Overview'!$H$6=\"Orkney Health Board\",0,IF('III Tool Overview'!$H$6=\"Shetland Health Board\",0,IF('III Tool Overview'!$H$6=\"Western Isles Health Board\",0,IF('III Tool Overview'!$H$6=\"Orkney Islands Local Authority\",0,IF('III Tool Overview'!$H$6=\"Shetland Islands Local Authority\",0,IF('III Tool Overview'!$H$6=\"Eilean Siar Local Authority\",0,new_ci(5,B80,C80,D80,$C$1,G80+H80,1,F80,F80,SIMDrateratios,RateRatios!$B$3)*1000))))))","v":120798.99151477596},{"$f":"IF('III Tool Overview'!$H$6=\"Orkney Health Board\",0,IF('III Tool Overview'!$H$6=\"Shetland Health Board\",0,IF('III Tool Overview'!$H$6=\"Western Isles Health Board\",0,IF('III Tool Overview'!$H$6=\"Orkney Islands Local Authority\",0,IF('III Tool Overview'!$H$6=\"Shetland Islands Local Authority\",0,IF('III Tool Overview'!$H$6=\"Eilean Siar Local Authority\",0,new_ci(10,B80,C80,D80,$C$1,G80,1,F80,F80,SIMDrateratios,RateRatios!$B$3)*10))))))","v":2821.3483046541924},{"$f":"IF('III Tool Overview'!$H$6=\"Orkney Health Board\",0,IF('III Tool Overview'!$H$6=\"Shetland Health Board\",0,IF('III Tool Overview'!$H$6=\"Western Isles Health Board\",0,IF('III Tool Overview'!$H$6=\"Orkney Islands Local Authority\",0,IF('III Tool Overview'!$H$6=\"Shetland Islands Local Authority\",0,IF('III Tool Overview'!$H$6=\"Eilean Siar Local Authority\",0,new_ci(10,B80,C80,D80,$C$1,G80+H80,1,F80,F80,SIMDrateratios,RateRatios!$B$3)*10))))))","v":2802.2960919354564},{"$f":"IF('III Tool Overview'!$H$6=\"Orkney Health Board\",0,IF('III Tool Overview'!$H$6=\"Shetland Health Board\",0,IF('III Tool Overview'!$H$6=\"Western Isles Health Board\",0,IF('III Tool Overview'!$H$6=\"Orkney Islands Local Authority\",0,IF('III Tool Overview'!$H$6=\"Shetland Islands Local Authority\",0,IF('III Tool Overview'!$H$6=\"Eilean Siar Local Authority\",0,new_ci(20,B80,C80,D80,$C$1,G80,1,F80,F80,SIMDrateratios,RateRatios!$B$3)*10))))))","v":5806.3384611880838},{"$f":"IF('III Tool Overview'!$H$6=\"Orkney Health Board\",0,IF('III Tool Overview'!$H$6=\"Shetland Health Board\",0,IF('III Tool Overview'!$H$6=\"Western Isles Health Board\",0,IF('III Tool Overview'!$H$6=\"Orkney Islands Local Authority\",0,IF('III Tool Overview'!$H$6=\"Shetland Islands Local Authority\",0,IF('III Tool Overview'!$H$6=\"Eilean Siar Local Authority\",0,new_ci(20,B80,C80,D80,$C$1,G80+H80,1,F80,F80,SIMDrateratios,RateRatios!$B$3)*10))))))","v":5781.7771956115494},{"$f":"IF('III Tool Overview'!$H$6=\"Orkney Health Board\",0,IF('III Tool Overview'!$H$6=\"Shetland Health Board\",0,IF('III Tool Overview'!$H$6=\"Western Isles Health Board\",0,IF('III Tool Overview'!$H$6=\"Orkney Islands Local Authority\",0,IF('III Tool Overview'!$H$6=\"Shetland Islands Local Authority\",0,IF('III Tool Overview'!$H$6=\"Eilean Siar Local Authority\",0,new_yll(2,B80,C80,D80,$C$1,G80,1,F80,F80,SIMDrateratios,RateRatios!$B$3)*10))))))","v":9173.1205492082299},{"$f":"IF('III Tool Overview'!$H$6=\"Orkney Health Board\",0,IF('III Tool Overview'!$H$6=\"Shetland Health Board\",0,IF('III Tool Overview'!$H$6=\"Western Isles Health Board\",0,IF('III Tool Overview'!$H$6=\"Orkney Islands Local Authority\",0,IF('III Tool Overview'!$H$6=\"Shetland Islands Local Authority\",0,IF('III Tool Overview'!$H$6=\"Eilean Siar Local Authority\",0,new_yll(2,B80,C80,D80,$C$1,G80+H80,1,F80,F80,SIMDrateratios,RateRatios!$B$3)*10))))))","v":9097.4085645817995},75.711984626430421,{"$f":"IF('III Tool Overview'!$H$6=\"Orkney Health Board\",0,IF('III Tool Overview'!$H$6=\"Shetland Health Board\",0,IF('III Tool Overview'!$H$6=\"Western Isles Health Board\",0,IF('III Tool Overview'!$H$6=\"Orkney Islands Local Authority\",0,IF('III Tool Overview'!$H$6=\"Shetland Islands Local Authority\",0,IF('III Tool Overview'!$H$6=\"Eilean Siar Local Authority\",0,new_yll(5,B80,C80,D80,$C$1,G80,1,F80,F80,SIMDrateratios,RateRatios!$B$3)*1000))))))","v":3588684.8310109153},{"$f":"IF('III Tool Overview'!$H$6=\"Orkney Health Board\",0,IF('III Tool Overview'!$H$6=\"Shetland Health Board\",0,IF('III Tool Overview'!$H$6=\"Western Isles Health Board\",0,IF('III Tool Overview'!$H$6=\"Orkney Islands Local Authority\",0,IF('III Tool Overview'!$H$6=\"Shetland Islands Local Authority\",0,IF('III Tool Overview'!$H$6=\"Eilean Siar Local Authority\",0,new_yll(5,B80,C80,D80,$C$1,G80+H80,1,F80,F80,SIMDrateratios,RateRatios!$B$3)*1000))))))","v":3560826.2523170961},27858.578693819232,{"$f":"IF('III Tool Overview'!$H$6=\"Orkney Health Board\",0,IF('III Tool Overview'!$H$6=\"Shetland Health Board\",0,IF('III Tool Overview'!$H$6=\"Western Isles Health Board\",0,IF('III Tool Overview'!$H$6=\"Orkney Islands Local Authority\",0,IF('III Tool Overview'!$H$6=\"Shetland Islands Local Authority\",0,IF('III Tool Overview'!$H$6=\"Eilean Siar Local Authority\",0,new_yll(10,B80,C80,D80,$C$1,G80,1,F80,F80,SIMDrateratios,RateRatios!$B$3)*10))))))","v":75966.990739465269},{"$f":"IF('III Tool Overview'!$H$6=\"Orkney Health Board\",0,IF('III Tool Overview'!$H$6=\"Shetland Health Board\",0,IF('III Tool Overview'!$H$6=\"Western Isles Health Board\",0,IF('III Tool Overview'!$H$6=\"Orkney Islands Local Authority\",0,IF('III Tool Overview'!$H$6=\"Shetland Islands Local Authority\",0,IF('III Tool Overview'!$H$6=\"Eilean Siar Local Authority\",0,new_yll(10,B80,C80,D80,$C$1,G80+H80,1,F80,F80,SIMDrateratios,RateRatios!$B$3)*10))))))","v":75446.627253546525},520.36348591874412,{"$f":"IF('III Tool Overview'!$H$6=\"Orkney Health Board\",0,IF('III Tool Overview'!$H$6=\"Shetland Health Board\",0,IF('III Tool Overview'!$H$6=\"Western Isles Health Board\",0,IF('III Tool Overview'!$H$6=\"Orkney Islands Local Authority\",0,IF('III Tool Overview'!$H$6=\"Shetland Islands Local Authority\",0,IF('III Tool Overview'!$H$6=\"Eilean Siar Local Authority\",0,new_yll(20,B80,C80,D80,$C$1,G80,1,F80,F80,SIMDrateratios,RateRatios!$B$3)*10))))))","v":128783.63084965863},{"$f":"IF('III Tool Overview'!$H$6=\"Orkney Health Board\",0,IF('III Tool Overview'!$H$6=\"Shetland Health Board\",0,IF('III Tool Overview'!$H$6=\"Western Isles Health Board\",0,IF('III Tool Overview'!$H$6=\"Orkney Islands Local Authority\",0,IF('III Tool Overview'!$H$6=\"Shetland Islands Local Authority\",0,IF('III Tool Overview'!$H$6=\"Eilean Siar Local Authority\",0,new_yll(20,B80,C80,D80,$C$1,G80+H80,1,F80,F80,SIMDrateratios,RateRatios!$B$3)*10))))))","v":128149.16174018093},634.46910947769356,{"$f":"IF('III Tool Overview'!$H$6=\"Orkney Health Board\",0,IF('III Tool Overview'!$H$6=\"Shetland Health Board\",0,IF('III Tool Overview'!$H$6=\"Western Isles Health Board\",0,IF('III Tool Overview'!$H$6=\"Orkney Islands Local Authority\",0,IF('III Tool Overview'!$H$6=\"Shetland Islands Local Authority\",0,IF('III Tool Overview'!$H$6=\"Eilean Siar Local Authority\",0,hosp_count(2,B80,C80,D80,$C$1,G80,1,F80,F80,SIMDRateRatios_hosp,SIMDrateratios,RateRatios!$B$3)*10))))))","v":4602.9117515614716},{"$f":"IF('III Tool Overview'!$H$6=\"Orkney Health Board\",0,IF('III Tool Overview'!$H$6=\"Shetland Health Board\",0,IF('III Tool Overview'!$H$6=\"Western Isles Health Board\",0,IF('III Tool Overview'!$H$6=\"Orkney Islands Local Authority\",0,IF('III Tool Overview'!$H$6=\"Shetland Islands Local Authority\",0,IF('III Tool Overview'!$H$6=\"Eilean Siar Local Authority\",0,hosp_count(2,B80,C80,D80,$C$1,G80+H80,1,F80,F80,SIMDRateRatios_hosp,SIMDrateratios,RateRatios!$B$3)*10))))))","v":4572.798357424901},30.113394136570605,{"$f":"IF('III Tool Overview'!$H$6=\"Orkney Health Board\",0,IF('III Tool Overview'!$H$6=\"Shetland Health Board\",0,IF('III Tool Overview'!$H$6=\"Western Isles Health Board\",0,IF('III Tool Overview'!$H$6=\"Orkney Islands Local Authority\",0,IF('III Tool Overview'!$H$6=\"Shetland Islands Local Authority\",0,IF('III Tool Overview'!$H$6=\"Eilean Siar Local Authority\",0,hosp_count(5,B80,C80,D80,$C$1,G80,1,F80,F80,SIMDRateRatios_hosp,SIMDrateratios,RateRatios!$B$3)*1000))))))","v":1835412.1742862177},{"$f":"IF('III Tool Overview'!$H$6=\"Orkney Health Board\",0,IF('III Tool Overview'!$H$6=\"Shetland Health Board\",0,IF('III Tool Overview'!$H$6=\"Western Isles Health Board\",0,IF('III Tool Overview'!$H$6=\"Orkney Islands Local Authority\",0,IF('III Tool Overview'!$H$6=\"Shetland Islands Local Authority\",0,IF('III Tool Overview'!$H$6=\"Eilean Siar Local Authority\",0,hosp_count(5,B80,C80,D80,$C$1,G80+H80,1,F80,F80,SIMDRateRatios_hosp,SIMDrateratios,RateRatios!$B$3)*1000))))))","v":1824290.7571202901},11121.417165927589,{"$f":"IF('III Tool Overview'!$H$6=\"Orkney Health Board\",0,IF('III Tool Overview'!$H$6=\"Shetland Health Board\",0,IF('III Tool Overview'!$H$6=\"Western Isles Health Board\",0,IF('III Tool Overview'!$H$6=\"Orkney Islands Local Authority\",0,IF('III Tool Overview'!$H$6=\"Shetland Islands Local Authority\",0,IF('III Tool Overview'!$H$6=\"Eilean Siar Local Authority\",0,hosp_count(10,B80,C80,D80,$C$1,G80,1,F80,F80,SIMDRateRatios_hosp,SIMDrateratios,RateRatios!$B$3)*10))))))","v":40410.108252285492},{"$f":"IF('III Tool Overview'!$H$6=\"Orkney Health Board\",0,IF('III Tool Overview'!$H$6=\"Shetland Health Board\",0,IF('III Tool Overview'!$H$6=\"Western Isles Health Board\",0,IF('III Tool Overview'!$H$6=\"Orkney Islands Local Authority\",0,IF('III Tool Overview'!$H$6=\"Shetland Islands Local Authority\",0,IF('III Tool Overview'!$H$6=\"Eilean Siar Local Authority\",0,hosp_count(10,B80,C80,D80,$C$1,G80+H80,1,F80,F80,SIMDRateRatios_hosp,SIMDrateratios,RateRatios!$B$3)*10))))))","v":40202.634513138117},207.47373914737545,{"$f":"IF('III Tool Overview'!$H$6=\"Orkney Health Board\",0,IF('III Tool Overview'!$H$6=\"Shetland Health Board\",0,IF('III Tool Overview'!$H$6=\"Western Isles Health Board\",0,IF('III Tool Overview'!$H$6=\"Orkney Islands Local Authority\",0,IF('III Tool Overview'!$H$6=\"Shetland Islands Local Authority\",0,IF('III Tool Overview'!$H$6=\"Eilean Siar Local Authority\",0,hosp_count(20,B80,C80,D80,$C$1,G80,1,F80,F80,SIMDRateRatios_hosp,SIMDrateratios,RateRatios!$B$3)*10))))))","v":75946.726656960702},{"$f":"IF('III Tool Overview'!$H$6=\"Orkney Health Board\",0,IF('III Tool Overview'!$H$6=\"Shetland Health Board\",0,IF('III Tool Overview'!$H$6=\"Western Isles Health Board\",0,IF('III Tool Overview'!$H$6=\"Orkney Islands Local Authority\",0,IF('III Tool Overview'!$H$6=\"Shetland Islands Local Authority\",0,IF('III Tool Overview'!$H$6=\"Eilean Siar Local Authority\",0,hosp_count(20,B80,C80,D80,$C$1,G80+H80,1,F80,F80,SIMDRateRatios_hosp,SIMDrateratios,RateRatios!$B$3)*10))))))","v":75724.586861057411},222.13979590329109]
["Male 70-74",72.5,"male",1,1,{"$f":"HLOOKUP('III Tool Overview'!$H$6,LookUpData_Pop!$B$1:$AV$269,LookUpData_Pop!BB82,FALSE)/50","v":708.22},{"$f":"'III Tool Overview'!$H$9/110","v":0},708.22,{"$f":"IF('III Tool Overview'!$H$6=\"Orkney Health Board\",0,IF('III Tool Overview'!$H$6=\"Shetland Health Board\",0,IF('III Tool Overview'!$H$6=\"Western Isles Health Board\",0,IF('III Tool Overview'!$H$6=\"Orkney Islands Local Authority\",0,IF('III Tool Overview'!$H$6=\"Shetland Islands Local Authority\",0,IF('III Tool Overview'!$H$6=\"Eilean Siar Local Authority\",0,new_ci(2,B81,C81,D81,$C$1,G81,1,F81,F81,SIMDrateratios,RateRatios!$B$3)*10))))))","v":342.55892533111364},{"$f":"IF('III Tool Overview'!$H$6=\"Orkney Health Board\",0,IF('III Tool Overview'!$H$6=\"Shetland Health Board\",0,IF('III Tool Overview'!$H$6=\"Western Isles Health Board\",0,IF('III Tool Overview'!$H$6=\"Orkney Islands Local Authority\",0,IF('III Tool Overview'!$H$6=\"Shetland Islands Local Authority\",0,IF('III Tool Overview'!$H$6=\"Eilean Siar Local Authority\",0,new_ci(2,B81,C81,D81,$C$1,G81+H81,1,H81,H81,SIMDrateratios,RateRatios!$B$3)*10))))))","v":339.74921317091196},{"$f":"IF('III Tool Overview'!$H$6=\"Orkney Health Board\",0,IF('III Tool Overview'!$H$6=\"Shetland Health Board\",0,IF('III Tool Overview'!$H$6=\"Western Isles Health Board\",0,IF('III Tool Overview'!$H$6=\"Orkney Islands Local Authority\",0,IF('III Tool Overview'!$H$6=\"Shetland Islands Local Authority\",0,IF('III Tool Overview'!$H$6=\"Eilean Siar Local Authority\",0,new_ci(5,B81,C81,D81,$C$1,G81,1,F81,F81,SIMDrateratios,RateRatios!$B$3)*1000))))))","v":138114.28733696748},{"$f":"IF('III Tool Overview'!$H$6=\"Orkney Health Board\",0,IF('III Tool Overview'!$H$6=\"Shetland Health Board\",0,IF('III Tool Overview'!$H$6=\"Western Isles Health Board\",0,IF('III Tool Overview'!$H$6=\"Orkney Islands Local Authority\",0,IF('III Tool Overview'!$H$6=\"Shetland Islands Local Authority\",0,IF('III Tool Overview'!$H$6=\"Eilean Siar Local Authority\",0,new_ci(5,B81,C81,D81,$C$1,G81+H81,1,F81,F81,SIMDrateratios,RateRatios!$B$3)*1000))))))","v":137073.59257644392},{"$f":"IF('III Tool Overview'!$H$6=\"Orkney Health Board\",0,IF('III Tool Overview'!$H$6=\"Shetland Health Board\",0,IF('III Tool Overview'!$H$6=\"Western Isles Health Board\",0,IF('III Tool Overview'!$H$6=\"Orkney Islands Local Authority\",0,IF('III Tool Overview'!$H$6=\"Shetland Islands Local Authority\",0,IF('III Tool Overview'!$H$6=\"Eilean Siar Local Authority\",0,new_ci(10,B81,C81,D81,$C$1,G81,1,F81,F81,SIMDrateratios,RateRatios!$B$3)*10))))))","v":3077.323115457787},{"$f":"IF('III Tool Overview'!$H$6=\"Orkney Health Board\",0,IF('III Tool Overview'!$H$6=\"Shetland Health Board\",0,IF('III Tool Overview'!$H$6=\"Western Isles Health Board\",0,IF('III Tool Overview'!$H$6=\"Orkney Islands Local Authority\",0,IF('III Tool Overview'!$H$6=\"Shetland Islands Local Authority\",0,IF('III Tool Overview'!$H$6=\"Eilean Siar Local Authority\",0,new_ci(10,B81,C81,D81,$C$1,G81+H81,1,F81,F81,SIMDrateratios,RateRatios!$B$3)*10))))))","v":3058.0830593655746},{"$f":"IF('III Tool Overview'!$H$6=\"Orkney Health Board\",0,IF('III Tool Overview'!$H$6=\"Shetland Health Board\",0,IF('III Tool Overview'!$H$6=\"Western Isles Health Board\",0,IF('III Tool Overview'!$H$6=\"Orkney Islands Local Authority\",0,IF('III Tool Overview'!$H$6=\"Shetland Islands Local Authority\",0,IF('III Tool Overview'!$H$6=\"Eilean Siar Local Authority\",0,new_ci(20,B81,C81,D81,$C$1,G81,1,F81,F81,SIMDrateratios,RateRatios!$B$3)*10))))))","v":5757.3805281826571},{"$f":"IF('III Tool Overview'!$H$6=\"Orkney Health Board\",0,IF('III Tool Overview'!$H$6=\"Shetland Health Board\",0,IF('III Tool Overview'!$H$6=\"Western Isles Health Board\",0,IF('III Tool Overview'!$H$6=\"Orkney Islands Local Authority\",0,IF('III Tool Overview'!$H$6=\"Shetland Islands Local Authority\",0,IF('III Tool Overview'!$H$6=\"Eilean Siar Local Authority\",0,new_ci(20,B81,C81,D81,$C$1,G81+H81,1,F81,F81,SIMDrateratios,RateRatios!$B$3)*10))))))","v":5738.5777686444544},{"$f":"IF('III Tool Overview'!$H$6=\"Orkney Health Board\",0,IF('III Tool Overview'!$H$6=\"Shetland Health Board\",0,IF('III Tool Overview'!$H$6=\"Western Isles Health Board\",0,IF('III Tool Overview'!$H$6=\"Orkney Islands Local Authority\",0,IF('III Tool Overview'!$H$6=\"Shetland Islands Local Authority\",0,IF('III Tool Overview'!$H$6=\"Eilean Siar Local Authority\",0,new_yll(2,B81,C81,D81,$C$1,G81,1,F81,F81,SIMDrateratios,RateRatios!$B$3)*10))))))","v":9249.0909839400683},{"$f":"IF('III Tool Overview'!$H$6=\"Orkney Health Board\",0,IF('III Tool Overview'!$H$6=\"Shetland Health Board\",0,IF('III Tool Overview'!$H$6=\"Western Isles Health Board\",0,IF('III Tool Overview'!$H$6=\"Orkney Islands Local Authority\",0,IF('III Tool Overview'!$H$6=\"Shetland Islands Local Authority\",0,IF('III Tool Overview'!$H$6=\"Eilean Siar Local Authority\",0,new_yll(2,B81,C81,D81,$C$1,G81+H81,1,F81,F81,SIMDrateratios,RateRatios!$B$3)*10))))))","v":9173.2287556146221},75.862228325446267,{"$f":"IF('III Tool Overview'!$H$6=\"Orkney Health Board\",0,IF('III Tool Overview'!$H$6=\"Shetland Health Board\",0,IF('III Tool Overview'!$H$6=\"Western Isles Health Board\",0,IF('III Tool Overview'!$H$6=\"Orkney Islands Local Authority\",0,IF('III Tool Overview'!$H$6=\"Shetland Islands Local Authority\",0,IF('III Tool Overview'!$H$6=\"Eilean Siar Local Authority\",0,new_yll(5,B81,C81,D81,$C$1,G81,1,F81,F81,SIMDrateratios,RateRatios!$B$3)*1000))))))","v":3521185.0775352977},{"$f":"IF('III Tool Overview'!$H$6=\"Orkney Health Board\",0,IF('III Tool Overview'!$H$6=\"Shetland Health Board\",0,IF('III Tool Overview'!$H$6=\"Western Isles Health Board\",0,IF('III Tool Overview'!$H$6=\"Orkney Islands Local Authority\",0,IF('III Tool Overview'!$H$6=\"Shetland Islands Local Authority\",0,IF('III Tool Overview'!$H$6=\"Eilean Siar Local Authority\",0,new_yll(5,B81,C81,D81,$C$1,G81+H81,1,F81,F81,SIMDrateratios,RateRatios!$B$3)*1000))))))","v":3494574.9197009485},26610.1578343492,{"$f":"IF('III Tool Overview'!$H$6=\"Orkney Health Board\",0,IF('III Tool Overview'!$H$6=\"Shetland Health Board\",0,IF('III Tool Overview'!$H$6=\"Western Isles Health Board\",0,IF('III Tool Overview'!$H$6=\"Orkney Islands Local Authority\",0,IF('III Tool Overview'!$H$6=\"Shetland Islands Local Authority\",0,IF('III Tool Overview'!$H$6=\"Eilean Siar Local Authority\",0,new_yll(10,B81,C81,D81,$C$1,G81,1,F81,F81,SIMDrateratios,RateRatios!$B$3)*10))))))","v":70872.589011613512},{"$f":"IF('III Tool Overview'!$H$6=\"Orkney Health Board\",0,IF('III Tool Overview'!$H$6=\"Shetland Health Board\",0,IF('III Tool Overview'!$H$6=\"Western Isles Health Board\",0,IF('III Tool Overview'!$H$6=\"Orkney Islands Local Authority\",0,IF('III Tool Overview'!$H$6=\"Shetland Islands Local Authority\",0,IF('III Tool Overview'!$H$6=\"Eilean Siar Local Authority\",0,new_yll(10,B81,C81,D81,$C$1,G81+H81,1,F81,F81,SIMDrateratios,RateRatios!$B$3)*10))))))","v":70418.785904605524},453.80310700798873,{"$f":"IF('III Tool Overview'!$H$6=\"Orkney Health Board\",0,IF('III Tool Overview'!$H$6=\"Shetland Health Board\",0,IF('III Tool Overview'!$H$6=\"Western Isles Health Board\",0,IF('III Tool Overview'!$H$6=\"Orkney Islands Local Authority\",0,IF('III Tool Overview'!$H$6=\"Shetland Islands Local Authority\",0,IF('III Tool Overview'!$H$6=\"Eilean Siar Local Authority\",0,new_yll(20,B81,C81,D81,$C$1,G81,1,F81,F81,SIMDrateratios,RateRatios!$B$3)*10))))))","v":108165.15412645522},{"$f":"IF('III Tool Overview'!$H$6=\"Orkney Health Board\",0,IF('III Tool Overview'!$H$6=\"Shetland Health Board\",0,IF('III Tool Overview'!$H$6=\"Western Isles Health Board\",0,IF('III Tool Overview'!$H$6=\"Orkney Islands Local Authority\",0,IF('III Tool Overview'!$H$6=\"Shetland Islands Local Authority\",0,IF('III Tool Overview'!$H$6=\"Eilean Siar Local Authority\",0,new_yll(20,B81,C81,D81,$C$1,G81+H81,1,F81,F81,SIMDrateratios,RateRatios!$B$3)*10))))))","v":107697.85773300889},467.29639344633324,{"$f":"IF('III Tool Overview'!$H$6=\"Orkney Health Board\",0,IF('III Tool Overview'!$H$6=\"Shetland Health Board\",0,IF('III Tool Overview'!$H$6=\"Western Isles Health Board\",0,IF('III Tool Overview'!$H$6=\"Orkney Islands Local Authority\",0,IF('III Tool Overview'!$H$6=\"Shetland Islands Local Authority\",0,IF('III Tool Overview'!$H$6=\"Eilean Siar Local Authority\",0,hosp_count(2,B81,C81,D81,$C$1,G81,1,F81,F81,SIMDRateRatios_hosp,SIMDrateratios,RateRatios!$B$3)*10))))))","v":4614.672659121512},{"$f":"IF('III Tool Overview'!$H$6=\"Orkney Health Board\",0,IF('III Tool Overview'!$H$6=\"Shetland Health Board\",0,IF('III Tool Overview'!$H$6=\"Western Isles Health Board\",0,IF('III Tool Overview'!$H$6=\"Orkney Islands Local Authority\",0,IF('III Tool Overview'!$H$6=\"Shetland Islands Local Authority\",0,IF('III Tool Overview'!$H$6=\"Eilean Siar Local Authority\",0,hosp_count(2,B81,C81,D81,$C$1,G81+H81,1,F81,F81,SIMDRateRatios_hosp,SIMDrateratios,RateRatios!$B$3)*10))))))","v":4584.483523357887},30.189135763625018,{"$f":"IF('III Tool Overview'!$H$6=\"Orkney Health Board\",0,IF('III Tool Overview'!$H$6=\"Shetland Health Board\",0,IF('III Tool Overview'!$H$6=\"Western Isles Health Board\",0,IF('III Tool Overview'!$H$6=\"Orkney Islands Local Authority\",0,IF('III Tool Overview'!$H$6=\"Shetland Islands Local Authority\",0,IF('III Tool Overview'!$H$6=\"Eilean Siar Local Authority\",0,hosp_count(5,B81,C81,D81,$C$1,G81,1,F81,F81,SIMDRateRatios_hosp,SIMDrateratios,RateRatios!$B$3)*1000))))))","v":1804923.0271817991},{"$f":"IF('III Tool Overview'!$H$6=\"Orkney Health Board\",0,IF('III Tool Overview'!$H$6=\"Shetland Health Board\",0,IF('III Tool Overview'!$H$6=\"Western Isles Health Board\",0,IF('III Tool Overview'!$H$6=\"Orkney Islands Local Authority\",0,IF('III Tool Overview'!$H$6=\"Shetland Islands Local Authority\",0,IF('III Tool Overview'!$H$6=\"Eilean Siar Local Authority\",0,hosp_count(5,B81,C81,D81,$C$1,G81+H81,1,F81,F81,SIMDRateRatios_hosp,SIMDrateratios,RateRatios!$B$3)*1000))))))","v":1794266.5773801524},10656.449801646639,{"$f":"IF('III Tool Overview'!$H$6=\"Orkney Health Board\",0,IF('III Tool Overview'!$H$6=\"Shetland Health Board\",0,IF('III Tool Overview'!$H$6=\"Western Isles Health Board\",0,IF('III Tool Overview'!$H$6=\"Orkney Islands Local Authority\",0,IF('III Tool Overview'!$H$6=\"Shetland Islands Local Authority\",0,IF('III Tool Overview'!$H$6=\"Eilean Siar Local Authority\",0,hosp_count(10,B81,C81,D81,$C$1,G81,1,F81,F81,SIMDRateRatios_hosp,SIMDrateratios,RateRatios!$B$3)*10))))))","v":38315.311886539064},{"$f":"IF('III Tool Overview'!$H$6=\"Orkney Health Board\",0,IF('III Tool Overview'!$H$6=\"Shetland Health Board\",0,IF('III Tool Overview'!$H$6=\"Western Isles Health Board\",0,IF('III Tool Overview'!$H$6=\"Orkney Islands Local Authority\",0,IF('III Tool Overview'!$H$6=\"Shetland Islands Local Authority\",0,IF('III Tool Overview'!$H$6=\"Eilean Siar Local Authority\",0,hosp_count(10,B81,C81,D81,$C$1,G81+H81,1,F81,F81,SIMDRateRatios_hosp,SIMDrateratios,RateRatios!$B$3)*10))))))","v":38134.752788362857},180.55909817620704,{"$f":"IF('III Tool Overview'!$H$6=\"Orkney Health Board\",0,IF('III Tool Overview'!$H$6=\"Shetland Health Board\",0,IF('III Tool Overview'!$H$6=\"Western Isles Health Board\",0,IF('III Tool Overview'!$H$6=\"Orkney Islands Local Authority\",0,IF('III Tool Overview'!$H$6=\"Shetland Islands Local Authority\",0,IF('III Tool Overview'!$H$6=\"Eilean Siar Local Authority\",0,hosp_count(20,B81,C81,D81,$C$1,G81,1,F81,F81,SIMDRateRatios_hosp,SIMDrateratios,RateRatios!$B$3)*10))))))","v":66261.710707662845},{"$f":"IF('III Tool Overview'!$H$6=\"Orkney Health Board\",0,IF('III Tool Overview'!$H$6=\"Shetland Health Board\",0,IF('III Tool Overview'!$H$6=\"Western Isles Health Board\",0,IF('III Tool Overview'!$H$6=\"Orkney Islands Local Authority\",0,IF('III Tool Overview'!$H$6=\"Shetland Islands Local Authority\",0,IF('III Tool Overview'!$H$6=\"Eilean Siar Local Authority\",0,hosp_count(20,B81,C81,D81,$C$1,G81+H81,1,F81,F81,SIMDRateRatios_hosp,SIMDrateratios,RateRatios!$B$3)*10))))))","v":66122.111186547889},139.59952111495659]
["Male 75-79",77.5,"male",1,1,{"$f":"HLOOKUP('III Tool Overview'!$H$6,LookUpData_Pop!$B$1:$AV$269,LookUpData_Pop!BB83,FALSE)/50","v":539.52},{"$f":"'III Tool Overview'!$H$9/110","v":0},539.52,{"$f":"IF('III Tool Overview'!$H$6=\"Orkney Health Board\",0,IF('III Tool Overview'!$H$6=\"Shetland Health Board\",0,IF('III Tool Overview'!$H$6=\"Western Isles Health Board\",0,IF('III Tool Overview'!$H$6=\"Orkney Islands Local Authority\",0,IF('III Tool Overview'!$H$6=\"Shetland Islands Local Authority\",0,IF('III Tool Overview'!$H$6=\"Eilean Siar Local Authority\",0,new_ci(2,B82,C82,D82,$C$1,G82,1,F82,F82,SIMDrateratios,RateRatios!$B$3)*10))))))","v":397.59261793532067},{"$f":"IF('III Tool Overview'!$H$6=\"Orkney Health Board\",0,IF('III Tool Overview'!$H$6=\"Shetland Health Board\",0,IF('III Tool Overview'!$H$6=\"Western Isles Health Board\",0,IF('III Tool Overview'!$H$6=\"Orkney Islands Local Authority\",0,IF('III Tool Overview'!$H$6=\"Shetland Islands Local Authority\",0,IF('III Tool Overview'!$H$6=\"Eilean Siar Local Authority\",0,new_ci(2,B82,C82,D82,$C$1,G82+H82,1,H82,H82,SIMDrateratios,RateRatios!$B$3)*10))))))","v":394.37142526829979},{"$f":"IF('III Tool Overview'!$H$6=\"Orkney Health Board\",0,IF('III Tool Overview'!$H$6=\"Shetland Health Board\",0,IF('III Tool Overview'!$H$6=\"Western Isles Health Board\",0,IF('III Tool Overview'!$H$6=\"Orkney Islands Local Authority\",0,IF('III Tool Overview'!$H$6=\"Shetland Islands Local Authority\",0,IF('III Tool Overview'!$H$6=\"Eilean Siar Local Authority\",0,new_ci(5,B82,C82,D82,$C$1,G82,1,F82,F82,SIMDrateratios,RateRatios!$B$3)*1000))))))","v":153562.89580128744},{"$f":"IF('III Tool Overview'!$H$6=\"Orkney Health Board\",0,IF('III Tool Overview'!$H$6=\"Shetland Health Board\",0,IF('III Tool Overview'!$H$6=\"Western Isles Health Board\",0,IF('III Tool Overview'!$H$6=\"Orkney Islands Local Authority\",0,IF('III Tool Overview'!$H$6=\"Shetland Islands Local Authority\",0,IF('III Tool Overview'!$H$6=\"Eilean Siar Local Authority\",0,new_ci(5,B82,C82,D82,$C$1,G82+H82,1,F82,F82,SIMDrateratios,RateRatios!$B$3)*1000))))))","v":152473.20605215474},{"$f":"IF('III Tool Overview'!$H$6=\"Orkney Health Board\",0,IF('III Tool Overview'!$H$6=\"Shetland Health Board\",0,IF('III Tool Overview'!$H$6=\"Western Isles Health Board\",0,IF('III Tool Overview'!$H$6=\"Orkney Islands Local Authority\",0,IF('III Tool Overview'!$H$6=\"Shetland Islands Local Authority\",0,IF('III Tool Overview'!$H$6=\"Eilean Siar Local Authority\",0,new_ci(10,B82,C82,D82,$C$1,G82,1,F82,F82,SIMDrateratios,RateRatios!$B$3)*10))))))","v":3157.8436931634933},{"$f":"IF('III Tool Overview'!$H$6=\"Orkney Health Board\",0,IF('III Tool Overview'!$H$6=\"Shetland Health Board\",0,IF('III Tool Overview'!$H$6=\"Western Isles Health Board\",0,IF('III Tool Overview'!$H$6=\"Orkney Islands Local Authority\",0,IF('III Tool Overview'!$H$6=\"Shetland Islands Local Authority\",0,IF('III Tool Overview'!$H$6=\"Eilean Siar Local Authority\",0,new_ci(10,B82,C82,D82,$C$1,G82+H82,1,F82,F82,SIMDrateratios,RateRatios!$B$3)*10))))))","v":3141.2057551056319},{"$f":"IF('III Tool Overview'!$H$6=\"Orkney Health Board\",0,IF('III Tool Overview'!$H$6=\"Shetland Health Board\",0,IF('III Tool Overview'!$H$6=\"Western Isles Health Board\",0,IF('III Tool Overview'!$H$6=\"Orkney Islands Local Authority\",0,IF('III Tool Overview'!$H$6=\"Shetland Islands Local Authority\",0,IF('III Tool Overview'!$H$6=\"Eilean Siar Local Authority\",0,new_ci(20,B82,C82,D82,$C$1,G82,1,F82,F82,SIMDrateratios,RateRatios!$B$3)*10))))))","v":4989.7593828723111},{"$f":"IF('III Tool Overview'!$H$6=\"Orkney Health Board\",0,IF('III Tool Overview'!$H$6=\"Shetland Health Board\",0,IF('III Tool Overview'!$H$6=\"Western Isles Health Board\",0,IF('III Tool Overview'!$H$6=\"Orkney Islands Local Authority\",0,IF('III Tool Overview'!$H$6=\"Shetland Islands Local Authority\",0,IF('III Tool Overview'!$H$6=\"Eilean Siar Local Authority\",0,new_ci(20,B82,C82,D82,$C$1,G82+H82,1,F82,F82,SIMDrateratios,RateRatios!$B$3)*10))))))","v":4980.8295613682722},{"$f":"IF('III Tool Overview'!$H$6=\"Orkney Health Board\",0,IF('III Tool Overview'!$H$6=\"Shetland Health Board\",0,IF('III Tool Overview'!$H$6=\"Western Isles Health Board\",0,IF('III Tool Overview'!$H$6=\"Orkney Islands Local Authority\",0,IF('III Tool Overview'!$H$6=\"Shetland Islands Local Authority\",0,IF('III Tool Overview'!$H$6=\"Eilean Siar Local Authority\",0,new_yll(2,B82,C82,D82,$C$1,G82,1,F82,F82,SIMDrateratios,RateRatios!$B$3)*10))))))","v":8349.4449766417347},{"$f":"IF('III Tool Overview'!$H$6=\"Orkney Health Board\",0,IF('III Tool Overview'!$H$6=\"Shetland Health Board\",0,IF('III Tool Overview'!$H$6=\"Western Isles Health Board\",0,IF('III Tool Overview'!$H$6=\"Orkney Islands Local Authority\",0,IF('III Tool Overview'!$H$6=\"Shetland Islands Local Authority\",0,IF('III Tool Overview'!$H$6=\"Eilean Siar Local Authority\",0,new_yll(2,B82,C82,D82,$C$1,G82+H82,1,F82,F82,SIMDrateratios,RateRatios!$B$3)*10))))))","v":8281.7999306342954},67.645046007439305,{"$f":"IF('III Tool Overview'!$H$6=\"Orkney Health Board\",0,IF('III Tool Overview'!$H$6=\"Shetland Health Board\",0,IF('III Tool Overview'!$H$6=\"Western Isles Health Board\",0,IF('III Tool Overview'!$H$6=\"Orkney Islands Local Authority\",0,IF('III Tool Overview'!$H$6=\"Shetland Islands Local Authority\",0,IF('III Tool Overview'!$H$6=\"Eilean Siar Local Authority\",0,new_yll(5,B82,C82,D82,$C$1,G82,1,F82,F82,SIMDrateratios,RateRatios!$B$3)*1000))))))","v":2999310.2453809031},{"$f":"IF('III Tool Overview'!$H$6=\"Orkney Health Board\",0,IF('III Tool Overview'!$H$6=\"Shetland Health Board\",0,IF('III Tool Overview'!$H$6=\"Western Isles Health Board\",0,IF('III Tool Overview'!$H$6=\"Orkney Islands Local Authority\",0,IF('III Tool Overview'!$H$6=\"Shetland Islands Local Authority\",0,IF('III Tool Overview'!$H$6=\"Eilean Siar Local Authority\",0,new_yll(5,B82,C82,D82,$C$1,G82+H82,1,F82,F82,SIMDrateratios,RateRatios!$B$3)*1000))))))","v":2977893.2662585313},21416.979122371878,{"$f":"IF('III Tool Overview'!$H$6=\"Orkney Health Board\",0,IF('III Tool Overview'!$H$6=\"Shetland Health Board\",0,IF('III Tool Overview'!$H$6=\"Western Isles Health Board\",0,IF('III Tool Overview'!$H$6=\"Orkney Islands Local Authority\",0,IF('III Tool Overview'!$H$6=\"Shetland Islands Local Authority\",0,IF('III Tool Overview'!$H$6=\"Eilean Siar Local Authority\",0,new_yll(10,B82,C82,D82,$C$1,G82,1,F82,F82,SIMDrateratios,RateRatios!$B$3)*10))))))","v":54489.108786206933},{"$f":"IF('III Tool Overview'!$H$6=\"Orkney Health Board\",0,IF('III Tool Overview'!$H$6=\"Shetland Health Board\",0,IF('III Tool Overview'!$H$6=\"Western Isles Health Board\",0,IF('III Tool Overview'!$H$6=\"Orkney Islands Local Authority\",0,IF('III Tool Overview'!$H$6=\"Shetland Islands Local Authority\",0,IF('III Tool Overview'!$H$6=\"Eilean Siar Local Authority\",0,new_yll(10,B82,C82,D82,$C$1,G82+H82,1,F82,F82,SIMDrateratios,RateRatios!$B$3)*10))))))","v":54185.314974192093},303.7938120148392,{"$f":"IF('III Tool Overview'!$H$6=\"Orkney Health Board\",0,IF('III Tool Overview'!$H$6=\"Shetland Health Board\",0,IF('III Tool Overview'!$H$6=\"Western Isles Health Board\",0,IF('III Tool Overview'!$H$6=\"Orkney Islands Local Authority\",0,IF('III Tool Overview'!$H$6=\"Shetland Islands Local Authority\",0,IF('III Tool Overview'!$H$6=\"Eilean Siar Local Authority\",0,new_yll(20,B82,C82,D82,$C$1,G82,1,F82,F82,SIMDrateratios,RateRatios!$B$3)*10))))))","v":69827.264351508857},{"$f":"IF('III Tool Overview'!$H$6=\"Orkney Health Board\",0,IF('III Tool Overview'!$H$6=\"Shetland Health Board\",0,IF('III Tool Overview'!$H$6=\"Western Isles Health Board\",0,IF('III Tool Overview'!$H$6=\"Orkney Islands Local Authority\",0,IF('III Tool Overview'!$H$6=\"Shetland Islands Local Authority\",0,IF('III Tool Overview'!$H$6=\"Eilean Siar Local Authority\",0,new_yll(20,B82,C82,D82,$C$1,G82+H82,1,F82,F82,SIMDrateratios,RateRatios!$B$3)*10))))))","v":69568.593101328865},258.67125017999206,{"$f":"IF('III Tool Overview'!$H$6=\"Orkney Health Board\",0,IF('III Tool Overview'!$H$6=\"Shetland Health Board\",0,IF('III Tool Overview'!$H$6=\"Western Isles Health Board\",0,IF('III Tool Overview'!$H$6=\"Orkney Islands Local Authority\",0,IF('III Tool Overview'!$H$6=\"Shetland Islands Local Authority\",0,IF('III Tool Overview'!$H$6=\"Eilean Siar Local Authority\",0,hosp_count(2,B82,C82,D82,$C$1,G82,1,F82,F82,SIMDRateRatios_hosp,SIMDrateratios,RateRatios!$B$3)*10))))))","v":4334.119454427957},{"$f":"IF('III Tool Overview'!$H$6=\"Orkney Health Board\",0,IF('III Tool Overview'!$H$6=\"Shetland Health Board\",0,IF('III Tool Overview'!$H$6=\"Western Isles Health Board\",0,IF('III Tool Overview'!$H$6=\"Orkney Islands Local Authority\",0,IF('III Tool Overview'!$H$6=\"Shetland Islands Local Authority\",0,IF('III Tool Overview'!$H$6=\"Eilean Siar Local Authority\",0,hosp_count(2,B82,C82,D82,$C$1,G82+H82,1,F82,F82,SIMDRateRatios_hosp,SIMDrateratios,RateRatios!$B$3)*10))))))","v":4305.7316504271721},28.387804000784854,{"$f":"IF('III Tool Overview'!$H$6=\"Orkney Health Board\",0,IF('III Tool Overview'!$H$6=\"Shetland Health Board\",0,IF('III Tool Overview'!$H$6=\"Western Isles Health Board\",0,IF('III Tool Overview'!$H$6=\"Orkney Islands Local Authority\",0,IF('III Tool Overview'!$H$6=\"Shetland Islands Local Authority\",0,IF('III Tool Overview'!$H$6=\"Eilean Siar Local Authority\",0,hosp_count(5,B82,C82,D82,$C$1,G82,1,F82,F82,SIMDRateRatios_hosp,SIMDrateratios,RateRatios!$B$3)*1000))))))","v":1627062.98944882},{"$f":"IF('III Tool Overview'!$H$6=\"Orkney Health Board\",0,IF('III Tool Overview'!$H$6=\"Shetland Health Board\",0,IF('III Tool Overview'!$H$6=\"Western Isles Health Board\",0,IF('III Tool Overview'!$H$6=\"Orkney Islands Local Authority\",0,IF('III Tool Overview'!$H$6=\"Shetland Islands Local Authority\",0,IF('III Tool Overview'!$H$6=\"Eilean Siar Local Authority\",0,hosp_count(5,B82,C82,D82,$C$1,G82+H82,1,F82,F82,SIMDRateRatios_hosp,SIMDrateratios,RateRatios!$B$3)*1000))))))","v":1617971.4208349809},9091.5686138391029,{"$f":"IF('III Tool Overview'!$H$6=\"Orkney Health Board\",0,IF('III Tool Overview'!$H$6=\"Shetland Health Board\",0,IF('III Tool Overview'!$H$6=\"Western Isles Health Board\",0,IF('III Tool Overview'!$H$6=\"Orkney Islands Local Authority\",0,IF('III Tool Overview'!$H$6=\"Shetland Islands Local Authority\",0,IF('III Tool Overview'!$H$6=\"Eilean Siar Local Authority\",0,hosp_count(10,B82,C82,D82,$C$1,G82,1,F82,F82,SIMDRateRatios_hosp,SIMDrateratios,RateRatios!$B$3)*10))))))","v":32064.044976314966},{"$f":"IF('III Tool Overview'!$H$6=\"Orkney Health Board\",0,IF('III Tool Overview'!$H$6=\"Shetland Health Board\",0,IF('III Tool Overview'!$H$6=\"Western Isles Health Board\",0,IF('III Tool Overview'!$H$6=\"Orkney Islands Local Authority\",0,IF('III Tool Overview'!$H$6=\"Shetland Islands Local Authority\",0,IF('III Tool Overview'!$H$6=\"Eilean Siar Local Authority\",0,hosp_count(10,B82,C82,D82,$C$1,G82+H82,1,F82,F82,SIMDRateRatios_hosp,SIMDrateratios,RateRatios!$B$3)*10))))))","v":31939.289743187648},124.75523312731821,{"$f":"IF('III Tool Overview'!$H$6=\"Orkney Health Board\",0,IF('III Tool Overview'!$H$6=\"Shetland Health Board\",0,IF('III Tool Overview'!$H$6=\"Western Isles Health Board\",0,IF('III Tool Overview'!$H$6=\"Orkney Islands Local Authority\",0,IF('III Tool Overview'!$H$6=\"Shetland Islands Local Authority\",0,IF('III Tool Overview'!$H$6=\"Eilean Siar Local Authority\",0,hosp_count(20,B82,C82,D82,$C$1,G82,1,F82,F82,SIMDRateRatios_hosp,SIMDrateratios,RateRatios!$B$3)*10))))))","v":47879.253402853574},{"$f":"IF('III Tool Overview'!$H$6=\"Orkney Health Board\",0,IF('III Tool Overview'!$H$6=\"Shetland Health Board\",0,IF('III Tool Overview'!$H$6=\"Western Isles Health Board\",0,IF('III Tool Overview'!$H$6=\"Orkney Islands Local Authority\",0,IF('III Tool Overview'!$H$6=\"Shetland Islands Local Authority\",0,IF('III Tool Overview'!$H$6=\"Eilean Siar Local Authority\",0,hosp_count(20,B82,C82,D82,$C$1,G82+H82,1,F82,F82,SIMDRateRatios_hosp,SIMDrateratios,RateRatios!$B$3)*10))))))","v":47837.621100530341},41.63230232323258]
["Male 80-84",82.5,"male",1,1,{"$f":"HLOOKUP('III Tool Overview'!$H$6,LookUpData_Pop!$B$1:$AV$269,LookUpData_Pop!BB84,FALSE)/50","v":320.74},{"$f":"'III Tool Overview'!$H$9/110","v":0},320.74,{"$f":"IF('III Tool Overview'!$H$6=\"Orkney Health Board\",0,IF('III Tool Overview'!$H$6=\"Shetland Health Board\",0,IF('III Tool Overview'!$H$6=\"Western Isles Health Board\",0,IF('III Tool Overview'!$H$6=\"Orkney Islands Local Authority\",0,IF('III Tool Overview'!$H$6=\"Shetland Islands Local Authority\",0,IF('III Tool Overview'!$H$6=\"Eilean Siar Local Authority\",0,new_ci(2,B83,C83,D83,$C$1,G83,1,F83,F83,SIMDrateratios,RateRatios!$B$3)*10))))))","v":311.78578347087216},{"$f":"IF('III Tool Overview'!$H$6=\"Orkney Health Board\",0,IF('III Tool Overview'!$H$6=\"Shetland Health Board\",0,IF('III Tool Overview'!$H$6=\"Western Isles Health Board\",0,IF('III Tool Overview'!$H$6=\"Orkney Islands Local Authority\",0,IF('III Tool Overview'!$H$6=\"Shetland Islands Local Authority\",0,IF('III Tool Overview'!$H$6=\"Eilean Siar Local Authority\",0,new_ci(2,B83,C83,D83,$C$1,G83+H83,1,H83,H83,SIMDrateratios,RateRatios!$B$3)*10))))))","v":309.29244830983868},{"$f":"IF('III Tool Overview'!$H$6=\"Orkney Health Board\",0,IF('III Tool Overview'!$H$6=\"Shetland Health Board\",0,IF('III Tool Overview'!$H$6=\"Western Isles Health Board\",0,IF('III Tool Overview'!$H$6=\"Orkney Islands Local Authority\",0,IF('III Tool Overview'!$H$6=\"Shetland Islands Local Authority\",0,IF('III Tool Overview'!$H$6=\"Eilean Siar Local Authority\",0,new_ci(5,B83,C83,D83,$C$1,G83,1,F83,F83,SIMDrateratios,RateRatios!$B$3)*1000))))))","v":115707.6986660011},{"$f":"IF('III Tool Overview'!$H$6=\"Orkney Health Board\",0,IF('III Tool Overview'!$H$6=\"Shetland Health Board\",0,IF('III Tool Overview'!$H$6=\"Western Isles Health Board\",0,IF('III Tool Overview'!$H$6=\"Orkney Islands Local Authority\",0,IF('III Tool Overview'!$H$6=\"Shetland Islands Local Authority\",0,IF('III Tool Overview'!$H$6=\"Eilean Siar Local Authority\",0,new_ci(5,B83,C83,D83,$C$1,G83+H83,1,F83,F83,SIMDrateratios,RateRatios!$B$3)*1000))))))","v":114934.07434119322},{"$f":"IF('III Tool Overview'!$H$6=\"Orkney Health Board\",0,IF('III Tool Overview'!$H$6=\"Shetland Health Board\",0,IF('III Tool Overview'!$H$6=\"Western Isles Health Board\",0,IF('III Tool Overview'!$H$6=\"Orkney Islands Local Authority\",0,IF('III Tool Overview'!$H$6=\"Shetland Islands Local Authority\",0,IF('III Tool Overview'!$H$6=\"Eilean Siar Local Authority\",0,new_ci(10,B83,C83,D83,$C$1,G83,1,F83,F83,SIMDrateratios,RateRatios!$B$3)*10))))))","v":2217.7608714952325},{"$f":"IF('III Tool Overview'!$H$6=\"Orkney Health Board\",0,IF('III Tool Overview'!$H$6=\"Shetland Health Board\",0,IF('III Tool Overview'!$H$6=\"Western Isles Health Board\",0,IF('III Tool Overview'!$H$6=\"Orkney Islands Local Authority\",0,IF('III Tool Overview'!$H$6=\"Shetland Islands Local Authority\",0,IF('III Tool Overview'!$H$6=\"Eilean Siar Local Authority\",0,new_ci(10,B83,C83,D83,$C$1,G83+H83,1,F83,F83,SIMDrateratios,RateRatios!$B$3)*10))))))","v":2207.9180334571738},{"$f":"IF('III Tool Overview'!$H$6=\"Orkney Health Board\",0,IF('III Tool Overview'!$H$6=\"Shetland Health Board\",0,IF('III Tool Overview'!$H$6=\"Western Isles Health Board\",0,IF('III Tool Overview'!$H$6=\"Orkney Islands Local Authority\",0,IF('III Tool Overview'!$H$6=\"Shetland Islands Local Authority\",0,IF('III Tool Overview'!$H$6=\"Eilean Siar Local Authority\",0,new_ci(20,B83,C83,D83,$C$1,G83,1,F83,F83,SIMDrateratios,RateRatios!$B$3)*10))))))","v":3106.3588090703793},{"$f":"IF('III Tool Overview'!$H$6=\"Orkney Health Board\",0,IF('III Tool Overview'!$H$6=\"Shetland Health Board\",0,IF('III Tool Overview'!$H$6=\"Western Isles Health Board\",0,IF('III Tool Overview'!$H$6=\"Orkney Islands Local Authority\",0,IF('III Tool Overview'!$H$6=\"Shetland Islands Local Authority\",0,IF('III Tool Overview'!$H$6=\"Eilean Siar Local Authority\",0,new_ci(20,B83,C83,D83,$C$1,G83+H83,1,F83,F83,SIMDrateratios,RateRatios!$B$3)*10))))))","v":3103.3751665664622},{"$f":"IF('III Tool Overview'!$H$6=\"Orkney Health Board\",0,IF('III Tool Overview'!$H$6=\"Shetland Health Board\",0,IF('III Tool Overview'!$H$6=\"Western Isles Health Board\",0,IF('III Tool Overview'!$H$6=\"Orkney Islands Local Authority\",0,IF('III Tool Overview'!$H$6=\"Shetland Islands Local Authority\",0,IF('III Tool Overview'!$H$6=\"Eilean Siar Local Authority\",0,new_yll(2,B83,C83,D83,$C$1,G83,1,F83,F83,SIMDrateratios,RateRatios!$B$3)*10))))))","v":5300.3583190048266},{"$f":"IF('III Tool Overview'!$H$6=\"Orkney Health Board\",0,IF('III Tool Overview'!$H$6=\"Shetland Health Board\",0,IF('III Tool Overview'!$H$6=\"Western Isles Health Board\",0,IF('III Tool Overview'!$H$6=\"Orkney Islands Local Authority\",0,IF('III Tool Overview'!$H$6=\"Shetland Islands Local Authority\",0,IF('III Tool Overview'!$H$6=\"Eilean Siar Local Authority\",0,new_yll(2,B83,C83,D83,$C$1,G83+H83,1,F83,F83,SIMDrateratios,RateRatios!$B$3)*10))))))","v":5257.9716212672574},42.386697737569193,{"$f":"IF('III Tool Overview'!$H$6=\"Orkney Health Board\",0,IF('III Tool Overview'!$H$6=\"Shetland Health Board\",0,IF('III Tool Overview'!$H$6=\"Western Isles Health Board\",0,IF('III Tool Overview'!$H$6=\"Orkney Islands Local Authority\",0,IF('III Tool Overview'!$H$6=\"Shetland Islands Local Authority\",0,IF('III Tool Overview'!$H$6=\"Eilean Siar Local Authority\",0,new_yll(5,B83,C83,D83,$C$1,G83,1,F83,F83,SIMDrateratios,RateRatios!$B$3)*1000))))))","v":1801154.5854332447},{"$f":"IF('III Tool Overview'!$H$6=\"Orkney Health Board\",0,IF('III Tool Overview'!$H$6=\"Shetland Health Board\",0,IF('III Tool Overview'!$H$6=\"Western Isles Health Board\",0,IF('III Tool Overview'!$H$6=\"Orkney Islands Local Authority\",0,IF('III Tool Overview'!$H$6=\"Shetland Islands Local Authority\",0,IF('III Tool Overview'!$H$6=\"Eilean Siar Local Authority\",0,new_yll(5,B83,C83,D83,$C$1,G83+H83,1,F83,F83,SIMDrateratios,RateRatios!$B$3)*1000))))))","v":1788977.8308022518},12176.754630992888,{"$f":"IF('III Tool Overview'!$H$6=\"Orkney Health Board\",0,IF('III Tool Overview'!$H$6=\"Shetland Health Board\",0,IF('III Tool Overview'!$H$6=\"Western Isles Health Board\",0,IF('III Tool Overview'!$H$6=\"Orkney Islands Local Authority\",0,IF('III Tool Overview'!$H$6=\"Shetland Islands Local Authority\",0,IF('III Tool Overview'!$H$6=\"Eilean Siar Local Authority\",0,new_yll(10,B83,C83,D83,$C$1,G83,1,F83,F83,SIMDrateratios,RateRatios!$B$3)*10))))))","v":29861.92814899615},{"$f":"IF('III Tool Overview'!$H$6=\"Orkney Health Board\",0,IF('III Tool Overview'!$H$6=\"Shetland Health Board\",0,IF('III Tool Overview'!$H$6=\"Western Isles Health Board\",0,IF('III Tool Overview'!$H$6=\"Orkney Islands Local Authority\",0,IF('III Tool Overview'!$H$6=\"Shetland Islands Local Authority\",0,IF('III Tool Overview'!$H$6=\"Eilean Siar Local Authority\",0,new_yll(10,B83,C83,D83,$C$1,G83+H83,1,F83,F83,SIMDrateratios,RateRatios!$B$3)*10))))))","v":29714.084523320871},147.84362567527933,{"$f":"IF('III Tool Overview'!$H$6=\"Orkney Health Board\",0,IF('III Tool Overview'!$H$6=\"Shetland Health Board\",0,IF('III Tool Overview'!$H$6=\"Western Isles Health Board\",0,IF('III Tool Overview'!$H$6=\"Orkney Islands Local Authority\",0,IF('III Tool Overview'!$H$6=\"Shetland Islands Local Authority\",0,IF('III Tool Overview'!$H$6=\"Eilean Siar Local Authority\",0,new_yll(20,B83,C83,D83,$C$1,G83,1,F83,F83,SIMDrateratios,RateRatios!$B$3)*10))))))","v":34105.588484780477},{"$f":"IF('III Tool Overview'!$H$6=\"Orkney Health Board\",0,IF('III Tool Overview'!$H$6=\"Shetland Health Board\",0,IF('III Tool Overview'!$H$6=\"Western Isles Health Board\",0,IF('III Tool Overview'!$H$6=\"Orkney Islands Local Authority\",0,IF('III Tool Overview'!$H$6=\"Shetland Islands Local Authority\",0,IF('III Tool Overview'!$H$6=\"Eilean Siar Local Authority\",0,new_yll(20,B83,C83,D83,$C$1,G83+H83,1,F83,F83,SIMDrateratios,RateRatios!$B$3)*10))))))","v":33978.968848400538},126.61963637993904,{"$f":"IF('III Tool Overview'!$H$6=\"Orkney Health Board\",0,IF('III Tool Overview'!$H$6=\"Shetland Health Board\",0,IF('III Tool Overview'!$H$6=\"Western Isles Health Board\",0,IF('III Tool Overview'!$H$6=\"Orkney Islands Local Authority\",0,IF('III Tool Overview'!$H$6=\"Shetland Islands Local Authority\",0,IF('III Tool Overview'!$H$6=\"Eilean Siar Local Authority\",0,hosp_count(2,B83,C83,D83,$C$1,G83,1,F83,F83,SIMDRateRatios_hosp,SIMDrateratios,RateRatios!$B$3)*10))))))","v":2962.5125362686185},{"$f":"IF('III Tool Overview'!$H$6=\"Orkney Health Board\",0,IF('III Tool Overview'!$H$6=\"Shetland Health Board\",0,IF('III Tool Overview'!$H$6=\"Western Isles Health Board\",0,IF('III Tool Overview'!$H$6=\"Orkney Islands Local Authority\",0,IF('III Tool Overview'!$H$6=\"Shetland Islands Local Authority\",0,IF('III Tool Overview'!$H$6=\"Eilean Siar Local Authority\",0,hosp_count(2,B83,C83,D83,$C$1,G83+H83,1,F83,F83,SIMDRateRatios_hosp,SIMDrateratios,RateRatios!$B$3)*10))))))","v":2943.1100754875747},19.402460781043828,{"$f":"IF('III Tool Overview'!$H$6=\"Orkney Health Board\",0,IF('III Tool Overview'!$H$6=\"Shetland Health Board\",0,IF('III Tool Overview'!$H$6=\"Western Isles Health Board\",0,IF('III Tool Overview'!$H$6=\"Orkney Islands Local Authority\",0,IF('III Tool Overview'!$H$6=\"Shetland Islands Local Authority\",0,IF('III Tool Overview'!$H$6=\"Eilean Siar Local Authority\",0,hosp_count(5,B83,C83,D83,$C$1,G83,1,F83,F83,SIMDRateRatios_hosp,SIMDrateratios,RateRatios!$B$3)*1000))))))","v":1070516.2653052227},{"$f":"IF('III Tool Overview'!$H$6=\"Orkney Health Board\",0,IF('III Tool Overview'!$H$6=\"Shetland Health Board\",0,IF('III Tool Overview'!$H$6=\"Western Isles Health Board\",0,IF('III Tool Overview'!$H$6=\"Orkney Islands Local Authority\",0,IF('III Tool Overview'!$H$6=\"Shetland Islands Local Authority\",0,IF('III Tool Overview'!$H$6=\"Eilean Siar Local Authority\",0,hosp_count(5,B83,C83,D83,$C$1,G83+H83,1,F83,F83,SIMDRateRatios_hosp,SIMDrateratios,RateRatios!$B$3)*1000))))))","v":1064848.3521481419},5667.9131570807658,{"$f":"IF('III Tool Overview'!$H$6=\"Orkney Health Board\",0,IF('III Tool Overview'!$H$6=\"Shetland Health Board\",0,IF('III Tool Overview'!$H$6=\"Western Isles Health Board\",0,IF('III Tool Overview'!$H$6=\"Orkney Islands Local Authority\",0,IF('III Tool Overview'!$H$6=\"Shetland Islands Local Authority\",0,IF('III Tool Overview'!$H$6=\"Eilean Siar Local Authority\",0,hosp_count(10,B83,C83,D83,$C$1,G83,1,F83,F83,SIMDRateRatios_hosp,SIMDrateratios,RateRatios!$B$3)*10))))))","v":19763.99610889317},{"$f":"IF('III Tool Overview'!$H$6=\"Orkney Health Board\",0,IF('III Tool Overview'!$H$6=\"Shetland Health Board\",0,IF('III Tool Overview'!$H$6=\"Western Isles Health Board\",0,IF('III Tool Overview'!$H$6=\"Orkney Islands Local Authority\",0,IF('III Tool Overview'!$H$6=\"Shetland Islands Local Authority\",0,IF('III Tool Overview'!$H$6=\"Eilean Siar Local Authority\",0,hosp_count(10,B83,C83,D83,$C$1,G83+H83,1,F83,F83,SIMDRateRatios_hosp,SIMDrateratios,RateRatios!$B$3)*10))))))","v":19700.611929307535},63.384179585635138,{"$f":"IF('III Tool Overview'!$H$6=\"Orkney Health Board\",0,IF('III Tool Overview'!$H$6=\"Shetland Health Board\",0,IF('III Tool Overview'!$H$6=\"Western Isles Health Board\",0,IF('III Tool Overview'!$H$6=\"Orkney Islands Local Authority\",0,IF('III Tool Overview'!$H$6=\"Shetland Islands Local Authority\",0,IF('III Tool Overview'!$H$6=\"Eilean Siar Local Authority\",0,hosp_count(20,B83,C83,D83,$C$1,G83,1,F83,F83,SIMDRateRatios_hosp,SIMDrateratios,RateRatios!$B$3)*10))))))","v":26584.046474431547},{"$f":"IF('III Tool Overview'!$H$6=\"Orkney Health Board\",0,IF('III Tool Overview'!$H$6=\"Shetland Health Board\",0,IF('III Tool Overview'!$H$6=\"Western Isles Health Board\",0,IF('III Tool Overview'!$H$6=\"Orkney Islands Local Authority\",0,IF('III Tool Overview'!$H$6=\"Shetland Islands Local Authority\",0,IF('III Tool Overview'!$H$6=\"Eilean Siar Local Authority\",0,hosp_count(20,B83,C83,D83,$C$1,G83+H83,1,F83,F83,SIMDRateRatios_hosp,SIMDrateratios,RateRatios!$B$3)*10))))))","v":26579.006737024749},5.0397374067979399]
["Male 85-89",87.5,"male",1,1,{"$f":"HLOOKUP('III Tool Overview'!$H$6,LookUpData_Pop!$B$1:$AV$269,LookUpData_Pop!BB85,FALSE)/50","v":150.36000000000001},{"$f":"'III Tool Overview'!$H$9/110","v":0},150.36000000000001,{"$f":"IF('III Tool Overview'!$H$6=\"Orkney Health Board\",0,IF('III Tool Overview'!$H$6=\"Shetland Health Board\",0,IF('III Tool Overview'!$H$6=\"Western Isles Health Board\",0,IF('III Tool Overview'!$H$6=\"Orkney Islands Local Authority\",0,IF('III Tool Overview'!$H$6=\"Shetland Islands Local Authority\",0,IF('III Tool Overview'!$H$6=\"Eilean Siar Local Authority\",0,new_ci(2,B84,C84,D84,$C$1,G84,1,F84,F84,SIMDrateratios,RateRatios!$B$3)*10))))))","v":219.62174452901257},{"$f":"IF('III Tool Overview'!$H$6=\"Orkney Health Board\",0,IF('III Tool Overview'!$H$6=\"Shetland Health Board\",0,IF('III Tool Overview'!$H$6=\"Western Isles Health Board\",0,IF('III Tool Overview'!$H$6=\"Orkney Islands Local Authority\",0,IF('III Tool Overview'!$H$6=\"Shetland Islands Local Authority\",0,IF('III Tool Overview'!$H$6=\"Eilean Siar Local Authority\",0,new_ci(2,B84,C84,D84,$C$1,G84+H84,1,H84,H84,SIMDrateratios,RateRatios!$B$3)*10))))))","v":217.91972168009093},{"$f":"IF('III Tool Overview'!$H$6=\"Orkney Health Board\",0,IF('III Tool Overview'!$H$6=\"Shetland Health Board\",0,IF('III Tool Overview'!$H$6=\"Western Isles Health Board\",0,IF('III Tool Overview'!$H$6=\"Orkney Islands Local Authority\",0,IF('III Tool Overview'!$H$6=\"Shetland Islands Local Authority\",0,IF('III Tool Overview'!$H$6=\"Eilean Siar Local Authority\",0,new_ci(5,B84,C84,D84,$C$1,G84,1,F84,F84,SIMDrateratios,RateRatios!$B$3)*1000))))))","v":75011.025799526135},{"$f":"IF('III Tool Overview'!$H$6=\"Orkney Health Board\",0,IF('III Tool Overview'!$H$6=\"Shetland Health Board\",0,IF('III Tool Overview'!$H$6=\"Western Isles Health Board\",0,IF('III Tool Overview'!$H$6=\"Orkney Islands Local Authority\",0,IF('III Tool Overview'!$H$6=\"Shetland Islands Local Authority\",0,IF('III Tool Overview'!$H$6=\"Eilean Siar Local Authority\",0,new_ci(5,B84,C84,D84,$C$1,G84+H84,1,F84,F84,SIMDrateratios,RateRatios!$B$3)*1000))))))","v":74573.003498236882},{"$f":"IF('III Tool Overview'!$H$6=\"Orkney Health Board\",0,IF('III Tool Overview'!$H$6=\"Shetland Health Board\",0,IF('III Tool Overview'!$H$6=\"Western Isles Health Board\",0,IF('III Tool Overview'!$H$6=\"Orkney Islands Local Authority\",0,IF('III Tool Overview'!$H$6=\"Shetland Islands Local Authority\",0,IF('III Tool Overview'!$H$6=\"Eilean Siar Local Authority\",0,new_ci(10,B84,C84,D84,$C$1,G84,1,F84,F84,SIMDrateratios,RateRatios!$B$3)*10))))))","v":1258.9040830623076},{"$f":"IF('III Tool Overview'!$H$6=\"Orkney Health Board\",0,IF('III Tool Overview'!$H$6=\"Shetland Health Board\",0,IF('III Tool Overview'!$H$6=\"Western Isles Health Board\",0,IF('III Tool Overview'!$H$6=\"Orkney Islands Local Authority\",0,IF('III Tool Overview'!$H$6=\"Shetland Islands Local Authority\",0,IF('III Tool Overview'!$H$6=\"Eilean Siar Local Authority\",0,new_ci(10,B84,C84,D84,$C$1,G84+H84,1,F84,F84,SIMDrateratios,RateRatios!$B$3)*10))))))","v":1255.1482435760452},{"$f":"IF('III Tool Overview'!$H$6=\"Orkney Health Board\",0,IF('III Tool Overview'!$H$6=\"Shetland Health Board\",0,IF('III Tool Overview'!$H$6=\"Western Isles Health Board\",0,IF('III Tool Overview'!$H$6=\"Orkney Islands Local Authority\",0,IF('III Tool Overview'!$H$6=\"Shetland Islands Local Authority\",0,IF('III Tool Overview'!$H$6=\"Eilean Siar Local Authority\",0,new_ci(20,B84,C84,D84,$C$1,G84,1,F84,F84,SIMDrateratios,RateRatios!$B$3)*10))))))","v":1496.3803778563583},{"$f":"IF('III Tool Overview'!$H$6=\"Orkney Health Board\",0,IF('III Tool Overview'!$H$6=\"Shetland Health Board\",0,IF('III Tool Overview'!$H$6=\"Western Isles Health Board\",0,IF('III Tool Overview'!$H$6=\"Orkney Islands Local Authority\",0,IF('III Tool Overview'!$H$6=\"Shetland Islands Local Authority\",0,IF('III Tool Overview'!$H$6=\"Eilean Siar Local Authority\",0,new_ci(20,B84,C84,D84,$C$1,G84+H84,1,F84,F84,SIMDrateratios,RateRatios!$B$3)*10))))))","v":1496.0496389204536},{"$f":"IF('III Tool Overview'!$H$6=\"Orkney Health Board\",0,IF('III Tool Overview'!$H$6=\"Shetland Health Board\",0,IF('III Tool Overview'!$H$6=\"Western Isles Health Board\",0,IF('III Tool Overview'!$H$6=\"Orkney Islands Local Authority\",0,IF('III Tool Overview'!$H$6=\"Shetland Islands Local Authority\",0,IF('III Tool Overview'!$H$6=\"Eilean Siar Local Authority\",0,new_yll(2,B84,C84,D84,$C$1,G84,1,F84,F84,SIMDrateratios,RateRatios!$B$3)*10))))))","v":2415.8391898191385},{"$f":"IF('III Tool Overview'!$H$6=\"Orkney Health Board\",0,IF('III Tool Overview'!$H$6=\"Shetland Health Board\",0,IF('III Tool Overview'!$H$6=\"Western Isles Health Board\",0,IF('III Tool Overview'!$H$6=\"Orkney Islands Local Authority\",0,IF('III Tool Overview'!$H$6=\"Shetland Islands Local Authority\",0,IF('III Tool Overview'!$H$6=\"Eilean Siar Local Authority\",0,new_yll(2,B84,C84,D84,$C$1,G84+H84,1,F84,F84,SIMDrateratios,RateRatios!$B$3)*10))))))","v":2397.116938481},18.722251338138449,{"$f":"IF('III Tool Overview'!$H$6=\"Orkney Health Board\",0,IF('III Tool Overview'!$H$6=\"Shetland Health Board\",0,IF('III Tool Overview'!$H$6=\"Western Isles Health Board\",0,IF('III Tool Overview'!$H$6=\"Orkney Islands Local Authority\",0,IF('III Tool Overview'!$H$6=\"Shetland Islands Local Authority\",0,IF('III Tool Overview'!$H$6=\"Eilean Siar Local Authority\",0,new_yll(5,B84,C84,D84,$C$1,G84,1,F84,F84,SIMDrateratios,RateRatios!$B$3)*1000))))))","v":723216.83723076282},{"$f":"IF('III Tool Overview'!$H$6=\"Orkney Health Board\",0,IF('III Tool Overview'!$H$6=\"Shetland Health Board\",0,IF('III Tool Overview'!$H$6=\"Western Isles Health Board\",0,IF('III Tool Overview'!$H$6=\"Orkney Islands Local Authority\",0,IF('III Tool Overview'!$H$6=\"Shetland Islands Local Authority\",0,IF('III Tool Overview'!$H$6=\"Eilean Siar Local Authority\",0,new_yll(5,B84,C84,D84,$C$1,G84+H84,1,F84,F84,SIMDrateratios,RateRatios!$B$3)*1000))))))","v":718861.23156125657},4355.6056695062434,{"$f":"IF('III Tool Overview'!$H$6=\"Orkney Health Board\",0,IF('III Tool Overview'!$H$6=\"Shetland Health Board\",0,IF('III Tool Overview'!$H$6=\"Western Isles Health Board\",0,IF('III Tool Overview'!$H$6=\"Orkney Islands Local Authority\",0,IF('III Tool Overview'!$H$6=\"Shetland Islands Local Authority\",0,IF('III Tool Overview'!$H$6=\"Eilean Siar Local Authority\",0,new_yll(10,B84,C84,D84,$C$1,G84,1,F84,F84,SIMDrateratios,RateRatios!$B$3)*10))))))","v":9941.594507227368},{"$f":"IF('III Tool Overview'!$H$6=\"Orkney Health Board\",0,IF('III Tool Overview'!$H$6=\"Shetland Health Board\",0,IF('III Tool Overview'!$H$6=\"Western Isles Health Board\",0,IF('III Tool Overview'!$H$6=\"Orkney Islands Local Authority\",0,IF('III Tool Overview'!$H$6=\"Shetland Islands Local Authority\",0,IF('III Tool Overview'!$H$6=\"Eilean Siar Local Authority\",0,new_yll(10,B84,C84,D84,$C$1,G84+H84,1,F84,F84,SIMDrateratios,RateRatios!$B$3)*10))))))","v":9899.5413946442532},42.053112583114853,{"$f":"IF('III Tool Overview'!$H$6=\"Orkney Health Board\",0,IF('III Tool Overview'!$H$6=\"Shetland Health Board\",0,IF('III Tool Overview'!$H$6=\"Western Isles Health Board\",0,IF('III Tool Overview'!$H$6=\"Orkney Islands Local Authority\",0,IF('III Tool Overview'!$H$6=\"Shetland Islands Local Authority\",0,IF('III Tool Overview'!$H$6=\"Eilean Siar Local Authority\",0,new_yll(20,B84,C84,D84,$C$1,G84,1,F84,F84,SIMDrateratios,RateRatios!$B$3)*10))))))","v":9825.5826370657305},{"$f":"IF('III Tool Overview'!$H$6=\"Orkney Health Board\",0,IF('III Tool Overview'!$H$6=\"Shetland Health Board\",0,IF('III Tool Overview'!$H$6=\"Western Isles Health Board\",0,IF('III Tool Overview'!$H$6=\"Orkney Islands Local Authority\",0,IF('III Tool Overview'!$H$6=\"Shetland Islands Local Authority\",0,IF('III Tool Overview'!$H$6=\"Eilean Siar Local Authority\",0,new_yll(20,B84,C84,D84,$C$1,G84+H84,1,F84,F84,SIMDrateratios,RateRatios!$B$3)*10))))))","v":9778.172249020683},47.410388045047512,{"$f":"IF('III Tool Overview'!$H$6=\"Orkney Health Board\",0,IF('III Tool Overview'!$H$6=\"Shetland Health Board\",0,IF('III Tool Overview'!$H$6=\"Western Isles Health Board\",0,IF('III Tool Overview'!$H$6=\"Orkney Islands Local Authority\",0,IF('III Tool Overview'!$H$6=\"Shetland Islands Local Authority\",0,IF('III Tool Overview'!$H$6=\"Eilean Siar Local Authority\",0,hosp_count(2,B84,C84,D84,$C$1,G84,1,F84,F84,SIMDRateRatios_hosp,SIMDrateratios,RateRatios!$B$3)*10))))))","v":1712.2217299042322},{"$f":"IF('III Tool Overview'!$H$6=\"Orkney Health Board\",0,IF('III Tool Overview'!$H$6=\"Shetland Health Board\",0,IF('III Tool Overview'!$H$6=\"Western Isles Health Board\",0,IF('III Tool Overview'!$H$6=\"Orkney Islands Local Authority\",0,IF('III Tool Overview'!$H$6=\"Shetland Islands Local Authority\",0,IF('III Tool Overview'!$H$6=\"Eilean Siar Local Authority\",0,hosp_count(2,B84,C84,D84,$C$1,G84+H84,1,F84,F84,SIMDRateRatios_hosp,SIMDrateratios,RateRatios!$B$3)*10))))))","v":1701.0437414592334},11.177988444998846,{"$f":"IF('III Tool Overview'!$H$6=\"Orkney Health Board\",0,IF('III Tool Overview'!$H$6=\"Shetland Health Board\",0,IF('III Tool Overview'!$H$6=\"Western Isles Health Board\",0,IF('III Tool Overview'!$H$6=\"Orkney Islands Local Authority\",0,IF('III Tool Overview'!$H$6=\"Shetland Islands Local Authority\",0,IF('III Tool Overview'!$H$6=\"Eilean Siar Local Authority\",0,hosp_count(5,B84,C84,D84,$C$1,G84,1,F84,F84,SIMDRateRatios_hosp,SIMDrateratios,RateRatios!$B$3)*1000))))))","v":571487.15649959852},{"$f":"IF('III Tool Overview'!$H$6=\"Orkney Health Board\",0,IF('III Tool Overview'!$H$6=\"Shetland Health Board\",0,IF('III Tool Overview'!$H$6=\"Western Isles Health Board\",0,IF('III Tool Overview'!$H$6=\"Orkney Islands Local Authority\",0,IF('III Tool Overview'!$H$6=\"Shetland Islands Local Authority\",0,IF('III Tool Overview'!$H$6=\"Eilean Siar Local Authority\",0,hosp_count(5,B84,C84,D84,$C$1,G84+H84,1,F84,F84,SIMDRateRatios_hosp,SIMDrateratios,RateRatios!$B$3)*1000))))))","v":568802.49263420538},2684.6638653931441,{"$f":"IF('III Tool Overview'!$H$6=\"Orkney Health Board\",0,IF('III Tool Overview'!$H$6=\"Shetland Health Board\",0,IF('III Tool Overview'!$H$6=\"Western Isles Health Board\",0,IF('III Tool Overview'!$H$6=\"Orkney Islands Local Authority\",0,IF('III Tool Overview'!$H$6=\"Shetland Islands Local Authority\",0,IF('III Tool Overview'!$H$6=\"Eilean Siar Local Authority\",0,hosp_count(10,B84,C84,D84,$C$1,G84,1,F84,F84,SIMDRateRatios_hosp,SIMDrateratios,RateRatios!$B$3)*10))))))","v":9327.3391373994145},{"$f":"IF('III Tool Overview'!$H$6=\"Orkney Health Board\",0,IF('III Tool Overview'!$H$6=\"Shetland Health Board\",0,IF('III Tool Overview'!$H$6=\"Western Isles Health Board\",0,IF('III Tool Overview'!$H$6=\"Orkney Islands Local Authority\",0,IF('III Tool Overview'!$H$6=\"Shetland Islands Local Authority\",0,IF('III Tool Overview'!$H$6=\"Eilean Siar Local Authority\",0,hosp_count(10,B84,C84,D84,$C$1,G84+H84,1,F84,F84,SIMDRateRatios_hosp,SIMDrateratios,RateRatios!$B$3)*10))))))","v":9308.2886488859767},19.050488513437813,{"$f":"IF('III Tool Overview'!$H$6=\"Orkney Health Board\",0,IF('III Tool Overview'!$H$6=\"Shetland Health Board\",0,IF('III Tool Overview'!$H$6=\"Western Isles Health Board\",0,IF('III Tool Overview'!$H$6=\"Orkney Islands Local Authority\",0,IF('III Tool Overview'!$H$6=\"Shetland Islands Local Authority\",0,IF('III Tool Overview'!$H$6=\"Eilean Siar Local Authority\",0,hosp_count(20,B84,C84,D84,$C$1,G84,1,F84,F84,SIMDRateRatios_hosp,SIMDrateratios,RateRatios!$B$3)*10))))))","v":10878.437278971982},{"$f":"IF('III Tool Overview'!$H$6=\"Orkney Health Board\",0,IF('III Tool Overview'!$H$6=\"Shetland Health Board\",0,IF('III Tool Overview'!$H$6=\"Western Isles Health Board\",0,IF('III Tool Overview'!$H$6=\"Orkney Islands Local Authority\",0,IF('III Tool Overview'!$H$6=\"Shetland Islands Local Authority\",0,IF('III Tool Overview'!$H$6=\"Eilean Siar Local Authority\",0,hosp_count(20,B84,C84,D84,$C$1,G84+H84,1,F84,F84,SIMDRateRatios_hosp,SIMDrateratios,RateRatios!$B$3)*10))))))","v":10882.463286117396},-4.0260071454140416]
["Male 90+",95,"male",1,1,{"$f":"HLOOKUP('III Tool Overview'!$H$6,LookUpData_Pop!$B$1:$AV$269,LookUpData_Pop!BB86,FALSE)/50","v":57.42},{"$f":"'III Tool Overview'!$H$9/110","v":0},57.42,{"$f":"IF('III Tool Overview'!$H$6=\"Orkney Health Board\",0,IF('III Tool Overview'!$H$6=\"Shetland Health Board\",0,IF('III Tool Overview'!$H$6=\"Western Isles Health Board\",0,IF('III Tool Overview'!$H$6=\"Orkney Islands Local Authority\",0,IF('III Tool Overview'!$H$6=\"Shetland Islands Local Authority\",0,IF('III Tool Overview'!$H$6=\"Eilean Siar Local Authority\",0,new_ci(2,B85,C85,D85,$C$1,G85,1,F85,F85,SIMDrateratios,RateRatios!$B$3)*10))))))","v":132.39483124880104},{"$f":"IF('III Tool Overview'!$H$6=\"Orkney Health Board\",0,IF('III Tool Overview'!$H$6=\"Shetland Health Board\",0,IF('III Tool Overview'!$H$6=\"Western Isles Health Board\",0,IF('III Tool Overview'!$H$6=\"Orkney Islands Local Authority\",0,IF('III Tool Overview'!$H$6=\"Shetland Islands Local Authority\",0,IF('III Tool Overview'!$H$6=\"Eilean Siar Local Authority\",0,new_ci(2,B85,C85,D85,$C$1,G85+H85,1,H85,H85,SIMDrateratios,RateRatios!$B$3)*10))))))","v":131.42703511787226},{"$f":"IF('III Tool Overview'!$H$6=\"Orkney Health Board\",0,IF('III Tool Overview'!$H$6=\"Shetland Health Board\",0,IF('III Tool Overview'!$H$6=\"Western Isles Health Board\",0,IF('III Tool Overview'!$H$6=\"Orkney Islands Local Authority\",0,IF('III Tool Overview'!$H$6=\"Shetland Islands Local Authority\",0,IF('III Tool Overview'!$H$6=\"Eilean Siar Local Authority\",0,new_ci(5,B85,C85,D85,$C$1,G85,1,F85,F85,SIMDrateratios,RateRatios!$B$3)*1000))))))","v":39181.942311745748},{"$f":"IF('III Tool Overview'!$H$6=\"Orkney Health Board\",0,IF('III Tool Overview'!$H$6=\"Shetland Health Board\",0,IF('III Tool Overview'!$H$6=\"Western Isles Health Board\",0,IF('III Tool Overview'!$H$6=\"Orkney Islands Local Authority\",0,IF('III Tool Overview'!$H$6=\"Shetland Islands Local Authority\",0,IF('III Tool Overview'!$H$6=\"Eilean Siar Local Authority\",0,new_ci(5,B85,C85,D85,$C$1,G85+H85,1,F85,F85,SIMDrateratios,RateRatios!$B$3)*1000))))))","v":39006.479034943652},{"$f":"IF('III Tool Overview'!$H$6=\"Orkney Health Board\",0,IF('III Tool Overview'!$H$6=\"Shetland Health Board\",0,IF('III Tool Overview'!$H$6=\"Western Isles Health Board\",0,IF('III Tool Overview'!$H$6=\"Orkney Islands Local Authority\",0,IF('III Tool Overview'!$H$6=\"Shetland Islands Local Authority\",0,IF('III Tool Overview'!$H$6=\"Eilean Siar Local Authority\",0,new_ci(10,B85,C85,D85,$C$1,G85,1,F85,F85,SIMDrateratios,RateRatios!$B$3)*10))))))","v":546.00569577611122},{"$f":"IF('III Tool Overview'!$H$6=\"Orkney Health Board\",0,IF('III Tool Overview'!$H$6=\"Shetland Health Board\",0,IF('III Tool Overview'!$H$6=\"Western Isles Health Board\",0,IF('III Tool Overview'!$H$6=\"Orkney Islands Local Authority\",0,IF('III Tool Overview'!$H$6=\"Shetland Islands Local Authority\",0,IF('III Tool Overview'!$H$6=\"Eilean Siar Local Authority\",0,new_ci(10,B85,C85,D85,$C$1,G85+H85,1,F85,F85,SIMDrateratios,RateRatios!$B$3)*10))))))","v":545.28725281668005},{"$f":"IF('III Tool Overview'!$H$6=\"Orkney Health Board\",0,IF('III Tool Overview'!$H$6=\"Shetland Health Board\",0,IF('III Tool Overview'!$H$6=\"Western Isles Health Board\",0,IF('III Tool Overview'!$H$6=\"Orkney Islands Local Authority\",0,IF('III Tool Overview'!$H$6=\"Shetland Islands Local Authority\",0,IF('III Tool Overview'!$H$6=\"Eilean Siar Local Authority\",0,new_ci(20,B85,C85,D85,$C$1,G85,1,F85,F85,SIMDrateratios,RateRatios!$B$3)*10))))))","v":574.11867782980175},{"$f":"IF('III Tool Overview'!$H$6=\"Orkney Health Board\",0,IF('III Tool Overview'!$H$6=\"Shetland Health Board\",0,IF('III Tool Overview'!$H$6=\"Western Isles Health Board\",0,IF('III Tool Overview'!$H$6=\"Orkney Islands Local Authority\",0,IF('III Tool Overview'!$H$6=\"Shetland Islands Local Authority\",0,IF('III Tool Overview'!$H$6=\"Eilean Siar Local Authority\",0,new_ci(20,B85,C85,D85,$C$1,G85+H85,1,F85,F85,SIMDrateratios,RateRatios!$B$3)*10))))))","v":574.11243137953147},{"$f":"IF('III Tool Overview'!$H$6=\"Orkney Health Board\",0,IF('III Tool Overview'!$H$6=\"Shetland Health Board\",0,IF('III Tool Overview'!$H$6=\"Western Isles Health Board\",0,IF('III Tool Overview'!$H$6=\"Orkney Islands Local Authority\",0,IF('III Tool Overview'!$H$6=\"Shetland Islands Local Authority\",0,IF('III Tool Overview'!$H$6=\"Eilean Siar Local Authority\",0,new_yll(2,B85,C85,D85,$C$1,G85,1,F85,F85,SIMDrateratios,RateRatios!$B$3)*10))))))","v":529.57932499520416},{"$f":"IF('III Tool Overview'!$H$6=\"Orkney Health Board\",0,IF('III Tool Overview'!$H$6=\"Shetland Health Board\",0,IF('III Tool Overview'!$H$6=\"Western Isles Health Board\",0,IF('III Tool Overview'!$H$6=\"Orkney Islands Local Authority\",0,IF('III Tool Overview'!$H$6=\"Shetland Islands Local Authority\",0,IF('III Tool Overview'!$H$6=\"Eilean Siar Local Authority\",0,new_yll(2,B85,C85,D85,$C$1,G85+H85,1,F85,F85,SIMDrateratios,RateRatios!$B$3)*10))))))","v":525.70814047148906},3.871184523715101,{"$f":"IF('III Tool Overview'!$H$6=\"Orkney Health Board\",0,IF('III Tool Overview'!$H$6=\"Shetland Health Board\",0,IF('III Tool Overview'!$H$6=\"Western Isles Health Board\",0,IF('III Tool Overview'!$H$6=\"Orkney Islands Local Authority\",0,IF('III Tool Overview'!$H$6=\"Shetland Islands Local Authority\",0,IF('III Tool Overview'!$H$6=\"Eilean Siar Local Authority\",0,new_yll(5,B85,C85,D85,$C$1,G85,1,F85,F85,SIMDrateratios,RateRatios!$B$3)*1000))))))","v":108875.76115857965},{"$f":"IF('III Tool Overview'!$H$6=\"Orkney Health Board\",0,IF('III Tool Overview'!$H$6=\"Shetland Health Board\",0,IF('III Tool Overview'!$H$6=\"Western Isles Health Board\",0,IF('III Tool Overview'!$H$6=\"Orkney Islands Local Authority\",0,IF('III Tool Overview'!$H$6=\"Shetland Islands Local Authority\",0,IF('III Tool Overview'!$H$6=\"Eilean Siar Local Authority\",0,new_yll(5,B85,C85,D85,$C$1,G85+H85,1,F85,F85,SIMDrateratios,RateRatios!$B$3)*1000))))))","v":108278.07359060057},597.68756797908281,{"$f":"IF('III Tool Overview'!$H$6=\"Orkney Health Board\",0,IF('III Tool Overview'!$H$6=\"Shetland Health Board\",0,IF('III Tool Overview'!$H$6=\"Western Isles Health Board\",0,IF('III Tool Overview'!$H$6=\"Orkney Islands Local Authority\",0,IF('III Tool Overview'!$H$6=\"Shetland Islands Local Authority\",0,IF('III Tool Overview'!$H$6=\"Eilean Siar Local Authority\",0,new_yll(10,B85,C85,D85,$C$1,G85,1,F85,F85,SIMDrateratios,RateRatios!$B$3)*10))))))","v":871.97024886949919},{"$f":"IF('III Tool Overview'!$H$6=\"Orkney Health Board\",0,IF('III Tool Overview'!$H$6=\"Shetland Health Board\",0,IF('III Tool Overview'!$H$6=\"Western Isles Health Board\",0,IF('III Tool Overview'!$H$6=\"Orkney Islands Local Authority\",0,IF('III Tool Overview'!$H$6=\"Shetland Islands Local Authority\",0,IF('III Tool Overview'!$H$6=\"Eilean Siar Local Authority\",0,new_yll(10,B85,C85,D85,$C$1,G85+H85,1,F85,F85,SIMDrateratios,RateRatios!$B$3)*10))))))","v":863.70527756005401},8.2649713094451727,{"$f":"IF('III Tool Overview'!$H$6=\"Orkney Health Board\",0,IF('III Tool Overview'!$H$6=\"Shetland Health Board\",0,IF('III Tool Overview'!$H$6=\"Western Isles Health Board\",0,IF('III Tool Overview'!$H$6=\"Orkney Islands Local Authority\",0,IF('III Tool Overview'!$H$6=\"Shetland Islands Local Authority\",0,IF('III Tool Overview'!$H$6=\"Eilean Siar Local Authority\",0,new_yll(20,B85,C85,D85,$C$1,G85,1,F85,F85,SIMDrateratios,RateRatios!$B$3)*10))))))","v":687.0147908096634},{"$f":"IF('III Tool Overview'!$H$6=\"Orkney Health Board\",0,IF('III Tool Overview'!$H$6=\"Shetland Health Board\",0,IF('III Tool Overview'!$H$6=\"Western Isles Health Board\",0,IF('III Tool Overview'!$H$6=\"Orkney Islands Local Authority\",0,IF('III Tool Overview'!$H$6=\"Shetland Islands Local Authority\",0,IF('III Tool Overview'!$H$6=\"Eilean Siar Local Authority\",0,new_yll(20,B85,C85,D85,$C$1,G85+H85,1,F85,F85,SIMDrateratios,RateRatios!$B$3)*10))))))","v":673.65874780500815},13.356043004655248,{"$f":"IF('III Tool Overview'!$H$6=\"Orkney Health Board\",0,IF('III Tool Overview'!$H$6=\"Shetland Health Board\",0,IF('III Tool Overview'!$H$6=\"Western Isles Health Board\",0,IF('III Tool Overview'!$H$6=\"Orkney Islands Local Authority\",0,IF('III Tool Overview'!$H$6=\"Shetland Islands Local Authority\",0,IF('III Tool Overview'!$H$6=\"Eilean Siar Local Authority\",0,hosp_count(2,B85,C85,D85,$C$1,G85,1,F85,F85,SIMDRateRatios_hosp,SIMDrateratios,RateRatios!$B$3)*10))))))","v":834.76633620758139},{"$f":"IF('III Tool Overview'!$H$6=\"Orkney Health Board\",0,IF('III Tool Overview'!$H$6=\"Shetland Health Board\",0,IF('III Tool Overview'!$H$6=\"Western Isles Health Board\",0,IF('III Tool Overview'!$H$6=\"Orkney Islands Local Authority\",0,IF('III Tool Overview'!$H$6=\"Shetland Islands Local Authority\",0,IF('III Tool Overview'!$H$6=\"Eilean Siar Local Authority\",0,hosp_count(2,B85,C85,D85,$C$1,G85+H85,1,F85,F85,SIMDRateRatios_hosp,SIMDrateratios,RateRatios!$B$3)*10))))))","v":829.34356471514479},5.4227714924365955,{"$f":"IF('III Tool Overview'!$H$6=\"Orkney Health Board\",0,IF('III Tool Overview'!$H$6=\"Shetland Health Board\",0,IF('III Tool Overview'!$H$6=\"Western Isles Health Board\",0,IF('III Tool Overview'!$H$6=\"Orkney Islands Local Authority\",0,IF('III Tool Overview'!$H$6=\"Shetland Islands Local Authority\",0,IF('III Tool Overview'!$H$6=\"Eilean Siar Local Authority\",0,hosp_count(5,B85,C85,D85,$C$1,G85,1,F85,F85,SIMDRateRatios_hosp,SIMDrateratios,RateRatios!$B$3)*1000))))))","v":242860.60370218055},{"$f":"IF('III Tool Overview'!$H$6=\"Orkney Health Board\",0,IF('III Tool Overview'!$H$6=\"Shetland Health Board\",0,IF('III Tool Overview'!$H$6=\"Western Isles Health Board\",0,IF('III Tool Overview'!$H$6=\"Orkney Islands Local Authority\",0,IF('III Tool Overview'!$H$6=\"Shetland Islands Local Authority\",0,IF('III Tool Overview'!$H$6=\"Eilean Siar Local Authority\",0,hosp_count(5,B85,C85,D85,$C$1,G85+H85,1,F85,F85,SIMDRateRatios_hosp,SIMDrateratios,RateRatios!$B$3)*1000))))))","v":241943.65623101991},916.94747116064536,{"$f":"IF('III Tool Overview'!$H$6=\"Orkney Health Board\",0,IF('III Tool Overview'!$H$6=\"Shetland Health Board\",0,IF('III Tool Overview'!$H$6=\"Western Isles Health Board\",0,IF('III Tool Overview'!$H$6=\"Orkney Islands Local Authority\",0,IF('III Tool Overview'!$H$6=\"Shetland Islands Local Authority\",0,IF('III Tool Overview'!$H$6=\"Eilean Siar Local Authority\",0,hosp_count(10,B85,C85,D85,$C$1,G85,1,F85,F85,SIMDRateRatios_hosp,SIMDrateratios,RateRatios!$B$3)*10))))))","v":3333.6593070407225},{"$f":"IF('III Tool Overview'!$H$6=\"Orkney Health Board\",0,IF('III Tool Overview'!$H$6=\"Shetland Health Board\",0,IF('III Tool Overview'!$H$6=\"Western Isles Health Board\",0,IF('III Tool Overview'!$H$6=\"Orkney Islands Local Authority\",0,IF('III Tool Overview'!$H$6=\"Shetland Islands Local Authority\",0,IF('III Tool Overview'!$H$6=\"Eilean Siar Local Authority\",0,hosp_count(10,B85,C85,D85,$C$1,G85+H85,1,F85,F85,SIMDRateRatios_hosp,SIMDrateratios,RateRatios!$B$3)*10))))))","v":3330.927504360875},2.731802679847533,{"$f":"IF('III Tool Overview'!$H$6=\"Orkney Health Board\",0,IF('III Tool Overview'!$H$6=\"Shetland Health Board\",0,IF('III Tool Overview'!$H$6=\"Western Isles Health Board\",0,IF('III Tool Overview'!$H$6=\"Orkney Islands Local Authority\",0,IF('III Tool Overview'!$H$6=\"Shetland Islands Local Authority\",0,IF('III Tool Overview'!$H$6=\"Eilean Siar Local Authority\",0,hosp_count(20,B85,C85,D85,$C$1,G85,1,F85,F85,SIMDRateRatios_hosp,SIMDrateratios,RateRatios!$B$3)*10))))))","v":3490.071046784024},{"$f":"IF('III Tool Overview'!$H$6=\"Orkney Health Board\",0,IF('III Tool Overview'!$H$6=\"Shetland Health Board\",0,IF('III Tool Overview'!$H$6=\"Western Isles Health Board\",0,IF('III Tool Overview'!$H$6=\"Orkney Islands Local Authority\",0,IF('III Tool Overview'!$H$6=\"Shetland Islands Local Authority\",0,IF('III Tool Overview'!$H$6=\"Eilean Siar Local Authority\",0,hosp_count(20,B85,C85,D85,$C$1,G85+H85,1,F85,F85,SIMDRateRatios_hosp,SIMDrateratios,RateRatios!$B$3)*10))))))","v":3491.2830879854992},-1.2120412014751309]
["TOTAL",null,null,null,null,{"$f":"SUM(F66:F85)","v":19618.420000000006},{"$f":"SUM(G66:G85)","v":0},{"$f":"SUM(H66:H85)","v":19618.420000000006},{"$f":"SUM(I66:I85)","v":2640.2593029811565},2618.7658959371965,1045364.2376477942,1037952.6180153626,{"$f":"SUM(M66:M85)","v":23179.070195520369},23031.000400772034,{"$f":"SUM(O66:O85)","v":47730.471326641869},47497.448824228704,81192.282948126274,80521.949141897014,670.33380622926688,31935739.356984306,31685176.983221255,250562.37376304093,699469.39996941353,694371.48730458634,5097.912664827064,1402840.2266311187,1393690.6232949356,9149.6033361835343,51662.623502686285,51324.573118500361,338.05038418592483,20732211.90462799,20604893.526948005,127318.37767999162,469232.41068335593,466620.09571724868,2612.3149661072771,1003316.2564981473,998612.71634927357,4703.5401488738898]
["Female <1",0.5,"female",1,1,{"$f":"HLOOKUP('III Tool Overview'!$H$6,LookUpData_Pop!$B$1:$AV$269,LookUpData_Pop!BB87,FALSE)/50","v":279.68},{"$f":"'III Tool Overview'!$H$9/110","v":0},{"$f":"F87","v":279.68},{"$f":"IF('III Tool Overview'!$H$6=\"Orkney Health Board\",0,IF('III Tool Overview'!$H$6=\"Shetland Health Board\",0,IF('III Tool Overview'!$H$6=\"Western Isles Health Board\",0,IF('III Tool Overview'!$H$6=\"Orkney Islands Local Authority\",0,IF('III Tool Overview'!$H$6=\"Shetland Islands Local Authority\",0,IF('III Tool Overview'!$H$6=\"Eilean Siar Local Authority\",0,new_ci(2,B87,C87,D87,$C$1,G87,1,F87,F87,SIMDrateratios,RateRatios!$B$3)*10))))))","v":0.26084500534950905},{"$f":"IF('III Tool Overview'!$H$6=\"Orkney Health Board\",0,IF('III Tool Overview'!$H$6=\"Shetland Health Board\",0,IF('III Tool Overview'!$H$6=\"Western Isles Health Board\",0,IF('III Tool Overview'!$H$6=\"Orkney Islands Local Authority\",0,IF('III Tool Overview'!$H$6=\"Shetland Islands Local Authority\",0,IF('III Tool Overview'!$H$6=\"Eilean Siar Local Authority\",0,new_ci(2,B87,C87,D87,$C$1,G87+H87,1,H87,H87,SIMDrateratios,RateRatios!$B$3)*10))))))","v":0.25864896567202678},{"$f":"IF('III Tool Overview'!$H$6=\"Orkney Health Board\",0,IF('III Tool Overview'!$H$6=\"Shetland Health Board\",0,IF('III Tool Overview'!$H$6=\"Western Isles Health Board\",0,IF('III Tool Overview'!$H$6=\"Orkney Islands Local Authority\",0,IF('III Tool Overview'!$H$6=\"Shetland Islands Local Authority\",0,IF('III Tool Overview'!$H$6=\"Eilean Siar Local Authority\",0,new_ci(5,B87,C87,D87,$C$1,G87,1,F87,F87,SIMDrateratios,RateRatios!$B$3)*1000))))))","v":115.84642997637971},{"$f":"IF('III Tool Overview'!$H$6=\"Orkney Health Board\",0,IF('III Tool Overview'!$H$6=\"Shetland Health Board\",0,IF('III Tool Overview'!$H$6=\"Western Isles Health Board\",0,IF('III Tool Overview'!$H$6=\"Orkney Islands Local Authority\",0,IF('III Tool Overview'!$H$6=\"Shetland Islands Local Authority\",0,IF('III Tool Overview'!$H$6=\"Eilean Siar Local Authority\",0,new_ci(5,B87,C87,D87,$C$1,H87,1,F87,F87,SIMDrateratios,RateRatios!$B$3)*1000))))))","v":114.87128051479577},{"$f":"IF('III Tool Overview'!$H$6=\"Orkney Health Board\",0,IF('III Tool Overview'!$H$6=\"Shetland Health Board\",0,IF('III Tool Overview'!$H$6=\"Western Isles Health Board\",0,IF('III Tool Overview'!$H$6=\"Orkney Islands Local Authority\",0,IF('III Tool Overview'!$H$6=\"Shetland Islands Local Authority\",0,IF('III Tool Overview'!$H$6=\"Eilean Siar Local Authority\",0,new_ci(10,B87,C87,D87,$C$1,G87,1,F87,F87,SIMDrateratios,RateRatios!$B$3)*10))))))","v":3.126685169020802},{"$f":"IF('III Tool Overview'!$H$6=\"Orkney Health Board\",0,IF('III Tool Overview'!$H$6=\"Shetland Health Board\",0,IF('III Tool Overview'!$H$6=\"Western Isles Health Board\",0,IF('III Tool Overview'!$H$6=\"Orkney Islands Local Authority\",0,IF('III Tool Overview'!$H$6=\"Shetland Islands Local Authority\",0,IF('III Tool Overview'!$H$6=\"Eilean Siar Local Authority\",0,new_ci(10,B87,C87,D87,$C$1,G87+H87,1,F87,F87,SIMDrateratios,RateRatios!$B$3)*10))))))","v":3.1003751587063233},{"$f":"IF('III Tool Overview'!$H$6=\"Orkney Health Board\",0,IF('III Tool Overview'!$H$6=\"Shetland Health Board\",0,IF('III Tool Overview'!$H$6=\"Western Isles Health Board\",0,IF('III Tool Overview'!$H$6=\"Orkney Islands Local Authority\",0,IF('III Tool Overview'!$H$6=\"Shetland Islands Local Authority\",0,IF('III Tool Overview'!$H$6=\"Eilean Siar Local Authority\",0,new_ci(20,B87,C87,D87,$C$1,G87,1,F87,F87,SIMDrateratios,RateRatios!$B$3)*10))))))","v":9.7634869290520339},{"$f":"IF('III Tool Overview'!$H$6=\"Orkney Health Board\",0,IF('III Tool Overview'!$H$6=\"Shetland Health Board\",0,IF('III Tool Overview'!$H$6=\"Western Isles Health Board\",0,IF('III Tool Overview'!$H$6=\"Orkney Islands Local Authority\",0,IF('III Tool Overview'!$H$6=\"Shetland Islands Local Authority\",0,IF('III Tool Overview'!$H$6=\"Eilean Siar Local Authority\",0,new_ci(20,B87,C87,D87,$C$1,G87+H87,1,F87,F87,SIMDrateratios,RateRatios!$B$3)*10))))))","v":9.681427313453483},{"$f":"IF('III Tool Overview'!$H$6=\"Orkney Health Board\",0,IF('III Tool Overview'!$H$6=\"Shetland Health Board\",0,IF('III Tool Overview'!$H$6=\"Western Isles Health Board\",0,IF('III Tool Overview'!$H$6=\"Orkney Islands Local Authority\",0,IF('III Tool Overview'!$H$6=\"Shetland Islands Local Authority\",0,IF('III Tool Overview'!$H$6=\"Eilean Siar Local Authority\",0,new_yll(2,B87,C87,D87,$C$1,G87,1,F87,F87,SIMDrateratios,RateRatios!$B$3)*10))))))","v":25.823655529601396},{"$f":"IF('III Tool Overview'!$H$6=\"Orkney Health Board\",0,IF('III Tool Overview'!$H$6=\"Shetland Health Board\",0,IF('III Tool Overview'!$H$6=\"Western Isles Health Board\",0,IF('III Tool Overview'!$H$6=\"Orkney Islands Local Authority\",0,IF('III Tool Overview'!$H$6=\"Shetland Islands Local Authority\",0,IF('III Tool Overview'!$H$6=\"Eilean Siar Local Authority\",0,new_yll(2,B87,C87,D87,$C$1,G87+H87,1,F87,F87,SIMDrateratios,RateRatios!$B$3)*10))))))","v":25.606247601530651},{"$f":"Q87-R87","v":0.21740792807074527},{"$f":"IF('III Tool Overview'!$H$6=\"Orkney Health Board\",0,IF('III Tool Overview'!$H$6=\"Shetland Health Board\",0,IF('III Tool Overview'!$H$6=\"Western Isles Health Board\",0,IF('III Tool Overview'!$H$6=\"Orkney Islands Local Authority\",0,IF('III Tool Overview'!$H$6=\"Shetland Islands Local Authority\",0,IF('III Tool Overview'!$H$6=\"Eilean Siar Local Authority\",0,new_yll(5,B87,C87,D87,$C$1,G87,1,F87,F87,SIMDrateratios,RateRatios!$B$3)*1000))))))","v":11285.216710228422},{"$f":"IF('III Tool Overview'!$H$6=\"Orkney Health Board\",0,IF('III Tool Overview'!$H$6=\"Shetland Health Board\",0,IF('III Tool Overview'!$H$6=\"Western Isles Health Board\",0,IF('III Tool Overview'!$H$6=\"Orkney Islands Local Authority\",0,IF('III Tool Overview'!$H$6=\"Shetland Islands Local Authority\",0,IF('III Tool Overview'!$H$6=\"Eilean Siar Local Authority\",0,new_yll(5,B87,C87,D87,$C$1,G87+H87,1,F87,F87,SIMDrateratios,RateRatios!$B$3)*1000))))))","v":11190.222091374806},{"$f":"T87-U87","v":94.994618853615975},{"$f":"IF('III Tool Overview'!$H$6=\"Orkney Health Board\",0,IF('III Tool Overview'!$H$6=\"Shetland Health Board\",0,IF('III Tool Overview'!$H$6=\"Western Isles Health Board\",0,IF('III Tool Overview'!$H$6=\"Orkney Islands Local Authority\",0,IF('III Tool Overview'!$H$6=\"Shetland Islands Local Authority\",0,IF('III Tool Overview'!$H$6=\"Eilean Siar Local Authority\",0,new_yll(10,B87,C87,D87,$C$1,G87,1,F87,F87,SIMDrateratios,RateRatios!$B$3)*10))))))","v":295.63035812678902},{"$f":"IF('III Tool Overview'!$H$6=\"Orkney Health Board\",0,IF('III Tool Overview'!$H$6=\"Shetland Health Board\",0,IF('III Tool Overview'!$H$6=\"Western Isles Health Board\",0,IF('III Tool Overview'!$H$6=\"Orkney Islands Local Authority\",0,IF('III Tool Overview'!$H$6=\"Shetland Islands Local Authority\",0,IF('III Tool Overview'!$H$6=\"Eilean Siar Local Authority\",0,new_yll(10,B87,C87,D87,$C$1,G87+H87,1,F87,F87,SIMDrateratios,RateRatios!$B$3)*10))))))","v":293.14270615329116},{"$f":"W87-X87","v":2.4876519734978615},{"$f":"IF('III Tool Overview'!$H$6=\"Orkney Health Board\",0,IF('III Tool Overview'!$H$6=\"Shetland Health Board\",0,IF('III Tool Overview'!$H$6=\"Western Isles Health Board\",0,IF('III Tool Overview'!$H$6=\"Orkney Islands Local Authority\",0,IF('III Tool Overview'!$H$6=\"Shetland Islands Local Authority\",0,IF('III Tool Overview'!$H$6=\"Eilean Siar Local Authority\",0,new_yll(20,B87,C87,D87,$C$1,G87,1,F87,F87,SIMDrateratios,RateRatios!$B$3)*10))))))","v":859.39842435215439},{"$f":"IF('III Tool Overview'!$H$6=\"Orkney Health Board\",0,IF('III Tool Overview'!$H$6=\"Shetland Health Board\",0,IF('III Tool Overview'!$H$6=\"Western Isles Health Board\",0,IF('III Tool Overview'!$H$6=\"Orkney Islands Local Authority\",0,IF('III Tool Overview'!$H$6=\"Shetland Islands Local Authority\",0,IF('III Tool Overview'!$H$6=\"Eilean Siar Local Authority\",0,new_yll(20,B87,C87,D87,$C$1,G87+H87,1,F87,F87,SIMDrateratios,RateRatios!$B$3)*10))))))","v":852.17497362762106},{"$f":"Z87-AA87","v":7.2234507245333361},{"$f":"IF('III Tool Overview'!$H$6=\"Orkney Health Board\",0,IF('III Tool Overview'!$H$6=\"Shetland Health Board\",0,IF('III Tool Overview'!$H$6=\"Western Isles Health Board\",0,IF('III Tool Overview'!$H$6=\"Orkney Islands Local Authority\",0,IF('III Tool Overview'!$H$6=\"Shetland Islands Local Authority\",0,IF('III Tool Overview'!$H$6=\"Eilean Siar Local Authority\",0,hosp_count(2,B87,C87,D87,$C$1,G87,1,F87,F87,SIMDRateRatios_hosp,SIMDrateratios,RateRatios!$B$3)*10))))))","v":256.13394181356847},{"$f":"IF('III Tool Overview'!$H$6=\"Orkney Health Board\",0,IF('III Tool Overview'!$H$6=\"Shetland Health Board\",0,IF('III Tool Overview'!$H$6=\"Western Isles Health Board\",0,IF('III Tool Overview'!$H$6=\"Orkney Islands Local Authority\",0,IF('III Tool Overview'!$H$6=\"Shetland Islands Local Authority\",0,IF('III Tool Overview'!$H$6=\"Eilean Siar Local Authority\",0,hosp_count(2,B87,C87,D87,$C$1,G87+H87,1,F87,F87,SIMDRateRatios_hosp,SIMDrateratios,RateRatios!$B$3)*10))))))","v":254.45587803360266},{"$f":"AC87-AD87","v":1.6780637799658109},{"$f":"IF('III Tool Overview'!$H$6=\"Orkney Health Board\",0,IF('III Tool Overview'!$H$6=\"Shetland Health Board\",0,IF('III Tool Overview'!$H$6=\"Western Isles Health Board\",0,IF('III Tool Overview'!$H$6=\"Orkney Islands Local Authority\",0,IF('III Tool Overview'!$H$6=\"Shetland Islands Local Authority\",0,IF('III Tool Overview'!$H$6=\"Eilean Siar Local Authority\",0,hosp_count(5,B87,C87,D87,$C$1,G87,1,F87,F87,SIMDRateRatios_hosp,SIMDrateratios,RateRatios!$B$3)*1000))))))","v":106604.04063283683},{"$f":"IF('III Tool Overview'!$H$6=\"Orkney Health Board\",0,IF('III Tool Overview'!$H$6=\"Shetland Health Board\",0,IF('III Tool Overview'!$H$6=\"Western Isles Health Board\",0,IF('III Tool Overview'!$H$6=\"Orkney Islands Local Authority\",0,IF('III Tool Overview'!$H$6=\"Shetland Islands Local Authority\",0,IF('III Tool Overview'!$H$6=\"Eilean Siar Local Authority\",0,hosp_count(5,B87,C87,D87,$C$1,G87+H87,1,F87,F87,SIMDRateRatios_hosp,SIMDrateratios,RateRatios!$B$3)*1000))))))","v":105905.75693511231},{"$f":"AF87-AG87","v":698.28369772451697},{"$f":"IF('III Tool Overview'!$H$6=\"Orkney Health Board\",0,IF('III Tool Overview'!$H$6=\"Shetland Health Board\",0,IF('III Tool Overview'!$H$6=\"Western Isles Health Board\",0,IF('III Tool Overview'!$H$6=\"Orkney Islands Local Authority\",0,IF('III Tool Overview'!$H$6=\"Shetland Islands Local Authority\",0,IF('III Tool Overview'!$H$6=\"Eilean Siar Local Authority\",0,hosp_count(10,B87,C87,D87,$C$1,G87,1,F87,F87,SIMDRateRatios_hosp,SIMDrateratios,RateRatios!$B$3)*10))))))","v":2565.5058284065631},{"$f":"IF('III Tool Overview'!$H$6=\"Orkney Health Board\",0,IF('III Tool Overview'!$H$6=\"Shetland Health Board\",0,IF('III Tool Overview'!$H$6=\"Western Isles Health Board\",0,IF('III Tool Overview'!$H$6=\"Orkney Islands Local Authority\",0,IF('III Tool Overview'!$H$6=\"Shetland Islands Local Authority\",0,IF('III Tool Overview'!$H$6=\"Eilean Siar Local Authority\",0,hosp_count(10,B87,C87,D87,$C$1,G87+H87,1,F87,F87,SIMDRateRatios_hosp,SIMDrateratios,RateRatios!$B$3)*10))))))","v":2548.7078093498235},{"$f":"AI87-AJ87","v":16.798019056739577},{"$f":"IF('III Tool Overview'!$H$6=\"Orkney Health Board\",0,IF('III Tool Overview'!$H$6=\"Shetland Health Board\",0,IF('III Tool Overview'!$H$6=\"Western Isles Health Board\",0,IF('III Tool Overview'!$H$6=\"Orkney Islands Local Authority\",0,IF('III Tool Overview'!$H$6=\"Shetland Islands Local Authority\",0,IF('III Tool Overview'!$H$6=\"Eilean Siar Local Authority\",0,hosp_count(20,B87,C87,D87,$C$1,G87,1,F87,F87,SIMDRateRatios_hosp,SIMDrateratios,RateRatios!$B$3)*10))))))","v":6220.666400357466},{"$f":"IF('III Tool Overview'!$H$6=\"Orkney Health Board\",0,IF('III Tool Overview'!$H$6=\"Shetland Health Board\",0,IF('III Tool Overview'!$H$6=\"Western Isles Health Board\",0,IF('III Tool Overview'!$H$6=\"Orkney Islands Local Authority\",0,IF('III Tool Overview'!$H$6=\"Shetland Islands Local Authority\",0,IF('III Tool Overview'!$H$6=\"Eilean Siar Local Authority\",0,hosp_count(20,B87,C87,D87,$C$1,G87+H87,1,F87,F87,SIMDRateRatios_hosp,SIMDrateratios,RateRatios!$B$3)*10))))))","v":6179.9859425018985},{"$f":"AL87-AM87","v":40.680457855567511}]
["Female 1-4",2.5,"female",1,1,{"$f":"HLOOKUP('III Tool Overview'!$H$6,LookUpData_Pop!$B$1:$AV$269,LookUpData_Pop!BB88,FALSE)/50","v":1011.58},{"$f":"'III Tool Overview'!$H$9/110","v":0},{"$f":"F88","v":1011.58},{"$f":"IF('III Tool Overview'!$H$6=\"Orkney Health Board\",0,IF('III Tool Overview'!$H$6=\"Shetland Health Board\",0,IF('III Tool Overview'!$H$6=\"Western Isles Health Board\",0,IF('III Tool Overview'!$H$6=\"Orkney Islands Local Authority\",0,IF('III Tool Overview'!$H$6=\"Shetland Islands Local Authority\",0,IF('III Tool Overview'!$H$6=\"Eilean Siar Local Authority\",0,new_ci(2,B88,C88,D88,$C$1,G88,1,F88,F88,SIMDrateratios,RateRatios!$B$3)*10))))))","v":1.1114222589085623},{"$f":"IF('III Tool Overview'!$H$6=\"Orkney Health Board\",0,IF('III Tool Overview'!$H$6=\"Shetland Health Board\",0,IF('III Tool Overview'!$H$6=\"Western Isles Health Board\",0,IF('III Tool Overview'!$H$6=\"Orkney Islands Local Authority\",0,IF('III Tool Overview'!$H$6=\"Shetland Islands Local Authority\",0,IF('III Tool Overview'!$H$6=\"Eilean Siar Local Authority\",0,new_ci(2,B88,C88,D88,$C$1,G88+H88,1,H88,H88,SIMDrateratios,RateRatios!$B$3)*10))))))","v":1.1020721465502428},{"$f":"IF('III Tool Overview'!$H$6=\"Orkney Health Board\",0,IF('III Tool Overview'!$H$6=\"Shetland Health Board\",0,IF('III Tool Overview'!$H$6=\"Western Isles Health Board\",0,IF('III Tool Overview'!$H$6=\"Orkney Islands Local Authority\",0,IF('III Tool Overview'!$H$6=\"Shetland Islands Local Authority\",0,IF('III Tool Overview'!$H$6=\"Eilean Siar Local Authority\",0,new_ci(5,B88,C88,D88,$C$1,G88,1,F88,F88,SIMDrateratios,RateRatios!$B$3)*1000))))))","v":493.59051948717581},{"$f":"IF('III Tool Overview'!$H$6=\"Orkney Health Board\",0,IF('III Tool Overview'!$H$6=\"Shetland Health Board\",0,IF('III Tool Overview'!$H$6=\"Western Isles Health Board\",0,IF('III Tool Overview'!$H$6=\"Orkney Islands Local Authority\",0,IF('III Tool Overview'!$H$6=\"Shetland Islands Local Authority\",0,IF('III Tool Overview'!$H$6=\"Eilean Siar Local Authority\",0,new_ci(5,B88,C88,D88,$C$1,H88,1,F88,F88,SIMDrateratios,RateRatios!$B$3)*1000))))))","v":489.43884673256798},{"$f":"IF('III Tool Overview'!$H$6=\"Orkney Health Board\",0,IF('III Tool Overview'!$H$6=\"Shetland Health Board\",0,IF('III Tool Overview'!$H$6=\"Western Isles Health Board\",0,IF('III Tool Overview'!$H$6=\"Orkney Islands Local Authority\",0,IF('III Tool Overview'!$H$6=\"Shetland Islands Local Authority\",0,IF('III Tool Overview'!$H$6=\"Eilean Siar Local Authority\",0,new_ci(10,B88,C88,D88,$C$1,G88,1,F88,F88,SIMDrateratios,RateRatios!$B$3)*10))))))","v":13.321130637049801},{"$f":"IF('III Tool Overview'!$H$6=\"Orkney Health Board\",0,IF('III Tool Overview'!$H$6=\"Shetland Health Board\",0,IF('III Tool Overview'!$H$6=\"Western Isles Health Board\",0,IF('III Tool Overview'!$H$6=\"Orkney Islands Local Authority\",0,IF('III Tool Overview'!$H$6=\"Shetland Islands Local Authority\",0,IF('III Tool Overview'!$H$6=\"Eilean Siar Local Authority\",0,new_ci(10,B88,C88,D88,$C$1,G88+H88,1,F88,F88,SIMDrateratios,RateRatios!$B$3)*10))))))","v":13.209130457535899},{"$f":"IF('III Tool Overview'!$H$6=\"Orkney Health Board\",0,IF('III Tool Overview'!$H$6=\"Shetland Health Board\",0,IF('III Tool Overview'!$H$6=\"Western Isles Health Board\",0,IF('III Tool Overview'!$H$6=\"Orkney Islands Local Authority\",0,IF('III Tool Overview'!$H$6=\"Shetland Islands Local Authority\",0,IF('III Tool Overview'!$H$6=\"Eilean Siar Local Authority\",0,new_ci(20,B88,C88,D88,$C$1,G88,1,F88,F88,SIMDrateratios,RateRatios!$B$3)*10))))))","v":41.588188514001601},{"$f":"IF('III Tool Overview'!$H$6=\"Orkney Health Board\",0,IF('III Tool Overview'!$H$6=\"Shetland Health Board\",0,IF('III Tool Overview'!$H$6=\"Western Isles Health Board\",0,IF('III Tool Overview'!$H$6=\"Orkney Islands Local Authority\",0,IF('III Tool Overview'!$H$6=\"Shetland Islands Local Authority\",0,IF('III Tool Overview'!$H$6=\"Eilean Siar Local Authority\",0,new_ci(20,B88,C88,D88,$C$1,G88+H88,1,F88,F88,SIMDrateratios,RateRatios!$B$3)*10))))))","v":41.239012791928431},{"$f":"IF('III Tool Overview'!$H$6=\"Orkney Health Board\",0,IF('III Tool Overview'!$H$6=\"Shetland Health Board\",0,IF('III Tool Overview'!$H$6=\"Western Isles Health Board\",0,IF('III Tool Overview'!$H$6=\"Orkney Islands Local Authority\",0,IF('III Tool Overview'!$H$6=\"Shetland Islands Local Authority\",0,IF('III Tool Overview'!$H$6=\"Eilean Siar Local Authority\",0,new_yll(2,B88,C88,D88,$C$1,G88,1,F88,F88,SIMDrateratios,RateRatios!$B$3)*10))))))","v":107.80795911413053},{"$f":"IF('III Tool Overview'!$H$6=\"Orkney Health Board\",0,IF('III Tool Overview'!$H$6=\"Shetland Health Board\",0,IF('III Tool Overview'!$H$6=\"Western Isles Health Board\",0,IF('III Tool Overview'!$H$6=\"Orkney Islands Local Authority\",0,IF('III Tool Overview'!$H$6=\"Shetland Islands Local Authority\",0,IF('III Tool Overview'!$H$6=\"Eilean Siar Local Authority\",0,new_yll(2,B88,C88,D88,$C$1,G88+H88,1,F88,F88,SIMDrateratios,RateRatios!$B$3)*10))))))","v":106.90099821537353},{"$f":"Q88-R88","v":0.90696089875699215},{"$f":"IF('III Tool Overview'!$H$6=\"Orkney Health Board\",0,IF('III Tool Overview'!$H$6=\"Shetland Health Board\",0,IF('III Tool Overview'!$H$6=\"Western Isles Health Board\",0,IF('III Tool Overview'!$H$6=\"Orkney Islands Local Authority\",0,IF('III Tool Overview'!$H$6=\"Shetland Islands Local Authority\",0,IF('III Tool Overview'!$H$6=\"Eilean Siar Local Authority\",0,new_yll(5,B88,C88,D88,$C$1,G88,1,F88,F88,SIMDrateratios,RateRatios!$B$3)*1000))))))","v":47096.107274624097},{"$f":"IF('III Tool Overview'!$H$6=\"Orkney Health Board\",0,IF('III Tool Overview'!$H$6=\"Shetland Health Board\",0,IF('III Tool Overview'!$H$6=\"Western Isles Health Board\",0,IF('III Tool Overview'!$H$6=\"Orkney Islands Local Authority\",0,IF('III Tool Overview'!$H$6=\"Shetland Islands Local Authority\",0,IF('III Tool Overview'!$H$6=\"Eilean Siar Local Authority\",0,new_yll(5,B88,C88,D88,$C$1,G88+H88,1,F88,F88,SIMDrateratios,RateRatios!$B$3)*1000))))))","v":46699.97338070409},{"$f":"T88-U88","v":396.13389392000681},{"$f":"IF('III Tool Overview'!$H$6=\"Orkney Health Board\",0,IF('III Tool Overview'!$H$6=\"Shetland Health Board\",0,IF('III Tool Overview'!$H$6=\"Western Isles Health Board\",0,IF('III Tool Overview'!$H$6=\"Orkney Islands Local Authority\",0,IF('III Tool Overview'!$H$6=\"Shetland Islands Local Authority\",0,IF('III Tool Overview'!$H$6=\"Eilean Siar Local Authority\",0,new_yll(10,B88,C88,D88,$C$1,G88,1,F88,F88,SIMDrateratios,RateRatios!$B$3)*10))))))","v":1232.8822747026086},{"$f":"IF('III Tool Overview'!$H$6=\"Orkney Health Board\",0,IF('III Tool Overview'!$H$6=\"Shetland Health Board\",0,IF('III Tool Overview'!$H$6=\"Western Isles Health Board\",0,IF('III Tool Overview'!$H$6=\"Orkney Islands Local Authority\",0,IF('III Tool Overview'!$H$6=\"Shetland Islands Local Authority\",0,IF('III Tool Overview'!$H$6=\"Eilean Siar Local Authority\",0,new_yll(10,B88,C88,D88,$C$1,G88+H88,1,F88,F88,SIMDrateratios,RateRatios!$B$3)*10))))))","v":1222.51645318497},{"$f":"W88-X88","v":10.365821517638551},{"$f":"IF('III Tool Overview'!$H$6=\"Orkney Health Board\",0,IF('III Tool Overview'!$H$6=\"Shetland Health Board\",0,IF('III Tool Overview'!$H$6=\"Western Isles Health Board\",0,IF('III Tool Overview'!$H$6=\"Orkney Islands Local Authority\",0,IF('III Tool Overview'!$H$6=\"Shetland Islands Local Authority\",0,IF('III Tool Overview'!$H$6=\"Eilean Siar Local Authority\",0,new_yll(20,B88,C88,D88,$C$1,G88,1,F88,F88,SIMDrateratios,RateRatios!$B$3)*10))))))","v":3577.5241549055982},{"$f":"IF('III Tool Overview'!$H$6=\"Orkney Health Board\",0,IF('III Tool Overview'!$H$6=\"Shetland Health Board\",0,IF('III Tool Overview'!$H$6=\"Western Isles Health Board\",0,IF('III Tool Overview'!$H$6=\"Orkney Islands Local Authority\",0,IF('III Tool Overview'!$H$6=\"Shetland Islands Local Authority\",0,IF('III Tool Overview'!$H$6=\"Eilean Siar Local Authority\",0,new_yll(20,B88,C88,D88,$C$1,G88+H88,1,F88,F88,SIMDrateratios,RateRatios!$B$3)*10))))))","v":3547.4850132563638},{"$f":"Z88-AA88","v":30.039141649234352},{"$f":"IF('III Tool Overview'!$H$6=\"Orkney Health Board\",0,IF('III Tool Overview'!$H$6=\"Shetland Health Board\",0,IF('III Tool Overview'!$H$6=\"Western Isles Health Board\",0,IF('III Tool Overview'!$H$6=\"Orkney Islands Local Authority\",0,IF('III Tool Overview'!$H$6=\"Shetland Islands Local Authority\",0,IF('III Tool Overview'!$H$6=\"Eilean Siar Local Authority\",0,hosp_count(2,B88,C88,D88,$C$1,G88,1,F88,F88,SIMDRateRatios_hosp,SIMDrateratios,RateRatios!$B$3)*10))))))","v":973.22454774050561},{"$f":"IF('III Tool Overview'!$H$6=\"Orkney Health Board\",0,IF('III Tool Overview'!$H$6=\"Shetland Health Board\",0,IF('III Tool Overview'!$H$6=\"Western Isles Health Board\",0,IF('III Tool Overview'!$H$6=\"Orkney Islands Local Authority\",0,IF('III Tool Overview'!$H$6=\"Shetland Islands Local Authority\",0,IF('III Tool Overview'!$H$6=\"Eilean Siar Local Authority\",0,hosp_count(2,B88,C88,D88,$C$1,G88+H88,1,F88,F88,SIMDRateRatios_hosp,SIMDrateratios,RateRatios!$B$3)*10))))))","v":966.85310121093892},{"$f":"AC88-AD88","v":6.3714465295666969},{"$f":"IF('III Tool Overview'!$H$6=\"Orkney Health Board\",0,IF('III Tool Overview'!$H$6=\"Shetland Health Board\",0,IF('III Tool Overview'!$H$6=\"Western Isles Health Board\",0,IF('III Tool Overview'!$H$6=\"Orkney Islands Local Authority\",0,IF('III Tool Overview'!$H$6=\"Shetland Islands Local Authority\",0,IF('III Tool Overview'!$H$6=\"Eilean Siar Local Authority\",0,hosp_count(5,B88,C88,D88,$C$1,G88,1,F88,F88,SIMDRateRatios_hosp,SIMDrateratios,RateRatios!$B$3)*1000))))))","v":405049.40712260816},{"$f":"IF('III Tool Overview'!$H$6=\"Orkney Health Board\",0,IF('III Tool Overview'!$H$6=\"Shetland Health Board\",0,IF('III Tool Overview'!$H$6=\"Western Isles Health Board\",0,IF('III Tool Overview'!$H$6=\"Orkney Islands Local Authority\",0,IF('III Tool Overview'!$H$6=\"Shetland Islands Local Authority\",0,IF('III Tool Overview'!$H$6=\"Eilean Siar Local Authority\",0,hosp_count(5,B88,C88,D88,$C$1,G88+H88,1,F88,F88,SIMDRateRatios_hosp,SIMDrateratios,RateRatios!$B$3)*1000))))))","v":402398.2522354871},{"$f":"AF88-AG88","v":2651.1548871210543},{"$f":"IF('III Tool Overview'!$H$6=\"Orkney Health Board\",0,IF('III Tool Overview'!$H$6=\"Shetland Health Board\",0,IF('III Tool Overview'!$H$6=\"Western Isles Health Board\",0,IF('III Tool Overview'!$H$6=\"Orkney Islands Local Authority\",0,IF('III Tool Overview'!$H$6=\"Shetland Islands Local Authority\",0,IF('III Tool Overview'!$H$6=\"Eilean Siar Local Authority\",0,hosp_count(10,B88,C88,D88,$C$1,G88,1,F88,F88,SIMDRateRatios_hosp,SIMDrateratios,RateRatios!$B$3)*10))))))","v":9747.2745779702},{"$f":"IF('III Tool Overview'!$H$6=\"Orkney Health Board\",0,IF('III Tool Overview'!$H$6=\"Shetland Health Board\",0,IF('III Tool Overview'!$H$6=\"Western Isles Health Board\",0,IF('III Tool Overview'!$H$6=\"Orkney Islands Local Authority\",0,IF('III Tool Overview'!$H$6=\"Shetland Islands Local Authority\",0,IF('III Tool Overview'!$H$6=\"Eilean Siar Local Authority\",0,hosp_count(10,B88,C88,D88,$C$1,G88+H88,1,F88,F88,SIMDRateRatios_hosp,SIMDrateratios,RateRatios!$B$3)*10))))))","v":9683.5060648709405},{"$f":"AI88-AJ88","v":63.768513099259508},{"$f":"IF('III Tool Overview'!$H$6=\"Orkney Health Board\",0,IF('III Tool Overview'!$H$6=\"Shetland Health Board\",0,IF('III Tool Overview'!$H$6=\"Western Isles Health Board\",0,IF('III Tool Overview'!$H$6=\"Orkney Islands Local Authority\",0,IF('III Tool Overview'!$H$6=\"Shetland Islands Local Authority\",0,IF('III Tool Overview'!$H$6=\"Eilean Siar Local Authority\",0,hosp_count(20,B88,C88,D88,$C$1,G88,1,F88,F88,SIMDRateRatios_hosp,SIMDrateratios,RateRatios!$B$3)*10))))))","v":23630.474054789855},{"$f":"IF('III Tool Overview'!$H$6=\"Orkney Health Board\",0,IF('III Tool Overview'!$H$6=\"Shetland Health Board\",0,IF('III Tool Overview'!$H$6=\"Western Isles Health Board\",0,IF('III Tool Overview'!$H$6=\"Orkney Islands Local Authority\",0,IF('III Tool Overview'!$H$6=\"Shetland Islands Local Authority\",0,IF('III Tool Overview'!$H$6=\"Eilean Siar Local Authority\",0,hosp_count(20,B88,C88,D88,$C$1,G88+H88,1,F88,F88,SIMDRateRatios_hosp,SIMDrateratios,RateRatios!$B$3)*10))))))","v":23476.103705610156},{"$f":"AL88-AM88","v":154.37034917969868}]
["Female 5-9",7.5,"female",1,1,{"$f":"HLOOKUP('III Tool Overview'!$H$6,LookUpData_Pop!$B$1:$AV$269,LookUpData_Pop!BB89,FALSE)/50","v":1091.22},{"$f":"'III Tool Overview'!$H$9/110","v":0},1091.22,{"$f":"IF('III Tool Overview'!$H$6=\"Orkney Health Board\",0,IF('III Tool Overview'!$H$6=\"Shetland Health Board\",0,IF('III Tool Overview'!$H$6=\"Western Isles Health Board\",0,IF('III Tool Overview'!$H$6=\"Orkney Islands Local Authority\",0,IF('III Tool Overview'!$H$6=\"Shetland Islands Local Authority\",0,IF('III Tool Overview'!$H$6=\"Eilean Siar Local Authority\",0,new_ci(2,B89,C89,D89,$C$1,G89,1,F89,F89,SIMDrateratios,RateRatios!$B$3)*10))))))","v":1.9600180408265762},{"$f":"IF('III Tool Overview'!$H$6=\"Orkney Health Board\",0,IF('III Tool Overview'!$H$6=\"Shetland Health Board\",0,IF('III Tool Overview'!$H$6=\"Western Isles Health Board\",0,IF('III Tool Overview'!$H$6=\"Orkney Islands Local Authority\",0,IF('III Tool Overview'!$H$6=\"Shetland Islands Local Authority\",0,IF('III Tool Overview'!$H$6=\"Eilean Siar Local Authority\",0,new_ci(2,B89,C89,D89,$C$1,G89+H89,1,H89,H89,SIMDrateratios,RateRatios!$B$3)*10))))))","v":1.9435396445433413},{"$f":"IF('III Tool Overview'!$H$6=\"Orkney Health Board\",0,IF('III Tool Overview'!$H$6=\"Shetland Health Board\",0,IF('III Tool Overview'!$H$6=\"Western Isles Health Board\",0,IF('III Tool Overview'!$H$6=\"Orkney Islands Local Authority\",0,IF('III Tool Overview'!$H$6=\"Shetland Islands Local Authority\",0,IF('III Tool Overview'!$H$6=\"Eilean Siar Local Authority\",0,new_ci(5,B89,C89,D89,$C$1,G89,1,F89,F89,SIMDrateratios,RateRatios!$B$3)*1000))))))","v":870.35345593327281},{"$f":"IF('III Tool Overview'!$H$6=\"Orkney Health Board\",0,IF('III Tool Overview'!$H$6=\"Shetland Health Board\",0,IF('III Tool Overview'!$H$6=\"Western Isles Health Board\",0,IF('III Tool Overview'!$H$6=\"Orkney Islands Local Authority\",0,IF('III Tool Overview'!$H$6=\"Shetland Islands Local Authority\",0,IF('III Tool Overview'!$H$6=\"Eilean Siar Local Authority\",0,new_ci(5,B89,C89,D89,$C$1,H89,1,F89,F89,SIMDrateratios,RateRatios!$B$3)*1000))))))","v":863.03840436413645},{"$f":"IF('III Tool Overview'!$H$6=\"Orkney Health Board\",0,IF('III Tool Overview'!$H$6=\"Shetland Health Board\",0,IF('III Tool Overview'!$H$6=\"Western Isles Health Board\",0,IF('III Tool Overview'!$H$6=\"Orkney Islands Local Authority\",0,IF('III Tool Overview'!$H$6=\"Shetland Islands Local Authority\",0,IF('III Tool Overview'!$H$6=\"Eilean Siar Local Authority\",0,new_ci(10,B89,C89,D89,$C$1,G89,1,F89,F89,SIMDrateratios,RateRatios!$B$3)*10))))))","v":23.483109430135606},{"$f":"IF('III Tool Overview'!$H$6=\"Orkney Health Board\",0,IF('III Tool Overview'!$H$6=\"Shetland Health Board\",0,IF('III Tool Overview'!$H$6=\"Western Isles Health Board\",0,IF('III Tool Overview'!$H$6=\"Orkney Islands Local Authority\",0,IF('III Tool Overview'!$H$6=\"Shetland Islands Local Authority\",0,IF('III Tool Overview'!$H$6=\"Eilean Siar Local Authority\",0,new_ci(10,B89,C89,D89,$C$1,G89+H89,1,F89,F89,SIMDrateratios,RateRatios!$B$3)*10))))))","v":23.285873878090626},{"$f":"IF('III Tool Overview'!$H$6=\"Orkney Health Board\",0,IF('III Tool Overview'!$H$6=\"Shetland Health Board\",0,IF('III Tool Overview'!$H$6=\"Western Isles Health Board\",0,IF('III Tool Overview'!$H$6=\"Orkney Islands Local Authority\",0,IF('III Tool Overview'!$H$6=\"Shetland Islands Local Authority\",0,IF('III Tool Overview'!$H$6=\"Eilean Siar Local Authority\",0,new_ci(20,B89,C89,D89,$C$1,G89,1,F89,F89,SIMDrateratios,RateRatios!$B$3)*10))))))","v":73.248493954056485},{"$f":"IF('III Tool Overview'!$H$6=\"Orkney Health Board\",0,IF('III Tool Overview'!$H$6=\"Shetland Health Board\",0,IF('III Tool Overview'!$H$6=\"Western Isles Health Board\",0,IF('III Tool Overview'!$H$6=\"Orkney Islands Local Authority\",0,IF('III Tool Overview'!$H$6=\"Shetland Islands Local Authority\",0,IF('III Tool Overview'!$H$6=\"Eilean Siar Local Authority\",0,new_ci(20,B89,C89,D89,$C$1,G89+H89,1,F89,F89,SIMDrateratios,RateRatios!$B$3)*10))))))","v":72.634673706893253},{"$f":"IF('III Tool Overview'!$H$6=\"Orkney Health Board\",0,IF('III Tool Overview'!$H$6=\"Shetland Health Board\",0,IF('III Tool Overview'!$H$6=\"Western Isles Health Board\",0,IF('III Tool Overview'!$H$6=\"Orkney Islands Local Authority\",0,IF('III Tool Overview'!$H$6=\"Shetland Islands Local Authority\",0,IF('III Tool Overview'!$H$6=\"Eilean Siar Local Authority\",0,new_yll(2,B89,C89,D89,$C$1,G89,1,F89,F89,SIMDrateratios,RateRatios!$B$3)*10))))))","v":178.36164171521841},{"$f":"IF('III Tool Overview'!$H$6=\"Orkney Health Board\",0,IF('III Tool Overview'!$H$6=\"Shetland Health Board\",0,IF('III Tool Overview'!$H$6=\"Western Isles Health Board\",0,IF('III Tool Overview'!$H$6=\"Orkney Islands Local Authority\",0,IF('III Tool Overview'!$H$6=\"Shetland Islands Local Authority\",0,IF('III Tool Overview'!$H$6=\"Eilean Siar Local Authority\",0,new_yll(2,B89,C89,D89,$C$1,G89+H89,1,F89,F89,SIMDrateratios,RateRatios!$B$3)*10))))))","v":176.86210765344407},1.4995340617743409,{"$f":"IF('III Tool Overview'!$H$6=\"Orkney Health Board\",0,IF('III Tool Overview'!$H$6=\"Shetland Health Board\",0,IF('III Tool Overview'!$H$6=\"Western Isles Health Board\",0,IF('III Tool Overview'!$H$6=\"Orkney Islands Local Authority\",0,IF('III Tool Overview'!$H$6=\"Shetland Islands Local Authority\",0,IF('III Tool Overview'!$H$6=\"Eilean Siar Local Authority\",0,new_yll(5,B89,C89,D89,$C$1,G89,1,F89,F89,SIMDrateratios,RateRatios!$B$3)*1000))))))","v":77823.034272363511},{"$f":"IF('III Tool Overview'!$H$6=\"Orkney Health Board\",0,IF('III Tool Overview'!$H$6=\"Shetland Health Board\",0,IF('III Tool Overview'!$H$6=\"Western Isles Health Board\",0,IF('III Tool Overview'!$H$6=\"Orkney Islands Local Authority\",0,IF('III Tool Overview'!$H$6=\"Shetland Islands Local Authority\",0,IF('III Tool Overview'!$H$6=\"Eilean Siar Local Authority\",0,new_yll(5,B89,C89,D89,$C$1,G89+H89,1,F89,F89,SIMDrateratios,RateRatios!$B$3)*1000))))))","v":77168.953938459628},654.080333903883,{"$f":"IF('III Tool Overview'!$H$6=\"Orkney Health Board\",0,IF('III Tool Overview'!$H$6=\"Shetland Health Board\",0,IF('III Tool Overview'!$H$6=\"Western Isles Health Board\",0,IF('III Tool Overview'!$H$6=\"Orkney Islands Local Authority\",0,IF('III Tool Overview'!$H$6=\"Shetland Islands Local Authority\",0,IF('III Tool Overview'!$H$6=\"Eilean Siar Local Authority\",0,new_yll(10,B89,C89,D89,$C$1,G89,1,F89,F89,SIMDrateratios,RateRatios!$B$3)*10))))))","v":2032.4979968092252},{"$f":"IF('III Tool Overview'!$H$6=\"Orkney Health Board\",0,IF('III Tool Overview'!$H$6=\"Shetland Health Board\",0,IF('III Tool Overview'!$H$6=\"Western Isles Health Board\",0,IF('III Tool Overview'!$H$6=\"Orkney Islands Local Authority\",0,IF('III Tool Overview'!$H$6=\"Shetland Islands Local Authority\",0,IF('III Tool Overview'!$H$6=\"Eilean Siar Local Authority\",0,new_yll(10,B89,C89,D89,$C$1,G89+H89,1,F89,F89,SIMDrateratios,RateRatios!$B$3)*10))))))","v":2015.4266584156292},17.071338393596079,{"$f":"IF('III Tool Overview'!$H$6=\"Orkney Health Board\",0,IF('III Tool Overview'!$H$6=\"Shetland Health Board\",0,IF('III Tool Overview'!$H$6=\"Western Isles Health Board\",0,IF('III Tool Overview'!$H$6=\"Orkney Islands Local Authority\",0,IF('III Tool Overview'!$H$6=\"Shetland Islands Local Authority\",0,IF('III Tool Overview'!$H$6=\"Eilean Siar Local Authority\",0,new_yll(20,B89,C89,D89,$C$1,G89,1,F89,F89,SIMDrateratios,RateRatios!$B$3)*10))))))","v":5861.8215680173653},{"$f":"IF('III Tool Overview'!$H$6=\"Orkney Health Board\",0,IF('III Tool Overview'!$H$6=\"Shetland Health Board\",0,IF('III Tool Overview'!$H$6=\"Western Isles Health Board\",0,IF('III Tool Overview'!$H$6=\"Orkney Islands Local Authority\",0,IF('III Tool Overview'!$H$6=\"Shetland Islands Local Authority\",0,IF('III Tool Overview'!$H$6=\"Eilean Siar Local Authority\",0,new_yll(20,B89,C89,D89,$C$1,G89+H89,1,F89,F89,SIMDrateratios,RateRatios!$B$3)*10))))))","v":5812.6935213445395},49.128046672825803,{"$f":"IF('III Tool Overview'!$H$6=\"Orkney Health Board\",0,IF('III Tool Overview'!$H$6=\"Shetland Health Board\",0,IF('III Tool Overview'!$H$6=\"Western Isles Health Board\",0,IF('III Tool Overview'!$H$6=\"Orkney Islands Local Authority\",0,IF('III Tool Overview'!$H$6=\"Shetland Islands Local Authority\",0,IF('III Tool Overview'!$H$6=\"Eilean Siar Local Authority\",0,hosp_count(2,B89,C89,D89,$C$1,G89,1,F89,F89,SIMDRateRatios_hosp,SIMDrateratios,RateRatios!$B$3)*10))))))","v":1217.1565256921574},{"$f":"IF('III Tool Overview'!$H$6=\"Orkney Health Board\",0,IF('III Tool Overview'!$H$6=\"Shetland Health Board\",0,IF('III Tool Overview'!$H$6=\"Western Isles Health Board\",0,IF('III Tool Overview'!$H$6=\"Orkney Islands Local Authority\",0,IF('III Tool Overview'!$H$6=\"Shetland Islands Local Authority\",0,IF('III Tool Overview'!$H$6=\"Eilean Siar Local Authority\",0,hosp_count(2,B89,C89,D89,$C$1,G89+H89,1,F89,F89,SIMDRateRatios_hosp,SIMDrateratios,RateRatios!$B$3)*10))))))","v":1209.1930331956546},7.9634924965027949,{"$f":"IF('III Tool Overview'!$H$6=\"Orkney Health Board\",0,IF('III Tool Overview'!$H$6=\"Shetland Health Board\",0,IF('III Tool Overview'!$H$6=\"Western Isles Health Board\",0,IF('III Tool Overview'!$H$6=\"Orkney Islands Local Authority\",0,IF('III Tool Overview'!$H$6=\"Shetland Islands Local Authority\",0,IF('III Tool Overview'!$H$6=\"Eilean Siar Local Authority\",0,hosp_count(5,B89,C89,D89,$C$1,G89,1,F89,F89,SIMDRateRatios_hosp,SIMDrateratios,RateRatios!$B$3)*1000))))))","v":506515.46204816352},{"$f":"IF('III Tool Overview'!$H$6=\"Orkney Health Board\",0,IF('III Tool Overview'!$H$6=\"Shetland Health Board\",0,IF('III Tool Overview'!$H$6=\"Western Isles Health Board\",0,IF('III Tool Overview'!$H$6=\"Orkney Islands Local Authority\",0,IF('III Tool Overview'!$H$6=\"Shetland Islands Local Authority\",0,IF('III Tool Overview'!$H$6=\"Eilean Siar Local Authority\",0,hosp_count(5,B89,C89,D89,$C$1,G89+H89,1,F89,F89,SIMDRateRatios_hosp,SIMDrateratios,RateRatios!$B$3)*1000))))))","v":503202.70325993805},3312.7587882254738,{"$f":"IF('III Tool Overview'!$H$6=\"Orkney Health Board\",0,IF('III Tool Overview'!$H$6=\"Shetland Health Board\",0,IF('III Tool Overview'!$H$6=\"Western Isles Health Board\",0,IF('III Tool Overview'!$H$6=\"Orkney Islands Local Authority\",0,IF('III Tool Overview'!$H$6=\"Shetland Islands Local Authority\",0,IF('III Tool Overview'!$H$6=\"Eilean Siar Local Authority\",0,hosp_count(10,B89,C89,D89,$C$1,G89,1,F89,F89,SIMDRateRatios_hosp,SIMDrateratios,RateRatios!$B$3)*10))))))","v":12186.149836341163},{"$f":"IF('III Tool Overview'!$H$6=\"Orkney Health Board\",0,IF('III Tool Overview'!$H$6=\"Shetland Health Board\",0,IF('III Tool Overview'!$H$6=\"Western Isles Health Board\",0,IF('III Tool Overview'!$H$6=\"Orkney Islands Local Authority\",0,IF('III Tool Overview'!$H$6=\"Shetland Islands Local Authority\",0,IF('III Tool Overview'!$H$6=\"Eilean Siar Local Authority\",0,hosp_count(10,B89,C89,D89,$C$1,G89+H89,1,F89,F89,SIMDRateRatios_hosp,SIMDrateratios,RateRatios!$B$3)*10))))))","v":12106.510054906576},79.639781434587348,{"$f":"IF('III Tool Overview'!$H$6=\"Orkney Health Board\",0,IF('III Tool Overview'!$H$6=\"Shetland Health Board\",0,IF('III Tool Overview'!$H$6=\"Western Isles Health Board\",0,IF('III Tool Overview'!$H$6=\"Orkney Islands Local Authority\",0,IF('III Tool Overview'!$H$6=\"Shetland Islands Local Authority\",0,IF('III Tool Overview'!$H$6=\"Eilean Siar Local Authority\",0,hosp_count(20,B89,C89,D89,$C$1,G89,1,F89,F89,SIMDRateRatios_hosp,SIMDrateratios,RateRatios!$B$3)*10))))))","v":29521.756962375835},{"$f":"IF('III Tool Overview'!$H$6=\"Orkney Health Board\",0,IF('III Tool Overview'!$H$6=\"Shetland Health Board\",0,IF('III Tool Overview'!$H$6=\"Western Isles Health Board\",0,IF('III Tool Overview'!$H$6=\"Orkney Islands Local Authority\",0,IF('III Tool Overview'!$H$6=\"Shetland Islands Local Authority\",0,IF('III Tool Overview'!$H$6=\"Eilean Siar Local Authority\",0,hosp_count(20,B89,C89,D89,$C$1,G89+H89,1,F89,F89,SIMDRateRatios_hosp,SIMDrateratios,RateRatios!$B$3)*10))))))","v":29329.282622045568},192.4743403302673]
["Female 10-14",12.5,"female",1,1,{"$f":"HLOOKUP('III Tool Overview'!$H$6,LookUpData_Pop!$B$1:$AV$269,LookUpData_Pop!BB90,FALSE)/50","v":1131.08},{"$f":"'III Tool Overview'!$H$9/110","v":0},1131.08,{"$f":"IF('III Tool Overview'!$H$6=\"Orkney Health Board\",0,IF('III Tool Overview'!$H$6=\"Shetland Health Board\",0,IF('III Tool Overview'!$H$6=\"Western Isles Health Board\",0,IF('III Tool Overview'!$H$6=\"Orkney Islands Local Authority\",0,IF('III Tool Overview'!$H$6=\"Shetland Islands Local Authority\",0,IF('III Tool Overview'!$H$6=\"Eilean Siar Local Authority\",0,new_ci(2,B90,C90,D90,$C$1,G90,1,F90,F90,SIMDrateratios,RateRatios!$B$3)*10))))))","v":2.8193477328222927},{"$f":"IF('III Tool Overview'!$H$6=\"Orkney Health Board\",0,IF('III Tool Overview'!$H$6=\"Shetland Health Board\",0,IF('III Tool Overview'!$H$6=\"Western Isles Health Board\",0,IF('III Tool Overview'!$H$6=\"Orkney Islands Local Authority\",0,IF('III Tool Overview'!$H$6=\"Shetland Islands Local Authority\",0,IF('III Tool Overview'!$H$6=\"Eilean Siar Local Authority\",0,new_ci(2,B90,C90,D90,$C$1,G90+H90,1,H90,H90,SIMDrateratios,RateRatios!$B$3)*10))))))","v":2.7956424376759093},{"$f":"IF('III Tool Overview'!$H$6=\"Orkney Health Board\",0,IF('III Tool Overview'!$H$6=\"Shetland Health Board\",0,IF('III Tool Overview'!$H$6=\"Western Isles Health Board\",0,IF('III Tool Overview'!$H$6=\"Orkney Islands Local Authority\",0,IF('III Tool Overview'!$H$6=\"Shetland Islands Local Authority\",0,IF('III Tool Overview'!$H$6=\"Eilean Siar Local Authority\",0,new_ci(5,B90,C90,D90,$C$1,G90,1,F90,F90,SIMDrateratios,RateRatios!$B$3)*1000))))))","v":1251.7920242489242},{"$f":"IF('III Tool Overview'!$H$6=\"Orkney Health Board\",0,IF('III Tool Overview'!$H$6=\"Shetland Health Board\",0,IF('III Tool Overview'!$H$6=\"Western Isles Health Board\",0,IF('III Tool Overview'!$H$6=\"Orkney Islands Local Authority\",0,IF('III Tool Overview'!$H$6=\"Shetland Islands Local Authority\",0,IF('III Tool Overview'!$H$6=\"Eilean Siar Local Authority\",0,new_ci(5,B90,C90,D90,$C$1,H90,1,F90,F90,SIMDrateratios,RateRatios!$B$3)*1000))))))","v":1241.2713365977672},{"$f":"IF('III Tool Overview'!$H$6=\"Orkney Health Board\",0,IF('III Tool Overview'!$H$6=\"Shetland Health Board\",0,IF('III Tool Overview'!$H$6=\"Western Isles Health Board\",0,IF('III Tool Overview'!$H$6=\"Orkney Islands Local Authority\",0,IF('III Tool Overview'!$H$6=\"Shetland Islands Local Authority\",0,IF('III Tool Overview'!$H$6=\"Eilean Siar Local Authority\",0,new_ci(10,B90,C90,D90,$C$1,G90,1,F90,F90,SIMDrateratios,RateRatios!$B$3)*10))))))","v":33.765872182437761},{"$f":"IF('III Tool Overview'!$H$6=\"Orkney Health Board\",0,IF('III Tool Overview'!$H$6=\"Shetland Health Board\",0,IF('III Tool Overview'!$H$6=\"Western Isles Health Board\",0,IF('III Tool Overview'!$H$6=\"Orkney Islands Local Authority\",0,IF('III Tool Overview'!$H$6=\"Shetland Islands Local Authority\",0,IF('III Tool Overview'!$H$6=\"Eilean Siar Local Authority\",0,new_ci(10,B90,C90,D90,$C$1,G90+H90,1,F90,F90,SIMDrateratios,RateRatios!$B$3)*10))))))","v":33.482351687913962},{"$f":"IF('III Tool Overview'!$H$6=\"Orkney Health Board\",0,IF('III Tool Overview'!$H$6=\"Shetland Health Board\",0,IF('III Tool Overview'!$H$6=\"Western Isles Health Board\",0,IF('III Tool Overview'!$H$6=\"Orkney Islands Local Authority\",0,IF('III Tool Overview'!$H$6=\"Shetland Islands Local Authority\",0,IF('III Tool Overview'!$H$6=\"Eilean Siar Local Authority\",0,new_ci(20,B90,C90,D90,$C$1,G90,1,F90,F90,SIMDrateratios,RateRatios!$B$3)*10))))))","v":105.22913840962769},{"$f":"IF('III Tool Overview'!$H$6=\"Orkney Health Board\",0,IF('III Tool Overview'!$H$6=\"Shetland Health Board\",0,IF('III Tool Overview'!$H$6=\"Western Isles Health Board\",0,IF('III Tool Overview'!$H$6=\"Orkney Islands Local Authority\",0,IF('III Tool Overview'!$H$6=\"Shetland Islands Local Authority\",0,IF('III Tool Overview'!$H$6=\"Eilean Siar Local Authority\",0,new_ci(20,B90,C90,D90,$C$1,G90+H90,1,F90,F90,SIMDrateratios,RateRatios!$B$3)*10))))))","v":104.34834869204495},{"$f":"IF('III Tool Overview'!$H$6=\"Orkney Health Board\",0,IF('III Tool Overview'!$H$6=\"Shetland Health Board\",0,IF('III Tool Overview'!$H$6=\"Western Isles Health Board\",0,IF('III Tool Overview'!$H$6=\"Orkney Islands Local Authority\",0,IF('III Tool Overview'!$H$6=\"Shetland Islands Local Authority\",0,IF('III Tool Overview'!$H$6=\"Eilean Siar Local Authority\",0,new_yll(2,B90,C90,D90,$C$1,G90,1,F90,F90,SIMDrateratios,RateRatios!$B$3)*10))))))","v":245.28325275553948},{"$f":"IF('III Tool Overview'!$H$6=\"Orkney Health Board\",0,IF('III Tool Overview'!$H$6=\"Shetland Health Board\",0,IF('III Tool Overview'!$H$6=\"Western Isles Health Board\",0,IF('III Tool Overview'!$H$6=\"Orkney Islands Local Authority\",0,IF('III Tool Overview'!$H$6=\"Shetland Islands Local Authority\",0,IF('III Tool Overview'!$H$6=\"Eilean Siar Local Authority\",0,new_yll(2,B90,C90,D90,$C$1,G90+H90,1,F90,F90,SIMDrateratios,RateRatios!$B$3)*10))))))","v":243.22089207780411},2.06236067773537,{"$f":"IF('III Tool Overview'!$H$6=\"Orkney Health Board\",0,IF('III Tool Overview'!$H$6=\"Shetland Health Board\",0,IF('III Tool Overview'!$H$6=\"Western Isles Health Board\",0,IF('III Tool Overview'!$H$6=\"Orkney Islands Local Authority\",0,IF('III Tool Overview'!$H$6=\"Shetland Islands Local Authority\",0,IF('III Tool Overview'!$H$6=\"Eilean Siar Local Authority\",0,new_yll(5,B90,C90,D90,$C$1,G90,1,F90,F90,SIMDrateratios,RateRatios!$B$3)*1000))))))","v":106922.48298338479},{"$f":"IF('III Tool Overview'!$H$6=\"Orkney Health Board\",0,IF('III Tool Overview'!$H$6=\"Shetland Health Board\",0,IF('III Tool Overview'!$H$6=\"Western Isles Health Board\",0,IF('III Tool Overview'!$H$6=\"Orkney Islands Local Authority\",0,IF('III Tool Overview'!$H$6=\"Shetland Islands Local Authority\",0,IF('III Tool Overview'!$H$6=\"Eilean Siar Local Authority\",0,new_yll(5,B90,C90,D90,$C$1,G90+H90,1,F90,F90,SIMDrateratios,RateRatios!$B$3)*1000))))))","v":106023.84923868027},898.63374470452254,{"$f":"IF('III Tool Overview'!$H$6=\"Orkney Health Board\",0,IF('III Tool Overview'!$H$6=\"Shetland Health Board\",0,IF('III Tool Overview'!$H$6=\"Western Isles Health Board\",0,IF('III Tool Overview'!$H$6=\"Orkney Islands Local Authority\",0,IF('III Tool Overview'!$H$6=\"Shetland Islands Local Authority\",0,IF('III Tool Overview'!$H$6=\"Eilean Siar Local Authority\",0,new_yll(10,B90,C90,D90,$C$1,G90,1,F90,F90,SIMDrateratios,RateRatios!$B$3)*10))))))","v":2787.4435238980714},{"$f":"IF('III Tool Overview'!$H$6=\"Orkney Health Board\",0,IF('III Tool Overview'!$H$6=\"Shetland Health Board\",0,IF('III Tool Overview'!$H$6=\"Western Isles Health Board\",0,IF('III Tool Overview'!$H$6=\"Orkney Islands Local Authority\",0,IF('III Tool Overview'!$H$6=\"Shetland Islands Local Authority\",0,IF('III Tool Overview'!$H$6=\"Eilean Siar Local Authority\",0,new_yll(10,B90,C90,D90,$C$1,G90+H90,1,F90,F90,SIMDrateratios,RateRatios!$B$3)*10))))))","v":2764.0376972187159},23.405826679355414,{"$f":"IF('III Tool Overview'!$H$6=\"Orkney Health Board\",0,IF('III Tool Overview'!$H$6=\"Shetland Health Board\",0,IF('III Tool Overview'!$H$6=\"Western Isles Health Board\",0,IF('III Tool Overview'!$H$6=\"Orkney Islands Local Authority\",0,IF('III Tool Overview'!$H$6=\"Shetland Islands Local Authority\",0,IF('III Tool Overview'!$H$6=\"Eilean Siar Local Authority\",0,new_yll(20,B90,C90,D90,$C$1,G90,1,F90,F90,SIMDrateratios,RateRatios!$B$3)*10))))))","v":8000.6156031419605},{"$f":"IF('III Tool Overview'!$H$6=\"Orkney Health Board\",0,IF('III Tool Overview'!$H$6=\"Shetland Health Board\",0,IF('III Tool Overview'!$H$6=\"Western Isles Health Board\",0,IF('III Tool Overview'!$H$6=\"Orkney Islands Local Authority\",0,IF('III Tool Overview'!$H$6=\"Shetland Islands Local Authority\",0,IF('III Tool Overview'!$H$6=\"Eilean Siar Local Authority\",0,new_yll(20,B90,C90,D90,$C$1,G90+H90,1,F90,F90,SIMDrateratios,RateRatios!$B$3)*10))))))","v":7933.6365214430316},66.979081698928894,{"$f":"IF('III Tool Overview'!$H$6=\"Orkney Health Board\",0,IF('III Tool Overview'!$H$6=\"Shetland Health Board\",0,IF('III Tool Overview'!$H$6=\"Western Isles Health Board\",0,IF('III Tool Overview'!$H$6=\"Orkney Islands Local Authority\",0,IF('III Tool Overview'!$H$6=\"Shetland Islands Local Authority\",0,IF('III Tool Overview'!$H$6=\"Eilean Siar Local Authority\",0,hosp_count(2,B90,C90,D90,$C$1,G90,1,F90,F90,SIMDRateRatios_hosp,SIMDrateratios,RateRatios!$B$3)*10))))))","v":1392.3282471518587},{"$f":"IF('III Tool Overview'!$H$6=\"Orkney Health Board\",0,IF('III Tool Overview'!$H$6=\"Shetland Health Board\",0,IF('III Tool Overview'!$H$6=\"Western Isles Health Board\",0,IF('III Tool Overview'!$H$6=\"Orkney Islands Local Authority\",0,IF('III Tool Overview'!$H$6=\"Shetland Islands Local Authority\",0,IF('III Tool Overview'!$H$6=\"Eilean Siar Local Authority\",0,hosp_count(2,B90,C90,D90,$C$1,G90+H90,1,F90,F90,SIMDRateRatios_hosp,SIMDrateratios,RateRatios!$B$3)*10))))))","v":1383.217465767586},9.110781384272741,{"$f":"IF('III Tool Overview'!$H$6=\"Orkney Health Board\",0,IF('III Tool Overview'!$H$6=\"Shetland Health Board\",0,IF('III Tool Overview'!$H$6=\"Western Isles Health Board\",0,IF('III Tool Overview'!$H$6=\"Orkney Islands Local Authority\",0,IF('III Tool Overview'!$H$6=\"Shetland Islands Local Authority\",0,IF('III Tool Overview'!$H$6=\"Eilean Siar Local Authority\",0,hosp_count(5,B90,C90,D90,$C$1,G90,1,F90,F90,SIMDRateRatios_hosp,SIMDrateratios,RateRatios!$B$3)*1000))))))","v":579347.73064045003},{"$f":"IF('III Tool Overview'!$H$6=\"Orkney Health Board\",0,IF('III Tool Overview'!$H$6=\"Shetland Health Board\",0,IF('III Tool Overview'!$H$6=\"Western Isles Health Board\",0,IF('III Tool Overview'!$H$6=\"Orkney Islands Local Authority\",0,IF('III Tool Overview'!$H$6=\"Shetland Islands Local Authority\",0,IF('III Tool Overview'!$H$6=\"Eilean Siar Local Authority\",0,hosp_count(5,B90,C90,D90,$C$1,G90+H90,1,F90,F90,SIMDRateRatios_hosp,SIMDrateratios,RateRatios!$B$3)*1000))))))","v":575558.6730694666},3789.0575709834229,{"$f":"IF('III Tool Overview'!$H$6=\"Orkney Health Board\",0,IF('III Tool Overview'!$H$6=\"Shetland Health Board\",0,IF('III Tool Overview'!$H$6=\"Western Isles Health Board\",0,IF('III Tool Overview'!$H$6=\"Orkney Islands Local Authority\",0,IF('III Tool Overview'!$H$6=\"Shetland Islands Local Authority\",0,IF('III Tool Overview'!$H$6=\"Eilean Siar Local Authority\",0,hosp_count(10,B90,C90,D90,$C$1,G90,1,F90,F90,SIMDRateRatios_hosp,SIMDrateratios,RateRatios!$B$3)*10))))))","v":13935.157648068109},{"$f":"IF('III Tool Overview'!$H$6=\"Orkney Health Board\",0,IF('III Tool Overview'!$H$6=\"Shetland Health Board\",0,IF('III Tool Overview'!$H$6=\"Western Isles Health Board\",0,IF('III Tool Overview'!$H$6=\"Orkney Islands Local Authority\",0,IF('III Tool Overview'!$H$6=\"Shetland Islands Local Authority\",0,IF('III Tool Overview'!$H$6=\"Eilean Siar Local Authority\",0,hosp_count(10,B90,C90,D90,$C$1,G90+H90,1,F90,F90,SIMDRateRatios_hosp,SIMDrateratios,RateRatios!$B$3)*10))))))","v":13844.115850538428},91.04179752968048,{"$f":"IF('III Tool Overview'!$H$6=\"Orkney Health Board\",0,IF('III Tool Overview'!$H$6=\"Shetland Health Board\",0,IF('III Tool Overview'!$H$6=\"Western Isles Health Board\",0,IF('III Tool Overview'!$H$6=\"Orkney Islands Local Authority\",0,IF('III Tool Overview'!$H$6=\"Shetland Islands Local Authority\",0,IF('III Tool Overview'!$H$6=\"Eilean Siar Local Authority\",0,hosp_count(20,B90,C90,D90,$C$1,G90,1,F90,F90,SIMDRateRatios_hosp,SIMDrateratios,RateRatios!$B$3)*10))))))","v":33734.530722200958},{"$f":"IF('III Tool Overview'!$H$6=\"Orkney Health Board\",0,IF('III Tool Overview'!$H$6=\"Shetland Health Board\",0,IF('III Tool Overview'!$H$6=\"Western Isles Health Board\",0,IF('III Tool Overview'!$H$6=\"Orkney Islands Local Authority\",0,IF('III Tool Overview'!$H$6=\"Shetland Islands Local Authority\",0,IF('III Tool Overview'!$H$6=\"Eilean Siar Local Authority\",0,hosp_count(20,B90,C90,D90,$C$1,G90+H90,1,F90,F90,SIMDRateRatios_hosp,SIMDrateratios,RateRatios!$B$3)*10))))))","v":33514.861203320826},219.66951888013136]
["Female 15-19",17.5,"female",1,1,{"$f":"HLOOKUP('III Tool Overview'!$H$6,LookUpData_Pop!$B$1:$AV$269,LookUpData_Pop!BB91,FALSE)/50","v":1302.22},{"$f":"'III Tool Overview'!$H$9/110","v":0},1302.22,{"$f":"IF('III Tool Overview'!$H$6=\"Orkney Health Board\",0,IF('III Tool Overview'!$H$6=\"Shetland Health Board\",0,IF('III Tool Overview'!$H$6=\"Western Isles Health Board\",0,IF('III Tool Overview'!$H$6=\"Orkney Islands Local Authority\",0,IF('III Tool Overview'!$H$6=\"Shetland Islands Local Authority\",0,IF('III Tool Overview'!$H$6=\"Eilean Siar Local Authority\",0,new_ci(2,B91,C91,D91,$C$1,G91,1,F91,F91,SIMDrateratios,RateRatios!$B$3)*10))))))","v":5.3062701790640867},{"$f":"IF('III Tool Overview'!$H$6=\"Orkney Health Board\",0,IF('III Tool Overview'!$H$6=\"Shetland Health Board\",0,IF('III Tool Overview'!$H$6=\"Western Isles Health Board\",0,IF('III Tool Overview'!$H$6=\"Orkney Islands Local Authority\",0,IF('III Tool Overview'!$H$6=\"Shetland Islands Local Authority\",0,IF('III Tool Overview'!$H$6=\"Eilean Siar Local Authority\",0,new_ci(2,B91,C91,D91,$C$1,G91+H91,1,H91,H91,SIMDrateratios,RateRatios!$B$3)*10))))))","v":5.2616625292585848},{"$f":"IF('III Tool Overview'!$H$6=\"Orkney Health Board\",0,IF('III Tool Overview'!$H$6=\"Shetland Health Board\",0,IF('III Tool Overview'!$H$6=\"Western Isles Health Board\",0,IF('III Tool Overview'!$H$6=\"Orkney Islands Local Authority\",0,IF('III Tool Overview'!$H$6=\"Shetland Islands Local Authority\",0,IF('III Tool Overview'!$H$6=\"Eilean Siar Local Authority\",0,new_ci(5,B91,C91,D91,$C$1,G91,1,F91,F91,SIMDrateratios,RateRatios!$B$3)*1000))))))","v":2355.3455973378595},{"$f":"IF('III Tool Overview'!$H$6=\"Orkney Health Board\",0,IF('III Tool Overview'!$H$6=\"Shetland Health Board\",0,IF('III Tool Overview'!$H$6=\"Western Isles Health Board\",0,IF('III Tool Overview'!$H$6=\"Orkney Islands Local Authority\",0,IF('III Tool Overview'!$H$6=\"Shetland Islands Local Authority\",0,IF('III Tool Overview'!$H$6=\"Eilean Siar Local Authority\",0,new_ci(5,B91,C91,D91,$C$1,H91,1,F91,F91,SIMDrateratios,RateRatios!$B$3)*1000))))))","v":2335.5589361952725},{"$f":"IF('III Tool Overview'!$H$6=\"Orkney Health Board\",0,IF('III Tool Overview'!$H$6=\"Shetland Health Board\",0,IF('III Tool Overview'!$H$6=\"Western Isles Health Board\",0,IF('III Tool Overview'!$H$6=\"Orkney Islands Local Authority\",0,IF('III Tool Overview'!$H$6=\"Shetland Islands Local Authority\",0,IF('III Tool Overview'!$H$6=\"Eilean Siar Local Authority\",0,new_ci(10,B91,C91,D91,$C$1,G91,1,F91,F91,SIMDrateratios,RateRatios!$B$3)*10))))))","v":63.495237925220835},{"$f":"IF('III Tool Overview'!$H$6=\"Orkney Health Board\",0,IF('III Tool Overview'!$H$6=\"Shetland Health Board\",0,IF('III Tool Overview'!$H$6=\"Western Isles Health Board\",0,IF('III Tool Overview'!$H$6=\"Orkney Islands Local Authority\",0,IF('III Tool Overview'!$H$6=\"Shetland Islands Local Authority\",0,IF('III Tool Overview'!$H$6=\"Eilean Siar Local Authority\",0,new_ci(10,B91,C91,D91,$C$1,G91+H91,1,F91,F91,SIMDrateratios,RateRatios!$B$3)*10))))))","v":62.962644244924974},{"$f":"IF('III Tool Overview'!$H$6=\"Orkney Health Board\",0,IF('III Tool Overview'!$H$6=\"Shetland Health Board\",0,IF('III Tool Overview'!$H$6=\"Western Isles Health Board\",0,IF('III Tool Overview'!$H$6=\"Orkney Islands Local Authority\",0,IF('III Tool Overview'!$H$6=\"Shetland Islands Local Authority\",0,IF('III Tool Overview'!$H$6=\"Eilean Siar Local Authority\",0,new_ci(20,B91,C91,D91,$C$1,G91,1,F91,F91,SIMDrateratios,RateRatios!$B$3)*10))))))","v":197.48092739940796},{"$f":"IF('III Tool Overview'!$H$6=\"Orkney Health Board\",0,IF('III Tool Overview'!$H$6=\"Shetland Health Board\",0,IF('III Tool Overview'!$H$6=\"Western Isles Health Board\",0,IF('III Tool Overview'!$H$6=\"Orkney Islands Local Authority\",0,IF('III Tool Overview'!$H$6=\"Shetland Islands Local Authority\",0,IF('III Tool Overview'!$H$6=\"Eilean Siar Local Authority\",0,new_ci(20,B91,C91,D91,$C$1,G91+H91,1,F91,F91,SIMDrateratios,RateRatios!$B$3)*10))))))","v":195.83299902630927},{"$f":"IF('III Tool Overview'!$H$6=\"Orkney Health Board\",0,IF('III Tool Overview'!$H$6=\"Shetland Health Board\",0,IF('III Tool Overview'!$H$6=\"Western Isles Health Board\",0,IF('III Tool Overview'!$H$6=\"Orkney Islands Local Authority\",0,IF('III Tool Overview'!$H$6=\"Shetland Islands Local Authority\",0,IF('III Tool Overview'!$H$6=\"Eilean Siar Local Authority\",0,new_yll(2,B91,C91,D91,$C$1,G91,1,F91,F91,SIMDrateratios,RateRatios!$B$3)*10))))))","v":429.80788450419095},{"$f":"IF('III Tool Overview'!$H$6=\"Orkney Health Board\",0,IF('III Tool Overview'!$H$6=\"Shetland Health Board\",0,IF('III Tool Overview'!$H$6=\"Western Isles Health Board\",0,IF('III Tool Overview'!$H$6=\"Orkney Islands Local Authority\",0,IF('III Tool Overview'!$H$6=\"Shetland Islands Local Authority\",0,IF('III Tool Overview'!$H$6=\"Eilean Siar Local Authority\",0,new_yll(2,B91,C91,D91,$C$1,G91+H91,1,F91,F91,SIMDrateratios,RateRatios!$B$3)*10))))))","v":426.19466486994543},3.6132196342455245,{"$f":"IF('III Tool Overview'!$H$6=\"Orkney Health Board\",0,IF('III Tool Overview'!$H$6=\"Shetland Health Board\",0,IF('III Tool Overview'!$H$6=\"Western Isles Health Board\",0,IF('III Tool Overview'!$H$6=\"Orkney Islands Local Authority\",0,IF('III Tool Overview'!$H$6=\"Shetland Islands Local Authority\",0,IF('III Tool Overview'!$H$6=\"Eilean Siar Local Authority\",0,new_yll(5,B91,C91,D91,$C$1,G91,1,F91,F91,SIMDrateratios,RateRatios!$B$3)*1000))))))","v":187051.54197637748},{"$f":"IF('III Tool Overview'!$H$6=\"Orkney Health Board\",0,IF('III Tool Overview'!$H$6=\"Shetland Health Board\",0,IF('III Tool Overview'!$H$6=\"Western Isles Health Board\",0,IF('III Tool Overview'!$H$6=\"Orkney Islands Local Authority\",0,IF('III Tool Overview'!$H$6=\"Shetland Islands Local Authority\",0,IF('III Tool Overview'!$H$6=\"Eilean Siar Local Authority\",0,new_yll(5,B91,C91,D91,$C$1,G91+H91,1,F91,F91,SIMDrateratios,RateRatios!$B$3)*1000))))))","v":185480.15832403162},1571.3836523458594,{"$f":"IF('III Tool Overview'!$H$6=\"Orkney Health Board\",0,IF('III Tool Overview'!$H$6=\"Shetland Health Board\",0,IF('III Tool Overview'!$H$6=\"Western Isles Health Board\",0,IF('III Tool Overview'!$H$6=\"Orkney Islands Local Authority\",0,IF('III Tool Overview'!$H$6=\"Shetland Islands Local Authority\",0,IF('III Tool Overview'!$H$6=\"Eilean Siar Local Authority\",0,new_yll(10,B91,C91,D91,$C$1,G91,1,F91,F91,SIMDrateratios,RateRatios!$B$3)*10))))))","v":4860.7816894468197},{"$f":"IF('III Tool Overview'!$H$6=\"Orkney Health Board\",0,IF('III Tool Overview'!$H$6=\"Shetland Health Board\",0,IF('III Tool Overview'!$H$6=\"Western Isles Health Board\",0,IF('III Tool Overview'!$H$6=\"Orkney Islands Local Authority\",0,IF('III Tool Overview'!$H$6=\"Shetland Islands Local Authority\",0,IF('III Tool Overview'!$H$6=\"Eilean Siar Local Authority\",0,new_yll(10,B91,C91,D91,$C$1,G91+H91,1,F91,F91,SIMDrateratios,RateRatios!$B$3)*10))))))","v":4820.0078951992973},40.773794247522346,{"$f":"IF('III Tool Overview'!$H$6=\"Orkney Health Board\",0,IF('III Tool Overview'!$H$6=\"Shetland Health Board\",0,IF('III Tool Overview'!$H$6=\"Western Isles Health Board\",0,IF('III Tool Overview'!$H$6=\"Orkney Islands Local Authority\",0,IF('III Tool Overview'!$H$6=\"Shetland Islands Local Authority\",0,IF('III Tool Overview'!$H$6=\"Eilean Siar Local Authority\",0,new_yll(20,B91,C91,D91,$C$1,G91,1,F91,F91,SIMDrateratios,RateRatios!$B$3)*10))))))","v":13831.42560404681},{"$f":"IF('III Tool Overview'!$H$6=\"Orkney Health Board\",0,IF('III Tool Overview'!$H$6=\"Shetland Health Board\",0,IF('III Tool Overview'!$H$6=\"Western Isles Health Board\",0,IF('III Tool Overview'!$H$6=\"Orkney Islands Local Authority\",0,IF('III Tool Overview'!$H$6=\"Shetland Islands Local Authority\",0,IF('III Tool Overview'!$H$6=\"Eilean Siar Local Authority\",0,new_yll(20,B91,C91,D91,$C$1,G91+H91,1,F91,F91,SIMDrateratios,RateRatios!$B$3)*10))))))","v":13715.968206517382},115.45739752942791,{"$f":"IF('III Tool Overview'!$H$6=\"Orkney Health Board\",0,IF('III Tool Overview'!$H$6=\"Shetland Health Board\",0,IF('III Tool Overview'!$H$6=\"Western Isles Health Board\",0,IF('III Tool Overview'!$H$6=\"Orkney Islands Local Authority\",0,IF('III Tool Overview'!$H$6=\"Shetland Islands Local Authority\",0,IF('III Tool Overview'!$H$6=\"Eilean Siar Local Authority\",0,hosp_count(2,B91,C91,D91,$C$1,G91,1,F91,F91,SIMDRateRatios_hosp,SIMDrateratios,RateRatios!$B$3)*10))))))","v":1858.4632018840264},{"$f":"IF('III Tool Overview'!$H$6=\"Orkney Health Board\",0,IF('III Tool Overview'!$H$6=\"Shetland Health Board\",0,IF('III Tool Overview'!$H$6=\"Western Isles Health Board\",0,IF('III Tool Overview'!$H$6=\"Orkney Islands Local Authority\",0,IF('III Tool Overview'!$H$6=\"Shetland Islands Local Authority\",0,IF('III Tool Overview'!$H$6=\"Eilean Siar Local Authority\",0,hosp_count(2,B91,C91,D91,$C$1,G91+H91,1,F91,F91,SIMDRateRatios_hosp,SIMDrateratios,RateRatios!$B$3)*10))))))","v":1846.3034335926202},12.159768291406181,{"$f":"IF('III Tool Overview'!$H$6=\"Orkney Health Board\",0,IF('III Tool Overview'!$H$6=\"Shetland Health Board\",0,IF('III Tool Overview'!$H$6=\"Western Isles Health Board\",0,IF('III Tool Overview'!$H$6=\"Orkney Islands Local Authority\",0,IF('III Tool Overview'!$H$6=\"Shetland Islands Local Authority\",0,IF('III Tool Overview'!$H$6=\"Eilean Siar Local Authority\",0,hosp_count(5,B91,C91,D91,$C$1,G91,1,F91,F91,SIMDRateRatios_hosp,SIMDrateratios,RateRatios!$B$3)*1000))))))","v":773109.89842916664},{"$f":"IF('III Tool Overview'!$H$6=\"Orkney Health Board\",0,IF('III Tool Overview'!$H$6=\"Shetland Health Board\",0,IF('III Tool Overview'!$H$6=\"Western Isles Health Board\",0,IF('III Tool Overview'!$H$6=\"Orkney Islands Local Authority\",0,IF('III Tool Overview'!$H$6=\"Shetland Islands Local Authority\",0,IF('III Tool Overview'!$H$6=\"Eilean Siar Local Authority\",0,hosp_count(5,B91,C91,D91,$C$1,G91+H91,1,F91,F91,SIMDRateRatios_hosp,SIMDrateratios,RateRatios!$B$3)*1000))))))","v":768055.7329518093},5054.1654773573391,{"$f":"IF('III Tool Overview'!$H$6=\"Orkney Health Board\",0,IF('III Tool Overview'!$H$6=\"Shetland Health Board\",0,IF('III Tool Overview'!$H$6=\"Western Isles Health Board\",0,IF('III Tool Overview'!$H$6=\"Orkney Islands Local Authority\",0,IF('III Tool Overview'!$H$6=\"Shetland Islands Local Authority\",0,IF('III Tool Overview'!$H$6=\"Eilean Siar Local Authority\",0,hosp_count(10,B91,C91,D91,$C$1,G91,1,F91,F91,SIMDRateRatios_hosp,SIMDrateratios,RateRatios!$B$3)*10))))))","v":18585.912377747278},{"$f":"IF('III Tool Overview'!$H$6=\"Orkney Health Board\",0,IF('III Tool Overview'!$H$6=\"Shetland Health Board\",0,IF('III Tool Overview'!$H$6=\"Western Isles Health Board\",0,IF('III Tool Overview'!$H$6=\"Orkney Islands Local Authority\",0,IF('III Tool Overview'!$H$6=\"Shetland Islands Local Authority\",0,IF('III Tool Overview'!$H$6=\"Eilean Siar Local Authority\",0,hosp_count(10,B91,C91,D91,$C$1,G91+H91,1,F91,F91,SIMDRateRatios_hosp,SIMDrateratios,RateRatios!$B$3)*10))))))","v":18464.619563880522},121.29281386675575,{"$f":"IF('III Tool Overview'!$H$6=\"Orkney Health Board\",0,IF('III Tool Overview'!$H$6=\"Shetland Health Board\",0,IF('III Tool Overview'!$H$6=\"Western Isles Health Board\",0,IF('III Tool Overview'!$H$6=\"Orkney Islands Local Authority\",0,IF('III Tool Overview'!$H$6=\"Shetland Islands Local Authority\",0,IF('III Tool Overview'!$H$6=\"Eilean Siar Local Authority\",0,hosp_count(20,B91,C91,D91,$C$1,G91,1,F91,F91,SIMDRateRatios_hosp,SIMDrateratios,RateRatios!$B$3)*10))))))","v":44919.665999342142},{"$f":"IF('III Tool Overview'!$H$6=\"Orkney Health Board\",0,IF('III Tool Overview'!$H$6=\"Shetland Health Board\",0,IF('III Tool Overview'!$H$6=\"Western Isles Health Board\",0,IF('III Tool Overview'!$H$6=\"Orkney Islands Local Authority\",0,IF('III Tool Overview'!$H$6=\"Shetland Islands Local Authority\",0,IF('III Tool Overview'!$H$6=\"Eilean Siar Local Authority\",0,hosp_count(20,B91,C91,D91,$C$1,G91+H91,1,F91,F91,SIMDRateRatios_hosp,SIMDrateratios,RateRatios!$B$3)*10))))))","v":44628.096377227295},291.56962211484642]
["Female 20-24",22.5,"female",1,1,{"$f":"HLOOKUP('III Tool Overview'!$H$6,LookUpData_Pop!$B$1:$AV$269,LookUpData_Pop!BB92,FALSE)/50","v":1659.18},{"$f":"'III Tool Overview'!$H$9/110","v":0},1659.18,{"$f":"IF('III Tool Overview'!$H$6=\"Orkney Health Board\",0,IF('III Tool Overview'!$H$6=\"Shetland Health Board\",0,IF('III Tool Overview'!$H$6=\"Western Isles Health Board\",0,IF('III Tool Overview'!$H$6=\"Orkney Islands Local Authority\",0,IF('III Tool Overview'!$H$6=\"Shetland Islands Local Authority\",0,IF('III Tool Overview'!$H$6=\"Eilean Siar Local Authority\",0,new_ci(2,B92,C92,D92,$C$1,G92,1,F92,F92,SIMDrateratios,RateRatios!$B$3)*10))))))","v":9.3818153400960167},{"$f":"IF('III Tool Overview'!$H$6=\"Orkney Health Board\",0,IF('III Tool Overview'!$H$6=\"Shetland Health Board\",0,IF('III Tool Overview'!$H$6=\"Western Isles Health Board\",0,IF('III Tool Overview'!$H$6=\"Orkney Islands Local Authority\",0,IF('III Tool Overview'!$H$6=\"Shetland Islands Local Authority\",0,IF('III Tool Overview'!$H$6=\"Eilean Siar Local Authority\",0,new_ci(2,B92,C92,D92,$C$1,G92+H92,1,H92,H92,SIMDrateratios,RateRatios!$B$3)*10))))))","v":9.3029476557976878},{"$f":"IF('III Tool Overview'!$H$6=\"Orkney Health Board\",0,IF('III Tool Overview'!$H$6=\"Shetland Health Board\",0,IF('III Tool Overview'!$H$6=\"Western Isles Health Board\",0,IF('III Tool Overview'!$H$6=\"Orkney Islands Local Authority\",0,IF('III Tool Overview'!$H$6=\"Shetland Islands Local Authority\",0,IF('III Tool Overview'!$H$6=\"Eilean Siar Local Authority\",0,new_ci(5,B92,C92,D92,$C$1,G92,1,F92,F92,SIMDrateratios,RateRatios!$B$3)*1000))))))","v":4163.2653185559493},{"$f":"IF('III Tool Overview'!$H$6=\"Orkney Health Board\",0,IF('III Tool Overview'!$H$6=\"Shetland Health Board\",0,IF('III Tool Overview'!$H$6=\"Western Isles Health Board\",0,IF('III Tool Overview'!$H$6=\"Orkney Islands Local Authority\",0,IF('III Tool Overview'!$H$6=\"Shetland Islands Local Authority\",0,IF('III Tool Overview'!$H$6=\"Eilean Siar Local Authority\",0,new_ci(5,B92,C92,D92,$C$1,H92,1,F92,F92,SIMDrateratios,RateRatios!$B$3)*1000))))))","v":4128.3008439063979},{"$f":"IF('III Tool Overview'!$H$6=\"Orkney Health Board\",0,IF('III Tool Overview'!$H$6=\"Shetland Health Board\",0,IF('III Tool Overview'!$H$6=\"Western Isles Health Board\",0,IF('III Tool Overview'!$H$6=\"Orkney Islands Local Authority\",0,IF('III Tool Overview'!$H$6=\"Shetland Islands Local Authority\",0,IF('III Tool Overview'!$H$6=\"Eilean Siar Local Authority\",0,new_ci(10,B92,C92,D92,$C$1,G92,1,F92,F92,SIMDrateratios,RateRatios!$B$3)*10))))))","v":112.16614738970007},{"$f":"IF('III Tool Overview'!$H$6=\"Orkney Health Board\",0,IF('III Tool Overview'!$H$6=\"Shetland Health Board\",0,IF('III Tool Overview'!$H$6=\"Western Isles Health Board\",0,IF('III Tool Overview'!$H$6=\"Orkney Islands Local Authority\",0,IF('III Tool Overview'!$H$6=\"Shetland Islands Local Authority\",0,IF('III Tool Overview'!$H$6=\"Eilean Siar Local Authority\",0,new_ci(10,B92,C92,D92,$C$1,G92+H92,1,F92,F92,SIMDrateratios,RateRatios!$B$3)*10))))))","v":111.22613324826111},{"$f":"IF('III Tool Overview'!$H$6=\"Orkney Health Board\",0,IF('III Tool Overview'!$H$6=\"Shetland Health Board\",0,IF('III Tool Overview'!$H$6=\"Western Isles Health Board\",0,IF('III Tool Overview'!$H$6=\"Orkney Islands Local Authority\",0,IF('III Tool Overview'!$H$6=\"Shetland Islands Local Authority\",0,IF('III Tool Overview'!$H$6=\"Eilean Siar Local Authority\",0,new_ci(20,B92,C92,D92,$C$1,G92,1,F92,F92,SIMDrateratios,RateRatios!$B$3)*10))))))","v":348.15620178563898},{"$f":"IF('III Tool Overview'!$H$6=\"Orkney Health Board\",0,IF('III Tool Overview'!$H$6=\"Shetland Health Board\",0,IF('III Tool Overview'!$H$6=\"Western Isles Health Board\",0,IF('III Tool Overview'!$H$6=\"Orkney Islands Local Authority\",0,IF('III Tool Overview'!$H$6=\"Shetland Islands Local Authority\",0,IF('III Tool Overview'!$H$6=\"Eilean Siar Local Authority\",0,new_ci(20,B92,C92,D92,$C$1,G92+H92,1,F92,F92,SIMDrateratios,RateRatios!$B$3)*10))))))","v":345.25930045112477},{"$f":"IF('III Tool Overview'!$H$6=\"Orkney Health Board\",0,IF('III Tool Overview'!$H$6=\"Shetland Health Board\",0,IF('III Tool Overview'!$H$6=\"Western Isles Health Board\",0,IF('III Tool Overview'!$H$6=\"Orkney Islands Local Authority\",0,IF('III Tool Overview'!$H$6=\"Shetland Islands Local Authority\",0,IF('III Tool Overview'!$H$6=\"Eilean Siar Local Authority\",0,new_yll(2,B92,C92,D92,$C$1,G92,1,F92,F92,SIMDrateratios,RateRatios!$B$3)*10))))))","v":722.39978118739327},{"$f":"IF('III Tool Overview'!$H$6=\"Orkney Health Board\",0,IF('III Tool Overview'!$H$6=\"Shetland Health Board\",0,IF('III Tool Overview'!$H$6=\"Western Isles Health Board\",0,IF('III Tool Overview'!$H$6=\"Orkney Islands Local Authority\",0,IF('III Tool Overview'!$H$6=\"Shetland Islands Local Authority\",0,IF('III Tool Overview'!$H$6=\"Eilean Siar Local Authority\",0,new_yll(2,B92,C92,D92,$C$1,G92+H92,1,F92,F92,SIMDrateratios,RateRatios!$B$3)*10))))))","v":716.32696949642195},6.0728116909713208,{"$f":"IF('III Tool Overview'!$H$6=\"Orkney Health Board\",0,IF('III Tool Overview'!$H$6=\"Shetland Health Board\",0,IF('III Tool Overview'!$H$6=\"Western Isles Health Board\",0,IF('III Tool Overview'!$H$6=\"Orkney Islands Local Authority\",0,IF('III Tool Overview'!$H$6=\"Shetland Islands Local Authority\",0,IF('III Tool Overview'!$H$6=\"Eilean Siar Local Authority\",0,new_yll(5,B92,C92,D92,$C$1,G92,1,F92,F92,SIMDrateratios,RateRatios!$B$3)*1000))))))","v":313976.69567616115},{"$f":"IF('III Tool Overview'!$H$6=\"Orkney Health Board\",0,IF('III Tool Overview'!$H$6=\"Shetland Health Board\",0,IF('III Tool Overview'!$H$6=\"Western Isles Health Board\",0,IF('III Tool Overview'!$H$6=\"Orkney Islands Local Authority\",0,IF('III Tool Overview'!$H$6=\"Shetland Islands Local Authority\",0,IF('III Tool Overview'!$H$6=\"Eilean Siar Local Authority\",0,new_yll(5,B92,C92,D92,$C$1,G92+H92,1,F92,F92,SIMDrateratios,RateRatios!$B$3)*1000))))))","v":311339.78870317666},2636.9069729844923,{"$f":"IF('III Tool Overview'!$H$6=\"Orkney Health Board\",0,IF('III Tool Overview'!$H$6=\"Shetland Health Board\",0,IF('III Tool Overview'!$H$6=\"Western Isles Health Board\",0,IF('III Tool Overview'!$H$6=\"Orkney Islands Local Authority\",0,IF('III Tool Overview'!$H$6=\"Shetland Islands Local Authority\",0,IF('III Tool Overview'!$H$6=\"Eilean Siar Local Authority\",0,new_yll(10,B92,C92,D92,$C$1,G92,1,F92,F92,SIMDrateratios,RateRatios!$B$3)*10))))))","v":8138.2002790669176},{"$f":"IF('III Tool Overview'!$H$6=\"Orkney Health Board\",0,IF('III Tool Overview'!$H$6=\"Shetland Health Board\",0,IF('III Tool Overview'!$H$6=\"Western Isles Health Board\",0,IF('III Tool Overview'!$H$6=\"Orkney Islands Local Authority\",0,IF('III Tool Overview'!$H$6=\"Shetland Islands Local Authority\",0,IF('III Tool Overview'!$H$6=\"Eilean Siar Local Authority\",0,new_yll(10,B92,C92,D92,$C$1,G92+H92,1,F92,F92,SIMDrateratios,RateRatios!$B$3)*10))))))","v":8069.9930351090243},68.207243957893297,{"$f":"IF('III Tool Overview'!$H$6=\"Orkney Health Board\",0,IF('III Tool Overview'!$H$6=\"Shetland Health Board\",0,IF('III Tool Overview'!$H$6=\"Western Isles Health Board\",0,IF('III Tool Overview'!$H$6=\"Orkney Islands Local Authority\",0,IF('III Tool Overview'!$H$6=\"Shetland Islands Local Authority\",0,IF('III Tool Overview'!$H$6=\"Eilean Siar Local Authority\",0,new_yll(20,B92,C92,D92,$C$1,G92,1,F92,F92,SIMDrateratios,RateRatios!$B$3)*10))))))","v":22995.078732125163},{"$f":"IF('III Tool Overview'!$H$6=\"Orkney Health Board\",0,IF('III Tool Overview'!$H$6=\"Shetland Health Board\",0,IF('III Tool Overview'!$H$6=\"Western Isles Health Board\",0,IF('III Tool Overview'!$H$6=\"Orkney Islands Local Authority\",0,IF('III Tool Overview'!$H$6=\"Shetland Islands Local Authority\",0,IF('III Tool Overview'!$H$6=\"Eilean Siar Local Authority\",0,new_yll(20,B92,C92,D92,$C$1,G92+H92,1,F92,F92,SIMDrateratios,RateRatios!$B$3)*10))))))","v":22803.651563740677},191.42716838448541,{"$f":"IF('III Tool Overview'!$H$6=\"Orkney Health Board\",0,IF('III Tool Overview'!$H$6=\"Shetland Health Board\",0,IF('III Tool Overview'!$H$6=\"Western Isles Health Board\",0,IF('III Tool Overview'!$H$6=\"Orkney Islands Local Authority\",0,IF('III Tool Overview'!$H$6=\"Shetland Islands Local Authority\",0,IF('III Tool Overview'!$H$6=\"Eilean Siar Local Authority\",0,hosp_count(2,B92,C92,D92,$C$1,G92,1,F92,F92,SIMDRateRatios_hosp,SIMDrateratios,RateRatios!$B$3)*10))))))","v":2613.2280156183679},{"$f":"IF('III Tool Overview'!$H$6=\"Orkney Health Board\",0,IF('III Tool Overview'!$H$6=\"Shetland Health Board\",0,IF('III Tool Overview'!$H$6=\"Western Isles Health Board\",0,IF('III Tool Overview'!$H$6=\"Orkney Islands Local Authority\",0,IF('III Tool Overview'!$H$6=\"Shetland Islands Local Authority\",0,IF('III Tool Overview'!$H$6=\"Eilean Siar Local Authority\",0,hosp_count(2,B92,C92,D92,$C$1,G92+H92,1,F92,F92,SIMDRateRatios_hosp,SIMDrateratios,RateRatios!$B$3)*10))))))","v":2596.1288508428065},17.099164775561349,{"$f":"IF('III Tool Overview'!$H$6=\"Orkney Health Board\",0,IF('III Tool Overview'!$H$6=\"Shetland Health Board\",0,IF('III Tool Overview'!$H$6=\"Western Isles Health Board\",0,IF('III Tool Overview'!$H$6=\"Orkney Islands Local Authority\",0,IF('III Tool Overview'!$H$6=\"Shetland Islands Local Authority\",0,IF('III Tool Overview'!$H$6=\"Eilean Siar Local Authority\",0,hosp_count(5,B92,C92,D92,$C$1,G92,1,F92,F92,SIMDRateRatios_hosp,SIMDrateratios,RateRatios!$B$3)*1000))))))","v":1086811.7742103052},{"$f":"IF('III Tool Overview'!$H$6=\"Orkney Health Board\",0,IF('III Tool Overview'!$H$6=\"Shetland Health Board\",0,IF('III Tool Overview'!$H$6=\"Western Isles Health Board\",0,IF('III Tool Overview'!$H$6=\"Orkney Islands Local Authority\",0,IF('III Tool Overview'!$H$6=\"Shetland Islands Local Authority\",0,IF('III Tool Overview'!$H$6=\"Eilean Siar Local Authority\",0,hosp_count(5,B92,C92,D92,$C$1,G92+H92,1,F92,F92,SIMDRateRatios_hosp,SIMDrateratios,RateRatios!$B$3)*1000))))))","v":1079708.6731029197},7103.1011073854752,{"$f":"IF('III Tool Overview'!$H$6=\"Orkney Health Board\",0,IF('III Tool Overview'!$H$6=\"Shetland Health Board\",0,IF('III Tool Overview'!$H$6=\"Western Isles Health Board\",0,IF('III Tool Overview'!$H$6=\"Orkney Islands Local Authority\",0,IF('III Tool Overview'!$H$6=\"Shetland Islands Local Authority\",0,IF('III Tool Overview'!$H$6=\"Eilean Siar Local Authority\",0,hosp_count(10,B92,C92,D92,$C$1,G92,1,F92,F92,SIMDRateRatios_hosp,SIMDrateratios,RateRatios!$B$3)*10))))))","v":26113.644589378549},{"$f":"IF('III Tool Overview'!$H$6=\"Orkney Health Board\",0,IF('III Tool Overview'!$H$6=\"Shetland Health Board\",0,IF('III Tool Overview'!$H$6=\"Western Isles Health Board\",0,IF('III Tool Overview'!$H$6=\"Orkney Islands Local Authority\",0,IF('III Tool Overview'!$H$6=\"Shetland Islands Local Authority\",0,IF('III Tool Overview'!$H$6=\"Eilean Siar Local Authority\",0,hosp_count(10,B92,C92,D92,$C$1,G92+H92,1,F92,F92,SIMDRateRatios_hosp,SIMDrateratios,RateRatios!$B$3)*10))))))","v":25943.385494821468},170.25909455708097,{"$f":"IF('III Tool Overview'!$H$6=\"Orkney Health Board\",0,IF('III Tool Overview'!$H$6=\"Shetland Health Board\",0,IF('III Tool Overview'!$H$6=\"Western Isles Health Board\",0,IF('III Tool Overview'!$H$6=\"Orkney Islands Local Authority\",0,IF('III Tool Overview'!$H$6=\"Shetland Islands Local Authority\",0,IF('III Tool Overview'!$H$6=\"Eilean Siar Local Authority\",0,hosp_count(20,B92,C92,D92,$C$1,G92,1,F92,F92,SIMDRateRatios_hosp,SIMDrateratios,RateRatios!$B$3)*10))))))","v":63010.370034154977},{"$f":"IF('III Tool Overview'!$H$6=\"Orkney Health Board\",0,IF('III Tool Overview'!$H$6=\"Shetland Health Board\",0,IF('III Tool Overview'!$H$6=\"Western Isles Health Board\",0,IF('III Tool Overview'!$H$6=\"Orkney Islands Local Authority\",0,IF('III Tool Overview'!$H$6=\"Shetland Islands Local Authority\",0,IF('III Tool Overview'!$H$6=\"Eilean Siar Local Authority\",0,hosp_count(20,B92,C92,D92,$C$1,G92+H92,1,F92,F92,SIMDRateRatios_hosp,SIMDrateratios,RateRatios!$B$3)*10))))))","v":62602.616193081034},407.75384107394348]
["Female 25-29",27.5,"female",1,1,{"$f":"HLOOKUP('III Tool Overview'!$H$6,LookUpData_Pop!$B$1:$AV$269,LookUpData_Pop!BB93,FALSE)/50","v":1707.56},{"$f":"'III Tool Overview'!$H$9/110","v":0},1707.56,{"$f":"IF('III Tool Overview'!$H$6=\"Orkney Health Board\",0,IF('III Tool Overview'!$H$6=\"Shetland Health Board\",0,IF('III Tool Overview'!$H$6=\"Western Isles Health Board\",0,IF('III Tool Overview'!$H$6=\"Orkney Islands Local Authority\",0,IF('III Tool Overview'!$H$6=\"Shetland Islands Local Authority\",0,IF('III Tool Overview'!$H$6=\"Eilean Siar Local Authority\",0,new_ci(2,B93,C93,D93,$C$1,G93,1,F93,F93,SIMDrateratios,RateRatios!$B$3)*10))))))","v":15.782486499722914},{"$f":"IF('III Tool Overview'!$H$6=\"Orkney Health Board\",0,IF('III Tool Overview'!$H$6=\"Shetland Health Board\",0,IF('III Tool Overview'!$H$6=\"Western Isles Health Board\",0,IF('III Tool Overview'!$H$6=\"Orkney Islands Local Authority\",0,IF('III Tool Overview'!$H$6=\"Shetland Islands Local Authority\",0,IF('III Tool Overview'!$H$6=\"Eilean Siar Local Authority\",0,new_ci(2,B93,C93,D93,$C$1,G93+H93,1,H93,H93,SIMDrateratios,RateRatios!$B$3)*10))))))","v":15.649786990245293},{"$f":"IF('III Tool Overview'!$H$6=\"Orkney Health Board\",0,IF('III Tool Overview'!$H$6=\"Shetland Health Board\",0,IF('III Tool Overview'!$H$6=\"Western Isles Health Board\",0,IF('III Tool Overview'!$H$6=\"Orkney Islands Local Authority\",0,IF('III Tool Overview'!$H$6=\"Shetland Islands Local Authority\",0,IF('III Tool Overview'!$H$6=\"Eilean Siar Local Authority\",0,new_ci(5,B93,C93,D93,$C$1,G93,1,F93,F93,SIMDrateratios,RateRatios!$B$3)*1000))))))","v":6999.2971530102068},{"$f":"IF('III Tool Overview'!$H$6=\"Orkney Health Board\",0,IF('III Tool Overview'!$H$6=\"Shetland Health Board\",0,IF('III Tool Overview'!$H$6=\"Western Isles Health Board\",0,IF('III Tool Overview'!$H$6=\"Orkney Islands Local Authority\",0,IF('III Tool Overview'!$H$6=\"Shetland Islands Local Authority\",0,IF('III Tool Overview'!$H$6=\"Eilean Siar Local Authority\",0,new_ci(5,B93,C93,D93,$C$1,H93,1,F93,F93,SIMDrateratios,RateRatios!$B$3)*1000))))))","v":6940.539732198552},{"$f":"IF('III Tool Overview'!$H$6=\"Orkney Health Board\",0,IF('III Tool Overview'!$H$6=\"Shetland Health Board\",0,IF('III Tool Overview'!$H$6=\"Western Isles Health Board\",0,IF('III Tool Overview'!$H$6=\"Orkney Islands Local Authority\",0,IF('III Tool Overview'!$H$6=\"Shetland Islands Local Authority\",0,IF('III Tool Overview'!$H$6=\"Eilean Siar Local Authority\",0,new_ci(10,B93,C93,D93,$C$1,G93,1,F93,F93,SIMDrateratios,RateRatios!$B$3)*10))))))","v":188.31918104543914},{"$f":"IF('III Tool Overview'!$H$6=\"Orkney Health Board\",0,IF('III Tool Overview'!$H$6=\"Shetland Health Board\",0,IF('III Tool Overview'!$H$6=\"Western Isles Health Board\",0,IF('III Tool Overview'!$H$6=\"Orkney Islands Local Authority\",0,IF('III Tool Overview'!$H$6=\"Shetland Islands Local Authority\",0,IF('III Tool Overview'!$H$6=\"Eilean Siar Local Authority\",0,new_ci(10,B93,C93,D93,$C$1,G93+H93,1,F93,F93,SIMDrateratios,RateRatios!$B$3)*10))))))","v":186.74375698806409},{"$f":"IF('III Tool Overview'!$H$6=\"Orkney Health Board\",0,IF('III Tool Overview'!$H$6=\"Shetland Health Board\",0,IF('III Tool Overview'!$H$6=\"Western Isles Health Board\",0,IF('III Tool Overview'!$H$6=\"Orkney Islands Local Authority\",0,IF('III Tool Overview'!$H$6=\"Shetland Islands Local Authority\",0,IF('III Tool Overview'!$H$6=\"Eilean Siar Local Authority\",0,new_ci(20,B93,C93,D93,$C$1,G93,1,F93,F93,SIMDrateratios,RateRatios!$B$3)*10))))))","v":581.87628244433927},{"$f":"IF('III Tool Overview'!$H$6=\"Orkney Health Board\",0,IF('III Tool Overview'!$H$6=\"Shetland Health Board\",0,IF('III Tool Overview'!$H$6=\"Western Isles Health Board\",0,IF('III Tool Overview'!$H$6=\"Orkney Islands Local Authority\",0,IF('III Tool Overview'!$H$6=\"Shetland Islands Local Authority\",0,IF('III Tool Overview'!$H$6=\"Eilean Siar Local Authority\",0,new_ci(20,B93,C93,D93,$C$1,G93+H93,1,F93,F93,SIMDrateratios,RateRatios!$B$3)*10))))))","v":577.06526862966666},{"$f":"IF('III Tool Overview'!$H$6=\"Orkney Health Board\",0,IF('III Tool Overview'!$H$6=\"Shetland Health Board\",0,IF('III Tool Overview'!$H$6=\"Western Isles Health Board\",0,IF('III Tool Overview'!$H$6=\"Orkney Islands Local Authority\",0,IF('III Tool Overview'!$H$6=\"Shetland Islands Local Authority\",0,IF('III Tool Overview'!$H$6=\"Eilean Siar Local Authority\",0,new_yll(2,B93,C93,D93,$C$1,G93,1,F93,F93,SIMDrateratios,RateRatios!$B$3)*10))))))","v":1120.5565414803268},{"$f":"IF('III Tool Overview'!$H$6=\"Orkney Health Board\",0,IF('III Tool Overview'!$H$6=\"Shetland Health Board\",0,IF('III Tool Overview'!$H$6=\"Western Isles Health Board\",0,IF('III Tool Overview'!$H$6=\"Orkney Islands Local Authority\",0,IF('III Tool Overview'!$H$6=\"Shetland Islands Local Authority\",0,IF('III Tool Overview'!$H$6=\"Eilean Siar Local Authority\",0,new_yll(2,B93,C93,D93,$C$1,G93+H93,1,F93,F93,SIMDrateratios,RateRatios!$B$3)*10))))))","v":1111.1348763074159},9.4216651729109344,{"$f":"IF('III Tool Overview'!$H$6=\"Orkney Health Board\",0,IF('III Tool Overview'!$H$6=\"Shetland Health Board\",0,IF('III Tool Overview'!$H$6=\"Western Isles Health Board\",0,IF('III Tool Overview'!$H$6=\"Orkney Islands Local Authority\",0,IF('III Tool Overview'!$H$6=\"Shetland Islands Local Authority\",0,IF('III Tool Overview'!$H$6=\"Eilean Siar Local Authority\",0,new_yll(5,B93,C93,D93,$C$1,G93,1,F93,F93,SIMDrateratios,RateRatios!$B$3)*1000))))))","v":485866.48527051718},{"$f":"IF('III Tool Overview'!$H$6=\"Orkney Health Board\",0,IF('III Tool Overview'!$H$6=\"Shetland Health Board\",0,IF('III Tool Overview'!$H$6=\"Western Isles Health Board\",0,IF('III Tool Overview'!$H$6=\"Orkney Islands Local Authority\",0,IF('III Tool Overview'!$H$6=\"Shetland Islands Local Authority\",0,IF('III Tool Overview'!$H$6=\"Eilean Siar Local Authority\",0,new_yll(5,B93,C93,D93,$C$1,G93+H93,1,F93,F93,SIMDrateratios,RateRatios!$B$3)*1000))))))","v":481787.67794381792},4078.8073266992578,{"$f":"IF('III Tool Overview'!$H$6=\"Orkney Health Board\",0,IF('III Tool Overview'!$H$6=\"Shetland Health Board\",0,IF('III Tool Overview'!$H$6=\"Western Isles Health Board\",0,IF('III Tool Overview'!$H$6=\"Orkney Islands Local Authority\",0,IF('III Tool Overview'!$H$6=\"Shetland Islands Local Authority\",0,IF('III Tool Overview'!$H$6=\"Eilean Siar Local Authority\",0,new_yll(10,B93,C93,D93,$C$1,G93,1,F93,F93,SIMDrateratios,RateRatios!$B$3)*10))))))","v":12534.151821144656},{"$f":"IF('III Tool Overview'!$H$6=\"Orkney Health Board\",0,IF('III Tool Overview'!$H$6=\"Shetland Health Board\",0,IF('III Tool Overview'!$H$6=\"Western Isles Health Board\",0,IF('III Tool Overview'!$H$6=\"Orkney Islands Local Authority\",0,IF('III Tool Overview'!$H$6=\"Shetland Islands Local Authority\",0,IF('III Tool Overview'!$H$6=\"Eilean Siar Local Authority\",0,new_yll(10,B93,C93,D93,$C$1,G93+H93,1,F93,F93,SIMDrateratios,RateRatios!$B$3)*10))))))","v":12429.281973617035},104.86984752762146,{"$f":"IF('III Tool Overview'!$H$6=\"Orkney Health Board\",0,IF('III Tool Overview'!$H$6=\"Shetland Health Board\",0,IF('III Tool Overview'!$H$6=\"Western Isles Health Board\",0,IF('III Tool Overview'!$H$6=\"Orkney Islands Local Authority\",0,IF('III Tool Overview'!$H$6=\"Shetland Islands Local Authority\",0,IF('III Tool Overview'!$H$6=\"Eilean Siar Local Authority\",0,new_yll(20,B93,C93,D93,$C$1,G93,1,F93,F93,SIMDrateratios,RateRatios!$B$3)*10))))))","v":34952.332163558174},{"$f":"IF('III Tool Overview'!$H$6=\"Orkney Health Board\",0,IF('III Tool Overview'!$H$6=\"Shetland Health Board\",0,IF('III Tool Overview'!$H$6=\"Western Isles Health Board\",0,IF('III Tool Overview'!$H$6=\"Orkney Islands Local Authority\",0,IF('III Tool Overview'!$H$6=\"Shetland Islands Local Authority\",0,IF('III Tool Overview'!$H$6=\"Eilean Siar Local Authority\",0,new_yll(20,B93,C93,D93,$C$1,G93+H93,1,F93,F93,SIMDrateratios,RateRatios!$B$3)*10))))))","v":34663.090614907196},289.24154865097807,{"$f":"IF('III Tool Overview'!$H$6=\"Orkney Health Board\",0,IF('III Tool Overview'!$H$6=\"Shetland Health Board\",0,IF('III Tool Overview'!$H$6=\"Western Isles Health Board\",0,IF('III Tool Overview'!$H$6=\"Orkney Islands Local Authority\",0,IF('III Tool Overview'!$H$6=\"Shetland Islands Local Authority\",0,IF('III Tool Overview'!$H$6=\"Eilean Siar Local Authority\",0,hosp_count(2,B93,C93,D93,$C$1,G93,1,F93,F93,SIMDRateRatios_hosp,SIMDrateratios,RateRatios!$B$3)*10))))))","v":3118.0355940394679},{"$f":"IF('III Tool Overview'!$H$6=\"Orkney Health Board\",0,IF('III Tool Overview'!$H$6=\"Shetland Health Board\",0,IF('III Tool Overview'!$H$6=\"Western Isles Health Board\",0,IF('III Tool Overview'!$H$6=\"Orkney Islands Local Authority\",0,IF('III Tool Overview'!$H$6=\"Shetland Islands Local Authority\",0,IF('III Tool Overview'!$H$6=\"Eilean Siar Local Authority\",0,hosp_count(2,B93,C93,D93,$C$1,G93+H93,1,F93,F93,SIMDRateRatios_hosp,SIMDrateratios,RateRatios!$B$3)*10))))))","v":3097.6258446503493},20.409749389118588,{"$f":"IF('III Tool Overview'!$H$6=\"Orkney Health Board\",0,IF('III Tool Overview'!$H$6=\"Shetland Health Board\",0,IF('III Tool Overview'!$H$6=\"Western Isles Health Board\",0,IF('III Tool Overview'!$H$6=\"Orkney Islands Local Authority\",0,IF('III Tool Overview'!$H$6=\"Shetland Islands Local Authority\",0,IF('III Tool Overview'!$H$6=\"Eilean Siar Local Authority\",0,hosp_count(5,B93,C93,D93,$C$1,G93,1,F93,F93,SIMDRateRatios_hosp,SIMDrateratios,RateRatios!$B$3)*1000))))))","v":1296008.0231342642},{"$f":"IF('III Tool Overview'!$H$6=\"Orkney Health Board\",0,IF('III Tool Overview'!$H$6=\"Shetland Health Board\",0,IF('III Tool Overview'!$H$6=\"Western Isles Health Board\",0,IF('III Tool Overview'!$H$6=\"Orkney Islands Local Authority\",0,IF('III Tool Overview'!$H$6=\"Shetland Islands Local Authority\",0,IF('III Tool Overview'!$H$6=\"Eilean Siar Local Authority\",0,hosp_count(5,B93,C93,D93,$C$1,G93+H93,1,F93,F93,SIMDRateRatios_hosp,SIMDrateratios,RateRatios!$B$3)*1000))))))","v":1287540.8119806529},8467.211153611308,{"$f":"IF('III Tool Overview'!$H$6=\"Orkney Health Board\",0,IF('III Tool Overview'!$H$6=\"Shetland Health Board\",0,IF('III Tool Overview'!$H$6=\"Western Isles Health Board\",0,IF('III Tool Overview'!$H$6=\"Orkney Islands Local Authority\",0,IF('III Tool Overview'!$H$6=\"Shetland Islands Local Authority\",0,IF('III Tool Overview'!$H$6=\"Eilean Siar Local Authority\",0,hosp_count(10,B93,C93,D93,$C$1,G93,1,F93,F93,SIMDRateRatios_hosp,SIMDrateratios,RateRatios!$B$3)*10))))))","v":31102.822621351319},{"$f":"IF('III Tool Overview'!$H$6=\"Orkney Health Board\",0,IF('III Tool Overview'!$H$6=\"Shetland Health Board\",0,IF('III Tool Overview'!$H$6=\"Western Isles Health Board\",0,IF('III Tool Overview'!$H$6=\"Orkney Islands Local Authority\",0,IF('III Tool Overview'!$H$6=\"Shetland Islands Local Authority\",0,IF('III Tool Overview'!$H$6=\"Eilean Siar Local Authority\",0,hosp_count(10,B93,C93,D93,$C$1,G93+H93,1,F93,F93,SIMDRateRatios_hosp,SIMDrateratios,RateRatios!$B$3)*10))))))","v":30900.421137768426},202.40148358289298,{"$f":"IF('III Tool Overview'!$H$6=\"Orkney Health Board\",0,IF('III Tool Overview'!$H$6=\"Shetland Health Board\",0,IF('III Tool Overview'!$H$6=\"Western Isles Health Board\",0,IF('III Tool Overview'!$H$6=\"Orkney Islands Local Authority\",0,IF('III Tool Overview'!$H$6=\"Shetland Islands Local Authority\",0,IF('III Tool Overview'!$H$6=\"Eilean Siar Local Authority\",0,hosp_count(20,B93,C93,D93,$C$1,G93,1,F93,F93,SIMDRateRatios_hosp,SIMDrateratios,RateRatios!$B$3)*10))))))","v":74772.083364472215},{"$f":"IF('III Tool Overview'!$H$6=\"Orkney Health Board\",0,IF('III Tool Overview'!$H$6=\"Shetland Health Board\",0,IF('III Tool Overview'!$H$6=\"Western Isles Health Board\",0,IF('III Tool Overview'!$H$6=\"Orkney Islands Local Authority\",0,IF('III Tool Overview'!$H$6=\"Shetland Islands Local Authority\",0,IF('III Tool Overview'!$H$6=\"Eilean Siar Local Authority\",0,hosp_count(20,B93,C93,D93,$C$1,G93+H93,1,F93,F93,SIMDRateRatios_hosp,SIMDrateratios,RateRatios!$B$3)*10))))))","v":74291.440972448778},480.64239202343742]
["Female 30-34",32.5,"female",1,1,{"$f":"HLOOKUP('III Tool Overview'!$H$6,LookUpData_Pop!$B$1:$AV$269,LookUpData_Pop!BB94,FALSE)/50","v":1401.16},{"$f":"'III Tool Overview'!$H$9/110","v":0},1401.16,{"$f":"IF('III Tool Overview'!$H$6=\"Orkney Health Board\",0,IF('III Tool Overview'!$H$6=\"Shetland Health Board\",0,IF('III Tool Overview'!$H$6=\"Western Isles Health Board\",0,IF('III Tool Overview'!$H$6=\"Orkney Islands Local Authority\",0,IF('III Tool Overview'!$H$6=\"Shetland Islands Local Authority\",0,IF('III Tool Overview'!$H$6=\"Eilean Siar Local Authority\",0,new_ci(2,B94,C94,D94,$C$1,G94,1,F94,F94,SIMDrateratios,RateRatios!$B$3)*10))))))","v":17.96933594197251},{"$f":"IF('III Tool Overview'!$H$6=\"Orkney Health Board\",0,IF('III Tool Overview'!$H$6=\"Shetland Health Board\",0,IF('III Tool Overview'!$H$6=\"Western Isles Health Board\",0,IF('III Tool Overview'!$H$6=\"Orkney Islands Local Authority\",0,IF('III Tool Overview'!$H$6=\"Shetland Islands Local Authority\",0,IF('III Tool Overview'!$H$6=\"Eilean Siar Local Authority\",0,new_ci(2,B94,C94,D94,$C$1,G94+H94,1,H94,H94,SIMDrateratios,RateRatios!$B$3)*10))))))","v":17.818332375541669},{"$f":"IF('III Tool Overview'!$H$6=\"Orkney Health Board\",0,IF('III Tool Overview'!$H$6=\"Shetland Health Board\",0,IF('III Tool Overview'!$H$6=\"Western Isles Health Board\",0,IF('III Tool Overview'!$H$6=\"Orkney Islands Local Authority\",0,IF('III Tool Overview'!$H$6=\"Shetland Islands Local Authority\",0,IF('III Tool Overview'!$H$6=\"Eilean Siar Local Authority\",0,new_ci(5,B94,C94,D94,$C$1,G94,1,F94,F94,SIMDrateratios,RateRatios!$B$3)*1000))))))","v":7964.2208402949609},{"$f":"IF('III Tool Overview'!$H$6=\"Orkney Health Board\",0,IF('III Tool Overview'!$H$6=\"Shetland Health Board\",0,IF('III Tool Overview'!$H$6=\"Western Isles Health Board\",0,IF('III Tool Overview'!$H$6=\"Orkney Islands Local Authority\",0,IF('III Tool Overview'!$H$6=\"Shetland Islands Local Authority\",0,IF('III Tool Overview'!$H$6=\"Eilean Siar Local Authority\",0,new_ci(5,B94,C94,D94,$C$1,H94,1,F94,F94,SIMDrateratios,RateRatios!$B$3)*1000))))))","v":7897.4407733703383},{"$f":"IF('III Tool Overview'!$H$6=\"Orkney Health Board\",0,IF('III Tool Overview'!$H$6=\"Shetland Health Board\",0,IF('III Tool Overview'!$H$6=\"Western Isles Health Board\",0,IF('III Tool Overview'!$H$6=\"Orkney Islands Local Authority\",0,IF('III Tool Overview'!$H$6=\"Shetland Islands Local Authority\",0,IF('III Tool Overview'!$H$6=\"Eilean Siar Local Authority\",0,new_ci(10,B94,C94,D94,$C$1,G94,1,F94,F94,SIMDrateratios,RateRatios!$B$3)*10))))))","v":213.99184958833467},{"$f":"IF('III Tool Overview'!$H$6=\"Orkney Health Board\",0,IF('III Tool Overview'!$H$6=\"Shetland Health Board\",0,IF('III Tool Overview'!$H$6=\"Western Isles Health Board\",0,IF('III Tool Overview'!$H$6=\"Orkney Islands Local Authority\",0,IF('III Tool Overview'!$H$6=\"Shetland Islands Local Authority\",0,IF('III Tool Overview'!$H$6=\"Eilean Siar Local Authority\",0,new_ci(10,B94,C94,D94,$C$1,G94+H94,1,F94,F94,SIMDrateratios,RateRatios!$B$3)*10))))))","v":212.20614088909616},{"$f":"IF('III Tool Overview'!$H$6=\"Orkney Health Board\",0,IF('III Tool Overview'!$H$6=\"Shetland Health Board\",0,IF('III Tool Overview'!$H$6=\"Western Isles Health Board\",0,IF('III Tool Overview'!$H$6=\"Orkney Islands Local Authority\",0,IF('III Tool Overview'!$H$6=\"Shetland Islands Local Authority\",0,IF('III Tool Overview'!$H$6=\"Eilean Siar Local Authority\",0,new_ci(20,B94,C94,D94,$C$1,G94,1,F94,F94,SIMDrateratios,RateRatios!$B$3)*10))))))","v":658.21192725091123},{"$f":"IF('III Tool Overview'!$H$6=\"Orkney Health Board\",0,IF('III Tool Overview'!$H$6=\"Shetland Health Board\",0,IF('III Tool Overview'!$H$6=\"Western Isles Health Board\",0,IF('III Tool Overview'!$H$6=\"Orkney Islands Local Authority\",0,IF('III Tool Overview'!$H$6=\"Shetland Islands Local Authority\",0,IF('III Tool Overview'!$H$6=\"Eilean Siar Local Authority\",0,new_ci(20,B94,C94,D94,$C$1,G94+H94,1,F94,F94,SIMDrateratios,RateRatios!$B$3)*10))))))","v":652.80817886469595},{"$f":"IF('III Tool Overview'!$H$6=\"Orkney Health Board\",0,IF('III Tool Overview'!$H$6=\"Shetland Health Board\",0,IF('III Tool Overview'!$H$6=\"Western Isles Health Board\",0,IF('III Tool Overview'!$H$6=\"Orkney Islands Local Authority\",0,IF('III Tool Overview'!$H$6=\"Shetland Islands Local Authority\",0,IF('III Tool Overview'!$H$6=\"Eilean Siar Local Authority\",0,new_yll(2,B94,C94,D94,$C$1,G94,1,F94,F94,SIMDrateratios,RateRatios!$B$3)*10))))))","v":1203.945508112158},{"$f":"IF('III Tool Overview'!$H$6=\"Orkney Health Board\",0,IF('III Tool Overview'!$H$6=\"Shetland Health Board\",0,IF('III Tool Overview'!$H$6=\"Western Isles Health Board\",0,IF('III Tool Overview'!$H$6=\"Orkney Islands Local Authority\",0,IF('III Tool Overview'!$H$6=\"Shetland Islands Local Authority\",0,IF('III Tool Overview'!$H$6=\"Eilean Siar Local Authority\",0,new_yll(2,B94,C94,D94,$C$1,G94+H94,1,F94,F94,SIMDrateratios,RateRatios!$B$3)*10))))))","v":1193.8282691612917},10.117238950866295,{"$f":"IF('III Tool Overview'!$H$6=\"Orkney Health Board\",0,IF('III Tool Overview'!$H$6=\"Shetland Health Board\",0,IF('III Tool Overview'!$H$6=\"Western Isles Health Board\",0,IF('III Tool Overview'!$H$6=\"Orkney Islands Local Authority\",0,IF('III Tool Overview'!$H$6=\"Shetland Islands Local Authority\",0,IF('III Tool Overview'!$H$6=\"Eilean Siar Local Authority\",0,new_yll(5,B94,C94,D94,$C$1,G94,1,F94,F94,SIMDrateratios,RateRatios!$B$3)*1000))))))","v":520995.14853220969},{"$f":"IF('III Tool Overview'!$H$6=\"Orkney Health Board\",0,IF('III Tool Overview'!$H$6=\"Shetland Health Board\",0,IF('III Tool Overview'!$H$6=\"Western Isles Health Board\",0,IF('III Tool Overview'!$H$6=\"Orkney Islands Local Authority\",0,IF('III Tool Overview'!$H$6=\"Shetland Islands Local Authority\",0,IF('III Tool Overview'!$H$6=\"Eilean Siar Local Authority\",0,new_yll(5,B94,C94,D94,$C$1,G94+H94,1,F94,F94,SIMDrateratios,RateRatios!$B$3)*1000))))))","v":516626.48134633503},4368.6671858746558,{"$f":"IF('III Tool Overview'!$H$6=\"Orkney Health Board\",0,IF('III Tool Overview'!$H$6=\"Shetland Health Board\",0,IF('III Tool Overview'!$H$6=\"Western Isles Health Board\",0,IF('III Tool Overview'!$H$6=\"Orkney Islands Local Authority\",0,IF('III Tool Overview'!$H$6=\"Shetland Islands Local Authority\",0,IF('III Tool Overview'!$H$6=\"Eilean Siar Local Authority\",0,new_yll(10,B94,C94,D94,$C$1,G94,1,F94,F94,SIMDrateratios,RateRatios!$B$3)*10))))))","v":13387.579530256186},{"$f":"IF('III Tool Overview'!$H$6=\"Orkney Health Board\",0,IF('III Tool Overview'!$H$6=\"Shetland Health Board\",0,IF('III Tool Overview'!$H$6=\"Western Isles Health Board\",0,IF('III Tool Overview'!$H$6=\"Orkney Islands Local Authority\",0,IF('III Tool Overview'!$H$6=\"Shetland Islands Local Authority\",0,IF('III Tool Overview'!$H$6=\"Eilean Siar Local Authority\",0,new_yll(10,B94,C94,D94,$C$1,G94+H94,1,F94,F94,SIMDrateratios,RateRatios!$B$3)*10))))))","v":13275.843424851446},111.73610540473965,{"$f":"IF('III Tool Overview'!$H$6=\"Orkney Health Board\",0,IF('III Tool Overview'!$H$6=\"Shetland Health Board\",0,IF('III Tool Overview'!$H$6=\"Western Isles Health Board\",0,IF('III Tool Overview'!$H$6=\"Orkney Islands Local Authority\",0,IF('III Tool Overview'!$H$6=\"Shetland Islands Local Authority\",0,IF('III Tool Overview'!$H$6=\"Eilean Siar Local Authority\",0,new_yll(20,B94,C94,D94,$C$1,G94,1,F94,F94,SIMDrateratios,RateRatios!$B$3)*10))))))","v":36918.093817211819},{"$f":"IF('III Tool Overview'!$H$6=\"Orkney Health Board\",0,IF('III Tool Overview'!$H$6=\"Shetland Health Board\",0,IF('III Tool Overview'!$H$6=\"Western Isles Health Board\",0,IF('III Tool Overview'!$H$6=\"Orkney Islands Local Authority\",0,IF('III Tool Overview'!$H$6=\"Shetland Islands Local Authority\",0,IF('III Tool Overview'!$H$6=\"Eilean Siar Local Authority\",0,new_yll(20,B94,C94,D94,$C$1,G94+H94,1,F94,F94,SIMDrateratios,RateRatios!$B$3)*10))))))","v":36614.610180134783},303.48363707703538,{"$f":"IF('III Tool Overview'!$H$6=\"Orkney Health Board\",0,IF('III Tool Overview'!$H$6=\"Shetland Health Board\",0,IF('III Tool Overview'!$H$6=\"Western Isles Health Board\",0,IF('III Tool Overview'!$H$6=\"Orkney Islands Local Authority\",0,IF('III Tool Overview'!$H$6=\"Shetland Islands Local Authority\",0,IF('III Tool Overview'!$H$6=\"Eilean Siar Local Authority\",0,hosp_count(2,B94,C94,D94,$C$1,G94,1,F94,F94,SIMDRateRatios_hosp,SIMDrateratios,RateRatios!$B$3)*10))))))","v":2823.6250277027716},{"$f":"IF('III Tool Overview'!$H$6=\"Orkney Health Board\",0,IF('III Tool Overview'!$H$6=\"Shetland Health Board\",0,IF('III Tool Overview'!$H$6=\"Western Isles Health Board\",0,IF('III Tool Overview'!$H$6=\"Orkney Islands Local Authority\",0,IF('III Tool Overview'!$H$6=\"Shetland Islands Local Authority\",0,IF('III Tool Overview'!$H$6=\"Eilean Siar Local Authority\",0,hosp_count(2,B94,C94,D94,$C$1,G94+H94,1,F94,F94,SIMDRateRatios_hosp,SIMDrateratios,RateRatios!$B$3)*10))))))","v":2805.1492751441897},18.475752558581917,{"$f":"IF('III Tool Overview'!$H$6=\"Orkney Health Board\",0,IF('III Tool Overview'!$H$6=\"Shetland Health Board\",0,IF('III Tool Overview'!$H$6=\"Western Isles Health Board\",0,IF('III Tool Overview'!$H$6=\"Orkney Islands Local Authority\",0,IF('III Tool Overview'!$H$6=\"Shetland Islands Local Authority\",0,IF('III Tool Overview'!$H$6=\"Eilean Siar Local Authority\",0,hosp_count(5,B94,C94,D94,$C$1,G94,1,F94,F94,SIMDRateRatios_hosp,SIMDrateratios,RateRatios!$B$3)*1000))))))","v":1172961.2589723095},{"$f":"IF('III Tool Overview'!$H$6=\"Orkney Health Board\",0,IF('III Tool Overview'!$H$6=\"Shetland Health Board\",0,IF('III Tool Overview'!$H$6=\"Western Isles Health Board\",0,IF('III Tool Overview'!$H$6=\"Orkney Islands Local Authority\",0,IF('III Tool Overview'!$H$6=\"Shetland Islands Local Authority\",0,IF('III Tool Overview'!$H$6=\"Eilean Siar Local Authority\",0,hosp_count(5,B94,C94,D94,$C$1,G94+H94,1,F94,F94,SIMDRateRatios_hosp,SIMDrateratios,RateRatios!$B$3)*1000))))))","v":1165306.4329705676},7654.8260017419234,{"$f":"IF('III Tool Overview'!$H$6=\"Orkney Health Board\",0,IF('III Tool Overview'!$H$6=\"Shetland Health Board\",0,IF('III Tool Overview'!$H$6=\"Western Isles Health Board\",0,IF('III Tool Overview'!$H$6=\"Orkney Islands Local Authority\",0,IF('III Tool Overview'!$H$6=\"Shetland Islands Local Authority\",0,IF('III Tool Overview'!$H$6=\"Eilean Siar Local Authority\",0,hosp_count(10,B94,C94,D94,$C$1,G94,1,F94,F94,SIMDRateRatios_hosp,SIMDrateratios,RateRatios!$B$3)*10))))))","v":28116.160219419075},{"$f":"IF('III Tool Overview'!$H$6=\"Orkney Health Board\",0,IF('III Tool Overview'!$H$6=\"Shetland Health Board\",0,IF('III Tool Overview'!$H$6=\"Western Isles Health Board\",0,IF('III Tool Overview'!$H$6=\"Orkney Islands Local Authority\",0,IF('III Tool Overview'!$H$6=\"Shetland Islands Local Authority\",0,IF('III Tool Overview'!$H$6=\"Eilean Siar Local Authority\",0,hosp_count(10,B94,C94,D94,$C$1,G94+H94,1,F94,F94,SIMDRateRatios_hosp,SIMDrateratios,RateRatios!$B$3)*10))))))","v":27933.677745126824},182.48247429225012,{"$f":"IF('III Tool Overview'!$H$6=\"Orkney Health Board\",0,IF('III Tool Overview'!$H$6=\"Shetland Health Board\",0,IF('III Tool Overview'!$H$6=\"Western Isles Health Board\",0,IF('III Tool Overview'!$H$6=\"Orkney Islands Local Authority\",0,IF('III Tool Overview'!$H$6=\"Shetland Islands Local Authority\",0,IF('III Tool Overview'!$H$6=\"Eilean Siar Local Authority\",0,hosp_count(20,B94,C94,D94,$C$1,G94,1,F94,F94,SIMDRateRatios_hosp,SIMDrateratios,RateRatios!$B$3)*10))))))","v":67343.944507907392},{"$f":"IF('III Tool Overview'!$H$6=\"Orkney Health Board\",0,IF('III Tool Overview'!$H$6=\"Shetland Health Board\",0,IF('III Tool Overview'!$H$6=\"Western Isles Health Board\",0,IF('III Tool Overview'!$H$6=\"Orkney Islands Local Authority\",0,IF('III Tool Overview'!$H$6=\"Shetland Islands Local Authority\",0,IF('III Tool Overview'!$H$6=\"Eilean Siar Local Authority\",0,hosp_count(20,B94,C94,D94,$C$1,G94+H94,1,F94,F94,SIMDRateRatios_hosp,SIMDrateratios,RateRatios!$B$3)*10))))))","v":66914.254237229849},429.69027067754359]
["Female 35-39",37.5,"female",1,1,{"$f":"HLOOKUP('III Tool Overview'!$H$6,LookUpData_Pop!$B$1:$AV$269,LookUpData_Pop!BB95,FALSE)/50","v":1457.62},{"$f":"'III Tool Overview'!$H$9/110","v":0},1457.62,{"$f":"IF('III Tool Overview'!$H$6=\"Orkney Health Board\",0,IF('III Tool Overview'!$H$6=\"Shetland Health Board\",0,IF('III Tool Overview'!$H$6=\"Western Isles Health Board\",0,IF('III Tool Overview'!$H$6=\"Orkney Islands Local Authority\",0,IF('III Tool Overview'!$H$6=\"Shetland Islands Local Authority\",0,IF('III Tool Overview'!$H$6=\"Eilean Siar Local Authority\",0,new_ci(2,B95,C95,D95,$C$1,G95,1,F95,F95,SIMDrateratios,RateRatios!$B$3)*10))))))","v":30.548915263700071},{"$f":"IF('III Tool Overview'!$H$6=\"Orkney Health Board\",0,IF('III Tool Overview'!$H$6=\"Shetland Health Board\",0,IF('III Tool Overview'!$H$6=\"Western Isles Health Board\",0,IF('III Tool Overview'!$H$6=\"Orkney Islands Local Authority\",0,IF('III Tool Overview'!$H$6=\"Shetland Islands Local Authority\",0,IF('III Tool Overview'!$H$6=\"Eilean Siar Local Authority\",0,new_ci(2,B95,C95,D95,$C$1,G95+H95,1,H95,H95,SIMDrateratios,RateRatios!$B$3)*10))))))","v":30.292207919076741},{"$f":"IF('III Tool Overview'!$H$6=\"Orkney Health Board\",0,IF('III Tool Overview'!$H$6=\"Shetland Health Board\",0,IF('III Tool Overview'!$H$6=\"Western Isles Health Board\",0,IF('III Tool Overview'!$H$6=\"Orkney Islands Local Authority\",0,IF('III Tool Overview'!$H$6=\"Shetland Islands Local Authority\",0,IF('III Tool Overview'!$H$6=\"Eilean Siar Local Authority\",0,new_ci(5,B95,C95,D95,$C$1,G95,1,F95,F95,SIMDrateratios,RateRatios!$B$3)*1000))))))","v":13520.696637647297},{"$f":"IF('III Tool Overview'!$H$6=\"Orkney Health Board\",0,IF('III Tool Overview'!$H$6=\"Shetland Health Board\",0,IF('III Tool Overview'!$H$6=\"Western Isles Health Board\",0,IF('III Tool Overview'!$H$6=\"Orkney Islands Local Authority\",0,IF('III Tool Overview'!$H$6=\"Shetland Islands Local Authority\",0,IF('III Tool Overview'!$H$6=\"Eilean Siar Local Authority\",0,new_ci(5,B95,C95,D95,$C$1,H95,1,F95,F95,SIMDrateratios,RateRatios!$B$3)*1000))))))","v":13407.486528076619},{"$f":"IF('III Tool Overview'!$H$6=\"Orkney Health Board\",0,IF('III Tool Overview'!$H$6=\"Shetland Health Board\",0,IF('III Tool Overview'!$H$6=\"Western Isles Health Board\",0,IF('III Tool Overview'!$H$6=\"Orkney Islands Local Authority\",0,IF('III Tool Overview'!$H$6=\"Shetland Islands Local Authority\",0,IF('III Tool Overview'!$H$6=\"Eilean Siar Local Authority\",0,new_ci(10,B95,C95,D95,$C$1,G95,1,F95,F95,SIMDrateratios,RateRatios!$B$3)*10))))))","v":362.17903852169178},{"$f":"IF('III Tool Overview'!$H$6=\"Orkney Health Board\",0,IF('III Tool Overview'!$H$6=\"Shetland Health Board\",0,IF('III Tool Overview'!$H$6=\"Western Isles Health Board\",0,IF('III Tool Overview'!$H$6=\"Orkney Islands Local Authority\",0,IF('III Tool Overview'!$H$6=\"Shetland Islands Local Authority\",0,IF('III Tool Overview'!$H$6=\"Eilean Siar Local Authority\",0,new_ci(10,B95,C95,D95,$C$1,G95+H95,1,F95,F95,SIMDrateratios,RateRatios!$B$3)*10))))))","v":359.17027229047079},{"$f":"IF('III Tool Overview'!$H$6=\"Orkney Health Board\",0,IF('III Tool Overview'!$H$6=\"Shetland Health Board\",0,IF('III Tool Overview'!$H$6=\"Western Isles Health Board\",0,IF('III Tool Overview'!$H$6=\"Orkney Islands Local Authority\",0,IF('III Tool Overview'!$H$6=\"Shetland Islands Local Authority\",0,IF('III Tool Overview'!$H$6=\"Eilean Siar Local Authority\",0,new_ci(20,B95,C95,D95,$C$1,G95,1,F95,F95,SIMDrateratios,RateRatios!$B$3)*10))))))","v":1102.6640512975221},{"$f":"IF('III Tool Overview'!$H$6=\"Orkney Health Board\",0,IF('III Tool Overview'!$H$6=\"Shetland Health Board\",0,IF('III Tool Overview'!$H$6=\"Western Isles Health Board\",0,IF('III Tool Overview'!$H$6=\"Orkney Islands Local Authority\",0,IF('III Tool Overview'!$H$6=\"Shetland Islands Local Authority\",0,IF('III Tool Overview'!$H$6=\"Eilean Siar Local Authority\",0,new_ci(20,B95,C95,D95,$C$1,G95+H95,1,F95,F95,SIMDrateratios,RateRatios!$B$3)*10))))))","v":1093.7456324284312},{"$f":"IF('III Tool Overview'!$H$6=\"Orkney Health Board\",0,IF('III Tool Overview'!$H$6=\"Shetland Health Board\",0,IF('III Tool Overview'!$H$6=\"Western Isles Health Board\",0,IF('III Tool Overview'!$H$6=\"Orkney Islands Local Authority\",0,IF('III Tool Overview'!$H$6=\"Shetland Islands Local Authority\",0,IF('III Tool Overview'!$H$6=\"Eilean Siar Local Authority\",0,new_yll(2,B95,C95,D95,$C$1,G95,1,F95,F95,SIMDrateratios,RateRatios!$B$3)*10))))))","v":1863.4838310857044},{"$f":"IF('III Tool Overview'!$H$6=\"Orkney Health Board\",0,IF('III Tool Overview'!$H$6=\"Shetland Health Board\",0,IF('III Tool Overview'!$H$6=\"Western Isles Health Board\",0,IF('III Tool Overview'!$H$6=\"Orkney Islands Local Authority\",0,IF('III Tool Overview'!$H$6=\"Shetland Islands Local Authority\",0,IF('III Tool Overview'!$H$6=\"Eilean Siar Local Authority\",0,new_yll(2,B95,C95,D95,$C$1,G95+H95,1,F95,F95,SIMDrateratios,RateRatios!$B$3)*10))))))","v":1847.8246830636813},15.659148022023146,{"$f":"IF('III Tool Overview'!$H$6=\"Orkney Health Board\",0,IF('III Tool Overview'!$H$6=\"Shetland Health Board\",0,IF('III Tool Overview'!$H$6=\"Western Isles Health Board\",0,IF('III Tool Overview'!$H$6=\"Orkney Islands Local Authority\",0,IF('III Tool Overview'!$H$6=\"Shetland Islands Local Authority\",0,IF('III Tool Overview'!$H$6=\"Eilean Siar Local Authority\",0,new_yll(5,B95,C95,D95,$C$1,G95,1,F95,F95,SIMDrateratios,RateRatios!$B$3)*1000))))))","v":803373.99265109689},{"$f":"IF('III Tool Overview'!$H$6=\"Orkney Health Board\",0,IF('III Tool Overview'!$H$6=\"Shetland Health Board\",0,IF('III Tool Overview'!$H$6=\"Western Isles Health Board\",0,IF('III Tool Overview'!$H$6=\"Orkney Islands Local Authority\",0,IF('III Tool Overview'!$H$6=\"Shetland Islands Local Authority\",0,IF('III Tool Overview'!$H$6=\"Eilean Siar Local Authority\",0,new_yll(5,B95,C95,D95,$C$1,G95+H95,1,F95,F95,SIMDrateratios,RateRatios!$B$3)*1000))))))","v":796646.93647577718},6727.0561753197107,{"$f":"IF('III Tool Overview'!$H$6=\"Orkney Health Board\",0,IF('III Tool Overview'!$H$6=\"Shetland Health Board\",0,IF('III Tool Overview'!$H$6=\"Western Isles Health Board\",0,IF('III Tool Overview'!$H$6=\"Orkney Islands Local Authority\",0,IF('III Tool Overview'!$H$6=\"Shetland Islands Local Authority\",0,IF('III Tool Overview'!$H$6=\"Eilean Siar Local Authority\",0,new_yll(10,B95,C95,D95,$C$1,G95,1,F95,F95,SIMDrateratios,RateRatios!$B$3)*10))))))","v":20487.857350009072},{"$f":"IF('III Tool Overview'!$H$6=\"Orkney Health Board\",0,IF('III Tool Overview'!$H$6=\"Shetland Health Board\",0,IF('III Tool Overview'!$H$6=\"Western Isles Health Board\",0,IF('III Tool Overview'!$H$6=\"Orkney Islands Local Authority\",0,IF('III Tool Overview'!$H$6=\"Shetland Islands Local Authority\",0,IF('III Tool Overview'!$H$6=\"Eilean Siar Local Authority\",0,new_yll(10,B95,C95,D95,$C$1,G95+H95,1,F95,F95,SIMDrateratios,RateRatios!$B$3)*10))))))","v":20317.600902050981},170.25644795809058,{"$f":"IF('III Tool Overview'!$H$6=\"Orkney Health Board\",0,IF('III Tool Overview'!$H$6=\"Shetland Health Board\",0,IF('III Tool Overview'!$H$6=\"Western Isles Health Board\",0,IF('III Tool Overview'!$H$6=\"Orkney Islands Local Authority\",0,IF('III Tool Overview'!$H$6=\"Shetland Islands Local Authority\",0,IF('III Tool Overview'!$H$6=\"Eilean Siar Local Authority\",0,new_yll(20,B95,C95,D95,$C$1,G95,1,F95,F95,SIMDrateratios,RateRatios!$B$3)*10))))))","v":55281.238050141299},{"$f":"IF('III Tool Overview'!$H$6=\"Orkney Health Board\",0,IF('III Tool Overview'!$H$6=\"Shetland Health Board\",0,IF('III Tool Overview'!$H$6=\"Western Isles Health Board\",0,IF('III Tool Overview'!$H$6=\"Orkney Islands Local Authority\",0,IF('III Tool Overview'!$H$6=\"Shetland Islands Local Authority\",0,IF('III Tool Overview'!$H$6=\"Eilean Siar Local Authority\",0,new_yll(20,B95,C95,D95,$C$1,G95+H95,1,F95,F95,SIMDrateratios,RateRatios!$B$3)*10))))))","v":54833.034297203121},448.20375293817779,{"$f":"IF('III Tool Overview'!$H$6=\"Orkney Health Board\",0,IF('III Tool Overview'!$H$6=\"Shetland Health Board\",0,IF('III Tool Overview'!$H$6=\"Western Isles Health Board\",0,IF('III Tool Overview'!$H$6=\"Orkney Islands Local Authority\",0,IF('III Tool Overview'!$H$6=\"Shetland Islands Local Authority\",0,IF('III Tool Overview'!$H$6=\"Eilean Siar Local Authority\",0,hosp_count(2,B95,C95,D95,$C$1,G95,1,F95,F95,SIMDRateRatios_hosp,SIMDrateratios,RateRatios!$B$3)*10))))))","v":3405.5315254621742},{"$f":"IF('III Tool Overview'!$H$6=\"Orkney Health Board\",0,IF('III Tool Overview'!$H$6=\"Shetland Health Board\",0,IF('III Tool Overview'!$H$6=\"Western Isles Health Board\",0,IF('III Tool Overview'!$H$6=\"Orkney Islands Local Authority\",0,IF('III Tool Overview'!$H$6=\"Shetland Islands Local Authority\",0,IF('III Tool Overview'!$H$6=\"Eilean Siar Local Authority\",0,hosp_count(2,B95,C95,D95,$C$1,G95+H95,1,F95,F95,SIMDRateRatios_hosp,SIMDrateratios,RateRatios!$B$3)*10))))))","v":3383.239844427294},22.291681034880185,{"$f":"IF('III Tool Overview'!$H$6=\"Orkney Health Board\",0,IF('III Tool Overview'!$H$6=\"Shetland Health Board\",0,IF('III Tool Overview'!$H$6=\"Western Isles Health Board\",0,IF('III Tool Overview'!$H$6=\"Orkney Islands Local Authority\",0,IF('III Tool Overview'!$H$6=\"Shetland Islands Local Authority\",0,IF('III Tool Overview'!$H$6=\"Eilean Siar Local Authority\",0,hosp_count(5,B95,C95,D95,$C$1,G95,1,F95,F95,SIMDRateRatios_hosp,SIMDrateratios,RateRatios!$B$3)*1000))))))","v":1412842.9628547817},{"$f":"IF('III Tool Overview'!$H$6=\"Orkney Health Board\",0,IF('III Tool Overview'!$H$6=\"Shetland Health Board\",0,IF('III Tool Overview'!$H$6=\"Western Isles Health Board\",0,IF('III Tool Overview'!$H$6=\"Orkney Islands Local Authority\",0,IF('III Tool Overview'!$H$6=\"Shetland Islands Local Authority\",0,IF('III Tool Overview'!$H$6=\"Eilean Siar Local Authority\",0,hosp_count(5,B95,C95,D95,$C$1,G95+H95,1,F95,F95,SIMDRateRatios_hosp,SIMDrateratios,RateRatios!$B$3)*1000))))))","v":1403634.6050839666},9208.357770815026,{"$f":"IF('III Tool Overview'!$H$6=\"Orkney Health Board\",0,IF('III Tool Overview'!$H$6=\"Shetland Health Board\",0,IF('III Tool Overview'!$H$6=\"Western Isles Health Board\",0,IF('III Tool Overview'!$H$6=\"Orkney Islands Local Authority\",0,IF('III Tool Overview'!$H$6=\"Shetland Islands Local Authority\",0,IF('III Tool Overview'!$H$6=\"Eilean Siar Local Authority\",0,hosp_count(10,B95,C95,D95,$C$1,G95,1,F95,F95,SIMDRateRatios_hosp,SIMDrateratios,RateRatios!$B$3)*10))))))","v":33774.371996897455},{"$f":"IF('III Tool Overview'!$H$6=\"Orkney Health Board\",0,IF('III Tool Overview'!$H$6=\"Shetland Health Board\",0,IF('III Tool Overview'!$H$6=\"Western Isles Health Board\",0,IF('III Tool Overview'!$H$6=\"Orkney Islands Local Authority\",0,IF('III Tool Overview'!$H$6=\"Shetland Islands Local Authority\",0,IF('III Tool Overview'!$H$6=\"Eilean Siar Local Authority\",0,hosp_count(10,B95,C95,D95,$C$1,G95+H95,1,F95,F95,SIMDRateRatios_hosp,SIMDrateratios,RateRatios!$B$3)*10))))))","v":33556.214752596345},218.15724430111004,{"$f":"IF('III Tool Overview'!$H$6=\"Orkney Health Board\",0,IF('III Tool Overview'!$H$6=\"Shetland Health Board\",0,IF('III Tool Overview'!$H$6=\"Western Isles Health Board\",0,IF('III Tool Overview'!$H$6=\"Orkney Islands Local Authority\",0,IF('III Tool Overview'!$H$6=\"Shetland Islands Local Authority\",0,IF('III Tool Overview'!$H$6=\"Eilean Siar Local Authority\",0,hosp_count(20,B95,C95,D95,$C$1,G95,1,F95,F95,SIMDRateRatios_hosp,SIMDrateratios,RateRatios!$B$3)*10))))))","v":80227.148566725489},{"$f":"IF('III Tool Overview'!$H$6=\"Orkney Health Board\",0,IF('III Tool Overview'!$H$6=\"Shetland Health Board\",0,IF('III Tool Overview'!$H$6=\"Western Isles Health Board\",0,IF('III Tool Overview'!$H$6=\"Orkney Islands Local Authority\",0,IF('III Tool Overview'!$H$6=\"Shetland Islands Local Authority\",0,IF('III Tool Overview'!$H$6=\"Eilean Siar Local Authority\",0,hosp_count(20,B95,C95,D95,$C$1,G95+H95,1,F95,F95,SIMDRateRatios_hosp,SIMDrateratios,RateRatios!$B$3)*10))))))","v":79723.233792524261},503.91477420122828]
["Female 40-44",42.5,"female",1,1,{"$f":"HLOOKUP('III Tool Overview'!$H$6,LookUpData_Pop!$B$1:$AV$269,LookUpData_Pop!BB96,FALSE)/50","v":1628.68},{"$f":"'III Tool Overview'!$H$9/110","v":0},1628.68,{"$f":"IF('III Tool Overview'!$H$6=\"Orkney Health Board\",0,IF('III Tool Overview'!$H$6=\"Shetland Health Board\",0,IF('III Tool Overview'!$H$6=\"Western Isles Health Board\",0,IF('III Tool Overview'!$H$6=\"Orkney Islands Local Authority\",0,IF('III Tool Overview'!$H$6=\"Shetland Islands Local Authority\",0,IF('III Tool Overview'!$H$6=\"Eilean Siar Local Authority\",0,new_ci(2,B96,C96,D96,$C$1,G96,1,F96,F96,SIMDrateratios,RateRatios!$B$3)*10))))))","v":47.351456379812902},{"$f":"IF('III Tool Overview'!$H$6=\"Orkney Health Board\",0,IF('III Tool Overview'!$H$6=\"Shetland Health Board\",0,IF('III Tool Overview'!$H$6=\"Western Isles Health Board\",0,IF('III Tool Overview'!$H$6=\"Orkney Islands Local Authority\",0,IF('III Tool Overview'!$H$6=\"Shetland Islands Local Authority\",0,IF('III Tool Overview'!$H$6=\"Eilean Siar Local Authority\",0,new_ci(2,B96,C96,D96,$C$1,G96+H96,1,H96,H96,SIMDrateratios,RateRatios!$B$3)*10))))))","v":46.953740709615495},{"$f":"IF('III Tool Overview'!$H$6=\"Orkney Health Board\",0,IF('III Tool Overview'!$H$6=\"Shetland Health Board\",0,IF('III Tool Overview'!$H$6=\"Western Isles Health Board\",0,IF('III Tool Overview'!$H$6=\"Orkney Islands Local Authority\",0,IF('III Tool Overview'!$H$6=\"Shetland Islands Local Authority\",0,IF('III Tool Overview'!$H$6=\"Eilean Siar Local Authority\",0,new_ci(5,B96,C96,D96,$C$1,G96,1,F96,F96,SIMDrateratios,RateRatios!$B$3)*1000))))))","v":20928.106037568887},{"$f":"IF('III Tool Overview'!$H$6=\"Orkney Health Board\",0,IF('III Tool Overview'!$H$6=\"Shetland Health Board\",0,IF('III Tool Overview'!$H$6=\"Western Isles Health Board\",0,IF('III Tool Overview'!$H$6=\"Orkney Islands Local Authority\",0,IF('III Tool Overview'!$H$6=\"Shetland Islands Local Authority\",0,IF('III Tool Overview'!$H$6=\"Eilean Siar Local Authority\",0,new_ci(5,B96,C96,D96,$C$1,H96,1,F96,F96,SIMDrateratios,RateRatios!$B$3)*1000))))))","v":20753.198473080483},{"$f":"IF('III Tool Overview'!$H$6=\"Orkney Health Board\",0,IF('III Tool Overview'!$H$6=\"Shetland Health Board\",0,IF('III Tool Overview'!$H$6=\"Western Isles Health Board\",0,IF('III Tool Overview'!$H$6=\"Orkney Islands Local Authority\",0,IF('III Tool Overview'!$H$6=\"Shetland Islands Local Authority\",0,IF('III Tool Overview'!$H$6=\"Eilean Siar Local Authority\",0,new_ci(10,B96,C96,D96,$C$1,G96,1,F96,F96,SIMDrateratios,RateRatios!$B$3)*10))))))","v":558.89383059096497},{"$f":"IF('III Tool Overview'!$H$6=\"Orkney Health Board\",0,IF('III Tool Overview'!$H$6=\"Shetland Health Board\",0,IF('III Tool Overview'!$H$6=\"Western Isles Health Board\",0,IF('III Tool Overview'!$H$6=\"Orkney Islands Local Authority\",0,IF('III Tool Overview'!$H$6=\"Shetland Islands Local Authority\",0,IF('III Tool Overview'!$H$6=\"Eilean Siar Local Authority\",0,new_ci(10,B96,C96,D96,$C$1,G96+H96,1,F96,F96,SIMDrateratios,RateRatios!$B$3)*10))))))","v":554.27369167643758},{"$f":"IF('III Tool Overview'!$H$6=\"Orkney Health Board\",0,IF('III Tool Overview'!$H$6=\"Shetland Health Board\",0,IF('III Tool Overview'!$H$6=\"Western Isles Health Board\",0,IF('III Tool Overview'!$H$6=\"Orkney Islands Local Authority\",0,IF('III Tool Overview'!$H$6=\"Shetland Islands Local Authority\",0,IF('III Tool Overview'!$H$6=\"Eilean Siar Local Authority\",0,new_ci(20,B96,C96,D96,$C$1,G96,1,F96,F96,SIMDrateratios,RateRatios!$B$3)*10))))))","v":1684.3684409642647},{"$f":"IF('III Tool Overview'!$H$6=\"Orkney Health Board\",0,IF('III Tool Overview'!$H$6=\"Shetland Health Board\",0,IF('III Tool Overview'!$H$6=\"Western Isles Health Board\",0,IF('III Tool Overview'!$H$6=\"Orkney Islands Local Authority\",0,IF('III Tool Overview'!$H$6=\"Shetland Islands Local Authority\",0,IF('III Tool Overview'!$H$6=\"Eilean Siar Local Authority\",0,new_ci(20,B96,C96,D96,$C$1,G96+H96,1,F96,F96,SIMDrateratios,RateRatios!$B$3)*10))))))","v":1670.9537095021469},{"$f":"IF('III Tool Overview'!$H$6=\"Orkney Health Board\",0,IF('III Tool Overview'!$H$6=\"Shetland Health Board\",0,IF('III Tool Overview'!$H$6=\"Western Isles Health Board\",0,IF('III Tool Overview'!$H$6=\"Orkney Islands Local Authority\",0,IF('III Tool Overview'!$H$6=\"Shetland Islands Local Authority\",0,IF('III Tool Overview'!$H$6=\"Eilean Siar Local Authority\",0,new_yll(2,B96,C96,D96,$C$1,G96,1,F96,F96,SIMDrateratios,RateRatios!$B$3)*10))))))","v":2699.0330136493358},{"$f":"IF('III Tool Overview'!$H$6=\"Orkney Health Board\",0,IF('III Tool Overview'!$H$6=\"Shetland Health Board\",0,IF('III Tool Overview'!$H$6=\"Western Isles Health Board\",0,IF('III Tool Overview'!$H$6=\"Orkney Islands Local Authority\",0,IF('III Tool Overview'!$H$6=\"Shetland Islands Local Authority\",0,IF('III Tool Overview'!$H$6=\"Eilean Siar Local Authority\",0,new_yll(2,B96,C96,D96,$C$1,G96+H96,1,F96,F96,SIMDrateratios,RateRatios!$B$3)*10))))))","v":2676.3632204480832},22.66979320125256,{"$f":"IF('III Tool Overview'!$H$6=\"Orkney Health Board\",0,IF('III Tool Overview'!$H$6=\"Shetland Health Board\",0,IF('III Tool Overview'!$H$6=\"Western Isles Health Board\",0,IF('III Tool Overview'!$H$6=\"Orkney Islands Local Authority\",0,IF('III Tool Overview'!$H$6=\"Shetland Islands Local Authority\",0,IF('III Tool Overview'!$H$6=\"Eilean Siar Local Authority\",0,new_yll(5,B96,C96,D96,$C$1,G96,1,F96,F96,SIMDrateratios,RateRatios!$B$3)*1000))))))","v":1159819.2665287363},{"$f":"IF('III Tool Overview'!$H$6=\"Orkney Health Board\",0,IF('III Tool Overview'!$H$6=\"Shetland Health Board\",0,IF('III Tool Overview'!$H$6=\"Western Isles Health Board\",0,IF('III Tool Overview'!$H$6=\"Orkney Islands Local Authority\",0,IF('III Tool Overview'!$H$6=\"Shetland Islands Local Authority\",0,IF('III Tool Overview'!$H$6=\"Eilean Siar Local Authority\",0,new_yll(5,B96,C96,D96,$C$1,G96+H96,1,F96,F96,SIMDrateratios,RateRatios!$B$3)*1000))))))","v":1150125.32261546},9693.9439132763073,{"$f":"IF('III Tool Overview'!$H$6=\"Orkney Health Board\",0,IF('III Tool Overview'!$H$6=\"Shetland Health Board\",0,IF('III Tool Overview'!$H$6=\"Western Isles Health Board\",0,IF('III Tool Overview'!$H$6=\"Orkney Islands Local Authority\",0,IF('III Tool Overview'!$H$6=\"Shetland Islands Local Authority\",0,IF('III Tool Overview'!$H$6=\"Eilean Siar Local Authority\",0,new_yll(10,B96,C96,D96,$C$1,G96,1,F96,F96,SIMDrateratios,RateRatios!$B$3)*10))))))","v":29384.096042809018},{"$f":"IF('III Tool Overview'!$H$6=\"Orkney Health Board\",0,IF('III Tool Overview'!$H$6=\"Shetland Health Board\",0,IF('III Tool Overview'!$H$6=\"Western Isles Health Board\",0,IF('III Tool Overview'!$H$6=\"Orkney Islands Local Authority\",0,IF('III Tool Overview'!$H$6=\"Shetland Islands Local Authority\",0,IF('III Tool Overview'!$H$6=\"Eilean Siar Local Authority\",0,new_yll(10,B96,C96,D96,$C$1,G96+H96,1,F96,F96,SIMDrateratios,RateRatios!$B$3)*10))))))","v":29141.071023420802},243.02501938821661,{"$f":"IF('III Tool Overview'!$H$6=\"Orkney Health Board\",0,IF('III Tool Overview'!$H$6=\"Shetland Health Board\",0,IF('III Tool Overview'!$H$6=\"Western Isles Health Board\",0,IF('III Tool Overview'!$H$6=\"Orkney Islands Local Authority\",0,IF('III Tool Overview'!$H$6=\"Shetland Islands Local Authority\",0,IF('III Tool Overview'!$H$6=\"Eilean Siar Local Authority\",0,new_yll(20,B96,C96,D96,$C$1,G96,1,F96,F96,SIMDrateratios,RateRatios!$B$3)*10))))))","v":77784.181507058835},{"$f":"IF('III Tool Overview'!$H$6=\"Orkney Health Board\",0,IF('III Tool Overview'!$H$6=\"Shetland Health Board\",0,IF('III Tool Overview'!$H$6=\"Western Isles Health Board\",0,IF('III Tool Overview'!$H$6=\"Orkney Islands Local Authority\",0,IF('III Tool Overview'!$H$6=\"Shetland Islands Local Authority\",0,IF('III Tool Overview'!$H$6=\"Eilean Siar Local Authority\",0,new_yll(20,B96,C96,D96,$C$1,G96+H96,1,F96,F96,SIMDrateratios,RateRatios!$B$3)*10))))))","v":77162.385278077607},621.79622898122761,{"$f":"IF('III Tool Overview'!$H$6=\"Orkney Health Board\",0,IF('III Tool Overview'!$H$6=\"Shetland Health Board\",0,IF('III Tool Overview'!$H$6=\"Western Isles Health Board\",0,IF('III Tool Overview'!$H$6=\"Orkney Islands Local Authority\",0,IF('III Tool Overview'!$H$6=\"Shetland Islands Local Authority\",0,IF('III Tool Overview'!$H$6=\"Eilean Siar Local Authority\",0,hosp_count(2,B96,C96,D96,$C$1,G96,1,F96,F96,SIMDRateRatios_hosp,SIMDrateratios,RateRatios!$B$3)*10))))))","v":4199.4319285606289},{"$f":"IF('III Tool Overview'!$H$6=\"Orkney Health Board\",0,IF('III Tool Overview'!$H$6=\"Shetland Health Board\",0,IF('III Tool Overview'!$H$6=\"Western Isles Health Board\",0,IF('III Tool Overview'!$H$6=\"Orkney Islands Local Authority\",0,IF('III Tool Overview'!$H$6=\"Shetland Islands Local Authority\",0,IF('III Tool Overview'!$H$6=\"Eilean Siar Local Authority\",0,hosp_count(2,B96,C96,D96,$C$1,G96+H96,1,F96,F96,SIMDRateRatios_hosp,SIMDrateratios,RateRatios!$B$3)*10))))))","v":4171.9453567637001},27.486571796928729,{"$f":"IF('III Tool Overview'!$H$6=\"Orkney Health Board\",0,IF('III Tool Overview'!$H$6=\"Shetland Health Board\",0,IF('III Tool Overview'!$H$6=\"Western Isles Health Board\",0,IF('III Tool Overview'!$H$6=\"Orkney Islands Local Authority\",0,IF('III Tool Overview'!$H$6=\"Shetland Islands Local Authority\",0,IF('III Tool Overview'!$H$6=\"Eilean Siar Local Authority\",0,hosp_count(5,B96,C96,D96,$C$1,G96,1,F96,F96,SIMDRateRatios_hosp,SIMDrateratios,RateRatios!$B$3)*1000))))))","v":1739935.2492042512},{"$f":"IF('III Tool Overview'!$H$6=\"Orkney Health Board\",0,IF('III Tool Overview'!$H$6=\"Shetland Health Board\",0,IF('III Tool Overview'!$H$6=\"Western Isles Health Board\",0,IF('III Tool Overview'!$H$6=\"Orkney Islands Local Authority\",0,IF('III Tool Overview'!$H$6=\"Shetland Islands Local Authority\",0,IF('III Tool Overview'!$H$6=\"Eilean Siar Local Authority\",0,hosp_count(5,B96,C96,D96,$C$1,G96+H96,1,F96,F96,SIMDRateRatios_hosp,SIMDrateratios,RateRatios!$B$3)*1000))))))","v":1728614.6820385698},11320.567165681394,{"$f":"IF('III Tool Overview'!$H$6=\"Orkney Health Board\",0,IF('III Tool Overview'!$H$6=\"Shetland Health Board\",0,IF('III Tool Overview'!$H$6=\"Western Isles Health Board\",0,IF('III Tool Overview'!$H$6=\"Orkney Islands Local Authority\",0,IF('III Tool Overview'!$H$6=\"Shetland Islands Local Authority\",0,IF('III Tool Overview'!$H$6=\"Eilean Siar Local Authority\",0,hosp_count(10,B96,C96,D96,$C$1,G96,1,F96,F96,SIMDRateRatios_hosp,SIMDrateratios,RateRatios!$B$3)*10))))))","v":41481.260260072297},{"$f":"IF('III Tool Overview'!$H$6=\"Orkney Health Board\",0,IF('III Tool Overview'!$H$6=\"Shetland Health Board\",0,IF('III Tool Overview'!$H$6=\"Western Isles Health Board\",0,IF('III Tool Overview'!$H$6=\"Orkney Islands Local Authority\",0,IF('III Tool Overview'!$H$6=\"Shetland Islands Local Authority\",0,IF('III Tool Overview'!$H$6=\"Eilean Siar Local Authority\",0,hosp_count(10,B96,C96,D96,$C$1,G96+H96,1,F96,F96,SIMDRateRatios_hosp,SIMDrateratios,RateRatios!$B$3)*10))))))","v":41214.721438653178},266.5388214191189,{"$f":"IF('III Tool Overview'!$H$6=\"Orkney Health Board\",0,IF('III Tool Overview'!$H$6=\"Shetland Health Board\",0,IF('III Tool Overview'!$H$6=\"Western Isles Health Board\",0,IF('III Tool Overview'!$H$6=\"Orkney Islands Local Authority\",0,IF('III Tool Overview'!$H$6=\"Shetland Islands Local Authority\",0,IF('III Tool Overview'!$H$6=\"Eilean Siar Local Authority\",0,hosp_count(20,B96,C96,D96,$C$1,G96,1,F96,F96,SIMDRateRatios_hosp,SIMDrateratios,RateRatios!$B$3)*10))))))","v":97726.126640835108},{"$f":"IF('III Tool Overview'!$H$6=\"Orkney Health Board\",0,IF('III Tool Overview'!$H$6=\"Shetland Health Board\",0,IF('III Tool Overview'!$H$6=\"Western Isles Health Board\",0,IF('III Tool Overview'!$H$6=\"Orkney Islands Local Authority\",0,IF('III Tool Overview'!$H$6=\"Shetland Islands Local Authority\",0,IF('III Tool Overview'!$H$6=\"Eilean Siar Local Authority\",0,hosp_count(20,B96,C96,D96,$C$1,G96+H96,1,F96,F96,SIMDRateRatios_hosp,SIMDrateratios,RateRatios!$B$3)*10))))))","v":97122.159117760239},603.96752307486895]
["Female 45-49",47.5,"female",1,1,{"$f":"HLOOKUP('III Tool Overview'!$H$6,LookUpData_Pop!$B$1:$AV$269,LookUpData_Pop!BB97,FALSE)/50","v":1603.32},{"$f":"'III Tool Overview'!$H$9/110","v":0},1603.32,{"$f":"IF('III Tool Overview'!$H$6=\"Orkney Health Board\",0,IF('III Tool Overview'!$H$6=\"Shetland Health Board\",0,IF('III Tool Overview'!$H$6=\"Western Isles Health Board\",0,IF('III Tool Overview'!$H$6=\"Orkney Islands Local Authority\",0,IF('III Tool Overview'!$H$6=\"Shetland Islands Local Authority\",0,IF('III Tool Overview'!$H$6=\"Eilean Siar Local Authority\",0,new_ci(2,B97,C97,D97,$C$1,G97,1,F97,F97,SIMDrateratios,RateRatios!$B$3)*10))))))","v":76.137864773475059},{"$f":"IF('III Tool Overview'!$H$6=\"Orkney Health Board\",0,IF('III Tool Overview'!$H$6=\"Shetland Health Board\",0,IF('III Tool Overview'!$H$6=\"Western Isles Health Board\",0,IF('III Tool Overview'!$H$6=\"Orkney Islands Local Authority\",0,IF('III Tool Overview'!$H$6=\"Shetland Islands Local Authority\",0,IF('III Tool Overview'!$H$6=\"Eilean Siar Local Authority\",0,new_ci(2,B97,C97,D97,$C$1,G97+H97,1,H97,H97,SIMDrateratios,RateRatios!$B$3)*10))))))","v":75.499204693247719},{"$f":"IF('III Tool Overview'!$H$6=\"Orkney Health Board\",0,IF('III Tool Overview'!$H$6=\"Shetland Health Board\",0,IF('III Tool Overview'!$H$6=\"Western Isles Health Board\",0,IF('III Tool Overview'!$H$6=\"Orkney Islands Local Authority\",0,IF('III Tool Overview'!$H$6=\"Shetland Islands Local Authority\",0,IF('III Tool Overview'!$H$6=\"Eilean Siar Local Authority\",0,new_ci(5,B97,C97,D97,$C$1,G97,1,F97,F97,SIMDrateratios,RateRatios!$B$3)*1000))))))","v":33544.438245301397},{"$f":"IF('III Tool Overview'!$H$6=\"Orkney Health Board\",0,IF('III Tool Overview'!$H$6=\"Shetland Health Board\",0,IF('III Tool Overview'!$H$6=\"Western Isles Health Board\",0,IF('III Tool Overview'!$H$6=\"Orkney Islands Local Authority\",0,IF('III Tool Overview'!$H$6=\"Shetland Islands Local Authority\",0,IF('III Tool Overview'!$H$6=\"Eilean Siar Local Authority\",0,new_ci(5,B97,C97,D97,$C$1,H97,1,F97,F97,SIMDrateratios,RateRatios!$B$3)*1000))))))","v":33265.341896510567},{"$f":"IF('III Tool Overview'!$H$6=\"Orkney Health Board\",0,IF('III Tool Overview'!$H$6=\"Shetland Health Board\",0,IF('III Tool Overview'!$H$6=\"Western Isles Health Board\",0,IF('III Tool Overview'!$H$6=\"Orkney Islands Local Authority\",0,IF('III Tool Overview'!$H$6=\"Shetland Islands Local Authority\",0,IF('III Tool Overview'!$H$6=\"Eilean Siar Local Authority\",0,new_ci(10,B97,C97,D97,$C$1,G97,1,F97,F97,SIMDrateratios,RateRatios!$B$3)*10))))))","v":889.65338125411677},{"$f":"IF('III Tool Overview'!$H$6=\"Orkney Health Board\",0,IF('III Tool Overview'!$H$6=\"Shetland Health Board\",0,IF('III Tool Overview'!$H$6=\"Western Isles Health Board\",0,IF('III Tool Overview'!$H$6=\"Orkney Islands Local Authority\",0,IF('III Tool Overview'!$H$6=\"Shetland Islands Local Authority\",0,IF('III Tool Overview'!$H$6=\"Eilean Siar Local Authority\",0,new_ci(10,B97,C97,D97,$C$1,G97+H97,1,F97,F97,SIMDrateratios,RateRatios!$B$3)*10))))))","v":882.38288185051852},{"$f":"IF('III Tool Overview'!$H$6=\"Orkney Health Board\",0,IF('III Tool Overview'!$H$6=\"Shetland Health Board\",0,IF('III Tool Overview'!$H$6=\"Western Isles Health Board\",0,IF('III Tool Overview'!$H$6=\"Orkney Islands Local Authority\",0,IF('III Tool Overview'!$H$6=\"Shetland Islands Local Authority\",0,IF('III Tool Overview'!$H$6=\"Eilean Siar Local Authority\",0,new_ci(20,B97,C97,D97,$C$1,G97,1,F97,F97,SIMDrateratios,RateRatios!$B$3)*10))))))","v":2620.6942035690618},{"$f":"IF('III Tool Overview'!$H$6=\"Orkney Health Board\",0,IF('III Tool Overview'!$H$6=\"Shetland Health Board\",0,IF('III Tool Overview'!$H$6=\"Western Isles Health Board\",0,IF('III Tool Overview'!$H$6=\"Orkney Islands Local Authority\",0,IF('III Tool Overview'!$H$6=\"Shetland Islands Local Authority\",0,IF('III Tool Overview'!$H$6=\"Eilean Siar Local Authority\",0,new_ci(20,B97,C97,D97,$C$1,G97+H97,1,F97,F97,SIMDrateratios,RateRatios!$B$3)*10))))))","v":2600.5520755845027},{"$f":"IF('III Tool Overview'!$H$6=\"Orkney Health Board\",0,IF('III Tool Overview'!$H$6=\"Shetland Health Board\",0,IF('III Tool Overview'!$H$6=\"Western Isles Health Board\",0,IF('III Tool Overview'!$H$6=\"Orkney Islands Local Authority\",0,IF('III Tool Overview'!$H$6=\"Shetland Islands Local Authority\",0,IF('III Tool Overview'!$H$6=\"Eilean Siar Local Authority\",0,new_yll(2,B97,C97,D97,$C$1,G97,1,F97,F97,SIMDrateratios,RateRatios!$B$3)*10))))))","v":3883.0311034472284},{"$f":"IF('III Tool Overview'!$H$6=\"Orkney Health Board\",0,IF('III Tool Overview'!$H$6=\"Shetland Health Board\",0,IF('III Tool Overview'!$H$6=\"Western Isles Health Board\",0,IF('III Tool Overview'!$H$6=\"Orkney Islands Local Authority\",0,IF('III Tool Overview'!$H$6=\"Shetland Islands Local Authority\",0,IF('III Tool Overview'!$H$6=\"Eilean Siar Local Authority\",0,new_yll(2,B97,C97,D97,$C$1,G97+H97,1,F97,F97,SIMDrateratios,RateRatios!$B$3)*10))))))","v":3850.459439355634},32.571664091594357,{"$f":"IF('III Tool Overview'!$H$6=\"Orkney Health Board\",0,IF('III Tool Overview'!$H$6=\"Shetland Health Board\",0,IF('III Tool Overview'!$H$6=\"Western Isles Health Board\",0,IF('III Tool Overview'!$H$6=\"Orkney Islands Local Authority\",0,IF('III Tool Overview'!$H$6=\"Shetland Islands Local Authority\",0,IF('III Tool Overview'!$H$6=\"Eilean Siar Local Authority\",0,new_yll(5,B97,C97,D97,$C$1,G97,1,F97,F97,SIMDrateratios,RateRatios!$B$3)*1000))))))","v":1657825.7297488691},{"$f":"IF('III Tool Overview'!$H$6=\"Orkney Health Board\",0,IF('III Tool Overview'!$H$6=\"Shetland Health Board\",0,IF('III Tool Overview'!$H$6=\"Western Isles Health Board\",0,IF('III Tool Overview'!$H$6=\"Orkney Islands Local Authority\",0,IF('III Tool Overview'!$H$6=\"Shetland Islands Local Authority\",0,IF('III Tool Overview'!$H$6=\"Eilean Siar Local Authority\",0,new_yll(5,B97,C97,D97,$C$1,G97+H97,1,F97,F97,SIMDrateratios,RateRatios!$B$3)*1000))))))","v":1644030.449394579},13795.280354290036,{"$f":"IF('III Tool Overview'!$H$6=\"Orkney Health Board\",0,IF('III Tool Overview'!$H$6=\"Shetland Health Board\",0,IF('III Tool Overview'!$H$6=\"Western Isles Health Board\",0,IF('III Tool Overview'!$H$6=\"Orkney Islands Local Authority\",0,IF('III Tool Overview'!$H$6=\"Shetland Islands Local Authority\",0,IF('III Tool Overview'!$H$6=\"Eilean Siar Local Authority\",0,new_yll(10,B97,C97,D97,$C$1,G97,1,F97,F97,SIMDrateratios,RateRatios!$B$3)*10))))))","v":41450.44342775808},{"$f":"IF('III Tool Overview'!$H$6=\"Orkney Health Board\",0,IF('III Tool Overview'!$H$6=\"Shetland Health Board\",0,IF('III Tool Overview'!$H$6=\"Western Isles Health Board\",0,IF('III Tool Overview'!$H$6=\"Orkney Islands Local Authority\",0,IF('III Tool Overview'!$H$6=\"Shetland Islands Local Authority\",0,IF('III Tool Overview'!$H$6=\"Eilean Siar Local Authority\",0,new_yll(10,B97,C97,D97,$C$1,G97+H97,1,F97,F97,SIMDrateratios,RateRatios!$B$3)*10))))))","v":41111.388628832268},339.05479892581207,{"$f":"IF('III Tool Overview'!$H$6=\"Orkney Health Board\",0,IF('III Tool Overview'!$H$6=\"Shetland Health Board\",0,IF('III Tool Overview'!$H$6=\"Western Isles Health Board\",0,IF('III Tool Overview'!$H$6=\"Orkney Islands Local Authority\",0,IF('III Tool Overview'!$H$6=\"Shetland Islands Local Authority\",0,IF('III Tool Overview'!$H$6=\"Eilean Siar Local Authority\",0,new_yll(20,B97,C97,D97,$C$1,G97,1,F97,F97,SIMDrateratios,RateRatios!$B$3)*10))))))","v":105572.53314456176},{"$f":"IF('III Tool Overview'!$H$6=\"Orkney Health Board\",0,IF('III Tool Overview'!$H$6=\"Shetland Health Board\",0,IF('III Tool Overview'!$H$6=\"Western Isles Health Board\",0,IF('III Tool Overview'!$H$6=\"Orkney Islands Local Authority\",0,IF('III Tool Overview'!$H$6=\"Shetland Islands Local Authority\",0,IF('III Tool Overview'!$H$6=\"Eilean Siar Local Authority\",0,new_yll(20,B97,C97,D97,$C$1,G97+H97,1,F97,F97,SIMDrateratios,RateRatios!$B$3)*10))))))","v":104755.25387013634},817.27927442542568,{"$f":"IF('III Tool Overview'!$H$6=\"Orkney Health Board\",0,IF('III Tool Overview'!$H$6=\"Shetland Health Board\",0,IF('III Tool Overview'!$H$6=\"Western Isles Health Board\",0,IF('III Tool Overview'!$H$6=\"Orkney Islands Local Authority\",0,IF('III Tool Overview'!$H$6=\"Shetland Islands Local Authority\",0,IF('III Tool Overview'!$H$6=\"Eilean Siar Local Authority\",0,hosp_count(2,B97,C97,D97,$C$1,G97,1,F97,F97,SIMDRateRatios_hosp,SIMDrateratios,RateRatios!$B$3)*10))))))","v":4792.8770345516805},{"$f":"IF('III Tool Overview'!$H$6=\"Orkney Health Board\",0,IF('III Tool Overview'!$H$6=\"Shetland Health Board\",0,IF('III Tool Overview'!$H$6=\"Western Isles Health Board\",0,IF('III Tool Overview'!$H$6=\"Orkney Islands Local Authority\",0,IF('III Tool Overview'!$H$6=\"Shetland Islands Local Authority\",0,IF('III Tool Overview'!$H$6=\"Eilean Siar Local Authority\",0,hosp_count(2,B97,C97,D97,$C$1,G97+H97,1,F97,F97,SIMDRateRatios_hosp,SIMDrateratios,RateRatios!$B$3)*10))))))","v":4761.5186046879153},31.358429863765195,{"$f":"IF('III Tool Overview'!$H$6=\"Orkney Health Board\",0,IF('III Tool Overview'!$H$6=\"Shetland Health Board\",0,IF('III Tool Overview'!$H$6=\"Western Isles Health Board\",0,IF('III Tool Overview'!$H$6=\"Orkney Islands Local Authority\",0,IF('III Tool Overview'!$H$6=\"Shetland Islands Local Authority\",0,IF('III Tool Overview'!$H$6=\"Eilean Siar Local Authority\",0,hosp_count(5,B97,C97,D97,$C$1,G97,1,F97,F97,SIMDRateRatios_hosp,SIMDrateratios,RateRatios!$B$3)*1000))))))","v":1979946.1166558515},{"$f":"IF('III Tool Overview'!$H$6=\"Orkney Health Board\",0,IF('III Tool Overview'!$H$6=\"Shetland Health Board\",0,IF('III Tool Overview'!$H$6=\"Western Isles Health Board\",0,IF('III Tool Overview'!$H$6=\"Orkney Islands Local Authority\",0,IF('III Tool Overview'!$H$6=\"Shetland Islands Local Authority\",0,IF('III Tool Overview'!$H$6=\"Eilean Siar Local Authority\",0,hosp_count(5,B97,C97,D97,$C$1,G97+H97,1,F97,F97,SIMDRateRatios_hosp,SIMDrateratios,RateRatios!$B$3)*1000))))))","v":1967117.8514632981},12828.265192553401,{"$f":"IF('III Tool Overview'!$H$6=\"Orkney Health Board\",0,IF('III Tool Overview'!$H$6=\"Shetland Health Board\",0,IF('III Tool Overview'!$H$6=\"Western Isles Health Board\",0,IF('III Tool Overview'!$H$6=\"Orkney Islands Local Authority\",0,IF('III Tool Overview'!$H$6=\"Shetland Islands Local Authority\",0,IF('III Tool Overview'!$H$6=\"Eilean Siar Local Authority\",0,hosp_count(10,B97,C97,D97,$C$1,G97,1,F97,F97,SIMDRateRatios_hosp,SIMDrateratios,RateRatios!$B$3)*10))))))","v":46915.23445923494},{"$f":"IF('III Tool Overview'!$H$6=\"Orkney Health Board\",0,IF('III Tool Overview'!$H$6=\"Shetland Health Board\",0,IF('III Tool Overview'!$H$6=\"Western Isles Health Board\",0,IF('III Tool Overview'!$H$6=\"Orkney Islands Local Authority\",0,IF('III Tool Overview'!$H$6=\"Shetland Islands Local Authority\",0,IF('III Tool Overview'!$H$6=\"Eilean Siar Local Authority\",0,hosp_count(10,B97,C97,D97,$C$1,G97+H97,1,F97,F97,SIMDRateRatios_hosp,SIMDrateratios,RateRatios!$B$3)*10))))))","v":46617.427698694213},297.80676054072683,{"$f":"IF('III Tool Overview'!$H$6=\"Orkney Health Board\",0,IF('III Tool Overview'!$H$6=\"Shetland Health Board\",0,IF('III Tool Overview'!$H$6=\"Western Isles Health Board\",0,IF('III Tool Overview'!$H$6=\"Orkney Islands Local Authority\",0,IF('III Tool Overview'!$H$6=\"Shetland Islands Local Authority\",0,IF('III Tool Overview'!$H$6=\"Eilean Siar Local Authority\",0,hosp_count(20,B97,C97,D97,$C$1,G97,1,F97,F97,SIMDRateRatios_hosp,SIMDrateratios,RateRatios!$B$3)*10))))))","v":108505.85825698682},{"$f":"IF('III Tool Overview'!$H$6=\"Orkney Health Board\",0,IF('III Tool Overview'!$H$6=\"Shetland Health Board\",0,IF('III Tool Overview'!$H$6=\"Western Isles Health Board\",0,IF('III Tool Overview'!$H$6=\"Orkney Islands Local Authority\",0,IF('III Tool Overview'!$H$6=\"Shetland Islands Local Authority\",0,IF('III Tool Overview'!$H$6=\"Eilean Siar Local Authority\",0,hosp_count(20,B97,C97,D97,$C$1,G97+H97,1,F97,F97,SIMDRateRatios_hosp,SIMDrateratios,RateRatios!$B$3)*10))))))","v":107859.82532224318},646.03293474363454]
["Female 50-54",52.5,"female",1,1,{"$f":"HLOOKUP('III Tool Overview'!$H$6,LookUpData_Pop!$B$1:$AV$269,LookUpData_Pop!BB98,FALSE)/50","v":1366.8},{"$f":"'III Tool Overview'!$H$9/110","v":0},1366.8,{"$f":"IF('III Tool Overview'!$H$6=\"Orkney Health Board\",0,IF('III Tool Overview'!$H$6=\"Shetland Health Board\",0,IF('III Tool Overview'!$H$6=\"Western Isles Health Board\",0,IF('III Tool Overview'!$H$6=\"Orkney Islands Local Authority\",0,IF('III Tool Overview'!$H$6=\"Shetland Islands Local Authority\",0,IF('III Tool Overview'!$H$6=\"Eilean Siar Local Authority\",0,new_ci(2,B98,C98,D98,$C$1,G98,1,F98,F98,SIMDrateratios,RateRatios!$B$3)*10))))))","v":89.992786135644778},{"$f":"IF('III Tool Overview'!$H$6=\"Orkney Health Board\",0,IF('III Tool Overview'!$H$6=\"Shetland Health Board\",0,IF('III Tool Overview'!$H$6=\"Western Isles Health Board\",0,IF('III Tool Overview'!$H$6=\"Orkney Islands Local Authority\",0,IF('III Tool Overview'!$H$6=\"Shetland Islands Local Authority\",0,IF('III Tool Overview'!$H$6=\"Eilean Siar Local Authority\",0,new_ci(2,B98,C98,D98,$C$1,G98+H98,1,H98,H98,SIMDrateratios,RateRatios!$B$3)*10))))))","v":89.238338384408394},{"$f":"IF('III Tool Overview'!$H$6=\"Orkney Health Board\",0,IF('III Tool Overview'!$H$6=\"Shetland Health Board\",0,IF('III Tool Overview'!$H$6=\"Western Isles Health Board\",0,IF('III Tool Overview'!$H$6=\"Orkney Islands Local Authority\",0,IF('III Tool Overview'!$H$6=\"Shetland Islands Local Authority\",0,IF('III Tool Overview'!$H$6=\"Eilean Siar Local Authority\",0,new_ci(5,B98,C98,D98,$C$1,G98,1,F98,F98,SIMDrateratios,RateRatios!$B$3)*1000))))))","v":39523.465339672242},{"$f":"IF('III Tool Overview'!$H$6=\"Orkney Health Board\",0,IF('III Tool Overview'!$H$6=\"Shetland Health Board\",0,IF('III Tool Overview'!$H$6=\"Western Isles Health Board\",0,IF('III Tool Overview'!$H$6=\"Orkney Islands Local Authority\",0,IF('III Tool Overview'!$H$6=\"Shetland Islands Local Authority\",0,IF('III Tool Overview'!$H$6=\"Eilean Siar Local Authority\",0,new_ci(5,B98,C98,D98,$C$1,H98,1,F98,F98,SIMDrateratios,RateRatios!$B$3)*1000))))))","v":39195.848732299208},{"$f":"IF('III Tool Overview'!$H$6=\"Orkney Health Board\",0,IF('III Tool Overview'!$H$6=\"Shetland Health Board\",0,IF('III Tool Overview'!$H$6=\"Western Isles Health Board\",0,IF('III Tool Overview'!$H$6=\"Orkney Islands Local Authority\",0,IF('III Tool Overview'!$H$6=\"Shetland Islands Local Authority\",0,IF('III Tool Overview'!$H$6=\"Eilean Siar Local Authority\",0,new_ci(10,B98,C98,D98,$C$1,G98,1,F98,F98,SIMDrateratios,RateRatios!$B$3)*10))))))","v":1041.06002081664},{"$f":"IF('III Tool Overview'!$H$6=\"Orkney Health Board\",0,IF('III Tool Overview'!$H$6=\"Shetland Health Board\",0,IF('III Tool Overview'!$H$6=\"Western Isles Health Board\",0,IF('III Tool Overview'!$H$6=\"Orkney Islands Local Authority\",0,IF('III Tool Overview'!$H$6=\"Shetland Islands Local Authority\",0,IF('III Tool Overview'!$H$6=\"Eilean Siar Local Authority\",0,new_ci(10,B98,C98,D98,$C$1,G98+H98,1,F98,F98,SIMDrateratios,RateRatios!$B$3)*10))))))","v":1032.6431992941161},{"$f":"IF('III Tool Overview'!$H$6=\"Orkney Health Board\",0,IF('III Tool Overview'!$H$6=\"Shetland Health Board\",0,IF('III Tool Overview'!$H$6=\"Western Isles Health Board\",0,IF('III Tool Overview'!$H$6=\"Orkney Islands Local Authority\",0,IF('III Tool Overview'!$H$6=\"Shetland Islands Local Authority\",0,IF('III Tool Overview'!$H$6=\"Eilean Siar Local Authority\",0,new_ci(20,B98,C98,D98,$C$1,G98,1,F98,F98,SIMDrateratios,RateRatios!$B$3)*10))))))","v":2998.6679702713268},{"$f":"IF('III Tool Overview'!$H$6=\"Orkney Health Board\",0,IF('III Tool Overview'!$H$6=\"Shetland Health Board\",0,IF('III Tool Overview'!$H$6=\"Western Isles Health Board\",0,IF('III Tool Overview'!$H$6=\"Orkney Islands Local Authority\",0,IF('III Tool Overview'!$H$6=\"Shetland Islands Local Authority\",0,IF('III Tool Overview'!$H$6=\"Eilean Siar Local Authority\",0,new_ci(20,B98,C98,D98,$C$1,G98+H98,1,F98,F98,SIMDrateratios,RateRatios!$B$3)*10))))))","v":2976.4178680037589},{"$f":"IF('III Tool Overview'!$H$6=\"Orkney Health Board\",0,IF('III Tool Overview'!$H$6=\"Shetland Health Board\",0,IF('III Tool Overview'!$H$6=\"Western Isles Health Board\",0,IF('III Tool Overview'!$H$6=\"Orkney Islands Local Authority\",0,IF('III Tool Overview'!$H$6=\"Shetland Islands Local Authority\",0,IF('III Tool Overview'!$H$6=\"Eilean Siar Local Authority\",0,new_yll(2,B98,C98,D98,$C$1,G98,1,F98,F98,SIMDrateratios,RateRatios!$B$3)*10))))))","v":4229.6609483753045},{"$f":"IF('III Tool Overview'!$H$6=\"Orkney Health Board\",0,IF('III Tool Overview'!$H$6=\"Shetland Health Board\",0,IF('III Tool Overview'!$H$6=\"Western Isles Health Board\",0,IF('III Tool Overview'!$H$6=\"Orkney Islands Local Authority\",0,IF('III Tool Overview'!$H$6=\"Shetland Islands Local Authority\",0,IF('III Tool Overview'!$H$6=\"Eilean Siar Local Authority\",0,new_yll(2,B98,C98,D98,$C$1,G98+H98,1,F98,F98,SIMDrateratios,RateRatios!$B$3)*10))))))","v":4194.2019040671939},35.459044308110606,{"$f":"IF('III Tool Overview'!$H$6=\"Orkney Health Board\",0,IF('III Tool Overview'!$H$6=\"Shetland Health Board\",0,IF('III Tool Overview'!$H$6=\"Western Isles Health Board\",0,IF('III Tool Overview'!$H$6=\"Orkney Islands Local Authority\",0,IF('III Tool Overview'!$H$6=\"Shetland Islands Local Authority\",0,IF('III Tool Overview'!$H$6=\"Eilean Siar Local Authority\",0,new_yll(5,B98,C98,D98,$C$1,G98,1,F98,F98,SIMDrateratios,RateRatios!$B$3)*1000))))))","v":1795327.0044876554},{"$f":"IF('III Tool Overview'!$H$6=\"Orkney Health Board\",0,IF('III Tool Overview'!$H$6=\"Shetland Health Board\",0,IF('III Tool Overview'!$H$6=\"Western Isles Health Board\",0,IF('III Tool Overview'!$H$6=\"Orkney Islands Local Authority\",0,IF('III Tool Overview'!$H$6=\"Shetland Islands Local Authority\",0,IF('III Tool Overview'!$H$6=\"Eilean Siar Local Authority\",0,new_yll(5,B98,C98,D98,$C$1,G98+H98,1,F98,F98,SIMDrateratios,RateRatios!$B$3)*1000))))))","v":1780442.2240663192},14884.780421336181,{"$f":"IF('III Tool Overview'!$H$6=\"Orkney Health Board\",0,IF('III Tool Overview'!$H$6=\"Shetland Health Board\",0,IF('III Tool Overview'!$H$6=\"Western Isles Health Board\",0,IF('III Tool Overview'!$H$6=\"Orkney Islands Local Authority\",0,IF('III Tool Overview'!$H$6=\"Shetland Islands Local Authority\",0,IF('III Tool Overview'!$H$6=\"Eilean Siar Local Authority\",0,new_yll(10,B98,C98,D98,$C$1,G98,1,F98,F98,SIMDrateratios,RateRatios!$B$3)*10))))))","v":44357.366114239638},{"$f":"IF('III Tool Overview'!$H$6=\"Orkney Health Board\",0,IF('III Tool Overview'!$H$6=\"Shetland Health Board\",0,IF('III Tool Overview'!$H$6=\"Western Isles Health Board\",0,IF('III Tool Overview'!$H$6=\"Orkney Islands Local Authority\",0,IF('III Tool Overview'!$H$6=\"Shetland Islands Local Authority\",0,IF('III Tool Overview'!$H$6=\"Eilean Siar Local Authority\",0,new_yll(10,B98,C98,D98,$C$1,G98+H98,1,F98,F98,SIMDrateratios,RateRatios!$B$3)*10))))))","v":43998.239274206106},359.12684003353206,{"$f":"IF('III Tool Overview'!$H$6=\"Orkney Health Board\",0,IF('III Tool Overview'!$H$6=\"Shetland Health Board\",0,IF('III Tool Overview'!$H$6=\"Western Isles Health Board\",0,IF('III Tool Overview'!$H$6=\"Orkney Islands Local Authority\",0,IF('III Tool Overview'!$H$6=\"Shetland Islands Local Authority\",0,IF('III Tool Overview'!$H$6=\"Eilean Siar Local Authority\",0,new_yll(20,B98,C98,D98,$C$1,G98,1,F98,F98,SIMDrateratios,RateRatios!$B$3)*10))))))","v":109116.64778697659},{"$f":"IF('III Tool Overview'!$H$6=\"Orkney Health Board\",0,IF('III Tool Overview'!$H$6=\"Shetland Health Board\",0,IF('III Tool Overview'!$H$6=\"Western Isles Health Board\",0,IF('III Tool Overview'!$H$6=\"Orkney Islands Local Authority\",0,IF('III Tool Overview'!$H$6=\"Shetland Islands Local Authority\",0,IF('III Tool Overview'!$H$6=\"Eilean Siar Local Authority\",0,new_yll(20,B98,C98,D98,$C$1,G98+H98,1,F98,F98,SIMDrateratios,RateRatios!$B$3)*10))))))","v":108297.66232879426},818.98545818233106,{"$f":"IF('III Tool Overview'!$H$6=\"Orkney Health Board\",0,IF('III Tool Overview'!$H$6=\"Shetland Health Board\",0,IF('III Tool Overview'!$H$6=\"Western Isles Health Board\",0,IF('III Tool Overview'!$H$6=\"Orkney Islands Local Authority\",0,IF('III Tool Overview'!$H$6=\"Shetland Islands Local Authority\",0,IF('III Tool Overview'!$H$6=\"Eilean Siar Local Authority\",0,hosp_count(2,B98,C98,D98,$C$1,G98,1,F98,F98,SIMDRateRatios_hosp,SIMDrateratios,RateRatios!$B$3)*10))))))","v":4509.1558203501891},{"$f":"IF('III Tool Overview'!$H$6=\"Orkney Health Board\",0,IF('III Tool Overview'!$H$6=\"Shetland Health Board\",0,IF('III Tool Overview'!$H$6=\"Western Isles Health Board\",0,IF('III Tool Overview'!$H$6=\"Orkney Islands Local Authority\",0,IF('III Tool Overview'!$H$6=\"Shetland Islands Local Authority\",0,IF('III Tool Overview'!$H$6=\"Eilean Siar Local Authority\",0,hosp_count(2,B98,C98,D98,$C$1,G98+H98,1,F98,F98,SIMDRateRatios_hosp,SIMDrateratios,RateRatios!$B$3)*10))))))","v":4479.6434904066955},29.512329943493569,{"$f":"IF('III Tool Overview'!$H$6=\"Orkney Health Board\",0,IF('III Tool Overview'!$H$6=\"Shetland Health Board\",0,IF('III Tool Overview'!$H$6=\"Western Isles Health Board\",0,IF('III Tool Overview'!$H$6=\"Orkney Islands Local Authority\",0,IF('III Tool Overview'!$H$6=\"Shetland Islands Local Authority\",0,IF('III Tool Overview'!$H$6=\"Eilean Siar Local Authority\",0,hosp_count(5,B98,C98,D98,$C$1,G98,1,F98,F98,SIMDRateRatios_hosp,SIMDrateratios,RateRatios!$B$3)*1000))))))","v":1857251.8743648867},{"$f":"IF('III Tool Overview'!$H$6=\"Orkney Health Board\",0,IF('III Tool Overview'!$H$6=\"Shetland Health Board\",0,IF('III Tool Overview'!$H$6=\"Western Isles Health Board\",0,IF('III Tool Overview'!$H$6=\"Orkney Islands Local Authority\",0,IF('III Tool Overview'!$H$6=\"Shetland Islands Local Authority\",0,IF('III Tool Overview'!$H$6=\"Eilean Siar Local Authority\",0,hosp_count(5,B98,C98,D98,$C$1,G98+H98,1,F98,F98,SIMDRateRatios_hosp,SIMDrateratios,RateRatios!$B$3)*1000))))))","v":1845259.9589550931},11991.915409793612,{"$f":"IF('III Tool Overview'!$H$6=\"Orkney Health Board\",0,IF('III Tool Overview'!$H$6=\"Shetland Health Board\",0,IF('III Tool Overview'!$H$6=\"Western Isles Health Board\",0,IF('III Tool Overview'!$H$6=\"Orkney Islands Local Authority\",0,IF('III Tool Overview'!$H$6=\"Shetland Islands Local Authority\",0,IF('III Tool Overview'!$H$6=\"Eilean Siar Local Authority\",0,hosp_count(10,B98,C98,D98,$C$1,G98,1,F98,F98,SIMDRateRatios_hosp,SIMDrateratios,RateRatios!$B$3)*10))))))","v":43741.223208213596},{"$f":"IF('III Tool Overview'!$H$6=\"Orkney Health Board\",0,IF('III Tool Overview'!$H$6=\"Shetland Health Board\",0,IF('III Tool Overview'!$H$6=\"Western Isles Health Board\",0,IF('III Tool Overview'!$H$6=\"Orkney Islands Local Authority\",0,IF('III Tool Overview'!$H$6=\"Shetland Islands Local Authority\",0,IF('III Tool Overview'!$H$6=\"Eilean Siar Local Authority\",0,hosp_count(10,B98,C98,D98,$C$1,G98+H98,1,F98,F98,SIMDRateRatios_hosp,SIMDrateratios,RateRatios!$B$3)*10))))))","v":43466.727745135911},274.49546307768469,{"$f":"IF('III Tool Overview'!$H$6=\"Orkney Health Board\",0,IF('III Tool Overview'!$H$6=\"Shetland Health Board\",0,IF('III Tool Overview'!$H$6=\"Western Isles Health Board\",0,IF('III Tool Overview'!$H$6=\"Orkney Islands Local Authority\",0,IF('III Tool Overview'!$H$6=\"Shetland Islands Local Authority\",0,IF('III Tool Overview'!$H$6=\"Eilean Siar Local Authority\",0,hosp_count(20,B98,C98,D98,$C$1,G98,1,F98,F98,SIMDRateRatios_hosp,SIMDrateratios,RateRatios!$B$3)*10))))))","v":99349.387599352514},{"$f":"IF('III Tool Overview'!$H$6=\"Orkney Health Board\",0,IF('III Tool Overview'!$H$6=\"Shetland Health Board\",0,IF('III Tool Overview'!$H$6=\"Western Isles Health Board\",0,IF('III Tool Overview'!$H$6=\"Orkney Islands Local Authority\",0,IF('III Tool Overview'!$H$6=\"Shetland Islands Local Authority\",0,IF('III Tool Overview'!$H$6=\"Eilean Siar Local Authority\",0,hosp_count(20,B98,C98,D98,$C$1,G98+H98,1,F98,F98,SIMDRateRatios_hosp,SIMDrateratios,RateRatios!$B$3)*10))))))","v":98779.285504486528},570.10209486598615]
["Female 55-59",57.5,"female",1,1,{"$f":"HLOOKUP('III Tool Overview'!$H$6,LookUpData_Pop!$B$1:$AV$269,LookUpData_Pop!BB99,FALSE)/50","v":1131.1400000000001},{"$f":"'III Tool Overview'!$H$9/110","v":0},1131.1400000000001,{"$f":"IF('III Tool Overview'!$H$6=\"Orkney Health Board\",0,IF('III Tool Overview'!$H$6=\"Shetland Health Board\",0,IF('III Tool Overview'!$H$6=\"Western Isles Health Board\",0,IF('III Tool Overview'!$H$6=\"Orkney Islands Local Authority\",0,IF('III Tool Overview'!$H$6=\"Shetland Islands Local Authority\",0,IF('III Tool Overview'!$H$6=\"Eilean Siar Local Authority\",0,new_ci(2,B99,C99,D99,$C$1,G99,1,F99,F99,SIMDrateratios,RateRatios!$B$3)*10))))))","v":121.50488727502741},{"$f":"IF('III Tool Overview'!$H$6=\"Orkney Health Board\",0,IF('III Tool Overview'!$H$6=\"Shetland Health Board\",0,IF('III Tool Overview'!$H$6=\"Western Isles Health Board\",0,IF('III Tool Overview'!$H$6=\"Orkney Islands Local Authority\",0,IF('III Tool Overview'!$H$6=\"Shetland Islands Local Authority\",0,IF('III Tool Overview'!$H$6=\"Eilean Siar Local Authority\",0,new_ci(2,B99,C99,D99,$C$1,G99+H99,1,H99,H99,SIMDrateratios,RateRatios!$B$3)*10))))))","v":120.48865367317399},{"$f":"IF('III Tool Overview'!$H$6=\"Orkney Health Board\",0,IF('III Tool Overview'!$H$6=\"Shetland Health Board\",0,IF('III Tool Overview'!$H$6=\"Western Isles Health Board\",0,IF('III Tool Overview'!$H$6=\"Orkney Islands Local Authority\",0,IF('III Tool Overview'!$H$6=\"Shetland Islands Local Authority\",0,IF('III Tool Overview'!$H$6=\"Eilean Siar Local Authority\",0,new_ci(5,B99,C99,D99,$C$1,G99,1,F99,F99,SIMDrateratios,RateRatios!$B$3)*1000))))))","v":52982.353015868801},{"$f":"IF('III Tool Overview'!$H$6=\"Orkney Health Board\",0,IF('III Tool Overview'!$H$6=\"Shetland Health Board\",0,IF('III Tool Overview'!$H$6=\"Western Isles Health Board\",0,IF('III Tool Overview'!$H$6=\"Orkney Islands Local Authority\",0,IF('III Tool Overview'!$H$6=\"Shetland Islands Local Authority\",0,IF('III Tool Overview'!$H$6=\"Eilean Siar Local Authority\",0,new_ci(5,B99,C99,D99,$C$1,H99,1,F99,F99,SIMDrateratios,RateRatios!$B$3)*1000))))))","v":52547.354751561877},{"$f":"IF('III Tool Overview'!$H$6=\"Orkney Health Board\",0,IF('III Tool Overview'!$H$6=\"Shetland Health Board\",0,IF('III Tool Overview'!$H$6=\"Western Isles Health Board\",0,IF('III Tool Overview'!$H$6=\"Orkney Islands Local Authority\",0,IF('III Tool Overview'!$H$6=\"Shetland Islands Local Authority\",0,IF('III Tool Overview'!$H$6=\"Eilean Siar Local Authority\",0,new_ci(10,B99,C99,D99,$C$1,G99,1,F99,F99,SIMDrateratios,RateRatios!$B$3)*10))))))","v":1374.1658999191125},{"$f":"IF('III Tool Overview'!$H$6=\"Orkney Health Board\",0,IF('III Tool Overview'!$H$6=\"Shetland Health Board\",0,IF('III Tool Overview'!$H$6=\"Western Isles Health Board\",0,IF('III Tool Overview'!$H$6=\"Orkney Islands Local Authority\",0,IF('III Tool Overview'!$H$6=\"Shetland Islands Local Authority\",0,IF('III Tool Overview'!$H$6=\"Eilean Siar Local Authority\",0,new_ci(10,B99,C99,D99,$C$1,G99+H99,1,F99,F99,SIMDrateratios,RateRatios!$B$3)*10))))))","v":1363.3372545733064},{"$f":"IF('III Tool Overview'!$H$6=\"Orkney Health Board\",0,IF('III Tool Overview'!$H$6=\"Shetland Health Board\",0,IF('III Tool Overview'!$H$6=\"Western Isles Health Board\",0,IF('III Tool Overview'!$H$6=\"Orkney Islands Local Authority\",0,IF('III Tool Overview'!$H$6=\"Shetland Islands Local Authority\",0,IF('III Tool Overview'!$H$6=\"Eilean Siar Local Authority\",0,new_ci(20,B99,C99,D99,$C$1,G99,1,F99,F99,SIMDrateratios,RateRatios!$B$3)*10))))))","v":3766.4431782510906},{"$f":"IF('III Tool Overview'!$H$6=\"Orkney Health Board\",0,IF('III Tool Overview'!$H$6=\"Shetland Health Board\",0,IF('III Tool Overview'!$H$6=\"Western Isles Health Board\",0,IF('III Tool Overview'!$H$6=\"Orkney Islands Local Authority\",0,IF('III Tool Overview'!$H$6=\"Shetland Islands Local Authority\",0,IF('III Tool Overview'!$H$6=\"Eilean Siar Local Authority\",0,new_ci(20,B99,C99,D99,$C$1,G99+H99,1,F99,F99,SIMDrateratios,RateRatios!$B$3)*10))))))","v":3740.7092804855702},{"$f":"IF('III Tool Overview'!$H$6=\"Orkney Health Board\",0,IF('III Tool Overview'!$H$6=\"Shetland Health Board\",0,IF('III Tool Overview'!$H$6=\"Western Isles Health Board\",0,IF('III Tool Overview'!$H$6=\"Orkney Islands Local Authority\",0,IF('III Tool Overview'!$H$6=\"Shetland Islands Local Authority\",0,IF('III Tool Overview'!$H$6=\"Eilean Siar Local Authority\",0,new_yll(2,B99,C99,D99,$C$1,G99,1,F99,F99,SIMDrateratios,RateRatios!$B$3)*10))))))","v":4981.700378276124},{"$f":"IF('III Tool Overview'!$H$6=\"Orkney Health Board\",0,IF('III Tool Overview'!$H$6=\"Shetland Health Board\",0,IF('III Tool Overview'!$H$6=\"Western Isles Health Board\",0,IF('III Tool Overview'!$H$6=\"Orkney Islands Local Authority\",0,IF('III Tool Overview'!$H$6=\"Shetland Islands Local Authority\",0,IF('III Tool Overview'!$H$6=\"Eilean Siar Local Authority\",0,new_yll(2,B99,C99,D99,$C$1,G99+H99,1,F99,F99,SIMDrateratios,RateRatios!$B$3)*10))))))","v":4940.0348006001341},41.66557767598988,{"$f":"IF('III Tool Overview'!$H$6=\"Orkney Health Board\",0,IF('III Tool Overview'!$H$6=\"Shetland Health Board\",0,IF('III Tool Overview'!$H$6=\"Western Isles Health Board\",0,IF('III Tool Overview'!$H$6=\"Orkney Islands Local Authority\",0,IF('III Tool Overview'!$H$6=\"Shetland Islands Local Authority\",0,IF('III Tool Overview'!$H$6=\"Eilean Siar Local Authority\",0,new_yll(5,B99,C99,D99,$C$1,G99,1,F99,F99,SIMDrateratios,RateRatios!$B$3)*1000))))))","v":2089101.5088918856},{"$f":"IF('III Tool Overview'!$H$6=\"Orkney Health Board\",0,IF('III Tool Overview'!$H$6=\"Shetland Health Board\",0,IF('III Tool Overview'!$H$6=\"Western Isles Health Board\",0,IF('III Tool Overview'!$H$6=\"Orkney Islands Local Authority\",0,IF('III Tool Overview'!$H$6=\"Shetland Islands Local Authority\",0,IF('III Tool Overview'!$H$6=\"Eilean Siar Local Authority\",0,new_yll(5,B99,C99,D99,$C$1,G99+H99,1,F99,F99,SIMDrateratios,RateRatios!$B$3)*1000))))))","v":2071942.8598841168},17158.649007768836,{"$f":"IF('III Tool Overview'!$H$6=\"Orkney Health Board\",0,IF('III Tool Overview'!$H$6=\"Shetland Health Board\",0,IF('III Tool Overview'!$H$6=\"Western Isles Health Board\",0,IF('III Tool Overview'!$H$6=\"Orkney Islands Local Authority\",0,IF('III Tool Overview'!$H$6=\"Shetland Islands Local Authority\",0,IF('III Tool Overview'!$H$6=\"Eilean Siar Local Authority\",0,new_yll(10,B99,C99,D99,$C$1,G99,1,F99,F99,SIMDrateratios,RateRatios!$B$3)*10))))))","v":50355.935132955055},{"$f":"IF('III Tool Overview'!$H$6=\"Orkney Health Board\",0,IF('III Tool Overview'!$H$6=\"Shetland Health Board\",0,IF('III Tool Overview'!$H$6=\"Western Isles Health Board\",0,IF('III Tool Overview'!$H$6=\"Orkney Islands Local Authority\",0,IF('III Tool Overview'!$H$6=\"Shetland Islands Local Authority\",0,IF('III Tool Overview'!$H$6=\"Eilean Siar Local Authority\",0,new_yll(10,B99,C99,D99,$C$1,G99+H99,1,F99,F99,SIMDrateratios,RateRatios!$B$3)*10))))))","v":49958.034487678226},397.90064527682989,{"$f":"IF('III Tool Overview'!$H$6=\"Orkney Health Board\",0,IF('III Tool Overview'!$H$6=\"Shetland Health Board\",0,IF('III Tool Overview'!$H$6=\"Western Isles Health Board\",0,IF('III Tool Overview'!$H$6=\"Orkney Islands Local Authority\",0,IF('III Tool Overview'!$H$6=\"Shetland Islands Local Authority\",0,IF('III Tool Overview'!$H$6=\"Eilean Siar Local Authority\",0,new_yll(20,B99,C99,D99,$C$1,G99,1,F99,F99,SIMDrateratios,RateRatios!$B$3)*10))))))","v":115349.11524832377},{"$f":"IF('III Tool Overview'!$H$6=\"Orkney Health Board\",0,IF('III Tool Overview'!$H$6=\"Shetland Health Board\",0,IF('III Tool Overview'!$H$6=\"Western Isles Health Board\",0,IF('III Tool Overview'!$H$6=\"Orkney Islands Local Authority\",0,IF('III Tool Overview'!$H$6=\"Shetland Islands Local Authority\",0,IF('III Tool Overview'!$H$6=\"Eilean Siar Local Authority\",0,new_yll(20,B99,C99,D99,$C$1,G99+H99,1,F99,F99,SIMDrateratios,RateRatios!$B$3)*10))))))","v":114541.78687316124},807.32837516252766,{"$f":"IF('III Tool Overview'!$H$6=\"Orkney Health Board\",0,IF('III Tool Overview'!$H$6=\"Shetland Health Board\",0,IF('III Tool Overview'!$H$6=\"Western Isles Health Board\",0,IF('III Tool Overview'!$H$6=\"Orkney Islands Local Authority\",0,IF('III Tool Overview'!$H$6=\"Shetland Islands Local Authority\",0,IF('III Tool Overview'!$H$6=\"Eilean Siar Local Authority\",0,hosp_count(2,B99,C99,D99,$C$1,G99,1,F99,F99,SIMDRateRatios_hosp,SIMDrateratios,RateRatios!$B$3)*10))))))","v":4326.4125314339508},{"$f":"IF('III Tool Overview'!$H$6=\"Orkney Health Board\",0,IF('III Tool Overview'!$H$6=\"Shetland Health Board\",0,IF('III Tool Overview'!$H$6=\"Western Isles Health Board\",0,IF('III Tool Overview'!$H$6=\"Orkney Islands Local Authority\",0,IF('III Tool Overview'!$H$6=\"Shetland Islands Local Authority\",0,IF('III Tool Overview'!$H$6=\"Eilean Siar Local Authority\",0,hosp_count(2,B99,C99,D99,$C$1,G99+H99,1,F99,F99,SIMDRateRatios_hosp,SIMDrateratios,RateRatios!$B$3)*10))))))","v":4298.1038994687187},28.308631965232053,{"$f":"IF('III Tool Overview'!$H$6=\"Orkney Health Board\",0,IF('III Tool Overview'!$H$6=\"Shetland Health Board\",0,IF('III Tool Overview'!$H$6=\"Western Isles Health Board\",0,IF('III Tool Overview'!$H$6=\"Orkney Islands Local Authority\",0,IF('III Tool Overview'!$H$6=\"Shetland Islands Local Authority\",0,IF('III Tool Overview'!$H$6=\"Eilean Siar Local Authority\",0,hosp_count(5,B99,C99,D99,$C$1,G99,1,F99,F99,SIMDRateRatios_hosp,SIMDrateratios,RateRatios!$B$3)*1000))))))","v":1770107.8331053902},{"$f":"IF('III Tool Overview'!$H$6=\"Orkney Health Board\",0,IF('III Tool Overview'!$H$6=\"Shetland Health Board\",0,IF('III Tool Overview'!$H$6=\"Western Isles Health Board\",0,IF('III Tool Overview'!$H$6=\"Orkney Islands Local Authority\",0,IF('III Tool Overview'!$H$6=\"Shetland Islands Local Authority\",0,IF('III Tool Overview'!$H$6=\"Eilean Siar Local Authority\",0,hosp_count(5,B99,C99,D99,$C$1,G99+H99,1,F99,F99,SIMDRateRatios_hosp,SIMDrateratios,RateRatios!$B$3)*1000))))))","v":1758779.7857598183},11328.047345571918,{"$f":"IF('III Tool Overview'!$H$6=\"Orkney Health Board\",0,IF('III Tool Overview'!$H$6=\"Shetland Health Board\",0,IF('III Tool Overview'!$H$6=\"Western Isles Health Board\",0,IF('III Tool Overview'!$H$6=\"Orkney Islands Local Authority\",0,IF('III Tool Overview'!$H$6=\"Shetland Islands Local Authority\",0,IF('III Tool Overview'!$H$6=\"Eilean Siar Local Authority\",0,hosp_count(10,B99,C99,D99,$C$1,G99,1,F99,F99,SIMDRateRatios_hosp,SIMDrateratios,RateRatios!$B$3)*10))))))","v":41121.923110775453},{"$f":"IF('III Tool Overview'!$H$6=\"Orkney Health Board\",0,IF('III Tool Overview'!$H$6=\"Shetland Health Board\",0,IF('III Tool Overview'!$H$6=\"Western Isles Health Board\",0,IF('III Tool Overview'!$H$6=\"Orkney Islands Local Authority\",0,IF('III Tool Overview'!$H$6=\"Shetland Islands Local Authority\",0,IF('III Tool Overview'!$H$6=\"Eilean Siar Local Authority\",0,hosp_count(10,B99,C99,D99,$C$1,G99+H99,1,F99,F99,SIMDRateRatios_hosp,SIMDrateratios,RateRatios!$B$3)*10))))))","v":40870.800499646677},251.12261112877604,{"$f":"IF('III Tool Overview'!$H$6=\"Orkney Health Board\",0,IF('III Tool Overview'!$H$6=\"Shetland Health Board\",0,IF('III Tool Overview'!$H$6=\"Western Isles Health Board\",0,IF('III Tool Overview'!$H$6=\"Orkney Islands Local Authority\",0,IF('III Tool Overview'!$H$6=\"Shetland Islands Local Authority\",0,IF('III Tool Overview'!$H$6=\"Eilean Siar Local Authority\",0,hosp_count(20,B99,C99,D99,$C$1,G99,1,F99,F99,SIMDRateRatios_hosp,SIMDrateratios,RateRatios!$B$3)*10))))))","v":89743.789127474753},{"$f":"IF('III Tool Overview'!$H$6=\"Orkney Health Board\",0,IF('III Tool Overview'!$H$6=\"Shetland Health Board\",0,IF('III Tool Overview'!$H$6=\"Western Isles Health Board\",0,IF('III Tool Overview'!$H$6=\"Orkney Islands Local Authority\",0,IF('III Tool Overview'!$H$6=\"Shetland Islands Local Authority\",0,IF('III Tool Overview'!$H$6=\"Eilean Siar Local Authority\",0,hosp_count(20,B99,C99,D99,$C$1,G99+H99,1,F99,F99,SIMDRateRatios_hosp,SIMDrateratios,RateRatios!$B$3)*10))))))","v":89271.326709140703},472.46241833404929]
["Female 60-64",62.5,"female",1,1,{"$f":"HLOOKUP('III Tool Overview'!$H$6,LookUpData_Pop!$B$1:$AV$269,LookUpData_Pop!BB100,FALSE)/50","v":1081.44},{"$f":"'III Tool Overview'!$H$9/110","v":0},1081.44,{"$f":"IF('III Tool Overview'!$H$6=\"Orkney Health Board\",0,IF('III Tool Overview'!$H$6=\"Shetland Health Board\",0,IF('III Tool Overview'!$H$6=\"Western Isles Health Board\",0,IF('III Tool Overview'!$H$6=\"Orkney Islands Local Authority\",0,IF('III Tool Overview'!$H$6=\"Shetland Islands Local Authority\",0,IF('III Tool Overview'!$H$6=\"Eilean Siar Local Authority\",0,new_ci(2,B100,C100,D100,$C$1,G100,1,F100,F100,SIMDrateratios,RateRatios!$B$3)*10))))))","v":160.87739992521247},{"$f":"IF('III Tool Overview'!$H$6=\"Orkney Health Board\",0,IF('III Tool Overview'!$H$6=\"Shetland Health Board\",0,IF('III Tool Overview'!$H$6=\"Western Isles Health Board\",0,IF('III Tool Overview'!$H$6=\"Orkney Islands Local Authority\",0,IF('III Tool Overview'!$H$6=\"Shetland Islands Local Authority\",0,IF('III Tool Overview'!$H$6=\"Eilean Siar Local Authority\",0,new_ci(2,B100,C100,D100,$C$1,G100+H100,1,H100,H100,SIMDrateratios,RateRatios!$B$3)*10))))))","v":159.53504262096357},{"$f":"IF('III Tool Overview'!$H$6=\"Orkney Health Board\",0,IF('III Tool Overview'!$H$6=\"Shetland Health Board\",0,IF('III Tool Overview'!$H$6=\"Western Isles Health Board\",0,IF('III Tool Overview'!$H$6=\"Orkney Islands Local Authority\",0,IF('III Tool Overview'!$H$6=\"Shetland Islands Local Authority\",0,IF('III Tool Overview'!$H$6=\"Eilean Siar Local Authority\",0,new_ci(5,B100,C100,D100,$C$1,G100,1,F100,F100,SIMDrateratios,RateRatios!$B$3)*1000))))))","v":69652.863104525139},{"$f":"IF('III Tool Overview'!$H$6=\"Orkney Health Board\",0,IF('III Tool Overview'!$H$6=\"Shetland Health Board\",0,IF('III Tool Overview'!$H$6=\"Western Isles Health Board\",0,IF('III Tool Overview'!$H$6=\"Orkney Islands Local Authority\",0,IF('III Tool Overview'!$H$6=\"Shetland Islands Local Authority\",0,IF('III Tool Overview'!$H$6=\"Eilean Siar Local Authority\",0,new_ci(5,B100,C100,D100,$C$1,H100,1,F100,F100,SIMDrateratios,RateRatios!$B$3)*1000))))))","v":69086.456771686222},{"$f":"IF('III Tool Overview'!$H$6=\"Orkney Health Board\",0,IF('III Tool Overview'!$H$6=\"Shetland Health Board\",0,IF('III Tool Overview'!$H$6=\"Western Isles Health Board\",0,IF('III Tool Overview'!$H$6=\"Orkney Islands Local Authority\",0,IF('III Tool Overview'!$H$6=\"Shetland Islands Local Authority\",0,IF('III Tool Overview'!$H$6=\"Eilean Siar Local Authority\",0,new_ci(10,B100,C100,D100,$C$1,G100,1,F100,F100,SIMDrateratios,RateRatios!$B$3)*10))))))","v":1779.1896699577412},{"$f":"IF('III Tool Overview'!$H$6=\"Orkney Health Board\",0,IF('III Tool Overview'!$H$6=\"Shetland Health Board\",0,IF('III Tool Overview'!$H$6=\"Western Isles Health Board\",0,IF('III Tool Overview'!$H$6=\"Orkney Islands Local Authority\",0,IF('III Tool Overview'!$H$6=\"Shetland Islands Local Authority\",0,IF('III Tool Overview'!$H$6=\"Eilean Siar Local Authority\",0,new_ci(10,B100,C100,D100,$C$1,G100+H100,1,F100,F100,SIMDrateratios,RateRatios!$B$3)*10))))))","v":1765.5269132977648},{"$f":"IF('III Tool Overview'!$H$6=\"Orkney Health Board\",0,IF('III Tool Overview'!$H$6=\"Shetland Health Board\",0,IF('III Tool Overview'!$H$6=\"Western Isles Health Board\",0,IF('III Tool Overview'!$H$6=\"Orkney Islands Local Authority\",0,IF('III Tool Overview'!$H$6=\"Shetland Islands Local Authority\",0,IF('III Tool Overview'!$H$6=\"Eilean Siar Local Authority\",0,new_ci(20,B100,C100,D100,$C$1,G100,1,F100,F100,SIMDrateratios,RateRatios!$B$3)*10))))))","v":4649.2048605564451},{"$f":"IF('III Tool Overview'!$H$6=\"Orkney Health Board\",0,IF('III Tool Overview'!$H$6=\"Shetland Health Board\",0,IF('III Tool Overview'!$H$6=\"Western Isles Health Board\",0,IF('III Tool Overview'!$H$6=\"Orkney Islands Local Authority\",0,IF('III Tool Overview'!$H$6=\"Shetland Islands Local Authority\",0,IF('III Tool Overview'!$H$6=\"Eilean Siar Local Authority\",0,new_ci(20,B100,C100,D100,$C$1,G100+H100,1,F100,F100,SIMDrateratios,RateRatios!$B$3)*10))))))","v":4620.0116201224046},{"$f":"IF('III Tool Overview'!$H$6=\"Orkney Health Board\",0,IF('III Tool Overview'!$H$6=\"Shetland Health Board\",0,IF('III Tool Overview'!$H$6=\"Western Isles Health Board\",0,IF('III Tool Overview'!$H$6=\"Orkney Islands Local Authority\",0,IF('III Tool Overview'!$H$6=\"Shetland Islands Local Authority\",0,IF('III Tool Overview'!$H$6=\"Eilean Siar Local Authority\",0,new_yll(2,B100,C100,D100,$C$1,G100,1,F100,F100,SIMDrateratios,RateRatios!$B$3)*10))))))","v":5952.4637972328619},{"$f":"IF('III Tool Overview'!$H$6=\"Orkney Health Board\",0,IF('III Tool Overview'!$H$6=\"Shetland Health Board\",0,IF('III Tool Overview'!$H$6=\"Western Isles Health Board\",0,IF('III Tool Overview'!$H$6=\"Orkney Islands Local Authority\",0,IF('III Tool Overview'!$H$6=\"Shetland Islands Local Authority\",0,IF('III Tool Overview'!$H$6=\"Eilean Siar Local Authority\",0,new_yll(2,B100,C100,D100,$C$1,G100+H100,1,F100,F100,SIMDrateratios,RateRatios!$B$3)*10))))))","v":5902.796576975652},49.66722025720992,{"$f":"IF('III Tool Overview'!$H$6=\"Orkney Health Board\",0,IF('III Tool Overview'!$H$6=\"Shetland Health Board\",0,IF('III Tool Overview'!$H$6=\"Western Isles Health Board\",0,IF('III Tool Overview'!$H$6=\"Orkney Islands Local Authority\",0,IF('III Tool Overview'!$H$6=\"Shetland Islands Local Authority\",0,IF('III Tool Overview'!$H$6=\"Eilean Siar Local Authority\",0,new_yll(5,B100,C100,D100,$C$1,G100,1,F100,F100,SIMDrateratios,RateRatios!$B$3)*1000))))))","v":2468214.50317665},{"$f":"IF('III Tool Overview'!$H$6=\"Orkney Health Board\",0,IF('III Tool Overview'!$H$6=\"Shetland Health Board\",0,IF('III Tool Overview'!$H$6=\"Western Isles Health Board\",0,IF('III Tool Overview'!$H$6=\"Orkney Islands Local Authority\",0,IF('III Tool Overview'!$H$6=\"Shetland Islands Local Authority\",0,IF('III Tool Overview'!$H$6=\"Eilean Siar Local Authority\",0,new_yll(5,B100,C100,D100,$C$1,G100+H100,1,F100,F100,SIMDrateratios,RateRatios!$B$3)*1000))))))","v":2448131.3102437793},20083.192932870705,{"$f":"IF('III Tool Overview'!$H$6=\"Orkney Health Board\",0,IF('III Tool Overview'!$H$6=\"Shetland Health Board\",0,IF('III Tool Overview'!$H$6=\"Western Isles Health Board\",0,IF('III Tool Overview'!$H$6=\"Orkney Islands Local Authority\",0,IF('III Tool Overview'!$H$6=\"Shetland Islands Local Authority\",0,IF('III Tool Overview'!$H$6=\"Eilean Siar Local Authority\",0,new_yll(10,B100,C100,D100,$C$1,G100,1,F100,F100,SIMDrateratios,RateRatios!$B$3)*10))))))","v":58146.647784360859},{"$f":"IF('III Tool Overview'!$H$6=\"Orkney Health Board\",0,IF('III Tool Overview'!$H$6=\"Shetland Health Board\",0,IF('III Tool Overview'!$H$6=\"Western Isles Health Board\",0,IF('III Tool Overview'!$H$6=\"Orkney Islands Local Authority\",0,IF('III Tool Overview'!$H$6=\"Shetland Islands Local Authority\",0,IF('III Tool Overview'!$H$6=\"Eilean Siar Local Authority\",0,new_yll(10,B100,C100,D100,$C$1,G100+H100,1,F100,F100,SIMDrateratios,RateRatios!$B$3)*10))))))","v":57698.172757708962},448.47502665189677,{"$f":"IF('III Tool Overview'!$H$6=\"Orkney Health Board\",0,IF('III Tool Overview'!$H$6=\"Shetland Health Board\",0,IF('III Tool Overview'!$H$6=\"Western Isles Health Board\",0,IF('III Tool Overview'!$H$6=\"Orkney Islands Local Authority\",0,IF('III Tool Overview'!$H$6=\"Shetland Islands Local Authority\",0,IF('III Tool Overview'!$H$6=\"Eilean Siar Local Authority\",0,new_yll(20,B100,C100,D100,$C$1,G100,1,F100,F100,SIMDrateratios,RateRatios!$B$3)*10))))))","v":124888.40185169986},{"$f":"IF('III Tool Overview'!$H$6=\"Orkney Health Board\",0,IF('III Tool Overview'!$H$6=\"Shetland Health Board\",0,IF('III Tool Overview'!$H$6=\"Western Isles Health Board\",0,IF('III Tool Overview'!$H$6=\"Orkney Islands Local Authority\",0,IF('III Tool Overview'!$H$6=\"Shetland Islands Local Authority\",0,IF('III Tool Overview'!$H$6=\"Eilean Siar Local Authority\",0,new_yll(20,B100,C100,D100,$C$1,G100+H100,1,F100,F100,SIMDrateratios,RateRatios!$B$3)*10))))))","v":124071.30700976867},817.09484193118988,{"$f":"IF('III Tool Overview'!$H$6=\"Orkney Health Board\",0,IF('III Tool Overview'!$H$6=\"Shetland Health Board\",0,IF('III Tool Overview'!$H$6=\"Western Isles Health Board\",0,IF('III Tool Overview'!$H$6=\"Orkney Islands Local Authority\",0,IF('III Tool Overview'!$H$6=\"Shetland Islands Local Authority\",0,IF('III Tool Overview'!$H$6=\"Eilean Siar Local Authority\",0,hosp_count(2,B100,C100,D100,$C$1,G100,1,F100,F100,SIMDRateRatios_hosp,SIMDrateratios,RateRatios!$B$3)*10))))))","v":4564.8676739799057},{"$f":"IF('III Tool Overview'!$H$6=\"Orkney Health Board\",0,IF('III Tool Overview'!$H$6=\"Shetland Health Board\",0,IF('III Tool Overview'!$H$6=\"Western Isles Health Board\",0,IF('III Tool Overview'!$H$6=\"Orkney Islands Local Authority\",0,IF('III Tool Overview'!$H$6=\"Shetland Islands Local Authority\",0,IF('III Tool Overview'!$H$6=\"Eilean Siar Local Authority\",0,hosp_count(2,B100,C100,D100,$C$1,G100+H100,1,F100,F100,SIMDRateRatios_hosp,SIMDrateratios,RateRatios!$B$3)*10))))))","v":4535.0072364089046},29.860437571001057,{"$f":"IF('III Tool Overview'!$H$6=\"Orkney Health Board\",0,IF('III Tool Overview'!$H$6=\"Shetland Health Board\",0,IF('III Tool Overview'!$H$6=\"Western Isles Health Board\",0,IF('III Tool Overview'!$H$6=\"Orkney Islands Local Authority\",0,IF('III Tool Overview'!$H$6=\"Shetland Islands Local Authority\",0,IF('III Tool Overview'!$H$6=\"Eilean Siar Local Authority\",0,hosp_count(5,B100,C100,D100,$C$1,G100,1,F100,F100,SIMDRateRatios_hosp,SIMDrateratios,RateRatios!$B$3)*1000))))))","v":1855287.6677848152},{"$f":"IF('III Tool Overview'!$H$6=\"Orkney Health Board\",0,IF('III Tool Overview'!$H$6=\"Shetland Health Board\",0,IF('III Tool Overview'!$H$6=\"Western Isles Health Board\",0,IF('III Tool Overview'!$H$6=\"Orkney Islands Local Authority\",0,IF('III Tool Overview'!$H$6=\"Shetland Islands Local Authority\",0,IF('III Tool Overview'!$H$6=\"Eilean Siar Local Authority\",0,hosp_count(5,B100,C100,D100,$C$1,G100+H100,1,F100,F100,SIMDRateRatios_hosp,SIMDrateratios,RateRatios!$B$3)*1000))))))","v":1843519.7463146765},11767.92147013871,{"$f":"IF('III Tool Overview'!$H$6=\"Orkney Health Board\",0,IF('III Tool Overview'!$H$6=\"Shetland Health Board\",0,IF('III Tool Overview'!$H$6=\"Western Isles Health Board\",0,IF('III Tool Overview'!$H$6=\"Orkney Islands Local Authority\",0,IF('III Tool Overview'!$H$6=\"Shetland Islands Local Authority\",0,IF('III Tool Overview'!$H$6=\"Eilean Siar Local Authority\",0,hosp_count(10,B100,C100,D100,$C$1,G100,1,F100,F100,SIMDRateRatios_hosp,SIMDrateratios,RateRatios!$B$3)*10))))))","v":42522.592648910766},{"$f":"IF('III Tool Overview'!$H$6=\"Orkney Health Board\",0,IF('III Tool Overview'!$H$6=\"Shetland Health Board\",0,IF('III Tool Overview'!$H$6=\"Western Isles Health Board\",0,IF('III Tool Overview'!$H$6=\"Orkney Islands Local Authority\",0,IF('III Tool Overview'!$H$6=\"Shetland Islands Local Authority\",0,IF('III Tool Overview'!$H$6=\"Eilean Siar Local Authority\",0,hosp_count(10,B100,C100,D100,$C$1,G100+H100,1,F100,F100,SIMDRateRatios_hosp,SIMDrateratios,RateRatios!$B$3)*10))))))","v":42269.942760047335},252.64988886343053,{"$f":"IF('III Tool Overview'!$H$6=\"Orkney Health Board\",0,IF('III Tool Overview'!$H$6=\"Shetland Health Board\",0,IF('III Tool Overview'!$H$6=\"Western Isles Health Board\",0,IF('III Tool Overview'!$H$6=\"Orkney Islands Local Authority\",0,IF('III Tool Overview'!$H$6=\"Shetland Islands Local Authority\",0,IF('III Tool Overview'!$H$6=\"Eilean Siar Local Authority\",0,hosp_count(20,B100,C100,D100,$C$1,G100,1,F100,F100,SIMDRateRatios_hosp,SIMDrateratios,RateRatios!$B$3)*10))))))","v":89320.401374927897},{"$f":"IF('III Tool Overview'!$H$6=\"Orkney Health Board\",0,IF('III Tool Overview'!$H$6=\"Shetland Health Board\",0,IF('III Tool Overview'!$H$6=\"Western Isles Health Board\",0,IF('III Tool Overview'!$H$6=\"Orkney Islands Local Authority\",0,IF('III Tool Overview'!$H$6=\"Shetland Islands Local Authority\",0,IF('III Tool Overview'!$H$6=\"Eilean Siar Local Authority\",0,hosp_count(20,B100,C100,D100,$C$1,G100+H100,1,F100,F100,SIMDRateRatios_hosp,SIMDrateratios,RateRatios!$B$3)*10))))))","v":88889.740056956594},430.6613179713022]
["Female 65-69",67.5,"female",1,1,{"$f":"HLOOKUP('III Tool Overview'!$H$6,LookUpData_Pop!$B$1:$AV$269,LookUpData_Pop!BB101,FALSE)/50","v":994.84},{"$f":"'III Tool Overview'!$H$9/110","v":0},994.84,{"$f":"IF('III Tool Overview'!$H$6=\"Orkney Health Board\",0,IF('III Tool Overview'!$H$6=\"Shetland Health Board\",0,IF('III Tool Overview'!$H$6=\"Western Isles Health Board\",0,IF('III Tool Overview'!$H$6=\"Orkney Islands Local Authority\",0,IF('III Tool Overview'!$H$6=\"Shetland Islands Local Authority\",0,IF('III Tool Overview'!$H$6=\"Eilean Siar Local Authority\",0,new_ci(2,B101,C101,D101,$C$1,G101,1,F101,F101,SIMDrateratios,RateRatios!$B$3)*10))))))","v":240.80773563489583},{"$f":"IF('III Tool Overview'!$H$6=\"Orkney Health Board\",0,IF('III Tool Overview'!$H$6=\"Shetland Health Board\",0,IF('III Tool Overview'!$H$6=\"Western Isles Health Board\",0,IF('III Tool Overview'!$H$6=\"Orkney Islands Local Authority\",0,IF('III Tool Overview'!$H$6=\"Shetland Islands Local Authority\",0,IF('III Tool Overview'!$H$6=\"Eilean Siar Local Authority\",0,new_ci(2,B101,C101,D101,$C$1,G101+H101,1,H101,H101,SIMDrateratios,RateRatios!$B$3)*10))))))","v":238.80679399198317},{"$f":"IF('III Tool Overview'!$H$6=\"Orkney Health Board\",0,IF('III Tool Overview'!$H$6=\"Shetland Health Board\",0,IF('III Tool Overview'!$H$6=\"Western Isles Health Board\",0,IF('III Tool Overview'!$H$6=\"Orkney Islands Local Authority\",0,IF('III Tool Overview'!$H$6=\"Shetland Islands Local Authority\",0,IF('III Tool Overview'!$H$6=\"Eilean Siar Local Authority\",0,new_ci(5,B101,C101,D101,$C$1,G101,1,F101,F101,SIMDrateratios,RateRatios!$B$3)*1000))))))","v":102595.86188072794},{"$f":"IF('III Tool Overview'!$H$6=\"Orkney Health Board\",0,IF('III Tool Overview'!$H$6=\"Shetland Health Board\",0,IF('III Tool Overview'!$H$6=\"Western Isles Health Board\",0,IF('III Tool Overview'!$H$6=\"Orkney Islands Local Authority\",0,IF('III Tool Overview'!$H$6=\"Shetland Islands Local Authority\",0,IF('III Tool Overview'!$H$6=\"Eilean Siar Local Authority\",0,new_ci(5,B101,C101,D101,$C$1,H101,1,F101,F101,SIMDrateratios,RateRatios!$B$3)*1000))))))","v":101778.65791626669},{"$f":"IF('III Tool Overview'!$H$6=\"Orkney Health Board\",0,IF('III Tool Overview'!$H$6=\"Shetland Health Board\",0,IF('III Tool Overview'!$H$6=\"Western Isles Health Board\",0,IF('III Tool Overview'!$H$6=\"Orkney Islands Local Authority\",0,IF('III Tool Overview'!$H$6=\"Shetland Islands Local Authority\",0,IF('III Tool Overview'!$H$6=\"Eilean Siar Local Authority\",0,new_ci(10,B101,C101,D101,$C$1,G101,1,F101,F101,SIMDrateratios,RateRatios!$B$3)*10))))))","v":2533.1082702532576},{"$f":"IF('III Tool Overview'!$H$6=\"Orkney Health Board\",0,IF('III Tool Overview'!$H$6=\"Shetland Health Board\",0,IF('III Tool Overview'!$H$6=\"Western Isles Health Board\",0,IF('III Tool Overview'!$H$6=\"Orkney Islands Local Authority\",0,IF('III Tool Overview'!$H$6=\"Shetland Islands Local Authority\",0,IF('III Tool Overview'!$H$6=\"Eilean Siar Local Authority\",0,new_ci(10,B101,C101,D101,$C$1,G101+H101,1,F101,F101,SIMDrateratios,RateRatios!$B$3)*10))))))","v":2514.756946660887},{"$f":"IF('III Tool Overview'!$H$6=\"Orkney Health Board\",0,IF('III Tool Overview'!$H$6=\"Shetland Health Board\",0,IF('III Tool Overview'!$H$6=\"Western Isles Health Board\",0,IF('III Tool Overview'!$H$6=\"Orkney Islands Local Authority\",0,IF('III Tool Overview'!$H$6=\"Shetland Islands Local Authority\",0,IF('III Tool Overview'!$H$6=\"Eilean Siar Local Authority\",0,new_ci(20,B101,C101,D101,$C$1,G101,1,F101,F101,SIMDrateratios,RateRatios!$B$3)*10))))))","v":5978.7400526179135},{"$f":"IF('III Tool Overview'!$H$6=\"Orkney Health Board\",0,IF('III Tool Overview'!$H$6=\"Shetland Health Board\",0,IF('III Tool Overview'!$H$6=\"Western Isles Health Board\",0,IF('III Tool Overview'!$H$6=\"Orkney Islands Local Authority\",0,IF('III Tool Overview'!$H$6=\"Shetland Islands Local Authority\",0,IF('III Tool Overview'!$H$6=\"Eilean Siar Local Authority\",0,new_ci(20,B101,C101,D101,$C$1,G101+H101,1,F101,F101,SIMDrateratios,RateRatios!$B$3)*10))))))","v":5947.9456632491483},{"$f":"IF('III Tool Overview'!$H$6=\"Orkney Health Board\",0,IF('III Tool Overview'!$H$6=\"Shetland Health Board\",0,IF('III Tool Overview'!$H$6=\"Western Isles Health Board\",0,IF('III Tool Overview'!$H$6=\"Orkney Islands Local Authority\",0,IF('III Tool Overview'!$H$6=\"Shetland Islands Local Authority\",0,IF('III Tool Overview'!$H$6=\"Eilean Siar Local Authority\",0,new_yll(2,B101,C101,D101,$C$1,G101,1,F101,F101,SIMDrateratios,RateRatios!$B$3)*10))))))","v":7465.03980468177},{"$f":"IF('III Tool Overview'!$H$6=\"Orkney Health Board\",0,IF('III Tool Overview'!$H$6=\"Shetland Health Board\",0,IF('III Tool Overview'!$H$6=\"Western Isles Health Board\",0,IF('III Tool Overview'!$H$6=\"Orkney Islands Local Authority\",0,IF('III Tool Overview'!$H$6=\"Shetland Islands Local Authority\",0,IF('III Tool Overview'!$H$6=\"Eilean Siar Local Authority\",0,new_yll(2,B101,C101,D101,$C$1,G101+H101,1,F101,F101,SIMDrateratios,RateRatios!$B$3)*10))))))","v":7403.0106137514776},62.029190930292316,{"$f":"IF('III Tool Overview'!$H$6=\"Orkney Health Board\",0,IF('III Tool Overview'!$H$6=\"Shetland Health Board\",0,IF('III Tool Overview'!$H$6=\"Western Isles Health Board\",0,IF('III Tool Overview'!$H$6=\"Orkney Islands Local Authority\",0,IF('III Tool Overview'!$H$6=\"Shetland Islands Local Authority\",0,IF('III Tool Overview'!$H$6=\"Eilean Siar Local Authority\",0,new_yll(5,B101,C101,D101,$C$1,G101,1,F101,F101,SIMDrateratios,RateRatios!$B$3)*1000))))))","v":3021357.3603880689},{"$f":"IF('III Tool Overview'!$H$6=\"Orkney Health Board\",0,IF('III Tool Overview'!$H$6=\"Shetland Health Board\",0,IF('III Tool Overview'!$H$6=\"Western Isles Health Board\",0,IF('III Tool Overview'!$H$6=\"Orkney Islands Local Authority\",0,IF('III Tool Overview'!$H$6=\"Shetland Islands Local Authority\",0,IF('III Tool Overview'!$H$6=\"Eilean Siar Local Authority\",0,new_yll(5,B101,C101,D101,$C$1,G101+H101,1,F101,F101,SIMDrateratios,RateRatios!$B$3)*1000))))))","v":2997262.3751689824},24094.98521908652,{"$f":"IF('III Tool Overview'!$H$6=\"Orkney Health Board\",0,IF('III Tool Overview'!$H$6=\"Shetland Health Board\",0,IF('III Tool Overview'!$H$6=\"Western Isles Health Board\",0,IF('III Tool Overview'!$H$6=\"Orkney Islands Local Authority\",0,IF('III Tool Overview'!$H$6=\"Shetland Islands Local Authority\",0,IF('III Tool Overview'!$H$6=\"Eilean Siar Local Authority\",0,new_yll(10,B101,C101,D101,$C$1,G101,1,F101,F101,SIMDrateratios,RateRatios!$B$3)*10))))))","v":67799.07218514265},{"$f":"IF('III Tool Overview'!$H$6=\"Orkney Health Board\",0,IF('III Tool Overview'!$H$6=\"Shetland Health Board\",0,IF('III Tool Overview'!$H$6=\"Western Isles Health Board\",0,IF('III Tool Overview'!$H$6=\"Orkney Islands Local Authority\",0,IF('III Tool Overview'!$H$6=\"Shetland Islands Local Authority\",0,IF('III Tool Overview'!$H$6=\"Eilean Siar Local Authority\",0,new_yll(10,B101,C101,D101,$C$1,G101+H101,1,F101,F101,SIMDrateratios,RateRatios!$B$3)*10))))))","v":67303.341435198701},495.73074994394847,{"$f":"IF('III Tool Overview'!$H$6=\"Orkney Health Board\",0,IF('III Tool Overview'!$H$6=\"Shetland Health Board\",0,IF('III Tool Overview'!$H$6=\"Western Isles Health Board\",0,IF('III Tool Overview'!$H$6=\"Orkney Islands Local Authority\",0,IF('III Tool Overview'!$H$6=\"Shetland Islands Local Authority\",0,IF('III Tool Overview'!$H$6=\"Eilean Siar Local Authority\",0,new_yll(20,B101,C101,D101,$C$1,G101,1,F101,F101,SIMDrateratios,RateRatios!$B$3)*10))))))","v":127931.19155073036},{"$f":"IF('III Tool Overview'!$H$6=\"Orkney Health Board\",0,IF('III Tool Overview'!$H$6=\"Shetland Health Board\",0,IF('III Tool Overview'!$H$6=\"Western Isles Health Board\",0,IF('III Tool Overview'!$H$6=\"Orkney Islands Local Authority\",0,IF('III Tool Overview'!$H$6=\"Shetland Islands Local Authority\",0,IF('III Tool Overview'!$H$6=\"Eilean Siar Local Authority\",0,new_yll(20,B101,C101,D101,$C$1,G101+H101,1,F101,F101,SIMDrateratios,RateRatios!$B$3)*10))))))","v":127203.72280940712},727.46874132324592,{"$f":"IF('III Tool Overview'!$H$6=\"Orkney Health Board\",0,IF('III Tool Overview'!$H$6=\"Shetland Health Board\",0,IF('III Tool Overview'!$H$6=\"Western Isles Health Board\",0,IF('III Tool Overview'!$H$6=\"Orkney Islands Local Authority\",0,IF('III Tool Overview'!$H$6=\"Shetland Islands Local Authority\",0,IF('III Tool Overview'!$H$6=\"Eilean Siar Local Authority\",0,hosp_count(2,B101,C101,D101,$C$1,G101,1,F101,F101,SIMDRateRatios_hosp,SIMDrateratios,RateRatios!$B$3)*10))))))","v":4868.5574240291044},{"$f":"IF('III Tool Overview'!$H$6=\"Orkney Health Board\",0,IF('III Tool Overview'!$H$6=\"Shetland Health Board\",0,IF('III Tool Overview'!$H$6=\"Western Isles Health Board\",0,IF('III Tool Overview'!$H$6=\"Orkney Islands Local Authority\",0,IF('III Tool Overview'!$H$6=\"Shetland Islands Local Authority\",0,IF('III Tool Overview'!$H$6=\"Eilean Siar Local Authority\",0,hosp_count(2,B101,C101,D101,$C$1,G101+H101,1,F101,F101,SIMDRateRatios_hosp,SIMDrateratios,RateRatios!$B$3)*10))))))","v":4836.6923560985406},31.865067930563782,{"$f":"IF('III Tool Overview'!$H$6=\"Orkney Health Board\",0,IF('III Tool Overview'!$H$6=\"Shetland Health Board\",0,IF('III Tool Overview'!$H$6=\"Western Isles Health Board\",0,IF('III Tool Overview'!$H$6=\"Orkney Islands Local Authority\",0,IF('III Tool Overview'!$H$6=\"Shetland Islands Local Authority\",0,IF('III Tool Overview'!$H$6=\"Eilean Siar Local Authority\",0,hosp_count(5,B101,C101,D101,$C$1,G101,1,F101,F101,SIMDRateRatios_hosp,SIMDrateratios,RateRatios!$B$3)*1000))))))","v":1949219.4117865909},{"$f":"IF('III Tool Overview'!$H$6=\"Orkney Health Board\",0,IF('III Tool Overview'!$H$6=\"Shetland Health Board\",0,IF('III Tool Overview'!$H$6=\"Western Isles Health Board\",0,IF('III Tool Overview'!$H$6=\"Orkney Islands Local Authority\",0,IF('III Tool Overview'!$H$6=\"Shetland Islands Local Authority\",0,IF('III Tool Overview'!$H$6=\"Eilean Siar Local Authority\",0,hosp_count(5,B101,C101,D101,$C$1,G101+H101,1,F101,F101,SIMDRateRatios_hosp,SIMDrateratios,RateRatios!$B$3)*1000))))))","v":1937088.9951987155},12130.416587875457,{"$f":"IF('III Tool Overview'!$H$6=\"Orkney Health Board\",0,IF('III Tool Overview'!$H$6=\"Shetland Health Board\",0,IF('III Tool Overview'!$H$6=\"Western Isles Health Board\",0,IF('III Tool Overview'!$H$6=\"Orkney Islands Local Authority\",0,IF('III Tool Overview'!$H$6=\"Shetland Islands Local Authority\",0,IF('III Tool Overview'!$H$6=\"Eilean Siar Local Authority\",0,hosp_count(10,B101,C101,D101,$C$1,G101,1,F101,F101,SIMDRateRatios_hosp,SIMDrateratios,RateRatios!$B$3)*10))))))","v":43352.362053470752},{"$f":"IF('III Tool Overview'!$H$6=\"Orkney Health Board\",0,IF('III Tool Overview'!$H$6=\"Shetland Health Board\",0,IF('III Tool Overview'!$H$6=\"Western Isles Health Board\",0,IF('III Tool Overview'!$H$6=\"Orkney Islands Local Authority\",0,IF('III Tool Overview'!$H$6=\"Shetland Islands Local Authority\",0,IF('III Tool Overview'!$H$6=\"Eilean Siar Local Authority\",0,hosp_count(10,B101,C101,D101,$C$1,G101+H101,1,F101,F101,SIMDRateRatios_hosp,SIMDrateratios,RateRatios!$B$3)*10))))))","v":43110.241266666089},242.1207868046622,{"$f":"IF('III Tool Overview'!$H$6=\"Orkney Health Board\",0,IF('III Tool Overview'!$H$6=\"Shetland Health Board\",0,IF('III Tool Overview'!$H$6=\"Western Isles Health Board\",0,IF('III Tool Overview'!$H$6=\"Orkney Islands Local Authority\",0,IF('III Tool Overview'!$H$6=\"Shetland Islands Local Authority\",0,IF('III Tool Overview'!$H$6=\"Eilean Siar Local Authority\",0,hosp_count(20,B101,C101,D101,$C$1,G101,1,F101,F101,SIMDRateRatios_hosp,SIMDrateratios,RateRatios!$B$3)*10))))))","v":83988.517977434938},{"$f":"IF('III Tool Overview'!$H$6=\"Orkney Health Board\",0,IF('III Tool Overview'!$H$6=\"Shetland Health Board\",0,IF('III Tool Overview'!$H$6=\"Western Isles Health Board\",0,IF('III Tool Overview'!$H$6=\"Orkney Islands Local Authority\",0,IF('III Tool Overview'!$H$6=\"Shetland Islands Local Authority\",0,IF('III Tool Overview'!$H$6=\"Eilean Siar Local Authority\",0,hosp_count(20,B101,C101,D101,$C$1,G101+H101,1,F101,F101,SIMDRateRatios_hosp,SIMDrateratios,RateRatios!$B$3)*10))))))","v":83658.711794379706},329.8061830552324]
["Female 70-74",72.5,"female",1,1,{"$f":"HLOOKUP('III Tool Overview'!$H$6,LookUpData_Pop!$B$1:$AV$269,LookUpData_Pop!BB102,FALSE)/50","v":996.66},{"$f":"'III Tool Overview'!$H$9/110","v":0},996.66,{"$f":"IF('III Tool Overview'!$H$6=\"Orkney Health Board\",0,IF('III Tool Overview'!$H$6=\"Shetland Health Board\",0,IF('III Tool Overview'!$H$6=\"Western Isles Health Board\",0,IF('III Tool Overview'!$H$6=\"Orkney Islands Local Authority\",0,IF('III Tool Overview'!$H$6=\"Shetland Islands Local Authority\",0,IF('III Tool Overview'!$H$6=\"Eilean Siar Local Authority\",0,new_ci(2,B102,C102,D102,$C$1,G102,1,F102,F102,SIMDrateratios,RateRatios!$B$3)*10))))))","v":333.22196608370677},{"$f":"IF('III Tool Overview'!$H$6=\"Orkney Health Board\",0,IF('III Tool Overview'!$H$6=\"Shetland Health Board\",0,IF('III Tool Overview'!$H$6=\"Western Isles Health Board\",0,IF('III Tool Overview'!$H$6=\"Orkney Islands Local Authority\",0,IF('III Tool Overview'!$H$6=\"Shetland Islands Local Authority\",0,IF('III Tool Overview'!$H$6=\"Eilean Siar Local Authority\",0,new_ci(2,B102,C102,D102,$C$1,G102+H102,1,H102,H102,SIMDrateratios,RateRatios!$B$3)*10))))))","v":330.46570828917504},{"$f":"IF('III Tool Overview'!$H$6=\"Orkney Health Board\",0,IF('III Tool Overview'!$H$6=\"Shetland Health Board\",0,IF('III Tool Overview'!$H$6=\"Western Isles Health Board\",0,IF('III Tool Overview'!$H$6=\"Orkney Islands Local Authority\",0,IF('III Tool Overview'!$H$6=\"Shetland Islands Local Authority\",0,IF('III Tool Overview'!$H$6=\"Eilean Siar Local Authority\",0,new_ci(5,B102,C102,D102,$C$1,G102,1,F102,F102,SIMDrateratios,RateRatios!$B$3)*1000))))))","v":139726.7388521586},{"$f":"IF('III Tool Overview'!$H$6=\"Orkney Health Board\",0,IF('III Tool Overview'!$H$6=\"Shetland Health Board\",0,IF('III Tool Overview'!$H$6=\"Western Isles Health Board\",0,IF('III Tool Overview'!$H$6=\"Orkney Islands Local Authority\",0,IF('III Tool Overview'!$H$6=\"Shetland Islands Local Authority\",0,IF('III Tool Overview'!$H$6=\"Eilean Siar Local Authority\",0,new_ci(5,B102,C102,D102,$C$1,H102,1,F102,F102,SIMDrateratios,RateRatios!$B$3)*1000))))))","v":138637.12695760265},{"$f":"IF('III Tool Overview'!$H$6=\"Orkney Health Board\",0,IF('III Tool Overview'!$H$6=\"Shetland Health Board\",0,IF('III Tool Overview'!$H$6=\"Western Isles Health Board\",0,IF('III Tool Overview'!$H$6=\"Orkney Islands Local Authority\",0,IF('III Tool Overview'!$H$6=\"Shetland Islands Local Authority\",0,IF('III Tool Overview'!$H$6=\"Eilean Siar Local Authority\",0,new_ci(10,B102,C102,D102,$C$1,G102,1,F102,F102,SIMDrateratios,RateRatios!$B$3)*10))))))","v":3337.8633518789311},{"$f":"IF('III Tool Overview'!$H$6=\"Orkney Health Board\",0,IF('III Tool Overview'!$H$6=\"Shetland Health Board\",0,IF('III Tool Overview'!$H$6=\"Western Isles Health Board\",0,IF('III Tool Overview'!$H$6=\"Orkney Islands Local Authority\",0,IF('III Tool Overview'!$H$6=\"Shetland Islands Local Authority\",0,IF('III Tool Overview'!$H$6=\"Eilean Siar Local Authority\",0,new_ci(10,B102,C102,D102,$C$1,G102+H102,1,F102,F102,SIMDrateratios,RateRatios!$B$3)*10))))))","v":3315.0820202544119},{"$f":"IF('III Tool Overview'!$H$6=\"Orkney Health Board\",0,IF('III Tool Overview'!$H$6=\"Shetland Health Board\",0,IF('III Tool Overview'!$H$6=\"Western Isles Health Board\",0,IF('III Tool Overview'!$H$6=\"Orkney Islands Local Authority\",0,IF('III Tool Overview'!$H$6=\"Shetland Islands Local Authority\",0,IF('III Tool Overview'!$H$6=\"Eilean Siar Local Authority\",0,new_ci(20,B102,C102,D102,$C$1,G102,1,F102,F102,SIMDrateratios,RateRatios!$B$3)*10))))))","v":7181.6316709639987},{"$f":"IF('III Tool Overview'!$H$6=\"Orkney Health Board\",0,IF('III Tool Overview'!$H$6=\"Shetland Health Board\",0,IF('III Tool Overview'!$H$6=\"Western Isles Health Board\",0,IF('III Tool Overview'!$H$6=\"Orkney Islands Local Authority\",0,IF('III Tool Overview'!$H$6=\"Shetland Islands Local Authority\",0,IF('III Tool Overview'!$H$6=\"Eilean Siar Local Authority\",0,new_ci(20,B102,C102,D102,$C$1,G102+H102,1,F102,F102,SIMDrateratios,RateRatios!$B$3)*10))))))","v":7151.5991949211093},{"$f":"IF('III Tool Overview'!$H$6=\"Orkney Health Board\",0,IF('III Tool Overview'!$H$6=\"Shetland Health Board\",0,IF('III Tool Overview'!$H$6=\"Western Isles Health Board\",0,IF('III Tool Overview'!$H$6=\"Orkney Islands Local Authority\",0,IF('III Tool Overview'!$H$6=\"Shetland Islands Local Authority\",0,IF('III Tool Overview'!$H$6=\"Eilean Siar Local Authority\",0,new_yll(2,B102,C102,D102,$C$1,G102,1,F102,F102,SIMDrateratios,RateRatios!$B$3)*10))))))","v":8996.9930842600825},{"$f":"IF('III Tool Overview'!$H$6=\"Orkney Health Board\",0,IF('III Tool Overview'!$H$6=\"Shetland Health Board\",0,IF('III Tool Overview'!$H$6=\"Western Isles Health Board\",0,IF('III Tool Overview'!$H$6=\"Orkney Islands Local Authority\",0,IF('III Tool Overview'!$H$6=\"Shetland Islands Local Authority\",0,IF('III Tool Overview'!$H$6=\"Eilean Siar Local Authority\",0,new_yll(2,B102,C102,D102,$C$1,G102+H102,1,F102,F102,SIMDrateratios,RateRatios!$B$3)*10))))))","v":8922.5741238077262},74.418960452356259,{"$f":"IF('III Tool Overview'!$H$6=\"Orkney Health Board\",0,IF('III Tool Overview'!$H$6=\"Shetland Health Board\",0,IF('III Tool Overview'!$H$6=\"Western Isles Health Board\",0,IF('III Tool Overview'!$H$6=\"Orkney Islands Local Authority\",0,IF('III Tool Overview'!$H$6=\"Shetland Islands Local Authority\",0,IF('III Tool Overview'!$H$6=\"Eilean Siar Local Authority\",0,new_yll(5,B102,C102,D102,$C$1,G102,1,F102,F102,SIMDrateratios,RateRatios!$B$3)*1000))))))","v":3557760.6486994741},{"$f":"IF('III Tool Overview'!$H$6=\"Orkney Health Board\",0,IF('III Tool Overview'!$H$6=\"Shetland Health Board\",0,IF('III Tool Overview'!$H$6=\"Western Isles Health Board\",0,IF('III Tool Overview'!$H$6=\"Orkney Islands Local Authority\",0,IF('III Tool Overview'!$H$6=\"Shetland Islands Local Authority\",0,IF('III Tool Overview'!$H$6=\"Eilean Siar Local Authority\",0,new_yll(5,B102,C102,D102,$C$1,G102+H102,1,F102,F102,SIMDrateratios,RateRatios!$B$3)*1000))))))","v":3529961.7261282648},27798.922571209259,{"$f":"IF('III Tool Overview'!$H$6=\"Orkney Health Board\",0,IF('III Tool Overview'!$H$6=\"Shetland Health Board\",0,IF('III Tool Overview'!$H$6=\"Western Isles Health Board\",0,IF('III Tool Overview'!$H$6=\"Orkney Islands Local Authority\",0,IF('III Tool Overview'!$H$6=\"Shetland Islands Local Authority\",0,IF('III Tool Overview'!$H$6=\"Eilean Siar Local Authority\",0,new_yll(10,B102,C102,D102,$C$1,G102,1,F102,F102,SIMDrateratios,RateRatios!$B$3)*10))))))","v":76265.544981351122},{"$f":"IF('III Tool Overview'!$H$6=\"Orkney Health Board\",0,IF('III Tool Overview'!$H$6=\"Shetland Health Board\",0,IF('III Tool Overview'!$H$6=\"Western Isles Health Board\",0,IF('III Tool Overview'!$H$6=\"Orkney Islands Local Authority\",0,IF('III Tool Overview'!$H$6=\"Shetland Islands Local Authority\",0,IF('III Tool Overview'!$H$6=\"Eilean Siar Local Authority\",0,new_yll(10,B102,C102,D102,$C$1,G102+H102,1,F102,F102,SIMDrateratios,RateRatios!$B$3)*10))))))","v":75736.702236933314},528.84274441780872,{"$f":"IF('III Tool Overview'!$H$6=\"Orkney Health Board\",0,IF('III Tool Overview'!$H$6=\"Shetland Health Board\",0,IF('III Tool Overview'!$H$6=\"Western Isles Health Board\",0,IF('III Tool Overview'!$H$6=\"Orkney Islands Local Authority\",0,IF('III Tool Overview'!$H$6=\"Shetland Islands Local Authority\",0,IF('III Tool Overview'!$H$6=\"Eilean Siar Local Authority\",0,new_yll(20,B102,C102,D102,$C$1,G102,1,F102,F102,SIMDrateratios,RateRatios!$B$3)*10))))))","v":128719.33272987475},{"$f":"IF('III Tool Overview'!$H$6=\"Orkney Health Board\",0,IF('III Tool Overview'!$H$6=\"Shetland Health Board\",0,IF('III Tool Overview'!$H$6=\"Western Isles Health Board\",0,IF('III Tool Overview'!$H$6=\"Orkney Islands Local Authority\",0,IF('III Tool Overview'!$H$6=\"Shetland Islands Local Authority\",0,IF('III Tool Overview'!$H$6=\"Eilean Siar Local Authority\",0,new_yll(20,B102,C102,D102,$C$1,G102+H102,1,F102,F102,SIMDrateratios,RateRatios!$B$3)*10))))))","v":128069.18493289733},650.14779697741324,{"$f":"IF('III Tool Overview'!$H$6=\"Orkney Health Board\",0,IF('III Tool Overview'!$H$6=\"Shetland Health Board\",0,IF('III Tool Overview'!$H$6=\"Western Isles Health Board\",0,IF('III Tool Overview'!$H$6=\"Orkney Islands Local Authority\",0,IF('III Tool Overview'!$H$6=\"Shetland Islands Local Authority\",0,IF('III Tool Overview'!$H$6=\"Eilean Siar Local Authority\",0,hosp_count(2,B102,C102,D102,$C$1,G102,1,F102,F102,SIMDRateRatios_hosp,SIMDrateratios,RateRatios!$B$3)*10))))))","v":5382.8004844811348},{"$f":"IF('III Tool Overview'!$H$6=\"Orkney Health Board\",0,IF('III Tool Overview'!$H$6=\"Shetland Health Board\",0,IF('III Tool Overview'!$H$6=\"Western Isles Health Board\",0,IF('III Tool Overview'!$H$6=\"Orkney Islands Local Authority\",0,IF('III Tool Overview'!$H$6=\"Shetland Islands Local Authority\",0,IF('III Tool Overview'!$H$6=\"Eilean Siar Local Authority\",0,hosp_count(2,B102,C102,D102,$C$1,G102+H102,1,F102,F102,SIMDRateRatios_hosp,SIMDrateratios,RateRatios!$B$3)*10))))))","v":5347.563306305984},35.237178175150802,{"$f":"IF('III Tool Overview'!$H$6=\"Orkney Health Board\",0,IF('III Tool Overview'!$H$6=\"Shetland Health Board\",0,IF('III Tool Overview'!$H$6=\"Western Isles Health Board\",0,IF('III Tool Overview'!$H$6=\"Orkney Islands Local Authority\",0,IF('III Tool Overview'!$H$6=\"Shetland Islands Local Authority\",0,IF('III Tool Overview'!$H$6=\"Eilean Siar Local Authority\",0,hosp_count(5,B102,C102,D102,$C$1,G102,1,F102,F102,SIMDRateRatios_hosp,SIMDrateratios,RateRatios!$B$3)*1000))))))","v":2123301.1312522697},{"$f":"IF('III Tool Overview'!$H$6=\"Orkney Health Board\",0,IF('III Tool Overview'!$H$6=\"Shetland Health Board\",0,IF('III Tool Overview'!$H$6=\"Western Isles Health Board\",0,IF('III Tool Overview'!$H$6=\"Orkney Islands Local Authority\",0,IF('III Tool Overview'!$H$6=\"Shetland Islands Local Authority\",0,IF('III Tool Overview'!$H$6=\"Eilean Siar Local Authority\",0,hosp_count(5,B102,C102,D102,$C$1,G102+H102,1,F102,F102,SIMDRateRatios_hosp,SIMDrateratios,RateRatios!$B$3)*1000))))))","v":2110341.9032197753},12959.228032494429,{"$f":"IF('III Tool Overview'!$H$6=\"Orkney Health Board\",0,IF('III Tool Overview'!$H$6=\"Shetland Health Board\",0,IF('III Tool Overview'!$H$6=\"Western Isles Health Board\",0,IF('III Tool Overview'!$H$6=\"Orkney Islands Local Authority\",0,IF('III Tool Overview'!$H$6=\"Shetland Islands Local Authority\",0,IF('III Tool Overview'!$H$6=\"Eilean Siar Local Authority\",0,hosp_count(10,B102,C102,D102,$C$1,G102,1,F102,F102,SIMDRateRatios_hosp,SIMDrateratios,RateRatios!$B$3)*10))))))","v":45866.638069992878},{"$f":"IF('III Tool Overview'!$H$6=\"Orkney Health Board\",0,IF('III Tool Overview'!$H$6=\"Shetland Health Board\",0,IF('III Tool Overview'!$H$6=\"Western Isles Health Board\",0,IF('III Tool Overview'!$H$6=\"Orkney Islands Local Authority\",0,IF('III Tool Overview'!$H$6=\"Shetland Islands Local Authority\",0,IF('III Tool Overview'!$H$6=\"Eilean Siar Local Authority\",0,hosp_count(10,B102,C102,D102,$C$1,G102+H102,1,F102,F102,SIMDRateRatios_hosp,SIMDrateratios,RateRatios!$B$3)*10))))))","v":45626.179031099775},240.45903889310284,{"$f":"IF('III Tool Overview'!$H$6=\"Orkney Health Board\",0,IF('III Tool Overview'!$H$6=\"Shetland Health Board\",0,IF('III Tool Overview'!$H$6=\"Western Isles Health Board\",0,IF('III Tool Overview'!$H$6=\"Orkney Islands Local Authority\",0,IF('III Tool Overview'!$H$6=\"Shetland Islands Local Authority\",0,IF('III Tool Overview'!$H$6=\"Eilean Siar Local Authority\",0,hosp_count(20,B102,C102,D102,$C$1,G102,1,F102,F102,SIMDRateRatios_hosp,SIMDrateratios,RateRatios!$B$3)*10))))))","v":82615.728930872137},{"$f":"IF('III Tool Overview'!$H$6=\"Orkney Health Board\",0,IF('III Tool Overview'!$H$6=\"Shetland Health Board\",0,IF('III Tool Overview'!$H$6=\"Western Isles Health Board\",0,IF('III Tool Overview'!$H$6=\"Orkney Islands Local Authority\",0,IF('III Tool Overview'!$H$6=\"Shetland Islands Local Authority\",0,IF('III Tool Overview'!$H$6=\"Eilean Siar Local Authority\",0,hosp_count(20,B102,C102,D102,$C$1,G102+H102,1,F102,F102,SIMDRateRatios_hosp,SIMDrateratios,RateRatios!$B$3)*10))))))","v":82353.959428245056},261.76950262708124]
["Female 75-79",77.5,"female",1,1,{"$f":"HLOOKUP('III Tool Overview'!$H$6,LookUpData_Pop!$B$1:$AV$269,LookUpData_Pop!BB103,FALSE)/50","v":892.98},{"$f":"'III Tool Overview'!$H$9/110","v":0},892.98,{"$f":"IF('III Tool Overview'!$H$6=\"Orkney Health Board\",0,IF('III Tool Overview'!$H$6=\"Shetland Health Board\",0,IF('III Tool Overview'!$H$6=\"Western Isles Health Board\",0,IF('III Tool Overview'!$H$6=\"Orkney Islands Local Authority\",0,IF('III Tool Overview'!$H$6=\"Shetland Islands Local Authority\",0,IF('III Tool Overview'!$H$6=\"Eilean Siar Local Authority\",0,new_ci(2,B103,C103,D103,$C$1,G103,1,F103,F103,SIMDrateratios,RateRatios!$B$3)*10))))))","v":482.90236671652235},{"$f":"IF('III Tool Overview'!$H$6=\"Orkney Health Board\",0,IF('III Tool Overview'!$H$6=\"Shetland Health Board\",0,IF('III Tool Overview'!$H$6=\"Western Isles Health Board\",0,IF('III Tool Overview'!$H$6=\"Orkney Islands Local Authority\",0,IF('III Tool Overview'!$H$6=\"Shetland Islands Local Authority\",0,IF('III Tool Overview'!$H$6=\"Eilean Siar Local Authority\",0,new_ci(2,B103,C103,D103,$C$1,G103+H103,1,H103,H103,SIMDrateratios,RateRatios!$B$3)*10))))))","v":478.952126281223},{"$f":"IF('III Tool Overview'!$H$6=\"Orkney Health Board\",0,IF('III Tool Overview'!$H$6=\"Shetland Health Board\",0,IF('III Tool Overview'!$H$6=\"Western Isles Health Board\",0,IF('III Tool Overview'!$H$6=\"Orkney Islands Local Authority\",0,IF('III Tool Overview'!$H$6=\"Shetland Islands Local Authority\",0,IF('III Tool Overview'!$H$6=\"Eilean Siar Local Authority\",0,new_ci(5,B103,C103,D103,$C$1,G103,1,F103,F103,SIMDrateratios,RateRatios!$B$3)*1000))))))","v":195400.01519417463},{"$f":"IF('III Tool Overview'!$H$6=\"Orkney Health Board\",0,IF('III Tool Overview'!$H$6=\"Shetland Health Board\",0,IF('III Tool Overview'!$H$6=\"Western Isles Health Board\",0,IF('III Tool Overview'!$H$6=\"Orkney Islands Local Authority\",0,IF('III Tool Overview'!$H$6=\"Shetland Islands Local Authority\",0,IF('III Tool Overview'!$H$6=\"Eilean Siar Local Authority\",0,new_ci(5,B103,C103,D103,$C$1,H103,1,F103,F103,SIMDrateratios,RateRatios!$B$3)*1000))))))","v":193949.7759338154},{"$f":"IF('III Tool Overview'!$H$6=\"Orkney Health Board\",0,IF('III Tool Overview'!$H$6=\"Shetland Health Board\",0,IF('III Tool Overview'!$H$6=\"Western Isles Health Board\",0,IF('III Tool Overview'!$H$6=\"Orkney Islands Local Authority\",0,IF('III Tool Overview'!$H$6=\"Shetland Islands Local Authority\",0,IF('III Tool Overview'!$H$6=\"Eilean Siar Local Authority\",0,new_ci(10,B103,C103,D103,$C$1,G103,1,F103,F103,SIMDrateratios,RateRatios!$B$3)*10))))))","v":4345.435706577854},{"$f":"IF('III Tool Overview'!$H$6=\"Orkney Health Board\",0,IF('III Tool Overview'!$H$6=\"Shetland Health Board\",0,IF('III Tool Overview'!$H$6=\"Western Isles Health Board\",0,IF('III Tool Overview'!$H$6=\"Orkney Islands Local Authority\",0,IF('III Tool Overview'!$H$6=\"Shetland Islands Local Authority\",0,IF('III Tool Overview'!$H$6=\"Eilean Siar Local Authority\",0,new_ci(10,B103,C103,D103,$C$1,G103+H103,1,F103,F103,SIMDrateratios,RateRatios!$B$3)*10))))))","v":4319.6578811288746},{"$f":"IF('III Tool Overview'!$H$6=\"Orkney Health Board\",0,IF('III Tool Overview'!$H$6=\"Shetland Health Board\",0,IF('III Tool Overview'!$H$6=\"Western Isles Health Board\",0,IF('III Tool Overview'!$H$6=\"Orkney Islands Local Authority\",0,IF('III Tool Overview'!$H$6=\"Shetland Islands Local Authority\",0,IF('III Tool Overview'!$H$6=\"Eilean Siar Local Authority\",0,new_ci(20,B103,C103,D103,$C$1,G103,1,F103,F103,SIMDrateratios,RateRatios!$B$3)*10))))))","v":7819.1716747955998},{"$f":"IF('III Tool Overview'!$H$6=\"Orkney Health Board\",0,IF('III Tool Overview'!$H$6=\"Shetland Health Board\",0,IF('III Tool Overview'!$H$6=\"Western Isles Health Board\",0,IF('III Tool Overview'!$H$6=\"Orkney Islands Local Authority\",0,IF('III Tool Overview'!$H$6=\"Shetland Islands Local Authority\",0,IF('III Tool Overview'!$H$6=\"Eilean Siar Local Authority\",0,new_ci(20,B103,C103,D103,$C$1,G103+H103,1,F103,F103,SIMDrateratios,RateRatios!$B$3)*10))))))","v":7799.5305233054805},{"$f":"IF('III Tool Overview'!$H$6=\"Orkney Health Board\",0,IF('III Tool Overview'!$H$6=\"Shetland Health Board\",0,IF('III Tool Overview'!$H$6=\"Western Isles Health Board\",0,IF('III Tool Overview'!$H$6=\"Orkney Islands Local Authority\",0,IF('III Tool Overview'!$H$6=\"Shetland Islands Local Authority\",0,IF('III Tool Overview'!$H$6=\"Eilean Siar Local Authority\",0,new_yll(2,B103,C103,D103,$C$1,G103,1,F103,F103,SIMDrateratios,RateRatios!$B$3)*10))))))","v":10140.949701046971},{"$f":"IF('III Tool Overview'!$H$6=\"Orkney Health Board\",0,IF('III Tool Overview'!$H$6=\"Shetland Health Board\",0,IF('III Tool Overview'!$H$6=\"Western Isles Health Board\",0,IF('III Tool Overview'!$H$6=\"Orkney Islands Local Authority\",0,IF('III Tool Overview'!$H$6=\"Shetland Islands Local Authority\",0,IF('III Tool Overview'!$H$6=\"Eilean Siar Local Authority\",0,new_yll(2,B103,C103,D103,$C$1,G103+H103,1,F103,F103,SIMDrateratios,RateRatios!$B$3)*10))))))","v":10057.994651905683},82.955049141288328,{"$f":"IF('III Tool Overview'!$H$6=\"Orkney Health Board\",0,IF('III Tool Overview'!$H$6=\"Shetland Health Board\",0,IF('III Tool Overview'!$H$6=\"Western Isles Health Board\",0,IF('III Tool Overview'!$H$6=\"Orkney Islands Local Authority\",0,IF('III Tool Overview'!$H$6=\"Shetland Islands Local Authority\",0,IF('III Tool Overview'!$H$6=\"Eilean Siar Local Authority\",0,new_yll(5,B103,C103,D103,$C$1,G103,1,F103,F103,SIMDrateratios,RateRatios!$B$3)*1000))))))","v":3808768.9824733892},{"$f":"IF('III Tool Overview'!$H$6=\"Orkney Health Board\",0,IF('III Tool Overview'!$H$6=\"Shetland Health Board\",0,IF('III Tool Overview'!$H$6=\"Western Isles Health Board\",0,IF('III Tool Overview'!$H$6=\"Orkney Islands Local Authority\",0,IF('III Tool Overview'!$H$6=\"Shetland Islands Local Authority\",0,IF('III Tool Overview'!$H$6=\"Eilean Siar Local Authority\",0,new_yll(5,B103,C103,D103,$C$1,G103+H103,1,F103,F103,SIMDrateratios,RateRatios!$B$3)*1000))))))","v":3780375.2042647111},28393.778208678123,{"$f":"IF('III Tool Overview'!$H$6=\"Orkney Health Board\",0,IF('III Tool Overview'!$H$6=\"Shetland Health Board\",0,IF('III Tool Overview'!$H$6=\"Western Isles Health Board\",0,IF('III Tool Overview'!$H$6=\"Orkney Islands Local Authority\",0,IF('III Tool Overview'!$H$6=\"Shetland Islands Local Authority\",0,IF('III Tool Overview'!$H$6=\"Eilean Siar Local Authority\",0,new_yll(10,B103,C103,D103,$C$1,G103,1,F103,F103,SIMDrateratios,RateRatios!$B$3)*10))))))","v":74034.699803757729},{"$f":"IF('III Tool Overview'!$H$6=\"Orkney Health Board\",0,IF('III Tool Overview'!$H$6=\"Shetland Health Board\",0,IF('III Tool Overview'!$H$6=\"Western Isles Health Board\",0,IF('III Tool Overview'!$H$6=\"Orkney Islands Local Authority\",0,IF('III Tool Overview'!$H$6=\"Shetland Islands Local Authority\",0,IF('III Tool Overview'!$H$6=\"Eilean Siar Local Authority\",0,new_yll(10,B103,C103,D103,$C$1,G103+H103,1,F103,F103,SIMDrateratios,RateRatios!$B$3)*10))))))","v":73577.938844920602},456.76095883712696,{"$f":"IF('III Tool Overview'!$H$6=\"Orkney Health Board\",0,IF('III Tool Overview'!$H$6=\"Shetland Health Board\",0,IF('III Tool Overview'!$H$6=\"Western Isles Health Board\",0,IF('III Tool Overview'!$H$6=\"Orkney Islands Local Authority\",0,IF('III Tool Overview'!$H$6=\"Shetland Islands Local Authority\",0,IF('III Tool Overview'!$H$6=\"Eilean Siar Local Authority\",0,new_yll(20,B103,C103,D103,$C$1,G103,1,F103,F103,SIMDrateratios,RateRatios!$B$3)*10))))))","v":102090.93291835321},{"$f":"IF('III Tool Overview'!$H$6=\"Orkney Health Board\",0,IF('III Tool Overview'!$H$6=\"Shetland Health Board\",0,IF('III Tool Overview'!$H$6=\"Western Isles Health Board\",0,IF('III Tool Overview'!$H$6=\"Orkney Islands Local Authority\",0,IF('III Tool Overview'!$H$6=\"Shetland Islands Local Authority\",0,IF('III Tool Overview'!$H$6=\"Eilean Siar Local Authority\",0,new_yll(20,B103,C103,D103,$C$1,G103+H103,1,F103,F103,SIMDrateratios,RateRatios!$B$3)*10))))))","v":101652.132758728},438.80015962521429,{"$f":"IF('III Tool Overview'!$H$6=\"Orkney Health Board\",0,IF('III Tool Overview'!$H$6=\"Shetland Health Board\",0,IF('III Tool Overview'!$H$6=\"Western Isles Health Board\",0,IF('III Tool Overview'!$H$6=\"Orkney Islands Local Authority\",0,IF('III Tool Overview'!$H$6=\"Shetland Islands Local Authority\",0,IF('III Tool Overview'!$H$6=\"Eilean Siar Local Authority\",0,hosp_count(2,B103,C103,D103,$C$1,G103,1,F103,F103,SIMDRateRatios_hosp,SIMDrateratios,RateRatios!$B$3)*10))))))","v":5591.4478755057426},{"$f":"IF('III Tool Overview'!$H$6=\"Orkney Health Board\",0,IF('III Tool Overview'!$H$6=\"Shetland Health Board\",0,IF('III Tool Overview'!$H$6=\"Western Isles Health Board\",0,IF('III Tool Overview'!$H$6=\"Orkney Islands Local Authority\",0,IF('III Tool Overview'!$H$6=\"Shetland Islands Local Authority\",0,IF('III Tool Overview'!$H$6=\"Eilean Siar Local Authority\",0,hosp_count(2,B103,C103,D103,$C$1,G103+H103,1,F103,F103,SIMDRateRatios_hosp,SIMDrateratios,RateRatios!$B$3)*10))))))","v":5554.8565015166887},36.591373989053864,{"$f":"IF('III Tool Overview'!$H$6=\"Orkney Health Board\",0,IF('III Tool Overview'!$H$6=\"Shetland Health Board\",0,IF('III Tool Overview'!$H$6=\"Western Isles Health Board\",0,IF('III Tool Overview'!$H$6=\"Orkney Islands Local Authority\",0,IF('III Tool Overview'!$H$6=\"Shetland Islands Local Authority\",0,IF('III Tool Overview'!$H$6=\"Eilean Siar Local Authority\",0,hosp_count(5,B103,C103,D103,$C$1,G103,1,F103,F103,SIMDRateRatios_hosp,SIMDrateratios,RateRatios!$B$3)*1000))))))","v":2133367.9355841083},{"$f":"IF('III Tool Overview'!$H$6=\"Orkney Health Board\",0,IF('III Tool Overview'!$H$6=\"Shetland Health Board\",0,IF('III Tool Overview'!$H$6=\"Western Isles Health Board\",0,IF('III Tool Overview'!$H$6=\"Orkney Islands Local Authority\",0,IF('III Tool Overview'!$H$6=\"Shetland Islands Local Authority\",0,IF('III Tool Overview'!$H$6=\"Eilean Siar Local Authority\",0,hosp_count(5,B103,C103,D103,$C$1,G103+H103,1,F103,F103,SIMDRateRatios_hosp,SIMDrateratios,RateRatios!$B$3)*1000))))))","v":2120920.7825808539},12447.15300325444,{"$f":"IF('III Tool Overview'!$H$6=\"Orkney Health Board\",0,IF('III Tool Overview'!$H$6=\"Shetland Health Board\",0,IF('III Tool Overview'!$H$6=\"Western Isles Health Board\",0,IF('III Tool Overview'!$H$6=\"Orkney Islands Local Authority\",0,IF('III Tool Overview'!$H$6=\"Shetland Islands Local Authority\",0,IF('III Tool Overview'!$H$6=\"Eilean Siar Local Authority\",0,hosp_count(10,B103,C103,D103,$C$1,G103,1,F103,F103,SIMDRateRatios_hosp,SIMDrateratios,RateRatios!$B$3)*10))))))","v":43264.724188902066},{"$f":"IF('III Tool Overview'!$H$6=\"Orkney Health Board\",0,IF('III Tool Overview'!$H$6=\"Shetland Health Board\",0,IF('III Tool Overview'!$H$6=\"Western Isles Health Board\",0,IF('III Tool Overview'!$H$6=\"Orkney Islands Local Authority\",0,IF('III Tool Overview'!$H$6=\"Shetland Islands Local Authority\",0,IF('III Tool Overview'!$H$6=\"Eilean Siar Local Authority\",0,hosp_count(10,B103,C103,D103,$C$1,G103+H103,1,F103,F103,SIMDRateRatios_hosp,SIMDrateratios,RateRatios!$B$3)*10))))))","v":43069.175965521565},195.54822338050144,{"$f":"IF('III Tool Overview'!$H$6=\"Orkney Health Board\",0,IF('III Tool Overview'!$H$6=\"Shetland Health Board\",0,IF('III Tool Overview'!$H$6=\"Western Isles Health Board\",0,IF('III Tool Overview'!$H$6=\"Orkney Islands Local Authority\",0,IF('III Tool Overview'!$H$6=\"Shetland Islands Local Authority\",0,IF('III Tool Overview'!$H$6=\"Eilean Siar Local Authority\",0,hosp_count(20,B103,C103,D103,$C$1,G103,1,F103,F103,SIMDRateRatios_hosp,SIMDrateratios,RateRatios!$B$3)*10))))))","v":67823.9194153813},{"$f":"IF('III Tool Overview'!$H$6=\"Orkney Health Board\",0,IF('III Tool Overview'!$H$6=\"Shetland Health Board\",0,IF('III Tool Overview'!$H$6=\"Western Isles Health Board\",0,IF('III Tool Overview'!$H$6=\"Orkney Islands Local Authority\",0,IF('III Tool Overview'!$H$6=\"Shetland Islands Local Authority\",0,IF('III Tool Overview'!$H$6=\"Eilean Siar Local Authority\",0,hosp_count(20,B103,C103,D103,$C$1,G103+H103,1,F103,F103,SIMDRateRatios_hosp,SIMDrateratios,RateRatios!$B$3)*10))))))","v":67696.381451394409},127.53796398689155]
["Female 80-84",82.5,"female",1,1,{"$f":"HLOOKUP('III Tool Overview'!$H$6,LookUpData_Pop!$B$1:$AV$269,LookUpData_Pop!BB104,FALSE)/50","v":618.79999999999995},{"$f":"'III Tool Overview'!$H$9/110","v":0},618.79999999999995,{"$f":"IF('III Tool Overview'!$H$6=\"Orkney Health Board\",0,IF('III Tool Overview'!$H$6=\"Shetland Health Board\",0,IF('III Tool Overview'!$H$6=\"Western Isles Health Board\",0,IF('III Tool Overview'!$H$6=\"Orkney Islands Local Authority\",0,IF('III Tool Overview'!$H$6=\"Shetland Islands Local Authority\",0,IF('III Tool Overview'!$H$6=\"Eilean Siar Local Authority\",0,new_ci(2,B104,C104,D104,$C$1,G104,1,F104,F104,SIMDrateratios,RateRatios!$B$3)*10))))))","v":459.47398695898437},{"$f":"IF('III Tool Overview'!$H$6=\"Orkney Health Board\",0,IF('III Tool Overview'!$H$6=\"Shetland Health Board\",0,IF('III Tool Overview'!$H$6=\"Western Isles Health Board\",0,IF('III Tool Overview'!$H$6=\"Orkney Islands Local Authority\",0,IF('III Tool Overview'!$H$6=\"Shetland Islands Local Authority\",0,IF('III Tool Overview'!$H$6=\"Eilean Siar Local Authority\",0,new_ci(2,B104,C104,D104,$C$1,G104+H104,1,H104,H104,SIMDrateratios,RateRatios!$B$3)*10))))))","v":455.75468126904349},{"$f":"IF('III Tool Overview'!$H$6=\"Orkney Health Board\",0,IF('III Tool Overview'!$H$6=\"Shetland Health Board\",0,IF('III Tool Overview'!$H$6=\"Western Isles Health Board\",0,IF('III Tool Overview'!$H$6=\"Orkney Islands Local Authority\",0,IF('III Tool Overview'!$H$6=\"Shetland Islands Local Authority\",0,IF('III Tool Overview'!$H$6=\"Eilean Siar Local Authority\",0,new_ci(5,B104,C104,D104,$C$1,G104,1,F104,F104,SIMDrateratios,RateRatios!$B$3)*1000))))))","v":179548.39896445422},{"$f":"IF('III Tool Overview'!$H$6=\"Orkney Health Board\",0,IF('III Tool Overview'!$H$6=\"Shetland Health Board\",0,IF('III Tool Overview'!$H$6=\"Western Isles Health Board\",0,IF('III Tool Overview'!$H$6=\"Orkney Islands Local Authority\",0,IF('III Tool Overview'!$H$6=\"Shetland Islands Local Authority\",0,IF('III Tool Overview'!$H$6=\"Eilean Siar Local Authority\",0,new_ci(5,B104,C104,D104,$C$1,H104,1,F104,F104,SIMDrateratios,RateRatios!$B$3)*1000))))))","v":178280.20038780791},{"$f":"IF('III Tool Overview'!$H$6=\"Orkney Health Board\",0,IF('III Tool Overview'!$H$6=\"Shetland Health Board\",0,IF('III Tool Overview'!$H$6=\"Western Isles Health Board\",0,IF('III Tool Overview'!$H$6=\"Orkney Islands Local Authority\",0,IF('III Tool Overview'!$H$6=\"Shetland Islands Local Authority\",0,IF('III Tool Overview'!$H$6=\"Eilean Siar Local Authority\",0,new_ci(10,B104,C104,D104,$C$1,G104,1,F104,F104,SIMDrateratios,RateRatios!$B$3)*10))))))","v":3734.9907338870389},{"$f":"IF('III Tool Overview'!$H$6=\"Orkney Health Board\",0,IF('III Tool Overview'!$H$6=\"Shetland Health Board\",0,IF('III Tool Overview'!$H$6=\"Western Isles Health Board\",0,IF('III Tool Overview'!$H$6=\"Orkney Islands Local Authority\",0,IF('III Tool Overview'!$H$6=\"Shetland Islands Local Authority\",0,IF('III Tool Overview'!$H$6=\"Eilean Siar Local Authority\",0,new_ci(10,B104,C104,D104,$C$1,G104+H104,1,F104,F104,SIMDrateratios,RateRatios!$B$3)*10))))))","v":3715.8220479305555},{"$f":"IF('III Tool Overview'!$H$6=\"Orkney Health Board\",0,IF('III Tool Overview'!$H$6=\"Shetland Health Board\",0,IF('III Tool Overview'!$H$6=\"Western Isles Health Board\",0,IF('III Tool Overview'!$H$6=\"Orkney Islands Local Authority\",0,IF('III Tool Overview'!$H$6=\"Shetland Islands Local Authority\",0,IF('III Tool Overview'!$H$6=\"Eilean Siar Local Authority\",0,new_ci(20,B104,C104,D104,$C$1,G104,1,F104,F104,SIMDrateratios,RateRatios!$B$3)*10))))))","v":5845.0549261160259},{"$f":"IF('III Tool Overview'!$H$6=\"Orkney Health Board\",0,IF('III Tool Overview'!$H$6=\"Shetland Health Board\",0,IF('III Tool Overview'!$H$6=\"Western Isles Health Board\",0,IF('III Tool Overview'!$H$6=\"Orkney Islands Local Authority\",0,IF('III Tool Overview'!$H$6=\"Shetland Islands Local Authority\",0,IF('III Tool Overview'!$H$6=\"Eilean Siar Local Authority\",0,new_ci(20,B104,C104,D104,$C$1,G104+H104,1,F104,F104,SIMDrateratios,RateRatios!$B$3)*10))))))","v":5836.606858981314},{"$f":"IF('III Tool Overview'!$H$6=\"Orkney Health Board\",0,IF('III Tool Overview'!$H$6=\"Shetland Health Board\",0,IF('III Tool Overview'!$H$6=\"Western Isles Health Board\",0,IF('III Tool Overview'!$H$6=\"Orkney Islands Local Authority\",0,IF('III Tool Overview'!$H$6=\"Shetland Islands Local Authority\",0,IF('III Tool Overview'!$H$6=\"Eilean Siar Local Authority\",0,new_yll(2,B104,C104,D104,$C$1,G104,1,F104,F104,SIMDrateratios,RateRatios!$B$3)*10))))))","v":7811.0577783027338},{"$f":"IF('III Tool Overview'!$H$6=\"Orkney Health Board\",0,IF('III Tool Overview'!$H$6=\"Shetland Health Board\",0,IF('III Tool Overview'!$H$6=\"Western Isles Health Board\",0,IF('III Tool Overview'!$H$6=\"Orkney Islands Local Authority\",0,IF('III Tool Overview'!$H$6=\"Shetland Islands Local Authority\",0,IF('III Tool Overview'!$H$6=\"Eilean Siar Local Authority\",0,new_yll(2,B104,C104,D104,$C$1,G104+H104,1,F104,F104,SIMDrateratios,RateRatios!$B$3)*10))))))","v":7747.8295815737383},63.228196728995499,{"$f":"IF('III Tool Overview'!$H$6=\"Orkney Health Board\",0,IF('III Tool Overview'!$H$6=\"Shetland Health Board\",0,IF('III Tool Overview'!$H$6=\"Western Isles Health Board\",0,IF('III Tool Overview'!$H$6=\"Orkney Islands Local Authority\",0,IF('III Tool Overview'!$H$6=\"Shetland Islands Local Authority\",0,IF('III Tool Overview'!$H$6=\"Eilean Siar Local Authority\",0,new_yll(5,B104,C104,D104,$C$1,G104,1,F104,F104,SIMDrateratios,RateRatios!$B$3)*1000))))))","v":2786944.8889091355},{"$f":"IF('III Tool Overview'!$H$6=\"Orkney Health Board\",0,IF('III Tool Overview'!$H$6=\"Shetland Health Board\",0,IF('III Tool Overview'!$H$6=\"Western Isles Health Board\",0,IF('III Tool Overview'!$H$6=\"Orkney Islands Local Authority\",0,IF('III Tool Overview'!$H$6=\"Shetland Islands Local Authority\",0,IF('III Tool Overview'!$H$6=\"Eilean Siar Local Authority\",0,new_yll(5,B104,C104,D104,$C$1,G104+H104,1,F104,F104,SIMDrateratios,RateRatios!$B$3)*1000))))))","v":2767100.1170835118},19844.771825623699,{"$f":"IF('III Tool Overview'!$H$6=\"Orkney Health Board\",0,IF('III Tool Overview'!$H$6=\"Shetland Health Board\",0,IF('III Tool Overview'!$H$6=\"Western Isles Health Board\",0,IF('III Tool Overview'!$H$6=\"Orkney Islands Local Authority\",0,IF('III Tool Overview'!$H$6=\"Shetland Islands Local Authority\",0,IF('III Tool Overview'!$H$6=\"Eilean Siar Local Authority\",0,new_yll(10,B104,C104,D104,$C$1,G104,1,F104,F104,SIMDrateratios,RateRatios!$B$3)*10))))))","v":49390.213905557932},{"$f":"IF('III Tool Overview'!$H$6=\"Orkney Health Board\",0,IF('III Tool Overview'!$H$6=\"Shetland Health Board\",0,IF('III Tool Overview'!$H$6=\"Western Isles Health Board\",0,IF('III Tool Overview'!$H$6=\"Orkney Islands Local Authority\",0,IF('III Tool Overview'!$H$6=\"Shetland Islands Local Authority\",0,IF('III Tool Overview'!$H$6=\"Eilean Siar Local Authority\",0,new_yll(10,B104,C104,D104,$C$1,G104+H104,1,F104,F104,SIMDrateratios,RateRatios!$B$3)*10))))))","v":49116.051704272293},274.16220128563873,{"$f":"IF('III Tool Overview'!$H$6=\"Orkney Health Board\",0,IF('III Tool Overview'!$H$6=\"Shetland Health Board\",0,IF('III Tool Overview'!$H$6=\"Western Isles Health Board\",0,IF('III Tool Overview'!$H$6=\"Orkney Islands Local Authority\",0,IF('III Tool Overview'!$H$6=\"Shetland Islands Local Authority\",0,IF('III Tool Overview'!$H$6=\"Eilean Siar Local Authority\",0,new_yll(20,B104,C104,D104,$C$1,G104,1,F104,F104,SIMDrateratios,RateRatios!$B$3)*10))))))","v":58845.459329957703},{"$f":"IF('III Tool Overview'!$H$6=\"Orkney Health Board\",0,IF('III Tool Overview'!$H$6=\"Shetland Health Board\",0,IF('III Tool Overview'!$H$6=\"Western Isles Health Board\",0,IF('III Tool Overview'!$H$6=\"Orkney Islands Local Authority\",0,IF('III Tool Overview'!$H$6=\"Shetland Islands Local Authority\",0,IF('III Tool Overview'!$H$6=\"Eilean Siar Local Authority\",0,new_yll(20,B104,C104,D104,$C$1,G104+H104,1,F104,F104,SIMDrateratios,RateRatios!$B$3)*10))))))","v":58594.46899823087},250.99033172683266,{"$f":"IF('III Tool Overview'!$H$6=\"Orkney Health Board\",0,IF('III Tool Overview'!$H$6=\"Shetland Health Board\",0,IF('III Tool Overview'!$H$6=\"Western Isles Health Board\",0,IF('III Tool Overview'!$H$6=\"Orkney Islands Local Authority\",0,IF('III Tool Overview'!$H$6=\"Shetland Islands Local Authority\",0,IF('III Tool Overview'!$H$6=\"Eilean Siar Local Authority\",0,hosp_count(2,B104,C104,D104,$C$1,G104,1,F104,F104,SIMDRateRatios_hosp,SIMDrateratios,RateRatios!$B$3)*10))))))","v":4276.0920917522653},{"$f":"IF('III Tool Overview'!$H$6=\"Orkney Health Board\",0,IF('III Tool Overview'!$H$6=\"Shetland Health Board\",0,IF('III Tool Overview'!$H$6=\"Western Isles Health Board\",0,IF('III Tool Overview'!$H$6=\"Orkney Islands Local Authority\",0,IF('III Tool Overview'!$H$6=\"Shetland Islands Local Authority\",0,IF('III Tool Overview'!$H$6=\"Eilean Siar Local Authority\",0,hosp_count(2,B104,C104,D104,$C$1,G104+H104,1,F104,F104,SIMDRateRatios_hosp,SIMDrateratios,RateRatios!$B$3)*10))))))","v":4248.1002094304113},27.991882321854064,{"$f":"IF('III Tool Overview'!$H$6=\"Orkney Health Board\",0,IF('III Tool Overview'!$H$6=\"Shetland Health Board\",0,IF('III Tool Overview'!$H$6=\"Western Isles Health Board\",0,IF('III Tool Overview'!$H$6=\"Orkney Islands Local Authority\",0,IF('III Tool Overview'!$H$6=\"Shetland Islands Local Authority\",0,IF('III Tool Overview'!$H$6=\"Eilean Siar Local Authority\",0,hosp_count(5,B104,C104,D104,$C$1,G104,1,F104,F104,SIMDRateRatios_hosp,SIMDrateratios,RateRatios!$B$3)*1000))))))","v":1579195.9908756097},{"$f":"IF('III Tool Overview'!$H$6=\"Orkney Health Board\",0,IF('III Tool Overview'!$H$6=\"Shetland Health Board\",0,IF('III Tool Overview'!$H$6=\"Western Isles Health Board\",0,IF('III Tool Overview'!$H$6=\"Orkney Islands Local Authority\",0,IF('III Tool Overview'!$H$6=\"Shetland Islands Local Authority\",0,IF('III Tool Overview'!$H$6=\"Eilean Siar Local Authority\",0,hosp_count(5,B104,C104,D104,$C$1,G104+H104,1,F104,F104,SIMDRateRatios_hosp,SIMDrateratios,RateRatios!$B$3)*1000))))))","v":1570383.0636277939},8812.9272478157654,{"$f":"IF('III Tool Overview'!$H$6=\"Orkney Health Board\",0,IF('III Tool Overview'!$H$6=\"Shetland Health Board\",0,IF('III Tool Overview'!$H$6=\"Western Isles Health Board\",0,IF('III Tool Overview'!$H$6=\"Orkney Islands Local Authority\",0,IF('III Tool Overview'!$H$6=\"Shetland Islands Local Authority\",0,IF('III Tool Overview'!$H$6=\"Eilean Siar Local Authority\",0,hosp_count(10,B104,C104,D104,$C$1,G104,1,F104,F104,SIMDRateRatios_hosp,SIMDrateratios,RateRatios!$B$3)*10))))))","v":30197.793225405519},{"$f":"IF('III Tool Overview'!$H$6=\"Orkney Health Board\",0,IF('III Tool Overview'!$H$6=\"Shetland Health Board\",0,IF('III Tool Overview'!$H$6=\"Western Isles Health Board\",0,IF('III Tool Overview'!$H$6=\"Orkney Islands Local Authority\",0,IF('III Tool Overview'!$H$6=\"Shetland Islands Local Authority\",0,IF('III Tool Overview'!$H$6=\"Eilean Siar Local Authority\",0,hosp_count(10,B104,C104,D104,$C$1,G104+H104,1,F104,F104,SIMDRateRatios_hosp,SIMDrateratios,RateRatios!$B$3)*10))))))","v":30080.626641929324},117.16658347619523,{"$f":"IF('III Tool Overview'!$H$6=\"Orkney Health Board\",0,IF('III Tool Overview'!$H$6=\"Shetland Health Board\",0,IF('III Tool Overview'!$H$6=\"Western Isles Health Board\",0,IF('III Tool Overview'!$H$6=\"Orkney Islands Local Authority\",0,IF('III Tool Overview'!$H$6=\"Shetland Islands Local Authority\",0,IF('III Tool Overview'!$H$6=\"Eilean Siar Local Authority\",0,hosp_count(20,B104,C104,D104,$C$1,G104,1,F104,F104,SIMDRateRatios_hosp,SIMDrateratios,RateRatios!$B$3)*10))))))","v":42535.23930710883},{"$f":"IF('III Tool Overview'!$H$6=\"Orkney Health Board\",0,IF('III Tool Overview'!$H$6=\"Shetland Health Board\",0,IF('III Tool Overview'!$H$6=\"Western Isles Health Board\",0,IF('III Tool Overview'!$H$6=\"Orkney Islands Local Authority\",0,IF('III Tool Overview'!$H$6=\"Shetland Islands Local Authority\",0,IF('III Tool Overview'!$H$6=\"Eilean Siar Local Authority\",0,hosp_count(20,B104,C104,D104,$C$1,G104+H104,1,F104,F104,SIMDRateRatios_hosp,SIMDrateratios,RateRatios!$B$3)*10))))))","v":42489.926303683162},45.313003425668285]
["Female 85-89",87.5,"female",1,1,{"$f":"HLOOKUP('III Tool Overview'!$H$6,LookUpData_Pop!$B$1:$AV$269,LookUpData_Pop!BB105,FALSE)/50","v":379.92},{"$f":"'III Tool Overview'!$H$9/110","v":0},379.92,{"$f":"IF('III Tool Overview'!$H$6=\"Orkney Health Board\",0,IF('III Tool Overview'!$H$6=\"Shetland Health Board\",0,IF('III Tool Overview'!$H$6=\"Western Isles Health Board\",0,IF('III Tool Overview'!$H$6=\"Orkney Islands Local Authority\",0,IF('III Tool Overview'!$H$6=\"Shetland Islands Local Authority\",0,IF('III Tool Overview'!$H$6=\"Eilean Siar Local Authority\",0,new_ci(2,B105,C105,D105,$C$1,G105,1,F105,F105,SIMDrateratios,RateRatios!$B$3)*10))))))","v":450.22592949661765},{"$f":"IF('III Tool Overview'!$H$6=\"Orkney Health Board\",0,IF('III Tool Overview'!$H$6=\"Shetland Health Board\",0,IF('III Tool Overview'!$H$6=\"Western Isles Health Board\",0,IF('III Tool Overview'!$H$6=\"Orkney Islands Local Authority\",0,IF('III Tool Overview'!$H$6=\"Shetland Islands Local Authority\",0,IF('III Tool Overview'!$H$6=\"Eilean Siar Local Authority\",0,new_ci(2,B105,C105,D105,$C$1,G105+H105,1,H105,H105,SIMDrateratios,RateRatios!$B$3)*10))))))","v":446.67080043659274},{"$f":"IF('III Tool Overview'!$H$6=\"Orkney Health Board\",0,IF('III Tool Overview'!$H$6=\"Shetland Health Board\",0,IF('III Tool Overview'!$H$6=\"Western Isles Health Board\",0,IF('III Tool Overview'!$H$6=\"Orkney Islands Local Authority\",0,IF('III Tool Overview'!$H$6=\"Shetland Islands Local Authority\",0,IF('III Tool Overview'!$H$6=\"Eilean Siar Local Authority\",0,new_ci(5,B105,C105,D105,$C$1,G105,1,F105,F105,SIMDrateratios,RateRatios!$B$3)*1000))))))","v":162968.51329154562},{"$f":"IF('III Tool Overview'!$H$6=\"Orkney Health Board\",0,IF('III Tool Overview'!$H$6=\"Shetland Health Board\",0,IF('III Tool Overview'!$H$6=\"Western Isles Health Board\",0,IF('III Tool Overview'!$H$6=\"Orkney Islands Local Authority\",0,IF('III Tool Overview'!$H$6=\"Shetland Islands Local Authority\",0,IF('III Tool Overview'!$H$6=\"Eilean Siar Local Authority\",0,new_ci(5,B105,C105,D105,$C$1,H105,1,F105,F105,SIMDrateratios,RateRatios!$B$3)*1000))))))","v":161943.64216779033},{"$f":"IF('III Tool Overview'!$H$6=\"Orkney Health Board\",0,IF('III Tool Overview'!$H$6=\"Shetland Health Board\",0,IF('III Tool Overview'!$H$6=\"Western Isles Health Board\",0,IF('III Tool Overview'!$H$6=\"Orkney Islands Local Authority\",0,IF('III Tool Overview'!$H$6=\"Shetland Islands Local Authority\",0,IF('III Tool Overview'!$H$6=\"Eilean Siar Local Authority\",0,new_ci(10,B105,C105,D105,$C$1,G105,1,F105,F105,SIMDrateratios,RateRatios!$B$3)*10))))))","v":2962.2171018549675},{"$f":"IF('III Tool Overview'!$H$6=\"Orkney Health Board\",0,IF('III Tool Overview'!$H$6=\"Shetland Health Board\",0,IF('III Tool Overview'!$H$6=\"Western Isles Health Board\",0,IF('III Tool Overview'!$H$6=\"Orkney Islands Local Authority\",0,IF('III Tool Overview'!$H$6=\"Shetland Islands Local Authority\",0,IF('III Tool Overview'!$H$6=\"Eilean Siar Local Authority\",0,new_ci(10,B105,C105,D105,$C$1,G105+H105,1,F105,F105,SIMDrateratios,RateRatios!$B$3)*10))))))","v":2951.4989607257467},{"$f":"IF('III Tool Overview'!$H$6=\"Orkney Health Board\",0,IF('III Tool Overview'!$H$6=\"Shetland Health Board\",0,IF('III Tool Overview'!$H$6=\"Western Isles Health Board\",0,IF('III Tool Overview'!$H$6=\"Orkney Islands Local Authority\",0,IF('III Tool Overview'!$H$6=\"Shetland Islands Local Authority\",0,IF('III Tool Overview'!$H$6=\"Eilean Siar Local Authority\",0,new_ci(20,B105,C105,D105,$C$1,G105,1,F105,F105,SIMDrateratios,RateRatios!$B$3)*10))))))","v":3765.644861895802},{"$f":"IF('III Tool Overview'!$H$6=\"Orkney Health Board\",0,IF('III Tool Overview'!$H$6=\"Shetland Health Board\",0,IF('III Tool Overview'!$H$6=\"Western Isles Health Board\",0,IF('III Tool Overview'!$H$6=\"Orkney Islands Local Authority\",0,IF('III Tool Overview'!$H$6=\"Shetland Islands Local Authority\",0,IF('III Tool Overview'!$H$6=\"Eilean Siar Local Authority\",0,new_ci(20,B105,C105,D105,$C$1,G105+H105,1,F105,F105,SIMDrateratios,RateRatios!$B$3)*10))))))","v":3764.2831077822348},{"$f":"IF('III Tool Overview'!$H$6=\"Orkney Health Board\",0,IF('III Tool Overview'!$H$6=\"Shetland Health Board\",0,IF('III Tool Overview'!$H$6=\"Western Isles Health Board\",0,IF('III Tool Overview'!$H$6=\"Orkney Islands Local Authority\",0,IF('III Tool Overview'!$H$6=\"Shetland Islands Local Authority\",0,IF('III Tool Overview'!$H$6=\"Eilean Siar Local Authority\",0,new_yll(2,B105,C105,D105,$C$1,G105,1,F105,F105,SIMDrateratios,RateRatios!$B$3)*10))))))","v":4952.4852244627946},{"$f":"IF('III Tool Overview'!$H$6=\"Orkney Health Board\",0,IF('III Tool Overview'!$H$6=\"Shetland Health Board\",0,IF('III Tool Overview'!$H$6=\"Western Isles Health Board\",0,IF('III Tool Overview'!$H$6=\"Orkney Islands Local Authority\",0,IF('III Tool Overview'!$H$6=\"Shetland Islands Local Authority\",0,IF('III Tool Overview'!$H$6=\"Eilean Siar Local Authority\",0,new_yll(2,B105,C105,D105,$C$1,G105+H105,1,F105,F105,SIMDrateratios,RateRatios!$B$3)*10))))))","v":4913.3788048025199},39.106419660274696,{"$f":"IF('III Tool Overview'!$H$6=\"Orkney Health Board\",0,IF('III Tool Overview'!$H$6=\"Shetland Health Board\",0,IF('III Tool Overview'!$H$6=\"Western Isles Health Board\",0,IF('III Tool Overview'!$H$6=\"Orkney Islands Local Authority\",0,IF('III Tool Overview'!$H$6=\"Shetland Islands Local Authority\",0,IF('III Tool Overview'!$H$6=\"Eilean Siar Local Authority\",0,new_yll(5,B105,C105,D105,$C$1,G105,1,F105,F105,SIMDrateratios,RateRatios!$B$3)*1000))))))","v":1562769.5483571857},{"$f":"IF('III Tool Overview'!$H$6=\"Orkney Health Board\",0,IF('III Tool Overview'!$H$6=\"Shetland Health Board\",0,IF('III Tool Overview'!$H$6=\"Western Isles Health Board\",0,IF('III Tool Overview'!$H$6=\"Orkney Islands Local Authority\",0,IF('III Tool Overview'!$H$6=\"Shetland Islands Local Authority\",0,IF('III Tool Overview'!$H$6=\"Eilean Siar Local Authority\",0,new_yll(5,B105,C105,D105,$C$1,G105+H105,1,F105,F105,SIMDrateratios,RateRatios!$B$3)*1000))))))","v":1552706.1154328312},10063.432924354449,{"$f":"IF('III Tool Overview'!$H$6=\"Orkney Health Board\",0,IF('III Tool Overview'!$H$6=\"Shetland Health Board\",0,IF('III Tool Overview'!$H$6=\"Western Isles Health Board\",0,IF('III Tool Overview'!$H$6=\"Orkney Islands Local Authority\",0,IF('III Tool Overview'!$H$6=\"Shetland Islands Local Authority\",0,IF('III Tool Overview'!$H$6=\"Eilean Siar Local Authority\",0,new_yll(10,B105,C105,D105,$C$1,G105,1,F105,F105,SIMDrateratios,RateRatios!$B$3)*10))))))","v":22610.645828492008},{"$f":"IF('III Tool Overview'!$H$6=\"Orkney Health Board\",0,IF('III Tool Overview'!$H$6=\"Shetland Health Board\",0,IF('III Tool Overview'!$H$6=\"Western Isles Health Board\",0,IF('III Tool Overview'!$H$6=\"Orkney Islands Local Authority\",0,IF('III Tool Overview'!$H$6=\"Shetland Islands Local Authority\",0,IF('III Tool Overview'!$H$6=\"Eilean Siar Local Authority\",0,new_yll(10,B105,C105,D105,$C$1,G105+H105,1,F105,F105,SIMDrateratios,RateRatios!$B$3)*10))))))","v":22503.43882507228},107.2070034197277,{"$f":"IF('III Tool Overview'!$H$6=\"Orkney Health Board\",0,IF('III Tool Overview'!$H$6=\"Shetland Health Board\",0,IF('III Tool Overview'!$H$6=\"Western Isles Health Board\",0,IF('III Tool Overview'!$H$6=\"Orkney Islands Local Authority\",0,IF('III Tool Overview'!$H$6=\"Shetland Islands Local Authority\",0,IF('III Tool Overview'!$H$6=\"Eilean Siar Local Authority\",0,new_yll(20,B105,C105,D105,$C$1,G105,1,F105,F105,SIMDrateratios,RateRatios!$B$3)*10))))))","v":22026.362634543399},{"$f":"IF('III Tool Overview'!$H$6=\"Orkney Health Board\",0,IF('III Tool Overview'!$H$6=\"Shetland Health Board\",0,IF('III Tool Overview'!$H$6=\"Western Isles Health Board\",0,IF('III Tool Overview'!$H$6=\"Orkney Islands Local Authority\",0,IF('III Tool Overview'!$H$6=\"Shetland Islands Local Authority\",0,IF('III Tool Overview'!$H$6=\"Eilean Siar Local Authority\",0,new_yll(20,B105,C105,D105,$C$1,G105+H105,1,F105,F105,SIMDrateratios,RateRatios!$B$3)*10))))))","v":21900.062202102908},126.30043244049011,{"$f":"IF('III Tool Overview'!$H$6=\"Orkney Health Board\",0,IF('III Tool Overview'!$H$6=\"Shetland Health Board\",0,IF('III Tool Overview'!$H$6=\"Western Isles Health Board\",0,IF('III Tool Overview'!$H$6=\"Orkney Islands Local Authority\",0,IF('III Tool Overview'!$H$6=\"Shetland Islands Local Authority\",0,IF('III Tool Overview'!$H$6=\"Eilean Siar Local Authority\",0,hosp_count(2,B105,C105,D105,$C$1,G105,1,F105,F105,SIMDRateRatios_hosp,SIMDrateratios,RateRatios!$B$3)*10))))))","v":3043.7585301075242},{"$f":"IF('III Tool Overview'!$H$6=\"Orkney Health Board\",0,IF('III Tool Overview'!$H$6=\"Shetland Health Board\",0,IF('III Tool Overview'!$H$6=\"Western Isles Health Board\",0,IF('III Tool Overview'!$H$6=\"Orkney Islands Local Authority\",0,IF('III Tool Overview'!$H$6=\"Shetland Islands Local Authority\",0,IF('III Tool Overview'!$H$6=\"Eilean Siar Local Authority\",0,hosp_count(2,B105,C105,D105,$C$1,G105+H105,1,F105,F105,SIMDRateRatios_hosp,SIMDrateratios,RateRatios!$B$3)*10))))))","v":3023.8359149593357},19.92261514818847,{"$f":"IF('III Tool Overview'!$H$6=\"Orkney Health Board\",0,IF('III Tool Overview'!$H$6=\"Shetland Health Board\",0,IF('III Tool Overview'!$H$6=\"Western Isles Health Board\",0,IF('III Tool Overview'!$H$6=\"Orkney Islands Local Authority\",0,IF('III Tool Overview'!$H$6=\"Shetland Islands Local Authority\",0,IF('III Tool Overview'!$H$6=\"Eilean Siar Local Authority\",0,hosp_count(5,B105,C105,D105,$C$1,G105,1,F105,F105,SIMDRateRatios_hosp,SIMDrateratios,RateRatios!$B$3)*1000))))))","v":1046433.6118257331},{"$f":"IF('III Tool Overview'!$H$6=\"Orkney Health Board\",0,IF('III Tool Overview'!$H$6=\"Shetland Health Board\",0,IF('III Tool Overview'!$H$6=\"Western Isles Health Board\",0,IF('III Tool Overview'!$H$6=\"Orkney Islands Local Authority\",0,IF('III Tool Overview'!$H$6=\"Shetland Islands Local Authority\",0,IF('III Tool Overview'!$H$6=\"Eilean Siar Local Authority\",0,hosp_count(5,B105,C105,D105,$C$1,G105+H105,1,F105,F105,SIMDRateRatios_hosp,SIMDrateratios,RateRatios!$B$3)*1000))))))","v":1041159.9449927071},5273.6668330259854,{"$f":"IF('III Tool Overview'!$H$6=\"Orkney Health Board\",0,IF('III Tool Overview'!$H$6=\"Shetland Health Board\",0,IF('III Tool Overview'!$H$6=\"Western Isles Health Board\",0,IF('III Tool Overview'!$H$6=\"Orkney Islands Local Authority\",0,IF('III Tool Overview'!$H$6=\"Shetland Islands Local Authority\",0,IF('III Tool Overview'!$H$6=\"Eilean Siar Local Authority\",0,hosp_count(10,B105,C105,D105,$C$1,G105,1,F105,F105,SIMDRateRatios_hosp,SIMDrateratios,RateRatios!$B$3)*10))))))","v":17774.818801299738},{"$f":"IF('III Tool Overview'!$H$6=\"Orkney Health Board\",0,IF('III Tool Overview'!$H$6=\"Shetland Health Board\",0,IF('III Tool Overview'!$H$6=\"Western Isles Health Board\",0,IF('III Tool Overview'!$H$6=\"Orkney Islands Local Authority\",0,IF('III Tool Overview'!$H$6=\"Shetland Islands Local Authority\",0,IF('III Tool Overview'!$H$6=\"Eilean Siar Local Authority\",0,hosp_count(10,B105,C105,D105,$C$1,G105+H105,1,F105,F105,SIMDRateRatios_hosp,SIMDrateratios,RateRatios!$B$3)*10))))))","v":17726.901755618041},47.917045681697346,{"$f":"IF('III Tool Overview'!$H$6=\"Orkney Health Board\",0,IF('III Tool Overview'!$H$6=\"Shetland Health Board\",0,IF('III Tool Overview'!$H$6=\"Western Isles Health Board\",0,IF('III Tool Overview'!$H$6=\"Orkney Islands Local Authority\",0,IF('III Tool Overview'!$H$6=\"Shetland Islands Local Authority\",0,IF('III Tool Overview'!$H$6=\"Eilean Siar Local Authority\",0,hosp_count(20,B105,C105,D105,$C$1,G105,1,F105,F105,SIMDRateRatios_hosp,SIMDrateratios,RateRatios!$B$3)*10))))))","v":21381.590244240688},{"$f":"IF('III Tool Overview'!$H$6=\"Orkney Health Board\",0,IF('III Tool Overview'!$H$6=\"Shetland Health Board\",0,IF('III Tool Overview'!$H$6=\"Western Isles Health Board\",0,IF('III Tool Overview'!$H$6=\"Orkney Islands Local Authority\",0,IF('III Tool Overview'!$H$6=\"Shetland Islands Local Authority\",0,IF('III Tool Overview'!$H$6=\"Eilean Siar Local Authority\",0,hosp_count(20,B105,C105,D105,$C$1,G105+H105,1,F105,F105,SIMDRateRatios_hosp,SIMDrateratios,RateRatios!$B$3)*10))))))","v":21376.738300661451},4.8519435792368313]
["Female 90+",95,"male",1,1,{"$f":"HLOOKUP('III Tool Overview'!$H$6,LookUpData_Pop!$B$1:$AV$269,LookUpData_Pop!BB106,FALSE)/50","v":193.82},{"$f":"'III Tool Overview'!$H$9/110","v":0},193.82,{"$f":"IF('III Tool Overview'!$H$6=\"Orkney Health Board\",0,IF('III Tool Overview'!$H$6=\"Shetland Health Board\",0,IF('III Tool Overview'!$H$6=\"Western Isles Health Board\",0,IF('III Tool Overview'!$H$6=\"Orkney Islands Local Authority\",0,IF('III Tool Overview'!$H$6=\"Shetland Islands Local Authority\",0,IF('III Tool Overview'!$H$6=\"Eilean Siar Local Authority\",0,new_ci(2,B106,C106,D106,$C$1,G106,1,F106,F106,SIMDrateratios,RateRatios!$B$3)*10))))))","v":446.89596295093384},{"$f":"IF('III Tool Overview'!$H$6=\"Orkney Health Board\",0,IF('III Tool Overview'!$H$6=\"Shetland Health Board\",0,IF('III Tool Overview'!$H$6=\"Western Isles Health Board\",0,IF('III Tool Overview'!$H$6=\"Orkney Islands Local Authority\",0,IF('III Tool Overview'!$H$6=\"Shetland Islands Local Authority\",0,IF('III Tool Overview'!$H$6=\"Eilean Siar Local Authority\",0,new_ci(2,B106,C106,D106,$C$1,G106+H106,1,H106,H106,SIMDrateratios,RateRatios!$B$3)*10))))))","v":443.60206032987799},{"$f":"IF('III Tool Overview'!$H$6=\"Orkney Health Board\",0,IF('III Tool Overview'!$H$6=\"Shetland Health Board\",0,IF('III Tool Overview'!$H$6=\"Western Isles Health Board\",0,IF('III Tool Overview'!$H$6=\"Orkney Islands Local Authority\",0,IF('III Tool Overview'!$H$6=\"Shetland Islands Local Authority\",0,IF('III Tool Overview'!$H$6=\"Eilean Siar Local Authority\",0,new_ci(5,B106,C106,D106,$C$1,G106,1,F106,F106,SIMDrateratios,RateRatios!$B$3)*1000))))))","v":132257.82060018394},{"$f":"IF('III Tool Overview'!$H$6=\"Orkney Health Board\",0,IF('III Tool Overview'!$H$6=\"Shetland Health Board\",0,IF('III Tool Overview'!$H$6=\"Western Isles Health Board\",0,IF('III Tool Overview'!$H$6=\"Orkney Islands Local Authority\",0,IF('III Tool Overview'!$H$6=\"Shetland Islands Local Authority\",0,IF('III Tool Overview'!$H$6=\"Eilean Siar Local Authority\",0,new_ci(5,B106,C106,D106,$C$1,H106,1,F106,F106,SIMDrateratios,RateRatios!$B$3)*1000))))))","v":131660.62979843645},{"$f":"IF('III Tool Overview'!$H$6=\"Orkney Health Board\",0,IF('III Tool Overview'!$H$6=\"Shetland Health Board\",0,IF('III Tool Overview'!$H$6=\"Western Isles Health Board\",0,IF('III Tool Overview'!$H$6=\"Orkney Islands Local Authority\",0,IF('III Tool Overview'!$H$6=\"Shetland Islands Local Authority\",0,IF('III Tool Overview'!$H$6=\"Eilean Siar Local Authority\",0,new_ci(10,B106,C106,D106,$C$1,G106,1,F106,F106,SIMDrateratios,RateRatios!$B$3)*10))))))","v":1843.0307202251108},{"$f":"IF('III Tool Overview'!$H$6=\"Orkney Health Board\",0,IF('III Tool Overview'!$H$6=\"Shetland Health Board\",0,IF('III Tool Overview'!$H$6=\"Western Isles Health Board\",0,IF('III Tool Overview'!$H$6=\"Orkney Islands Local Authority\",0,IF('III Tool Overview'!$H$6=\"Shetland Islands Local Authority\",0,IF('III Tool Overview'!$H$6=\"Eilean Siar Local Authority\",0,new_ci(10,B106,C106,D106,$C$1,G106+H106,1,F106,F106,SIMDrateratios,RateRatios!$B$3)*10))))))","v":1840.5854933105559},{"$f":"IF('III Tool Overview'!$H$6=\"Orkney Health Board\",0,IF('III Tool Overview'!$H$6=\"Shetland Health Board\",0,IF('III Tool Overview'!$H$6=\"Western Isles Health Board\",0,IF('III Tool Overview'!$H$6=\"Orkney Islands Local Authority\",0,IF('III Tool Overview'!$H$6=\"Shetland Islands Local Authority\",0,IF('III Tool Overview'!$H$6=\"Eilean Siar Local Authority\",0,new_ci(20,B106,C106,D106,$C$1,G106,1,F106,F106,SIMDrateratios,RateRatios!$B$3)*10))))))","v":1937.9254987281815},{"$f":"IF('III Tool Overview'!$H$6=\"Orkney Health Board\",0,IF('III Tool Overview'!$H$6=\"Shetland Health Board\",0,IF('III Tool Overview'!$H$6=\"Western Isles Health Board\",0,IF('III Tool Overview'!$H$6=\"Orkney Islands Local Authority\",0,IF('III Tool Overview'!$H$6=\"Shetland Islands Local Authority\",0,IF('III Tool Overview'!$H$6=\"Eilean Siar Local Authority\",0,new_ci(20,B106,C106,D106,$C$1,G106+H106,1,F106,F106,SIMDrateratios,RateRatios!$B$3)*10))))))","v":1937.904238879893},{"$f":"IF('III Tool Overview'!$H$6=\"Orkney Health Board\",0,IF('III Tool Overview'!$H$6=\"Shetland Health Board\",0,IF('III Tool Overview'!$H$6=\"Western Isles Health Board\",0,IF('III Tool Overview'!$H$6=\"Orkney Islands Local Authority\",0,IF('III Tool Overview'!$H$6=\"Shetland Islands Local Authority\",0,IF('III Tool Overview'!$H$6=\"Eilean Siar Local Authority\",0,new_yll(2,B106,C106,D106,$C$1,G106,1,F106,F106,SIMDrateratios,RateRatios!$B$3)*10))))))","v":1787.5838518037353},{"$f":"IF('III Tool Overview'!$H$6=\"Orkney Health Board\",0,IF('III Tool Overview'!$H$6=\"Shetland Health Board\",0,IF('III Tool Overview'!$H$6=\"Western Isles Health Board\",0,IF('III Tool Overview'!$H$6=\"Orkney Islands Local Authority\",0,IF('III Tool Overview'!$H$6=\"Shetland Islands Local Authority\",0,IF('III Tool Overview'!$H$6=\"Eilean Siar Local Authority\",0,new_yll(2,B106,C106,D106,$C$1,G106+H106,1,F106,F106,SIMDrateratios,RateRatios!$B$3)*10))))))","v":1774.4082413195119},13.175610484223398,{"$f":"IF('III Tool Overview'!$H$6=\"Orkney Health Board\",0,IF('III Tool Overview'!$H$6=\"Shetland Health Board\",0,IF('III Tool Overview'!$H$6=\"Western Isles Health Board\",0,IF('III Tool Overview'!$H$6=\"Orkney Islands Local Authority\",0,IF('III Tool Overview'!$H$6=\"Shetland Islands Local Authority\",0,IF('III Tool Overview'!$H$6=\"Eilean Siar Local Authority\",0,new_yll(5,B106,C106,D106,$C$1,G106,1,F106,F106,SIMDrateratios,RateRatios!$B$3)*1000))))))","v":367507.83747397969},{"$f":"IF('III Tool Overview'!$H$6=\"Orkney Health Board\",0,IF('III Tool Overview'!$H$6=\"Shetland Health Board\",0,IF('III Tool Overview'!$H$6=\"Western Isles Health Board\",0,IF('III Tool Overview'!$H$6=\"Orkney Islands Local Authority\",0,IF('III Tool Overview'!$H$6=\"Shetland Islands Local Authority\",0,IF('III Tool Overview'!$H$6=\"Eilean Siar Local Authority\",0,new_yll(5,B106,C106,D106,$C$1,G106+H106,1,F106,F106,SIMDrateratios,RateRatios!$B$3)*1000))))))","v":365473.60259348934},2034.2348804903449,{"$f":"IF('III Tool Overview'!$H$6=\"Orkney Health Board\",0,IF('III Tool Overview'!$H$6=\"Shetland Health Board\",0,IF('III Tool Overview'!$H$6=\"Western Isles Health Board\",0,IF('III Tool Overview'!$H$6=\"Orkney Islands Local Authority\",0,IF('III Tool Overview'!$H$6=\"Shetland Islands Local Authority\",0,IF('III Tool Overview'!$H$6=\"Eilean Siar Local Authority\",0,new_yll(10,B106,C106,D106,$C$1,G106,1,F106,F106,SIMDrateratios,RateRatios!$B$3)*10))))))","v":2943.3172002070078},{"$f":"IF('III Tool Overview'!$H$6=\"Orkney Health Board\",0,IF('III Tool Overview'!$H$6=\"Shetland Health Board\",0,IF('III Tool Overview'!$H$6=\"Western Isles Health Board\",0,IF('III Tool Overview'!$H$6=\"Orkney Islands Local Authority\",0,IF('III Tool Overview'!$H$6=\"Shetland Islands Local Authority\",0,IF('III Tool Overview'!$H$6=\"Eilean Siar Local Authority\",0,new_yll(10,B106,C106,D106,$C$1,G106+H106,1,F106,F106,SIMDrateratios,RateRatios!$B$3)*10))))))","v":2915.1872978555612},28.129902351446617,{"$f":"IF('III Tool Overview'!$H$6=\"Orkney Health Board\",0,IF('III Tool Overview'!$H$6=\"Shetland Health Board\",0,IF('III Tool Overview'!$H$6=\"Western Isles Health Board\",0,IF('III Tool Overview'!$H$6=\"Orkney Islands Local Authority\",0,IF('III Tool Overview'!$H$6=\"Shetland Islands Local Authority\",0,IF('III Tool Overview'!$H$6=\"Eilean Siar Local Authority\",0,new_yll(20,B106,C106,D106,$C$1,G106,1,F106,F106,SIMDrateratios,RateRatios!$B$3)*10))))))","v":2319.0039490548415},{"$f":"IF('III Tool Overview'!$H$6=\"Orkney Health Board\",0,IF('III Tool Overview'!$H$6=\"Shetland Health Board\",0,IF('III Tool Overview'!$H$6=\"Western Isles Health Board\",0,IF('III Tool Overview'!$H$6=\"Orkney Islands Local Authority\",0,IF('III Tool Overview'!$H$6=\"Shetland Islands Local Authority\",0,IF('III Tool Overview'!$H$6=\"Eilean Siar Local Authority\",0,new_yll(20,B106,C106,D106,$C$1,G106+H106,1,F106,F106,SIMDrateratios,RateRatios!$B$3)*10))))))","v":2273.546539530224},45.45740952461756,{"$f":"IF('III Tool Overview'!$H$6=\"Orkney Health Board\",0,IF('III Tool Overview'!$H$6=\"Shetland Health Board\",0,IF('III Tool Overview'!$H$6=\"Western Isles Health Board\",0,IF('III Tool Overview'!$H$6=\"Orkney Islands Local Authority\",0,IF('III Tool Overview'!$H$6=\"Shetland Islands Local Authority\",0,IF('III Tool Overview'!$H$6=\"Eilean Siar Local Authority\",0,hosp_count(2,B106,C106,D106,$C$1,G106,1,F106,F106,SIMDRateRatios_hosp,SIMDrateratios,RateRatios!$B$3)*10))))))","v":2817.7361770071998},{"$f":"IF('III Tool Overview'!$H$6=\"Orkney Health Board\",0,IF('III Tool Overview'!$H$6=\"Shetland Health Board\",0,IF('III Tool Overview'!$H$6=\"Western Isles Health Board\",0,IF('III Tool Overview'!$H$6=\"Orkney Islands Local Authority\",0,IF('III Tool Overview'!$H$6=\"Shetland Islands Local Authority\",0,IF('III Tool Overview'!$H$6=\"Eilean Siar Local Authority\",0,hosp_count(2,B106,C106,D106,$C$1,G106+H106,1,F106,F106,SIMDRateRatios_hosp,SIMDrateratios,RateRatios!$B$3)*10))))))","v":2799.2797266645216},18.456450342678181,{"$f":"IF('III Tool Overview'!$H$6=\"Orkney Health Board\",0,IF('III Tool Overview'!$H$6=\"Shetland Health Board\",0,IF('III Tool Overview'!$H$6=\"Western Isles Health Board\",0,IF('III Tool Overview'!$H$6=\"Orkney Islands Local Authority\",0,IF('III Tool Overview'!$H$6=\"Shetland Islands Local Authority\",0,IF('III Tool Overview'!$H$6=\"Eilean Siar Local Authority\",0,hosp_count(5,B106,C106,D106,$C$1,G106,1,F106,F106,SIMDRateRatios_hosp,SIMDrateratios,RateRatios!$B$3)*1000))))))","v":819770.85004452523},{"$f":"IF('III Tool Overview'!$H$6=\"Orkney Health Board\",0,IF('III Tool Overview'!$H$6=\"Shetland Health Board\",0,IF('III Tool Overview'!$H$6=\"Western Isles Health Board\",0,IF('III Tool Overview'!$H$6=\"Orkney Islands Local Authority\",0,IF('III Tool Overview'!$H$6=\"Shetland Islands Local Authority\",0,IF('III Tool Overview'!$H$6=\"Eilean Siar Local Authority\",0,hosp_count(5,B106,C106,D106,$C$1,G106+H106,1,F106,F106,SIMDRateRatios_hosp,SIMDrateratios,RateRatios!$B$3)*1000))))))","v":816650.01128303097},3120.8387614942621,{"$f":"IF('III Tool Overview'!$H$6=\"Orkney Health Board\",0,IF('III Tool Overview'!$H$6=\"Shetland Health Board\",0,IF('III Tool Overview'!$H$6=\"Western Isles Health Board\",0,IF('III Tool Overview'!$H$6=\"Orkney Islands Local Authority\",0,IF('III Tool Overview'!$H$6=\"Shetland Islands Local Authority\",0,IF('III Tool Overview'!$H$6=\"Eilean Siar Local Authority\",0,hosp_count(10,B106,C106,D106,$C$1,G106,1,F106,F106,SIMDRateRatios_hosp,SIMDrateratios,RateRatios!$B$3)*10))))))","v":11252.696741390333},{"$f":"IF('III Tool Overview'!$H$6=\"Orkney Health Board\",0,IF('III Tool Overview'!$H$6=\"Shetland Health Board\",0,IF('III Tool Overview'!$H$6=\"Western Isles Health Board\",0,IF('III Tool Overview'!$H$6=\"Orkney Islands Local Authority\",0,IF('III Tool Overview'!$H$6=\"Shetland Islands Local Authority\",0,IF('III Tool Overview'!$H$6=\"Eilean Siar Local Authority\",0,hosp_count(10,B106,C106,D106,$C$1,G106+H106,1,F106,F106,SIMDRateRatios_hosp,SIMDrateratios,RateRatios!$B$3)*10))))))","v":11243.39902700629},9.2977143840435019,{"$f":"IF('III Tool Overview'!$H$6=\"Orkney Health Board\",0,IF('III Tool Overview'!$H$6=\"Shetland Health Board\",0,IF('III Tool Overview'!$H$6=\"Western Isles Health Board\",0,IF('III Tool Overview'!$H$6=\"Orkney Islands Local Authority\",0,IF('III Tool Overview'!$H$6=\"Shetland Islands Local Authority\",0,IF('III Tool Overview'!$H$6=\"Eilean Siar Local Authority\",0,hosp_count(20,B106,C106,D106,$C$1,G106,1,F106,F106,SIMDRateRatios_hosp,SIMDrateratios,RateRatios!$B$3)*10))))))","v":11780.661272861014},{"$f":"IF('III Tool Overview'!$H$6=\"Orkney Health Board\",0,IF('III Tool Overview'!$H$6=\"Shetland Health Board\",0,IF('III Tool Overview'!$H$6=\"Western Isles Health Board\",0,IF('III Tool Overview'!$H$6=\"Orkney Islands Local Authority\",0,IF('III Tool Overview'!$H$6=\"Shetland Islands Local Authority\",0,IF('III Tool Overview'!$H$6=\"Eilean Siar Local Authority\",0,hosp_count(20,B106,C106,D106,$C$1,G106+H106,1,F106,F106,SIMDRateRatios_hosp,SIMDrateratios,RateRatios!$B$3)*10))))))","v":11784.786465722182},-4.1251928611673065]
["TOTAL",null,null,null,null,{"$f":"SUM(F87:F106)","v":21929.699999999993},{"$f":"SUM(G87:G106)","v":0},{"$f":"SUM(H87:H106)","v":21929.699999999993},{"$f":"SUM(I87:I106)","v":2994.5327985932954},{"$f":"SUM(J87:J106)","v":2970.3919913436662},{"$f":"SUM(K87:K106)","v":1166862.9825026733},{"$f":"SUM(L87:L106)","v":1158516.1804688142},{"$f":"SUM(M87:M106)","v":25413.456939104763},{"$f":"SUM(N87:N106)","v":25260.953969546241},{"$f":"SUM(O87:O106)","v":51365.766036714267},{"$f":"SUM(P87:P106)","v":51139.128982722112},{"$f":"SUM(Q87:Q106)","v":68797.4687410232},{"$f":"SUM(R87:R106)","v":68230.951667054265},{"$f":"SUM(S87:S106)","v":566.51707396894244},{"$f":"SUM(T87:T106)","v":26829787.98448199},{"$f":"SUM(U87:U106)","v":26620515.348318405},{"$f":"SUM(V87:V106)","v":209272.63616359048},{"$f":"SUM(W87:W106)","v":582495.00723009149},{"$f":"SUM(X87:X106)","v":578267.41726189933},{"$f":"SUM(Y87:Y106)","v":4227.58996819194},{"$f":"SUM(Z87:Z106)","v":1156920.6907686351},{"$f":"SUM(AA87:AA106)","v":1149297.8584930093},{"$f":"SUM(AB87:AB106)","v":7622.8322756261423},{"$f":"SUM(AC87:AC106)","v":66030.864198864219},{"$f":"SUM(AD87:AD106)","v":65598.713329576465},{"$f":"SUM(AE87:AE106)","v":432.150869287766},{"$f":"SUM(AF87:AF106)","v":26193068.230528921},{"$f":"SUM(AG87:AG106)","v":26031148.36702425},{"$f":"SUM(AH87:AH106)","v":161919.86350466491},{"$f":"SUM(AI87:AI106)","v":583618.26646324806},{"$f":"SUM(AJ87:AJ106)","v":580277.30230387766},{"$f":"SUM(AK87:AK106)","v":3340.9641593702963},{"$f":"SUM(AL87:AL106)","v":1218151.8607598022},{"$f":"SUM(AM87:AM106)","v":1211942.715500663},{"$f":"SUM(AN87:AN106)","v":6209.1452591394482}]
["age/sex breakdown: Q2"]
["Male <1",0.5,"male",2,1,{"$f":"HLOOKUP('III Tool Overview'!$H$6,LookUpData_Pop!$B$1:$AV$269,LookUpData_Pop!BB108,FALSE)/50","v":116.04},{"$f":"'III Tool Overview'!$H$9/110","v":0},{"$f":"F109","v":116.04},{"$f":"new_ci(2,B109,C109,D109,$C$1,G109,1,F109,E109*F109,SIMDrateratios,RateRatios!$B$3)*10","v":0.21487075863555638},{"$f":"new_ci(2,B109,C109,D109,$C$1,G109+H109,1,H109,H109,SIMDrateratios,RateRatios!$B$3)*10","v":0.21467208904495549},{"$f":"new_ci(5,B109,C109,D109,$C$1,G109,1,F109,F109,SIMDrateratios,RateRatios!$B$3)*1000","v":93.98938916648143},{"$f":"new_ci(5,B109,C109,D109,$C$1,H109,1,F109,F109,SIMDrateratios,RateRatios!$B$3)*1000","v":93.902513674073504},{"$f":"new_ci(10,B109,C109,D109,$C$1,G109,1,F109,F109,SIMDrateratios,RateRatios!$B$3)*10","v":2.4682913186833435},{"$f":"new_ci(10,B109,C109,D109,$C$1,G109+H109,1,F109,F109,SIMDrateratios,RateRatios!$B$3)*10","v":2.4660113513173911},{"$f":"new_ci(20,B109,C109,D109,$C$1,G109,1,F109,F109,SIMDrateratios,RateRatios!$B$3)*10","v":7.2430947682092262},{"$f":"new_ci(20,B109,C109,D109,$C$1,G109+H109,1,F109,F109,SIMDrateratios,RateRatios!$B$3)*10","v":7.236418107397129},{"$f":"new_yll(2,B109,C109,D109,$C$1,G109,1,F109,F109,SIMDrateratios,RateRatios!$B$3)*10","v":21.272205104920083},{"$f":"new_yll(2,B109,C109,D109,$C$1,G109+H109,1,F109,F109,SIMDrateratios,RateRatios!$B$3)*10","v":21.252536815450593},{"$f":"Q109-R109","v":1.9668289469489508E-2},{"$f":"new_yll(5,B109,C109,D109,$C$1,G109,1,F109,F109,SIMDrateratios,RateRatios!$B$3)*1000","v":9157.1332568185644},{"$f":"new_yll(5,B109,C109,D109,$C$1,G109+H109,1,F109,F109,SIMDrateratios,RateRatios!$B$3)*1000","v":9148.6691894404794},{"$f":"T109-U109","v":8.4640673780850193},{"$f":"new_yll(10,B109,C109,D109,$C$1,G109,1,F109,F109,SIMDrateratios,RateRatios!$B$3)*10","v":233.53480892568007},{"$f":"new_yll(10,B109,C109,D109,$C$1,G109+H109,1,F109,F109,SIMDrateratios,RateRatios!$B$3)*10","v":233.31908862851094},{"$f":"W109-X109","v":0.21572029716912766},{"$f":"new_yll(20,B109,C109,D109,$C$1,G109,1,F109,F109,SIMDrateratios,RateRatios!$B$3)*10","v":639.50874299897282},{"$f":"new_yll(20,B109,C109,D109,$C$1,G109+H109,1,F109,F109,SIMDrateratios,RateRatios!$B$3)*10","v":638.91918241170129},{"$f":"Z109-AA109","v":0.58956058727153504},{"$f":"hosp_count(2,B109,C109,D109,$C$1,G109,1,F109,F109,SIMDRateRatios_hosp,SIMDrateratios,RateRatios!$B$3)*10","v":50.1198313779744},{"$f":"hosp_count(2,B109,C109,D109,$C$1,G109+H109,1,F109,F109,SIMDRateRatios_hosp,SIMDrateratios,RateRatios!$B$3)*10","v":50.083798039718587},{"$f":"AC109-AD109","v":3.6033338255812453E-2},{"$f":"hosp_count(5,B109,C109,D109,$C$1,G109,1,F109,F109,SIMDRateRatios_hosp,SIMDrateratios,RateRatios!$B$3)*1000","v":21188.551632660226},{"$f":"hosp_count(5,B109,C109,D109,$C$1,G109+H109,1,F109,F109,SIMDRateRatios_hosp,SIMDrateratios,RateRatios!$B$3)*1000","v":21173.324091132665},{"$f":"AF109-AG109","v":15.227541527561698},{"$f":"hosp_count(10,B109,C109,D109,$C$1,G109,1,F109,F109,SIMDRateRatios_hosp,SIMDrateratios,RateRatios!$B$3)*10","v":523.90301538544793},{"$f":"hosp_count(10,B109,C109,D109,$C$1,G109+H109,1,F109,F109,SIMDRateRatios_hosp,SIMDrateratios,RateRatios!$B$3)*10","v":523.52679916603086},{"$f":"AI109-AJ109","v":0.37621621941707417},{"$f":"hosp_count(20,B109,C109,D109,$C$1,G109,1,F109,F109,SIMDRateRatios_hosp,SIMDrateratios,RateRatios!$B$3)*10","v":1345.937057966818},{"$f":"hosp_count(20,B109,C109,D109,$C$1,G109+H109,1,F109,F109,SIMDRateRatios_hosp,SIMDrateratios,RateRatios!$B$3)*10","v":1344.9728153885994},{"$f":"AL109-AM109","v":0.96424257821854553}]
["Male 1-4",2.5,"male",2,1,{"$f":"HLOOKUP('III Tool Overview'!$H$6,LookUpData_Pop!$B$1:$AV$269,LookUpData_Pop!BB109,FALSE)/50","v":416.66},{"$f":"'III Tool Overview'!$H$9/110","v":0},{"$f":"F110","v":416.66},{"$f":"new_ci(2,B110,C110,D110,$C$1,G110,1,F110,E110*F110,SIMDrateratios,RateRatios!$B$3)*10","v":0.89172616376457436},{"$f":"new_ci(2,B110,C110,D110,$C$1,G110+H110,1,H110,H110,SIMDrateratios,RateRatios!$B$3)*10","v":0.89090072795553676},{"$f":"new_ci(5,B110,C110,D110,$C$1,G110,1,F110,F110,SIMDrateratios,RateRatios!$B$3)*1000","v":390.04244761386013},{"$f":"new_ci(5,B110,C110,D110,$C$1,H110,1,F110,F110,SIMDrateratios,RateRatios!$B$3)*1000","v":389.6815309723774},{"$f":"new_ci(10,B110,C110,D110,$C$1,G110,1,F110,F110,SIMDrateratios,RateRatios!$B$3)*10","v":10.242002001638896},{"$f":"new_ci(10,B110,C110,D110,$C$1,G110+H110,1,F110,F110,SIMDrateratios,RateRatios!$B$3)*10","v":10.232532022059512},{"$f":"new_ci(20,B110,C110,D110,$C$1,G110,1,F110,F110,SIMDrateratios,RateRatios!$B$3)*10","v":30.045055820493371},{"$f":"new_ci(20,B110,C110,D110,$C$1,G110+H110,1,F110,F110,SIMDrateratios,RateRatios!$B$3)*10","v":30.017341754458169},{"$f":"new_yll(2,B110,C110,D110,$C$1,G110,1,F110,F110,SIMDrateratios,RateRatios!$B$3)*10","v":86.49743788516372},{"$f":"new_yll(2,B110,C110,D110,$C$1,G110+H110,1,F110,F110,SIMDrateratios,RateRatios!$B$3)*10","v":86.417370611687062},{"$f":"Q110-R110","v":8.0067273476657874E-2},{"$f":"new_yll(5,B110,C110,D110,$C$1,G110,1,F110,F110,SIMDrateratios,RateRatios!$B$3)*1000","v":37220.716508869969},{"$f":"new_yll(5,B110,C110,D110,$C$1,G110+H110,1,F110,F110,SIMDrateratios,RateRatios!$B$3)*1000","v":37186.275085458146},{"$f":"T110-U110","v":34.441423411823052},{"$f":"new_yll(10,B110,C110,D110,$C$1,G110,1,F110,F110,SIMDrateratios,RateRatios!$B$3)*10","v":948.55482718321184},{"$f":"new_yll(10,B110,C110,D110,$C$1,G110+H110,1,F110,F110,SIMDrateratios,RateRatios!$B$3)*10","v":947.67775548931741},{"$f":"W110-X110","v":0.87707169389443607},{"$f":"new_yll(20,B110,C110,D110,$C$1,G110,1,F110,F110,SIMDrateratios,RateRatios!$B$3)*10","v":2592.6983009050664},{"$f":"new_yll(20,B110,C110,D110,$C$1,G110+H110,1,F110,F110,SIMDrateratios,RateRatios!$B$3)*10","v":2590.3064472688789},{"$f":"Z110-AA110","v":2.391853636187534},{"$f":"hosp_count(2,B110,C110,D110,$C$1,G110,1,F110,F110,SIMDRateRatios_hosp,SIMDrateratios,RateRatios!$B$3)*10","v":192.97034015685057},{"$f":"hosp_count(2,B110,C110,D110,$C$1,G110+H110,1,F110,F110,SIMDRateRatios_hosp,SIMDrateratios,RateRatios!$B$3)*10","v":192.83144425367806},{"$f":"AC110-AD110","v":0.13889590317251077},{"$f":"hosp_count(5,B110,C110,D110,$C$1,G110,1,F110,F110,SIMDRateRatios_hosp,SIMDrateratios,RateRatios!$B$3)*1000","v":81575.936216086222},{"$f":"hosp_count(5,B110,C110,D110,$C$1,G110+H110,1,F110,F110,SIMDRateRatios_hosp,SIMDrateratios,RateRatios!$B$3)*1000","v":81517.245603740899},{"$f":"AF110-AG110","v":58.690612345322734},{"$f":"hosp_count(10,B110,C110,D110,$C$1,G110,1,F110,F110,SIMDRateRatios_hosp,SIMDrateratios,RateRatios!$B$3)*10","v":2016.8345785672705},{"$f":"hosp_count(10,B110,C110,D110,$C$1,G110+H110,1,F110,F110,SIMDRateRatios_hosp,SIMDrateratios,RateRatios!$B$3)*10","v":2015.3848668183675},{"$f":"AI110-AJ110","v":1.4497117489029279},{"$f":"hosp_count(20,B110,C110,D110,$C$1,G110,1,F110,F110,SIMDRateRatios_hosp,SIMDrateratios,RateRatios!$B$3)*10","v":5179.8856223257499},{"$f":"hosp_count(20,B110,C110,D110,$C$1,G110+H110,1,F110,F110,SIMDRateRatios_hosp,SIMDrateratios,RateRatios!$B$3)*10","v":5176.1724371020828},{"$f":"AL110-AM110","v":3.7131852236670966}]
["Male 5-9",7.5,"male",2,1,{"$f":"HLOOKUP('III Tool Overview'!$H$6,LookUpData_Pop!$B$1:$AV$269,LookUpData_Pop!BB110,FALSE)/50","v":473.42},{"$f":"'III Tool Overview'!$H$9/110","v":0},473.42,{"$f":"new_ci(2,B111,C111,D111,$C$1,G111,1,F111,E111*F111,SIMDrateratios,RateRatios!$B$3)*10","v":1.564336288755771},{"$f":"new_ci(2,B111,C111,D111,$C$1,G111+H111,1,H111,H111,SIMDrateratios,RateRatios!$B$3)*10","v":1.5628907925816427},{"$f":"new_ci(5,B111,C111,D111,$C$1,G111,1,F111,F111,SIMDrateratios,RateRatios!$B$3)*1000","v":684.10875549556818},{"$f":"new_ci(5,B111,C111,D111,$C$1,H111,1,F111,F111,SIMDrateratios,RateRatios!$B$3)*1000","v":683.47696961541919},{"$f":"new_ci(10,B111,C111,D111,$C$1,G111,1,F111,F111,SIMDrateratios,RateRatios!$B$3)*10","v":17.956353676270854},{"$f":"new_ci(10,B111,C111,D111,$C$1,G111+H111,1,F111,F111,SIMDrateratios,RateRatios!$B$3)*10","v":17.939790180714795},{"$f":"new_ci(20,B111,C111,D111,$C$1,G111,1,F111,F111,SIMDrateratios,RateRatios!$B$3)*10","v":52.606966232483295},{"$f":"new_ci(20,B111,C111,D111,$C$1,G111+H111,1,F111,F111,SIMDrateratios,RateRatios!$B$3)*10","v":52.55861859048855},{"$f":"new_yll(2,B111,C111,D111,$C$1,G111,1,F111,F111,SIMDrateratios,RateRatios!$B$3)*10","v":142.35460227677515},{"$f":"new_yll(2,B111,C111,D111,$C$1,G111+H111,1,F111,F111,SIMDrateratios,RateRatios!$B$3)*10","v":142.22306212492947},0.13154015184568379,{"$f":"new_yll(5,B111,C111,D111,$C$1,G111,1,F111,F111,SIMDrateratios,RateRatios!$B$3)*1000","v":61178.140656558382},{"$f":"new_yll(5,B111,C111,D111,$C$1,G111+H111,1,F111,F111,SIMDrateratios,RateRatios!$B$3)*1000","v":61121.641335394597},56.499321163784771,{"$f":"new_yll(10,B111,C111,D111,$C$1,G111,1,F111,F111,SIMDrateratios,RateRatios!$B$3)*10","v":1555.2928591814693},{"$f":"new_yll(10,B111,C111,D111,$C$1,G111+H111,1,F111,F111,SIMDrateratios,RateRatios!$B$3)*10","v":1553.8581627541087},1.4346964273606773,{"$f":"new_yll(20,B111,C111,D111,$C$1,G111,1,F111,F111,SIMDrateratios,RateRatios!$B$3)*10","v":4224.3208426417123},{"$f":"new_yll(20,B111,C111,D111,$C$1,G111+H111,1,F111,F111,SIMDrateratios,RateRatios!$B$3)*10","v":4220.4377207156449},3.8831219260673606,{"$f":"hosp_count(2,B111,C111,D111,$C$1,G111,1,F111,F111,SIMDRateRatios_hosp,SIMDrateratios,RateRatios!$B$3)*10","v":270.31862481756883},{"$f":"hosp_count(2,B111,C111,D111,$C$1,G111+H111,1,F111,F111,SIMDRateRatios_hosp,SIMDrateratios,RateRatios!$B$3)*10","v":270.12438639729817},0.19423842027066485,{"$f":"hosp_count(5,B111,C111,D111,$C$1,G111,1,F111,F111,SIMDRateRatios_hosp,SIMDrateratios,RateRatios!$B$3)*1000","v":114252.60106397496},{"$f":"hosp_count(5,B111,C111,D111,$C$1,G111+H111,1,F111,F111,SIMDRateRatios_hosp,SIMDrateratios,RateRatios!$B$3)*1000","v":114170.5605562321},82.040507742858608,{"$f":"hosp_count(10,B111,C111,D111,$C$1,G111,1,F111,F111,SIMDRateRatios_hosp,SIMDrateratios,RateRatios!$B$3)*10","v":2823.6261783778909},{"$f":"hosp_count(10,B111,C111,D111,$C$1,G111+H111,1,F111,F111,SIMDRateRatios_hosp,SIMDrateratios,RateRatios!$B$3)*10","v":2821.6014855756002},2.0246928022907014,{"$f":"hosp_count(20,B111,C111,D111,$C$1,G111,1,F111,F111,SIMDRateRatios_hosp,SIMDrateratios,RateRatios!$B$3)*10","v":7243.6441609231306},{"$f":"hosp_count(20,B111,C111,D111,$C$1,G111+H111,1,F111,F111,SIMDRateRatios_hosp,SIMDrateratios,RateRatios!$B$3)*10","v":7238.471923344001},5.1722375791296145]
["Male 10-14",12.5,"male",2,1,{"$f":"HLOOKUP('III Tool Overview'!$H$6,LookUpData_Pop!$B$1:$AV$269,LookUpData_Pop!BB111,FALSE)/50","v":512.78},{"$f":"'III Tool Overview'!$H$9/110","v":0},512.78,{"$f":"new_ci(2,B112,C112,D112,$C$1,G112,1,F112,E112*F112,SIMDrateratios,RateRatios!$B$3)*10","v":2.2634099938313694},{"$f":"new_ci(2,B112,C112,D112,$C$1,G112+H112,1,H112,H112,SIMDrateratios,RateRatios!$B$3)*10","v":2.2613158923765382},{"$f":"new_ci(5,B112,C112,D112,$C$1,G112,1,F112,F112,SIMDrateratios,RateRatios!$B$3)*1000","v":989.63925994495753},{"$f":"new_ci(5,B112,C112,D112,$C$1,H112,1,F112,F112,SIMDrateratios,RateRatios!$B$3)*1000","v":988.72432961988534},{"$f":"new_ci(10,B112,C112,D112,$C$1,G112,1,F112,F112,SIMDrateratios,RateRatios!$B$3)*10","v":25.965601805767484},{"$f":"new_ci(10,B112,C112,D112,$C$1,G112+H112,1,F112,F112,SIMDrateratios,RateRatios!$B$3)*10","v":25.941634078179622},{"$f":"new_ci(20,B112,C112,D112,$C$1,G112,1,F112,F112,SIMDrateratios,RateRatios!$B$3)*10","v":75.977885114022371},{"$f":"new_ci(20,B112,C112,D112,$C$1,G112+H112,1,F112,F112,SIMDrateratios,RateRatios!$B$3)*10","v":75.908098050183682},{"$f":"new_yll(2,B112,C112,D112,$C$1,G112,1,F112,F112,SIMDrateratios,RateRatios!$B$3)*10","v":196.91666946332916},{"$f":"new_yll(2,B112,C112,D112,$C$1,G112+H112,1,F112,F112,SIMDrateratios,RateRatios!$B$3)*10","v":196.7344826367588},0.18218682657035856,{"$f":"new_yll(5,B112,C112,D112,$C$1,G112,1,F112,F112,SIMDrateratios,RateRatios!$B$3)*1000","v":84542.56489184052},{"$f":"new_yll(5,B112,C112,D112,$C$1,G112+H112,1,F112,F112,SIMDrateratios,RateRatios!$B$3)*1000","v":84464.403985188532},78.160906651988626,{"$f":"new_yll(10,B112,C112,D112,$C$1,G112,1,F112,F112,SIMDrateratios,RateRatios!$B$3)*10","v":2145.1772633313949},{"$f":"new_yll(10,B112,C112,D112,$C$1,G112+H112,1,F112,F112,SIMDrateratios,RateRatios!$B$3)*10","v":2143.1970532600253},1.9802100713695836,{"$f":"new_yll(20,B112,C112,D112,$C$1,G112,1,F112,F112,SIMDrateratios,RateRatios!$B$3)*10","v":5797.5184495364965},{"$f":"new_yll(20,B112,C112,D112,$C$1,G112+H112,1,F112,F112,SIMDrateratios,RateRatios!$B$3)*10","v":5792.1917330219649},5.326716514531654,{"$f":"hosp_count(2,B112,C112,D112,$C$1,G112,1,F112,F112,SIMDRateRatios_hosp,SIMDrateratios,RateRatios!$B$3)*10","v":336.64656692372523},{"$f":"hosp_count(2,B112,C112,D112,$C$1,G112+H112,1,F112,F112,SIMDRateRatios_hosp,SIMDrateratios,RateRatios!$B$3)*10","v":336.4043496535179},0.24221727020733397,{"$f":"hosp_count(5,B112,C112,D112,$C$1,G112,1,F112,F112,SIMDRateRatios_hosp,SIMDrateratios,RateRatios!$B$3)*1000","v":142261.29128545677},{"$f":"hosp_count(5,B112,C112,D112,$C$1,G112+H112,1,F112,F112,SIMDRateRatios_hosp,SIMDrateratios,RateRatios!$B$3)*1000","v":142159.02770490063},102.26358055614401,{"$f":"hosp_count(10,B112,C112,D112,$C$1,G112,1,F112,F112,SIMDRateRatios_hosp,SIMDrateratios,RateRatios!$B$3)*10","v":3514.5408336776059},{"$f":"hosp_count(10,B112,C112,D112,$C$1,G112+H112,1,F112,F112,SIMDRateRatios_hosp,SIMDrateratios,RateRatios!$B$3)*10","v":3512.0191686168596},2.5216650607462725,{"$f":"hosp_count(20,B112,C112,D112,$C$1,G112,1,F112,F112,SIMDRateRatios_hosp,SIMDrateratios,RateRatios!$B$3)*10","v":9006.2148327303421},{"$f":"hosp_count(20,B112,C112,D112,$C$1,G112+H112,1,F112,F112,SIMDRateRatios_hosp,SIMDrateratios,RateRatios!$B$3)*10","v":8999.7892224598727},6.4256102704694058]
["Male 15-19",17.5,"male",2,1,{"$f":"HLOOKUP('III Tool Overview'!$H$6,LookUpData_Pop!$B$1:$AV$269,LookUpData_Pop!BB112,FALSE)/50","v":632.32000000000005},{"$f":"'III Tool Overview'!$H$9/110","v":0},632.32000000000005,{"$f":"new_ci(2,B113,C113,D113,$C$1,G113,1,F113,E113*F113,SIMDrateratios,RateRatios!$B$3)*10","v":4.3089953106357264},{"$f":"new_ci(2,B113,C113,D113,$C$1,G113+H113,1,H113,H113,SIMDrateratios,RateRatios!$B$3)*10","v":4.3050128428681127},{"$f":"new_ci(5,B113,C113,D113,$C$1,G113,1,F113,F113,SIMDrateratios,RateRatios!$B$3)*1000","v":1883.2749723285719},{"$f":"new_ci(5,B113,C113,D113,$C$1,H113,1,F113,F113,SIMDrateratios,RateRatios!$B$3)*1000","v":1881.5364086085178},{"$f":"new_ci(10,B113,C113,D113,$C$1,G113,1,F113,F113,SIMDrateratios,RateRatios!$B$3)*10","v":49.370127936297578},{"$f":"new_ci(10,B113,C113,D113,$C$1,G113+H113,1,F113,F113,SIMDrateratios,RateRatios!$B$3)*10","v":49.324661933789436},{"$f":"new_ci(20,B113,C113,D113,$C$1,G113,1,F113,F113,SIMDrateratios,RateRatios!$B$3)*10","v":144.0768505730826},{"$f":"new_ci(20,B113,C113,D113,$C$1,G113+H113,1,F113,F113,SIMDrateratios,RateRatios!$B$3)*10","v":143.94517405450591},{"$f":"new_yll(2,B113,C113,D113,$C$1,G113,1,F113,F113,SIMDrateratios,RateRatios!$B$3)*10","v":349.02862016149379},{"$f":"new_yll(2,B113,C113,D113,$C$1,G113+H113,1,F113,F113,SIMDrateratios,RateRatios!$B$3)*10","v":348.70604027231707},0.32257988917672265,{"$f":"new_yll(5,B113,C113,D113,$C$1,G113,1,F113,F113,SIMDrateratios,RateRatios!$B$3)*1000","v":149584.73883661948},{"$f":"new_yll(5,B113,C113,D113,$C$1,G113+H113,1,F113,F113,SIMDrateratios,RateRatios!$B$3)*1000","v":149446.64660321729},138.09223340218887,{"$f":"new_yll(10,B113,C113,D113,$C$1,G113,1,F113,F113,SIMDrateratios,RateRatios!$B$3)*10","v":3782.6476779261861},{"$f":"new_yll(10,B113,C113,D113,$C$1,G113+H113,1,F113,F113,SIMDrateratios,RateRatios!$B$3)*10","v":3779.1638948048867},3.4837831212994388,{"$f":"new_yll(20,B113,C113,D113,$C$1,G113,1,F113,F113,SIMDrateratios,RateRatios!$B$3)*10","v":10131.147491256703},{"$f":"new_yll(20,B113,C113,D113,$C$1,G113+H113,1,F113,F113,SIMDrateratios,RateRatios!$B$3)*10","v":10121.883651372871},9.2638398838316789,{"$f":"hosp_count(2,B113,C113,D113,$C$1,G113,1,F113,F113,SIMDRateRatios_hosp,SIMDrateratios,RateRatios!$B$3)*10","v":511.80042941616159},{"$f":"hosp_count(2,B113,C113,D113,$C$1,G113+H113,1,F113,F113,SIMDRateRatios_hosp,SIMDrateratios,RateRatios!$B$3)*10","v":511.43253310443248},0.36789631172911186,{"$f":"hosp_count(5,B113,C113,D113,$C$1,G113,1,F113,F113,SIMDRateRatios_hosp,SIMDrateratios,RateRatios!$B$3)*1000","v":216194.87204756131},{"$f":"hosp_count(5,B113,C113,D113,$C$1,G113+H113,1,F113,F113,SIMDRateRatios_hosp,SIMDrateratios,RateRatios!$B$3)*1000","v":216039.6842096805},155.18783788080327,{"$f":"hosp_count(10,B113,C113,D113,$C$1,G113,1,F113,F113,SIMDRateRatios_hosp,SIMDrateratios,RateRatios!$B$3)*10","v":5336.8231584073947},{"$f":"hosp_count(10,B113,C113,D113,$C$1,G113+H113,1,F113,F113,SIMDRateRatios_hosp,SIMDrateratios,RateRatios!$B$3)*10","v":5333.0034028450791},3.8197555623155495,{"$f":"hosp_count(20,B113,C113,D113,$C$1,G113,1,F113,F113,SIMDRateRatios_hosp,SIMDrateratios,RateRatios!$B$3)*10","v":13643.557407128754},{"$f":"hosp_count(20,B113,C113,D113,$C$1,G113+H113,1,F113,F113,SIMDRateRatios_hosp,SIMDrateratios,RateRatios!$B$3)*10","v":13633.876895504402},9.6805116243522207]
["Male 20-24",22.5,"male",2,1,{"$f":"HLOOKUP('III Tool Overview'!$H$6,LookUpData_Pop!$B$1:$AV$269,LookUpData_Pop!BB113,FALSE)/50","v":832.08},{"$f":"'III Tool Overview'!$H$9/110","v":0},832.08,{"$f":"new_ci(2,B114,C114,D114,$C$1,G114,1,F114,E114*F114,SIMDrateratios,RateRatios!$B$3)*10","v":7.5740332471001635},{"$f":"new_ci(2,B114,C114,D114,$C$1,G114+H114,1,H114,H114,SIMDrateratios,RateRatios!$B$3)*10","v":7.5670310899076751},{"$f":"new_ci(5,B114,C114,D114,$C$1,G114,1,F114,F114,SIMDrateratios,RateRatios!$B$3)*1000","v":3309.0032957897915},{"$f":"new_ci(5,B114,C114,D114,$C$1,H114,1,F114,F114,SIMDrateratios,RateRatios!$B$3)*1000","v":3305.9488341650631},{"$f":"new_ci(10,B114,C114,D114,$C$1,G114,1,F114,F114,SIMDrateratios,RateRatios!$B$3)*10","v":86.675089755521157},{"$f":"new_ci(10,B114,C114,D114,$C$1,G114+H114,1,F114,F114,SIMDrateratios,RateRatios!$B$3)*10","v":86.595341198638053},{"$f":"new_ci(20,B114,C114,D114,$C$1,G114,1,F114,F114,SIMDrateratios,RateRatios!$B$3)*10","v":252.30245593252397},{"$f":"new_ci(20,B114,C114,D114,$C$1,G114+H114,1,F114,F114,SIMDrateratios,RateRatios!$B$3)*10","v":252.07266836363112},{"$f":"new_yll(2,B114,C114,D114,$C$1,G114,1,F114,F114,SIMDrateratios,RateRatios!$B$3)*10","v":583.20056002671254},{"$f":"new_yll(2,B114,C114,D114,$C$1,G114+H114,1,F114,F114,SIMDrateratios,RateRatios!$B$3)*10","v":582.66139392289097},0.5391661038215716,{"$f":"new_yll(5,B114,C114,D114,$C$1,G114,1,F114,F114,SIMDrateratios,RateRatios!$B$3)*1000","v":249592.48928444067},{"$f":"new_yll(5,B114,C114,D114,$C$1,G114+H114,1,F114,F114,SIMDrateratios,RateRatios!$B$3)*1000","v":249362.09264109613},230.39664334454574,{"$f":"new_yll(10,B114,C114,D114,$C$1,G114,1,F114,F114,SIMDrateratios,RateRatios!$B$3)*10","v":6294.3517967632615},{"$f":"new_yll(10,B114,C114,D114,$C$1,G114+H114,1,F114,F114,SIMDrateratios,RateRatios!$B$3)*10","v":6288.5598348744543},5.7919618888072364,{"$f":"new_yll(20,B114,C114,D114,$C$1,G114,1,F114,F114,SIMDrateratios,RateRatios!$B$3)*10","v":16735.073925069944},{"$f":"new_yll(20,B114,C114,D114,$C$1,G114+H114,1,F114,F114,SIMDrateratios,RateRatios!$B$3)*10","v":16719.821353798656},15.252571271288616,{"$f":"hosp_count(2,B114,C114,D114,$C$1,G114,1,F114,F114,SIMDRateRatios_hosp,SIMDrateratios,RateRatios!$B$3)*10","v":774.3593638191287},{"$f":"hosp_count(2,B114,C114,D114,$C$1,G114+H114,1,F114,F114,SIMDRateRatios_hosp,SIMDrateratios,RateRatios!$B$3)*10","v":773.80250458525802},0.55685923387068215,{"$f":"hosp_count(5,B114,C114,D114,$C$1,G114,1,F114,F114,SIMDRateRatios_hosp,SIMDrateratios,RateRatios!$B$3)*1000","v":326984.63998980384},{"$f":"hosp_count(5,B114,C114,D114,$C$1,G114+H114,1,F114,F114,SIMDRateRatios_hosp,SIMDrateratios,RateRatios!$B$3)*1000","v":326749.94059756328},234.6993922405527,{"$f":"hosp_count(10,B114,C114,D114,$C$1,G114,1,F114,F114,SIMDRateRatios_hosp,SIMDrateratios,RateRatios!$B$3)*10","v":8065.5992873306332},{"$f":"hosp_count(10,B114,C114,D114,$C$1,G114+H114,1,F114,F114,SIMDRateRatios_hosp,SIMDrateratios,RateRatios!$B$3)*10","v":8059.8324452019651},5.7668421286680314,{"$f":"hosp_count(20,B114,C114,D114,$C$1,G114,1,F114,F114,SIMDRateRatios_hosp,SIMDrateratios,RateRatios!$B$3)*10","v":20573.228893648611},{"$f":"hosp_count(20,B114,C114,D114,$C$1,G114+H114,1,F114,F114,SIMDRateRatios_hosp,SIMDrateratios,RateRatios!$B$3)*10","v":20558.689508455296},14.539385193314956]
["Male 25-29",27.5,"male",2,1,{"$f":"HLOOKUP('III Tool Overview'!$H$6,LookUpData_Pop!$B$1:$AV$269,LookUpData_Pop!BB114,FALSE)/50","v":891.96},{"$f":"'III Tool Overview'!$H$9/110","v":0},891.96,{"$f":"new_ci(2,B115,C115,D115,$C$1,G115,1,F115,E115*F115,SIMDrateratios,RateRatios!$B$3)*10","v":12.53311555427986},{"$f":"new_ci(2,B115,C115,D115,$C$1,G115+H115,1,H115,H115,SIMDrateratios,RateRatios!$B$3)*10","v":12.521529983885316},{"$f":"new_ci(5,B115,C115,D115,$C$1,G115,1,F115,F115,SIMDrateratios,RateRatios!$B$3)*1000","v":5470.9941962206067},{"$f":"new_ci(5,B115,C115,D115,$C$1,H115,1,F115,F115,SIMDrateratios,RateRatios!$B$3)*1000","v":5465.9488118801792},{"$f":"new_ci(10,B115,C115,D115,$C$1,G115,1,F115,F115,SIMDrateratios,RateRatios!$B$3)*10","v":143.05379859560756},{"$f":"new_ci(10,B115,C115,D115,$C$1,G115+H115,1,F115,F115,SIMDrateratios,RateRatios!$B$3)*10","v":142.92253312303882},{"$f":"new_ci(20,B115,C115,D115,$C$1,G115,1,F115,F115,SIMDrateratios,RateRatios!$B$3)*10","v":414.1398726690972},{"$f":"new_ci(20,B115,C115,D115,$C$1,G115+H115,1,F115,F115,SIMDrateratios,RateRatios!$B$3)*10","v":413.76580052081067},{"$f":"new_yll(2,B115,C115,D115,$C$1,G115,1,F115,F115,SIMDrateratios,RateRatios!$B$3)*10","v":889.85120435387},{"$f":"new_yll(2,B115,C115,D115,$C$1,G115+H115,1,F115,F115,SIMDrateratios,RateRatios!$B$3)*10","v":889.02862885585728},0.82257549801272489,{"$f":"new_yll(5,B115,C115,D115,$C$1,G115,1,F115,F115,SIMDrateratios,RateRatios!$B$3)*1000","v":379845.51805697277},{"$f":"new_yll(5,B115,C115,D115,$C$1,G115+H115,1,F115,F115,SIMDrateratios,RateRatios!$B$3)*1000","v":379495.21249421465},350.30556275811978,{"$f":"new_yll(10,B115,C115,D115,$C$1,G115,1,F115,F115,SIMDrateratios,RateRatios!$B$3)*10","v":9530.853317897403},{"$f":"new_yll(10,B115,C115,D115,$C$1,G115+H115,1,F115,F115,SIMDrateratios,RateRatios!$B$3)*10","v":9522.1062842817319},8.747033615671171,{"$f":"new_yll(20,B115,C115,D115,$C$1,G115,1,F115,F115,SIMDrateratios,RateRatios!$B$3)*10","v":24995.348866920955},{"$f":"new_yll(20,B115,C115,D115,$C$1,G115+H115,1,F115,F115,SIMDrateratios,RateRatios!$B$3)*10","v":24972.744163332096},22.604703588858683,{"$f":"hosp_count(2,B115,C115,D115,$C$1,G115,1,F115,F115,SIMDRateRatios_hosp,SIMDrateratios,RateRatios!$B$3)*10","v":1023.3954111179028},{"$f":"hosp_count(2,B115,C115,D115,$C$1,G115+H115,1,F115,F115,SIMDRateRatios_hosp,SIMDrateratios,RateRatios!$B$3)*10","v":1022.65936069075},0.73605042715280433,{"$f":"hosp_count(5,B115,C115,D115,$C$1,G115,1,F115,F115,SIMDRateRatios_hosp,SIMDrateratios,RateRatios!$B$3)*1000","v":431799.66211718373},{"$f":"hosp_count(5,B115,C115,D115,$C$1,G115+H115,1,F115,F115,SIMDRateRatios_hosp,SIMDrateratios,RateRatios!$B$3)*1000","v":431490.00370889192},309.65840829181252,{"$f":"hosp_count(10,B115,C115,D115,$C$1,G115,1,F115,F115,SIMDRateRatios_hosp,SIMDrateratios,RateRatios!$B$3)*10","v":10633.648225041579},{"$f":"hosp_count(10,B115,C115,D115,$C$1,G115+H115,1,F115,F115,SIMDRateRatios_hosp,SIMDrateratios,RateRatios!$B$3)*10","v":10626.068001843701},7.5802231978777854,{"$f":"hosp_count(20,B115,C115,D115,$C$1,G115,1,F115,F115,SIMDRateRatios_hosp,SIMDrateratios,RateRatios!$B$3)*10","v":26992.061347965031},{"$f":"hosp_count(20,B115,C115,D115,$C$1,G115+H115,1,F115,F115,SIMDRateRatios_hosp,SIMDrateratios,RateRatios!$B$3)*10","v":26973.163679329915},18.897668635116133]
["Male 30-34",32.5,"male",2,1,{"$f":"HLOOKUP('III Tool Overview'!$H$6,LookUpData_Pop!$B$1:$AV$269,LookUpData_Pop!BB115,FALSE)/50","v":783.3},{"$f":"'III Tool Overview'!$H$9/110","v":0},783.3,{"$f":"new_ci(2,B116,C116,D116,$C$1,G116,1,F116,E116*F116,SIMDrateratios,RateRatios!$B$3)*10","v":14.699819281721798},{"$f":"new_ci(2,B116,C116,D116,$C$1,G116+H116,1,H116,H116,SIMDrateratios,RateRatios!$B$3)*10","v":14.686239836147838},{"$f":"new_ci(5,B116,C116,D116,$C$1,G116,1,F116,F116,SIMDrateratios,RateRatios!$B$3)*1000","v":6411.7047236256749},{"$f":"new_ci(5,B116,C116,D116,$C$1,H116,1,F116,F116,SIMDrateratios,RateRatios!$B$3)*1000","v":6405.8004457240477},{"$f":"new_ci(10,B116,C116,D116,$C$1,G116,1,F116,F116,SIMDrateratios,RateRatios!$B$3)*10","v":167.37064982676418},{"$f":"new_ci(10,B116,C116,D116,$C$1,G116+H116,1,F116,F116,SIMDrateratios,RateRatios!$B$3)*10","v":167.21755424187234},{"$f":"new_ci(20,B116,C116,D116,$C$1,G116,1,F116,F116,SIMDrateratios,RateRatios!$B$3)*10","v":482.02204389348458},{"$f":"new_ci(20,B116,C116,D116,$C$1,G116+H116,1,F116,F116,SIMDrateratios,RateRatios!$B$3)*10","v":481.59033322116102},{"$f":"new_yll(2,B116,C116,D116,$C$1,G116,1,F116,F116,SIMDrateratios,RateRatios!$B$3)*10","v":984.88789187536042},{"$f":"new_yll(2,B116,C116,D116,$C$1,G116+H116,1,F116,F116,SIMDrateratios,RateRatios!$B$3)*10","v":983.97806902190518},0.90982285345523906,{"$f":"new_yll(5,B116,C116,D116,$C$1,G116,1,F116,F116,SIMDrateratios,RateRatios!$B$3)*1000","v":419515.39858925331},{"$f":"new_yll(5,B116,C116,D116,$C$1,G116+H116,1,F116,F116,SIMDrateratios,RateRatios!$B$3)*1000","v":419129.0687532787},386.32983597461134,{"$f":"new_yll(10,B116,C116,D116,$C$1,G116,1,F116,F116,SIMDrateratios,RateRatios!$B$3)*10","v":10482.130030129729},{"$f":"new_yll(10,B116,C116,D116,$C$1,G116+H116,1,F116,F116,SIMDrateratios,RateRatios!$B$3)*10","v":10472.539471207772},9.5905589219564717,{"$f":"new_yll(20,B116,C116,D116,$C$1,G116,1,F116,F116,SIMDrateratios,RateRatios!$B$3)*10","v":27175.972150872134},{"$f":"new_yll(20,B116,C116,D116,$C$1,G116+H116,1,F116,F116,SIMDrateratios,RateRatios!$B$3)*10","v":27151.589715330854},24.382435541279847,{"$f":"hosp_count(2,B116,C116,D116,$C$1,G116,1,F116,F116,SIMDRateRatios_hosp,SIMDrateratios,RateRatios!$B$3)*10","v":1033.332185241507},{"$f":"hosp_count(2,B116,C116,D116,$C$1,G116+H116,1,F116,F116,SIMDRateRatios_hosp,SIMDrateratios,RateRatios!$B$3)*10","v":1032.5893060043175},0.74287923718952698,{"$f":"hosp_count(5,B116,C116,D116,$C$1,G116,1,F116,F116,SIMDRateRatios_hosp,SIMDrateratios,RateRatios!$B$3)*1000","v":435661.43654716166},{"$f":"hosp_count(5,B116,C116,D116,$C$1,G116+H116,1,F116,F116,SIMDRateRatios_hosp,SIMDrateratios,RateRatios!$B$3)*1000","v":435349.44752098533},311.98902617633576,{"$f":"hosp_count(10,B116,C116,D116,$C$1,G116,1,F116,F116,SIMDRateRatios_hosp,SIMDrateratios,RateRatios!$B$3)*10","v":10712.080096419324},{"$f":"hosp_count(10,B116,C116,D116,$C$1,G116+H116,1,F116,F116,SIMDRateRatios_hosp,SIMDrateratios,RateRatios!$B$3)*10","v":10704.470054999563},7.6100414197608188,{"$f":"hosp_count(20,B116,C116,D116,$C$1,G116,1,F116,F116,SIMDRateRatios_hosp,SIMDrateratios,RateRatios!$B$3)*10","v":27065.873529125536},{"$f":"hosp_count(20,B116,C116,D116,$C$1,G116+H116,1,F116,F116,SIMDRateRatios_hosp,SIMDrateratios,RateRatios!$B$3)*10","v":27047.103908986432},18.769620139104518]
["Male 35-39",37.5,"male",2,1,{"$f":"HLOOKUP('III Tool Overview'!$H$6,LookUpData_Pop!$B$1:$AV$269,LookUpData_Pop!BB116,FALSE)/50","v":717.2},{"$f":"'III Tool Overview'!$H$9/110","v":0},717.2,{"$f":"new_ci(2,B117,C117,D117,$C$1,G117,1,F117,E117*F117,SIMDrateratios,RateRatios!$B$3)*10","v":20.771192549587862},{"$f":"new_ci(2,B117,C117,D117,$C$1,G117+H117,1,H117,H117,SIMDrateratios,RateRatios!$B$3)*10","v":20.752012270587326},{"$f":"new_ci(5,B117,C117,D117,$C$1,G117,1,F117,F117,SIMDrateratios,RateRatios!$B$3)*1000","v":9044.3106755070658},{"$f":"new_ci(5,B117,C117,D117,$C$1,H117,1,F117,F117,SIMDrateratios,RateRatios!$B$3)*1000","v":9035.9998875372148},{"$f":"new_ci(10,B117,C117,D117,$C$1,G117,1,F117,F117,SIMDrateratios,RateRatios!$B$3)*10","v":235.23969274593796},{"$f":"new_ci(10,B117,C117,D117,$C$1,G117+H117,1,F117,F117,SIMDrateratios,RateRatios!$B$3)*10","v":235.02575951911973},{"$f":"new_ci(20,B117,C117,D117,$C$1,G117,1,F117,F117,SIMDrateratios,RateRatios!$B$3)*10","v":669.94016959203782},{"$f":"new_ci(20,B117,C117,D117,$C$1,G117+H117,1,F117,F117,SIMDrateratios,RateRatios!$B$3)*10","v":669.35049840157853},{"$f":"new_yll(2,B117,C117,D117,$C$1,G117,1,F117,F117,SIMDrateratios,RateRatios!$B$3)*10","v":1267.0427455248596},{"$f":"new_yll(2,B117,C117,D117,$C$1,G117+H117,1,F117,F117,SIMDrateratios,RateRatios!$B$3)*10","v":1265.8727485058268},1.1699970190327349,{"$f":"new_yll(5,B117,C117,D117,$C$1,G117,1,F117,F117,SIMDrateratios,RateRatios!$B$3)*1000","v":537512.55112067098},{"$f":"new_yll(5,B117,C117,D117,$C$1,G117+H117,1,F117,F117,SIMDrateratios,RateRatios!$B$3)*1000","v":537018.59949780453},493.95162286644336,{"$f":"new_yll(10,B117,C117,D117,$C$1,G117,1,F117,F117,SIMDrateratios,RateRatios!$B$3)*10","v":13323.239970263177},{"$f":"new_yll(10,B117,C117,D117,$C$1,G117+H117,1,F117,F117,SIMDrateratios,RateRatios!$B$3)*10","v":13311.118140884211},12.12182937896614,{"$f":"new_yll(20,B117,C117,D117,$C$1,G117,1,F117,F117,SIMDrateratios,RateRatios!$B$3)*10","v":33786.178228248427},{"$f":"new_yll(20,B117,C117,D117,$C$1,G117+H117,1,F117,F117,SIMDrateratios,RateRatios!$B$3)*10","v":33756.347823333788},29.830404914639075,{"$f":"hosp_count(2,B117,C117,D117,$C$1,G117,1,F117,F117,SIMDRateRatios_hosp,SIMDrateratios,RateRatios!$B$3)*10","v":1166.4677238451959},{"$f":"hosp_count(2,B117,C117,D117,$C$1,G117+H117,1,F117,F117,SIMDRateRatios_hosp,SIMDrateratios,RateRatios!$B$3)*10","v":1165.6290439554662},0.83867988972974672,{"$f":"hosp_count(5,B117,C117,D117,$C$1,G117,1,F117,F117,SIMDRateRatios_hosp,SIMDrateratios,RateRatios!$B$3)*1000","v":490985.92664285697},{"$f":"hosp_count(5,B117,C117,D117,$C$1,G117+H117,1,F117,F117,SIMDRateRatios_hosp,SIMDrateratios,RateRatios!$B$3)*1000","v":490635.02477161342},350.90187124354998,{"$f":"hosp_count(10,B117,C117,D117,$C$1,G117,1,F117,F117,SIMDRateRatios_hosp,SIMDrateratios,RateRatios!$B$3)*10","v":12031.936123969963},{"$f":"hosp_count(10,B117,C117,D117,$C$1,G117+H117,1,F117,F117,SIMDRateRatios_hosp,SIMDrateratios,RateRatios!$B$3)*10","v":12023.442848497725},8.4932754722376558,{"$f":"hosp_count(20,B117,C117,D117,$C$1,G117,1,F117,F117,SIMDRateRatios_hosp,SIMDrateratios,RateRatios!$B$3)*10","v":30100.294686147536},{"$f":"hosp_count(20,B117,C117,D117,$C$1,G117+H117,1,F117,F117,SIMDRateRatios_hosp,SIMDrateratios,RateRatios!$B$3)*10","v":30079.827788864124},20.466897283411527]
["Male 40-44",42.5,"male",2,1,{"$f":"HLOOKUP('III Tool Overview'!$H$6,LookUpData_Pop!$B$1:$AV$269,LookUpData_Pop!BB117,FALSE)/50","v":719.98},{"$f":"'III Tool Overview'!$H$9/110","v":0},719.98,{"$f":"new_ci(2,B118,C118,D118,$C$1,G118,1,F118,E118*F118,SIMDrateratios,RateRatios!$B$3)*10","v":27.84215777439308},{"$f":"new_ci(2,B118,C118,D118,$C$1,G118+H118,1,H118,H118,SIMDrateratios,RateRatios!$B$3)*10","v":27.816452745554805},{"$f":"new_ci(5,B118,C118,D118,$C$1,G118,1,F118,F118,SIMDrateratios,RateRatios!$B$3)*1000","v":12103.333355096727},{"$f":"new_ci(5,B118,C118,D118,$C$1,H118,1,F118,F118,SIMDrateratios,RateRatios!$B$3)*1000","v":12092.231953020479},{"$f":"new_ci(10,B118,C118,D118,$C$1,G118,1,F118,F118,SIMDrateratios,RateRatios!$B$3)*10","v":313.72331086712524},{"$f":"new_ci(10,B118,C118,D118,$C$1,G118+H118,1,F118,F118,SIMDrateratios,RateRatios!$B$3)*10","v":313.43951792919091},{"$f":"new_ci(20,B118,C118,D118,$C$1,G118,1,F118,F118,SIMDrateratios,RateRatios!$B$3)*10","v":884.04143508931895},{"$f":"new_ci(20,B118,C118,D118,$C$1,G118+H118,1,F118,F118,SIMDrateratios,RateRatios!$B$3)*10","v":883.27602001703451},{"$f":"new_yll(2,B118,C118,D118,$C$1,G118,1,F118,F118,SIMDrateratios,RateRatios!$B$3)*10","v":1587.0029931404056},{"$f":"new_yll(2,B118,C118,D118,$C$1,G118+H118,1,F118,F118,SIMDrateratios,RateRatios!$B$3)*10","v":1585.5378064966239},1.4651866437816352,{"$f":"new_yll(5,B118,C118,D118,$C$1,G118,1,F118,F118,SIMDrateratios,RateRatios!$B$3)*1000","v":670916.12605805963},{"$f":"new_yll(5,B118,C118,D118,$C$1,G118+H118,1,F118,F118,SIMDrateratios,RateRatios!$B$3)*1000","v":670300.69019008218},615.43586797744501,{"$f":"new_yll(10,B118,C118,D118,$C$1,G118,1,F118,F118,SIMDrateratios,RateRatios!$B$3)*10","v":16515.993348039901},{"$f":"new_yll(10,B118,C118,D118,$C$1,G118+H118,1,F118,F118,SIMDrateratios,RateRatios!$B$3)*10","v":16501.043557691206},14.949790348695387,{"$f":"new_yll(20,B118,C118,D118,$C$1,G118,1,F118,F118,SIMDrateratios,RateRatios!$B$3)*10","v":41091.798495460025},{"$f":"new_yll(20,B118,C118,D118,$C$1,G118+H118,1,F118,F118,SIMDrateratios,RateRatios!$B$3)*10","v":41056.057723458078},35.740772001947335,{"$f":"hosp_count(2,B118,C118,D118,$C$1,G118,1,F118,F118,SIMDRateRatios_hosp,SIMDrateratios,RateRatios!$B$3)*10","v":1346.3768065556894},{"$f":"hosp_count(2,B118,C118,D118,$C$1,G118+H118,1,F118,F118,SIMDRateRatios_hosp,SIMDrateratios,RateRatios!$B$3)*10","v":1345.4084767189192},0.96832983677018092,{"$f":"hosp_count(5,B118,C118,D118,$C$1,G118,1,F118,F118,SIMDRateRatios_hosp,SIMDrateratios,RateRatios!$B$3)*1000","v":565827.40188951732},{"$f":"hosp_count(5,B118,C118,D118,$C$1,G118+H118,1,F118,F118,SIMDRateRatios_hosp,SIMDrateratios,RateRatios!$B$3)*1000","v":565423.70292381337},403.69896570395213,{"$f":"hosp_count(10,B118,C118,D118,$C$1,G118,1,F118,F118,SIMDRateRatios_hosp,SIMDrateratios,RateRatios!$B$3)*10","v":13821.782679743676},{"$f":"hosp_count(10,B118,C118,D118,$C$1,G118+H118,1,F118,F118,SIMDRateRatios_hosp,SIMDrateratios,RateRatios!$B$3)*10","v":13812.083297804787},9.6993819388881093,{"$f":"hosp_count(20,B118,C118,D118,$C$1,G118,1,F118,F118,SIMDRateRatios_hosp,SIMDrateratios,RateRatios!$B$3)*10","v":34254.783437322476},{"$f":"hosp_count(20,B118,C118,D118,$C$1,G118+H118,1,F118,F118,SIMDRateRatios_hosp,SIMDrateratios,RateRatios!$B$3)*10","v":34231.923095983228},22.860341339248407]
["Male 45-49",47.5,"male",2,1,{"$f":"HLOOKUP('III Tool Overview'!$H$6,LookUpData_Pop!$B$1:$AV$269,LookUpData_Pop!BB118,FALSE)/50","v":709},{"$f":"'III Tool Overview'!$H$9/110","v":0},709,{"$f":"new_ci(2,B119,C119,D119,$C$1,G119,1,F119,E119*F119,SIMDrateratios,RateRatios!$B$3)*10","v":42.289294697799576},{"$f":"new_ci(2,B119,C119,D119,$C$1,G119+H119,1,H119,H119,SIMDrateratios,RateRatios!$B$3)*10","v":42.250293683680979},{"$f":"new_ci(5,B119,C119,D119,$C$1,G119,1,F119,F119,SIMDrateratios,RateRatios!$B$3)*1000","v":18318.683305048613},{"$f":"new_ci(5,B119,C119,D119,$C$1,H119,1,F119,F119,SIMDrateratios,RateRatios!$B$3)*1000","v":18301.959047904122},{"$f":"new_ci(10,B119,C119,D119,$C$1,G119,1,F119,F119,SIMDrateratios,RateRatios!$B$3)*10","v":471.32251480776262},{"$f":"new_ci(10,B119,C119,D119,$C$1,G119+H119,1,F119,F119,SIMDrateratios,RateRatios!$B$3)*10","v":470.90134924128051},{"$f":"new_ci(20,B119,C119,D119,$C$1,G119,1,F119,F119,SIMDrateratios,RateRatios!$B$3)*10","v":1298.4061098131961},{"$f":"new_ci(20,B119,C119,D119,$C$1,G119+H119,1,F119,F119,SIMDrateratios,RateRatios!$B$3)*10","v":1297.322355227602},{"$f":"new_yll(2,B119,C119,D119,$C$1,G119,1,F119,F119,SIMDrateratios,RateRatios!$B$3)*10","v":2156.7540295877784},{"$f":"new_yll(2,B119,C119,D119,$C$1,G119+H119,1,F119,F119,SIMDrateratios,RateRatios!$B$3)*10","v":2154.7649778677301},1.9890517200483373,{"$f":"new_yll(5,B119,C119,D119,$C$1,G119,1,F119,F119,SIMDrateratios,RateRatios!$B$3)*1000","v":905588.13094932016},{"$f":"new_yll(5,B119,C119,D119,$C$1,G119+H119,1,F119,F119,SIMDrateratios,RateRatios!$B$3)*1000","v":904761.2254107612},826.90553855895996,{"$f":"new_yll(10,B119,C119,D119,$C$1,G119,1,F119,F119,SIMDrateratios,RateRatios!$B$3)*10","v":21993.272379306029},{"$f":"new_yll(10,B119,C119,D119,$C$1,G119+H119,1,F119,F119,SIMDrateratios,RateRatios!$B$3)*10","v":21973.597568031033},19.674811274995591,{"$f":"new_yll(20,B119,C119,D119,$C$1,G119,1,F119,F119,SIMDrateratios,RateRatios!$B$3)*10","v":52702.731193827305},{"$f":"new_yll(20,B119,C119,D119,$C$1,G119+H119,1,F119,F119,SIMDrateratios,RateRatios!$B$3)*10","v":52658.371216535634},44.359977291671385,{"$f":"hosp_count(2,B119,C119,D119,$C$1,G119,1,F119,F119,SIMDRateRatios_hosp,SIMDrateratios,RateRatios!$B$3)*10","v":1634.6058156076836},{"$f":"hosp_count(2,B119,C119,D119,$C$1,G119+H119,1,F119,F119,SIMDRateRatios_hosp,SIMDrateratios,RateRatios!$B$3)*10","v":1633.4302207762858},1.1755948313978024,{"$f":"hosp_count(5,B119,C119,D119,$C$1,G119,1,F119,F119,SIMDRateRatios_hosp,SIMDrateratios,RateRatios!$B$3)*1000","v":684641.6233568344},{"$f":"hosp_count(5,B119,C119,D119,$C$1,G119+H119,1,F119,F119,SIMDRateRatios_hosp,SIMDrateratios,RateRatios!$B$3)*1000","v":684155.29654396232},486.32681287208106,{"$f":"hosp_count(10,B119,C119,D119,$C$1,G119,1,F119,F119,SIMDRateRatios_hosp,SIMDrateratios,RateRatios!$B$3)*10","v":16609.483064840533},{"$f":"hosp_count(10,B119,C119,D119,$C$1,G119+H119,1,F119,F119,SIMDRateRatios_hosp,SIMDrateratios,RateRatios!$B$3)*10","v":16597.983584744019},11.499480096514162,{"$f":"hosp_count(20,B119,C119,D119,$C$1,G119,1,F119,F119,SIMDRateRatios_hosp,SIMDrateratios,RateRatios!$B$3)*10","v":40346.076647655034},{"$f":"hosp_count(20,B119,C119,D119,$C$1,G119+H119,1,F119,F119,SIMDRateRatios_hosp,SIMDrateratios,RateRatios!$B$3)*10","v":40320.248042118386},25.828605536647956]
["Male 50-54",52.5,"male",2,1,{"$f":"HLOOKUP('III Tool Overview'!$H$6,LookUpData_Pop!$B$1:$AV$269,LookUpData_Pop!BB119,FALSE)/50","v":615.82000000000005},{"$f":"'III Tool Overview'!$H$9/110","v":0},615.82000000000005,{"$f":"new_ci(2,B120,C120,D120,$C$1,G120,1,F120,E120*F120,SIMDrateratios,RateRatios!$B$3)*10","v":49.020177930994535},{"$f":"new_ci(2,B120,C120,D120,$C$1,G120+H120,1,H120,H120,SIMDrateratios,RateRatios!$B$3)*10","v":48.975001616070884},{"$f":"new_ci(5,B120,C120,D120,$C$1,G120,1,F120,F120,SIMDrateratios,RateRatios!$B$3)*1000","v":21162.888848416747},{"$f":"new_ci(5,B120,C120,D120,$C$1,H120,1,F120,F120,SIMDrateratios,RateRatios!$B$3)*1000","v":21143.647426180505},{"$f":"new_ci(10,B120,C120,D120,$C$1,G120,1,F120,F120,SIMDrateratios,RateRatios!$B$3)*10","v":540.68983157396224},{"$f":"new_ci(10,B120,C120,D120,$C$1,G120+H120,1,F120,F120,SIMDrateratios,RateRatios!$B$3)*10","v":540.21215955157754},{"$f":"new_ci(20,B120,C120,D120,$C$1,G120,1,F120,F120,SIMDrateratios,RateRatios!$B$3)*10","v":1458.2006778991495},{"$f":"new_ci(20,B120,C120,D120,$C$1,G120+H120,1,F120,F120,SIMDrateratios,RateRatios!$B$3)*10","v":1457.0253908544269},{"$f":"new_yll(2,B120,C120,D120,$C$1,G120,1,F120,F120,SIMDrateratios,RateRatios!$B$3)*10","v":2303.9483627567433},{"$f":"new_yll(2,B120,C120,D120,$C$1,G120+H120,1,F120,F120,SIMDrateratios,RateRatios!$B$3)*10","v":2301.8250759553316},2.123286801411723,{"$f":"new_yll(5,B120,C120,D120,$C$1,G120,1,F120,F120,SIMDrateratios,RateRatios!$B$3)*1000","v":961598.53842936899},{"$f":"new_yll(5,B120,C120,D120,$C$1,G120+H120,1,F120,F120,SIMDrateratios,RateRatios!$B$3)*1000","v":960724.03403200873},874.50439736025874,{"$f":"new_yll(10,B120,C120,D120,$C$1,G120,1,F120,F120,SIMDrateratios,RateRatios!$B$3)*10","v":23076.56976739076},{"$f":"new_yll(10,B120,C120,D120,$C$1,G120+H120,1,F120,F120,SIMDrateratios,RateRatios!$B$3)*10","v":23056.149044570368},20.420722820392257,{"$f":"new_yll(20,B120,C120,D120,$C$1,G120,1,F120,F120,SIMDrateratios,RateRatios!$B$3)*10","v":53507.143158999534},{"$f":"new_yll(20,B120,C120,D120,$C$1,G120+H120,1,F120,F120,SIMDrateratios,RateRatios!$B$3)*10","v":53463.461422479966},43.681736519567494,{"$f":"hosp_count(2,B120,C120,D120,$C$1,G120,1,F120,F120,SIMDRateRatios_hosp,SIMDrateratios,RateRatios!$B$3)*10","v":1632.4291359321753},{"$f":"hosp_count(2,B120,C120,D120,$C$1,G120+H120,1,F120,F120,SIMDRateRatios_hosp,SIMDrateratios,RateRatios!$B$3)*10","v":1631.2547633897875},1.1743725423878004,{"$f":"hosp_count(5,B120,C120,D120,$C$1,G120,1,F120,F120,SIMDRateRatios_hosp,SIMDrateratios,RateRatios!$B$3)*1000","v":681535.59064323467},{"$f":"hosp_count(5,B120,C120,D120,$C$1,G120+H120,1,F120,F120,SIMDRateRatios_hosp,SIMDrateratios,RateRatios!$B$3)*1000","v":681053.34187580517},482.24876742949709,{"$f":"hosp_count(10,B120,C120,D120,$C$1,G120,1,F120,F120,SIMDRateRatios_hosp,SIMDrateratios,RateRatios!$B$3)*10","v":16426.667636341794},{"$f":"hosp_count(10,B120,C120,D120,$C$1,G120+H120,1,F120,F120,SIMDRateRatios_hosp,SIMDrateratios,RateRatios!$B$3)*10","v":16415.437084581969},11.230551759825175,{"$f":"hosp_count(20,B120,C120,D120,$C$1,G120,1,F120,F120,SIMDRateRatios_hosp,SIMDrateratios,RateRatios!$B$3)*10","v":39158.980372369508},{"$f":"hosp_count(20,B120,C120,D120,$C$1,G120+H120,1,F120,F120,SIMDRateRatios_hosp,SIMDrateratios,RateRatios!$B$3)*10","v":39134.892307852526},24.088064516981831]
["Male 55-59",57.5,"male",2,1,{"$f":"HLOOKUP('III Tool Overview'!$H$6,LookUpData_Pop!$B$1:$AV$269,LookUpData_Pop!BB120,FALSE)/50","v":516.82000000000005},{"$f":"'III Tool Overview'!$H$9/110","v":0},516.82000000000005,{"$f":"new_ci(2,B121,C121,D121,$C$1,G121,1,F121,E121*F121,SIMDrateratios,RateRatios!$B$3)*10","v":63.383608009902368},{"$f":"new_ci(2,B121,C121,D121,$C$1,G121+H121,1,H121,H121,SIMDrateratios,RateRatios!$B$3)*10","v":63.325318244718993},{"$f":"new_ci(5,B121,C121,D121,$C$1,G121,1,F121,F121,SIMDrateratios,RateRatios!$B$3)*1000","v":27165.579529135153},{"$f":"new_ci(5,B121,C121,D121,$C$1,H121,1,F121,F121,SIMDrateratios,RateRatios!$B$3)*1000","v":27141.11440256501},{"$f":"new_ci(10,B121,C121,D121,$C$1,G121,1,F121,F121,SIMDrateratios,RateRatios!$B$3)*10","v":683.67224276754177},{"$f":"new_ci(10,B121,C121,D121,$C$1,G121+H121,1,F121,F121,SIMDrateratios,RateRatios!$B$3)*10","v":683.08340438730909},{"$f":"new_ci(20,B121,C121,D121,$C$1,G121,1,F121,F121,SIMDrateratios,RateRatios!$B$3)*10","v":1763.046217627124},{"$f":"new_ci(20,B121,C121,D121,$C$1,G121+H121,1,F121,F121,SIMDrateratios,RateRatios!$B$3)*10","v":1761.7313082355604},{"$f":"new_yll(2,B121,C121,D121,$C$1,G121,1,F121,F121,SIMDrateratios,RateRatios!$B$3)*10","v":2598.7279284059969},{"$f":"new_yll(2,B121,C121,D121,$C$1,G121+H121,1,F121,F121,SIMDrateratios,RateRatios!$B$3)*10","v":2596.3380480334786},2.3898803725182916,{"$f":"new_yll(5,B121,C121,D121,$C$1,G121,1,F121,F121,SIMDrateratios,RateRatios!$B$3)*1000","v":1071516.302066722},{"$f":"new_yll(5,B121,C121,D121,$C$1,G121+H121,1,F121,F121,SIMDrateratios,RateRatios!$B$3)*1000","v":1070550.8791456707},965.42292105127126,{"$f":"new_yll(10,B121,C121,D121,$C$1,G121,1,F121,F121,SIMDrateratios,RateRatios!$B$3)*10","v":25102.121620741727},{"$f":"new_yll(10,B121,C121,D121,$C$1,G121+H121,1,F121,F121,SIMDrateratios,RateRatios!$B$3)*10","v":25080.435566762688},21.686053979039571,{"$f":"new_yll(20,B121,C121,D121,$C$1,G121,1,F121,F121,SIMDrateratios,RateRatios!$B$3)*10","v":54510.43489450105},{"$f":"new_yll(20,B121,C121,D121,$C$1,G121+H121,1,F121,F121,SIMDrateratios,RateRatios!$B$3)*10","v":54468.742020433303},41.692874067746743,{"$f":"hosp_count(2,B121,C121,D121,$C$1,G121,1,F121,F121,SIMDRateRatios_hosp,SIMDrateratios,RateRatios!$B$3)*10","v":1689.0421025721889},{"$f":"hosp_count(2,B121,C121,D121,$C$1,G121+H121,1,F121,F121,SIMDRateRatios_hosp,SIMDrateratios,RateRatios!$B$3)*10","v":1687.8269345425801},1.2151680296087761,{"$f":"hosp_count(5,B121,C121,D121,$C$1,G121,1,F121,F121,SIMDRateRatios_hosp,SIMDrateratios,RateRatios!$B$3)*1000","v":700297.32820808666},{"$f":"hosp_count(5,B121,C121,D121,$C$1,G121+H121,1,F121,F121,SIMDRateRatios_hosp,SIMDrateratios,RateRatios!$B$3)*1000","v":699806.22706303583},491.10114505083766,{"$f":"hosp_count(10,B121,C121,D121,$C$1,G121,1,F121,F121,SIMDRateRatios_hosp,SIMDrateratios,RateRatios!$B$3)*10","v":16644.434336141734},{"$f":"hosp_count(10,B121,C121,D121,$C$1,G121+H121,1,F121,F121,SIMDRateRatios_hosp,SIMDrateratios,RateRatios!$B$3)*10","v":16633.369327949345},11.065008192388632,{"$f":"hosp_count(20,B121,C121,D121,$C$1,G121,1,F121,F121,SIMDRateRatios_hosp,SIMDrateratios,RateRatios!$B$3)*10","v":38138.079947926453},{"$f":"hosp_count(20,B121,C121,D121,$C$1,G121+H121,1,F121,F121,SIMDRateRatios_hosp,SIMDrateratios,RateRatios!$B$3)*10","v":38116.615016034135},21.464931892318418]
["Male 60-64",62.5,"male",2,1,{"$f":"HLOOKUP('III Tool Overview'!$H$6,LookUpData_Pop!$B$1:$AV$269,LookUpData_Pop!BB121,FALSE)/50","v":485.38},{"$f":"'III Tool Overview'!$H$9/110","v":0},485.38,{"$f":"new_ci(2,B122,C122,D122,$C$1,G122,1,F122,E122*F122,SIMDrateratios,RateRatios!$B$3)*10","v":79.35866540919622},{"$f":"new_ci(2,B122,C122,D122,$C$1,G122+H122,1,H122,H122,SIMDrateratios,RateRatios!$B$3)*10","v":79.285918099089358},{"$f":"new_ci(5,B122,C122,D122,$C$1,G122,1,F122,F122,SIMDrateratios,RateRatios!$B$3)*1000","v":33778.265512134487},{"$f":"new_ci(5,B122,C122,D122,$C$1,H122,1,F122,F122,SIMDrateratios,RateRatios!$B$3)*1000","v":33748.156368904471},{"$f":"new_ci(10,B122,C122,D122,$C$1,G122,1,F122,F122,SIMDrateratios,RateRatios!$B$3)*10","v":838.10719590452413},{"$f":"new_ci(10,B122,C122,D122,$C$1,G122+H122,1,F122,F122,SIMDrateratios,RateRatios!$B$3)*10","v":837.40358782989506},{"$f":"new_ci(20,B122,C122,D122,$C$1,G122,1,F122,F122,SIMDrateratios,RateRatios!$B$3)*10","v":2073.9969625568069},{"$f":"new_ci(20,B122,C122,D122,$C$1,G122+H122,1,F122,F122,SIMDrateratios,RateRatios!$B$3)*10","v":2072.5645021045061},{"$f":"new_yll(2,B122,C122,D122,$C$1,G122,1,F122,F122,SIMDrateratios,RateRatios!$B$3)*10","v":2936.2706201402602},{"$f":"new_yll(2,B122,C122,D122,$C$1,G122+H122,1,F122,F122,SIMDrateratios,RateRatios!$B$3)*10","v":2933.578969666306},2.6916504739542688,{"$f":"new_yll(5,B122,C122,D122,$C$1,G122,1,F122,F122,SIMDrateratios,RateRatios!$B$3)*1000","v":1197424.4498673156},{"$f":"new_yll(5,B122,C122,D122,$C$1,G122+H122,1,F122,F122,SIMDrateratios,RateRatios!$B$3)*1000","v":1196356.392257187},1068.0576101285405,{"$f":"new_yll(10,B122,C122,D122,$C$1,G122,1,F122,F122,SIMDrateratios,RateRatios!$B$3)*10","v":27449.376606093392},{"$f":"new_yll(10,B122,C122,D122,$C$1,G122+H122,1,F122,F122,SIMDrateratios,RateRatios!$B$3)*10","v":27426.224467070395},23.152139022997289,{"$f":"new_yll(20,B122,C122,D122,$C$1,G122,1,F122,F122,SIMDrateratios,RateRatios!$B$3)*10","v":56271.843631678232},{"$f":"new_yll(20,B122,C122,D122,$C$1,G122+H122,1,F122,F122,SIMDrateratios,RateRatios!$B$3)*10","v":56231.35110185307},40.49252982516191,{"$f":"hosp_count(2,B122,C122,D122,$C$1,G122,1,F122,F122,SIMDRateRatios_hosp,SIMDrateratios,RateRatios!$B$3)*10","v":1823.8821985318832},{"$f":"hosp_count(2,B122,C122,D122,$C$1,G122+H122,1,F122,F122,SIMDRateRatios_hosp,SIMDrateratios,RateRatios!$B$3)*10","v":1822.5715046443356},1.3106938875475862,{"$f":"hosp_count(5,B122,C122,D122,$C$1,G122,1,F122,F122,SIMDRateRatios_hosp,SIMDrateratios,RateRatios!$B$3)*1000","v":751238.77764716255},{"$f":"hosp_count(5,B122,C122,D122,$C$1,G122+H122,1,F122,F122,SIMDRateRatios_hosp,SIMDrateratios,RateRatios!$B$3)*1000","v":750717.06055747962},521.71708968293387,{"$f":"hosp_count(10,B122,C122,D122,$C$1,G122,1,F122,F122,SIMDRateRatios_hosp,SIMDrateratios,RateRatios!$B$3)*10","v":17621.436453505245},{"$f":"hosp_count(10,B122,C122,D122,$C$1,G122+H122,1,F122,F122,SIMDRateRatios_hosp,SIMDrateratios,RateRatios!$B$3)*10","v":17610.046971909269},11.389481595975667,{"$f":"hosp_count(20,B122,C122,D122,$C$1,G122,1,F122,F122,SIMDRateRatios_hosp,SIMDrateratios,RateRatios!$B$3)*10","v":38934.610157342875},{"$f":"hosp_count(20,B122,C122,D122,$C$1,G122+H122,1,F122,F122,SIMDRateRatios_hosp,SIMDrateratios,RateRatios!$B$3)*10","v":38914.553054737007},20.05710260586784]
["Male 65-69",67.5,"male",2,1,{"$f":"HLOOKUP('III Tool Overview'!$H$6,LookUpData_Pop!$B$1:$AV$269,LookUpData_Pop!BB122,FALSE)/50","v":390.22},{"$f":"'III Tool Overview'!$H$9/110","v":0},390.22,{"$f":"new_ci(2,B123,C123,D123,$C$1,G123,1,F123,E123*F123,SIMDrateratios,RateRatios!$B$3)*10","v":98.070960530151936},{"$f":"new_ci(2,B123,C123,D123,$C$1,G123+H123,1,H123,H123,SIMDrateratios,RateRatios!$B$3)*10","v":97.981443483580094},{"$f":"new_ci(5,B123,C123,D123,$C$1,G123,1,F123,F123,SIMDrateratios,RateRatios!$B$3)*1000","v":41127.563638534462},{"$f":"new_ci(5,B123,C123,D123,$C$1,H123,1,F123,F123,SIMDrateratios,RateRatios!$B$3)*1000","v":41091.618062854111},{"$f":"new_ci(10,B123,C123,D123,$C$1,G123,1,F123,F123,SIMDrateratios,RateRatios!$B$3)*10","v":990.1298352801},{"$f":"new_ci(10,B123,C123,D123,$C$1,G123+H123,1,F123,F123,SIMDrateratios,RateRatios!$B$3)*10","v":989.34179719480585},{"$f":"new_ci(20,B123,C123,D123,$C$1,G123,1,F123,F123,SIMDrateratios,RateRatios!$B$3)*10","v":2251.9619422400297},{"$f":"new_ci(20,B123,C123,D123,$C$1,G123+H123,1,F123,F123,SIMDrateratios,RateRatios!$B$3)*10","v":2250.6484410958847},{"$f":"new_yll(2,B123,C123,D123,$C$1,G123,1,F123,F123,SIMDrateratios,RateRatios!$B$3)*10","v":3040.1997764347102},{"$f":"new_yll(2,B123,C123,D123,$C$1,G123+H123,1,F123,F123,SIMDrateratios,RateRatios!$B$3)*10","v":3037.4247479909832},2.7750284437270238,{"$f":"new_yll(5,B123,C123,D123,$C$1,G123,1,F123,F123,SIMDrateratios,RateRatios!$B$3)*1000","v":1211691.9177727085},{"$f":"new_yll(5,B123,C123,D123,$C$1,G123+H123,1,F123,F123,SIMDrateratios,RateRatios!$B$3)*1000","v":1210631.5765888561},1060.3411838524044,{"$f":"new_yll(10,B123,C123,D123,$C$1,G123,1,F123,F123,SIMDrateratios,RateRatios!$B$3)*10","v":26562.615854830001},{"$f":"new_yll(10,B123,C123,D123,$C$1,G123+H123,1,F123,F123,SIMDrateratios,RateRatios!$B$3)*10","v":26541.278208801723},21.337646028277959,{"$f":"new_yll(20,B123,C123,D123,$C$1,G123,1,F123,F123,SIMDrateratios,RateRatios!$B$3)*10","v":48624.669188927597},{"$f":"new_yll(20,B123,C123,D123,$C$1,G123+H123,1,F123,F123,SIMDrateratios,RateRatios!$B$3)*10","v":48593.60671862551},31.062470302087604,{"$f":"hosp_count(2,B123,C123,D123,$C$1,G123,1,F123,F123,SIMDRateRatios_hosp,SIMDrateratios,RateRatios!$B$3)*10","v":1807.7777933387833},{"$f":"hosp_count(2,B123,C123,D123,$C$1,G123+H123,1,F123,F123,SIMDRateRatios_hosp,SIMDrateratios,RateRatios!$B$3)*10","v":1806.4783876674132},1.2994056713700957,{"$f":"hosp_count(5,B123,C123,D123,$C$1,G123,1,F123,F123,SIMDRateRatios_hosp,SIMDrateratios,RateRatios!$B$3)*1000","v":734128.90859104251},{"$f":"hosp_count(5,B123,C123,D123,$C$1,G123+H123,1,F123,F123,SIMDRateRatios_hosp,SIMDrateratios,RateRatios!$B$3)*1000","v":733628.39297151845},500.51561952405609,{"$f":"hosp_count(10,B123,C123,D123,$C$1,G123,1,F123,F123,SIMDRateRatios_hosp,SIMDrateratios,RateRatios!$B$3)*10","v":16744.682982300881},{"$f":"hosp_count(10,B123,C123,D123,$C$1,G123+H123,1,F123,F123,SIMDRateRatios_hosp,SIMDrateratios,RateRatios!$B$3)*10","v":16734.480503869418},10.202478431463533,{"$f":"hosp_count(20,B123,C123,D123,$C$1,G123,1,F123,F123,SIMDRateRatios_hosp,SIMDrateratios,RateRatios!$B$3)*10","v":34351.238010478708},{"$f":"hosp_count(20,B123,C123,D123,$C$1,G123+H123,1,F123,F123,SIMDRateRatios_hosp,SIMDrateratios,RateRatios!$B$3)*10","v":34336.721976328787},14.516034149921325]
["Male 70-74",72.5,"male",2,1,{"$f":"HLOOKUP('III Tool Overview'!$H$6,LookUpData_Pop!$B$1:$AV$269,LookUpData_Pop!BB123,FALSE)/50","v":337.74},{"$f":"'III Tool Overview'!$H$9/110","v":0},337.74,{"$f":"new_ci(2,B124,C124,D124,$C$1,G124,1,F124,E124*F124,SIMDrateratios,RateRatios!$B$3)*10","v":112.91165979334856},{"$f":"new_ci(2,B124,C124,D124,$C$1,G124+H124,1,H124,H124,SIMDrateratios,RateRatios!$B$3)*10","v":112.80890095196079},{"$f":"new_ci(5,B124,C124,D124,$C$1,G124,1,F124,F124,SIMDrateratios,RateRatios!$B$3)*1000","v":46690.794214464018},{"$f":"new_ci(5,B124,C124,D124,$C$1,H124,1,F124,F124,SIMDrateratios,RateRatios!$B$3)*1000","v":46650.704700410373},{"$f":"new_ci(10,B124,C124,D124,$C$1,G124,1,F124,F124,SIMDrateratios,RateRatios!$B$3)*10","v":1092.9597110148684},{"$f":"new_ci(10,B124,C124,D124,$C$1,G124+H124,1,F124,F124,SIMDrateratios,RateRatios!$B$3)*10","v":1092.132727627119},{"$f":"new_ci(20,B124,C124,D124,$C$1,G124,1,F124,F124,SIMDrateratios,RateRatios!$B$3)*10","v":2307.6704282704768},{"$f":"new_ci(20,B124,C124,D124,$C$1,G124+H124,1,F124,F124,SIMDrateratios,RateRatios!$B$3)*10","v":2306.5313127019099},{"$f":"new_yll(2,B124,C124,D124,$C$1,G124,1,F124,F124,SIMDrateratios,RateRatios!$B$3)*10","v":3048.6148144204112},{"$f":"new_yll(2,B124,C124,D124,$C$1,G124+H124,1,F124,F124,SIMDrateratios,RateRatios!$B$3)*10","v":3045.8403257029413},2.7744887174699215,{"$f":"new_yll(5,B124,C124,D124,$C$1,G124,1,F124,F124,SIMDrateratios,RateRatios!$B$3)*1000","v":1189376.4119371721},{"$f":"new_yll(5,B124,C124,D124,$C$1,G124+H124,1,F124,F124,SIMDrateratios,RateRatios!$B$3)*1000","v":1188353.1887236619},1023.2232135101222,{"$f":"new_yll(10,B124,C124,D124,$C$1,G124,1,F124,F124,SIMDrateratios,RateRatios!$B$3)*10","v":25028.305061336592},{"$f":"new_yll(10,B124,C124,D124,$C$1,G124+H124,1,F124,F124,SIMDrateratios,RateRatios!$B$3)*10","v":25009.077594750801},19.227466585791262,{"$f":"new_yll(20,B124,C124,D124,$C$1,G124,1,F124,F124,SIMDrateratios,RateRatios!$B$3)*10","v":41594.972944798326},{"$f":"new_yll(20,B124,C124,D124,$C$1,G124+H124,1,F124,F124,SIMDrateratios,RateRatios!$B$3)*10","v":41570.802156872058},24.170787926268531,{"$f":"hosp_count(2,B124,C124,D124,$C$1,G124,1,F124,F124,SIMDRateRatios_hosp,SIMDrateratios,RateRatios!$B$3)*10","v":1799.002493582756},{"$f":"hosp_count(2,B124,C124,D124,$C$1,G124+H124,1,F124,F124,SIMDRateRatios_hosp,SIMDrateratios,RateRatios!$B$3)*10","v":1797.7076700173791},1.2948235653768734,{"$f":"hosp_count(5,B124,C124,D124,$C$1,G124,1,F124,F124,SIMDRateRatios_hosp,SIMDrateratios,RateRatios!$B$3)*1000","v":720838.9955979248},{"$f":"hosp_count(5,B124,C124,D124,$C$1,G124+H124,1,F124,F124,SIMDRateRatios_hosp,SIMDrateratios,RateRatios!$B$3)*1000","v":720355.58416267822},483.41143524658401,{"$f":"hosp_count(10,B124,C124,D124,$C$1,G124,1,F124,F124,SIMDRateRatios_hosp,SIMDrateratios,RateRatios!$B$3)*10","v":16019.06302553109},{"$f":"hosp_count(10,B124,C124,D124,$C$1,G124+H124,1,F124,F124,SIMDRateRatios_hosp,SIMDrateratios,RateRatios!$B$3)*10","v":16009.835877031946},9.2271484991433681,{"$f":"hosp_count(20,B124,C124,D124,$C$1,G124,1,F124,F124,SIMDRateRatios_hosp,SIMDrateratios,RateRatios!$B$3)*10","v":30788.450229965332},{"$f":"hosp_count(20,B124,C124,D124,$C$1,G124+H124,1,F124,F124,SIMDRateRatios_hosp,SIMDrateratios,RateRatios!$B$3)*10","v":30777.80514109767},10.645088867662707]
["Male 75-79",77.5,"male",2,1,{"$f":"HLOOKUP('III Tool Overview'!$H$6,LookUpData_Pop!$B$1:$AV$269,LookUpData_Pop!BB124,FALSE)/50","v":254.44},{"$f":"'III Tool Overview'!$H$9/110","v":0},254.44,{"$f":"new_ci(2,B125,C125,D125,$C$1,G125,1,F125,E125*F125,SIMDrateratios,RateRatios!$B$3)*10","v":130.14056982421528},{"$f":"new_ci(2,B125,C125,D125,$C$1,G125+H125,1,H125,H125,SIMDrateratios,RateRatios!$B$3)*10","v":130.02352156420801},{"$f":"new_ci(5,B125,C125,D125,$C$1,G125,1,F125,F125,SIMDrateratios,RateRatios!$B$3)*1000","v":52224.032356088414},{"$f":"new_ci(5,B125,C125,D125,$C$1,H125,1,F125,F125,SIMDrateratios,RateRatios!$B$3)*1000","v":52181.13116881928},{"$f":"new_ci(10,B125,C125,D125,$C$1,G125,1,F125,F125,SIMDrateratios,RateRatios!$B$3)*10","v":1153.1572699294575},{"$f":"new_ci(10,B125,C125,D125,$C$1,G125+H125,1,F125,F125,SIMDrateratios,RateRatios!$B$3)*10","v":1152.3814948142767},{"$f":"new_ci(20,B125,C125,D125,$C$1,G125,1,F125,F125,SIMDrateratios,RateRatios!$B$3)*10","v":2113.246311744645},{"$f":"new_ci(20,B125,C125,D125,$C$1,G125+H125,1,F125,F125,SIMDrateratios,RateRatios!$B$3)*10","v":2112.538977330024},{"$f":"new_yll(2,B125,C125,D125,$C$1,G125,1,F125,F125,SIMDrateratios,RateRatios!$B$3)*10","v":2732.9519663085212},{"$f":"new_yll(2,B125,C125,D125,$C$1,G125+H125,1,F125,F125,SIMDrateratios,RateRatios!$B$3)*10","v":2730.4939528483683},2.4580134601528698,{"$f":"new_yll(5,B125,C125,D125,$C$1,G125,1,F125,F125,SIMDrateratios,RateRatios!$B$3)*1000","v":1018301.1972097863},{"$f":"new_yll(5,B125,C125,D125,$C$1,G125+H125,1,F125,F125,SIMDrateratios,RateRatios!$B$3)*1000","v":1017461.22913103},839.96807875623927,{"$f":"new_yll(10,B125,C125,D125,$C$1,G125,1,F125,F125,SIMDrateratios,RateRatios!$B$3)*10","v":19667.226059632871},{"$f":"new_yll(10,B125,C125,D125,$C$1,G125+H125,1,F125,F125,SIMDrateratios,RateRatios!$B$3)*10","v":19653.527104003344},13.698955629526608,{"$f":"new_yll(20,B125,C125,D125,$C$1,G125,1,F125,F125,SIMDrateratios,RateRatios!$B$3)*10","v":27315.212879265295},{"$f":"new_yll(20,B125,C125,D125,$C$1,G125+H125,1,F125,F125,SIMDrateratios,RateRatios!$B$3)*10","v":27301.248472093866},13.96440717142832,{"$f":"hosp_count(2,B125,C125,D125,$C$1,G125,1,F125,F125,SIMDRateRatios_hosp,SIMDrateratios,RateRatios!$B$3)*10","v":1670.9185044754825},{"$f":"hosp_count(2,B125,C125,D125,$C$1,G125+H125,1,F125,F125,SIMDRateRatios_hosp,SIMDrateratios,RateRatios!$B$3)*10","v":1669.7188719655164},1.1996325099660226,{"$f":"hosp_count(5,B125,C125,D125,$C$1,G125,1,F125,F125,SIMDRateRatios_hosp,SIMDrateratios,RateRatios!$B$3)*1000","v":650609.18041839683},{"$f":"hosp_count(5,B125,C125,D125,$C$1,G125+H125,1,F125,F125,SIMDRateRatios_hosp,SIMDrateratios,RateRatios!$B$3)*1000","v":650190.4809102962},418.69950810063165,{"$f":"hosp_count(10,B125,C125,D125,$C$1,G125,1,F125,F125,SIMDRateRatios_hosp,SIMDrateratios,RateRatios!$B$3)*10","v":13696.25151219576},{"$f":"hosp_count(10,B125,C125,D125,$C$1,G125+H125,1,F125,F125,SIMDRateRatios_hosp,SIMDrateratios,RateRatios!$B$3)*10","v":13689.326974849064},6.9245373466965248,{"$f":"hosp_count(20,B125,C125,D125,$C$1,G125,1,F125,F125,SIMDRateRatios_hosp,SIMDrateratios,RateRatios!$B$3)*10","v":23262.77755692861},{"$f":"hosp_count(20,B125,C125,D125,$C$1,G125+H125,1,F125,F125,SIMDRateRatios_hosp,SIMDrateratios,RateRatios!$B$3)*10","v":23257.864014557061},4.9135423715488287]
["Male 80-84",82.5,"male",2,1,{"$f":"HLOOKUP('III Tool Overview'!$H$6,LookUpData_Pop!$B$1:$AV$269,LookUpData_Pop!BB125,FALSE)/50","v":163.26},{"$f":"'III Tool Overview'!$H$9/110","v":0},163.26,{"$f":"new_ci(2,B126,C126,D126,$C$1,G126,1,F126,E126*F126,SIMDrateratios,RateRatios!$B$3)*10","v":110.58329310809064},{"$f":"new_ci(2,B126,C126,D126,$C$1,G126+H126,1,H126,H126,SIMDrateratios,RateRatios!$B$3)*10","v":110.48470234997609},{"$f":"new_ci(5,B126,C126,D126,$C$1,G126,1,F126,F126,SIMDrateratios,RateRatios!$B$3)*1000","v":43144.929500539547},{"$f":"new_ci(5,B126,C126,D126,$C$1,H126,1,F126,F126,SIMDrateratios,RateRatios!$B$3)*1000","v":43110.880914243928},{"$f":"new_ci(10,B126,C126,D126,$C$1,G126,1,F126,F126,SIMDrateratios,RateRatios!$B$3)*10","v":903.76168167597416},{"$f":"new_ci(10,B126,C126,D126,$C$1,G126+H126,1,F126,F126,SIMDrateratios,RateRatios!$B$3)*10","v":903.21863508996057},{"$f":"new_ci(20,B126,C126,D126,$C$1,G126,1,F126,F126,SIMDrateratios,RateRatios!$B$3)*10","v":1480.2065917729612},{"$f":"new_ci(20,B126,C126,D126,$C$1,G126+H126,1,F126,F126,SIMDrateratios,RateRatios!$B$3)*10","v":1479.8724652957301},{"$f":"new_yll(2,B126,C126,D126,$C$1,G126,1,F126,F126,SIMDrateratios,RateRatios!$B$3)*10","v":1879.9159828375409},{"$f":"new_yll(2,B126,C126,D126,$C$1,G126+H126,1,F126,F126,SIMDrateratios,RateRatios!$B$3)*10","v":1878.2399399495935},1.6760428879474603,{"$f":"new_yll(5,B126,C126,D126,$C$1,G126,1,F126,F126,SIMDrateratios,RateRatios!$B$3)*1000","v":669727.78162054834},{"$f":"new_yll(5,B126,C126,D126,$C$1,G126+H126,1,F126,F126,SIMDrateratios,RateRatios!$B$3)*1000","v":669195.4506690749},532.33095147344284,{"$f":"new_yll(10,B126,C126,D126,$C$1,G126,1,F126,F126,SIMDrateratios,RateRatios!$B$3)*10","v":11931.574910168209},{"$f":"new_yll(10,B126,C126,D126,$C$1,G126+H126,1,F126,F126,SIMDrateratios,RateRatios!$B$3)*10","v":11923.920516066719},7.6543941014897428,{"$f":"new_yll(20,B126,C126,D126,$C$1,G126,1,F126,F126,SIMDrateratios,RateRatios!$B$3)*10","v":14391.145198297956},{"$f":"new_yll(20,B126,C126,D126,$C$1,G126+H126,1,F126,F126,SIMDrateratios,RateRatios!$B$3)*10","v":14383.759274307795},7.3859239901612455,{"$f":"hosp_count(2,B126,C126,D126,$C$1,G126,1,F126,F126,SIMDRateRatios_hosp,SIMDrateratios,RateRatios!$B$3)*10","v":1232.7170915610527},{"$f":"hosp_count(2,B126,C126,D126,$C$1,G126+H126,1,F126,F126,SIMDRateRatios_hosp,SIMDrateratios,RateRatios!$B$3)*10","v":1231.8319436311567},0.885147929895993,{"$f":"hosp_count(5,B126,C126,D126,$C$1,G126,1,F126,F126,SIMDRateRatios_hosp,SIMDrateratios,RateRatios!$B$3)*1000","v":467263.81342908076},{"$f":"hosp_count(5,B126,C126,D126,$C$1,G126+H126,1,F126,F126,SIMDRateRatios_hosp,SIMDrateratios,RateRatios!$B$3)*1000","v":466973.99529899785},289.81813008291647,{"$f":"hosp_count(10,B126,C126,D126,$C$1,G126,1,F126,F126,SIMDRateRatios_hosp,SIMDrateratios,RateRatios!$B$3)*10","v":9367.2672903152452},{"$f":"hosp_count(10,B126,C126,D126,$C$1,G126+H126,1,F126,F126,SIMDRateRatios_hosp,SIMDrateratios,RateRatios!$B$3)*10","v":9363.0931425182716},4.174147796973557,{"$f":"hosp_count(20,B126,C126,D126,$C$1,G126,1,F126,F126,SIMDRateRatios_hosp,SIMDrateratios,RateRatios!$B$3)*10","v":14429.779060442197},{"$f":"hosp_count(20,B126,C126,D126,$C$1,G126+H126,1,F126,F126,SIMDRateRatios_hosp,SIMDrateratios,RateRatios!$B$3)*10","v":14428.048210657409},1.7308497847880062]
["Male 85-89",87.5,"male",2,1,{"$f":"HLOOKUP('III Tool Overview'!$H$6,LookUpData_Pop!$B$1:$AV$269,LookUpData_Pop!BB126,FALSE)/50","v":79.16},{"$f":"'III Tool Overview'!$H$9/110","v":0},79.16,{"$f":"new_ci(2,B127,C127,D127,$C$1,G127,1,F127,E127*F127,SIMDrateratios,RateRatios!$B$3)*10","v":81.247862549148891},{"$f":"new_ci(2,B127,C127,D127,$C$1,G127+H127,1,H127,H127,SIMDrateratios,RateRatios!$B$3)*10","v":81.176844172592908},{"$f":"new_ci(5,B127,C127,D127,$C$1,G127,1,F127,F127,SIMDrateratios,RateRatios!$B$3)*1000","v":29875.275642315544},{"$f":"new_ci(5,B127,C127,D127,$C$1,H127,1,F127,F127,SIMDrateratios,RateRatios!$B$3)*1000","v":29853.712102635138},{"$f":"new_ci(10,B127,C127,D127,$C$1,G127,1,F127,F127,SIMDrateratios,RateRatios!$B$3)*10","v":563.7194539277267},{"$f":"new_ci(10,B127,C127,D127,$C$1,G127+H127,1,F127,F127,SIMDrateratios,RateRatios!$B$3)*10","v":563.45734978624012},{"$f":"new_ci(20,B127,C127,D127,$C$1,G127,1,F127,F127,SIMDrateratios,RateRatios!$B$3)*10","v":771.26351293228186},{"$f":"new_ci(20,B127,C127,D127,$C$1,G127+H127,1,F127,F127,SIMDrateratios,RateRatios!$B$3)*10","v":771.1946552325519},{"$f":"new_yll(2,B127,C127,D127,$C$1,G127,1,F127,F127,SIMDrateratios,RateRatios!$B$3)*10","v":893.72648804063783},{"$f":"new_yll(2,B127,C127,D127,$C$1,G127+H127,1,F127,F127,SIMDrateratios,RateRatios!$B$3)*10","v":892.94528589852212},0.78120214211571692,{"$f":"new_yll(5,B127,C127,D127,$C$1,G127,1,F127,F127,SIMDrateratios,RateRatios!$B$3)*1000","v":286043.74088263704},{"$f":"new_yll(5,B127,C127,D127,$C$1,G127+H127,1,F127,F127,SIMDrateratios,RateRatios!$B$3)*1000","v":285833.23439861881},210.50648401823128,{"$f":"new_yll(10,B127,C127,D127,$C$1,G127,1,F127,F127,SIMDrateratios,RateRatios!$B$3)*10","v":4235.3998900652177},{"$f":"new_yll(10,B127,C127,D127,$C$1,G127+H127,1,F127,F127,SIMDrateratios,RateRatios!$B$3)*10","v":4232.9800641613501},2.4198259038676042,{"$f":"new_yll(20,B127,C127,D127,$C$1,G127,1,F127,F127,SIMDrateratios,RateRatios!$B$3)*10","v":3999.7758666273021},{"$f":"new_yll(20,B127,C127,D127,$C$1,G127+H127,1,F127,F127,SIMDrateratios,RateRatios!$B$3)*10","v":3996.8338623959467},2.9420042313554404,{"$f":"hosp_count(2,B127,C127,D127,$C$1,G127,1,F127,F127,SIMDRateRatios_hosp,SIMDrateratios,RateRatios!$B$3)*10","v":736.90249388506686},{"$f":"hosp_count(2,B127,C127,D127,$C$1,G127+H127,1,F127,F127,SIMDRateRatios_hosp,SIMDrateratios,RateRatios!$B$3)*10","v":736.37359097039825},0.52890291466860617,{"$f":"hosp_count(5,B127,C127,D127,$C$1,G127,1,F127,F127,SIMDRateRatios_hosp,SIMDrateratios,RateRatios!$B$3)*1000","v":263945.27676686028},{"$f":"hosp_count(5,B127,C127,D127,$C$1,G127+H127,1,F127,F127,SIMDRateRatios_hosp,SIMDrateratios,RateRatios!$B$3)*1000","v":263794.26947922003},151.00728764024097,{"$f":"hosp_count(10,B127,C127,D127,$C$1,G127,1,F127,F127,SIMDRateRatios_hosp,SIMDrateratios,RateRatios!$B$3)*10","v":4802.718809813422},{"$f":"hosp_count(10,B127,C127,D127,$C$1,G127+H127,1,F127,F127,SIMDRateRatios_hosp,SIMDrateratios,RateRatios!$B$3)*10","v":4801.1153581079525},1.6034517054695243,{"$f":"hosp_count(20,B127,C127,D127,$C$1,G127,1,F127,F127,SIMDRateRatios_hosp,SIMDrateratios,RateRatios!$B$3)*10","v":6329.8499044460768},{"$f":"hosp_count(20,B127,C127,D127,$C$1,G127+H127,1,F127,F127,SIMDRateRatios_hosp,SIMDrateratios,RateRatios!$B$3)*10","v":6329.7986333043727},5.127114170409186E-2]
["Male 90+",95,"male",2,1,{"$f":"HLOOKUP('III Tool Overview'!$H$6,LookUpData_Pop!$B$1:$AV$269,LookUpData_Pop!BB127,FALSE)/50","v":23.58},{"$f":"'III Tool Overview'!$H$9/110","v":0},23.58,{"$f":"new_ci(2,B128,C128,D128,$C$1,G128,1,F128,E128*F128,SIMDrateratios,RateRatios!$B$3)*10","v":38.797577126052786},{"$f":"new_ci(2,B128,C128,D128,$C$1,G128+H128,1,H128,H128,SIMDrateratios,RateRatios!$B$3)*10","v":38.764232074283441},{"$f":"new_ci(5,B128,C128,D128,$C$1,G128,1,F128,F128,SIMDrateratios,RateRatios!$B$3)*1000","v":12841.806391709079},{"$f":"new_ci(5,B128,C128,D128,$C$1,H128,1,F128,F128,SIMDrateratios,RateRatios!$B$3)*1000","v":12833.851208307482},{"$f":"new_ci(10,B128,C128,D128,$C$1,G128,1,F128,F128,SIMDrateratios,RateRatios!$B$3)*10","v":205.95784216538249},{"$f":"new_ci(10,B128,C128,D128,$C$1,G128+H128,1,F128,F128,SIMDrateratios,RateRatios!$B$3)*10","v":205.8997108173171},{"$f":"new_ci(20,B128,C128,D128,$C$1,G128,1,F128,F128,SIMDrateratios,RateRatios!$B$3)*10","v":235.25949775530634},{"$f":"new_ci(20,B128,C128,D128,$C$1,G128+H128,1,F128,F128,SIMDrateratios,RateRatios!$B$3)*10","v":235.25639599474812},{"$f":"new_yll(2,B128,C128,D128,$C$1,G128,1,F128,F128,SIMDrateratios,RateRatios!$B$3)*10","v":155.19030850421115},{"$f":"new_yll(2,B128,C128,D128,$C$1,G128+H128,1,F128,F128,SIMDrateratios,RateRatios!$B$3)*10","v":155.05692829713377},0.13338020707737996,{"$f":"new_yll(5,B128,C128,D128,$C$1,G128,1,F128,F128,SIMDrateratios,RateRatios!$B$3)*1000","v":34296.530187497949},{"$f":"new_yll(5,B128,C128,D128,$C$1,G128+H128,1,F128,F128,SIMDrateratios,RateRatios!$B$3)*1000","v":34272.39146683483},24.138720663118875,{"$f":"new_yll(10,B128,C128,D128,$C$1,G128,1,F128,F128,SIMDrateratios,RateRatios!$B$3)*10","v":217.64004759841487},{"$f":"new_yll(10,B128,C128,D128,$C$1,G128+H128,1,F128,F128,SIMDrateratios,RateRatios!$B$3)*10","v":217.32920177419834},0.3108458242165284,{"$f":"new_yll(20,B128,C128,D128,$C$1,G128,1,F128,F128,SIMDrateratios,RateRatios!$B$3)*10","v":5.1695613210619129},{"$f":"new_yll(20,B128,C128,D128,$C$1,G128+H128,1,F128,F128,SIMDrateratios,RateRatios!$B$3)*10","v":4.4088877028261564},0.76067361823575652,{"$f":"hosp_count(2,B128,C128,D128,$C$1,G128,1,F128,F128,SIMDRateRatios_hosp,SIMDrateratios,RateRatios!$B$3)*10","v":280.23481754551892},{"$f":"hosp_count(2,B128,C128,D128,$C$1,G128+H128,1,F128,F128,SIMDRateRatios_hosp,SIMDrateratios,RateRatios!$B$3)*10","v":280.02968519233099},0.20513235318793477,{"$f":"hosp_count(5,B128,C128,D128,$C$1,G128,1,F128,F128,SIMDRateRatios_hosp,SIMDrateratios,RateRatios!$B$3)*1000","v":90765.379858093787},{"$f":"hosp_count(5,B128,C128,D128,$C$1,G128+H128,1,F128,F128,SIMDRateRatios_hosp,SIMDrateratios,RateRatios!$B$3)*1000","v":90719.803732864326},45.576125229461468,{"$f":"hosp_count(10,B128,C128,D128,$C$1,G128,1,F128,F128,SIMDRateRatios_hosp,SIMDrateratios,RateRatios!$B$3)*10","v":1420.2112008636727},{"$f":"hosp_count(10,B128,C128,D128,$C$1,G128+H128,1,F128,F128,SIMDRateRatios_hosp,SIMDrateratios,RateRatios!$B$3)*10","v":1419.9433300228222},0.26787084085049173,{"$f":"hosp_count(20,B128,C128,D128,$C$1,G128,1,F128,F128,SIMDRateRatios_hosp,SIMDrateratios,RateRatios!$B$3)*10","v":1599.7352445106289},{"$f":"hosp_count(20,B128,C128,D128,$C$1,G128+H128,1,F128,F128,SIMDRateRatios_hosp,SIMDrateratios,RateRatios!$B$3)*10","v":1599.8108855445848},-7.5641033955889725E-2]
["TOTAL",null,null,null,null,{"$f":"SUM(F109:F128)","v":9671.159999999998},{"$f":"SUM(G109:G128)","v":0},{"$f":"SUM(H109:H128)","v":9671.159999999998},{"$f":"SUM(I109:I128)","v":898.4673259016065},{"$f":"SUM(J109:J128)","v":897.65423451107119},{"$f":"SUM(K109:K128)","v":366710.22000917542},{"$f":"SUM(L109:L128)","v":366400.02708764165},{"$f":"SUM(M109:M128)","v":8495.5424975769129},{"$f":"SUM(N109:N128)","v":8489.1375519177036},{"$f":"SUM(O109:O128)","v":18765.654082296729},{"$f":"SUM(P109:P128)","v":18754.406775154195},{"$f":"SUM(Q109:Q128)","v":27854.3552072497},{"$f":"SUM(R109:R128)","v":27828.920391474636},{"$f":"SUM(S109:S128)","v":25.434815775065811},{"$f":"SUM(T109:T128)","v":11144630.378183182},{"$f":"SUM(U109:U128)","v":11134812.90159888},{"$f":"SUM(V109:V128)","v":9817.4765843016248},{"$f":"SUM(W109:W128)","v":250075.87809680466},{"$f":"SUM(X109:X128)","v":249867.10257986886},{"$f":"SUM(Y109:Y128)","v":208.77551693578408},{"$f":"SUM(Z109:Z128)","v":520092.66401215416},{"$f":"SUM(AA109:AA128)","v":519692.88464734447},{"$f":"SUM(AB109:AB128)","v":399.77936480958772},{"$f":"SUM(AC109:AC128)","v":21013.299730304294},{"$f":"SUM(AD109:AD128)","v":20998.188776200543},{"$f":"SUM(AE109:AE128)","v":15.110954103755866},{"$f":"SUM(AF109:AF128)","v":8571997.1939489804},{"$f":"SUM(AG109:AG128)","v":8566102.4142844137},{"$f":"SUM(AH109:AH128)","v":5894.7796645681337},{"$f":"SUM(AI109:AI128)","v":198832.99048877019},{"$f":"SUM(AJ109:AJ128)","v":198706.06452695376},{"$f":"SUM(AK109:AK128)","v":126.92596181640556},{"$f":"SUM(AL109:AL128)","v":442745.05810734938},{"$f":"SUM(AM109:AM128)","v":442500.34855764988},{"$f":"SUM(AN109:AN128)","v":244.70954969951754}]
["Female <1",0.5,"female",2,1,{"$f":"HLOOKUP('III Tool Overview'!$H$6,LookUpData_Pop!$B$1:$AV$269,LookUpData_Pop!BB128,FALSE)/50","v":108.68},0,{"$f":"F130","v":108.68},{"$f":"new_ci(2,B130,C130,D130,$C$1,G130,1,F130,E130*F130,SIMDrateratios,RateRatios!$B$3)*10","v":6.9519691021707339E-2},{"$f":"new_ci(2,B130,C130,D130,$C$1,G130+H130,1,H130,H130,SIMDrateratios,RateRatios!$B$3)*10","v":6.9455197690356393E-2},{"$f":"new_ci(5,B130,C130,D130,$C$1,G130,1,F130,F130,SIMDrateratios,RateRatios!$B$3)*1000","v":30.876627637055446},{"$f":"new_ci(5,B130,C130,D130,$C$1,H130,1,F130,F130,SIMDrateratios,RateRatios!$B$3)*1000","v":30.847986578203194},{"$f":"new_ci(10,B130,C130,D130,$C$1,G130,1,F130,F130,SIMDrateratios,RateRatios!$B$3)*10","v":0.83344969548852721},{"$f":"new_ci(10,B130,C130,D130,$C$1,G130+H130,1,F130,F130,SIMDrateratios,RateRatios!$B$3)*10","v":0.8326767768143627},{"$f":"new_ci(20,B130,C130,D130,$C$1,G130,1,F130,F130,SIMDrateratios,RateRatios!$B$3)*10","v":2.6035284851474803},{"$f":"new_ci(20,B130,C130,D130,$C$1,G130+H130,1,F130,F130,SIMDrateratios,RateRatios!$B$3)*10","v":2.601116010564839},{"$f":"new_yll(2,B130,C130,D130,$C$1,G130,1,F130,F130,SIMDrateratios,RateRatios!$B$3)*10","v":6.8824494111490262},{"$f":"new_yll(2,B130,C130,D130,$C$1,G130+H130,1,F130,F130,SIMDrateratios,RateRatios!$B$3)*10","v":6.8760645713452826},{"$f":"Q130-R130","v":6.3848398037436027E-3},{"$f":"new_yll(5,B130,C130,D130,$C$1,G130,1,F130,F130,SIMDrateratios,RateRatios!$B$3)*1000","v":3007.8552199633027},{"$f":"new_yll(5,B130,C130,D130,$C$1,G130+H130,1,F130,F130,SIMDrateratios,RateRatios!$B$3)*1000","v":3005.0651407611213},{"$f":"T130-U130","v":2.7900792021814596},{"$f":"new_yll(10,B130,C130,D130,$C$1,G130,1,F130,F130,SIMDrateratios,RateRatios!$B$3)*10","v":78.803061075071398},{"$f":"new_yll(10,B130,C130,D130,$C$1,G130+H130,1,F130,F130,SIMDrateratios,RateRatios!$B$3)*10","v":78.729980817188249},{"$f":"W130-X130","v":7.3080257883148647E-2},{"$f":"new_yll(20,B130,C130,D130,$C$1,G130,1,F130,F130,SIMDrateratios,RateRatios!$B$3)*10","v":229.16264749246398},{"$f":"new_yll(20,B130,C130,D130,$C$1,G130+H130,1,F130,F130,SIMDrateratios,RateRatios!$B$3)*10","v":228.95029275879568},{"$f":"Z130-AA130","v":0.21235473366829183},{"$f":"hosp_count(2,B130,C130,D130,$C$1,G130,1,F130,F130,SIMDRateRatios_hosp,SIMDrateratios,RateRatios!$B$3)*10","v":81.36392773153014},{"$f":"hosp_count(2,B130,C130,D130,$C$1,G130+H130,1,F130,F130,SIMDRateRatios_hosp,SIMDrateratios,RateRatios!$B$3)*10","v":81.305239178531536},{"$f":"AC130-AD130","v":5.8688552998603427E-2},{"$f":"hosp_count(5,B130,C130,D130,$C$1,G130,1,F130,F130,SIMDRateRatios_hosp,SIMDrateratios,RateRatios!$B$3)*1000","v":33865.608461369498},{"$f":"hosp_count(5,B130,C130,D130,$C$1,G130+H130,1,F130,F130,SIMDRateRatios_hosp,SIMDrateratios,RateRatios!$B$3)*1000","v":33841.184111762697},{"$f":"AF130-AG130","v":24.424349606801115},{"$f":"hosp_count(10,B130,C130,D130,$C$1,G130,1,F130,F130,SIMDRateRatios_hosp,SIMDrateratios,RateRatios!$B$3)*10","v":815.08109289515062},{"$f":"hosp_count(10,B130,C130,D130,$C$1,G130+H130,1,F130,F130,SIMDRateRatios_hosp,SIMDrateratios,RateRatios!$B$3)*10","v":814.49340684586446},{"$f":"AI130-AJ130","v":0.58768604928616242},{"$f":"hosp_count(20,B130,C130,D130,$C$1,G130,1,F130,F130,SIMDRateRatios_hosp,SIMDrateratios,RateRatios!$B$3)*10","v":1976.9537468720343},{"$f":"hosp_count(20,B130,C130,D130,$C$1,G130+H130,1,F130,F130,SIMDRateRatios_hosp,SIMDrateratios,RateRatios!$B$3)*10","v":1975.5295470413932},{"$f":"AL130-AM130","v":1.4241998306411006}]
["Female 1-4",2.5,"female",2,1,{"$f":"HLOOKUP('III Tool Overview'!$H$6,LookUpData_Pop!$B$1:$AV$269,LookUpData_Pop!BB129,FALSE)/50","v":394.56},0,{"$f":"F131","v":394.56},{"$f":"new_ci(2,B131,C131,D131,$C$1,G131,1,F131,E131*F131,SIMDrateratios,RateRatios!$B$3)*10","v":0.29732411364640327},{"$f":"new_ci(2,B131,C131,D131,$C$1,G131+H131,1,H131,H131,SIMDrateratios,RateRatios!$B$3)*10","v":0.29704879107813714},{"$f":"new_ci(5,B131,C131,D131,$C$1,G131,1,F131,F131,SIMDrateratios,RateRatios!$B$3)*1000","v":132.05159405461953},{"$f":"new_ci(5,B131,C131,D131,$C$1,H131,1,F131,F131,SIMDrateratios,RateRatios!$B$3)*1000","v":131.92932992688466},{"$f":"new_ci(10,B131,C131,D131,$C$1,G131,1,F131,F131,SIMDrateratios,RateRatios!$B$3)*10","v":3.5643021187760073},{"$f":"new_ci(10,B131,C131,D131,$C$1,G131+H131,1,F131,F131,SIMDrateratios,RateRatios!$B$3)*10","v":3.5610029354238506},{"$f":"new_ci(20,B131,C131,D131,$C$1,G131,1,F131,F131,SIMDrateratios,RateRatios!$B$3)*10","v":11.132543944303308},{"$f":"new_ci(20,B131,C131,D131,$C$1,G131+H131,1,F131,F131,SIMDrateratios,RateRatios!$B$3)*10","v":11.122249348012508},{"$f":"new_yll(2,B131,C131,D131,$C$1,G131,1,F131,F131,SIMDrateratios,RateRatios!$B$3)*10","v":28.840439023701116},{"$f":"new_yll(2,B131,C131,D131,$C$1,G131+H131,1,F131,F131,SIMDrateratios,RateRatios!$B$3)*10","v":28.813732734579304},{"$f":"Q131-R131","v":2.6706289121811722E-2},{"$f":"new_yll(5,B131,C131,D131,$C$1,G131,1,F131,F131,SIMDrateratios,RateRatios!$B$3)*1000","v":12599.741446029077},{"$f":"new_yll(5,B131,C131,D131,$C$1,G131+H131,1,F131,F131,SIMDrateratios,RateRatios!$B$3)*1000","v":12588.075565801199},{"$f":"T131-U131","v":11.665880227878006},{"$f":"new_yll(10,B131,C131,D131,$C$1,G131,1,F131,F131,SIMDrateratios,RateRatios!$B$3)*10","v":329.87819508447444},{"$f":"new_yll(10,B131,C131,D131,$C$1,G131+H131,1,F131,F131,SIMDrateratios,RateRatios!$B$3)*10","v":329.57285160319384},{"$f":"W131-X131","v":0.30534348128060174},{"$f":"new_yll(20,B131,C131,D131,$C$1,G131,1,F131,F131,SIMDrateratios,RateRatios!$B$3)*10","v":957.62884009011441},{"$f":"new_yll(20,B131,C131,D131,$C$1,G131+H131,1,F131,F131,SIMDrateratios,RateRatios!$B$3)*10","v":956.74324854210897},{"$f":"Z131-AA131","v":0.88559154800543638},{"$f":"hosp_count(2,B131,C131,D131,$C$1,G131,1,F131,F131,SIMDRateRatios_hosp,SIMDrateratios,RateRatios!$B$3)*10","v":310.31475681770621},{"$f":"hosp_count(2,B131,C131,D131,$C$1,G131+H131,1,F131,F131,SIMDRateRatios_hosp,SIMDrateratios,RateRatios!$B$3)*10","v":310.09133216185336},{"$f":"AC131-AD131","v":0.22342465585285254},{"$f":"hosp_count(5,B131,C131,D131,$C$1,G131,1,F131,F131,SIMDRateRatios_hosp,SIMDrateratios,RateRatios!$B$3)*1000","v":129158.04395592846},{"$f":"hosp_count(5,B131,C131,D131,$C$1,G131+H131,1,F131,F131,SIMDRateRatios_hosp,SIMDrateratios,RateRatios!$B$3)*1000","v":129065.06545459646},{"$f":"AF131-AG131","v":92.978501331992447},{"$f":"hosp_count(10,B131,C131,D131,$C$1,G131,1,F131,F131,SIMDRateRatios_hosp,SIMDrateratios,RateRatios!$B$3)*10","v":3108.4711231951178},{"$f":"hosp_count(10,B131,C131,D131,$C$1,G131+H131,1,F131,F131,SIMDRateRatios_hosp,SIMDrateratios,RateRatios!$B$3)*10","v":3106.2341176131117},{"$f":"AI131-AJ131","v":2.237005582006077},{"$f":"hosp_count(20,B131,C131,D131,$C$1,G131,1,F131,F131,SIMDRateRatios_hosp,SIMDrateratios,RateRatios!$B$3)*10","v":7538.6103632885906},{"$f":"hosp_count(20,B131,C131,D131,$C$1,G131+H131,1,F131,F131,SIMDRateRatios_hosp,SIMDrateratios,RateRatios!$B$3)*10","v":7533.1906605401782},{"$f":"AL131-AM131","v":5.4197027484124192}]
["Female 5-9",7.5,"female",2,1,{"$f":"HLOOKUP('III Tool Overview'!$H$6,LookUpData_Pop!$B$1:$AV$269,LookUpData_Pop!BB130,FALSE)/50","v":450.32},0,450.32,{"$f":"new_ci(2,B132,C132,D132,$C$1,G132,1,F132,E132*F132,SIMDrateratios,RateRatios!$B$3)*10","v":0.55476872217398265},{"$f":"new_ci(2,B132,C132,D132,$C$1,G132+H132,1,H132,H132,SIMDrateratios,RateRatios!$B$3)*10","v":0.5542559546585345},{"$f":"new_ci(5,B132,C132,D132,$C$1,G132,1,F132,F132,SIMDrateratios,RateRatios!$B$3)*1000","v":246.37108038907272},{"$f":"new_ci(5,B132,C132,D132,$C$1,H132,1,F132,F132,SIMDrateratios,RateRatios!$B$3)*1000","v":246.14341015011129},{"$f":"new_ci(10,B132,C132,D132,$C$1,G132,1,F132,F132,SIMDrateratios,RateRatios!$B$3)*10","v":6.6487830561373844},{"$f":"new_ci(10,B132,C132,D132,$C$1,G132+H132,1,F132,F132,SIMDrateratios,RateRatios!$B$3)*10","v":6.6426418052575524},{"$f":"new_ci(20,B132,C132,D132,$C$1,G132,1,F132,F132,SIMDrateratios,RateRatios!$B$3)*10","v":20.753787123737887},{"$f":"new_ci(20,B132,C132,D132,$C$1,G132+H132,1,F132,F132,SIMDrateratios,RateRatios!$B$3)*10","v":20.734647645677459},{"$f":"new_yll(2,B132,C132,D132,$C$1,G132,1,F132,F132,SIMDrateratios,RateRatios!$B$3)*10","v":50.483953717832428},{"$f":"new_yll(2,B132,C132,D132,$C$1,G132+H132,1,F132,F132,SIMDrateratios,RateRatios!$B$3)*10","v":50.43729187392664},4.6661843905788203E-2,{"$f":"new_yll(5,B132,C132,D132,$C$1,G132,1,F132,F132,SIMDrateratios,RateRatios!$B$3)*1000","v":22029.358481308191},{"$f":"new_yll(5,B132,C132,D132,$C$1,G132+H132,1,F132,F132,SIMDrateratios,RateRatios!$B$3)*1000","v":22009.001226473942},20.357254834249034,{"$f":"new_yll(10,B132,C132,D132,$C$1,G132,1,F132,F132,SIMDrateratios,RateRatios!$B$3)*10","v":575.45875736588732},{"$f":"new_yll(10,B132,C132,D132,$C$1,G132+H132,1,F132,F132,SIMDrateratios,RateRatios!$B$3)*10","v":574.92721938675027},0.53153797913705603,{"$f":"new_yll(20,B132,C132,D132,$C$1,G132,1,F132,F132,SIMDrateratios,RateRatios!$B$3)*10","v":1660.7875393434826},{"$f":"new_yll(20,B132,C132,D132,$C$1,G132+H132,1,F132,F132,SIMDrateratios,RateRatios!$B$3)*10","v":1659.2558018037817},1.5317375397009982,{"$f":"hosp_count(2,B132,C132,D132,$C$1,G132,1,F132,F132,SIMDRateRatios_hosp,SIMDrateratios,RateRatios!$B$3)*10","v":410.61225187608125},{"$f":"hosp_count(2,B132,C132,D132,$C$1,G132+H132,1,F132,F132,SIMDRateRatios_hosp,SIMDrateratios,RateRatios!$B$3)*10","v":410.31715282694086},0.29509904914038998,{"$f":"hosp_count(5,B132,C132,D132,$C$1,G132,1,F132,F132,SIMDRateRatios_hosp,SIMDrateratios,RateRatios!$B$3)*1000","v":170890.35499607856},{"$f":"hosp_count(5,B132,C132,D132,$C$1,G132+H132,1,F132,F132,SIMDRateRatios_hosp,SIMDrateratios,RateRatios!$B$3)*1000","v":170767.57066108598},122.78433499258244,{"$f":"hosp_count(10,B132,C132,D132,$C$1,G132,1,F132,F132,SIMDRateRatios_hosp,SIMDrateratios,RateRatios!$B$3)*10","v":4112.1919667165321},{"$f":"hosp_count(10,B132,C132,D132,$C$1,G132+H132,1,F132,F132,SIMDRateRatios_hosp,SIMDrateratios,RateRatios!$B$3)*10","v":4109.2389323530233},2.9530343635087775,{"$f":"hosp_count(20,B132,C132,D132,$C$1,G132,1,F132,F132,SIMDRateRatios_hosp,SIMDrateratios,RateRatios!$B$3)*10","v":9967.8776905714294},{"$f":"hosp_count(20,B132,C132,D132,$C$1,G132+H132,1,F132,F132,SIMDRateRatios_hosp,SIMDrateratios,RateRatios!$B$3)*10","v":9960.7313321133115},7.146358458117902]
["Female 10-14",12.5,"female",2,1,{"$f":"HLOOKUP('III Tool Overview'!$H$6,LookUpData_Pop!$B$1:$AV$269,LookUpData_Pop!BB131,FALSE)/50","v":480.42},0,480.42,{"$f":"new_ci(2,B133,C133,D133,$C$1,G133,1,F133,E133*F133,SIMDrateratios,RateRatios!$B$3)*10","v":0.8213421900043838},{"$f":"new_ci(2,B133,C133,D133,$C$1,G133+H133,1,H133,H133,SIMDrateratios,RateRatios!$B$3)*10","v":0.82058317356268562},{"$f":"new_ci(5,B133,C133,D133,$C$1,G133,1,F133,F133,SIMDrateratios,RateRatios!$B$3)*1000","v":364.7255510587903},{"$f":"new_ci(5,B133,C133,D133,$C$1,H133,1,F133,F133,SIMDrateratios,RateRatios!$B$3)*1000","v":364.388600981617},{"$f":"new_ci(10,B133,C133,D133,$C$1,G133,1,F133,F133,SIMDrateratios,RateRatios!$B$3)*10","v":9.8410246119741984},{"$f":"new_ci(10,B133,C133,D133,$C$1,G133+H133,1,F133,F133,SIMDrateratios,RateRatios!$B$3)*10","v":9.8319388880985414},{"$f":"new_ci(20,B133,C133,D133,$C$1,G133,1,F133,F133,SIMDrateratios,RateRatios!$B$3)*10","v":30.699498072181314},{"$f":"new_ci(20,B133,C133,D133,$C$1,G133+H133,1,F133,F133,SIMDrateratios,RateRatios!$B$3)*10","v":30.671216476367796},{"$f":"new_yll(2,B133,C133,D133,$C$1,G133,1,F133,F133,SIMDrateratios,RateRatios!$B$3)*10","v":71.456770530381391},{"$f":"new_yll(2,B133,C133,D133,$C$1,G133+H133,1,F133,F133,SIMDrateratios,RateRatios!$B$3)*10","v":71.390736099953656},6.6034430427734492E-2,{"$f":"new_yll(5,B133,C133,D133,$C$1,G133,1,F133,F133,SIMDrateratios,RateRatios!$B$3)*1000","v":31153.187819754636},{"$f":"new_yll(5,B133,C133,D133,$C$1,G133+H133,1,F133,F133,SIMDrateratios,RateRatios!$B$3)*1000","v":31124.407006143723},28.780813610912446,{"$f":"new_yll(10,B133,C133,D133,$C$1,G133,1,F133,F133,SIMDrateratios,RateRatios!$B$3)*10","v":812.39044998245959},{"$f":"new_yll(10,B133,C133,D133,$C$1,G133+H133,1,F133,F133,SIMDrateratios,RateRatios!$B$3)*10","v":811.64039704741367},0.75005293504591464,{"$f":"new_yll(20,B133,C133,D133,$C$1,G133,1,F133,F133,SIMDrateratios,RateRatios!$B$3)*10","v":2333.9608933664504},{"$f":"new_yll(20,B133,C133,D133,$C$1,G133+H133,1,F133,F133,SIMDrateratios,RateRatios!$B$3)*10","v":2331.8104841694494},2.150409197000954,{"$f":"hosp_count(2,B133,C133,D133,$C$1,G133,1,F133,F133,SIMDRateRatios_hosp,SIMDrateratios,RateRatios!$B$3)*10","v":483.44374241389983},{"$f":"hosp_count(2,B133,C133,D133,$C$1,G133+H133,1,F133,F133,SIMDRateRatios_hosp,SIMDrateratios,RateRatios!$B$3)*10","v":483.09635767932804},0.34738473457178998,{"$f":"hosp_count(5,B133,C133,D133,$C$1,G133,1,F133,F133,SIMDRateRatios_hosp,SIMDrateratios,RateRatios!$B$3)*1000","v":201186.23225472486},{"$f":"hosp_count(5,B133,C133,D133,$C$1,G133+H133,1,F133,F133,SIMDRateRatios_hosp,SIMDrateratios,RateRatios!$B$3)*1000","v":201041.71832915553},144.5139255693357,{"$f":"hosp_count(10,B133,C133,D133,$C$1,G133,1,F133,F133,SIMDRateRatios_hosp,SIMDrateratios,RateRatios!$B$3)*10","v":4840.4377943449445},{"$f":"hosp_count(10,B133,C133,D133,$C$1,G133+H133,1,F133,F133,SIMDRateRatios_hosp,SIMDrateratios,RateRatios!$B$3)*10","v":4836.9634211147204},3.474373230224046,{"$f":"hosp_count(20,B133,C133,D133,$C$1,G133,1,F133,F133,SIMDRateRatios_hosp,SIMDrateratios,RateRatios!$B$3)*10","v":11727.332072597477},{"$f":"hosp_count(20,B133,C133,D133,$C$1,G133+H133,1,F133,F133,SIMDRateRatios_hosp,SIMDrateratios,RateRatios!$B$3)*10","v":11718.933579770081},8.3984928273966943]
["Female 15-19",17.5,"female",2,1,{"$f":"HLOOKUP('III Tool Overview'!$H$6,LookUpData_Pop!$B$1:$AV$269,LookUpData_Pop!BB132,FALSE)/50","v":599.05999999999995},{"$f":"'III Tool Overview'!$H$9/110","v":0},599.05999999999995,{"$f":"new_ci(2,B134,C134,D134,$C$1,G134,1,F134,E134*F134,SIMDrateratios,RateRatios!$B$3)*10","v":1.6743021991425888},{"$f":"new_ci(2,B134,C134,D134,$C$1,G134+H134,1,H134,H134,SIMDrateratios,RateRatios!$B$3)*10","v":1.672753832911662},{"$f":"new_ci(5,B134,C134,D134,$C$1,G134,1,F134,F134,SIMDrateratios,RateRatios!$B$3)*1000","v":743.35247471769333},{"$f":"new_ci(5,B134,C134,D134,$C$1,H134,1,F134,F134,SIMDrateratios,RateRatios!$B$3)*1000","v":742.66536532929138},{"$f":"new_ci(10,B134,C134,D134,$C$1,G134,1,F134,F134,SIMDrateratios,RateRatios!$B$3)*10","v":20.048922841229839},{"$f":"new_ci(10,B134,C134,D134,$C$1,G134+H134,1,F134,F134,SIMDrateratios,RateRatios!$B$3)*10","v":20.030410384791363},{"$f":"new_ci(20,B134,C134,D134,$C$1,G134,1,F134,F134,SIMDrateratios,RateRatios!$B$3)*10","v":62.457130591310715},{"$f":"new_ci(20,B134,C134,D134,$C$1,G134+H134,1,F134,F134,SIMDrateratios,RateRatios!$B$3)*10","v":62.399665142565084},{"$f":"new_yll(2,B134,C134,D134,$C$1,G134,1,F134,F134,SIMDrateratios,RateRatios!$B$3)*10","v":135.6184781305497},{"$f":"new_yll(2,B134,C134,D134,$C$1,G134+H134,1,F134,F134,SIMDrateratios,RateRatios!$B$3)*10","v":135.49306046584462},0.12541766470508264,{"$f":"new_yll(5,B134,C134,D134,$C$1,G134,1,F134,F134,SIMDrateratios,RateRatios!$B$3)*1000","v":59033.764107202915},{"$f":"new_yll(5,B134,C134,D134,$C$1,G134+H134,1,F134,F134,SIMDrateratios,RateRatios!$B$3)*1000","v":58979.196654396328},54.567452806586516,{"$f":"new_yll(10,B134,C134,D134,$C$1,G134,1,F134,F134,SIMDrateratios,RateRatios!$B$3)*10","v":1534.79238348378},{"$f":"new_yll(10,B134,C134,D134,$C$1,G134+H134,1,F134,F134,SIMDrateratios,RateRatios!$B$3)*10","v":1533.3751658134111},1.4172176703689274,{"$f":"new_yll(20,B134,C134,D134,$C$1,G134,1,F134,F134,SIMDrateratios,RateRatios!$B$3)*10","v":4374.0050151344976},{"$f":"new_yll(20,B134,C134,D134,$C$1,G134+H134,1,F134,F134,SIMDrateratios,RateRatios!$B$3)*10","v":4369.9796832485517},4.0253318859458886,{"$f":"hosp_count(2,B134,C134,D134,$C$1,G134,1,F134,F134,SIMDRateRatios_hosp,SIMDrateratios,RateRatios!$B$3)*10","v":698.90231788294489},{"$f":"hosp_count(2,B134,C134,D134,$C$1,G134+H134,1,F134,F134,SIMDRateRatios_hosp,SIMDrateratios,RateRatios!$B$3)*10","v":698.39972352460347},0.50259435834141186,{"$f":"hosp_count(5,B134,C134,D134,$C$1,G134,1,F134,F134,SIMDRateRatios_hosp,SIMDrateratios,RateRatios!$B$3)*1000","v":290799.10392024886},{"$f":"hosp_count(5,B134,C134,D134,$C$1,G134+H134,1,F134,F134,SIMDRateRatios_hosp,SIMDrateratios,RateRatios!$B$3)*1000","v":290590.10526693019},208.99865331867477,{"$f":"hosp_count(10,B134,C134,D134,$C$1,G134,1,F134,F134,SIMDRateRatios_hosp,SIMDrateratios,RateRatios!$B$3)*10","v":6993.9368843176462},{"$f":"hosp_count(10,B134,C134,D134,$C$1,G134+H134,1,F134,F134,SIMDRateRatios_hosp,SIMDrateratios,RateRatios!$B$3)*10","v":6988.9163547675898},5.0205295500563807,{"$f":"hosp_count(20,B134,C134,D134,$C$1,G134,1,F134,F134,SIMDRateRatios_hosp,SIMDrateratios,RateRatios!$B$3)*10","v":16925.782283382126},{"$f":"hosp_count(20,B134,C134,D134,$C$1,G134+H134,1,F134,F134,SIMDRateRatios_hosp,SIMDrateratios,RateRatios!$B$3)*10","v":16913.677474992601},12.104808389525715]
["Female 20-24",22.5,"female",2,1,{"$f":"HLOOKUP('III Tool Overview'!$H$6,LookUpData_Pop!$B$1:$AV$269,LookUpData_Pop!BB133,FALSE)/50","v":773.94},{"$f":"'III Tool Overview'!$H$9/110","v":0},773.94,{"$f":"new_ci(2,B135,C135,D135,$C$1,G135,1,F135,E135*F135,SIMDrateratios,RateRatios!$B$3)*10","v":3.0017186052505904},{"$f":"new_ci(2,B135,C135,D135,$C$1,G135+H135,1,H135,H135,SIMDrateratios,RateRatios!$B$3)*10","v":2.9989423239357285},{"$f":"new_ci(5,B135,C135,D135,$C$1,G135,1,F135,F135,SIMDrateratios,RateRatios!$B$3)*1000","v":1332.4469574566515},{"$f":"new_ci(5,B135,C135,D135,$C$1,H135,1,F135,F135,SIMDrateratios,RateRatios!$B$3)*1000","v":1331.2154027605477},{"$f":"new_ci(10,B135,C135,D135,$C$1,G135,1,F135,F135,SIMDrateratios,RateRatios!$B$3)*10","v":35.922670014385574},{"$f":"new_ci(10,B135,C135,D135,$C$1,G135+H135,1,F135,F135,SIMDrateratios,RateRatios!$B$3)*10","v":35.889515966219072},{"$f":"new_ci(20,B135,C135,D135,$C$1,G135,1,F135,F135,SIMDrateratios,RateRatios!$B$3)*10","v":111.75346512867129},{"$f":"new_ci(20,B135,C135,D135,$C$1,G135+H135,1,F135,F135,SIMDrateratios,RateRatios!$B$3)*10","v":111.65083393518735},{"$f":"new_yll(2,B135,C135,D135,$C$1,G135,1,F135,F135,SIMDrateratios,RateRatios!$B$3)*10","v":231.1323326042955},{"$f":"new_yll(2,B135,C135,D135,$C$1,G135+H135,1,F135,F135,SIMDrateratios,RateRatios!$B$3)*10","v":230.9185589430511},0.213773661244403,{"$f":"new_yll(5,B135,C135,D135,$C$1,G135,1,F135,F135,SIMDrateratios,RateRatios!$B$3)*1000","v":100487.45316501237},{"$f":"new_yll(5,B135,C135,D135,$C$1,G135+H135,1,F135,F135,SIMDrateratios,RateRatios!$B$3)*1000","v":100394.57391372154},92.879251290825778,{"$f":"new_yll(10,B135,C135,D135,$C$1,G135,1,F135,F135,SIMDrateratios,RateRatios!$B$3)*10","v":2606.3086821009601},{"$f":"new_yll(10,B135,C135,D135,$C$1,G135+H135,1,F135,F135,SIMDrateratios,RateRatios!$B$3)*10","v":2603.9031331452593},2.4055489557008514,{"$f":"new_yll(20,B135,C135,D135,$C$1,G135,1,F135,F135,SIMDrateratios,RateRatios!$B$3)*10","v":7379.9973121294124},{"$f":"new_yll(20,B135,C135,D135,$C$1,G135+H135,1,F135,F135,SIMDrateratios,RateRatios!$B$3)*10","v":7373.2174853831484},6.7798267462640069,{"$f":"hosp_count(2,B135,C135,D135,$C$1,G135,1,F135,F135,SIMDRateRatios_hosp,SIMDrateratios,RateRatios!$B$3)*10","v":996.47784650143421},{"$f":"hosp_count(2,B135,C135,D135,$C$1,G135+H135,1,F135,F135,SIMDRateRatios_hosp,SIMDrateratios,RateRatios!$B$3)*10","v":995.76113240913946},0.71671409229475103,{"$f":"hosp_count(5,B135,C135,D135,$C$1,G135,1,F135,F135,SIMDRateRatios_hosp,SIMDrateratios,RateRatios!$B$3)*1000","v":414542.07192558574},{"$f":"hosp_count(5,B135,C135,D135,$C$1,G135+H135,1,F135,F135,SIMDRateRatios_hosp,SIMDrateratios,RateRatios!$B$3)*1000","v":414244.15239177243},297.91953381331405,{"$f":"hosp_count(10,B135,C135,D135,$C$1,G135,1,F135,F135,SIMDRateRatios_hosp,SIMDrateratios,RateRatios!$B$3)*10","v":9966.433837373459},{"$f":"hosp_count(10,B135,C135,D135,$C$1,G135+H135,1,F135,F135,SIMDRateRatios_hosp,SIMDrateratios,RateRatios!$B$3)*10","v":9959.2831995174347},7.150637856024332,{"$f":"hosp_count(20,B135,C135,D135,$C$1,G135,1,F135,F135,SIMDRateRatios_hosp,SIMDrateratios,RateRatios!$B$3)*10","v":24092.42284720216},{"$f":"hosp_count(20,B135,C135,D135,$C$1,G135+H135,1,F135,F135,SIMDRateRatios_hosp,SIMDrateratios,RateRatios!$B$3)*10","v":24075.226418427832},17.196428774328524]
["Female 25-29",27.5,"female",2,1,{"$f":"HLOOKUP('III Tool Overview'!$H$6,LookUpData_Pop!$B$1:$AV$269,LookUpData_Pop!BB134,FALSE)/50","v":830.64},{"$f":"'III Tool Overview'!$H$9/110","v":0},830.64,{"$f":"new_ci(2,B136,C136,D136,$C$1,G136,1,F136,E136*F136,SIMDrateratios,RateRatios!$B$3)*10","v":5.2663060295457313},{"$f":"new_ci(2,B136,C136,D136,$C$1,G136+H136,1,H136,H136,SIMDrateratios,RateRatios!$B$3)*10","v":5.2614341037348824},{"$f":"new_ci(5,B136,C136,D136,$C$1,G136,1,F136,F136,SIMDrateratios,RateRatios!$B$3)*1000","v":2336.6951569971452},{"$f":"new_ci(5,B136,C136,D136,$C$1,H136,1,F136,F136,SIMDrateratios,RateRatios!$B$3)*1000","v":2334.5358075638942},{"$f":"new_ci(10,B136,C136,D136,$C$1,G136,1,F136,F136,SIMDrateratios,RateRatios!$B$3)*10","v":62.938658104120123},{"$f":"new_ci(10,B136,C136,D136,$C$1,G136+H136,1,F136,F136,SIMDrateratios,RateRatios!$B$3)*10","v":62.880635326894208},{"$f":"new_ci(20,B136,C136,D136,$C$1,G136,1,F136,F136,SIMDrateratios,RateRatios!$B$3)*10","v":195.18742313126086},{"$f":"new_ci(20,B136,C136,D136,$C$1,G136+H136,1,F136,F136,SIMDrateratios,RateRatios!$B$3)*10","v":195.00893266832117},{"$f":"new_yll(2,B136,C136,D136,$C$1,G136,1,F136,F136,SIMDrateratios,RateRatios!$B$3)*10","v":373.90772809774688},{"$f":"new_yll(2,B136,C136,D136,$C$1,G136+H136,1,F136,F136,SIMDrateratios,RateRatios!$B$3)*10","v":373.56182136517668},0.34590673257019944,{"$f":"new_yll(5,B136,C136,D136,$C$1,G136,1,F136,F136,SIMDrateratios,RateRatios!$B$3)*1000","v":162204.18461831519},{"$f":"new_yll(5,B136,C136,D136,$C$1,G136+H136,1,F136,F136,SIMDrateratios,RateRatios!$B$3)*1000","v":162054.28917985733},149.89543845786829,{"$f":"new_yll(10,B136,C136,D136,$C$1,G136,1,F136,F136,SIMDrateratios,RateRatios!$B$3)*10","v":4188.9120972123546},{"$f":"new_yll(10,B136,C136,D136,$C$1,G136+H136,1,F136,F136,SIMDrateratios,RateRatios!$B$3)*10","v":4185.0500401949885},3.862057017366169,{"$f":"new_yll(20,B136,C136,D136,$C$1,G136,1,F136,F136,SIMDrateratios,RateRatios!$B$3)*10","v":11721.398259014433},{"$f":"new_yll(20,B136,C136,D136,$C$1,G136+H136,1,F136,F136,SIMDrateratios,RateRatios!$B$3)*10","v":11710.673123694243},10.72513532019002,{"$f":"hosp_count(2,B136,C136,D136,$C$1,G136,1,F136,F136,SIMDRateRatios_hosp,SIMDrateratios,RateRatios!$B$3)*10","v":1239.9223552027424},{"$f":"hosp_count(2,B136,C136,D136,$C$1,G136+H136,1,F136,F136,SIMDRateRatios_hosp,SIMDrateratios,RateRatios!$B$3)*10","v":1239.0302269335332},0.89212826920925181,{"$f":"hosp_count(5,B136,C136,D136,$C$1,G136,1,F136,F136,SIMDRateRatios_hosp,SIMDrateratios,RateRatios!$B$3)*1000","v":515612.78456151288},{"$f":"hosp_count(5,B136,C136,D136,$C$1,G136+H136,1,F136,F136,SIMDRateRatios_hosp,SIMDrateratios,RateRatios!$B$3)*1000","v":515242.28504318424},370.49951832863735,{"$f":"hosp_count(10,B136,C136,D136,$C$1,G136,1,F136,F136,SIMDRateRatios_hosp,SIMDrateratios,RateRatios!$B$3)*10","v":12386.17619697249},{"$f":"hosp_count(10,B136,C136,D136,$C$1,G136+H136,1,F136,F136,SIMDRateRatios_hosp,SIMDrateratios,RateRatios!$B$3)*10","v":12377.300245032946},8.8759519395443931,{"$f":"hosp_count(20,B136,C136,D136,$C$1,G136,1,F136,F136,SIMDRateRatios_hosp,SIMDrateratios,RateRatios!$B$3)*10","v":29865.843745516249},{"$f":"hosp_count(20,B136,C136,D136,$C$1,G136+H136,1,F136,F136,SIMDRateRatios_hosp,SIMDrateratios,RateRatios!$B$3)*10","v":29844.622280650263},21.221464865986491]
["Female 30-34",32.5,"female",2,1,{"$f":"HLOOKUP('III Tool Overview'!$H$6,LookUpData_Pop!$B$1:$AV$269,LookUpData_Pop!BB135,FALSE)/50","v":708},{"$f":"'III Tool Overview'!$H$9/110","v":0},708,{"$f":"new_ci(2,B137,C137,D137,$C$1,G137,1,F137,E137*F137,SIMDrateratios,RateRatios!$B$3)*10","v":6.2286769506008488},{"$f":"new_ci(2,B137,C137,D137,$C$1,G137+H137,1,H137,H137,SIMDrateratios,RateRatios!$B$3)*10","v":6.222917927297833},{"$f":"new_ci(5,B137,C137,D137,$C$1,G137,1,F137,F137,SIMDrateratios,RateRatios!$B$3)*1000","v":2762.5368836918155},{"$f":"new_ci(5,B137,C137,D137,$C$1,H137,1,F137,F137,SIMDrateratios,RateRatios!$B$3)*1000","v":2759.9865110602104},{"$f":"new_ci(10,B137,C137,D137,$C$1,G137,1,F137,F137,SIMDrateratios,RateRatios!$B$3)*10","v":74.339748109541688},{"$f":"new_ci(10,B137,C137,D137,$C$1,G137+H137,1,F137,F137,SIMDrateratios,RateRatios!$B$3)*10","v":74.271345434943541},{"$f":"new_ci(20,B137,C137,D137,$C$1,G137,1,F137,F137,SIMDrateratios,RateRatios!$B$3)*10","v":229.82754036607133},{"$f":"new_ci(20,B137,C137,D137,$C$1,G137+H137,1,F137,F137,SIMDrateratios,RateRatios!$B$3)*10","v":229.61843407328939},{"$f":"new_yll(2,B137,C137,D137,$C$1,G137,1,F137,F137,SIMDrateratios,RateRatios!$B$3)*10","v":417.32135569025684},{"$f":"new_yll(2,B137,C137,D137,$C$1,G137+H137,1,F137,F137,SIMDrateratios,RateRatios!$B$3)*10","v":416.9355011289548},0.38585456130203966,{"$f":"new_yll(5,B137,C137,D137,$C$1,G137,1,F137,F137,SIMDrateratios,RateRatios!$B$3)*1000","v":180715.23467953363},{"$f":"new_yll(5,B137,C137,D137,$C$1,G137+H137,1,F137,F137,SIMDrateratios,RateRatios!$B$3)*1000","v":180548.39535785065},166.83932168298634,{"$f":"new_yll(10,B137,C137,D137,$C$1,G137,1,F137,F137,SIMDrateratios,RateRatios!$B$3)*10","v":4650.5183967057865},{"$f":"new_yll(10,B137,C137,D137,$C$1,G137+H137,1,F137,F137,SIMDrateratios,RateRatios!$B$3)*10","v":4646.2387571593981},4.2796395463883528,{"$f":"new_yll(20,B137,C137,D137,$C$1,G137,1,F137,F137,SIMDrateratios,RateRatios!$B$3)*10","v":12885.469732024385},{"$f":"new_yll(20,B137,C137,D137,$C$1,G137+H137,1,F137,F137,SIMDrateratios,RateRatios!$B$3)*10","v":12873.735520780756},11.734211243629034,{"$f":"hosp_count(2,B137,C137,D137,$C$1,G137,1,F137,F137,SIMDRateRatios_hosp,SIMDrateratios,RateRatios!$B$3)*10","v":1166.3505623633473},{"$f":"hosp_count(2,B137,C137,D137,$C$1,G137+H137,1,F137,F137,SIMDRateRatios_hosp,SIMDrateratios,RateRatios!$B$3)*10","v":1165.5117327937839},0.83882956956335875,{"$f":"hosp_count(5,B137,C137,D137,$C$1,G137,1,F137,F137,SIMDRateRatios_hosp,SIMDrateratios,RateRatios!$B$3)*1000","v":484826.99156171386},{"$f":"hosp_count(5,B137,C137,D137,$C$1,G137+H137,1,F137,F137,SIMDRateRatios_hosp,SIMDrateratios,RateRatios!$B$3)*1000","v":484478.94130174926},348.05025996459881,{"$f":"hosp_count(10,B137,C137,D137,$C$1,G137,1,F137,F137,SIMDRateRatios_hosp,SIMDrateratios,RateRatios!$B$3)*10","v":11637.066700694115},{"$f":"hosp_count(10,B137,C137,D137,$C$1,G137+H137,1,F137,F137,SIMDRateRatios_hosp,SIMDrateratios,RateRatios!$B$3)*10","v":11628.744238264448},8.3224624296672118,{"$f":"hosp_count(20,B137,C137,D137,$C$1,G137,1,F137,F137,SIMDRateRatios_hosp,SIMDrateratios,RateRatios!$B$3)*10","v":27988.655078540942},{"$f":"hosp_count(20,B137,C137,D137,$C$1,G137+H137,1,F137,F137,SIMDRateRatios_hosp,SIMDrateratios,RateRatios!$B$3)*10","v":27968.872502914521},19.782575626421021]
["Female 35-39",37.5,"female",2,1,{"$f":"HLOOKUP('III Tool Overview'!$H$6,LookUpData_Pop!$B$1:$AV$269,LookUpData_Pop!BB136,FALSE)/50","v":690.02},{"$f":"'III Tool Overview'!$H$9/110","v":0},690.02,{"$f":"new_ci(2,B138,C138,D138,$C$1,G138,1,F138,E138*F138,SIMDrateratios,RateRatios!$B$3)*10","v":9.9217197735154237},{"$f":"new_ci(2,B138,C138,D138,$C$1,G138+H138,1,H138,H138,SIMDrateratios,RateRatios!$B$3)*10","v":9.91254899618019},{"$f":"new_ci(5,B138,C138,D138,$C$1,G138,1,F138,F138,SIMDrateratios,RateRatios!$B$3)*1000","v":4396.2465611454381},{"$f":"new_ci(5,B138,C138,D138,$C$1,H138,1,F138,F138,SIMDrateratios,RateRatios!$B$3)*1000","v":4392.193099449788},{"$f":"new_ci(10,B138,C138,D138,$C$1,G138,1,F138,F138,SIMDrateratios,RateRatios!$B$3)*10","v":118.05427915630341},{"$f":"new_ci(10,B138,C138,D138,$C$1,G138+H138,1,F138,F138,SIMDrateratios,RateRatios!$B$3)*10","v":117.94602017676661},{"$f":"new_ci(20,B138,C138,D138,$C$1,G138,1,F138,F138,SIMDrateratios,RateRatios!$B$3)*10","v":362.40824948770381},{"$f":"new_ci(20,B138,C138,D138,$C$1,G138+H138,1,F138,F138,SIMDrateratios,RateRatios!$B$3)*10","v":362.08198309373819},{"$f":"new_yll(2,B138,C138,D138,$C$1,G138,1,F138,F138,SIMDrateratios,RateRatios!$B$3)*10","v":605.22490618444078},{"$f":"new_yll(2,B138,C138,D138,$C$1,G138+H138,1,F138,F138,SIMDrateratios,RateRatios!$B$3)*10","v":604.66548876699164},0.55941741744913998,{"$f":"new_yll(5,B138,C138,D138,$C$1,G138,1,F138,F138,SIMDrateratios,RateRatios!$B$3)*1000","v":261212.57095531025},{"$f":"new_yll(5,B138,C138,D138,$C$1,G138+H138,1,F138,F138,SIMDrateratios,RateRatios!$B$3)*1000","v":260971.71760322759},240.85335208266042,{"$f":"new_yll(10,B138,C138,D138,$C$1,G138,1,F138,F138,SIMDrateratios,RateRatios!$B$3)*10","v":6677.4488152658487},{"$f":"new_yll(10,B138,C138,D138,$C$1,G138+H138,1,F138,F138,SIMDrateratios,RateRatios!$B$3)*10","v":6671.3240362097004},6.1247790561483271,{"$f":"new_yll(20,B138,C138,D138,$C$1,G138,1,F138,F138,SIMDrateratios,RateRatios!$B$3)*10","v":18155.640216123094},{"$f":"new_yll(20,B138,C138,D138,$C$1,G138+H138,1,F138,F138,SIMDrateratios,RateRatios!$B$3)*10","v":18139.26810439373},16.372111729364406,{"$f":"hosp_count(2,B138,C138,D138,$C$1,G138,1,F138,F138,SIMDRateRatios_hosp,SIMDrateratios,RateRatios!$B$3)*10","v":1317.8889558661831},{"$f":"hosp_count(2,B138,C138,D138,$C$1,G138+H138,1,F138,F138,SIMDRateRatios_hosp,SIMDrateratios,RateRatios!$B$3)*10","v":1316.9411686235128},0.94778724267030157,{"$f":"hosp_count(5,B138,C138,D138,$C$1,G138,1,F138,F138,SIMDRateRatios_hosp,SIMDrateratios,RateRatios!$B$3)*1000","v":547327.14867782046},{"$f":"hosp_count(5,B138,C138,D138,$C$1,G138+H138,1,F138,F138,SIMDRateRatios_hosp,SIMDrateratios,RateRatios!$B$3)*1000","v":546934.69511915499},392.45355866546743,{"$f":"hosp_count(10,B138,C138,D138,$C$1,G138,1,F138,F138,SIMDRateRatios_hosp,SIMDrateratios,RateRatios!$B$3)*10","v":13112.753556221254},{"$f":"hosp_count(10,B138,C138,D138,$C$1,G138+H138,1,F138,F138,SIMDRateRatios_hosp,SIMDrateratios,RateRatios!$B$3)*10","v":13103.409385663166},9.3441705580880807,{"$f":"hosp_count(20,B138,C138,D138,$C$1,G138,1,F138,F138,SIMDRateRatios_hosp,SIMDrateratios,RateRatios!$B$3)*10","v":31357.752382944782},{"$f":"hosp_count(20,B138,C138,D138,$C$1,G138+H138,1,F138,F138,SIMDRateRatios_hosp,SIMDrateratios,RateRatios!$B$3)*10","v":31335.83316339193},21.919219552852155]
["Female 40-44",42.5,"female",2,1,{"$f":"HLOOKUP('III Tool Overview'!$H$6,LookUpData_Pop!$B$1:$AV$269,LookUpData_Pop!BB137,FALSE)/50","v":751.98},{"$f":"'III Tool Overview'!$H$9/110","v":0},751.98,{"$f":"new_ci(2,B139,C139,D139,$C$1,G139,1,F139,E139*F139,SIMDrateratios,RateRatios!$B$3)*10","v":15.001446268644996},{"$f":"new_ci(2,B139,C139,D139,$C$1,G139+H139,1,H139,H139,SIMDrateratios,RateRatios!$B$3)*10","v":14.98758332774103},{"$f":"new_ci(5,B139,C139,D139,$C$1,G139,1,F139,F139,SIMDrateratios,RateRatios!$B$3)*1000","v":6640.6687758745338},{"$f":"new_ci(5,B139,C139,D139,$C$1,H139,1,F139,F139,SIMDrateratios,RateRatios!$B$3)*1000","v":6634.553140429196},{"$f":"new_ci(10,B139,C139,D139,$C$1,G139,1,F139,F139,SIMDrateratios,RateRatios!$B$3)*10","v":177.95118507689651},{"$f":"new_ci(10,B139,C139,D139,$C$1,G139+H139,1,F139,F139,SIMDrateratios,RateRatios!$B$3)*10","v":177.78853644019176},{"$f":"new_ci(20,B139,C139,D139,$C$1,G139,1,F139,F139,SIMDrateratios,RateRatios!$B$3)*10","v":542.46423845413176},{"$f":"new_ci(20,B139,C139,D139,$C$1,G139+H139,1,F139,F139,SIMDrateratios,RateRatios!$B$3)*10","v":541.98097726428637},{"$f":"new_yll(2,B139,C139,D139,$C$1,G139,1,F139,F139,SIMDrateratios,RateRatios!$B$3)*10","v":855.0824373127648},{"$f":"new_yll(2,B139,C139,D139,$C$1,G139+H139,1,F139,F139,SIMDrateratios,RateRatios!$B$3)*10","v":854.29224968123879},0.79018763152600968,{"$f":"new_yll(5,B139,C139,D139,$C$1,G139,1,F139,F139,SIMDrateratios,RateRatios!$B$3)*1000","v":368012.26202955219},{"$f":"new_yll(5,B139,C139,D139,$C$1,G139+H139,1,F139,F139,SIMDrateratios,RateRatios!$B$3)*1000","v":367673.32907673559},338.93295281659812,{"$f":"new_yll(10,B139,C139,D139,$C$1,G139,1,F139,F139,SIMDrateratios,RateRatios!$B$3)*10","v":9354.4358284131595},{"$f":"new_yll(10,B139,C139,D139,$C$1,G139+H139,1,F139,F139,SIMDrateratios,RateRatios!$B$3)*10","v":9345.8829266972007},8.5529017159587966,{"$f":"new_yll(20,B139,C139,D139,$C$1,G139,1,F139,F139,SIMDrateratios,RateRatios!$B$3)*10","v":25023.098601877064},{"$f":"new_yll(20,B139,C139,D139,$C$1,G139+H139,1,F139,F139,SIMDrateratios,RateRatios!$B$3)*10","v":25000.75016210413},22.348439772933489,{"$f":"hosp_count(2,B139,C139,D139,$C$1,G139,1,F139,F139,SIMDRateRatios_hosp,SIMDrateratios,RateRatios!$B$3)*10","v":1585.0305089478225},{"$f":"hosp_count(2,B139,C139,D139,$C$1,G139+H139,1,F139,F139,SIMDRateRatios_hosp,SIMDrateratios,RateRatios!$B$3)*10","v":1583.8905379439689},1.1399710038535886,{"$f":"hosp_count(5,B139,C139,D139,$C$1,G139,1,F139,F139,SIMDRateRatios_hosp,SIMDrateratios,RateRatios!$B$3)*1000","v":657683.61853011942},{"$f":"hosp_count(5,B139,C139,D139,$C$1,G139+H139,1,F139,F139,SIMDRateRatios_hosp,SIMDrateratios,RateRatios!$B$3)*1000","v":657212.55252090038},471.06600921903737,{"$f":"hosp_count(10,B139,C139,D139,$C$1,G139,1,F139,F139,SIMDRateRatios_hosp,SIMDrateratios,RateRatios!$B$3)*10","v":15727.385958714651},{"$f":"hosp_count(10,B139,C139,D139,$C$1,G139+H139,1,F139,F139,SIMDRateRatios_hosp,SIMDrateratios,RateRatios!$B$3)*10","v":15716.217861284647},11.168097430003399,{"$f":"hosp_count(20,B139,C139,D139,$C$1,G139,1,F139,F139,SIMDRateRatios_hosp,SIMDrateratios,RateRatios!$B$3)*10","v":37397.004538068853},{"$f":"hosp_count(20,B139,C139,D139,$C$1,G139+H139,1,F139,F139,SIMDRateRatios_hosp,SIMDrateratios,RateRatios!$B$3)*10","v":37371.150680997365},25.853857071488164]
["Female 45-49",47.5,"female",2,1,{"$f":"HLOOKUP('III Tool Overview'!$H$6,LookUpData_Pop!$B$1:$AV$269,LookUpData_Pop!BB138,FALSE)/50","v":757.38},{"$f":"'III Tool Overview'!$H$9/110","v":0},757.38,{"$f":"new_ci(2,B140,C140,D140,$C$1,G140,1,F140,E140*F140,SIMDrateratios,RateRatios!$B$3)*10","v":24.685932650701687},{"$f":"new_ci(2,B140,C140,D140,$C$1,G140+H140,1,H140,H140,SIMDrateratios,RateRatios!$B$3)*10","v":24.663146702064388},{"$f":"new_ci(5,B140,C140,D140,$C$1,G140,1,F140,F140,SIMDrateratios,RateRatios!$B$3)*1000","v":10903.927140002343},{"$f":"new_ci(5,B140,C140,D140,$C$1,H140,1,F140,F140,SIMDrateratios,RateRatios!$B$3)*1000","v":10893.918867729895},{"$f":"new_ci(10,B140,C140,D140,$C$1,G140,1,F140,F140,SIMDrateratios,RateRatios!$B$3)*10","v":290.80925273762534},{"$f":"new_ci(10,B140,C140,D140,$C$1,G140+H140,1,F140,F140,SIMDrateratios,RateRatios!$B$3)*10","v":290.5456121070639},{"$f":"new_ci(20,B140,C140,D140,$C$1,G140,1,F140,F140,SIMDrateratios,RateRatios!$B$3)*10","v":872.59030504886323},{"$f":"new_ci(20,B140,C140,D140,$C$1,G140+H140,1,F140,F140,SIMDrateratios,RateRatios!$B$3)*10","v":871.8318853726023},{"$f":"new_yll(2,B140,C140,D140,$C$1,G140,1,F140,F140,SIMDrateratios,RateRatios!$B$3)*10","v":1258.9825651857861},{"$f":"new_yll(2,B140,C140,D140,$C$1,G140+H140,1,F140,F140,SIMDrateratios,RateRatios!$B$3)*10","v":1257.8204818052839},1.1620833805022812,{"$f":"new_yll(5,B140,C140,D140,$C$1,G140,1,F140,F140,SIMDrateratios,RateRatios!$B$3)*1000","v":538868.87977073749},{"$f":"new_yll(5,B140,C140,D140,$C$1,G140+H140,1,F140,F140,SIMDrateratios,RateRatios!$B$3)*1000","v":538374.22837759159},494.65139314590488,{"$f":"new_yll(10,B140,C140,D140,$C$1,G140,1,F140,F140,SIMDrateratios,RateRatios!$B$3)*10","v":13545.473764721008},{"$f":"new_yll(10,B140,C140,D140,$C$1,G140+H140,1,F140,F140,SIMDrateratios,RateRatios!$B$3)*10","v":13533.186069374282},12.287695346725741,{"$f":"new_yll(20,B140,C140,D140,$C$1,G140,1,F140,F140,SIMDrateratios,RateRatios!$B$3)*10","v":35078.051484424577},{"$f":"new_yll(20,B140,C140,D140,$C$1,G140+H140,1,F140,F140,SIMDrateratios,RateRatios!$B$3)*10","v":35047.414891127162},30.636593297414947,{"$f":"hosp_count(2,B140,C140,D140,$C$1,G140,1,F140,F140,SIMDRateRatios_hosp,SIMDrateratios,RateRatios!$B$3)*10","v":1850.8297125394515},{"$f":"hosp_count(2,B140,C140,D140,$C$1,G140+H140,1,F140,F140,SIMDRateRatios_hosp,SIMDrateratios,RateRatios!$B$3)*10","v":1849.4992791427503},1.3304333967012099,{"$f":"hosp_count(5,B140,C140,D140,$C$1,G140,1,F140,F140,SIMDRateRatios_hosp,SIMDrateratios,RateRatios!$B$3)*1000","v":766413.72566357371},{"$f":"hosp_count(5,B140,C140,D140,$C$1,G140+H140,1,F140,F140,SIMDRateRatios_hosp,SIMDrateratios,RateRatios!$B$3)*1000","v":765866.50728699972},547.2183765739901,{"$f":"hosp_count(10,B140,C140,D140,$C$1,G140,1,F140,F140,SIMDRateRatios_hosp,SIMDrateratios,RateRatios!$B$3)*10","v":18250.434106238175},{"$f":"hosp_count(10,B140,C140,D140,$C$1,G140+H140,1,F140,F140,SIMDRateRatios_hosp,SIMDrateratios,RateRatios!$B$3)*10","v":18237.585905445965},12.848200792210264,{"$f":"hosp_count(20,B140,C140,D140,$C$1,G140,1,F140,F140,SIMDRateRatios_hosp,SIMDrateratios,RateRatios!$B$3)*10","v":42843.883719531288},{"$f":"hosp_count(20,B140,C140,D140,$C$1,G140+H140,1,F140,F140,SIMDRateRatios_hosp,SIMDrateratios,RateRatios!$B$3)*10","v":42815.019983168284},28.863736363004136]
["Female 50-54",52.5,"female",2,1,{"$f":"HLOOKUP('III Tool Overview'!$H$6,LookUpData_Pop!$B$1:$AV$269,LookUpData_Pop!BB139,FALSE)/50","v":658.22},{"$f":"'III Tool Overview'!$H$9/110","v":0},658.22,{"$f":"new_ci(2,B141,C141,D141,$C$1,G141,1,F141,E141*F141,SIMDrateratios,RateRatios!$B$3)*10","v":29.754643042832964},{"$f":"new_ci(2,B141,C141,D141,$C$1,G141+H141,1,H141,H141,SIMDrateratios,RateRatios!$B$3)*10","v":29.72719127884778},{"$f":"new_ci(5,B141,C141,D141,$C$1,G141,1,F141,F141,SIMDrateratios,RateRatios!$B$3)*1000","v":13114.304783616724},{"$f":"new_ci(5,B141,C141,D141,$C$1,H141,1,F141,F141,SIMDrateratios,RateRatios!$B$3)*1000","v":13102.299547851537},{"$f":"new_ci(10,B141,C141,D141,$C$1,G141,1,F141,F141,SIMDrateratios,RateRatios!$B$3)*10","v":348.1102941168557},{"$f":"new_ci(10,B141,C141,D141,$C$1,G141+H141,1,F141,F141,SIMDrateratios,RateRatios!$B$3)*10","v":347.79705632897412},{"$f":"new_ci(20,B141,C141,D141,$C$1,G141,1,F141,F141,SIMDrateratios,RateRatios!$B$3)*10","v":1028.3330560340378},{"$f":"new_ci(20,B141,C141,D141,$C$1,G141+H141,1,F141,F141,SIMDrateratios,RateRatios!$B$3)*10","v":1027.4605732683945},{"$f":"new_yll(2,B141,C141,D141,$C$1,G141,1,F141,F141,SIMDrateratios,RateRatios!$B$3)*10","v":1398.4682230131493},{"$f":"new_yll(2,B141,C141,D141,$C$1,G141+H141,1,F141,F141,SIMDrateratios,RateRatios!$B$3)*10","v":1397.1779901058458},1.2902329073035617,{"$f":"new_yll(5,B141,C141,D141,$C$1,G141,1,F141,F141,SIMDrateratios,RateRatios!$B$3)*1000","v":595670.85718022694},{"$f":"new_yll(5,B141,C141,D141,$C$1,G141+H141,1,F141,F141,SIMDrateratios,RateRatios!$B$3)*1000","v":595125.48587046261},545.371309764334,{"$f":"new_yll(10,B141,C141,D141,$C$1,G141,1,F141,F141,SIMDrateratios,RateRatios!$B$3)*10","v":14825.90046920766},{"$f":"new_yll(10,B141,C141,D141,$C$1,G141+H141,1,F141,F141,SIMDrateratios,RateRatios!$B$3)*10","v":14812.546985581856},13.353483625804074,{"$f":"new_yll(20,B141,C141,D141,$C$1,G141,1,F141,F141,SIMDrateratios,RateRatios!$B$3)*10","v":37298.927397307569},{"$f":"new_yll(20,B141,C141,D141,$C$1,G141+H141,1,F141,F141,SIMDrateratios,RateRatios!$B$3)*10","v":37267.038630244489},31.888767063079285,{"$f":"hosp_count(2,B141,C141,D141,$C$1,G141,1,F141,F141,SIMDRateRatios_hosp,SIMDrateratios,RateRatios!$B$3)*10","v":1775.1616243491867},{"$f":"hosp_count(2,B141,C141,D141,$C$1,G141+H141,1,F141,F141,SIMDRateRatios_hosp,SIMDrateratios,RateRatios!$B$3)*10","v":1773.8853696669864},1.2762546822002605,{"$f":"hosp_count(5,B141,C141,D141,$C$1,G141,1,F141,F141,SIMDRateRatios_hosp,SIMDrateratios,RateRatios!$B$3)*1000","v":733591.62532287161},{"$f":"hosp_count(5,B141,C141,D141,$C$1,G141+H141,1,F141,F141,SIMDRateRatios_hosp,SIMDrateratios,RateRatios!$B$3)*1000","v":733069.12338316266},522.50193970894907,{"$f":"hosp_count(10,B141,C141,D141,$C$1,G141,1,F141,F141,SIMDRateRatios_hosp,SIMDrateratios,RateRatios!$B$3)*10","v":17395.781717158246},{"$f":"hosp_count(10,B141,C141,D141,$C$1,G141+H141,1,F141,F141,SIMDRateRatios_hosp,SIMDrateratios,RateRatios!$B$3)*10","v":17383.632220488522},12.149496669724613,{"$f":"hosp_count(20,B141,C141,D141,$C$1,G141,1,F141,F141,SIMDRateRatios_hosp,SIMDrateratios,RateRatios!$B$3)*10","v":40324.636287858339},{"$f":"hosp_count(20,B141,C141,D141,$C$1,G141+H141,1,F141,F141,SIMDRateRatios_hosp,SIMDrateratios,RateRatios!$B$3)*10","v":40298.148062958804},26.488224899534544]
["Female 55-59",57.5,"female",2,1,{"$f":"HLOOKUP('III Tool Overview'!$H$6,LookUpData_Pop!$B$1:$AV$269,LookUpData_Pop!BB140,FALSE)/50","v":542},{"$f":"'III Tool Overview'!$H$9/110","v":0},542,{"$f":"new_ci(2,B142,C142,D142,$C$1,G142,1,F142,E142*F142,SIMDrateratios,RateRatios!$B$3)*10","v":39.998436168840612},{"$f":"new_ci(2,B142,C142,D142,$C$1,G142+H142,1,H142,H142,SIMDrateratios,RateRatios!$B$3)*10","v":39.961574155532219},{"$f":"new_ci(5,B142,C142,D142,$C$1,G142,1,F142,F142,SIMDrateratios,RateRatios!$B$3)*1000","v":17542.655285347391},{"$f":"new_ci(5,B142,C142,D142,$C$1,H142,1,F142,F142,SIMDrateratios,RateRatios!$B$3)*1000","v":17526.693488502271},{"$f":"new_ci(10,B142,C142,D142,$C$1,G142,1,F142,F142,SIMDrateratios,RateRatios!$B$3)*10","v":460.70996868880695},{"$f":"new_ci(10,B142,C142,D142,$C$1,G142+H142,1,F142,F142,SIMDrateratios,RateRatios!$B$3)*10","v":460.30244133812465},{"$f":"new_ci(20,B142,C142,D142,$C$1,G142,1,F142,F142,SIMDrateratios,RateRatios!$B$3)*10","v":1314.3158234587627},{"$f":"new_ci(20,B142,C142,D142,$C$1,G142+H142,1,F142,F142,SIMDrateratios,RateRatios!$B$3)*10","v":1313.2609562024322},{"$f":"new_yll(2,B142,C142,D142,$C$1,G142,1,F142,F142,SIMDrateratios,RateRatios!$B$3)*10","v":1639.935882922465},{"$f":"new_yll(2,B142,C142,D142,$C$1,G142+H142,1,F142,F142,SIMDrateratios,RateRatios!$B$3)*10","v":1638.4245403768209},1.5113425456440837,{"$f":"new_yll(5,B142,C142,D142,$C$1,G142,1,F142,F142,SIMDrateratios,RateRatios!$B$3)*1000","v":691626.920768879},{"$f":"new_yll(5,B142,C142,D142,$C$1,G142+H142,1,F142,F142,SIMDrateratios,RateRatios!$B$3)*1000","v":690997.45363751845},629.46713136055041,{"$f":"new_yll(10,B142,C142,D142,$C$1,G142,1,F142,F142,SIMDrateratios,RateRatios!$B$3)*10","v":16868.85950213654},{"$f":"new_yll(10,B142,C142,D142,$C$1,G142+H142,1,F142,F142,SIMDrateratios,RateRatios!$B$3)*10","v":16853.910219746023},14.949282390516601,{"$f":"new_yll(20,B142,C142,D142,$C$1,G142,1,F142,F142,SIMDrateratios,RateRatios!$B$3)*10","v":39999.408331204577},{"$f":"new_yll(20,B142,C142,D142,$C$1,G142+H142,1,F142,F142,SIMDrateratios,RateRatios!$B$3)*10","v":39966.796431699229},32.611899505347537,{"$f":"hosp_count(2,B142,C142,D142,$C$1,G142,1,F142,F142,SIMDRateRatios_hosp,SIMDrateratios,RateRatios!$B$3)*10","v":1694.6788421520748},{"$f":"hosp_count(2,B142,C142,D142,$C$1,G142+H142,1,F142,F142,SIMDRateRatios_hosp,SIMDrateratios,RateRatios!$B$3)*10","v":1693.4600433024129},1.21879884966188,{"$f":"hosp_count(5,B142,C142,D142,$C$1,G142,1,F142,F142,SIMDRateRatios_hosp,SIMDrateratios,RateRatios!$B$3)*1000","v":697119.7795385163},{"$f":"hosp_count(5,B142,C142,D142,$C$1,G142+H142,1,F142,F142,SIMDRateRatios_hosp,SIMDrateratios,RateRatios!$B$3)*1000","v":696626.03507078206},493.74446773424279,{"$f":"hosp_count(10,B142,C142,D142,$C$1,G142,1,F142,F142,SIMDRateRatios_hosp,SIMDrateratios,RateRatios!$B$3)*10","v":16375.173448503814},{"$f":"hosp_count(10,B142,C142,D142,$C$1,G142+H142,1,F142,F142,SIMDRateRatios_hosp,SIMDrateratios,RateRatios!$B$3)*10","v":16363.942944059003},11.230504444811231,{"$f":"hosp_count(20,B142,C142,D142,$C$1,G142,1,F142,F142,SIMDRateRatios_hosp,SIMDrateratios,RateRatios!$B$3)*10","v":36905.470909717762},{"$f":"hosp_count(20,B142,C142,D142,$C$1,G142+H142,1,F142,F142,SIMDRateRatios_hosp,SIMDrateratios,RateRatios!$B$3)*10","v":36882.597643606634},22.873266111128032]
["Female 60-64",62.5,"female",2,1,{"$f":"HLOOKUP('III Tool Overview'!$H$6,LookUpData_Pop!$B$1:$AV$269,LookUpData_Pop!BB141,FALSE)/50","v":529.9},{"$f":"'III Tool Overview'!$H$9/110","v":0},529.9,{"$f":"new_ci(2,B143,C143,D143,$C$1,G143,1,F143,E143*F143,SIMDrateratios,RateRatios!$B$3)*10","v":54.19229295282495},{"$f":"new_ci(2,B143,C143,D143,$C$1,G143+H143,1,H143,H143,SIMDrateratios,RateRatios!$B$3)*10","v":54.142412378878319},{"$f":"new_ci(5,B143,C143,D143,$C$1,G143,1,F143,F143,SIMDrateratios,RateRatios!$B$3)*1000","v":23651.584020650505},{"$f":"new_ci(5,B143,C143,D143,$C$1,H143,1,F143,F143,SIMDrateratios,RateRatios!$B$3)*1000","v":23630.197383921615},{"$f":"new_ci(10,B143,C143,D143,$C$1,G143,1,F143,F143,SIMDrateratios,RateRatios!$B$3)*10","v":614.605971938415},{"$f":"new_ci(10,B143,C143,D143,$C$1,G143+H143,1,F143,F143,SIMDrateratios,RateRatios!$B$3)*10","v":614.07165094613572},{"$f":"new_ci(20,B143,C143,D143,$C$1,G143,1,F143,F143,SIMDrateratios,RateRatios!$B$3)*10","v":1694.8091926677844},{"$f":"new_ci(20,B143,C143,D143,$C$1,G143+H143,1,F143,F143,SIMDrateratios,RateRatios!$B$3)*10","v":1693.5237688986458},{"$f":"new_yll(2,B143,C143,D143,$C$1,G143,1,F143,F143,SIMDrateratios,RateRatios!$B$3)*10","v":2005.1148392545233},{"$f":"new_yll(2,B143,C143,D143,$C$1,G143+H143,1,F143,F143,SIMDrateratios,RateRatios!$B$3)*10","v":2003.2692580184976},1.8455812360257369,{"$f":"new_yll(5,B143,C143,D143,$C$1,G143,1,F143,F143,SIMDrateratios,RateRatios!$B$3)*1000","v":837961.85273307399},{"$f":"new_yll(5,B143,C143,D143,$C$1,G143+H143,1,F143,F143,SIMDrateratios,RateRatios!$B$3)*1000","v":837203.82548407943},758.02724899456371,{"$f":"new_yll(10,B143,C143,D143,$C$1,G143,1,F143,F143,SIMDrateratios,RateRatios!$B$3)*10","v":20060.834376737912},{"$f":"new_yll(10,B143,C143,D143,$C$1,G143+H143,1,F143,F143,SIMDrateratios,RateRatios!$B$3)*10","v":20043.342743355264},17.491633382647706,{"$f":"new_yll(20,B143,C143,D143,$C$1,G143,1,F143,F143,SIMDrateratios,RateRatios!$B$3)*10","v":45075.215680627589},{"$f":"new_yll(20,B143,C143,D143,$C$1,G143+H143,1,F143,F143,SIMDrateratios,RateRatios!$B$3)*10","v":45040.117494598555},35.098186029033968,{"$f":"hosp_count(2,B143,C143,D143,$C$1,G143,1,F143,F143,SIMDRateRatios_hosp,SIMDrateratios,RateRatios!$B$3)*10","v":1828.5053550647117},{"$f":"hosp_count(2,B143,C143,D143,$C$1,G143+H143,1,F143,F143,SIMDRateRatios_hosp,SIMDrateratios,RateRatios!$B$3)*10","v":1827.1900611375693},1.3152939271424202,{"$f":"hosp_count(5,B143,C143,D143,$C$1,G143,1,F143,F143,SIMDRateRatios_hosp,SIMDrateratios,RateRatios!$B$3)*1000","v":748734.29622873268},{"$f":"hosp_count(5,B143,C143,D143,$C$1,G143+H143,1,F143,F143,SIMDRateRatios_hosp,SIMDrateratios,RateRatios!$B$3)*1000","v":748207.03924397135},527.25698476133402,{"$f":"hosp_count(10,B143,C143,D143,$C$1,G143,1,F143,F143,SIMDRateRatios_hosp,SIMDrateratios,RateRatios!$B$3)*10","v":17423.494521542012},{"$f":"hosp_count(10,B143,C143,D143,$C$1,G143+H143,1,F143,F143,SIMDRateRatios_hosp,SIMDrateratios,RateRatios!$B$3)*10","v":17411.763056010284},11.731465531727736,{"$f":"hosp_count(20,B143,C143,D143,$C$1,G143,1,F143,F143,SIMDRateRatios_hosp,SIMDrateratios,RateRatios!$B$3)*10","v":38210.14884436244},{"$f":"hosp_count(20,B143,C143,D143,$C$1,G143+H143,1,F143,F143,SIMDRateRatios_hosp,SIMDrateratios,RateRatios!$B$3)*10","v":38187.825224334709},22.323620027731522]
["Female 65-69",67.5,"female",2,1,{"$f":"HLOOKUP('III Tool Overview'!$H$6,LookUpData_Pop!$B$1:$AV$269,LookUpData_Pop!BB142,FALSE)/50","v":457.06},{"$f":"'III Tool Overview'!$H$9/110","v":0},457.06,{"$f":"new_ci(2,B144,C144,D144,$C$1,G144,1,F144,E144*F144,SIMDrateratios,RateRatios!$B$3)*10","v":76.170519331896486},{"$f":"new_ci(2,B144,C144,D144,$C$1,G144+H144,1,H144,H144,SIMDrateratios,RateRatios!$B$3)*10","v":76.10066025689305},{"$f":"new_ci(5,B144,C144,D144,$C$1,G144,1,F144,F144,SIMDrateratios,RateRatios!$B$3)*1000","v":32876.973721712428},{"$f":"new_ci(5,B144,C144,D144,$C$1,H144,1,F144,F144,SIMDrateratios,RateRatios!$B$3)*1000","v":32847.686174493501},{"$f":"new_ci(10,B144,C144,D144,$C$1,G144,1,F144,F144,SIMDrateratios,RateRatios!$B$3)*10","v":834.30385592116761},{"$f":"new_ci(10,B144,C144,D144,$C$1,G144+H144,1,F144,F144,SIMDrateratios,RateRatios!$B$3)*10","v":833.60730814650469},{"$f":"new_ci(20,B144,C144,D144,$C$1,G144,1,F144,F144,SIMDrateratios,RateRatios!$B$3)*10","v":2136.6137918514637},{"$f":"new_ci(20,B144,C144,D144,$C$1,G144+H144,1,F144,F144,SIMDrateratios,RateRatios!$B$3)*10","v":2135.1948947690048},{"$f":"new_yll(2,B144,C144,D144,$C$1,G144,1,F144,F144,SIMDrateratios,RateRatios!$B$3)*10","v":2361.2860992887909},{"$f":"new_yll(2,B144,C144,D144,$C$1,G144+H144,1,F144,F144,SIMDrateratios,RateRatios!$B$3)*10","v":2359.1204679636844},2.1656313251064603,{"$f":"new_yll(5,B144,C144,D144,$C$1,G144,1,F144,F144,SIMDrateratios,RateRatios!$B$3)*1000","v":967847.30243955192},{"$f":"new_yll(5,B144,C144,D144,$C$1,G144+H144,1,F144,F144,SIMDrateratios,RateRatios!$B$3)*1000","v":966984.41526885098},862.88717070093844,{"$f":"new_yll(10,B144,C144,D144,$C$1,G144,1,F144,F144,SIMDrateratios,RateRatios!$B$3)*10","v":22273.837156371534},{"$f":"new_yll(10,B144,C144,D144,$C$1,G144+H144,1,F144,F144,SIMDrateratios,RateRatios!$B$3)*10","v":22255.12717089849},18.709985473044071,{"$f":"new_yll(20,B144,C144,D144,$C$1,G144,1,F144,F144,SIMDrateratios,RateRatios!$B$3)*10","v":44794.081387375038},{"$f":"new_yll(20,B144,C144,D144,$C$1,G144+H144,1,F144,F144,SIMDrateratios,RateRatios!$B$3)*10","v":44762.460793149206},31.620594225831155,{"$f":"hosp_count(2,B144,C144,D144,$C$1,G144,1,F144,F144,SIMDRateRatios_hosp,SIMDrateratios,RateRatios!$B$3)*10","v":1828.5078396119134},{"$f":"hosp_count(2,B144,C144,D144,$C$1,G144+H144,1,F144,F144,SIMDRateRatios_hosp,SIMDrateratios,RateRatios!$B$3)*10","v":1827.1929646978504},1.3148749140630116,{"$f":"hosp_count(5,B144,C144,D144,$C$1,G144,1,F144,F144,SIMDRateRatios_hosp,SIMDrateratios,RateRatios!$B$3)*1000","v":741019.24413402448},{"$f":"hosp_count(5,B144,C144,D144,$C$1,G144+H144,1,F144,F144,SIMDRateRatios_hosp,SIMDrateratios,RateRatios!$B$3)*1000","v":740504.59469274478},514.64944127970375,{"$f":"hosp_count(10,B144,C144,D144,$C$1,G144,1,F144,F144,SIMDRateRatios_hosp,SIMDrateratios,RateRatios!$B$3)*10","v":16885.536492497857},{"$f":"hosp_count(10,B144,C144,D144,$C$1,G144+H144,1,F144,F144,SIMDRateRatios_hosp,SIMDrateratios,RateRatios!$B$3)*10","v":16874.645235465101},10.891257032755675,{"$f":"hosp_count(20,B144,C144,D144,$C$1,G144,1,F144,F144,SIMDRateRatios_hosp,SIMDrateratios,RateRatios!$B$3)*10","v":34902.8410457235},{"$f":"hosp_count(20,B144,C144,D144,$C$1,G144+H144,1,F144,F144,SIMDRateRatios_hosp,SIMDrateratios,RateRatios!$B$3)*10","v":34885.08097783714},17.760067886360048]
["Female 70-74",72.5,"female",2,1,{"$f":"HLOOKUP('III Tool Overview'!$H$6,LookUpData_Pop!$B$1:$AV$269,LookUpData_Pop!BB143,FALSE)/50","v":462.28},{"$f":"'III Tool Overview'!$H$9/110","v":0},462.28,{"$f":"new_ci(2,B145,C145,D145,$C$1,G145,1,F145,E145*F145,SIMDrateratios,RateRatios!$B$3)*10","v":106.56904528566037},{"$f":"new_ci(2,B145,C145,D145,$C$1,G145+H145,1,H145,H145,SIMDrateratios,RateRatios!$B$3)*10","v":106.47167144636549},{"$f":"new_ci(5,B145,C145,D145,$C$1,G145,1,F145,F145,SIMDrateratios,RateRatios!$B$3)*1000","v":45493.963107606287},{"$f":"new_ci(5,B145,C145,D145,$C$1,H145,1,F145,F145,SIMDrateratios,RateRatios!$B$3)*1000","v":45454.045429425758},{"$f":"new_ci(10,B145,C145,D145,$C$1,G145,1,F145,F145,SIMDrateratios,RateRatios!$B$3)*10","v":1127.9424997954129},{"$f":"new_ci(10,B145,C145,D145,$C$1,G145+H145,1,F145,F145,SIMDrateratios,RateRatios!$B$3)*10","v":1127.0387018060376},{"$f":"new_ci(20,B145,C145,D145,$C$1,G145,1,F145,F145,SIMDrateratios,RateRatios!$B$3)*10","v":2694.6970642284168},{"$f":"new_ci(20,B145,C145,D145,$C$1,G145+H145,1,F145,F145,SIMDrateratios,RateRatios!$B$3)*10","v":2693.1377678639601},{"$f":"new_yll(2,B145,C145,D145,$C$1,G145,1,F145,F145,SIMDrateratios,RateRatios!$B$3)*10","v":2877.3642227128303},{"$f":"new_yll(2,B145,C145,D145,$C$1,G145+H145,1,F145,F145,SIMDrateratios,RateRatios!$B$3)*10","v":2874.7351290518686},2.6290936609616438,{"$f":"new_yll(5,B145,C145,D145,$C$1,G145,1,F145,F145,SIMDrateratios,RateRatios!$B$3)*1000","v":1157706.7213875812},{"$f":"new_yll(5,B145,C145,D145,$C$1,G145+H145,1,F145,F145,SIMDrateratios,RateRatios!$B$3)*1000","v":1156689.5598021878},1017.1615853933617,{"$f":"new_yll(10,B145,C145,D145,$C$1,G145,1,F145,F145,SIMDrateratios,RateRatios!$B$3)*10","v":25666.099375527425},{"$f":"new_yll(10,B145,C145,D145,$C$1,G145+H145,1,F145,F145,SIMDrateratios,RateRatios!$B$3)*10","v":25645.320086546628},20.779288980796991,{"$f":"new_yll(20,B145,C145,D145,$C$1,G145,1,F145,F145,SIMDrateratios,RateRatios!$B$3)*10","v":46703.458405763391},{"$f":"new_yll(20,B145,C145,D145,$C$1,G145+H145,1,F145,F145,SIMDrateratios,RateRatios!$B$3)*10","v":46673.180777060777},30.277628702613583,{"$f":"hosp_count(2,B145,C145,D145,$C$1,G145,1,F145,F145,SIMDRateRatios_hosp,SIMDrateratios,RateRatios!$B$3)*10","v":2040.9995652957875},{"$f":"hosp_count(2,B145,C145,D145,$C$1,G145+H145,1,F145,F145,SIMDRateRatios_hosp,SIMDrateratios,RateRatios!$B$3)*10","v":2039.5325845577634},1.4669807380241764,{"$f":"hosp_count(5,B145,C145,D145,$C$1,G145,1,F145,F145,SIMDRateRatios_hosp,SIMDrateratios,RateRatios!$B$3)*1000","v":818671.33248620084},{"$f":"hosp_count(5,B145,C145,D145,$C$1,G145+H145,1,F145,F145,SIMDRateRatios_hosp,SIMDrateratios,RateRatios!$B$3)*1000","v":818110.6575037326},560.67498246824834,{"$f":"hosp_count(10,B145,C145,D145,$C$1,G145,1,F145,F145,SIMDRateRatios_hosp,SIMDrateratios,RateRatios!$B$3)*10","v":18275.166503579636},{"$f":"hosp_count(10,B145,C145,D145,$C$1,G145+H145,1,F145,F145,SIMDRateRatios_hosp,SIMDrateratios,RateRatios!$B$3)*10","v":18263.881329856984},11.285173722651962,{"$f":"hosp_count(20,B145,C145,D145,$C$1,G145,1,F145,F145,SIMDRateRatios_hosp,SIMDrateratios,RateRatios!$B$3)*10","v":35746.654765656291},{"$f":"hosp_count(20,B145,C145,D145,$C$1,G145+H145,1,F145,F145,SIMDRateRatios_hosp,SIMDrateratios,RateRatios!$B$3)*10","v":35730.881448931766},15.773316724524193]
["Female 75-79",77.5,"female",2,1,{"$f":"HLOOKUP('III Tool Overview'!$H$6,LookUpData_Pop!$B$1:$AV$269,LookUpData_Pop!BB144,FALSE)/50","v":420.76},{"$f":"'III Tool Overview'!$H$9/110","v":0},420.76,{"$f":"new_ci(2,B146,C146,D146,$C$1,G146,1,F146,E146*F146,SIMDrateratios,RateRatios!$B$3)*10","v":157.4148220400034},{"$f":"new_ci(2,B146,C146,D146,$C$1,G146+H146,1,H146,H146,SIMDrateratios,RateRatios!$B$3)*10","v":157.27188696095016},{"$f":"new_ci(5,B146,C146,D146,$C$1,G146,1,F146,F146,SIMDrateratios,RateRatios!$B$3)*1000","v":65555.606596190017},{"$f":"new_ci(5,B146,C146,D146,$C$1,H146,1,F146,F146,SIMDrateratios,RateRatios!$B$3)*1000","v":65499.921564262979},{"$f":"new_ci(10,B146,C146,D146,$C$1,G146,1,F146,F146,SIMDrateratios,RateRatios!$B$3)*10","v":1544.1950317483158},{"$f":"new_ci(10,B146,C146,D146,$C$1,G146+H146,1,F146,F146,SIMDrateratios,RateRatios!$B$3)*10","v":1543.0675498029395},{"$f":"new_ci(20,B146,C146,D146,$C$1,G146,1,F146,F146,SIMDrateratios,RateRatios!$B$3)*10","v":3200.3188556523019},{"$f":"new_ci(20,B146,C146,D146,$C$1,G146+H146,1,F146,F146,SIMDrateratios,RateRatios!$B$3)*10","v":3198.9851637655274},{"$f":"new_yll(2,B146,C146,D146,$C$1,G146,1,F146,F146,SIMDrateratios,RateRatios!$B$3)*10","v":3305.7112628400719},{"$f":"new_yll(2,B146,C146,D146,$C$1,G146+H146,1,F146,F146,SIMDrateratios,RateRatios!$B$3)*10","v":3302.7096261799534},3.0016366601184927,{"$f":"new_yll(5,B146,C146,D146,$C$1,G146,1,F146,F146,SIMDrateratios,RateRatios!$B$3)*1000","v":1276235.6523432746},{"$f":"new_yll(5,B146,C146,D146,$C$1,G146+H146,1,F146,F146,SIMDrateratios,RateRatios!$B$3)*1000","v":1275148.376023693},1087.2763195815496,{"$f":"new_yll(10,B146,C146,D146,$C$1,G146,1,F146,F146,SIMDrateratios,RateRatios!$B$3)*10","v":26073.390872846387},{"$f":"new_yll(10,B146,C146,D146,$C$1,G146+H146,1,F146,F146,SIMDrateratios,RateRatios!$B$3)*10","v":26053.876325706387},19.514547139999195,{"$f":"new_yll(20,B146,C146,D146,$C$1,G146,1,F146,F146,SIMDrateratios,RateRatios!$B$3)*10","v":38875.459046106327},{"$f":"new_yll(20,B146,C146,D146,$C$1,G146+H146,1,F146,F146,SIMDrateratios,RateRatios!$B$3)*10","v":38853.168842356215},22.290203750111687,{"$f":"hosp_count(2,B146,C146,D146,$C$1,G146,1,F146,F146,SIMDRateRatios_hosp,SIMDrateratios,RateRatios!$B$3)*10","v":2153.7413607327712},{"$f":"hosp_count(2,B146,C146,D146,$C$1,G146+H146,1,F146,F146,SIMDRateRatios_hosp,SIMDrateratios,RateRatios!$B$3)*10","v":2152.1915244420361},1.5498362907351293,{"$f":"hosp_count(5,B146,C146,D146,$C$1,G146,1,F146,F146,SIMDRateRatios_hosp,SIMDrateratios,RateRatios!$B$3)*1000","v":844134.69026834401},{"$f":"hosp_count(5,B146,C146,D146,$C$1,G146+H146,1,F146,F146,SIMDRateRatios_hosp,SIMDrateratios,RateRatios!$B$3)*1000","v":843573.45128114801},561.23898719600402,{"$f":"hosp_count(10,B146,C146,D146,$C$1,G146,1,F146,F146,SIMDRateRatios_hosp,SIMDrateratios,RateRatios!$B$3)*10","v":18010.011256207454},{"$f":"hosp_count(10,B146,C146,D146,$C$1,G146+H146,1,F146,F146,SIMDRateRatios_hosp,SIMDrateratios,RateRatios!$B$3)*10","v":17999.933800514347},10.077455693106458,{"$f":"hosp_count(20,B146,C146,D146,$C$1,G146,1,F146,F146,SIMDRateRatios_hosp,SIMDrateratios,RateRatios!$B$3)*10","v":31503.573919616992},{"$f":"hosp_count(20,B146,C146,D146,$C$1,G146+H146,1,F146,F146,SIMDRateRatios_hosp,SIMDrateratios,RateRatios!$B$3)*10","v":31493.655697380313},9.9182222366798669]
["Female 80-84",82.5,"female",2,1,{"$f":"HLOOKUP('III Tool Overview'!$H$6,LookUpData_Pop!$B$1:$AV$269,LookUpData_Pop!BB145,FALSE)/50","v":301.27999999999997},{"$f":"'III Tool Overview'!$H$9/110","v":0},301.27999999999997,{"$f":"new_ci(2,B147,C147,D147,$C$1,G147,1,F147,E147*F147,SIMDrateratios,RateRatios!$B$3)*10","v":155.2807946695971},{"$f":"new_ci(2,B147,C147,D147,$C$1,G147+H147,1,H147,H147,SIMDrateratios,RateRatios!$B$3)*10","v":155.14105255430468},{"$f":"new_ci(5,B147,C147,D147,$C$1,G147,1,F147,F147,SIMDrateratios,RateRatios!$B$3)*1000","v":63108.327190315613},{"$f":"new_ci(5,B147,C147,D147,$C$1,H147,1,F147,F147,SIMDrateratios,RateRatios!$B$3)*1000","v":63056.58620643468},{"$f":"new_ci(10,B147,C147,D147,$C$1,G147,1,F147,F147,SIMDrateratios,RateRatios!$B$3)*10","v":1415.598499618394},{"$f":"new_ci(10,B147,C147,D147,$C$1,G147+H147,1,F147,F147,SIMDrateratios,RateRatios!$B$3)*10","v":1414.6615009780171},{"$f":"new_ci(20,B147,C147,D147,$C$1,G147,1,F147,F147,SIMDrateratios,RateRatios!$B$3)*10","v":2598.4988351227635},{"$f":"new_ci(20,B147,C147,D147,$C$1,G147+H147,1,F147,F147,SIMDrateratios,RateRatios!$B$3)*10","v":2597.7385025707827},{"$f":"new_yll(2,B147,C147,D147,$C$1,G147,1,F147,F147,SIMDrateratios,RateRatios!$B$3)*10","v":2639.7735093831507},{"$f":"new_yll(2,B147,C147,D147,$C$1,G147+H147,1,F147,F147,SIMDrateratios,RateRatios!$B$3)*10","v":2637.39789342318},2.3756159599706734,{"$f":"new_yll(5,B147,C147,D147,$C$1,G147,1,F147,F147,SIMDrateratios,RateRatios!$B$3)*1000","v":977450.56746336853},{"$f":"new_yll(5,B147,C147,D147,$C$1,G147+H147,1,F147,F147,SIMDrateratios,RateRatios!$B$3)*1000","v":976644.91200163309},805.65546173544135,{"$f":"new_yll(10,B147,C147,D147,$C$1,G147,1,F147,F147,SIMDrateratios,RateRatios!$B$3)*10","v":18422.63251646965},{"$f":"new_yll(10,B147,C147,D147,$C$1,G147+H147,1,F147,F147,SIMDrateratios,RateRatios!$B$3)*10","v":18409.835612592382},12.796903877268051,{"$f":"new_yll(20,B147,C147,D147,$C$1,G147,1,F147,F147,SIMDrateratios,RateRatios!$B$3)*10","v":23183.193868979288},{"$f":"new_yll(20,B147,C147,D147,$C$1,G147+H147,1,F147,F147,SIMDrateratios,RateRatios!$B$3)*10","v":23169.976515068429},13.217353910858947,{"$f":"hosp_count(2,B147,C147,D147,$C$1,G147,1,F147,F147,SIMDRateRatios_hosp,SIMDrateratios,RateRatios!$B$3)*10","v":1701.9374738504328},{"$f":"hosp_count(2,B147,C147,D147,$C$1,G147+H147,1,F147,F147,SIMDRateRatios_hosp,SIMDrateratios,RateRatios!$B$3)*10","v":1700.7145922178713},1.2228816325614389,{"$f":"hosp_count(5,B147,C147,D147,$C$1,G147,1,F147,F147,SIMDRateRatios_hosp,SIMDrateratios,RateRatios!$B$3)*1000","v":652024.1885711517},{"$f":"hosp_count(5,B147,C147,D147,$C$1,G147+H147,1,F147,F147,SIMDRateRatios_hosp,SIMDrateratios,RateRatios!$B$3)*1000","v":651604.47164997994},419.71692117175553,{"$f":"hosp_count(10,B147,C147,D147,$C$1,G147,1,F147,F147,SIMDRateRatios_hosp,SIMDrateratios,RateRatios!$B$3)*10","v":13323.918441648748},{"$f":"hosp_count(10,B147,C147,D147,$C$1,G147+H147,1,F147,F147,SIMDRateRatios_hosp,SIMDrateratios,RateRatios!$B$3)*10","v":13317.197041124509},6.721400524238561,{"$f":"hosp_count(20,B147,C147,D147,$C$1,G147,1,F147,F147,SIMDRateRatios_hosp,SIMDrateratios,RateRatios!$B$3)*10","v":21210.836581281997},{"$f":"hosp_count(20,B147,C147,D147,$C$1,G147+H147,1,F147,F147,SIMDRateRatios_hosp,SIMDrateratios,RateRatios!$B$3)*10","v":21206.185480710039},4.6511005719585228]
["Female 85-89",87.5,"female",2,1,{"$f":"HLOOKUP('III Tool Overview'!$H$6,LookUpData_Pop!$B$1:$AV$269,LookUpData_Pop!BB146,FALSE)/50","v":178.76},{"$f":"'III Tool Overview'!$H$9/110","v":0},178.76,{"$f":"new_ci(2,B148,C148,D148,$C$1,G148,1,F148,E148*F148,SIMDrateratios,RateRatios!$B$3)*10","v":148.14654564606013},{"$f":"new_ci(2,B148,C148,D148,$C$1,G148+H148,1,H148,H148,SIMDrateratios,RateRatios!$B$3)*10","v":148.01517010155112},{"$f":"new_ci(5,B148,C148,D148,$C$1,G148,1,F148,F148,SIMDrateratios,RateRatios!$B$3)*1000","v":57034.3276653086},{"$f":"new_ci(5,B148,C148,D148,$C$1,H148,1,F148,F148,SIMDrateratios,RateRatios!$B$3)*1000","v":56990.993816076647},{"$f":"new_ci(10,B148,C148,D148,$C$1,G148,1,F148,F148,SIMDrateratios,RateRatios!$B$3)*10","v":1154.1942426933069},{"$f":"new_ci(10,B148,C148,D148,$C$1,G148+H148,1,F148,F148,SIMDrateratios,RateRatios!$B$3)*10","v":1153.5852490903187},{"$f":"new_ci(20,B148,C148,D148,$C$1,G148,1,F148,F148,SIMDrateratios,RateRatios!$B$3)*10","v":1717.8450270825738},{"$f":"new_ci(20,B148,C148,D148,$C$1,G148+H148,1,F148,F148,SIMDrateratios,RateRatios!$B$3)*10","v":1717.6351397399774},{"$f":"new_yll(2,B148,C148,D148,$C$1,G148,1,F148,F148,SIMDrateratios,RateRatios!$B$3)*10","v":1629.6120021066613},{"$f":"new_yll(2,B148,C148,D148,$C$1,G148+H148,1,F148,F148,SIMDrateratios,RateRatios!$B$3)*10","v":1628.1668711170621},1.4451309895991926,{"$f":"new_yll(5,B148,C148,D148,$C$1,G148,1,F148,F148,SIMDrateratios,RateRatios!$B$3)*1000","v":543815.92404084967},{"$f":"new_yll(5,B148,C148,D148,$C$1,G148+H148,1,F148,F148,SIMDrateratios,RateRatios!$B$3)*1000","v":543396.4397512757},419.48428957397118,{"$f":"new_yll(10,B148,C148,D148,$C$1,G148,1,F148,F148,SIMDrateratios,RateRatios!$B$3)*10","v":8429.7110678661029},{"$f":"new_yll(10,B148,C148,D148,$C$1,G148+H148,1,F148,F148,SIMDrateratios,RateRatios!$B$3)*10","v":8424.4773502704738},5.2337175956290594,{"$f":"new_yll(20,B148,C148,D148,$C$1,G148,1,F148,F148,SIMDrateratios,RateRatios!$B$3)*10","v":7666.9157257293355},{"$f":"new_yll(20,B148,C148,D148,$C$1,G148+H148,1,F148,F148,SIMDrateratios,RateRatios!$B$3)*10","v":7660.3571834136037},6.5585423157317564,{"$f":"hosp_count(2,B148,C148,D148,$C$1,G148,1,F148,F148,SIMDRateRatios_hosp,SIMDrateratios,RateRatios!$B$3)*10","v":1170.7520811996712},{"$f":"hosp_count(2,B148,C148,D148,$C$1,G148+H148,1,F148,F148,SIMDRateRatios_hosp,SIMDrateratios,RateRatios!$B$3)*10","v":1169.9089556469046},0.8431255527666508,{"$f":"hosp_count(5,B148,C148,D148,$C$1,G148,1,F148,F148,SIMDRateRatios_hosp,SIMDrateratios,RateRatios!$B$3)*1000","v":426383.96124514856},{"$f":"hosp_count(5,B148,C148,D148,$C$1,G148+H148,1,F148,F148,SIMDRateRatios_hosp,SIMDrateratios,RateRatios!$B$3)*1000","v":426127.52922889078},256.43201625777874,{"$f":"hosp_count(10,B148,C148,D148,$C$1,G148,1,F148,F148,SIMDRateRatios_hosp,SIMDrateratios,RateRatios!$B$3)*10","v":7958.3114575801383},{"$f":"hosp_count(10,B148,C148,D148,$C$1,G148+H148,1,F148,F148,SIMDRateRatios_hosp,SIMDrateratios,RateRatios!$B$3)*10","v":7955.1490946719005},3.1623629082378102,{"$f":"hosp_count(20,B148,C148,D148,$C$1,G148,1,F148,F148,SIMDRateRatios_hosp,SIMDrateratios,RateRatios!$B$3)*10","v":10789.390052603621},{"$f":"hosp_count(20,B148,C148,D148,$C$1,G148+H148,1,F148,F148,SIMDRateRatios_hosp,SIMDrateratios,RateRatios!$B$3)*10","v":10788.42993181581},0.96012078781132004]
["Female 90+",95,"female",2,1,{"$f":"HLOOKUP('III Tool Overview'!$H$6,LookUpData_Pop!$B$1:$AV$269,LookUpData_Pop!BB147,FALSE)/50","v":87.3},{"$f":"'III Tool Overview'!$H$9/110","v":0},87.3,{"$f":"new_ci(2,B149,C149,D149,$C$1,G149,1,F149,E149*F149,SIMDrateratios,RateRatios!$B$3)*10","v":124.23457072943933},{"$f":"new_ci(2,B149,C149,D149,$C$1,G149+H149,1,H149,H149,SIMDrateratios,RateRatios!$B$3)*10","v":124.12860590549175},{"$f":"new_ci(5,B149,C149,D149,$C$1,G149,1,F149,F149,SIMDrateratios,RateRatios!$B$3)*1000","v":43155.267127879459},{"$f":"new_ci(5,B149,C149,D149,$C$1,H149,1,F149,F149,SIMDrateratios,RateRatios!$B$3)*1000","v":43127.510238041978},{"$f":"new_ci(10,B149,C149,D149,$C$1,G149,1,F149,F149,SIMDrateratios,RateRatios!$B$3)*10","v":734.49482019397556},{"$f":"new_ci(10,B149,C149,D149,$C$1,G149+H149,1,F149,F149,SIMDrateratios,RateRatios!$B$3)*10","v":734.25956175513488},{"$f":"new_ci(20,B149,C149,D149,$C$1,G149,1,F149,F149,SIMDrateratios,RateRatios!$B$3)*10","v":870.23719885451396},{"$f":"new_ci(20,B149,C149,D149,$C$1,G149+H149,1,F149,F149,SIMDrateratios,RateRatios!$B$3)*10","v":870.22250104317538},{"$f":"new_yll(2,B149,C149,D149,$C$1,G149,1,F149,F149,SIMDrateratios,RateRatios!$B$3)*10","v":496.93828291775731},{"$f":"new_yll(2,B149,C149,D149,$C$1,G149+H149,1,F149,F149,SIMDrateratios,RateRatios!$B$3)*10","v":496.51442362196701},0.4238592957902938,{"$f":"new_yll(5,B149,C149,D149,$C$1,G149,1,F149,F149,SIMDrateratios,RateRatios!$B$3)*1000","v":113360.26692560634},{"$f":"new_yll(5,B149,C149,D149,$C$1,G149+H149,1,F149,F149,SIMDrateratios,RateRatios!$B$3)*1000","v":113279.04333460034},81.22359100599715,{"$f":"new_yll(10,B149,C149,D149,$C$1,G149,1,F149,F149,SIMDrateratios,RateRatios!$B$3)*10","v":624.43677293307576},{"$f":"new_yll(10,B149,C149,D149,$C$1,G149+H149,1,F149,F149,SIMDrateratios,RateRatios!$B$3)*10","v":623.43104962303767},1.0057233100380927,{"$f":"new_yll(20,B149,C149,D149,$C$1,G149,1,F149,F149,SIMDrateratios,RateRatios!$B$3)*10","v":-375.69830840036701},{"$f":"new_yll(20,B149,C149,D149,$C$1,G149+H149,1,F149,F149,SIMDrateratios,RateRatios!$B$3)*10","v":-378.56150077302289},2.8631923726558739,{"$f":"hosp_count(2,B149,C149,D149,$C$1,G149,1,F149,F149,SIMDRateRatios_hosp,SIMDrateratios,RateRatios!$B$3)*10","v":679.41272953082444},{"$f":"hosp_count(2,B149,C149,D149,$C$1,G149+H149,1,F149,F149,SIMDRateRatios_hosp,SIMDrateratios,RateRatios!$B$3)*10","v":678.92578071193975},0.48694881888468444,{"$f":"hosp_count(5,B149,C149,D149,$C$1,G149,1,F149,F149,SIMDRateRatios_hosp,SIMDrateratios,RateRatios!$B$3)*1000","v":224751.77578518438},{"$f":"hosp_count(5,B149,C149,D149,$C$1,G149+H149,1,F149,F149,SIMDRateRatios_hosp,SIMDrateratios,RateRatios!$B$3)*1000","v":224634.82089616903},116.95488901535282,{"$f":"hosp_count(10,B149,C149,D149,$C$1,G149,1,F149,F149,SIMDRateRatios_hosp,SIMDrateratios,RateRatios!$B$3)*10","v":3603.8930534623423},{"$f":"hosp_count(10,B149,C149,D149,$C$1,G149+H149,1,F149,F149,SIMDRateRatios_hosp,SIMDrateratios,RateRatios!$B$3)*10","v":3603.0370188167672},0.85603464557516418,{"$f":"hosp_count(20,B149,C149,D149,$C$1,G149,1,F149,F149,SIMDRateRatios_hosp,SIMDrateratios,RateRatios!$B$3)*10","v":4109.7450164071879},{"$f":"hosp_count(20,B149,C149,D149,$C$1,G149+H149,1,F149,F149,SIMDRateRatios_hosp,SIMDrateratios,RateRatios!$B$3)*10","v":4109.7164418771445},2.8574530043442792E-2]
["TOTAL",null,null,null,null,{"$f":"SUM(F130:F149)","v":10182.56},{"$f":"SUM(G130:G149)","v":0},{"$f":"SUM(H130:H149)","v":10182.56},{"$f":"SUM(I130:I149)","v":959.2847270614036},{"$f":"SUM(J130:J149)","v":958.42089536967001},{"$f":"SUM(K130:K149)","v":391422.90830165218},{"$f":"SUM(L130:L149)","v":391098.31137097062},{"$f":"SUM(M130:M149)","v":9035.1074602371282},{"$f":"SUM(N130:N149)","v":9028.6113564346506},{"$f":"SUM(O130:O149)","v":19697.546554786},{"$f":"SUM(P130:P149)","v":19686.86120915251},{"$f":"SUM(Q130:Q149)","v":22389.1377403283},{"$f":"SUM(R130:R149)","v":22368.721187295225},{"$f":"SUM(S130:S149)","v":20.416553033078372},{"$f":"SUM(T130:T149)","v":8901000.5575751327},{"$f":"SUM(U130:U149)","v":8893191.7902768608},{"$f":"SUM(V130:V149)","v":7808.7672982693584},{"$f":"SUM(W130:W149)","v":197600.12254150707},{"$f":"SUM(X130:X149)","v":197435.6981217693},{"$f":"SUM(Y130:Y149)","v":164.42441973774771},{"$f":"SUM(Z130:Z149)","v":403020.16207571269},{"$f":"SUM(AA130:AA149)","v":402706.33396482334},{"$f":"SUM(AB130:AB149)","v":313.82811088938126},{"$f":"SUM(AC130:AC149)","v":25014.833809930518},{"$f":"SUM(AD130:AD149)","v":24996.84575959928},{"$f":"SUM(AE130:AE149)","v":17.988050331237162},{"$f":"SUM(AF130:AF149)","v":10098736.578088852},{"$f":"SUM(AG130:AG149)","v":10091742.500437872},{"$f":"SUM(AH130:AH149)","v":6994.0776509778007},{"$f":"SUM(AI130:AI149)","v":230201.65610986378},{"$f":"SUM(AJ130:AJ149)","v":230051.56880891038},{"$f":"SUM(AK130:AK149)","v":150.08730095344833},{"$f":"SUM(AL130:AL149)","v":495385.41589174408},{"$f":"SUM(AM130:AM149)","v":495095.30853346013},{"$f":"SUM(AN130:AN149)","v":290.10735828394581}]
["age/sex breakdown: Q3"]
["Male <1",0.5,"male",3,1,{"$f":"HLOOKUP('III Tool Overview'!$H$6,LookUpData_Pop!$B$1:$AV$269,LookUpData_Pop!BB149,FALSE)/50","v":84.38},0,{"$f":"F152","v":84.38},{"$f":"new_ci(2,B152,C152,D152,$C$1,G152,1,F152,E152*F152,SIMDrateratios,RateRatios!$B$3)*10","v":0.12799531181503598},{"$f":"new_ci(2,B152,C152,D152,$C$1,G152+H152,1,H152,H152,SIMDrateratios,RateRatios!$B$3)*10","v":0.12797537700597916},{"$f":"new_ci(5,B152,C152,D152,$C$1,G152,1,F152,F152,SIMDrateratios,RateRatios!$B$3)*1000","v":55.991243693280225},{"$f":"new_ci(5,B152,C152,D152,$C$1,H152,1,F152,F152,SIMDrateratios,RateRatios!$B$3)*1000","v":55.982525490921525},{"$f":"new_ci(10,B152,C152,D152,$C$1,G152,1,F152,F152,SIMDrateratios,RateRatios!$B$3)*10","v":1.4705827700259821},{"$f":"new_ci(10,B152,C152,D152,$C$1,G152+H152,1,F152,F152,SIMDrateratios,RateRatios!$B$3)*10","v":1.4703539143673316},{"$f":"new_ci(20,B152,C152,D152,$C$1,G152,1,F152,F152,SIMDrateratios,RateRatios!$B$3)*10","v":4.3169723409027165},{"$f":"new_ci(20,B152,C152,D152,$C$1,G152+H152,1,F152,F152,SIMDrateratios,RateRatios!$B$3)*10","v":4.3163016597253749},{"$f":"new_yll(2,B152,C152,D152,$C$1,G152,1,F152,F152,SIMDrateratios,RateRatios!$B$3)*10","v":12.671535869688562},{"$f":"new_yll(2,B152,C152,D152,$C$1,G152+H152,1,F152,F152,SIMDrateratios,RateRatios!$B$3)*10","v":12.669562323591936},{"$f":"Q152-R152","v":1.973546096625256E-3},{"$f":"new_yll(5,B152,C152,D152,$C$1,G152,1,F152,F152,SIMDrateratios,RateRatios!$B$3)*1000","v":5455.073640013572},{"$f":"new_yll(5,B152,C152,D152,$C$1,G152+H152,1,F152,F152,SIMDrateratios,RateRatios!$B$3)*1000","v":5454.2242476123911},{"$f":"T152-U152","v":0.8493924011809213},{"$f":"new_yll(10,B152,C152,D152,$C$1,G152,1,F152,F152,SIMDrateratios,RateRatios!$B$3)*10","v":139.1372396547325},{"$f":"new_yll(10,B152,C152,D152,$C$1,G152+H152,1,F152,F152,SIMDrateratios,RateRatios!$B$3)*10","v":139.11558648680912},{"$f":"W152-X152","v":2.1653167923375349E-2},{"$f":"new_yll(20,B152,C152,D152,$C$1,G152,1,F152,F152,SIMDrateratios,RateRatios!$B$3)*10","v":381.14755552845514},{"$f":"new_yll(20,B152,C152,D152,$C$1,G152+H152,1,F152,F152,SIMDrateratios,RateRatios!$B$3)*10","v":381.08833553651618},{"$f":"Z152-AA152","v":5.9219991938959993E-2},{"$f":"hosp_count(2,B152,C152,D152,$C$1,G152,1,F152,F152,SIMDRateRatios_hosp,SIMDrateratios,RateRatios!$B$3)*10","v":31.55001605523335},{"$f":"hosp_count(2,B152,C152,D152,$C$1,G152+H152,1,F152,F152,SIMDRateRatios_hosp,SIMDrateratios,RateRatios!$B$3)*10","v":31.546195609631088},{"$f":"AC152-AD152","v":3.8204456022619127E-3},{"$f":"hosp_count(5,B152,C152,D152,$C$1,G152,1,F152,F152,SIMDRateRatios_hosp,SIMDrateratios,RateRatios!$B$3)*1000","v":13338.73541093231},{"$f":"hosp_count(5,B152,C152,D152,$C$1,G152+H152,1,F152,F152,SIMDRateRatios_hosp,SIMDrateratios,RateRatios!$B$3)*1000","v":13337.120707717389},{"$f":"AF152-AG152","v":1.614703214920155},{"$f":"hosp_count(10,B152,C152,D152,$C$1,G152,1,F152,F152,SIMDRateRatios_hosp,SIMDrateratios,RateRatios!$B$3)*10","v":329.84685893385938},{"$f":"hosp_count(10,B152,C152,D152,$C$1,G152+H152,1,F152,F152,SIMDRateRatios_hosp,SIMDrateratios,RateRatios!$B$3)*10","v":329.80695551129907},{"$f":"AI152-AJ152","v":3.9903422560314539E-2},{"$f":"hosp_count(20,B152,C152,D152,$C$1,G152,1,F152,F152,SIMDRateRatios_hosp,SIMDrateratios,RateRatios!$B$3)*10","v":847.67642177985772},{"$f":"hosp_count(20,B152,C152,D152,$C$1,G152+H152,1,F152,F152,SIMDRateRatios_hosp,SIMDrateratios,RateRatios!$B$3)*10","v":847.57407180342386},{"$f":"AL152-AM152","v":0.10234997643385668}]
["Male 1-4",2.5,"male",3,1,{"$f":"HLOOKUP('III Tool Overview'!$H$6,LookUpData_Pop!$B$1:$AV$269,LookUpData_Pop!BB150,FALSE)/50","v":305.5},0,{"$f":"F153","v":305.5},{"$f":"new_ci(2,B153,C153,D153,$C$1,G153,1,F153,E153*F153,SIMDrateratios,RateRatios!$B$3)*10","v":0.53560792191504447},{"$f":"new_ci(2,B153,C153,D153,$C$1,G153+H153,1,H153,H153,SIMDrateratios,RateRatios!$B$3)*10","v":0.53552398938341961},{"$f":"new_ci(5,B153,C153,D153,$C$1,G153,1,F153,F153,SIMDrateratios,RateRatios!$B$3)*1000","v":234.29106169606527},{"$f":"new_ci(5,B153,C153,D153,$C$1,H153,1,F153,F153,SIMDrateratios,RateRatios!$B$3)*1000","v":234.2543579374049},{"$f":"new_ci(10,B153,C153,D153,$C$1,G153,1,F153,F153,SIMDrateratios,RateRatios!$B$3)*10","v":6.1530229687867095},{"$f":"new_ci(10,B153,C153,D153,$C$1,G153+H153,1,F153,F153,SIMDrateratios,RateRatios!$B$3)*10","v":6.1520596453222716},{"$f":"new_ci(20,B153,C153,D153,$C$1,G153,1,F153,F153,SIMDrateratios,RateRatios!$B$3)*10","v":18.057762908241475},{"$f":"new_ci(20,B153,C153,D153,$C$1,G153+H153,1,F153,F153,SIMDrateratios,RateRatios!$B$3)*10","v":18.05494129443527},{"$f":"new_yll(2,B153,C153,D153,$C$1,G153,1,F153,F153,SIMDrateratios,RateRatios!$B$3)*10","v":51.953968425759314},{"$f":"new_yll(2,B153,C153,D153,$C$1,G153+H153,1,F153,F153,SIMDrateratios,RateRatios!$B$3)*10","v":51.945826970191703},{"$f":"Q153-R153","v":8.1414555676104783E-3},{"$f":"new_yll(5,B153,C153,D153,$C$1,G153,1,F153,F153,SIMDrateratios,RateRatios!$B$3)*1000","v":22357.762381383607},{"$f":"new_yll(5,B153,C153,D153,$C$1,G153+H153,1,F153,F153,SIMDrateratios,RateRatios!$B$3)*1000","v":22354.25983217702},{"$f":"T153-U153","v":3.5025492065869912},{"$f":"new_yll(10,B153,C153,D153,$C$1,G153,1,F153,F153,SIMDrateratios,RateRatios!$B$3)*10","v":569.85529393784657},{"$f":"new_yll(10,B153,C153,D153,$C$1,G153+H153,1,F153,F153,SIMDrateratios,RateRatios!$B$3)*10","v":569.76607539367296},{"$f":"W153-X153","v":8.9218544173604641E-2},{"$f":"new_yll(20,B153,C153,D153,$C$1,G153,1,F153,F153,SIMDrateratios,RateRatios!$B$3)*10","v":1558.2348959889541},{"$f":"new_yll(20,B153,C153,D153,$C$1,G153+H153,1,F153,F153,SIMDrateratios,RateRatios!$B$3)*10","v":1557.9913887222242},{"$f":"Z153-AA153","v":0.24350726672992096},{"$f":"hosp_count(2,B153,C153,D153,$C$1,G153,1,F153,F153,SIMDRateRatios_hosp,SIMDrateratios,RateRatios!$B$3)*10","v":122.48365849348042},{"$f":"hosp_count(2,B153,C153,D153,$C$1,G153+H153,1,F153,F153,SIMDRateRatios_hosp,SIMDrateratios,RateRatios!$B$3)*10","v":122.4687352566053},{"$f":"AC153-AD153","v":1.4923236875119983E-2},{"$f":"hosp_count(5,B153,C153,D153,$C$1,G153,1,F153,F153,SIMDRateRatios_hosp,SIMDrateratios,RateRatios!$B$3)*1000","v":51781.747612787665},{"$f":"hosp_count(5,B153,C153,D153,$C$1,G153+H153,1,F153,F153,SIMDRateRatios_hosp,SIMDrateratios,RateRatios!$B$3)*1000","v":51775.440886949378},{"$f":"AF153-AG153","v":6.3067258382870932},{"$f":"hosp_count(10,B153,C153,D153,$C$1,G153,1,F153,F153,SIMDRateRatios_hosp,SIMDrateratios,RateRatios!$B$3)*10","v":1280.3846793443504},{"$f":"hosp_count(10,B153,C153,D153,$C$1,G153+H153,1,F153,F153,SIMDRateRatios_hosp,SIMDrateratios,RateRatios!$B$3)*10","v":1280.2288519598685},{"$f":"AI153-AJ153","v":0.15582738448188138},{"$f":"hosp_count(20,B153,C153,D153,$C$1,G153,1,F153,F153,SIMDRateRatios_hosp,SIMDrateratios,RateRatios!$B$3)*10","v":3289.7026430094143},{"$f":"hosp_count(20,B153,C153,D153,$C$1,G153+H153,1,F153,F153,SIMDRateRatios_hosp,SIMDrateratios,RateRatios!$B$3)*10","v":3289.3031687549042},{"$f":"AL153-AM153","v":0.39947425451009622}]
["Male 5-9",7.5,"male",3,1,{"$f":"HLOOKUP('III Tool Overview'!$H$6,LookUpData_Pop!$B$1:$AV$269,LookUpData_Pop!BB151,FALSE)/50","v":349.32},0,349.32,{"$f":"new_ci(2,B154,C154,D154,$C$1,G154,1,F154,E154*F154,SIMDrateratios,RateRatios!$B$3)*10","v":0.94557856725531197},{"$f":"new_ci(2,B154,C154,D154,$C$1,G154+H154,1,H154,H154,SIMDrateratios,RateRatios!$B$3)*10","v":0.94543077488848615},{"$f":"new_ci(5,B154,C154,D154,$C$1,G154,1,F154,F154,SIMDrateratios,RateRatios!$B$3)*1000","v":413.55801373148375},{"$f":"new_ci(5,B154,C154,D154,$C$1,H154,1,F154,F154,SIMDrateratios,RateRatios!$B$3)*1000","v":413.49340482529965},{"$f":"new_ci(10,B154,C154,D154,$C$1,G154,1,F154,F154,SIMDrateratios,RateRatios!$B$3)*10","v":10.857299075141265},{"$f":"new_ci(10,B154,C154,D154,$C$1,G154+H154,1,F154,F154,SIMDrateratios,RateRatios!$B$3)*10","v":10.855604507439558},{"$f":"new_ci(20,B154,C154,D154,$C$1,G154,1,F154,F154,SIMDrateratios,RateRatios!$B$3)*10","v":31.829938544778237},{"$f":"new_ci(20,B154,C154,D154,$C$1,G154+H154,1,F154,F154,SIMDrateratios,RateRatios!$B$3)*10","v":31.824985639182238},{"$f":"new_yll(2,B154,C154,D154,$C$1,G154,1,F154,F154,SIMDrateratios,RateRatios!$B$3)*10","v":86.047649620233386},{"$f":"new_yll(2,B154,C154,D154,$C$1,G154+H154,1,F154,F154,SIMDrateratios,RateRatios!$B$3)*10","v":86.034200514852245},1.3449105381141635E-2,{"$f":"new_yll(5,B154,C154,D154,$C$1,G154,1,F154,F154,SIMDrateratios,RateRatios!$B$3)*1000","v":36983.428530768011},{"$f":"new_yll(5,B154,C154,D154,$C$1,G154+H154,1,F154,F154,SIMDrateratios,RateRatios!$B$3)*1000","v":36977.650698737918},5.7778320300931227,{"$f":"new_yll(10,B154,C154,D154,$C$1,G154,1,F154,F154,SIMDrateratios,RateRatios!$B$3)*10","v":940.40147187048137},{"$f":"new_yll(10,B154,C154,D154,$C$1,G154+H154,1,F154,F154,SIMDrateratios,RateRatios!$B$3)*10","v":940.254693557358},0.1467783131233773,{"$f":"new_yll(20,B154,C154,D154,$C$1,G154,1,F154,F154,SIMDrateratios,RateRatios!$B$3)*10","v":2555.8352911180764},{"$f":"new_yll(20,B154,C154,D154,$C$1,G154+H154,1,F154,F154,SIMDrateratios,RateRatios!$B$3)*10","v":2555.4375206538803},0.39777046419612816,{"$f":"hosp_count(2,B154,C154,D154,$C$1,G154,1,F154,F154,SIMDRateRatios_hosp,SIMDrateratios,RateRatios!$B$3)*10","v":172.66765952360771},{"$f":"hosp_count(2,B154,C154,D154,$C$1,G154+H154,1,F154,F154,SIMDRateRatios_hosp,SIMDrateratios,RateRatios!$B$3)*10","v":172.6466755540049},2.0983969602809793E-2,{"$f":"hosp_count(5,B154,C154,D154,$C$1,G154,1,F154,F154,SIMDRateRatios_hosp,SIMDrateratios,RateRatios!$B$3)*1000","v":72986.559212165681},{"$f":"hosp_count(5,B154,C154,D154,$C$1,G154+H154,1,F154,F154,SIMDRateRatios_hosp,SIMDrateratios,RateRatios!$B$3)*1000","v":72977.694265257145},8.864946908535785,{"$f":"hosp_count(10,B154,C154,D154,$C$1,G154,1,F154,F154,SIMDRateRatios_hosp,SIMDrateratios,RateRatios!$B$3)*10","v":1804.1379678343742},{"$f":"hosp_count(10,B154,C154,D154,$C$1,G154+H154,1,F154,F154,SIMDRateRatios_hosp,SIMDrateratios,RateRatios!$B$3)*10","v":1803.9190895118768},0.21887832249740313,{"$f":"hosp_count(20,B154,C154,D154,$C$1,G154,1,F154,F154,SIMDRateRatios_hosp,SIMDrateratios,RateRatios!$B$3)*10","v":4631.0149566470282},{"$f":"hosp_count(20,B154,C154,D154,$C$1,G154+H154,1,F154,F154,SIMDRateRatios_hosp,SIMDrateratios,RateRatios!$B$3)*10","v":4630.4550585247143},0.5598981223138253]
["Male 10-14",12.5,"male",3,1,{"$f":"HLOOKUP('III Tool Overview'!$H$6,LookUpData_Pop!$B$1:$AV$269,LookUpData_Pop!BB152,FALSE)/50","v":386.64},0,386.64,{"$f":"new_ci(2,B155,C155,D155,$C$1,G155,1,F155,E155*F155,SIMDrateratios,RateRatios!$B$3)*10","v":1.3980861742986845},{"$f":"new_ci(2,B155,C155,D155,$C$1,G155+H155,1,H155,H155,SIMDrateratios,RateRatios!$B$3)*10","v":1.3978672616840186},{"$f":"new_ci(5,B155,C155,D155,$C$1,G155,1,F155,F155,SIMDrateratios,RateRatios!$B$3)*1000","v":611.37281583375261},{"$f":"new_ci(5,B155,C155,D155,$C$1,H155,1,F155,F155,SIMDrateratios,RateRatios!$B$3)*1000","v":611.27714537202985},{"$f":"new_ci(10,B155,C155,D155,$C$1,G155,1,F155,F155,SIMDrateratios,RateRatios!$B$3)*10","v":16.045414809634995},{"$f":"new_ci(10,B155,C155,D155,$C$1,G155+H155,1,F155,F155,SIMDrateratios,RateRatios!$B$3)*10","v":16.042907181571309},{"$f":"new_ci(20,B155,C155,D155,$C$1,G155,1,F155,F155,SIMDrateratios,RateRatios!$B$3)*10","v":46.992158327006493},{"$f":"new_ci(20,B155,C155,D155,$C$1,G155+H155,1,F155,F155,SIMDrateratios,RateRatios!$B$3)*10","v":46.984843853003618},{"$f":"new_yll(2,B155,C155,D155,$C$1,G155,1,F155,F155,SIMDrateratios,RateRatios!$B$3)*10","v":121.63349716398555},{"$f":"new_yll(2,B155,C155,D155,$C$1,G155+H155,1,F155,F155,SIMDrateratios,RateRatios!$B$3)*10","v":121.61445176650963},1.9045397475920822E-2,{"$f":"new_yll(5,B155,C155,D155,$C$1,G155,1,F155,F155,SIMDrateratios,RateRatios!$B$3)*1000","v":52228.081631172077},{"$f":"new_yll(5,B155,C155,D155,$C$1,G155+H155,1,F155,F155,SIMDrateratios,RateRatios!$B$3)*1000","v":52219.908690807119},8.1729403649587766,{"$f":"new_yll(10,B155,C155,D155,$C$1,G155,1,F155,F155,SIMDrateratios,RateRatios!$B$3)*10","v":1325.5991008879409},{"$f":"new_yll(10,B155,C155,D155,$C$1,G155+H155,1,F155,F155,SIMDrateratios,RateRatios!$B$3)*10","v":1325.3919244106301},0.20717647731089528,{"$f":"new_yll(20,B155,C155,D155,$C$1,G155,1,F155,F155,SIMDrateratios,RateRatios!$B$3)*10","v":3585.5602543228279},{"$f":"new_yll(20,B155,C155,D155,$C$1,G155+H155,1,F155,F155,SIMDrateratios,RateRatios!$B$3)*10","v":3585.0020143477414},0.55823997508650791,{"$f":"hosp_count(2,B155,C155,D155,$C$1,G155,1,F155,F155,SIMDRateRatios_hosp,SIMDrateratios,RateRatios!$B$3)*10","v":219.73947194928439},{"$f":"hosp_count(2,B155,C155,D155,$C$1,G155+H155,1,F155,F155,SIMDRateRatios_hosp,SIMDrateratios,RateRatios!$B$3)*10","v":219.7127180597133},2.6753889571097034E-2,{"$f":"hosp_count(5,B155,C155,D155,$C$1,G155,1,F155,F155,SIMDRateRatios_hosp,SIMDrateratios,RateRatios!$B$3)*1000","v":92870.207745671418},{"$f":"hosp_count(5,B155,C155,D155,$C$1,G155+H155,1,F155,F155,SIMDRateRatios_hosp,SIMDrateratios,RateRatios!$B$3)*1000","v":92858.909003145003},11.298742526414571,{"$f":"hosp_count(10,B155,C155,D155,$C$1,G155,1,F155,F155,SIMDRateRatios_hosp,SIMDrateratios,RateRatios!$B$3)*10","v":2294.9476816993861},{"$f":"hosp_count(10,B155,C155,D155,$C$1,G155+H155,1,F155,F155,SIMDRateRatios_hosp,SIMDrateratios,RateRatios!$B$3)*10","v":2294.6689039428129},0.27877775657316306,{"$f":"hosp_count(20,B155,C155,D155,$C$1,G155,1,F155,F155,SIMDRateRatios_hosp,SIMDrateratios,RateRatios!$B$3)*10","v":5885.575231174791},{"$f":"hosp_count(20,B155,C155,D155,$C$1,G155+H155,1,F155,F155,SIMDRateRatios_hosp,SIMDrateratios,RateRatios!$B$3)*10","v":5884.863576483931},0.7116546908600867]
["Male 15-19",17.5,"male",3,1,{"$f":"HLOOKUP('III Tool Overview'!$H$6,LookUpData_Pop!$B$1:$AV$269,LookUpData_Pop!BB153,FALSE)/50","v":470.54},{"$f":"'III Tool Overview'!$H$9/110","v":0},470.54,{"$f":"new_ci(2,B156,C156,D156,$C$1,G156,1,F156,E156*F156,SIMDrateratios,RateRatios!$B$3)*10","v":2.6268791194517682},{"$f":"new_ci(2,B156,C156,D156,$C$1,G156+H156,1,H156,H156,SIMDrateratios,RateRatios!$B$3)*10","v":2.6264678235428738},{"$f":"new_ci(5,B156,C156,D156,$C$1,G156,1,F156,F156,SIMDrateratios,RateRatios!$B$3)*1000","v":1148.3336872366358},{"$f":"new_ci(5,B156,C156,D156,$C$1,H156,1,F156,F156,SIMDrateratios,RateRatios!$B$3)*1000","v":1148.1540596471825},{"$f":"new_ci(10,B156,C156,D156,$C$1,G156,1,F156,F156,SIMDrateratios,RateRatios!$B$3)*10","v":30.116809870639415},{"$f":"new_ci(10,B156,C156,D156,$C$1,G156+H156,1,F156,F156,SIMDrateratios,RateRatios!$B$3)*10","v":30.112108227371795},{"$f":"new_ci(20,B156,C156,D156,$C$1,G156,1,F156,F156,SIMDrateratios,RateRatios!$B$3)*10","v":88.010274017616297},{"$f":"new_ci(20,B156,C156,D156,$C$1,G156+H156,1,F156,F156,SIMDrateratios,RateRatios!$B$3)*10","v":87.996619916843301},{"$f":"new_yll(2,B156,C156,D156,$C$1,G156,1,F156,F156,SIMDrateratios,RateRatios!$B$3)*10","v":212.77720867559324},{"$f":"new_yll(2,B156,C156,D156,$C$1,G156+H156,1,F156,F156,SIMDrateratios,RateRatios!$B$3)*10","v":212.74389370697278},3.331496862045924E-2,{"$f":"new_yll(5,B156,C156,D156,$C$1,G156,1,F156,F156,SIMDrateratios,RateRatios!$B$3)*1000","v":91209.639331625673},{"$f":"new_yll(5,B156,C156,D156,$C$1,G156+H156,1,F156,F156,SIMDrateratios,RateRatios!$B$3)*1000","v":91195.371767103468},14.267564522204339,{"$f":"new_yll(10,B156,C156,D156,$C$1,G156,1,F156,F156,SIMDrateratios,RateRatios!$B$3)*10","v":2307.4628175568587},{"$f":"new_yll(10,B156,C156,D156,$C$1,G156+H156,1,F156,F156,SIMDrateratios,RateRatios!$B$3)*10","v":2307.1025690355764},0.36024852128230123,{"$f":"new_yll(20,B156,C156,D156,$C$1,G156,1,F156,F156,SIMDrateratios,RateRatios!$B$3)*10","v":6188.1202424254789},{"$f":"new_yll(20,B156,C156,D156,$C$1,G156+H156,1,F156,F156,SIMDrateratios,RateRatios!$B$3)*10","v":6187.159809497376},0.96043292810281855,{"$f":"hosp_count(2,B156,C156,D156,$C$1,G156,1,F156,F156,SIMDRateRatios_hosp,SIMDrateratios,RateRatios!$B$3)*10","v":329.69962865309526},{"$f":"hosp_count(2,B156,C156,D156,$C$1,G156+H156,1,F156,F156,SIMDRateRatios_hosp,SIMDrateratios,RateRatios!$B$3)*10","v":329.65948494484451},4.0143708250752752E-2,{"$f":"hosp_count(5,B156,C156,D156,$C$1,G156,1,F156,F156,SIMDRateRatios_hosp,SIMDrateratios,RateRatios!$B$3)*1000","v":139299.42287748965},{"$f":"hosp_count(5,B156,C156,D156,$C$1,G156+H156,1,F156,F156,SIMDRateRatios_hosp,SIMDrateratios,RateRatios!$B$3)*1000","v":139282.48159544868},16.941282040963415,{"$f":"hosp_count(10,B156,C156,D156,$C$1,G156,1,F156,F156,SIMDRateRatios_hosp,SIMDrateratios,RateRatios!$B$3)*10","v":3440.0398118422281},{"$f":"hosp_count(10,B156,C156,D156,$C$1,G156+H156,1,F156,F156,SIMDRateRatios_hosp,SIMDrateratios,RateRatios!$B$3)*10","v":3439.6224352089848},0.41737663324329333,{"$f":"hosp_count(20,B156,C156,D156,$C$1,G156,1,F156,F156,SIMDRateRatios_hosp,SIMDrateratios,RateRatios!$B$3)*10","v":8805.1356900481132},{"$f":"hosp_count(20,B156,C156,D156,$C$1,G156+H156,1,F156,F156,SIMDRateRatios_hosp,SIMDrateratios,RateRatios!$B$3)*10","v":8804.0749665460626},1.0607235020506778]
["Male 20-24",22.5,"male",3,1,{"$f":"HLOOKUP('III Tool Overview'!$H$6,LookUpData_Pop!$B$1:$AV$269,LookUpData_Pop!BB154,FALSE)/50","v":637.66},{"$f":"'III Tool Overview'!$H$9/110","v":0},637.66,{"$f":"new_ci(2,B157,C157,D157,$C$1,G157,1,F157,E157*F157,SIMDrateratios,RateRatios!$B$3)*10","v":4.7551555127672547},{"$f":"new_ci(2,B157,C157,D157,$C$1,G157+H157,1,H157,H157,SIMDrateratios,RateRatios!$B$3)*10","v":4.7544113885448649},{"$f":"new_ci(5,B157,C157,D157,$C$1,G157,1,F157,F157,SIMDrateratios,RateRatios!$B$3)*1000","v":2078.0468319916631},{"$f":"new_ci(5,B157,C157,D157,$C$1,H157,1,F157,F157,SIMDrateratios,RateRatios!$B$3)*1000","v":2077.7220520995843},{"$f":"new_ci(10,B157,C157,D157,$C$1,G157,1,F157,F157,SIMDrateratios,RateRatios!$B$3)*10","v":54.463628388642952},{"$f":"new_ci(10,B157,C157,D157,$C$1,G157+H157,1,F157,F157,SIMDrateratios,RateRatios!$B$3)*10","v":54.455138821132998},{"$f":"new_ci(20,B157,C157,D157,$C$1,G157,1,F157,F157,SIMDrateratios,RateRatios!$B$3)*10","v":158.82783652456243},{"$f":"new_ci(20,B157,C157,D157,$C$1,G157+H157,1,F157,F157,SIMDrateratios,RateRatios!$B$3)*10","v":158.80328483001853},{"$f":"new_yll(2,B157,C157,D157,$C$1,G157,1,F157,F157,SIMDrateratios,RateRatios!$B$3)*10","v":366.14697448307857},{"$f":"new_yll(2,B157,C157,D157,$C$1,G157+H157,1,F157,F157,SIMDrateratios,RateRatios!$B$3)*10","v":366.08967691795465},5.7297565123917593E-2,{"$f":"new_yll(5,B157,C157,D157,$C$1,G157,1,F157,F157,SIMDrateratios,RateRatios!$B$3)*1000","v":156743.07045264108},{"$f":"new_yll(5,B157,C157,D157,$C$1,G157+H157,1,F157,F157,SIMDrateratios,RateRatios!$B$3)*1000","v":156718.5725998104},24.49785283068195,{"$f":"new_yll(10,B157,C157,D157,$C$1,G157,1,F157,F157,SIMDrateratios,RateRatios!$B$3)*10","v":3955.0772785057161},{"$f":"new_yll(10,B157,C157,D157,$C$1,G157+H157,1,F157,F157,SIMDrateratios,RateRatios!$B$3)*10","v":3954.4607235861731},0.61655491954297759,{"$f":"new_yll(20,B157,C157,D157,$C$1,G157,1,F157,F157,SIMDrateratios,RateRatios!$B$3)*10","v":10533.615086467944},{"$f":"new_yll(20,B157,C157,D157,$C$1,G157+H157,1,F157,F157,SIMDrateratios,RateRatios!$B$3)*10","v":10531.985842824181},1.6292436437634024,{"$f":"hosp_count(2,B157,C157,D157,$C$1,G157,1,F157,F157,SIMDRateRatios_hosp,SIMDrateratios,RateRatios!$B$3)*10","v":513.7180534637647},{"$f":"hosp_count(2,B157,C157,D157,$C$1,G157+H157,1,F157,F157,SIMDRateRatios_hosp,SIMDrateratios,RateRatios!$B$3)*10","v":513.65553173141768},6.2521732347022407E-2,{"$f":"hosp_count(5,B157,C157,D157,$C$1,G157,1,F157,F157,SIMDRateRatios_hosp,SIMDrateratios,RateRatios!$B$3)*1000","v":216982.4695939208},{"$f":"hosp_count(5,B157,C157,D157,$C$1,G157+H157,1,F157,F157,SIMDRateRatios_hosp,SIMDrateratios,RateRatios!$B$3)*1000","v":216956.10263251478},26.366961406019982,{"$f":"hosp_count(10,B157,C157,D157,$C$1,G157,1,F157,F157,SIMDRateRatios_hosp,SIMDrateratios,RateRatios!$B$3)*10","v":5355.1284901606996},{"$f":"hosp_count(10,B157,C157,D157,$C$1,G157+H157,1,F157,F157,SIMDRateRatios_hosp,SIMDrateratios,RateRatios!$B$3)*10","v":5354.4798170396016},0.64867312109799968,{"$f":"hosp_count(20,B157,C157,D157,$C$1,G157,1,F157,F157,SIMDRateRatios_hosp,SIMDrateratios,RateRatios!$B$3)*10","v":13681.684635222951},{"$f":"hosp_count(20,B157,C157,D157,$C$1,G157+H157,1,F157,F157,SIMDRateRatios_hosp,SIMDrateratios,RateRatios!$B$3)*10","v":13680.043090698799},1.6415445241527777]
["Male 25-29",27.5,"male",3,1,{"$f":"HLOOKUP('III Tool Overview'!$H$6,LookUpData_Pop!$B$1:$AV$269,LookUpData_Pop!BB155,FALSE)/50","v":707},{"$f":"'III Tool Overview'!$H$9/110","v":0},707,{"$f":"new_ci(2,B158,C158,D158,$C$1,G158,1,F158,E158*F158,SIMDrateratios,RateRatios!$B$3)*10","v":8.1389044819652536},{"$f":"new_ci(2,B158,C158,D158,$C$1,G158+H158,1,H158,H158,SIMDrateratios,RateRatios!$B$3)*10","v":8.1376317790626889},{"$f":"new_ci(5,B158,C158,D158,$C$1,G158,1,F158,F158,SIMDrateratios,RateRatios!$B$3)*1000","v":3554.3428644393389},{"$f":"new_ci(5,B158,C158,D158,$C$1,H158,1,F158,F158,SIMDrateratios,RateRatios!$B$3)*1000","v":3553.7881419294922},{"$f":"new_ci(10,B158,C158,D158,$C$1,G158,1,F158,F158,SIMDrateratios,RateRatios!$B$3)*10","v":93.021725857716064},{"$f":"new_ci(10,B158,C158,D158,$C$1,G158+H158,1,F158,F158,SIMDrateratios,RateRatios!$B$3)*10","v":93.00726757088978},{"$f":"new_ci(20,B158,C158,D158,$C$1,G158,1,F158,F158,SIMDrateratios,RateRatios!$B$3)*10","v":270.05491054880309},{"$f":"new_ci(20,B158,C158,D158,$C$1,G158+H158,1,F158,F158,SIMDrateratios,RateRatios!$B$3)*10","v":270.01347432784951},{"$f":"new_yll(2,B158,C158,D158,$C$1,G158,1,F158,F158,SIMDrateratios,RateRatios!$B$3)*10","v":577.86221821953302},{"$f":"new_yll(2,B158,C158,D158,$C$1,G158+H158,1,F158,F158,SIMDrateratios,RateRatios!$B$3)*10","v":577.77185631345094},9.0361906082080168E-2,{"$f":"new_yll(5,B158,C158,D158,$C$1,G158,1,F158,F158,SIMDrateratios,RateRatios!$B$3)*1000","v":246773.14803058069},{"$f":"new_yll(5,B158,C158,D158,$C$1,G158+H158,1,F158,F158,SIMDrateratios,RateRatios!$B$3)*1000","v":246734.63353400712},38.514496573567158,{"$f":"new_yll(10,B158,C158,D158,$C$1,G158,1,F158,F158,SIMDrateratios,RateRatios!$B$3)*10","v":6197.3039649523707},{"$f":"new_yll(10,B158,C158,D158,$C$1,G158+H158,1,F158,F158,SIMDrateratios,RateRatios!$B$3)*10","v":6196.340581885047},0.96338306732377532,{"$f":"new_yll(20,B158,C158,D158,$C$1,G158,1,F158,F158,SIMDrateratios,RateRatios!$B$3)*10","v":16295.597571057519},{"$f":"new_yll(20,B158,C158,D158,$C$1,G158+H158,1,F158,F158,SIMDrateratios,RateRatios!$B$3)*10","v":16293.094737060008},2.5028339975106064,{"$f":"hosp_count(2,B158,C158,D158,$C$1,G158,1,F158,F158,SIMDRateRatios_hosp,SIMDrateratios,RateRatios!$B$3)*10","v":702.22402324213692},{"$f":"hosp_count(2,B158,C158,D158,$C$1,G158+H158,1,F158,F158,SIMDRateRatios_hosp,SIMDrateratios,RateRatios!$B$3)*10","v":702.13860505432524},8.541818781168331E-2,{"$f":"hosp_count(5,B158,C158,D158,$C$1,G158,1,F158,F158,SIMDRateRatios_hosp,SIMDrateratios,RateRatios!$B$3)*1000","v":296409.44871903269},{"$f":"hosp_count(5,B158,C158,D158,$C$1,G158+H158,1,F158,F158,SIMDRateRatios_hosp,SIMDrateratios,RateRatios!$B$3)*1000","v":296373.47950082034},35.969218212354463,{"$f":"hosp_count(10,B158,C158,D158,$C$1,G158,1,F158,F158,SIMDRateRatios_hosp,SIMDrateratios,RateRatios!$B$3)*10","v":7305.6005704518166},{"$f":"hosp_count(10,B158,C158,D158,$C$1,G158+H158,1,F158,F158,SIMDRateRatios_hosp,SIMDrateratios,RateRatios!$B$3)*10","v":7304.7183773241031},0.88219312771343539,{"$f":"hosp_count(20,B158,C158,D158,$C$1,G158,1,F158,F158,SIMDRateRatios_hosp,SIMDrateratios,RateRatios!$B$3)*10","v":18590.561911565281},{"$f":"hosp_count(20,B158,C158,D158,$C$1,G158+H158,1,F158,F158,SIMDRateRatios_hosp,SIMDrateratios,RateRatios!$B$3)*10","v":18588.34987984717},2.2120317181106657]
["Male 30-34",32.5,"male",3,1,{"$f":"HLOOKUP('III Tool Overview'!$H$6,LookUpData_Pop!$B$1:$AV$269,LookUpData_Pop!BB156,FALSE)/50","v":589.70000000000005},{"$f":"'III Tool Overview'!$H$9/110","v":0},589.70000000000005,{"$f":"new_ci(2,B159,C159,D159,$C$1,G159,1,F159,E159*F159,SIMDrateratios,RateRatios!$B$3)*10","v":9.0670582477039403},{"$f":"new_ci(2,B159,C159,D159,$C$1,G159+H159,1,H159,H159,SIMDrateratios,RateRatios!$B$3)*10","v":9.0656399599538187},{"$f":"new_ci(5,B159,C159,D159,$C$1,G159,1,F159,F159,SIMDrateratios,RateRatios!$B$3)*1000","v":3957.0953458969484},{"$f":"new_ci(5,B159,C159,D159,$C$1,H159,1,F159,F159,SIMDrateratios,RateRatios!$B$3)*1000","v":3956.4779752876066},{"$f":"new_ci(10,B159,C159,D159,$C$1,G159,1,F159,F159,SIMDrateratios,RateRatios!$B$3)*10","v":103.4201798319497},{"$f":"new_ci(10,B159,C159,D159,$C$1,G159+H159,1,F159,F159,SIMDrateratios,RateRatios!$B$3)*10","v":103.40413296575232},{"$f":"new_ci(20,B159,C159,D159,$C$1,G159,1,F159,F159,SIMDrateratios,RateRatios!$B$3)*10","v":298.9629618784553},{"$f":"new_ci(20,B159,C159,D159,$C$1,G159+H159,1,F159,F159,SIMDrateratios,RateRatios!$B$3)*10","v":298.91736820688874},{"$f":"new_yll(2,B159,C159,D159,$C$1,G159,1,F159,F159,SIMDrateratios,RateRatios!$B$3)*10","v":607.49290259616396},{"$f":"new_yll(2,B159,C159,D159,$C$1,G159+H159,1,F159,F159,SIMDrateratios,RateRatios!$B$3)*10","v":607.39787731690581},9.5025279258152295E-2,{"$f":"new_yll(5,B159,C159,D159,$C$1,G159,1,F159,F159,SIMDrateratios,RateRatios!$B$3)*1000","v":258909.40776092946},{"$f":"new_yll(5,B159,C159,D159,$C$1,G159+H159,1,F159,F159,SIMDrateratios,RateRatios!$B$3)*1000","v":258869.01242280134},40.395338128117146,{"$f":"new_yll(10,B159,C159,D159,$C$1,G159,1,F159,F159,SIMDrateratios,RateRatios!$B$3)*10","v":6476.727886700096},{"$f":"new_yll(10,B159,C159,D159,$C$1,G159+H159,1,F159,F159,SIMDrateratios,RateRatios!$B$3)*10","v":6475.722735434897},1.0051512651989469,{"$f":"new_yll(20,B159,C159,D159,$C$1,G159,1,F159,F159,SIMDrateratios,RateRatios!$B$3)*10","v":16850.048617872944},{"$f":"new_yll(20,B159,C159,D159,$C$1,G159+H159,1,F159,F159,SIMDrateratios,RateRatios!$B$3)*10","v":16847.475184995059},2.5734328778853524,{"$f":"hosp_count(2,B159,C159,D159,$C$1,G159,1,F159,F159,SIMDRateRatios_hosp,SIMDrateratios,RateRatios!$B$3)*10","v":673.44346090395163},{"$f":"hosp_count(2,B159,C159,D159,$C$1,G159+H159,1,F159,F159,SIMDRateRatios_hosp,SIMDrateratios,RateRatios!$B$3)*10","v":673.36150189563864},8.195900831299241E-2,{"$f":"hosp_count(5,B159,C159,D159,$C$1,G159,1,F159,F159,SIMDRateRatios_hosp,SIMDrateratios,RateRatios!$B$3)*1000","v":284084.39135643502},{"$f":"hosp_count(5,B159,C159,D159,$C$1,G159+H159,1,F159,F159,SIMDRateRatios_hosp,SIMDrateratios,RateRatios!$B$3)*1000","v":284049.92786812503},34.463488309993409,{"$f":"hosp_count(10,B159,C159,D159,$C$1,G159,1,F159,F159,SIMDRateRatios_hosp,SIMDrateratios,RateRatios!$B$3)*10","v":6992.9048934680759},{"$f":"hosp_count(10,B159,C159,D159,$C$1,G159+H159,1,F159,F159,SIMDRateRatios_hosp,SIMDrateratios,RateRatios!$B$3)*10","v":6992.0621008219659},0.84279264610995597,{"$f":"hosp_count(20,B159,C159,D159,$C$1,G159,1,F159,F159,SIMDRateRatios_hosp,SIMDrateratios,RateRatios!$B$3)*10","v":17727.494561119569},{"$f":"hosp_count(20,B159,C159,D159,$C$1,G159+H159,1,F159,F159,SIMDRateRatios_hosp,SIMDrateratios,RateRatios!$B$3)*10","v":17725.399805250669},2.0947558689003927]
["Male 35-39",37.5,"male",3,1,{"$f":"HLOOKUP('III Tool Overview'!$H$6,LookUpData_Pop!$B$1:$AV$269,LookUpData_Pop!BB157,FALSE)/50","v":564.9},{"$f":"'III Tool Overview'!$H$9/110","v":0},564.9,{"$f":"new_ci(2,B160,C160,D160,$C$1,G160,1,F160,E160*F160,SIMDrateratios,RateRatios!$B$3)*10","v":13.405537501364453},{"$f":"new_ci(2,B160,C160,D160,$C$1,G160+H160,1,H160,H160,SIMDrateratios,RateRatios!$B$3)*10","v":13.403442152445791},{"$f":"new_ci(5,B160,C160,D160,$C$1,G160,1,F160,F160,SIMDrateratios,RateRatios!$B$3)*1000","v":5842.2721925288934},{"$f":"new_ci(5,B160,C160,D160,$C$1,H160,1,F160,F160,SIMDrateratios,RateRatios!$B$3)*1000","v":5841.3626756002377},{"$f":"new_ci(10,B160,C160,D160,$C$1,G160,1,F160,F160,SIMDrateratios,RateRatios!$B$3)*10","v":152.23777738972166},{"$f":"new_ci(10,B160,C160,D160,$C$1,G160+H160,1,F160,F160,SIMDrateratios,RateRatios!$B$3)*10","v":152.21427751171211},{"$f":"new_ci(20,B160,C160,D160,$C$1,G160,1,F160,F160,SIMDrateratios,RateRatios!$B$3)*10","v":436.05203383630146},{"$f":"new_ci(20,B160,C160,D160,$C$1,G160+H160,1,F160,F160,SIMDrateratios,RateRatios!$B$3)*10","v":435.98649959982322},{"$f":"new_yll(2,B160,C160,D160,$C$1,G160,1,F160,F160,SIMDrateratios,RateRatios!$B$3)*10","v":817.73778758323158},{"$f":"new_yll(2,B160,C160,D160,$C$1,G160+H160,1,F160,F160,SIMDrateratios,RateRatios!$B$3)*10","v":817.60997129919315},0.12781628403843115,{"$f":"new_yll(5,B160,C160,D160,$C$1,G160,1,F160,F160,SIMDrateratios,RateRatios!$B$3)*1000","v":347207.97753749992},{"$f":"new_yll(5,B160,C160,D160,$C$1,G160+H160,1,F160,F160,SIMDrateratios,RateRatios!$B$3)*1000","v":347153.92171189643},54.055825603485573,{"$f":"new_yll(10,B160,C160,D160,$C$1,G160,1,F160,F160,SIMDrateratios,RateRatios!$B$3)*10","v":8621.5973356241575},{"$f":"new_yll(10,B160,C160,D160,$C$1,G160+H160,1,F160,F160,SIMDrateratios,RateRatios!$B$3)*10","v":8620.2660024349789},1.331333189178622,{"$f":"new_yll(20,B160,C160,D160,$C$1,G160,1,F160,F160,SIMDrateratios,RateRatios!$B$3)*10","v":21979.059474572383},{"$f":"new_yll(20,B160,C160,D160,$C$1,G160+H160,1,F160,F160,SIMDrateratios,RateRatios!$B$3)*10","v":21975.747910742786},3.3115638295967074,{"$f":"hosp_count(2,B160,C160,D160,$C$1,G160,1,F160,F160,SIMDRateRatios_hosp,SIMDrateratios,RateRatios!$B$3)*10","v":795.35717399103874},{"$f":"hosp_count(2,B160,C160,D160,$C$1,G160+H160,1,F160,F160,SIMDRateRatios_hosp,SIMDrateratios,RateRatios!$B$3)*10","v":795.26041000580904},9.6763985229699756E-2,{"$f":"hosp_count(5,B160,C160,D160,$C$1,G160,1,F160,F160,SIMDRateRatios_hosp,SIMDrateratios,RateRatios!$B$3)*1000","v":335061.29867592431},{"$f":"hosp_count(5,B160,C160,D160,$C$1,G160+H160,1,F160,F160,SIMDRateRatios_hosp,SIMDrateratios,RateRatios!$B$3)*1000","v":335020.73483716871},40.563838755595498,{"$f":"hosp_count(10,B160,C160,D160,$C$1,G160,1,F160,F160,SIMDRateRatios_hosp,SIMDrateratios,RateRatios!$B$3)*10","v":8225.0507650882737},{"$f":"hosp_count(10,B160,C160,D160,$C$1,G160+H160,1,F160,F160,SIMDRateRatios_hosp,SIMDrateratios,RateRatios!$B$3)*10","v":8224.065055010351},0.98571007792270393,{"$f":"hosp_count(20,B160,C160,D160,$C$1,G160,1,F160,F160,SIMDRateRatios_hosp,SIMDrateratios,RateRatios!$B$3)*10","v":20681.532512737838},{"$f":"hosp_count(20,B160,C160,D160,$C$1,G160+H160,1,F160,F160,SIMDRateRatios_hosp,SIMDrateratios,RateRatios!$B$3)*10","v":20679.128712972382},2.4037997654559149]
["Male 40-44",42.5,"male",3,1,{"$f":"HLOOKUP('III Tool Overview'!$H$6,LookUpData_Pop!$B$1:$AV$269,LookUpData_Pop!BB158,FALSE)/50","v":581.29999999999995},{"$f":"'III Tool Overview'!$H$9/110","v":0},581.29999999999995,{"$f":"new_ci(2,B161,C161,D161,$C$1,G161,1,F161,E161*F161,SIMDrateratios,RateRatios!$B$3)*10","v":18.420970226100955},{"$f":"new_ci(2,B161,C161,D161,$C$1,G161+H161,1,H161,H161,SIMDrateratios,RateRatios!$B$3)*10","v":18.418094084866134},{"$f":"new_ci(5,B161,C161,D161,$C$1,G161,1,F161,F161,SIMDrateratios,RateRatios!$B$3)*1000","v":8017.2704380554833},{"$f":"new_ci(5,B161,C161,D161,$C$1,H161,1,F161,F161,SIMDrateratios,RateRatios!$B$3)*1000","v":8016.0253651523462},{"$f":"new_ci(10,B161,C161,D161,$C$1,G161,1,F161,F161,SIMDrateratios,RateRatios!$B$3)*10","v":208.32523202626146},{"$f":"new_ci(10,B161,C161,D161,$C$1,G161+H161,1,F161,F161,SIMDrateratios,RateRatios!$B$3)*10","v":208.29324447039741},{"$f":"new_ci(20,B161,C161,D161,$C$1,G161,1,F161,F161,SIMDrateratios,RateRatios!$B$3)*10","v":591.5235066647698},{"$f":"new_ci(20,B161,C161,D161,$C$1,G161+H161,1,F161,F161,SIMDrateratios,RateRatios!$B$3)*10","v":591.43587707665415},{"$f":"new_yll(2,B161,C161,D161,$C$1,G161,1,F161,F161,SIMDrateratios,RateRatios!$B$3)*10","v":1049.9953028877544},{"$f":"new_yll(2,B161,C161,D161,$C$1,G161+H161,1,F161,F161,SIMDrateratios,RateRatios!$B$3)*10","v":1049.8313628373696},0.16394005038478099,{"$f":"new_yll(5,B161,C161,D161,$C$1,G161,1,F161,F161,SIMDrateratios,RateRatios!$B$3)*1000","v":444408.42019653367},{"$f":"new_yll(5,B161,C161,D161,$C$1,G161+H161,1,F161,F161,SIMDrateratios,RateRatios!$B$3)*1000","v":444339.39864946366},69.021547070005909,{"$f":"new_yll(10,B161,C161,D161,$C$1,G161,1,F161,F161,SIMDrateratios,RateRatios!$B$3)*10","v":10966.069368213832},{"$f":"new_yll(10,B161,C161,D161,$C$1,G161+H161,1,F161,F161,SIMDrateratios,RateRatios!$B$3)*10","v":10964.384696765921},1.6846714479106595,{"$f":"new_yll(20,B161,C161,D161,$C$1,G161,1,F161,F161,SIMDrateratios,RateRatios!$B$3)*10","v":27473.7276488606},{"$f":"new_yll(20,B161,C161,D161,$C$1,G161+H161,1,F161,F161,SIMDrateratios,RateRatios!$B$3)*10","v":27469.642530473735},4.0851183868653607,{"$f":"hosp_count(2,B161,C161,D161,$C$1,G161,1,F161,F161,SIMDRateRatios_hosp,SIMDrateratios,RateRatios!$B$3)*10","v":941.03265562657782},{"$f":"hosp_count(2,B161,C161,D161,$C$1,G161+H161,1,F161,F161,SIMDRateRatios_hosp,SIMDrateratios,RateRatios!$B$3)*10","v":940.91824794768911},0.11440767888871051,{"$f":"hosp_count(5,B161,C161,D161,$C$1,G161,1,F161,F161,SIMDRateRatios_hosp,SIMDrateratios,RateRatios!$B$3)*1000","v":395922.57817272953},{"$f":"hosp_count(5,B161,C161,D161,$C$1,G161+H161,1,F161,F161,SIMDRateRatios_hosp,SIMDrateratios,RateRatios!$B$3)*1000","v":395874.75857744023},47.819595289300196,{"$f":"hosp_count(10,B161,C161,D161,$C$1,G161,1,F161,F161,SIMDRateRatios_hosp,SIMDrateratios,RateRatios!$B$3)*10","v":9693.6427819228957},{"$f":"hosp_count(10,B161,C161,D161,$C$1,G161+H161,1,F161,F161,SIMDRateRatios_hosp,SIMDrateratios,RateRatios!$B$3)*10","v":9692.4877552801081},1.1550266427875613,{"$f":"hosp_count(20,B161,C161,D161,$C$1,G161,1,F161,F161,SIMDRateRatios_hosp,SIMDrateratios,RateRatios!$B$3)*10","v":24186.533433041404},{"$f":"hosp_count(20,B161,C161,D161,$C$1,G161+H161,1,F161,F161,SIMDRateRatios_hosp,SIMDrateratios,RateRatios!$B$3)*10","v":24183.767436312479},2.7659967289255292]
["Male 45-49",47.5,"male",3,1,{"$f":"HLOOKUP('III Tool Overview'!$H$6,LookUpData_Pop!$B$1:$AV$269,LookUpData_Pop!BB159,FALSE)/50","v":573.38},{"$f":"'III Tool Overview'!$H$9/110","v":0},573.38,{"$f":"new_ci(2,B162,C162,D162,$C$1,G162,1,F162,E162*F162,SIMDrateratios,RateRatios!$B$3)*10","v":28.031033589244036},{"$f":"new_ci(2,B162,C162,D162,$C$1,G162+H162,1,H162,H162,SIMDrateratios,RateRatios!$B$3)*10","v":28.02666141022652},{"$f":"new_ci(5,B162,C162,D162,$C$1,G162,1,F162,F162,SIMDrateratios,RateRatios!$B$3)*1000","v":12164.436639947797},{"$f":"new_ci(5,B162,C162,D162,$C$1,H162,1,F162,F162,SIMDrateratios,RateRatios!$B$3)*1000","v":12162.554936146735},{"$f":"new_ci(10,B162,C162,D162,$C$1,G162,1,F162,F162,SIMDrateratios,RateRatios!$B$3)*10","v":314.17024173761394},{"$f":"new_ci(10,B162,C162,D162,$C$1,G162+H162,1,F162,F162,SIMDrateratios,RateRatios!$B$3)*10","v":314.12248921587525},{"$f":"new_ci(20,B162,C162,D162,$C$1,G162,1,F162,F162,SIMDrateratios,RateRatios!$B$3)*10","v":875.55533721160054},{"$f":"new_ci(20,B162,C162,D162,$C$1,G162+H162,1,F162,F162,SIMDrateratios,RateRatios!$B$3)*10","v":875.42946374717883},{"$f":"new_yll(2,B162,C162,D162,$C$1,G162,1,F162,F162,SIMDrateratios,RateRatios!$B$3)*10","v":1429.5827130514458},{"$f":"new_yll(2,B162,C162,D162,$C$1,G162+H162,1,F162,F162,SIMDrateratios,RateRatios!$B$3)*10","v":1429.3597319215523},0.22298112989346919,{"$f":"new_yll(5,B162,C162,D162,$C$1,G162,1,F162,F162,SIMDrateratios,RateRatios!$B$3)*1000","v":601333.63821535511},{"$f":"new_yll(5,B162,C162,D162,$C$1,G162+H162,1,F162,F162,SIMDrateratios,RateRatios!$B$3)*1000","v":601240.60583459109},93.032380764023401,{"$f":"new_yll(10,B162,C162,D162,$C$1,G162,1,F162,F162,SIMDrateratios,RateRatios!$B$3)*10","v":14657.222601045647},{"$f":"new_yll(10,B162,C162,D162,$C$1,G162+H162,1,F162,F162,SIMDrateratios,RateRatios!$B$3)*10","v":14654.992733952957},2.229867092690256,{"$f":"new_yll(20,B162,C162,D162,$C$1,G162,1,F162,F162,SIMDrateratios,RateRatios!$B$3)*10","v":35490.277507319755},{"$f":"new_yll(20,B162,C162,D162,$C$1,G162+H162,1,F162,F162,SIMDrateratios,RateRatios!$B$3)*10","v":35485.140726128229},5.1367811915260972,{"$f":"hosp_count(2,B162,C162,D162,$C$1,G162,1,F162,F162,SIMDRateRatios_hosp,SIMDrateratios,RateRatios!$B$3)*10","v":1144.372801517824},{"$f":"hosp_count(2,B162,C162,D162,$C$1,G162+H162,1,F162,F162,SIMDRateRatios_hosp,SIMDrateratios,RateRatios!$B$3)*10","v":1144.2336928217821},0.13910869604183063,{"$f":"hosp_count(5,B162,C162,D162,$C$1,G162,1,F162,F162,SIMDRateRatios_hosp,SIMDrateratios,RateRatios!$B$3)*1000","v":480142.72122780839},{"$f":"hosp_count(5,B162,C162,D162,$C$1,G162+H162,1,F162,F162,SIMDRateRatios_hosp,SIMDrateratios,RateRatios!$B$3)*1000","v":480084.94517077919},57.776057029201183,{"$f":"hosp_count(10,B162,C162,D162,$C$1,G162,1,F162,F162,SIMDRateRatios_hosp,SIMDrateratios,RateRatios!$B$3)*10","v":11689.450035354195},{"$f":"hosp_count(10,B162,C162,D162,$C$1,G162+H162,1,F162,F162,SIMDRateRatios_hosp,SIMDrateratios,RateRatios!$B$3)*10","v":11688.072659644202},1.3773757099934301,{"$f":"hosp_count(20,B162,C162,D162,$C$1,G162,1,F162,F162,SIMDRateRatios_hosp,SIMDrateratios,RateRatios!$B$3)*10","v":28687.395386302738},{"$f":"hosp_count(20,B162,C162,D162,$C$1,G162+H162,1,F162,F162,SIMDRateRatios_hosp,SIMDrateratios,RateRatios!$B$3)*10","v":28684.224350659679},3.1710356430594402]
["Male 50-54",52.5,"male",3,1,{"$f":"HLOOKUP('III Tool Overview'!$H$6,LookUpData_Pop!$B$1:$AV$269,LookUpData_Pop!BB160,FALSE)/50","v":485.88},{"$f":"'III Tool Overview'!$H$9/110","v":0},485.88,{"$f":"new_ci(2,B163,C163,D163,$C$1,G163,1,F163,E163*F163,SIMDrateratios,RateRatios!$B$3)*10","v":31.705982655640309},{"$f":"new_ci(2,B163,C163,D163,$C$1,G163+H163,1,H163,H163,SIMDrateratios,RateRatios!$B$3)*10","v":31.701036845192959},{"$f":"new_ci(5,B163,C163,D163,$C$1,G163,1,F163,F163,SIMDrateratios,RateRatios!$B$3)*1000","v":13721.249923772701},{"$f":"new_ci(5,B163,C163,D163,$C$1,H163,1,F163,F163,SIMDrateratios,RateRatios!$B$3)*1000","v":13719.133133924355},{"$f":"new_ci(10,B163,C163,D163,$C$1,G163,1,F163,F163,SIMDrateratios,RateRatios!$B$3)*10","v":352.33774078608883},{"$f":"new_ci(10,B163,C163,D163,$C$1,G163+H163,1,F163,F163,SIMDrateratios,RateRatios!$B$3)*10","v":352.28464855519127},{"$f":"new_ci(20,B163,C163,D163,$C$1,G163,1,F163,F163,SIMDrateratios,RateRatios!$B$3)*10","v":964.82007142724274},{"$f":"new_ci(20,B163,C163,D163,$C$1,G163+H163,1,F163,F163,SIMDrateratios,RateRatios!$B$3)*10","v":964.68516945352508},{"$f":"new_yll(2,B163,C163,D163,$C$1,G163,1,F163,F163,SIMDrateratios,RateRatios!$B$3)*10","v":1490.1811848150944},{"$f":"new_yll(2,B163,C163,D163,$C$1,G163+H163,1,F163,F163,SIMDrateratios,RateRatios!$B$3)*10","v":1489.9487317240691},0.23245309102526335,{"$f":"new_yll(5,B163,C163,D163,$C$1,G163,1,F163,F163,SIMDrateratios,RateRatios!$B$3)*1000","v":623438.57053175592},{"$f":"new_yll(5,B163,C163,D163,$C$1,G163+H163,1,F163,F163,SIMDrateratios,RateRatios!$B$3)*1000","v":623342.37290692818},96.197624827735126,{"$f":"new_yll(10,B163,C163,D163,$C$1,G163,1,F163,F163,SIMDrateratios,RateRatios!$B$3)*10","v":15033.426912101166},{"$f":"new_yll(10,B163,C163,D163,$C$1,G163+H163,1,F163,F163,SIMDrateratios,RateRatios!$B$3)*10","v":15031.158542344518},2.2683697566480987,{"$f":"new_yll(20,B163,C163,D163,$C$1,G163,1,F163,F163,SIMDrateratios,RateRatios!$B$3)*10","v":35331.152529821724},{"$f":"new_yll(20,B163,C163,D163,$C$1,G163+H163,1,F163,F163,SIMDrateratios,RateRatios!$B$3)*10","v":35326.161538975051},4.9909908466725028,{"$f":"hosp_count(2,B163,C163,D163,$C$1,G163,1,F163,F163,SIMDRateRatios_hosp,SIMDrateratios,RateRatios!$B$3)*10","v":1114.9817359645929},{"$f":"hosp_count(2,B163,C163,D163,$C$1,G163+H163,1,F163,F163,SIMDRateRatios_hosp,SIMDrateratios,RateRatios!$B$3)*10","v":1114.8460766337184},0.13565933087443227,{"$f":"hosp_count(5,B163,C163,D163,$C$1,G163,1,F163,F163,SIMDRateRatios_hosp,SIMDrateratios,RateRatios!$B$3)*1000","v":466579.53437883989},{"$f":"hosp_count(5,B163,C163,D163,$C$1,G163+H163,1,F163,F163,SIMDRateRatios_hosp,SIMDrateratios,RateRatios!$B$3)*1000","v":466523.53078935127},56.003589488624129,{"$f":"hosp_count(10,B163,C163,D163,$C$1,G163,1,F163,F163,SIMDRateRatios_hosp,SIMDrateratios,RateRatios!$B$3)*10","v":11298.521361576637},{"$f":"hosp_count(10,B163,C163,D163,$C$1,G163+H163,1,F163,F163,SIMDRateRatios_hosp,SIMDrateratios,RateRatios!$B$3)*10","v":11297.202804010434},1.3185575662027986,{"$f":"hosp_count(20,B163,C163,D163,$C$1,G163,1,F163,F163,SIMDRateRatios_hosp,SIMDrateratios,RateRatios!$B$3)*10","v":27299.847085163015},{"$f":"hosp_count(20,B163,C163,D163,$C$1,G163+H163,1,F163,F163,SIMDRateRatios_hosp,SIMDrateratios,RateRatios!$B$3)*10","v":27296.923726687342},2.9233584756730124]
["Male 55-59",57.5,"male",3,1,{"$f":"HLOOKUP('III Tool Overview'!$H$6,LookUpData_Pop!$B$1:$AV$269,LookUpData_Pop!BB161,FALSE)/50","v":415.94},{"$f":"'III Tool Overview'!$H$9/110","v":0},415.94,{"$f":"new_ci(2,B164,C164,D164,$C$1,G164,1,F164,E164*F164,SIMDrateratios,RateRatios!$B$3)*10","v":41.834023131157537},{"$f":"new_ci(2,B164,C164,D164,$C$1,G164+H164,1,H164,H164,SIMDrateratios,RateRatios!$B$3)*10","v":41.827509743925482},{"$f":"new_ci(5,B164,C164,D164,$C$1,G164,1,F164,F164,SIMDrateratios,RateRatios!$B$3)*1000","v":17996.61343271955},{"$f":"new_ci(5,B164,C164,D164,$C$1,H164,1,F164,F164,SIMDrateratios,RateRatios!$B$3)*1000","v":17993.859038974264},{"$f":"new_ci(10,B164,C164,D164,$C$1,G164,1,F164,F164,SIMDrateratios,RateRatios!$B$3)*10","v":456.42411600954279},{"$f":"new_ci(10,B164,C164,D164,$C$1,G164+H164,1,F164,F164,SIMDrateratios,RateRatios!$B$3)*10","v":456.35676222362815},{"$f":"new_ci(20,B164,C164,D164,$C$1,G164,1,F164,F164,SIMDrateratios,RateRatios!$B$3)*10","v":1204.1533987083058},{"$f":"new_ci(20,B164,C164,D164,$C$1,G164+H164,1,F164,F164,SIMDrateratios,RateRatios!$B$3)*10","v":1203.9953332720911},{"$f":"new_yll(2,B164,C164,D164,$C$1,G164,1,F164,F164,SIMDrateratios,RateRatios!$B$3)*10","v":1715.194948377459},{"$f":"new_yll(2,B164,C164,D164,$C$1,G164+H164,1,F164,F164,SIMDrateratios,RateRatios!$B$3)*10","v":1714.9278995009447},0.26704887651430909,{"$f":"new_yll(5,B164,C164,D164,$C$1,G164,1,F164,F164,SIMDrateratios,RateRatios!$B$3)*1000","v":709801.74452562258},{"$f":"new_yll(5,B164,C164,D164,$C$1,G164+H164,1,F164,F164,SIMDrateratios,RateRatios!$B$3)*1000","v":709693.07004437014},108.67448125244118,{"$f":"new_yll(10,B164,C164,D164,$C$1,G164,1,F164,F164,SIMDrateratios,RateRatios!$B$3)*10","v":16749.73716519001},{"$f":"new_yll(10,B164,C164,D164,$C$1,G164+H164,1,F164,F164,SIMDrateratios,RateRatios!$B$3)*10","v":16747.259333739439},2.4778314505711023,{"$f":"new_yll(20,B164,C164,D164,$C$1,G164,1,F164,F164,SIMDrateratios,RateRatios!$B$3)*10","v":37091.738880235585},{"$f":"new_yll(20,B164,C164,D164,$C$1,G164+H164,1,F164,F164,SIMDrateratios,RateRatios!$B$3)*10","v":37086.771673431234},4.967206804351008,{"$f":"hosp_count(2,B164,C164,D164,$C$1,G164,1,F164,F164,SIMDRateRatios_hosp,SIMDrateratios,RateRatios!$B$3)*10","v":1176.7657875961918},{"$f":"hosp_count(2,B164,C164,D164,$C$1,G164+H164,1,F164,F164,SIMDRateRatios_hosp,SIMDrateratios,RateRatios!$B$3)*10","v":1176.6226257311855},0.14316186500627737,{"$f":"hosp_count(5,B164,C164,D164,$C$1,G164,1,F164,F164,SIMDRateRatios_hosp,SIMDrateratios,RateRatios!$B$3)*1000","v":489639.478374823},{"$f":"hosp_count(5,B164,C164,D164,$C$1,G164+H164,1,F164,F164,SIMDRateRatios_hosp,SIMDrateratios,RateRatios!$B$3)*1000","v":489581.14572639216},58.332648430834524,{"$f":"hosp_count(10,B164,C164,D164,$C$1,G164,1,F164,F164,SIMDRateRatios_hosp,SIMDrateratios,RateRatios!$B$3)*10","v":11721.177918381942},{"$f":"hosp_count(10,B164,C164,D164,$C$1,G164+H164,1,F164,F164,SIMDRateRatios_hosp,SIMDrateratios,RateRatios!$B$3)*10","v":11719.841175401041},1.3367429809004534,{"$f":"hosp_count(20,B164,C164,D164,$C$1,G164,1,F164,F164,SIMDRateRatios_hosp,SIMDrateratios,RateRatios!$B$3)*10","v":27403.355004409219},{"$f":"hosp_count(20,B164,C164,D164,$C$1,G164+H164,1,F164,F164,SIMDRateRatios_hosp,SIMDrateratios,RateRatios!$B$3)*10","v":27400.624597352838},2.7304070563804999]
["Male 60-64",62.5,"male",3,1,{"$f":"HLOOKUP('III Tool Overview'!$H$6,LookUpData_Pop!$B$1:$AV$269,LookUpData_Pop!BB162,FALSE)/50","v":376.78},{"$f":"'III Tool Overview'!$H$9/110","v":0},376.78,{"$f":"new_ci(2,B165,C165,D165,$C$1,G165,1,F165,E165*F165,SIMDrateratios,RateRatios!$B$3)*10","v":50.538652801677316},{"$f":"new_ci(2,B165,C165,D165,$C$1,G165+H165,1,H165,H165,SIMDrateratios,RateRatios!$B$3)*10","v":50.530794057630558},{"$f":"new_ci(5,B165,C165,D165,$C$1,G165,1,F165,F165,SIMDrateratios,RateRatios!$B$3)*1000","v":21618.336491689573},{"$f":"new_ci(5,B165,C165,D165,$C$1,H165,1,F165,F165,SIMDrateratios,RateRatios!$B$3)*1000","v":21615.051041255643},{"$f":"new_ci(10,B165,C165,D165,$C$1,G165,1,F165,F165,SIMDrateratios,RateRatios!$B$3)*10","v":541.89138495636905},{"$f":"new_ci(10,B165,C165,D165,$C$1,G165+H165,1,F165,F165,SIMDrateratios,RateRatios!$B$3)*10","v":541.81296472546728},{"$f":"new_ci(20,B165,C165,D165,$C$1,G165,1,F165,F165,SIMDrateratios,RateRatios!$B$3)*10","v":1381.1350244655614},{"$f":"new_ci(20,B165,C165,D165,$C$1,G165+H165,1,F165,F165,SIMDrateratios,RateRatios!$B$3)*10","v":1380.9644153822503},{"$f":"new_yll(2,B165,C165,D165,$C$1,G165,1,F165,F165,SIMDrateratios,RateRatios!$B$3)*10","v":1869.9301536620605},{"$f":"new_yll(2,B165,C165,D165,$C$1,G165+H165,1,F165,F165,SIMDrateratios,RateRatios!$B$3)*10","v":1869.6393801323304},0.29077352973013149,{"$f":"new_yll(5,B165,C165,D165,$C$1,G165,1,F165,F165,SIMDrateratios,RateRatios!$B$3)*1000","v":766272.4267899039},{"$f":"new_yll(5,B165,C165,D165,$C$1,G165+H165,1,F165,F165,SIMDrateratios,RateRatios!$B$3)*1000","v":766155.91003090434},116.51675899955444,{"$f":"new_yll(10,B165,C165,D165,$C$1,G165,1,F165,F165,SIMDrateratios,RateRatios!$B$3)*10","v":17734.175370162604},{"$f":"new_yll(10,B165,C165,D165,$C$1,G165+H165,1,F165,F165,SIMDrateratios,RateRatios!$B$3)*10","v":17731.599275482033},2.5760946805712592,{"$f":"new_yll(20,B165,C165,D165,$C$1,G165,1,F165,F165,SIMDrateratios,RateRatios!$B$3)*10","v":37260.797412641856},{"$f":"new_yll(20,B165,C165,D165,$C$1,G165+H165,1,F165,F165,SIMDrateratios,RateRatios!$B$3)*10","v":37256.044037212348},4.7533754295072868,{"$f":"hosp_count(2,B165,C165,D165,$C$1,G165,1,F165,F165,SIMDRateRatios_hosp,SIMDrateratios,RateRatios!$B$3)*10","v":1225.6343707416872},{"$f":"hosp_count(2,B165,C165,D165,$C$1,G165+H165,1,F165,F165,SIMDRateRatios_hosp,SIMDrateratios,RateRatios!$B$3)*10","v":1225.4851981240654},0.14917261762184353,{"$f":"hosp_count(5,B165,C165,D165,$C$1,G165,1,F165,F165,SIMDRateRatios_hosp,SIMDrateratios,RateRatios!$B$3)*1000","v":507222.39842983044},{"$f":"hosp_count(5,B165,C165,D165,$C$1,G165+H165,1,F165,F165,SIMDRateRatios_hosp,SIMDrateratios,RateRatios!$B$3)*1000","v":507162.36944227002},60.028987560421228,{"$f":"hosp_count(10,B165,C165,D165,$C$1,G165,1,F165,F165,SIMDRateRatios_hosp,SIMDrateratios,RateRatios!$B$3)*10","v":12010.773905650927},{"$f":"hosp_count(10,B165,C165,D165,$C$1,G165+H165,1,F165,F165,SIMDRateRatios_hosp,SIMDrateratios,RateRatios!$B$3)*10","v":12009.433374344428},1.3405313064995426,{"$f":"hosp_count(20,B165,C165,D165,$C$1,G165,1,F165,F165,SIMDRateRatios_hosp,SIMDrateratios,RateRatios!$B$3)*10","v":27237.452567975557},{"$f":"hosp_count(20,B165,C165,D165,$C$1,G165+H165,1,F165,F165,SIMDRateRatios_hosp,SIMDrateratios,RateRatios!$B$3)*10","v":27234.921828580667},2.5307393948896788]
["Male 65-69",67.5,"male",3,1,{"$f":"HLOOKUP('III Tool Overview'!$H$6,LookUpData_Pop!$B$1:$AV$269,LookUpData_Pop!BB163,FALSE)/50","v":271.60000000000002},{"$f":"'III Tool Overview'!$H$9/110","v":0},271.60000000000002,{"$f":"new_ci(2,B166,C166,D166,$C$1,G166,1,F166,E166*F166,SIMDrateratios,RateRatios!$B$3)*10","v":56.044619126124232},{"$f":"new_ci(2,B166,C166,D166,$C$1,G166+H166,1,H166,H166,SIMDrateratios,RateRatios!$B$3)*10","v":56.03592853367374},{"$f":"new_ci(5,B166,C166,D166,$C$1,G166,1,F166,F166,SIMDrateratios,RateRatios!$B$3)*1000","v":23682.644678347187},{"$f":"new_ci(5,B166,C166,D166,$C$1,H166,1,F166,F166,SIMDrateratios,RateRatios!$B$3)*1000","v":23679.100450815775},{"$f":"new_ci(10,B166,C166,D166,$C$1,G166,1,F166,F166,SIMDrateratios,RateRatios!$B$3)*10","v":578.99229483123133},{"$f":"new_ci(10,B166,C166,D166,$C$1,G166+H166,1,F166,F166,SIMDrateratios,RateRatios!$B$3)*10","v":578.91201069323847},{"$f":"new_ci(20,B166,C166,D166,$C$1,G166,1,F166,F166,SIMDrateratios,RateRatios!$B$3)*10","v":1374.0021276916327},{"$f":"new_ci(20,B166,C166,D166,$C$1,G166+H166,1,F166,F166,SIMDrateratios,RateRatios!$B$3)*10","v":1373.8538705267317},{"$f":"new_yll(2,B166,C166,D166,$C$1,G166,1,F166,F166,SIMDrateratios,RateRatios!$B$3)*10","v":1737.3831929098512},{"$f":"new_yll(2,B166,C166,D166,$C$1,G166+H166,1,F166,F166,SIMDrateratios,RateRatios!$B$3)*10","v":1737.1137845438857},0.26940836596554618,{"$f":"new_yll(5,B166,C166,D166,$C$1,G166,1,F166,F166,SIMDrateratios,RateRatios!$B$3)*1000","v":697584.46719508816},{"$f":"new_yll(5,B166,C166,D166,$C$1,G166+H166,1,F166,F166,SIMDrateratios,RateRatios!$B$3)*1000","v":697479.96454420872},104.5026508794399,{"$f":"new_yll(10,B166,C166,D166,$C$1,G166,1,F166,F166,SIMDrateratios,RateRatios!$B$3)*10","v":15510.3489999224},{"$f":"new_yll(10,B166,C166,D166,$C$1,G166+H166,1,F166,F166,SIMDrateratios,RateRatios!$B$3)*10","v":15508.182324501307},2.1666754210928048,{"$f":"new_yll(20,B166,C166,D166,$C$1,G166,1,F166,F166,SIMDrateratios,RateRatios!$B$3)*10","v":29344.031664610913},{"$f":"new_yll(20,B166,C166,D166,$C$1,G166+H166,1,F166,F166,SIMDrateratios,RateRatios!$B$3)*10","v":29340.635024389867},3.3966402210462547,{"$f":"hosp_count(2,B166,C166,D166,$C$1,G166,1,F166,F166,SIMDRateRatios_hosp,SIMDrateratios,RateRatios!$B$3)*10","v":1089.2397222123043},{"$f":"hosp_count(2,B166,C166,D166,$C$1,G166+H166,1,F166,F166,SIMDRateRatios_hosp,SIMDrateratios,RateRatios!$B$3)*10","v":1089.1070324916209},0.1326897206834019,{"$f":"hosp_count(5,B166,C166,D166,$C$1,G166,1,F166,F166,SIMDRateRatios_hosp,SIMDrateratios,RateRatios!$B$3)*1000","v":445556.47409801488},{"$f":"hosp_count(5,B166,C166,D166,$C$1,G166+H166,1,F166,F166,SIMDRateRatios_hosp,SIMDrateratios,RateRatios!$B$3)*1000","v":445504.49696838646},51.977129628416151,{"$f":"hosp_count(10,B166,C166,D166,$C$1,G166,1,F166,F166,SIMDRateRatios_hosp,SIMDrateratios,RateRatios!$B$3)*10","v":10308.81555662648},{"$f":"hosp_count(10,B166,C166,D166,$C$1,G166+H166,1,F166,F166,SIMDRateRatios_hosp,SIMDrateratios,RateRatios!$B$3)*10","v":10307.71812759155},1.0974290349295188,{"$f":"hosp_count(20,B166,C166,D166,$C$1,G166,1,F166,F166,SIMDRateRatios_hosp,SIMDrateratios,RateRatios!$B$3)*10","v":21952.533967116629},{"$f":"hosp_count(20,B166,C166,D166,$C$1,G166+H166,1,F166,F166,SIMDRateRatios_hosp,SIMDrateratios,RateRatios!$B$3)*10","v":21950.791000497105},1.7429666195239406]
["Male 70-74",72.5,"male",3,1,{"$f":"HLOOKUP('III Tool Overview'!$H$6,LookUpData_Pop!$B$1:$AV$269,LookUpData_Pop!BB164,FALSE)/50","v":228.84},{"$f":"'III Tool Overview'!$H$9/110","v":0},228.84,{"$f":"new_ci(2,B167,C167,D167,$C$1,G167,1,F167,E167*F167,SIMDrateratios,RateRatios!$B$3)*10","v":62.862864164756601},{"$f":"new_ci(2,B167,C167,D167,$C$1,G167+H167,1,H167,H167,SIMDrateratios,RateRatios!$B$3)*10","v":62.853158008992466},{"$f":"new_ci(5,B167,C167,D167,$C$1,G167,1,F167,F167,SIMDrateratios,RateRatios!$B$3)*1000","v":26258.425860663243},{"$f":"new_ci(5,B167,C167,D167,$C$1,H167,1,F167,F167,SIMDrateratios,RateRatios!$B$3)*1000","v":26254.559941327556},{"$f":"new_ci(10,B167,C167,D167,$C$1,G167,1,F167,F167,SIMDrateratios,RateRatios!$B$3)*10","v":627.15568783988931},{"$f":"new_ci(10,B167,C167,D167,$C$1,G167+H167,1,F167,F167,SIMDrateratios,RateRatios!$B$3)*10","v":627.07237785710288},{"$f":"new_ci(20,B167,C167,D167,$C$1,G167,1,F167,F167,SIMDrateratios,RateRatios!$B$3)*10","v":1396.101887326216},{"$f":"new_ci(20,B167,C167,D167,$C$1,G167+H167,1,F167,F167,SIMDrateratios,RateRatios!$B$3)*10","v":1395.9702984964333},{"$f":"new_yll(2,B167,C167,D167,$C$1,G167,1,F167,F167,SIMDrateratios,RateRatios!$B$3)*10","v":1697.2973324484281},{"$f":"new_yll(2,B167,C167,D167,$C$1,G167+H167,1,F167,F167,SIMDrateratios,RateRatios!$B$3)*10","v":1697.0352662427965},0.26206620563152683,{"$f":"new_yll(5,B167,C167,D167,$C$1,G167,1,F167,F167,SIMDrateratios,RateRatios!$B$3)*1000","v":668672.76842738444},{"$f":"new_yll(5,B167,C167,D167,$C$1,G167+H167,1,F167,F167,SIMDrateratios,RateRatios!$B$3)*1000","v":668574.1662017199},98.6022256645374,{"$f":"new_yll(10,B167,C167,D167,$C$1,G167,1,F167,F167,SIMDrateratios,RateRatios!$B$3)*10","v":14329.054808520023},{"$f":"new_yll(10,B167,C167,D167,$C$1,G167+H167,1,F167,F167,SIMDrateratios,RateRatios!$B$3)*10","v":14327.128277763584},1.9265307564382965,{"$f":"new_yll(20,B167,C167,D167,$C$1,G167,1,F167,F167,SIMDrateratios,RateRatios!$B$3)*10","v":24731.041600346201},{"$f":"new_yll(20,B167,C167,D167,$C$1,G167+H167,1,F167,F167,SIMDrateratios,RateRatios!$B$3)*10","v":24728.401365635167},2.6402347110342816,{"$f":"hosp_count(2,B167,C167,D167,$C$1,G167,1,F167,F167,SIMDRateRatios_hosp,SIMDrateratios,RateRatios!$B$3)*10","v":1055.2111895127573},{"$f":"hosp_count(2,B167,C167,D167,$C$1,G167+H167,1,F167,F167,SIMDRateRatios_hosp,SIMDrateratios,RateRatios!$B$3)*10","v":1055.0827443948288},0.12844511792854973,{"$f":"hosp_count(5,B167,C167,D167,$C$1,G167,1,F167,F167,SIMDRateRatios_hosp,SIMDrateratios,RateRatios!$B$3)*1000","v":426901.23303673085},{"$f":"hosp_count(5,B167,C167,D167,$C$1,G167+H167,1,F167,F167,SIMDRateRatios_hosp,SIMDrateratios,RateRatios!$B$3)*1000","v":426852.19190420618},49.041132524667773,{"$f":"hosp_count(10,B167,C167,D167,$C$1,G167,1,F167,F167,SIMDRateRatios_hosp,SIMDrateratios,RateRatios!$B$3)*10","v":9665.5991000099057},{"$f":"hosp_count(10,B167,C167,D167,$C$1,G167+H167,1,F167,F167,SIMDRateRatios_hosp,SIMDrateratios,RateRatios!$B$3)*10","v":9664.617774871931},0.98132513797463616,{"$f":"hosp_count(20,B167,C167,D167,$C$1,G167,1,F167,F167,SIMDRateRatios_hosp,SIMDrateratios,RateRatios!$B$3)*10","v":19458.467602178098},{"$f":"hosp_count(20,B167,C167,D167,$C$1,G167+H167,1,F167,F167,SIMDRateRatios_hosp,SIMDrateratios,RateRatios!$B$3)*10","v":19457.150635739075},1.316966439022508]
["Male 75-79",77.5,"male",3,1,{"$f":"HLOOKUP('III Tool Overview'!$H$6,LookUpData_Pop!$B$1:$AV$269,LookUpData_Pop!BB165,FALSE)/50","v":180.78},{"$f":"'III Tool Overview'!$H$9/110","v":0},180.78,{"$f":"new_ci(2,B168,C168,D168,$C$1,G168,1,F168,E168*F168,SIMDrateratios,RateRatios!$B$3)*10","v":76.102772710690914},{"$f":"new_ci(2,B168,C168,D168,$C$1,G168+H168,1,H168,H168,SIMDrateratios,RateRatios!$B$3)*10","v":76.091105456996743},{"$f":"new_ci(5,B168,C168,D168,$C$1,G168,1,F168,F168,SIMDrateratios,RateRatios!$B$3)*1000","v":31011.267079567115},{"$f":"new_ci(5,B168,C168,D168,$C$1,H168,1,F168,F168,SIMDrateratios,RateRatios!$B$3)*1000","v":31006.851781687761},{"$f":"new_ci(10,B168,C168,D168,$C$1,G168,1,F168,F168,SIMDrateratios,RateRatios!$B$3)*10","v":705.30516528190924},{"$f":"new_ci(10,B168,C168,D168,$C$1,G168+H168,1,F168,F168,SIMDrateratios,RateRatios!$B$3)*10","v":705.21975114139127},{"$f":"new_ci(20,B168,C168,D168,$C$1,G168,1,F168,F168,SIMDrateratios,RateRatios!$B$3)*10","v":1385.5172924070107},{"$f":"new_ci(20,B168,C168,D168,$C$1,G168+H168,1,F168,F168,SIMDrateratios,RateRatios!$B$3)*10","v":1385.4210838921629},{"$f":"new_yll(2,B168,C168,D168,$C$1,G168,1,F168,F168,SIMDrateratios,RateRatios!$B$3)*10","v":1598.1582269245089},{"$f":"new_yll(2,B168,C168,D168,$C$1,G168+H168,1,F168,F168,SIMDrateratios,RateRatios!$B$3)*10","v":1597.9132145969315},0.24501232757734215,{"$f":"new_yll(5,B168,C168,D168,$C$1,G168,1,F168,F168,SIMDrateratios,RateRatios!$B$3)*1000","v":604278.02454731159},{"$f":"new_yll(5,B168,C168,D168,$C$1,G168+H168,1,F168,F168,SIMDrateratios,RateRatios!$B$3)*1000","v":604191.70406468457},86.320482627023011,{"$f":"new_yll(10,B168,C168,D168,$C$1,G168,1,F168,F168,SIMDrateratios,RateRatios!$B$3)*10","v":11972.848813900164},{"$f":"new_yll(10,B168,C168,D168,$C$1,G168+H168,1,F168,F168,SIMDrateratios,RateRatios!$B$3)*10","v":11971.35891199616},1.4899019040040002,{"$f":"new_yll(20,B168,C168,D168,$C$1,G168,1,F168,F168,SIMDrateratios,RateRatios!$B$3)*10","v":17277.86896324483},{"$f":"new_yll(20,B168,C168,D168,$C$1,G168+H168,1,F168,F168,SIMDrateratios,RateRatios!$B$3)*10","v":17276.213647615223},1.6553156296067755,{"$f":"hosp_count(2,B168,C168,D168,$C$1,G168,1,F168,F168,SIMDRateRatios_hosp,SIMDrateratios,RateRatios!$B$3)*10","v":1027.7286090929945},{"$f":"hosp_count(2,B168,C168,D168,$C$1,G168+H168,1,F168,F168,SIMDRateRatios_hosp,SIMDrateratios,RateRatios!$B$3)*10","v":1027.6034445523669},0.12516454062756566,{"$f":"hosp_count(5,B168,C168,D168,$C$1,G168,1,F168,F168,SIMDRateRatios_hosp,SIMDrateratios,RateRatios!$B$3)*1000","v":406071.20037012396},{"$f":"hosp_count(5,B168,C168,D168,$C$1,G168+H168,1,F168,F168,SIMDRateRatios_hosp,SIMDrateratios,RateRatios!$B$3)*1000","v":406025.98320591403},45.217164209927432,{"$f":"hosp_count(10,B168,C168,D168,$C$1,G168,1,F168,F168,SIMDRateRatios_hosp,SIMDrateratios,RateRatios!$B$3)*10","v":8786.0136100027339},{"$f":"hosp_count(10,B168,C168,D168,$C$1,G168+H168,1,F168,F168,SIMDRateRatios_hosp,SIMDrateratios,RateRatios!$B$3)*10","v":8785.2086421880467},0.80496781468718837,{"$f":"hosp_count(20,B168,C168,D168,$C$1,G168,1,F168,F168,SIMDRateRatios_hosp,SIMDrateratios,RateRatios!$B$3)*10","v":15854.582915828769},{"$f":"hosp_count(20,B168,C168,D168,$C$1,G168+H168,1,F168,F168,SIMDRateRatios_hosp,SIMDrateratios,RateRatios!$B$3)*10","v":15853.84528626586},0.73762956290920556]
["Male 80-84",82.5,"male",3,1,{"$f":"HLOOKUP('III Tool Overview'!$H$6,LookUpData_Pop!$B$1:$AV$269,LookUpData_Pop!BB166,FALSE)/50","v":110.98},{"$f":"'III Tool Overview'!$H$9/110","v":0},110.98,{"$f":"new_ci(2,B169,C169,D169,$C$1,G169,1,F169,E169*F169,SIMDrateratios,RateRatios!$B$3)*10","v":61.966477679499334},{"$f":"new_ci(2,B169,C169,D169,$C$1,G169+H169,1,H169,H169,SIMDrateratios,RateRatios!$B$3)*10","v":61.957056348535929},{"$f":"new_ci(5,B169,C169,D169,$C$1,G169,1,F169,F169,SIMDrateratios,RateRatios!$B$3)*1000","v":24669.635250369356},{"$f":"new_ci(5,B169,C169,D169,$C$1,H169,1,F169,F169,SIMDrateratios,RateRatios!$B$3)*1000","v":24666.239570387967},{"$f":"new_ci(10,B169,C169,D169,$C$1,G169,1,F169,F169,SIMDrateratios,RateRatios!$B$3)*10","v":536.56964768681644},{"$f":"new_ci(10,B169,C169,D169,$C$1,G169+H169,1,F169,F169,SIMDrateratios,RateRatios!$B$3)*10","v":536.51038097466972},{"$f":"new_ci(20,B169,C169,D169,$C$1,G169,1,F169,F169,SIMDrateratios,RateRatios!$B$3)*10","v":950.73913931055063},{"$f":"new_ci(20,B169,C169,D169,$C$1,G169+H169,1,F169,F169,SIMDrateratios,RateRatios!$B$3)*10","v":950.69077634324594},{"$f":"new_yll(2,B169,C169,D169,$C$1,G169,1,F169,F169,SIMDrateratios,RateRatios!$B$3)*10","v":1053.4301205514887},{"$f":"new_yll(2,B169,C169,D169,$C$1,G169+H169,1,F169,F169,SIMDrateratios,RateRatios!$B$3)*10","v":1053.2699579251109},0.1601626263777689,{"$f":"new_yll(5,B169,C169,D169,$C$1,G169,1,F169,F169,SIMDrateratios,RateRatios!$B$3)*1000","v":382514.11036916065},{"$f":"new_yll(5,B169,C169,D169,$C$1,G169+H169,1,F169,F169,SIMDrateratios,RateRatios!$B$3)*1000","v":382461.15639668494},52.953972475719638,{"$f":"new_yll(10,B169,C169,D169,$C$1,G169,1,F169,F169,SIMDrateratios,RateRatios!$B$3)*10","v":7027.2117012922345},{"$f":"new_yll(10,B169,C169,D169,$C$1,G169+H169,1,F169,F169,SIMDrateratios,RateRatios!$B$3)*10","v":7026.3952034745125},0.81649781772193819,{"$f":"new_yll(20,B169,C169,D169,$C$1,G169,1,F169,F169,SIMDrateratios,RateRatios!$B$3)*10","v":8705.3042086225123},{"$f":"new_yll(20,B169,C169,D169,$C$1,G169+H169,1,F169,F169,SIMDrateratios,RateRatios!$B$3)*10","v":8704.467737589941},0.83647103257135313,{"$f":"hosp_count(2,B169,C169,D169,$C$1,G169,1,F169,F169,SIMDRateRatios_hosp,SIMDrateratios,RateRatios!$B$3)*10","v":725.41499446286696},{"$f":"hosp_count(2,B169,C169,D169,$C$1,G169+H169,1,F169,F169,SIMDRateRatios_hosp,SIMDrateratios,RateRatios!$B$3)*10","v":725.32673943481609},8.8255028050866713E-2,{"$f":"hosp_count(5,B169,C169,D169,$C$1,G169,1,F169,F169,SIMDRateRatios_hosp,SIMDrateratios,RateRatios!$B$3)*1000","v":280321.16455888672},{"$f":"hosp_count(5,B169,C169,D169,$C$1,G169+H169,1,F169,F169,SIMDRateRatios_hosp,SIMDrateratios,RateRatios!$B$3)*1000","v":280290.91268037714},30.251878509589005,{"$f":"hosp_count(10,B169,C169,D169,$C$1,G169,1,F169,F169,SIMDRateRatios_hosp,SIMDrateratios,RateRatios!$B$3)*10","v":5819.136981427775},{"$f":"hosp_count(10,B169,C169,D169,$C$1,G169+H169,1,F169,F169,SIMDRateRatios_hosp,SIMDrateratios,RateRatios!$B$3)*10","v":5818.6557303295522},0.48125109822285594,{"$f":"hosp_count(20,B169,C169,D169,$C$1,G169,1,F169,F169,SIMDRateRatios_hosp,SIMDrateratios,RateRatios!$B$3)*10","v":9598.2112476933598},{"$f":"hosp_count(20,B169,C169,D169,$C$1,G169+H169,1,F169,F169,SIMDRateRatios_hosp,SIMDrateratios,RateRatios!$B$3)*10","v":9597.9149097725531},0.29633792080676358]
["Male 85-89",87.5,"male",3,1,{"$f":"HLOOKUP('III Tool Overview'!$H$6,LookUpData_Pop!$B$1:$AV$269,LookUpData_Pop!BB167,FALSE)/50","v":56.96},{"$f":"'III Tool Overview'!$H$9/110","v":0},56.96,{"$f":"new_ci(2,B170,C170,D170,$C$1,G170,1,F170,E170*F170,SIMDrateratios,RateRatios!$B$3)*10","v":48.354429000465025},{"$f":"new_ci(2,B170,C170,D170,$C$1,G170+H170,1,H170,H170,SIMDrateratios,RateRatios!$B$3)*10","v":48.347188824308994},{"$f":"new_ci(5,B170,C170,D170,$C$1,G170,1,F170,F170,SIMDrateratios,RateRatios!$B$3)*1000","v":18324.303442217595},{"$f":"new_ci(5,B170,C170,D170,$C$1,H170,1,F170,F170,SIMDrateratios,RateRatios!$B$3)*1000","v":18321.955199864791},{"$f":"new_ci(10,B170,C170,D170,$C$1,G170,1,F170,F170,SIMDrateratios,RateRatios!$B$3)*10","v":364.21896497077461},{"$f":"new_ci(10,B170,C170,D170,$C$1,G170+H170,1,F170,F170,SIMDrateratios,RateRatios!$B$3)*10","v":364.18615997939861},{"$f":"new_ci(20,B170,C170,D170,$C$1,G170,1,F170,F170,SIMDrateratios,RateRatios!$B$3)*10","v":541.22796464119699},{"$f":"new_ci(20,B170,C170,D170,$C$1,G170+H170,1,F170,F170,SIMDrateratios,RateRatios!$B$3)*10","v":541.21463674091706},{"$f":"new_yll(2,B170,C170,D170,$C$1,G170,1,F170,F170,SIMDrateratios,RateRatios!$B$3)*10","v":531.89871900511525},{"$f":"new_yll(2,B170,C170,D170,$C$1,G170+H170,1,F170,F170,SIMDrateratios,RateRatios!$B$3)*10","v":531.81907706739889},7.9641937716360189E-2,{"$f":"new_yll(5,B170,C170,D170,$C$1,G170,1,F170,F170,SIMDrateratios,RateRatios!$B$3)*1000","v":174960.82835164218},{"$f":"new_yll(5,B170,C170,D170,$C$1,G170+H170,1,F170,F170,SIMDrateratios,RateRatios!$B$3)*1000","v":174938.0613966698},22.766954972379608,{"$f":"new_yll(10,B170,C170,D170,$C$1,G170,1,F170,F170,SIMDrateratios,RateRatios!$B$3)*10","v":2678.8321103305807},{"$f":"new_yll(10,B170,C170,D170,$C$1,G170+H170,1,F170,F170,SIMDrateratios,RateRatios!$B$3)*10","v":2678.5495276361244},0.28258269445632322,{"$f":"new_yll(20,B170,C170,D170,$C$1,G170,1,F170,F170,SIMDrateratios,RateRatios!$B$3)*10","v":2425.3390090411031},{"$f":"new_yll(20,B170,C170,D170,$C$1,G170+H170,1,F170,F170,SIMDrateratios,RateRatios!$B$3)*10","v":2424.9898805828147},0.34912845828830541,{"$f":"hosp_count(2,B170,C170,D170,$C$1,G170,1,F170,F170,SIMDRateRatios_hosp,SIMDrateratios,RateRatios!$B$3)*10","v":459.02084051370798},{"$f":"hosp_count(2,B170,C170,D170,$C$1,G170+H170,1,F170,F170,SIMDRateRatios_hosp,SIMDrateratios,RateRatios!$B$3)*10","v":458.96496623244565},5.5874281262333625E-2,{"$f":"hosp_count(5,B170,C170,D170,$C$1,G170,1,F170,F170,SIMDRateRatios_hosp,SIMDrateratios,RateRatios!$B$3)*1000","v":169218.47529327305},{"$f":"hosp_count(5,B170,C170,D170,$C$1,G170+H170,1,F170,F170,SIMDRateRatios_hosp,SIMDrateratios,RateRatios!$B$3)*1000","v":169201.36685453495},17.108438738097902,{"$f":"hosp_count(10,B170,C170,D170,$C$1,G170,1,F170,F170,SIMDRateRatios_hosp,SIMDrateratios,RateRatios!$B$3)*10","v":3231.2156521635866},{"$f":"hosp_count(10,B170,C170,D170,$C$1,G170+H170,1,F170,F170,SIMDRateRatios_hosp,SIMDrateratios,RateRatios!$B$3)*10","v":3231.0030738678151},0.21257829577143639,{"$f":"hosp_count(20,B170,C170,D170,$C$1,G170,1,F170,F170,SIMDRateRatios_hosp,SIMDrateratios,RateRatios!$B$3)*10","v":4574.7822416042563},{"$f":"hosp_count(20,B170,C170,D170,$C$1,G170+H170,1,F170,F170,SIMDRateRatios_hosp,SIMDrateratios,RateRatios!$B$3)*10","v":4574.7407787730099},4.1462831246462883E-2]
["Male 90+",95,"male",3,1,{"$f":"HLOOKUP('III Tool Overview'!$H$6,LookUpData_Pop!$B$1:$AV$269,LookUpData_Pop!BB168,FALSE)/50","v":21.5},{"$f":"'III Tool Overview'!$H$9/110","v":0},21.5,{"$f":"new_ci(2,B171,C171,D171,$C$1,G171,1,F171,E171*F171,SIMDrateratios,RateRatios!$B$3)*10","v":29.440371933870566},{"$f":"new_ci(2,B171,C171,D171,$C$1,G171+H171,1,H171,H171,SIMDrateratios,RateRatios!$B$3)*10","v":29.435996976036304},{"$f":"new_ci(5,B171,C171,D171,$C$1,G171,1,F171,F171,SIMDrateratios,RateRatios!$B$3)*1000","v":10212.510782417807},{"$f":"new_ci(5,B171,C171,D171,$C$1,H171,1,F171,F171,SIMDrateratios,RateRatios!$B$3)*1000","v":10211.346276079124},{"$f":"new_ci(10,B171,C171,D171,$C$1,G171,1,F171,F171,SIMDrateratios,RateRatios!$B$3)*10","v":175.45857882945444},{"$f":"new_ci(10,B171,C171,D171,$C$1,G171+H171,1,F171,F171,SIMDrateratios,RateRatios!$B$3)*10","v":175.44785780289283},{"$f":"new_ci(20,B171,C171,D171,$C$1,G171,1,F171,F171,SIMDrateratios,RateRatios!$B$3)*10","v":213.52082557880235},{"$f":"new_ci(20,B171,C171,D171,$C$1,G171+H171,1,F171,F171,SIMDrateratios,RateRatios!$B$3)*10","v":213.51964596585677},{"$f":"new_yll(2,B171,C171,D171,$C$1,G171,1,F171,F171,SIMDrateratios,RateRatios!$B$3)*10","v":117.76148773548226},{"$f":"new_yll(2,B171,C171,D171,$C$1,G171+H171,1,F171,F171,SIMDrateratios,RateRatios!$B$3)*10","v":117.74398790414521},1.7499831337048022E-2,{"$f":"new_yll(5,B171,C171,D171,$C$1,G171,1,F171,F171,SIMDrateratios,RateRatios!$B$3)*1000","v":26830.276414897795},{"$f":"new_yll(5,B171,C171,D171,$C$1,G171+H171,1,F171,F171,SIMDrateratios,RateRatios!$B$3)*1000","v":26826.893457577989},3.3829573198054277,{"$f":"new_yll(10,B171,C171,D171,$C$1,G171,1,F171,F171,SIMDrateratios,RateRatios!$B$3)*10","v":143.37046246414013},{"$f":"new_yll(10,B171,C171,D171,$C$1,G171+H171,1,F171,F171,SIMDrateratios,RateRatios!$B$3)*10","v":143.33035815779439},4.010430634573936E-2,{"$f":"new_yll(20,B171,C171,D171,$C$1,G171,1,F171,F171,SIMDrateratios,RateRatios!$B$3)*10","v":-146.44839952421853},{"$f":"new_yll(20,B171,C171,D171,$C$1,G171+H171,1,F171,F171,SIMDrateratios,RateRatios!$B$3)*10","v":-146.57206657019231},0.1236670459737752,{"$f":"hosp_count(2,B171,C171,D171,$C$1,G171,1,F171,F171,SIMDRateRatios_hosp,SIMDrateratios,RateRatios!$B$3)*10","v":221.19481091892627},{"$f":"hosp_count(2,B171,C171,D171,$C$1,G171+H171,1,F171,F171,SIMDRateRatios_hosp,SIMDrateratios,RateRatios!$B$3)*10","v":221.16727916836805},2.7531750558210888E-2,{"$f":"hosp_count(5,B171,C171,D171,$C$1,G171,1,F171,F171,SIMDRateRatios_hosp,SIMDrateratios,RateRatios!$B$3)*1000","v":74932.682724479251},{"$f":"hosp_count(5,B171,C171,D171,$C$1,G171+H171,1,F171,F171,SIMDRateRatios_hosp,SIMDrateratios,RateRatios!$B$3)*1000","v":74925.835273189674},6.8474512895772932,{"$f":"hosp_count(10,B171,C171,D171,$C$1,G171,1,F171,F171,SIMDRateRatios_hosp,SIMDrateratios,RateRatios!$B$3)*10","v":1249.8859134230493},{"$f":"hosp_count(10,B171,C171,D171,$C$1,G171+H171,1,F171,F171,SIMDRateRatios_hosp,SIMDrateratios,RateRatios!$B$3)*10","v":1249.8331119562529},5.2801466796381646E-2,{"$f":"hosp_count(20,B171,C171,D171,$C$1,G171,1,F171,F171,SIMDRateRatios_hosp,SIMDrateratios,RateRatios!$B$3)*10","v":1487.9449594056452},{"$f":"hosp_count(20,B171,C171,D171,$C$1,G171+H171,1,F171,F171,SIMDRateRatios_hosp,SIMDrateratios,RateRatios!$B$3)*10","v":1487.9541412547173},-9.1818490720925183E-3]
["TOTAL",null,null,null,null,{"$f":"SUM(F152:F171)","v":7399.579999999999},{"$f":"SUM(G152:G171)","v":0},7399.579999999999,546.30299985776367,546.21892079689781,225571.99807681545,225539.18907380608,5328.635495918209,{"$f":"SUM(N152:N171)","v":5327.9324979848125},{"$f":"SUM(O152:O171)","v":12231.401424359556},{"$f":"SUM(P152:P171)","v":12230.078890224815},17145.137125005956,17142.479711526154,2.657413479797885,6917962.8648612695,6916920.8590327566,1042.005828513541,157335.46070283299,157312.76007803949,22.700624793508354,334912.05001457542,334866.87883984327,45.171174732253405,13741.480664436023,13739.807905644881,1.6727587911474622,5645322.221869899,5644659.427889986,662.79397991174119,132502.27453536319,132487.64581581624,14.628719546965954,301881.48497402354,301852.05102277745,29.433951246153242]
["Female <1",0.5,"female",3,1,{"$f":"HLOOKUP('III Tool Overview'!$H$6,LookUpData_Pop!$B$1:$AV$269,LookUpData_Pop!BB169,FALSE)/50","v":83.46},0,{"$f":"F173","v":83.46},{"$f":"new_ci(2,B173,C173,D173,$C$1,G173,1,F173,E173*F173,SIMDrateratios,RateRatios!$B$3)*10","v":4.373375513580248E-2},{"$f":"new_ci(2,B173,C173,D173,$C$1,G173+H173,1,H173,H173,SIMDrateratios,RateRatios!$B$3)*10","v":4.3726950321282834E-2},{"$f":"new_ci(5,B173,C173,D173,$C$1,G173,1,F173,F173,SIMDrateratios,RateRatios!$B$3)*1000","v":19.42439231694307},{"$f":"new_ci(5,B173,C173,D173,$C$1,H173,1,F173,F173,SIMDrateratios,RateRatios!$B$3)*1000","v":19.42137022408733},{"$f":"new_ci(10,B173,C173,D173,$C$1,G173,1,F173,F173,SIMDrateratios,RateRatios!$B$3)*10","v":0.52434355742413685},{"$f":"new_ci(10,B173,C173,D173,$C$1,G173+H173,1,F173,F173,SIMDrateratios,RateRatios!$B$3)*10","v":0.52426199495127346},{"$f":"new_ci(20,B173,C173,D173,$C$1,G173,1,F173,F173,SIMDrateratios,RateRatios!$B$3)*10","v":1.6381848293226655},{"$f":"new_ci(20,B173,C173,D173,$C$1,G173+H173,1,F173,F173,SIMDrateratios,RateRatios!$B$3)*10","v":1.6379301772858736},{"$f":"new_yll(2,B173,C173,D173,$C$1,G173,1,F173,F173,SIMDrateratios,RateRatios!$B$3)*10","v":4.3296417584444455},{"$f":"new_yll(2,B173,C173,D173,$C$1,G173+H173,1,F173,F173,SIMDrateratios,RateRatios!$B$3)*10","v":4.3289680818070009},{"$f":"Q173-R173","v":6.7367663744466455E-4},{"$f":"new_yll(5,B173,C173,D173,$C$1,G173,1,F173,F173,SIMDrateratios,RateRatios!$B$3)*1000","v":1892.2322382729715},{"$f":"new_yll(5,B173,C173,D173,$C$1,G173+H173,1,F173,F173,SIMDrateratios,RateRatios!$B$3)*1000","v":1891.9378400909056},{"$f":"T173-U173","v":0.29439818206583368},{"$f":"new_yll(10,B173,C173,D173,$C$1,G173,1,F173,F173,SIMDrateratios,RateRatios!$B$3)*10","v":49.576877011839301},{"$f":"new_yll(10,B173,C173,D173,$C$1,G173+H173,1,F173,F173,SIMDrateratios,RateRatios!$B$3)*10","v":49.569165212418142},{"$f":"W173-X173","v":7.7117994211590712E-3},{"$f":"new_yll(20,B173,C173,D173,$C$1,G173,1,F173,F173,SIMDrateratios,RateRatios!$B$3)*10","v":144.19201034003581},{"$f":"new_yll(20,B173,C173,D173,$C$1,G173+H173,1,F173,F173,SIMDrateratios,RateRatios!$B$3)*10","v":144.16959527719257},{"$f":"Z173-AA173","v":2.241506284323691E-2},{"$f":"hosp_count(2,B173,C173,D173,$C$1,G173,1,F173,F173,SIMDRateRatios_hosp,SIMDrateratios,RateRatios!$B$3)*10","v":54.090231290418259},{"$f":"hosp_count(2,B173,C173,D173,$C$1,G173+H173,1,F173,F173,SIMDRateRatios_hosp,SIMDrateratios,RateRatios!$B$3)*10","v":54.083688044827014},{"$f":"AC173-AD173","v":6.5432455912457499E-3},{"$f":"hosp_count(5,B173,C173,D173,$C$1,G173,1,F173,F173,SIMDRateRatios_hosp,SIMDrateratios,RateRatios!$B$3)*1000","v":22514.063530829422},{"$f":"hosp_count(5,B173,C173,D173,$C$1,G173+H173,1,F173,F173,SIMDRateRatios_hosp,SIMDrateratios,RateRatios!$B$3)*1000","v":22511.340320157207},{"$f":"AF173-AG173","v":2.7232106722149183},{"$f":"hosp_count(10,B173,C173,D173,$C$1,G173,1,F173,F173,SIMDRateRatios_hosp,SIMDrateratios,RateRatios!$B$3)*10","v":541.89187648937389},{"$f":"hosp_count(10,B173,C173,D173,$C$1,G173+H173,1,F173,F173,SIMDRateRatios_hosp,SIMDrateratios,RateRatios!$B$3)*10","v":541.82634621514001},{"$f":"AI173-AJ173","v":6.5530274233879027E-2},{"$f":"hosp_count(20,B173,C173,D173,$C$1,G173,1,F173,F173,SIMDRateRatios_hosp,SIMDrateratios,RateRatios!$B$3)*10","v":1314.4993179148403},{"$f":"hosp_count(20,B173,C173,D173,$C$1,G173+H173,1,F173,F173,SIMDRateRatios_hosp,SIMDrateratios,RateRatios!$B$3)*10","v":1314.3404682495009},{"$f":"AL173-AM173","v":0.15884966533940315}]
["Female 1-4",2.5,"female",3,1,{"$f":"HLOOKUP('III Tool Overview'!$H$6,LookUpData_Pop!$B$1:$AV$269,LookUpData_Pop!BB170,FALSE)/50","v":295.44},0,{"$f":"F174","v":295.44},{"$f":"new_ci(2,B174,C174,D174,$C$1,G174,1,F174,E174*F174,SIMDrateratios,RateRatios!$B$3)*10","v":0.18237571391110821},{"$f":"new_ci(2,B174,C174,D174,$C$1,G174+H174,1,H174,H174,SIMDrateratios,RateRatios!$B$3)*10","v":0.18234722226690872},{"$f":"new_ci(5,B174,C174,D174,$C$1,G174,1,F174,F174,SIMDrateratios,RateRatios!$B$3)*1000","v":81.001060357705299},{"$f":"new_ci(5,B174,C174,D174,$C$1,H174,1,F174,F174,SIMDrateratios,RateRatios!$B$3)*1000","v":80.988407311945821},{"$f":"new_ci(10,B174,C174,D174,$C$1,G174,1,F174,F174,SIMDrateratios,RateRatios!$B$3)*10","v":2.1864719175893015},{"$f":"new_ci(10,B174,C174,D174,$C$1,G174+H174,1,F174,F174,SIMDrateratios,RateRatios!$B$3)*10","v":2.1861304519054343},{"$f":"new_ci(20,B174,C174,D174,$C$1,G174,1,F174,F174,SIMDrateratios,RateRatios!$B$3)*10","v":6.8302913247581625},{"$f":"new_ci(20,B174,C174,D174,$C$1,G174+H174,1,F174,F174,SIMDrateratios,RateRatios!$B$3)*10","v":6.829225463897429},{"$f":"new_yll(2,B174,C174,D174,$C$1,G174,1,F174,F174,SIMDrateratios,RateRatios!$B$3)*10","v":17.690444249377496},{"$f":"new_yll(2,B174,C174,D174,$C$1,G174+H174,1,F174,F174,SIMDrateratios,RateRatios!$B$3)*10","v":17.687680559890147},{"$f":"Q174-R174","v":2.7636894873488416E-3},{"$f":"new_yll(5,B174,C174,D174,$C$1,G174,1,F174,F174,SIMDrateratios,RateRatios!$B$3)*1000","v":7728.7383234654535},{"$f":"new_yll(5,B174,C174,D174,$C$1,G174+H174,1,F174,F174,SIMDrateratios,RateRatios!$B$3)*1000","v":7727.5310285634332},{"$f":"T174-U174","v":1.2072949020202941},{"$f":"new_yll(10,B174,C174,D174,$C$1,G174,1,F174,F174,SIMDrateratios,RateRatios!$B$3)*10","v":202.35896240823021},{"$f":"new_yll(10,B174,C174,D174,$C$1,G174+H174,1,F174,F174,SIMDrateratios,RateRatios!$B$3)*10","v":202.32735942023373},{"$f":"W174-X174","v":3.160298799647876E-2},{"$f":"new_yll(20,B174,C174,D174,$C$1,G174,1,F174,F174,SIMDrateratios,RateRatios!$B$3)*10","v":587.54098714057591},{"$f":"new_yll(20,B174,C174,D174,$C$1,G174+H174,1,F174,F174,SIMDrateratios,RateRatios!$B$3)*10","v":587.44929820112475},{"$f":"Z174-AA174","v":9.1688939451159968E-2},{"$f":"hosp_count(2,B174,C174,D174,$C$1,G174,1,F174,F174,SIMDRateRatios_hosp,SIMDrateratios,RateRatios!$B$3)*10","v":201.14852434516521},{"$f":"hosp_count(2,B174,C174,D174,$C$1,G174+H174,1,F174,F174,SIMDRateRatios_hosp,SIMDrateratios,RateRatios!$B$3)*10","v":201.12409317644489},{"$f":"AC174-AD174","v":2.4431168720326468E-2},{"$f":"hosp_count(5,B174,C174,D174,$C$1,G174,1,F174,F174,SIMDRateRatios_hosp,SIMDrateratios,RateRatios!$B$3)*1000","v":83723.117161047994},{"$f":"hosp_count(5,B174,C174,D174,$C$1,G174+H174,1,F174,F174,SIMDRateRatios_hosp,SIMDrateratios,RateRatios!$B$3)*1000","v":83712.949586188421},{"$f":"AF174-AG174","v":10.167574859573506},{"$f":"hosp_count(10,B174,C174,D174,$C$1,G174,1,F174,F174,SIMDRateRatios_hosp,SIMDrateratios,RateRatios!$B$3)*10","v":2015.0720459736656},{"$f":"hosp_count(10,B174,C174,D174,$C$1,G174+H174,1,F174,F174,SIMDRateRatios_hosp,SIMDrateratios,RateRatios!$B$3)*10","v":2014.8273949101847},{"$f":"AI174-AJ174","v":0.24465106348088739},{"$f":"hosp_count(20,B174,C174,D174,$C$1,G174,1,F174,F174,SIMDRateRatios_hosp,SIMDrateratios,RateRatios!$B$3)*10","v":4887.6076036270551},{"$f":"hosp_count(20,B174,C174,D174,$C$1,G174+H174,1,F174,F174,SIMDRateRatios_hosp,SIMDrateratios,RateRatios!$B$3)*10","v":4887.0146845494437},{"$f":"AL174-AM174","v":0.59291907761144103}]
["Female 5-9",7.5,"female",3,1,{"$f":"HLOOKUP('III Tool Overview'!$H$6,LookUpData_Pop!$B$1:$AV$269,LookUpData_Pop!BB171,FALSE)/50","v":346.94},0,346.94,{"$f":"new_ci(2,B175,C175,D175,$C$1,G175,1,F175,E175*F175,SIMDrateratios,RateRatios!$B$3)*10","v":0.3501286239573787},{"$f":"new_ci(2,B175,C175,D175,$C$1,G175+H175,1,H175,H175,SIMDrateratios,RateRatios!$B$3)*10","v":0.35007383513152696},{"$f":"new_ci(5,B175,C175,D175,$C$1,G175,1,F175,F175,SIMDrateratios,RateRatios!$B$3)*1000","v":155.49700410934821},{"$f":"new_ci(5,B175,C175,D175,$C$1,H175,1,F175,F175,SIMDrateratios,RateRatios!$B$3)*1000","v":155.47267585312022},{"$f":"new_ci(10,B175,C175,D175,$C$1,G175,1,F175,F175,SIMDrateratios,RateRatios!$B$3)*10","v":4.1967295006524994},{"$f":"new_ci(10,B175,C175,D175,$C$1,G175+H175,1,F175,F175,SIMDrateratios,RateRatios!$B$3)*10","v":4.1960731522193653},{"$f":"new_ci(20,B175,C175,D175,$C$1,G175,1,F175,F175,SIMDrateratios,RateRatios!$B$3)*10","v":13.103563622862712},{"$f":"new_ci(20,B175,C175,D175,$C$1,G175+H175,1,F175,F175,SIMDrateratios,RateRatios!$B$3)*10","v":13.101516924294485},{"$f":"new_yll(2,B175,C175,D175,$C$1,G175,1,F175,F175,SIMDrateratios,RateRatios!$B$3)*10","v":31.861704780121464},{"$f":"new_yll(2,B175,C175,D175,$C$1,G175+H175,1,F175,F175,SIMDrateratios,RateRatios!$B$3)*10","v":31.856718996968954},4.9857831525095264E-3,{"$f":"new_yll(5,B175,C175,D175,$C$1,G175,1,F175,F175,SIMDrateratios,RateRatios!$B$3)*1000","v":13903.815576637386},{"$f":"new_yll(5,B175,C175,D175,$C$1,G175+H175,1,F175,F175,SIMDrateratios,RateRatios!$B$3)*1000","v":13901.640254236521},2.1753224008643883,{"$f":"new_yll(10,B175,C175,D175,$C$1,G175,1,F175,F175,SIMDrateratios,RateRatios!$B$3)*10","v":363.23027409949145},{"$f":"new_yll(10,B175,C175,D175,$C$1,G175+H175,1,F175,F175,SIMDrateratios,RateRatios!$B$3)*10","v":363.17346603970805},5.6808059783406861E-2,{"$f":"new_yll(20,B175,C175,D175,$C$1,G175,1,F175,F175,SIMDrateratios,RateRatios!$B$3)*10","v":1048.5746681734079},{"$f":"new_yll(20,B175,C175,D175,$C$1,G175+H175,1,F175,F175,SIMDrateratios,RateRatios!$B$3)*10","v":1048.4108754542031},0.16379271920482097,{"$f":"hosp_count(2,B175,C175,D175,$C$1,G175,1,F175,F175,SIMDRateRatios_hosp,SIMDrateratios,RateRatios!$B$3)*10","v":273.85660802966402},{"$f":"hosp_count(2,B175,C175,D175,$C$1,G175+H175,1,F175,F175,SIMDRateRatios_hosp,SIMDrateratios,RateRatios!$B$3)*10","v":273.82329048442568},3.3317545238332968E-2,{"$f":"hosp_count(5,B175,C175,D175,$C$1,G175,1,F175,F175,SIMDRateRatios_hosp,SIMDrateratios,RateRatios!$B$3)*1000","v":113978.88834598074},{"$f":"hosp_count(5,B175,C175,D175,$C$1,G175+H175,1,F175,F175,SIMDRateRatios_hosp,SIMDrateratios,RateRatios!$B$3)*1000","v":113965.02450363942},13.863842341321288,{"$f":"hosp_count(10,B175,C175,D175,$C$1,G175,1,F175,F175,SIMDRateRatios_hosp,SIMDrateratios,RateRatios!$B$3)*10","v":2742.9167671502178},{"$f":"hosp_count(10,B175,C175,D175,$C$1,G175+H175,1,F175,F175,SIMDRateRatios_hosp,SIMDrateratios,RateRatios!$B$3)*10","v":2742.5832769689537},0.33349018126409646,{"$f":"hosp_count(20,B175,C175,D175,$C$1,G175,1,F175,F175,SIMDRateRatios_hosp,SIMDrateratios,RateRatios!$B$3)*10","v":6650.3134452905178},{"$f":"hosp_count(20,B175,C175,D175,$C$1,G175+H175,1,F175,F175,SIMDRateRatios_hosp,SIMDrateratios,RateRatios!$B$3)*10","v":6649.5059721373809},0.80747315313692525]
["Female 10-14",12.5,"female",3,1,{"$f":"HLOOKUP('III Tool Overview'!$H$6,LookUpData_Pop!$B$1:$AV$269,LookUpData_Pop!BB172,FALSE)/50","v":369.4},0,369.4,{"$f":"new_ci(2,B176,C176,D176,$C$1,G176,1,F176,E176*F176,SIMDrateratios,RateRatios!$B$3)*10","v":0.51734985392831767},{"$f":"new_ci(2,B176,C176,D176,$C$1,G176+H176,1,H176,H176,SIMDrateratios,RateRatios!$B$3)*10","v":0.51726900121740127},{"$f":"new_ci(5,B176,C176,D176,$C$1,G176,1,F176,F176,SIMDrateratios,RateRatios!$B$3)*1000","v":229.74681108995497},{"$f":"new_ci(5,B176,C176,D176,$C$1,H176,1,F176,F176,SIMDrateratios,RateRatios!$B$3)*1000","v":229.71091434457179},{"$f":"new_ci(10,B176,C176,D176,$C$1,G176,1,F176,F176,SIMDrateratios,RateRatios!$B$3)*10","v":6.199751649203245},{"$f":"new_ci(10,B176,C176,D176,$C$1,G176+H176,1,F176,F176,SIMDrateratios,RateRatios!$B$3)*10","v":6.1987834823448402},{"$f":"new_ci(20,B176,C176,D176,$C$1,G176,1,F176,F176,SIMDrateratios,RateRatios!$B$3)*10","v":19.348006800573412},{"$f":"new_ci(20,B176,C176,D176,$C$1,G176+H176,1,F176,F176,SIMDrateratios,RateRatios!$B$3)*10","v":19.34499076654394},{"$f":"new_yll(2,B176,C176,D176,$C$1,G176,1,F176,F176,SIMDrateratios,RateRatios!$B$3)*10","v":45.009437291763632},{"$f":"new_yll(2,B176,C176,D176,$C$1,G176+H176,1,F176,F176,SIMDrateratios,RateRatios!$B$3)*10","v":45.002403105913906},7.0341858497258158E-3,{"$f":"new_yll(5,B176,C176,D176,$C$1,G176,1,F176,F176,SIMDrateratios,RateRatios!$B$3)*1000","v":19623.911598035458},{"$f":"new_yll(5,B176,C176,D176,$C$1,G176+H176,1,F176,F176,SIMDrateratios,RateRatios!$B$3)*1000","v":19620.845456862131},3.0661411733271962,{"$f":"new_yll(10,B176,C176,D176,$C$1,G176,1,F176,F176,SIMDrateratios,RateRatios!$B$3)*10","v":511.79655451574121},{"$f":"new_yll(10,B176,C176,D176,$C$1,G176+H176,1,F176,F176,SIMDrateratios,RateRatios!$B$3)*10","v":511.71663004967678},7.9924466064426269E-2,{"$f":"new_yll(20,B176,C176,D176,$C$1,G176,1,F176,F176,SIMDrateratios,RateRatios!$B$3)*10","v":1470.9185560709052},{"$f":"new_yll(20,B176,C176,D176,$C$1,G176+H176,1,F176,F176,SIMDrateratios,RateRatios!$B$3)*10","v":1470.6892404649886},0.22931560591655398,{"$f":"hosp_count(2,B176,C176,D176,$C$1,G176,1,F176,F176,SIMDRateRatios_hosp,SIMDrateratios,RateRatios!$B$3)*10","v":321.79547871107229},{"$f":"hosp_count(2,B176,C176,D176,$C$1,G176+H176,1,F176,F176,SIMDRateRatios_hosp,SIMDrateratios,RateRatios!$B$3)*10","v":321.75637805147505},3.9100659597238518E-2,{"$f":"hosp_count(5,B176,C176,D176,$C$1,G176,1,F176,F176,SIMDRateRatios_hosp,SIMDrateratios,RateRatios!$B$3)*1000","v":133922.58482033585},{"$f":"hosp_count(5,B176,C176,D176,$C$1,G176+H176,1,F176,F176,SIMDRateRatios_hosp,SIMDrateratios,RateRatios!$B$3)*1000","v":133906.3168914181},16.267928917746758,{"$f":"hosp_count(10,B176,C176,D176,$C$1,G176,1,F176,F176,SIMDRateRatios_hosp,SIMDrateratios,RateRatios!$B$3)*10","v":3222.4422670128088},{"$f":"hosp_count(10,B176,C176,D176,$C$1,G176+H176,1,F176,F176,SIMDRateRatios_hosp,SIMDrateratios,RateRatios!$B$3)*10","v":3222.051064532212},0.39120248059680307,{"$f":"hosp_count(20,B176,C176,D176,$C$1,G176,1,F176,F176,SIMDRateRatios_hosp,SIMDrateratios,RateRatios!$B$3)*10","v":7809.7777753681257},{"$f":"hosp_count(20,B176,C176,D176,$C$1,G176+H176,1,F176,F176,SIMDRateRatios_hosp,SIMDrateratios,RateRatios!$B$3)*10","v":7808.8314424834498},0.94633288467593957]
["Female 15-19",17.5,"female",3,1,{"$f":"HLOOKUP('III Tool Overview'!$H$6,LookUpData_Pop!$B$1:$AV$269,LookUpData_Pop!BB173,FALSE)/50","v":462.34},{"$f":"'III Tool Overview'!$H$9/110","v":0},462.34,{"$f":"new_ci(2,B177,C177,D177,$C$1,G177,1,F177,E177*F177,SIMDrateratios,RateRatios!$B$3)*10","v":1.0585555239626878},{"$f":"new_ci(2,B177,C177,D177,$C$1,G177+H177,1,H177,H177,SIMDrateratios,RateRatios!$B$3)*10","v":1.0583900401104198},{"$f":"new_ci(5,B177,C177,D177,$C$1,G177,1,F177,F177,SIMDrateratios,RateRatios!$B$3)*1000","v":470.01568967308259},{"$f":"new_ci(5,B177,C177,D177,$C$1,H177,1,F177,F177,SIMDrateratios,RateRatios!$B$3)*1000","v":469.94224112710071},{"$f":"new_ci(10,B177,C177,D177,$C$1,G177,1,F177,F177,SIMDrateratios,RateRatios!$B$3)*10","v":12.679187611050473},{"$f":"new_ci(10,B177,C177,D177,$C$1,G177+H177,1,F177,F177,SIMDrateratios,RateRatios!$B$3)*10","v":12.677207968593752},{"$f":"new_ci(20,B177,C177,D177,$C$1,G177,1,F177,F177,SIMDrateratios,RateRatios!$B$3)*10","v":39.524075189926819},{"$f":"new_ci(20,B177,C177,D177,$C$1,G177+H177,1,F177,F177,SIMDrateratios,RateRatios!$B$3)*10","v":39.51792217365881},{"$f":"new_yll(2,B177,C177,D177,$C$1,G177,1,F177,F177,SIMDrateratios,RateRatios!$B$3)*10","v":85.742997440977703},{"$f":"new_yll(2,B177,C177,D177,$C$1,G177+H177,1,F177,F177,SIMDrateratios,RateRatios!$B$3)*10","v":85.729593248943999},1.3404192033704021E-2,{"$f":"new_yll(5,B177,C177,D177,$C$1,G177,1,F177,F177,SIMDrateratios,RateRatios!$B$3)*1000","v":37326.533312346197},{"$f":"new_yll(5,B177,C177,D177,$C$1,G177+H177,1,F177,F177,SIMDrateratios,RateRatios!$B$3)*1000","v":37320.700335697729},5.8329766484675929,{"$f":"new_yll(10,B177,C177,D177,$C$1,G177,1,F177,F177,SIMDrateratios,RateRatios!$B$3)*10","v":970.61612945703018},{"$f":"new_yll(10,B177,C177,D177,$C$1,G177+H177,1,F177,F177,SIMDrateratios,RateRatios!$B$3)*10","v":970.46458004976546},0.15154940726472432,{"$f":"new_yll(20,B177,C177,D177,$C$1,G177,1,F177,F177,SIMDrateratios,RateRatios!$B$3)*10","v":2767.8425659546647},{"$f":"new_yll(20,B177,C177,D177,$C$1,G177+H177,1,F177,F177,SIMDrateratios,RateRatios!$B$3)*10","v":2767.4115952984607},0.43097065620395369,{"$f":"hosp_count(2,B177,C177,D177,$C$1,G177,1,F177,F177,SIMDRateRatios_hosp,SIMDrateratios,RateRatios!$B$3)*10","v":466.94508643912434},{"$f":"hosp_count(2,B177,C177,D177,$C$1,G177+H177,1,F177,F177,SIMDRateRatios_hosp,SIMDrateratios,RateRatios!$B$3)*10","v":466.88832923584357},5.6757203280767499E-2,{"$f":"hosp_count(5,B177,C177,D177,$C$1,G177,1,F177,F177,SIMDRateRatios_hosp,SIMDrateratios,RateRatios!$B$3)*1000","v":194302.17204905619},{"$f":"hosp_count(5,B177,C177,D177,$C$1,G177+H177,1,F177,F177,SIMDRateRatios_hosp,SIMDrateratios,RateRatios!$B$3)*1000","v":194278.56578163517},23.60626742101158,{"$f":"hosp_count(10,B177,C177,D177,$C$1,G177,1,F177,F177,SIMDRateRatios_hosp,SIMDrateratios,RateRatios!$B$3)*10","v":4673.9035367593578},{"$f":"hosp_count(10,B177,C177,D177,$C$1,G177+H177,1,F177,F177,SIMDRateRatios_hosp,SIMDrateratios,RateRatios!$B$3)*10","v":4673.3362520955834},0.5672846637744442,{"$f":"hosp_count(20,B177,C177,D177,$C$1,G177,1,F177,F177,SIMDRateRatios_hosp,SIMDrateratios,RateRatios!$B$3)*10","v":11317.063209310567},{"$f":"hosp_count(20,B177,C177,D177,$C$1,G177+H177,1,F177,F177,SIMDRateRatios_hosp,SIMDrateratios,RateRatios!$B$3)*10","v":11315.693815337474},1.3693939730928832]
["Female 20-24",22.5,"female",3,1,{"$f":"HLOOKUP('III Tool Overview'!$H$6,LookUpData_Pop!$B$1:$AV$269,LookUpData_Pop!BB174,FALSE)/50","v":670.88},{"$f":"'III Tool Overview'!$H$9/110","v":0},670.88,{"$f":"new_ci(2,B178,C178,D178,$C$1,G178,1,F178,E178*F178,SIMDrateratios,RateRatios!$B$3)*10","v":2.131574094112084},{"$f":"new_ci(2,B178,C178,D178,$C$1,G178+H178,1,H178,H178,SIMDrateratios,RateRatios!$B$3)*10","v":2.1312405753253714},{"$f":"new_ci(5,B178,C178,D178,$C$1,G178,1,F178,F178,SIMDrateratios,RateRatios!$B$3)*1000","v":946.3086198402558},{"$f":"new_ci(5,B178,C178,D178,$C$1,H178,1,F178,F178,SIMDrateratios,RateRatios!$B$3)*1000","v":946.16063570487631},{"$f":"new_ci(10,B178,C178,D178,$C$1,G178,1,F178,F178,SIMDrateratios,RateRatios!$B$3)*10","v":25.51916033327355},{"$f":"new_ci(10,B178,C178,D178,$C$1,G178+H178,1,F178,F178,SIMDrateratios,RateRatios!$B$3)*10","v":25.515174422758481},{"$f":"new_ci(20,B178,C178,D178,$C$1,G178,1,F178,F178,SIMDrateratios,RateRatios!$B$3)*10","v":79.459544291490815},{"$f":"new_ci(20,B178,C178,D178,$C$1,G178+H178,1,F178,F178,SIMDrateratios,RateRatios!$B$3)*10","v":79.44718352195126},{"$f":"new_yll(2,B178,C178,D178,$C$1,G178,1,F178,F178,SIMDrateratios,RateRatios!$B$3)*10","v":164.13120524663046},{"$f":"new_yll(2,B178,C178,D178,$C$1,G178+H178,1,F178,F178,SIMDrateratios,RateRatios!$B$3)*10","v":164.10552430005362},2.5680946576841279E-2,{"$f":"new_yll(5,B178,C178,D178,$C$1,G178,1,F178,F178,SIMDrateratios,RateRatios!$B$3)*1000","v":71366.458661290075},{"$f":"new_yll(5,B178,C178,D178,$C$1,G178+H178,1,F178,F178,SIMDrateratios,RateRatios!$B$3)*1000","v":71355.298279697046},11.160381593028433,{"$f":"new_yll(10,B178,C178,D178,$C$1,G178,1,F178,F178,SIMDrateratios,RateRatios!$B$3)*10","v":1851.4838996767583},{"$f":"new_yll(10,B178,C178,D178,$C$1,G178+H178,1,F178,F178,SIMDrateratios,RateRatios!$B$3)*10","v":1851.194699991772},0.28919968498621529,{"$f":"new_yll(20,B178,C178,D178,$C$1,G178,1,F178,F178,SIMDrateratios,RateRatios!$B$3)*10","v":5247.0523388519005},{"$f":"new_yll(20,B178,C178,D178,$C$1,G178+H178,1,F178,F178,SIMDrateratios,RateRatios!$B$3)*10","v":5246.2358829375626},0.81645591433789377,{"$f":"hosp_count(2,B178,C178,D178,$C$1,G178,1,F178,F178,SIMDRateRatios_hosp,SIMDrateratios,RateRatios!$B$3)*10","v":747.76198471525515},{"$f":"hosp_count(2,B178,C178,D178,$C$1,G178+H178,1,F178,F178,SIMDRateRatios_hosp,SIMDrateratios,RateRatios!$B$3)*10","v":747.6710110425031},9.09736727520567E-2,{"$f":"hosp_count(5,B178,C178,D178,$C$1,G178,1,F178,F178,SIMDRateRatios_hosp,SIMDrateratios,RateRatios!$B$3)*1000","v":311109.50561895088},{"$f":"hosp_count(5,B178,C178,D178,$C$1,G178+H178,1,F178,F178,SIMDRateRatios_hosp,SIMDrateratios,RateRatios!$B$3)*1000","v":311071.68048989761},37.825129053264391,{"$f":"hosp_count(10,B178,C178,D178,$C$1,G178,1,F178,F178,SIMDRateRatios_hosp,SIMDrateratios,RateRatios!$B$3)*10","v":7481.4598833026675},{"$f":"hosp_count(10,B178,C178,D178,$C$1,G178+H178,1,F178,F178,SIMDRateRatios_hosp,SIMDrateratios,RateRatios!$B$3)*10","v":7480.5515213547769},0.90836194789062574,{"$f":"hosp_count(20,B178,C178,D178,$C$1,G178,1,F178,F178,SIMDRateRatios_hosp,SIMDrateratios,RateRatios!$B$3)*10","v":18098.463699385371},{"$f":"hosp_count(20,B178,C178,D178,$C$1,G178+H178,1,F178,F178,SIMDRateRatios_hosp,SIMDrateratios,RateRatios!$B$3)*10","v":18096.275571831207},2.1881275541636569]
["Female 25-29",27.5,"female",3,1,{"$f":"HLOOKUP('III Tool Overview'!$H$6,LookUpData_Pop!$B$1:$AV$269,LookUpData_Pop!BB175,FALSE)/50","v":683.64},{"$f":"'III Tool Overview'!$H$9/110","v":0},683.64,{"$f":"new_ci(2,B179,C179,D179,$C$1,G179,1,F179,E179*F179,SIMDrateratios,RateRatios!$B$3)*10","v":3.550776120502261},{"$f":"new_ci(2,B179,C179,D179,$C$1,G179+H179,1,H179,H179,SIMDrateratios,RateRatios!$B$3)*10","v":3.5502204078115569},{"$f":"new_ci(5,B179,C179,D179,$C$1,G179,1,F179,F179,SIMDrateratios,RateRatios!$B$3)*1000","v":1575.813884977837},{"$f":"new_ci(5,B179,C179,D179,$C$1,H179,1,F179,F179,SIMDrateratios,RateRatios!$B$3)*1000","v":1575.5674833228093},{"$f":"new_ci(10,B179,C179,D179,$C$1,G179,1,F179,F179,SIMDrateratios,RateRatios!$B$3)*10","v":42.462746740227743},{"$f":"new_ci(10,B179,C179,D179,$C$1,G179+H179,1,F179,F179,SIMDrateratios,RateRatios!$B$3)*10","v":42.45612008384871},{"$f":"new_ci(20,B179,C179,D179,$C$1,G179,1,F179,F179,SIMDrateratios,RateRatios!$B$3)*10","v":131.87863646685113},{"$f":"new_ci(20,B179,C179,D179,$C$1,G179+H179,1,F179,F179,SIMDrateratios,RateRatios!$B$3)*10","v":131.85819188530263},{"$f":"new_yll(2,B179,C179,D179,$C$1,G179,1,F179,F179,SIMDrateratios,RateRatios!$B$3)*10","v":252.10510455566052},{"$f":"new_yll(2,B179,C179,D179,$C$1,G179+H179,1,F179,F179,SIMDrateratios,RateRatios!$B$3)*10","v":252.06564895462054},3.9455601039975363E-2,{"$f":"new_yll(5,B179,C179,D179,$C$1,G179,1,F179,F179,SIMDrateratios,RateRatios!$B$3)*1000","v":109386.55011938282},{"$f":"new_yll(5,B179,C179,D179,$C$1,G179+H179,1,F179,F179,SIMDrateratios,RateRatios!$B$3)*1000","v":109369.44574766413},17.10437171869853,{"$f":"new_yll(10,B179,C179,D179,$C$1,G179,1,F179,F179,SIMDrateratios,RateRatios!$B$3)*10","v":2826.0854408187811},{"$f":"new_yll(10,B179,C179,D179,$C$1,G179+H179,1,F179,F179,SIMDrateratios,RateRatios!$B$3)*10","v":2825.6443769560178},0.44106386276325793,{"$f":"new_yll(20,B179,C179,D179,$C$1,G179,1,F179,F179,SIMDrateratios,RateRatios!$B$3)*10","v":7918.7292872376374},{"$f":"new_yll(20,B179,C179,D179,$C$1,G179+H179,1,F179,F179,SIMDrateratios,RateRatios!$B$3)*10","v":7917.5010787228848},1.2282085147526232,{"$f":"hosp_count(2,B179,C179,D179,$C$1,G179,1,F179,F179,SIMDRateRatios_hosp,SIMDrateratios,RateRatios!$B$3)*10","v":883.42014242048037},{"$f":"hosp_count(2,B179,C179,D179,$C$1,G179+H179,1,F179,F179,SIMDRateRatios_hosp,SIMDrateratios,RateRatios!$B$3)*10","v":883.31262703803247},0.10751538244790027,{"$f":"hosp_count(5,B179,C179,D179,$C$1,G179,1,F179,F179,SIMDRateRatios_hosp,SIMDrateratios,RateRatios!$B$3)*1000","v":367431.56841267244},{"$f":"hosp_count(5,B179,C179,D179,$C$1,G179+H179,1,F179,F179,SIMDRateRatios_hosp,SIMDrateratios,RateRatios!$B$3)*1000","v":367386.89866682515},44.669745847291779,{"$f":"hosp_count(10,B179,C179,D179,$C$1,G179,1,F179,F179,SIMDRateRatios_hosp,SIMDrateratios,RateRatios!$B$3)*10","v":8829.9150184459249},{"$f":"hosp_count(10,B179,C179,D179,$C$1,G179+H179,1,F179,F179,SIMDRateRatios_hosp,SIMDrateratios,RateRatios!$B$3)*10","v":8828.843940072964},1.071078372960983,{"$f":"hosp_count(20,B179,C179,D179,$C$1,G179,1,F179,F179,SIMDRateRatios_hosp,SIMDrateratios,RateRatios!$B$3)*10","v":21316.083409893261},{"$f":"hosp_count(20,B179,C179,D179,$C$1,G179+H179,1,F179,F179,SIMDRateRatios_hosp,SIMDrateratios,RateRatios!$B$3)*10","v":21313.515622272367},2.567787620893796]
["Female 30-34",32.5,"female",3,1,{"$f":"HLOOKUP('III Tool Overview'!$H$6,LookUpData_Pop!$B$1:$AV$269,LookUpData_Pop!BB176,FALSE)/50","v":562.12},{"$f":"'III Tool Overview'!$H$9/110","v":0},562.12,{"$f":"new_ci(2,B180,C180,D180,$C$1,G180,1,F180,E180*F180,SIMDrateratios,RateRatios!$B$3)*10","v":4.0513877872039412},{"$f":"new_ci(2,B180,C180,D180,$C$1,G180+H180,1,H180,H180,SIMDrateratios,RateRatios!$B$3)*10","v":4.05075425931906},{"$f":"new_ci(5,B180,C180,D180,$C$1,G180,1,F180,F180,SIMDrateratios,RateRatios!$B$3)*1000","v":1797.3595177425113},{"$f":"new_ci(5,B180,C180,D180,$C$1,H180,1,F180,F180,SIMDrateratios,RateRatios!$B$3)*1000","v":1797.0788077240011},{"$f":"new_ci(10,B180,C180,D180,$C$1,G180,1,F180,F180,SIMDrateratios,RateRatios!$B$3)*10","v":48.395874154211981},{"$f":"new_ci(10,B180,C180,D180,$C$1,G180+H180,1,F180,F180,SIMDrateratios,RateRatios!$B$3)*10","v":48.388336293340998},{"$f":"new_ci(20,B180,C180,D180,$C$1,G180,1,F180,F180,SIMDrateratios,RateRatios!$B$3)*10","v":149.92180300830148},{"$f":"new_ci(20,B180,C180,D180,$C$1,G180+H180,1,F180,F180,SIMDrateratios,RateRatios!$B$3)*10","v":149.89866633903452},{"$f":"new_yll(2,B180,C180,D180,$C$1,G180,1,F180,F180,SIMDrateratios,RateRatios!$B$3)*10","v":271.44298174266407},{"$f":"new_yll(2,B180,C180,D180,$C$1,G180+H180,1,F180,F180,SIMDrateratios,RateRatios!$B$3)*10","v":271.400535374377},4.244636828707371E-2,{"$f":"new_yll(5,B180,C180,D180,$C$1,G180,1,F180,F180,SIMDrateratios,RateRatios!$B$3)*1000","v":117576.40424485496},{"$f":"new_yll(5,B180,C180,D180,$C$1,G180+H180,1,F180,F180,SIMDrateratios,RateRatios!$B$3)*1000","v":117558.04098560273},18.363259252233547,{"$f":"new_yll(10,B180,C180,D180,$C$1,G180,1,F180,F180,SIMDrateratios,RateRatios!$B$3)*10","v":3027.4635904474412},{"$f":"new_yll(10,B180,C180,D180,$C$1,G180+H180,1,F180,F180,SIMDrateratios,RateRatios!$B$3)*10","v":3026.992002396069},0.47158805137223681,{"$f":"new_yll(20,B180,C180,D180,$C$1,G180,1,F180,F180,SIMDrateratios,RateRatios!$B$3)*10","v":8404.1495631680809},{"$f":"new_yll(20,B180,C180,D180,$C$1,G180+H180,1,F180,F180,SIMDrateratios,RateRatios!$B$3)*10","v":8402.8516445807618},1.2979185873191454,{"$f":"hosp_count(2,B180,C180,D180,$C$1,G180,1,F180,F180,SIMDRateRatios_hosp,SIMDrateratios,RateRatios!$B$3)*10","v":801.64680400831321},{"$f":"hosp_count(2,B180,C180,D180,$C$1,G180+H180,1,F180,F180,SIMDRateRatios_hosp,SIMDrateratios,RateRatios!$B$3)*10","v":801.54931289853062},9.7491109782595231E-2,{"$f":"hosp_count(5,B180,C180,D180,$C$1,G180,1,F180,F180,SIMDRateRatios_hosp,SIMDrateratios,RateRatios!$B$3)*1000","v":333312.59817582642},{"$f":"hosp_count(5,B180,C180,D180,$C$1,G180+H180,1,F180,F180,SIMDRateRatios_hosp,SIMDrateratios,RateRatios!$B$3)*1000","v":333272.12320486311},40.474970963317901,{"$f":"hosp_count(10,B180,C180,D180,$C$1,G180,1,F180,F180,SIMDRateRatios_hosp,SIMDrateratios,RateRatios!$B$3)*10","v":8004.5948183380051},{"$f":"hosp_count(10,B180,C180,D180,$C$1,G180+H180,1,F180,F180,SIMDRateRatios_hosp,SIMDrateratios,RateRatios!$B$3)*10","v":8003.625816781032},0.96900155697312584,{"$f":"hosp_count(20,B180,C180,D180,$C$1,G180,1,F180,F180,SIMDRateRatios_hosp,SIMDrateratios,RateRatios!$B$3)*10","v":19283.629012335765},{"$f":"hosp_count(20,B180,C180,D180,$C$1,G180+H180,1,F180,F180,SIMDRateRatios_hosp,SIMDrateratios,RateRatios!$B$3)*10","v":19281.317003741231},2.312008594533836]
["Female 35-39",37.5,"female",3,1,{"$f":"HLOOKUP('III Tool Overview'!$H$6,LookUpData_Pop!$B$1:$AV$269,LookUpData_Pop!BB177,FALSE)/50","v":571.46},{"$f":"'III Tool Overview'!$H$9/110","v":0},571.46,{"$f":"new_ci(2,B181,C181,D181,$C$1,G181,1,F181,E181*F181,SIMDrateratios,RateRatios!$B$3)*10","v":6.7320181095933149},{"$f":"new_ci(2,B181,C181,D181,$C$1,G181+H181,1,H181,H181,SIMDrateratios,RateRatios!$B$3)*10","v":6.7309662669044155},{"$f":"new_ci(5,B181,C181,D181,$C$1,G181,1,F181,F181,SIMDrateratios,RateRatios!$B$3)*1000","v":2984.2458353131929},{"$f":"new_ci(5,B181,C181,D181,$C$1,H181,1,F181,F181,SIMDrateratios,RateRatios!$B$3)*1000","v":2983.7805077334756},{"$f":"new_ci(10,B181,C181,D181,$C$1,G181,1,F181,F181,SIMDrateratios,RateRatios!$B$3)*10","v":80.215701838734219},{"$f":"new_ci(10,B181,C181,D181,$C$1,G181+H181,1,F181,F181,SIMDrateratios,RateRatios!$B$3)*10","v":80.203249583138756},{"$f":"new_ci(20,B181,C181,D181,$C$1,G181,1,F181,F181,SIMDrateratios,RateRatios!$B$3)*10","v":247.05916999757312},{"$f":"new_ci(20,B181,C181,D181,$C$1,G181+H181,1,F181,F181,SIMDrateratios,RateRatios!$B$3)*10","v":247.02139262973282},{"$f":"new_yll(2,B181,C181,D181,$C$1,G181,1,F181,F181,SIMDrateratios,RateRatios!$B$3)*10","v":410.6531046851922},{"$f":"new_yll(2,B181,C181,D181,$C$1,G181+H181,1,F181,F181,SIMDrateratios,RateRatios!$B$3)*10","v":410.58894228116935},6.4162404022852115E-2,{"$f":"new_yll(5,B181,C181,D181,$C$1,G181,1,F181,F181,SIMDrateratios,RateRatios!$B$3)*1000","v":177314.39573452654},{"$f":"new_yll(5,B181,C181,D181,$C$1,G181+H181,1,F181,F181,SIMDrateratios,RateRatios!$B$3)*1000","v":177286.74668876879},27.649045757745625,{"$f":"new_yll(10,B181,C181,D181,$C$1,G181,1,F181,F181,SIMDrateratios,RateRatios!$B$3)*10","v":4537.0200211378133},{"$f":"new_yll(10,B181,C181,D181,$C$1,G181+H181,1,F181,F181,SIMDrateratios,RateRatios!$B$3)*10","v":4536.3155888162109},0.70443232160232583,{"$f":"new_yll(20,B181,C181,D181,$C$1,G181,1,F181,F181,SIMDrateratios,RateRatios!$B$3)*10","v":12373.362624643214},{"$f":"new_yll(20,B181,C181,D181,$C$1,G181+H181,1,F181,F181,SIMDrateratios,RateRatios!$B$3)*10","v":12371.468079555963},1.8945450872506626,{"$f":"hosp_count(2,B181,C181,D181,$C$1,G181,1,F181,F181,SIMDRateRatios_hosp,SIMDrateratios,RateRatios!$B$3)*10","v":944.84628334967681},{"$f":"hosp_count(2,B181,C181,D181,$C$1,G181+H181,1,F181,F181,SIMDRateRatios_hosp,SIMDrateratios,RateRatios!$B$3)*10","v":944.7314452225163},0.11483812716051034,{"$f":"hosp_count(5,B181,C181,D181,$C$1,G181,1,F181,F181,SIMDRateRatios_hosp,SIMDrateratios,RateRatios!$B$3)*1000","v":392564.19055102248},{"$f":"hosp_count(5,B181,C181,D181,$C$1,G181+H181,1,F181,F181,SIMDRateRatios_hosp,SIMDrateratios,RateRatios!$B$3)*1000","v":392516.59377044596},47.596780576510355,{"$f":"hosp_count(10,B181,C181,D181,$C$1,G181,1,F181,F181,SIMDRateRatios_hosp,SIMDrateratios,RateRatios!$B$3)*10","v":9413.139936896252},{"$f":"hosp_count(10,B181,C181,D181,$C$1,G181+H181,1,F181,F181,SIMDRateRatios_hosp,SIMDrateratios,RateRatios!$B$3)*10","v":9412.0044203409216},1.1355165553304687,{"$f":"hosp_count(20,B181,C181,D181,$C$1,G181,1,F181,F181,SIMDRateRatios_hosp,SIMDrateratios,RateRatios!$B$3)*10","v":22570.551100850622},{"$f":"hosp_count(20,B181,C181,D181,$C$1,G181+H181,1,F181,F181,SIMDRateRatios_hosp,SIMDrateratios,RateRatios!$B$3)*10","v":22567.871013382119},2.6800874685031886]
["Female 40-44",42.5,"female",3,1,{"$f":"HLOOKUP('III Tool Overview'!$H$6,LookUpData_Pop!$B$1:$AV$269,LookUpData_Pop!BB178,FALSE)/50","v":612.94000000000005},{"$f":"'III Tool Overview'!$H$9/110","v":0},612.94000000000005,{"$f":"new_ci(2,B182,C182,D182,$C$1,G182,1,F182,E182*F182,SIMDrateratios,RateRatios!$B$3)*10","v":10.018457586622716},{"$f":"new_ci(2,B182,C182,D182,$C$1,G182+H182,1,H182,H182,SIMDrateratios,RateRatios!$B$3)*10","v":10.016891198595834},{"$f":"new_ci(5,B182,C182,D182,$C$1,G182,1,F182,F182,SIMDrateratios,RateRatios!$B$3)*1000","v":4437.6085132804183},{"$f":"new_ci(5,B182,C182,D182,$C$1,H182,1,F182,F182,SIMDrateratios,RateRatios!$B$3)*1000","v":4436.9166438535785},{"$f":"new_ci(10,B182,C182,D182,$C$1,G182,1,F182,F182,SIMDrateratios,RateRatios!$B$3)*10","v":119.07680553511005},{"$f":"new_ci(10,B182,C182,D182,$C$1,G182+H182,1,F182,F182,SIMDrateratios,RateRatios!$B$3)*10","v":119.05835476456357},{"$f":"new_ci(20,B182,C182,D182,$C$1,G182,1,F182,F182,SIMDrateratios,RateRatios!$B$3)*10","v":364.64224087094851},{"$f":"new_ci(20,B182,C182,D182,$C$1,G182+H182,1,F182,F182,SIMDrateratios,RateRatios!$B$3)*10","v":364.58691398342557},{"$f":"new_yll(2,B182,C182,D182,$C$1,G182,1,F182,F182,SIMDrateratios,RateRatios!$B$3)*10","v":571.05208243749485},{"$f":"new_yll(2,B182,C182,D182,$C$1,G182+H182,1,F182,F182,SIMDrateratios,RateRatios!$B$3)*10","v":570.96279831996253},8.9284117532315577E-2,{"$f":"new_yll(5,B182,C182,D182,$C$1,G182,1,F182,F182,SIMDrateratios,RateRatios!$B$3)*1000","v":245920.95681456209},{"$f":"new_yll(5,B182,C182,D182,$C$1,G182+H182,1,F182,F182,SIMDrateratios,RateRatios!$B$3)*1000","v":245882.61360188838},38.34321267370251,{"$f":"new_yll(10,B182,C182,D182,$C$1,G182,1,F182,F182,SIMDrateratios,RateRatios!$B$3)*10","v":6259.183973172775},{"$f":"new_yll(10,B182,C182,D182,$C$1,G182+H182,1,F182,F182,SIMDrateratios,RateRatios!$B$3)*10","v":6258.2138547341629},0.97011843861218949,{"$f":"new_yll(20,B182,C182,D182,$C$1,G182,1,F182,F182,SIMDrateratios,RateRatios!$B$3)*10","v":16813.022725563027},{"$f":"new_yll(20,B182,C182,D182,$C$1,G182+H182,1,F182,F182,SIMDrateratios,RateRatios!$B$3)*10","v":16810.466453574631},2.5562719883964746,{"$f":"hosp_count(2,B182,C182,D182,$C$1,G182,1,F182,F182,SIMDRateRatios_hosp,SIMDrateratios,RateRatios!$B$3)*10","v":1118.4265868942493},{"$f":"hosp_count(2,B182,C182,D182,$C$1,G182+H182,1,F182,F182,SIMDRateRatios_hosp,SIMDrateratios,RateRatios!$B$3)*10","v":1118.2905287122412},0.13605818200812791,{"$f":"hosp_count(5,B182,C182,D182,$C$1,G182,1,F182,F182,SIMDRateRatios_hosp,SIMDrateratios,RateRatios!$B$3)*1000","v":464342.506600252},{"$f":"hosp_count(5,B182,C182,D182,$C$1,G182+H182,1,F182,F182,SIMDRateRatios_hosp,SIMDrateratios,RateRatios!$B$3)*1000","v":464286.20934906427},56.297251187730581,{"$f":"hosp_count(10,B182,C182,D182,$C$1,G182,1,F182,F182,SIMDRateRatios_hosp,SIMDrateratios,RateRatios!$B$3)*10","v":11117.324676526549},{"$f":"hosp_count(10,B182,C182,D182,$C$1,G182+H182,1,F182,F182,SIMDRateRatios_hosp,SIMDrateratios,RateRatios!$B$3)*10","v":11115.986285550161},1.3383909763870179,{"$f":"hosp_count(20,B182,C182,D182,$C$1,G182,1,F182,F182,SIMDRateRatios_hosp,SIMDrateratios,RateRatios!$B$3)*10","v":26532.484825002568},{"$f":"hosp_count(20,B182,C182,D182,$C$1,G182+H182,1,F182,F182,SIMDRateRatios_hosp,SIMDrateratios,RateRatios!$B$3)*10","v":26529.359926482903},3.1248985196652939]
["Female 45-49",47.5,"female",3,1,{"$f":"HLOOKUP('III Tool Overview'!$H$6,LookUpData_Pop!$B$1:$AV$269,LookUpData_Pop!BB179,FALSE)/50","v":594.41999999999996},{"$f":"'III Tool Overview'!$H$9/110","v":0},594.41999999999996,{"$f":"new_ci(2,B183,C183,D183,$C$1,G183,1,F183,E183*F183,SIMDrateratios,RateRatios!$B$3)*10","v":15.875774447997751},{"$f":"new_ci(2,B183,C183,D183,$C$1,G183+H183,1,H183,H183,SIMDrateratios,RateRatios!$B$3)*10","v":15.873295551639469},{"$f":"new_ci(5,B183,C183,D183,$C$1,G183,1,F183,F183,SIMDrateratios,RateRatios!$B$3)*1000","v":7019.5351004461963},{"$f":"new_ci(5,B183,C183,D183,$C$1,H183,1,F183,F183,SIMDrateratios,RateRatios!$B$3)*1000","v":7018.4440851058716},{"$f":"new_ci(10,B183,C183,D183,$C$1,G183,1,F183,F183,SIMDrateratios,RateRatios!$B$3)*10","v":187.62630019014847},{"$f":"new_ci(10,B183,C183,D183,$C$1,G183+H183,1,F183,F183,SIMDrateratios,RateRatios!$B$3)*10","v":187.59743225385324},{"$f":"new_ci(20,B183,C183,D183,$C$1,G183,1,F183,F183,SIMDrateratios,RateRatios!$B$3)*10","v":567.13284839743153},{"$f":"new_ci(20,B183,C183,D183,$C$1,G183+H183,1,F183,F183,SIMDrateratios,RateRatios!$B$3)*10","v":567.04854666031827},{"$f":"new_yll(2,B183,C183,D183,$C$1,G183,1,F183,F183,SIMDrateratios,RateRatios!$B$3)*10","v":809.66449684788529},{"$f":"new_yll(2,B183,C183,D183,$C$1,G183+H183,1,F183,F183,SIMDrateratios,RateRatios!$B$3)*10","v":809.53807313361278},0.12642371427250509,{"$f":"new_yll(5,B183,C183,D183,$C$1,G183,1,F183,F183,SIMDrateratios,RateRatios!$B$3)*1000","v":346897.62917677086},{"$f":"new_yll(5,B183,C183,D183,$C$1,G183+H183,1,F183,F183,SIMDrateratios,RateRatios!$B$3)*1000","v":346843.70834821003},53.920828560832888,{"$f":"new_yll(10,B183,C183,D183,$C$1,G183,1,F183,F183,SIMDrateratios,RateRatios!$B$3)*10","v":8738.3892574638994},{"$f":"new_yll(10,B183,C183,D183,$C$1,G183+H183,1,F183,F183,SIMDrateratios,RateRatios!$B$3)*10","v":8737.0440920029178},1.3451654609816615,{"$f":"new_yll(20,B183,C183,D183,$C$1,G183,1,F183,F183,SIMDrateratios,RateRatios!$B$3)*10","v":22779.841728548141},{"$f":"new_yll(20,B183,C183,D183,$C$1,G183+H183,1,F183,F183,SIMDrateratios,RateRatios!$B$3)*10","v":22776.442264474521},3.3994640736200381,{"$f":"hosp_count(2,B183,C183,D183,$C$1,G183,1,F183,F183,SIMDRateRatios_hosp,SIMDrateratios,RateRatios!$B$3)*10","v":1257.4890909962674},{"$f":"hosp_count(2,B183,C183,D183,$C$1,G183+H183,1,F183,F183,SIMDRateRatios_hosp,SIMDrateratios,RateRatios!$B$3)*10","v":1257.3362387137099},0.15285228255743277,{"$f":"hosp_count(5,B183,C183,D183,$C$1,G183,1,F183,F183,SIMDRateRatios_hosp,SIMDrateratios,RateRatios!$B$3)*1000","v":521208.96984426113},{"$f":"hosp_count(5,B183,C183,D183,$C$1,G183+H183,1,F183,F183,SIMDRateRatios_hosp,SIMDrateratios,RateRatios!$B$3)*1000","v":521145.9643326198},63.005511641327757,{"$f":"hosp_count(10,B183,C183,D183,$C$1,G183,1,F183,F183,SIMDRateRatios_hosp,SIMDrateratios,RateRatios!$B$3)*10","v":12435.776461051744},{"$f":"hosp_count(10,B183,C183,D183,$C$1,G183+H183,1,F183,F183,SIMDRateRatios_hosp,SIMDrateratios,RateRatios!$B$3)*10","v":12434.290457042642},1.4860040091025439,{"$f":"hosp_count(20,B183,C183,D183,$C$1,G183,1,F183,F183,SIMDRateRatios_hosp,SIMDrateratios,RateRatios!$B$3)*10","v":29367.785856643673},{"$f":"hosp_count(20,B183,C183,D183,$C$1,G183+H183,1,F183,F183,SIMDRateRatios_hosp,SIMDrateratios,RateRatios!$B$3)*10","v":29364.400616773819},3.3852398698545585]
["Female 50-54",52.5,"female",3,1,{"$f":"HLOOKUP('III Tool Overview'!$H$6,LookUpData_Pop!$B$1:$AV$269,LookUpData_Pop!BB180,FALSE)/50","v":512.66},{"$f":"'III Tool Overview'!$H$9/110","v":0},512.66,{"$f":"new_ci(2,B184,C184,D184,$C$1,G184,1,F184,E184*F184,SIMDrateratios,RateRatios!$B$3)*10","v":18.991906107768845},{"$f":"new_ci(2,B184,C184,D184,$C$1,G184+H184,1,H184,H184,SIMDrateratios,RateRatios!$B$3)*10","v":18.988938123333192},{"$f":"new_ci(5,B184,C184,D184,$C$1,G184,1,F184,F184,SIMDrateratios,RateRatios!$B$3)*1000","v":8382.4140547016814},{"$f":"new_ci(5,B184,C184,D184,$C$1,H184,1,F184,F184,SIMDrateratios,RateRatios!$B$3)*1000","v":8381.1124353753639},{"$f":"new_ci(10,B184,C184,D184,$C$1,G184,1,F184,F184,SIMDrateratios,RateRatios!$B$3)*10","v":223.18698193484266},{"$f":"new_ci(10,B184,C184,D184,$C$1,G184+H184,1,F184,F184,SIMDrateratios,RateRatios!$B$3)*10","v":223.15281011068518},{"$f":"new_ci(20,B184,C184,D184,$C$1,G184,1,F184,F184,SIMDrateratios,RateRatios!$B$3)*10","v":665.99089470440163},{"$f":"new_ci(20,B184,C184,D184,$C$1,G184+H184,1,F184,F184,SIMDrateratios,RateRatios!$B$3)*10","v":665.89370860615213},{"$f":"new_yll(2,B184,C184,D184,$C$1,G184,1,F184,F184,SIMDrateratios,RateRatios!$B$3)*10","v":892.61958706513565},{"$f":"new_yll(2,B184,C184,D184,$C$1,G184+H184,1,F184,F184,SIMDrateratios,RateRatios!$B$3)*10","v":892.48009179665996},0.1394952684756845,{"$f":"new_yll(5,B184,C184,D184,$C$1,G184,1,F184,F184,SIMDrateratios,RateRatios!$B$3)*1000","v":380731.97035316931},{"$f":"new_yll(5,B184,C184,D184,$C$1,G184+H184,1,F184,F184,SIMDrateratios,RateRatios!$B$3)*1000","v":380672.84363903984},59.126714129466563,{"$f":"new_yll(10,B184,C184,D184,$C$1,G184,1,F184,F184,SIMDrateratios,RateRatios!$B$3)*10","v":9503.8535417006133},{"$f":"new_yll(10,B184,C184,D184,$C$1,G184+H184,1,F184,F184,SIMDrateratios,RateRatios!$B$3)*10","v":9502.3972827724192},1.4562589281940745,{"$f":"new_yll(20,B184,C184,D184,$C$1,G184,1,F184,F184,SIMDrateratios,RateRatios!$B$3)*10","v":24125.56970108992},{"$f":"new_yll(20,B184,C184,D184,$C$1,G184+H184,1,F184,F184,SIMDrateratios,RateRatios!$B$3)*10","v":24122.027326361516},3.5423747284039564,{"$f":"hosp_count(2,B184,C184,D184,$C$1,G184,1,F184,F184,SIMDRateRatios_hosp,SIMDrateratios,RateRatios!$B$3)*10","v":1196.8905613910179},{"$f":"hosp_count(2,B184,C184,D184,$C$1,G184+H184,1,F184,F184,SIMDRateRatios_hosp,SIMDrateratios,RateRatios!$B$3)*10","v":1196.7448756508336},0.14568574018426261,{"$f":"hosp_count(5,B184,C184,D184,$C$1,G184,1,F184,F184,SIMDRateRatios_hosp,SIMDrateratios,RateRatios!$B$3)*1000","v":495268.24217904895},{"$f":"hosp_count(5,B184,C184,D184,$C$1,G184+H184,1,F184,F184,SIMDRateRatios_hosp,SIMDrateratios,RateRatios!$B$3)*1000","v":495208.41886298155},59.823316067398991,{"$f":"hosp_count(10,B184,C184,D184,$C$1,G184,1,F184,F184,SIMDRateRatios_hosp,SIMDrateratios,RateRatios!$B$3)*10","v":11776.257112296262},{"$f":"hosp_count(10,B184,C184,D184,$C$1,G184+H184,1,F184,F184,SIMDRateRatios_hosp,SIMDrateratios,RateRatios!$B$3)*10","v":11774.857326890035},1.3997854062272381,{"$f":"hosp_count(20,B184,C184,D184,$C$1,G184,1,F184,F184,SIMDRateRatios_hosp,SIMDrateratios,RateRatios!$B$3)*10","v":27521.886076646897},{"$f":"hosp_count(20,B184,C184,D184,$C$1,G184+H184,1,F184,F184,SIMDRateRatios_hosp,SIMDrateratios,RateRatios!$B$3)*10","v":27518.774619506621},3.1114571402758884]
["Female 55-59",57.5,"female",3,1,{"$f":"HLOOKUP('III Tool Overview'!$H$6,LookUpData_Pop!$B$1:$AV$269,LookUpData_Pop!BB181,FALSE)/50","v":432.24},{"$f":"'III Tool Overview'!$H$9/110","v":0},432.24,{"$f":"new_ci(2,B185,C185,D185,$C$1,G185,1,F185,E185*F185,SIMDrateratios,RateRatios!$B$3)*10","v":26.147903307469839},{"$f":"new_ci(2,B185,C185,D185,$C$1,G185+H185,1,H185,H185,SIMDrateratios,RateRatios!$B$3)*10","v":26.143826794832307},{"$f":"new_ci(5,B185,C185,D185,$C$1,G185,1,F185,F185,SIMDrateratios,RateRatios!$B$3)*1000","v":11494.342361007646},{"$f":"new_ci(5,B185,C185,D185,$C$1,H185,1,F185,F185,SIMDrateratios,RateRatios!$B$3)*1000","v":11492.569032382695},{"$f":"new_ci(10,B185,C185,D185,$C$1,G185,1,F185,F185,SIMDrateratios,RateRatios!$B$3)*10","v":303.36958747657764},{"$f":"new_ci(10,B185,C185,D185,$C$1,G185+H185,1,F185,F185,SIMDrateratios,RateRatios!$B$3)*10","v":303.32385267038626},{"$f":"new_ci(20,B185,C185,D185,$C$1,G185,1,F185,F185,SIMDrateratios,RateRatios!$B$3)*10","v":879.52730765749425},{"$f":"new_ci(20,B185,C185,D185,$C$1,G185+H185,1,F185,F185,SIMDrateratios,RateRatios!$B$3)*10","v":879.4048209814955},{"$f":"new_yll(2,B185,C185,D185,$C$1,G185,1,F185,F185,SIMDrateratios,RateRatios!$B$3)*10","v":1072.0640356062634},{"$f":"new_yll(2,B185,C185,D185,$C$1,G185+H185,1,F185,F185,SIMDrateratios,RateRatios!$B$3)*10","v":1071.8968985881245},0.16713701813887383,{"$f":"new_yll(5,B185,C185,D185,$C$1,G185,1,F185,F185,SIMDrateratios,RateRatios!$B$3)*1000","v":453148.20328138728},{"$f":"new_yll(5,B185,C185,D185,$C$1,G185+H185,1,F185,F185,SIMDrateratios,RateRatios!$B$3)*1000","v":453078.27721045178},69.92607093550032,{"$f":"new_yll(10,B185,C185,D185,$C$1,G185,1,F185,F185,SIMDrateratios,RateRatios!$B$3)*10","v":11104.28531011268},{"$f":"new_yll(10,B185,C185,D185,$C$1,G185+H185,1,F185,F185,SIMDrateratios,RateRatios!$B$3)*10","v":11102.60874441914},1.6765656935403968,{"$f":"new_yll(20,B185,C185,D185,$C$1,G185,1,F185,F185,SIMDrateratios,RateRatios!$B$3)*10","v":26700.672678248175},{"$f":"new_yll(20,B185,C185,D185,$C$1,G185+H185,1,F185,F185,SIMDrateratios,RateRatios!$B$3)*10","v":26696.907118660984},3.7655595871910919,{"$f":"hosp_count(2,B185,C185,D185,$C$1,G185,1,F185,F185,SIMDRateRatios_hosp,SIMDrateratios,RateRatios!$B$3)*10","v":1169.9606573991384},{"$f":"hosp_count(2,B185,C185,D185,$C$1,G185+H185,1,F185,F185,SIMDRateRatios_hosp,SIMDrateratios,RateRatios!$B$3)*10","v":1169.8184229743222},0.1422344248162517,{"$f":"hosp_count(5,B185,C185,D185,$C$1,G185,1,F185,F185,SIMDRateRatios_hosp,SIMDrateratios,RateRatios!$B$3)*1000","v":482303.3175430625},{"$f":"hosp_count(5,B185,C185,D185,$C$1,G185+H185,1,F185,F185,SIMDRateRatios_hosp,SIMDrateratios,RateRatios!$B$3)*1000","v":482245.41420362744},57.903339435055386,{"$f":"hosp_count(10,B185,C185,D185,$C$1,G185,1,F185,F185,SIMDRateRatios_hosp,SIMDrateratios,RateRatios!$B$3)*10","v":11379.122046855104},{"$f":"hosp_count(10,B185,C185,D185,$C$1,G185+H185,1,F185,F185,SIMDRateRatios_hosp,SIMDrateratios,RateRatios!$B$3)*10","v":11377.791434625196},1.330612229907274,{"$f":"hosp_count(20,B185,C185,D185,$C$1,G185,1,F185,F185,SIMDRateRatios_hosp,SIMDrateratios,RateRatios!$B$3)*10","v":25981.336438715451},{"$f":"hosp_count(20,B185,C185,D185,$C$1,G185+H185,1,F185,F185,SIMDRateRatios_hosp,SIMDrateratios,RateRatios!$B$3)*10","v":25978.539246116867},2.7971925985839334]
["Female 60-64",62.5,"female",3,1,{"$f":"HLOOKUP('III Tool Overview'!$H$6,LookUpData_Pop!$B$1:$AV$269,LookUpData_Pop!BB182,FALSE)/50","v":400.74},{"$f":"'III Tool Overview'!$H$9/110","v":0},400.74,{"$f":"new_ci(2,B186,C186,D186,$C$1,G186,1,F186,E186*F186,SIMDrateratios,RateRatios!$B$3)*10","v":33.603690386561397},{"$f":"new_ci(2,B186,C186,D186,$C$1,G186+H186,1,H186,H186,SIMDrateratios,RateRatios!$B$3)*10","v":33.598451363626651},{"$f":"new_ci(5,B186,C186,D186,$C$1,G186,1,F186,F186,SIMDrateratios,RateRatios!$B$3)*1000","v":14712.522942205107},{"$f":"new_ci(5,B186,C186,D186,$C$1,H186,1,F186,F186,SIMDrateratios,RateRatios!$B$3)*1000","v":14710.26229007953},{"$f":"new_ci(10,B186,C186,D186,$C$1,G186,1,F186,F186,SIMDrateratios,RateRatios!$B$3)*10","v":384.94036601065721},{"$f":"new_ci(10,B186,C186,D186,$C$1,G186+H186,1,F186,F186,SIMDrateratios,RateRatios!$B$3)*10","v":384.88308961959234},{"$f":"new_ci(20,B186,C186,D186,$C$1,G186,1,F186,F186,SIMDrateratios,RateRatios!$B$3)*10","v":1084.9718799113289},{"$f":"new_ci(20,B186,C186,D186,$C$1,G186+H186,1,F186,F186,SIMDrateratios,RateRatios!$B$3)*10","v":1084.8274156895916},{"$f":"new_yll(2,B186,C186,D186,$C$1,G186,1,F186,F186,SIMDrateratios,RateRatios!$B$3)*10","v":1243.3365443027717},{"$f":"new_yll(2,B186,C186,D186,$C$1,G186+H186,1,F186,F186,SIMDrateratios,RateRatios!$B$3)*10","v":1243.1427004541861},0.19384384858562953,{"$f":"new_yll(5,B186,C186,D186,$C$1,G186,1,F186,F186,SIMDrateratios,RateRatios!$B$3)*1000","v":521218.25948456401},{"$f":"new_yll(5,B186,C186,D186,$C$1,G186+H186,1,F186,F186,SIMDrateratios,RateRatios!$B$3)*1000","v":521138.14486316394},80.11462140007643,{"$f":"new_yll(10,B186,C186,D186,$C$1,G186,1,F186,F186,SIMDrateratios,RateRatios!$B$3)*10","v":12558.227199342416},{"$f":"new_yll(10,B186,C186,D186,$C$1,G186+H186,1,F186,F186,SIMDrateratios,RateRatios!$B$3)*10","v":12556.354166956791},1.8730323856252653,{"$f":"new_yll(20,B186,C186,D186,$C$1,G186,1,F186,F186,SIMDrateratios,RateRatios!$B$3)*10","v":28741.910136959577},{"$f":"new_yll(20,B186,C186,D186,$C$1,G186+H186,1,F186,F186,SIMDrateratios,RateRatios!$B$3)*10","v":28738.002288990578},3.9078479689997039,{"$f":"hosp_count(2,B186,C186,D186,$C$1,G186,1,F186,F186,SIMDRateRatios_hosp,SIMDrateratios,RateRatios!$B$3)*10","v":1197.0800507703557},{"$f":"hosp_count(2,B186,C186,D186,$C$1,G186+H186,1,F186,F186,SIMDRateRatios_hosp,SIMDrateratios,RateRatios!$B$3)*10","v":1196.9343440634505},0.14570670690523002,{"$f":"hosp_count(5,B186,C186,D186,$C$1,G186,1,F186,F186,SIMDRateRatios_hosp,SIMDrateratios,RateRatios!$B$3)*1000","v":491632.85193324852},{"$f":"hosp_count(5,B186,C186,D186,$C$1,G186+H186,1,F186,F186,SIMDRateRatios_hosp,SIMDrateratios,RateRatios!$B$3)*1000","v":491574.04462285532},58.807310393196531,{"$f":"hosp_count(10,B186,C186,D186,$C$1,G186,1,F186,F186,SIMDRateRatios_hosp,SIMDrateratios,RateRatios!$B$3)*10","v":11510.095183540143},{"$f":"hosp_count(10,B186,C186,D186,$C$1,G186+H186,1,F186,F186,SIMDRateRatios_hosp,SIMDrateratios,RateRatios!$B$3)*10","v":11508.767965350597},1.3272181895463291,{"$f":"hosp_count(20,B186,C186,D186,$C$1,G186,1,F186,F186,SIMDRateRatios_hosp,SIMDrateratios,RateRatios!$B$3)*10","v":25689.707206884199},{"$f":"hosp_count(20,B186,C186,D186,$C$1,G186+H186,1,F186,F186,SIMDRateRatios_hosp,SIMDrateratios,RateRatios!$B$3)*10","v":25687.068316451005},2.6388904331943195]
["Female 65-69",67.5,"female",3,1,{"$f":"HLOOKUP('III Tool Overview'!$H$6,LookUpData_Pop!$B$1:$AV$269,LookUpData_Pop!BB183,FALSE)/50","v":317.77999999999997},{"$f":"'III Tool Overview'!$H$9/110","v":0},317.77999999999997,{"$f":"new_ci(2,B187,C187,D187,$C$1,G187,1,F187,E187*F187,SIMDrateratios,RateRatios!$B$3)*10","v":43.448634917041822},{"$f":"new_ci(2,B187,C187,D187,$C$1,G187+H187,1,H187,H187,SIMDrateratios,RateRatios!$B$3)*10","v":43.4418788261695},{"$f":"new_ci(5,B187,C187,D187,$C$1,G187,1,F187,F187,SIMDrateratios,RateRatios!$B$3)*1000","v":18850.41091671948},{"$f":"new_ci(5,B187,C187,D187,$C$1,H187,1,F187,F187,SIMDrateratios,RateRatios!$B$3)*1000","v":18847.548794639297},{"$f":"new_ci(10,B187,C187,D187,$C$1,G187,1,F187,F187,SIMDrateratios,RateRatios!$B$3)*10","v":483.64588777720701},{"$f":"new_ci(10,B187,C187,D187,$C$1,G187+H187,1,F187,F187,SIMDrateratios,RateRatios!$B$3)*10","v":483.57624122411391},{"$f":"new_ci(20,B187,C187,D187,$C$1,G187,1,F187,F187,SIMDrateratios,RateRatios!$B$3)*10","v":1281.2921939582316},{"$f":"new_ci(20,B187,C187,D187,$C$1,G187+H187,1,F187,F187,SIMDrateratios,RateRatios!$B$3)*10","v":1281.1389156026555},{"$f":"new_yll(2,B187,C187,D187,$C$1,G187,1,F187,F187,SIMDrateratios,RateRatios!$B$3)*10","v":1346.9076824282965},{"$f":"new_yll(2,B187,C187,D187,$C$1,G187+H187,1,F187,F187,SIMDrateratios,RateRatios!$B$3)*10","v":1346.6982436112544},0.20943881704215528,{"$f":"new_yll(5,B187,C187,D187,$C$1,G187,1,F187,F187,SIMDrateratios,RateRatios!$B$3)*1000","v":554847.64312842581},{"$f":"new_yll(5,B187,C187,D187,$C$1,G187+H187,1,F187,F187,SIMDrateratios,RateRatios!$B$3)*1000","v":554763.34246590093},84.300662524881773,{"$f":"new_yll(10,B187,C187,D187,$C$1,G187,1,F187,F187,SIMDrateratios,RateRatios!$B$3)*10","v":12899.223439163969},{"$f":"new_yll(10,B187,C187,D187,$C$1,G187+H187,1,F187,F187,SIMDrateratios,RateRatios!$B$3)*10","v":12897.356748575019},1.8666905889494956,{"$f":"new_yll(20,B187,C187,D187,$C$1,G187,1,F187,F187,SIMDrateratios,RateRatios!$B$3)*10","v":26642.276046383158},{"$f":"new_yll(20,B187,C187,D187,$C$1,G187+H187,1,F187,F187,SIMDrateratios,RateRatios!$B$3)*10","v":26638.932743697871},3.343302685287199,{"$f":"hosp_count(2,B187,C187,D187,$C$1,G187,1,F187,F187,SIMDRateRatios_hosp,SIMDrateratios,RateRatios!$B$3)*10","v":1100.5463925493691},{"$f":"hosp_count(2,B187,C187,D187,$C$1,G187+H187,1,F187,F187,SIMDRateRatios_hosp,SIMDrateratios,RateRatios!$B$3)*10","v":1100.412429944229},0.13396260514014102,{"$f":"hosp_count(5,B187,C187,D187,$C$1,G187,1,F187,F187,SIMDRateRatios_hosp,SIMDrateratios,RateRatios!$B$3)*1000","v":448159.43735050317},{"$f":"hosp_count(5,B187,C187,D187,$C$1,G187+H187,1,F187,F187,SIMDRateRatios_hosp,SIMDrateratios,RateRatios!$B$3)*1000","v":448106.41854663362},53.018803869548719,{"$f":"hosp_count(10,B187,C187,D187,$C$1,G187,1,F187,F187,SIMDRateRatios_hosp,SIMDrateratios,RateRatios!$B$3)*10","v":10312.016905829234},{"$f":"hosp_count(10,B187,C187,D187,$C$1,G187+H187,1,F187,F187,SIMDRateRatios_hosp,SIMDrateratios,RateRatios!$B$3)*10","v":10310.868442066538},1.1484637626963377,{"$f":"hosp_count(20,B187,C187,D187,$C$1,G187,1,F187,F187,SIMDRateRatios_hosp,SIMDrateratios,RateRatios!$B$3)*10","v":21899.852540958367},{"$f":"hosp_count(20,B187,C187,D187,$C$1,G187+H187,1,F187,F187,SIMDRateRatios_hosp,SIMDrateratios,RateRatios!$B$3)*10","v":21897.840453367629},2.0120875907377922]
["Female 70-74",72.5,"female",3,1,{"$f":"HLOOKUP('III Tool Overview'!$H$6,LookUpData_Pop!$B$1:$AV$269,LookUpData_Pop!BB184,FALSE)/50","v":299.33999999999997},{"$f":"'III Tool Overview'!$H$9/110","v":0},299.33999999999997,{"$f":"new_ci(2,B188,C188,D188,$C$1,G188,1,F188,E188*F188,SIMDrateratios,RateRatios!$B$3)*10","v":56.647524469013455},{"$f":"new_ci(2,B188,C188,D188,$C$1,G188+H188,1,H188,H188,SIMDrateratios,RateRatios!$B$3)*10","v":56.638755593648099},{"$f":"new_ci(5,B188,C188,D188,$C$1,G188,1,F188,F188,SIMDrateratios,RateRatios!$B$3)*1000","v":24355.385641493849},{"$f":"new_ci(5,B188,C188,D188,$C$1,H188,1,F188,F188,SIMDrateratios,RateRatios!$B$3)*1000","v":24351.738462986505},{"$f":"new_ci(10,B188,C188,D188,$C$1,G188,1,F188,F188,SIMDrateratios,RateRatios!$B$3)*10","v":612.97376525299228},{"$f":"new_ci(10,B188,C188,D188,$C$1,G188+H188,1,F188,F188,SIMDrateratios,RateRatios!$B$3)*10","v":612.88852147960665},{"$f":"new_ci(20,B188,C188,D188,$C$1,G188,1,F188,F188,SIMDrateratios,RateRatios!$B$3)*10","v":1531.014220402365},{"$f":"new_ci(20,B188,C188,D188,$C$1,G188+H188,1,F188,F188,SIMDrateratios,RateRatios!$B$3)*10","v":1530.8504921885437},{"$f":"new_yll(2,B188,C188,D188,$C$1,G188,1,F188,F188,SIMDrateratios,RateRatios!$B$3)*10","v":1529.4831606633634},{"$f":"new_yll(2,B188,C188,D188,$C$1,G188+H188,1,F188,F188,SIMDrateratios,RateRatios!$B$3)*10","v":1529.2464010284984},0.23675963486493856,{"$f":"new_yll(5,B188,C188,D188,$C$1,G188,1,F188,F188,SIMDrateratios,RateRatios!$B$3)*1000","v":619640.94194602373},{"$f":"new_yll(5,B188,C188,D188,$C$1,G188+H188,1,F188,F188,SIMDrateratios,RateRatios!$B$3)*1000","v":619548.05104816495},92.890897858771496,{"$f":"new_yll(10,B188,C188,D188,$C$1,G188,1,F188,F188,SIMDrateratios,RateRatios!$B$3)*10","v":13925.370586357032},{"$f":"new_yll(10,B188,C188,D188,$C$1,G188+H188,1,F188,F188,SIMDrateratios,RateRatios!$B$3)*10","v":13923.417955620569},1.9526307364631066,{"$f":"new_yll(20,B188,C188,D188,$C$1,G188,1,F188,F188,SIMDrateratios,RateRatios!$B$3)*10","v":26172.193884652876},{"$f":"new_yll(20,B188,C188,D188,$C$1,G188+H188,1,F188,F188,SIMDrateratios,RateRatios!$B$3)*10","v":26169.137516111579},3.0563685412962514,{"$f":"hosp_count(2,B188,C188,D188,$C$1,G188,1,F188,F188,SIMDRateRatios_hosp,SIMDrateratios,RateRatios!$B$3)*10","v":1144.091461477318},{"$f":"hosp_count(2,B188,C188,D188,$C$1,G188+H188,1,F188,F188,SIMDRateRatios_hosp,SIMDrateratios,RateRatios!$B$3)*10","v":1143.9524528198012},0.13900865751679703,{"$f":"hosp_count(5,B188,C188,D188,$C$1,G188,1,F188,F188,SIMDRateRatios_hosp,SIMDrateratios,RateRatios!$B$3)*1000","v":461970.68115234451},{"$f":"hosp_count(5,B188,C188,D188,$C$1,G188+H188,1,F188,F188,SIMDRateRatios_hosp,SIMDrateratios,RateRatios!$B$3)*1000","v":461916.72930537048},53.95184697402874,{"$f":"hosp_count(10,B188,C188,D188,$C$1,G188,1,F188,F188,SIMDRateRatios_hosp,SIMDrateratios,RateRatios!$B$3)*10","v":10450.264302540283},{"$f":"hosp_count(10,B188,C188,D188,$C$1,G188+H188,1,F188,F188,SIMDRateRatios_hosp,SIMDrateratios,RateRatios!$B$3)*10","v":10449.142618834441},1.1216837058418605,{"$f":"hosp_count(20,B188,C188,D188,$C$1,G188,1,F188,F188,SIMDRateRatios_hosp,SIMDrateratios,RateRatios!$B$3)*10","v":21175.04028289135},{"$f":"hosp_count(20,B188,C188,D188,$C$1,G188+H188,1,F188,F188,SIMDRateRatios_hosp,SIMDrateratios,RateRatios!$B$3)*10","v":21173.308325361417},1.7319575299334247]
["Female 75-79",77.5,"female",3,1,{"$f":"HLOOKUP('III Tool Overview'!$H$6,LookUpData_Pop!$B$1:$AV$269,LookUpData_Pop!BB185,FALSE)/50","v":261.5},{"$f":"'III Tool Overview'!$H$9/110","v":0},261.5,{"$f":"new_ci(2,B189,C189,D189,$C$1,G189,1,F189,E189*F189,SIMDrateratios,RateRatios!$B$3)*10","v":80.417221784006756},{"$f":"new_ci(2,B189,C189,D189,$C$1,G189+H189,1,H189,H189,SIMDrateratios,RateRatios!$B$3)*10","v":80.404811244753972},{"$f":"new_ci(5,B189,C189,D189,$C$1,G189,1,F189,F189,SIMDrateratios,RateRatios!$B$3)*1000","v":33876.957468998648},{"$f":"new_ci(5,B189,C189,D189,$C$1,H189,1,F189,F189,SIMDrateratios,RateRatios!$B$3)*1000","v":33872.006686054003},{"$f":"new_ci(10,B189,C189,D189,$C$1,G189,1,F189,F189,SIMDrateratios,RateRatios!$B$3)*10","v":817.01762601621749},{"$f":"new_ci(10,B189,C189,D189,$C$1,G189+H189,1,F189,F189,SIMDrateratios,RateRatios!$B$3)*10","v":816.91204021564931},{"$f":"new_ci(20,B189,C189,D189,$C$1,G189,1,F189,F189,SIMDrateratios,RateRatios!$B$3)*10","v":1804.3038662584615},{"$f":"new_ci(20,B189,C189,D189,$C$1,G189+H189,1,F189,F189,SIMDrateratios,RateRatios!$B$3)*10","v":1804.1550184895425},{"$f":"new_yll(2,B189,C189,D189,$C$1,G189,1,F189,F189,SIMDrateratios,RateRatios!$B$3)*10","v":1688.761657464142},{"$f":"new_yll(2,B189,C189,D189,$C$1,G189+H189,1,F189,F189,SIMDrateratios,RateRatios!$B$3)*10","v":1688.5010361398331},0.26062132430888596,{"$f":"new_yll(5,B189,C189,D189,$C$1,G189,1,F189,F189,SIMDrateratios,RateRatios!$B$3)*1000","v":659192.68152871029},{"$f":"new_yll(5,B189,C189,D189,$C$1,G189+H189,1,F189,F189,SIMDrateratios,RateRatios!$B$3)*1000","v":659096.11733178946},96.564196920837276,{"$f":"new_yll(10,B189,C189,D189,$C$1,G189,1,F189,F189,SIMDrateratios,RateRatios!$B$3)*10","v":13745.747353070925},{"$f":"new_yll(10,B189,C189,D189,$C$1,G189+H189,1,F189,F189,SIMDrateratios,RateRatios!$B$3)*10","v":13743.935830823888},1.811522247036919,{"$f":"new_yll(20,B189,C189,D189,$C$1,G189,1,F189,F189,SIMDrateratios,RateRatios!$B$3)*10","v":21239.168789205927},{"$f":"new_yll(20,B189,C189,D189,$C$1,G189+H189,1,F189,F189,SIMDrateratios,RateRatios!$B$3)*10","v":21236.930075912274},2.238713293652836,{"$f":"hosp_count(2,B189,C189,D189,$C$1,G189,1,F189,F189,SIMDRateRatios_hosp,SIMDrateratios,RateRatios!$B$3)*10","v":1158.7479468018362},{"$f":"hosp_count(2,B189,C189,D189,$C$1,G189+H189,1,F189,F189,SIMDRateRatios_hosp,SIMDrateratios,RateRatios!$B$3)*10","v":1158.6067277645657},0.14121903727050267,{"$f":"hosp_count(5,B189,C189,D189,$C$1,G189,1,F189,F189,SIMDRateRatios_hosp,SIMDrateratios,RateRatios!$B$3)*1000","v":459059.68449600512},{"$f":"hosp_count(5,B189,C189,D189,$C$1,G189+H189,1,F189,F189,SIMDRateRatios_hosp,SIMDrateratios,RateRatios!$B$3)*1000","v":459007.24825268012},52.436243325006217,{"$f":"hosp_count(10,B189,C189,D189,$C$1,G189,1,F189,F189,SIMDRateRatios_hosp,SIMDrateratios,RateRatios!$B$3)*10","v":10000.218951037203},{"$f":"hosp_count(10,B189,C189,D189,$C$1,G189+H189,1,F189,F189,SIMDRateRatios_hosp,SIMDrateratios,RateRatios!$B$3)*10","v":9999.2260407130962},0.99291032410656044,{"$f":"hosp_count(20,B189,C189,D189,$C$1,G189,1,F189,F189,SIMDRateRatios_hosp,SIMDrateratios,RateRatios!$B$3)*10","v":18384.80234717339},{"$f":"hosp_count(20,B189,C189,D189,$C$1,G189+H189,1,F189,F189,SIMDRateRatios_hosp,SIMDrateratios,RateRatios!$B$3)*10","v":18383.651913717182},1.1504334562087024]
["Female 80-84",82.5,"female",3,1,{"$f":"HLOOKUP('III Tool Overview'!$H$6,LookUpData_Pop!$B$1:$AV$269,LookUpData_Pop!BB186,FALSE)/50","v":193.5},{"$f":"'III Tool Overview'!$H$9/110","v":0},193.5,{"$f":"new_ci(2,B190,C190,D190,$C$1,G190,1,F190,E190*F190,SIMDrateratios,RateRatios!$B$3)*10","v":82.085638251986879},{"$f":"new_ci(2,B190,C190,D190,$C$1,G190+H190,1,H190,H190,SIMDrateratios,RateRatios!$B$3)*10","v":82.073038738098234},{"$f":"new_ci(5,B190,C190,D190,$C$1,G190,1,F190,F190,SIMDrateratios,RateRatios!$B$3)*1000","v":33890.316779041837},{"$f":"new_ci(5,B190,C190,D190,$C$1,H190,1,F190,F190,SIMDrateratios,RateRatios!$B$3)*1000","v":33885.495829528874},{"$f":"new_ci(10,B190,C190,D190,$C$1,G190,1,F190,F190,SIMDrateratios,RateRatios!$B$3)*10","v":784.44561921652121},{"$f":"new_ci(10,B190,C190,D190,$C$1,G190+H190,1,F190,F190,SIMDrateratios,RateRatios!$B$3)*10","v":784.35178828437938},{"$f":"new_ci(20,B190,C190,D190,$C$1,G190,1,F190,F190,SIMDrateratios,RateRatios!$B$3)*10","v":1554.0799489681924},{"$f":"new_ci(20,B190,C190,D190,$C$1,G190+H190,1,F190,F190,SIMDrateratios,RateRatios!$B$3)*10","v":1553.9828203188629},{"$f":"new_yll(2,B190,C190,D190,$C$1,G190,1,F190,F190,SIMDrateratios,RateRatios!$B$3)*10","v":1395.455850283777},{"$f":"new_yll(2,B190,C190,D190,$C$1,G190+H190,1,F190,F190,SIMDrateratios,RateRatios!$B$3)*10","v":1395.2416585476701},0.21419173610684084,{"$f":"new_yll(5,B190,C190,D190,$C$1,G190,1,F190,F190,SIMDrateratios,RateRatios!$B$3)*1000","v":524459.8072084653},{"$f":"new_yll(5,B190,C190,D190,$C$1,G190+H190,1,F190,F190,SIMDrateratios,RateRatios!$B$3)*1000","v":524384.88297920581},74.92422925948631,{"$f":"new_yll(10,B190,C190,D190,$C$1,G190,1,F190,F190,SIMDrateratios,RateRatios!$B$3)*10","v":10143.251165705025},{"$f":"new_yll(10,B190,C190,D190,$C$1,G190+H190,1,F190,F190,SIMDrateratios,RateRatios!$B$3)*10","v":10141.991223694364},1.259942010661689,{"$f":"new_yll(20,B190,C190,D190,$C$1,G190,1,F190,F190,SIMDrateratios,RateRatios!$B$3)*10","v":13094.88458934064},{"$f":"new_yll(20,B190,C190,D190,$C$1,G190+H190,1,F190,F190,SIMDrateratios,RateRatios!$B$3)*10","v":13093.507271665667},1.3773176749728009,{"$f":"hosp_count(2,B190,C190,D190,$C$1,G190,1,F190,F190,SIMDRateRatios_hosp,SIMDrateratios,RateRatios!$B$3)*10","v":946.26428769731876},{"$f":"hosp_count(2,B190,C190,D190,$C$1,G190+H190,1,F190,F190,SIMDRateRatios_hosp,SIMDrateratios,RateRatios!$B$3)*10","v":946.14888714662311},0.11540055069565369,{"$f":"hosp_count(5,B190,C190,D190,$C$1,G190,1,F190,F190,SIMDRateRatios_hosp,SIMDrateratios,RateRatios!$B$3)*1000","v":367893.62367649528},{"$f":"hosp_count(5,B190,C190,D190,$C$1,G190+H190,1,F190,F190,SIMDRateRatios_hosp,SIMDrateratios,RateRatios!$B$3)*1000","v":367852.62092721136},41.002749283914454,{"$f":"hosp_count(10,B190,C190,D190,$C$1,G190,1,F190,F190,SIMDRateRatios_hosp,SIMDrateratios,RateRatios!$B$3)*10","v":7728.8168139094514},{"$f":"hosp_count(10,B190,C190,D190,$C$1,G190+H190,1,F190,F190,SIMDRateRatios_hosp,SIMDrateratios,RateRatios!$B$3)*10","v":7728.1097784067151},0.70703550273628935,{"$f":"hosp_count(20,B190,C190,D190,$C$1,G190,1,F190,F190,SIMDRateRatios_hosp,SIMDrateratios,RateRatios!$B$3)*10","v":13052.81919970429},{"$f":"hosp_count(20,B190,C190,D190,$C$1,G190+H190,1,F190,F190,SIMDRateRatios_hosp,SIMDrateratios,RateRatios!$B$3)*10","v":13052.204716517877},0.61448318641305377]
["Female 85-89",87.5,"female",3,1,{"$f":"HLOOKUP('III Tool Overview'!$H$6,LookUpData_Pop!$B$1:$AV$269,LookUpData_Pop!BB187,FALSE)/50","v":126.06},{"$f":"'III Tool Overview'!$H$9/110","v":0},126.06,{"$f":"new_ci(2,B191,C191,D191,$C$1,G191,1,F191,E191*F191,SIMDrateratios,RateRatios!$B$3)*10","v":86.243920545427869},{"$f":"new_ci(2,B191,C191,D191,$C$1,G191+H191,1,H191,H191,SIMDrateratios,RateRatios!$B$3)*10","v":86.230905199901159},{"$f":"new_ci(5,B191,C191,D191,$C$1,G191,1,F191,F191,SIMDrateratios,RateRatios!$B$3)*1000","v":34043.357769554212},{"$f":"new_ci(5,B191,C191,D191,$C$1,H191,1,F191,F191,SIMDrateratios,RateRatios!$B$3)*1000","v":34038.827746554402},{"$f":"new_ci(10,B191,C191,D191,$C$1,G191,1,F191,F191,SIMDrateratios,RateRatios!$B$3)*10","v":721.7526345034322},{"$f":"new_ci(10,B191,C191,D191,$C$1,G191+H191,1,F191,F191,SIMDrateratios,RateRatios!$B$3)*10","v":721.68100822566953},{"$f":"new_ci(20,B191,C191,D191,$C$1,G191,1,F191,F191,SIMDrateratios,RateRatios!$B$3)*10","v":1172.1685345286719},{"$f":"new_ci(20,B191,C191,D191,$C$1,G191+H191,1,F191,F191,SIMDrateratios,RateRatios!$B$3)*10","v":1172.1317799099731},{"$f":"new_yll(2,B191,C191,D191,$C$1,G191,1,F191,F191,SIMDrateratios,RateRatios!$B$3)*10","v":948.68312599970648},{"$f":"new_yll(2,B191,C191,D191,$C$1,G191+H191,1,F191,F191,SIMDrateratios,RateRatios!$B$3)*10","v":948.5399571989127},0.1431688007937737,{"$f":"new_yll(5,B191,C191,D191,$C$1,G191,1,F191,F191,SIMDrateratios,RateRatios!$B$3)*1000","v":323864.17101710034},{"$f":"new_yll(5,B191,C191,D191,$C$1,G191+H191,1,F191,F191,SIMDrateratios,RateRatios!$B$3)*1000","v":323820.55422413623},43.616792964108754,{"$f":"new_yll(10,B191,C191,D191,$C$1,G191,1,F191,F191,SIMDrateratios,RateRatios!$B$3)*10","v":5174.6951204304469},{"$f":"new_yll(10,B191,C191,D191,$C$1,G191+H191,1,F191,F191,SIMDrateratios,RateRatios!$B$3)*10","v":5174.1126732996609},0.58244713078602217,{"$f":"new_yll(20,B191,C191,D191,$C$1,G191,1,F191,F191,SIMDrateratios,RateRatios!$B$3)*10","v":4438.8209304413613},{"$f":"new_yll(20,B191,C191,D191,$C$1,G191+H191,1,F191,F191,SIMDrateratios,RateRatios!$B$3)*10","v":4438.0892719315825},0.7316585097787538,{"$f":"hosp_count(2,B191,C191,D191,$C$1,G191,1,F191,F191,SIMDRateRatios_hosp,SIMDrateratios,RateRatios!$B$3)*10","v":714.71036057326342},{"$f":"hosp_count(2,B191,C191,D191,$C$1,G191+H191,1,F191,F191,SIMDRateRatios_hosp,SIMDrateratios,RateRatios!$B$3)*10","v":714.62346493234338},8.6895640920033657E-2,{"$f":"hosp_count(5,B191,C191,D191,$C$1,G191,1,F191,F191,SIMDRateRatios_hosp,SIMDrateratios,RateRatios!$B$3)*1000","v":266449.97562210716},{"$f":"hosp_count(5,B191,C191,D191,$C$1,G191+H191,1,F191,F191,SIMDRateRatios_hosp,SIMDrateratios,RateRatios!$B$3)*1000","v":266422.02442246396},27.951199643197469,{"$f":"hosp_count(10,B191,C191,D191,$C$1,G191,1,F191,F191,SIMDRateRatios_hosp,SIMDrateratios,RateRatios!$B$3)*10","v":5180.9628852171645},{"$f":"hosp_count(10,B191,C191,D191,$C$1,G191+H191,1,F191,F191,SIMDRateRatios_hosp,SIMDrateratios,RateRatios!$B$3)*10","v":5180.5736054177587},0.38927979940581281,{"$f":"hosp_count(20,B191,C191,D191,$C$1,G191,1,F191,F191,SIMDRateRatios_hosp,SIMDrateratios,RateRatios!$B$3)*10","v":7507.2516290822441},{"$f":"hosp_count(20,B191,C191,D191,$C$1,G191+H191,1,F191,F191,SIMDRateRatios_hosp,SIMDrateratios,RateRatios!$B$3)*10","v":7507.0772321240747},0.17439695816938183]
["Female 90+",95,"female",3,1,{"$f":"HLOOKUP('III Tool Overview'!$H$6,LookUpData_Pop!$B$1:$AV$269,LookUpData_Pop!BB188,FALSE)/50","v":62.34},{"$f":"'III Tool Overview'!$H$9/110","v":0},62.34,{"$f":"new_ci(2,B192,C192,D192,$C$1,G192,1,F192,E192*F192,SIMDrateratios,RateRatios!$B$3)*10","v":73.66480855371573},{"$f":"new_ci(2,B192,C192,D192,$C$1,G192+H192,1,H192,H192,SIMDrateratios,RateRatios!$B$3)*10","v":73.654051144947402},{"$f":"new_ci(5,B192,C192,D192,$C$1,G192,1,F192,F192,SIMDrateratios,RateRatios!$B$3)*1000","v":26680.145013262027},{"$f":"new_ci(5,B192,C192,D192,$C$1,H192,1,F192,F192,SIMDrateratios,RateRatios!$B$3)*1000","v":26677.045323369493},{"$f":"new_ci(10,B192,C192,D192,$C$1,G192,1,F192,F192,SIMDrateratios,RateRatios!$B$3)*10","v":485.42659105356114},{"$f":"new_ci(10,B192,C192,D192,$C$1,G192+H192,1,F192,F192,SIMDrateratios,RateRatios!$B$3)*10","v":485.39420778040949},{"$f":"new_ci(20,B192,C192,D192,$C$1,G192,1,F192,F192,SIMDrateratios,RateRatios!$B$3)*10","v":617.81401971814307},{"$f":"new_ci(20,B192,C192,D192,$C$1,G192+H192,1,F192,F192,SIMDrateratios,RateRatios!$B$3)*10","v":617.80991984154048},{"$f":"new_yll(2,B192,C192,D192,$C$1,G192,1,F192,F192,SIMDrateratios,RateRatios!$B$3)*10","v":294.65923421486292},{"$f":"new_yll(2,B192,C192,D192,$C$1,G192+H192,1,F192,F192,SIMDrateratios,RateRatios!$B$3)*10","v":294.61620457978961},4.3029635073310146E-2,{"$f":"new_yll(5,B192,C192,D192,$C$1,G192,1,F192,F192,SIMDrateratios,RateRatios!$B$3)*1000","v":69071.378390709884},{"$f":"new_yll(5,B192,C192,D192,$C$1,G192+H192,1,F192,F192,SIMDrateratios,RateRatios!$B$3)*1000","v":69062.6381209182},8.7402697916841134,{"$f":"new_yll(10,B192,C192,D192,$C$1,G192,1,F192,F192,SIMDrateratios,RateRatios!$B$3)*10","v":305.7680019536615},{"$f":"new_yll(10,B192,C192,D192,$C$1,G192+H192,1,F192,F192,SIMDrateratios,RateRatios!$B$3)*10","v":305.67059234082313},9.7409612838362136E-2,{"$f":"new_yll(20,B192,C192,D192,$C$1,G192,1,F192,F192,SIMDrateratios,RateRatios!$B$3)*10","v":-717.9457298711385},{"$f":"new_yll(20,B192,C192,D192,$C$1,G192+H192,1,F192,F192,SIMDrateratios,RateRatios!$B$3)*10","v":-718.29874370921425},0.35301383807575348,{"$f":"hosp_count(2,B192,C192,D192,$C$1,G192,1,F192,F192,SIMDRateRatios_hosp,SIMDrateratios,RateRatios!$B$3)*10","v":419.99528635289403},{"$f":"hosp_count(2,B192,C192,D192,$C$1,G192+H192,1,F192,F192,SIMDRateRatios_hosp,SIMDrateratios,RateRatios!$B$3)*10","v":419.94447696317172},5.0809389722303422E-2,{"$f":"hosp_count(5,B192,C192,D192,$C$1,G192,1,F192,F192,SIMDRateRatios_hosp,SIMDrateratios,RateRatios!$B$3)*1000","v":144472.2267867811},{"$f":"hosp_count(5,B192,C192,D192,$C$1,G192+H192,1,F192,F192,SIMDRateRatios_hosp,SIMDrateratios,RateRatios!$B$3)*1000","v":144458.78359557543},13.443191205675248,{"$f":"hosp_count(10,B192,C192,D192,$C$1,G192,1,F192,F192,SIMDRateRatios_hosp,SIMDrateratios,RateRatios!$B$3)*10","v":2456.1111583679549},{"$f":"hosp_count(10,B192,C192,D192,$C$1,G192+H192,1,F192,F192,SIMDRateRatios_hosp,SIMDrateratios,RateRatios!$B$3)*10","v":2455.9891422871788},0.12201608077612036,{"$f":"hosp_count(20,B192,C192,D192,$C$1,G192,1,F192,F192,SIMDRateRatios_hosp,SIMDrateratios,RateRatios!$B$3)*10","v":2957.1310631881529},{"$f":"hosp_count(20,B192,C192,D192,$C$1,G192+H192,1,F192,F192,SIMDRateRatios_hosp,SIMDrateratios,RateRatios!$B$3)*10","v":2957.1187631516896},1.2300036463329889E-2]
["TOTAL",null,null,null,null,{"$f":"SUM(F173:F192)","v":7859.1999999999989},{"$f":"SUM(G173:G192)","v":0},{"$f":"SUM(H173:H192)","v":7859.1999999999989},{"$f":"SUM(I173:I192)","v":545.7633799399199},{"$f":"SUM(J173:J192)","v":545.67983233795383},{"$f":"SUM(K173:K192)","v":226002.40937613195},{"$f":"SUM(L173:L192)","v":225970.0903732756},{"$f":"SUM(M173:M192)","v":5345.8421322696349},{"$f":"SUM(N173:N192)","v":5345.1646840620115},{"$f":"SUM(O173:O192)","v":12211.701230907331},{"$f":"SUM(P173:P192)","v":12210.487372153801},{"$f":"SUM(Q173:Q192)","v":13075.65407906453},{"$f":"SUM(R173:R192)","v":13073.630078302247},{"$f":"SUM(S173:S192)","v":2.0240007622823883},{"$f":"SUM(T173:T192)","v":5255112.6821387},{"$f":"SUM(U173:U192)","v":5254323.3604500536},{"$f":"SUM(V173:V192)","v":789.32168864779987},{"$f":"SUM(W173:W192)","v":118697.62669804657},{"$f":"SUM(X173:X192)","v":118680.50103417164},{"$f":"SUM(Y173:Y192)","v":17.125663874943413},{"$f":"SUM(Z173:Z192)","v":249992.77808214209},{"$f":"SUM(AA173:AA192)","v":249958.33087816511},{"$f":"SUM(AB173:AB192)","v":34.44720397695491},{"$f":"SUM(AC173:AC192)","v":16119.713826212195},{"$f":"SUM(AD173:AD192)","v":16117.753024879888},{"$f":"SUM(AE173:AE192)","v":1.9608013323077103},{"$f":"SUM(AF173:AF192)","v":6555620.2058498319},{"$f":"SUM(AG173:AG192)","v":6554845.3696361547},{"$f":"SUM(AH173:AH192)","v":774.83621367833257},{"$f":"SUM(AI173:AI192)","v":151272.30264753933},{"$f":"SUM(AJ173:AJ192)","v":151255.25313045614},{"$f":"SUM(AK173:AK192)","v":17.049517083238698},{"$f":"SUM(AL173:AL192)","v":333318.08604086668},{"$f":"SUM(AM173:AM192)","v":333283.70972355519},{"$f":"SUM(AN173:AN192)","v":34.376317311450748}]
["age/sex breakdown: Q4"]
["Male <1",0.5,"male",4,1,{"$f":"HLOOKUP('III Tool Overview'!$H$6,LookUpData_Pop!$B$1:$AV$269,LookUpData_Pop!BB190,FALSE)/50","v":79.38},0,{"$f":"F195","v":79.38},{"$f":"IF('III Tool Overview'!$H$6=\"Western Isles Health Board\",0,IF('III Tool Overview'!$H$6=\"Eilean Siar Local Authority\",0,new_ci(2,B195,C195,D195,$C$1,G195,1,F195,E195*F195,SIMDrateratios,RateRatios!$B$3)*10))","v":9.578608508054462E-2},{"$f":"IF('III Tool Overview'!$H$6=\"Western Isles Health Board\",0,IF('III Tool Overview'!$H$6=\"Eilean Siar Local Authority\",0,new_ci(2,B195,C195,D195,$C$1,G195+H195,1,H195,H195,SIMDrateratios,RateRatios!$B$3)*10))","v":9.5783397268019849E-2},{"$f":"IF('III Tool Overview'!$H$6=\"Western Isles Health Board\",0,IF('III Tool Overview'!$H$6=\"Eilean Siar Local Authority\",0,new_ci(5,B195,C195,D195,$C$1,G195,1,F195,F195,SIMDrateratios,RateRatios!$B$3)*1000))","v":41.903588279667794},{"$f":"IF('III Tool Overview'!$H$6=\"Western Isles Health Board\",0,IF('III Tool Overview'!$H$6=\"Eilean Siar Local Authority\",0,new_ci(5,B195,C195,D195,$C$1,H195,1,F195,F195,SIMDrateratios,RateRatios!$B$3)*1000))","v":41.902412680414407},{"$f":"IF('III Tool Overview'!$H$6=\"Western Isles Health Board\",0,IF('III Tool Overview'!$H$6=\"Eilean Siar Local Authority\",0,new_ci(10,B195,C195,D195,$C$1,G195,1,F195,F195,SIMDrateratios,RateRatios!$B$3)*10))","v":1.1006989282001689},{"$f":"IF('III Tool Overview'!$H$6=\"Western Isles Health Board\",0,IF('III Tool Overview'!$H$6=\"Eilean Siar Local Authority\",0,new_ci(10,B195,C195,D195,$C$1,G195+H195,1,F195,F195,SIMDrateratios,RateRatios!$B$3)*10))","v":1.1006680615176234},{"$f":"IF('III Tool Overview'!$H$6=\"Western Isles Health Board\",0,IF('III Tool Overview'!$H$6=\"Eilean Siar Local Authority\",0,new_ci(20,B195,C195,D195,$C$1,G195,1,F195,F195,SIMDrateratios,RateRatios!$B$3)*10))","v":3.2322765232718194},{"$f":"IF('III Tool Overview'!$H$6=\"Western Isles Health Board\",0,IF('III Tool Overview'!$H$6=\"Eilean Siar Local Authority\",0,new_ci(20,B195,C195,D195,$C$1,G195+H195,1,F195,F195,SIMDrateratios,RateRatios!$B$3)*10))","v":3.2321860031830014},{"$f":"IF('III Tool Overview'!$H$6=\"Western Isles Health Board\",0,IF('III Tool Overview'!$H$6=\"Eilean Siar Local Authority\",0,new_yll(2,B195,C195,D195,$C$1,G195,1,F195,F195,SIMDrateratios,RateRatios!$B$3)*10))","v":9.4828224229739178},{"$f":"IF('III Tool Overview'!$H$6=\"Western Isles Health Board\",0,IF('III Tool Overview'!$H$6=\"Eilean Siar Local Authority\",0,new_yll(2,B195,C195,D195,$C$1,G195+H195,1,F195,F195,SIMDrateratios,RateRatios!$B$3)*10))","v":9.4825563295339652},{"$f":"Q195-R195","v":2.6609343995254164E-4},{"$f":"IF('III Tool Overview'!$H$6=\"Western Isles Health Board\",0,IF('III Tool Overview'!$H$6=\"Eilean Siar Local Authority\",0,new_yll(5,B195,C195,D195,$C$1,G195,1,F195,F195,SIMDrateratios,RateRatios!$B$3)*1000))","v":4082.5501534241557},{"$f":"IF('III Tool Overview'!$H$6=\"Western Isles Health Board\",0,IF('III Tool Overview'!$H$6=\"Eilean Siar Local Authority\",0,new_yll(5,B195,C195,D195,$C$1,G195+H195,1,F195,F195,SIMDrateratios,RateRatios!$B$3)*1000))","v":4082.4356178623589},{"$f":"T195-U195","v":0.1145355617968562},{"$f":"IF('III Tool Overview'!$H$6=\"Western Isles Health Board\",0,IF('III Tool Overview'!$H$6=\"Eilean Siar Local Authority\",0,new_yll(10,B195,C195,D195,$C$1,G195,1,F195,F195,SIMDrateratios,RateRatios!$B$3)*10))","v":104.1408821014503},{"$f":"IF('III Tool Overview'!$H$6=\"Western Isles Health Board\",0,IF('III Tool Overview'!$H$6=\"Eilean Siar Local Authority\",0,new_yll(10,B195,C195,D195,$C$1,G195+H195,1,F195,F195,SIMDrateratios,RateRatios!$B$3)*10))","v":104.13796166782598},{"$f":"W195-X195","v":2.9204336243253692E-3},{"$f":"IF('III Tool Overview'!$H$6=\"Western Isles Health Board\",0,IF('III Tool Overview'!$H$6=\"Eilean Siar Local Authority\",0,new_yll(20,B195,C195,D195,$C$1,G195,1,F195,F195,SIMDrateratios,RateRatios!$B$3)*10))","v":285.37410022952906},{"$f":"IF('III Tool Overview'!$H$6=\"Western Isles Health Board\",0,IF('III Tool Overview'!$H$6=\"Eilean Siar Local Authority\",0,new_yll(20,B195,C195,D195,$C$1,G195+H195,1,F195,F195,SIMDrateratios,RateRatios!$B$3)*10))","v":285.36610775031295},{"$f":"Z195-AA195","v":7.9924792161136793E-3},{"$f":"IF('III Tool Overview'!$H$6=\"Western Isles Health Board\",0,IF('III Tool Overview'!$H$6=\"Eilean Siar Local Authority\",0,hosp_count(2,B195,C195,D195,$C$1,G195,1,F195,F195,SIMDRateRatios_hosp,SIMDrateratios,RateRatios!$B$3)*10))","v":26.077249729754325},{"$f":"IF('III Tool Overview'!$H$6=\"Western Isles Health Board\",0,IF('III Tool Overview'!$H$6=\"Eilean Siar Local Authority\",0,hosp_count(2,B195,C195,D195,$C$1,G195+H195,1,F195,F195,SIMDRateRatios_hosp,SIMDrateratios,RateRatios!$B$3)*10))","v":26.076680822049859},{"$f":"AC195-AD195","v":5.6890770446571537E-4},{"$f":"IF('III Tool Overview'!$H$6=\"Western Isles Health Board\",0,IF('III Tool Overview'!$H$6=\"Eilean Siar Local Authority\",0,hosp_count(5,B195,C195,D195,$C$1,G195,1,F195,F195,SIMDRateRatios_hosp,SIMDrateratios,RateRatios!$B$3)*1000))","v":11025.506353892868},{"$f":"IF('III Tool Overview'!$H$6=\"Western Isles Health Board\",0,IF('III Tool Overview'!$H$6=\"Eilean Siar Local Authority\",0,hosp_count(5,B195,C195,D195,$C$1,G195+H195,1,F195,F195,SIMDRateRatios_hosp,SIMDrateratios,RateRatios!$B$3)*1000))","v":11025.265878816926},{"$f":"AF195-AG195","v":0.24047507594150375},{"$f":"IF('III Tool Overview'!$H$6=\"Western Isles Health Board\",0,IF('III Tool Overview'!$H$6=\"Eilean Siar Local Authority\",0,hosp_count(10,B195,C195,D195,$C$1,G195,1,F195,F195,SIMDRateRatios_hosp,SIMDrateratios,RateRatios!$B$3)*10))","v":272.67214744104854},{"$f":"IF('III Tool Overview'!$H$6=\"Western Isles Health Board\",0,IF('III Tool Overview'!$H$6=\"Eilean Siar Local Authority\",0,hosp_count(10,B195,C195,D195,$C$1,G195+H195,1,F195,F195,SIMDRateRatios_hosp,SIMDrateratios,RateRatios!$B$3)*10))","v":272.66620329665659},{"$f":"AI195-AJ195","v":5.9441443919467929E-3},{"$f":"IF('III Tool Overview'!$H$6=\"Western Isles Health Board\",0,IF('III Tool Overview'!$H$6=\"Eilean Siar Local Authority\",0,hosp_count(20,B195,C195,D195,$C$1,G195,1,F195,F195,SIMDRateRatios_hosp,SIMDrateratios,RateRatios!$B$3)*10))","v":700.95782547278895},{"$f":"IF('III Tool Overview'!$H$6=\"Western Isles Health Board\",0,IF('III Tool Overview'!$H$6=\"Eilean Siar Local Authority\",0,hosp_count(20,B195,C195,D195,$C$1,G195+H195,1,F195,F195,SIMDRateRatios_hosp,SIMDrateratios,RateRatios!$B$3)*10))","v":700.94256836704187},{"$f":"AL195-AM195","v":1.5257105747082278E-2}]
["Male 1-4",2.5,"male",4,1,{"$f":"HLOOKUP('III Tool Overview'!$H$6,LookUpData_Pop!$B$1:$AV$269,LookUpData_Pop!BB191,FALSE)/50","v":311.22000000000003},0,{"$f":"F196","v":311.22000000000003},{"$f":"IF('III Tool Overview'!$H$6=\"Western Isles Health Board\",0,IF('III Tool Overview'!$H$6=\"Eilean Siar Local Authority\",0,new_ci(2,B196,C196,D196,$C$1,G196,1,F196,E196*F196,SIMDrateratios,RateRatios!$B$3)*10))","v":0.43405135110913923},{"$f":"IF('III Tool Overview'!$H$6=\"Western Isles Health Board\",0,IF('III Tool Overview'!$H$6=\"Eilean Siar Local Authority\",0,new_ci(2,B196,C196,D196,$C$1,G196+H196,1,H196,H196,SIMDrateratios,RateRatios!$B$3)*10))","v":0.43403912155933305},{"$f":"IF('III Tool Overview'!$H$6=\"Western Isles Health Board\",0,IF('III Tool Overview'!$H$6=\"Eilean Siar Local Authority\",0,new_ci(5,B196,C196,D196,$C$1,G196,1,F196,F196,SIMDrateratios,RateRatios!$B$3)*1000))","v":189.87864439676474},{"$f":"IF('III Tool Overview'!$H$6=\"Western Isles Health Board\",0,IF('III Tool Overview'!$H$6=\"Eilean Siar Local Authority\",0,new_ci(5,B196,C196,D196,$C$1,H196,1,F196,F196,SIMDrateratios,RateRatios!$B$3)*1000))","v":189.8732957583679},{"$f":"IF('III Tool Overview'!$H$6=\"Western Isles Health Board\",0,IF('III Tool Overview'!$H$6=\"Eilean Siar Local Authority\",0,new_ci(10,B196,C196,D196,$C$1,G196,1,F196,F196,SIMDrateratios,RateRatios!$B$3)*10))","v":4.9872872200645801},{"$f":"IF('III Tool Overview'!$H$6=\"Western Isles Health Board\",0,IF('III Tool Overview'!$H$6=\"Eilean Siar Local Authority\",0,new_ci(10,B196,C196,D196,$C$1,G196+H196,1,F196,F196,SIMDrateratios,RateRatios!$B$3)*10))","v":4.9871468043453779},{"$f":"IF('III Tool Overview'!$H$6=\"Western Isles Health Board\",0,IF('III Tool Overview'!$H$6=\"Eilean Siar Local Authority\",0,new_ci(20,B196,C196,D196,$C$1,G196,1,F196,F196,SIMDrateratios,RateRatios!$B$3)*10))","v":14.642435925294091},{"$f":"IF('III Tool Overview'!$H$6=\"Western Isles Health Board\",0,IF('III Tool Overview'!$H$6=\"Eilean Siar Local Authority\",0,new_ci(20,B196,C196,D196,$C$1,G196+H196,1,F196,F196,SIMDrateratios,RateRatios!$B$3)*10))","v":14.64202431280486},{"$f":"IF('III Tool Overview'!$H$6=\"Western Isles Health Board\",0,IF('III Tool Overview'!$H$6=\"Eilean Siar Local Authority\",0,new_yll(2,B196,C196,D196,$C$1,G196,1,F196,F196,SIMDrateratios,RateRatios!$B$3)*10))","v":42.102981057586504},{"$f":"IF('III Tool Overview'!$H$6=\"Western Isles Health Board\",0,IF('III Tool Overview'!$H$6=\"Eilean Siar Local Authority\",0,new_yll(2,B196,C196,D196,$C$1,G196+H196,1,F196,F196,SIMDrateratios,RateRatios!$B$3)*10))","v":42.101794791255301},{"$f":"Q196-R196","v":1.1862663312030008E-3},{"$f":"IF('III Tool Overview'!$H$6=\"Western Isles Health Board\",0,IF('III Tool Overview'!$H$6=\"Eilean Siar Local Authority\",0,new_yll(5,B196,C196,D196,$C$1,G196,1,F196,F196,SIMDrateratios,RateRatios!$B$3)*1000))","v":18119.596221259937},{"$f":"IF('III Tool Overview'!$H$6=\"Western Isles Health Board\",0,IF('III Tool Overview'!$H$6=\"Eilean Siar Local Authority\",0,new_yll(5,B196,C196,D196,$C$1,G196+H196,1,F196,F196,SIMDrateratios,RateRatios!$B$3)*1000))","v":18119.085814406615},{"$f":"T196-U196","v":0.5104068533219106},{"$f":"IF('III Tool Overview'!$H$6=\"Western Isles Health Board\",0,IF('III Tool Overview'!$H$6=\"Eilean Siar Local Authority\",0,new_yll(10,B196,C196,D196,$C$1,G196,1,F196,F196,SIMDrateratios,RateRatios!$B$3)*10))","v":461.89048136243844},{"$f":"IF('III Tool Overview'!$H$6=\"Western Isles Health Board\",0,IF('III Tool Overview'!$H$6=\"Eilean Siar Local Authority\",0,new_yll(10,B196,C196,D196,$C$1,G196+H196,1,F196,F196,SIMDrateratios,RateRatios!$B$3)*10))","v":461.87747679583663},{"$f":"W196-X196","v":1.300456660180771E-2},{"$f":"IF('III Tool Overview'!$H$6=\"Western Isles Health Board\",0,IF('III Tool Overview'!$H$6=\"Eilean Siar Local Authority\",0,new_yll(20,B196,C196,D196,$C$1,G196,1,F196,F196,SIMDrateratios,RateRatios!$B$3)*10))","v":1263.4936315049495},{"$f":"IF('III Tool Overview'!$H$6=\"Western Isles Health Board\",0,IF('III Tool Overview'!$H$6=\"Eilean Siar Local Authority\",0,new_yll(20,B196,C196,D196,$C$1,G196+H196,1,F196,F196,SIMDrateratios,RateRatios!$B$3)*10))","v":1263.4581105734665},{"$f":"Z196-AA196","v":3.5520931483006279E-2},{"$f":"IF('III Tool Overview'!$H$6=\"Western Isles Health Board\",0,IF('III Tool Overview'!$H$6=\"Eilean Siar Local Authority\",0,hosp_count(2,B196,C196,D196,$C$1,G196,1,F196,F196,SIMDRateRatios_hosp,SIMDrateratios,RateRatios!$B$3)*10))","v":109.628901309919},{"$f":"IF('III Tool Overview'!$H$6=\"Western Isles Health Board\",0,IF('III Tool Overview'!$H$6=\"Eilean Siar Local Authority\",0,hosp_count(2,B196,C196,D196,$C$1,G196+H196,1,F196,F196,SIMDRateRatios_hosp,SIMDrateratios,RateRatios!$B$3)*10))","v":109.62649981327087},{"$f":"AC196-AD196","v":2.4014966481331612E-3},{"$f":"IF('III Tool Overview'!$H$6=\"Western Isles Health Board\",0,IF('III Tool Overview'!$H$6=\"Eilean Siar Local Authority\",0,hosp_count(5,B196,C196,D196,$C$1,G196,1,F196,F196,SIMDRateRatios_hosp,SIMDrateratios,RateRatios!$B$3)*1000))","v":46349.886823550572},{"$f":"IF('III Tool Overview'!$H$6=\"Western Isles Health Board\",0,IF('III Tool Overview'!$H$6=\"Eilean Siar Local Authority\",0,hosp_count(5,B196,C196,D196,$C$1,G196+H196,1,F196,F196,SIMDRateRatios_hosp,SIMDrateratios,RateRatios!$B$3)*1000))","v":46348.87179047909},{"$f":"AF196-AG196","v":1.0150330714823212},{"$f":"IF('III Tool Overview'!$H$6=\"Western Isles Health Board\",0,IF('III Tool Overview'!$H$6=\"Eilean Siar Local Authority\",0,hosp_count(10,B196,C196,D196,$C$1,G196,1,F196,F196,SIMDRateRatios_hosp,SIMDrateratios,RateRatios!$B$3)*10))","v":1146.2092788882758},{"$f":"IF('III Tool Overview'!$H$6=\"Western Isles Health Board\",0,IF('III Tool Overview'!$H$6=\"Eilean Siar Local Authority\",0,hosp_count(10,B196,C196,D196,$C$1,G196+H196,1,F196,F196,SIMDRateRatios_hosp,SIMDrateratios,RateRatios!$B$3)*10))","v":1146.184192523448},{"$f":"AI196-AJ196","v":2.5086364827757279E-2},{"$f":"IF('III Tool Overview'!$H$6=\"Western Isles Health Board\",0,IF('III Tool Overview'!$H$6=\"Eilean Siar Local Authority\",0,hosp_count(20,B196,C196,D196,$C$1,G196,1,F196,F196,SIMDRateRatios_hosp,SIMDrateratios,RateRatios!$B$3)*10))","v":2946.0099311535964},{"$f":"IF('III Tool Overview'!$H$6=\"Western Isles Health Board\",0,IF('III Tool Overview'!$H$6=\"Eilean Siar Local Authority\",0,hosp_count(20,B196,C196,D196,$C$1,G196+H196,1,F196,F196,SIMDRateRatios_hosp,SIMDrateratios,RateRatios!$B$3)*10))","v":2945.9455682659568},{"$f":"AL196-AM196","v":6.4362887639617838E-2}]
["Male 5-9",7.5,"male",4,1,{"$f":"HLOOKUP('III Tool Overview'!$H$6,LookUpData_Pop!$B$1:$AV$269,LookUpData_Pop!BB192,FALSE)/50","v":373.06},0,373.06,{"$f":"IF('III Tool Overview'!$H$6=\"Western Isles Health Board\",0,IF('III Tool Overview'!$H$6=\"Eilean Siar Local Authority\",0,new_ci(2,B197,C197,D197,$C$1,G197,1,F197,E197*F197,SIMDrateratios,RateRatios!$B$3)*10))","v":0.8033317411579679},{"$f":"IF('III Tool Overview'!$H$6=\"Western Isles Health Board\",0,IF('III Tool Overview'!$H$6=\"Eilean Siar Local Authority\",0,new_ci(2,B197,C197,D197,$C$1,G197+H197,1,H197,H197,SIMDrateratios,RateRatios!$B$3)*10))","v":0.80330909549380958},{"$f":"IF('III Tool Overview'!$H$6=\"Western Isles Health Board\",0,IF('III Tool Overview'!$H$6=\"Eilean Siar Local Authority\",0,new_ci(5,B197,C197,D197,$C$1,G197,1,F197,F197,SIMDrateratios,RateRatios!$B$3)*1000))","v":351.37780432709667},{"$f":"IF('III Tool Overview'!$H$6=\"Western Isles Health Board\",0,IF('III Tool Overview'!$H$6=\"Eilean Siar Local Authority\",0,new_ci(5,B197,C197,D197,$C$1,H197,1,F197,F197,SIMDrateratios,RateRatios!$B$3)*1000))","v":351.36790269950978},{"$f":"IF('III Tool Overview'!$H$6=\"Western Isles Health Board\",0,IF('III Tool Overview'!$H$6=\"Eilean Siar Local Authority\",0,new_ci(10,B197,C197,D197,$C$1,G197,1,F197,F197,SIMDrateratios,RateRatios!$B$3)*10))","v":9.2266759918547496},{"$f":"IF('III Tool Overview'!$H$6=\"Western Isles Health Board\",0,IF('III Tool Overview'!$H$6=\"Eilean Siar Local Authority\",0,new_ci(10,B197,C197,D197,$C$1,G197+H197,1,F197,F197,SIMDrateratios,RateRatios!$B$3)*10))","v":9.226416188743304},{"$f":"IF('III Tool Overview'!$H$6=\"Western Isles Health Board\",0,IF('III Tool Overview'!$H$6=\"Eilean Siar Local Authority\",0,new_ci(20,B197,C197,D197,$C$1,G197,1,F197,F197,SIMDrateratios,RateRatios!$B$3)*10))","v":27.066185337281045},{"$f":"IF('III Tool Overview'!$H$6=\"Western Isles Health Board\",0,IF('III Tool Overview'!$H$6=\"Eilean Siar Local Authority\",0,new_ci(20,B197,C197,D197,$C$1,G197+H197,1,F197,F197,SIMDrateratios,RateRatios!$B$3)*10))","v":27.06542504278368},{"$f":"IF('III Tool Overview'!$H$6=\"Western Isles Health Board\",0,IF('III Tool Overview'!$H$6=\"Eilean Siar Local Authority\",0,new_yll(2,B197,C197,D197,$C$1,G197,1,F197,F197,SIMDrateratios,RateRatios!$B$3)*10))","v":73.103188445375082},{"$f":"IF('III Tool Overview'!$H$6=\"Western Isles Health Board\",0,IF('III Tool Overview'!$H$6=\"Eilean Siar Local Authority\",0,new_yll(2,B197,C197,D197,$C$1,G197+H197,1,F197,F197,SIMDrateratios,RateRatios!$B$3)*10))","v":73.101127689936675},2.0607554384071136E-3,{"$f":"IF('III Tool Overview'!$H$6=\"Western Isles Health Board\",0,IF('III Tool Overview'!$H$6=\"Eilean Siar Local Authority\",0,new_yll(5,B197,C197,D197,$C$1,G197,1,F197,F197,SIMDrateratios,RateRatios!$B$3)*1000))","v":31422.785932269719},{"$f":"IF('III Tool Overview'!$H$6=\"Western Isles Health Board\",0,IF('III Tool Overview'!$H$6=\"Eilean Siar Local Authority\",0,new_yll(5,B197,C197,D197,$C$1,G197+H197,1,F197,F197,SIMDrateratios,RateRatios!$B$3)*1000))","v":31421.900453042083},0.88547922763609677,{"$f":"IF('III Tool Overview'!$H$6=\"Western Isles Health Board\",0,IF('III Tool Overview'!$H$6=\"Eilean Siar Local Authority\",0,new_yll(10,B197,C197,D197,$C$1,G197,1,F197,F197,SIMDrateratios,RateRatios!$B$3)*10))","v":799.16126718780924},{"$f":"IF('III Tool Overview'!$H$6=\"Western Isles Health Board\",0,IF('III Tool Overview'!$H$6=\"Eilean Siar Local Authority\",0,new_yll(10,B197,C197,D197,$C$1,G197+H197,1,F197,F197,SIMDrateratios,RateRatios!$B$3)*10))","v":799.13876407351245},2.2503114296796412E-2,{"$f":"IF('III Tool Overview'!$H$6=\"Western Isles Health Board\",0,IF('III Tool Overview'!$H$6=\"Eilean Siar Local Authority\",0,new_yll(20,B197,C197,D197,$C$1,G197,1,F197,F197,SIMDrateratios,RateRatios!$B$3)*10))","v":2173.245335554428},{"$f":"IF('III Tool Overview'!$H$6=\"Western Isles Health Board\",0,IF('III Tool Overview'!$H$6=\"Eilean Siar Local Authority\",0,new_yll(20,B197,C197,D197,$C$1,G197+H197,1,F197,F197,SIMDrateratios,RateRatios!$B$3)*10))","v":2173.1842802364363},6.1055317991758784E-2,{"$f":"IF('III Tool Overview'!$H$6=\"Western Isles Health Board\",0,IF('III Tool Overview'!$H$6=\"Eilean Siar Local Authority\",0,hosp_count(2,B197,C197,D197,$C$1,G197,1,F197,F197,SIMDRateRatios_hosp,SIMDrateratios,RateRatios!$B$3)*10))","v":162.01561161848798},{"$f":"IF('III Tool Overview'!$H$6=\"Western Isles Health Board\",0,IF('III Tool Overview'!$H$6=\"Eilean Siar Local Authority\",0,hosp_count(2,B197,C197,D197,$C$1,G197+H197,1,F197,F197,SIMDRateRatios_hosp,SIMDrateratios,RateRatios!$B$3)*10))","v":162.01206061545668},3.5510030313048446E-3,{"$f":"IF('III Tool Overview'!$H$6=\"Western Isles Health Board\",0,IF('III Tool Overview'!$H$6=\"Eilean Siar Local Authority\",0,hosp_count(5,B197,C197,D197,$C$1,G197,1,F197,F197,SIMDRateRatios_hosp,SIMDrateratios,RateRatios!$B$3)*1000))","v":68490.044371101118},{"$f":"IF('III Tool Overview'!$H$6=\"Western Isles Health Board\",0,IF('III Tool Overview'!$H$6=\"Eilean Siar Local Authority\",0,hosp_count(5,B197,C197,D197,$C$1,G197+H197,1,F197,F197,SIMDRateRatios_hosp,SIMDrateratios,RateRatios!$B$3)*1000))","v":68488.543898783741},1.5004723173769889,{"$f":"IF('III Tool Overview'!$H$6=\"Western Isles Health Board\",0,IF('III Tool Overview'!$H$6=\"Eilean Siar Local Authority\",0,hosp_count(10,B197,C197,D197,$C$1,G197,1,F197,F197,SIMDRateRatios_hosp,SIMDrateratios,RateRatios!$B$3)*10))","v":1693.2994499418849},{"$f":"IF('III Tool Overview'!$H$6=\"Western Isles Health Board\",0,IF('III Tool Overview'!$H$6=\"Eilean Siar Local Authority\",0,hosp_count(10,B197,C197,D197,$C$1,G197+H197,1,F197,F197,SIMDRateRatios_hosp,SIMDrateratios,RateRatios!$B$3)*10))","v":1693.2623873010566},3.7062640828253279E-2,{"$f":"IF('III Tool Overview'!$H$6=\"Western Isles Health Board\",0,IF('III Tool Overview'!$H$6=\"Eilean Siar Local Authority\",0,hosp_count(20,B197,C197,D197,$C$1,G197,1,F197,F197,SIMDRateRatios_hosp,SIMDrateratios,RateRatios!$B$3)*10))","v":4348.8857201616165},{"$f":"IF('III Tool Overview'!$H$6=\"Western Isles Health Board\",0,IF('III Tool Overview'!$H$6=\"Eilean Siar Local Authority\",0,hosp_count(20,B197,C197,D197,$C$1,G197+H197,1,F197,F197,SIMDRateRatios_hosp,SIMDrateratios,RateRatios!$B$3)*10))","v":4348.7907936774009},9.4926484215648088E-2]
["Male 10-14",12.5,"male",4,1,{"$f":"HLOOKUP('III Tool Overview'!$H$6,LookUpData_Pop!$B$1:$AV$269,LookUpData_Pop!BB193,FALSE)/50","v":416.62},0,416.62,{"$f":"IF('III Tool Overview'!$H$6=\"Western Isles Health Board\",0,IF('III Tool Overview'!$H$6=\"Eilean Siar Local Authority\",0,new_ci(2,B198,C198,D198,$C$1,G198,1,F198,E198*F198,SIMDrateratios,RateRatios!$B$3)*10))","v":1.1984319658861091},{"$f":"IF('III Tool Overview'!$H$6=\"Western Isles Health Board\",0,IF('III Tool Overview'!$H$6=\"Eilean Siar Local Authority\",0,new_ci(2,B198,C198,D198,$C$1,G198+H198,1,H198,H198,SIMDrateratios,RateRatios!$B$3)*10))","v":1.1983981474439593},{"$f":"IF('III Tool Overview'!$H$6=\"Western Isles Health Board\",0,IF('III Tool Overview'!$H$6=\"Eilean Siar Local Authority\",0,new_ci(5,B198,C198,D198,$C$1,G198,1,F198,F198,SIMDrateratios,RateRatios!$B$3)*1000))","v":524.13090701127226},{"$f":"IF('III Tool Overview'!$H$6=\"Western Isles Health Board\",0,IF('III Tool Overview'!$H$6=\"Eilean Siar Local Authority\",0,new_ci(5,B198,C198,D198,$C$1,H198,1,F198,F198,SIMDrateratios,RateRatios!$B$3)*1000))","v":524.11612378972507},{"$f":"IF('III Tool Overview'!$H$6=\"Western Isles Health Board\",0,IF('III Tool Overview'!$H$6=\"Eilean Siar Local Authority\",0,new_ci(10,B198,C198,D198,$C$1,G198,1,F198,F198,SIMDrateratios,RateRatios!$B$3)*10))","v":13.759381197090248},{"$f":"IF('III Tool Overview'!$H$6=\"Western Isles Health Board\",0,IF('III Tool Overview'!$H$6=\"Eilean Siar Local Authority\",0,new_ci(10,B198,C198,D198,$C$1,G198+H198,1,F198,F198,SIMDrateratios,RateRatios!$B$3)*10))","v":13.758993508451692},{"$f":"IF('III Tool Overview'!$H$6=\"Western Isles Health Board\",0,IF('III Tool Overview'!$H$6=\"Eilean Siar Local Authority\",0,new_ci(20,B198,C198,D198,$C$1,G198,1,F198,F198,SIMDrateratios,RateRatios!$B$3)*10))","v":40.330244466367624},{"$f":"IF('III Tool Overview'!$H$6=\"Western Isles Health Board\",0,IF('III Tool Overview'!$H$6=\"Eilean Siar Local Authority\",0,new_ci(20,B198,C198,D198,$C$1,G198+H198,1,F198,F198,SIMDrateratios,RateRatios!$B$3)*10))","v":40.329111754129457},{"$f":"IF('III Tool Overview'!$H$6=\"Western Isles Health Board\",0,IF('III Tool Overview'!$H$6=\"Eilean Siar Local Authority\",0,new_yll(2,B198,C198,D198,$C$1,G198,1,F198,F198,SIMDrateratios,RateRatios!$B$3)*10))","v":104.26358103209151},{"$f":"IF('III Tool Overview'!$H$6=\"Western Isles Health Board\",0,IF('III Tool Overview'!$H$6=\"Eilean Siar Local Authority\",0,new_yll(2,B198,C198,D198,$C$1,G198+H198,1,F198,F198,SIMDrateratios,RateRatios!$B$3)*10))","v":104.26063882762446},2.9422044670468495E-3,{"$f":"IF('III Tool Overview'!$H$6=\"Western Isles Health Board\",0,IF('III Tool Overview'!$H$6=\"Eilean Siar Local Authority\",0,new_yll(5,B198,C198,D198,$C$1,G198,1,F198,F198,SIMDrateratios,RateRatios!$B$3)*1000))","v":44775.166231887284},{"$f":"IF('III Tool Overview'!$H$6=\"Western Isles Health Board\",0,IF('III Tool Overview'!$H$6=\"Eilean Siar Local Authority\",0,new_yll(5,B198,C198,D198,$C$1,G198+H198,1,F198,F198,SIMDrateratios,RateRatios!$B$3)*1000))","v":44773.903333178991},1.2628987082935055,{"$f":"IF('III Tool Overview'!$H$6=\"Western Isles Health Board\",0,IF('III Tool Overview'!$H$6=\"Eilean Siar Local Authority\",0,new_yll(10,B198,C198,D198,$C$1,G198,1,F198,F198,SIMDrateratios,RateRatios!$B$3)*10))","v":1136.7288277903767},{"$f":"IF('III Tool Overview'!$H$6=\"Western Isles Health Board\",0,IF('III Tool Overview'!$H$6=\"Eilean Siar Local Authority\",0,new_yll(10,B198,C198,D198,$C$1,G198+H198,1,F198,F198,SIMDrateratios,RateRatios!$B$3)*10))","v":1136.6967980199754},3.2029770401322821E-2,{"$f":"IF('III Tool Overview'!$H$6=\"Western Isles Health Board\",0,IF('III Tool Overview'!$H$6=\"Eilean Siar Local Authority\",0,new_yll(20,B198,C198,D198,$C$1,G198,1,F198,F198,SIMDrateratios,RateRatios!$B$3)*10))","v":3077.0949281454864},{"$f":"IF('III Tool Overview'!$H$6=\"Western Isles Health Board\",0,IF('III Tool Overview'!$H$6=\"Eilean Siar Local Authority\",0,new_yll(20,B198,C198,D198,$C$1,G198+H198,1,F198,F198,SIMDrateratios,RateRatios!$B$3)*10))","v":3077.0084882931769},8.6439852309467824E-2,{"$f":"IF('III Tool Overview'!$H$6=\"Western Isles Health Board\",0,IF('III Tool Overview'!$H$6=\"Eilean Siar Local Authority\",0,hosp_count(2,B198,C198,D198,$C$1,G198,1,F198,F198,SIMDRateRatios_hosp,SIMDrateratios,RateRatios!$B$3)*10))","v":208.0329065676537},{"$f":"IF('III Tool Overview'!$H$6=\"Western Isles Health Board\",0,IF('III Tool Overview'!$H$6=\"Eilean Siar Local Authority\",0,hosp_count(2,B198,C198,D198,$C$1,G198+H198,1,F198,F198,SIMDRateRatios_hosp,SIMDrateratios,RateRatios!$B$3)*10))","v":208.02834208028261},4.5644873710841694E-3,{"$f":"IF('III Tool Overview'!$H$6=\"Western Isles Health Board\",0,IF('III Tool Overview'!$H$6=\"Eilean Siar Local Authority\",0,hosp_count(5,B198,C198,D198,$C$1,G198,1,F198,F198,SIMDRateRatios_hosp,SIMDrateratios,RateRatios!$B$3)*1000))","v":87933.035627079604},{"$f":"IF('III Tool Overview'!$H$6=\"Western Isles Health Board\",0,IF('III Tool Overview'!$H$6=\"Eilean Siar Local Authority\",0,hosp_count(5,B198,C198,D198,$C$1,G198+H198,1,F198,F198,SIMDRateRatios_hosp,SIMDrateratios,RateRatios!$B$3)*1000))","v":87931.107421412147},1.9282056674564956,{"$f":"IF('III Tool Overview'!$H$6=\"Western Isles Health Board\",0,IF('III Tool Overview'!$H$6=\"Eilean Siar Local Authority\",0,hosp_count(10,B198,C198,D198,$C$1,G198,1,F198,F198,SIMDRateRatios_hosp,SIMDrateratios,RateRatios!$B$3)*10))","v":2173.4746063436696},{"$f":"IF('III Tool Overview'!$H$6=\"Western Isles Health Board\",0,IF('III Tool Overview'!$H$6=\"Eilean Siar Local Authority\",0,hosp_count(10,B198,C198,D198,$C$1,G198+H198,1,F198,F198,SIMDRateRatios_hosp,SIMDrateratios,RateRatios!$B$3)*10))","v":2173.4270044548011},4.7601888868484821E-2,{"$f":"IF('III Tool Overview'!$H$6=\"Western Isles Health Board\",0,IF('III Tool Overview'!$H$6=\"Eilean Siar Local Authority\",0,hosp_count(20,B198,C198,D198,$C$1,G198,1,F198,F198,SIMDRateRatios_hosp,SIMDrateratios,RateRatios!$B$3)*10))","v":5578.1238319311506},{"$f":"IF('III Tool Overview'!$H$6=\"Western Isles Health Board\",0,IF('III Tool Overview'!$H$6=\"Eilean Siar Local Authority\",0,hosp_count(20,B198,C198,D198,$C$1,G198+H198,1,F198,F198,SIMDRateRatios_hosp,SIMDrateratios,RateRatios!$B$3)*10))","v":5578.0021115651743},0.12172036597621627]
["Male 15-19",17.5,"male",4,1,{"$f":"HLOOKUP('III Tool Overview'!$H$6,LookUpData_Pop!$B$1:$AV$269,LookUpData_Pop!BB194,FALSE)/50","v":489.02},{"$f":"'III Tool Overview'!$H$9/110","v":0},489.02,{"$f":"IF('III Tool Overview'!$H$6=\"Western Isles Health Board\",0,IF('III Tool Overview'!$H$6=\"Eilean Siar Local Authority\",0,new_ci(2,B199,C199,D199,$C$1,G199,1,F199,E199*F199,SIMDrateratios,RateRatios!$B$3)*10))","v":2.1718259085262925},{"$f":"IF('III Tool Overview'!$H$6=\"Western Isles Health Board\",0,IF('III Tool Overview'!$H$6=\"Eilean Siar Local Authority\",0,new_ci(2,B199,C199,D199,$C$1,G199+H199,1,H199,H199,SIMDrateratios,RateRatios!$B$3)*10))","v":2.17176468511318},{"$f":"IF('III Tool Overview'!$H$6=\"Western Isles Health Board\",0,IF('III Tool Overview'!$H$6=\"Eilean Siar Local Authority\",0,new_ci(5,B199,C199,D199,$C$1,G199,1,F199,F199,SIMDrateratios,RateRatios!$B$3)*1000))","v":949.59124934543559},{"$f":"IF('III Tool Overview'!$H$6=\"Western Isles Health Board\",0,IF('III Tool Overview'!$H$6=\"Eilean Siar Local Authority\",0,new_ci(5,B199,C199,D199,$C$1,H199,1,F199,F199,SIMDrateratios,RateRatios!$B$3)*1000))","v":949.56450059098756},{"$f":"IF('III Tool Overview'!$H$6=\"Western Isles Health Board\",0,IF('III Tool Overview'!$H$6=\"Eilean Siar Local Authority\",0,new_ci(10,B199,C199,D199,$C$1,G199,1,F199,F199,SIMDrateratios,RateRatios!$B$3)*10))","v":24.914603469470869},{"$f":"IF('III Tool Overview'!$H$6=\"Western Isles Health Board\",0,IF('III Tool Overview'!$H$6=\"Eilean Siar Local Authority\",0,new_ci(10,B199,C199,D199,$C$1,G199+H199,1,F199,F199,SIMDrateratios,RateRatios!$B$3)*10))","v":24.913902767438568},{"$f":"IF('III Tool Overview'!$H$6=\"Western Isles Health Board\",0,IF('III Tool Overview'!$H$6=\"Eilean Siar Local Authority\",0,new_ci(20,B199,C199,D199,$C$1,G199,1,F199,F199,SIMDrateratios,RateRatios!$B$3)*10))","v":72.900357038348858},{"$f":"IF('III Tool Overview'!$H$6=\"Western Isles Health Board\",0,IF('III Tool Overview'!$H$6=\"Eilean Siar Local Authority\",0,new_ci(20,B199,C199,D199,$C$1,G199+H199,1,F199,F199,SIMDrateratios,RateRatios!$B$3)*10))","v":72.898316930280501},{"$f":"IF('III Tool Overview'!$H$6=\"Western Isles Health Board\",0,IF('III Tool Overview'!$H$6=\"Eilean Siar Local Authority\",0,new_yll(2,B199,C199,D199,$C$1,G199,1,F199,F199,SIMDrateratios,RateRatios!$B$3)*10))","v":175.9178985906297},{"$f":"IF('III Tool Overview'!$H$6=\"Western Isles Health Board\",0,IF('III Tool Overview'!$H$6=\"Eilean Siar Local Authority\",0,new_yll(2,B199,C199,D199,$C$1,G199+H199,1,F199,F199,SIMDrateratios,RateRatios!$B$3)*10))","v":175.91293949416757},4.9590964621302192E-3,{"$f":"IF('III Tool Overview'!$H$6=\"Western Isles Health Board\",0,IF('III Tool Overview'!$H$6=\"Eilean Siar Local Authority\",0,new_yll(5,B199,C199,D199,$C$1,G199,1,F199,F199,SIMDrateratios,RateRatios!$B$3)*1000))","v":75423.813139640508},{"$f":"IF('III Tool Overview'!$H$6=\"Western Isles Health Board\",0,IF('III Tool Overview'!$H$6=\"Eilean Siar Local Authority\",0,new_yll(5,B199,C199,D199,$C$1,G199+H199,1,F199,F199,SIMDrateratios,RateRatios!$B$3)*1000))","v":75421.688532376327},2.1246072641806677,{"$f":"IF('III Tool Overview'!$H$6=\"Western Isles Health Board\",0,IF('III Tool Overview'!$H$6=\"Eilean Siar Local Authority\",0,new_yll(10,B199,C199,D199,$C$1,G199,1,F199,F199,SIMDrateratios,RateRatios!$B$3)*10))","v":1908.8608099406408},{"$f":"IF('III Tool Overview'!$H$6=\"Western Isles Health Board\",0,IF('III Tool Overview'!$H$6=\"Eilean Siar Local Authority\",0,new_yll(10,B199,C199,D199,$C$1,G199+H199,1,F199,F199,SIMDrateratios,RateRatios!$B$3)*10))","v":1908.8071222210606},5.3687719580238991E-2,{"$f":"IF('III Tool Overview'!$H$6=\"Western Isles Health Board\",0,IF('III Tool Overview'!$H$6=\"Eilean Siar Local Authority\",0,new_yll(20,B199,C199,D199,$C$1,G199,1,F199,F199,SIMDrateratios,RateRatios!$B$3)*10))","v":5125.294646174726},{"$f":"IF('III Tool Overview'!$H$6=\"Western Isles Health Board\",0,IF('III Tool Overview'!$H$6=\"Eilean Siar Local Authority\",0,new_yll(20,B199,C199,D199,$C$1,G199+H199,1,F199,F199,SIMDrateratios,RateRatios!$B$3)*10))","v":5125.1511685612677},0.14347761345834442,{"$f":"IF('III Tool Overview'!$H$6=\"Western Isles Health Board\",0,IF('III Tool Overview'!$H$6=\"Eilean Siar Local Authority\",0,hosp_count(2,B199,C199,D199,$C$1,G199,1,F199,F199,SIMDRateRatios_hosp,SIMDrateratios,RateRatios!$B$3)*10))","v":301.05036570159399},{"$f":"IF('III Tool Overview'!$H$6=\"Western Isles Health Board\",0,IF('III Tool Overview'!$H$6=\"Eilean Siar Local Authority\",0,hosp_count(2,B199,C199,D199,$C$1,G199+H199,1,F199,F199,SIMDRateRatios_hosp,SIMDrateratios,RateRatios!$B$3)*10))","v":301.04376659065554},6.5991109384526681E-3,{"$f":"IF('III Tool Overview'!$H$6=\"Western Isles Health Board\",0,IF('III Tool Overview'!$H$6=\"Eilean Siar Local Authority\",0,hosp_count(5,B199,C199,D199,$C$1,G199,1,F199,F199,SIMDRateRatios_hosp,SIMDrateratios,RateRatios!$B$3)*1000))","v":127218.36665965147},{"$f":"IF('III Tool Overview'!$H$6=\"Western Isles Health Board\",0,IF('III Tool Overview'!$H$6=\"Eilean Siar Local Authority\",0,hosp_count(5,B199,C199,D199,$C$1,G199+H199,1,F199,F199,SIMDRateRatios_hosp,SIMDrateratios,RateRatios!$B$3)*1000))","v":127215.58055993024},2.786099721226492,{"$f":"IF('III Tool Overview'!$H$6=\"Western Isles Health Board\",0,IF('III Tool Overview'!$H$6=\"Eilean Siar Local Authority\",0,hosp_count(10,B199,C199,D199,$C$1,G199,1,F199,F199,SIMDRateRatios_hosp,SIMDrateratios,RateRatios!$B$3)*10))","v":3142.8797288858623},{"$f":"IF('III Tool Overview'!$H$6=\"Western Isles Health Board\",0,IF('III Tool Overview'!$H$6=\"Eilean Siar Local Authority\",0,hosp_count(10,B199,C199,D199,$C$1,G199+H199,1,F199,F199,SIMDRateRatios_hosp,SIMDrateratios,RateRatios!$B$3)*10))","v":3142.8110294007283},6.8699485133947746E-2,{"$f":"IF('III Tool Overview'!$H$6=\"Western Isles Health Board\",0,IF('III Tool Overview'!$H$6=\"Eilean Siar Local Authority\",0,hosp_count(20,B199,C199,D199,$C$1,G199,1,F199,F199,SIMDRateRatios_hosp,SIMDrateratios,RateRatios!$B$3)*10))","v":8053.5954559802703},{"$f":"IF('III Tool Overview'!$H$6=\"Western Isles Health Board\",0,IF('III Tool Overview'!$H$6=\"Eilean Siar Local Authority\",0,hosp_count(20,B199,C199,D199,$C$1,G199+H199,1,F199,F199,SIMDRateRatios_hosp,SIMDrateratios,RateRatios!$B$3)*10))","v":8053.4204101624246},0.17504581784578477]
["Male 20-24",22.5,"male",4,1,{"$f":"HLOOKUP('III Tool Overview'!$H$6,LookUpData_Pop!$B$1:$AV$269,LookUpData_Pop!BB195,FALSE)/50","v":609.96},{"$f":"'III Tool Overview'!$H$9/110","v":0},609.96,{"$f":"IF('III Tool Overview'!$H$6=\"Western Isles Health Board\",0,IF('III Tool Overview'!$H$6=\"Eilean Siar Local Authority\",0,new_ci(2,B200,C200,D200,$C$1,G200,1,F200,E200*F200,SIMDrateratios,RateRatios!$B$3)*10))","v":3.6185958628245785},{"$f":"IF('III Tool Overview'!$H$6=\"Western Isles Health Board\",0,IF('III Tool Overview'!$H$6=\"Eilean Siar Local Authority\",0,new_ci(2,B200,C200,D200,$C$1,G200+H200,1,H200,H200,SIMDrateratios,RateRatios!$B$3)*10))","v":3.6184938519551157},{"$f":"IF('III Tool Overview'!$H$6=\"Western Isles Health Board\",0,IF('III Tool Overview'!$H$6=\"Eilean Siar Local Authority\",0,new_ci(5,B200,C200,D200,$C$1,G200,1,F200,F200,SIMDrateratios,RateRatios!$B$3)*1000))","v":1581.7667994896483},{"$f":"IF('III Tool Overview'!$H$6=\"Western Isles Health Board\",0,IF('III Tool Overview'!$H$6=\"Eilean Siar Local Authority\",0,new_ci(5,B200,C200,D200,$C$1,H200,1,F200,F200,SIMDrateratios,RateRatios!$B$3)*1000))","v":1581.7222529744749},{"$f":"IF('III Tool Overview'!$H$6=\"Western Isles Health Board\",0,IF('III Tool Overview'!$H$6=\"Eilean Siar Local Authority\",0,new_ci(10,B200,C200,D200,$C$1,G200,1,F200,F200,SIMDrateratios,RateRatios!$B$3)*10))","v":41.479093928324261},{"$f":"IF('III Tool Overview'!$H$6=\"Western Isles Health Board\",0,IF('III Tool Overview'!$H$6=\"Eilean Siar Local Authority\",0,new_ci(10,B200,C200,D200,$C$1,G200+H200,1,F200,F200,SIMDrateratios,RateRatios!$B$3)*10))","v":41.477928241249778},{"$f":"IF('III Tool Overview'!$H$6=\"Western Isles Health Board\",0,IF('III Tool Overview'!$H$6=\"Eilean Siar Local Authority\",0,new_ci(20,B200,C200,D200,$C$1,G200,1,F200,F200,SIMDrateratios,RateRatios!$B$3)*10))","v":121.1671268207995},{"$f":"IF('III Tool Overview'!$H$6=\"Western Isles Health Board\",0,IF('III Tool Overview'!$H$6=\"Eilean Siar Local Authority\",0,new_ci(20,B200,C200,D200,$C$1,G200+H200,1,F200,F200,SIMDrateratios,RateRatios!$B$3)*10))","v":121.1637441800348},{"$f":"IF('III Tool Overview'!$H$6=\"Western Isles Health Board\",0,IF('III Tool Overview'!$H$6=\"Eilean Siar Local Authority\",0,new_yll(2,B200,C200,D200,$C$1,G200,1,F200,F200,SIMDrateratios,RateRatios!$B$3)*10))","v":278.63188143749255},{"$f":"IF('III Tool Overview'!$H$6=\"Western Isles Health Board\",0,IF('III Tool Overview'!$H$6=\"Eilean Siar Local Authority\",0,new_yll(2,B200,C200,D200,$C$1,G200+H200,1,F200,F200,SIMDrateratios,RateRatios!$B$3)*10))","v":278.62402660054391},7.8548369486384217E-3,{"$f":"IF('III Tool Overview'!$H$6=\"Western Isles Health Board\",0,IF('III Tool Overview'!$H$6=\"Eilean Siar Local Authority\",0,new_yll(5,B200,C200,D200,$C$1,G200,1,F200,F200,SIMDrateratios,RateRatios!$B$3)*1000))","v":119309.29411142661},{"$f":"IF('III Tool Overview'!$H$6=\"Western Isles Health Board\",0,IF('III Tool Overview'!$H$6=\"Eilean Siar Local Authority\",0,new_yll(5,B200,C200,D200,$C$1,G200+H200,1,F200,F200,SIMDrateratios,RateRatios!$B$3)*1000))","v":119305.93402673819},3.3600846884219209,{"$f":"IF('III Tool Overview'!$H$6=\"Western Isles Health Board\",0,IF('III Tool Overview'!$H$6=\"Eilean Siar Local Authority\",0,new_yll(10,B200,C200,D200,$C$1,G200,1,F200,F200,SIMDrateratios,RateRatios!$B$3)*10))","v":3012.1040151096477},{"$f":"IF('III Tool Overview'!$H$6=\"Western Isles Health Board\",0,IF('III Tool Overview'!$H$6=\"Eilean Siar Local Authority\",0,new_yll(10,B200,C200,D200,$C$1,G200+H200,1,F200,F200,SIMDrateratios,RateRatios!$B$3)*10))","v":3012.019360087038},8.4655022609695152E-2,{"$f":"IF('III Tool Overview'!$H$6=\"Western Isles Health Board\",0,IF('III Tool Overview'!$H$6=\"Eilean Siar Local Authority\",0,new_yll(20,B200,C200,D200,$C$1,G200,1,F200,F200,SIMDrateratios,RateRatios!$B$3)*10))","v":8034.972044598806},{"$f":"IF('III Tool Overview'!$H$6=\"Western Isles Health Board\",0,IF('III Tool Overview'!$H$6=\"Eilean Siar Local Authority\",0,new_yll(20,B200,C200,D200,$C$1,G200+H200,1,F200,F200,SIMDrateratios,RateRatios!$B$3)*10))","v":8034.74762706402},0.22441753478597093,{"$f":"IF('III Tool Overview'!$H$6=\"Western Isles Health Board\",0,IF('III Tool Overview'!$H$6=\"Eilean Siar Local Authority\",0,hosp_count(2,B200,C200,D200,$C$1,G200,1,F200,F200,SIMDRateRatios_hosp,SIMDrateratios,RateRatios!$B$3)*10))","v":431.74531853676717},{"$f":"IF('III Tool Overview'!$H$6=\"Western Isles Health Board\",0,IF('III Tool Overview'!$H$6=\"Eilean Siar Local Authority\",0,hosp_count(2,B200,C200,D200,$C$1,G200+H200,1,F200,F200,SIMDRateRatios_hosp,SIMDrateratios,RateRatios!$B$3)*10))","v":431.73585354699702},9.4649897701515329E-3,{"$f":"IF('III Tool Overview'!$H$6=\"Western Isles Health Board\",0,IF('III Tool Overview'!$H$6=\"Eilean Siar Local Authority\",0,hosp_count(5,B200,C200,D200,$C$1,G200,1,F200,F200,SIMDRateRatios_hosp,SIMDrateratios,RateRatios!$B$3)*1000))","v":182403.86721058533},{"$f":"IF('III Tool Overview'!$H$6=\"Western Isles Health Board\",0,IF('III Tool Overview'!$H$6=\"Eilean Siar Local Authority\",0,hosp_count(5,B200,C200,D200,$C$1,G200+H200,1,F200,F200,SIMDRateRatios_hosp,SIMDrateratios,RateRatios!$B$3)*1000))","v":182399.87334959127},3.9938609940581955,{"$f":"IF('III Tool Overview'!$H$6=\"Western Isles Health Board\",0,IF('III Tool Overview'!$H$6=\"Eilean Siar Local Authority\",0,hosp_count(10,B200,C200,D200,$C$1,G200,1,F200,F200,SIMDRateRatios_hosp,SIMDrateratios,RateRatios!$B$3)*10))","v":4503.9960779108806},{"$f":"IF('III Tool Overview'!$H$6=\"Western Isles Health Board\",0,IF('III Tool Overview'!$H$6=\"Eilean Siar Local Authority\",0,hosp_count(10,B200,C200,D200,$C$1,G200+H200,1,F200,F200,SIMDRateRatios_hosp,SIMDrateratios,RateRatios!$B$3)*10))","v":4503.8977085779688},9.8369332911715901E-2,{"$f":"IF('III Tool Overview'!$H$6=\"Western Isles Health Board\",0,IF('III Tool Overview'!$H$6=\"Eilean Siar Local Authority\",0,hosp_count(20,B200,C200,D200,$C$1,G200,1,F200,F200,SIMDRateRatios_hosp,SIMDrateratios,RateRatios!$B$3)*10))","v":11524.462197539593},{"$f":"IF('III Tool Overview'!$H$6=\"Western Isles Health Board\",0,IF('III Tool Overview'!$H$6=\"Eilean Siar Local Authority\",0,hosp_count(20,B200,C200,D200,$C$1,G200+H200,1,F200,F200,SIMDRateRatios_hosp,SIMDrateratios,RateRatios!$B$3)*10))","v":11524.212399665441},0.2497978741521365]
["Male 25-29",27.5,"male",4,1,{"$f":"HLOOKUP('III Tool Overview'!$H$6,LookUpData_Pop!$B$1:$AV$269,LookUpData_Pop!BB196,FALSE)/50","v":575.52},{"$f":"'III Tool Overview'!$H$9/110","v":0},575.52,{"$f":"IF('III Tool Overview'!$H$6=\"Western Isles Health Board\",0,IF('III Tool Overview'!$H$6=\"Eilean Siar Local Authority\",0,new_ci(2,B201,C201,D201,$C$1,G201,1,F201,E201*F201,SIMDrateratios,RateRatios!$B$3)*10))","v":5.2709409898462036},{"$f":"IF('III Tool Overview'!$H$6=\"Western Isles Health Board\",0,IF('III Tool Overview'!$H$6=\"Eilean Siar Local Authority\",0,new_ci(2,B201,C201,D201,$C$1,G201+H201,1,H201,H201,SIMDrateratios,RateRatios!$B$3)*10))","v":5.2707923079845012},{"$f":"IF('III Tool Overview'!$H$6=\"Western Isles Health Board\",0,IF('III Tool Overview'!$H$6=\"Eilean Siar Local Authority\",0,new_ci(5,B201,C201,D201,$C$1,G201,1,F201,F201,SIMDrateratios,RateRatios!$B$3)*1000))","v":2302.7884285848054},{"$f":"IF('III Tool Overview'!$H$6=\"Western Isles Health Board\",0,IF('III Tool Overview'!$H$6=\"Eilean Siar Local Authority\",0,new_ci(5,B201,C201,D201,$C$1,H201,1,F201,F201,SIMDrateratios,RateRatios!$B$3)*1000))","v":2302.7235723120052},{"$f":"IF('III Tool Overview'!$H$6=\"Western Isles Health Board\",0,IF('III Tool Overview'!$H$6=\"Eilean Siar Local Authority\",0,new_ci(10,B201,C201,D201,$C$1,G201,1,F201,F201,SIMDrateratios,RateRatios!$B$3)*10))","v":60.317382081570813},{"$f":"IF('III Tool Overview'!$H$6=\"Western Isles Health Board\",0,IF('III Tool Overview'!$H$6=\"Eilean Siar Local Authority\",0,new_ci(10,B201,C201,D201,$C$1,G201+H201,1,F201,F201,SIMDrateratios,RateRatios!$B$3)*10))","v":60.315688829826556},{"$f":"IF('III Tool Overview'!$H$6=\"Western Isles Health Board\",0,IF('III Tool Overview'!$H$6=\"Eilean Siar Local Authority\",0,new_ci(20,B201,C201,D201,$C$1,G201,1,F201,F201,SIMDrateratios,RateRatios!$B$3)*10))","v":175.56691227741754},{"$f":"IF('III Tool Overview'!$H$6=\"Western Isles Health Board\",0,IF('III Tool Overview'!$H$6=\"Eilean Siar Local Authority\",0,new_ci(20,B201,C201,D201,$C$1,G201+H201,1,F201,F201,SIMDrateratios,RateRatios!$B$3)*10))","v":175.56203399525342},{"$f":"IF('III Tool Overview'!$H$6=\"Western Isles Health Board\",0,IF('III Tool Overview'!$H$6=\"Eilean Siar Local Authority\",0,new_yll(2,B201,C201,D201,$C$1,G201,1,F201,F201,SIMDrateratios,RateRatios!$B$3)*10))","v":374.23681027908049},{"$f":"IF('III Tool Overview'!$H$6=\"Western Isles Health Board\",0,IF('III Tool Overview'!$H$6=\"Eilean Siar Local Authority\",0,new_yll(2,B201,C201,D201,$C$1,G201+H201,1,F201,F201,SIMDrateratios,RateRatios!$B$3)*10))","v":374.22625386689958},1.0556412180903862E-2,{"$f":"IF('III Tool Overview'!$H$6=\"Western Isles Health Board\",0,IF('III Tool Overview'!$H$6=\"Eilean Siar Local Authority\",0,new_yll(5,B201,C201,D201,$C$1,G201,1,F201,F201,SIMDrateratios,RateRatios!$B$3)*1000))","v":159878.7006886178},{"$f":"IF('III Tool Overview'!$H$6=\"Western Isles Health Board\",0,IF('III Tool Overview'!$H$6=\"Eilean Siar Local Authority\",0,new_yll(5,B201,C201,D201,$C$1,G201+H201,1,F201,F201,SIMDrateratios,RateRatios!$B$3)*1000))","v":159874.19774619333},4.5029424244712573,{"$f":"IF('III Tool Overview'!$H$6=\"Western Isles Health Board\",0,IF('III Tool Overview'!$H$6=\"Eilean Siar Local Authority\",0,new_yll(10,B201,C201,D201,$C$1,G201,1,F201,F201,SIMDrateratios,RateRatios!$B$3)*10))","v":4018.3515664544884},{"$f":"IF('III Tool Overview'!$H$6=\"Western Isles Health Board\",0,IF('III Tool Overview'!$H$6=\"Eilean Siar Local Authority\",0,new_yll(10,B201,C201,D201,$C$1,G201+H201,1,F201,F201,SIMDrateratios,RateRatios!$B$3)*10))","v":4018.2387486504958},0.11281780399258423,{"$f":"IF('III Tool Overview'!$H$6=\"Western Isles Health Board\",0,IF('III Tool Overview'!$H$6=\"Eilean Siar Local Authority\",0,new_yll(20,B201,C201,D201,$C$1,G201,1,F201,F201,SIMDrateratios,RateRatios!$B$3)*10))","v":10591.899388578277},{"$f":"IF('III Tool Overview'!$H$6=\"Western Isles Health Board\",0,IF('III Tool Overview'!$H$6=\"Eilean Siar Local Authority\",0,new_yll(20,B201,C201,D201,$C$1,G201+H201,1,F201,F201,SIMDrateratios,RateRatios!$B$3)*10))","v":10591.604850284828},0.29453829344856786,{"$f":"IF('III Tool Overview'!$H$6=\"Western Isles Health Board\",0,IF('III Tool Overview'!$H$6=\"Eilean Siar Local Authority\",0,hosp_count(2,B201,C201,D201,$C$1,G201,1,F201,F201,SIMDRateRatios_hosp,SIMDrateratios,RateRatios!$B$3)*10))","v":502.23539614986464},{"$f":"IF('III Tool Overview'!$H$6=\"Western Isles Health Board\",0,IF('III Tool Overview'!$H$6=\"Eilean Siar Local Authority\",0,hosp_count(2,B201,C201,D201,$C$1,G201+H201,1,F201,F201,SIMDRateRatios_hosp,SIMDrateratios,RateRatios!$B$3)*10))","v":502.2243773723842},1.1018777480444442E-2,{"$f":"IF('III Tool Overview'!$H$6=\"Western Isles Health Board\",0,IF('III Tool Overview'!$H$6=\"Eilean Siar Local Authority\",0,hosp_count(5,B201,C201,D201,$C$1,G201,1,F201,F201,SIMDRateRatios_hosp,SIMDrateratios,RateRatios!$B$3)*1000))","v":212074.3758338216},{"$f":"IF('III Tool Overview'!$H$6=\"Western Isles Health Board\",0,IF('III Tool Overview'!$H$6=\"Eilean Siar Local Authority\",0,hosp_count(5,B201,C201,D201,$C$1,G201+H201,1,F201,F201,SIMDRateRatios_hosp,SIMDrateratios,RateRatios!$B$3)*1000))","v":212069.73185385994},4.6439799616637174,{"$f":"IF('III Tool Overview'!$H$6=\"Western Isles Health Board\",0,IF('III Tool Overview'!$H$6=\"Eilean Siar Local Authority\",0,hosp_count(10,B201,C201,D201,$C$1,G201,1,F201,F201,SIMDRateRatios_hosp,SIMDrateratios,RateRatios!$B$3)*10))","v":5231.0569859999678},{"$f":"IF('III Tool Overview'!$H$6=\"Western Isles Health Board\",0,IF('III Tool Overview'!$H$6=\"Eilean Siar Local Authority\",0,hosp_count(10,B201,C201,D201,$C$1,G201+H201,1,F201,F201,SIMDRateRatios_hosp,SIMDrateratios,RateRatios!$B$3)*10))","v":5230.9428831040004},0.11410289596733492,{"$f":"IF('III Tool Overview'!$H$6=\"Western Isles Health Board\",0,IF('III Tool Overview'!$H$6=\"Eilean Siar Local Authority\",0,hosp_count(20,B201,C201,D201,$C$1,G201,1,F201,F201,SIMDRateRatios_hosp,SIMDrateratios,RateRatios!$B$3)*10))","v":13342.318627721588},{"$f":"IF('III Tool Overview'!$H$6=\"Western Isles Health Board\",0,IF('III Tool Overview'!$H$6=\"Eilean Siar Local Authority\",0,hosp_count(20,B201,C201,D201,$C$1,G201+H201,1,F201,F201,SIMDRateRatios_hosp,SIMDrateratios,RateRatios!$B$3)*10))","v":13342.030990322912},0.28763739867645199]
["Male 30-34",32.5,"male",4,1,{"$f":"HLOOKUP('III Tool Overview'!$H$6,LookUpData_Pop!$B$1:$AV$269,LookUpData_Pop!BB197,FALSE)/50","v":452.1},{"$f":"'III Tool Overview'!$H$9/110","v":0},452.1,{"$f":"IF('III Tool Overview'!$H$6=\"Western Isles Health Board\",0,IF('III Tool Overview'!$H$6=\"Eilean Siar Local Authority\",0,new_ci(2,B202,C202,D202,$C$1,G202,1,F202,E202*F202,SIMDrateratios,RateRatios!$B$3)*10))","v":5.5305478792303155},{"$f":"IF('III Tool Overview'!$H$6=\"Western Isles Health Board\",0,IF('III Tool Overview'!$H$6=\"Eilean Siar Local Authority\",0,new_ci(2,B202,C202,D202,$C$1,G202+H202,1,H202,H202,SIMDrateratios,RateRatios!$B$3)*10))","v":5.5303920628841254},{"$f":"IF('III Tool Overview'!$H$6=\"Western Isles Health Board\",0,IF('III Tool Overview'!$H$6=\"Eilean Siar Local Authority\",0,new_ci(5,B202,C202,D202,$C$1,G202,1,F202,F202,SIMDrateratios,RateRatios!$B$3)*1000))","v":2414.952863505539},{"$f":"IF('III Tool Overview'!$H$6=\"Western Isles Health Board\",0,IF('III Tool Overview'!$H$6=\"Eilean Siar Local Authority\",0,new_ci(5,B202,C202,D202,$C$1,H202,1,F202,F202,SIMDrateratios,RateRatios!$B$3)*1000))","v":2414.8849656871253},{"$f":"IF('III Tool Overview'!$H$6=\"Western Isles Health Board\",0,IF('III Tool Overview'!$H$6=\"Eilean Siar Local Authority\",0,new_ci(10,B202,C202,D202,$C$1,G202,1,F202,F202,SIMDrateratios,RateRatios!$B$3)*10))","v":63.186225307676921},{"$f":"IF('III Tool Overview'!$H$6=\"Western Isles Health Board\",0,IF('III Tool Overview'!$H$6=\"Eilean Siar Local Authority\",0,new_ci(10,B202,C202,D202,$C$1,G202+H202,1,F202,F202,SIMDrateratios,RateRatios!$B$3)*10))","v":63.184456529793437},{"$f":"IF('III Tool Overview'!$H$6=\"Western Isles Health Board\",0,IF('III Tool Overview'!$H$6=\"Eilean Siar Local Authority\",0,new_ci(20,B202,C202,D202,$C$1,G202,1,F202,F202,SIMDrateratios,RateRatios!$B$3)*10))","v":183.29196028226593},{"$f":"IF('III Tool Overview'!$H$6=\"Western Isles Health Board\",0,IF('III Tool Overview'!$H$6=\"Eilean Siar Local Authority\",0,new_ci(20,B202,C202,D202,$C$1,G202+H202,1,F202,F202,SIMDrateratios,RateRatios!$B$3)*10))","v":183.28689928319369},{"$f":"IF('III Tool Overview'!$H$6=\"Western Isles Health Board\",0,IF('III Tool Overview'!$H$6=\"Eilean Siar Local Authority\",0,new_yll(2,B202,C202,D202,$C$1,G202,1,F202,F202,SIMDrateratios,RateRatios!$B$3)*10))","v":370.54670790843113},{"$f":"IF('III Tool Overview'!$H$6=\"Western Isles Health Board\",0,IF('III Tool Overview'!$H$6=\"Eilean Siar Local Authority\",0,new_yll(2,B202,C202,D202,$C$1,G202+H202,1,F202,F202,SIMDrateratios,RateRatios!$B$3)*10))","v":370.53626821323638},1.0439695194747856E-2,{"$f":"IF('III Tool Overview'!$H$6=\"Western Isles Health Board\",0,IF('III Tool Overview'!$H$6=\"Eilean Siar Local Authority\",0,new_yll(5,B202,C202,D202,$C$1,G202,1,F202,F202,SIMDrateratios,RateRatios!$B$3)*1000))","v":158007.29010771945},{"$f":"IF('III Tool Overview'!$H$6=\"Western Isles Health Board\",0,IF('III Tool Overview'!$H$6=\"Eilean Siar Local Authority\",0,new_yll(5,B202,C202,D202,$C$1,G202+H202,1,F202,F202,SIMDrateratios,RateRatios!$B$3)*1000))","v":158002.84752623847},4.4425814809801523,{"$f":"IF('III Tool Overview'!$H$6=\"Western Isles Health Board\",0,IF('III Tool Overview'!$H$6=\"Eilean Siar Local Authority\",0,new_yll(10,B202,C202,D202,$C$1,G202,1,F202,F202,SIMDrateratios,RateRatios!$B$3)*10))","v":3956.8934597992902},{"$f":"IF('III Tool Overview'!$H$6=\"Western Isles Health Board\",0,IF('III Tool Overview'!$H$6=\"Eilean Siar Local Authority\",0,new_yll(10,B202,C202,D202,$C$1,G202+H202,1,F202,F202,SIMDrateratios,RateRatios!$B$3)*10))","v":3956.7826757139551},0.11078408533512629,{"$f":"IF('III Tool Overview'!$H$6=\"Western Isles Health Board\",0,IF('III Tool Overview'!$H$6=\"Eilean Siar Local Authority\",0,new_yll(20,B202,C202,D202,$C$1,G202,1,F202,F202,SIMDrateratios,RateRatios!$B$3)*10))","v":10327.677103172136},{"$f":"IF('III Tool Overview'!$H$6=\"Western Isles Health Board\",0,IF('III Tool Overview'!$H$6=\"Eilean Siar Local Authority\",0,new_yll(20,B202,C202,D202,$C$1,G202+H202,1,F202,F202,SIMDrateratios,RateRatios!$B$3)*10))","v":10327.391613939781},0.28548923235575785,{"$f":"IF('III Tool Overview'!$H$6=\"Western Isles Health Board\",0,IF('III Tool Overview'!$H$6=\"Eilean Siar Local Authority\",0,hosp_count(2,B202,C202,D202,$C$1,G202,1,F202,F202,SIMDRateRatios_hosp,SIMDrateratios,RateRatios!$B$3)*10))","v":453.6230846787912},{"$f":"IF('III Tool Overview'!$H$6=\"Western Isles Health Board\",0,IF('III Tool Overview'!$H$6=\"Eilean Siar Local Authority\",0,hosp_count(2,B202,C202,D202,$C$1,G202+H202,1,F202,F202,SIMDRateRatios_hosp,SIMDrateratios,RateRatios!$B$3)*10))","v":453.61314292261483},9.9417561763743834E-3,{"$f":"IF('III Tool Overview'!$H$6=\"Western Isles Health Board\",0,IF('III Tool Overview'!$H$6=\"Eilean Siar Local Authority\",0,hosp_count(5,B202,C202,D202,$C$1,G202,1,F202,F202,SIMDRateRatios_hosp,SIMDrateratios,RateRatios!$B$3)*1000))","v":191452.52282053544},{"$f":"IF('III Tool Overview'!$H$6=\"Western Isles Health Board\",0,IF('III Tool Overview'!$H$6=\"Eilean Siar Local Authority\",0,hosp_count(5,B202,C202,D202,$C$1,G202+H202,1,F202,F202,SIMDRateRatios_hosp,SIMDrateratios,RateRatios!$B$3)*1000))","v":191448.3375042761},4.1853162593324669,{"$f":"IF('III Tool Overview'!$H$6=\"Western Isles Health Board\",0,IF('III Tool Overview'!$H$6=\"Eilean Siar Local Authority\",0,hosp_count(10,B202,C202,D202,$C$1,G202,1,F202,F202,SIMDRateRatios_hosp,SIMDrateratios,RateRatios!$B$3)*10))","v":4717.6054702696592},{"$f":"IF('III Tool Overview'!$H$6=\"Western Isles Health Board\",0,IF('III Tool Overview'!$H$6=\"Eilean Siar Local Authority\",0,hosp_count(10,B202,C202,D202,$C$1,G202+H202,1,F202,F202,SIMDRateRatios_hosp,SIMDrateratios,RateRatios!$B$3)*10))","v":4717.5028759052193},0.10259436443993764,{"$f":"IF('III Tool Overview'!$H$6=\"Western Isles Health Board\",0,IF('III Tool Overview'!$H$6=\"Eilean Siar Local Authority\",0,hosp_count(20,B202,C202,D202,$C$1,G202,1,F202,F202,SIMDRateRatios_hosp,SIMDrateratios,RateRatios!$B$3)*10))","v":11996.387994306067},{"$f":"IF('III Tool Overview'!$H$6=\"Western Isles Health Board\",0,IF('III Tool Overview'!$H$6=\"Eilean Siar Local Authority\",0,hosp_count(20,B202,C202,D202,$C$1,G202+H202,1,F202,F202,SIMDRateRatios_hosp,SIMDrateratios,RateRatios!$B$3)*10))","v":11996.131168475225},0.25682583084198995]
["Male 35-39",37.5,"male",4,1,{"$f":"HLOOKUP('III Tool Overview'!$H$6,LookUpData_Pop!$B$1:$AV$269,LookUpData_Pop!BB198,FALSE)/50","v":494.88},{"$f":"'III Tool Overview'!$H$9/110","v":0},494.88,{"$f":"IF('III Tool Overview'!$H$6=\"Western Isles Health Board\",0,IF('III Tool Overview'!$H$6=\"Eilean Siar Local Authority\",0,new_ci(2,B203,C203,D203,$C$1,G203,1,F203,E203*F203,SIMDrateratios,RateRatios!$B$3)*10))","v":9.3443282880793213},{"$f":"IF('III Tool Overview'!$H$6=\"Western Isles Health Board\",0,IF('III Tool Overview'!$H$6=\"Eilean Siar Local Authority\",0,new_ci(2,B203,C203,D203,$C$1,G203+H203,1,H203,H203,SIMDrateratios,RateRatios!$B$3)*10))","v":9.3440649887964451},{"$f":"IF('III Tool Overview'!$H$6=\"Western Isles Health Board\",0,IF('III Tool Overview'!$H$6=\"Eilean Siar Local Authority\",0,new_ci(5,B203,C203,D203,$C$1,G203,1,F203,F203,SIMDrateratios,RateRatios!$B$3)*1000))","v":4075.6899579332089},{"$f":"IF('III Tool Overview'!$H$6=\"Western Isles Health Board\",0,IF('III Tool Overview'!$H$6=\"Eilean Siar Local Authority\",0,new_ci(5,B203,C203,D203,$C$1,H203,1,F203,F203,SIMDrateratios,RateRatios!$B$3)*1000))","v":4075.5754814624156},{"$f":"IF('III Tool Overview'!$H$6=\"Western Isles Health Board\",0,IF('III Tool Overview'!$H$6=\"Eilean Siar Local Authority\",0,new_ci(10,B203,C203,D203,$C$1,G203,1,F203,F203,SIMDrateratios,RateRatios!$B$3)*10))","v":106.38713695369611},{"$f":"IF('III Tool Overview'!$H$6=\"Western Isles Health Board\",0,IF('III Tool Overview'!$H$6=\"Eilean Siar Local Authority\",0,new_ci(10,B203,C203,D203,$C$1,G203+H203,1,F203,F203,SIMDrateratios,RateRatios!$B$3)*10))","v":106.38416888662086},{"$f":"IF('III Tool Overview'!$H$6=\"Western Isles Health Board\",0,IF('III Tool Overview'!$H$6=\"Eilean Siar Local Authority\",0,new_ci(20,B203,C203,D203,$C$1,G203,1,F203,F203,SIMDrateratios,RateRatios!$B$3)*10))","v":306.35251994808789},{"$f":"IF('III Tool Overview'!$H$6=\"Western Isles Health Board\",0,IF('III Tool Overview'!$H$6=\"Eilean Siar Local Authority\",0,new_ci(20,B203,C203,D203,$C$1,G203+H203,1,F203,F203,SIMDrateratios,RateRatios!$B$3)*10))","v":306.34415268258033},{"$f":"IF('III Tool Overview'!$H$6=\"Western Isles Health Board\",0,IF('III Tool Overview'!$H$6=\"Eilean Siar Local Authority\",0,new_yll(2,B203,C203,D203,$C$1,G203,1,F203,F203,SIMDrateratios,RateRatios!$B$3)*10))","v":570.0040255728386},{"$f":"IF('III Tool Overview'!$H$6=\"Western Isles Health Board\",0,IF('III Tool Overview'!$H$6=\"Eilean Siar Local Authority\",0,new_yll(2,B203,C203,D203,$C$1,G203+H203,1,F203,F203,SIMDrateratios,RateRatios!$B$3)*10))","v":569.98796431658309},1.606125625551158E-2,{"$f":"IF('III Tool Overview'!$H$6=\"Western Isles Health Board\",0,IF('III Tool Overview'!$H$6=\"Eilean Siar Local Authority\",0,new_yll(5,B203,C203,D203,$C$1,G203,1,F203,F203,SIMDrateratios,RateRatios!$B$3)*1000))","v":242216.76658322348},{"$f":"IF('III Tool Overview'!$H$6=\"Western Isles Health Board\",0,IF('III Tool Overview'!$H$6=\"Eilean Siar Local Authority\",0,new_yll(5,B203,C203,D203,$C$1,G203+H203,1,F203,F203,SIMDrateratios,RateRatios!$B$3)*1000))","v":242209.9629919185},6.8035913049825467,{"$f":"IF('III Tool Overview'!$H$6=\"Western Isles Health Board\",0,IF('III Tool Overview'!$H$6=\"Eilean Siar Local Authority\",0,new_yll(10,B203,C203,D203,$C$1,G203,1,F203,F203,SIMDrateratios,RateRatios!$B$3)*10))","v":6024.5272235922112},{"$f":"IF('III Tool Overview'!$H$6=\"Western Isles Health Board\",0,IF('III Tool Overview'!$H$6=\"Eilean Siar Local Authority\",0,new_yll(10,B203,C203,D203,$C$1,G203+H203,1,F203,F203,SIMDrateratios,RateRatios!$B$3)*10))","v":6024.3590990139737},0.16812457823743898,{"$f":"IF('III Tool Overview'!$H$6=\"Western Isles Health Board\",0,IF('III Tool Overview'!$H$6=\"Eilean Siar Local Authority\",0,new_yll(20,B203,C203,D203,$C$1,G203,1,F203,F203,SIMDrateratios,RateRatios!$B$3)*10))","v":15433.948333071534},{"$f":"IF('III Tool Overview'!$H$6=\"Western Isles Health Board\",0,IF('III Tool Overview'!$H$6=\"Eilean Siar Local Authority\",0,new_yll(20,B203,C203,D203,$C$1,G203+H203,1,F203,F203,SIMDrateratios,RateRatios!$B$3)*10))","v":15433.525953779867},0.42237929166731192,{"$f":"IF('III Tool Overview'!$H$6=\"Western Isles Health Board\",0,IF('III Tool Overview'!$H$6=\"Eilean Siar Local Authority\",0,hosp_count(2,B203,C203,D203,$C$1,G203,1,F203,F203,SIMDRateRatios_hosp,SIMDrateratios,RateRatios!$B$3)*10))","v":612.18284954121702},{"$f":"IF('III Tool Overview'!$H$6=\"Western Isles Health Board\",0,IF('III Tool Overview'!$H$6=\"Eilean Siar Local Authority\",0,hosp_count(2,B203,C203,D203,$C$1,G203+H203,1,F203,F203,SIMDRateRatios_hosp,SIMDrateratios,RateRatios!$B$3)*10))","v":612.16942651348847},1.3423027728549641E-2,{"$f":"IF('III Tool Overview'!$H$6=\"Western Isles Health Board\",0,IF('III Tool Overview'!$H$6=\"Eilean Siar Local Authority\",0,hosp_count(5,B203,C203,D203,$C$1,G203,1,F203,F203,SIMDRateRatios_hosp,SIMDrateratios,RateRatios!$B$3)*1000))","v":258096.57829879416},{"$f":"IF('III Tool Overview'!$H$6=\"Western Isles Health Board\",0,IF('III Tool Overview'!$H$6=\"Eilean Siar Local Authority\",0,hosp_count(5,B203,C203,D203,$C$1,G203+H203,1,F203,F203,SIMDRateRatios_hosp,SIMDrateratios,RateRatios!$B$3)*1000))","v":258090.94125048612},5.6370483080390841,{"$f":"IF('III Tool Overview'!$H$6=\"Western Isles Health Board\",0,IF('III Tool Overview'!$H$6=\"Eilean Siar Local Authority\",0,hosp_count(10,B203,C203,D203,$C$1,G203,1,F203,F203,SIMDRateRatios_hosp,SIMDrateratios,RateRatios!$B$3)*10))","v":6345.8588376477483},{"$f":"IF('III Tool Overview'!$H$6=\"Western Isles Health Board\",0,IF('III Tool Overview'!$H$6=\"Eilean Siar Local Authority\",0,hosp_count(10,B203,C203,D203,$C$1,G203+H203,1,F203,F203,SIMDRateRatios_hosp,SIMDrateratios,RateRatios!$B$3)*10))","v":6345.7213515887488},0.13748605899945687,{"$f":"IF('III Tool Overview'!$H$6=\"Western Isles Health Board\",0,IF('III Tool Overview'!$H$6=\"Eilean Siar Local Authority\",0,hosp_count(20,B203,C203,D203,$C$1,G203,1,F203,F203,SIMDRateRatios_hosp,SIMDrateratios,RateRatios!$B$3)*10))","v":16032.070403794942},{"$f":"IF('III Tool Overview'!$H$6=\"Western Isles Health Board\",0,IF('III Tool Overview'!$H$6=\"Eilean Siar Local Authority\",0,hosp_count(20,B203,C203,D203,$C$1,G203+H203,1,F203,F203,SIMDRateRatios_hosp,SIMDrateratios,RateRatios!$B$3)*10))","v":16031.731399960885},0.33900383405671164]
["Male 40-44",42.5,"male",4,1,{"$f":"HLOOKUP('III Tool Overview'!$H$6,LookUpData_Pop!$B$1:$AV$269,LookUpData_Pop!BB199,FALSE)/50","v":572.1},{"$f":"'III Tool Overview'!$H$9/110","v":0},572.1,{"$f":"IF('III Tool Overview'!$H$6=\"Western Isles Health Board\",0,IF('III Tool Overview'!$H$6=\"Eilean Siar Local Authority\",0,new_ci(2,B204,C204,D204,$C$1,G204,1,F204,E204*F204,SIMDrateratios,RateRatios!$B$3)*10))","v":14.426303551342659},{"$f":"IF('III Tool Overview'!$H$6=\"Western Isles Health Board\",0,IF('III Tool Overview'!$H$6=\"Eilean Siar Local Authority\",0,new_ci(2,B204,C204,D204,$C$1,G204+H204,1,H204,H204,SIMDrateratios,RateRatios!$B$3)*10))","v":14.425897353568438},{"$f":"IF('III Tool Overview'!$H$6=\"Western Isles Health Board\",0,IF('III Tool Overview'!$H$6=\"Eilean Siar Local Authority\",0,new_ci(5,B204,C204,D204,$C$1,G204,1,F204,F204,SIMDrateratios,RateRatios!$B$3)*1000))","v":6285.5559997990013},{"$f":"IF('III Tool Overview'!$H$6=\"Western Isles Health Board\",0,IF('III Tool Overview'!$H$6=\"Eilean Siar Local Authority\",0,new_ci(5,B204,C204,D204,$C$1,H204,1,F204,F204,SIMDrateratios,RateRatios!$B$3)*1000))","v":6285.379772399805},{"$f":"IF('III Tool Overview'!$H$6=\"Western Isles Health Board\",0,IF('III Tool Overview'!$H$6=\"Eilean Siar Local Authority\",0,new_ci(10,B204,C204,D204,$C$1,G204,1,F204,F204,SIMDrateratios,RateRatios!$B$3)*10))","v":163.70257049070179},{"$f":"IF('III Tool Overview'!$H$6=\"Western Isles Health Board\",0,IF('III Tool Overview'!$H$6=\"Eilean Siar Local Authority\",0,new_ci(10,B204,C204,D204,$C$1,G204+H204,1,F204,F204,SIMDrateratios,RateRatios!$B$3)*10))","v":163.698022002176},{"$f":"IF('III Tool Overview'!$H$6=\"Western Isles Health Board\",0,IF('III Tool Overview'!$H$6=\"Eilean Siar Local Authority\",0,new_ci(20,B204,C204,D204,$C$1,G204,1,F204,F204,SIMDrateratios,RateRatios!$B$3)*10))","v":468.12643320629036},{"$f":"IF('III Tool Overview'!$H$6=\"Western Isles Health Board\",0,IF('III Tool Overview'!$H$6=\"Eilean Siar Local Authority\",0,new_ci(20,B204,C204,D204,$C$1,G204+H204,1,F204,F204,SIMDrateratios,RateRatios!$B$3)*10))","v":468.11379093368294},{"$f":"IF('III Tool Overview'!$H$6=\"Western Isles Health Board\",0,IF('III Tool Overview'!$H$6=\"Eilean Siar Local Authority\",0,new_yll(2,B204,C204,D204,$C$1,G204,1,F204,F204,SIMDrateratios,RateRatios!$B$3)*10))","v":822.29930242653154},{"$f":"IF('III Tool Overview'!$H$6=\"Western Isles Health Board\",0,IF('III Tool Overview'!$H$6=\"Eilean Siar Local Authority\",0,new_yll(2,B204,C204,D204,$C$1,G204+H204,1,F204,F204,SIMDrateratios,RateRatios!$B$3)*10))","v":822.27614915340098},2.3153273130560592E-2,{"$f":"IF('III Tool Overview'!$H$6=\"Western Isles Health Board\",0,IF('III Tool Overview'!$H$6=\"Eilean Siar Local Authority\",0,new_yll(5,B204,C204,D204,$C$1,G204,1,F204,F204,SIMDrateratios,RateRatios!$B$3)*1000))","v":348411.51956939319},{"$f":"IF('III Tool Overview'!$H$6=\"Western Isles Health Board\",0,IF('III Tool Overview'!$H$6=\"Eilean Siar Local Authority\",0,new_yll(5,B204,C204,D204,$C$1,G204+H204,1,F204,F204,SIMDrateratios,RateRatios!$B$3)*1000))","v":348401.75058585178},9.7689835414057598,{"$f":"IF('III Tool Overview'!$H$6=\"Western Isles Health Board\",0,IF('III Tool Overview'!$H$6=\"Eilean Siar Local Authority\",0,new_yll(10,B204,C204,D204,$C$1,G204,1,F204,F204,SIMDrateratios,RateRatios!$B$3)*10))","v":8616.2720725159052},{"$f":"IF('III Tool Overview'!$H$6=\"Western Isles Health Board\",0,IF('III Tool Overview'!$H$6=\"Eilean Siar Local Authority\",0,new_yll(10,B204,C204,D204,$C$1,G204+H204,1,F204,F204,SIMDrateratios,RateRatios!$B$3)*10))","v":8616.032570382311},0.23950213359421468,{"$f":"IF('III Tool Overview'!$H$6=\"Western Isles Health Board\",0,IF('III Tool Overview'!$H$6=\"Eilean Siar Local Authority\",0,new_yll(20,B204,C204,D204,$C$1,G204,1,F204,F204,SIMDrateratios,RateRatios!$B$3)*10))","v":21726.836948576849},{"$f":"IF('III Tool Overview'!$H$6=\"Western Isles Health Board\",0,IF('III Tool Overview'!$H$6=\"Eilean Siar Local Authority\",0,new_yll(20,B204,C204,D204,$C$1,G204+H204,1,F204,F204,SIMDrateratios,RateRatios!$B$3)*10))","v":21726.248478342965},0.58847023388443631,{"$f":"IF('III Tool Overview'!$H$6=\"Western Isles Health Board\",0,IF('III Tool Overview'!$H$6=\"Eilean Siar Local Authority\",0,hosp_count(2,B204,C204,D204,$C$1,G204,1,F204,F204,SIMDRateRatios_hosp,SIMDrateratios,RateRatios!$B$3)*10))","v":813.70493004427988},{"$f":"IF('III Tool Overview'!$H$6=\"Western Isles Health Board\",0,IF('III Tool Overview'!$H$6=\"Eilean Siar Local Authority\",0,hosp_count(2,B204,C204,D204,$C$1,G204+H204,1,F204,F204,SIMDRateRatios_hosp,SIMDrateratios,RateRatios!$B$3)*10))","v":813.68709578563437},1.7834258645507362E-2,{"$f":"IF('III Tool Overview'!$H$6=\"Western Isles Health Board\",0,IF('III Tool Overview'!$H$6=\"Eilean Siar Local Authority\",0,hosp_count(5,B204,C204,D204,$C$1,G204,1,F204,F204,SIMDRateRatios_hosp,SIMDrateratios,RateRatios!$B$3)*1000))","v":342708.70611097151},{"$f":"IF('III Tool Overview'!$H$6=\"Western Isles Health Board\",0,IF('III Tool Overview'!$H$6=\"Eilean Siar Local Authority\",0,hosp_count(5,B204,C204,D204,$C$1,G204+H204,1,F204,F204,SIMDRateRatios_hosp,SIMDrateratios,RateRatios!$B$3)*1000))","v":342701.23401843745},7.4720925340661779,{"$f":"IF('III Tool Overview'!$H$6=\"Western Isles Health Board\",0,IF('III Tool Overview'!$H$6=\"Eilean Siar Local Authority\",0,hosp_count(10,B204,C204,D204,$C$1,G204,1,F204,F204,SIMDRateRatios_hosp,SIMDrateratios,RateRatios!$B$3)*10))","v":8408.6638465835913},{"$f":"IF('III Tool Overview'!$H$6=\"Western Isles Health Board\",0,IF('III Tool Overview'!$H$6=\"Eilean Siar Local Authority\",0,hosp_count(10,B204,C204,D204,$C$1,G204+H204,1,F204,F204,SIMDRateRatios_hosp,SIMDrateratios,RateRatios!$B$3)*10))","v":8408.4824779090995},0.18136867449175043,{"$f":"IF('III Tool Overview'!$H$6=\"Western Isles Health Board\",0,IF('III Tool Overview'!$H$6=\"Eilean Siar Local Authority\",0,hosp_count(20,B204,C204,D204,$C$1,G204,1,F204,F204,SIMDRateRatios_hosp,SIMDrateratios,RateRatios!$B$3)*10))","v":21112.65816815466},{"$f":"IF('III Tool Overview'!$H$6=\"Western Isles Health Board\",0,IF('III Tool Overview'!$H$6=\"Eilean Siar Local Authority\",0,hosp_count(20,B204,C204,D204,$C$1,G204+H204,1,F204,F204,SIMDRateRatios_hosp,SIMDrateratios,RateRatios!$B$3)*10))","v":21112.217371366332},0.44079678832713398]
["Male 45-49",47.5,"male",4,1,{"$f":"HLOOKUP('III Tool Overview'!$H$6,LookUpData_Pop!$B$1:$AV$269,LookUpData_Pop!BB200,FALSE)/50","v":604.82000000000005},{"$f":"'III Tool Overview'!$H$9/110","v":0},604.82000000000005,{"$f":"IF('III Tool Overview'!$H$6=\"Western Isles Health Board\",0,IF('III Tool Overview'!$H$6=\"Eilean Siar Local Authority\",0,new_ci(2,B205,C205,D205,$C$1,G205,1,F205,E205*F205,SIMDrateratios,RateRatios!$B$3)*10))","v":23.532618282526776},{"$f":"IF('III Tool Overview'!$H$6=\"Western Isles Health Board\",0,IF('III Tool Overview'!$H$6=\"Eilean Siar Local Authority\",0,new_ci(2,B205,C205,D205,$C$1,G205+H205,1,H205,H205,SIMDrateratios,RateRatios!$B$3)*10))","v":23.531955822853551},{"$f":"IF('III Tool Overview'!$H$6=\"Western Isles Health Board\",0,IF('III Tool Overview'!$H$6=\"Eilean Siar Local Authority\",0,new_ci(5,B205,C205,D205,$C$1,G205,1,F205,F205,SIMDrateratios,RateRatios!$B$3)*1000))","v":10229.512152742667},{"$f":"IF('III Tool Overview'!$H$6=\"Western Isles Health Board\",0,IF('III Tool Overview'!$H$6=\"Eilean Siar Local Authority\",0,new_ci(5,B205,C205,D205,$C$1,H205,1,F205,F205,SIMDrateratios,RateRatios!$B$3)*1000))","v":10229.226076594327},{"$f":"IF('III Tool Overview'!$H$6=\"Western Isles Health Board\",0,IF('III Tool Overview'!$H$6=\"Eilean Siar Local Authority\",0,new_ci(10,B205,C205,D205,$C$1,G205,1,F205,F205,SIMDrateratios,RateRatios!$B$3)*10))","v":265.13080096731068},{"$f":"IF('III Tool Overview'!$H$6=\"Western Isles Health Board\",0,IF('III Tool Overview'!$H$6=\"Eilean Siar Local Authority\",0,new_ci(10,B205,C205,D205,$C$1,G205+H205,1,F205,F205,SIMDrateratios,RateRatios!$B$3)*10))","v":265.12348913534845},{"$f":"IF('III Tool Overview'!$H$6=\"Western Isles Health Board\",0,IF('III Tool Overview'!$H$6=\"Eilean Siar Local Authority\",0,new_ci(20,B205,C205,D205,$C$1,G205,1,F205,F205,SIMDrateratios,RateRatios!$B$3)*10))","v":746.91946013600284},{"$f":"IF('III Tool Overview'!$H$6=\"Western Isles Health Board\",0,IF('III Tool Overview'!$H$6=\"Eilean Siar Local Authority\",0,new_ci(20,B205,C205,D205,$C$1,G205+H205,1,F205,F205,SIMDrateratios,RateRatios!$B$3)*10))","v":746.89975073031906},{"$f":"IF('III Tool Overview'!$H$6=\"Western Isles Health Board\",0,IF('III Tool Overview'!$H$6=\"Eilean Siar Local Authority\",0,new_yll(2,B205,C205,D205,$C$1,G205,1,F205,F205,SIMDrateratios,RateRatios!$B$3)*10))","v":1200.1635324088656},{"$f":"IF('III Tool Overview'!$H$6=\"Western Isles Health Board\",0,IF('III Tool Overview'!$H$6=\"Eilean Siar Local Authority\",0,new_yll(2,B205,C205,D205,$C$1,G205+H205,1,F205,F205,SIMDrateratios,RateRatios!$B$3)*10))","v":1200.129746965531},3.3785443334636511E-2,{"$f":"IF('III Tool Overview'!$H$6=\"Western Isles Health Board\",0,IF('III Tool Overview'!$H$6=\"Eilean Siar Local Authority\",0,new_yll(5,B205,C205,D205,$C$1,G205,1,F205,F205,SIMDrateratios,RateRatios!$B$3)*1000))","v":505669.08665555867},{"$f":"IF('III Tool Overview'!$H$6=\"Western Isles Health Board\",0,IF('III Tool Overview'!$H$6=\"Eilean Siar Local Authority\",0,new_yll(5,B205,C205,D205,$C$1,G205+H205,1,F205,F205,SIMDrateratios,RateRatios!$B$3)*1000))","v":505654.94369709952},14.142958459153306,{"$f":"IF('III Tool Overview'!$H$6=\"Western Isles Health Board\",0,IF('III Tool Overview'!$H$6=\"Eilean Siar Local Authority\",0,new_yll(10,B205,C205,D205,$C$1,G205,1,F205,F205,SIMDrateratios,RateRatios!$B$3)*10))","v":12367.104686236826},{"$f":"IF('III Tool Overview'!$H$6=\"Western Isles Health Board\",0,IF('III Tool Overview'!$H$6=\"Eilean Siar Local Authority\",0,new_yll(10,B205,C205,D205,$C$1,G205+H205,1,F205,F205,SIMDrateratios,RateRatios!$B$3)*10))","v":12366.76337754964},0.34130868718602869,{"$f":"IF('III Tool Overview'!$H$6=\"Western Isles Health Board\",0,IF('III Tool Overview'!$H$6=\"Eilean Siar Local Authority\",0,new_yll(20,B205,C205,D205,$C$1,G205,1,F205,F205,SIMDrateratios,RateRatios!$B$3)*10))","v":30237.52897593618},{"$f":"IF('III Tool Overview'!$H$6=\"Western Isles Health Board\",0,IF('III Tool Overview'!$H$6=\"Eilean Siar Local Authority\",0,new_yll(20,B205,C205,D205,$C$1,G205+H205,1,F205,F205,SIMDrateratios,RateRatios!$B$3)*10))","v":30236.726853330751},0.80212260542975855,{"$f":"IF('III Tool Overview'!$H$6=\"Western Isles Health Board\",0,IF('III Tool Overview'!$H$6=\"Eilean Siar Local Authority\",0,hosp_count(2,B205,C205,D205,$C$1,G205,1,F205,F205,SIMDRateRatios_hosp,SIMDrateratios,RateRatios!$B$3)*10))","v":1060.5759112385665},{"$f":"IF('III Tool Overview'!$H$6=\"Western Isles Health Board\",0,IF('III Tool Overview'!$H$6=\"Eilean Siar Local Authority\",0,hosp_count(2,B205,C205,D205,$C$1,G205+H205,1,F205,F205,SIMDRateRatios_hosp,SIMDrateratios,RateRatios!$B$3)*10))","v":1060.5526552383876},2.3256000178889735E-2,{"$f":"IF('III Tool Overview'!$H$6=\"Western Isles Health Board\",0,IF('III Tool Overview'!$H$6=\"Eilean Siar Local Authority\",0,hosp_count(5,B205,C205,D205,$C$1,G205,1,F205,F205,SIMDRateRatios_hosp,SIMDrateratios,RateRatios!$B$3)*1000))","v":445699.8496263019},{"$f":"IF('III Tool Overview'!$H$6=\"Western Isles Health Board\",0,IF('III Tool Overview'!$H$6=\"Eilean Siar Local Authority\",0,hosp_count(5,B205,C205,D205,$C$1,G205+H205,1,F205,F205,SIMDRateRatios_hosp,SIMDrateratios,RateRatios!$B$3)*1000))","v":445690.1550582971},9.6945680048083887,{"$f":"IF('III Tool Overview'!$H$6=\"Western Isles Health Board\",0,IF('III Tool Overview'!$H$6=\"Eilean Siar Local Authority\",0,hosp_count(10,B205,C205,D205,$C$1,G205,1,F205,F205,SIMDRateRatios_hosp,SIMDrateratios,RateRatios!$B$3)*10))","v":10886.509493384961},{"$f":"IF('III Tool Overview'!$H$6=\"Western Isles Health Board\",0,IF('III Tool Overview'!$H$6=\"Eilean Siar Local Authority\",0,hosp_count(10,B205,C205,D205,$C$1,G205+H205,1,F205,F205,SIMDRateRatios_hosp,SIMDrateratios,RateRatios!$B$3)*10))","v":10886.276614214006},0.23287917095512967,{"$f":"IF('III Tool Overview'!$H$6=\"Western Isles Health Board\",0,IF('III Tool Overview'!$H$6=\"Eilean Siar Local Authority\",0,hosp_count(20,B205,C205,D205,$C$1,G205,1,F205,F205,SIMDRateRatios_hosp,SIMDrateratios,RateRatios!$B$3)*10))","v":26974.06078204},{"$f":"IF('III Tool Overview'!$H$6=\"Western Isles Health Board\",0,IF('III Tool Overview'!$H$6=\"Eilean Siar Local Authority\",0,hosp_count(20,B205,C205,D205,$C$1,G205+H205,1,F205,F205,SIMDRateRatios_hosp,SIMDrateratios,RateRatios!$B$3)*10))","v":26973.512232759815},0.54854928018539795]
["Male 50-54",52.5,"male",4,1,{"$f":"HLOOKUP('III Tool Overview'!$H$6,LookUpData_Pop!$B$1:$AV$269,LookUpData_Pop!BB201,FALSE)/50","v":543},{"$f":"'III Tool Overview'!$H$9/110","v":0},543,{"$f":"IF('III Tool Overview'!$H$6=\"Western Isles Health Board\",0,IF('III Tool Overview'!$H$6=\"Eilean Siar Local Authority\",0,new_ci(2,B206,C206,D206,$C$1,G206,1,F206,E206*F206,SIMDrateratios,RateRatios!$B$3)*10))","v":28.205417987825903},{"$f":"IF('III Tool Overview'!$H$6=\"Western Isles Health Board\",0,IF('III Tool Overview'!$H$6=\"Eilean Siar Local Authority\",0,new_ci(2,B206,C206,D206,$C$1,G206+H206,1,H206,H206,SIMDrateratios,RateRatios!$B$3)*10))","v":28.204624741718426},{"$f":"IF('III Tool Overview'!$H$6=\"Western Isles Health Board\",0,IF('III Tool Overview'!$H$6=\"Eilean Siar Local Authority\",0,new_ci(5,B206,C206,D206,$C$1,G206,1,F206,F206,SIMDrateratios,RateRatios!$B$3)*1000))","v":12233.797417055343},{"$f":"IF('III Tool Overview'!$H$6=\"Western Isles Health Board\",0,IF('III Tool Overview'!$H$6=\"Eilean Siar Local Authority\",0,new_ci(5,B206,C206,D206,$C$1,H206,1,F206,F206,SIMDrateratios,RateRatios!$B$3)*1000))","v":12233.456372992208},{"$f":"IF('III Tool Overview'!$H$6=\"Western Isles Health Board\",0,IF('III Tool Overview'!$H$6=\"Eilean Siar Local Authority\",0,new_ci(10,B206,C206,D206,$C$1,G206,1,F206,F206,SIMDrateratios,RateRatios!$B$3)*10))","v":315.62075967760768},{"$f":"IF('III Tool Overview'!$H$6=\"Western Isles Health Board\",0,IF('III Tool Overview'!$H$6=\"Eilean Siar Local Authority\",0,new_ci(10,B206,C206,D206,$C$1,G206+H206,1,F206,F206,SIMDrateratios,RateRatios!$B$3)*10))","v":315.6121238425448},{"$f":"IF('III Tool Overview'!$H$6=\"Western Isles Health Board\",0,IF('III Tool Overview'!$H$6=\"Eilean Siar Local Authority\",0,new_ci(20,B206,C206,D206,$C$1,G206,1,F206,F206,SIMDrateratios,RateRatios!$B$3)*10))","v":876.70307911704003},{"$f":"IF('III Tool Overview'!$H$6=\"Western Isles Health Board\",0,IF('III Tool Overview'!$H$6=\"Eilean Siar Local Authority\",0,new_ci(20,B206,C206,D206,$C$1,G206+H206,1,F206,F206,SIMDrateratios,RateRatios!$B$3)*10))","v":876.68047109908548},{"$f":"IF('III Tool Overview'!$H$6=\"Western Isles Health Board\",0,IF('III Tool Overview'!$H$6=\"Eilean Siar Local Authority\",0,new_yll(2,B206,C206,D206,$C$1,G206,1,F206,F206,SIMDrateratios,RateRatios!$B$3)*10))","v":1325.6546454278173},{"$f":"IF('III Tool Overview'!$H$6=\"Western Isles Health Board\",0,IF('III Tool Overview'!$H$6=\"Eilean Siar Local Authority\",0,new_yll(2,B206,C206,D206,$C$1,G206+H206,1,F206,F206,SIMDrateratios,RateRatios!$B$3)*10))","v":1325.6173628607662},3.7282567051079241E-2,{"$f":"IF('III Tool Overview'!$H$6=\"Western Isles Health Board\",0,IF('III Tool Overview'!$H$6=\"Eilean Siar Local Authority\",0,new_yll(5,B206,C206,D206,$C$1,G206,1,F206,F206,SIMDrateratios,RateRatios!$B$3)*1000))","v":555832.33967697271},{"$f":"IF('III Tool Overview'!$H$6=\"Western Isles Health Board\",0,IF('III Tool Overview'!$H$6=\"Eilean Siar Local Authority\",0,new_yll(5,B206,C206,D206,$C$1,G206+H206,1,F206,F206,SIMDrateratios,RateRatios!$B$3)*1000))","v":555816.84217405971},15.497502913000062,{"$f":"IF('III Tool Overview'!$H$6=\"Western Isles Health Board\",0,IF('III Tool Overview'!$H$6=\"Eilean Siar Local Authority\",0,new_yll(10,B206,C206,D206,$C$1,G206,1,F206,F206,SIMDrateratios,RateRatios!$B$3)*10))","v":13463.230351608328},{"$f":"IF('III Tool Overview'!$H$6=\"Western Isles Health Board\",0,IF('III Tool Overview'!$H$6=\"Eilean Siar Local Authority\",0,new_yll(10,B206,C206,D206,$C$1,G206+H206,1,F206,F206,SIMDrateratios,RateRatios!$B$3)*10))","v":13462.861587016363},0.36876459196537326,{"$f":"IF('III Tool Overview'!$H$6=\"Western Isles Health Board\",0,IF('III Tool Overview'!$H$6=\"Eilean Siar Local Authority\",0,new_yll(20,B206,C206,D206,$C$1,G206,1,F206,F206,SIMDrateratios,RateRatios!$B$3)*10))","v":32043.861003574959},{"$f":"IF('III Tool Overview'!$H$6=\"Western Isles Health Board\",0,IF('III Tool Overview'!$H$6=\"Eilean Siar Local Authority\",0,new_yll(20,B206,C206,D206,$C$1,G206+H206,1,F206,F206,SIMDrateratios,RateRatios!$B$3)*10))","v":32043.028038836994},0.83296473796508508,{"$f":"IF('III Tool Overview'!$H$6=\"Western Isles Health Board\",0,IF('III Tool Overview'!$H$6=\"Eilean Siar Local Authority\",0,hosp_count(2,B206,C206,D206,$C$1,G206,1,F206,F206,SIMDRateRatios_hosp,SIMDrateratios,RateRatios!$B$3)*10))","v":1094.7858817875651},{"$f":"IF('III Tool Overview'!$H$6=\"Western Isles Health Board\",0,IF('III Tool Overview'!$H$6=\"Eilean Siar Local Authority\",0,hosp_count(2,B206,C206,D206,$C$1,G206+H206,1,F206,F206,SIMDRateRatios_hosp,SIMDrateratios,RateRatios!$B$3)*10))","v":1094.7618827834244},2.3999004140705438E-2,{"$f":"IF('III Tool Overview'!$H$6=\"Western Isles Health Board\",0,IF('III Tool Overview'!$H$6=\"Eilean Siar Local Authority\",0,hosp_count(5,B206,C206,D206,$C$1,G206,1,F206,F206,SIMDRateRatios_hosp,SIMDrateratios,RateRatios!$B$3)*1000))","v":459111.57228414138},{"$f":"IF('III Tool Overview'!$H$6=\"Western Isles Health Board\",0,IF('III Tool Overview'!$H$6=\"Eilean Siar Local Authority\",0,hosp_count(5,B206,C206,D206,$C$1,G206+H206,1,F206,F206,SIMDRateRatios_hosp,SIMDrateratios,RateRatios!$B$3)*1000))","v":459101.61603074643},9.9562533949501812,{"$f":"IF('III Tool Overview'!$H$6=\"Western Isles Health Board\",0,IF('III Tool Overview'!$H$6=\"Eilean Siar Local Authority\",0,hosp_count(10,B206,C206,D206,$C$1,G206,1,F206,F206,SIMDRateRatios_hosp,SIMDrateratios,RateRatios!$B$3)*10))","v":11166.235783025299},{"$f":"IF('III Tool Overview'!$H$6=\"Western Isles Health Board\",0,IF('III Tool Overview'!$H$6=\"Eilean Siar Local Authority\",0,hosp_count(10,B206,C206,D206,$C$1,G206+H206,1,F206,F206,SIMDRateRatios_hosp,SIMDrateratios,RateRatios!$B$3)*10))","v":11165.99897954458},0.2368034807186632,{"$f":"IF('III Tool Overview'!$H$6=\"Western Isles Health Board\",0,IF('III Tool Overview'!$H$6=\"Eilean Siar Local Authority\",0,hosp_count(20,B206,C206,D206,$C$1,G206,1,F206,F206,SIMDRateRatios_hosp,SIMDrateratios,RateRatios!$B$3)*10))","v":27323.454221075546},{"$f":"IF('III Tool Overview'!$H$6=\"Western Isles Health Board\",0,IF('III Tool Overview'!$H$6=\"Eilean Siar Local Authority\",0,hosp_count(20,B206,C206,D206,$C$1,G206+H206,1,F206,F206,SIMDRateRatios_hosp,SIMDrateratios,RateRatios!$B$3)*10))","v":27322.912864309066},0.54135676648002118]
["Male 55-59",57.5,"male",4,1,{"$f":"HLOOKUP('III Tool Overview'!$H$6,LookUpData_Pop!$B$1:$AV$269,LookUpData_Pop!BB202,FALSE)/50","v":471.52},{"$f":"'III Tool Overview'!$H$9/110","v":0},471.52,{"$f":"IF('III Tool Overview'!$H$6=\"Western Isles Health Board\",0,IF('III Tool Overview'!$H$6=\"Eilean Siar Local Authority\",0,new_ci(2,B207,C207,D207,$C$1,G207,1,F207,E207*F207,SIMDrateratios,RateRatios!$B$3)*10))","v":37.763945742846452},{"$f":"IF('III Tool Overview'!$H$6=\"Western Isles Health Board\",0,IF('III Tool Overview'!$H$6=\"Eilean Siar Local Authority\",0,new_ci(2,B207,C207,D207,$C$1,G207+H207,1,H207,H207,SIMDrateratios,RateRatios!$B$3)*10))","v":37.762884099248254},{"$f":"IF('III Tool Overview'!$H$6=\"Western Isles Health Board\",0,IF('III Tool Overview'!$H$6=\"Eilean Siar Local Authority\",0,new_ci(5,B207,C207,D207,$C$1,G207,1,F207,F207,SIMDrateratios,RateRatios!$B$3)*1000))","v":16302.027019098738},{"$f":"IF('III Tool Overview'!$H$6=\"Western Isles Health Board\",0,IF('III Tool Overview'!$H$6=\"Eilean Siar Local Authority\",0,new_ci(5,B207,C207,D207,$C$1,H207,1,F207,F207,SIMDrateratios,RateRatios!$B$3)*1000))","v":16301.57492619107},{"$f":"IF('III Tool Overview'!$H$6=\"Western Isles Health Board\",0,IF('III Tool Overview'!$H$6=\"Eilean Siar Local Authority\",0,new_ci(10,B207,C207,D207,$C$1,G207,1,F207,F207,SIMDrateratios,RateRatios!$B$3)*10))","v":416.42839458640714},{"$f":"IF('III Tool Overview'!$H$6=\"Western Isles Health Board\",0,IF('III Tool Overview'!$H$6=\"Eilean Siar Local Authority\",0,new_ci(10,B207,C207,D207,$C$1,G207+H207,1,F207,F207,SIMDrateratios,RateRatios!$B$3)*10))","v":416.41717551361546},{"$f":"IF('III Tool Overview'!$H$6=\"Western Isles Health Board\",0,IF('III Tool Overview'!$H$6=\"Eilean Siar Local Authority\",0,new_ci(20,B207,C207,D207,$C$1,G207,1,F207,F207,SIMDrateratios,RateRatios!$B$3)*10))","v":1122.4973744590918},{"$f":"IF('III Tool Overview'!$H$6=\"Western Isles Health Board\",0,IF('III Tool Overview'!$H$6=\"Eilean Siar Local Authority\",0,new_ci(20,B207,C207,D207,$C$1,G207+H207,1,F207,F207,SIMDrateratios,RateRatios!$B$3)*10))","v":1122.469803024743},{"$f":"IF('III Tool Overview'!$H$6=\"Western Isles Health Board\",0,IF('III Tool Overview'!$H$6=\"Eilean Siar Local Authority\",0,new_yll(2,B207,C207,D207,$C$1,G207,1,F207,F207,SIMDrateratios,RateRatios!$B$3)*10))","v":1548.3217754567047},{"$f":"IF('III Tool Overview'!$H$6=\"Western Isles Health Board\",0,IF('III Tool Overview'!$H$6=\"Eilean Siar Local Authority\",0,new_yll(2,B207,C207,D207,$C$1,G207+H207,1,F207,F207,SIMDrateratios,RateRatios!$B$3)*10))","v":1548.2782480691785},4.3527387526182792E-2,{"$f":"IF('III Tool Overview'!$H$6=\"Western Isles Health Board\",0,IF('III Tool Overview'!$H$6=\"Eilean Siar Local Authority\",0,new_yll(5,B207,C207,D207,$C$1,G207,1,F207,F207,SIMDrateratios,RateRatios!$B$3)*1000))","v":642919.8166476544},{"$f":"IF('III Tool Overview'!$H$6=\"Western Isles Health Board\",0,IF('III Tool Overview'!$H$6=\"Eilean Siar Local Authority\",0,new_yll(5,B207,C207,D207,$C$1,G207+H207,1,F207,F207,SIMDrateratios,RateRatios!$B$3)*1000))","v":642901.98194474936},17.834702905034646,{"$f":"IF('III Tool Overview'!$H$6=\"Western Isles Health Board\",0,IF('III Tool Overview'!$H$6=\"Eilean Siar Local Authority\",0,new_yll(10,B207,C207,D207,$C$1,G207,1,F207,F207,SIMDrateratios,RateRatios!$B$3)*10))","v":15274.711036163435},{"$f":"IF('III Tool Overview'!$H$6=\"Western Isles Health Board\",0,IF('III Tool Overview'!$H$6=\"Eilean Siar Local Authority\",0,new_yll(10,B207,C207,D207,$C$1,G207+H207,1,F207,F207,SIMDrateratios,RateRatios!$B$3)*10))","v":15274.298719013448},0.41231714998684765,{"$f":"IF('III Tool Overview'!$H$6=\"Western Isles Health Board\",0,IF('III Tool Overview'!$H$6=\"Eilean Siar Local Authority\",0,new_yll(20,B207,C207,D207,$C$1,G207,1,F207,F207,SIMDrateratios,RateRatios!$B$3)*10))","v":34456.729109164437},{"$f":"IF('III Tool Overview'!$H$6=\"Western Isles Health Board\",0,IF('III Tool Overview'!$H$6=\"Eilean Siar Local Authority\",0,new_yll(20,B207,C207,D207,$C$1,G207+H207,1,F207,F207,SIMDrateratios,RateRatios!$B$3)*10))","v":34455.869620129175},0.85948903526150389,{"$f":"IF('III Tool Overview'!$H$6=\"Western Isles Health Board\",0,IF('III Tool Overview'!$H$6=\"Eilean Siar Local Authority\",0,hosp_count(2,B207,C207,D207,$C$1,G207,1,F207,F207,SIMDRateRatios_hosp,SIMDrateratios,RateRatios!$B$3)*10))","v":1172.0606690327193},{"$f":"IF('III Tool Overview'!$H$6=\"Western Isles Health Board\",0,IF('III Tool Overview'!$H$6=\"Eilean Siar Local Authority\",0,hosp_count(2,B207,C207,D207,$C$1,G207+H207,1,F207,F207,SIMDRateRatios_hosp,SIMDrateratios,RateRatios!$B$3)*10))","v":1172.03494991862},2.571911409927452E-2,{"$f":"IF('III Tool Overview'!$H$6=\"Western Isles Health Board\",0,IF('III Tool Overview'!$H$6=\"Eilean Siar Local Authority\",0,hosp_count(5,B207,C207,D207,$C$1,G207,1,F207,F207,SIMDRateRatios_hosp,SIMDrateratios,RateRatios!$B$3)*1000))","v":489294.26676233282},{"$f":"IF('III Tool Overview'!$H$6=\"Western Isles Health Board\",0,IF('III Tool Overview'!$H$6=\"Eilean Siar Local Authority\",0,hosp_count(5,B207,C207,D207,$C$1,G207+H207,1,F207,F207,SIMDRateRatios_hosp,SIMDrateratios,RateRatios!$B$3)*1000))","v":489283.70741715783},10.559345174988266,{"$f":"IF('III Tool Overview'!$H$6=\"Western Isles Health Board\",0,IF('III Tool Overview'!$H$6=\"Eilean Siar Local Authority\",0,hosp_count(10,B207,C207,D207,$C$1,G207,1,F207,F207,SIMDRateRatios_hosp,SIMDrateratios,RateRatios!$B$3)*10))","v":11791.305152218902},{"$f":"IF('III Tool Overview'!$H$6=\"Western Isles Health Board\",0,IF('III Tool Overview'!$H$6=\"Eilean Siar Local Authority\",0,hosp_count(10,B207,C207,D207,$C$1,G207+H207,1,F207,F207,SIMDRateRatios_hosp,SIMDrateratios,RateRatios!$B$3)*10))","v":11791.059346037575},0.24580618132677046,{"$f":"IF('III Tool Overview'!$H$6=\"Western Isles Health Board\",0,IF('III Tool Overview'!$H$6=\"Eilean Siar Local Authority\",0,hosp_count(20,B207,C207,D207,$C$1,G207,1,F207,F207,SIMDRateRatios_hosp,SIMDrateratios,RateRatios!$B$3)*10))","v":28096.067688117491},{"$f":"IF('III Tool Overview'!$H$6=\"Western Isles Health Board\",0,IF('III Tool Overview'!$H$6=\"Eilean Siar Local Authority\",0,hosp_count(20,B207,C207,D207,$C$1,G207+H207,1,F207,F207,SIMDRateRatios_hosp,SIMDrateratios,RateRatios!$B$3)*10))","v":28095.541106063596},0.52658205389525392]
["Male 60-64",62.5,"male",4,1,{"$f":"HLOOKUP('III Tool Overview'!$H$6,LookUpData_Pop!$B$1:$AV$269,LookUpData_Pop!BB203,FALSE)/50","v":432.48},{"$f":"'III Tool Overview'!$H$9/110","v":0},432.48,{"$f":"IF('III Tool Overview'!$H$6=\"Western Isles Health Board\",0,IF('III Tool Overview'!$H$6=\"Eilean Siar Local Authority\",0,new_ci(2,B208,C208,D208,$C$1,G208,1,F208,E208*F208,SIMDrateratios,RateRatios!$B$3)*10))","v":46.209408620013043},{"$f":"IF('III Tool Overview'!$H$6=\"Western Isles Health Board\",0,IF('III Tool Overview'!$H$6=\"Eilean Siar Local Authority\",0,new_ci(2,B208,C208,D208,$C$1,G208+H208,1,H208,H208,SIMDrateratios,RateRatios!$B$3)*10))","v":46.208114065899693},{"$f":"IF('III Tool Overview'!$H$6=\"Western Isles Health Board\",0,IF('III Tool Overview'!$H$6=\"Eilean Siar Local Authority\",0,new_ci(5,B208,C208,D208,$C$1,G208,1,F208,F208,SIMDrateratios,RateRatios!$B$3)*1000))","v":19857.815130281539},{"$f":"IF('III Tool Overview'!$H$6=\"Western Isles Health Board\",0,IF('III Tool Overview'!$H$6=\"Eilean Siar Local Authority\",0,new_ci(5,B208,C208,D208,$C$1,H208,1,F208,F208,SIMDrateratios,RateRatios!$B$3)*1000))","v":19857.268857559793},{"$f":"IF('III Tool Overview'!$H$6=\"Western Isles Health Board\",0,IF('III Tool Overview'!$H$6=\"Eilean Siar Local Authority\",0,new_ci(10,B208,C208,D208,$C$1,G208,1,F208,F208,SIMDrateratios,RateRatios!$B$3)*10))","v":502.52336240270859},{"$f":"IF('III Tool Overview'!$H$6=\"Western Isles Health Board\",0,IF('III Tool Overview'!$H$6=\"Eilean Siar Local Authority\",0,new_ci(10,B208,C208,D208,$C$1,G208+H208,1,F208,F208,SIMDrateratios,RateRatios!$B$3)*10))","v":502.51006449009128},{"$f":"IF('III Tool Overview'!$H$6=\"Western Isles Health Board\",0,IF('III Tool Overview'!$H$6=\"Eilean Siar Local Authority\",0,new_ci(20,B208,C208,D208,$C$1,G208,1,F208,F208,SIMDrateratios,RateRatios!$B$3)*10))","v":1317.1663351395184},{"$f":"IF('III Tool Overview'!$H$6=\"Western Isles Health Board\",0,IF('III Tool Overview'!$H$6=\"Eilean Siar Local Authority\",0,new_ci(20,B208,C208,D208,$C$1,G208+H208,1,F208,F208,SIMDrateratios,RateRatios!$B$3)*10))","v":1317.1355662261124},{"$f":"IF('III Tool Overview'!$H$6=\"Western Isles Health Board\",0,IF('III Tool Overview'!$H$6=\"Eilean Siar Local Authority\",0,new_yll(2,B208,C208,D208,$C$1,G208,1,F208,F208,SIMDrateratios,RateRatios!$B$3)*10))","v":1709.7481189404825},{"$f":"IF('III Tool Overview'!$H$6=\"Western Isles Health Board\",0,IF('III Tool Overview'!$H$6=\"Eilean Siar Local Authority\",0,new_yll(2,B208,C208,D208,$C$1,G208+H208,1,F208,F208,SIMDrateratios,RateRatios!$B$3)*10))","v":1709.7002204382886},4.7898502193902459E-2,{"$f":"IF('III Tool Overview'!$H$6=\"Western Isles Health Board\",0,IF('III Tool Overview'!$H$6=\"Eilean Siar Local Authority\",0,new_yll(5,B208,C208,D208,$C$1,G208,1,F208,F208,SIMDrateratios,RateRatios!$B$3)*1000))","v":703795.03538660111},{"$f":"IF('III Tool Overview'!$H$6=\"Western Isles Health Board\",0,IF('III Tool Overview'!$H$6=\"Eilean Siar Local Authority\",0,new_yll(5,B208,C208,D208,$C$1,G208+H208,1,F208,F208,SIMDrateratios,RateRatios!$B$3)*1000))","v":703775.66634385311},19.369042748003267,{"$f":"IF('III Tool Overview'!$H$6=\"Western Isles Health Board\",0,IF('III Tool Overview'!$H$6=\"Eilean Siar Local Authority\",0,new_yll(10,B208,C208,D208,$C$1,G208,1,F208,F208,SIMDrateratios,RateRatios!$B$3)*10))","v":16434.072502206174},{"$f":"IF('III Tool Overview'!$H$6=\"Western Isles Health Board\",0,IF('III Tool Overview'!$H$6=\"Eilean Siar Local Authority\",0,new_yll(10,B208,C208,D208,$C$1,G208+H208,1,F208,F208,SIMDrateratios,RateRatios!$B$3)*10))","v":16433.636334564813},0.43616764136095298,{"$f":"IF('III Tool Overview'!$H$6=\"Western Isles Health Board\",0,IF('III Tool Overview'!$H$6=\"Eilean Siar Local Authority\",0,new_yll(20,B208,C208,D208,$C$1,G208,1,F208,F208,SIMDrateratios,RateRatios!$B$3)*10))","v":35347.302079143483},{"$f":"IF('III Tool Overview'!$H$6=\"Western Isles Health Board\",0,IF('III Tool Overview'!$H$6=\"Eilean Siar Local Authority\",0,new_yll(20,B208,C208,D208,$C$1,G208+H208,1,F208,F208,SIMDrateratios,RateRatios!$B$3)*10))","v":35346.455800995354},0.84627814812847646,{"$f":"IF('III Tool Overview'!$H$6=\"Western Isles Health Board\",0,IF('III Tool Overview'!$H$6=\"Eilean Siar Local Authority\",0,hosp_count(2,B208,C208,D208,$C$1,G208,1,F208,F208,SIMDRateRatios_hosp,SIMDrateratios,RateRatios!$B$3)*10))","v":1236.0320896970436},{"$f":"IF('III Tool Overview'!$H$6=\"Western Isles Health Board\",0,IF('III Tool Overview'!$H$6=\"Eilean Siar Local Authority\",0,hosp_count(2,B208,C208,D208,$C$1,G208+H208,1,F208,F208,SIMDRateRatios_hosp,SIMDrateratios,RateRatios!$B$3)*10))","v":1236.0050244810736},2.7065215969969358E-2,{"$f":"IF('III Tool Overview'!$H$6=\"Western Isles Health Board\",0,IF('III Tool Overview'!$H$6=\"Eilean Siar Local Authority\",0,hosp_count(5,B208,C208,D208,$C$1,G208,1,F208,F208,SIMDRateRatios_hosp,SIMDrateratios,RateRatios!$B$3)*1000))","v":513780.1030478428},{"$f":"IF('III Tool Overview'!$H$6=\"Western Isles Health Board\",0,IF('III Tool Overview'!$H$6=\"Eilean Siar Local Authority\",0,hosp_count(5,B208,C208,D208,$C$1,G208+H208,1,F208,F208,SIMDRateRatios_hosp,SIMDrateratios,RateRatios!$B$3)*1000))","v":513769.10072360217},11.002324240631424,{"$f":"IF('III Tool Overview'!$H$6=\"Western Isles Health Board\",0,IF('III Tool Overview'!$H$6=\"Eilean Siar Local Authority\",0,hosp_count(10,B208,C208,D208,$C$1,G208,1,F208,F208,SIMDRateRatios_hosp,SIMDrateratios,RateRatios!$B$3)*10))","v":12274.040448277572},{"$f":"IF('III Tool Overview'!$H$6=\"Western Isles Health Board\",0,IF('III Tool Overview'!$H$6=\"Eilean Siar Local Authority\",0,hosp_count(10,B208,C208,D208,$C$1,G208+H208,1,F208,F208,SIMDRateRatios_hosp,SIMDrateratios,RateRatios!$B$3)*10))","v":12273.789533510982},0.25091476658963074,{"$f":"IF('III Tool Overview'!$H$6=\"Western Isles Health Board\",0,IF('III Tool Overview'!$H$6=\"Eilean Siar Local Authority\",0,hosp_count(20,B208,C208,D208,$C$1,G208,1,F208,F208,SIMDRateRatios_hosp,SIMDrateratios,RateRatios!$B$3)*10))","v":28531.217681828006},{"$f":"IF('III Tool Overview'!$H$6=\"Western Isles Health Board\",0,IF('III Tool Overview'!$H$6=\"Eilean Siar Local Authority\",0,hosp_count(20,B208,C208,D208,$C$1,G208+H208,1,F208,F208,SIMDRateRatios_hosp,SIMDrateratios,RateRatios!$B$3)*10))","v":28530.712630122944},0.50505170506221475]
["Male 65-69",67.5,"male",4,1,{"$f":"HLOOKUP('III Tool Overview'!$H$6,LookUpData_Pop!$B$1:$AV$269,LookUpData_Pop!BB204,FALSE)/50","v":302.74},{"$f":"'III Tool Overview'!$H$9/110","v":0},302.74,{"$f":"IF('III Tool Overview'!$H$6=\"Western Isles Health Board\",0,IF('III Tool Overview'!$H$6=\"Eilean Siar Local Authority\",0,new_ci(2,B209,C209,D209,$C$1,G209,1,F209,E209*F209,SIMDrateratios,RateRatios!$B$3)*10))","v":49.799745631311694},{"$f":"IF('III Tool Overview'!$H$6=\"Western Isles Health Board\",0,IF('III Tool Overview'!$H$6=\"Eilean Siar Local Authority\",0,new_ci(2,B209,C209,D209,$C$1,G209+H209,1,H209,H209,SIMDrateratios,RateRatios!$B$3)*10))","v":49.798351832424224},{"$f":"IF('III Tool Overview'!$H$6=\"Western Isles Health Board\",0,IF('III Tool Overview'!$H$6=\"Eilean Siar Local Authority\",0,new_ci(5,B209,C209,D209,$C$1,G209,1,F209,F209,SIMDrateratios,RateRatios!$B$3)*1000))","v":21193.212291717024},{"$f":"IF('III Tool Overview'!$H$6=\"Western Isles Health Board\",0,IF('III Tool Overview'!$H$6=\"Eilean Siar Local Authority\",0,new_ci(5,B209,C209,D209,$C$1,H209,1,F209,F209,SIMDrateratios,RateRatios!$B$3)*1000))","v":21192.635628990622},{"$f":"IF('III Tool Overview'!$H$6=\"Western Isles Health Board\",0,IF('III Tool Overview'!$H$6=\"Eilean Siar Local Authority\",0,new_ci(10,B209,C209,D209,$C$1,G209,1,F209,F209,SIMDrateratios,RateRatios!$B$3)*10))","v":525.66471583702992},{"$f":"IF('III Tool Overview'!$H$6=\"Western Isles Health Board\",0,IF('III Tool Overview'!$H$6=\"Eilean Siar Local Authority\",0,new_ci(10,B209,C209,D209,$C$1,G209+H209,1,F209,F209,SIMDrateratios,RateRatios!$B$3)*10))","v":525.65125049678454},{"$f":"IF('III Tool Overview'!$H$6=\"Western Isles Health Board\",0,IF('III Tool Overview'!$H$6=\"Eilean Siar Local Authority\",0,new_ci(20,B209,C209,D209,$C$1,G209,1,F209,F209,SIMDrateratios,RateRatios!$B$3)*10))","v":1299.5304948962598},{"$f":"IF('III Tool Overview'!$H$6=\"Western Isles Health Board\",0,IF('III Tool Overview'!$H$6=\"Eilean Siar Local Authority\",0,new_ci(20,B209,C209,D209,$C$1,G209+H209,1,F209,F209,SIMDrateratios,RateRatios!$B$3)*10))","v":1299.5031476513709},{"$f":"IF('III Tool Overview'!$H$6=\"Western Isles Health Board\",0,IF('III Tool Overview'!$H$6=\"Eilean Siar Local Authority\",0,new_yll(2,B209,C209,D209,$C$1,G209,1,F209,F209,SIMDrateratios,RateRatios!$B$3)*10))","v":1543.7921145706625},{"$f":"IF('III Tool Overview'!$H$6=\"Western Isles Health Board\",0,IF('III Tool Overview'!$H$6=\"Eilean Siar Local Authority\",0,new_yll(2,B209,C209,D209,$C$1,G209+H209,1,F209,F209,SIMDrateratios,RateRatios!$B$3)*10))","v":1543.7489068051511},4.3207765511397156E-2,{"$f":"IF('III Tool Overview'!$H$6=\"Western Isles Health Board\",0,IF('III Tool Overview'!$H$6=\"Eilean Siar Local Authority\",0,new_yll(5,B209,C209,D209,$C$1,G209,1,F209,F209,SIMDrateratios,RateRatios!$B$3)*1000))","v":624133.58887054259},{"$f":"IF('III Tool Overview'!$H$6=\"Western Isles Health Board\",0,IF('III Tool Overview'!$H$6=\"Eilean Siar Local Authority\",0,new_yll(5,B209,C209,D209,$C$1,G209+H209,1,F209,F209,SIMDrateratios,RateRatios!$B$3)*1000))","v":624116.59278920596},16.996081336634234,{"$f":"IF('III Tool Overview'!$H$6=\"Western Isles Health Board\",0,IF('III Tool Overview'!$H$6=\"Eilean Siar Local Authority\",0,new_yll(10,B209,C209,D209,$C$1,G209,1,F209,F209,SIMDrateratios,RateRatios!$B$3)*10))","v":14062.838944783389},{"$f":"IF('III Tool Overview'!$H$6=\"Western Isles Health Board\",0,IF('III Tool Overview'!$H$6=\"Eilean Siar Local Authority\",0,new_yll(10,B209,C209,D209,$C$1,G209+H209,1,F209,F209,SIMDrateratios,RateRatios!$B$3)*10))","v":14062.476634039484},0.36231074390525464,{"$f":"IF('III Tool Overview'!$H$6=\"Western Isles Health Board\",0,IF('III Tool Overview'!$H$6=\"Eilean Siar Local Authority\",0,new_yll(20,B209,C209,D209,$C$1,G209,1,F209,F209,SIMDrateratios,RateRatios!$B$3)*10))","v":27468.575197588147},{"$f":"IF('III Tool Overview'!$H$6=\"Western Isles Health Board\",0,IF('III Tool Overview'!$H$6=\"Eilean Siar Local Authority\",0,new_yll(20,B209,C209,D209,$C$1,G209+H209,1,F209,F209,SIMDrateratios,RateRatios!$B$3)*10))","v":27467.965814453331},0.60938313481528894,{"$f":"IF('III Tool Overview'!$H$6=\"Western Isles Health Board\",0,IF('III Tool Overview'!$H$6=\"Eilean Siar Local Authority\",0,hosp_count(2,B209,C209,D209,$C$1,G209,1,F209,F209,SIMDRateRatios_hosp,SIMDrateratios,RateRatios!$B$3)*10))","v":1066.7290926532637},{"$f":"IF('III Tool Overview'!$H$6=\"Western Isles Health Board\",0,IF('III Tool Overview'!$H$6=\"Eilean Siar Local Authority\",0,hosp_count(2,B209,C209,D209,$C$1,G209+H209,1,F209,F209,SIMDRateRatios_hosp,SIMDrateratios,RateRatios!$B$3)*10))","v":1066.7056886045136},2.3404048750080619E-2,{"$f":"IF('III Tool Overview'!$H$6=\"Western Isles Health Board\",0,IF('III Tool Overview'!$H$6=\"Eilean Siar Local Authority\",0,hosp_count(5,B209,C209,D209,$C$1,G209,1,F209,F209,SIMDRateRatios_hosp,SIMDrateratios,RateRatios!$B$3)*1000))","v":439304.24911765516},{"$f":"IF('III Tool Overview'!$H$6=\"Western Isles Health Board\",0,IF('III Tool Overview'!$H$6=\"Eilean Siar Local Authority\",0,hosp_count(5,B209,C209,D209,$C$1,G209+H209,1,F209,F209,SIMDRateRatios_hosp,SIMDrateratios,RateRatios!$B$3)*1000))","v":439294.93693865318},9.3121790019795299,{"$f":"IF('III Tool Overview'!$H$6=\"Western Isles Health Board\",0,IF('III Tool Overview'!$H$6=\"Eilean Siar Local Authority\",0,hosp_count(10,B209,C209,D209,$C$1,G209,1,F209,F209,SIMDRateRatios_hosp,SIMDrateratios,RateRatios!$B$3)*10))","v":10301.23601234443},{"$f":"IF('III Tool Overview'!$H$6=\"Western Isles Health Board\",0,IF('III Tool Overview'!$H$6=\"Eilean Siar Local Authority\",0,hosp_count(10,B209,C209,D209,$C$1,G209+H209,1,F209,F209,SIMDRateRatios_hosp,SIMDrateratios,RateRatios!$B$3)*10))","v":10301.032889272221},0.20312307220956427,{"$f":"IF('III Tool Overview'!$H$6=\"Western Isles Health Board\",0,IF('III Tool Overview'!$H$6=\"Eilean Siar Local Authority\",0,hosp_count(20,B209,C209,D209,$C$1,G209,1,F209,F209,SIMDRateRatios_hosp,SIMDrateratios,RateRatios!$B$3)*10))","v":22740.716178297924},{"$f":"IF('III Tool Overview'!$H$6=\"Western Isles Health Board\",0,IF('III Tool Overview'!$H$6=\"Eilean Siar Local Authority\",0,hosp_count(20,B209,C209,D209,$C$1,G209+H209,1,F209,F209,SIMDRateRatios_hosp,SIMDrateratios,RateRatios!$B$3)*10))","v":22740.359388262383},0.35679003554105293]
["Male 70-74",72.5,"male",4,1,{"$f":"HLOOKUP('III Tool Overview'!$H$6,LookUpData_Pop!$B$1:$AV$269,LookUpData_Pop!BB205,FALSE)/50","v":243.76},{"$f":"'III Tool Overview'!$H$9/110","v":0},243.76,{"$f":"IF('III Tool Overview'!$H$6=\"Western Isles Health Board\",0,IF('III Tool Overview'!$H$6=\"Eilean Siar Local Authority\",0,new_ci(2,B210,C210,D210,$C$1,G210,1,F210,E210*F210,SIMDrateratios,RateRatios!$B$3)*10))","v":53.41787424333652},{"$f":"IF('III Tool Overview'!$H$6=\"Western Isles Health Board\",0,IF('III Tool Overview'!$H$6=\"Eilean Siar Local Authority\",0,new_ci(2,B210,C210,D210,$C$1,G210+H210,1,H210,H210,SIMDrateratios,RateRatios!$B$3)*10))","v":53.416383164926849},{"$f":"IF('III Tool Overview'!$H$6=\"Western Isles Health Board\",0,IF('III Tool Overview'!$H$6=\"Eilean Siar Local Authority\",0,new_ci(5,B210,C210,D210,$C$1,G210,1,F210,F210,SIMDrateratios,RateRatios!$B$3)*1000))","v":22523.886965198522},{"$f":"IF('III Tool Overview'!$H$6=\"Western Isles Health Board\",0,IF('III Tool Overview'!$H$6=\"Eilean Siar Local Authority\",0,new_ci(5,B210,C210,D210,$C$1,H210,1,F210,F210,SIMDrateratios,RateRatios!$B$3)*1000))","v":22523.281547974377},{"$f":"IF('III Tool Overview'!$H$6=\"Western Isles Health Board\",0,IF('III Tool Overview'!$H$6=\"Eilean Siar Local Authority\",0,new_ci(10,B210,C210,D210,$C$1,G210,1,F210,F210,SIMDrateratios,RateRatios!$B$3)*10))","v":548.25085932169236},{"$f":"IF('III Tool Overview'!$H$6=\"Western Isles Health Board\",0,IF('III Tool Overview'!$H$6=\"Eilean Siar Local Authority\",0,new_ci(10,B210,C210,D210,$C$1,G210+H210,1,F210,F210,SIMDrateratios,RateRatios!$B$3)*10))","v":548.23727256213328},{"$f":"IF('III Tool Overview'!$H$6=\"Western Isles Health Board\",0,IF('III Tool Overview'!$H$6=\"Eilean Siar Local Authority\",0,new_ci(20,B210,C210,D210,$C$1,G210,1,F210,F210,SIMDrateratios,RateRatios!$B$3)*10))","v":1285.2270363550531},{"$f":"IF('III Tool Overview'!$H$6=\"Western Isles Health Board\",0,IF('III Tool Overview'!$H$6=\"Eilean Siar Local Authority\",0,new_ci(20,B210,C210,D210,$C$1,G210+H210,1,F210,F210,SIMDrateratios,RateRatios!$B$3)*10))","v":1285.2026681156301},{"$f":"IF('III Tool Overview'!$H$6=\"Western Isles Health Board\",0,IF('III Tool Overview'!$H$6=\"Eilean Siar Local Authority\",0,new_yll(2,B210,C210,D210,$C$1,G210,1,F210,F210,SIMDrateratios,RateRatios!$B$3)*10))","v":1442.2826045700858},{"$f":"IF('III Tool Overview'!$H$6=\"Western Isles Health Board\",0,IF('III Tool Overview'!$H$6=\"Eilean Siar Local Authority\",0,new_yll(2,B210,C210,D210,$C$1,G210+H210,1,F210,F210,SIMDrateratios,RateRatios!$B$3)*10))","v":1442.2423454530249},4.0259117060941207E-2,{"$f":"IF('III Tool Overview'!$H$6=\"Western Isles Health Board\",0,IF('III Tool Overview'!$H$6=\"Eilean Siar Local Authority\",0,new_yll(5,B210,C210,D210,$C$1,G210,1,F210,F210,SIMDrateratios,RateRatios!$B$3)*1000))","v":573397.30005071801},{"$f":"IF('III Tool Overview'!$H$6=\"Western Isles Health Board\",0,IF('III Tool Overview'!$H$6=\"Eilean Siar Local Authority\",0,new_yll(5,B210,C210,D210,$C$1,G210+H210,1,F210,F210,SIMDrateratios,RateRatios!$B$3)*1000))","v":573381.86853534158},15.431515376432799,{"$f":"IF('III Tool Overview'!$H$6=\"Western Isles Health Board\",0,IF('III Tool Overview'!$H$6=\"Eilean Siar Local Authority\",0,new_yll(10,B210,C210,D210,$C$1,G210,1,F210,F210,SIMDrateratios,RateRatios!$B$3)*10))","v":12499.882093040545},{"$f":"IF('III Tool Overview'!$H$6=\"Western Isles Health Board\",0,IF('III Tool Overview'!$H$6=\"Eilean Siar Local Authority\",0,new_yll(10,B210,C210,D210,$C$1,G210+H210,1,F210,F210,SIMDrateratios,RateRatios!$B$3)*10))","v":12499.569423938523},0.31266910202248255,{"$f":"IF('III Tool Overview'!$H$6=\"Western Isles Health Board\",0,IF('III Tool Overview'!$H$6=\"Eilean Siar Local Authority\",0,new_yll(20,B210,C210,D210,$C$1,G210,1,F210,F210,SIMDrateratios,RateRatios!$B$3)*10))","v":22393.330844005137},{"$f":"IF('III Tool Overview'!$H$6=\"Western Isles Health Board\",0,IF('III Tool Overview'!$H$6=\"Eilean Siar Local Authority\",0,new_yll(20,B210,C210,D210,$C$1,G210+H210,1,F210,F210,SIMDrateratios,RateRatios!$B$3)*10))","v":22392.865072591449},0.46577141368834418,{"$f":"IF('III Tool Overview'!$H$6=\"Western Isles Health Board\",0,IF('III Tool Overview'!$H$6=\"Eilean Siar Local Authority\",0,hosp_count(2,B210,C210,D210,$C$1,G210,1,F210,F210,SIMDRateRatios_hosp,SIMDrateratios,RateRatios!$B$3)*10))","v":987.55323937106414},{"$f":"IF('III Tool Overview'!$H$6=\"Western Isles Health Board\",0,IF('III Tool Overview'!$H$6=\"Eilean Siar Local Authority\",0,hosp_count(2,B210,C210,D210,$C$1,G210+H210,1,F210,F210,SIMDRateRatios_hosp,SIMDrateratios,RateRatios!$B$3)*10))","v":987.53156971913256},2.1669651931574663E-2,{"$f":"IF('III Tool Overview'!$H$6=\"Western Isles Health Board\",0,IF('III Tool Overview'!$H$6=\"Eilean Siar Local Authority\",0,hosp_count(5,B210,C210,D210,$C$1,G210,1,F210,F210,SIMDRateRatios_hosp,SIMDrateratios,RateRatios!$B$3)*1000))","v":403128.44503715256},{"$f":"IF('III Tool Overview'!$H$6=\"Western Isles Health Board\",0,IF('III Tool Overview'!$H$6=\"Eilean Siar Local Authority\",0,hosp_count(5,B210,C210,D210,$C$1,G210+H210,1,F210,F210,SIMDRateRatios_hosp,SIMDrateratios,RateRatios!$B$3)*1000))","v":403119.9971918551},8.447845297458116,{"$f":"IF('III Tool Overview'!$H$6=\"Western Isles Health Board\",0,IF('III Tool Overview'!$H$6=\"Eilean Siar Local Authority\",0,hosp_count(10,B210,C210,D210,$C$1,G210,1,F210,F210,SIMDRateRatios_hosp,SIMDrateratios,RateRatios!$B$3)*10))","v":9289.2422398239323},{"$f":"IF('III Tool Overview'!$H$6=\"Western Isles Health Board\",0,IF('III Tool Overview'!$H$6=\"Eilean Siar Local Authority\",0,hosp_count(10,B210,C210,D210,$C$1,G210+H210,1,F210,F210,SIMDRateRatios_hosp,SIMDrateratios,RateRatios!$B$3)*10))","v":9289.0656512822079},0.17658854172441352,{"$f":"IF('III Tool Overview'!$H$6=\"Western Isles Health Board\",0,IF('III Tool Overview'!$H$6=\"Eilean Siar Local Authority\",0,hosp_count(20,B210,C210,D210,$C$1,G210,1,F210,F210,SIMDRateRatios_hosp,SIMDrateratios,RateRatios!$B$3)*10))","v":19569.647366422822},{"$f":"IF('III Tool Overview'!$H$6=\"Western Isles Health Board\",0,IF('III Tool Overview'!$H$6=\"Eilean Siar Local Authority\",0,hosp_count(20,B210,C210,D210,$C$1,G210+H210,1,F210,F210,SIMDRateRatios_hosp,SIMDrateratios,RateRatios!$B$3)*10))","v":19569.375510188322},0.27185623449986451]
["Male 75-79",77.5,"male",4,1,{"$f":"HLOOKUP('III Tool Overview'!$H$6,LookUpData_Pop!$B$1:$AV$269,LookUpData_Pop!BB206,FALSE)/50","v":187.62},{"$f":"'III Tool Overview'!$H$9/110","v":0},187.62,{"$f":"IF('III Tool Overview'!$H$6=\"Western Isles Health Board\",0,IF('III Tool Overview'!$H$6=\"Eilean Siar Local Authority\",0,new_ci(2,B211,C211,D211,$C$1,G211,1,F211,E211*F211,SIMDrateratios,RateRatios!$B$3)*10))","v":63.10402058939502},{"$f":"IF('III Tool Overview'!$H$6=\"Western Isles Health Board\",0,IF('III Tool Overview'!$H$6=\"Eilean Siar Local Authority\",0,new_ci(2,B211,C211,D211,$C$1,G211+H211,1,H211,H211,SIMDrateratios,RateRatios!$B$3)*10))","v":63.102267950847065},{"$f":"IF('III Tool Overview'!$H$6=\"Western Isles Health Board\",0,IF('III Tool Overview'!$H$6=\"Eilean Siar Local Authority\",0,new_ci(5,B211,C211,D211,$C$1,G211,1,F211,F211,SIMDrateratios,RateRatios!$B$3)*1000))","v":26085.590283195077},{"$f":"IF('III Tool Overview'!$H$6=\"Western Isles Health Board\",0,IF('III Tool Overview'!$H$6=\"Eilean Siar Local Authority\",0,new_ci(5,B211,C211,D211,$C$1,H211,1,F211,F211,SIMDrateratios,RateRatios!$B$3)*1000))","v":26084.907041185274},{"$f":"IF('III Tool Overview'!$H$6=\"Western Isles Health Board\",0,IF('III Tool Overview'!$H$6=\"Eilean Siar Local Authority\",0,new_ci(10,B211,C211,D211,$C$1,G211,1,F211,F211,SIMDrateratios,RateRatios!$B$3)*10))","v":610.20921201979559},{"$f":"IF('III Tool Overview'!$H$6=\"Western Isles Health Board\",0,IF('III Tool Overview'!$H$6=\"Eilean Siar Local Authority\",0,new_ci(10,B211,C211,D211,$C$1,G211+H211,1,F211,F211,SIMDrateratios,RateRatios!$B$3)*10))","v":610.19514035437692},{"$f":"IF('III Tool Overview'!$H$6=\"Western Isles Health Board\",0,IF('III Tool Overview'!$H$6=\"Eilean Siar Local Authority\",0,new_ci(20,B211,C211,D211,$C$1,G211,1,F211,F211,SIMDrateratios,RateRatios!$B$3)*10))","v":1286.1413944339611},{"$f":"IF('III Tool Overview'!$H$6=\"Western Isles Health Board\",0,IF('III Tool Overview'!$H$6=\"Eilean Siar Local Authority\",0,new_ci(20,B211,C211,D211,$C$1,G211+H211,1,F211,F211,SIMDrateratios,RateRatios!$B$3)*10))","v":1286.1221085666946},{"$f":"IF('III Tool Overview'!$H$6=\"Western Isles Health Board\",0,IF('III Tool Overview'!$H$6=\"Eilean Siar Local Authority\",0,new_yll(2,B211,C211,D211,$C$1,G211,1,F211,F211,SIMDrateratios,RateRatios!$B$3)*10))","v":1325.1844323772955},{"$f":"IF('III Tool Overview'!$H$6=\"Western Isles Health Board\",0,IF('III Tool Overview'!$H$6=\"Eilean Siar Local Authority\",0,new_yll(2,B211,C211,D211,$C$1,G211+H211,1,F211,F211,SIMDrateratios,RateRatios!$B$3)*10))","v":1325.1476269677883},3.6805409507223885E-2,{"$f":"IF('III Tool Overview'!$H$6=\"Western Isles Health Board\",0,IF('III Tool Overview'!$H$6=\"Eilean Siar Local Authority\",0,new_yll(5,B211,C211,D211,$C$1,G211,1,F211,F211,SIMDrateratios,RateRatios!$B$3)*1000))","v":507984.34216741374},{"$f":"IF('III Tool Overview'!$H$6=\"Western Isles Health Board\",0,IF('III Tool Overview'!$H$6=\"Eilean Siar Local Authority\",0,new_yll(5,B211,C211,D211,$C$1,G211+H211,1,F211,F211,SIMDrateratios,RateRatios!$B$3)*1000))","v":507971.00246495992},13.339702453813516,{"$f":"IF('III Tool Overview'!$H$6=\"Western Isles Health Board\",0,IF('III Tool Overview'!$H$6=\"Eilean Siar Local Authority\",0,new_yll(10,B211,C211,D211,$C$1,G211,1,F211,F211,SIMDrateratios,RateRatios!$B$3)*10))","v":10313.349717067747},{"$f":"IF('III Tool Overview'!$H$6=\"Western Isles Health Board\",0,IF('III Tool Overview'!$H$6=\"Eilean Siar Local Authority\",0,new_yll(10,B211,C211,D211,$C$1,G211+H211,1,F211,F211,SIMDrateratios,RateRatios!$B$3)*10))","v":10313.10691323159},0.24280383615769097,{"$f":"IF('III Tool Overview'!$H$6=\"Western Isles Health Board\",0,IF('III Tool Overview'!$H$6=\"Eilean Siar Local Authority\",0,new_yll(20,B211,C211,D211,$C$1,G211,1,F211,F211,SIMDrateratios,RateRatios!$B$3)*10))","v":15478.907798133478},{"$f":"IF('III Tool Overview'!$H$6=\"Western Isles Health Board\",0,IF('III Tool Overview'!$H$6=\"Eilean Siar Local Authority\",0,new_yll(20,B211,C211,D211,$C$1,G211+H211,1,F211,F211,SIMDrateratios,RateRatios!$B$3)*10))","v":15478.613418343068},0.29437979040994833,{"$f":"IF('III Tool Overview'!$H$6=\"Western Isles Health Board\",0,IF('III Tool Overview'!$H$6=\"Eilean Siar Local Authority\",0,hosp_count(2,B211,C211,D211,$C$1,G211,1,F211,F211,SIMDRateRatios_hosp,SIMDrateratios,RateRatios!$B$3)*10))","v":937.12564713281813},{"$f":"IF('III Tool Overview'!$H$6=\"Western Isles Health Board\",0,IF('III Tool Overview'!$H$6=\"Eilean Siar Local Authority\",0,hosp_count(2,B211,C211,D211,$C$1,G211+H211,1,F211,F211,SIMDRateRatios_hosp,SIMDrateratios,RateRatios!$B$3)*10))","v":937.10506262089802},2.0584511920105797E-2,{"$f":"IF('III Tool Overview'!$H$6=\"Western Isles Health Board\",0,IF('III Tool Overview'!$H$6=\"Eilean Siar Local Authority\",0,hosp_count(5,B211,C211,D211,$C$1,G211,1,F211,F211,SIMDRateRatios_hosp,SIMDrateratios,RateRatios!$B$3)*1000))","v":375372.36871119088},{"$f":"IF('III Tool Overview'!$H$6=\"Western Isles Health Board\",0,IF('III Tool Overview'!$H$6=\"Eilean Siar Local Authority\",0,hosp_count(5,B211,C211,D211,$C$1,G211+H211,1,F211,F211,SIMDRateRatios_hosp,SIMDrateratios,RateRatios!$B$3)*1000))","v":375364.68996006687},7.678751124010887,{"$f":"IF('III Tool Overview'!$H$6=\"Western Isles Health Board\",0,IF('III Tool Overview'!$H$6=\"Eilean Siar Local Authority\",0,hosp_count(10,B211,C211,D211,$C$1,G211,1,F211,F211,SIMDRateRatios_hosp,SIMDrateratios,RateRatios!$B$3)*10))","v":8336.5750030359159},{"$f":"IF('III Tool Overview'!$H$6=\"Western Isles Health Board\",0,IF('III Tool Overview'!$H$6=\"Eilean Siar Local Authority\",0,hosp_count(10,B211,C211,D211,$C$1,G211+H211,1,F211,F211,SIMDRateRatios_hosp,SIMDrateratios,RateRatios!$B$3)*10))","v":8336.4286880254422},0.14631501047369966,{"$f":"IF('III Tool Overview'!$H$6=\"Western Isles Health Board\",0,IF('III Tool Overview'!$H$6=\"Eilean Siar Local Authority\",0,hosp_count(20,B211,C211,D211,$C$1,G211,1,F211,F211,SIMDRateRatios_hosp,SIMDrateratios,RateRatios!$B$3)*10))","v":15998.286492069166},{"$f":"IF('III Tool Overview'!$H$6=\"Western Isles Health Board\",0,IF('III Tool Overview'!$H$6=\"Eilean Siar Local Authority\",0,hosp_count(20,B211,C211,D211,$C$1,G211+H211,1,F211,F211,SIMDRateRatios_hosp,SIMDrateratios,RateRatios!$B$3)*10))","v":15998.118637776541},0.16785429262563412]
["Male 80-84",82.5,"male",4,1,{"$f":"HLOOKUP('III Tool Overview'!$H$6,LookUpData_Pop!$B$1:$AV$269,LookUpData_Pop!BB207,FALSE)/50","v":115.96},{"$f":"'III Tool Overview'!$H$9/110","v":0},115.96,{"$f":"IF('III Tool Overview'!$H$6=\"Western Isles Health Board\",0,IF('III Tool Overview'!$H$6=\"Eilean Siar Local Authority\",0,new_ci(2,B212,C212,D212,$C$1,G212,1,F212,E212*F212,SIMDrateratios,RateRatios!$B$3)*10))","v":51.805996318678254},{"$f":"IF('III Tool Overview'!$H$6=\"Western Isles Health Board\",0,IF('III Tool Overview'!$H$6=\"Eilean Siar Local Authority\",0,new_ci(2,B212,C212,D212,$C$1,G212+H212,1,H212,H212,SIMDrateratios,RateRatios!$B$3)*10))","v":51.804568166633615},{"$f":"IF('III Tool Overview'!$H$6=\"Western Isles Health Board\",0,IF('III Tool Overview'!$H$6=\"Eilean Siar Local Authority\",0,new_ci(5,B212,C212,D212,$C$1,G212,1,F212,F212,SIMDrateratios,RateRatios!$B$3)*1000))","v":21018.489615051396},{"$f":"IF('III Tool Overview'!$H$6=\"Western Isles Health Board\",0,IF('III Tool Overview'!$H$6=\"Eilean Siar Local Authority\",0,new_ci(5,B212,C212,D212,$C$1,H212,1,F212,F212,SIMDrateratios,RateRatios!$B$3)*1000))","v":21017.954053047553},{"$f":"IF('III Tool Overview'!$H$6=\"Western Isles Health Board\",0,IF('III Tool Overview'!$H$6=\"Eilean Siar Local Authority\",0,new_ci(10,B212,C212,D212,$C$1,G212,1,F212,F212,SIMDrateratios,RateRatios!$B$3)*10))","v":473.99777492092278},{"$f":"IF('III Tool Overview'!$H$6=\"Western Isles Health Board\",0,IF('III Tool Overview'!$H$6=\"Eilean Siar Local Authority\",0,new_ci(10,B212,C212,D212,$C$1,G212+H212,1,F212,F212,SIMDrateratios,RateRatios!$B$3)*10))","v":473.98761169023743},{"$f":"IF('III Tool Overview'!$H$6=\"Western Isles Health Board\",0,IF('III Tool Overview'!$H$6=\"Eilean Siar Local Authority\",0,new_ci(20,B212,C212,D212,$C$1,G212,1,F212,F212,SIMDrateratios,RateRatios!$B$3)*10))","v":912.32778483869595},{"$f":"IF('III Tool Overview'!$H$6=\"Western Isles Health Board\",0,IF('III Tool Overview'!$H$6=\"Eilean Siar Local Authority\",0,new_ci(20,B212,C212,D212,$C$1,G212+H212,1,F212,F212,SIMDrateratios,RateRatios!$B$3)*10))","v":912.31700616004287},{"$f":"IF('III Tool Overview'!$H$6=\"Western Isles Health Board\",0,IF('III Tool Overview'!$H$6=\"Eilean Siar Local Authority\",0,new_yll(2,B212,C212,D212,$C$1,G212,1,F212,F212,SIMDrateratios,RateRatios!$B$3)*10))","v":880.7019374175303},{"$f":"IF('III Tool Overview'!$H$6=\"Western Isles Health Board\",0,IF('III Tool Overview'!$H$6=\"Eilean Siar Local Authority\",0,new_yll(2,B212,C212,D212,$C$1,G212+H212,1,F212,F212,SIMDrateratios,RateRatios!$B$3)*10))","v":880.6776588327715},2.4278584758803845E-2,{"$f":"IF('III Tool Overview'!$H$6=\"Western Isles Health Board\",0,IF('III Tool Overview'!$H$6=\"Eilean Siar Local Authority\",0,new_yll(5,B212,C212,D212,$C$1,G212,1,F212,F212,SIMDrateratios,RateRatios!$B$3)*1000))","v":325564.54180976335},{"$f":"IF('III Tool Overview'!$H$6=\"Western Isles Health Board\",0,IF('III Tool Overview'!$H$6=\"Eilean Siar Local Authority\",0,new_yll(5,B212,C212,D212,$C$1,G212+H212,1,F212,F212,SIMDrateratios,RateRatios!$B$3)*1000))","v":325556.2092875893},8.3325221740524285,{"$f":"IF('III Tool Overview'!$H$6=\"Western Isles Health Board\",0,IF('III Tool Overview'!$H$6=\"Eilean Siar Local Authority\",0,new_yll(10,B212,C212,D212,$C$1,G212,1,F212,F212,SIMDrateratios,RateRatios!$B$3)*10))","v":6161.0600932157695},{"$f":"IF('III Tool Overview'!$H$6=\"Western Isles Health Board\",0,IF('III Tool Overview'!$H$6=\"Eilean Siar Local Authority\",0,new_yll(10,B212,C212,D212,$C$1,G212+H212,1,F212,F212,SIMDrateratios,RateRatios!$B$3)*10))","v":6160.9228566481761},0.13723656759339065,{"$f":"IF('III Tool Overview'!$H$6=\"Western Isles Health Board\",0,IF('III Tool Overview'!$H$6=\"Eilean Siar Local Authority\",0,new_yll(20,B212,C212,D212,$C$1,G212,1,F212,F212,SIMDrateratios,RateRatios!$B$3)*10))","v":7847.2017742957796},{"$f":"IF('III Tool Overview'!$H$6=\"Western Isles Health Board\",0,IF('III Tool Overview'!$H$6=\"Eilean Siar Local Authority\",0,new_yll(20,B212,C212,D212,$C$1,G212+H212,1,F212,F212,SIMDrateratios,RateRatios!$B$3)*10))","v":7847.0522004446775},0.14957385110210453,{"$f":"IF('III Tool Overview'!$H$6=\"Western Isles Health Board\",0,IF('III Tool Overview'!$H$6=\"Eilean Siar Local Authority\",0,hosp_count(2,B212,C212,D212,$C$1,G212,1,F212,F212,SIMDRateRatios_hosp,SIMDrateratios,RateRatios!$B$3)*10))","v":665.94849600642783},{"$f":"IF('III Tool Overview'!$H$6=\"Western Isles Health Board\",0,IF('III Tool Overview'!$H$6=\"Eilean Siar Local Authority\",0,hosp_count(2,B212,C212,D212,$C$1,G212+H212,1,F212,F212,SIMDRateRatios_hosp,SIMDrateratios,RateRatios!$B$3)*10))","v":665.93389259040896},1.460341601887194E-2,{"$f":"IF('III Tool Overview'!$H$6=\"Western Isles Health Board\",0,IF('III Tool Overview'!$H$6=\"Eilean Siar Local Authority\",0,hosp_count(5,B212,C212,D212,$C$1,G212,1,F212,F212,SIMDRateRatios_hosp,SIMDrateratios,RateRatios!$B$3)*1000))","v":262031.27969558016},{"$f":"IF('III Tool Overview'!$H$6=\"Western Isles Health Board\",0,IF('III Tool Overview'!$H$6=\"Eilean Siar Local Authority\",0,hosp_count(5,B212,C212,D212,$C$1,G212+H212,1,F212,F212,SIMDRateRatios_hosp,SIMDrateratios,RateRatios!$B$3)*1000))","v":262026.05563044795},5.2240651322063059,{"$f":"IF('III Tool Overview'!$H$6=\"Western Isles Health Board\",0,IF('III Tool Overview'!$H$6=\"Eilean Siar Local Authority\",0,hosp_count(10,B212,C212,D212,$C$1,G212,1,F212,F212,SIMDRateRatios_hosp,SIMDrateratios,RateRatios!$B$3)*10))","v":5625.0583687044027},{"$f":"IF('III Tool Overview'!$H$6=\"Western Isles Health Board\",0,IF('III Tool Overview'!$H$6=\"Eilean Siar Local Authority\",0,hosp_count(10,B212,C212,D212,$C$1,G212+H212,1,F212,F212,SIMDRateRatios_hosp,SIMDrateratios,RateRatios!$B$3)*10))","v":5624.9672954087546},9.1073295648129715E-2,{"$f":"IF('III Tool Overview'!$H$6=\"Western Isles Health Board\",0,IF('III Tool Overview'!$H$6=\"Eilean Siar Local Authority\",0,hosp_count(20,B212,C212,D212,$C$1,G212,1,F212,F212,SIMDRateRatios_hosp,SIMDrateratios,RateRatios!$B$3)*10))","v":9971.4754774187568},{"$f":"IF('III Tool Overview'!$H$6=\"Western Isles Health Board\",0,IF('III Tool Overview'!$H$6=\"Eilean Siar Local Authority\",0,hosp_count(20,B212,C212,D212,$C$1,G212+H212,1,F212,F212,SIMDRateRatios_hosp,SIMDrateratios,RateRatios!$B$3)*10))","v":9971.3977578230752},7.7719595681628562E-2]
["Male 85-89",87.5,"male",4,1,{"$f":"HLOOKUP('III Tool Overview'!$H$6,LookUpData_Pop!$B$1:$AV$269,LookUpData_Pop!BB208,FALSE)/50","v":58.94},{"$f":"'III Tool Overview'!$H$9/110","v":0},58.94,{"$f":"IF('III Tool Overview'!$H$6=\"Western Isles Health Board\",0,IF('III Tool Overview'!$H$6=\"Eilean Siar Local Authority\",0,new_ci(2,B213,C213,D213,$C$1,G213,1,F213,E213*F213,SIMDrateratios,RateRatios!$B$3)*10))","v":40.160025104653002},{"$f":"IF('III Tool Overview'!$H$6=\"Western Isles Health Board\",0,IF('III Tool Overview'!$H$6=\"Eilean Siar Local Authority\",0,new_ci(2,B213,C213,D213,$C$1,G213+H213,1,H213,H213,SIMDrateratios,RateRatios!$B$3)*10))","v":40.158931075415467},{"$f":"IF('III Tool Overview'!$H$6=\"Western Isles Health Board\",0,IF('III Tool Overview'!$H$6=\"Eilean Siar Local Authority\",0,new_ci(5,B213,C213,D213,$C$1,G213,1,F213,F213,SIMDrateratios,RateRatios!$B$3)*1000))","v":15658.043027820324},{"$f":"IF('III Tool Overview'!$H$6=\"Western Isles Health Board\",0,IF('III Tool Overview'!$H$6=\"Eilean Siar Local Authority\",0,new_ci(5,B213,C213,D213,$C$1,H213,1,F213,F213,SIMDrateratios,RateRatios!$B$3)*1000))","v":15657.665792474338},{"$f":"IF('III Tool Overview'!$H$6=\"Western Isles Health Board\",0,IF('III Tool Overview'!$H$6=\"Eilean Siar Local Authority\",0,new_ci(10,B213,C213,D213,$C$1,G213,1,F213,F213,SIMDrateratios,RateRatios!$B$3)*10))","v":327.57917676368686},{"$f":"IF('III Tool Overview'!$H$6=\"Western Isles Health Board\",0,IF('III Tool Overview'!$H$6=\"Eilean Siar Local Authority\",0,new_ci(10,B213,C213,D213,$C$1,G213+H213,1,F213,F213,SIMDrateratios,RateRatios!$B$3)*10))","v":327.57318000322641},{"$f":"IF('III Tool Overview'!$H$6=\"Western Isles Health Board\",0,IF('III Tool Overview'!$H$6=\"Eilean Siar Local Authority\",0,new_ci(20,B213,C213,D213,$C$1,G213,1,F213,F213,SIMDrateratios,RateRatios!$B$3)*10))","v":535.18084074883075},{"$f":"IF('III Tool Overview'!$H$6=\"Western Isles Health Board\",0,IF('III Tool Overview'!$H$6=\"Eilean Siar Local Authority\",0,new_ci(20,B213,C213,D213,$C$1,G213+H213,1,F213,F213,SIMDrateratios,RateRatios!$B$3)*10))","v":535.17718901316312},{"$f":"IF('III Tool Overview'!$H$6=\"Western Isles Health Board\",0,IF('III Tool Overview'!$H$6=\"Eilean Siar Local Authority\",0,new_yll(2,B213,C213,D213,$C$1,G213,1,F213,F213,SIMDrateratios,RateRatios!$B$3)*10))","v":441.76027615118306},{"$f":"IF('III Tool Overview'!$H$6=\"Western Isles Health Board\",0,IF('III Tool Overview'!$H$6=\"Eilean Siar Local Authority\",0,new_yll(2,B213,C213,D213,$C$1,G213+H213,1,F213,F213,SIMDrateratios,RateRatios!$B$3)*10))","v":441.74824182957013},1.2034321612929944E-2,{"$f":"IF('III Tool Overview'!$H$6=\"Western Isles Health Board\",0,IF('III Tool Overview'!$H$6=\"Eilean Siar Local Authority\",0,new_yll(5,B213,C213,D213,$C$1,G213,1,F213,F213,SIMDrateratios,RateRatios!$B$3)*1000))","v":149116.77962388826},{"$f":"IF('III Tool Overview'!$H$6=\"Western Isles Health Board\",0,IF('III Tool Overview'!$H$6=\"Eilean Siar Local Authority\",0,new_yll(5,B213,C213,D213,$C$1,G213+H213,1,F213,F213,SIMDrateratios,RateRatios!$B$3)*1000))","v":149113.1446082881},3.6350156001572032,{"$f":"IF('III Tool Overview'!$H$6=\"Western Isles Health Board\",0,IF('III Tool Overview'!$H$6=\"Eilean Siar Local Authority\",0,new_yll(10,B213,C213,D213,$C$1,G213,1,F213,F213,SIMDrateratios,RateRatios!$B$3)*10))","v":2360.4392757965761},{"$f":"IF('III Tool Overview'!$H$6=\"Western Isles Health Board\",0,IF('III Tool Overview'!$H$6=\"Eilean Siar Local Authority\",0,new_yll(10,B213,C213,D213,$C$1,G213+H213,1,F213,F213,SIMDrateratios,RateRatios!$B$3)*10))","v":2360.390657342914},4.8618453662129468E-2,{"$f":"IF('III Tool Overview'!$H$6=\"Western Isles Health Board\",0,IF('III Tool Overview'!$H$6=\"Eilean Siar Local Authority\",0,new_yll(20,B213,C213,D213,$C$1,G213,1,F213,F213,SIMDrateratios,RateRatios!$B$3)*10))","v":2002.1170281585096},{"$f":"IF('III Tool Overview'!$H$6=\"Western Isles Health Board\",0,IF('III Tool Overview'!$H$6=\"Eilean Siar Local Authority\",0,new_yll(20,B213,C213,D213,$C$1,G213+H213,1,F213,F213,SIMDrateratios,RateRatios!$B$3)*10))","v":2002.0574745977951},5.9553560714448395E-2,{"$f":"IF('III Tool Overview'!$H$6=\"Western Isles Health Board\",0,IF('III Tool Overview'!$H$6=\"Eilean Siar Local Authority\",0,hosp_count(2,B213,C213,D213,$C$1,G213,1,F213,F213,SIMDRateRatios_hosp,SIMDrateratios,RateRatios!$B$3)*10))","v":417.31421916788838},{"$f":"IF('III Tool Overview'!$H$6=\"Western Isles Health Board\",0,IF('III Tool Overview'!$H$6=\"Eilean Siar Local Authority\",0,hosp_count(2,B213,C213,D213,$C$1,G213+H213,1,F213,F213,SIMDRateRatios_hosp,SIMDrateratios,RateRatios!$B$3)*10))","v":417.3050618330322},9.157334856183752E-3,{"$f":"IF('III Tool Overview'!$H$6=\"Western Isles Health Board\",0,IF('III Tool Overview'!$H$6=\"Eilean Siar Local Authority\",0,hosp_count(5,B213,C213,D213,$C$1,G213,1,F213,F213,SIMDRateRatios_hosp,SIMDrateratios,RateRatios!$B$3)*1000))","v":158080.57475490746},{"$f":"IF('III Tool Overview'!$H$6=\"Western Isles Health Board\",0,IF('III Tool Overview'!$H$6=\"Eilean Siar Local Authority\",0,hosp_count(5,B213,C213,D213,$C$1,G213+H213,1,F213,F213,SIMDRateRatios_hosp,SIMDrateratios,RateRatios!$B$3)*1000))","v":158077.58144751281},2.993307394644944,{"$f":"IF('III Tool Overview'!$H$6=\"Western Isles Health Board\",0,IF('III Tool Overview'!$H$6=\"Eilean Siar Local Authority\",0,hosp_count(10,B213,C213,D213,$C$1,G213,1,F213,F213,SIMDRateRatios_hosp,SIMDrateratios,RateRatios!$B$3)*10))","v":3165.3632614350054},{"$f":"IF('III Tool Overview'!$H$6=\"Western Isles Health Board\",0,IF('III Tool Overview'!$H$6=\"Eilean Siar Local Authority\",0,hosp_count(10,B213,C213,D213,$C$1,G213+H213,1,F213,F213,SIMDRateRatios_hosp,SIMDrateratios,RateRatios!$B$3)*10))","v":3165.3203072586734},4.2954176331932103E-2,{"$f":"IF('III Tool Overview'!$H$6=\"Western Isles Health Board\",0,IF('III Tool Overview'!$H$6=\"Eilean Siar Local Authority\",0,hosp_count(20,B213,C213,D213,$C$1,G213,1,F213,F213,SIMDRateRatios_hosp,SIMDrateratios,RateRatios!$B$3)*10))","v":4865.5209142111762},{"$f":"IF('III Tool Overview'!$H$6=\"Western Isles Health Board\",0,IF('III Tool Overview'!$H$6=\"Eilean Siar Local Authority\",0,hosp_count(20,B213,C213,D213,$C$1,G213+H213,1,F213,F213,SIMDRateRatios_hosp,SIMDrateratios,RateRatios!$B$3)*10))","v":4865.5033805884896},1.7533622686642047E-2]
["Male 90+",95,"male",4,1,{"$f":"HLOOKUP('III Tool Overview'!$H$6,LookUpData_Pop!$B$1:$AV$269,LookUpData_Pop!BB209,FALSE)/50","v":20.74},{"$f":"'III Tool Overview'!$H$9/110","v":0},20.74,{"$f":"IF('III Tool Overview'!$H$6=\"Western Isles Health Board\",0,IF('III Tool Overview'!$H$6=\"Eilean Siar Local Authority\",0,new_ci(2,B214,C214,D214,$C$1,G214,1,F214,E214*F214,SIMDrateratios,RateRatios!$B$3)*10))","v":22.926595314942617},{"$f":"IF('III Tool Overview'!$H$6=\"Western Isles Health Board\",0,IF('III Tool Overview'!$H$6=\"Eilean Siar Local Authority\",0,new_ci(2,B214,C214,D214,$C$1,G214+H214,1,H214,H214,SIMDrateratios,RateRatios!$B$3)*10))","v":22.925978333944059},{"$f":"IF('III Tool Overview'!$H$6=\"Western Isles Health Board\",0,IF('III Tool Overview'!$H$6=\"Eilean Siar Local Authority\",0,new_ci(5,B214,C214,D214,$C$1,G214,1,F214,F214,SIMDrateratios,RateRatios!$B$3)*1000))","v":8317.7477965335438},{"$f":"IF('III Tool Overview'!$H$6=\"Western Isles Health Board\",0,IF('III Tool Overview'!$H$6=\"Eilean Siar Local Authority\",0,new_ci(5,B214,C214,D214,$C$1,H214,1,F214,F214,SIMDrateratios,RateRatios!$B$3)*1000))","v":8317.5660031678781},{"$f":"IF('III Tool Overview'!$H$6=\"Western Isles Health Board\",0,IF('III Tool Overview'!$H$6=\"Eilean Siar Local Authority\",0,new_ci(10,B214,C214,D214,$C$1,G214,1,F214,F214,SIMDrateratios,RateRatios!$B$3)*10))","v":153.47095972098811},{"$f":"IF('III Tool Overview'!$H$6=\"Western Isles Health Board\",0,IF('III Tool Overview'!$H$6=\"Eilean Siar Local Authority\",0,new_ci(10,B214,C214,D214,$C$1,G214+H214,1,F214,F214,SIMDrateratios,RateRatios!$B$3)*10))","v":153.46888571770873},{"$f":"IF('III Tool Overview'!$H$6=\"Western Isles Health Board\",0,IF('III Tool Overview'!$H$6=\"Eilean Siar Local Authority\",0,new_ci(20,B214,C214,D214,$C$1,G214,1,F214,F214,SIMDrateratios,RateRatios!$B$3)*10))","v":203.44956864941381},{"$f":"IF('III Tool Overview'!$H$6=\"Western Isles Health Board\",0,IF('III Tool Overview'!$H$6=\"Eilean Siar Local Authority\",0,new_ci(20,B214,C214,D214,$C$1,G214+H214,1,F214,F214,SIMDrateratios,RateRatios!$B$3)*10))","v":203.44912189210444},{"$f":"IF('III Tool Overview'!$H$6=\"Western Isles Health Board\",0,IF('III Tool Overview'!$H$6=\"Eilean Siar Local Authority\",0,new_yll(2,B214,C214,D214,$C$1,G214,1,F214,F214,SIMDrateratios,RateRatios!$B$3)*10))","v":91.706381259770467},{"$f":"IF('III Tool Overview'!$H$6=\"Western Isles Health Board\",0,IF('III Tool Overview'!$H$6=\"Eilean Siar Local Authority\",0,new_yll(2,B214,C214,D214,$C$1,G214+H214,1,F214,F214,SIMDrateratios,RateRatios!$B$3)*10))","v":91.703913335776235},2.4679239942315689E-3,{"$f":"IF('III Tool Overview'!$H$6=\"Western Isles Health Board\",0,IF('III Tool Overview'!$H$6=\"Eilean Siar Local Authority\",0,new_yll(5,B214,C214,D214,$C$1,G214,1,F214,F214,SIMDrateratios,RateRatios!$B$3)*1000))","v":21514.508627405212},{"$f":"IF('III Tool Overview'!$H$6=\"Western Isles Health Board\",0,IF('III Tool Overview'!$H$6=\"Eilean Siar Local Authority\",0,new_yll(5,B214,C214,D214,$C$1,G214+H214,1,F214,F214,SIMDrateratios,RateRatios!$B$3)*1000))","v":21514.00076868241},0.50785872280175681,{"$f":"IF('III Tool Overview'!$H$6=\"Western Isles Health Board\",0,IF('III Tool Overview'!$H$6=\"Eilean Siar Local Authority\",0,new_yll(10,B214,C214,D214,$C$1,G214,1,F214,F214,SIMDrateratios,RateRatios!$B$3)*10))","v":89.582282733847961},{"$f":"IF('III Tool Overview'!$H$6=\"Western Isles Health Board\",0,IF('III Tool Overview'!$H$6=\"Eilean Siar Local Authority\",0,new_yll(10,B214,C214,D214,$C$1,G214+H214,1,F214,F214,SIMDrateratios,RateRatios!$B$3)*10))","v":89.577010873424072},5.2718604238890521E-3,{"$f":"IF('III Tool Overview'!$H$6=\"Western Isles Health Board\",0,IF('III Tool Overview'!$H$6=\"Eilean Siar Local Authority\",0,new_yll(20,B214,C214,D214,$C$1,G214,1,F214,F214,SIMDrateratios,RateRatios!$B$3)*10))","v":-310.68177822842654},{"$f":"IF('III Tool Overview'!$H$6=\"Western Isles Health Board\",0,IF('III Tool Overview'!$H$6=\"Eilean Siar Local Authority\",0,new_yll(20,B214,C214,D214,$C$1,G214+H214,1,F214,F214,SIMDrateratios,RateRatios!$B$3)*10))","v":-310.70242815040439},2.0649921977849317E-2,{"$f":"IF('III Tool Overview'!$H$6=\"Western Isles Health Board\",0,IF('III Tool Overview'!$H$6=\"Eilean Siar Local Authority\",0,hosp_count(2,B214,C214,D214,$C$1,G214,1,F214,F214,SIMDRateRatios_hosp,SIMDrateratios,RateRatios!$B$3)*10))","v":187.47175912900107},{"$f":"IF('III Tool Overview'!$H$6=\"Western Isles Health Board\",0,IF('III Tool Overview'!$H$6=\"Eilean Siar Local Authority\",0,hosp_count(2,B214,C214,D214,$C$1,G214+H214,1,F214,F214,SIMDRateRatios_hosp,SIMDrateratios,RateRatios!$B$3)*10))","v":187.4675980071861},4.161121814973967E-3,{"$f":"IF('III Tool Overview'!$H$6=\"Western Isles Health Board\",0,IF('III Tool Overview'!$H$6=\"Eilean Siar Local Authority\",0,hosp_count(5,B214,C214,D214,$C$1,G214,1,F214,F214,SIMDRateRatios_hosp,SIMDrateratios,RateRatios!$B$3)*1000))","v":66292.183134331237},{"$f":"IF('III Tool Overview'!$H$6=\"Western Isles Health Board\",0,IF('III Tool Overview'!$H$6=\"Eilean Siar Local Authority\",0,hosp_count(5,B214,C214,D214,$C$1,G214+H214,1,F214,F214,SIMDRateRatios_hosp,SIMDrateratios,RateRatios!$B$3)*1000))","v":66291.032133892659},1.151000438578194,{"$f":"IF('III Tool Overview'!$H$6=\"Western Isles Health Board\",0,IF('III Tool Overview'!$H$6=\"Eilean Siar Local Authority\",0,hosp_count(10,B214,C214,D214,$C$1,G214,1,F214,F214,SIMDRateRatios_hosp,SIMDrateratios,RateRatios!$B$3)*10))","v":1181.4338856849563},{"$f":"IF('III Tool Overview'!$H$6=\"Western Isles Health Board\",0,IF('III Tool Overview'!$H$6=\"Eilean Siar Local Authority\",0,hosp_count(10,B214,C214,D214,$C$1,G214+H214,1,F214,F214,SIMDRateRatios_hosp,SIMDrateratios,RateRatios!$B$3)*10))","v":1181.4225158768036},1.1369808152721816E-2,{"$f":"IF('III Tool Overview'!$H$6=\"Western Isles Health Board\",0,IF('III Tool Overview'!$H$6=\"Eilean Siar Local Authority\",0,hosp_count(20,B214,C214,D214,$C$1,G214,1,F214,F214,SIMDRateRatios_hosp,SIMDrateratios,RateRatios!$B$3)*10))","v":1515.0450552701641},{"$f":"IF('III Tool Overview'!$H$6=\"Western Isles Health Board\",0,IF('III Tool Overview'!$H$6=\"Eilean Siar Local Authority\",0,hosp_count(20,B214,C214,D214,$C$1,G214+H214,1,F214,F214,SIMDRateRatios_hosp,SIMDrateratios,RateRatios!$B$3)*10))","v":1515.0453523503245},-2.9708016040785878E-4]
["TOTAL",null,null,null,null,{"$f":"SUM(F195:F214)","v":7355.44},{"$f":"SUM(G195:G214)","v":0},{"$f":"SUM(H195:H214)","v":7355.44},{"$f":"SUM(I195:I214)","v":459.81979145861249},{"$f":"SUM(J195:J214)","v":459.80699426597812},{"$f":"SUM(K195:K214)","v":192137.75794136661},{"$f":"SUM(L195:L214)","v":192132.64658053228},{"$f":"SUM(M195:M214)","v":4627.9370717868005},{"$f":"SUM(N195:N214)","v":4627.8235856262309},{"$f":"SUM(O195:O214)","v":10997.819820599292},{"$f":"SUM(P195:P214)","v":10997.594517597192},{"$f":"SUM(Q195:Q214)","v":14329.905017753426},{"$f":"SUM(R195:R214)","v":14329.503990841027},{"$f":"SUM(S195:S214)","v":0.40102691240043065},{"$f":"SUM(T195:T214)","v":5811574.8222553805},{"$f":"SUM(U195:U214)","v":5811415.9592416352},{"$f":"SUM(V195:V214)","v":158.86301374457389},{"$f":"SUM(W195:W214)","v":133065.2015887069},{"$f":"SUM(X195:X214)","v":133061.69409084436},{"$f":"SUM(Y195:Y214)","v":3.5074978625375905},{"$f":"SUM(Z195:Z214)","v":285004.70849137841},{"$f":"SUM(AA195:AA214)","v":284997.61854439834},{"$f":"SUM(AB195:AB214)","v":7.0899469800935435},{"$f":"SUM(AC195:AC214)","v":12445.893619094686},{"$f":"SUM(AD195:AD214)","v":12445.620631859512},{"$f":"SUM(AE195:AE214)","v":0.27298723517509771},{"$f":"SUM(AF195:AF214)","v":5139847.7822814202},{"$f":"SUM(AG195:AG214)","v":5139738.3600583067},{"$f":"SUM(AH195:AH214)","v":109.42222311489968},{"$f":"SUM(AI195:AI214)","v":121652.71607784796},{"$f":"SUM(AJ195:AJ214)","v":121650.25993449296},{"$f":"SUM(AK195:AK214)","v":2.4561433549912408},{"$f":"SUM(AL195:AL214)","v":281220.96201296733},{"$f":"SUM(AM195:AM214)","v":281215.90364207339},{"$f":"SUM(AN195:AN214)","v":5.0583708939760754}]
["Female <1",0.5,"female",4,1,{"$f":"HLOOKUP('III Tool Overview'!$H$6,LookUpData_Pop!$B$1:$AV$269,LookUpData_Pop!BB210,FALSE)/50","v":74.760000000000005},0,{"$f":"F216","v":74.760000000000005},{"$f":"IF('III Tool Overview'!$H$6=\"Western Isles Health Board\",0,IF('III Tool Overview'!$H$6=\"Eilean Siar Local Authority\",0,new_ci(2,B216,C216,D216,$C$1,G216,1,F216,E216*F216,SIMDrateratios,RateRatios!$B$3)*10))","v":3.1163057335444048E-2},{"$f":"IF('III Tool Overview'!$H$6=\"Western Isles Health Board\",0,IF('III Tool Overview'!$H$6=\"Eilean Siar Local Authority\",0,new_ci(2,B216,C216,D216,$C$1,G216+H216,1,H216,H216,SIMDrateratios,RateRatios!$B$3)*10))","v":3.1162175820333142E-2},{"$f":"IF('III Tool Overview'!$H$6=\"Western Isles Health Board\",0,IF('III Tool Overview'!$H$6=\"Eilean Siar Local Authority\",0,new_ci(5,B216,C216,D216,$C$1,G216,1,F216,F216,SIMDrateratios,RateRatios!$B$3)*1000))","v":13.841359236901814},{"$f":"IF('III Tool Overview'!$H$6=\"Western Isles Health Board\",0,IF('III Tool Overview'!$H$6=\"Eilean Siar Local Authority\",0,new_ci(5,B216,C216,D216,$C$1,H216,1,F216,F216,SIMDrateratios,RateRatios!$B$3)*1000))","v":13.840967731956685},{"$f":"IF('III Tool Overview'!$H$6=\"Western Isles Health Board\",0,IF('III Tool Overview'!$H$6=\"Eilean Siar Local Authority\",0,new_ci(10,B216,C216,D216,$C$1,G216,1,F216,F216,SIMDrateratios,RateRatios!$B$3)*10))","v":0.37364984478209678},{"$f":"IF('III Tool Overview'!$H$6=\"Western Isles Health Board\",0,IF('III Tool Overview'!$H$6=\"Eilean Siar Local Authority\",0,new_ci(10,B216,C216,D216,$C$1,G216+H216,1,F216,F216,SIMDrateratios,RateRatios!$B$3)*10))","v":0.3736392777027186},{"$f":"IF('III Tool Overview'!$H$6=\"Western Isles Health Board\",0,IF('III Tool Overview'!$H$6=\"Eilean Siar Local Authority\",0,new_ci(20,B216,C216,D216,$C$1,G216,1,F216,F216,SIMDrateratios,RateRatios!$B$3)*10))","v":1.16753818463541},{"$f":"IF('III Tool Overview'!$H$6=\"Western Isles Health Board\",0,IF('III Tool Overview'!$H$6=\"Eilean Siar Local Authority\",0,new_ci(20,B216,C216,D216,$C$1,G216+H216,1,F216,F216,SIMDrateratios,RateRatios!$B$3)*10))","v":1.1675051833851775},{"$f":"IF('III Tool Overview'!$H$6=\"Western Isles Health Board\",0,IF('III Tool Overview'!$H$6=\"Eilean Siar Local Authority\",0,new_yll(2,B216,C216,D216,$C$1,G216,1,F216,F216,SIMDrateratios,RateRatios!$B$3)*10))","v":3.0851426762089607},{"$f":"IF('III Tool Overview'!$H$6=\"Western Isles Health Board\",0,IF('III Tool Overview'!$H$6=\"Eilean Siar Local Authority\",0,new_yll(2,B216,C216,D216,$C$1,G216+H216,1,F216,F216,SIMDrateratios,RateRatios!$B$3)*10))","v":3.0850554062129811},{"$f":"Q216-R216","v":8.7269995979522008E-5},{"$f":"IF('III Tool Overview'!$H$6=\"Western Isles Health Board\",0,IF('III Tool Overview'!$H$6=\"Eilean Siar Local Authority\",0,new_yll(5,B216,C216,D216,$C$1,G216,1,F216,F216,SIMDrateratios,RateRatios!$B$3)*1000))","v":1348.3594109137789},{"$f":"IF('III Tool Overview'!$H$6=\"Western Isles Health Board\",0,IF('III Tool Overview'!$H$6=\"Eilean Siar Local Authority\",0,new_yll(5,B216,C216,D216,$C$1,G216+H216,1,F216,F216,SIMDrateratios,RateRatios!$B$3)*1000))","v":1348.3212723407628},{"$f":"T216-U216","v":3.8138573016112787E-2},{"$f":"IF('III Tool Overview'!$H$6=\"Western Isles Health Board\",0,IF('III Tool Overview'!$H$6=\"Eilean Siar Local Authority\",0,new_yll(10,B216,C216,D216,$C$1,G216,1,F216,F216,SIMDrateratios,RateRatios!$B$3)*10))","v":35.328695707002304},{"$f":"IF('III Tool Overview'!$H$6=\"Western Isles Health Board\",0,IF('III Tool Overview'!$H$6=\"Eilean Siar Local Authority\",0,new_yll(10,B216,C216,D216,$C$1,G216+H216,1,F216,F216,SIMDrateratios,RateRatios!$B$3)*10))","v":35.327696582873791},{"$f":"W216-X216","v":9.9912412851210775E-4},{"$f":"IF('III Tool Overview'!$H$6=\"Western Isles Health Board\",0,IF('III Tool Overview'!$H$6=\"Eilean Siar Local Authority\",0,new_yll(20,B216,C216,D216,$C$1,G216,1,F216,F216,SIMDrateratios,RateRatios!$B$3)*10))","v":102.76528362871049},{"$f":"IF('III Tool Overview'!$H$6=\"Western Isles Health Board\",0,IF('III Tool Overview'!$H$6=\"Eilean Siar Local Authority\",0,new_yll(20,B216,C216,D216,$C$1,G216+H216,1,F216,F216,SIMDrateratios,RateRatios!$B$3)*10))","v":102.7623788218183},{"$f":"Z216-AA216","v":2.9048068921895265E-3},{"$f":"IF('III Tool Overview'!$H$6=\"Western Isles Health Board\",0,IF('III Tool Overview'!$H$6=\"Eilean Siar Local Authority\",0,hosp_count(2,B216,C216,D216,$C$1,G216,1,F216,F216,SIMDRateRatios_hosp,SIMDrateratios,RateRatios!$B$3)*10))","v":42.569679334571433},{"$f":"IF('III Tool Overview'!$H$6=\"Western Isles Health Board\",0,IF('III Tool Overview'!$H$6=\"Eilean Siar Local Authority\",0,hosp_count(2,B216,C216,D216,$C$1,G216+H216,1,F216,F216,SIMDRateRatios_hosp,SIMDrateratios,RateRatios!$B$3)*10))","v":42.568743160988582},{"$f":"AC216-AD216","v":9.3617358285058572E-4},{"$f":"IF('III Tool Overview'!$H$6=\"Western Isles Health Board\",0,IF('III Tool Overview'!$H$6=\"Eilean Siar Local Authority\",0,hosp_count(5,B216,C216,D216,$C$1,G216,1,F216,F216,SIMDRateRatios_hosp,SIMDrateratios,RateRatios!$B$3)*1000))","v":17719.150861862436},{"$f":"IF('III Tool Overview'!$H$6=\"Western Isles Health Board\",0,IF('III Tool Overview'!$H$6=\"Eilean Siar Local Authority\",0,hosp_count(5,B216,C216,D216,$C$1,G216+H216,1,F216,F216,SIMDRateRatios_hosp,SIMDrateratios,RateRatios!$B$3)*1000))","v":17718.761223693666},{"$f":"AF216-AG216","v":0.3896381687700341},{"$f":"IF('III Tool Overview'!$H$6=\"Western Isles Health Board\",0,IF('III Tool Overview'!$H$6=\"Eilean Siar Local Authority\",0,hosp_count(10,B216,C216,D216,$C$1,G216,1,F216,F216,SIMDRateRatios_hosp,SIMDrateratios,RateRatios!$B$3)*10))","v":426.49823772888141},{"$f":"IF('III Tool Overview'!$H$6=\"Western Isles Health Board\",0,IF('III Tool Overview'!$H$6=\"Eilean Siar Local Authority\",0,hosp_count(10,B216,C216,D216,$C$1,G216+H216,1,F216,F216,SIMDRateRatios_hosp,SIMDrateratios,RateRatios!$B$3)*10))","v":426.48886085969593},{"$f":"AI216-AJ216","v":9.3768691854734243E-3},{"$f":"IF('III Tool Overview'!$H$6=\"Western Isles Health Board\",0,IF('III Tool Overview'!$H$6=\"Eilean Siar Local Authority\",0,hosp_count(20,B216,C216,D216,$C$1,G216,1,F216,F216,SIMDRateRatios_hosp,SIMDrateratios,RateRatios!$B$3)*10))","v":1034.6969819981978},{"$f":"IF('III Tool Overview'!$H$6=\"Western Isles Health Board\",0,IF('III Tool Overview'!$H$6=\"Eilean Siar Local Authority\",0,hosp_count(20,B216,C216,D216,$C$1,G216+H216,1,F216,F216,SIMDRateRatios_hosp,SIMDrateratios,RateRatios!$B$3)*10))","v":1034.6742460837354},{"$f":"AL216-AM216","v":2.273591446237333E-2}]
["Female 1-4",2.5,"female",4,1,{"$f":"HLOOKUP('III Tool Overview'!$H$6,LookUpData_Pop!$B$1:$AV$269,LookUpData_Pop!BB211,FALSE)/50","v":292.7},0,{"$f":"F217","v":292.7},{"$f":"IF('III Tool Overview'!$H$6=\"Western Isles Health Board\",0,IF('III Tool Overview'!$H$6=\"Eilean Siar Local Authority\",0,new_ci(2,B217,C217,D217,$C$1,G217,1,F217,E217*F217,SIMDrateratios,RateRatios!$B$3)*10))","v":0.14373191915404759},{"$f":"IF('III Tool Overview'!$H$6=\"Western Isles Health Board\",0,IF('III Tool Overview'!$H$6=\"Eilean Siar Local Authority\",0,new_ci(2,B217,C217,D217,$C$1,G217+H217,1,H217,H217,SIMDrateratios,RateRatios!$B$3)*10))","v":0.14372786225493206},{"$f":"IF('III Tool Overview'!$H$6=\"Western Isles Health Board\",0,IF('III Tool Overview'!$H$6=\"Eilean Siar Local Authority\",0,new_ci(5,B217,C217,D217,$C$1,G217,1,F217,F217,SIMDrateratios,RateRatios!$B$3)*1000))","v":63.839041735922905},{"$f":"IF('III Tool Overview'!$H$6=\"Western Isles Health Board\",0,IF('III Tool Overview'!$H$6=\"Eilean Siar Local Authority\",0,new_ci(5,B217,C217,D217,$C$1,H217,1,F217,F217,SIMDrateratios,RateRatios!$B$3)*1000))","v":63.837240002062686},{"$f":"IF('III Tool Overview'!$H$6=\"Western Isles Health Board\",0,IF('III Tool Overview'!$H$6=\"Eilean Siar Local Authority\",0,new_ci(10,B217,C217,D217,$C$1,G217,1,F217,F217,SIMDrateratios,RateRatios!$B$3)*10))","v":1.7232974975962572},{"$f":"IF('III Tool Overview'!$H$6=\"Western Isles Health Board\",0,IF('III Tool Overview'!$H$6=\"Eilean Siar Local Authority\",0,new_ci(10,B217,C217,D217,$C$1,G217+H217,1,F217,F217,SIMDrateratios,RateRatios!$B$3)*10))","v":1.7232488698640842},{"$f":"IF('III Tool Overview'!$H$6=\"Western Isles Health Board\",0,IF('III Tool Overview'!$H$6=\"Eilean Siar Local Authority\",0,new_ci(20,B217,C217,D217,$C$1,G217,1,F217,F217,SIMDrateratios,RateRatios!$B$3)*10))","v":5.3842530403145874},{"$f":"IF('III Tool Overview'!$H$6=\"Western Isles Health Board\",0,IF('III Tool Overview'!$H$6=\"Eilean Siar Local Authority\",0,new_ci(20,B217,C217,D217,$C$1,G217+H217,1,F217,F217,SIMDrateratios,RateRatios!$B$3)*10))","v":5.384101203442607},{"$f":"IF('III Tool Overview'!$H$6=\"Western Isles Health Board\",0,IF('III Tool Overview'!$H$6=\"Eilean Siar Local Authority\",0,new_yll(2,B217,C217,D217,$C$1,G217,1,F217,F217,SIMDrateratios,RateRatios!$B$3)*10))","v":13.941996157942619},{"$f":"IF('III Tool Overview'!$H$6=\"Western Isles Health Board\",0,IF('III Tool Overview'!$H$6=\"Eilean Siar Local Authority\",0,new_yll(2,B217,C217,D217,$C$1,G217+H217,1,F217,F217,SIMDrateratios,RateRatios!$B$3)*10))","v":13.94160263872841},{"$f":"Q217-R217","v":3.935192142083821E-4},{"$f":"IF('III Tool Overview'!$H$6=\"Western Isles Health Board\",0,IF('III Tool Overview'!$H$6=\"Eilean Siar Local Authority\",0,new_yll(5,B217,C217,D217,$C$1,G217,1,F217,F217,SIMDrateratios,RateRatios!$B$3)*1000))","v":6091.2185083294926},{"$f":"IF('III Tool Overview'!$H$6=\"Western Isles Health Board\",0,IF('III Tool Overview'!$H$6=\"Eilean Siar Local Authority\",0,new_yll(5,B217,C217,D217,$C$1,G217+H217,1,F217,F217,SIMDrateratios,RateRatios!$B$3)*1000))","v":6091.0465953095709},{"$f":"T217-U217","v":0.17191301992170338},{"$f":"IF('III Tool Overview'!$H$6=\"Western Isles Health Board\",0,IF('III Tool Overview'!$H$6=\"Eilean Siar Local Authority\",0,new_yll(10,B217,C217,D217,$C$1,G217,1,F217,F217,SIMDrateratios,RateRatios!$B$3)*10))","v":159.49177006890386},{"$f":"IF('III Tool Overview'!$H$6=\"Western Isles Health Board\",0,IF('III Tool Overview'!$H$6=\"Eilean Siar Local Authority\",0,new_yll(10,B217,C217,D217,$C$1,G217+H217,1,F217,F217,SIMDrateratios,RateRatios!$B$3)*10))","v":159.48726953478851},{"$f":"W217-X217","v":4.500534115351229E-3},{"$f":"IF('III Tool Overview'!$H$6=\"Western Isles Health Board\",0,IF('III Tool Overview'!$H$6=\"Eilean Siar Local Authority\",0,new_yll(20,B217,C217,D217,$C$1,G217,1,F217,F217,SIMDrateratios,RateRatios!$B$3)*10))","v":463.14910461563272},{"$f":"IF('III Tool Overview'!$H$6=\"Western Isles Health Board\",0,IF('III Tool Overview'!$H$6=\"Eilean Siar Local Authority\",0,new_yll(20,B217,C217,D217,$C$1,G217+H217,1,F217,F217,SIMDrateratios,RateRatios!$B$3)*10))","v":463.13604331189242},{"$f":"Z217-AA217","v":1.30613037403009E-2},{"$f":"IF('III Tool Overview'!$H$6=\"Western Isles Health Board\",0,IF('III Tool Overview'!$H$6=\"Eilean Siar Local Authority\",0,hosp_count(2,B217,C217,D217,$C$1,G217,1,F217,F217,SIMDRateRatios_hosp,SIMDrateratios,RateRatios!$B$3)*10))","v":175.08982417729129},{"$f":"IF('III Tool Overview'!$H$6=\"Western Isles Health Board\",0,IF('III Tool Overview'!$H$6=\"Eilean Siar Local Authority\",0,hosp_count(2,B217,C217,D217,$C$1,G217+H217,1,F217,F217,SIMDRateRatios_hosp,SIMDrateratios,RateRatios!$B$3)*10))","v":175.08598206691599},{"$f":"AC217-AD217","v":3.8421103753023544E-3},{"$f":"IF('III Tool Overview'!$H$6=\"Western Isles Health Board\",0,IF('III Tool Overview'!$H$6=\"Eilean Siar Local Authority\",0,hosp_count(5,B217,C217,D217,$C$1,G217,1,F217,F217,SIMDRateRatios_hosp,SIMDrateratios,RateRatios!$B$3)*1000))","v":72878.303589289426},{"$f":"IF('III Tool Overview'!$H$6=\"Western Isles Health Board\",0,IF('III Tool Overview'!$H$6=\"Eilean Siar Local Authority\",0,hosp_count(5,B217,C217,D217,$C$1,G217+H217,1,F217,F217,SIMDRateRatios_hosp,SIMDrateratios,RateRatios!$B$3)*1000))","v":72876.704535369689},{"$f":"AF217-AG217","v":1.5990539197373437},{"$f":"IF('III Tool Overview'!$H$6=\"Western Isles Health Board\",0,IF('III Tool Overview'!$H$6=\"Eilean Siar Local Authority\",0,hosp_count(10,B217,C217,D217,$C$1,G217,1,F217,F217,SIMDRateRatios_hosp,SIMDrateratios,RateRatios!$B$3)*10))","v":1754.130094242262},{"$f":"IF('III Tool Overview'!$H$6=\"Western Isles Health Board\",0,IF('III Tool Overview'!$H$6=\"Eilean Siar Local Authority\",0,hosp_count(10,B217,C217,D217,$C$1,G217+H217,1,F217,F217,SIMDRateRatios_hosp,SIMDrateratios,RateRatios!$B$3)*10))","v":1754.0916142657625},{"$f":"AI217-AJ217","v":3.84799764995023E-2},{"$f":"IF('III Tool Overview'!$H$6=\"Western Isles Health Board\",0,IF('III Tool Overview'!$H$6=\"Eilean Siar Local Authority\",0,hosp_count(20,B217,C217,D217,$C$1,G217,1,F217,F217,SIMDRateRatios_hosp,SIMDrateratios,RateRatios!$B$3)*10))","v":4255.2428422745688},{"$f":"IF('III Tool Overview'!$H$6=\"Western Isles Health Board\",0,IF('III Tool Overview'!$H$6=\"Eilean Siar Local Authority\",0,hosp_count(20,B217,C217,D217,$C$1,G217+H217,1,F217,F217,SIMDRateRatios_hosp,SIMDrateratios,RateRatios!$B$3)*10))","v":4255.1495570214356},{"$f":"AL217-AM217","v":9.3285253133217338E-2}]
["Female 5-9",7.5,"female",4,1,{"$f":"HLOOKUP('III Tool Overview'!$H$6,LookUpData_Pop!$B$1:$AV$269,LookUpData_Pop!BB212,FALSE)/50","v":358.36},0,358.36,{"$f":"IF('III Tool Overview'!$H$6=\"Western Isles Health Board\",0,IF('III Tool Overview'!$H$6=\"Eilean Siar Local Authority\",0,new_ci(2,B218,C218,D218,$C$1,G218,1,F218,E218*F218,SIMDrateratios,RateRatios!$B$3)*10))","v":0.28769168039547466},{"$f":"IF('III Tool Overview'!$H$6=\"Western Isles Health Board\",0,IF('III Tool Overview'!$H$6=\"Eilean Siar Local Authority\",0,new_ci(2,B218,C218,D218,$C$1,G218+H218,1,H218,H218,SIMDrateratios,RateRatios!$B$3)*10))","v":0.28768357675605738},{"$f":"IF('III Tool Overview'!$H$6=\"Western Isles Health Board\",0,IF('III Tool Overview'!$H$6=\"Eilean Siar Local Authority\",0,new_ci(5,B218,C218,D218,$C$1,G218,1,F218,F218,SIMDrateratios,RateRatios!$B$3)*1000))","v":127.77242512939249},{"$f":"IF('III Tool Overview'!$H$6=\"Western Isles Health Board\",0,IF('III Tool Overview'!$H$6=\"Eilean Siar Local Authority\",0,new_ci(5,B218,C218,D218,$C$1,H218,1,F218,F218,SIMDrateratios,RateRatios!$B$3)*1000))","v":127.76882655945445},{"$f":"IF('III Tool Overview'!$H$6=\"Western Isles Health Board\",0,IF('III Tool Overview'!$H$6=\"Eilean Siar Local Authority\",0,new_ci(10,B218,C218,D218,$C$1,G218,1,F218,F218,SIMDrateratios,RateRatios!$B$3)*10))","v":3.4487358009097839},{"$f":"IF('III Tool Overview'!$H$6=\"Western Isles Health Board\",0,IF('III Tool Overview'!$H$6=\"Eilean Siar Local Authority\",0,new_ci(10,B218,C218,D218,$C$1,G218+H218,1,F218,F218,SIMDrateratios,RateRatios!$B$3)*10))","v":3.4486387004944201},{"$f":"IF('III Tool Overview'!$H$6=\"Western Isles Health Board\",0,IF('III Tool Overview'!$H$6=\"Eilean Siar Local Authority\",0,new_ci(20,B218,C218,D218,$C$1,G218,1,F218,F218,SIMDrateratios,RateRatios!$B$3)*10))","v":10.770914598798312},{"$f":"IF('III Tool Overview'!$H$6=\"Western Isles Health Board\",0,IF('III Tool Overview'!$H$6=\"Eilean Siar Local Authority\",0,new_ci(20,B218,C218,D218,$C$1,G218+H218,1,F218,F218,SIMDrateratios,RateRatios!$B$3)*10))","v":10.770611650133022},{"$f":"IF('III Tool Overview'!$H$6=\"Western Isles Health Board\",0,IF('III Tool Overview'!$H$6=\"Eilean Siar Local Authority\",0,new_yll(2,B218,C218,D218,$C$1,G218,1,F218,F218,SIMDrateratios,RateRatios!$B$3)*10))","v":26.179942915988192},{"$f":"IF('III Tool Overview'!$H$6=\"Western Isles Health Board\",0,IF('III Tool Overview'!$H$6=\"Eilean Siar Local Authority\",0,new_yll(2,B218,C218,D218,$C$1,G218+H218,1,F218,F218,SIMDrateratios,RateRatios!$B$3)*10))","v":26.179205484801219},7.3743118697322529E-4,{"$f":"IF('III Tool Overview'!$H$6=\"Western Isles Health Board\",0,IF('III Tool Overview'!$H$6=\"Eilean Siar Local Authority\",0,new_yll(5,B218,C218,D218,$C$1,G218,1,F218,F218,SIMDrateratios,RateRatios!$B$3)*1000))","v":11424.80961224887},{"$f":"IF('III Tool Overview'!$H$6=\"Western Isles Health Board\",0,IF('III Tool Overview'!$H$6=\"Eilean Siar Local Authority\",0,new_yll(5,B218,C218,D218,$C$1,G218+H218,1,F218,F218,SIMDrateratios,RateRatios!$B$3)*1000))","v":11424.487844641588},0.32176760728179943,{"$f":"IF('III Tool Overview'!$H$6=\"Western Isles Health Board\",0,IF('III Tool Overview'!$H$6=\"Eilean Siar Local Authority\",0,new_yll(10,B218,C218,D218,$C$1,G218,1,F218,F218,SIMDrateratios,RateRatios!$B$3)*10))","v":298.49020055501063},{"$f":"IF('III Tool Overview'!$H$6=\"Western Isles Health Board\",0,IF('III Tool Overview'!$H$6=\"Eilean Siar Local Authority\",0,new_yll(10,B218,C218,D218,$C$1,G218+H218,1,F218,F218,SIMDrateratios,RateRatios!$B$3)*10))","v":298.48179638606018},8.4041689504488204E-3,{"$f":"IF('III Tool Overview'!$H$6=\"Western Isles Health Board\",0,IF('III Tool Overview'!$H$6=\"Eilean Siar Local Authority\",0,new_yll(20,B218,C218,D218,$C$1,G218,1,F218,F218,SIMDrateratios,RateRatios!$B$3)*10))","v":861.898729805568},{"$f":"IF('III Tool Overview'!$H$6=\"Western Isles Health Board\",0,IF('III Tool Overview'!$H$6=\"Eilean Siar Local Authority\",0,new_yll(20,B218,C218,D218,$C$1,G218+H218,1,F218,F218,SIMDrateratios,RateRatios!$B$3)*10))","v":861.87448620222449},2.4243603343506948E-2,{"$f":"IF('III Tool Overview'!$H$6=\"Western Isles Health Board\",0,IF('III Tool Overview'!$H$6=\"Eilean Siar Local Authority\",0,hosp_count(2,B218,C218,D218,$C$1,G218,1,F218,F218,SIMDRateRatios_hosp,SIMDrateratios,RateRatios!$B$3)*10))","v":248.53010678522344},{"$f":"IF('III Tool Overview'!$H$6=\"Western Isles Health Board\",0,IF('III Tool Overview'!$H$6=\"Eilean Siar Local Authority\",0,hosp_count(2,B218,C218,D218,$C$1,G218+H218,1,F218,F218,SIMDRateRatios_hosp,SIMDrateratios,RateRatios!$B$3)*10))","v":248.52466418371566},5.4426015077808643E-3,{"$f":"IF('III Tool Overview'!$H$6=\"Western Isles Health Board\",0,IF('III Tool Overview'!$H$6=\"Eilean Siar Local Authority\",0,hosp_count(5,B218,C218,D218,$C$1,G218,1,F218,F218,SIMDRateRatios_hosp,SIMDrateratios,RateRatios!$B$3)*1000))","v":103441.45026146724},{"$f":"IF('III Tool Overview'!$H$6=\"Western Isles Health Board\",0,IF('III Tool Overview'!$H$6=\"Eilean Siar Local Authority\",0,hosp_count(5,B218,C218,D218,$C$1,G218+H218,1,F218,F218,SIMDRateRatios_hosp,SIMDrateratios,RateRatios!$B$3)*1000))","v":103439.18535604539},2.2649054218491074,{"$f":"IF('III Tool Overview'!$H$6=\"Western Isles Health Board\",0,IF('III Tool Overview'!$H$6=\"Eilean Siar Local Authority\",0,hosp_count(10,B218,C218,D218,$C$1,G218,1,F218,F218,SIMDRateRatios_hosp,SIMDrateratios,RateRatios!$B$3)*10))","v":2489.5039490253348},{"$f":"IF('III Tool Overview'!$H$6=\"Western Isles Health Board\",0,IF('III Tool Overview'!$H$6=\"Eilean Siar Local Authority\",0,hosp_count(10,B218,C218,D218,$C$1,G218+H218,1,F218,F218,SIMDRateRatios_hosp,SIMDrateratios,RateRatios!$B$3)*10))","v":2489.4494588615921},5.4490163742684672E-2,{"$f":"IF('III Tool Overview'!$H$6=\"Western Isles Health Board\",0,IF('III Tool Overview'!$H$6=\"Eilean Siar Local Authority\",0,hosp_count(20,B218,C218,D218,$C$1,G218,1,F218,F218,SIMDRateRatios_hosp,SIMDrateratios,RateRatios!$B$3)*10))","v":6037.1939782286718},{"$f":"IF('III Tool Overview'!$H$6=\"Western Isles Health Board\",0,IF('III Tool Overview'!$H$6=\"Eilean Siar Local Authority\",0,hosp_count(20,B218,C218,D218,$C$1,G218+H218,1,F218,F218,SIMDRateRatios_hosp,SIMDrateratios,RateRatios!$B$3)*10))","v":6037.0619777551883},0.13200047348345834]
["Female 10-14",12.5,"female",4,1,{"$f":"HLOOKUP('III Tool Overview'!$H$6,LookUpData_Pop!$B$1:$AV$269,LookUpData_Pop!BB213,FALSE)/50","v":392.72},0,392.72,{"$f":"IF('III Tool Overview'!$H$6=\"Western Isles Health Board\",0,IF('III Tool Overview'!$H$6=\"Eilean Siar Local Authority\",0,new_ci(2,B219,C219,D219,$C$1,G219,1,F219,E219*F219,SIMDrateratios,RateRatios!$B$3)*10))","v":0.43752888425902936},{"$f":"IF('III Tool Overview'!$H$6=\"Western Isles Health Board\",0,IF('III Tool Overview'!$H$6=\"Eilean Siar Local Authority\",0,new_ci(2,B219,C219,D219,$C$1,G219+H219,1,H219,H219,SIMDrateratios,RateRatios!$B$3)*10))","v":0.43751653903948273},{"$f":"IF('III Tool Overview'!$H$6=\"Western Isles Health Board\",0,IF('III Tool Overview'!$H$6=\"Eilean Siar Local Authority\",0,new_ci(5,B219,C219,D219,$C$1,G219,1,F219,F219,SIMDrateratios,RateRatios!$B$3)*1000))","v":194.30917025641034},{"$f":"IF('III Tool Overview'!$H$6=\"Western Isles Health Board\",0,IF('III Tool Overview'!$H$6=\"Eilean Siar Local Authority\",0,new_ci(5,B219,C219,D219,$C$1,H219,1,F219,F219,SIMDrateratios,RateRatios!$B$3)*1000))","v":194.30368872243795},{"$f":"IF('III Tool Overview'!$H$6=\"Western Isles Health Board\",0,IF('III Tool Overview'!$H$6=\"Eilean Siar Local Authority\",0,new_ci(10,B219,C219,D219,$C$1,G219,1,F219,F219,SIMDrateratios,RateRatios!$B$3)*10))","v":5.2440285874041939},{"$f":"IF('III Tool Overview'!$H$6=\"Western Isles Health Board\",0,IF('III Tool Overview'!$H$6=\"Eilean Siar Local Authority\",0,new_ci(10,B219,C219,D219,$C$1,G219+H219,1,F219,F219,SIMDrateratios,RateRatios!$B$3)*10))","v":5.2438807136307508},{"$f":"IF('III Tool Overview'!$H$6=\"Western Isles Health Board\",0,IF('III Tool Overview'!$H$6=\"Eilean Siar Local Authority\",0,new_ci(20,B219,C219,D219,$C$1,G219,1,F219,F219,SIMDrateratios,RateRatios!$B$3)*10))","v":16.371385932490028},{"$f":"IF('III Tool Overview'!$H$6=\"Western Isles Health Board\",0,IF('III Tool Overview'!$H$6=\"Eilean Siar Local Authority\",0,new_ci(20,B219,C219,D219,$C$1,G219+H219,1,F219,F219,SIMDrateratios,RateRatios!$B$3)*10))","v":16.370924939500597},{"$f":"IF('III Tool Overview'!$H$6=\"Western Isles Health Board\",0,IF('III Tool Overview'!$H$6=\"Eilean Siar Local Authority\",0,new_yll(2,B219,C219,D219,$C$1,G219,1,F219,F219,SIMDrateratios,RateRatios!$B$3)*10))","v":38.065012930535552},{"$f":"IF('III Tool Overview'!$H$6=\"Western Isles Health Board\",0,IF('III Tool Overview'!$H$6=\"Eilean Siar Local Authority\",0,new_yll(2,B219,C219,D219,$C$1,G219+H219,1,F219,F219,SIMDrateratios,RateRatios!$B$3)*10))","v":38.063938896434998},1.0740341005543996E-3,{"$f":"IF('III Tool Overview'!$H$6=\"Western Isles Health Board\",0,IF('III Tool Overview'!$H$6=\"Eilean Siar Local Authority\",0,new_yll(5,B219,C219,D219,$C$1,G219,1,F219,F219,SIMDrateratios,RateRatios!$B$3)*1000))","v":16596.984271286783},{"$f":"IF('III Tool Overview'!$H$6=\"Western Isles Health Board\",0,IF('III Tool Overview'!$H$6=\"Eilean Siar Local Authority\",0,new_yll(5,B219,C219,D219,$C$1,G219+H219,1,F219,F219,SIMDrateratios,RateRatios!$B$3)*1000))","v":16596.516063341292},0.46820794549057609,{"$f":"IF('III Tool Overview'!$H$6=\"Western Isles Health Board\",0,IF('III Tool Overview'!$H$6=\"Eilean Siar Local Authority\",0,new_yll(10,B219,C219,D219,$C$1,G219,1,F219,F219,SIMDrateratios,RateRatios!$B$3)*10))","v":432.89921068418556},{"$f":"IF('III Tool Overview'!$H$6=\"Western Isles Health Board\",0,IF('III Tool Overview'!$H$6=\"Eilean Siar Local Authority\",0,new_yll(10,B219,C219,D219,$C$1,G219+H219,1,F219,F219,SIMDrateratios,RateRatios!$B$3)*10))","v":432.88700342846096},1.2207255724604238E-2,{"$f":"IF('III Tool Overview'!$H$6=\"Western Isles Health Board\",0,IF('III Tool Overview'!$H$6=\"Eilean Siar Local Authority\",0,new_yll(20,B219,C219,D219,$C$1,G219,1,F219,F219,SIMDrateratios,RateRatios!$B$3)*10))","v":1244.5967576573294},{"$f":"IF('III Tool Overview'!$H$6=\"Western Isles Health Board\",0,IF('III Tool Overview'!$H$6=\"Eilean Siar Local Authority\",0,new_yll(20,B219,C219,D219,$C$1,G219+H219,1,F219,F219,SIMDrateratios,RateRatios!$B$3)*10))","v":1244.5617088451404},3.5048812188961165E-2,{"$f":"IF('III Tool Overview'!$H$6=\"Western Isles Health Board\",0,IF('III Tool Overview'!$H$6=\"Eilean Siar Local Authority\",0,hosp_count(2,B219,C219,D219,$C$1,G219,1,F219,F219,SIMDRateRatios_hosp,SIMDrateratios,RateRatios!$B$3)*10))","v":300.57765631588467},{"$f":"IF('III Tool Overview'!$H$6=\"Western Isles Health Board\",0,IF('III Tool Overview'!$H$6=\"Eilean Siar Local Authority\",0,hosp_count(2,B219,C219,D219,$C$1,G219+H219,1,F219,F219,SIMDRateRatios_hosp,SIMDrateratios,RateRatios!$B$3)*10))","v":300.57106259958073},6.5937163039393454E-3,{"$f":"IF('III Tool Overview'!$H$6=\"Western Isles Health Board\",0,IF('III Tool Overview'!$H$6=\"Eilean Siar Local Authority\",0,hosp_count(5,B219,C219,D219,$C$1,G219,1,F219,F219,SIMDRateRatios_hosp,SIMDrateratios,RateRatios!$B$3)*1000))","v":125098.05729690092},{"$f":"IF('III Tool Overview'!$H$6=\"Western Isles Health Board\",0,IF('III Tool Overview'!$H$6=\"Eilean Siar Local Authority\",0,hosp_count(5,B219,C219,D219,$C$1,G219+H219,1,F219,F219,SIMDRateRatios_hosp,SIMDrateratios,RateRatios!$B$3)*1000))","v":125095.31367586498},2.7436210359446704,{"$f":"IF('III Tool Overview'!$H$6=\"Western Isles Health Board\",0,IF('III Tool Overview'!$H$6=\"Eilean Siar Local Authority\",0,hosp_count(10,B219,C219,D219,$C$1,G219,1,F219,F219,SIMDRateRatios_hosp,SIMDrateratios,RateRatios!$B$3)*10))","v":3010.3952909511963},{"$f":"IF('III Tool Overview'!$H$6=\"Western Isles Health Board\",0,IF('III Tool Overview'!$H$6=\"Eilean Siar Local Authority\",0,hosp_count(10,B219,C219,D219,$C$1,G219+H219,1,F219,F219,SIMDRateRatios_hosp,SIMDrateratios,RateRatios!$B$3)*10))","v":3010.3292993506266},6.5991600569759612E-2,{"$f":"IF('III Tool Overview'!$H$6=\"Western Isles Health Board\",0,IF('III Tool Overview'!$H$6=\"Eilean Siar Local Authority\",0,hosp_count(20,B219,C219,D219,$C$1,G219,1,F219,F219,SIMDRateRatios_hosp,SIMDrateratios,RateRatios!$B$3)*10))","v":7298.0332070243585},{"$f":"IF('III Tool Overview'!$H$6=\"Western Isles Health Board\",0,IF('III Tool Overview'!$H$6=\"Eilean Siar Local Authority\",0,hosp_count(20,B219,C219,D219,$C$1,G219+H219,1,F219,F219,SIMDRateRatios_hosp,SIMDrateratios,RateRatios!$B$3)*10))","v":7297.8734626143978},0.15974440996069461]
["Female 15-19",17.5,"female",4,1,{"$f":"HLOOKUP('III Tool Overview'!$H$6,LookUpData_Pop!$B$1:$AV$269,LookUpData_Pop!BB214,FALSE)/50","v":481.54},{"$f":"'III Tool Overview'!$H$9/110","v":0},481.54,{"$f":"IF('III Tool Overview'!$H$6=\"Western Isles Health Board\",0,IF('III Tool Overview'!$H$6=\"Eilean Siar Local Authority\",0,new_ci(2,B220,C220,D220,$C$1,G220,1,F220,E220*F220,SIMDrateratios,RateRatios!$B$3)*10))","v":0.87705082547527446},{"$f":"IF('III Tool Overview'!$H$6=\"Western Isles Health Board\",0,IF('III Tool Overview'!$H$6=\"Eilean Siar Local Authority\",0,new_ci(2,B220,C220,D220,$C$1,G220+H220,1,H220,H220,SIMDrateratios,RateRatios!$B$3)*10))","v":0.87702607368424212},{"$f":"IF('III Tool Overview'!$H$6=\"Western Isles Health Board\",0,IF('III Tool Overview'!$H$6=\"Eilean Siar Local Authority\",0,new_ci(5,B220,C220,D220,$C$1,G220,1,F220,F220,SIMDrateratios,RateRatios!$B$3)*1000))","v":389.4560631144048},{"$f":"IF('III Tool Overview'!$H$6=\"Western Isles Health Board\",0,IF('III Tool Overview'!$H$6=\"Eilean Siar Local Authority\",0,new_ci(5,B220,C220,D220,$C$1,H220,1,F220,F220,SIMDrateratios,RateRatios!$B$3)*1000))","v":389.4450754803031},{"$f":"IF('III Tool Overview'!$H$6=\"Western Isles Health Board\",0,IF('III Tool Overview'!$H$6=\"Eilean Siar Local Authority\",0,new_ci(10,B220,C220,D220,$C$1,G220,1,F220,F220,SIMDrateratios,RateRatios!$B$3)*10))","v":10.507860212588122},{"$f":"IF('III Tool Overview'!$H$6=\"Western Isles Health Board\",0,IF('III Tool Overview'!$H$6=\"Eilean Siar Local Authority\",0,new_ci(10,B220,C220,D220,$C$1,G220+H220,1,F220,F220,SIMDrateratios,RateRatios!$B$3)*10))","v":10.507563960601585},{"$f":"IF('III Tool Overview'!$H$6=\"Western Isles Health Board\",0,IF('III Tool Overview'!$H$6=\"Eilean Siar Local Authority\",0,new_ci(20,B220,C220,D220,$C$1,G220,1,F220,F220,SIMDrateratios,RateRatios!$B$3)*10))","v":32.775057511592649},{"$f":"IF('III Tool Overview'!$H$6=\"Western Isles Health Board\",0,IF('III Tool Overview'!$H$6=\"Eilean Siar Local Authority\",0,new_ci(20,B220,C220,D220,$C$1,G220+H220,1,F220,F220,SIMDrateratios,RateRatios!$B$3)*10))","v":32.774135617443726},{"$f":"IF('III Tool Overview'!$H$6=\"Western Isles Health Board\",0,IF('III Tool Overview'!$H$6=\"Eilean Siar Local Authority\",0,new_yll(2,B220,C220,D220,$C$1,G220,1,F220,F220,SIMDrateratios,RateRatios!$B$3)*10))","v":71.041116863497237},{"$f":"IF('III Tool Overview'!$H$6=\"Western Isles Health Board\",0,IF('III Tool Overview'!$H$6=\"Eilean Siar Local Authority\",0,new_yll(2,B220,C220,D220,$C$1,G220+H220,1,F220,F220,SIMDrateratios,RateRatios!$B$3)*10))","v":71.039111968423612},2.0048950736253346E-3,{"$f":"IF('III Tool Overview'!$H$6=\"Western Isles Health Board\",0,IF('III Tool Overview'!$H$6=\"Eilean Siar Local Authority\",0,new_yll(5,B220,C220,D220,$C$1,G220,1,F220,F220,SIMDrateratios,RateRatios!$B$3)*1000))","v":30928.824652033505},{"$f":"IF('III Tool Overview'!$H$6=\"Western Isles Health Board\",0,IF('III Tool Overview'!$H$6=\"Eilean Siar Local Authority\",0,new_yll(5,B220,C220,D220,$C$1,G220+H220,1,F220,F220,SIMDrateratios,RateRatios!$B$3)*1000))","v":30927.952061464723},0.87259056878247065,{"$f":"IF('III Tool Overview'!$H$6=\"Western Isles Health Board\",0,IF('III Tool Overview'!$H$6=\"Eilean Siar Local Authority\",0,new_yll(10,B220,C220,D220,$C$1,G220,1,F220,F220,SIMDrateratios,RateRatios!$B$3)*10))","v":804.3925369196246},{"$f":"IF('III Tool Overview'!$H$6=\"Western Isles Health Board\",0,IF('III Tool Overview'!$H$6=\"Eilean Siar Local Authority\",0,new_yll(10,B220,C220,D220,$C$1,G220+H220,1,F220,F220,SIMDrateratios,RateRatios!$B$3)*10))","v":804.36985790977758},2.2679009847024645E-2,{"$f":"IF('III Tool Overview'!$H$6=\"Western Isles Health Board\",0,IF('III Tool Overview'!$H$6=\"Eilean Siar Local Authority\",0,new_yll(20,B220,C220,D220,$C$1,G220,1,F220,F220,SIMDrateratios,RateRatios!$B$3)*10))","v":2295.1276255806861},{"$f":"IF('III Tool Overview'!$H$6=\"Western Isles Health Board\",0,IF('III Tool Overview'!$H$6=\"Eilean Siar Local Authority\",0,new_yll(20,B220,C220,D220,$C$1,G220+H220,1,F220,F220,SIMDrateratios,RateRatios!$B$3)*10))","v":2295.0630589679849},6.4566612701128179E-2,{"$f":"IF('III Tool Overview'!$H$6=\"Western Isles Health Board\",0,IF('III Tool Overview'!$H$6=\"Eilean Siar Local Authority\",0,hosp_count(2,B220,C220,D220,$C$1,G220,1,F220,F220,SIMDRateRatios_hosp,SIMDrateratios,RateRatios!$B$3)*10))","v":427.29453416914089},{"$f":"IF('III Tool Overview'!$H$6=\"Western Isles Health Board\",0,IF('III Tool Overview'!$H$6=\"Eilean Siar Local Authority\",0,hosp_count(2,B220,C220,D220,$C$1,G220+H220,1,F220,F220,SIMDRateRatios_hosp,SIMDrateratios,RateRatios!$B$3)*10))","v":427.28515841868284},9.37575045804806E-3,{"$f":"IF('III Tool Overview'!$H$6=\"Western Isles Health Board\",0,IF('III Tool Overview'!$H$6=\"Eilean Siar Local Authority\",0,hosp_count(5,B220,C220,D220,$C$1,G220,1,F220,F220,SIMDRateRatios_hosp,SIMDrateratios,RateRatios!$B$3)*1000))","v":177816.41750635422},{"$f":"IF('III Tool Overview'!$H$6=\"Western Isles Health Board\",0,IF('III Tool Overview'!$H$6=\"Eilean Siar Local Authority\",0,hosp_count(5,B220,C220,D220,$C$1,G220+H220,1,F220,F220,SIMDRateRatios_hosp,SIMDrateratios,RateRatios!$B$3)*1000))","v":177812.51730470866},3.9002016455633566,{"$f":"IF('III Tool Overview'!$H$6=\"Western Isles Health Board\",0,IF('III Tool Overview'!$H$6=\"Eilean Siar Local Authority\",0,hosp_count(10,B220,C220,D220,$C$1,G220,1,F220,F220,SIMDRateRatios_hosp,SIMDrateratios,RateRatios!$B$3)*10))","v":4278.012047047735},{"$f":"IF('III Tool Overview'!$H$6=\"Western Isles Health Board\",0,IF('III Tool Overview'!$H$6=\"Eilean Siar Local Authority\",0,hosp_count(10,B220,C220,D220,$C$1,G220+H220,1,F220,F220,SIMDRateRatios_hosp,SIMDrateratios,RateRatios!$B$3)*10))","v":4277.918287299799},9.3759747936019266E-2,{"$f":"IF('III Tool Overview'!$H$6=\"Western Isles Health Board\",0,IF('III Tool Overview'!$H$6=\"Eilean Siar Local Authority\",0,hosp_count(20,B220,C220,D220,$C$1,G220,1,F220,F220,SIMDRateRatios_hosp,SIMDrateratios,RateRatios!$B$3)*10))","v":10363.498202740248},{"$f":"IF('III Tool Overview'!$H$6=\"Western Isles Health Board\",0,IF('III Tool Overview'!$H$6=\"Eilean Siar Local Authority\",0,hosp_count(20,B220,C220,D220,$C$1,G220+H220,1,F220,F220,SIMDRateRatios_hosp,SIMDrateratios,RateRatios!$B$3)*10))","v":10363.271620663754},0.22658207649328688]
["Female 20-24",22.5,"female",4,1,{"$f":"HLOOKUP('III Tool Overview'!$H$6,LookUpData_Pop!$B$1:$AV$269,LookUpData_Pop!BB215,FALSE)/50","v":628.16},{"$f":"'III Tool Overview'!$H$9/110","v":0},628.16,{"$f":"IF('III Tool Overview'!$H$6=\"Western Isles Health Board\",0,IF('III Tool Overview'!$H$6=\"Eilean Siar Local Authority\",0,new_ci(2,B221,C221,D221,$C$1,G221,1,F221,E221*F221,SIMDrateratios,RateRatios!$B$3)*10))","v":1.5877057899833864},{"$f":"IF('III Tool Overview'!$H$6=\"Western Isles Health Board\",0,IF('III Tool Overview'!$H$6=\"Eilean Siar Local Authority\",0,new_ci(2,B221,C221,D221,$C$1,G221+H221,1,H221,H221,SIMDrateratios,RateRatios!$B$3)*10))","v":1.5876610381071861},{"$f":"IF('III Tool Overview'!$H$6=\"Western Isles Health Board\",0,IF('III Tool Overview'!$H$6=\"Eilean Siar Local Authority\",0,new_ci(5,B221,C221,D221,$C$1,G221,1,F221,F221,SIMDrateratios,RateRatios!$B$3)*1000))","v":704.93805094940603},{"$f":"IF('III Tool Overview'!$H$6=\"Western Isles Health Board\",0,IF('III Tool Overview'!$H$6=\"Eilean Siar Local Authority\",0,new_ci(5,B221,C221,D221,$C$1,H221,1,F221,F221,SIMDrateratios,RateRatios!$B$3)*1000))","v":704.91818985254599},{"$f":"IF('III Tool Overview'!$H$6=\"Western Isles Health Board\",0,IF('III Tool Overview'!$H$6=\"Eilean Siar Local Authority\",0,new_ci(10,B221,C221,D221,$C$1,G221,1,F221,F221,SIMDrateratios,RateRatios!$B$3)*10))","v":19.014767514917498},{"$f":"IF('III Tool Overview'!$H$6=\"Western Isles Health Board\",0,IF('III Tool Overview'!$H$6=\"Eilean Siar Local Authority\",0,new_ci(10,B221,C221,D221,$C$1,G221+H221,1,F221,F221,SIMDrateratios,RateRatios!$B$3)*10))","v":19.014232299427366},{"$f":"IF('III Tool Overview'!$H$6=\"Western Isles Health Board\",0,IF('III Tool Overview'!$H$6=\"Eilean Siar Local Authority\",0,new_ci(20,B221,C221,D221,$C$1,G221,1,F221,F221,SIMDrateratios,RateRatios!$B$3)*10))","v":59.255648112144527},{"$f":"IF('III Tool Overview'!$H$6=\"Western Isles Health Board\",0,IF('III Tool Overview'!$H$6=\"Eilean Siar Local Authority\",0,new_ci(20,B221,C221,D221,$C$1,G221+H221,1,F221,F221,SIMDrateratios,RateRatios!$B$3)*10))","v":59.253985594804625},{"$f":"IF('III Tool Overview'!$H$6=\"Western Isles Health Board\",0,IF('III Tool Overview'!$H$6=\"Eilean Siar Local Authority\",0,new_yll(2,B221,C221,D221,$C$1,G221,1,F221,F221,SIMDrateratios,RateRatios!$B$3)*10))","v":122.25334582872074},{"$f":"IF('III Tool Overview'!$H$6=\"Western Isles Health Board\",0,IF('III Tool Overview'!$H$6=\"Eilean Siar Local Authority\",0,new_yll(2,B221,C221,D221,$C$1,G221+H221,1,F221,F221,SIMDrateratios,RateRatios!$B$3)*10))","v":122.24989993425332},3.4458944674184977E-3,{"$f":"IF('III Tool Overview'!$H$6=\"Western Isles Health Board\",0,IF('III Tool Overview'!$H$6=\"Eilean Siar Local Authority\",0,new_yll(5,B221,C221,D221,$C$1,G221,1,F221,F221,SIMDrateratios,RateRatios!$B$3)*1000))","v":53163.282268616284},{"$f":"IF('III Tool Overview'!$H$6=\"Western Isles Health Board\",0,IF('III Tool Overview'!$H$6=\"Eilean Siar Local Authority\",0,new_yll(5,B221,C221,D221,$C$1,G221+H221,1,F221,F221,SIMDrateratios,RateRatios!$B$3)*1000))","v":53161.784426362239},1.4978422540443717,{"$f":"IF('III Tool Overview'!$H$6=\"Western Isles Health Board\",0,IF('III Tool Overview'!$H$6=\"Eilean Siar Local Authority\",0,new_yll(10,B221,C221,D221,$C$1,G221,1,F221,F221,SIMDrateratios,RateRatios!$B$3)*10))","v":1379.5618219920082},{"$f":"IF('III Tool Overview'!$H$6=\"Western Isles Health Board\",0,IF('III Tool Overview'!$H$6=\"Eilean Siar Local Authority\",0,new_yll(10,B221,C221,D221,$C$1,G221+H221,1,F221,F221,SIMDrateratios,RateRatios!$B$3)*10))","v":1379.5229897816162},3.8832210392001798E-2,{"$f":"IF('III Tool Overview'!$H$6=\"Western Isles Health Board\",0,IF('III Tool Overview'!$H$6=\"Eilean Siar Local Authority\",0,new_yll(20,B221,C221,D221,$C$1,G221,1,F221,F221,SIMDrateratios,RateRatios!$B$3)*10))","v":3912.6869536172171},{"$f":"IF('III Tool Overview'!$H$6=\"Western Isles Health Board\",0,IF('III Tool Overview'!$H$6=\"Eilean Siar Local Authority\",0,new_yll(20,B221,C221,D221,$C$1,G221+H221,1,F221,F221,SIMDrateratios,RateRatios!$B$3)*10))","v":3912.5771528892028},0.10980072801430651,{"$f":"IF('III Tool Overview'!$H$6=\"Western Isles Health Board\",0,IF('III Tool Overview'!$H$6=\"Eilean Siar Local Authority\",0,hosp_count(2,B221,C221,D221,$C$1,G221,1,F221,F221,SIMDRateRatios_hosp,SIMDrateratios,RateRatios!$B$3)*10))","v":615.14775474764303},{"$f":"IF('III Tool Overview'!$H$6=\"Western Isles Health Board\",0,IF('III Tool Overview'!$H$6=\"Eilean Siar Local Authority\",0,hosp_count(2,B221,C221,D221,$C$1,G221+H221,1,F221,F221,SIMDRateRatios_hosp,SIMDrateratios,RateRatios!$B$3)*10))","v":615.13427341448028},1.3481333162758347E-2,{"$f":"IF('III Tool Overview'!$H$6=\"Western Isles Health Board\",0,IF('III Tool Overview'!$H$6=\"Eilean Siar Local Authority\",0,hosp_count(5,B221,C221,D221,$C$1,G221,1,F221,F221,SIMDRateRatios_hosp,SIMDrateratios,RateRatios!$B$3)*1000))","v":255961.52055695825},{"$f":"IF('III Tool Overview'!$H$6=\"Western Isles Health Board\",0,IF('III Tool Overview'!$H$6=\"Eilean Siar Local Authority\",0,hosp_count(5,B221,C221,D221,$C$1,G221+H221,1,F221,F221,SIMDRateRatios_hosp,SIMDrateratios,RateRatios!$B$3)*1000))","v":255955.91393623175},5.6066207264957484,{"$f":"IF('III Tool Overview'!$H$6=\"Western Isles Health Board\",0,IF('III Tool Overview'!$H$6=\"Eilean Siar Local Authority\",0,hosp_count(10,B221,C221,D221,$C$1,G221,1,F221,F221,SIMDRateRatios_hosp,SIMDrateratios,RateRatios!$B$3)*10))","v":6156.6176083572518},{"$f":"IF('III Tool Overview'!$H$6=\"Western Isles Health Board\",0,IF('III Tool Overview'!$H$6=\"Eilean Siar Local Authority\",0,hosp_count(10,B221,C221,D221,$C$1,G221+H221,1,F221,F221,SIMDRateRatios_hosp,SIMDrateratios,RateRatios!$B$3)*10))","v":6156.4828996383767},0.13470871887511748,{"$f":"IF('III Tool Overview'!$H$6=\"Western Isles Health Board\",0,IF('III Tool Overview'!$H$6=\"Eilean Siar Local Authority\",0,hosp_count(20,B221,C221,D221,$C$1,G221,1,F221,F221,SIMDRateRatios_hosp,SIMDrateratios,RateRatios!$B$3)*10))","v":14903.534473715925},{"$f":"IF('III Tool Overview'!$H$6=\"Western Isles Health Board\",0,IF('III Tool Overview'!$H$6=\"Eilean Siar Local Authority\",0,hosp_count(20,B221,C221,D221,$C$1,G221+H221,1,F221,F221,SIMDRateRatios_hosp,SIMDrateratios,RateRatios!$B$3)*10))","v":14903.209477750315},0.32499596560955979]
["Female 25-29",27.5,"female",4,1,{"$f":"HLOOKUP('III Tool Overview'!$H$6,LookUpData_Pop!$B$1:$AV$269,LookUpData_Pop!BB216,FALSE)/50","v":530.12},{"$f":"'III Tool Overview'!$H$9/110","v":0},530.12,{"$f":"IF('III Tool Overview'!$H$6=\"Western Isles Health Board\",0,IF('III Tool Overview'!$H$6=\"Eilean Siar Local Authority\",0,new_ci(2,B222,C222,D222,$C$1,G222,1,F222,E222*F222,SIMDrateratios,RateRatios!$B$3)*10))","v":2.1903985094129936},{"$f":"IF('III Tool Overview'!$H$6=\"Western Isles Health Board\",0,IF('III Tool Overview'!$H$6=\"Eilean Siar Local Authority\",0,new_ci(2,B222,C222,D222,$C$1,G222+H222,1,H222,H222,SIMDrateratios,RateRatios!$B$3)*10))","v":2.1903367729387719},{"$f":"IF('III Tool Overview'!$H$6=\"Western Isles Health Board\",0,IF('III Tool Overview'!$H$6=\"Eilean Siar Local Authority\",0,new_ci(5,B222,C222,D222,$C$1,G222,1,F222,F222,SIMDrateratios,RateRatios!$B$3)*1000))","v":972.26387067456005},{"$f":"IF('III Tool Overview'!$H$6=\"Western Isles Health Board\",0,IF('III Tool Overview'!$H$6=\"Eilean Siar Local Authority\",0,new_ci(5,B222,C222,D222,$C$1,H222,1,F222,F222,SIMDrateratios,RateRatios!$B$3)*1000))","v":972.23648686251886},{"$f":"IF('III Tool Overview'!$H$6=\"Western Isles Health Board\",0,IF('III Tool Overview'!$H$6=\"Eilean Siar Local Authority\",0,new_ci(10,B222,C222,D222,$C$1,G222,1,F222,F222,SIMDrateratios,RateRatios!$B$3)*10))","v":26.209655120614777},{"$f":"IF('III Tool Overview'!$H$6=\"Western Isles Health Board\",0,IF('III Tool Overview'!$H$6=\"Eilean Siar Local Authority\",0,new_ci(10,B222,C222,D222,$C$1,G222+H222,1,F222,F222,SIMDrateratios,RateRatios!$B$3)*10))","v":26.208918077212388},{"$f":"IF('III Tool Overview'!$H$6=\"Western Isles Health Board\",0,IF('III Tool Overview'!$H$6=\"Eilean Siar Local Authority\",0,new_ci(20,B222,C222,D222,$C$1,G222,1,F222,F222,SIMDrateratios,RateRatios!$B$3)*10))","v":81.510542254283408},{"$f":"IF('III Tool Overview'!$H$6=\"Western Isles Health Board\",0,IF('III Tool Overview'!$H$6=\"Eilean Siar Local Authority\",0,new_ci(20,B222,C222,D222,$C$1,G222+H222,1,F222,F222,SIMDrateratios,RateRatios!$B$3)*10))","v":81.508262157921763},{"$f":"IF('III Tool Overview'!$H$6=\"Western Isles Health Board\",0,IF('III Tool Overview'!$H$6=\"Eilean Siar Local Authority\",0,new_yll(2,B222,C222,D222,$C$1,G222,1,F222,F222,SIMDrateratios,RateRatios!$B$3)*10))","v":155.51829416832254},{"$f":"IF('III Tool Overview'!$H$6=\"Western Isles Health Board\",0,IF('III Tool Overview'!$H$6=\"Eilean Siar Local Authority\",0,new_yll(2,B222,C222,D222,$C$1,G222+H222,1,F222,F222,SIMDrateratios,RateRatios!$B$3)*10))","v":155.51391087865281},4.3832896697324486E-3,{"$f":"IF('III Tool Overview'!$H$6=\"Western Isles Health Board\",0,IF('III Tool Overview'!$H$6=\"Eilean Siar Local Authority\",0,new_yll(5,B222,C222,D222,$C$1,G222,1,F222,F222,SIMDrateratios,RateRatios!$B$3)*1000))","v":67490.435471714445},{"$f":"IF('III Tool Overview'!$H$6=\"Western Isles Health Board\",0,IF('III Tool Overview'!$H$6=\"Eilean Siar Local Authority\",0,new_yll(5,B222,C222,D222,$C$1,G222+H222,1,F222,F222,SIMDrateratios,RateRatios!$B$3)*1000))","v":67488.534587914328},1.900883800117299,{"$f":"IF('III Tool Overview'!$H$6=\"Western Isles Health Board\",0,IF('III Tool Overview'!$H$6=\"Eilean Siar Local Authority\",0,new_yll(10,B222,C222,D222,$C$1,G222,1,F222,F222,SIMDrateratios,RateRatios!$B$3)*10))","v":1744.3451795830761},{"$f":"IF('III Tool Overview'!$H$6=\"Western Isles Health Board\",0,IF('III Tool Overview'!$H$6=\"Eilean Siar Local Authority\",0,new_yll(10,B222,C222,D222,$C$1,G222+H222,1,F222,F222,SIMDrateratios,RateRatios!$B$3)*10))","v":1744.2961240616714},4.9055521404625324E-2,{"$f":"IF('III Tool Overview'!$H$6=\"Western Isles Health Board\",0,IF('III Tool Overview'!$H$6=\"Eilean Siar Local Authority\",0,new_yll(20,B222,C222,D222,$C$1,G222,1,F222,F222,SIMDrateratios,RateRatios!$B$3)*10))","v":4893.8618941719278},{"$f":"IF('III Tool Overview'!$H$6=\"Western Isles Health Board\",0,IF('III Tool Overview'!$H$6=\"Eilean Siar Local Authority\",0,new_yll(20,B222,C222,D222,$C$1,G222+H222,1,F222,F222,SIMDrateratios,RateRatios!$B$3)*10))","v":4893.7249447785925},0.13694939333527145,{"$f":"IF('III Tool Overview'!$H$6=\"Western Isles Health Board\",0,IF('III Tool Overview'!$H$6=\"Eilean Siar Local Authority\",0,hosp_count(2,B222,C222,D222,$C$1,G222,1,F222,F222,SIMDRateRatios_hosp,SIMDrateratios,RateRatios!$B$3)*10))","v":601.87270561100922},{"$f":"IF('III Tool Overview'!$H$6=\"Western Isles Health Board\",0,IF('III Tool Overview'!$H$6=\"Eilean Siar Local Authority\",0,hosp_count(2,B222,C222,D222,$C$1,G222+H222,1,F222,F222,SIMDRateRatios_hosp,SIMDrateratios,RateRatios!$B$3)*10))","v":601.85951483451413},1.3190776495093814E-2,{"$f":"IF('III Tool Overview'!$H$6=\"Western Isles Health Board\",0,IF('III Tool Overview'!$H$6=\"Eilean Siar Local Authority\",0,hosp_count(5,B222,C222,D222,$C$1,G222,1,F222,F222,SIMDRateRatios_hosp,SIMDrateratios,RateRatios!$B$3)*1000))","v":250373.25264484601},{"$f":"IF('III Tool Overview'!$H$6=\"Western Isles Health Board\",0,IF('III Tool Overview'!$H$6=\"Eilean Siar Local Authority\",0,hosp_count(5,B222,C222,D222,$C$1,G222+H222,1,F222,F222,SIMDRateRatios_hosp,SIMDrateratios,RateRatios!$B$3)*1000))","v":250367.77009384119},5.4825510048249271,{"$f":"IF('III Tool Overview'!$H$6=\"Western Isles Health Board\",0,IF('III Tool Overview'!$H$6=\"Eilean Siar Local Authority\",0,hosp_count(10,B222,C222,D222,$C$1,G222,1,F222,F222,SIMDRateRatios_hosp,SIMDrateratios,RateRatios!$B$3)*10))","v":6018.9714840402012},{"$f":"IF('III Tool Overview'!$H$6=\"Western Isles Health Board\",0,IF('III Tool Overview'!$H$6=\"Eilean Siar Local Authority\",0,hosp_count(10,B222,C222,D222,$C$1,G222+H222,1,F222,F222,SIMDRateRatios_hosp,SIMDrateratios,RateRatios!$B$3)*10))","v":6018.8399180555907},0.13156598461046087,{"$f":"IF('III Tool Overview'!$H$6=\"Western Isles Health Board\",0,IF('III Tool Overview'!$H$6=\"Eilean Siar Local Authority\",0,hosp_count(20,B222,C222,D222,$C$1,G222,1,F222,F222,SIMDRateRatios_hosp,SIMDrateratios,RateRatios!$B$3)*10))","v":14546.191665274146},{"$f":"IF('III Tool Overview'!$H$6=\"Western Isles Health Board\",0,IF('III Tool Overview'!$H$6=\"Eilean Siar Local Authority\",0,hosp_count(20,B222,C222,D222,$C$1,G222+H222,1,F222,F222,SIMDRateRatios_hosp,SIMDrateratios,RateRatios!$B$3)*10))","v":14545.875456105898},0.31620916824795131]
["Female 30-34",32.5,"female",4,1,{"$f":"HLOOKUP('III Tool Overview'!$H$6,LookUpData_Pop!$B$1:$AV$269,LookUpData_Pop!BB217,FALSE)/50","v":459.18},{"$f":"'III Tool Overview'!$H$9/110","v":0},459.18,{"$f":"IF('III Tool Overview'!$H$6=\"Western Isles Health Board\",0,IF('III Tool Overview'!$H$6=\"Eilean Siar Local Authority\",0,new_ci(2,B223,C223,D223,$C$1,G223,1,F223,E223*F223,SIMDrateratios,RateRatios!$B$3)*10))","v":2.6328117482500097},{"$f":"IF('III Tool Overview'!$H$6=\"Western Isles Health Board\",0,IF('III Tool Overview'!$H$6=\"Eilean Siar Local Authority\",0,new_ci(2,B223,C223,D223,$C$1,G223+H223,1,H223,H223,SIMDrateratios,RateRatios!$B$3)*10))","v":2.6327375605791832},{"$f":"IF('III Tool Overview'!$H$6=\"Western Isles Health Board\",0,IF('III Tool Overview'!$H$6=\"Eilean Siar Local Authority\",0,new_ci(5,B223,C223,D223,$C$1,G223,1,F223,F223,SIMDrateratios,RateRatios!$B$3)*1000))","v":1168.3180675614506},{"$f":"IF('III Tool Overview'!$H$6=\"Western Isles Health Board\",0,IF('III Tool Overview'!$H$6=\"Eilean Siar Local Authority\",0,new_ci(5,B223,C223,D223,$C$1,H223,1,F223,F223,SIMDrateratios,RateRatios!$B$3)*1000))","v":1168.2851790468078},{"$f":"IF('III Tool Overview'!$H$6=\"Western Isles Health Board\",0,IF('III Tool Overview'!$H$6=\"Eilean Siar Local Authority\",0,new_ci(10,B223,C223,D223,$C$1,G223,1,F223,F223,SIMDrateratios,RateRatios!$B$3)*10))","v":31.475731235093036},{"$f":"IF('III Tool Overview'!$H$6=\"Western Isles Health Board\",0,IF('III Tool Overview'!$H$6=\"Eilean Siar Local Authority\",0,new_ci(10,B223,C223,D223,$C$1,G223+H223,1,F223,F223,SIMDrateratios,RateRatios!$B$3)*10))","v":31.474847101550012},{"$f":"IF('III Tool Overview'!$H$6=\"Western Isles Health Board\",0,IF('III Tool Overview'!$H$6=\"Eilean Siar Local Authority\",0,new_ci(20,B223,C223,D223,$C$1,G223,1,F223,F223,SIMDrateratios,RateRatios!$B$3)*10))","v":97.688730412337293},{"$f":"IF('III Tool Overview'!$H$6=\"Western Isles Health Board\",0,IF('III Tool Overview'!$H$6=\"Eilean Siar Local Authority\",0,new_ci(20,B223,C223,D223,$C$1,G223+H223,1,F223,F223,SIMDrateratios,RateRatios!$B$3)*10))","v":97.686006437256083},{"$f":"IF('III Tool Overview'!$H$6=\"Western Isles Health Board\",0,IF('III Tool Overview'!$H$6=\"Eilean Siar Local Authority\",0,new_yll(2,B223,C223,D223,$C$1,G223,1,F223,F223,SIMDrateratios,RateRatios!$B$3)*10))","v":176.39838713275066},{"$f":"IF('III Tool Overview'!$H$6=\"Western Isles Health Board\",0,IF('III Tool Overview'!$H$6=\"Eilean Siar Local Authority\",0,new_yll(2,B223,C223,D223,$C$1,G223+H223,1,F223,F223,SIMDrateratios,RateRatios!$B$3)*10))","v":176.39341655880526},4.9705739453997921E-3,{"$f":"IF('III Tool Overview'!$H$6=\"Western Isles Health Board\",0,IF('III Tool Overview'!$H$6=\"Eilean Siar Local Authority\",0,new_yll(5,B223,C223,D223,$C$1,G223,1,F223,F223,SIMDrateratios,RateRatios!$B$3)*1000))","v":76426.673406094938},{"$f":"IF('III Tool Overview'!$H$6=\"Western Isles Health Board\",0,IF('III Tool Overview'!$H$6=\"Eilean Siar Local Authority\",0,new_yll(5,B223,C223,D223,$C$1,G223+H223,1,F223,F223,SIMDrateratios,RateRatios!$B$3)*1000))","v":76424.521945482396},2.1514606125419959,{"$f":"IF('III Tool Overview'!$H$6=\"Western Isles Health Board\",0,IF('III Tool Overview'!$H$6=\"Eilean Siar Local Authority\",0,new_yll(10,B223,C223,D223,$C$1,G223,1,F223,F223,SIMDrateratios,RateRatios!$B$3)*10))","v":1968.962474607396},{"$f":"IF('III Tool Overview'!$H$6=\"Western Isles Health Board\",0,IF('III Tool Overview'!$H$6=\"Eilean Siar Local Authority\",0,new_yll(10,B223,C223,D223,$C$1,G223+H223,1,F223,F223,SIMDrateratios,RateRatios!$B$3)*10))","v":1968.9071632239848},5.5311383411208226E-2,{"$f":"IF('III Tool Overview'!$H$6=\"Western Isles Health Board\",0,IF('III Tool Overview'!$H$6=\"Eilean Siar Local Authority\",0,new_yll(20,B223,C223,D223,$C$1,G223,1,F223,F223,SIMDrateratios,RateRatios!$B$3)*10))","v":5475.3176742309506},{"$f":"IF('III Tool Overview'!$H$6=\"Western Isles Health Board\",0,IF('III Tool Overview'!$H$6=\"Eilean Siar Local Authority\",0,new_yll(20,B223,C223,D223,$C$1,G223+H223,1,F223,F223,SIMDrateratios,RateRatios!$B$3)*10))","v":5475.164910592247},0.1527636387036182,{"$f":"IF('III Tool Overview'!$H$6=\"Western Isles Health Board\",0,IF('III Tool Overview'!$H$6=\"Eilean Siar Local Authority\",0,hosp_count(2,B223,C223,D223,$C$1,G223,1,F223,F223,SIMDRateRatios_hosp,SIMDrateratios,RateRatios!$B$3)*10))","v":575.34404126327365},{"$f":"IF('III Tool Overview'!$H$6=\"Western Isles Health Board\",0,IF('III Tool Overview'!$H$6=\"Eilean Siar Local Authority\",0,hosp_count(2,B223,C223,D223,$C$1,G223+H223,1,F223,F223,SIMDRateRatios_hosp,SIMDrateratios,RateRatios!$B$3)*10))","v":575.33143398398477},1.2607279288886275E-2,{"$f":"IF('III Tool Overview'!$H$6=\"Western Isles Health Board\",0,IF('III Tool Overview'!$H$6=\"Eilean Siar Local Authority\",0,hosp_count(5,B223,C223,D223,$C$1,G223,1,F223,F223,SIMDRateRatios_hosp,SIMDrateratios,RateRatios!$B$3)*1000))","v":239275.98869329895},{"$f":"IF('III Tool Overview'!$H$6=\"Western Isles Health Board\",0,IF('III Tool Overview'!$H$6=\"Eilean Siar Local Authority\",0,hosp_count(5,B223,C223,D223,$C$1,G223+H223,1,F223,F223,SIMDRateRatios_hosp,SIMDrateratios,RateRatios!$B$3)*1000))","v":239270.75174792088},5.2369453780702315,{"$f":"IF('III Tool Overview'!$H$6=\"Western Isles Health Board\",0,IF('III Tool Overview'!$H$6=\"Eilean Siar Local Authority\",0,hosp_count(10,B223,C223,D223,$C$1,G223,1,F223,F223,SIMDRateRatios_hosp,SIMDrateratios,RateRatios!$B$3)*10))","v":5749.1119313400995},{"$f":"IF('III Tool Overview'!$H$6=\"Western Isles Health Board\",0,IF('III Tool Overview'!$H$6=\"Eilean Siar Local Authority\",0,hosp_count(10,B223,C223,D223,$C$1,G223+H223,1,F223,F223,SIMDRateRatios_hosp,SIMDrateratios,RateRatios!$B$3)*10))","v":5748.9864133078254},0.12551803227415803,{"$f":"IF('III Tool Overview'!$H$6=\"Western Isles Health Board\",0,IF('III Tool Overview'!$H$6=\"Eilean Siar Local Authority\",0,hosp_count(20,B223,C223,D223,$C$1,G223,1,F223,F223,SIMDRateRatios_hosp,SIMDrateratios,RateRatios!$B$3)*10))","v":13871.065208369509},{"$f":"IF('III Tool Overview'!$H$6=\"Western Isles Health Board\",0,IF('III Tool Overview'!$H$6=\"Eilean Siar Local Authority\",0,hosp_count(20,B223,C223,D223,$C$1,G223+H223,1,F223,F223,SIMDRateRatios_hosp,SIMDrateratios,RateRatios!$B$3)*10))","v":13870.764678330752},0.30053003875764261]
["Female 35-39",37.5,"female",4,1,{"$f":"HLOOKUP('III Tool Overview'!$H$6,LookUpData_Pop!$B$1:$AV$269,LookUpData_Pop!BB218,FALSE)/50","v":533.24},{"$f":"'III Tool Overview'!$H$9/110","v":0},533.24,{"$f":"IF('III Tool Overview'!$H$6=\"Western Isles Health Board\",0,IF('III Tool Overview'!$H$6=\"Eilean Siar Local Authority\",0,new_ci(2,B224,C224,D224,$C$1,G224,1,F224,E224*F224,SIMDrateratios,RateRatios!$B$3)*10))","v":4.9976351525456506},{"$f":"IF('III Tool Overview'!$H$6=\"Western Isles Health Board\",0,IF('III Tool Overview'!$H$6=\"Eilean Siar Local Authority\",0,new_ci(2,B224,C224,D224,$C$1,G224+H224,1,H224,H224,SIMDrateratios,RateRatios!$B$3)*10))","v":4.9974943624296655},{"$f":"IF('III Tool Overview'!$H$6=\"Western Isles Health Board\",0,IF('III Tool Overview'!$H$6=\"Eilean Siar Local Authority\",0,new_ci(5,B224,C224,D224,$C$1,G224,1,F224,F224,SIMDrateratios,RateRatios!$B$3)*1000))","v":2216.3271865481702},{"$f":"IF('III Tool Overview'!$H$6=\"Western Isles Health Board\",0,IF('III Tool Overview'!$H$6=\"Eilean Siar Local Authority\",0,new_ci(5,B224,C224,D224,$C$1,H224,1,F224,F224,SIMDrateratios,RateRatios!$B$3)*1000))","v":2216.2648503363416},{"$f":"IF('III Tool Overview'!$H$6=\"Western Isles Health Board\",0,IF('III Tool Overview'!$H$6=\"Eilean Siar Local Authority\",0,new_ci(10,B224,C224,D224,$C$1,G224,1,F224,F224,SIMDrateratios,RateRatios!$B$3)*10))","v":59.628351181324383},{"$f":"IF('III Tool Overview'!$H$6=\"Western Isles Health Board\",0,IF('III Tool Overview'!$H$6=\"Eilean Siar Local Authority\",0,new_ci(10,B224,C224,D224,$C$1,G224+H224,1,F224,F224,SIMDrateratios,RateRatios!$B$3)*10))","v":59.626680013971367},{"$f":"IF('III Tool Overview'!$H$6=\"Western Isles Health Board\",0,IF('III Tool Overview'!$H$6=\"Eilean Siar Local Authority\",0,new_ci(20,B224,C224,D224,$C$1,G224,1,F224,F224,SIMDrateratios,RateRatios!$B$3)*10))","v":184.21189784273946},{"$f":"IF('III Tool Overview'!$H$6=\"Western Isles Health Board\",0,IF('III Tool Overview'!$H$6=\"Eilean Siar Local Authority\",0,new_ci(20,B224,C224,D224,$C$1,G224+H224,1,F224,F224,SIMDrateratios,RateRatios!$B$3)*10))","v":184.20679663969796},{"$f":"IF('III Tool Overview'!$H$6=\"Western Isles Health Board\",0,IF('III Tool Overview'!$H$6=\"Eilean Siar Local Authority\",0,new_yll(2,B224,C224,D224,$C$1,G224,1,F224,F224,SIMDrateratios,RateRatios!$B$3)*10))","v":304.85574430528465},{"$f":"IF('III Tool Overview'!$H$6=\"Western Isles Health Board\",0,IF('III Tool Overview'!$H$6=\"Eilean Siar Local Authority\",0,new_yll(2,B224,C224,D224,$C$1,G224+H224,1,F224,F224,SIMDrateratios,RateRatios!$B$3)*10))","v":304.84715610820962},8.5881970750278924E-3,{"$f":"IF('III Tool Overview'!$H$6=\"Western Isles Health Board\",0,IF('III Tool Overview'!$H$6=\"Eilean Siar Local Authority\",0,new_yll(5,B224,C224,D224,$C$1,G224,1,F224,F224,SIMDrateratios,RateRatios!$B$3)*1000))","v":131686.37261682301},{"$f":"IF('III Tool Overview'!$H$6=\"Western Isles Health Board\",0,IF('III Tool Overview'!$H$6=\"Eilean Siar Local Authority\",0,new_yll(5,B224,C224,D224,$C$1,G224+H224,1,F224,F224,SIMDrateratios,RateRatios!$B$3)*1000))","v":131682.66873712125},3.7038797017594334,{"$f":"IF('III Tool Overview'!$H$6=\"Western Isles Health Board\",0,IF('III Tool Overview'!$H$6=\"Eilean Siar Local Authority\",0,new_yll(10,B224,C224,D224,$C$1,G224,1,F224,F224,SIMDrateratios,RateRatios!$B$3)*10))","v":3372.4682589116496},{"$f":"IF('III Tool Overview'!$H$6=\"Western Isles Health Board\",0,IF('III Tool Overview'!$H$6=\"Eilean Siar Local Authority\",0,new_yll(10,B224,C224,D224,$C$1,G224+H224,1,F224,F224,SIMDrateratios,RateRatios!$B$3)*10))","v":3372.3737269826861},9.4531928963533574E-2,{"$f":"IF('III Tool Overview'!$H$6=\"Western Isles Health Board\",0,IF('III Tool Overview'!$H$6=\"Eilean Siar Local Authority\",0,new_yll(20,B224,C224,D224,$C$1,G224,1,F224,F224,SIMDrateratios,RateRatios!$B$3)*10))","v":9223.3147589631899},{"$f":"IF('III Tool Overview'!$H$6=\"Western Isles Health Board\",0,IF('III Tool Overview'!$H$6=\"Eilean Siar Local Authority\",0,new_yll(20,B224,C224,D224,$C$1,G224+H224,1,F224,F224,SIMDrateratios,RateRatios!$B$3)*10))","v":9223.0590732417095},0.25568572148040403,{"$f":"IF('III Tool Overview'!$H$6=\"Western Isles Health Board\",0,IF('III Tool Overview'!$H$6=\"Eilean Siar Local Authority\",0,hosp_count(2,B224,C224,D224,$C$1,G224,1,F224,F224,SIMDRateRatios_hosp,SIMDrateratios,RateRatios!$B$3)*10))","v":774.61993582176683},{"$f":"IF('III Tool Overview'!$H$6=\"Western Isles Health Board\",0,IF('III Tool Overview'!$H$6=\"Eilean Siar Local Authority\",0,hosp_count(2,B224,C224,D224,$C$1,G224+H224,1,F224,F224,SIMDRateRatios_hosp,SIMDrateratios,RateRatios!$B$3)*10))","v":774.60296287724509},1.6972944521739919E-2,{"$f":"IF('III Tool Overview'!$H$6=\"Western Isles Health Board\",0,IF('III Tool Overview'!$H$6=\"Eilean Siar Local Authority\",0,hosp_count(5,B224,C224,D224,$C$1,G224,1,F224,F224,SIMDRateRatios_hosp,SIMDrateratios,RateRatios!$B$3)*1000))","v":321963.21425773669},{"$f":"IF('III Tool Overview'!$H$6=\"Western Isles Health Board\",0,IF('III Tool Overview'!$H$6=\"Eilean Siar Local Authority\",0,hosp_count(5,B224,C224,D224,$C$1,G224+H224,1,F224,F224,SIMDRateRatios_hosp,SIMDrateratios,RateRatios!$B$3)*1000))","v":321956.17327867087},7.0409790658159181,{"$f":"IF('III Tool Overview'!$H$6=\"Western Isles Health Board\",0,IF('III Tool Overview'!$H$6=\"Eilean Siar Local Authority\",0,hosp_count(10,B224,C224,D224,$C$1,G224,1,F224,F224,SIMDRateRatios_hosp,SIMDrateratios,RateRatios!$B$3)*10))","v":7726.442393501864},{"$f":"IF('III Tool Overview'!$H$6=\"Western Isles Health Board\",0,IF('III Tool Overview'!$H$6=\"Eilean Siar Local Authority\",0,hosp_count(10,B224,C224,D224,$C$1,G224+H224,1,F224,F224,SIMDRateRatios_hosp,SIMDrateratios,RateRatios!$B$3)*10))","v":7726.2741065814507},0.16828692041326576,{"$f":"IF('III Tool Overview'!$H$6=\"Western Isles Health Board\",0,IF('III Tool Overview'!$H$6=\"Eilean Siar Local Authority\",0,hosp_count(20,B224,C224,D224,$C$1,G224,1,F224,F224,SIMDRateRatios_hosp,SIMDrateratios,RateRatios!$B$3)*10))","v":18572.117544751516},{"$f":"IF('III Tool Overview'!$H$6=\"Western Isles Health Board\",0,IF('III Tool Overview'!$H$6=\"Eilean Siar Local Authority\",0,hosp_count(20,B224,C224,D224,$C$1,G224+H224,1,F224,F224,SIMDRateRatios_hosp,SIMDrateratios,RateRatios!$B$3)*10))","v":18571.718073533222},0.39947121829391108]
["Female 40-44",42.5,"female",4,1,{"$f":"HLOOKUP('III Tool Overview'!$H$6,LookUpData_Pop!$B$1:$AV$269,LookUpData_Pop!BB219,FALSE)/50","v":621.96},{"$f":"'III Tool Overview'!$H$9/110","v":0},621.96,{"$f":"IF('III Tool Overview'!$H$6=\"Western Isles Health Board\",0,IF('III Tool Overview'!$H$6=\"Eilean Siar Local Authority\",0,new_ci(2,B225,C225,D225,$C$1,G225,1,F225,E225*F225,SIMDrateratios,RateRatios!$B$3)*10))","v":8.088128368877971},{"$f":"IF('III Tool Overview'!$H$6=\"Western Isles Health Board\",0,IF('III Tool Overview'!$H$6=\"Eilean Siar Local Authority\",0,new_ci(2,B225,C225,D225,$C$1,G225+H225,1,H225,H225,SIMDrateratios,RateRatios!$B$3)*10))","v":8.087900439594284},{"$f":"IF('III Tool Overview'!$H$6=\"Western Isles Health Board\",0,IF('III Tool Overview'!$H$6=\"Eilean Siar Local Authority\",0,new_ci(5,B225,C225,D225,$C$1,G225,1,F225,F225,SIMDrateratios,RateRatios!$B$3)*1000))","v":3584.6426959157789},{"$f":"IF('III Tool Overview'!$H$6=\"Western Isles Health Board\",0,IF('III Tool Overview'!$H$6=\"Eilean Siar Local Authority\",0,new_ci(5,B225,C225,D225,$C$1,H225,1,F225,F225,SIMDrateratios,RateRatios!$B$3)*1000))","v":3584.5419041985656},{"$f":"IF('III Tool Overview'!$H$6=\"Western Isles Health Board\",0,IF('III Tool Overview'!$H$6=\"Eilean Siar Local Authority\",0,new_ci(10,B225,C225,D225,$C$1,G225,1,F225,F225,SIMDrateratios,RateRatios!$B$3)*10))","v":96.309786944104872},{"$f":"IF('III Tool Overview'!$H$6=\"Western Isles Health Board\",0,IF('III Tool Overview'!$H$6=\"Eilean Siar Local Authority\",0,new_ci(10,B225,C225,D225,$C$1,G225+H225,1,F225,F225,SIMDrateratios,RateRatios!$B$3)*10))","v":96.30709223440688},{"$f":"IF('III Tool Overview'!$H$6=\"Western Isles Health Board\",0,IF('III Tool Overview'!$H$6=\"Eilean Siar Local Authority\",0,new_ci(20,B225,C225,D225,$C$1,G225,1,F225,F225,SIMDrateratios,RateRatios!$B$3)*10))","v":296.1695412298011},{"$f":"IF('III Tool Overview'!$H$6=\"Western Isles Health Board\",0,IF('III Tool Overview'!$H$6=\"Eilean Siar Local Authority\",0,new_ci(20,B225,C225,D225,$C$1,G225+H225,1,F225,F225,SIMDrateratios,RateRatios!$B$3)*10))","v":296.16139160308654},{"$f":"IF('III Tool Overview'!$H$6=\"Western Isles Health Board\",0,IF('III Tool Overview'!$H$6=\"Eilean Siar Local Authority\",0,new_yll(2,B225,C225,D225,$C$1,G225,1,F225,F225,SIMDrateratios,RateRatios!$B$3)*10))","v":461.02331702604431},{"$f":"IF('III Tool Overview'!$H$6=\"Western Isles Health Board\",0,IF('III Tool Overview'!$H$6=\"Eilean Siar Local Authority\",0,new_yll(2,B225,C225,D225,$C$1,G225+H225,1,F225,F225,SIMDrateratios,RateRatios!$B$3)*10))","v":461.01032505687414},1.2991969170172979E-2,{"$f":"IF('III Tool Overview'!$H$6=\"Western Isles Health Board\",0,IF('III Tool Overview'!$H$6=\"Eilean Siar Local Authority\",0,new_yll(5,B225,C225,D225,$C$1,G225,1,F225,F225,SIMDrateratios,RateRatios!$B$3)*1000))","v":198650.10471497208},{"$f":"IF('III Tool Overview'!$H$6=\"Western Isles Health Board\",0,IF('III Tool Overview'!$H$6=\"Eilean Siar Local Authority\",0,new_yll(5,B225,C225,D225,$C$1,G225+H225,1,F225,F225,SIMDrateratios,RateRatios!$B$3)*1000))","v":198644.51895944407},5.585755528009031,{"$f":"IF('III Tool Overview'!$H$6=\"Western Isles Health Board\",0,IF('III Tool Overview'!$H$6=\"Eilean Siar Local Authority\",0,new_yll(10,B225,C225,D225,$C$1,G225,1,F225,F225,SIMDrateratios,RateRatios!$B$3)*10))","v":5062.1698538088613},{"$f":"IF('III Tool Overview'!$H$6=\"Western Isles Health Board\",0,IF('III Tool Overview'!$H$6=\"Eilean Siar Local Authority\",0,new_yll(10,B225,C225,D225,$C$1,G225+H225,1,F225,F225,SIMDrateratios,RateRatios!$B$3)*10))","v":5062.0281852994422},0.14166850941910525,{"$f":"IF('III Tool Overview'!$H$6=\"Western Isles Health Board\",0,IF('III Tool Overview'!$H$6=\"Eilean Siar Local Authority\",0,new_yll(20,B225,C225,D225,$C$1,G225,1,F225,F225,SIMDrateratios,RateRatios!$B$3)*10))","v":13650.297530067439},{"$f":"IF('III Tool Overview'!$H$6=\"Western Isles Health Board\",0,IF('III Tool Overview'!$H$6=\"Eilean Siar Local Authority\",0,new_yll(20,B225,C225,D225,$C$1,G225+H225,1,F225,F225,SIMDrateratios,RateRatios!$B$3)*10))","v":13649.921307589048},0.37622247839135525,{"$f":"IF('III Tool Overview'!$H$6=\"Western Isles Health Board\",0,IF('III Tool Overview'!$H$6=\"Eilean Siar Local Authority\",0,hosp_count(2,B225,C225,D225,$C$1,G225,1,F225,F225,SIMDRateRatios_hosp,SIMDrateratios,RateRatios!$B$3)*10))","v":997.10891966709914},{"$f":"IF('III Tool Overview'!$H$6=\"Western Isles Health Board\",0,IF('III Tool Overview'!$H$6=\"Eilean Siar Local Authority\",0,hosp_count(2,B225,C225,D225,$C$1,G225+H225,1,F225,F225,SIMDRateRatios_hosp,SIMDrateratios,RateRatios!$B$3)*10))","v":997.08706045200393},2.1859215095219042E-2,{"$f":"IF('III Tool Overview'!$H$6=\"Western Isles Health Board\",0,IF('III Tool Overview'!$H$6=\"Eilean Siar Local Authority\",0,hosp_count(5,B225,C225,D225,$C$1,G225,1,F225,F225,SIMDRateRatios_hosp,SIMDrateratios,RateRatios!$B$3)*1000))","v":414196.77159326104},{"$f":"IF('III Tool Overview'!$H$6=\"Western Isles Health Board\",0,IF('III Tool Overview'!$H$6=\"Eilean Siar Local Authority\",0,hosp_count(5,B225,C225,D225,$C$1,G225+H225,1,F225,F225,SIMDRateRatios_hosp,SIMDrateratios,RateRatios!$B$3)*1000))","v":414187.71571696398},9.0558762970613316,{"$f":"IF('III Tool Overview'!$H$6=\"Western Isles Health Board\",0,IF('III Tool Overview'!$H$6=\"Eilean Siar Local Authority\",0,hosp_count(10,B225,C225,D225,$C$1,G225,1,F225,F225,SIMDRateRatios_hosp,SIMDrateratios,RateRatios!$B$3)*10))","v":9927.7993616564436},{"$f":"IF('III Tool Overview'!$H$6=\"Western Isles Health Board\",0,IF('III Tool Overview'!$H$6=\"Eilean Siar Local Authority\",0,hosp_count(10,B225,C225,D225,$C$1,G225+H225,1,F225,F225,SIMDRateRatios_hosp,SIMDrateratios,RateRatios!$B$3)*10))","v":9927.5835183388535},0.21584331759004272,{"$f":"IF('III Tool Overview'!$H$6=\"Western Isles Health Board\",0,IF('III Tool Overview'!$H$6=\"Eilean Siar Local Authority\",0,hosp_count(20,B225,C225,D225,$C$1,G225,1,F225,F225,SIMDRateRatios_hosp,SIMDrateratios,RateRatios!$B$3)*10))","v":23774.728154564906},{"$f":"IF('III Tool Overview'!$H$6=\"Western Isles Health Board\",0,IF('III Tool Overview'!$H$6=\"Eilean Siar Local Authority\",0,hosp_count(20,B225,C225,D225,$C$1,G225+H225,1,F225,F225,SIMDRateRatios_hosp,SIMDrateratios,RateRatios!$B$3)*10))","v":23774.220191021734},0.5079635431720817]
["Female 45-49",47.5,"female",4,1,{"$f":"HLOOKUP('III Tool Overview'!$H$6,LookUpData_Pop!$B$1:$AV$269,LookUpData_Pop!BB220,FALSE)/50","v":644.82000000000005},{"$f":"'III Tool Overview'!$H$9/110","v":0},644.82000000000005,{"$f":"IF('III Tool Overview'!$H$6=\"Western Isles Health Board\",0,IF('III Tool Overview'!$H$6=\"Eilean Siar Local Authority\",0,new_ci(2,B226,C226,D226,$C$1,G226,1,F226,E226*F226,SIMDrateratios,RateRatios!$B$3)*10))","v":13.703414022711549},{"$f":"IF('III Tool Overview'!$H$6=\"Western Isles Health Board\",0,IF('III Tool Overview'!$H$6=\"Eilean Siar Local Authority\",0,new_ci(2,B226,C226,D226,$C$1,G226+H226,1,H226,H226,SIMDrateratios,RateRatios!$B$3)*10))","v":13.703027927234242},{"$f":"IF('III Tool Overview'!$H$6=\"Western Isles Health Board\",0,IF('III Tool Overview'!$H$6=\"Eilean Siar Local Authority\",0,new_ci(5,B226,C226,D226,$C$1,G226,1,F226,F226,SIMDrateratios,RateRatios!$B$3)*1000))","v":6064.7110928689044},{"$f":"IF('III Tool Overview'!$H$6=\"Western Isles Health Board\",0,IF('III Tool Overview'!$H$6=\"Eilean Siar Local Authority\",0,new_ci(5,B226,C226,D226,$C$1,H226,1,F226,F226,SIMDrateratios,RateRatios!$B$3)*1000))","v":6064.5408438844515},{"$f":"IF('III Tool Overview'!$H$6=\"Western Isles Health Board\",0,IF('III Tool Overview'!$H$6=\"Eilean Siar Local Authority\",0,new_ci(10,B226,C226,D226,$C$1,G226,1,F226,F226,SIMDrateratios,RateRatios!$B$3)*10))","v":162.43754606799934},{"$f":"IF('III Tool Overview'!$H$6=\"Western Isles Health Board\",0,IF('III Tool Overview'!$H$6=\"Eilean Siar Local Authority\",0,new_ci(10,B226,C226,D226,$C$1,G226+H226,1,F226,F226,SIMDrateratios,RateRatios!$B$3)*10))","v":162.43302269401883},{"$f":"IF('III Tool Overview'!$H$6=\"Western Isles Health Board\",0,IF('III Tool Overview'!$H$6=\"Eilean Siar Local Authority\",0,new_ci(20,B226,C226,D226,$C$1,G226,1,F226,F226,SIMDrateratios,RateRatios!$B$3)*10))","v":494.36340871851235},{"$f":"IF('III Tool Overview'!$H$6=\"Western Isles Health Board\",0,IF('III Tool Overview'!$H$6=\"Eilean Siar Local Authority\",0,new_ci(20,B226,C226,D226,$C$1,G226+H226,1,F226,F226,SIMDrateratios,RateRatios!$B$3)*10))","v":494.35001383776552},{"$f":"IF('III Tool Overview'!$H$6=\"Western Isles Health Board\",0,IF('III Tool Overview'!$H$6=\"Eilean Siar Local Authority\",0,new_yll(2,B226,C226,D226,$C$1,G226,1,F226,F226,SIMDrateratios,RateRatios!$B$3)*10))","v":698.87411515828899},{"$f":"IF('III Tool Overview'!$H$6=\"Western Isles Health Board\",0,IF('III Tool Overview'!$H$6=\"Eilean Siar Local Authority\",0,new_yll(2,B226,C226,D226,$C$1,G226+H226,1,F226,F226,SIMDrateratios,RateRatios!$B$3)*10))","v":698.85442428894635},1.9690869342639417E-2,{"$f":"IF('III Tool Overview'!$H$6=\"Western Isles Health Board\",0,IF('III Tool Overview'!$H$6=\"Eilean Siar Local Authority\",0,new_yll(5,B226,C226,D226,$C$1,G226,1,F226,F226,SIMDrateratios,RateRatios!$B$3)*1000))","v":299706.69576723443},{"$f":"IF('III Tool Overview'!$H$6=\"Western Isles Health Board\",0,IF('III Tool Overview'!$H$6=\"Eilean Siar Local Authority\",0,new_yll(5,B226,C226,D226,$C$1,G226+H226,1,F226,F226,SIMDrateratios,RateRatios!$B$3)*1000))","v":299698.2818767103},8.413890524127055,{"$f":"IF('III Tool Overview'!$H$6=\"Western Isles Health Board\",0,IF('III Tool Overview'!$H$6=\"Eilean Siar Local Authority\",0,new_yll(10,B226,C226,D226,$C$1,G226,1,F226,F226,SIMDrateratios,RateRatios!$B$3)*10))","v":7564.4844629091967},{"$f":"IF('III Tool Overview'!$H$6=\"Western Isles Health Board\",0,IF('III Tool Overview'!$H$6=\"Eilean Siar Local Authority\",0,new_yll(10,B226,C226,D226,$C$1,G226+H226,1,F226,F226,SIMDrateratios,RateRatios!$B$3)*10))","v":7564.2737303260174},0.21073258317937871,{"$f":"IF('III Tool Overview'!$H$6=\"Western Isles Health Board\",0,IF('III Tool Overview'!$H$6=\"Eilean Siar Local Authority\",0,new_yll(20,B226,C226,D226,$C$1,G226,1,F226,F226,SIMDrateratios,RateRatios!$B$3)*10))","v":19841.723477709533},{"$f":"IF('III Tool Overview'!$H$6=\"Western Isles Health Board\",0,IF('III Tool Overview'!$H$6=\"Eilean Siar Local Authority\",0,new_yll(20,B226,C226,D226,$C$1,G226+H226,1,F226,F226,SIMDrateratios,RateRatios!$B$3)*10))","v":19841.18419385107},0.53928385846302263,{"$f":"IF('III Tool Overview'!$H$6=\"Western Isles Health Board\",0,IF('III Tool Overview'!$H$6=\"Eilean Siar Local Authority\",0,hosp_count(2,B226,C226,D226,$C$1,G226,1,F226,F226,SIMDRateRatios_hosp,SIMDrateratios,RateRatios!$B$3)*10))","v":1198.5052477636709},{"$f":"IF('III Tool Overview'!$H$6=\"Western Isles Health Board\",0,IF('III Tool Overview'!$H$6=\"Eilean Siar Local Authority\",0,hosp_count(2,B226,C226,D226,$C$1,G226+H226,1,F226,F226,SIMDRateRatios_hosp,SIMDrateratios,RateRatios!$B$3)*10))","v":1198.4789677741426},2.6279989528347869E-2,{"$f":"IF('III Tool Overview'!$H$6=\"Western Isles Health Board\",0,IF('III Tool Overview'!$H$6=\"Eilean Siar Local Authority\",0,hosp_count(5,B226,C226,D226,$C$1,G226,1,F226,F226,SIMDRateRatios_hosp,SIMDrateratios,RateRatios!$B$3)*1000))","v":497196.9385954882},{"$f":"IF('III Tool Overview'!$H$6=\"Western Isles Health Board\",0,IF('III Tool Overview'!$H$6=\"Eilean Siar Local Authority\",0,hosp_count(5,B226,C226,D226,$C$1,G226+H226,1,F226,F226,SIMDRateRatios_hosp,SIMDrateratios,RateRatios!$B$3)*1000))","v":497186.08425014536},10.854345342842862,{"$f":"IF('III Tool Overview'!$H$6=\"Western Isles Health Board\",0,IF('III Tool Overview'!$H$6=\"Eilean Siar Local Authority\",0,hosp_count(10,B226,C226,D226,$C$1,G226,1,F226,F226,SIMDRateRatios_hosp,SIMDrateratios,RateRatios!$B$3)*10))","v":11884.456706246719},{"$f":"IF('III Tool Overview'!$H$6=\"Western Isles Health Board\",0,IF('III Tool Overview'!$H$6=\"Eilean Siar Local Authority\",0,hosp_count(10,B226,C226,D226,$C$1,G226+H226,1,F226,F226,SIMDRateRatios_hosp,SIMDrateratios,RateRatios!$B$3)*10))","v":11884.199628778653},0.2570774680661998,{"$f":"IF('III Tool Overview'!$H$6=\"Western Isles Health Board\",0,IF('III Tool Overview'!$H$6=\"Eilean Siar Local Authority\",0,hosp_count(20,B226,C226,D226,$C$1,G226,1,F226,F226,SIMDRateRatios_hosp,SIMDrateratios,RateRatios!$B$3)*10))","v":28221.733440098447},{"$f":"IF('III Tool Overview'!$H$6=\"Western Isles Health Board\",0,IF('III Tool Overview'!$H$6=\"Eilean Siar Local Authority\",0,hosp_count(20,B226,C226,D226,$C$1,G226+H226,1,F226,F226,SIMDRateRatios_hosp,SIMDrateratios,RateRatios!$B$3)*10))","v":28221.140161825428},0.59327827301967773]
["Female 50-54",52.5,"female",4,1,{"$f":"HLOOKUP('III Tool Overview'!$H$6,LookUpData_Pop!$B$1:$AV$269,LookUpData_Pop!BB221,FALSE)/50","v":572.64},{"$f":"'III Tool Overview'!$H$9/110","v":0},572.64,{"$f":"IF('III Tool Overview'!$H$6=\"Western Isles Health Board\",0,IF('III Tool Overview'!$H$6=\"Eilean Siar Local Authority\",0,new_ci(2,B227,C227,D227,$C$1,G227,1,F227,E227*F227,SIMDrateratios,RateRatios!$B$3)*10))","v":16.881677108562439},{"$f":"IF('III Tool Overview'!$H$6=\"Western Isles Health Board\",0,IF('III Tool Overview'!$H$6=\"Eilean Siar Local Authority\",0,new_ci(2,B227,C227,D227,$C$1,G227+H227,1,H227,H227,SIMDrateratios,RateRatios!$B$3)*10))","v":16.881201495212359},{"$f":"IF('III Tool Overview'!$H$6=\"Western Isles Health Board\",0,IF('III Tool Overview'!$H$6=\"Eilean Siar Local Authority\",0,new_ci(5,B227,C227,D227,$C$1,G227,1,F227,F227,SIMDrateratios,RateRatios!$B$3)*1000))","v":7460.7373986549001},{"$f":"IF('III Tool Overview'!$H$6=\"Western Isles Health Board\",0,IF('III Tool Overview'!$H$6=\"Eilean Siar Local Authority\",0,new_ci(5,B227,C227,D227,$C$1,H227,1,F227,F227,SIMDrateratios,RateRatios!$B$3)*1000))","v":7460.528271377937},{"$f":"IF('III Tool Overview'!$H$6=\"Western Isles Health Board\",0,IF('III Tool Overview'!$H$6=\"Eilean Siar Local Authority\",0,new_ci(10,B227,C227,D227,$C$1,G227,1,F227,F227,SIMDrateratios,RateRatios!$B$3)*10))","v":199.21166372782577},{"$f":"IF('III Tool Overview'!$H$6=\"Western Isles Health Board\",0,IF('III Tool Overview'!$H$6=\"Eilean Siar Local Authority\",0,new_ci(10,B227,C227,D227,$C$1,G227+H227,1,F227,F227,SIMDrateratios,RateRatios!$B$3)*10))","v":199.20614189472741},{"$f":"IF('III Tool Overview'!$H$6=\"Western Isles Health Board\",0,IF('III Tool Overview'!$H$6=\"Eilean Siar Local Authority\",0,new_ci(20,B227,C227,D227,$C$1,G227,1,F227,F227,SIMDrateratios,RateRatios!$B$3)*10))","v":600.07013667219292},{"$f":"IF('III Tool Overview'!$H$6=\"Western Isles Health Board\",0,IF('III Tool Overview'!$H$6=\"Eilean Siar Local Authority\",0,new_ci(20,B227,C227,D227,$C$1,G227+H227,1,F227,F227,SIMDrateratios,RateRatios!$B$3)*10))","v":600.0541255010753},{"$f":"IF('III Tool Overview'!$H$6=\"Western Isles Health Board\",0,IF('III Tool Overview'!$H$6=\"Eilean Siar Local Authority\",0,new_yll(2,B227,C227,D227,$C$1,G227,1,F227,F227,SIMDrateratios,RateRatios!$B$3)*10))","v":793.43882410243464},{"$f":"IF('III Tool Overview'!$H$6=\"Western Isles Health Board\",0,IF('III Tool Overview'!$H$6=\"Eilean Siar Local Authority\",0,new_yll(2,B227,C227,D227,$C$1,G227+H227,1,F227,F227,SIMDrateratios,RateRatios!$B$3)*10))","v":793.41647027498084},2.2353827453798658E-2,{"$f":"IF('III Tool Overview'!$H$6=\"Western Isles Health Board\",0,IF('III Tool Overview'!$H$6=\"Eilean Siar Local Authority\",0,new_yll(5,B227,C227,D227,$C$1,G227,1,F227,F227,SIMDrateratios,RateRatios!$B$3)*1000))","v":338861.27827101108},{"$f":"IF('III Tool Overview'!$H$6=\"Western Isles Health Board\",0,IF('III Tool Overview'!$H$6=\"Eilean Siar Local Authority\",0,new_yll(5,B227,C227,D227,$C$1,G227+H227,1,F227,F227,SIMDrateratios,RateRatios!$B$3)*1000))","v":338851.77900163888},9.4992693722015247,{"$f":"IF('III Tool Overview'!$H$6=\"Western Isles Health Board\",0,IF('III Tool Overview'!$H$6=\"Eilean Siar Local Authority\",0,new_yll(10,B227,C227,D227,$C$1,G227,1,F227,F227,SIMDrateratios,RateRatios!$B$3)*10))","v":8481.5980745706547},{"$f":"IF('III Tool Overview'!$H$6=\"Western Isles Health Board\",0,IF('III Tool Overview'!$H$6=\"Eilean Siar Local Authority\",0,new_yll(10,B227,C227,D227,$C$1,G227+H227,1,F227,F227,SIMDrateratios,RateRatios!$B$3)*10))","v":8481.362832422039},0.23524214861572545,{"$f":"IF('III Tool Overview'!$H$6=\"Western Isles Health Board\",0,IF('III Tool Overview'!$H$6=\"Eilean Siar Local Authority\",0,new_yll(20,B227,C227,D227,$C$1,G227,1,F227,F227,SIMDrateratios,RateRatios!$B$3)*10))","v":21711.93285200213},{"$f":"IF('III Tool Overview'!$H$6=\"Western Isles Health Board\",0,IF('III Tool Overview'!$H$6=\"Eilean Siar Local Authority\",0,new_yll(20,B227,C227,D227,$C$1,G227+H227,1,F227,F227,SIMDrateratios,RateRatios!$B$3)*10))","v":21711.350716696208},0.58213530592183815,{"$f":"IF('III Tool Overview'!$H$6=\"Western Isles Health Board\",0,IF('III Tool Overview'!$H$6=\"Eilean Siar Local Authority\",0,hosp_count(2,B227,C227,D227,$C$1,G227,1,F227,F227,SIMDRateRatios_hosp,SIMDrateratios,RateRatios!$B$3)*10))","v":1174.6198019362214},{"$f":"IF('III Tool Overview'!$H$6=\"Western Isles Health Board\",0,IF('III Tool Overview'!$H$6=\"Eilean Siar Local Authority\",0,hosp_count(2,B227,C227,D227,$C$1,G227+H227,1,F227,F227,SIMDRateRatios_hosp,SIMDrateratios,RateRatios!$B$3)*10))","v":1174.5940366903376},2.57652458838038E-2,{"$f":"IF('III Tool Overview'!$H$6=\"Western Isles Health Board\",0,IF('III Tool Overview'!$H$6=\"Eilean Siar Local Authority\",0,hosp_count(5,B227,C227,D227,$C$1,G227,1,F227,F227,SIMDRateRatios_hosp,SIMDrateratios,RateRatios!$B$3)*1000))","v":486644.09164479777},{"$f":"IF('III Tool Overview'!$H$6=\"Western Isles Health Board\",0,IF('III Tool Overview'!$H$6=\"Eilean Siar Local Authority\",0,hosp_count(5,B227,C227,D227,$C$1,G227+H227,1,F227,F227,SIMDRateRatios_hosp,SIMDrateratios,RateRatios!$B$3)*1000))","v":486633.48208470648},10.60956009128131,{"$f":"IF('III Tool Overview'!$H$6=\"Western Isles Health Board\",0,IF('III Tool Overview'!$H$6=\"Eilean Siar Local Authority\",0,hosp_count(10,B227,C227,D227,$C$1,G227,1,F227,F227,SIMDRateRatios_hosp,SIMDrateratios,RateRatios!$B$3)*10))","v":11600.359961126836},{"$f":"IF('III Tool Overview'!$H$6=\"Western Isles Health Board\",0,IF('III Tool Overview'!$H$6=\"Eilean Siar Local Authority\",0,hosp_count(10,B227,C227,D227,$C$1,G227+H227,1,F227,F227,SIMDRateRatios_hosp,SIMDrateratios,RateRatios!$B$3)*10))","v":11600.110264156916},0.2496969699204783,{"$f":"IF('III Tool Overview'!$H$6=\"Western Isles Health Board\",0,IF('III Tool Overview'!$H$6=\"Eilean Siar Local Authority\",0,hosp_count(20,B227,C227,D227,$C$1,G227,1,F227,F227,SIMDRateRatios_hosp,SIMDrateratios,RateRatios!$B$3)*10))","v":27318.169677884645},{"$f":"IF('III Tool Overview'!$H$6=\"Western Isles Health Board\",0,IF('III Tool Overview'!$H$6=\"Eilean Siar Local Authority\",0,hosp_count(20,B227,C227,D227,$C$1,G227+H227,1,F227,F227,SIMDRateRatios_hosp,SIMDrateratios,RateRatios!$B$3)*10))","v":27317.604583482083},0.56509440256195376]
["Female 55-59",57.5,"female",4,1,{"$f":"HLOOKUP('III Tool Overview'!$H$6,LookUpData_Pop!$B$1:$AV$269,LookUpData_Pop!BB222,FALSE)/50","v":487.88},{"$f":"'III Tool Overview'!$H$9/110","v":0},487.88,{"$f":"IF('III Tool Overview'!$H$6=\"Western Isles Health Board\",0,IF('III Tool Overview'!$H$6=\"Eilean Siar Local Authority\",0,new_ci(2,B228,C228,D228,$C$1,G228,1,F228,E228*F228,SIMDrateratios,RateRatios!$B$3)*10))","v":23.492228145070506},{"$f":"IF('III Tool Overview'!$H$6=\"Western Isles Health Board\",0,IF('III Tool Overview'!$H$6=\"Eilean Siar Local Authority\",0,new_ci(2,B228,C228,D228,$C$1,G228+H228,1,H228,H228,SIMDrateratios,RateRatios!$B$3)*10))","v":23.491567163652782},{"$f":"IF('III Tool Overview'!$H$6=\"Western Isles Health Board\",0,IF('III Tool Overview'!$H$6=\"Eilean Siar Local Authority\",0,new_ci(5,B228,C228,D228,$C$1,G228,1,F228,F228,SIMDrateratios,RateRatios!$B$3)*1000))","v":10348.904733477835},{"$f":"IF('III Tool Overview'!$H$6=\"Western Isles Health Board\",0,IF('III Tool Overview'!$H$6=\"Eilean Siar Local Authority\",0,new_ci(5,B228,C228,D228,$C$1,H228,1,F228,F228,SIMDrateratios,RateRatios!$B$3)*1000))","v":10348.615968791999},{"$f":"IF('III Tool Overview'!$H$6=\"Western Isles Health Board\",0,IF('III Tool Overview'!$H$6=\"Eilean Siar Local Authority\",0,new_ci(10,B228,C228,D228,$C$1,G228,1,F228,F228,SIMDrateratios,RateRatios!$B$3)*10))","v":274.40165993381959},{"$f":"IF('III Tool Overview'!$H$6=\"Western Isles Health Board\",0,IF('III Tool Overview'!$H$6=\"Eilean Siar Local Authority\",0,new_ci(10,B228,C228,D228,$C$1,G228+H228,1,F228,F228,SIMDrateratios,RateRatios!$B$3)*10))","v":274.39414249421748},{"$f":"IF('III Tool Overview'!$H$6=\"Western Isles Health Board\",0,IF('III Tool Overview'!$H$6=\"Eilean Siar Local Authority\",0,new_ci(20,B228,C228,D228,$C$1,G228,1,F228,F228,SIMDrateratios,RateRatios!$B$3)*10))","v":807.65777492994062},{"$f":"IF('III Tool Overview'!$H$6=\"Western Isles Health Board\",0,IF('III Tool Overview'!$H$6=\"Eilean Siar Local Authority\",0,new_ci(20,B228,C228,D228,$C$1,G228+H228,1,F228,F228,SIMDrateratios,RateRatios!$B$3)*10))","v":807.63699466097046},{"$f":"IF('III Tool Overview'!$H$6=\"Western Isles Health Board\",0,IF('III Tool Overview'!$H$6=\"Eilean Siar Local Authority\",0,new_yll(2,B228,C228,D228,$C$1,G228,1,F228,F228,SIMDrateratios,RateRatios!$B$3)*10))","v":963.18135394789067},{"$f":"IF('III Tool Overview'!$H$6=\"Western Isles Health Board\",0,IF('III Tool Overview'!$H$6=\"Eilean Siar Local Authority\",0,new_yll(2,B228,C228,D228,$C$1,G228+H228,1,F228,F228,SIMDrateratios,RateRatios!$B$3)*10))","v":963.15425370976402},2.7100238126649856E-2,{"$f":"IF('III Tool Overview'!$H$6=\"Western Isles Health Board\",0,IF('III Tool Overview'!$H$6=\"Eilean Siar Local Authority\",0,new_yll(5,B228,C228,D228,$C$1,G228,1,F228,F228,SIMDrateratios,RateRatios!$B$3)*1000))","v":407973.16524846386},{"$f":"IF('III Tool Overview'!$H$6=\"Western Isles Health Board\",0,IF('III Tool Overview'!$H$6=\"Eilean Siar Local Authority\",0,new_yll(5,B228,C228,D228,$C$1,G228+H228,1,F228,F228,SIMDrateratios,RateRatios!$B$3)*1000))","v":407961.7796546914},11.385593772458378,{"$f":"IF('III Tool Overview'!$H$6=\"Western Isles Health Board\",0,IF('III Tool Overview'!$H$6=\"Eilean Siar Local Authority\",0,new_yll(10,B228,C228,D228,$C$1,G228,1,F228,F228,SIMDrateratios,RateRatios!$B$3)*10))","v":10040.977778614422},{"$f":"IF('III Tool Overview'!$H$6=\"Western Isles Health Board\",0,IF('III Tool Overview'!$H$6=\"Eilean Siar Local Authority\",0,new_yll(10,B228,C228,D228,$C$1,G228+H228,1,F228,F228,SIMDrateratios,RateRatios!$B$3)*10))","v":10040.702370540253},0.27540807416880853,{"$f":"IF('III Tool Overview'!$H$6=\"Western Isles Health Board\",0,IF('III Tool Overview'!$H$6=\"Eilean Siar Local Authority\",0,new_yll(20,B228,C228,D228,$C$1,G228,1,F228,F228,SIMDrateratios,RateRatios!$B$3)*10))","v":24462.297761109327},{"$f":"IF('III Tool Overview'!$H$6=\"Western Isles Health Board\",0,IF('III Tool Overview'!$H$6=\"Eilean Siar Local Authority\",0,new_yll(20,B228,C228,D228,$C$1,G228+H228,1,F228,F228,SIMDrateratios,RateRatios!$B$3)*10))","v":24461.662167960476},0.63559314885060303,{"$f":"IF('III Tool Overview'!$H$6=\"Western Isles Health Board\",0,IF('III Tool Overview'!$H$6=\"Eilean Siar Local Authority\",0,hosp_count(2,B228,C228,D228,$C$1,G228,1,F228,F228,SIMDRateRatios_hosp,SIMDrateratios,RateRatios!$B$3)*10))","v":1160.2456435153815},{"$f":"IF('III Tool Overview'!$H$6=\"Western Isles Health Board\",0,IF('III Tool Overview'!$H$6=\"Eilean Siar Local Authority\",0,hosp_count(2,B228,C228,D228,$C$1,G228+H228,1,F228,F228,SIMDRateRatios_hosp,SIMDrateratios,RateRatios!$B$3)*10))","v":1160.2202032998862},2.5440215495336815E-2,{"$f":"IF('III Tool Overview'!$H$6=\"Western Isles Health Board\",0,IF('III Tool Overview'!$H$6=\"Eilean Siar Local Authority\",0,hosp_count(5,B228,C228,D228,$C$1,G228,1,F228,F228,SIMDRateRatios_hosp,SIMDrateratios,RateRatios!$B$3)*1000))","v":479248.40034793154},{"$f":"IF('III Tool Overview'!$H$6=\"Western Isles Health Board\",0,IF('III Tool Overview'!$H$6=\"Eilean Siar Local Authority\",0,hosp_count(5,B228,C228,D228,$C$1,G228+H228,1,F228,F228,SIMDRateRatios_hosp,SIMDrateratios,RateRatios!$B$3)*1000))","v":479237.99644521292},10.403902718622703,{"$f":"IF('III Tool Overview'!$H$6=\"Western Isles Health Board\",0,IF('III Tool Overview'!$H$6=\"Eilean Siar Local Authority\",0,hosp_count(10,B228,C228,D228,$C$1,G228,1,F228,F228,SIMDRateRatios_hosp,SIMDrateratios,RateRatios!$B$3)*10))","v":11353.388650380566},{"$f":"IF('III Tool Overview'!$H$6=\"Western Isles Health Board\",0,IF('III Tool Overview'!$H$6=\"Eilean Siar Local Authority\",0,hosp_count(10,B228,C228,D228,$C$1,G228+H228,1,F228,F228,SIMDRateRatios_hosp,SIMDrateratios,RateRatios!$B$3)*10))","v":11353.147285329478},0.24136505108799611,{"$f":"IF('III Tool Overview'!$H$6=\"Western Isles Health Board\",0,IF('III Tool Overview'!$H$6=\"Eilean Siar Local Authority\",0,hosp_count(20,B228,C228,D228,$C$1,G228,1,F228,F228,SIMDRateRatios_hosp,SIMDrateratios,RateRatios!$B$3)*10))","v":26240.857677708183},{"$f":"IF('III Tool Overview'!$H$6=\"Western Isles Health Board\",0,IF('III Tool Overview'!$H$6=\"Eilean Siar Local Authority\",0,hosp_count(20,B228,C228,D228,$C$1,G228+H228,1,F228,F228,SIMDRateRatios_hosp,SIMDrateratios,RateRatios!$B$3)*10))","v":26240.335157558093},0.52252015009071329]
["Female 60-64",62.5,"female",4,1,{"$f":"HLOOKUP('III Tool Overview'!$H$6,LookUpData_Pop!$B$1:$AV$269,LookUpData_Pop!BB223,FALSE)/50","v":441.06},{"$f":"'III Tool Overview'!$H$9/110","v":0},441.06,{"$f":"IF('III Tool Overview'!$H$6=\"Western Isles Health Board\",0,IF('III Tool Overview'!$H$6=\"Eilean Siar Local Authority\",0,new_ci(2,B229,C229,D229,$C$1,G229,1,F229,E229*F229,SIMDrateratios,RateRatios!$B$3)*10))","v":29.445945534922714},{"$f":"IF('III Tool Overview'!$H$6=\"Western Isles Health Board\",0,IF('III Tool Overview'!$H$6=\"Eilean Siar Local Authority\",0,new_ci(2,B229,C229,D229,$C$1,G229+H229,1,H229,H229,SIMDrateratios,RateRatios!$B$3)*10))","v":29.445118130522058},{"$f":"IF('III Tool Overview'!$H$6=\"Western Isles Health Board\",0,IF('III Tool Overview'!$H$6=\"Eilean Siar Local Authority\",0,new_ci(5,B229,C229,D229,$C$1,G229,1,F229,F229,SIMDrateratios,RateRatios!$B$3)*1000))","v":12930.164031965161},{"$f":"IF('III Tool Overview'!$H$6=\"Western Isles Health Board\",0,IF('III Tool Overview'!$H$6=\"Eilean Siar Local Authority\",0,new_ci(5,B229,C229,D229,$C$1,H229,1,F229,F229,SIMDrateratios,RateRatios!$B$3)*1000))","v":12929.804882872173},{"$f":"IF('III Tool Overview'!$H$6=\"Western Isles Health Board\",0,IF('III Tool Overview'!$H$6=\"Eilean Siar Local Authority\",0,new_ci(10,B229,C229,D229,$C$1,G229,1,F229,F229,SIMDrateratios,RateRatios!$B$3)*10))","v":340.4675516565876},{"$f":"IF('III Tool Overview'!$H$6=\"Western Isles Health Board\",0,IF('III Tool Overview'!$H$6=\"Eilean Siar Local Authority\",0,new_ci(10,B229,C229,D229,$C$1,G229+H229,1,F229,F229,SIMDrateratios,RateRatios!$B$3)*10))","v":340.45833310812736},{"$f":"IF('III Tool Overview'!$H$6=\"Western Isles Health Board\",0,IF('III Tool Overview'!$H$6=\"Eilean Siar Local Authority\",0,new_ci(20,B229,C229,D229,$C$1,G229,1,F229,F229,SIMDrateratios,RateRatios!$B$3)*10))","v":979.58854074791532},{"$f":"IF('III Tool Overview'!$H$6=\"Western Isles Health Board\",0,IF('III Tool Overview'!$H$6=\"Eilean Siar Local Authority\",0,new_ci(20,B229,C229,D229,$C$1,G229+H229,1,F229,F229,SIMDrateratios,RateRatios!$B$3)*10))","v":979.56424589395306},{"$f":"IF('III Tool Overview'!$H$6=\"Western Isles Health Board\",0,IF('III Tool Overview'!$H$6=\"Eilean Siar Local Authority\",0,new_yll(2,B229,C229,D229,$C$1,G229,1,F229,F229,SIMDrateratios,RateRatios!$B$3)*10))","v":1089.4999847921404},{"$f":"IF('III Tool Overview'!$H$6=\"Western Isles Health Board\",0,IF('III Tool Overview'!$H$6=\"Eilean Siar Local Authority\",0,new_yll(2,B229,C229,D229,$C$1,G229+H229,1,F229,F229,SIMDrateratios,RateRatios!$B$3)*10))","v":1089.4693708293162},3.0613962824190821E-2,{"$f":"IF('III Tool Overview'!$H$6=\"Western Isles Health Board\",0,IF('III Tool Overview'!$H$6=\"Eilean Siar Local Authority\",0,new_yll(5,B229,C229,D229,$C$1,G229,1,F229,F229,SIMDrateratios,RateRatios!$B$3)*1000))","v":458044.07871408452},{"$f":"IF('III Tool Overview'!$H$6=\"Western Isles Health Board\",0,IF('III Tool Overview'!$H$6=\"Eilean Siar Local Authority\",0,new_yll(5,B229,C229,D229,$C$1,G229+H229,1,F229,F229,SIMDrateratios,RateRatios!$B$3)*1000))","v":458031.35267090955},12.72604317497462,{"$f":"IF('III Tool Overview'!$H$6=\"Western Isles Health Board\",0,IF('III Tool Overview'!$H$6=\"Eilean Siar Local Authority\",0,new_yll(10,B229,C229,D229,$C$1,G229,1,F229,F229,SIMDrateratios,RateRatios!$B$3)*10))","v":11102.203782697419},{"$f":"IF('III Tool Overview'!$H$6=\"Western Isles Health Board\",0,IF('III Tool Overview'!$H$6=\"Eilean Siar Local Authority\",0,new_yll(10,B229,C229,D229,$C$1,G229+H229,1,F229,F229,SIMDrateratios,RateRatios!$B$3)*10))","v":11101.902613164068},0.30116953335163998,{"$f":"IF('III Tool Overview'!$H$6=\"Western Isles Health Board\",0,IF('III Tool Overview'!$H$6=\"Eilean Siar Local Authority\",0,new_yll(20,B229,C229,D229,$C$1,G229,1,F229,F229,SIMDrateratios,RateRatios!$B$3)*10))","v":25854.870771478556},{"$f":"IF('III Tool Overview'!$H$6=\"Western Isles Health Board\",0,IF('III Tool Overview'!$H$6=\"Eilean Siar Local Authority\",0,new_yll(20,B229,C229,D229,$C$1,G229+H229,1,F229,F229,SIMDrateratios,RateRatios!$B$3)*10))","v":25854.219093437212},0.65167804134398466,{"$f":"IF('III Tool Overview'!$H$6=\"Western Isles Health Board\",0,IF('III Tool Overview'!$H$6=\"Eilean Siar Local Authority\",0,hosp_count(2,B229,C229,D229,$C$1,G229,1,F229,F229,SIMDRateRatios_hosp,SIMDrateratios,RateRatios!$B$3)*10))","v":1157.574098574134},{"$f":"IF('III Tool Overview'!$H$6=\"Western Isles Health Board\",0,IF('III Tool Overview'!$H$6=\"Eilean Siar Local Authority\",0,hosp_count(2,B229,C229,D229,$C$1,G229+H229,1,F229,F229,SIMDRateRatios_hosp,SIMDrateratios,RateRatios!$B$3)*10))","v":1157.548726629826},2.5371944308062666E-2,{"$f":"IF('III Tool Overview'!$H$6=\"Western Isles Health Board\",0,IF('III Tool Overview'!$H$6=\"Eilean Siar Local Authority\",0,hosp_count(5,B229,C229,D229,$C$1,G229,1,F229,F229,SIMDRateRatios_hosp,SIMDrateratios,RateRatios!$B$3)*1000))","v":476716.44528670667},{"$f":"IF('III Tool Overview'!$H$6=\"Western Isles Health Board\",0,IF('III Tool Overview'!$H$6=\"Eilean Siar Local Authority\",0,hosp_count(5,B229,C229,D229,$C$1,G229+H229,1,F229,F229,SIMDRateRatios_hosp,SIMDrateratios,RateRatios!$B$3)*1000))","v":476706.14030537667},10.304981330002192,{"$f":"IF('III Tool Overview'!$H$6=\"Western Isles Health Board\",0,IF('III Tool Overview'!$H$6=\"Eilean Siar Local Authority\",0,hosp_count(10,B229,C229,D229,$C$1,G229,1,F229,F229,SIMDRateRatios_hosp,SIMDrateratios,RateRatios!$B$3)*10))","v":11224.013393150813},{"$f":"IF('III Tool Overview'!$H$6=\"Western Isles Health Board\",0,IF('III Tool Overview'!$H$6=\"Eilean Siar Local Authority\",0,hosp_count(10,B229,C229,D229,$C$1,G229+H229,1,F229,F229,SIMDRateRatios_hosp,SIMDrateratios,RateRatios!$B$3)*10))","v":11223.777729162444},0.23566398836919689,{"$f":"IF('III Tool Overview'!$H$6=\"Western Isles Health Board\",0,IF('III Tool Overview'!$H$6=\"Eilean Siar Local Authority\",0,hosp_count(20,B229,C229,D229,$C$1,G229,1,F229,F229,SIMDRateRatios_hosp,SIMDrateratios,RateRatios!$B$3)*10))","v":25470.159582553933},{"$f":"IF('III Tool Overview'!$H$6=\"Western Isles Health Board\",0,IF('III Tool Overview'!$H$6=\"Eilean Siar Local Authority\",0,hosp_count(20,B229,C229,D229,$C$1,G229+H229,1,F229,F229,SIMDRateRatios_hosp,SIMDrateratios,RateRatios!$B$3)*10))","v":25469.671521936401},0.48806061753202812]
["Female 65-69",67.5,"female",4,1,{"$f":"HLOOKUP('III Tool Overview'!$H$6,LookUpData_Pop!$B$1:$AV$269,LookUpData_Pop!BB224,FALSE)/50","v":336.1},{"$f":"'III Tool Overview'!$H$9/110","v":0},336.1,{"$f":"IF('III Tool Overview'!$H$6=\"Western Isles Health Board\",0,IF('III Tool Overview'!$H$6=\"Eilean Siar Local Authority\",0,new_ci(2,B230,C230,D230,$C$1,G230,1,F230,E230*F230,SIMDrateratios,RateRatios!$B$3)*10))","v":36.606505686439675},{"$f":"IF('III Tool Overview'!$H$6=\"Western Isles Health Board\",0,IF('III Tool Overview'!$H$6=\"Eilean Siar Local Authority\",0,new_ci(2,B230,C230,D230,$C$1,G230+H230,1,H230,H230,SIMDrateratios,RateRatios!$B$3)*10))","v":36.60547943059612},{"$f":"IF('III Tool Overview'!$H$6=\"Western Isles Health Board\",0,IF('III Tool Overview'!$H$6=\"Eilean Siar Local Authority\",0,new_ci(5,B230,C230,D230,$C$1,G230,1,F230,F230,SIMDrateratios,RateRatios!$B$3)*1000))","v":15958.19410957849},{"$f":"IF('III Tool Overview'!$H$6=\"Western Isles Health Board\",0,IF('III Tool Overview'!$H$6=\"Eilean Siar Local Authority\",0,new_ci(5,B230,C230,D230,$C$1,H230,1,F230,F230,SIMDrateratios,RateRatios!$B$3)*1000))","v":15957.755118517473},{"$f":"IF('III Tool Overview'!$H$6=\"Western Isles Health Board\",0,IF('III Tool Overview'!$H$6=\"Eilean Siar Local Authority\",0,new_ci(10,B230,C230,D230,$C$1,G230,1,F230,F230,SIMDrateratios,RateRatios!$B$3)*10))","v":413.66696909246502},{"$f":"IF('III Tool Overview'!$H$6=\"Western Isles Health Board\",0,IF('III Tool Overview'!$H$6=\"Eilean Siar Local Authority\",0,new_ci(10,B230,C230,D230,$C$1,G230+H230,1,F230,F230,SIMDrateratios,RateRatios!$B$3)*10))","v":413.6560572668709},{"$f":"IF('III Tool Overview'!$H$6=\"Western Isles Health Board\",0,IF('III Tool Overview'!$H$6=\"Eilean Siar Local Authority\",0,new_ci(20,B230,C230,D230,$C$1,G230,1,F230,F230,SIMDrateratios,RateRatios!$B$3)*10))","v":1131.8263217814731},{"$f":"IF('III Tool Overview'!$H$6=\"Western Isles Health Board\",0,IF('III Tool Overview'!$H$6=\"Eilean Siar Local Authority\",0,new_ci(20,B230,C230,D230,$C$1,G230+H230,1,F230,F230,SIMDrateratios,RateRatios!$B$3)*10))","v":1131.8005199283707},{"$f":"IF('III Tool Overview'!$H$6=\"Western Isles Health Board\",0,IF('III Tool Overview'!$H$6=\"Eilean Siar Local Authority\",0,new_yll(2,B230,C230,D230,$C$1,G230,1,F230,F230,SIMDrateratios,RateRatios!$B$3)*10))","v":1134.8016762796301},{"$f":"IF('III Tool Overview'!$H$6=\"Western Isles Health Board\",0,IF('III Tool Overview'!$H$6=\"Eilean Siar Local Authority\",0,new_yll(2,B230,C230,D230,$C$1,G230+H230,1,F230,F230,SIMDrateratios,RateRatios!$B$3)*10))","v":1134.7698623484798},3.181393115028186E-2,{"$f":"IF('III Tool Overview'!$H$6=\"Western Isles Health Board\",0,IF('III Tool Overview'!$H$6=\"Eilean Siar Local Authority\",0,new_yll(5,B230,C230,D230,$C$1,G230,1,F230,F230,SIMDrateratios,RateRatios!$B$3)*1000))","v":469655.20515653648},{"$f":"IF('III Tool Overview'!$H$6=\"Western Isles Health Board\",0,IF('III Tool Overview'!$H$6=\"Eilean Siar Local Authority\",0,new_yll(5,B230,C230,D230,$C$1,G230+H230,1,F230,F230,SIMDrateratios,RateRatios!$B$3)*1000))","v":469642.27867597062},12.926480565860402,{"$f":"IF('III Tool Overview'!$H$6=\"Western Isles Health Board\",0,IF('III Tool Overview'!$H$6=\"Eilean Siar Local Authority\",0,new_yll(10,B230,C230,D230,$C$1,G230,1,F230,F230,SIMDrateratios,RateRatios!$B$3)*10))","v":11022.593975793887},{"$f":"IF('III Tool Overview'!$H$6=\"Western Isles Health Board\",0,IF('III Tool Overview'!$H$6=\"Eilean Siar Local Authority\",0,new_yll(10,B230,C230,D230,$C$1,G230+H230,1,F230,F230,SIMDrateratios,RateRatios!$B$3)*10))","v":11022.302096577874},0.29187921601260314,{"$f":"IF('III Tool Overview'!$H$6=\"Western Isles Health Board\",0,IF('III Tool Overview'!$H$6=\"Eilean Siar Local Authority\",0,new_yll(20,B230,C230,D230,$C$1,G230,1,F230,F230,SIMDrateratios,RateRatios!$B$3)*10))","v":23354.148490160514},{"$f":"IF('III Tool Overview'!$H$6=\"Western Isles Health Board\",0,IF('III Tool Overview'!$H$6=\"Eilean Siar Local Authority\",0,new_yll(20,B230,C230,D230,$C$1,G230+H230,1,F230,F230,SIMDrateratios,RateRatios!$B$3)*10))","v":23353.596330000069},0.55216016044505523,{"$f":"IF('III Tool Overview'!$H$6=\"Western Isles Health Board\",0,IF('III Tool Overview'!$H$6=\"Eilean Siar Local Authority\",0,hosp_count(2,B230,C230,D230,$C$1,G230,1,F230,F230,SIMDRateRatios_hosp,SIMDrateratios,RateRatios!$B$3)*10))","v":1022.6827586936942},{"$f":"IF('III Tool Overview'!$H$6=\"Western Isles Health Board\",0,IF('III Tool Overview'!$H$6=\"Eilean Siar Local Authority\",0,hosp_count(2,B230,C230,D230,$C$1,G230+H230,1,F230,F230,SIMDRateRatios_hosp,SIMDrateratios,RateRatios!$B$3)*10))","v":1022.6603469456361},2.2411748058061676E-2,{"$f":"IF('III Tool Overview'!$H$6=\"Western Isles Health Board\",0,IF('III Tool Overview'!$H$6=\"Eilean Siar Local Authority\",0,hosp_count(5,B230,C230,D230,$C$1,G230,1,F230,F230,SIMDRateRatios_hosp,SIMDrateratios,RateRatios!$B$3)*1000))","v":418319.51362922631},{"$f":"IF('III Tool Overview'!$H$6=\"Western Isles Health Board\",0,IF('III Tool Overview'!$H$6=\"Eilean Siar Local Authority\",0,hosp_count(5,B230,C230,D230,$C$1,G230+H230,1,F230,F230,SIMDRateRatios_hosp,SIMDrateratios,RateRatios!$B$3)*1000))","v":418310.55175195006},8.9618772762478329,{"$f":"IF('III Tool Overview'!$H$6=\"Western Isles Health Board\",0,IF('III Tool Overview'!$H$6=\"Eilean Siar Local Authority\",0,hosp_count(10,B230,C230,D230,$C$1,G230,1,F230,F230,SIMDRateRatios_hosp,SIMDrateratios,RateRatios!$B$3)*10))","v":9713.338999577074},{"$f":"IF('III Tool Overview'!$H$6=\"Western Isles Health Board\",0,IF('III Tool Overview'!$H$6=\"Eilean Siar Local Authority\",0,hosp_count(10,B230,C230,D230,$C$1,G230+H230,1,F230,F230,SIMDRateRatios_hosp,SIMDrateratios,RateRatios!$B$3)*10))","v":9713.1406304428256},0.19836913424842351,{"$f":"IF('III Tool Overview'!$H$6=\"Western Isles Health Board\",0,IF('III Tool Overview'!$H$6=\"Eilean Siar Local Authority\",0,hosp_count(20,B230,C230,D230,$C$1,G230,1,F230,F230,SIMDRateRatios_hosp,SIMDrateratios,RateRatios!$B$3)*10))","v":21168.353331702161},{"$f":"IF('III Tool Overview'!$H$6=\"Western Isles Health Board\",0,IF('III Tool Overview'!$H$6=\"Eilean Siar Local Authority\",0,hosp_count(20,B230,C230,D230,$C$1,G230+H230,1,F230,F230,SIMDRateRatios_hosp,SIMDrateratios,RateRatios!$B$3)*10))","v":21167.981852981324},0.37147872083733091]
["Female 70-74",72.5,"female",4,1,{"$f":"HLOOKUP('III Tool Overview'!$H$6,LookUpData_Pop!$B$1:$AV$269,LookUpData_Pop!BB225,FALSE)/50","v":297.66000000000003},{"$f":"'III Tool Overview'!$H$9/110","v":0},297.66000000000003,{"$f":"IF('III Tool Overview'!$H$6=\"Western Isles Health Board\",0,IF('III Tool Overview'!$H$6=\"Eilean Siar Local Authority\",0,new_ci(2,B231,C231,D231,$C$1,G231,1,F231,E231*F231,SIMDrateratios,RateRatios!$B$3)*10))","v":44.8965294340951},{"$f":"IF('III Tool Overview'!$H$6=\"Western Isles Health Board\",0,IF('III Tool Overview'!$H$6=\"Eilean Siar Local Authority\",0,new_ci(2,B231,C231,D231,$C$1,G231+H231,1,H231,H231,SIMDrateratios,RateRatios!$B$3)*10))","v":44.895271635795488},{"$f":"IF('III Tool Overview'!$H$6=\"Western Isles Health Board\",0,IF('III Tool Overview'!$H$6=\"Eilean Siar Local Authority\",0,new_ci(5,B231,C231,D231,$C$1,G231,1,F231,F231,SIMDrateratios,RateRatios!$B$3)*1000))","v":19431.299089686778},{"$f":"IF('III Tool Overview'!$H$6=\"Western Isles Health Board\",0,IF('III Tool Overview'!$H$6=\"Eilean Siar Local Authority\",0,new_ci(5,B231,C231,D231,$C$1,H231,1,F231,F231,SIMDrateratios,RateRatios!$B$3)*1000))","v":19430.768861211855},{"$f":"IF('III Tool Overview'!$H$6=\"Western Isles Health Board\",0,IF('III Tool Overview'!$H$6=\"Eilean Siar Local Authority\",0,new_ci(10,B231,C231,D231,$C$1,G231,1,F231,F231,SIMDrateratios,RateRatios!$B$3)*10))","v":495.96938911786708},{"$f":"IF('III Tool Overview'!$H$6=\"Western Isles Health Board\",0,IF('III Tool Overview'!$H$6=\"Eilean Siar Local Authority\",0,new_ci(10,B231,C231,D231,$C$1,G231+H231,1,F231,F231,SIMDrateratios,RateRatios!$B$3)*10))","v":495.95662536660814},{"$f":"IF('III Tool Overview'!$H$6=\"Western Isles Health Board\",0,IF('III Tool Overview'!$H$6=\"Eilean Siar Local Authority\",0,new_ci(20,B231,C231,D231,$C$1,G231,1,F231,F231,SIMDrateratios,RateRatios!$B$3)*10))","v":1292.9803904004466},{"$f":"IF('III Tool Overview'!$H$6=\"Western Isles Health Board\",0,IF('III Tool Overview'!$H$6=\"Eilean Siar Local Authority\",0,new_ci(20,B231,C231,D231,$C$1,G231+H231,1,F231,F231,SIMDrateratios,RateRatios!$B$3)*10))","v":1292.9533072202457},{"$f":"IF('III Tool Overview'!$H$6=\"Western Isles Health Board\",0,IF('III Tool Overview'!$H$6=\"Eilean Siar Local Authority\",0,new_yll(2,B231,C231,D231,$C$1,G231,1,F231,F231,SIMDrateratios,RateRatios!$B$3)*10))","v":1212.2062947205677},{"$f":"IF('III Tool Overview'!$H$6=\"Western Isles Health Board\",0,IF('III Tool Overview'!$H$6=\"Eilean Siar Local Authority\",0,new_yll(2,B231,C231,D231,$C$1,G231+H231,1,F231,F231,SIMDrateratios,RateRatios!$B$3)*10))","v":1212.1723341664781},3.396055408961729E-2,{"$f":"IF('III Tool Overview'!$H$6=\"Western Isles Health Board\",0,IF('III Tool Overview'!$H$6=\"Eilean Siar Local Authority\",0,new_yll(5,B231,C231,D231,$C$1,G231,1,F231,F231,SIMDrateratios,RateRatios!$B$3)*1000))","v":494258.96198034432},{"$f":"IF('III Tool Overview'!$H$6=\"Western Isles Health Board\",0,IF('III Tool Overview'!$H$6=\"Eilean Siar Local Authority\",0,new_yll(5,B231,C231,D231,$C$1,G231+H231,1,F231,F231,SIMDrateratios,RateRatios!$B$3)*1000))","v":494245.46342367952},13.498556664795615,{"$f":"IF('III Tool Overview'!$H$6=\"Western Isles Health Board\",0,IF('III Tool Overview'!$H$6=\"Eilean Siar Local Authority\",0,new_yll(10,B231,C231,D231,$C$1,G231,1,F231,F231,SIMDrateratios,RateRatios!$B$3)*10))","v":11250.262426668905},{"$f":"IF('III Tool Overview'!$H$6=\"Western Isles Health Board\",0,IF('III Tool Overview'!$H$6=\"Eilean Siar Local Authority\",0,new_yll(10,B231,C231,D231,$C$1,G231+H231,1,F231,F231,SIMDrateratios,RateRatios!$B$3)*10))","v":11249.971031365214},0.29139530369138811,{"$f":"IF('III Tool Overview'!$H$6=\"Western Isles Health Board\",0,IF('III Tool Overview'!$H$6=\"Eilean Siar Local Authority\",0,new_yll(20,B231,C231,D231,$C$1,G231,1,F231,F231,SIMDrateratios,RateRatios!$B$3)*10))","v":21817.991833001048},{"$f":"IF('III Tool Overview'!$H$6=\"Western Isles Health Board\",0,IF('III Tool Overview'!$H$6=\"Eilean Siar Local Authority\",0,new_yll(20,B231,C231,D231,$C$1,G231+H231,1,F231,F231,SIMDrateratios,RateRatios!$B$3)*10))","v":21817.503480725973},0.4883522750751581,{"$f":"IF('III Tool Overview'!$H$6=\"Western Isles Health Board\",0,IF('III Tool Overview'!$H$6=\"Eilean Siar Local Authority\",0,hosp_count(2,B231,C231,D231,$C$1,G231,1,F231,F231,SIMDRateRatios_hosp,SIMDrateratios,RateRatios!$B$3)*10))","v":999.55591950082851},{"$f":"IF('III Tool Overview'!$H$6=\"Western Isles Health Board\",0,IF('III Tool Overview'!$H$6=\"Eilean Siar Local Authority\",0,hosp_count(2,B231,C231,D231,$C$1,G231+H231,1,F231,F231,SIMDRateRatios_hosp,SIMDrateratios,RateRatios!$B$3)*10))","v":999.53398302213668},2.1936478691827688E-2,{"$f":"IF('III Tool Overview'!$H$6=\"Western Isles Health Board\",0,IF('III Tool Overview'!$H$6=\"Eilean Siar Local Authority\",0,hosp_count(5,B231,C231,D231,$C$1,G231,1,F231,F231,SIMDRateRatios_hosp,SIMDrateratios,RateRatios!$B$3)*1000))","v":406111.73790771869},{"$f":"IF('III Tool Overview'!$H$6=\"Western Isles Health Board\",0,IF('III Tool Overview'!$H$6=\"Eilean Siar Local Authority\",0,hosp_count(5,B231,C231,D231,$C$1,G231+H231,1,F231,F231,SIMDRateRatios_hosp,SIMDrateratios,RateRatios!$B$3)*1000))","v":406103.10142879252},8.6364789261715487,{"$f":"IF('III Tool Overview'!$H$6=\"Western Isles Health Board\",0,IF('III Tool Overview'!$H$6=\"Eilean Siar Local Authority\",0,hosp_count(10,B231,C231,D231,$C$1,G231,1,F231,F231,SIMDRateRatios_hosp,SIMDrateratios,RateRatios!$B$3)*10))","v":9301.6869556985912},{"$f":"IF('III Tool Overview'!$H$6=\"Western Isles Health Board\",0,IF('III Tool Overview'!$H$6=\"Eilean Siar Local Authority\",0,hosp_count(10,B231,C231,D231,$C$1,G231+H231,1,F231,F231,SIMDRateRatios_hosp,SIMDrateratios,RateRatios!$B$3)*10))","v":9301.5019244193027},0.18503127928852336,{"$f":"IF('III Tool Overview'!$H$6=\"Western Isles Health Board\",0,IF('III Tool Overview'!$H$6=\"Eilean Siar Local Authority\",0,hosp_count(20,B231,C231,D231,$C$1,G231,1,F231,F231,SIMDRateRatios_hosp,SIMDrateratios,RateRatios!$B$3)*10))","v":19501.975866075485},{"$f":"IF('III Tool Overview'!$H$6=\"Western Isles Health Board\",0,IF('III Tool Overview'!$H$6=\"Eilean Siar Local Authority\",0,hosp_count(20,B231,C231,D231,$C$1,G231+H231,1,F231,F231,SIMDRateRatios_hosp,SIMDrateratios,RateRatios!$B$3)*10))","v":19501.662496560341},0.31336951514458633]
["Female 75-79",77.5,"female",4,1,{"$f":"HLOOKUP('III Tool Overview'!$H$6,LookUpData_Pop!$B$1:$AV$269,LookUpData_Pop!BB226,FALSE)/50","v":257.38},{"$f":"'III Tool Overview'!$H$9/110","v":0},257.38,{"$f":"IF('III Tool Overview'!$H$6=\"Western Isles Health Board\",0,IF('III Tool Overview'!$H$6=\"Eilean Siar Local Authority\",0,new_ci(2,B232,C232,D232,$C$1,G232,1,F232,E232*F232,SIMDrateratios,RateRatios!$B$3)*10))","v":63.163022649432278},{"$f":"IF('III Tool Overview'!$H$6=\"Western Isles Health Board\",0,IF('III Tool Overview'!$H$6=\"Eilean Siar Local Authority\",0,new_ci(2,B232,C232,D232,$C$1,G232+H232,1,H232,H232,SIMDrateratios,RateRatios!$B$3)*10))","v":63.161266257129547},{"$f":"IF('III Tool Overview'!$H$6=\"Western Isles Health Board\",0,IF('III Tool Overview'!$H$6=\"Eilean Siar Local Authority\",0,new_ci(5,B232,C232,D232,$C$1,G232,1,F232,F232,SIMDrateratios,RateRatios!$B$3)*1000))","v":26894.988004392762},{"$f":"IF('III Tool Overview'!$H$6=\"Western Isles Health Board\",0,IF('III Tool Overview'!$H$6=\"Eilean Siar Local Authority\",0,new_ci(5,B232,C232,D232,$C$1,H232,1,F232,F232,SIMDrateratios,RateRatios!$B$3)*1000))","v":26894.271777450682},{"$f":"IF('III Tool Overview'!$H$6=\"Western Isles Health Board\",0,IF('III Tool Overview'!$H$6=\"Eilean Siar Local Authority\",0,new_ci(10,B232,C232,D232,$C$1,G232,1,F232,F232,SIMDrateratios,RateRatios!$B$3)*10))","v":663.23906346007664},{"$f":"IF('III Tool Overview'!$H$6=\"Western Isles Health Board\",0,IF('III Tool Overview'!$H$6=\"Eilean Siar Local Authority\",0,new_ci(10,B232,C232,D232,$C$1,G232+H232,1,F232,F232,SIMDrateratios,RateRatios!$B$3)*10))","v":663.22303379608752},{"$f":"IF('III Tool Overview'!$H$6=\"Western Isles Health Board\",0,IF('III Tool Overview'!$H$6=\"Eilean Siar Local Authority\",0,new_ci(20,B232,C232,D232,$C$1,G232,1,F232,F232,SIMDrateratios,RateRatios!$B$3)*10))","v":1559.9303435734691},{"$f":"IF('III Tool Overview'!$H$6=\"Western Isles Health Board\",0,IF('III Tool Overview'!$H$6=\"Eilean Siar Local Authority\",0,new_ci(20,B232,C232,D232,$C$1,G232+H232,1,F232,F232,SIMDrateratios,RateRatios!$B$3)*10))","v":1559.9037493932506},{"$f":"IF('III Tool Overview'!$H$6=\"Western Isles Health Board\",0,IF('III Tool Overview'!$H$6=\"Eilean Siar Local Authority\",0,new_yll(2,B232,C232,D232,$C$1,G232,1,F232,F232,SIMDrateratios,RateRatios!$B$3)*10))","v":1326.4234756380779},{"$f":"IF('III Tool Overview'!$H$6=\"Western Isles Health Board\",0,IF('III Tool Overview'!$H$6=\"Eilean Siar Local Authority\",0,new_yll(2,B232,C232,D232,$C$1,G232+H232,1,F232,F232,SIMDrateratios,RateRatios!$B$3)*10))","v":1326.3865913997206},3.6884238357288268E-2,{"$f":"IF('III Tool Overview'!$H$6=\"Western Isles Health Board\",0,IF('III Tool Overview'!$H$6=\"Eilean Siar Local Authority\",0,new_yll(5,B232,C232,D232,$C$1,G232,1,F232,F232,SIMDrateratios,RateRatios!$B$3)*1000))","v":523096.5145931759},{"$f":"IF('III Tool Overview'!$H$6=\"Western Isles Health Board\",0,IF('III Tool Overview'!$H$6=\"Eilean Siar Local Authority\",0,new_yll(5,B232,C232,D232,$C$1,G232+H232,1,F232,F232,SIMDrateratios,RateRatios!$B$3)*1000))","v":523082.55821475404},13.95637842186261,{"$f":"IF('III Tool Overview'!$H$6=\"Western Isles Health Board\",0,IF('III Tool Overview'!$H$6=\"Eilean Siar Local Authority\",0,new_yll(10,B232,C232,D232,$C$1,G232,1,F232,F232,SIMDrateratios,RateRatios!$B$3)*10))","v":11121.317014916367},{"$f":"IF('III Tool Overview'!$H$6=\"Western Isles Health Board\",0,IF('III Tool Overview'!$H$6=\"Eilean Siar Local Authority\",0,new_yll(10,B232,C232,D232,$C$1,G232+H232,1,F232,F232,SIMDrateratios,RateRatios!$B$3)*10))","v":11121.044149502806},0.27286541356079397,{"$f":"IF('III Tool Overview'!$H$6=\"Western Isles Health Board\",0,IF('III Tool Overview'!$H$6=\"Eilean Siar Local Authority\",0,new_yll(20,B232,C232,D232,$C$1,G232,1,F232,F232,SIMDrateratios,RateRatios!$B$3)*10))","v":17809.534764984415},{"$f":"IF('III Tool Overview'!$H$6=\"Western Isles Health Board\",0,IF('III Tool Overview'!$H$6=\"Eilean Siar Local Authority\",0,new_yll(20,B232,C232,D232,$C$1,G232+H232,1,F232,F232,SIMDrateratios,RateRatios!$B$3)*10))","v":17809.170176384625},0.36458859979029512,{"$f":"IF('III Tool Overview'!$H$6=\"Western Isles Health Board\",0,IF('III Tool Overview'!$H$6=\"Eilean Siar Local Authority\",0,hosp_count(2,B232,C232,D232,$C$1,G232,1,F232,F232,SIMDRateRatios_hosp,SIMDrateratios,RateRatios!$B$3)*10))","v":1002.0345793246939},{"$f":"IF('III Tool Overview'!$H$6=\"Western Isles Health Board\",0,IF('III Tool Overview'!$H$6=\"Eilean Siar Local Authority\",0,hosp_count(2,B232,C232,D232,$C$1,G232+H232,1,F232,F232,SIMDRateRatios_hosp,SIMDrateratios,RateRatios!$B$3)*10))","v":1002.0126459696797},2.1933355014198241E-2,{"$f":"IF('III Tool Overview'!$H$6=\"Western Isles Health Board\",0,IF('III Tool Overview'!$H$6=\"Eilean Siar Local Authority\",0,hosp_count(5,B232,C232,D232,$C$1,G232,1,F232,F232,SIMDRateRatios_hosp,SIMDrateratios,RateRatios!$B$3)*1000))","v":400967.11959375622},{"$f":"IF('III Tool Overview'!$H$6=\"Western Isles Health Board\",0,IF('III Tool Overview'!$H$6=\"Eilean Siar Local Authority\",0,hosp_count(5,B232,C232,D232,$C$1,G232+H232,1,F232,F232,SIMDRateRatios_hosp,SIMDrateratios,RateRatios!$B$3)*1000))","v":400958.78357780847},8.3360159477451816,{"$f":"IF('III Tool Overview'!$H$6=\"Western Isles Health Board\",0,IF('III Tool Overview'!$H$6=\"Eilean Siar Local Authority\",0,hosp_count(10,B232,C232,D232,$C$1,G232,1,F232,F232,SIMDRateRatios_hosp,SIMDrateratios,RateRatios!$B$3)*10))","v":8908.3341840944304},{"$f":"IF('III Tool Overview'!$H$6=\"Western Isles Health Board\",0,IF('III Tool Overview'!$H$6=\"Eilean Siar Local Authority\",0,hosp_count(10,B232,C232,D232,$C$1,G232+H232,1,F232,F232,SIMDRateRatios_hosp,SIMDrateratios,RateRatios!$B$3)*10))","v":8908.1683697956851},0.1658142987453175,{"$f":"IF('III Tool Overview'!$H$6=\"Western Isles Health Board\",0,IF('III Tool Overview'!$H$6=\"Eilean Siar Local Authority\",0,hosp_count(20,B232,C232,D232,$C$1,G232,1,F232,F232,SIMDRateRatios_hosp,SIMDrateratios,RateRatios!$B$3)*10))","v":17210.814780690678},{"$f":"IF('III Tool Overview'!$H$6=\"Western Isles Health Board\",0,IF('III Tool Overview'!$H$6=\"Eilean Siar Local Authority\",0,hosp_count(20,B232,C232,D232,$C$1,G232+H232,1,F232,F232,SIMDRateRatios_hosp,SIMDrateratios,RateRatios!$B$3)*10))","v":17210.591289382195},0.22349130848306231]
["Female 80-84",82.5,"female",4,1,{"$f":"HLOOKUP('III Tool Overview'!$H$6,LookUpData_Pop!$B$1:$AV$269,LookUpData_Pop!BB227,FALSE)/50","v":196.3},{"$f":"'III Tool Overview'!$H$9/110","v":0},196.3,{"$f":"IF('III Tool Overview'!$H$6=\"Western Isles Health Board\",0,IF('III Tool Overview'!$H$6=\"Eilean Siar Local Authority\",0,new_ci(2,B233,C233,D233,$C$1,G233,1,F233,E233*F233,SIMDrateratios,RateRatios!$B$3)*10))","v":66.53484796672528},{"$f":"IF('III Tool Overview'!$H$6=\"Western Isles Health Board\",0,IF('III Tool Overview'!$H$6=\"Eilean Siar Local Authority\",0,new_ci(2,B233,C233,D233,$C$1,G233+H233,1,H233,H233,SIMDrateratios,RateRatios!$B$3)*10))","v":66.533006844289844},{"$f":"IF('III Tool Overview'!$H$6=\"Western Isles Health Board\",0,IF('III Tool Overview'!$H$6=\"Eilean Siar Local Authority\",0,new_ci(5,B233,C233,D233,$C$1,G233,1,F233,F233,SIMDrateratios,RateRatios!$B$3)*1000))","v":27877.246742650517},{"$f":"IF('III Tool Overview'!$H$6=\"Western Isles Health Board\",0,IF('III Tool Overview'!$H$6=\"Eilean Siar Local Authority\",0,new_ci(5,B233,C233,D233,$C$1,H233,1,F233,F233,SIMDrateratios,RateRatios!$B$3)*1000))","v":27876.520454214689},{"$f":"IF('III Tool Overview'!$H$6=\"Western Isles Health Board\",0,IF('III Tool Overview'!$H$6=\"Eilean Siar Local Authority\",0,new_ci(10,B233,C233,D233,$C$1,G233,1,F233,F233,SIMDrateratios,RateRatios!$B$3)*10))","v":664.86034311880439},{"$f":"IF('III Tool Overview'!$H$6=\"Western Isles Health Board\",0,IF('III Tool Overview'!$H$6=\"Eilean Siar Local Authority\",0,new_ci(10,B233,C233,D233,$C$1,G233+H233,1,F233,F233,SIMDrateratios,RateRatios!$B$3)*10))","v":664.84522889704226},{"$f":"IF('III Tool Overview'!$H$6=\"Western Isles Health Board\",0,IF('III Tool Overview'!$H$6=\"Eilean Siar Local Authority\",0,new_ci(20,B233,C233,D233,$C$1,G233,1,F233,F233,SIMDrateratios,RateRatios!$B$3)*10))","v":1424.1945186747271},{"$f":"IF('III Tool Overview'!$H$6=\"Western Isles Health Board\",0,IF('III Tool Overview'!$H$6=\"Eilean Siar Local Authority\",0,new_ci(20,B233,C233,D233,$C$1,G233+H233,1,F233,F233,SIMDrateratios,RateRatios!$B$3)*10))","v":1424.1749059090605},{"$f":"IF('III Tool Overview'!$H$6=\"Western Isles Health Board\",0,IF('III Tool Overview'!$H$6=\"Eilean Siar Local Authority\",0,new_yll(2,B233,C233,D233,$C$1,G233,1,F233,F233,SIMDrateratios,RateRatios!$B$3)*10))","v":1131.09241543433},{"$f":"IF('III Tool Overview'!$H$6=\"Western Isles Health Board\",0,IF('III Tool Overview'!$H$6=\"Eilean Siar Local Authority\",0,new_yll(2,B233,C233,D233,$C$1,G233+H233,1,F233,F233,SIMDrateratios,RateRatios!$B$3)*10))","v":1131.0611163529275},3.1299081402494267E-2,{"$f":"IF('III Tool Overview'!$H$6=\"Western Isles Health Board\",0,IF('III Tool Overview'!$H$6=\"Eilean Siar Local Authority\",0,new_yll(5,B233,C233,D233,$C$1,G233,1,F233,F233,SIMDrateratios,RateRatios!$B$3)*1000))","v":431064.05691680958},{"$f":"IF('III Tool Overview'!$H$6=\"Western Isles Health Board\",0,IF('III Tool Overview'!$H$6=\"Eilean Siar Local Authority\",0,new_yll(5,B233,C233,D233,$C$1,G233+H233,1,F233,F233,SIMDrateratios,RateRatios!$B$3)*1000))","v":431052.78888747346},11.268029336119071,{"$f":"IF('III Tool Overview'!$H$6=\"Western Isles Health Board\",0,IF('III Tool Overview'!$H$6=\"Eilean Siar Local Authority\",0,new_yll(10,B233,C233,D233,$C$1,G233,1,F233,F233,SIMDrateratios,RateRatios!$B$3)*10))","v":8545.3129481012147},{"$f":"IF('III Tool Overview'!$H$6=\"Western Isles Health Board\",0,IF('III Tool Overview'!$H$6=\"Eilean Siar Local Authority\",0,new_yll(10,B233,C233,D233,$C$1,G233+H233,1,F233,F233,SIMDrateratios,RateRatios!$B$3)*10))","v":8545.1130258241465},0.19992227706825361,{"$f":"IF('III Tool Overview'!$H$6=\"Western Isles Health Board\",0,IF('III Tool Overview'!$H$6=\"Eilean Siar Local Authority\",0,new_yll(20,B233,C233,D233,$C$1,G233,1,F233,F233,SIMDrateratios,RateRatios!$B$3)*10))","v":11321.553100802977},{"$f":"IF('III Tool Overview'!$H$6=\"Western Isles Health Board\",0,IF('III Tool Overview'!$H$6=\"Eilean Siar Local Authority\",0,new_yll(20,B233,C233,D233,$C$1,G233+H233,1,F233,F233,SIMDrateratios,RateRatios!$B$3)*10))","v":11321.321732423576},0.23136837940182886,{"$f":"IF('III Tool Overview'!$H$6=\"Western Isles Health Board\",0,IF('III Tool Overview'!$H$6=\"Eilean Siar Local Authority\",0,hosp_count(2,B233,C233,D233,$C$1,G233,1,F233,F233,SIMDRateRatios_hosp,SIMDrateratios,RateRatios!$B$3)*10))","v":843.41711212181826},{"$f":"IF('III Tool Overview'!$H$6=\"Western Isles Health Board\",0,IF('III Tool Overview'!$H$6=\"Eilean Siar Local Authority\",0,hosp_count(2,B233,C233,D233,$C$1,G233+H233,1,F233,F233,SIMDRateRatios_hosp,SIMDrateratios,RateRatios!$B$3)*10))","v":843.39865167483356},1.8460446984704504E-2,{"$f":"IF('III Tool Overview'!$H$6=\"Western Isles Health Board\",0,IF('III Tool Overview'!$H$6=\"Eilean Siar Local Authority\",0,hosp_count(5,B233,C233,D233,$C$1,G233,1,F233,F233,SIMDRateRatios_hosp,SIMDrateratios,RateRatios!$B$3)*1000))","v":332447.66869875113},{"$f":"IF('III Tool Overview'!$H$6=\"Western Isles Health Board\",0,IF('III Tool Overview'!$H$6=\"Eilean Siar Local Authority\",0,hosp_count(5,B233,C233,D233,$C$1,G233+H233,1,F233,F233,SIMDRateRatios_hosp,SIMDrateratios,RateRatios!$B$3)*1000))","v":332440.89476217318},6.7739365779561922,{"$f":"IF('III Tool Overview'!$H$6=\"Western Isles Health Board\",0,IF('III Tool Overview'!$H$6=\"Eilean Siar Local Authority\",0,hosp_count(10,B233,C233,D233,$C$1,G233,1,F233,F233,SIMDRateRatios_hosp,SIMDrateratios,RateRatios!$B$3)*10))","v":7171.0530030164573},{"$f":"IF('III Tool Overview'!$H$6=\"Western Isles Health Board\",0,IF('III Tool Overview'!$H$6=\"Eilean Siar Local Authority\",0,hosp_count(10,B233,C233,D233,$C$1,G233+H233,1,F233,F233,SIMDRateRatios_hosp,SIMDrateratios,RateRatios!$B$3)*10))","v":7170.927911958247},0.12509105821027333,{"$f":"IF('III Tool Overview'!$H$6=\"Western Isles Health Board\",0,IF('III Tool Overview'!$H$6=\"Eilean Siar Local Authority\",0,hosp_count(20,B233,C233,D233,$C$1,G233,1,F233,F233,SIMDRateRatios_hosp,SIMDrateratios,RateRatios!$B$3)*10))","v":12872.060826917859},{"$f":"IF('III Tool Overview'!$H$6=\"Western Isles Health Board\",0,IF('III Tool Overview'!$H$6=\"Eilean Siar Local Authority\",0,hosp_count(20,B233,C233,D233,$C$1,G233+H233,1,F233,F233,SIMDRateRatios_hosp,SIMDrateratios,RateRatios!$B$3)*10))","v":12871.926635358521},0.13419155933843285]
["Female 85-89",87.5,"female",4,1,{"$f":"HLOOKUP('III Tool Overview'!$H$6,LookUpData_Pop!$B$1:$AV$269,LookUpData_Pop!BB228,FALSE)/50","v":126.74},{"$f":"'III Tool Overview'!$H$9/110","v":0},126.74,{"$f":"IF('III Tool Overview'!$H$6=\"Western Isles Health Board\",0,IF('III Tool Overview'!$H$6=\"Eilean Siar Local Authority\",0,new_ci(2,B234,C234,D234,$C$1,G234,1,F234,E234*F234,SIMDrateratios,RateRatios!$B$3)*10))","v":69.471848759557417},{"$f":"IF('III Tool Overview'!$H$6=\"Western Isles Health Board\",0,IF('III Tool Overview'!$H$6=\"Eilean Siar Local Authority\",0,new_ci(2,B234,C234,D234,$C$1,G234+H234,1,H234,H234,SIMDrateratios,RateRatios!$B$3)*10))","v":69.469940633784347},{"$f":"IF('III Tool Overview'!$H$6=\"Western Isles Health Board\",0,IF('III Tool Overview'!$H$6=\"Eilean Siar Local Authority\",0,new_ci(5,B234,C234,D234,$C$1,G234,1,F234,F234,SIMDrateratios,RateRatios!$B$3)*1000))","v":28075.094908075942},{"$f":"IF('III Tool Overview'!$H$6=\"Western Isles Health Board\",0,IF('III Tool Overview'!$H$6=\"Eilean Siar Local Authority\",0,new_ci(5,B234,C234,D234,$C$1,H234,1,F234,F234,SIMDrateratios,RateRatios!$B$3)*1000))","v":28074.396820427773},{"$f":"IF('III Tool Overview'!$H$6=\"Western Isles Health Board\",0,IF('III Tool Overview'!$H$6=\"Eilean Siar Local Authority\",0,new_ci(10,B234,C234,D234,$C$1,G234,1,F234,F234,SIMDrateratios,RateRatios!$B$3)*10))","v":622.79699612845195},{"$f":"IF('III Tool Overview'!$H$6=\"Western Isles Health Board\",0,IF('III Tool Overview'!$H$6=\"Eilean Siar Local Authority\",0,new_ci(10,B234,C234,D234,$C$1,G234+H234,1,F234,F234,SIMDrateratios,RateRatios!$B$3)*10))","v":622.78468220088928},{"$f":"IF('III Tool Overview'!$H$6=\"Western Isles Health Board\",0,IF('III Tool Overview'!$H$6=\"Eilean Siar Local Authority\",0,new_ci(20,B234,C234,D234,$C$1,G234,1,F234,F234,SIMDrateratios,RateRatios!$B$3)*10))","v":1114.3083142117748},{"$f":"IF('III Tool Overview'!$H$6=\"Western Isles Health Board\",0,IF('III Tool Overview'!$H$6=\"Eilean Siar Local Authority\",0,new_ci(20,B234,C234,D234,$C$1,G234+H234,1,F234,F234,SIMDrateratios,RateRatios!$B$3)*10))","v":1114.2991709373532},{"$f":"IF('III Tool Overview'!$H$6=\"Western Isles Health Board\",0,IF('III Tool Overview'!$H$6=\"Eilean Siar Local Authority\",0,new_yll(2,B234,C234,D234,$C$1,G234,1,F234,F234,SIMDrateratios,RateRatios!$B$3)*10))","v":764.19033635513165},{"$f":"IF('III Tool Overview'!$H$6=\"Western Isles Health Board\",0,IF('III Tool Overview'!$H$6=\"Eilean Siar Local Authority\",0,new_yll(2,B234,C234,D234,$C$1,G234+H234,1,F234,F234,SIMDrateratios,RateRatios!$B$3)*10))","v":764.16934697162776},2.0989383503888348E-2,{"$f":"IF('III Tool Overview'!$H$6=\"Western Isles Health Board\",0,IF('III Tool Overview'!$H$6=\"Eilean Siar Local Authority\",0,new_yll(5,B234,C234,D234,$C$1,G234,1,F234,F234,SIMDrateratios,RateRatios!$B$3)*1000))","v":266523.65444558894},{"$f":"IF('III Tool Overview'!$H$6=\"Western Isles Health Board\",0,IF('III Tool Overview'!$H$6=\"Eilean Siar Local Authority\",0,new_yll(5,B234,C234,D234,$C$1,G234+H234,1,F234,F234,SIMDrateratios,RateRatios!$B$3)*1000))","v":266516.96545640909},6.688989179849159,{"$f":"IF('III Tool Overview'!$H$6=\"Western Isles Health Board\",0,IF('III Tool Overview'!$H$6=\"Eilean Siar Local Authority\",0,new_yll(10,B234,C234,D234,$C$1,G234,1,F234,F234,SIMDrateratios,RateRatios!$B$3)*10))","v":4387.0610545778609},{"$f":"IF('III Tool Overview'!$H$6=\"Western Isles Health Board\",0,IF('III Tool Overview'!$H$6=\"Eilean Siar Local Authority\",0,new_yll(10,B234,C234,D234,$C$1,G234+H234,1,F234,F234,SIMDrateratios,RateRatios!$B$3)*10))","v":4386.9656858808767},9.5368696984223789E-2,{"$f":"IF('III Tool Overview'!$H$6=\"Western Isles Health Board\",0,IF('III Tool Overview'!$H$6=\"Eilean Siar Local Authority\",0,new_yll(20,B234,C234,D234,$C$1,G234,1,F234,F234,SIMDrateratios,RateRatios!$B$3)*10))","v":3449.1512292729026},{"$f":"IF('III Tool Overview'!$H$6=\"Western Isles Health Board\",0,IF('III Tool Overview'!$H$6=\"Eilean Siar Local Authority\",0,new_yll(20,B234,C234,D234,$C$1,G234+H234,1,F234,F234,SIMDrateratios,RateRatios!$B$3)*10))","v":3449.0346466465667},0.11658262633591221,{"$f":"IF('III Tool Overview'!$H$6=\"Western Isles Health Board\",0,IF('III Tool Overview'!$H$6=\"Eilean Siar Local Authority\",0,hosp_count(2,B234,C234,D234,$C$1,G234,1,F234,F234,SIMDRateRatios_hosp,SIMDrateratios,RateRatios!$B$3)*10))","v":631.33098671601851},{"$f":"IF('III Tool Overview'!$H$6=\"Western Isles Health Board\",0,IF('III Tool Overview'!$H$6=\"Eilean Siar Local Authority\",0,hosp_count(2,B234,C234,D234,$C$1,G234+H234,1,F234,F234,SIMDRateRatios_hosp,SIMDrateratios,RateRatios!$B$3)*10))","v":631.31711880148873},1.3867914529782865E-2,{"$f":"IF('III Tool Overview'!$H$6=\"Western Isles Health Board\",0,IF('III Tool Overview'!$H$6=\"Eilean Siar Local Authority\",0,hosp_count(5,B234,C234,D234,$C$1,G234,1,F234,F234,SIMDRateRatios_hosp,SIMDrateratios,RateRatios!$B$3)*1000))","v":240592.45749218014},{"$f":"IF('III Tool Overview'!$H$6=\"Western Isles Health Board\",0,IF('III Tool Overview'!$H$6=\"Eilean Siar Local Authority\",0,hosp_count(5,B234,C234,D234,$C$1,G234+H234,1,F234,F234,SIMDRateRatios_hosp,SIMDrateratios,RateRatios!$B$3)*1000))","v":240587.75733504019},4.7001571399450768,{"$f":"IF('III Tool Overview'!$H$6=\"Western Isles Health Board\",0,IF('III Tool Overview'!$H$6=\"Eilean Siar Local Authority\",0,hosp_count(10,B234,C234,D234,$C$1,G234,1,F234,F234,SIMDRateRatios_hosp,SIMDrateratios,RateRatios!$B$3)*10))","v":4868.503940144733},{"$f":"IF('III Tool Overview'!$H$6=\"Western Isles Health Board\",0,IF('III Tool Overview'!$H$6=\"Eilean Siar Local Authority\",0,hosp_count(10,B234,C234,D234,$C$1,G234+H234,1,F234,F234,SIMDRateRatios_hosp,SIMDrateratios,RateRatios!$B$3)*10))","v":4868.4306772998907},7.3262844842247432E-2,{"$f":"IF('III Tool Overview'!$H$6=\"Western Isles Health Board\",0,IF('III Tool Overview'!$H$6=\"Eilean Siar Local Authority\",0,hosp_count(20,B234,C234,D234,$C$1,G234,1,F234,F234,SIMDRateRatios_hosp,SIMDrateratios,RateRatios!$B$3)*10))","v":7598.7505041595841},{"$f":"IF('III Tool Overview'!$H$6=\"Western Isles Health Board\",0,IF('III Tool Overview'!$H$6=\"Eilean Siar Local Authority\",0,hosp_count(20,B234,C234,D234,$C$1,G234+H234,1,F234,F234,SIMDRateRatios_hosp,SIMDrateratios,RateRatios!$B$3)*10))","v":7598.7038697560993},4.6634403484858922E-2]
["Female 90+",95,"female",4,1,{"$f":"HLOOKUP('III Tool Overview'!$H$6,LookUpData_Pop!$B$1:$AV$269,LookUpData_Pop!BB229,FALSE)/50","v":74.599999999999994},{"$f":"'III Tool Overview'!$H$9/110","v":0},74.599999999999994,{"$f":"IF('III Tool Overview'!$H$6=\"Western Isles Health Board\",0,IF('III Tool Overview'!$H$6=\"Eilean Siar Local Authority\",0,new_ci(2,B235,C235,D235,$C$1,G235,1,F235,E235*F235,SIMDrateratios,RateRatios!$B$3)*10))","v":71.013644347874717},{"$f":"IF('III Tool Overview'!$H$6=\"Western Isles Health Board\",0,IF('III Tool Overview'!$H$6=\"Eilean Siar Local Authority\",0,new_ci(2,B235,C235,D235,$C$1,G235+H235,1,H235,H235,SIMDrateratios,RateRatios!$B$3)*10))","v":71.011730230249071},{"$f":"IF('III Tool Overview'!$H$6=\"Western Isles Health Board\",0,IF('III Tool Overview'!$H$6=\"Eilean Siar Local Authority\",0,new_ci(5,B235,C235,D235,$C$1,G235,1,F235,F235,SIMDrateratios,RateRatios!$B$3)*1000))","v":26762.861566146476},{"$f":"IF('III Tool Overview'!$H$6=\"Western Isles Health Board\",0,IF('III Tool Overview'!$H$6=\"Eilean Siar Local Authority\",0,new_ci(5,B235,C235,D235,$C$1,H235,1,F235,F235,SIMDrateratios,RateRatios!$B$3)*1000))","v":26762.258991623239},{"$f":"IF('III Tool Overview'!$H$6=\"Western Isles Health Board\",0,IF('III Tool Overview'!$H$6=\"Eilean Siar Local Authority\",0,new_ci(10,B235,C235,D235,$C$1,G235,1,F235,F235,SIMDrateratios,RateRatios!$B$3)*10))","v":521.23885611077037},{"$f":"IF('III Tool Overview'!$H$6=\"Western Isles Health Board\",0,IF('III Tool Overview'!$H$6=\"Eilean Siar Local Authority\",0,new_ci(10,B235,C235,D235,$C$1,G235+H235,1,F235,F235,SIMDrateratios,RateRatios!$B$3)*10))","v":521.23121201985737},{"$f":"IF('III Tool Overview'!$H$6=\"Western Isles Health Board\",0,IF('III Tool Overview'!$H$6=\"Eilean Siar Local Authority\",0,new_ci(20,B235,C235,D235,$C$1,G235,1,F235,F235,SIMDrateratios,RateRatios!$B$3)*10))","v":728.46695208008907},{"$f":"IF('III Tool Overview'!$H$6=\"Western Isles Health Board\",0,IF('III Tool Overview'!$H$6=\"Eilean Siar Local Authority\",0,new_ci(20,B235,C235,D235,$C$1,G235+H235,1,F235,F235,SIMDrateratios,RateRatios!$B$3)*10))","v":728.46508778469513},{"$f":"IF('III Tool Overview'!$H$6=\"Western Isles Health Board\",0,IF('III Tool Overview'!$H$6=\"Eilean Siar Local Authority\",0,new_yll(2,B235,C235,D235,$C$1,G235,1,F235,F235,SIMDrateratios,RateRatios!$B$3)*10))","v":284.05457739149887},{"$f":"IF('III Tool Overview'!$H$6=\"Western Isles Health Board\",0,IF('III Tool Overview'!$H$6=\"Eilean Siar Local Authority\",0,new_yll(2,B235,C235,D235,$C$1,G235+H235,1,F235,F235,SIMDrateratios,RateRatios!$B$3)*10))","v":284.04692092099629},7.6564705025816693E-3,{"$f":"IF('III Tool Overview'!$H$6=\"Western Isles Health Board\",0,IF('III Tool Overview'!$H$6=\"Eilean Siar Local Authority\",0,new_yll(5,B235,C235,D235,$C$1,G235,1,F235,F235,SIMDrateratios,RateRatios!$B$3)*1000))","v":68339.713578997515},{"$f":"IF('III Tool Overview'!$H$6=\"Western Isles Health Board\",0,IF('III Tool Overview'!$H$6=\"Eilean Siar Local Authority\",0,new_yll(5,B235,C235,D235,$C$1,G235+H235,1,F235,F235,SIMDrateratios,RateRatios!$B$3)*1000))","v":68338.070374452742},1.6432045447727432,{"$f":"IF('III Tool Overview'!$H$6=\"Western Isles Health Board\",0,IF('III Tool Overview'!$H$6=\"Eilean Siar Local Authority\",0,new_yll(10,B235,C235,D235,$C$1,G235,1,F235,F235,SIMDrateratios,RateRatios!$B$3)*10))","v":217.73200712212378},{"$f":"IF('III Tool Overview'!$H$6=\"Western Isles Health Board\",0,IF('III Tool Overview'!$H$6=\"Eilean Siar Local Authority\",0,new_yll(10,B235,C235,D235,$C$1,G235+H235,1,F235,F235,SIMDrateratios,RateRatios!$B$3)*10))","v":217.71642421906216},1.5582903061613251E-2,{"$f":"IF('III Tool Overview'!$H$6=\"Western Isles Health Board\",0,IF('III Tool Overview'!$H$6=\"Eilean Siar Local Authority\",0,new_yll(20,B235,C235,D235,$C$1,G235,1,F235,F235,SIMDrateratios,RateRatios!$B$3)*10))","v":-1466.1227480491391},{"$f":"IF('III Tool Overview'!$H$6=\"Western Isles Health Board\",0,IF('III Tool Overview'!$H$6=\"Eilean Siar Local Authority\",0,new_yll(20,B235,C235,D235,$C$1,G235+H235,1,F235,F235,SIMDrateratios,RateRatios!$B$3)*10))","v":-1466.1948805389247},7.2132489785644793E-2,{"$f":"IF('III Tool Overview'!$H$6=\"Western Isles Health Board\",0,IF('III Tool Overview'!$H$6=\"Eilean Siar Local Authority\",0,hosp_count(2,B235,C235,D235,$C$1,G235,1,F235,F235,SIMDRateRatios_hosp,SIMDrateratios,RateRatios!$B$3)*10))","v":441.5776396974689},{"$f":"IF('III Tool Overview'!$H$6=\"Western Isles Health Board\",0,IF('III Tool Overview'!$H$6=\"Eilean Siar Local Authority\",0,hosp_count(2,B235,C235,D235,$C$1,G235+H235,1,F235,F235,SIMDRateRatios_hosp,SIMDrateratios,RateRatios!$B$3)*10))","v":441.56790788924275},9.7318082261494965E-3,{"$f":"IF('III Tool Overview'!$H$6=\"Western Isles Health Board\",0,IF('III Tool Overview'!$H$6=\"Eilean Siar Local Authority\",0,hosp_count(5,B235,C235,D235,$C$1,G235,1,F235,F235,SIMDRateRatios_hosp,SIMDrateratios,RateRatios!$B$3)*1000))","v":157649.06682726101},{"$f":"IF('III Tool Overview'!$H$6=\"Western Isles Health Board\",0,IF('III Tool Overview'!$H$6=\"Eilean Siar Local Authority\",0,hosp_count(5,B235,C235,D235,$C$1,G235+H235,1,F235,F235,SIMDRateRatios_hosp,SIMDrateratios,RateRatios!$B$3)*1000))","v":157646.24675257265},2.8200746883521788,{"$f":"IF('III Tool Overview'!$H$6=\"Western Isles Health Board\",0,IF('III Tool Overview'!$H$6=\"Eilean Siar Local Authority\",0,hosp_count(10,B235,C235,D235,$C$1,G235,1,F235,F235,SIMDRateRatios_hosp,SIMDrateratios,RateRatios!$B$3)*10))","v":2845.0940250614685},{"$f":"IF('III Tool Overview'!$H$6=\"Western Isles Health Board\",0,IF('III Tool Overview'!$H$6=\"Eilean Siar Local Authority\",0,hosp_count(10,B235,C235,D235,$C$1,G235+H235,1,F235,F235,SIMDRateRatios_hosp,SIMDrateratios,RateRatios!$B$3)*10))","v":2845.0627401543434},3.1284907125154859E-2,{"$f":"IF('III Tool Overview'!$H$6=\"Western Isles Health Board\",0,IF('III Tool Overview'!$H$6=\"Eilean Siar Local Authority\",0,hosp_count(20,B235,C235,D235,$C$1,G235,1,F235,F235,SIMDRateRatios_hosp,SIMDrateratios,RateRatios!$B$3)*10))","v":3677.1916628966956},{"$f":"IF('III Tool Overview'!$H$6=\"Western Isles Health Board\",0,IF('III Tool Overview'!$H$6=\"Eilean Siar Local Authority\",0,hosp_count(20,B235,C235,D235,$C$1,G235+H235,1,F235,F235,SIMDRateRatios_hosp,SIMDrateratios,RateRatios!$B$3)*10))","v":3677.1849930392964},6.6698573991743615E-3]
["TOTAL",null,null,null,null,{"$f":"SUM(F216:F235)","v":7807.920000000001},{"$f":"SUM(G216:G235)","v":0},{"$f":"SUM(H216:H235)","v":7807.920000000001},{"$f":"SUM(I216:I235)","v":456.48350959108097},{"$f":"SUM(J216:J235)","v":456.47085614967},{"$f":"SUM(K216:K235)","v":191239.90960862016},{"$f":"SUM(L216:L235)","v":191234.90439916524},{"$f":"SUM(M216:M235)","v":4612.2259023540028},{"$f":"SUM(N216:N235)","v":4612.1172209873075},{"$f":"SUM(O216:O235)","v":10918.692210909678},{"$f":"SUM(P216:P235)","v":10918.485842093411},{"$f":"SUM(Q216:Q235)","v":10770.125353825288},{"$f":"SUM(R216:R235)","v":10769.824314194637},{"$f":"SUM(S216:S235)","v":0.30103963065252293},{"$f":"SUM(T216:T235)","v":4351330.3896052791},{"$f":"SUM(U216:U235)","v":4351211.6707301112},{"$f":"SUM(V216:V235)","v":118.71887516798597},{"$f":"SUM(W216:W235)","v":98991.653528809766},{"$f":"SUM(X216:X235)","v":98989.035773013718},{"$f":"SUM(Y216:Y235)","v":2.6177557960508437},{"$f":"SUM(Z216:Z235)","v":210280.09784481092},{"$f":"SUM(AA216:AA235)","v":210274.6927228267},{"$f":"SUM(AB216:AB235)","v":5.4051219842043849},{"$f":"SUM(AC216:AC235)","v":14389.698945736835},{"$f":"SUM(AD216:AD235)","v":14389.383444689325},{"$f":"SUM(AE216:AE235)","v":0.31550104751189423},{"$f":"SUM(AF216:AF235)","v":5874617.5672857938},{"$f":"SUM(AG216:AG235)","v":5874491.8455630895},{"$f":"SUM(AH216:AH235)","v":125.72172270329975},{"$f":"SUM(AI216:AI235)","v":136407.71221638896},{"$f":"SUM(AJ216:AJ235)","v":136404.91153805735},{"$f":"SUM(AK216:AK235)","v":2.8006783316002952},{"$f":"SUM(AL216:AL235)","v":303936.36960962968},{"$f":"SUM(AM216:AM235)","v":303930.62130276021},{"$f":"SUM(AN216:AN235)","v":5.7483068695059956}]
["age/sex breakdown: Q5"]
["Male <1",0.5,"male",5,1,{"$f":"HLOOKUP('III Tool Overview'!$H$6,LookUpData_Pop!$B$1:$AV$269,LookUpData_Pop!BB231,FALSE)/50","v":95.4},0,{"$f":"F238","v":95.4},{"$f":"IF('III Tool Overview'!$H$6=\"Western Isles Health Board\",0,IF('III Tool Overview'!$H$6=\"Eilean Siar Local Authority\",0,new_ci(2,B238,C238,D238,$C$1,G238,1,F238,E238*F238,SIMDrateratios,RateRatios!$B$3)*10))","v":8.374849740185919E-2},{"$f":"IF('III Tool Overview'!$H$6=\"Western Isles Health Board\",0,IF('III Tool Overview'!$H$6=\"Eilean Siar Local Authority\",0,new_ci(2,B238,C238,D238,$C$1,G238+H238,1,H238,H238,SIMDrateratios,RateRatios!$B$3)*10))","v":8.3747560538322441E-2},{"$f":"IF('III Tool Overview'!$H$6=\"Western Isles Health Board\",0,IF('III Tool Overview'!$H$6=\"Eilean Siar Local Authority\",0,new_ci(5,B238,C238,D238,$C$1,G238,1,F238,F238,SIMDrateratios,RateRatios!$B$3)*1000))","v":36.639531896639156},{"$f":"IF('III Tool Overview'!$H$6=\"Western Isles Health Board\",0,IF('III Tool Overview'!$H$6=\"Eilean Siar Local Authority\",0,new_ci(5,B238,C238,D238,$C$1,H238,1,F238,F238,SIMDrateratios,RateRatios!$B$3)*1000))","v":36.639122084448857},{"$f":"IF('III Tool Overview'!$H$6=\"Western Isles Health Board\",0,IF('III Tool Overview'!$H$6=\"Eilean Siar Local Authority\",0,new_ci(10,B238,C238,D238,$C$1,G238,1,F238,F238,SIMDrateratios,RateRatios!$B$3)*10))","v":0.96253846810216825},{"$f":"IF('III Tool Overview'!$H$6=\"Western Isles Health Board\",0,IF('III Tool Overview'!$H$6=\"Eilean Siar Local Authority\",0,new_ci(10,B238,C238,D238,$C$1,G238+H238,1,F238,F238,SIMDrateratios,RateRatios!$B$3)*10))","v":0.96252770550105238},{"$f":"IF('III Tool Overview'!$H$6=\"Western Isles Health Board\",0,IF('III Tool Overview'!$H$6=\"Eilean Siar Local Authority\",0,new_ci(20,B238,C238,D238,$C$1,G238,1,F238,F238,SIMDrateratios,RateRatios!$B$3)*10))","v":2.8275954035924404},{"$f":"IF('III Tool Overview'!$H$6=\"Western Isles Health Board\",0,IF('III Tool Overview'!$H$6=\"Eilean Siar Local Authority\",0,new_ci(20,B238,C238,D238,$C$1,G238+H238,1,F238,F238,SIMDrateratios,RateRatios!$B$3)*10))","v":2.8275638178625866},{"$f":"IF('III Tool Overview'!$H$6=\"Western Isles Health Board\",0,IF('III Tool Overview'!$H$6=\"Eilean Siar Local Authority\",0,new_yll(2,B238,C238,D238,$C$1,G238,1,F238,F238,SIMDrateratios,RateRatios!$B$3)*10))","v":8.2911012427840607},{"$f":"IF('III Tool Overview'!$H$6=\"Western Isles Health Board\",0,IF('III Tool Overview'!$H$6=\"Eilean Siar Local Authority\",0,new_yll(2,B238,C238,D238,$C$1,G238+H238,1,F238,F238,SIMDrateratios,RateRatios!$B$3)*10))","v":8.2910084932939228},{"$f":"Q238-R238","v":9.2749490137933321E-5},{"$f":"IF('III Tool Overview'!$H$6=\"Western Isles Health Board\",0,IF('III Tool Overview'!$H$6=\"Eilean Siar Local Authority\",0,new_yll(5,B238,C238,D238,$C$1,G238,1,F238,F238,SIMDrateratios,RateRatios!$B$3)*1000))","v":3569.6861252902531},{"$f":"IF('III Tool Overview'!$H$6=\"Western Isles Health Board\",0,IF('III Tool Overview'!$H$6=\"Eilean Siar Local Authority\",0,new_yll(5,B238,C238,D238,$C$1,G238+H238,1,F238,F238,SIMDrateratios,RateRatios!$B$3)*1000))","v":3569.6461983967456},{"$f":"T238-U238","v":3.9926893507526984E-2},{"$f":"IF('III Tool Overview'!$H$6=\"Western Isles Health Board\",0,IF('III Tool Overview'!$H$6=\"Eilean Siar Local Authority\",0,new_yll(10,B238,C238,D238,$C$1,G238,1,F238,F238,SIMDrateratios,RateRatios!$B$3)*10))","v":91.068782414322328},{"$f":"IF('III Tool Overview'!$H$6=\"Western Isles Health Board\",0,IF('III Tool Overview'!$H$6=\"Eilean Siar Local Authority\",0,new_yll(10,B238,C238,D238,$C$1,G238+H238,1,F238,F238,SIMDrateratios,RateRatios!$B$3)*10))","v":91.06776412291029},{"$f":"W238-X238","v":1.0182914120377973E-3},{"$f":"IF('III Tool Overview'!$H$6=\"Western Isles Health Board\",0,IF('III Tool Overview'!$H$6=\"Eilean Siar Local Authority\",0,new_yll(20,B238,C238,D238,$C$1,G238,1,F238,F238,SIMDrateratios,RateRatios!$B$3)*10))","v":249.64048653648501},{"$f":"IF('III Tool Overview'!$H$6=\"Western Isles Health Board\",0,IF('III Tool Overview'!$H$6=\"Eilean Siar Local Authority\",0,new_yll(20,B238,C238,D238,$C$1,G238+H238,1,F238,F238,SIMDrateratios,RateRatios!$B$3)*10))","v":249.63769777838931},{"$f":"Z238-AA238","v":2.7887580957042246E-3},{"$f":"IF('III Tool Overview'!$H$6=\"Western Isles Health Board\",0,IF('III Tool Overview'!$H$6=\"Eilean Siar Local Authority\",0,hosp_count(2,B238,C238,D238,$C$1,G238,1,F238,F238,SIMDRateRatios_hosp,SIMDrateratios,RateRatios!$B$3)*10))","v":27.686766586724509},{"$f":"IF('III Tool Overview'!$H$6=\"Western Isles Health Board\",0,IF('III Tool Overview'!$H$6=\"Eilean Siar Local Authority\",0,hosp_count(2,B238,C238,D238,$C$1,G238+H238,1,F238,F238,SIMDRateRatios_hosp,SIMDrateratios,RateRatios!$B$3)*10))","v":27.686525791943737},{"$f":"AC238-AD238","v":2.4079478077254635E-4},{"$f":"IF('III Tool Overview'!$H$6=\"Western Isles Health Board\",0,IF('III Tool Overview'!$H$6=\"Eilean Siar Local Authority\",0,hosp_count(5,B238,C238,D238,$C$1,G238,1,F238,F238,SIMDRateRatios_hosp,SIMDrateratios,RateRatios!$B$3)*1000))","v":11706.632408102878},{"$f":"IF('III Tool Overview'!$H$6=\"Western Isles Health Board\",0,IF('III Tool Overview'!$H$6=\"Eilean Siar Local Authority\",0,hosp_count(5,B238,C238,D238,$C$1,G238+H238,1,F238,F238,SIMDRateRatios_hosp,SIMDrateratios,RateRatios!$B$3)*1000))","v":11706.530612767932},{"$f":"AF238-AG238","v":0.10179533494556381},{"$f":"IF('III Tool Overview'!$H$6=\"Western Isles Health Board\",0,IF('III Tool Overview'!$H$6=\"Eilean Siar Local Authority\",0,hosp_count(10,B238,C238,D238,$C$1,G238,1,F238,F238,SIMDRateRatios_hosp,SIMDrateratios,RateRatios!$B$3)*10))","v":289.54857280512391},{"$f":"IF('III Tool Overview'!$H$6=\"Western Isles Health Board\",0,IF('III Tool Overview'!$H$6=\"Eilean Siar Local Authority\",0,hosp_count(10,B238,C238,D238,$C$1,G238+H238,1,F238,F238,SIMDRateRatios_hosp,SIMDrateratios,RateRatios!$B$3)*10))","v":289.54605596789173},{"$f":"AI238-AJ238","v":2.5168372321786592E-3},{"$f":"IF('III Tool Overview'!$H$6=\"Western Isles Health Board\",0,IF('III Tool Overview'!$H$6=\"Eilean Siar Local Authority\",0,hosp_count(20,B238,C238,D238,$C$1,G238,1,F238,F238,SIMDRateRatios_hosp,SIMDrateratios,RateRatios!$B$3)*10))","v":744.58438624733105},{"$f":"IF('III Tool Overview'!$H$6=\"Western Isles Health Board\",0,IF('III Tool Overview'!$H$6=\"Eilean Siar Local Authority\",0,hosp_count(20,B238,C238,D238,$C$1,G238+H238,1,F238,F238,SIMDRateRatios_hosp,SIMDrateratios,RateRatios!$B$3)*10))","v":744.57792135189504},{"$f":"AL238-AM238","v":6.4648954360109201E-3}]
["Male 1-4",2.5,"male",5,1,{"$f":"HLOOKUP('III Tool Overview'!$H$6,LookUpData_Pop!$B$1:$AV$269,LookUpData_Pop!BB232,FALSE)/50","v":416.42},0,{"$f":"F239","v":416.42},{"$f":"IF('III Tool Overview'!$H$6=\"Western Isles Health Board\",0,IF('III Tool Overview'!$H$6=\"Eilean Siar Local Authority\",0,new_ci(2,B239,C239,D239,$C$1,G239,1,F239,E239*F239,SIMDrateratios,RateRatios!$B$3)*10))","v":0.42251645439935925},{"$f":"IF('III Tool Overview'!$H$6=\"Western Isles Health Board\",0,IF('III Tool Overview'!$H$6=\"Eilean Siar Local Authority\",0,new_ci(2,B239,C239,D239,$C$1,G239+H239,1,H239,H239,SIMDrateratios,RateRatios!$B$3)*10))","v":0.42251171278226918},{"$f":"IF('III Tool Overview'!$H$6=\"Western Isles Health Board\",0,IF('III Tool Overview'!$H$6=\"Eilean Siar Local Authority\",0,new_ci(5,B239,C239,D239,$C$1,G239,1,F239,F239,SIMDrateratios,RateRatios!$B$3)*1000))","v":184.84448343434411},{"$f":"IF('III Tool Overview'!$H$6=\"Western Isles Health Board\",0,IF('III Tool Overview'!$H$6=\"Eilean Siar Local Authority\",0,new_ci(5,B239,C239,D239,$C$1,H239,1,F239,F239,SIMDrateratios,RateRatios!$B$3)*1000))","v":184.84240940463525},{"$f":"IF('III Tool Overview'!$H$6=\"Western Isles Health Board\",0,IF('III Tool Overview'!$H$6=\"Eilean Siar Local Authority\",0,new_ci(10,B239,C239,D239,$C$1,G239,1,F239,F239,SIMDrateratios,RateRatios!$B$3)*10))","v":4.8557187165906823},{"$f":"IF('III Tool Overview'!$H$6=\"Western Isles Health Board\",0,IF('III Tool Overview'!$H$6=\"Eilean Siar Local Authority\",0,new_ci(10,B239,C239,D239,$C$1,G239+H239,1,F239,F239,SIMDrateratios,RateRatios!$B$3)*10))","v":4.8556642531555694},{"$f":"IF('III Tool Overview'!$H$6=\"Western Isles Health Board\",0,IF('III Tool Overview'!$H$6=\"Eilean Siar Local Authority\",0,new_ci(20,B239,C239,D239,$C$1,G239,1,F239,F239,SIMDrateratios,RateRatios!$B$3)*10))","v":14.262198085396031},{"$f":"IF('III Tool Overview'!$H$6=\"Western Isles Health Board\",0,IF('III Tool Overview'!$H$6=\"Eilean Siar Local Authority\",0,new_ci(20,B239,C239,D239,$C$1,G239+H239,1,F239,F239,SIMDrateratios,RateRatios!$B$3)*10))","v":14.262038296663457},{"$f":"IF('III Tool Overview'!$H$6=\"Western Isles Health Board\",0,IF('III Tool Overview'!$H$6=\"Eilean Siar Local Authority\",0,new_yll(2,B239,C239,D239,$C$1,G239,1,F239,F239,SIMDrateratios,RateRatios!$B$3)*10))","v":40.984096076737842},{"$f":"IF('III Tool Overview'!$H$6=\"Western Isles Health Board\",0,IF('III Tool Overview'!$H$6=\"Eilean Siar Local Authority\",0,new_yll(2,B239,C239,D239,$C$1,G239+H239,1,F239,F239,SIMDrateratios,RateRatios!$B$3)*10))","v":40.983636139880105},{"$f":"Q239-R239","v":4.5993685773737525E-4},{"$f":"IF('III Tool Overview'!$H$6=\"Western Isles Health Board\",0,IF('III Tool Overview'!$H$6=\"Eilean Siar Local Authority\",0,new_yll(5,B239,C239,D239,$C$1,G239,1,F239,F239,SIMDrateratios,RateRatios!$B$3)*1000))","v":17639.190516286217},{"$f":"IF('III Tool Overview'!$H$6=\"Western Isles Health Board\",0,IF('III Tool Overview'!$H$6=\"Eilean Siar Local Authority\",0,new_yll(5,B239,C239,D239,$C$1,G239+H239,1,F239,F239,SIMDrateratios,RateRatios!$B$3)*1000))","v":17638.992597162112},{"$f":"T239-U239","v":0.19791912410437362},{"$f":"IF('III Tool Overview'!$H$6=\"Western Isles Health Board\",0,IF('III Tool Overview'!$H$6=\"Eilean Siar Local Authority\",0,new_yll(10,B239,C239,D239,$C$1,G239,1,F239,F239,SIMDrateratios,RateRatios!$B$3)*10))","v":449.703895333964},{"$f":"IF('III Tool Overview'!$H$6=\"Western Isles Health Board\",0,IF('III Tool Overview'!$H$6=\"Eilean Siar Local Authority\",0,new_yll(10,B239,C239,D239,$C$1,G239+H239,1,F239,F239,SIMDrateratios,RateRatios!$B$3)*10))","v":449.69885125153587},{"$f":"W239-X239","v":5.0440824281281493E-3},{"$f":"IF('III Tool Overview'!$H$6=\"Western Isles Health Board\",0,IF('III Tool Overview'!$H$6=\"Eilean Siar Local Authority\",0,new_yll(20,B239,C239,D239,$C$1,G239,1,F239,F239,SIMDrateratios,RateRatios!$B$3)*10))","v":1230.6551696411125},{"$f":"IF('III Tool Overview'!$H$6=\"Western Isles Health Board\",0,IF('III Tool Overview'!$H$6=\"Eilean Siar Local Authority\",0,new_yll(20,B239,C239,D239,$C$1,G239+H239,1,F239,F239,SIMDrateratios,RateRatios!$B$3)*10))","v":1230.6413809736596},{"$f":"Z239-AA239","v":1.3788667452899972E-2},{"$f":"IF('III Tool Overview'!$H$6=\"Western Isles Health Board\",0,IF('III Tool Overview'!$H$6=\"Eilean Siar Local Authority\",0,hosp_count(2,B239,C239,D239,$C$1,G239,1,F239,F239,SIMDRateRatios_hosp,SIMDrateratios,RateRatios!$B$3)*10))","v":129.58726272022608},{"$f":"IF('III Tool Overview'!$H$6=\"Western Isles Health Board\",0,IF('III Tool Overview'!$H$6=\"Eilean Siar Local Authority\",0,hosp_count(2,B239,C239,D239,$C$1,G239+H239,1,F239,F239,SIMDRateRatios_hosp,SIMDrateratios,RateRatios!$B$3)*10))","v":129.58613208199492},{"$f":"AC239-AD239","v":1.1306382311602192E-3},{"$f":"IF('III Tool Overview'!$H$6=\"Western Isles Health Board\",0,IF('III Tool Overview'!$H$6=\"Eilean Siar Local Authority\",0,hosp_count(5,B239,C239,D239,$C$1,G239,1,F239,F239,SIMDRateRatios_hosp,SIMDrateratios,RateRatios!$B$3)*1000))","v":54791.412671619924},{"$f":"IF('III Tool Overview'!$H$6=\"Western Isles Health Board\",0,IF('III Tool Overview'!$H$6=\"Eilean Siar Local Authority\",0,hosp_count(5,B239,C239,D239,$C$1,G239+H239,1,F239,F239,SIMDRateRatios_hosp,SIMDrateratios,RateRatios!$B$3)*1000))","v":54790.934721458048},{"$f":"AF239-AG239","v":0.4779501618759241},{"$f":"IF('III Tool Overview'!$H$6=\"Western Isles Health Board\",0,IF('III Tool Overview'!$H$6=\"Eilean Siar Local Authority\",0,hosp_count(10,B239,C239,D239,$C$1,G239,1,F239,F239,SIMDRateRatios_hosp,SIMDrateratios,RateRatios!$B$3)*10))","v":1355.1342002584938},{"$f":"IF('III Tool Overview'!$H$6=\"Western Isles Health Board\",0,IF('III Tool Overview'!$H$6=\"Eilean Siar Local Authority\",0,hosp_count(10,B239,C239,D239,$C$1,G239+H239,1,F239,F239,SIMDRateRatios_hosp,SIMDrateratios,RateRatios!$B$3)*10))","v":1355.122384408925},{"$f":"AI239-AJ239","v":1.1815849568847625E-2},{"$f":"IF('III Tool Overview'!$H$6=\"Western Isles Health Board\",0,IF('III Tool Overview'!$H$6=\"Eilean Siar Local Authority\",0,hosp_count(20,B239,C239,D239,$C$1,G239,1,F239,F239,SIMDRateRatios_hosp,SIMDrateratios,RateRatios!$B$3)*10))","v":3484.3035771192472},{"$f":"IF('III Tool Overview'!$H$6=\"Western Isles Health Board\",0,IF('III Tool Overview'!$H$6=\"Eilean Siar Local Authority\",0,hosp_count(20,B239,C239,D239,$C$1,G239+H239,1,F239,F239,SIMDRateRatios_hosp,SIMDrateratios,RateRatios!$B$3)*10))","v":3484.2732356410961},{"$f":"AL239-AM239","v":3.0341478151058254E-2}]
["Male 5-9",7.5,"male",5,1,{"$f":"HLOOKUP('III Tool Overview'!$H$6,LookUpData_Pop!$B$1:$AV$269,LookUpData_Pop!BB233,FALSE)/50","v":590},0,590,{"$f":"IF('III Tool Overview'!$H$6=\"Western Isles Health Board\",0,IF('III Tool Overview'!$H$6=\"Eilean Siar Local Authority\",0,new_ci(2,B240,C240,D240,$C$1,G240,1,F240,E240*F240,SIMDrateratios,RateRatios!$B$3)*10))","v":0.92429621719890553},{"$f":"IF('III Tool Overview'!$H$6=\"Western Isles Health Board\",0,IF('III Tool Overview'!$H$6=\"Eilean Siar Local Authority\",0,new_ci(2,B240,C240,D240,$C$1,G240+H240,1,H240,H240,SIMDrateratios,RateRatios!$B$3)*10))","v":0.92428583425985256},{"$f":"IF('III Tool Overview'!$H$6=\"Western Isles Health Board\",0,IF('III Tool Overview'!$H$6=\"Eilean Siar Local Authority\",0,new_ci(5,B240,C240,D240,$C$1,G240,1,F240,F240,SIMDrateratios,RateRatios!$B$3)*1000))","v":404.32778183993491},{"$f":"IF('III Tool Overview'!$H$6=\"Western Isles Health Board\",0,IF('III Tool Overview'!$H$6=\"Eilean Siar Local Authority\",0,new_ci(5,B240,C240,D240,$C$1,H240,1,F240,F240,SIMDrateratios,RateRatios!$B$3)*1000))","v":404.32324108723441},{"$f":"IF('III Tool Overview'!$H$6=\"Western Isles Health Board\",0,IF('III Tool Overview'!$H$6=\"Eilean Siar Local Authority\",0,new_ci(10,B240,C240,D240,$C$1,G240,1,F240,F240,SIMDrateratios,RateRatios!$B$3)*10))","v":10.619284476660141},{"$f":"IF('III Tool Overview'!$H$6=\"Western Isles Health Board\",0,IF('III Tool Overview'!$H$6=\"Eilean Siar Local Authority\",0,new_ci(10,B240,C240,D240,$C$1,G240+H240,1,F240,F240,SIMDrateratios,RateRatios!$B$3)*10))","v":10.619165284648791},{"$f":"IF('III Tool Overview'!$H$6=\"Western Isles Health Board\",0,IF('III Tool Overview'!$H$6=\"Eilean Siar Local Authority\",0,new_ci(20,B240,C240,D240,$C$1,G240,1,F240,F240,SIMDrateratios,RateRatios!$B$3)*10))","v":31.171735725572212},{"$f":"IF('III Tool Overview'!$H$6=\"Western Isles Health Board\",0,IF('III Tool Overview'!$H$6=\"Eilean Siar Local Authority\",0,new_ci(20,B240,C240,D240,$C$1,G240+H240,1,F240,F240,SIMDrateratios,RateRatios!$B$3)*10))","v":31.171386461974784},{"$f":"IF('III Tool Overview'!$H$6=\"Western Isles Health Board\",0,IF('III Tool Overview'!$H$6=\"Eilean Siar Local Authority\",0,new_yll(2,B240,C240,D240,$C$1,G240,1,F240,F240,SIMDrateratios,RateRatios!$B$3)*10))","v":84.110955765100414},{"$f":"IF('III Tool Overview'!$H$6=\"Western Isles Health Board\",0,IF('III Tool Overview'!$H$6=\"Eilean Siar Local Authority\",0,new_yll(2,B240,C240,D240,$C$1,G240+H240,1,F240,F240,SIMDrateratios,RateRatios!$B$3)*10))","v":84.110010917646591},9.4484745382317215E-4,{"$f":"IF('III Tool Overview'!$H$6=\"Western Isles Health Board\",0,IF('III Tool Overview'!$H$6=\"Eilean Siar Local Authority\",0,new_yll(5,B240,C240,D240,$C$1,G240,1,F240,F240,SIMDrateratios,RateRatios!$B$3)*1000))","v":36157.929735988837},{"$f":"IF('III Tool Overview'!$H$6=\"Western Isles Health Board\",0,IF('III Tool Overview'!$H$6=\"Eilean Siar Local Authority\",0,new_yll(5,B240,C240,D240,$C$1,G240+H240,1,F240,F240,SIMDrateratios,RateRatios!$B$3)*1000))","v":36157.523667899899},0.40606808893790003,{"$f":"IF('III Tool Overview'!$H$6=\"Western Isles Health Board\",0,IF('III Tool Overview'!$H$6=\"Eilean Siar Local Authority\",0,new_yll(10,B240,C240,D240,$C$1,G240,1,F240,F240,SIMDrateratios,RateRatios!$B$3)*10))","v":919.7756954399913},{"$f":"IF('III Tool Overview'!$H$6=\"Western Isles Health Board\",0,IF('III Tool Overview'!$H$6=\"Eilean Siar Local Authority\",0,new_yll(10,B240,C240,D240,$C$1,G240+H240,1,F240,F240,SIMDrateratios,RateRatios!$B$3)*10))","v":919.76537161922283},1.032382076846261E-2,{"$f":"IF('III Tool Overview'!$H$6=\"Western Isles Health Board\",0,IF('III Tool Overview'!$H$6=\"Eilean Siar Local Authority\",0,new_yll(20,B240,C240,D240,$C$1,G240,1,F240,F240,SIMDrateratios,RateRatios!$B$3)*10))","v":2502.8015377499901},{"$f":"IF('III Tool Overview'!$H$6=\"Western Isles Health Board\",0,IF('III Tool Overview'!$H$6=\"Eilean Siar Local Authority\",0,new_yll(20,B240,C240,D240,$C$1,G240+H240,1,F240,F240,SIMDrateratios,RateRatios!$B$3)*10))","v":2502.7734923061616},2.8045443828432326E-2,{"$f":"IF('III Tool Overview'!$H$6=\"Western Isles Health Board\",0,IF('III Tool Overview'!$H$6=\"Eilean Siar Local Authority\",0,hosp_count(2,B240,C240,D240,$C$1,G240,1,F240,F240,SIMDRateRatios_hosp,SIMDrateratios,RateRatios!$B$3)*10))","v":226.36191719845323},{"$f":"IF('III Tool Overview'!$H$6=\"Western Isles Health Board\",0,IF('III Tool Overview'!$H$6=\"Eilean Siar Local Authority\",0,hosp_count(2,B240,C240,D240,$C$1,G240+H240,1,F240,F240,SIMDRateRatios_hosp,SIMDrateratios,RateRatios!$B$3)*10))","v":226.35994021532525},1.9769831279745631E-3,{"$f":"IF('III Tool Overview'!$H$6=\"Western Isles Health Board\",0,IF('III Tool Overview'!$H$6=\"Eilean Siar Local Authority\",0,hosp_count(5,B240,C240,D240,$C$1,G240,1,F240,F240,SIMDRateRatios_hosp,SIMDrateratios,RateRatios!$B$3)*1000))","v":95700.666397985202},{"$f":"IF('III Tool Overview'!$H$6=\"Western Isles Health Board\",0,IF('III Tool Overview'!$H$6=\"Eilean Siar Local Authority\",0,hosp_count(5,B240,C240,D240,$C$1,G240+H240,1,F240,F240,SIMDRateRatios_hosp,SIMDrateratios,RateRatios!$B$3)*1000))","v":95699.830845588323},0.83555239687848371,{"$f":"IF('III Tool Overview'!$H$6=\"Western Isles Health Board\",0,IF('III Tool Overview'!$H$6=\"Eilean Siar Local Authority\",0,hosp_count(10,B240,C240,D240,$C$1,G240,1,F240,F240,SIMDRateRatios_hosp,SIMDrateratios,RateRatios!$B$3)*10))","v":2366.4946087833628},{"$f":"IF('III Tool Overview'!$H$6=\"Western Isles Health Board\",0,IF('III Tool Overview'!$H$6=\"Eilean Siar Local Authority\",0,hosp_count(10,B240,C240,D240,$C$1,G240+H240,1,F240,F240,SIMDRateRatios_hosp,SIMDrateratios,RateRatios!$B$3)*10))","v":2366.473960936798},2.0647846564770589E-2,{"$f":"IF('III Tool Overview'!$H$6=\"Western Isles Health Board\",0,IF('III Tool Overview'!$H$6=\"Eilean Siar Local Authority\",0,hosp_count(20,B240,C240,D240,$C$1,G240,1,F240,F240,SIMDRateRatios_hosp,SIMDrateratios,RateRatios!$B$3)*10))","v":6081.3766425706344},{"$f":"IF('III Tool Overview'!$H$6=\"Western Isles Health Board\",0,IF('III Tool Overview'!$H$6=\"Eilean Siar Local Authority\",0,hosp_count(20,B240,C240,D240,$C$1,G240+H240,1,F240,F240,SIMDRateRatios_hosp,SIMDrateratios,RateRatios!$B$3)*10))","v":6081.3236880150198},5.2954555614633136E-2]
["Male 10-14",12.5,"male",5,1,{"$f":"HLOOKUP('III Tool Overview'!$H$6,LookUpData_Pop!$B$1:$AV$269,LookUpData_Pop!BB234,FALSE)/50","v":676.92},0,676.92,{"$f":"IF('III Tool Overview'!$H$6=\"Western Isles Health Board\",0,IF('III Tool Overview'!$H$6=\"Eilean Siar Local Authority\",0,new_ci(2,B241,C241,D241,$C$1,G241,1,F241,E241*F241,SIMDrateratios,RateRatios!$B$3)*10))","v":1.4166345146565558},{"$f":"IF('III Tool Overview'!$H$6=\"Western Isles Health Board\",0,IF('III Tool Overview'!$H$6=\"Eilean Siar Local Authority\",0,new_ci(2,B241,C241,D241,$C$1,G241+H241,1,H241,H241,SIMDrateratios,RateRatios!$B$3)*10))","v":1.4166185996496155},{"$f":"IF('III Tool Overview'!$H$6=\"Western Isles Health Board\",0,IF('III Tool Overview'!$H$6=\"Eilean Siar Local Authority\",0,new_ci(5,B241,C241,D241,$C$1,G241,1,F241,F241,SIMDrateratios,RateRatios!$B$3)*1000))","v":619.64315686581256},{"$f":"IF('III Tool Overview'!$H$6=\"Western Isles Health Board\",0,IF('III Tool Overview'!$H$6=\"Eilean Siar Local Authority\",0,new_ci(5,B241,C241,D241,$C$1,H241,1,F241,F241,SIMDrateratios,RateRatios!$B$3)*1000))","v":619.63619801957725},{"$f":"IF('III Tool Overview'!$H$6=\"Western Isles Health Board\",0,IF('III Tool Overview'!$H$6=\"Eilean Siar Local Authority\",0,new_ci(10,B241,C241,D241,$C$1,G241,1,F241,F241,SIMDrateratios,RateRatios!$B$3)*10))","v":16.271289490546799},{"$f":"IF('III Tool Overview'!$H$6=\"Western Isles Health Board\",0,IF('III Tool Overview'!$H$6=\"Eilean Siar Local Authority\",0,new_ci(10,B241,C241,D241,$C$1,G241+H241,1,F241,F241,SIMDrateratios,RateRatios!$B$3)*10))","v":16.271106893502093},{"$f":"IF('III Tool Overview'!$H$6=\"Western Isles Health Board\",0,IF('III Tool Overview'!$H$6=\"Eilean Siar Local Authority\",0,new_ci(20,B241,C241,D241,$C$1,G241,1,F241,F241,SIMDrateratios,RateRatios!$B$3)*10))","v":47.73457619109395},{"$f":"IF('III Tool Overview'!$H$6=\"Western Isles Health Board\",0,IF('III Tool Overview'!$H$6=\"Eilean Siar Local Authority\",0,new_ci(20,B241,C241,D241,$C$1,G241+H241,1,F241,F241,SIMDrateratios,RateRatios!$B$3)*10))","v":47.734041762171032},{"$f":"IF('III Tool Overview'!$H$6=\"Western Isles Health Board\",0,IF('III Tool Overview'!$H$6=\"Eilean Siar Local Authority\",0,new_yll(2,B241,C241,D241,$C$1,G241,1,F241,F241,SIMDrateratios,RateRatios!$B$3)*10))","v":123.24720277512034},{"$f":"IF('III Tool Overview'!$H$6=\"Western Isles Health Board\",0,IF('III Tool Overview'!$H$6=\"Eilean Siar Local Authority\",0,new_yll(2,B241,C241,D241,$C$1,G241+H241,1,F241,F241,SIMDrateratios,RateRatios!$B$3)*10))","v":123.24581816951655},1.3846056037891685E-3,{"$f":"IF('III Tool Overview'!$H$6=\"Western Isles Health Board\",0,IF('III Tool Overview'!$H$6=\"Eilean Siar Local Authority\",0,new_yll(5,B241,C241,D241,$C$1,G241,1,F241,F241,SIMDrateratios,RateRatios!$B$3)*1000))","v":52934.467787872374},{"$f":"IF('III Tool Overview'!$H$6=\"Western Isles Health Board\",0,IF('III Tool Overview'!$H$6=\"Eilean Siar Local Authority\",0,new_yll(5,B241,C241,D241,$C$1,G241+H241,1,F241,F241,SIMDrateratios,RateRatios!$B$3)*1000))","v":52933.87331014809},0.59447772428393364,{"$f":"IF('III Tool Overview'!$H$6=\"Western Isles Health Board\",0,IF('III Tool Overview'!$H$6=\"Eilean Siar Local Authority\",0,new_yll(10,B241,C241,D241,$C$1,G241,1,F241,F241,SIMDrateratios,RateRatios!$B$3)*10))","v":1344.2389218211556},{"$f":"IF('III Tool Overview'!$H$6=\"Western Isles Health Board\",0,IF('III Tool Overview'!$H$6=\"Eilean Siar Local Authority\",0,new_yll(10,B241,C241,D241,$C$1,G241+H241,1,F241,F241,SIMDrateratios,RateRatios!$B$3)*10))","v":1344.2238363967836},1.5085424372045964E-2,{"$f":"IF('III Tool Overview'!$H$6=\"Western Isles Health Board\",0,IF('III Tool Overview'!$H$6=\"Eilean Siar Local Authority\",0,new_yll(20,B241,C241,D241,$C$1,G241,1,F241,F241,SIMDrateratios,RateRatios!$B$3)*10))","v":3641.8346635870794},{"$f":"IF('III Tool Overview'!$H$6=\"Western Isles Health Board\",0,IF('III Tool Overview'!$H$6=\"Eilean Siar Local Authority\",0,new_yll(20,B241,C241,D241,$C$1,G241+H241,1,F241,F241,SIMDrateratios,RateRatios!$B$3)*10))","v":3641.7938844139571},4.0779173122245993E-2,{"$f":"IF('III Tool Overview'!$H$6=\"Western Isles Health Board\",0,IF('III Tool Overview'!$H$6=\"Eilean Siar Local Authority\",0,hosp_count(2,B241,C241,D241,$C$1,G241,1,F241,F241,SIMDRateRatios_hosp,SIMDrateratios,RateRatios!$B$3)*10))","v":298.60868937371276},{"$f":"IF('III Tool Overview'!$H$6=\"Western Isles Health Board\",0,IF('III Tool Overview'!$H$6=\"Eilean Siar Local Authority\",0,hosp_count(2,B241,C241,D241,$C$1,G241+H241,1,F241,F241,SIMDRateRatios_hosp,SIMDrateratios,RateRatios!$B$3)*10))","v":298.60608109880349},2.6082749092779522E-3,{"$f":"IF('III Tool Overview'!$H$6=\"Western Isles Health Board\",0,IF('III Tool Overview'!$H$6=\"Eilean Siar Local Authority\",0,hosp_count(5,B241,C241,D241,$C$1,G241,1,F241,F241,SIMDRateRatios_hosp,SIMDrateratios,RateRatios!$B$3)*1000))","v":126234.26621291137},{"$f":"IF('III Tool Overview'!$H$6=\"Western Isles Health Board\",0,IF('III Tool Overview'!$H$6=\"Eilean Siar Local Authority\",0,hosp_count(5,B241,C241,D241,$C$1,G241+H241,1,F241,F241,SIMDRateRatios_hosp,SIMDrateratios,RateRatios!$B$3)*1000))","v":126233.16406472518},1.1021481861971552,{"$f":"IF('III Tool Overview'!$H$6=\"Western Isles Health Board\",0,IF('III Tool Overview'!$H$6=\"Eilean Siar Local Authority\",0,hosp_count(10,B241,C241,D241,$C$1,G241,1,F241,F241,SIMDRateRatios_hosp,SIMDrateratios,RateRatios!$B$3)*10))","v":3120.9892896600154},{"$f":"IF('III Tool Overview'!$H$6=\"Western Isles Health Board\",0,IF('III Tool Overview'!$H$6=\"Eilean Siar Local Authority\",0,hosp_count(10,B241,C241,D241,$C$1,G241+H241,1,F241,F241,SIMDRateRatios_hosp,SIMDrateratios,RateRatios!$B$3)*10))","v":3120.9620646367789},2.7225023236496781E-2,{"$f":"IF('III Tool Overview'!$H$6=\"Western Isles Health Board\",0,IF('III Tool Overview'!$H$6=\"Eilean Siar Local Authority\",0,hosp_count(20,B241,C241,D241,$C$1,G241,1,F241,F241,SIMDRateRatios_hosp,SIMDrateratios,RateRatios!$B$3)*10))","v":8016.0891973111493},{"$f":"IF('III Tool Overview'!$H$6=\"Western Isles Health Board\",0,IF('III Tool Overview'!$H$6=\"Eilean Siar Local Authority\",0,hosp_count(20,B241,C241,D241,$C$1,G241+H241,1,F241,F241,SIMDRateRatios_hosp,SIMDrateratios,RateRatios!$B$3)*10))","v":8016.0194577961465},6.9739515002765984E-2]
["Male 15-19",17.5,"male",5,1,{"$f":"HLOOKUP('III Tool Overview'!$H$6,LookUpData_Pop!$B$1:$AV$269,LookUpData_Pop!BB235,FALSE)/50","v":713.06},{"$f":"'III Tool Overview'!$H$9/110","v":0},713.06,{"$f":"IF('III Tool Overview'!$H$6=\"Western Isles Health Board\",0,IF('III Tool Overview'!$H$6=\"Eilean Siar Local Authority\",0,new_ci(2,B242,C242,D242,$C$1,G242,1,F242,E242*F242,SIMDrateratios,RateRatios!$B$3)*10))","v":2.3039917891960831},{"$f":"IF('III Tool Overview'!$H$6=\"Western Isles Health Board\",0,IF('III Tool Overview'!$H$6=\"Eilean Siar Local Authority\",0,new_ci(2,B242,C242,D242,$C$1,G242+H242,1,H242,H242,SIMDrateratios,RateRatios!$B$3)*10))","v":2.3039659119920222},{"$f":"IF('III Tool Overview'!$H$6=\"Western Isles Health Board\",0,IF('III Tool Overview'!$H$6=\"Eilean Siar Local Authority\",0,new_ci(5,B242,C242,D242,$C$1,G242,1,F242,F242,SIMDrateratios,RateRatios!$B$3)*1000))","v":1007.5841366630693},{"$f":"IF('III Tool Overview'!$H$6=\"Western Isles Health Board\",0,IF('III Tool Overview'!$H$6=\"Eilean Siar Local Authority\",0,new_ci(5,B242,C242,D242,$C$1,H242,1,F242,F242,SIMDrateratios,RateRatios!$B$3)*1000))","v":1007.5728261885839},{"$f":"IF('III Tool Overview'!$H$6=\"Western Isles Health Board\",0,IF('III Tool Overview'!$H$6=\"Eilean Siar Local Authority\",0,new_ci(10,B242,C242,D242,$C$1,G242,1,F242,F242,SIMDrateratios,RateRatios!$B$3)*10))","v":26.447561703998023},{"$f":"IF('III Tool Overview'!$H$6=\"Western Isles Health Board\",0,IF('III Tool Overview'!$H$6=\"Eilean Siar Local Authority\",0,new_ci(10,B242,C242,D242,$C$1,G242+H242,1,F242,F242,SIMDrateratios,RateRatios!$B$3)*10))","v":26.447265162764598},{"$f":"IF('III Tool Overview'!$H$6=\"Western Isles Health Board\",0,IF('III Tool Overview'!$H$6=\"Eilean Siar Local Authority\",0,new_ci(20,B242,C242,D242,$C$1,G242,1,F242,F242,SIMDrateratios,RateRatios!$B$3)*10))","v":77.490084685952013},{"$f":"IF('III Tool Overview'!$H$6=\"Western Isles Health Board\",0,IF('III Tool Overview'!$H$6=\"Eilean Siar Local Authority\",0,new_ci(20,B242,C242,D242,$C$1,G242+H242,1,F242,F242,SIMDrateratios,RateRatios!$B$3)*10))","v":77.489218965091084},{"$f":"IF('III Tool Overview'!$H$6=\"Western Isles Health Board\",0,IF('III Tool Overview'!$H$6=\"Eilean Siar Local Authority\",0,new_yll(2,B242,C242,D242,$C$1,G242,1,F242,F242,SIMDrateratios,RateRatios!$B$3)*10))","v":186.62333492488273},{"$f":"IF('III Tool Overview'!$H$6=\"Western Isles Health Board\",0,IF('III Tool Overview'!$H$6=\"Eilean Siar Local Authority\",0,new_yll(2,B242,C242,D242,$C$1,G242+H242,1,F242,F242,SIMDrateratios,RateRatios!$B$3)*10))","v":186.6212388713538},2.0960535289304971E-3,{"$f":"IF('III Tool Overview'!$H$6=\"Western Isles Health Board\",0,IF('III Tool Overview'!$H$6=\"Eilean Siar Local Authority\",0,new_yll(5,B242,C242,D242,$C$1,G242,1,F242,F242,SIMDrateratios,RateRatios!$B$3)*1000))","v":80029.886201899222},{"$f":"IF('III Tool Overview'!$H$6=\"Western Isles Health Board\",0,IF('III Tool Overview'!$H$6=\"Eilean Siar Local Authority\",0,new_yll(5,B242,C242,D242,$C$1,G242+H242,1,F242,F242,SIMDrateratios,RateRatios!$B$3)*1000))","v":80028.987834227984},0.89836767123779282,{"$f":"IF('III Tool Overview'!$H$6=\"Western Isles Health Board\",0,IF('III Tool Overview'!$H$6=\"Eilean Siar Local Authority\",0,new_yll(10,B242,C242,D242,$C$1,G242,1,F242,F242,SIMDrateratios,RateRatios!$B$3)*10))","v":2026.2831452778084},{"$f":"IF('III Tool Overview'!$H$6=\"Western Isles Health Board\",0,IF('III Tool Overview'!$H$6=\"Eilean Siar Local Authority\",0,new_yll(10,B242,C242,D242,$C$1,G242+H242,1,F242,F242,SIMDrateratios,RateRatios!$B$3)*10))","v":2026.2604249252479},2.2720352560554602E-2,{"$f":"IF('III Tool Overview'!$H$6=\"Western Isles Health Board\",0,IF('III Tool Overview'!$H$6=\"Eilean Siar Local Authority\",0,new_yll(20,B242,C242,D242,$C$1,G242,1,F242,F242,SIMDrateratios,RateRatios!$B$3)*10))","v":5447.4965353553016},{"$f":"IF('III Tool Overview'!$H$6=\"Western Isles Health Board\",0,IF('III Tool Overview'!$H$6=\"Eilean Siar Local Authority\",0,new_yll(20,B242,C242,D242,$C$1,G242+H242,1,F242,F242,SIMDrateratios,RateRatios!$B$3)*10))","v":5447.4356613819655},6.0873973336128984E-2,{"$f":"IF('III Tool Overview'!$H$6=\"Western Isles Health Board\",0,IF('III Tool Overview'!$H$6=\"Eilean Siar Local Authority\",0,hosp_count(2,B242,C242,D242,$C$1,G242,1,F242,F242,SIMDRateRatios_hosp,SIMDrateratios,RateRatios!$B$3)*10))","v":387.80355490334108},{"$f":"IF('III Tool Overview'!$H$6=\"Western Isles Health Board\",0,IF('III Tool Overview'!$H$6=\"Eilean Siar Local Authority\",0,hosp_count(2,B242,C242,D242,$C$1,G242+H242,1,F242,F242,SIMDRateRatios_hosp,SIMDrateratios,RateRatios!$B$3)*10))","v":387.80016821806038},3.3866852807022951E-3,{"$f":"IF('III Tool Overview'!$H$6=\"Western Isles Health Board\",0,IF('III Tool Overview'!$H$6=\"Eilean Siar Local Authority\",0,hosp_count(5,B242,C242,D242,$C$1,G242,1,F242,F242,SIMDRateRatios_hosp,SIMDrateratios,RateRatios!$B$3)*1000))","v":163910.59589406304},{"$f":"IF('III Tool Overview'!$H$6=\"Western Isles Health Board\",0,IF('III Tool Overview'!$H$6=\"Eilean Siar Local Authority\",0,hosp_count(5,B242,C242,D242,$C$1,G242+H242,1,F242,F242,SIMDRateRatios_hosp,SIMDrateratios,RateRatios!$B$3)*1000))","v":163909.16542159943},1.4304724636022002,{"$f":"IF('III Tool Overview'!$H$6=\"Western Isles Health Board\",0,IF('III Tool Overview'!$H$6=\"Eilean Siar Local Authority\",0,hosp_count(10,B242,C242,D242,$C$1,G242,1,F242,F242,SIMDRateRatios_hosp,SIMDrateratios,RateRatios!$B$3)*10))","v":4050.966381654473},{"$f":"IF('III Tool Overview'!$H$6=\"Western Isles Health Board\",0,IF('III Tool Overview'!$H$6=\"Eilean Siar Local Authority\",0,hosp_count(10,B242,C242,D242,$C$1,G242+H242,1,F242,F242,SIMDRateRatios_hosp,SIMDrateratios,RateRatios!$B$3)*10))","v":4050.9310768467021},3.530480777089906E-2,{"$f":"IF('III Tool Overview'!$H$6=\"Western Isles Health Board\",0,IF('III Tool Overview'!$H$6=\"Eilean Siar Local Authority\",0,hosp_count(20,B242,C242,D242,$C$1,G242,1,F242,F242,SIMDRateRatios_hosp,SIMDrateratios,RateRatios!$B$3)*10))","v":10392.977141851023},{"$f":"IF('III Tool Overview'!$H$6=\"Western Isles Health Board\",0,IF('III Tool Overview'!$H$6=\"Eilean Siar Local Authority\",0,hosp_count(20,B242,C242,D242,$C$1,G242+H242,1,F242,F242,SIMDRateRatios_hosp,SIMDrateratios,RateRatios!$B$3)*10))","v":10392.886938272379},9.020357864392281E-2]
["Male 20-24",22.5,"male",5,1,{"$f":"HLOOKUP('III Tool Overview'!$H$6,LookUpData_Pop!$B$1:$AV$269,LookUpData_Pop!BB236,FALSE)/50","v":702.34},{"$f":"'III Tool Overview'!$H$9/110","v":0},702.34,{"$f":"IF('III Tool Overview'!$H$6=\"Western Isles Health Board\",0,IF('III Tool Overview'!$H$6=\"Eilean Siar Local Authority\",0,new_ci(2,B243,C243,D243,$C$1,G243,1,F243,E243*F243,SIMDrateratios,RateRatios!$B$3)*10))","v":3.031457065484628},{"$f":"IF('III Tool Overview'!$H$6=\"Western Isles Health Board\",0,IF('III Tool Overview'!$H$6=\"Eilean Siar Local Authority\",0,new_ci(2,B243,C243,D243,$C$1,G243+H243,1,H243,H243,SIMDrateratios,RateRatios!$B$3)*10))","v":3.0314230332455412},{"$f":"IF('III Tool Overview'!$H$6=\"Western Isles Health Board\",0,IF('III Tool Overview'!$H$6=\"Eilean Siar Local Authority\",0,new_ci(5,B243,C243,D243,$C$1,G243,1,F243,F243,SIMDrateratios,RateRatios!$B$3)*1000))","v":1325.4772423873835},{"$f":"IF('III Tool Overview'!$H$6=\"Western Isles Health Board\",0,IF('III Tool Overview'!$H$6=\"Eilean Siar Local Authority\",0,new_ci(5,B243,C243,D243,$C$1,H243,1,F243,F243,SIMDrateratios,RateRatios!$B$3)*1000))","v":1325.4623729386892},{"$f":"IF('III Tool Overview'!$H$6=\"Western Isles Health Board\",0,IF('III Tool Overview'!$H$6=\"Eilean Siar Local Authority\",0,new_ci(10,B243,C243,D243,$C$1,G243,1,F243,F243,SIMDrateratios,RateRatios!$B$3)*10))","v":34.778341241293262},{"$f":"IF('III Tool Overview'!$H$6=\"Western Isles Health Board\",0,IF('III Tool Overview'!$H$6=\"Eilean Siar Local Authority\",0,new_ci(10,B243,C243,D243,$C$1,G243+H243,1,F243,F243,SIMDrateratios,RateRatios!$B$3)*10))","v":34.77795169117482},{"$f":"IF('III Tool Overview'!$H$6=\"Western Isles Health Board\",0,IF('III Tool Overview'!$H$6=\"Eilean Siar Local Authority\",0,new_ci(20,B243,C243,D243,$C$1,G243,1,F243,F243,SIMDrateratios,RateRatios!$B$3)*10))","v":101.77589033867898},{"$f":"IF('III Tool Overview'!$H$6=\"Western Isles Health Board\",0,IF('III Tool Overview'!$H$6=\"Eilean Siar Local Authority\",0,new_ci(20,B243,C243,D243,$C$1,G243+H243,1,F243,F243,SIMDrateratios,RateRatios!$B$3)*10))","v":101.77475583935843},{"$f":"IF('III Tool Overview'!$H$6=\"Western Isles Health Board\",0,IF('III Tool Overview'!$H$6=\"Eilean Siar Local Authority\",0,new_yll(2,B243,C243,D243,$C$1,G243,1,F243,F243,SIMDrateratios,RateRatios!$B$3)*10))","v":233.42219404231633},{"$f":"IF('III Tool Overview'!$H$6=\"Western Isles Health Board\",0,IF('III Tool Overview'!$H$6=\"Eilean Siar Local Authority\",0,new_yll(2,B243,C243,D243,$C$1,G243+H243,1,F243,F243,SIMDrateratios,RateRatios!$B$3)*10))","v":233.41957355990667},2.6204824096680568E-3,{"$f":"IF('III Tool Overview'!$H$6=\"Western Isles Health Board\",0,IF('III Tool Overview'!$H$6=\"Eilean Siar Local Authority\",0,new_yll(5,B243,C243,D243,$C$1,G243,1,F243,F243,SIMDrateratios,RateRatios!$B$3)*1000))","v":99977.627306416121},{"$f":"IF('III Tool Overview'!$H$6=\"Western Isles Health Board\",0,IF('III Tool Overview'!$H$6=\"Eilean Siar Local Authority\",0,new_yll(5,B243,C243,D243,$C$1,G243+H243,1,F243,F243,SIMDrateratios,RateRatios!$B$3)*1000))","v":99976.505730147313},1.1215762688079849,{"$f":"IF('III Tool Overview'!$H$6=\"Western Isles Health Board\",0,IF('III Tool Overview'!$H$6=\"Eilean Siar Local Authority\",0,new_yll(10,B243,C243,D243,$C$1,G243,1,F243,F243,SIMDrateratios,RateRatios!$B$3)*10))","v":2525.4653155878232},{"$f":"IF('III Tool Overview'!$H$6=\"Western Isles Health Board\",0,IF('III Tool Overview'!$H$6=\"Eilean Siar Local Authority\",0,new_yll(10,B243,C243,D243,$C$1,G243+H243,1,F243,F243,SIMDrateratios,RateRatios!$B$3)*10))","v":2525.4370265795733},2.8289008249885228E-2,{"$f":"IF('III Tool Overview'!$H$6=\"Western Isles Health Board\",0,IF('III Tool Overview'!$H$6=\"Eilean Siar Local Authority\",0,new_yll(20,B243,C243,D243,$C$1,G243,1,F243,F243,SIMDrateratios,RateRatios!$B$3)*10))","v":6748.2340730111637},{"$f":"IF('III Tool Overview'!$H$6=\"Western Isles Health Board\",0,IF('III Tool Overview'!$H$6=\"Eilean Siar Local Authority\",0,new_yll(20,B243,C243,D243,$C$1,G243+H243,1,F243,F243,SIMDrateratios,RateRatios!$B$3)*10))","v":6748.1588249092329},7.5248101930810662E-2,{"$f":"IF('III Tool Overview'!$H$6=\"Western Isles Health Board\",0,IF('III Tool Overview'!$H$6=\"Eilean Siar Local Authority\",0,hosp_count(2,B243,C243,D243,$C$1,G243,1,F243,F243,SIMDRateRatios_hosp,SIMDrateratios,RateRatios!$B$3)*10))","v":439.18435194662237},{"$f":"IF('III Tool Overview'!$H$6=\"Western Isles Health Board\",0,IF('III Tool Overview'!$H$6=\"Eilean Siar Local Authority\",0,hosp_count(2,B243,C243,D243,$C$1,G243+H243,1,F243,F243,SIMDRateRatios_hosp,SIMDrateratios,RateRatios!$B$3)*10))","v":439.18051808736129},3.8338592610784872E-3,{"$f":"IF('III Tool Overview'!$H$6=\"Western Isles Health Board\",0,IF('III Tool Overview'!$H$6=\"Eilean Siar Local Authority\",0,hosp_count(5,B243,C243,D243,$C$1,G243,1,F243,F243,SIMDRateRatios_hosp,SIMDrateratios,RateRatios!$B$3)*1000))","v":185594.99024747737},{"$f":"IF('III Tool Overview'!$H$6=\"Western Isles Health Board\",0,IF('III Tool Overview'!$H$6=\"Eilean Siar Local Authority\",0,hosp_count(5,B243,C243,D243,$C$1,G243+H243,1,F243,F243,SIMDRateRatios_hosp,SIMDrateratios,RateRatios!$B$3)*1000))","v":185593.37154376018},1.618703717191238,{"$f":"IF('III Tool Overview'!$H$6=\"Western Isles Health Board\",0,IF('III Tool Overview'!$H$6=\"Eilean Siar Local Authority\",0,hosp_count(10,B243,C243,D243,$C$1,G243,1,F243,F243,SIMDRateRatios_hosp,SIMDrateratios,RateRatios!$B$3)*10))","v":4585.2405800787383},{"$f":"IF('III Tool Overview'!$H$6=\"Western Isles Health Board\",0,IF('III Tool Overview'!$H$6=\"Eilean Siar Local Authority\",0,hosp_count(10,B243,C243,D243,$C$1,G243+H243,1,F243,F243,SIMDRateRatios_hosp,SIMDrateratios,RateRatios!$B$3)*10))","v":4585.200662404267},3.9917674471325881E-2,{"$f":"IF('III Tool Overview'!$H$6=\"Western Isles Health Board\",0,IF('III Tool Overview'!$H$6=\"Eilean Siar Local Authority\",0,hosp_count(20,B243,C243,D243,$C$1,G243,1,F243,F243,SIMDRateRatios_hosp,SIMDrateratios,RateRatios!$B$3)*10))","v":11751.079906287785},{"$f":"IF('III Tool Overview'!$H$6=\"Western Isles Health Board\",0,IF('III Tool Overview'!$H$6=\"Eilean Siar Local Authority\",0,hosp_count(20,B243,C243,D243,$C$1,G243+H243,1,F243,F243,SIMDRateRatios_hosp,SIMDrateratios,RateRatios!$B$3)*10))","v":11750.978167506519},0.10173878126624913]
["Male 25-29",27.5,"male",5,1,{"$f":"HLOOKUP('III Tool Overview'!$H$6,LookUpData_Pop!$B$1:$AV$269,LookUpData_Pop!BB237,FALSE)/50","v":562.55999999999995},{"$f":"'III Tool Overview'!$H$9/110","v":0},562.55999999999995,{"$f":"IF('III Tool Overview'!$H$6=\"Western Isles Health Board\",0,IF('III Tool Overview'!$H$6=\"Eilean Siar Local Authority\",0,new_ci(2,B244,C244,D244,$C$1,G244,1,F244,E244*F244,SIMDrateratios,RateRatios!$B$3)*10))","v":3.7487024895828154},{"$f":"IF('III Tool Overview'!$H$6=\"Western Isles Health Board\",0,IF('III Tool Overview'!$H$6=\"Eilean Siar Local Authority\",0,new_ci(2,B244,C244,D244,$C$1,G244+H244,1,H244,H244,SIMDrateratios,RateRatios!$B$3)*10))","v":3.7486603569206549},{"$f":"IF('III Tool Overview'!$H$6=\"Western Isles Health Board\",0,IF('III Tool Overview'!$H$6=\"Eilean Siar Local Authority\",0,new_ci(5,B244,C244,D244,$C$1,G244,1,F244,F244,SIMDrateratios,RateRatios!$B$3)*1000))","v":1638.4370198241047},{"$f":"IF('III Tool Overview'!$H$6=\"Western Isles Health Board\",0,IF('III Tool Overview'!$H$6=\"Eilean Siar Local Authority\",0,new_ci(5,B244,C244,D244,$C$1,H244,1,F244,F244,SIMDrateratios,RateRatios!$B$3)*1000))","v":1638.4186257076271},{"$f":"IF('III Tool Overview'!$H$6=\"Western Isles Health Board\",0,IF('III Tool Overview'!$H$6=\"Eilean Siar Local Authority\",0,new_ci(10,B244,C244,D244,$C$1,G244,1,F244,F244,SIMDrateratios,RateRatios!$B$3)*10))","v":42.953997615783017},{"$f":"IF('III Tool Overview'!$H$6=\"Western Isles Health Board\",0,IF('III Tool Overview'!$H$6=\"Eilean Siar Local Authority\",0,new_ci(10,B244,C244,D244,$C$1,G244+H244,1,F244,F244,SIMDrateratios,RateRatios!$B$3)*10))","v":42.953516531855684},{"$f":"IF('III Tool Overview'!$H$6=\"Western Isles Health Board\",0,IF('III Tool Overview'!$H$6=\"Eilean Siar Local Authority\",0,new_ci(20,B244,C244,D244,$C$1,G244,1,F244,F244,SIMDrateratios,RateRatios!$B$3)*10))","v":125.37367284860969},{"$f":"IF('III Tool Overview'!$H$6=\"Western Isles Health Board\",0,IF('III Tool Overview'!$H$6=\"Eilean Siar Local Authority\",0,new_ci(20,B244,C244,D244,$C$1,G244+H244,1,F244,F244,SIMDrateratios,RateRatios!$B$3)*10))","v":125.37227909581651},{"$f":"IF('III Tool Overview'!$H$6=\"Western Isles Health Board\",0,IF('III Tool Overview'!$H$6=\"Eilean Siar Local Authority\",0,new_yll(2,B244,C244,D244,$C$1,G244,1,F244,F244,SIMDrateratios,RateRatios!$B$3)*10))","v":266.15787676037991},{"$f":"IF('III Tool Overview'!$H$6=\"Western Isles Health Board\",0,IF('III Tool Overview'!$H$6=\"Eilean Siar Local Authority\",0,new_yll(2,B244,C244,D244,$C$1,G244+H244,1,F244,F244,SIMDrateratios,RateRatios!$B$3)*10))","v":266.15488534136654},2.9914190133695229E-3,{"$f":"IF('III Tool Overview'!$H$6=\"Western Isles Health Board\",0,IF('III Tool Overview'!$H$6=\"Eilean Siar Local Authority\",0,new_yll(5,B244,C244,D244,$C$1,G244,1,F244,F244,SIMDrateratios,RateRatios!$B$3)*1000))","v":113753.34932067804},{"$f":"IF('III Tool Overview'!$H$6=\"Western Isles Health Board\",0,IF('III Tool Overview'!$H$6=\"Eilean Siar Local Authority\",0,new_yll(5,B244,C244,D244,$C$1,G244+H244,1,F244,F244,SIMDrateratios,RateRatios!$B$3)*1000))","v":113752.07223783563},1.2770828424108913,{"$f":"IF('III Tool Overview'!$H$6=\"Western Isles Health Board\",0,IF('III Tool Overview'!$H$6=\"Eilean Siar Local Authority\",0,new_yll(10,B244,C244,D244,$C$1,G244,1,F244,F244,SIMDrateratios,RateRatios!$B$3)*10))","v":2861.5102172996922},{"$f":"IF('III Tool Overview'!$H$6=\"Western Isles Health Board\",0,IF('III Tool Overview'!$H$6=\"Eilean Siar Local Authority\",0,new_yll(10,B244,C244,D244,$C$1,G244+H244,1,F244,F244,SIMDrateratios,RateRatios!$B$3)*10))","v":2861.4781657254653},3.2051574226898083E-2,{"$f":"IF('III Tool Overview'!$H$6=\"Western Isles Health Board\",0,IF('III Tool Overview'!$H$6=\"Eilean Siar Local Authority\",0,new_yll(20,B244,C244,D244,$C$1,G244,1,F244,F244,SIMDrateratios,RateRatios!$B$3)*10))","v":7562.1498512804455},{"$f":"IF('III Tool Overview'!$H$6=\"Western Isles Health Board\",0,IF('III Tool Overview'!$H$6=\"Eilean Siar Local Authority\",0,new_yll(20,B244,C244,D244,$C$1,G244+H244,1,F244,F244,SIMDrateratios,RateRatios!$B$3)*10))","v":7562.0657362401153},8.4115040330289048E-2,{"$f":"IF('III Tool Overview'!$H$6=\"Western Isles Health Board\",0,IF('III Tool Overview'!$H$6=\"Eilean Siar Local Authority\",0,hosp_count(2,B244,C244,D244,$C$1,G244,1,F244,F244,SIMDRateRatios_hosp,SIMDrateratios,RateRatios!$B$3)*10))","v":433.69949765595669},{"$f":"IF('III Tool Overview'!$H$6=\"Western Isles Health Board\",0,IF('III Tool Overview'!$H$6=\"Eilean Siar Local Authority\",0,hosp_count(2,B244,C244,D244,$C$1,G244+H244,1,F244,F244,SIMDRateRatios_hosp,SIMDrateratios,RateRatios!$B$3)*10))","v":433.69570688046383},3.790775492859666E-3,{"$f":"IF('III Tool Overview'!$H$6=\"Western Isles Health Board\",0,IF('III Tool Overview'!$H$6=\"Eilean Siar Local Authority\",0,hosp_count(5,B244,C244,D244,$C$1,G244,1,F244,F244,SIMDRateRatios_hosp,SIMDrateratios,RateRatios!$B$3)*1000))","v":183207.90682681988},{"$f":"IF('III Tool Overview'!$H$6=\"Western Isles Health Board\",0,IF('III Tool Overview'!$H$6=\"Eilean Siar Local Authority\",0,hosp_count(5,B244,C244,D244,$C$1,G244+H244,1,F244,F244,SIMDRateRatios_hosp,SIMDrateratios,RateRatios!$B$3)*1000))","v":183206.30769616441},1.5991306554642506,{"$f":"IF('III Tool Overview'!$H$6=\"Western Isles Health Board\",0,IF('III Tool Overview'!$H$6=\"Eilean Siar Local Authority\",0,hosp_count(10,B244,C244,D244,$C$1,G244,1,F244,F244,SIMDRateRatios_hosp,SIMDrateratios,RateRatios!$B$3)*10))","v":4522.7573403023889},{"$f":"IF('III Tool Overview'!$H$6=\"Western Isles Health Board\",0,IF('III Tool Overview'!$H$6=\"Eilean Siar Local Authority\",0,hosp_count(10,B244,C244,D244,$C$1,G244+H244,1,F244,F244,SIMDRateRatios_hosp,SIMDrateratios,RateRatios!$B$3)*10))","v":4522.7179752872589},3.9365015129988024E-2,{"$f":"IF('III Tool Overview'!$H$6=\"Western Isles Health Board\",0,IF('III Tool Overview'!$H$6=\"Eilean Siar Local Authority\",0,hosp_count(20,B244,C244,D244,$C$1,G244,1,F244,F244,SIMDRateRatios_hosp,SIMDrateratios,RateRatios!$B$3)*10))","v":11564.123883489003},{"$f":"IF('III Tool Overview'!$H$6=\"Western Isles Health Board\",0,IF('III Tool Overview'!$H$6=\"Eilean Siar Local Authority\",0,hosp_count(20,B244,C244,D244,$C$1,G244+H244,1,F244,F244,SIMDRateRatios_hosp,SIMDrateratios,RateRatios!$B$3)*10))","v":11564.024086174799},9.9797314203897258E-2]
["Male 30-34",32.5,"male",5,1,{"$f":"HLOOKUP('III Tool Overview'!$H$6,LookUpData_Pop!$B$1:$AV$269,LookUpData_Pop!BB238,FALSE)/50","v":463.38},{"$f":"'III Tool Overview'!$H$9/110","v":0},463.38,{"$f":"IF('III Tool Overview'!$H$6=\"Western Isles Health Board\",0,IF('III Tool Overview'!$H$6=\"Eilean Siar Local Authority\",0,new_ci(2,B245,C245,D245,$C$1,G245,1,F245,E245*F245,SIMDrateratios,RateRatios!$B$3)*10))","v":4.124521131869276},{"$f":"IF('III Tool Overview'!$H$6=\"Western Isles Health Board\",0,IF('III Tool Overview'!$H$6=\"Eilean Siar Local Authority\",0,new_ci(2,B245,C245,D245,$C$1,G245+H245,1,H245,H245,SIMDrateratios,RateRatios!$B$3)*10))","v":4.1244748546772128},{"$f":"IF('III Tool Overview'!$H$6=\"Western Isles Health Board\",0,IF('III Tool Overview'!$H$6=\"Eilean Siar Local Authority\",0,new_ci(5,B245,C245,D245,$C$1,G245,1,F245,F245,SIMDrateratios,RateRatios!$B$3)*1000))","v":1802.0145902791355},{"$f":"IF('III Tool Overview'!$H$6=\"Western Isles Health Board\",0,IF('III Tool Overview'!$H$6=\"Eilean Siar Local Authority\",0,new_ci(5,B245,C245,D245,$C$1,H245,1,F245,F245,SIMDrateratios,RateRatios!$B$3)*1000))","v":1801.9944020241392},{"$f":"IF('III Tool Overview'!$H$6=\"Western Isles Health Board\",0,IF('III Tool Overview'!$H$6=\"Eilean Siar Local Authority\",0,new_ci(10,B245,C245,D245,$C$1,G245,1,F245,F245,SIMDrateratios,RateRatios!$B$3)*10))","v":47.204840680318384},{"$f":"IF('III Tool Overview'!$H$6=\"Western Isles Health Board\",0,IF('III Tool Overview'!$H$6=\"Eilean Siar Local Authority\",0,new_ci(10,B245,C245,D245,$C$1,G245+H245,1,F245,F245,SIMDrateratios,RateRatios!$B$3)*10))","v":47.204313513497389},{"$f":"IF('III Tool Overview'!$H$6=\"Western Isles Health Board\",0,IF('III Tool Overview'!$H$6=\"Eilean Siar Local Authority\",0,new_ci(20,B245,C245,D245,$C$1,G245,1,F245,F245,SIMDrateratios,RateRatios!$B$3)*10))","v":137.43926011690985},{"$f":"IF('III Tool Overview'!$H$6=\"Western Isles Health Board\",0,IF('III Tool Overview'!$H$6=\"Eilean Siar Local Authority\",0,new_ci(20,B245,C245,D245,$C$1,G245+H245,1,F245,F245,SIMDrateratios,RateRatios!$B$3)*10))","v":137.43774046803864},{"$f":"IF('III Tool Overview'!$H$6=\"Western Isles Health Board\",0,IF('III Tool Overview'!$H$6=\"Eilean Siar Local Authority\",0,new_yll(2,B245,C245,D245,$C$1,G245,1,F245,F245,SIMDrateratios,RateRatios!$B$3)*10))","v":276.34291583524151},{"$f":"IF('III Tool Overview'!$H$6=\"Western Isles Health Board\",0,IF('III Tool Overview'!$H$6=\"Eilean Siar Local Authority\",0,new_yll(2,B245,C245,D245,$C$1,G245+H245,1,F245,F245,SIMDrateratios,RateRatios!$B$3)*10))","v":276.33981526337328},3.1005718682308725E-3,{"$f":"IF('III Tool Overview'!$H$6=\"Western Isles Health Board\",0,IF('III Tool Overview'!$H$6=\"Eilean Siar Local Authority\",0,new_yll(5,B245,C245,D245,$C$1,G245,1,F245,F245,SIMDrateratios,RateRatios!$B$3)*1000))","v":117902.69942542312},{"$f":"IF('III Tool Overview'!$H$6=\"Western Isles Health Board\",0,IF('III Tool Overview'!$H$6=\"Eilean Siar Local Authority\",0,new_yll(5,B245,C245,D245,$C$1,G245+H245,1,F245,F245,SIMDrateratios,RateRatios!$B$3)*1000))","v":117901.37851822286},1.320907200264628,{"$f":"IF('III Tool Overview'!$H$6=\"Western Isles Health Board\",0,IF('III Tool Overview'!$H$6=\"Eilean Siar Local Authority\",0,new_yll(10,B245,C245,D245,$C$1,G245,1,F245,F245,SIMDrateratios,RateRatios!$B$3)*10))","v":2955.9627787262007},{"$f":"IF('III Tool Overview'!$H$6=\"Western Isles Health Board\",0,IF('III Tool Overview'!$H$6=\"Eilean Siar Local Authority\",0,new_yll(10,B245,C245,D245,$C$1,G245+H245,1,F245,F245,SIMDrateratios,RateRatios!$B$3)*10))","v":2955.9297636070123},3.3015119188348763E-2,{"$f":"IF('III Tool Overview'!$H$6=\"Western Isles Health Board\",0,IF('III Tool Overview'!$H$6=\"Eilean Siar Local Authority\",0,new_yll(20,B245,C245,D245,$C$1,G245,1,F245,F245,SIMDrateratios,RateRatios!$B$3)*10))","v":7741.7305976587986},{"$f":"IF('III Tool Overview'!$H$6=\"Western Isles Health Board\",0,IF('III Tool Overview'!$H$6=\"Eilean Siar Local Authority\",0,new_yll(20,B245,C245,D245,$C$1,G245+H245,1,F245,F245,SIMDrateratios,RateRatios!$B$3)*10))","v":7741.6449277983875},8.5669860411144327E-2,{"$f":"IF('III Tool Overview'!$H$6=\"Western Isles Health Board\",0,IF('III Tool Overview'!$H$6=\"Eilean Siar Local Authority\",0,hosp_count(2,B245,C245,D245,$C$1,G245,1,F245,F245,SIMDRateRatios_hosp,SIMDrateratios,RateRatios!$B$3)*10))","v":410.74387777448896},{"$f":"IF('III Tool Overview'!$H$6=\"Western Isles Health Board\",0,IF('III Tool Overview'!$H$6=\"Eilean Siar Local Authority\",0,hosp_count(2,B245,C245,D245,$C$1,G245+H245,1,F245,F245,SIMDRateRatios_hosp,SIMDrateratios,RateRatios!$B$3)*10))","v":410.74029339152872},3.584382960241328E-3,{"$f":"IF('III Tool Overview'!$H$6=\"Western Isles Health Board\",0,IF('III Tool Overview'!$H$6=\"Eilean Siar Local Authority\",0,hosp_count(5,B245,C245,D245,$C$1,G245,1,F245,F245,SIMDRateRatios_hosp,SIMDrateratios,RateRatios!$B$3)*1000))","v":173448.27664839549},{"$f":"IF('III Tool Overview'!$H$6=\"Western Isles Health Board\",0,IF('III Tool Overview'!$H$6=\"Eilean Siar Local Authority\",0,hosp_count(5,B245,C245,D245,$C$1,G245+H245,1,F245,F245,SIMDRateRatios_hosp,SIMDrateratios,RateRatios!$B$3)*1000))","v":173446.76582911919},1.5108192763000261,{"$f":"IF('III Tool Overview'!$H$6=\"Western Isles Health Board\",0,IF('III Tool Overview'!$H$6=\"Eilean Siar Local Authority\",0,hosp_count(10,B245,C245,D245,$C$1,G245,1,F245,F245,SIMDRateRatios_hosp,SIMDrateratios,RateRatios!$B$3)*10))","v":4278.6640106504501},{"$f":"IF('III Tool Overview'!$H$6=\"Western Isles Health Board\",0,IF('III Tool Overview'!$H$6=\"Eilean Siar Local Authority\",0,hosp_count(10,B245,C245,D245,$C$1,G245+H245,1,F245,F245,SIMDRateRatios_hosp,SIMDrateratios,RateRatios!$B$3)*10))","v":4278.6268824819535},3.7128168496565195E-2,{"$f":"IF('III Tool Overview'!$H$6=\"Western Isles Health Board\",0,IF('III Tool Overview'!$H$6=\"Eilean Siar Local Authority\",0,hosp_count(20,B245,C245,D245,$C$1,G245,1,F245,F245,SIMDRateRatios_hosp,SIMDrateratios,RateRatios!$B$3)*10))","v":10915.916171385019},{"$f":"IF('III Tool Overview'!$H$6=\"Western Isles Health Board\",0,IF('III Tool Overview'!$H$6=\"Eilean Siar Local Authority\",0,hosp_count(20,B245,C245,D245,$C$1,G245+H245,1,F245,F245,SIMDRateRatios_hosp,SIMDrateratios,RateRatios!$B$3)*10))","v":10915.822521723436},9.3649661583185662E-2]
["Male 35-39",37.5,"male",5,1,{"$f":"HLOOKUP('III Tool Overview'!$H$6,LookUpData_Pop!$B$1:$AV$269,LookUpData_Pop!BB239,FALSE)/50","v":590.20000000000005},{"$f":"'III Tool Overview'!$H$9/110","v":0},590.20000000000005,{"$f":"IF('III Tool Overview'!$H$6=\"Western Isles Health Board\",0,IF('III Tool Overview'!$H$6=\"Eilean Siar Local Authority\",0,new_ci(2,B246,C246,D246,$C$1,G246,1,F246,E246*F246,SIMDrateratios,RateRatios!$B$3)*10))","v":8.1094122140876177},{"$f":"IF('III Tool Overview'!$H$6=\"Western Isles Health Board\",0,IF('III Tool Overview'!$H$6=\"Eilean Siar Local Authority\",0,new_ci(2,B246,C246,D246,$C$1,G246+H246,1,H246,H246,SIMDrateratios,RateRatios!$B$3)*10))","v":8.1093212045887917},{"$f":"IF('III Tool Overview'!$H$6=\"Western Isles Health Board\",0,IF('III Tool Overview'!$H$6=\"Eilean Siar Local Authority\",0,new_ci(5,B246,C246,D246,$C$1,G246,1,F246,F246,SIMDrateratios,RateRatios!$B$3)*1000))","v":3540.1314963516434},{"$f":"IF('III Tool Overview'!$H$6=\"Western Isles Health Board\",0,IF('III Tool Overview'!$H$6=\"Eilean Siar Local Authority\",0,new_ci(5,B246,C246,D246,$C$1,H246,1,F246,F246,SIMDrateratios,RateRatios!$B$3)*1000))","v":3540.0918586663552},{"$f":"IF('III Tool Overview'!$H$6=\"Western Isles Health Board\",0,IF('III Tool Overview'!$H$6=\"Eilean Siar Local Authority\",0,new_ci(10,B246,C246,D246,$C$1,G246,1,F246,F246,SIMDrateratios,RateRatios!$B$3)*10))","v":92.576454108756238},{"$f":"IF('III Tool Overview'!$H$6=\"Western Isles Health Board\",0,IF('III Tool Overview'!$H$6=\"Eilean Siar Local Authority\",0,new_ci(10,B246,C246,D246,$C$1,G246+H246,1,F246,F246,SIMDrateratios,RateRatios!$B$3)*10))","v":92.575422633250241},{"$f":"IF('III Tool Overview'!$H$6=\"Western Isles Health Board\",0,IF('III Tool Overview'!$H$6=\"Eilean Siar Local Authority\",0,new_ci(20,B246,C246,D246,$C$1,G246,1,F246,F246,SIMDrateratios,RateRatios!$B$3)*10))","v":268.10045616902789},{"$f":"IF('III Tool Overview'!$H$6=\"Western Isles Health Board\",0,IF('III Tool Overview'!$H$6=\"Eilean Siar Local Authority\",0,new_ci(20,B246,C246,D246,$C$1,G246+H246,1,F246,F246,SIMDrateratios,RateRatios!$B$3)*10))","v":268.0975147327224},{"$f":"IF('III Tool Overview'!$H$6=\"Western Isles Health Board\",0,IF('III Tool Overview'!$H$6=\"Eilean Siar Local Authority\",0,new_yll(2,B246,C246,D246,$C$1,G246,1,F246,F246,SIMDrateratios,RateRatios!$B$3)*10))","v":494.67414505934471},{"$f":"IF('III Tool Overview'!$H$6=\"Western Isles Health Board\",0,IF('III Tool Overview'!$H$6=\"Eilean Siar Local Authority\",0,new_yll(2,B246,C246,D246,$C$1,G246+H246,1,F246,F246,SIMDrateratios,RateRatios!$B$3)*10))","v":494.6685934799163},5.5515794284133335E-3,{"$f":"IF('III Tool Overview'!$H$6=\"Western Isles Health Board\",0,IF('III Tool Overview'!$H$6=\"Eilean Siar Local Authority\",0,new_yll(5,B246,C246,D246,$C$1,G246,1,F246,F246,SIMDrateratios,RateRatios!$B$3)*1000))","v":210386.23492699361},{"$f":"IF('III Tool Overview'!$H$6=\"Western Isles Health Board\",0,IF('III Tool Overview'!$H$6=\"Eilean Siar Local Authority\",0,new_yll(5,B246,C246,D246,$C$1,G246+H246,1,F246,F246,SIMDrateratios,RateRatios!$B$3)*1000))","v":210383.87922709429},2.3556998993153684,{"$f":"IF('III Tool Overview'!$H$6=\"Western Isles Health Board\",0,IF('III Tool Overview'!$H$6=\"Eilean Siar Local Authority\",0,new_yll(10,B246,C246,D246,$C$1,G246,1,F246,F246,SIMDrateratios,RateRatios!$B$3)*10))","v":5242.0487700139247},{"$f":"IF('III Tool Overview'!$H$6=\"Western Isles Health Board\",0,IF('III Tool Overview'!$H$6=\"Eilean Siar Local Authority\",0,new_yll(10,B246,C246,D246,$C$1,G246+H246,1,F246,F246,SIMDrateratios,RateRatios!$B$3)*10))","v":5241.9903516859049},5.8418328019797627E-2,{"$f":"IF('III Tool Overview'!$H$6=\"Western Isles Health Board\",0,IF('III Tool Overview'!$H$6=\"Eilean Siar Local Authority\",0,new_yll(20,B246,C246,D246,$C$1,G246,1,F246,F246,SIMDrateratios,RateRatios!$B$3)*10))","v":13499.728712730433},{"$f":"IF('III Tool Overview'!$H$6=\"Western Isles Health Board\",0,IF('III Tool Overview'!$H$6=\"Eilean Siar Local Authority\",0,new_yll(20,B246,C246,D246,$C$1,G246+H246,1,F246,F246,SIMDrateratios,RateRatios!$B$3)*10))","v":13499.580389288571},0.14832344186288537,{"$f":"IF('III Tool Overview'!$H$6=\"Western Isles Health Board\",0,IF('III Tool Overview'!$H$6=\"Eilean Siar Local Authority\",0,hosp_count(2,B246,C246,D246,$C$1,G246,1,F246,F246,SIMDRateRatios_hosp,SIMDrateratios,RateRatios!$B$3)*10))","v":644.99096971667097},{"$f":"IF('III Tool Overview'!$H$6=\"Western Isles Health Board\",0,IF('III Tool Overview'!$H$6=\"Eilean Siar Local Authority\",0,hosp_count(2,B246,C246,D246,$C$1,G246+H246,1,F246,F246,SIMDRateRatios_hosp,SIMDrateratios,RateRatios!$B$3)*10))","v":644.98533845069892},5.6312659720560987E-3,{"$f":"IF('III Tool Overview'!$H$6=\"Western Isles Health Board\",0,IF('III Tool Overview'!$H$6=\"Eilean Siar Local Authority\",0,hosp_count(5,B246,C246,D246,$C$1,G246,1,F246,F246,SIMDRateRatios_hosp,SIMDrateratios,RateRatios!$B$3)*1000))","v":272153.68363699107},{"$f":"IF('III Tool Overview'!$H$6=\"Western Isles Health Board\",0,IF('III Tool Overview'!$H$6=\"Eilean Siar Local Authority\",0,hosp_count(5,B246,C246,D246,$C$1,G246+H246,1,F246,F246,SIMDRateRatios_hosp,SIMDrateratios,RateRatios!$B$3)*1000))","v":272151.31428221666},2.3693547744187526,{"$f":"IF('III Tool Overview'!$H$6=\"Western Isles Health Board\",0,IF('III Tool Overview'!$H$6=\"Eilean Siar Local Authority\",0,hosp_count(10,B246,C246,D246,$C$1,G246,1,F246,F246,SIMDRateRatios_hosp,SIMDrateratios,RateRatios!$B$3)*10))","v":6702.8388876576118},{"$f":"IF('III Tool Overview'!$H$6=\"Western Isles Health Board\",0,IF('III Tool Overview'!$H$6=\"Eilean Siar Local Authority\",0,hosp_count(10,B246,C246,D246,$C$1,G246+H246,1,F246,F246,SIMDRateRatios_hosp,SIMDrateratios,RateRatios!$B$3)*10))","v":6702.7808741047056},5.801355290623178E-2,{"$f":"IF('III Tool Overview'!$H$6=\"Western Isles Health Board\",0,IF('III Tool Overview'!$H$6=\"Eilean Siar Local Authority\",0,hosp_count(20,B246,C246,D246,$C$1,G246,1,F246,F246,SIMDRateRatios_hosp,SIMDrateratios,RateRatios!$B$3)*10))","v":17019.433444509385},{"$f":"IF('III Tool Overview'!$H$6=\"Western Isles Health Board\",0,IF('III Tool Overview'!$H$6=\"Eilean Siar Local Authority\",0,hosp_count(20,B246,C246,D246,$C$1,G246+H246,1,F246,F246,SIMDRateRatios_hosp,SIMDrateratios,RateRatios!$B$3)*10))","v":17019.288715165789},0.14472934359582723]
["Male 40-44",42.5,"male",5,1,{"$f":"HLOOKUP('III Tool Overview'!$H$6,LookUpData_Pop!$B$1:$AV$269,LookUpData_Pop!BB240,FALSE)/50","v":774.26},{"$f":"'III Tool Overview'!$H$9/110","v":0},774.26,{"$f":"IF('III Tool Overview'!$H$6=\"Western Isles Health Board\",0,IF('III Tool Overview'!$H$6=\"Eilean Siar Local Authority\",0,new_ci(2,B247,C247,D247,$C$1,G247,1,F247,E247*F247,SIMDrateratios,RateRatios!$B$3)*10))","v":14.208540516085481},{"$f":"IF('III Tool Overview'!$H$6=\"Western Isles Health Board\",0,IF('III Tool Overview'!$H$6=\"Eilean Siar Local Authority\",0,new_ci(2,B247,C247,D247,$C$1,G247+H247,1,H247,H247,SIMDrateratios,RateRatios!$B$3)*10))","v":14.208381094239977},{"$f":"IF('III Tool Overview'!$H$6=\"Western Isles Health Board\",0,IF('III Tool Overview'!$H$6=\"Eilean Siar Local Authority\",0,new_ci(5,B247,C247,D247,$C$1,G247,1,F247,F247,SIMDrateratios,RateRatios!$B$3)*1000))","v":6197.8554480178864},{"$f":"IF('III Tool Overview'!$H$6=\"Western Isles Health Board\",0,IF('III Tool Overview'!$H$6=\"Eilean Siar Local Authority\",0,new_ci(5,B247,C247,D247,$C$1,H247,1,F247,F247,SIMDrateratios,RateRatios!$B$3)*1000))","v":6197.7861226253635},{"$f":"IF('III Tool Overview'!$H$6=\"Western Isles Health Board\",0,IF('III Tool Overview'!$H$6=\"Eilean Siar Local Authority\",0,new_ci(10,B247,C247,D247,$C$1,G247,1,F247,F247,SIMDrateratios,RateRatios!$B$3)*10))","v":161.81220863866224},{"$f":"IF('III Tool Overview'!$H$6=\"Western Isles Health Board\",0,IF('III Tool Overview'!$H$6=\"Eilean Siar Local Authority\",0,new_ci(10,B247,C247,D247,$C$1,G247+H247,1,F247,F247,SIMDrateratios,RateRatios!$B$3)*10))","v":161.8104105367679},{"$f":"IF('III Tool Overview'!$H$6=\"Western Isles Health Board\",0,IF('III Tool Overview'!$H$6=\"Eilean Siar Local Authority\",0,new_ci(20,B247,C247,D247,$C$1,G247,1,F247,F247,SIMDrateratios,RateRatios!$B$3)*10))","v":466.22730086500462},{"$f":"IF('III Tool Overview'!$H$6=\"Western Isles Health Board\",0,IF('III Tool Overview'!$H$6=\"Eilean Siar Local Authority\",0,new_ci(20,B247,C247,D247,$C$1,G247+H247,1,F247,F247,SIMDrateratios,RateRatios!$B$3)*10))","v":466.22222582592934},{"$f":"IF('III Tool Overview'!$H$6=\"Western Isles Health Board\",0,IF('III Tool Overview'!$H$6=\"Eilean Siar Local Authority\",0,new_yll(2,B247,C247,D247,$C$1,G247,1,F247,F247,SIMDrateratios,RateRatios!$B$3)*10))","v":809.88680941687244},{"$f":"IF('III Tool Overview'!$H$6=\"Western Isles Health Board\",0,IF('III Tool Overview'!$H$6=\"Eilean Siar Local Authority\",0,new_yll(2,B247,C247,D247,$C$1,G247+H247,1,F247,F247,SIMDrateratios,RateRatios!$B$3)*10))","v":809.87772237167871},9.0870451937234975E-3,{"$f":"IF('III Tool Overview'!$H$6=\"Western Isles Health Board\",0,IF('III Tool Overview'!$H$6=\"Eilean Siar Local Authority\",0,new_yll(5,B247,C247,D247,$C$1,G247,1,F247,F247,SIMDrateratios,RateRatios!$B$3)*1000))","v":343544.41548879229},{"$f":"IF('III Tool Overview'!$H$6=\"Western Isles Health Board\",0,IF('III Tool Overview'!$H$6=\"Eilean Siar Local Authority\",0,new_yll(5,B247,C247,D247,$C$1,G247+H247,1,F247,F247,SIMDrateratios,RateRatios!$B$3)*1000))","v":343540.57263817539},3.8428506169002503,{"$f":"IF('III Tool Overview'!$H$6=\"Western Isles Health Board\",0,IF('III Tool Overview'!$H$6=\"Eilean Siar Local Authority\",0,new_yll(10,B247,C247,D247,$C$1,G247,1,F247,F247,SIMDrateratios,RateRatios!$B$3)*10))","v":8515.8356947566317},{"$f":"IF('III Tool Overview'!$H$6=\"Western Isles Health Board\",0,IF('III Tool Overview'!$H$6=\"Eilean Siar Local Authority\",0,new_yll(10,B247,C247,D247,$C$1,G247+H247,1,F247,F247,SIMDrateratios,RateRatios!$B$3)*10))","v":8515.7410362718729},9.4658484758838313E-2,{"$f":"IF('III Tool Overview'!$H$6=\"Western Isles Health Board\",0,IF('III Tool Overview'!$H$6=\"Eilean Siar Local Authority\",0,new_yll(20,B247,C247,D247,$C$1,G247,1,F247,F247,SIMDrateratios,RateRatios!$B$3)*10))","v":21622.208817688133},{"$f":"IF('III Tool Overview'!$H$6=\"Western Isles Health Board\",0,IF('III Tool Overview'!$H$6=\"Eilean Siar Local Authority\",0,new_yll(20,B247,C247,D247,$C$1,G247+H247,1,F247,F247,SIMDrateratios,RateRatios!$B$3)*10))","v":21621.972958691582},0.23585899655154208,{"$f":"IF('III Tool Overview'!$H$6=\"Western Isles Health Board\",0,IF('III Tool Overview'!$H$6=\"Eilean Siar Local Authority\",0,hosp_count(2,B247,C247,D247,$C$1,G247,1,F247,F247,SIMDRateRatios_hosp,SIMDrateratios,RateRatios!$B$3)*10))","v":972.87041335404399},{"$f":"IF('III Tool Overview'!$H$6=\"Western Isles Health Board\",0,IF('III Tool Overview'!$H$6=\"Eilean Siar Local Authority\",0,hosp_count(2,B247,C247,D247,$C$1,G247+H247,1,F247,F247,SIMDRateRatios_hosp,SIMDrateratios,RateRatios!$B$3)*10))","v":972.86191942296387},8.4939310801246393E-3,{"$f":"IF('III Tool Overview'!$H$6=\"Western Isles Health Board\",0,IF('III Tool Overview'!$H$6=\"Eilean Siar Local Authority\",0,hosp_count(5,B247,C247,D247,$C$1,G247,1,F247,F247,SIMDRateRatios_hosp,SIMDrateratios,RateRatios!$B$3)*1000))","v":410197.68219416833},{"$f":"IF('III Tool Overview'!$H$6=\"Western Isles Health Board\",0,IF('III Tool Overview'!$H$6=\"Eilean Siar Local Authority\",0,hosp_count(5,B247,C247,D247,$C$1,G247+H247,1,F247,F247,SIMDRateRatios_hosp,SIMDrateratios,RateRatios!$B$3)*1000))","v":410194.11443981493},3.5677543533965945,{"$f":"IF('III Tool Overview'!$H$6=\"Western Isles Health Board\",0,IF('III Tool Overview'!$H$6=\"Eilean Siar Local Authority\",0,hosp_count(10,B247,C247,D247,$C$1,G247,1,F247,F247,SIMDRateRatios_hosp,SIMDrateratios,RateRatios!$B$3)*10))","v":10087.356368183124},{"$f":"IF('III Tool Overview'!$H$6=\"Western Isles Health Board\",0,IF('III Tool Overview'!$H$6=\"Eilean Siar Local Authority\",0,hosp_count(10,B247,C247,D247,$C$1,G247+H247,1,F247,F247,SIMDRateRatios_hosp,SIMDrateratios,RateRatios!$B$3)*10))","v":10087.26931661319},8.7051569933464634E-2,{"$f":"IF('III Tool Overview'!$H$6=\"Western Isles Health Board\",0,IF('III Tool Overview'!$H$6=\"Eilean Siar Local Authority\",0,hosp_count(20,B247,C247,D247,$C$1,G247,1,F247,F247,SIMDRateRatios_hosp,SIMDrateratios,RateRatios!$B$3)*10))","v":25497.7588024943},{"$f":"IF('III Tool Overview'!$H$6=\"Western Isles Health Board\",0,IF('III Tool Overview'!$H$6=\"Eilean Siar Local Authority\",0,hosp_count(20,B247,C247,D247,$C$1,G247+H247,1,F247,F247,SIMDRateRatios_hosp,SIMDrateratios,RateRatios!$B$3)*10))","v":25497.543897075418},0.21490541888124426]
["Male 45-49",47.5,"male",5,1,{"$f":"HLOOKUP('III Tool Overview'!$H$6,LookUpData_Pop!$B$1:$AV$269,LookUpData_Pop!BB241,FALSE)/50","v":859.74},{"$f":"'III Tool Overview'!$H$9/110","v":0},859.74,{"$f":"IF('III Tool Overview'!$H$6=\"Western Isles Health Board\",0,IF('III Tool Overview'!$H$6=\"Eilean Siar Local Authority\",0,new_ci(2,B248,C248,D248,$C$1,G248,1,F248,E248*F248,SIMDrateratios,RateRatios!$B$3)*10))","v":24.348486702030947},{"$f":"IF('III Tool Overview'!$H$6=\"Western Isles Health Board\",0,IF('III Tool Overview'!$H$6=\"Eilean Siar Local Authority\",0,new_ci(2,B248,C248,D248,$C$1,G248+H248,1,H248,H248,SIMDrateratios,RateRatios!$B$3)*10))","v":24.348213470735402},{"$f":"IF('III Tool Overview'!$H$6=\"Western Isles Health Board\",0,IF('III Tool Overview'!$H$6=\"Eilean Siar Local Authority\",0,new_ci(5,B248,C248,D248,$C$1,G248,1,F248,F248,SIMDrateratios,RateRatios!$B$3)*1000))","v":10603.103377856776},{"$f":"IF('III Tool Overview'!$H$6=\"Western Isles Health Board\",0,IF('III Tool Overview'!$H$6=\"Eilean Siar Local Authority\",0,new_ci(5,B248,C248,D248,$C$1,H248,1,F248,F248,SIMDrateratios,RateRatios!$B$3)*1000))","v":10602.984961966526},{"$f":"IF('III Tool Overview'!$H$6=\"Western Isles Health Board\",0,IF('III Tool Overview'!$H$6=\"Eilean Siar Local Authority\",0,new_ci(10,B248,C248,D248,$C$1,G248,1,F248,F248,SIMDrateratios,RateRatios!$B$3)*10))","v":275.84604634006968},{"$f":"IF('III Tool Overview'!$H$6=\"Western Isles Health Board\",0,IF('III Tool Overview'!$H$6=\"Eilean Siar Local Authority\",0,new_ci(10,B248,C248,D248,$C$1,G248+H248,1,F248,F248,SIMDrateratios,RateRatios!$B$3)*10))","v":275.84299675533367},{"$f":"IF('III Tool Overview'!$H$6=\"Western Isles Health Board\",0,IF('III Tool Overview'!$H$6=\"Eilean Siar Local Authority\",0,new_ci(20,B248,C248,D248,$C$1,G248,1,F248,F248,SIMDrateratios,RateRatios!$B$3)*10))","v":786.13437391454215},{"$f":"IF('III Tool Overview'!$H$6=\"Western Isles Health Board\",0,IF('III Tool Overview'!$H$6=\"Eilean Siar Local Authority\",0,new_ci(20,B248,C248,D248,$C$1,G248+H248,1,F248,F248,SIMDrateratios,RateRatios!$B$3)*10))","v":786.12595643192003},{"$f":"IF('III Tool Overview'!$H$6=\"Western Isles Health Board\",0,IF('III Tool Overview'!$H$6=\"Eilean Siar Local Authority\",0,new_yll(2,B248,C248,D248,$C$1,G248,1,F248,F248,SIMDrateratios,RateRatios!$B$3)*10))","v":1241.7728218035782},{"$f":"IF('III Tool Overview'!$H$6=\"Western Isles Health Board\",0,IF('III Tool Overview'!$H$6=\"Eilean Siar Local Authority\",0,new_yll(2,B248,C248,D248,$C$1,G248+H248,1,F248,F248,SIMDrateratios,RateRatios!$B$3)*10))","v":1241.7588870075056},1.3934796072589961E-2,{"$f":"IF('III Tool Overview'!$H$6=\"Western Isles Health Board\",0,IF('III Tool Overview'!$H$6=\"Eilean Siar Local Authority\",0,new_yll(5,B248,C248,D248,$C$1,G248,1,F248,F248,SIMDrateratios,RateRatios!$B$3)*1000))","v":524121.21798787394},{"$f":"IF('III Tool Overview'!$H$6=\"Western Isles Health Board\",0,IF('III Tool Overview'!$H$6=\"Eilean Siar Local Authority\",0,new_yll(5,B248,C248,D248,$C$1,G248+H248,1,F248,F248,SIMDrateratios,RateRatios!$B$3)*1000))","v":524115.36411966325},5.8538682106882334,{"$f":"IF('III Tool Overview'!$H$6=\"Western Isles Health Board\",0,IF('III Tool Overview'!$H$6=\"Eilean Siar Local Authority\",0,new_yll(10,B248,C248,D248,$C$1,G248,1,F248,F248,SIMDrateratios,RateRatios!$B$3)*10))","v":12864.446665712196},{"$f":"IF('III Tool Overview'!$H$6=\"Western Isles Health Board\",0,IF('III Tool Overview'!$H$6=\"Eilean Siar Local Authority\",0,new_yll(10,B248,C248,D248,$C$1,G248+H248,1,F248,F248,SIMDrateratios,RateRatios!$B$3)*10))","v":12864.304370070149},0.14229564204651979,{"$f":"IF('III Tool Overview'!$H$6=\"Western Isles Health Board\",0,IF('III Tool Overview'!$H$6=\"Eilean Siar Local Authority\",0,new_yll(20,B248,C248,D248,$C$1,G248,1,F248,F248,SIMDrateratios,RateRatios!$B$3)*10))","v":31782.100445552096},{"$f":"IF('III Tool Overview'!$H$6=\"Western Isles Health Board\",0,IF('III Tool Overview'!$H$6=\"Eilean Siar Local Authority\",0,new_yll(20,B248,C248,D248,$C$1,G248+H248,1,F248,F248,SIMDrateratios,RateRatios!$B$3)*10))","v":31781.758852403684},0.34159314841235755,{"$f":"IF('III Tool Overview'!$H$6=\"Western Isles Health Board\",0,IF('III Tool Overview'!$H$6=\"Eilean Siar Local Authority\",0,hosp_count(2,B248,C248,D248,$C$1,G248,1,F248,F248,SIMDRateRatios_hosp,SIMDrateratios,RateRatios!$B$3)*10))","v":1331.8518589987877},{"$f":"IF('III Tool Overview'!$H$6=\"Western Isles Health Board\",0,IF('III Tool Overview'!$H$6=\"Eilean Siar Local Authority\",0,hosp_count(2,B248,C248,D248,$C$1,G248+H248,1,F248,F248,SIMDRateRatios_hosp,SIMDrateratios,RateRatios!$B$3)*10))","v":1331.8402234508765},1.1635547911282629E-2,{"$f":"IF('III Tool Overview'!$H$6=\"Western Isles Health Board\",0,IF('III Tool Overview'!$H$6=\"Eilean Siar Local Authority\",0,hosp_count(5,B248,C248,D248,$C$1,G248,1,F248,F248,SIMDRateRatios_hosp,SIMDrateratios,RateRatios!$B$3)*1000))","v":560656.73483991774},{"$f":"IF('III Tool Overview'!$H$6=\"Western Isles Health Board\",0,IF('III Tool Overview'!$H$6=\"Eilean Siar Local Authority\",0,hosp_count(5,B248,C248,D248,$C$1,G248+H248,1,F248,F248,SIMDRateRatios_hosp,SIMDrateratios,RateRatios!$B$3)*1000))","v":560651.865424674},4.8694152437383309,{"$f":"IF('III Tool Overview'!$H$6=\"Western Isles Health Board\",0,IF('III Tool Overview'!$H$6=\"Eilean Siar Local Authority\",0,hosp_count(10,B248,C248,D248,$C$1,G248,1,F248,F248,SIMDRateRatios_hosp,SIMDrateratios,RateRatios!$B$3)*10))","v":13742.16286425283},{"$f":"IF('III Tool Overview'!$H$6=\"Western Isles Health Board\",0,IF('III Tool Overview'!$H$6=\"Eilean Siar Local Authority\",0,hosp_count(10,B248,C248,D248,$C$1,G248+H248,1,F248,F248,SIMDRateRatios_hosp,SIMDrateratios,RateRatios!$B$3)*10))","v":13742.044948102548},0.11791615028232627,{"$f":"IF('III Tool Overview'!$H$6=\"Western Isles Health Board\",0,IF('III Tool Overview'!$H$6=\"Eilean Siar Local Authority\",0,hosp_count(20,B248,C248,D248,$C$1,G248,1,F248,F248,SIMDRateRatios_hosp,SIMDrateratios,RateRatios!$B$3)*10))","v":34400.159756752539},{"$f":"IF('III Tool Overview'!$H$6=\"Western Isles Health Board\",0,IF('III Tool Overview'!$H$6=\"Eilean Siar Local Authority\",0,hosp_count(20,B248,C248,D248,$C$1,G248+H248,1,F248,F248,SIMDRateRatios_hosp,SIMDrateratios,RateRatios!$B$3)*10))","v":34399.875197707501},0.28455904503789498]
["Male 50-54",52.5,"male",5,1,{"$f":"HLOOKUP('III Tool Overview'!$H$6,LookUpData_Pop!$B$1:$AV$269,LookUpData_Pop!BB242,FALSE)/50","v":808.42},{"$f":"'III Tool Overview'!$H$9/110","v":0},808.42,{"$f":"IF('III Tool Overview'!$H$6=\"Western Isles Health Board\",0,IF('III Tool Overview'!$H$6=\"Eilean Siar Local Authority\",0,new_ci(2,B249,C249,D249,$C$1,G249,1,F249,E249*F249,SIMDrateratios,RateRatios!$B$3)*10))","v":30.570875690797813},{"$f":"IF('III Tool Overview'!$H$6=\"Western Isles Health Board\",0,IF('III Tool Overview'!$H$6=\"Eilean Siar Local Authority\",0,new_ci(2,B249,C249,D249,$C$1,G249+H249,1,H249,H249,SIMDrateratios,RateRatios!$B$3)*10))","v":30.570533078958789},{"$f":"IF('III Tool Overview'!$H$6=\"Western Isles Health Board\",0,IF('III Tool Overview'!$H$6=\"Eilean Siar Local Authority\",0,new_ci(5,B249,C249,D249,$C$1,G249,1,F249,F249,SIMDrateratios,RateRatios!$B$3)*1000))","v":13291.460081934054},{"$f":"IF('III Tool Overview'!$H$6=\"Western Isles Health Board\",0,IF('III Tool Overview'!$H$6=\"Eilean Siar Local Authority\",0,new_ci(5,B249,C249,D249,$C$1,H249,1,F249,F249,SIMDrateratios,RateRatios!$B$3)*1000))","v":13291.312073878169},{"$f":"IF('III Tool Overview'!$H$6=\"Western Isles Health Board\",0,IF('III Tool Overview'!$H$6=\"Eilean Siar Local Authority\",0,new_ci(10,B249,C249,D249,$C$1,G249,1,F249,F249,SIMDrateratios,RateRatios!$B$3)*10))","v":344.62431497073339},{"$f":"IF('III Tool Overview'!$H$6=\"Western Isles Health Board\",0,IF('III Tool Overview'!$H$6=\"Eilean Siar Local Authority\",0,new_ci(10,B249,C249,D249,$C$1,G249+H249,1,F249,F249,SIMDrateratios,RateRatios!$B$3)*10))","v":344.6205290703744},{"$f":"IF('III Tool Overview'!$H$6=\"Western Isles Health Board\",0,IF('III Tool Overview'!$H$6=\"Eilean Siar Local Authority\",0,new_ci(20,B249,C249,D249,$C$1,G249,1,F249,F249,SIMDrateratios,RateRatios!$B$3)*10))","v":972.02099813351242},{"$f":"IF('III Tool Overview'!$H$6=\"Western Isles Health Board\",0,IF('III Tool Overview'!$H$6=\"Eilean Siar Local Authority\",0,new_ci(20,B249,C249,D249,$C$1,G249+H249,1,F249,F249,SIMDrateratios,RateRatios!$B$3)*10))","v":972.01076804694912},{"$f":"IF('III Tool Overview'!$H$6=\"Western Isles Health Board\",0,IF('III Tool Overview'!$H$6=\"Eilean Siar Local Authority\",0,new_yll(2,B249,C249,D249,$C$1,G249,1,F249,F249,SIMDrateratios,RateRatios!$B$3)*10))","v":1436.8311574674972},{"$f":"IF('III Tool Overview'!$H$6=\"Western Isles Health Board\",0,IF('III Tool Overview'!$H$6=\"Eilean Siar Local Authority\",0,new_yll(2,B249,C249,D249,$C$1,G249+H249,1,F249,F249,SIMDrateratios,RateRatios!$B$3)*10))","v":1436.8150547110631},1.6102756434065668E-2,{"$f":"IF('III Tool Overview'!$H$6=\"Western Isles Health Board\",0,IF('III Tool Overview'!$H$6=\"Eilean Siar Local Authority\",0,new_yll(5,B249,C249,D249,$C$1,G249,1,F249,F249,SIMDrateratios,RateRatios!$B$3)*1000))","v":603860.61653915653},{"$f":"IF('III Tool Overview'!$H$6=\"Western Isles Health Board\",0,IF('III Tool Overview'!$H$6=\"Eilean Siar Local Authority\",0,new_yll(5,B249,C249,D249,$C$1,G249+H249,1,F249,F249,SIMDrateratios,RateRatios!$B$3)*1000))","v":603853.89143216389},6.7251069926423952,{"$f":"IF('III Tool Overview'!$H$6=\"Western Isles Health Board\",0,IF('III Tool Overview'!$H$6=\"Eilean Siar Local Authority\",0,new_yll(10,B249,C249,D249,$C$1,G249,1,F249,F249,SIMDrateratios,RateRatios!$B$3)*10))","v":14696.286719529191},{"$f":"IF('III Tool Overview'!$H$6=\"Western Isles Health Board\",0,IF('III Tool Overview'!$H$6=\"Eilean Siar Local Authority\",0,new_yll(10,B249,C249,D249,$C$1,G249+H249,1,F249,F249,SIMDrateratios,RateRatios!$B$3)*10))","v":14696.125148423516},0.16157110567473865,{"$f":"IF('III Tool Overview'!$H$6=\"Western Isles Health Board\",0,IF('III Tool Overview'!$H$6=\"Eilean Siar Local Authority\",0,new_yll(20,B249,C249,D249,$C$1,G249,1,F249,F249,SIMDrateratios,RateRatios!$B$3)*10))","v":35456.738665820951},{"$f":"IF('III Tool Overview'!$H$6=\"Western Isles Health Board\",0,IF('III Tool Overview'!$H$6=\"Eilean Siar Local Authority\",0,new_yll(20,B249,C249,D249,$C$1,G249+H249,1,F249,F249,SIMDrateratios,RateRatios!$B$3)*10))","v":35456.363371396001},0.37529442494997056,{"$f":"IF('III Tool Overview'!$H$6=\"Western Isles Health Board\",0,IF('III Tool Overview'!$H$6=\"Eilean Siar Local Authority\",0,hosp_count(2,B249,C249,D249,$C$1,G249,1,F249,F249,SIMDRateRatios_hosp,SIMDrateratios,RateRatios!$B$3)*10))","v":1439.9240353340965},{"$f":"IF('III Tool Overview'!$H$6=\"Western Isles Health Board\",0,IF('III Tool Overview'!$H$6=\"Eilean Siar Local Authority\",0,hosp_count(2,B249,C249,D249,$C$1,G249+H249,1,F249,F249,SIMDRateRatios_hosp,SIMDrateratios,RateRatios!$B$3)*10))","v":1439.9114659646364},1.2569369460152302E-2,{"$f":"IF('III Tool Overview'!$H$6=\"Western Isles Health Board\",0,IF('III Tool Overview'!$H$6=\"Eilean Siar Local Authority\",0,hosp_count(5,B249,C249,D249,$C$1,G249,1,F249,F249,SIMDRateRatios_hosp,SIMDrateratios,RateRatios!$B$3)*1000))","v":605224.83237643831},{"$f":"IF('III Tool Overview'!$H$6=\"Western Isles Health Board\",0,IF('III Tool Overview'!$H$6=\"Eilean Siar Local Authority\",0,hosp_count(5,B249,C249,D249,$C$1,G249+H249,1,F249,F249,SIMDRateRatios_hosp,SIMDrateratios,RateRatios!$B$3)*1000))","v":605219.59055685741},5.2418195809004828,{"$f":"IF('III Tool Overview'!$H$6=\"Western Isles Health Board\",0,IF('III Tool Overview'!$H$6=\"Eilean Siar Local Authority\",0,hosp_count(10,B249,C249,D249,$C$1,G249,1,F249,F249,SIMDRateRatios_hosp,SIMDrateratios,RateRatios!$B$3)*10))","v":14788.319981460005},{"$f":"IF('III Tool Overview'!$H$6=\"Western Isles Health Board\",0,IF('III Tool Overview'!$H$6=\"Eilean Siar Local Authority\",0,hosp_count(10,B249,C249,D249,$C$1,G249+H249,1,F249,F249,SIMDRateRatios_hosp,SIMDrateratios,RateRatios!$B$3)*10))","v":14788.193959825412},0.12602163459268922,{"$f":"IF('III Tool Overview'!$H$6=\"Western Isles Health Board\",0,IF('III Tool Overview'!$H$6=\"Eilean Siar Local Authority\",0,hosp_count(20,B249,C249,D249,$C$1,G249,1,F249,F249,SIMDRateRatios_hosp,SIMDrateratios,RateRatios!$B$3)*10))","v":36680.397285044957},{"$f":"IF('III Tool Overview'!$H$6=\"Western Isles Health Board\",0,IF('III Tool Overview'!$H$6=\"Eilean Siar Local Authority\",0,hosp_count(20,B249,C249,D249,$C$1,G249+H249,1,F249,F249,SIMDRateRatios_hosp,SIMDrateratios,RateRatios!$B$3)*10))","v":36680.099696240875},0.29758880408189725]
["Male 55-59",57.5,"male",5,1,{"$f":"HLOOKUP('III Tool Overview'!$H$6,LookUpData_Pop!$B$1:$AV$269,LookUpData_Pop!BB243,FALSE)/50","v":698.96},{"$f":"'III Tool Overview'!$H$9/110","v":0},698.96,{"$f":"IF('III Tool Overview'!$H$6=\"Western Isles Health Board\",0,IF('III Tool Overview'!$H$6=\"Eilean Siar Local Authority\",0,new_ci(2,B250,C250,D250,$C$1,G250,1,F250,E250*F250,SIMDrateratios,RateRatios!$B$3)*10))","v":40.769466328635382},{"$f":"IF('III Tool Overview'!$H$6=\"Western Isles Health Board\",0,IF('III Tool Overview'!$H$6=\"Eilean Siar Local Authority\",0,new_ci(2,B250,C250,D250,$C$1,G250+H250,1,H250,H250,SIMDrateratios,RateRatios!$B$3)*10))","v":40.769009627479058},{"$f":"IF('III Tool Overview'!$H$6=\"Western Isles Health Board\",0,IF('III Tool Overview'!$H$6=\"Eilean Siar Local Authority\",0,new_ci(5,B250,C250,D250,$C$1,G250,1,F250,F250,SIMDrateratios,RateRatios!$B$3)*1000))","v":17664.261305706652},{"$f":"IF('III Tool Overview'!$H$6=\"Western Isles Health Board\",0,IF('III Tool Overview'!$H$6=\"Eilean Siar Local Authority\",0,new_ci(5,B250,C250,D250,$C$1,H250,1,F250,F250,SIMDrateratios,RateRatios!$B$3)*1000))","v":17664.065379129155},{"$f":"IF('III Tool Overview'!$H$6=\"Western Isles Health Board\",0,IF('III Tool Overview'!$H$6=\"Eilean Siar Local Authority\",0,new_ci(10,B250,C250,D250,$C$1,G250,1,F250,F250,SIMDrateratios,RateRatios!$B$3)*10))","v":454.69608508368202},{"$f":"IF('III Tool Overview'!$H$6=\"Western Isles Health Board\",0,IF('III Tool Overview'!$H$6=\"Eilean Siar Local Authority\",0,new_ci(10,B250,C250,D250,$C$1,G250+H250,1,F250,F250,SIMDrateratios,RateRatios!$B$3)*10))","v":454.69114651682133},{"$f":"IF('III Tool Overview'!$H$6=\"Western Isles Health Board\",0,IF('III Tool Overview'!$H$6=\"Eilean Siar Local Authority\",0,new_ci(20,B250,C250,D250,$C$1,G250,1,F250,F250,SIMDrateratios,RateRatios!$B$3)*10))","v":1254.3742298126408},{"$f":"IF('III Tool Overview'!$H$6=\"Western Isles Health Board\",0,IF('III Tool Overview'!$H$6=\"Eilean Siar Local Authority\",0,new_ci(20,B250,C250,D250,$C$1,G250+H250,1,F250,F250,SIMDrateratios,RateRatios!$B$3)*10))","v":1254.361484897021},{"$f":"IF('III Tool Overview'!$H$6=\"Western Isles Health Board\",0,IF('III Tool Overview'!$H$6=\"Eilean Siar Local Authority\",0,new_yll(2,B250,C250,D250,$C$1,G250,1,F250,F250,SIMDrateratios,RateRatios!$B$3)*10))","v":1671.5481194740505},{"$f":"IF('III Tool Overview'!$H$6=\"Western Isles Health Board\",0,IF('III Tool Overview'!$H$6=\"Eilean Siar Local Authority\",0,new_yll(2,B250,C250,D250,$C$1,G250+H250,1,F250,F250,SIMDrateratios,RateRatios!$B$3)*10))","v":1671.5293947266412},1.8724747409351039E-2,{"$f":"IF('III Tool Overview'!$H$6=\"Western Isles Health Board\",0,IF('III Tool Overview'!$H$6=\"Eilean Siar Local Authority\",0,new_yll(5,B250,C250,D250,$C$1,G250,1,F250,F250,SIMDrateratios,RateRatios!$B$3)*1000))","v":696590.82752628636},{"$f":"IF('III Tool Overview'!$H$6=\"Western Isles Health Board\",0,IF('III Tool Overview'!$H$6=\"Eilean Siar Local Authority\",0,new_yll(5,B250,C250,D250,$C$1,G250+H250,1,F250,F250,SIMDrateratios,RateRatios!$B$3)*1000))","v":696583.09956981929},7.7279564670752734,{"$f":"IF('III Tool Overview'!$H$6=\"Western Isles Health Board\",0,IF('III Tool Overview'!$H$6=\"Eilean Siar Local Authority\",0,new_yll(10,B250,C250,D250,$C$1,G250,1,F250,F250,SIMDrateratios,RateRatios!$B$3)*10))","v":16669.965235565542},{"$f":"IF('III Tool Overview'!$H$6=\"Western Isles Health Board\",0,IF('III Tool Overview'!$H$6=\"Eilean Siar Local Authority\",0,new_yll(10,B250,C250,D250,$C$1,G250+H250,1,F250,F250,SIMDrateratios,RateRatios!$B$3)*10))","v":16669.783926571748},0.18130899379320908,{"$f":"IF('III Tool Overview'!$H$6=\"Western Isles Health Board\",0,IF('III Tool Overview'!$H$6=\"Eilean Siar Local Authority\",0,new_yll(20,B250,C250,D250,$C$1,G250,1,F250,F250,SIMDrateratios,RateRatios!$B$3)*10))","v":38363.151372901579},{"$f":"IF('III Tool Overview'!$H$6=\"Western Isles Health Board\",0,IF('III Tool Overview'!$H$6=\"Eilean Siar Local Authority\",0,new_yll(20,B250,C250,D250,$C$1,G250+H250,1,F250,F250,SIMDrateratios,RateRatios!$B$3)*10))","v":38362.757340019489},0.39403288208995946,{"$f":"IF('III Tool Overview'!$H$6=\"Western Isles Health Board\",0,IF('III Tool Overview'!$H$6=\"Eilean Siar Local Authority\",0,hosp_count(2,B250,C250,D250,$C$1,G250,1,F250,F250,SIMDRateRatios_hosp,SIMDrateratios,RateRatios!$B$3)*10))","v":1534.8836854849073},{"$f":"IF('III Tool Overview'!$H$6=\"Western Isles Health Board\",0,IF('III Tool Overview'!$H$6=\"Eilean Siar Local Authority\",0,hosp_count(2,B250,C250,D250,$C$1,G250+H250,1,F250,F250,SIMDRateRatios_hosp,SIMDrateratios,RateRatios!$B$3)*10))","v":1534.8702794630744},1.3406021832906845E-2,{"$f":"IF('III Tool Overview'!$H$6=\"Western Isles Health Board\",0,IF('III Tool Overview'!$H$6=\"Eilean Siar Local Authority\",0,hosp_count(5,B250,C250,D250,$C$1,G250,1,F250,F250,SIMDRateRatios_hosp,SIMDrateratios,RateRatios!$B$3)*1000))","v":643010.25530100754},{"$f":"IF('III Tool Overview'!$H$6=\"Western Isles Health Board\",0,IF('III Tool Overview'!$H$6=\"Eilean Siar Local Authority\",0,hosp_count(5,B250,C250,D250,$C$1,G250+H250,1,F250,F250,SIMDRateRatios_hosp,SIMDrateratios,RateRatios!$B$3)*1000))","v":643004.70677441696},5.5485265905736014,{"$f":"IF('III Tool Overview'!$H$6=\"Western Isles Health Board\",0,IF('III Tool Overview'!$H$6=\"Eilean Siar Local Authority\",0,hosp_count(10,B250,C250,D250,$C$1,G250,1,F250,F250,SIMDRateRatios_hosp,SIMDrateratios,RateRatios!$B$3)*10))","v":15606.231769598478},{"$f":"IF('III Tool Overview'!$H$6=\"Western Isles Health Board\",0,IF('III Tool Overview'!$H$6=\"Eilean Siar Local Authority\",0,hosp_count(10,B250,C250,D250,$C$1,G250+H250,1,F250,F250,SIMDRateRatios_hosp,SIMDrateratios,RateRatios!$B$3)*10))","v":15606.100442225648},0.1313273728301283,{"$f":"IF('III Tool Overview'!$H$6=\"Western Isles Health Board\",0,IF('III Tool Overview'!$H$6=\"Eilean Siar Local Authority\",0,hosp_count(20,B250,C250,D250,$C$1,G250,1,F250,F250,SIMDRateRatios_hosp,SIMDrateratios,RateRatios!$B$3)*10))","v":37956.534642863699},{"$f":"IF('III Tool Overview'!$H$6=\"Western Isles Health Board\",0,IF('III Tool Overview'!$H$6=\"Eilean Siar Local Authority\",0,hosp_count(20,B250,C250,D250,$C$1,G250+H250,1,F250,F250,SIMDRateRatios_hosp,SIMDrateratios,RateRatios!$B$3)*10))","v":37956.238794498044},0.29584836565481964]
["Male 60-64",62.5,"male",5,1,{"$f":"HLOOKUP('III Tool Overview'!$H$6,LookUpData_Pop!$B$1:$AV$269,LookUpData_Pop!BB244,FALSE)/50","v":637.08000000000004},{"$f":"'III Tool Overview'!$H$9/110","v":0},637.08000000000004,{"$f":"IF('III Tool Overview'!$H$6=\"Western Isles Health Board\",0,IF('III Tool Overview'!$H$6=\"Eilean Siar Local Authority\",0,new_ci(2,B251,C251,D251,$C$1,G251,1,F251,E251*F251,SIMDrateratios,RateRatios!$B$3)*10))","v":49.593322847986286},{"$f":"IF('III Tool Overview'!$H$6=\"Western Isles Health Board\",0,IF('III Tool Overview'!$H$6=\"Eilean Siar Local Authority\",0,new_ci(2,B251,C251,D251,$C$1,G251+H251,1,H251,H251,SIMDrateratios,RateRatios!$B$3)*10))","v":49.592767949258068},{"$f":"IF('III Tool Overview'!$H$6=\"Western Isles Health Board\",0,IF('III Tool Overview'!$H$6=\"Eilean Siar Local Authority\",0,new_ci(5,B251,C251,D251,$C$1,G251,1,F251,F251,SIMDrateratios,RateRatios!$B$3)*1000))","v":21416.679983069225},{"$f":"IF('III Tool Overview'!$H$6=\"Western Isles Health Board\",0,IF('III Tool Overview'!$H$6=\"Eilean Siar Local Authority\",0,new_ci(5,B251,C251,D251,$C$1,H251,1,F251,F251,SIMDrateratios,RateRatios!$B$3)*1000))","v":21416.443503119444},{"$f":"IF('III Tool Overview'!$H$6=\"Western Isles Health Board\",0,IF('III Tool Overview'!$H$6=\"Eilean Siar Local Authority\",0,new_ci(10,B251,C251,D251,$C$1,G251,1,F251,F251,SIMDrateratios,RateRatios!$B$3)*10))","v":547.51187952857788},{"$f":"IF('III Tool Overview'!$H$6=\"Western Isles Health Board\",0,IF('III Tool Overview'!$H$6=\"Eilean Siar Local Authority\",0,new_ci(10,B251,C251,D251,$C$1,G251+H251,1,F251,F251,SIMDrateratios,RateRatios!$B$3)*10))","v":547.50600161212344},{"$f":"IF('III Tool Overview'!$H$6=\"Western Isles Health Board\",0,IF('III Tool Overview'!$H$6=\"Eilean Siar Local Authority\",0,new_ci(20,B251,C251,D251,$C$1,G251,1,F251,F251,SIMDrateratios,RateRatios!$B$3)*10))","v":1479.3448898050551},{"$f":"IF('III Tool Overview'!$H$6=\"Western Isles Health Board\",0,IF('III Tool Overview'!$H$6=\"Eilean Siar Local Authority\",0,new_ci(20,B251,C251,D251,$C$1,G251+H251,1,F251,F251,SIMDrateratios,RateRatios!$B$3)*10))","v":1479.3303714295778},{"$f":"IF('III Tool Overview'!$H$6=\"Western Isles Health Board\",0,IF('III Tool Overview'!$H$6=\"Eilean Siar Local Authority\",0,new_yll(2,B251,C251,D251,$C$1,G251,1,F251,F251,SIMDrateratios,RateRatios!$B$3)*10))","v":1834.9529453754928},{"$f":"IF('III Tool Overview'!$H$6=\"Western Isles Health Board\",0,IF('III Tool Overview'!$H$6=\"Eilean Siar Local Authority\",0,new_yll(2,B251,C251,D251,$C$1,G251+H251,1,F251,F251,SIMDrateratios,RateRatios!$B$3)*10))","v":1834.9324141225486},2.0531252944238076E-2,{"$f":"IF('III Tool Overview'!$H$6=\"Western Isles Health Board\",0,IF('III Tool Overview'!$H$6=\"Eilean Siar Local Authority\",0,new_yll(5,B251,C251,D251,$C$1,G251,1,F251,F251,SIMDrateratios,RateRatios!$B$3)*1000))","v":758958.31505454856},{"$f":"IF('III Tool Overview'!$H$6=\"Western Isles Health Board\",0,IF('III Tool Overview'!$H$6=\"Eilean Siar Local Authority\",0,new_yll(5,B251,C251,D251,$C$1,G251+H251,1,F251,F251,SIMDrateratios,RateRatios!$B$3)*1000))","v":758949.93217845995},8.382876088609919,{"$f":"IF('III Tool Overview'!$H$6=\"Western Isles Health Board\",0,IF('III Tool Overview'!$H$6=\"Eilean Siar Local Authority\",0,new_yll(10,B251,C251,D251,$C$1,G251,1,F251,F251,SIMDrateratios,RateRatios!$B$3)*10))","v":17891.79614246136},{"$f":"IF('III Tool Overview'!$H$6=\"Western Isles Health Board\",0,IF('III Tool Overview'!$H$6=\"Eilean Siar Local Authority\",0,new_yll(10,B251,C251,D251,$C$1,G251+H251,1,F251,F251,SIMDrateratios,RateRatios!$B$3)*10))","v":17891.603655744129},0.19248671723107691,{"$f":"IF('III Tool Overview'!$H$6=\"Western Isles Health Board\",0,IF('III Tool Overview'!$H$6=\"Eilean Siar Local Authority\",0,new_yll(20,B251,C251,D251,$C$1,G251,1,F251,F251,SIMDrateratios,RateRatios!$B$3)*10))","v":39476.046563737778},{"$f":"IF('III Tool Overview'!$H$6=\"Western Isles Health Board\",0,IF('III Tool Overview'!$H$6=\"Eilean Siar Local Authority\",0,new_yll(20,B251,C251,D251,$C$1,G251+H251,1,F251,F251,SIMDrateratios,RateRatios!$B$3)*10))","v":39475.652444889682},0.39411884809669573,{"$f":"IF('III Tool Overview'!$H$6=\"Western Isles Health Board\",0,IF('III Tool Overview'!$H$6=\"Eilean Siar Local Authority\",0,hosp_count(2,B251,C251,D251,$C$1,G251,1,F251,F251,SIMDRateRatios_hosp,SIMDrateratios,RateRatios!$B$3)*10))","v":1608.5362856486904},{"$f":"IF('III Tool Overview'!$H$6=\"Western Isles Health Board\",0,IF('III Tool Overview'!$H$6=\"Eilean Siar Local Authority\",0,hosp_count(2,B251,C251,D251,$C$1,G251+H251,1,F251,F251,SIMDRateRatios_hosp,SIMDrateratios,RateRatios!$B$3)*10))","v":1608.5222388964421},1.4046752248304983E-2,{"$f":"IF('III Tool Overview'!$H$6=\"Western Isles Health Board\",0,IF('III Tool Overview'!$H$6=\"Eilean Siar Local Authority\",0,hosp_count(5,B251,C251,D251,$C$1,G251,1,F251,F251,SIMDRateRatios_hosp,SIMDrateratios,RateRatios!$B$3)*1000))","v":671750.47090239439},{"$f":"IF('III Tool Overview'!$H$6=\"Western Isles Health Board\",0,IF('III Tool Overview'!$H$6=\"Eilean Siar Local Authority\",0,hosp_count(5,B251,C251,D251,$C$1,G251+H251,1,F251,F251,SIMDRateRatios_hosp,SIMDrateratios,RateRatios!$B$3)*1000))","v":671744.69901506521},5.7718873291742057,{"$f":"IF('III Tool Overview'!$H$6=\"Western Isles Health Board\",0,IF('III Tool Overview'!$H$6=\"Eilean Siar Local Authority\",0,hosp_count(10,B251,C251,D251,$C$1,G251,1,F251,F251,SIMDRateRatios_hosp,SIMDrateratios,RateRatios!$B$3)*10))","v":16200.104623024403},{"$f":"IF('III Tool Overview'!$H$6=\"Western Isles Health Board\",0,IF('III Tool Overview'!$H$6=\"Eilean Siar Local Authority\",0,hosp_count(10,B251,C251,D251,$C$1,G251+H251,1,F251,F251,SIMDRateRatios_hosp,SIMDrateratios,RateRatios!$B$3)*10))","v":16199.970030896526},0.13459212787711294,{"$f":"IF('III Tool Overview'!$H$6=\"Western Isles Health Board\",0,IF('III Tool Overview'!$H$6=\"Eilean Siar Local Authority\",0,hosp_count(20,B251,C251,D251,$C$1,G251,1,F251,F251,SIMDRateRatios_hosp,SIMDrateratios,RateRatios!$B$3)*10))","v":38682.406752162758},{"$f":"IF('III Tool Overview'!$H$6=\"Western Isles Health Board\",0,IF('III Tool Overview'!$H$6=\"Eilean Siar Local Authority\",0,hosp_count(20,B251,C251,D251,$C$1,G251+H251,1,F251,F251,SIMDRateRatios_hosp,SIMDrateratios,RateRatios!$B$3)*10))","v":38682.11691609399},0.28983606876863632]
["Male 65-69",67.5,"male",5,1,{"$f":"HLOOKUP('III Tool Overview'!$H$6,LookUpData_Pop!$B$1:$AV$269,LookUpData_Pop!BB245,FALSE)/50","v":461.36},{"$f":"'III Tool Overview'!$H$9/110","v":0},461.36,{"$f":"IF('III Tool Overview'!$H$6=\"Western Isles Health Board\",0,IF('III Tool Overview'!$H$6=\"Eilean Siar Local Authority\",0,new_ci(2,B252,C252,D252,$C$1,G252,1,F252,E252*F252,SIMDrateratios,RateRatios!$B$3)*10))","v":55.335848604177869},{"$f":"IF('III Tool Overview'!$H$6=\"Western Isles Health Board\",0,IF('III Tool Overview'!$H$6=\"Eilean Siar Local Authority\",0,new_ci(2,B252,C252,D252,$C$1,G252+H252,1,H252,H252,SIMDrateratios,RateRatios!$B$3)*10))","v":55.335231173976702},{"$f":"IF('III Tool Overview'!$H$6=\"Western Isles Health Board\",0,IF('III Tool Overview'!$H$6=\"Eilean Siar Local Authority\",0,new_ci(5,B252,C252,D252,$C$1,G252,1,F252,F252,SIMDrateratios,RateRatios!$B$3)*1000))","v":23727.217064418684},{"$f":"IF('III Tool Overview'!$H$6=\"Western Isles Health Board\",0,IF('III Tool Overview'!$H$6=\"Eilean Siar Local Authority\",0,new_ci(5,B252,C252,D252,$C$1,H252,1,F252,F252,SIMDrateratios,RateRatios!$B$3)*1000))","v":23726.957684967161},{"$f":"IF('III Tool Overview'!$H$6=\"Western Isles Health Board\",0,IF('III Tool Overview'!$H$6=\"Eilean Siar Local Authority\",0,new_ci(10,B252,C252,D252,$C$1,G252,1,F252,F252,SIMDrateratios,RateRatios!$B$3)*10))","v":597.70240304638048},{"$f":"IF('III Tool Overview'!$H$6=\"Western Isles Health Board\",0,IF('III Tool Overview'!$H$6=\"Eilean Siar Local Authority\",0,new_ci(10,B252,C252,D252,$C$1,G252+H252,1,F252,F252,SIMDrateratios,RateRatios!$B$3)*10))","v":597.6961482595932},{"$f":"IF('III Tool Overview'!$H$6=\"Western Isles Health Board\",0,IF('III Tool Overview'!$H$6=\"Eilean Siar Local Authority\",0,new_ci(20,B252,C252,D252,$C$1,G252,1,F252,F252,SIMDrateratios,RateRatios!$B$3)*10))","v":1545.6236134592439},{"$f":"IF('III Tool Overview'!$H$6=\"Western Isles Health Board\",0,IF('III Tool Overview'!$H$6=\"Eilean Siar Local Authority\",0,new_ci(20,B252,C252,D252,$C$1,G252+H252,1,F252,F252,SIMDrateratios,RateRatios!$B$3)*10))","v":1545.6095624685781},{"$f":"IF('III Tool Overview'!$H$6=\"Western Isles Health Board\",0,IF('III Tool Overview'!$H$6=\"Eilean Siar Local Authority\",0,new_yll(2,B252,C252,D252,$C$1,G252,1,F252,F252,SIMDrateratios,RateRatios!$B$3)*10))","v":1715.4113067295139},{"$f":"IF('III Tool Overview'!$H$6=\"Western Isles Health Board\",0,IF('III Tool Overview'!$H$6=\"Eilean Siar Local Authority\",0,new_yll(2,B252,C252,D252,$C$1,G252+H252,1,F252,F252,SIMDrateratios,RateRatios!$B$3)*10))","v":1715.3921663932779},1.9140336235977884E-2,{"$f":"IF('III Tool Overview'!$H$6=\"Western Isles Health Board\",0,IF('III Tool Overview'!$H$6=\"Eilean Siar Local Authority\",0,new_yll(5,B252,C252,D252,$C$1,G252,1,F252,F252,SIMDrateratios,RateRatios!$B$3)*1000))","v":698612.86463457765},{"$f":"IF('III Tool Overview'!$H$6=\"Western Isles Health Board\",0,IF('III Tool Overview'!$H$6=\"Eilean Siar Local Authority\",0,new_yll(5,B252,C252,D252,$C$1,G252+H252,1,F252,F252,SIMDrateratios,RateRatios!$B$3)*1000))","v":698605.22320301156},7.6414315660949796,{"$f":"IF('III Tool Overview'!$H$6=\"Western Isles Health Board\",0,IF('III Tool Overview'!$H$6=\"Eilean Siar Local Authority\",0,new_yll(10,B252,C252,D252,$C$1,G252,1,F252,F252,SIMDrateratios,RateRatios!$B$3)*10))","v":15967.19635721528},{"$f":"IF('III Tool Overview'!$H$6=\"Western Isles Health Board\",0,IF('III Tool Overview'!$H$6=\"Eilean Siar Local Authority\",0,new_yll(10,B252,C252,D252,$C$1,G252+H252,1,F252,F252,SIMDrateratios,RateRatios!$B$3)*10))","v":15967.028580903949},0.1677763113311812,{"$f":"IF('III Tool Overview'!$H$6=\"Western Isles Health Board\",0,IF('III Tool Overview'!$H$6=\"Eilean Siar Local Authority\",0,new_yll(20,B252,C252,D252,$C$1,G252,1,F252,F252,SIMDrateratios,RateRatios!$B$3)*10))","v":32310.049348372951},{"$f":"IF('III Tool Overview'!$H$6=\"Western Isles Health Board\",0,IF('III Tool Overview'!$H$6=\"Eilean Siar Local Authority\",0,new_yll(20,B252,C252,D252,$C$1,G252+H252,1,F252,F252,SIMDrateratios,RateRatios!$B$3)*10))","v":32309.744819379783},0.30452899316878757,{"$f":"IF('III Tool Overview'!$H$6=\"Western Isles Health Board\",0,IF('III Tool Overview'!$H$6=\"Eilean Siar Local Authority\",0,hosp_count(2,B252,C252,D252,$C$1,G252,1,F252,F252,SIMDRateRatios_hosp,SIMDrateratios,RateRatios!$B$3)*10))","v":1436.1422028797117},{"$f":"IF('III Tool Overview'!$H$6=\"Western Isles Health Board\",0,IF('III Tool Overview'!$H$6=\"Eilean Siar Local Authority\",0,hosp_count(2,B252,C252,D252,$C$1,G252+H252,1,F252,F252,SIMDRateRatios_hosp,SIMDrateratios,RateRatios!$B$3)*10))","v":1436.1296697933853},1.2533086326357079E-2,{"$f":"IF('III Tool Overview'!$H$6=\"Western Isles Health Board\",0,IF('III Tool Overview'!$H$6=\"Eilean Siar Local Authority\",0,hosp_count(5,B252,C252,D252,$C$1,G252,1,F252,F252,SIMDRateRatios_hosp,SIMDrateratios,RateRatios!$B$3)*1000))","v":595701.24084156542},{"$f":"IF('III Tool Overview'!$H$6=\"Western Isles Health Board\",0,IF('III Tool Overview'!$H$6=\"Eilean Siar Local Authority\",0,hosp_count(5,B252,C252,D252,$C$1,G252+H252,1,F252,F252,SIMDRateRatios_hosp,SIMDrateratios,RateRatios!$B$3)*1000))","v":595696.17070734478},5.0701342206448317,{"$f":"IF('III Tool Overview'!$H$6=\"Western Isles Health Board\",0,IF('III Tool Overview'!$H$6=\"Eilean Siar Local Authority\",0,hosp_count(10,B252,C252,D252,$C$1,G252,1,F252,F252,SIMDRateRatios_hosp,SIMDrateratios,RateRatios!$B$3)*10))","v":14170.817129734296},{"$f":"IF('III Tool Overview'!$H$6=\"Western Isles Health Board\",0,IF('III Tool Overview'!$H$6=\"Eilean Siar Local Authority\",0,hosp_count(10,B252,C252,D252,$C$1,G252+H252,1,F252,F252,SIMDRateRatios_hosp,SIMDrateratios,RateRatios!$B$3)*10))","v":14170.702661409028},0.11446832526780781,{"$f":"IF('III Tool Overview'!$H$6=\"Western Isles Health Board\",0,IF('III Tool Overview'!$H$6=\"Eilean Siar Local Authority\",0,hosp_count(20,B252,C252,D252,$C$1,G252,1,F252,F252,SIMDRateRatios_hosp,SIMDrateratios,RateRatios!$B$3)*10))","v":32549.688369708787},{"$f":"IF('III Tool Overview'!$H$6=\"Western Isles Health Board\",0,IF('III Tool Overview'!$H$6=\"Eilean Siar Local Authority\",0,hosp_count(20,B252,C252,D252,$C$1,G252+H252,1,F252,F252,SIMDRateRatios_hosp,SIMDrateratios,RateRatios!$B$3)*10))","v":32549.464928414658},0.22344129412886105]
["Male 70-74",72.5,"male",5,1,{"$f":"HLOOKUP('III Tool Overview'!$H$6,LookUpData_Pop!$B$1:$AV$269,LookUpData_Pop!BB246,FALSE)/50","v":380.78},{"$f":"'III Tool Overview'!$H$9/110","v":0},380.78,{"$f":"IF('III Tool Overview'!$H$6=\"Western Isles Health Board\",0,IF('III Tool Overview'!$H$6=\"Eilean Siar Local Authority\",0,new_ci(2,B253,C253,D253,$C$1,G253,1,F253,E253*F253,SIMDrateratios,RateRatios!$B$3)*10))","v":60.888523834872721},{"$f":"IF('III Tool Overview'!$H$6=\"Western Isles Health Board\",0,IF('III Tool Overview'!$H$6=\"Eilean Siar Local Authority\",0,new_ci(2,B253,C253,D253,$C$1,G253+H253,1,H253,H253,SIMDrateratios,RateRatios!$B$3)*10))","v":60.887844905782188},{"$f":"IF('III Tool Overview'!$H$6=\"Western Isles Health Board\",0,IF('III Tool Overview'!$H$6=\"Eilean Siar Local Authority\",0,new_ci(5,B253,C253,D253,$C$1,G253,1,F253,F253,SIMDrateratios,RateRatios!$B$3)*1000))","v":25932.371940642315},{"$f":"IF('III Tool Overview'!$H$6=\"Western Isles Health Board\",0,IF('III Tool Overview'!$H$6=\"Eilean Siar Local Authority\",0,new_ci(5,B253,C253,D253,$C$1,H253,1,F253,F253,SIMDrateratios,RateRatios!$B$3)*1000))","v":25932.090601431279},{"$f":"IF('III Tool Overview'!$H$6=\"Western Isles Health Board\",0,IF('III Tool Overview'!$H$6=\"Eilean Siar Local Authority\",0,new_ci(10,B253,C253,D253,$C$1,G253,1,F253,F253,SIMDrateratios,RateRatios!$B$3)*10))","v":644.236062473895},{"$f":"IF('III Tool Overview'!$H$6=\"Western Isles Health Board\",0,IF('III Tool Overview'!$H$6=\"Eilean Siar Local Authority\",0,new_ci(10,B253,C253,D253,$C$1,G253+H253,1,F253,F253,SIMDrateratios,RateRatios!$B$3)*10))","v":644.22947120233016},{"$f":"IF('III Tool Overview'!$H$6=\"Western Isles Health Board\",0,IF('III Tool Overview'!$H$6=\"Eilean Siar Local Authority\",0,new_ci(20,B253,C253,D253,$C$1,G253,1,F253,F253,SIMDrateratios,RateRatios!$B$3)*10))","v":1599.9506269558981},{"$f":"IF('III Tool Overview'!$H$6=\"Western Isles Health Board\",0,IF('III Tool Overview'!$H$6=\"Eilean Siar Local Authority\",0,new_ci(20,B253,C253,D253,$C$1,G253+H253,1,F253,F253,SIMDrateratios,RateRatios!$B$3)*10))","v":1599.9371003977674},{"$f":"IF('III Tool Overview'!$H$6=\"Western Isles Health Board\",0,IF('III Tool Overview'!$H$6=\"Eilean Siar Local Authority\",0,new_yll(2,B253,C253,D253,$C$1,G253,1,F253,F253,SIMDrateratios,RateRatios!$B$3)*10))","v":1643.9901435415636},{"$f":"IF('III Tool Overview'!$H$6=\"Western Isles Health Board\",0,IF('III Tool Overview'!$H$6=\"Eilean Siar Local Authority\",0,new_yll(2,B253,C253,D253,$C$1,G253+H253,1,F253,F253,SIMDrateratios,RateRatios!$B$3)*10))","v":1643.9718124561191},1.8331085444515338E-2,{"$f":"IF('III Tool Overview'!$H$6=\"Western Isles Health Board\",0,IF('III Tool Overview'!$H$6=\"Eilean Siar Local Authority\",0,new_yll(5,B253,C253,D253,$C$1,G253,1,F253,F253,SIMDrateratios,RateRatios!$B$3)*1000))","v":659954.37339747557},{"$f":"IF('III Tool Overview'!$H$6=\"Western Isles Health Board\",0,IF('III Tool Overview'!$H$6=\"Eilean Siar Local Authority\",0,new_yll(5,B253,C253,D253,$C$1,G253+H253,1,F253,F253,SIMDrateratios,RateRatios!$B$3)*1000))","v":659947.2071663111},7.1662311644759029,{"$f":"IF('III Tool Overview'!$H$6=\"Western Isles Health Board\",0,IF('III Tool Overview'!$H$6=\"Eilean Siar Local Authority\",0,new_yll(10,B253,C253,D253,$C$1,G253,1,F253,F253,SIMDrateratios,RateRatios!$B$3)*10))","v":14655.431909409561},{"$f":"IF('III Tool Overview'!$H$6=\"Western Isles Health Board\",0,IF('III Tool Overview'!$H$6=\"Eilean Siar Local Authority\",0,new_yll(10,B253,C253,D253,$C$1,G253+H253,1,F253,F253,SIMDrateratios,RateRatios!$B$3)*10))","v":14655.28098108308},0.15092832648042531,{"$f":"IF('III Tool Overview'!$H$6=\"Western Isles Health Board\",0,IF('III Tool Overview'!$H$6=\"Eilean Siar Local Authority\",0,new_yll(20,B253,C253,D253,$C$1,G253,1,F253,F253,SIMDrateratios,RateRatios!$B$3)*10))","v":27380.367670479482},{"$f":"IF('III Tool Overview'!$H$6=\"Western Isles Health Board\",0,IF('III Tool Overview'!$H$6=\"Eilean Siar Local Authority\",0,new_yll(20,B253,C253,D253,$C$1,G253+H253,1,F253,F253,SIMDrateratios,RateRatios!$B$3)*10))","v":27380.121248345113},0.24642213436891325,{"$f":"IF('III Tool Overview'!$H$6=\"Western Isles Health Board\",0,IF('III Tool Overview'!$H$6=\"Eilean Siar Local Authority\",0,hosp_count(2,B253,C253,D253,$C$1,G253,1,F253,F253,SIMDRateRatios_hosp,SIMDrateratios,RateRatios!$B$3)*10))","v":1362.8415928986885},{"$f":"IF('III Tool Overview'!$H$6=\"Western Isles Health Board\",0,IF('III Tool Overview'!$H$6=\"Eilean Siar Local Authority\",0,hosp_count(2,B253,C253,D253,$C$1,G253+H253,1,F253,F253,SIMDRateRatios_hosp,SIMDrateratios,RateRatios!$B$3)*10))","v":1362.8296833357203},1.1909562968185128E-2,{"$f":"IF('III Tool Overview'!$H$6=\"Western Isles Health Board\",0,IF('III Tool Overview'!$H$6=\"Eilean Siar Local Authority\",0,hosp_count(5,B253,C253,D253,$C$1,G253,1,F253,F253,SIMDRateRatios_hosp,SIMDrateratios,RateRatios!$B$3)*1000))","v":561666.14686405787},{"$f":"IF('III Tool Overview'!$H$6=\"Western Isles Health Board\",0,IF('III Tool Overview'!$H$6=\"Eilean Siar Local Authority\",0,hosp_count(5,B253,C253,D253,$C$1,G253+H253,1,F253,F253,SIMDRateRatios_hosp,SIMDrateratios,RateRatios!$B$3)*1000))","v":561661.40008222696},4.7467818309087306,{"$f":"IF('III Tool Overview'!$H$6=\"Western Isles Health Board\",0,IF('III Tool Overview'!$H$6=\"Eilean Siar Local Authority\",0,hosp_count(10,B253,C253,D253,$C$1,G253,1,F253,F253,SIMDRateRatios_hosp,SIMDrateratios,RateRatios!$B$3)*10))","v":13189.952264315194},{"$f":"IF('III Tool Overview'!$H$6=\"Western Isles Health Board\",0,IF('III Tool Overview'!$H$6=\"Eilean Siar Local Authority\",0,hosp_count(10,B253,C253,D253,$C$1,G253+H253,1,F253,F253,SIMDRateRatios_hosp,SIMDrateratios,RateRatios!$B$3)*10))","v":13189.848355284395},0.10390903079860436,{"$f":"IF('III Tool Overview'!$H$6=\"Western Isles Health Board\",0,IF('III Tool Overview'!$H$6=\"Eilean Siar Local Authority\",0,hosp_count(20,B253,C253,D253,$C$1,G253,1,F253,F253,SIMDRateRatios_hosp,SIMDrateratios,RateRatios!$B$3)*10))","v":29235.22517047311},{"$f":"IF('III Tool Overview'!$H$6=\"Western Isles Health Board\",0,IF('III Tool Overview'!$H$6=\"Eilean Siar Local Authority\",0,hosp_count(20,B253,C253,D253,$C$1,G253+H253,1,F253,F253,SIMDRateRatios_hosp,SIMDrateratios,RateRatios!$B$3)*10))","v":29235.040642267672},0.1845282054382551]
["Male 75-79",77.5,"male",5,1,{"$f":"HLOOKUP('III Tool Overview'!$H$6,LookUpData_Pop!$B$1:$AV$269,LookUpData_Pop!BB247,FALSE)/50","v":289.98},{"$f":"'III Tool Overview'!$H$9/110","v":0},289.98,{"$f":"IF('III Tool Overview'!$H$6=\"Western Isles Health Board\",0,IF('III Tool Overview'!$H$6=\"Eilean Siar Local Authority\",0,new_ci(2,B254,C254,D254,$C$1,G254,1,F254,E254*F254,SIMDrateratios,RateRatios!$B$3)*10))","v":71.283766148850077},{"$f":"IF('III Tool Overview'!$H$6=\"Western Isles Health Board\",0,IF('III Tool Overview'!$H$6=\"Eilean Siar Local Authority\",0,new_ci(2,B254,C254,D254,$C$1,G254+H254,1,H254,H254,SIMDrateratios,RateRatios!$B$3)*10))","v":71.28297520092238},{"$f":"IF('III Tool Overview'!$H$6=\"Western Isles Health Board\",0,IF('III Tool Overview'!$H$6=\"Eilean Siar Local Authority\",0,new_ci(5,B254,C254,D254,$C$1,G254,1,F254,F254,SIMDrateratios,RateRatios!$B$3)*1000))","v":29921.767016093869},{"$f":"IF('III Tool Overview'!$H$6=\"Western Isles Health Board\",0,IF('III Tool Overview'!$H$6=\"Eilean Siar Local Authority\",0,new_ci(5,B254,C254,D254,$C$1,H254,1,F254,F254,SIMDrateratios,RateRatios!$B$3)*1000))","v":29921.44881822254},{"$f":"IF('III Tool Overview'!$H$6=\"Western Isles Health Board\",0,IF('III Tool Overview'!$H$6=\"Eilean Siar Local Authority\",0,new_ci(10,B254,C254,D254,$C$1,G254,1,F254,F254,SIMDrateratios,RateRatios!$B$3)*10))","v":721.70656683320499},{"$f":"IF('III Tool Overview'!$H$6=\"Western Isles Health Board\",0,IF('III Tool Overview'!$H$6=\"Eilean Siar Local Authority\",0,new_ci(10,B254,C254,D254,$C$1,G254+H254,1,F254,F254,SIMDrateratios,RateRatios!$B$3)*10))","v":721.69956345547212},{"$f":"IF('III Tool Overview'!$H$6=\"Western Isles Health Board\",0,IF('III Tool Overview'!$H$6=\"Eilean Siar Local Authority\",0,new_ci(20,B254,C254,D254,$C$1,G254,1,F254,F254,SIMDrateratios,RateRatios!$B$3)*10))","v":1649.8689132641141},{"$f":"IF('III Tool Overview'!$H$6=\"Western Isles Health Board\",0,IF('III Tool Overview'!$H$6=\"Eilean Siar Local Authority\",0,new_ci(20,B254,C254,D254,$C$1,G254+H254,1,F254,F254,SIMDrateratios,RateRatios!$B$3)*10))","v":1649.8570952945988},{"$f":"IF('III Tool Overview'!$H$6=\"Western Isles Health Board\",0,IF('III Tool Overview'!$H$6=\"Eilean Siar Local Authority\",0,new_yll(2,B254,C254,D254,$C$1,G254,1,F254,F254,SIMDrateratios,RateRatios!$B$3)*10))","v":1496.9590891258513},{"$f":"IF('III Tool Overview'!$H$6=\"Western Isles Health Board\",0,IF('III Tool Overview'!$H$6=\"Eilean Siar Local Authority\",0,new_yll(2,B254,C254,D254,$C$1,G254+H254,1,F254,F254,SIMDrateratios,RateRatios!$B$3)*10))","v":1496.9424792193699},1.6609906481335202E-2,{"$f":"IF('III Tool Overview'!$H$6=\"Western Isles Health Board\",0,IF('III Tool Overview'!$H$6=\"Eilean Siar Local Authority\",0,new_yll(5,B254,C254,D254,$C$1,G254,1,F254,F254,SIMDrateratios,RateRatios!$B$3)*1000))","v":582308.31164360093},{"$f":"IF('III Tool Overview'!$H$6=\"Western Isles Health Board\",0,IF('III Tool Overview'!$H$6=\"Eilean Siar Local Authority\",0,new_yll(5,B254,C254,D254,$C$1,G254+H254,1,F254,F254,SIMDrateratios,RateRatios!$B$3)*1000))","v":582302.10776462196},6.203878978965804,{"$f":"IF('III Tool Overview'!$H$6=\"Western Isles Health Board\",0,IF('III Tool Overview'!$H$6=\"Eilean Siar Local Authority\",0,new_yll(10,B254,C254,D254,$C$1,G254,1,F254,F254,SIMDrateratios,RateRatios!$B$3)*10))","v":12141.012350078499},{"$f":"IF('III Tool Overview'!$H$6=\"Western Isles Health Board\",0,IF('III Tool Overview'!$H$6=\"Eilean Siar Local Authority\",0,new_yll(10,B254,C254,D254,$C$1,G254+H254,1,F254,F254,SIMDrateratios,RateRatios!$B$3)*10))","v":12140.892830130071},0.11951994842820568,{"$f":"IF('III Tool Overview'!$H$6=\"Western Isles Health Board\",0,IF('III Tool Overview'!$H$6=\"Eilean Siar Local Authority\",0,new_yll(20,B254,C254,D254,$C$1,G254,1,F254,F254,SIMDrateratios,RateRatios!$B$3)*10))","v":19078.030251577708},{"$f":"IF('III Tool Overview'!$H$6=\"Western Isles Health Board\",0,IF('III Tool Overview'!$H$6=\"Eilean Siar Local Authority\",0,new_yll(20,B254,C254,D254,$C$1,G254+H254,1,F254,F254,SIMDrateratios,RateRatios!$B$3)*10))","v":19077.870044917341},0.16020666036638431,{"$f":"IF('III Tool Overview'!$H$6=\"Western Isles Health Board\",0,IF('III Tool Overview'!$H$6=\"Eilean Siar Local Authority\",0,hosp_count(2,B254,C254,D254,$C$1,G254,1,F254,F254,SIMDRateRatios_hosp,SIMDrateratios,RateRatios!$B$3)*10))","v":1279.557806812101},{"$f":"IF('III Tool Overview'!$H$6=\"Western Isles Health Board\",0,IF('III Tool Overview'!$H$6=\"Eilean Siar Local Authority\",0,hosp_count(2,B254,C254,D254,$C$1,G254+H254,1,F254,F254,SIMDRateRatios_hosp,SIMDrateratios,RateRatios!$B$3)*10))","v":1279.5466307331108},1.1176078990274618E-2,{"$f":"IF('III Tool Overview'!$H$6=\"Western Isles Health Board\",0,IF('III Tool Overview'!$H$6=\"Eilean Siar Local Authority\",0,hosp_count(5,B254,C254,D254,$C$1,G254,1,F254,F254,SIMDRateRatios_hosp,SIMDrateratios,RateRatios!$B$3)*1000))","v":520083.04727220186},{"$f":"IF('III Tool Overview'!$H$6=\"Western Isles Health Board\",0,IF('III Tool Overview'!$H$6=\"Eilean Siar Local Authority\",0,hosp_count(5,B254,C254,D254,$C$1,G254+H254,1,F254,F254,SIMDRateRatios_hosp,SIMDrateratios,RateRatios!$B$3)*1000))","v":520078.73366988916},4.3136023127008229,{"$f":"IF('III Tool Overview'!$H$6=\"Western Isles Health Board\",0,IF('III Tool Overview'!$H$6=\"Eilean Siar Local Authority\",0,hosp_count(10,B254,C254,D254,$C$1,G254,1,F254,F254,SIMDRateRatios_hosp,SIMDrateratios,RateRatios!$B$3)*10))","v":11883.183318149588},{"$f":"IF('III Tool Overview'!$H$6=\"Western Isles Health Board\",0,IF('III Tool Overview'!$H$6=\"Eilean Siar Local Authority\",0,hosp_count(10,B254,C254,D254,$C$1,G254+H254,1,F254,F254,SIMDRateRatios_hosp,SIMDrateratios,RateRatios!$B$3)*10))","v":11883.095016767855},8.830138173289015E-2,{"$f":"IF('III Tool Overview'!$H$6=\"Western Isles Health Board\",0,IF('III Tool Overview'!$H$6=\"Eilean Siar Local Authority\",0,hosp_count(20,B254,C254,D254,$C$1,G254,1,F254,F254,SIMDRateRatios_hosp,SIMDrateratios,RateRatios!$B$3)*10))","v":24487.67539663535},{"$f":"IF('III Tool Overview'!$H$6=\"Western Isles Health Board\",0,IF('III Tool Overview'!$H$6=\"Eilean Siar Local Authority\",0,hosp_count(20,B254,C254,D254,$C$1,G254+H254,1,F254,F254,SIMDRateRatios_hosp,SIMDrateratios,RateRatios!$B$3)*10))","v":24487.548077489133},0.12731914621690521]
["Male 80-84",82.5,"male",5,1,{"$f":"HLOOKUP('III Tool Overview'!$H$6,LookUpData_Pop!$B$1:$AV$269,LookUpData_Pop!BB248,FALSE)/50","v":184.32},{"$f":"'III Tool Overview'!$H$9/110","v":0},184.32,{"$f":"IF('III Tool Overview'!$H$6=\"Western Isles Health Board\",0,IF('III Tool Overview'!$H$6=\"Eilean Siar Local Authority\",0,new_ci(2,B255,C255,D255,$C$1,G255,1,F255,E255*F255,SIMDrateratios,RateRatios!$B$3)*10))","v":60.278324351901553},{"$f":"IF('III Tool Overview'!$H$6=\"Western Isles Health Board\",0,IF('III Tool Overview'!$H$6=\"Eilean Siar Local Authority\",0,new_ci(2,B255,C255,D255,$C$1,G255+H255,1,H255,H255,SIMDrateratios,RateRatios!$B$3)*10))","v":60.277659523373188},{"$f":"IF('III Tool Overview'!$H$6=\"Western Isles Health Board\",0,IF('III Tool Overview'!$H$6=\"Eilean Siar Local Authority\",0,new_ci(5,B255,C255,D255,$C$1,G255,1,F255,F255,SIMDrateratios,RateRatios!$B$3)*1000))","v":24956.818760059006},{"$f":"IF('III Tool Overview'!$H$6=\"Western Isles Health Board\",0,IF('III Tool Overview'!$H$6=\"Eilean Siar Local Authority\",0,new_ci(5,B255,C255,D255,$C$1,H255,1,F255,F255,SIMDrateratios,RateRatios!$B$3)*1000))","v":24956.558742373894},{"$f":"IF('III Tool Overview'!$H$6=\"Western Isles Health Board\",0,IF('III Tool Overview'!$H$6=\"Eilean Siar Local Authority\",0,new_ci(10,B255,C255,D255,$C$1,G255,1,F255,F255,SIMDrateratios,RateRatios!$B$3)*10))","v":585.63090003431466},{"$f":"IF('III Tool Overview'!$H$6=\"Western Isles Health Board\",0,IF('III Tool Overview'!$H$6=\"Eilean Siar Local Authority\",0,new_ci(10,B255,C255,D255,$C$1,G255+H255,1,F255,F255,SIMDrateratios,RateRatios!$B$3)*10))","v":585.62550801694533},{"$f":"IF('III Tool Overview'!$H$6=\"Western Isles Health Board\",0,IF('III Tool Overview'!$H$6=\"Eilean Siar Local Authority\",0,new_ci(20,B255,C255,D255,$C$1,G255,1,F255,F255,SIMDrateratios,RateRatios!$B$3)*10))","v":1244.3384163785647},{"$f":"IF('III Tool Overview'!$H$6=\"Western Isles Health Board\",0,IF('III Tool Overview'!$H$6=\"Eilean Siar Local Authority\",0,new_ci(20,B255,C255,D255,$C$1,G255+H255,1,F255,F255,SIMDrateratios,RateRatios!$B$3)*10))","v":1244.3308659416218},{"$f":"IF('III Tool Overview'!$H$6=\"Western Isles Health Board\",0,IF('III Tool Overview'!$H$6=\"Eilean Siar Local Authority\",0,new_yll(2,B255,C255,D255,$C$1,G255,1,F255,F255,SIMDrateratios,RateRatios!$B$3)*10))","v":1024.7315139823263},{"$f":"IF('III Tool Overview'!$H$6=\"Western Isles Health Board\",0,IF('III Tool Overview'!$H$6=\"Eilean Siar Local Authority\",0,new_yll(2,B255,C255,D255,$C$1,G255+H255,1,F255,F255,SIMDrateratios,RateRatios!$B$3)*10))","v":1024.7202118973441},1.1302084982162341E-2,{"$f":"IF('III Tool Overview'!$H$6=\"Western Isles Health Board\",0,IF('III Tool Overview'!$H$6=\"Eilean Siar Local Authority\",0,new_yll(5,B255,C255,D255,$C$1,G255,1,F255,F255,SIMDrateratios,RateRatios!$B$3)*1000))","v":386142.85223277181},{"$f":"IF('III Tool Overview'!$H$6=\"Western Isles Health Board\",0,IF('III Tool Overview'!$H$6=\"Eilean Siar Local Authority\",0,new_yll(5,B255,C255,D255,$C$1,G255+H255,1,F255,F255,SIMDrateratios,RateRatios!$B$3)*1000))","v":386138.81642296101},4.0358098107972182,{"$f":"IF('III Tool Overview'!$H$6=\"Western Isles Health Board\",0,IF('III Tool Overview'!$H$6=\"Eilean Siar Local Authority\",0,new_yll(10,B255,C255,D255,$C$1,G255,1,F255,F255,SIMDrateratios,RateRatios!$B$3)*10))","v":7550.6646519360129},{"$f":"IF('III Tool Overview'!$H$6=\"Western Isles Health Board\",0,IF('III Tool Overview'!$H$6=\"Eilean Siar Local Authority\",0,new_yll(10,B255,C255,D255,$C$1,G255+H255,1,F255,F255,SIMDrateratios,RateRatios!$B$3)*10))","v":7550.5932896535514},7.1362282461450377E-2,{"$f":"IF('III Tool Overview'!$H$6=\"Western Isles Health Board\",0,IF('III Tool Overview'!$H$6=\"Eilean Siar Local Authority\",0,new_yll(20,B255,C255,D255,$C$1,G255,1,F255,F255,SIMDrateratios,RateRatios!$B$3)*10))","v":9938.3689142107232},{"$f":"IF('III Tool Overview'!$H$6=\"Western Isles Health Board\",0,IF('III Tool Overview'!$H$6=\"Eilean Siar Local Authority\",0,new_yll(20,B255,C255,D255,$C$1,G255+H255,1,F255,F255,SIMDrateratios,RateRatios!$B$3)*10))","v":9938.2853139378676},8.3600272855619551E-2,{"$f":"IF('III Tool Overview'!$H$6=\"Western Isles Health Board\",0,IF('III Tool Overview'!$H$6=\"Eilean Siar Local Authority\",0,hosp_count(2,B255,C255,D255,$C$1,G255,1,F255,F255,SIMDRateRatios_hosp,SIMDrateratios,RateRatios!$B$3)*10))","v":935.14309346518917},{"$f":"IF('III Tool Overview'!$H$6=\"Western Isles Health Board\",0,IF('III Tool Overview'!$H$6=\"Eilean Siar Local Authority\",0,hosp_count(2,B255,C255,D255,$C$1,G255+H255,1,F255,F255,SIMDRateRatios_hosp,SIMDrateratios,RateRatios!$B$3)*10))","v":935.13494036026589},8.1531049232808073E-3,{"$f":"IF('III Tool Overview'!$H$6=\"Western Isles Health Board\",0,IF('III Tool Overview'!$H$6=\"Eilean Siar Local Authority\",0,hosp_count(5,B255,C255,D255,$C$1,G255,1,F255,F255,SIMDRateRatios_hosp,SIMDrateratios,RateRatios!$B$3)*1000))","v":375141.99343219423},{"$f":"IF('III Tool Overview'!$H$6=\"Western Isles Health Board\",0,IF('III Tool Overview'!$H$6=\"Eilean Siar Local Authority\",0,hosp_count(5,B255,C255,D255,$C$1,G255+H255,1,F255,F255,SIMDRateRatios_hosp,SIMDrateratios,RateRatios!$B$3)*1000))","v":375138.94132679107},3.0521054031560197,{"$f":"IF('III Tool Overview'!$H$6=\"Western Isles Health Board\",0,IF('III Tool Overview'!$H$6=\"Eilean Siar Local Authority\",0,hosp_count(10,B255,C255,D255,$C$1,G255,1,F255,F255,SIMDRateRatios_hosp,SIMDrateratios,RateRatios!$B$3)*10))","v":8355.6373840196975},{"$f":"IF('III Tool Overview'!$H$6=\"Western Isles Health Board\",0,IF('III Tool Overview'!$H$6=\"Eilean Siar Local Authority\",0,hosp_count(10,B255,C255,D255,$C$1,G255+H255,1,F255,F255,SIMDRateRatios_hosp,SIMDrateratios,RateRatios!$B$3)*10))","v":8355.5787945227512},5.8589496946297004E-2,{"$f":"IF('III Tool Overview'!$H$6=\"Western Isles Health Board\",0,IF('III Tool Overview'!$H$6=\"Eilean Siar Local Authority\",0,hosp_count(20,B255,C255,D255,$C$1,G255,1,F255,F255,SIMDRateRatios_hosp,SIMDrateratios,RateRatios!$B$3)*10))","v":16148.537042989425},{"$f":"IF('III Tool Overview'!$H$6=\"Western Isles Health Board\",0,IF('III Tool Overview'!$H$6=\"Eilean Siar Local Authority\",0,hosp_count(20,B255,C255,D255,$C$1,G255+H255,1,F255,F255,SIMDRateRatios_hosp,SIMDrateratios,RateRatios!$B$3)*10))","v":16148.468195084171},6.8847905253278441E-2]
["Male 85-89",87.5,"male",5,1,{"$f":"HLOOKUP('III Tool Overview'!$H$6,LookUpData_Pop!$B$1:$AV$269,LookUpData_Pop!BB249,FALSE)/50","v":85.96},{"$f":"'III Tool Overview'!$H$9/110","v":0},85.96,{"$f":"IF('III Tool Overview'!$H$6=\"Western Isles Health Board\",0,IF('III Tool Overview'!$H$6=\"Eilean Siar Local Authority\",0,new_ci(2,B256,C256,D256,$C$1,G256,1,F256,E256*F256,SIMDrateratios,RateRatios!$B$3)*10))","v":43.017371669620481},{"$f":"IF('III Tool Overview'!$H$6=\"Western Isles Health Board\",0,IF('III Tool Overview'!$H$6=\"Eilean Siar Local Authority\",0,new_ci(2,B256,C256,D256,$C$1,G256+H256,1,H256,H256,SIMDrateratios,RateRatios!$B$3)*10))","v":43.016900482565603},{"$f":"IF('III Tool Overview'!$H$6=\"Western Isles Health Board\",0,IF('III Tool Overview'!$H$6=\"Eilean Siar Local Authority\",0,new_ci(5,B256,C256,D256,$C$1,G256,1,F256,F256,SIMDrateratios,RateRatios!$B$3)*1000))","v":17294.761809948424},{"$f":"IF('III Tool Overview'!$H$6=\"Western Isles Health Board\",0,IF('III Tool Overview'!$H$6=\"Eilean Siar Local Authority\",0,new_ci(5,B256,C256,D256,$C$1,H256,1,F256,F256,SIMDrateratios,RateRatios!$B$3)*1000))","v":17294.588442399883},{"$f":"IF('III Tool Overview'!$H$6=\"Western Isles Health Board\",0,IF('III Tool Overview'!$H$6=\"Eilean Siar Local Authority\",0,new_ci(10,B256,C256,D256,$C$1,G256,1,F256,F256,SIMDrateratios,RateRatios!$B$3)*10))","v":383.2537576764949},{"$f":"IF('III Tool Overview'!$H$6=\"Western Isles Health Board\",0,IF('III Tool Overview'!$H$6=\"Eilean Siar Local Authority\",0,new_ci(10,B256,C256,D256,$C$1,G256+H256,1,F256,F256,SIMDrateratios,RateRatios!$B$3)*10))","v":383.25059715707505},{"$f":"IF('III Tool Overview'!$H$6=\"Western Isles Health Board\",0,IF('III Tool Overview'!$H$6=\"Eilean Siar Local Authority\",0,new_ci(20,B256,C256,D256,$C$1,G256,1,F256,F256,SIMDrateratios,RateRatios!$B$3)*10))","v":708.09600860061209},{"$f":"IF('III Tool Overview'!$H$6=\"Western Isles Health Board\",0,IF('III Tool Overview'!$H$6=\"Eilean Siar Local Authority\",0,new_ci(20,B256,C256,D256,$C$1,G256+H256,1,F256,F256,SIMDrateratios,RateRatios!$B$3)*10))","v":708.09305271935023},{"$f":"IF('III Tool Overview'!$H$6=\"Western Isles Health Board\",0,IF('III Tool Overview'!$H$6=\"Eilean Siar Local Authority\",0,new_yll(2,B256,C256,D256,$C$1,G256,1,F256,F256,SIMDrateratios,RateRatios!$B$3)*10))","v":473.19108836582529},{"$f":"IF('III Tool Overview'!$H$6=\"Western Isles Health Board\",0,IF('III Tool Overview'!$H$6=\"Eilean Siar Local Authority\",0,new_yll(2,B256,C256,D256,$C$1,G256+H256,1,F256,F256,SIMDrateratios,RateRatios!$B$3)*10))","v":473.18590530822166},5.1830576036309139E-3,{"$f":"IF('III Tool Overview'!$H$6=\"Western Isles Health Board\",0,IF('III Tool Overview'!$H$6=\"Eilean Siar Local Authority\",0,new_yll(5,B256,C256,D256,$C$1,G256,1,F256,F256,SIMDrateratios,RateRatios!$B$3)*1000))","v":164250.4665746339},{"$f":"IF('III Tool Overview'!$H$6=\"Western Isles Health Board\",0,IF('III Tool Overview'!$H$6=\"Eilean Siar Local Authority\",0,new_yll(5,B256,C256,D256,$C$1,G256+H256,1,F256,F256,SIMDrateratios,RateRatios!$B$3)*1000))","v":164248.80647025272},1.6601043811824638,{"$f":"IF('III Tool Overview'!$H$6=\"Western Isles Health Board\",0,IF('III Tool Overview'!$H$6=\"Eilean Siar Local Authority\",0,new_yll(10,B256,C256,D256,$C$1,G256,1,F256,F256,SIMDrateratios,RateRatios!$B$3)*10))","v":2700.1624300232838},{"$f":"IF('III Tool Overview'!$H$6=\"Western Isles Health Board\",0,IF('III Tool Overview'!$H$6=\"Eilean Siar Local Authority\",0,new_yll(10,B256,C256,D256,$C$1,G256+H256,1,F256,F256,SIMDrateratios,RateRatios!$B$3)*10))","v":2700.1383094310822},2.4120592201597901E-2,{"$f":"IF('III Tool Overview'!$H$6=\"Western Isles Health Board\",0,IF('III Tool Overview'!$H$6=\"Eilean Siar Local Authority\",0,new_yll(20,B256,C256,D256,$C$1,G256,1,F256,F256,SIMDrateratios,RateRatios!$B$3)*10))","v":2032.8174385321295},{"$f":"IF('III Tool Overview'!$H$6=\"Western Isles Health Board\",0,IF('III Tool Overview'!$H$6=\"Eilean Siar Local Authority\",0,new_yll(20,B256,C256,D256,$C$1,G256+H256,1,F256,F256,SIMDrateratios,RateRatios!$B$3)*10))","v":2032.7896256634572},2.7812868672299373E-2,{"$f":"IF('III Tool Overview'!$H$6=\"Western Isles Health Board\",0,IF('III Tool Overview'!$H$6=\"Eilean Siar Local Authority\",0,hosp_count(2,B256,C256,D256,$C$1,G256,1,F256,F256,SIMDRateRatios_hosp,SIMDrateratios,RateRatios!$B$3)*10))","v":537.67845098276757},{"$f":"IF('III Tool Overview'!$H$6=\"Western Isles Health Board\",0,IF('III Tool Overview'!$H$6=\"Eilean Siar Local Authority\",0,hosp_count(2,B256,C256,D256,$C$1,G256+H256,1,F256,F256,SIMDRateRatios_hosp,SIMDrateratios,RateRatios!$B$3)*10))","v":537.67375286093261},4.6981218349628762E-3,{"$f":"IF('III Tool Overview'!$H$6=\"Western Isles Health Board\",0,IF('III Tool Overview'!$H$6=\"Eilean Siar Local Authority\",0,hosp_count(5,B256,C256,D256,$C$1,G256,1,F256,F256,SIMDRateRatios_hosp,SIMDrateratios,RateRatios!$B$3)*1000))","v":209731.52568848734},{"$f":"IF('III Tool Overview'!$H$6=\"Western Isles Health Board\",0,IF('III Tool Overview'!$H$6=\"Eilean Siar Local Authority\",0,hosp_count(5,B256,C256,D256,$C$1,G256+H256,1,F256,F256,SIMDRateRatios_hosp,SIMDrateratios,RateRatios!$B$3)*1000))","v":209729.87913246281},1.6465560245269444,{"$f":"IF('III Tool Overview'!$H$6=\"Western Isles Health Board\",0,IF('III Tool Overview'!$H$6=\"Eilean Siar Local Authority\",0,hosp_count(10,B256,C256,D256,$C$1,G256,1,F256,F256,SIMDRateRatios_hosp,SIMDrateratios,RateRatios!$B$3)*10))","v":4429.821055597753},{"$f":"IF('III Tool Overview'!$H$6=\"Western Isles Health Board\",0,IF('III Tool Overview'!$H$6=\"Eilean Siar Local Authority\",0,hosp_count(10,B256,C256,D256,$C$1,G256+H256,1,F256,F256,SIMDRateRatios_hosp,SIMDrateratios,RateRatios!$B$3)*10))","v":4429.793581597879},2.7473999874018773E-2,{"$f":"IF('III Tool Overview'!$H$6=\"Western Isles Health Board\",0,IF('III Tool Overview'!$H$6=\"Eilean Siar Local Authority\",0,hosp_count(20,B256,C256,D256,$C$1,G256,1,F256,F256,SIMDRateRatios_hosp,SIMDrateratios,RateRatios!$B$3)*10))","v":7577.6108477221815},{"$f":"IF('III Tool Overview'!$H$6=\"Western Isles Health Board\",0,IF('III Tool Overview'!$H$6=\"Eilean Siar Local Authority\",0,hosp_count(20,B256,C256,D256,$C$1,G256+H256,1,F256,F256,SIMDRateRatios_hosp,SIMDrateratios,RateRatios!$B$3)*10))","v":7577.5907252285097},2.0122493671806296E-2]
["Male 90+",95,"male",5,1,{"$f":"HLOOKUP('III Tool Overview'!$H$6,LookUpData_Pop!$B$1:$AV$269,LookUpData_Pop!BB250,FALSE)/50","v":29.24},{"$f":"'III Tool Overview'!$H$9/110","v":0},29.24,{"$f":"IF('III Tool Overview'!$H$6=\"Western Isles Health Board\",0,IF('III Tool Overview'!$H$6=\"Eilean Siar Local Authority\",0,new_ci(2,B257,C257,D257,$C$1,G257,1,F257,E257*F257,SIMDrateratios,RateRatios!$B$3)*10))","v":23.886544149768532},{"$f":"IF('III Tool Overview'!$H$6=\"Western Isles Health Board\",0,IF('III Tool Overview'!$H$6=\"Eilean Siar Local Authority\",0,new_ci(2,B257,C257,D257,$C$1,G257+H257,1,H257,H257,SIMDrateratios,RateRatios!$B$3)*10))","v":23.886289184970174},{"$f":"IF('III Tool Overview'!$H$6=\"Western Isles Health Board\",0,IF('III Tool Overview'!$H$6=\"Eilean Siar Local Authority\",0,new_ci(5,B257,C257,D257,$C$1,G257,1,F257,F257,SIMDrateratios,RateRatios!$B$3)*1000))","v":9101.3292775973205},{"$f":"IF('III Tool Overview'!$H$6=\"Western Isles Health Board\",0,IF('III Tool Overview'!$H$6=\"Eilean Siar Local Authority\",0,new_ci(5,B257,C257,D257,$C$1,H257,1,F257,F257,SIMDrateratios,RateRatios!$B$3)*1000))","v":9101.2456050649271},{"$f":"IF('III Tool Overview'!$H$6=\"Western Isles Health Board\",0,IF('III Tool Overview'!$H$6=\"Eilean Siar Local Authority\",0,new_ci(10,B257,C257,D257,$C$1,G257,1,F257,F257,SIMDrateratios,RateRatios!$B$3)*10))","v":182.65044428287692},{"$f":"IF('III Tool Overview'!$H$6=\"Western Isles Health Board\",0,IF('III Tool Overview'!$H$6=\"Eilean Siar Local Authority\",0,new_ci(10,B257,C257,D257,$C$1,G257+H257,1,F257,F257,SIMDrateratios,RateRatios!$B$3)*10))","v":182.64924599734911},{"$f":"IF('III Tool Overview'!$H$6=\"Western Isles Health Board\",0,IF('III Tool Overview'!$H$6=\"Eilean Siar Local Authority\",0,new_ci(20,B257,C257,D257,$C$1,G257,1,F257,F257,SIMDrateratios,RateRatios!$B$3)*10))","v":276.01048851064274},{"$f":"IF('III Tool Overview'!$H$6=\"Western Isles Health Board\",0,IF('III Tool Overview'!$H$6=\"Eilean Siar Local Authority\",0,new_ci(20,B257,C257,D257,$C$1,G257+H257,1,F257,F257,SIMDrateratios,RateRatios!$B$3)*10))","v":276.00996230853059},{"$f":"IF('III Tool Overview'!$H$6=\"Western Isles Health Board\",0,IF('III Tool Overview'!$H$6=\"Eilean Siar Local Authority\",0,new_yll(2,B257,C257,D257,$C$1,G257,1,F257,F257,SIMDrateratios,RateRatios!$B$3)*10))","v":95.54617659907413},{"$f":"IF('III Tool Overview'!$H$6=\"Western Isles Health Board\",0,IF('III Tool Overview'!$H$6=\"Eilean Siar Local Authority\",0,new_yll(2,B257,C257,D257,$C$1,G257+H257,1,F257,F257,SIMDrateratios,RateRatios!$B$3)*10))","v":95.545156739880696},1.0198591934340584E-3,{"$f":"IF('III Tool Overview'!$H$6=\"Western Isles Health Board\",0,IF('III Tool Overview'!$H$6=\"Eilean Siar Local Authority\",0,new_yll(5,B257,C257,D257,$C$1,G257,1,F257,F257,SIMDrateratios,RateRatios!$B$3)*1000))","v":23147.177510948233},{"$f":"IF('III Tool Overview'!$H$6=\"Western Isles Health Board\",0,IF('III Tool Overview'!$H$6=\"Eilean Siar Local Authority\",0,new_yll(5,B257,C257,D257,$C$1,G257+H257,1,F257,F257,SIMDrateratios,RateRatios!$B$3)*1000))","v":23146.952957846672},0.22455310156146879,{"$f":"IF('III Tool Overview'!$H$6=\"Western Isles Health Board\",0,IF('III Tool Overview'!$H$6=\"Eilean Siar Local Authority\",0,new_yll(10,B257,C257,D257,$C$1,G257,1,F257,F257,SIMDrateratios,RateRatios!$B$3)*10))","v":59.626701473837059},{"$f":"IF('III Tool Overview'!$H$6=\"Western Isles Health Board\",0,IF('III Tool Overview'!$H$6=\"Eilean Siar Local Authority\",0,new_yll(10,B257,C257,D257,$C$1,G257+H257,1,F257,F257,SIMDrateratios,RateRatios!$B$3)*10))","v":59.624889739293764},1.811734543295529E-3,{"$f":"IF('III Tool Overview'!$H$6=\"Western Isles Health Board\",0,IF('III Tool Overview'!$H$6=\"Eilean Siar Local Authority\",0,new_yll(20,B257,C257,D257,$C$1,G257,1,F257,F257,SIMDrateratios,RateRatios!$B$3)*10))","v":-732.7487158739882},{"$f":"IF('III Tool Overview'!$H$6=\"Western Isles Health Board\",0,IF('III Tool Overview'!$H$6=\"Eilean Siar Local Authority\",0,new_yll(20,B257,C257,D257,$C$1,G257+H257,1,F257,F257,SIMDrateratios,RateRatios!$B$3)*10))","v":-732.75764222584485},8.9263518566440325E-3,{"$f":"IF('III Tool Overview'!$H$6=\"Western Isles Health Board\",0,IF('III Tool Overview'!$H$6=\"Eilean Siar Local Authority\",0,hosp_count(2,B257,C257,D257,$C$1,G257,1,F257,F257,SIMDRateRatios_hosp,SIMDrateratios,RateRatios!$B$3)*10))","v":233.4950316624948},{"$f":"IF('III Tool Overview'!$H$6=\"Western Isles Health Board\",0,IF('III Tool Overview'!$H$6=\"Eilean Siar Local Authority\",0,hosp_count(2,B257,C257,D257,$C$1,G257+H257,1,F257,F257,SIMDRateRatios_hosp,SIMDrateratios,RateRatios!$B$3)*10))","v":233.4930091189855},2.0225435092982025E-3,{"$f":"IF('III Tool Overview'!$H$6=\"Western Isles Health Board\",0,IF('III Tool Overview'!$H$6=\"Eilean Siar Local Authority\",0,hosp_count(5,B257,C257,D257,$C$1,G257,1,F257,F257,SIMDRateRatios_hosp,SIMDrateratios,RateRatios!$B$3)*1000))","v":86526.304857753174},{"$f":"IF('III Tool Overview'!$H$6=\"Western Isles Health Board\",0,IF('III Tool Overview'!$H$6=\"Eilean Siar Local Authority\",0,hosp_count(5,B257,C257,D257,$C$1,G257+H257,1,F257,F257,SIMDRateRatios_hosp,SIMDrateratios,RateRatios!$B$3)*1000))","v":86525.677758084523},0.62709966865077149,{"$f":"IF('III Tool Overview'!$H$6=\"Western Isles Health Board\",0,IF('III Tool Overview'!$H$6=\"Eilean Siar Local Authority\",0,hosp_count(10,B257,C257,D257,$C$1,G257,1,F257,F257,SIMDRateRatios_hosp,SIMDrateratios,RateRatios!$B$3)*10))","v":1667.0296918544332},{"$f":"IF('III Tool Overview'!$H$6=\"Western Isles Health Board\",0,IF('III Tool Overview'!$H$6=\"Eilean Siar Local Authority\",0,hosp_count(10,B257,C257,D257,$C$1,G257+H257,1,F257,F257,SIMDRateRatios_hosp,SIMDrateratios,RateRatios!$B$3)*10))","v":1667.0216801970928},8.0116573403756774E-3,{"$f":"IF('III Tool Overview'!$H$6=\"Western Isles Health Board\",0,IF('III Tool Overview'!$H$6=\"Eilean Siar Local Authority\",0,hosp_count(20,B257,C257,D257,$C$1,G257,1,F257,F257,SIMDRateRatios_hosp,SIMDrateratios,RateRatios!$B$3)*10))","v":2394.7734615955137},{"$f":"IF('III Tool Overview'!$H$6=\"Western Isles Health Board\",0,IF('III Tool Overview'!$H$6=\"Eilean Siar Local Authority\",0,hosp_count(20,B257,C257,D257,$C$1,G257+H257,1,F257,F257,SIMDRateRatios_hosp,SIMDrateratios,RateRatios!$B$3)*10))","v":2394.771614143121},1.8474523926670372E-3]
["TOTAL",null,null,null,null,{"$f":"SUM(F238:F257)","v":10020.379999999999},{"$f":"SUM(G238:G257)","v":0},{"$f":"SUM(H238:H257)","v":10020.379999999999},{"$f":"SUM(I238:I257)","v":498.3463512186043},{"$f":"SUM(J238:J257)","v":498.34081476091586},{"$f":"SUM(K238:K257)","v":210666.7255048863},{"$f":"SUM(L238:L257)","v":210664.46299129963},{"$f":"SUM(M238:M257)","v":5176.3406954109414},{"$f":"SUM(N238:N257)","v":5176.2885522495362},{"$f":"SUM(O238:O257)","v":12788.165329264666},{"$f":"SUM(P238:P257)","v":12788.054985201543},{"$f":"SUM(Q238:Q257)","v":15158.674994363555},{"$f":"SUM(R238:R257)","v":15158.505785189904},{"$f":"SUM(S238:S257)","v":0.16920917364912391},{"$f":"SUM(T238:T257)","v":6173842.5099375118},{"$f":"SUM(U238:U257)","v":6173774.8332444215},{"$f":"SUM(V238:V257)","v":67.676693091864308},{"$f":"SUM(W238:W257)","v":142128.48238007625},{"$f":"SUM(X238:X257)","v":142126.96857393609},{"$f":"SUM(Y238:Y257)","v":1.5138061401766976},{"$f":"SUM(Z238:Z257)","v":305331.40240055037},{"$f":"SUM(AA238:AA257)","v":305328.29037250864},{"$f":"SUM(AB238:AB257)","v":3.1120280417597144},{"$f":"SUM(AC238:AC257)","v":15671.591345397674},{"$f":"SUM(AD238:AD257)","v":15671.454517616572},{"$f":"SUM(AE238:AE257)","v":0.13682778110125327},{"$f":"SUM(AF238:AF257)","v":6506438.6655145511},{"$f":"SUM(AG238:AG257)","v":6506383.1639050264},{"$f":"SUM(AH238:AH257)","v":55.50160952524493},{"$f":"SUM(AI238:AI257)","v":155393.25032204046},{"$f":"SUM(AJ238:AJ257)","v":155391.98072451763},{"$f":"SUM(AK238:AK257)","v":1.2695975228530187},{"$f":"SUM(AL238:AL257)","v":365580.65187921317},{"$f":"SUM(AM238:AM257)","v":365577.95341589017},{"$f":"SUM(AN238:AN257)","v":2.698463323023816}]
["Female <1",0.5,"female",5,1,{"$f":"HLOOKUP('III Tool Overview'!$H$6,LookUpData_Pop!$B$1:$AV$269,LookUpData_Pop!BB251,FALSE)/50","v":91.04},0,{"$f":"F259","v":91.04},{"$f":"IF('III Tool Overview'!$H$6=\"Western Isles Health Board\",0,IF('III Tool Overview'!$H$6=\"Eilean Siar Local Authority\",0,new_ci(2,B259,C259,D259,$C$1,G259,1,F259,E259*F259,SIMDrateratios,RateRatios!$B$3)*10))","v":2.7608045453628452E-2},{"$f":"IF('III Tool Overview'!$H$6=\"Western Isles Health Board\",0,IF('III Tool Overview'!$H$6=\"Eilean Siar Local Authority\",0,new_ci(2,B259,C259,D259,$C$1,G259+H259,1,H259,H259,SIMDrateratios,RateRatios!$B$3)*10))","v":2.7607735439641748E-2},{"$f":"IF('III Tool Overview'!$H$6=\"Western Isles Health Board\",0,IF('III Tool Overview'!$H$6=\"Eilean Siar Local Authority\",0,new_ci(5,B259,C259,D259,$C$1,G259,1,F259,F259,SIMDrateratios,RateRatios!$B$3)*1000))","v":12.262607643594325},{"$f":"IF('III Tool Overview'!$H$6=\"Western Isles Health Board\",0,IF('III Tool Overview'!$H$6=\"Eilean Siar Local Authority\",0,new_ci(5,B259,C259,D259,$C$1,H259,1,F259,F259,SIMDrateratios,RateRatios!$B$3)*1000))","v":12.262469952496469},{"$f":"IF('III Tool Overview'!$H$6=\"Western Isles Health Board\",0,IF('III Tool Overview'!$H$6=\"Eilean Siar Local Authority\",0,new_ci(10,B259,C259,D259,$C$1,G259,1,F259,F259,SIMDrateratios,RateRatios!$B$3)*10))","v":0.33104537313647187},{"$f":"IF('III Tool Overview'!$H$6=\"Western Isles Health Board\",0,IF('III Tool Overview'!$H$6=\"Eilean Siar Local Authority\",0,new_ci(10,B259,C259,D259,$C$1,G259+H259,1,F259,F259,SIMDrateratios,RateRatios!$B$3)*10))","v":0.33104165640810679},{"$f":"IF('III Tool Overview'!$H$6=\"Western Isles Health Board\",0,IF('III Tool Overview'!$H$6=\"Eilean Siar Local Authority\",0,new_ci(20,B259,C259,D259,$C$1,G259,1,F259,F259,SIMDrateratios,RateRatios!$B$3)*10))","v":1.0345624059963152},{"$f":"IF('III Tool Overview'!$H$6=\"Western Isles Health Board\",0,IF('III Tool Overview'!$H$6=\"Eilean Siar Local Authority\",0,new_ci(20,B259,C259,D259,$C$1,G259+H259,1,F259,F259,SIMDrateratios,RateRatios!$B$3)*10))","v":1.0345507951988484},{"$f":"IF('III Tool Overview'!$H$6=\"Western Isles Health Board\",0,IF('III Tool Overview'!$H$6=\"Eilean Siar Local Authority\",0,new_yll(2,B259,C259,D259,$C$1,G259,1,F259,F259,SIMDrateratios,RateRatios!$B$3)*10))","v":2.7331964999092166},{"$f":"IF('III Tool Overview'!$H$6=\"Western Isles Health Board\",0,IF('III Tool Overview'!$H$6=\"Eilean Siar Local Authority\",0,new_yll(2,B259,C259,D259,$C$1,G259+H259,1,F259,F259,SIMDrateratios,RateRatios!$B$3)*10))","v":2.7331658085245332},{"$f":"Q259-R259","v":3.0691384683478873E-5},{"$f":"IF('III Tool Overview'!$H$6=\"Western Isles Health Board\",0,IF('III Tool Overview'!$H$6=\"Eilean Siar Local Authority\",0,new_yll(5,B259,C259,D259,$C$1,G259,1,F259,F259,SIMDrateratios,RateRatios!$B$3)*1000))","v":1194.5647437718858},{"$f":"IF('III Tool Overview'!$H$6=\"Western Isles Health Board\",0,IF('III Tool Overview'!$H$6=\"Eilean Siar Local Authority\",0,new_yll(5,B259,C259,D259,$C$1,G259+H259,1,F259,F259,SIMDrateratios,RateRatios!$B$3)*1000))","v":1194.5513305561465},{"$f":"T259-U259","v":1.3413215739319639E-2},{"$f":"IF('III Tool Overview'!$H$6=\"Western Isles Health Board\",0,IF('III Tool Overview'!$H$6=\"Eilean Siar Local Authority\",0,new_yll(10,B259,C259,D259,$C$1,G259,1,F259,F259,SIMDrateratios,RateRatios!$B$3)*10))","v":31.300398203737046},{"$f":"IF('III Tool Overview'!$H$6=\"Western Isles Health Board\",0,IF('III Tool Overview'!$H$6=\"Eilean Siar Local Authority\",0,new_yll(10,B259,C259,D259,$C$1,G259+H259,1,F259,F259,SIMDrateratios,RateRatios!$B$3)*10))","v":31.300046785428265},{"$f":"W259-X259","v":3.5141830878160363E-4},{"$f":"IF('III Tool Overview'!$H$6=\"Western Isles Health Board\",0,IF('III Tool Overview'!$H$6=\"Eilean Siar Local Authority\",0,new_yll(20,B259,C259,D259,$C$1,G259,1,F259,F259,SIMDrateratios,RateRatios!$B$3)*10))","v":91.060259222837573},{"$f":"IF('III Tool Overview'!$H$6=\"Western Isles Health Board\",0,IF('III Tool Overview'!$H$6=\"Eilean Siar Local Authority\",0,new_yll(20,B259,C259,D259,$C$1,G259+H259,1,F259,F259,SIMDrateratios,RateRatios!$B$3)*10))","v":91.059237242281029},{"$f":"Z259-AA259","v":1.021980556544122E-3},{"$f":"IF('III Tool Overview'!$H$6=\"Western Isles Health Board\",0,IF('III Tool Overview'!$H$6=\"Eilean Siar Local Authority\",0,hosp_count(2,B259,C259,D259,$C$1,G259,1,F259,F259,SIMDRateRatios_hosp,SIMDrateratios,RateRatios!$B$3)*10))","v":45.79694500638773},{"$f":"IF('III Tool Overview'!$H$6=\"Western Isles Health Board\",0,IF('III Tool Overview'!$H$6=\"Eilean Siar Local Authority\",0,hosp_count(2,B259,C259,D259,$C$1,G259+H259,1,F259,F259,SIMDRateRatios_hosp,SIMDrateratios,RateRatios!$B$3)*10))","v":45.796545204122026},{"$f":"AC259-AD259","v":3.9980226570435207E-4},{"$f":"IF('III Tool Overview'!$H$6=\"Western Isles Health Board\",0,IF('III Tool Overview'!$H$6=\"Eilean Siar Local Authority\",0,hosp_count(5,B259,C259,D259,$C$1,G259,1,F259,F259,SIMDRateRatios_hosp,SIMDrateratios,RateRatios!$B$3)*1000))","v":19062.811862638209},{"$f":"IF('III Tool Overview'!$H$6=\"Western Isles Health Board\",0,IF('III Tool Overview'!$H$6=\"Eilean Siar Local Authority\",0,hosp_count(5,B259,C259,D259,$C$1,G259+H259,1,F259,F259,SIMDRateRatios_hosp,SIMDrateratios,RateRatios!$B$3)*1000))","v":19062.645456828595},{"$f":"AF259-AG259","v":0.16640580961393425},{"$f":"IF('III Tool Overview'!$H$6=\"Western Isles Health Board\",0,IF('III Tool Overview'!$H$6=\"Eilean Siar Local Authority\",0,hosp_count(10,B259,C259,D259,$C$1,G259,1,F259,F259,SIMDRateRatios_hosp,SIMDrateratios,RateRatios!$B$3)*10))","v":458.85747721445091},{"$f":"IF('III Tool Overview'!$H$6=\"Western Isles Health Board\",0,IF('III Tool Overview'!$H$6=\"Eilean Siar Local Authority\",0,hosp_count(10,B259,C259,D259,$C$1,G259+H259,1,F259,F259,SIMDRateRatios_hosp,SIMDrateratios,RateRatios!$B$3)*10))","v":458.85347221360718},{"$f":"AI259-AJ259","v":4.0050008437333418E-3},{"$f":"IF('III Tool Overview'!$H$6=\"Western Isles Health Board\",0,IF('III Tool Overview'!$H$6=\"Eilean Siar Local Authority\",0,hosp_count(20,B259,C259,D259,$C$1,G259,1,F259,F259,SIMDRateRatios_hosp,SIMDrateratios,RateRatios!$B$3)*10))","v":1113.3324446604065},{"$f":"IF('III Tool Overview'!$H$6=\"Western Isles Health Board\",0,IF('III Tool Overview'!$H$6=\"Eilean Siar Local Authority\",0,hosp_count(20,B259,C259,D259,$C$1,G259+H259,1,F259,F259,SIMDRateRatios_hosp,SIMDrateratios,RateRatios!$B$3)*10))","v":1113.3227311978185},{"$f":"AL259-AM259","v":9.713462588024413E-3}]
["Female 1-4",2.5,"female",5,1,{"$f":"HLOOKUP('III Tool Overview'!$H$6,LookUpData_Pop!$B$1:$AV$269,LookUpData_Pop!BB252,FALSE)/50","v":402.6},0,{"$f":"F260","v":402.6},{"$f":"IF('III Tool Overview'!$H$6=\"Western Isles Health Board\",0,IF('III Tool Overview'!$H$6=\"Eilean Siar Local Authority\",0,new_ci(2,B260,C260,D260,$C$1,G260,1,F260,E260*F260,SIMDrateratios,RateRatios!$B$3)*10))","v":0.14382598532562807},{"$f":"IF('III Tool Overview'!$H$6=\"Western Isles Health Board\",0,IF('III Tool Overview'!$H$6=\"Eilean Siar Local Authority\",0,new_ci(2,B260,C260,D260,$C$1,G260+H260,1,H260,H260,SIMDrateratios,RateRatios!$B$3)*10))","v":0.1438243679756952},{"$f":"IF('III Tool Overview'!$H$6=\"Western Isles Health Board\",0,IF('III Tool Overview'!$H$6=\"Eilean Siar Local Authority\",0,new_ci(5,B260,C260,D260,$C$1,G260,1,F260,F260,SIMDrateratios,RateRatios!$B$3)*1000))","v":63.88229266454411},{"$f":"IF('III Tool Overview'!$H$6=\"Western Isles Health Board\",0,IF('III Tool Overview'!$H$6=\"Eilean Siar Local Authority\",0,new_ci(5,B260,C260,D260,$C$1,H260,1,F260,F260,SIMDrateratios,RateRatios!$B$3)*1000))","v":63.881574340429474},{"$f":"IF('III Tool Overview'!$H$6=\"Western Isles Health Board\",0,IF('III Tool Overview'!$H$6=\"Eilean Siar Local Authority\",0,new_ci(10,B260,C260,D260,$C$1,G260,1,F260,F260,SIMDrateratios,RateRatios!$B$3)*10))","v":1.7245521482720938},{"$f":"IF('III Tool Overview'!$H$6=\"Western Isles Health Board\",0,IF('III Tool Overview'!$H$6=\"Eilean Siar Local Authority\",0,new_ci(10,B260,C260,D260,$C$1,G260+H260,1,F260,F260,SIMDrateratios,RateRatios!$B$3)*10))","v":1.7245327591696746},{"$f":"IF('III Tool Overview'!$H$6=\"Western Isles Health Board\",0,IF('III Tool Overview'!$H$6=\"Eilean Siar Local Authority\",0,new_ci(20,B260,C260,D260,$C$1,G260,1,F260,F260,SIMDrateratios,RateRatios!$B$3)*10))","v":5.38909217344548},{"$f":"IF('III Tool Overview'!$H$6=\"Western Isles Health Board\",0,IF('III Tool Overview'!$H$6=\"Eilean Siar Local Authority\",0,new_ci(20,B260,C260,D260,$C$1,G260+H260,1,F260,F260,SIMDrateratios,RateRatios!$B$3)*10))","v":5.389031611595799},{"$f":"IF('III Tool Overview'!$H$6=\"Western Isles Health Board\",0,IF('III Tool Overview'!$H$6=\"Eilean Siar Local Authority\",0,new_yll(2,B260,C260,D260,$C$1,G260,1,F260,F260,SIMDrateratios,RateRatios!$B$3)*10))","v":13.951120576585925},{"$f":"IF('III Tool Overview'!$H$6=\"Western Isles Health Board\",0,IF('III Tool Overview'!$H$6=\"Eilean Siar Local Authority\",0,new_yll(2,B260,C260,D260,$C$1,G260+H260,1,F260,F260,SIMDrateratios,RateRatios!$B$3)*10))","v":13.950963693642436},{"$f":"Q260-R260","v":1.5688294348947807E-4},{"$f":"IF('III Tool Overview'!$H$6=\"Western Isles Health Board\",0,IF('III Tool Overview'!$H$6=\"Eilean Siar Local Authority\",0,new_yll(5,B260,C260,D260,$C$1,G260,1,F260,F260,SIMDrateratios,RateRatios!$B$3)*1000))","v":6095.3441236725776},{"$f":"IF('III Tool Overview'!$H$6=\"Western Isles Health Board\",0,IF('III Tool Overview'!$H$6=\"Eilean Siar Local Authority\",0,new_yll(5,B260,C260,D260,$C$1,G260+H260,1,F260,F260,SIMDrateratios,RateRatios!$B$3)*1000))","v":6095.2755845711044},{"$f":"T260-U260","v":6.8539101473106712E-2},{"$f":"IF('III Tool Overview'!$H$6=\"Western Isles Health Board\",0,IF('III Tool Overview'!$H$6=\"Eilean Siar Local Authority\",0,new_yll(10,B260,C260,D260,$C$1,G260,1,F260,F260,SIMDrateratios,RateRatios!$B$3)*10))","v":159.60768603120746},{"$f":"IF('III Tool Overview'!$H$6=\"Western Isles Health Board\",0,IF('III Tool Overview'!$H$6=\"Eilean Siar Local Authority\",0,new_yll(10,B260,C260,D260,$C$1,G260+H260,1,F260,F260,SIMDrateratios,RateRatios!$B$3)*10))","v":159.60589155937788},{"$f":"W260-X260","v":1.7944718295836992E-3},{"$f":"IF('III Tool Overview'!$H$6=\"Western Isles Health Board\",0,IF('III Tool Overview'!$H$6=\"Eilean Siar Local Authority\",0,new_yll(20,B260,C260,D260,$C$1,G260,1,F260,F260,SIMDrateratios,RateRatios!$B$3)*10))","v":463.56131931975938},{"$f":"IF('III Tool Overview'!$H$6=\"Western Isles Health Board\",0,IF('III Tool Overview'!$H$6=\"Eilean Siar Local Authority\",0,new_yll(20,B260,C260,D260,$C$1,G260+H260,1,F260,F260,SIMDrateratios,RateRatios!$B$3)*10))","v":463.55610976233521},{"$f":"Z260-AA260","v":5.209557424166178E-3},{"$f":"IF('III Tool Overview'!$H$6=\"Western Isles Health Board\",0,IF('III Tool Overview'!$H$6=\"Eilean Siar Local Authority\",0,hosp_count(2,B260,C260,D260,$C$1,G260,1,F260,F260,SIMDRateRatios_hosp,SIMDrateratios,RateRatios!$B$3)*10))","v":212.75762219149027},{"$f":"IF('III Tool Overview'!$H$6=\"Western Isles Health Board\",0,IF('III Tool Overview'!$H$6=\"Eilean Siar Local Authority\",0,hosp_count(2,B260,C260,D260,$C$1,G260+H260,1,F260,F260,SIMDRateRatios_hosp,SIMDrateratios,RateRatios!$B$3)*10))","v":212.75576217839048},{"$f":"AC260-AD260","v":1.8600130997867836E-3},{"$f":"IF('III Tool Overview'!$H$6=\"Western Isles Health Board\",0,IF('III Tool Overview'!$H$6=\"Eilean Siar Local Authority\",0,hosp_count(5,B260,C260,D260,$C$1,G260,1,F260,F260,SIMDRateRatios_hosp,SIMDrateratios,RateRatios!$B$3)*1000))","v":88558.818491578568},{"$f":"IF('III Tool Overview'!$H$6=\"Western Isles Health Board\",0,IF('III Tool Overview'!$H$6=\"Eilean Siar Local Authority\",0,hosp_count(5,B260,C260,D260,$C$1,G260+H260,1,F260,F260,SIMDRateRatios_hosp,SIMDrateratios,RateRatios!$B$3)*1000))","v":88558.044331766709},{"$f":"AF260-AG260","v":0.77415981185913552},{"$f":"IF('III Tool Overview'!$H$6=\"Western Isles Health Board\",0,IF('III Tool Overview'!$H$6=\"Eilean Siar Local Authority\",0,hosp_count(10,B260,C260,D260,$C$1,G260,1,F260,F260,SIMDRateRatios_hosp,SIMDrateratios,RateRatios!$B$3)*10))","v":2131.644680315198},{"$f":"IF('III Tool Overview'!$H$6=\"Western Isles Health Board\",0,IF('III Tool Overview'!$H$6=\"Eilean Siar Local Authority\",0,hosp_count(10,B260,C260,D260,$C$1,G260+H260,1,F260,F260,SIMDRateRatios_hosp,SIMDrateratios,RateRatios!$B$3)*10))","v":2131.6260488590046},{"$f":"AI260-AJ260","v":1.8631456193361373E-2},{"$f":"IF('III Tool Overview'!$H$6=\"Western Isles Health Board\",0,IF('III Tool Overview'!$H$6=\"Eilean Siar Local Authority\",0,hosp_count(20,B260,C260,D260,$C$1,G260,1,F260,F260,SIMDRateRatios_hosp,SIMDrateratios,RateRatios!$B$3)*10))","v":5171.7505877757412},{"$f":"IF('III Tool Overview'!$H$6=\"Western Isles Health Board\",0,IF('III Tool Overview'!$H$6=\"Eilean Siar Local Authority\",0,hosp_count(20,B260,C260,D260,$C$1,G260+H260,1,F260,F260,SIMDRateRatios_hosp,SIMDrateratios,RateRatios!$B$3)*10))","v":5171.7054060621831},{"$f":"AL260-AM260","v":4.5181713558122283E-2}]
["Female 5-9",7.5,"female",5,1,{"$f":"HLOOKUP('III Tool Overview'!$H$6,LookUpData_Pop!$B$1:$AV$269,LookUpData_Pop!BB253,FALSE)/50","v":556.52},0,556.52,{"$f":"IF('III Tool Overview'!$H$6=\"Western Isles Health Board\",0,IF('III Tool Overview'!$H$6=\"Eilean Siar Local Authority\",0,new_ci(2,B261,C261,D261,$C$1,G261,1,F261,E261*F261,SIMDrateratios,RateRatios!$B$3)*10))","v":0.32503002531916936},{"$f":"IF('III Tool Overview'!$H$6=\"Western Isles Health Board\",0,IF('III Tool Overview'!$H$6=\"Eilean Siar Local Authority\",0,new_ci(2,B261,C261,D261,$C$1,G261+H261,1,H261,H261,SIMDrateratios,RateRatios!$B$3)*10))","v":0.32502637081646335},{"$f":"IF('III Tool Overview'!$H$6=\"Western Isles Health Board\",0,IF('III Tool Overview'!$H$6=\"Eilean Siar Local Authority\",0,new_ci(5,B261,C261,D261,$C$1,G261,1,F261,F261,SIMDrateratios,RateRatios!$B$3)*1000))","v":144.36092855610067},{"$f":"IF('III Tool Overview'!$H$6=\"Western Isles Health Board\",0,IF('III Tool Overview'!$H$6=\"Eilean Siar Local Authority\",0,new_ci(5,B261,C261,D261,$C$1,H261,1,F261,F261,SIMDrateratios,RateRatios!$B$3)*1000))","v":144.35930558460115},{"$f":"IF('III Tool Overview'!$H$6=\"Western Isles Health Board\",0,IF('III Tool Overview'!$H$6=\"Eilean Siar Local Authority\",0,new_ci(10,B261,C261,D261,$C$1,G261,1,F261,F261,SIMDrateratios,RateRatios!$B$3)*10))","v":3.8968018236501987},{"$f":"IF('III Tool Overview'!$H$6=\"Western Isles Health Board\",0,IF('III Tool Overview'!$H$6=\"Eilean Siar Local Authority\",0,new_ci(10,B261,C261,D261,$C$1,G261+H261,1,F261,F261,SIMDrateratios,RateRatios!$B$3)*10))","v":3.8967580236851704},{"$f":"IF('III Tool Overview'!$H$6=\"Western Isles Health Board\",0,IF('III Tool Overview'!$H$6=\"Eilean Siar Local Authority\",0,new_ci(20,B261,C261,D261,$C$1,G261,1,F261,F261,SIMDrateratios,RateRatios!$B$3)*10))","v":12.173684840577019},{"$f":"IF('III Tool Overview'!$H$6=\"Western Isles Health Board\",0,IF('III Tool Overview'!$H$6=\"Eilean Siar Local Authority\",0,new_ci(20,B261,C261,D261,$C$1,G261+H261,1,F261,F261,SIMDrateratios,RateRatios!$B$3)*10))","v":12.1735481105164},{"$f":"IF('III Tool Overview'!$H$6=\"Western Isles Health Board\",0,IF('III Tool Overview'!$H$6=\"Eilean Siar Local Authority\",0,new_yll(2,B261,C261,D261,$C$1,G261,1,F261,F261,SIMDrateratios,RateRatios!$B$3)*10))","v":29.577732304044414},{"$f":"IF('III Tool Overview'!$H$6=\"Western Isles Health Board\",0,IF('III Tool Overview'!$H$6=\"Eilean Siar Local Authority\",0,new_yll(2,B261,C261,D261,$C$1,G261+H261,1,F261,F261,SIMDrateratios,RateRatios!$B$3)*10))","v":29.577399744298166},3.3255974624779583E-4,{"$f":"IF('III Tool Overview'!$H$6=\"Western Isles Health Board\",0,IF('III Tool Overview'!$H$6=\"Eilean Siar Local Authority\",0,new_yll(5,B261,C261,D261,$C$1,G261,1,F261,F261,SIMDrateratios,RateRatios!$B$3)*1000))","v":12908.071237223663},{"$f":"IF('III Tool Overview'!$H$6=\"Western Isles Health Board\",0,IF('III Tool Overview'!$H$6=\"Eilean Siar Local Authority\",0,new_yll(5,B261,C261,D261,$C$1,G261+H261,1,F261,F261,SIMDrateratios,RateRatios!$B$3)*1000))","v":12907.926118659543},0.14511856411991175,{"$f":"IF('III Tool Overview'!$H$6=\"Western Isles Health Board\",0,IF('III Tool Overview'!$H$6=\"Eilean Siar Local Authority\",0,new_yll(10,B261,C261,D261,$C$1,G261,1,F261,F261,SIMDrateratios,RateRatios!$B$3)*10))","v":337.26984221802036},{"$f":"IF('III Tool Overview'!$H$6=\"Western Isles Health Board\",0,IF('III Tool Overview'!$H$6=\"Eilean Siar Local Authority\",0,new_yll(10,B261,C261,D261,$C$1,G261+H261,1,F261,F261,SIMDrateratios,RateRatios!$B$3)*10))","v":337.26605129012023},3.7909279001269169E-3,{"$f":"IF('III Tool Overview'!$H$6=\"Western Isles Health Board\",0,IF('III Tool Overview'!$H$6=\"Eilean Siar Local Authority\",0,new_yll(20,B261,C261,D261,$C$1,G261,1,F261,F261,SIMDrateratios,RateRatios!$B$3)*10))","v":974.13479150145213},{"$f":"IF('III Tool Overview'!$H$6=\"Western Isles Health Board\",0,IF('III Tool Overview'!$H$6=\"Eilean Siar Local Authority\",0,new_yll(20,B261,C261,D261,$C$1,G261+H261,1,F261,F261,SIMDrateratios,RateRatios!$B$3)*10))","v":974.12384995269576},1.0941548756363773E-2,{"$f":"IF('III Tool Overview'!$H$6=\"Western Isles Health Board\",0,IF('III Tool Overview'!$H$6=\"Eilean Siar Local Authority\",0,hosp_count(2,B261,C261,D261,$C$1,G261,1,F261,F261,SIMDRateRatios_hosp,SIMDrateratios,RateRatios!$B$3)*10))","v":340.96784769226883},{"$f":"IF('III Tool Overview'!$H$6=\"Western Isles Health Board\",0,IF('III Tool Overview'!$H$6=\"Eilean Siar Local Authority\",0,hosp_count(2,B261,C261,D261,$C$1,G261+H261,1,F261,F261,SIMDRateRatios_hosp,SIMDrateratios,RateRatios!$B$3)*10))","v":340.96486720379772},2.9804884711097657E-3,{"$f":"IF('III Tool Overview'!$H$6=\"Western Isles Health Board\",0,IF('III Tool Overview'!$H$6=\"Eilean Siar Local Authority\",0,hosp_count(5,B261,C261,D261,$C$1,G261,1,F261,F261,SIMDRateRatios_hosp,SIMDrateratios,RateRatios!$B$3)*1000))","v":141920.22397450055},{"$f":"IF('III Tool Overview'!$H$6=\"Western Isles Health Board\",0,IF('III Tool Overview'!$H$6=\"Eilean Siar Local Authority\",0,hosp_count(5,B261,C261,D261,$C$1,G261+H261,1,F261,F261,SIMDRateRatios_hosp,SIMDrateratios,RateRatios!$B$3)*1000))","v":141918.9835627217},1.2404117788537405,{"$f":"IF('III Tool Overview'!$H$6=\"Western Isles Health Board\",0,IF('III Tool Overview'!$H$6=\"Eilean Siar Local Authority\",0,hosp_count(10,B261,C261,D261,$C$1,G261,1,F261,F261,SIMDRateRatios_hosp,SIMDrateratios,RateRatios!$B$3)*10))","v":3415.8147755098753},{"$f":"IF('III Tool Overview'!$H$6=\"Western Isles Health Board\",0,IF('III Tool Overview'!$H$6=\"Eilean Siar Local Authority\",0,hosp_count(10,B261,C261,D261,$C$1,G261+H261,1,F261,F261,SIMDRateRatios_hosp,SIMDrateratios,RateRatios!$B$3)*10))","v":3415.7849280996306},2.9847410244656203E-2,{"$f":"IF('III Tool Overview'!$H$6=\"Western Isles Health Board\",0,IF('III Tool Overview'!$H$6=\"Eilean Siar Local Authority\",0,hosp_count(20,B261,C261,D261,$C$1,G261,1,F261,F261,SIMDRateRatios_hosp,SIMDrateratios,RateRatios!$B$3)*10))","v":8285.4295668095656},{"$f":"IF('III Tool Overview'!$H$6=\"Western Isles Health Board\",0,IF('III Tool Overview'!$H$6=\"Eilean Siar Local Authority\",0,hosp_count(20,B261,C261,D261,$C$1,G261+H261,1,F261,F261,SIMDRateRatios_hosp,SIMDrateratios,RateRatios!$B$3)*10))","v":8285.3572250354209},7.2341774144661031E-2]
["Female 10-14",12.5,"female",5,1,{"$f":"HLOOKUP('III Tool Overview'!$H$6,LookUpData_Pop!$B$1:$AV$269,LookUpData_Pop!BB254,FALSE)/50","v":627.38},0,627.38,{"$f":"IF('III Tool Overview'!$H$6=\"Western Isles Health Board\",0,IF('III Tool Overview'!$H$6=\"Eilean Siar Local Authority\",0,new_ci(2,B262,C262,D262,$C$1,G262,1,F262,E262*F262,SIMDrateratios,RateRatios!$B$3)*10))","v":0.50850022827340313},{"$f":"IF('III Tool Overview'!$H$6=\"Western Isles Health Board\",0,IF('III Tool Overview'!$H$6=\"Eilean Siar Local Authority\",0,new_ci(2,B262,C262,D262,$C$1,G262+H262,1,H262,H262,SIMDrateratios,RateRatios!$B$3)*10))","v":0.50849451935899193},{"$f":"IF('III Tool Overview'!$H$6=\"Western Isles Health Board\",0,IF('III Tool Overview'!$H$6=\"Eilean Siar Local Authority\",0,new_ci(5,B262,C262,D262,$C$1,G262,1,F262,F262,SIMDrateratios,RateRatios!$B$3)*1000))","v":225.83976363547637},{"$f":"IF('III Tool Overview'!$H$6=\"Western Isles Health Board\",0,IF('III Tool Overview'!$H$6=\"Eilean Siar Local Authority\",0,new_ci(5,B262,C262,D262,$C$1,H262,1,F262,F262,SIMDrateratios,RateRatios!$B$3)*1000))","v":225.83722849380712},{"$f":"IF('III Tool Overview'!$H$6=\"Western Isles Health Board\",0,IF('III Tool Overview'!$H$6=\"Eilean Siar Local Authority\",0,new_ci(10,B262,C262,D262,$C$1,G262,1,F262,F262,SIMDrateratios,RateRatios!$B$3)*10))","v":6.0956768217111454},{"$f":"IF('III Tool Overview'!$H$6=\"Western Isles Health Board\",0,IF('III Tool Overview'!$H$6=\"Eilean Siar Local Authority\",0,new_ci(10,B262,C262,D262,$C$1,G262+H262,1,F262,F262,SIMDrateratios,RateRatios!$B$3)*10))","v":6.0956084162393784},{"$f":"IF('III Tool Overview'!$H$6=\"Western Isles Health Board\",0,IF('III Tool Overview'!$H$6=\"Eilean Siar Local Authority\",0,new_ci(20,B262,C262,D262,$C$1,G262,1,F262,F262,SIMDrateratios,RateRatios!$B$3)*10))","v":19.037517784008344},{"$f":"IF('III Tool Overview'!$H$6=\"Western Isles Health Board\",0,IF('III Tool Overview'!$H$6=\"Eilean Siar Local Authority\",0,new_ci(20,B262,C262,D262,$C$1,G262+H262,1,F262,F262,SIMDrateratios,RateRatios!$B$3)*10))","v":19.037304366400761},{"$f":"IF('III Tool Overview'!$H$6=\"Western Isles Health Board\",0,IF('III Tool Overview'!$H$6=\"Eilean Siar Local Authority\",0,new_yll(2,B262,C262,D262,$C$1,G262,1,F262,F262,SIMDrateratios,RateRatios!$B$3)*10))","v":44.239519859786078},{"$f":"IF('III Tool Overview'!$H$6=\"Western Isles Health Board\",0,IF('III Tool Overview'!$H$6=\"Eilean Siar Local Authority\",0,new_yll(2,B262,C262,D262,$C$1,G262+H262,1,F262,F262,SIMDrateratios,RateRatios!$B$3)*10))","v":44.239023184232302},4.9667555377652661E-4,{"$f":"IF('III Tool Overview'!$H$6=\"Western Isles Health Board\",0,IF('III Tool Overview'!$H$6=\"Eilean Siar Local Authority\",0,new_yll(5,B262,C262,D262,$C$1,G262,1,F262,F262,SIMDrateratios,RateRatios!$B$3)*1000))","v":19290.171205238516},{"$f":"IF('III Tool Overview'!$H$6=\"Western Isles Health Board\",0,IF('III Tool Overview'!$H$6=\"Eilean Siar Local Authority\",0,new_yll(5,B262,C262,D262,$C$1,G262+H262,1,F262,F262,SIMDrateratios,RateRatios!$B$3)*1000))","v":19289.954665067373},0.21654017114269664,{"$f":"IF('III Tool Overview'!$H$6=\"Western Isles Health Board\",0,IF('III Tool Overview'!$H$6=\"Eilean Siar Local Authority\",0,new_yll(10,B262,C262,D262,$C$1,G262,1,F262,F262,SIMDrateratios,RateRatios!$B$3)*10))","v":503.2019046641467},{"$f":"IF('III Tool Overview'!$H$6=\"Western Isles Health Board\",0,IF('III Tool Overview'!$H$6=\"Eilean Siar Local Authority\",0,new_yll(10,B262,C262,D262,$C$1,G262+H262,1,F262,F262,SIMDrateratios,RateRatios!$B$3)*10))","v":503.19625770135235},5.6469627943442902E-3,{"$f":"IF('III Tool Overview'!$H$6=\"Western Isles Health Board\",0,IF('III Tool Overview'!$H$6=\"Eilean Siar Local Authority\",0,new_yll(20,B262,C262,D262,$C$1,G262,1,F262,F262,SIMDrateratios,RateRatios!$B$3)*10))","v":1447.2508541644049},{"$f":"IF('III Tool Overview'!$H$6=\"Western Isles Health Board\",0,IF('III Tool Overview'!$H$6=\"Eilean Siar Local Authority\",0,new_yll(20,B262,C262,D262,$C$1,G262+H262,1,F262,F262,SIMDrateratios,RateRatios!$B$3)*10))","v":1447.2346289761886},1.6225188216367314E-2,{"$f":"IF('III Tool Overview'!$H$6=\"Western Isles Health Board\",0,IF('III Tool Overview'!$H$6=\"Eilean Siar Local Authority\",0,hosp_count(2,B262,C262,D262,$C$1,G262,1,F262,F262,SIMDRateRatios_hosp,SIMDrateratios,RateRatios!$B$3)*10))","v":424.20669438938876},{"$f":"IF('III Tool Overview'!$H$6=\"Western Isles Health Board\",0,IF('III Tool Overview'!$H$6=\"Eilean Siar Local Authority\",0,hosp_count(2,B262,C262,D262,$C$1,G262+H262,1,F262,F262,SIMDRateRatios_hosp,SIMDrateratios,RateRatios!$B$3)*10))","v":424.20299172807808},3.7026613106831974E-3,{"$f":"IF('III Tool Overview'!$H$6=\"Western Isles Health Board\",0,IF('III Tool Overview'!$H$6=\"Eilean Siar Local Authority\",0,hosp_count(5,B262,C262,D262,$C$1,G262,1,F262,F262,SIMDRateRatios_hosp,SIMDrateratios,RateRatios!$B$3)*1000))","v":176560.1031739843},{"$f":"IF('III Tool Overview'!$H$6=\"Western Isles Health Board\",0,IF('III Tool Overview'!$H$6=\"Eilean Siar Local Authority\",0,hosp_count(5,B262,C262,D262,$C$1,G262+H262,1,F262,F262,SIMDRateRatios_hosp,SIMDrateratios,RateRatios!$B$3)*1000))","v":176558.56233843317},1.5408355511317495,{"$f":"IF('III Tool Overview'!$H$6=\"Western Isles Health Board\",0,IF('III Tool Overview'!$H$6=\"Eilean Siar Local Authority\",0,hosp_count(10,B262,C262,D262,$C$1,G262,1,F262,F262,SIMDRateRatios_hosp,SIMDrateratios,RateRatios!$B$3)*10))","v":4249.2244453828771},{"$f":"IF('III Tool Overview'!$H$6=\"Western Isles Health Board\",0,IF('III Tool Overview'!$H$6=\"Eilean Siar Local Authority\",0,hosp_count(10,B262,C262,D262,$C$1,G262+H262,1,F262,F262,SIMDRateRatios_hosp,SIMDrateratios,RateRatios!$B$3)*10))","v":4249.1873754529606},3.7069929916469846E-2,{"$f":"IF('III Tool Overview'!$H$6=\"Western Isles Health Board\",0,IF('III Tool Overview'!$H$6=\"Eilean Siar Local Authority\",0,hosp_count(20,B262,C262,D262,$C$1,G262,1,F262,F262,SIMDRateRatios_hosp,SIMDrateratios,RateRatios!$B$3)*10))","v":10304.537703058884},{"$f":"IF('III Tool Overview'!$H$6=\"Western Isles Health Board\",0,IF('III Tool Overview'!$H$6=\"Eilean Siar Local Authority\",0,hosp_count(20,B262,C262,D262,$C$1,G262+H262,1,F262,F262,SIMDRateRatios_hosp,SIMDrateratios,RateRatios!$B$3)*10))","v":10304.447904121798},8.979893708601594E-2]
["Female 15-19",17.5,"female",5,1,{"$f":"HLOOKUP('III Tool Overview'!$H$6,LookUpData_Pop!$B$1:$AV$269,LookUpData_Pop!BB255,FALSE)/50","v":657.1},{"$f":"'III Tool Overview'!$H$9/110","v":0},657.1,{"$f":"IF('III Tool Overview'!$H$6=\"Western Isles Health Board\",0,IF('III Tool Overview'!$H$6=\"Eilean Siar Local Authority\",0,new_ci(2,B263,C263,D263,$C$1,G263,1,F263,E263*F263,SIMDrateratios,RateRatios!$B$3)*10))","v":0.87069252957028076},{"$f":"IF('III Tool Overview'!$H$6=\"Western Isles Health Board\",0,IF('III Tool Overview'!$H$6=\"Eilean Siar Local Authority\",0,new_ci(2,B263,C263,D263,$C$1,G263+H263,1,H263,H263,SIMDrateratios,RateRatios!$B$3)*10))","v":0.87068275015014707},{"$f":"IF('III Tool Overview'!$H$6=\"Western Isles Health Board\",0,IF('III Tool Overview'!$H$6=\"Eilean Siar Local Authority\",0,new_ci(5,B263,C263,D263,$C$1,G263,1,F263,F263,SIMDrateratios,RateRatios!$B$3)*1000))","v":386.66567397618343},{"$f":"IF('III Tool Overview'!$H$6=\"Western Isles Health Board\",0,IF('III Tool Overview'!$H$6=\"Eilean Siar Local Authority\",0,new_ci(5,B263,C263,D263,$C$1,H263,1,F263,F263,SIMDrateratios,RateRatios!$B$3)*1000))","v":386.66133202598007},{"$f":"IF('III Tool Overview'!$H$6=\"Western Isles Health Board\",0,IF('III Tool Overview'!$H$6=\"Eilean Siar Local Authority\",0,new_ci(10,B263,C263,D263,$C$1,G263,1,F263,F263,SIMDrateratios,RateRatios!$B$3)*10))","v":10.434527559952588},{"$f":"IF('III Tool Overview'!$H$6=\"Western Isles Health Board\",0,IF('III Tool Overview'!$H$6=\"Eilean Siar Local Authority\",0,new_ci(10,B263,C263,D263,$C$1,G263+H263,1,F263,F263,SIMDrateratios,RateRatios!$B$3)*10))","v":10.434410447064081},{"$f":"IF('III Tool Overview'!$H$6=\"Western Isles Health Board\",0,IF('III Tool Overview'!$H$6=\"Eilean Siar Local Authority\",0,new_ci(20,B263,C263,D263,$C$1,G263,1,F263,F263,SIMDrateratios,RateRatios!$B$3)*10))","v":32.566904000574468},{"$f":"IF('III Tool Overview'!$H$6=\"Western Isles Health Board\",0,IF('III Tool Overview'!$H$6=\"Eilean Siar Local Authority\",0,new_ci(20,B263,C263,D263,$C$1,G263+H263,1,F263,F263,SIMDrateratios,RateRatios!$B$3)*10))","v":32.566539100302194},{"$f":"IF('III Tool Overview'!$H$6=\"Western Isles Health Board\",0,IF('III Tool Overview'!$H$6=\"Eilean Siar Local Authority\",0,new_yll(2,B263,C263,D263,$C$1,G263,1,F263,F263,SIMDrateratios,RateRatios!$B$3)*10))","v":70.526094895192742},{"$f":"IF('III Tool Overview'!$H$6=\"Western Isles Health Board\",0,IF('III Tool Overview'!$H$6=\"Eilean Siar Local Authority\",0,new_yll(2,B263,C263,D263,$C$1,G263+H263,1,F263,F263,SIMDrateratios,RateRatios!$B$3)*10))","v":70.525302762161914},7.9213303082781295E-4,{"$f":"IF('III Tool Overview'!$H$6=\"Western Isles Health Board\",0,IF('III Tool Overview'!$H$6=\"Eilean Siar Local Authority\",0,new_yll(5,B263,C263,D263,$C$1,G263,1,F263,F263,SIMDrateratios,RateRatios!$B$3)*1000))","v":30707.198108395121},{"$f":"IF('III Tool Overview'!$H$6=\"Western Isles Health Board\",0,IF('III Tool Overview'!$H$6=\"Eilean Siar Local Authority\",0,new_yll(5,B263,C263,D263,$C$1,G263+H263,1,F263,F263,SIMDrateratios,RateRatios!$B$3)*1000))","v":30706.853290010564},0.34481838455758407,{"$f":"IF('III Tool Overview'!$H$6=\"Western Isles Health Board\",0,IF('III Tool Overview'!$H$6=\"Eilean Siar Local Authority\",0,new_yll(10,B263,C263,D263,$C$1,G263,1,F263,F263,SIMDrateratios,RateRatios!$B$3)*10))","v":798.77426950704012},{"$f":"IF('III Tool Overview'!$H$6=\"Western Isles Health Board\",0,IF('III Tool Overview'!$H$6=\"Eilean Siar Local Authority\",0,new_yll(10,B263,C263,D263,$C$1,G263+H263,1,F263,F263,SIMDrateratios,RateRatios!$B$3)*10))","v":798.76530425368276},8.9652533573598703E-3,{"$f":"IF('III Tool Overview'!$H$6=\"Western Isles Health Board\",0,IF('III Tool Overview'!$H$6=\"Eilean Siar Local Authority\",0,new_yll(20,B263,C263,D263,$C$1,G263,1,F263,F263,SIMDrateratios,RateRatios!$B$3)*10))","v":2280.460674787812},{"$f":"IF('III Tool Overview'!$H$6=\"Western Isles Health Board\",0,IF('III Tool Overview'!$H$6=\"Eilean Siar Local Authority\",0,new_yll(20,B263,C263,D263,$C$1,G263+H263,1,F263,F263,SIMDrateratios,RateRatios!$B$3)*10))","v":2280.4351203399333},2.5554447878676001E-2,{"$f":"IF('III Tool Overview'!$H$6=\"Western Isles Health Board\",0,IF('III Tool Overview'!$H$6=\"Eilean Siar Local Authority\",0,hosp_count(2,B263,C263,D263,$C$1,G263,1,F263,F263,SIMDRateRatios_hosp,SIMDrateratios,RateRatios!$B$3)*10))","v":515.10955924706047},{"$f":"IF('III Tool Overview'!$H$6=\"Western Isles Health Board\",0,IF('III Tool Overview'!$H$6=\"Eilean Siar Local Authority\",0,hosp_count(2,B263,C263,D263,$C$1,G263+H263,1,F263,F263,SIMDRateRatios_hosp,SIMDrateratios,RateRatios!$B$3)*10))","v":515.10506110558015},4.4981414803260122E-3,{"$f":"IF('III Tool Overview'!$H$6=\"Western Isles Health Board\",0,IF('III Tool Overview'!$H$6=\"Eilean Siar Local Authority\",0,hosp_count(5,B263,C263,D263,$C$1,G263,1,F263,F263,SIMDRateRatios_hosp,SIMDrateratios,RateRatios!$B$3)*1000))","v":214377.2819707357},{"$f":"IF('III Tool Overview'!$H$6=\"Western Isles Health Board\",0,IF('III Tool Overview'!$H$6=\"Eilean Siar Local Authority\",0,hosp_count(5,B263,C263,D263,$C$1,G263+H263,1,F263,F263,SIMDRateRatios_hosp,SIMDrateratios,RateRatios!$B$3)*1000))","v":214375.41045571296},1.8715150227362756,{"$f":"IF('III Tool Overview'!$H$6=\"Western Isles Health Board\",0,IF('III Tool Overview'!$H$6=\"Eilean Siar Local Authority\",0,hosp_count(10,B263,C263,D263,$C$1,G263,1,F263,F263,SIMDRateRatios_hosp,SIMDrateratios,RateRatios!$B$3)*10))","v":5158.4717047815966},{"$f":"IF('III Tool Overview'!$H$6=\"Western Isles Health Board\",0,IF('III Tool Overview'!$H$6=\"Eilean Siar Local Authority\",0,hosp_count(10,B263,C263,D263,$C$1,G263+H263,1,F263,F263,SIMDRateRatios_hosp,SIMDrateratios,RateRatios!$B$3)*10))","v":5158.4266969894634},4.5007792133219482E-2,{"$f":"IF('III Tool Overview'!$H$6=\"Western Isles Health Board\",0,IF('III Tool Overview'!$H$6=\"Eilean Siar Local Authority\",0,hosp_count(20,B263,C263,D263,$C$1,G263,1,F263,F263,SIMDRateRatios_hosp,SIMDrateratios,RateRatios!$B$3)*10))","v":12502.8352740425},{"$f":"IF('III Tool Overview'!$H$6=\"Western Isles Health Board\",0,IF('III Tool Overview'!$H$6=\"Eilean Siar Local Authority\",0,hosp_count(20,B263,C263,D263,$C$1,G263+H263,1,F263,F263,SIMDRateRatios_hosp,SIMDrateratios,RateRatios!$B$3)*10))","v":12502.726379127791},0.10889491470879875]
["Female 20-24",22.5,"female",5,1,{"$f":"HLOOKUP('III Tool Overview'!$H$6,LookUpData_Pop!$B$1:$AV$269,LookUpData_Pop!BB256,FALSE)/50","v":634.16},{"$f":"'III Tool Overview'!$H$9/110","v":0},634.16,{"$f":"IF('III Tool Overview'!$H$6=\"Western Isles Health Board\",0,IF('III Tool Overview'!$H$6=\"Eilean Siar Local Authority\",0,new_ci(2,B264,C264,D264,$C$1,G264,1,F264,E264*F264,SIMDrateratios,RateRatios!$B$3)*10))","v":1.1661213136840975},{"$f":"IF('III Tool Overview'!$H$6=\"Western Isles Health Board\",0,IF('III Tool Overview'!$H$6=\"Eilean Siar Local Authority\",0,new_ci(2,B264,C264,D264,$C$1,G264+H264,1,H264,H264,SIMDrateratios,RateRatios!$B$3)*10))","v":1.1661082177236326},{"$f":"IF('III Tool Overview'!$H$6=\"Western Isles Health Board\",0,IF('III Tool Overview'!$H$6=\"Eilean Siar Local Authority\",0,new_ci(5,B264,C264,D264,$C$1,G264,1,F264,F264,SIMDrateratios,RateRatios!$B$3)*1000))","v":517.81679590731517},{"$f":"IF('III Tool Overview'!$H$6=\"Western Isles Health Board\",0,IF('III Tool Overview'!$H$6=\"Eilean Siar Local Authority\",0,new_ci(5,B264,C264,D264,$C$1,H264,1,F264,F264,SIMDrateratios,RateRatios!$B$3)*1000))","v":517.81098247940838},{"$f":"IF('III Tool Overview'!$H$6=\"Western Isles Health Board\",0,IF('III Tool Overview'!$H$6=\"Eilean Siar Local Authority\",0,new_ci(10,B264,C264,D264,$C$1,G264,1,F264,F264,SIMDrateratios,RateRatios!$B$3)*10))","v":13.971051133328078},{"$f":"IF('III Tool Overview'!$H$6=\"Western Isles Health Board\",0,IF('III Tool Overview'!$H$6=\"Eilean Siar Local Authority\",0,new_ci(10,B264,C264,D264,$C$1,G264+H264,1,F264,F264,SIMDrateratios,RateRatios!$B$3)*10))","v":13.970894391961227},{"$f":"IF('III Tool Overview'!$H$6=\"Western Isles Health Board\",0,IF('III Tool Overview'!$H$6=\"Eilean Siar Local Authority\",0,new_ci(20,B264,C264,D264,$C$1,G264,1,F264,F264,SIMDrateratios,RateRatios!$B$3)*10))","v":43.576122297473631},{"$f":"IF('III Tool Overview'!$H$6=\"Western Isles Health Board\",0,IF('III Tool Overview'!$H$6=\"Eilean Siar Local Authority\",0,new_ci(20,B264,C264,D264,$C$1,G264+H264,1,F264,F264,SIMDrateratios,RateRatios!$B$3)*10))","v":43.575634562367227},{"$f":"IF('III Tool Overview'!$H$6=\"Western Isles Health Board\",0,IF('III Tool Overview'!$H$6=\"Eilean Siar Local Authority\",0,new_yll(2,B264,C264,D264,$C$1,G264,1,F264,F264,SIMDrateratios,RateRatios!$B$3)*10))","v":89.791341153675504},{"$f":"IF('III Tool Overview'!$H$6=\"Western Isles Health Board\",0,IF('III Tool Overview'!$H$6=\"Eilean Siar Local Authority\",0,new_yll(2,B264,C264,D264,$C$1,G264+H264,1,F264,F264,SIMDrateratios,RateRatios!$B$3)*10))","v":89.790332764719722},1.0083889557819248E-3,{"$f":"IF('III Tool Overview'!$H$6=\"Western Isles Health Board\",0,IF('III Tool Overview'!$H$6=\"Eilean Siar Local Authority\",0,new_yll(5,B264,C264,D264,$C$1,G264,1,F264,F264,SIMDrateratios,RateRatios!$B$3)*1000))","v":39051.382808993098},{"$f":"IF('III Tool Overview'!$H$6=\"Western Isles Health Board\",0,IF('III Tool Overview'!$H$6=\"Eilean Siar Local Authority\",0,new_yll(5,B264,C264,D264,$C$1,G264+H264,1,F264,F264,SIMDrateratios,RateRatios!$B$3)*1000))","v":39050.944385274779},0.43842371831851779,{"$f":"IF('III Tool Overview'!$H$6=\"Western Isles Health Board\",0,IF('III Tool Overview'!$H$6=\"Eilean Siar Local Authority\",0,new_yll(10,B264,C264,D264,$C$1,G264,1,F264,F264,SIMDrateratios,RateRatios!$B$3)*10))","v":1013.6210315960082},{"$f":"IF('III Tool Overview'!$H$6=\"Western Isles Health Board\",0,IF('III Tool Overview'!$H$6=\"Eilean Siar Local Authority\",0,new_yll(10,B264,C264,D264,$C$1,G264+H264,1,F264,F264,SIMDrateratios,RateRatios!$B$3)*10))","v":1013.6096595181222},1.1372077885994258E-2,{"$f":"IF('III Tool Overview'!$H$6=\"Western Isles Health Board\",0,IF('III Tool Overview'!$H$6=\"Eilean Siar Local Authority\",0,new_yll(20,B264,C264,D264,$C$1,G264,1,F264,F264,SIMDrateratios,RateRatios!$B$3)*10))","v":2877.1898445838706},{"$f":"IF('III Tool Overview'!$H$6=\"Western Isles Health Board\",0,IF('III Tool Overview'!$H$6=\"Eilean Siar Local Authority\",0,new_yll(20,B264,C264,D264,$C$1,G264+H264,1,F264,F264,SIMDrateratios,RateRatios!$B$3)*10))","v":2877.157635970932},3.2208612938575243E-2,{"$f":"IF('III Tool Overview'!$H$6=\"Western Isles Health Board\",0,IF('III Tool Overview'!$H$6=\"Eilean Siar Local Authority\",0,hosp_count(2,B264,C264,D264,$C$1,G264,1,F264,F264,SIMDRateRatios_hosp,SIMDrateratios,RateRatios!$B$3)*10))","v":548.63206142153683},{"$f":"IF('III Tool Overview'!$H$6=\"Western Isles Health Board\",0,IF('III Tool Overview'!$H$6=\"Eilean Siar Local Authority\",0,hosp_count(2,B264,C264,D264,$C$1,G264+H264,1,F264,F264,SIMDRateRatios_hosp,SIMDrateratios,RateRatios!$B$3)*10))","v":548.62727102796657},4.7903935702606759E-3,{"$f":"IF('III Tool Overview'!$H$6=\"Western Isles Health Board\",0,IF('III Tool Overview'!$H$6=\"Eilean Siar Local Authority\",0,hosp_count(5,B264,C264,D264,$C$1,G264,1,F264,F264,SIMDRateRatios_hosp,SIMDrateratios,RateRatios!$B$3)*1000))","v":228309.76200824202},{"$f":"IF('III Tool Overview'!$H$6=\"Western Isles Health Board\",0,IF('III Tool Overview'!$H$6=\"Eilean Siar Local Authority\",0,hosp_count(5,B264,C264,D264,$C$1,G264+H264,1,F264,F264,SIMDRateRatios_hosp,SIMDrateratios,RateRatios!$B$3)*1000))","v":228307.76927382054},1.9927344214811455,{"$f":"IF('III Tool Overview'!$H$6=\"Western Isles Health Board\",0,IF('III Tool Overview'!$H$6=\"Eilean Siar Local Authority\",0,hosp_count(10,B264,C264,D264,$C$1,G264,1,F264,F264,SIMDRateRatios_hosp,SIMDrateratios,RateRatios!$B$3)*10))","v":5492.77848263534},{"$f":"IF('III Tool Overview'!$H$6=\"Western Isles Health Board\",0,IF('III Tool Overview'!$H$6=\"Eilean Siar Local Authority\",0,hosp_count(10,B264,C264,D264,$C$1,G264+H264,1,F264,F264,SIMDRateRatios_hosp,SIMDrateratios,RateRatios!$B$3)*10))","v":5492.7305785040708},4.7904131269206118E-2,{"$f":"IF('III Tool Overview'!$H$6=\"Western Isles Health Board\",0,IF('III Tool Overview'!$H$6=\"Eilean Siar Local Authority\",0,hosp_count(20,B264,C264,D264,$C$1,G264,1,F264,F264,SIMDRateRatios_hosp,SIMDrateratios,RateRatios!$B$3)*10))","v":13306.032939546274},{"$f":"IF('III Tool Overview'!$H$6=\"Western Isles Health Board\",0,IF('III Tool Overview'!$H$6=\"Eilean Siar Local Authority\",0,hosp_count(20,B264,C264,D264,$C$1,G264+H264,1,F264,F264,SIMDRateRatios_hosp,SIMDrateratios,RateRatios!$B$3)*10))","v":13305.917178067855},0.11576147841878992]
["Female 25-29",27.5,"female",5,1,{"$f":"HLOOKUP('III Tool Overview'!$H$6,LookUpData_Pop!$B$1:$AV$269,LookUpData_Pop!BB257,FALSE)/50","v":511.72},{"$f":"'III Tool Overview'!$H$9/110","v":0},511.72,{"$f":"IF('III Tool Overview'!$H$6=\"Western Isles Health Board\",0,IF('III Tool Overview'!$H$6=\"Eilean Siar Local Authority\",0,new_ci(2,B265,C265,D265,$C$1,G265,1,F265,E265*F265,SIMDrateratios,RateRatios!$B$3)*10))","v":1.5382820426639365},{"$f":"IF('III Tool Overview'!$H$6=\"Western Isles Health Board\",0,IF('III Tool Overview'!$H$6=\"Eilean Siar Local Authority\",0,new_ci(2,B265,C265,D265,$C$1,G265+H265,1,H265,H265,SIMDrateratios,RateRatios!$B$3)*10))","v":1.5382647543997474},{"$f":"IF('III Tool Overview'!$H$6=\"Western Isles Health Board\",0,IF('III Tool Overview'!$H$6=\"Eilean Siar Local Authority\",0,new_ci(5,B265,C265,D265,$C$1,G265,1,F265,F265,SIMDrateratios,RateRatios!$B$3)*1000))","v":682.93776234785082},{"$f":"IF('III Tool Overview'!$H$6=\"Western Isles Health Board\",0,IF('III Tool Overview'!$H$6=\"Eilean Siar Local Authority\",0,new_ci(5,B265,C265,D265,$C$1,H265,1,F265,F265,SIMDrateratios,RateRatios!$B$3)*1000))","v":682.93009099764686},{"$f":"IF('III Tool Overview'!$H$6=\"Western Isles Health Board\",0,IF('III Tool Overview'!$H$6=\"Eilean Siar Local Authority\",0,new_ci(10,B265,C265,D265,$C$1,G265,1,F265,F265,SIMDrateratios,RateRatios!$B$3)*10))","v":18.41801254947346},{"$f":"IF('III Tool Overview'!$H$6=\"Western Isles Health Board\",0,IF('III Tool Overview'!$H$6=\"Eilean Siar Local Authority\",0,new_ci(10,B265,C265,D265,$C$1,G265+H265,1,F265,F265,SIMDrateratios,RateRatios!$B$3)*10))","v":18.417805897160278},{"$f":"IF('III Tool Overview'!$H$6=\"Western Isles Health Board\",0,IF('III Tool Overview'!$H$6=\"Eilean Siar Local Authority\",0,new_ci(20,B265,C265,D265,$C$1,G265,1,F265,F265,SIMDrateratios,RateRatios!$B$3)*10))","v":57.361042002898728},{"$f":"IF('III Tool Overview'!$H$6=\"Western Isles Health Board\",0,IF('III Tool Overview'!$H$6=\"Eilean Siar Local Authority\",0,new_ci(20,B265,C265,D265,$C$1,G265+H265,1,F265,F265,SIMDrateratios,RateRatios!$B$3)*10))","v":57.360400870654473},{"$f":"IF('III Tool Overview'!$H$6=\"Western Isles Health Board\",0,IF('III Tool Overview'!$H$6=\"Eilean Siar Local Authority\",0,new_yll(2,B265,C265,D265,$C$1,G265,1,F265,F265,SIMDrateratios,RateRatios!$B$3)*10))","v":109.2180250291395},{"$f":"IF('III Tool Overview'!$H$6=\"Western Isles Health Board\",0,IF('III Tool Overview'!$H$6=\"Eilean Siar Local Authority\",0,new_yll(2,B265,C265,D265,$C$1,G265+H265,1,F265,F265,SIMDrateratios,RateRatios!$B$3)*10))","v":109.21679756238207},1.2274667574274645E-3,{"$f":"IF('III Tool Overview'!$H$6=\"Western Isles Health Board\",0,IF('III Tool Overview'!$H$6=\"Eilean Siar Local Authority\",0,new_yll(5,B265,C265,D265,$C$1,G265,1,F265,F265,SIMDrateratios,RateRatios!$B$3)*1000))","v":47406.537339945462},{"$f":"IF('III Tool Overview'!$H$6=\"Western Isles Health Board\",0,IF('III Tool Overview'!$H$6=\"Eilean Siar Local Authority\",0,new_yll(5,B265,C265,D265,$C$1,G265+H265,1,F265,F265,SIMDrateratios,RateRatios!$B$3)*1000))","v":47406.00482534265},0.53251460281171603,{"$f":"IF('III Tool Overview'!$H$6=\"Western Isles Health Board\",0,IF('III Tool Overview'!$H$6=\"Eilean Siar Local Authority\",0,new_yll(10,B265,C265,D265,$C$1,G265,1,F265,F265,SIMDrateratios,RateRatios!$B$3)*10))","v":1225.7656370480775},{"$f":"IF('III Tool Overview'!$H$6=\"Western Isles Health Board\",0,IF('III Tool Overview'!$H$6=\"Eilean Siar Local Authority\",0,new_yll(10,B265,C265,D265,$C$1,G265+H265,1,F265,F265,SIMDrateratios,RateRatios!$B$3)*10))","v":1225.7518832645028},1.3753783574657064E-2,{"$f":"IF('III Tool Overview'!$H$6=\"Western Isles Health Board\",0,IF('III Tool Overview'!$H$6=\"Eilean Siar Local Authority\",0,new_yll(20,B265,C265,D265,$C$1,G265,1,F265,F265,SIMDrateratios,RateRatios!$B$3)*10))","v":3443.5727080995366},{"$f":"IF('III Tool Overview'!$H$6=\"Western Isles Health Board\",0,IF('III Tool Overview'!$H$6=\"Eilean Siar Local Authority\",0,new_yll(20,B265,C265,D265,$C$1,G265+H265,1,F265,F265,SIMDrateratios,RateRatios!$B$3)*10))","v":3443.534207940791},3.8500158745591762E-2,{"$f":"IF('III Tool Overview'!$H$6=\"Western Isles Health Board\",0,IF('III Tool Overview'!$H$6=\"Eilean Siar Local Authority\",0,hosp_count(2,B265,C265,D265,$C$1,G265,1,F265,F265,SIMDRateRatios_hosp,SIMDrateratios,RateRatios!$B$3)*10))","v":513.25835067182652},{"$f":"IF('III Tool Overview'!$H$6=\"Western Isles Health Board\",0,IF('III Tool Overview'!$H$6=\"Eilean Siar Local Authority\",0,hosp_count(2,B265,C265,D265,$C$1,G265+H265,1,F265,F265,SIMDRateRatios_hosp,SIMDrateratios,RateRatios!$B$3)*10))","v":513.25386556085232},4.4851109742012341E-3,{"$f":"IF('III Tool Overview'!$H$6=\"Western Isles Health Board\",0,IF('III Tool Overview'!$H$6=\"Eilean Siar Local Authority\",0,hosp_count(5,B265,C265,D265,$C$1,G265,1,F265,F265,SIMDRateRatios_hosp,SIMDrateratios,RateRatios!$B$3)*1000))","v":213549.16014855049},{"$f":"IF('III Tool Overview'!$H$6=\"Western Isles Health Board\",0,IF('III Tool Overview'!$H$6=\"Eilean Siar Local Authority\",0,hosp_count(5,B265,C265,D265,$C$1,G265+H265,1,F265,F265,SIMDRateRatios_hosp,SIMDrateratios,RateRatios!$B$3)*1000))","v":213547.29520726722},1.8649412832746748,{"$f":"IF('III Tool Overview'!$H$6=\"Western Isles Health Board\",0,IF('III Tool Overview'!$H$6=\"Eilean Siar Local Authority\",0,hosp_count(10,B265,C265,D265,$C$1,G265,1,F265,F265,SIMDRateRatios_hosp,SIMDrateratios,RateRatios!$B$3)*10))","v":5135.6546970829932},{"$f":"IF('III Tool Overview'!$H$6=\"Western Isles Health Board\",0,IF('III Tool Overview'!$H$6=\"Eilean Siar Local Authority\",0,hosp_count(10,B265,C265,D265,$C$1,G265+H265,1,F265,F265,SIMDRateRatios_hosp,SIMDrateratios,RateRatios!$B$3)*10))","v":5135.6099050749972},4.4792007995965832E-2,{"$f":"IF('III Tool Overview'!$H$6=\"Western Isles Health Board\",0,IF('III Tool Overview'!$H$6=\"Eilean Siar Local Authority\",0,hosp_count(20,B265,C265,D265,$C$1,G265,1,F265,F265,SIMDRateRatios_hosp,SIMDrateratios,RateRatios!$B$3)*10))","v":12425.904778944809},{"$f":"IF('III Tool Overview'!$H$6=\"Western Isles Health Board\",0,IF('III Tool Overview'!$H$6=\"Eilean Siar Local Authority\",0,hosp_count(20,B265,C265,D265,$C$1,G265+H265,1,F265,F265,SIMDRateRatios_hosp,SIMDrateratios,RateRatios!$B$3)*10))","v":12425.796837010077},0.10794193473157065]
["Female 30-34",32.5,"female",5,1,{"$f":"HLOOKUP('III Tool Overview'!$H$6,LookUpData_Pop!$B$1:$AV$269,LookUpData_Pop!BB258,FALSE)/50","v":504.46},{"$f":"'III Tool Overview'!$H$9/110","v":0},504.46,{"$f":"IF('III Tool Overview'!$H$6=\"Western Isles Health Board\",0,IF('III Tool Overview'!$H$6=\"Eilean Siar Local Authority\",0,new_ci(2,B266,C266,D266,$C$1,G266,1,F266,E266*F266,SIMDrateratios,RateRatios!$B$3)*10))","v":2.1043970975390422},{"$f":"IF('III Tool Overview'!$H$6=\"Western Isles Health Board\",0,IF('III Tool Overview'!$H$6=\"Eilean Siar Local Authority\",0,new_ci(2,B266,C266,D266,$C$1,G266+H266,1,H266,H266,SIMDrateratios,RateRatios!$B$3)*10))","v":2.1043734827522762},{"$f":"IF('III Tool Overview'!$H$6=\"Western Isles Health Board\",0,IF('III Tool Overview'!$H$6=\"Eilean Siar Local Authority\",0,new_ci(5,B266,C266,D266,$C$1,G266,1,F266,F266,SIMDrateratios,RateRatios!$B$3)*1000))","v":934.08358443496877},{"$f":"IF('III Tool Overview'!$H$6=\"Western Isles Health Board\",0,IF('III Tool Overview'!$H$6=\"Eilean Siar Local Authority\",0,new_ci(5,B266,C266,D266,$C$1,H266,1,F266,F266,SIMDrateratios,RateRatios!$B$3)*1000))","v":934.07311001056894},{"$f":"IF('III Tool Overview'!$H$6=\"Western Isles Health Board\",0,IF('III Tool Overview'!$H$6=\"Eilean Siar Local Authority\",0,new_ci(10,B266,C266,D266,$C$1,G266,1,F266,F266,SIMDrateratios,RateRatios!$B$3)*10))","v":25.18003880419753},{"$f":"IF('III Tool Overview'!$H$6=\"Western Isles Health Board\",0,IF('III Tool Overview'!$H$6=\"Eilean Siar Local Authority\",0,new_ci(10,B266,C266,D266,$C$1,G266+H266,1,F266,F266,SIMDrateratios,RateRatios!$B$3)*10))","v":25.179756890425683},{"$f":"IF('III Tool Overview'!$H$6=\"Western Isles Health Board\",0,IF('III Tool Overview'!$H$6=\"Eilean Siar Local Authority\",0,new_ci(20,B266,C266,D266,$C$1,G266,1,F266,F266,SIMDrateratios,RateRatios!$B$3)*10))","v":78.304542758547726},{"$f":"IF('III Tool Overview'!$H$6=\"Western Isles Health Board\",0,IF('III Tool Overview'!$H$6=\"Eilean Siar Local Authority\",0,new_ci(20,B266,C266,D266,$C$1,G266+H266,1,F266,F266,SIMDrateratios,RateRatios!$B$3)*10))","v":78.303670726562302},{"$f":"IF('III Tool Overview'!$H$6=\"Western Isles Health Board\",0,IF('III Tool Overview'!$H$6=\"Eilean Siar Local Authority\",0,new_yll(2,B266,C266,D266,$C$1,G266,1,F266,F266,SIMDrateratios,RateRatios!$B$3)*10))","v":140.99460553511582},{"$f":"IF('III Tool Overview'!$H$6=\"Western Isles Health Board\",0,IF('III Tool Overview'!$H$6=\"Eilean Siar Local Authority\",0,new_yll(2,B266,C266,D266,$C$1,G266+H266,1,F266,F266,SIMDrateratios,RateRatios!$B$3)*10))","v":140.9930233444025},1.5821907133215518E-3,{"$f":"IF('III Tool Overview'!$H$6=\"Western Isles Health Board\",0,IF('III Tool Overview'!$H$6=\"Eilean Siar Local Authority\",0,new_yll(5,B266,C266,D266,$C$1,G266,1,F266,F266,SIMDrateratios,RateRatios!$B$3)*1000))","v":61103.792682163737},{"$f":"IF('III Tool Overview'!$H$6=\"Western Isles Health Board\",0,IF('III Tool Overview'!$H$6=\"Eilean Siar Local Authority\",0,new_yll(5,B266,C266,D266,$C$1,G266+H266,1,F266,F266,SIMDrateratios,RateRatios!$B$3)*1000))","v":61103.107483619679},0.68519854405894876,{"$f":"IF('III Tool Overview'!$H$6=\"Western Isles Health Board\",0,IF('III Tool Overview'!$H$6=\"Eilean Siar Local Authority\",0,new_yll(10,B266,C266,D266,$C$1,G266,1,F266,F266,SIMDrateratios,RateRatios!$B$3)*10))","v":1575.1012965256766},{"$f":"IF('III Tool Overview'!$H$6=\"Western Isles Health Board\",0,IF('III Tool Overview'!$H$6=\"Eilean Siar Local Authority\",0,new_yll(10,B266,C266,D266,$C$1,G266+H266,1,F266,F266,SIMDrateratios,RateRatios!$B$3)*10))","v":1575.0836607788449},1.7635746831729193E-2,{"$f":"IF('III Tool Overview'!$H$6=\"Western Isles Health Board\",0,IF('III Tool Overview'!$H$6=\"Eilean Siar Local Authority\",0,new_yll(20,B266,C266,D266,$C$1,G266,1,F266,F266,SIMDrateratios,RateRatios!$B$3)*10))","v":4388.1741796698589},{"$f":"IF('III Tool Overview'!$H$6=\"Western Isles Health Board\",0,IF('III Tool Overview'!$H$6=\"Eilean Siar Local Authority\",0,new_yll(20,B266,C266,D266,$C$1,G266+H266,1,F266,F266,SIMDrateratios,RateRatios!$B$3)*10))","v":4388.1252905617766},4.8889108082221355E-2,{"$f":"IF('III Tool Overview'!$H$6=\"Western Isles Health Board\",0,IF('III Tool Overview'!$H$6=\"Eilean Siar Local Authority\",0,hosp_count(2,B266,C266,D266,$C$1,G266,1,F266,F266,SIMDRateRatios_hosp,SIMDrateratios,RateRatios!$B$3)*10))","v":558.39891350404901},{"$f":"IF('III Tool Overview'!$H$6=\"Western Isles Health Board\",0,IF('III Tool Overview'!$H$6=\"Eilean Siar Local Authority\",0,hosp_count(2,B266,C266,D266,$C$1,G266+H266,1,F266,F266,SIMDRateRatios_hosp,SIMDrateratios,RateRatios!$B$3)*10))","v":558.39404104761275},4.8724564362601086E-3,{"$f":"IF('III Tool Overview'!$H$6=\"Western Isles Health Board\",0,IF('III Tool Overview'!$H$6=\"Eilean Siar Local Authority\",0,hosp_count(5,B266,C266,D266,$C$1,G266,1,F266,F266,SIMDRateRatios_hosp,SIMDrateratios,RateRatios!$B$3)*1000))","v":232287.09207136507},{"$f":"IF('III Tool Overview'!$H$6=\"Western Isles Health Board\",0,IF('III Tool Overview'!$H$6=\"Eilean Siar Local Authority\",0,hosp_count(5,B266,C266,D266,$C$1,G266+H266,1,F266,F266,SIMDRateRatios_hosp,SIMDrateratios,RateRatios!$B$3)*1000))","v":232285.06693653163},2.0251348334422801,{"$f":"IF('III Tool Overview'!$H$6=\"Western Isles Health Board\",0,IF('III Tool Overview'!$H$6=\"Eilean Siar Local Authority\",0,hosp_count(10,B266,C266,D266,$C$1,G266,1,F266,F266,SIMDRateRatios_hosp,SIMDrateratios,RateRatios!$B$3)*10))","v":5584.1061389905481},{"$f":"IF('III Tool Overview'!$H$6=\"Western Isles Health Board\",0,IF('III Tool Overview'!$H$6=\"Eilean Siar Local Authority\",0,hosp_count(10,B266,C266,D266,$C$1,G266+H266,1,F266,F266,SIMDRateRatios_hosp,SIMDrateratios,RateRatios!$B$3)*10))","v":5584.0575428623388},4.8596128209283052E-2,{"$f":"IF('III Tool Overview'!$H$6=\"Western Isles Health Board\",0,IF('III Tool Overview'!$H$6=\"Eilean Siar Local Authority\",0,hosp_count(20,B266,C266,D266,$C$1,G266,1,F266,F266,SIMDRateRatios_hosp,SIMDrateratios,RateRatios!$B$3)*10))","v":13494.689053934415},{"$f":"IF('III Tool Overview'!$H$6=\"Western Isles Health Board\",0,IF('III Tool Overview'!$H$6=\"Eilean Siar Local Authority\",0,hosp_count(20,B266,C266,D266,$C$1,G266+H266,1,F266,F266,SIMDRateRatios_hosp,SIMDrateratios,RateRatios!$B$3)*10))","v":13494.572267712043},0.11678622237195668]
["Female 35-39",37.5,"female",5,1,{"$f":"HLOOKUP('III Tool Overview'!$H$6,LookUpData_Pop!$B$1:$AV$269,LookUpData_Pop!BB259,FALSE)/50","v":680.64},{"$f":"'III Tool Overview'!$H$9/110","v":0},680.64,{"$f":"IF('III Tool Overview'!$H$6=\"Western Isles Health Board\",0,IF('III Tool Overview'!$H$6=\"Eilean Siar Local Authority\",0,new_ci(2,B267,C267,D267,$C$1,G267,1,F267,E267*F267,SIMDrateratios,RateRatios!$B$3)*10))","v":4.641356771885369},{"$f":"IF('III Tool Overview'!$H$6=\"Western Isles Health Board\",0,IF('III Tool Overview'!$H$6=\"Eilean Siar Local Authority\",0,new_ci(2,B267,C267,D267,$C$1,G267+H267,1,H267,H267,SIMDrateratios,RateRatios!$B$3)*10))","v":4.6413046200494259},{"$f":"IF('III Tool Overview'!$H$6=\"Western Isles Health Board\",0,IF('III Tool Overview'!$H$6=\"Eilean Siar Local Authority\",0,new_ci(5,B267,C267,D267,$C$1,G267,1,F267,F267,SIMDrateratios,RateRatios!$B$3)*1000))","v":2059.2312128833087},{"$f":"IF('III Tool Overview'!$H$6=\"Western Isles Health Board\",0,IF('III Tool Overview'!$H$6=\"Eilean Siar Local Authority\",0,new_ci(5,B267,C267,D267,$C$1,H267,1,F267,F267,SIMDrateratios,RateRatios!$B$3)*1000))","v":2059.2081018281274},{"$f":"IF('III Tool Overview'!$H$6=\"Western Isles Health Board\",0,IF('III Tool Overview'!$H$6=\"Eilean Siar Local Authority\",0,new_ci(10,B267,C267,D267,$C$1,G267,1,F267,F267,SIMDrateratios,RateRatios!$B$3)*10))","v":55.455174313362505},{"$f":"IF('III Tool Overview'!$H$6=\"Western Isles Health Board\",0,IF('III Tool Overview'!$H$6=\"Eilean Siar Local Authority\",0,new_ci(10,B267,C267,D267,$C$1,G267+H267,1,F267,F267,SIMDrateratios,RateRatios!$B$3)*10))","v":55.454553534086259},{"$f":"IF('III Tool Overview'!$H$6=\"Western Isles Health Board\",0,IF('III Tool Overview'!$H$6=\"Eilean Siar Local Authority\",0,new_ci(20,B267,C267,D267,$C$1,G267,1,F267,F267,SIMDrateratios,RateRatios!$B$3)*10))","v":171.87488479667891},{"$f":"IF('III Tool Overview'!$H$6=\"Western Isles Health Board\",0,IF('III Tool Overview'!$H$6=\"Eilean Siar Local Authority\",0,new_ci(20,B267,C267,D267,$C$1,G267+H267,1,F267,F267,SIMDrateratios,RateRatios!$B$3)*10))","v":171.87297749402202},{"$f":"IF('III Tool Overview'!$H$6=\"Western Isles Health Board\",0,IF('III Tool Overview'!$H$6=\"Eilean Siar Local Authority\",0,new_yll(2,B267,C267,D267,$C$1,G267,1,F267,F267,SIMDrateratios,RateRatios!$B$3)*10))","v":283.12276308500748},{"$f":"IF('III Tool Overview'!$H$6=\"Western Isles Health Board\",0,IF('III Tool Overview'!$H$6=\"Eilean Siar Local Authority\",0,new_yll(2,B267,C267,D267,$C$1,G267+H267,1,F267,F267,SIMDrateratios,RateRatios!$B$3)*10))","v":283.11958182301498},3.1812619924949104E-3,{"$f":"IF('III Tool Overview'!$H$6=\"Western Isles Health Board\",0,IF('III Tool Overview'!$H$6=\"Eilean Siar Local Authority\",0,new_yll(5,B267,C267,D267,$C$1,G267,1,F267,F267,SIMDrateratios,RateRatios!$B$3)*1000))","v":122351.55372290454},{"$f":"IF('III Tool Overview'!$H$6=\"Western Isles Health Board\",0,IF('III Tool Overview'!$H$6=\"Eilean Siar Local Authority\",0,new_yll(5,B267,C267,D267,$C$1,G267+H267,1,F267,F267,SIMDrateratios,RateRatios!$B$3)*1000))","v":122350.18053154583},1.3731913587107556,{"$f":"IF('III Tool Overview'!$H$6=\"Western Isles Health Board\",0,IF('III Tool Overview'!$H$6=\"Eilean Siar Local Authority\",0,new_yll(10,B267,C267,D267,$C$1,G267,1,F267,F267,SIMDrateratios,RateRatios!$B$3)*10))","v":3136.3168746064966},{"$f":"IF('III Tool Overview'!$H$6=\"Western Isles Health Board\",0,IF('III Tool Overview'!$H$6=\"Eilean Siar Local Authority\",0,new_yll(10,B267,C267,D267,$C$1,G267+H267,1,F267,F267,SIMDrateratios,RateRatios!$B$3)*10))","v":3136.2817621510771},3.5112455419493926E-2,{"$f":"IF('III Tool Overview'!$H$6=\"Western Isles Health Board\",0,IF('III Tool Overview'!$H$6=\"Eilean Siar Local Authority\",0,new_yll(20,B267,C267,D267,$C$1,G267,1,F267,F267,SIMDrateratios,RateRatios!$B$3)*10))","v":8603.1468940874565},{"$f":"IF('III Tool Overview'!$H$6=\"Western Isles Health Board\",0,IF('III Tool Overview'!$H$6=\"Eilean Siar Local Authority\",0,new_yll(20,B267,C267,D267,$C$1,G267+H267,1,F267,F267,SIMDrateratios,RateRatios!$B$3)*10))","v":8603.0513506491334},9.5543438323147711E-2,{"$f":"IF('III Tool Overview'!$H$6=\"Western Isles Health Board\",0,IF('III Tool Overview'!$H$6=\"Eilean Siar Local Authority\",0,hosp_count(2,B267,C267,D267,$C$1,G267,1,F267,F267,SIMDRateRatios_hosp,SIMDrateratios,RateRatios!$B$3)*10))","v":873.48729320427253},{"$f":"IF('III Tool Overview'!$H$6=\"Western Isles Health Board\",0,IF('III Tool Overview'!$H$6=\"Eilean Siar Local Authority\",0,hosp_count(2,B267,C267,D267,$C$1,G267+H267,1,F267,F267,SIMDRateRatios_hosp,SIMDrateratios,RateRatios!$B$3)*10))","v":873.47966036996911},7.632834303421987E-3,{"$f":"IF('III Tool Overview'!$H$6=\"Western Isles Health Board\",0,IF('III Tool Overview'!$H$6=\"Eilean Siar Local Authority\",0,hosp_count(5,B267,C267,D267,$C$1,G267,1,F267,F267,SIMDRateRatios_hosp,SIMDrateratios,RateRatios!$B$3)*1000))","v":363205.44274287048},{"$f":"IF('III Tool Overview'!$H$6=\"Western Isles Health Board\",0,IF('III Tool Overview'!$H$6=\"Eilean Siar Local Authority\",0,hosp_count(5,B267,C267,D267,$C$1,G267+H267,1,F267,F267,SIMDRateRatios_hosp,SIMDrateratios,RateRatios!$B$3)*1000))","v":363202.27339979232},3.1693430781597272,{"$f":"IF('III Tool Overview'!$H$6=\"Western Isles Health Board\",0,IF('III Tool Overview'!$H$6=\"Eilean Siar Local Authority\",0,hosp_count(10,B267,C267,D267,$C$1,G267,1,F267,F267,SIMDRateRatios_hosp,SIMDrateratios,RateRatios!$B$3)*10))","v":8723.6122013008062},{"$f":"IF('III Tool Overview'!$H$6=\"Western Isles Health Board\",0,IF('III Tool Overview'!$H$6=\"Eilean Siar Local Authority\",0,hosp_count(10,B267,C267,D267,$C$1,G267+H267,1,F267,F267,SIMDRateRatios_hosp,SIMDrateratios,RateRatios!$B$3)*10))","v":8723.5363022768506},7.5899023955571465E-2,{"$f":"IF('III Tool Overview'!$H$6=\"Western Isles Health Board\",0,IF('III Tool Overview'!$H$6=\"Eilean Siar Local Authority\",0,hosp_count(20,B267,C267,D267,$C$1,G267,1,F267,F267,SIMDRateRatios_hosp,SIMDrateratios,RateRatios!$B$3)*10))","v":21024.199498793772},{"$f":"IF('III Tool Overview'!$H$6=\"Western Isles Health Board\",0,IF('III Tool Overview'!$H$6=\"Eilean Siar Local Authority\",0,hosp_count(20,B267,C267,D267,$C$1,G267+H267,1,F267,F267,SIMDRateRatios_hosp,SIMDrateratios,RateRatios!$B$3)*10))","v":21024.018239461533},0.18125933223927859]
["Female 40-44",42.5,"female",5,1,{"$f":"HLOOKUP('III Tool Overview'!$H$6,LookUpData_Pop!$B$1:$AV$269,LookUpData_Pop!BB260,FALSE)/50","v":878.9},{"$f":"'III Tool Overview'!$H$9/110","v":0},878.9,{"$f":"IF('III Tool Overview'!$H$6=\"Western Isles Health Board\",0,IF('III Tool Overview'!$H$6=\"Eilean Siar Local Authority\",0,new_ci(2,B268,C268,D268,$C$1,G268,1,F268,E268*F268,SIMDrateratios,RateRatios!$B$3)*10))","v":8.3163395170607011},{"$f":"IF('III Tool Overview'!$H$6=\"Western Isles Health Board\",0,IF('III Tool Overview'!$H$6=\"Eilean Siar Local Authority\",0,new_ci(2,B268,C268,D268,$C$1,G268+H268,1,H268,H268,SIMDrateratios,RateRatios!$B$3)*10))","v":8.3162461230180149},{"$f":"IF('III Tool Overview'!$H$6=\"Western Isles Health Board\",0,IF('III Tool Overview'!$H$6=\"Eilean Siar Local Authority\",0,new_ci(5,B268,C268,D268,$C$1,G268,1,F268,F268,SIMDrateratios,RateRatios!$B$3)*1000))","v":3688.033094327056},{"$f":"IF('III Tool Overview'!$H$6=\"Western Isles Health Board\",0,IF('III Tool Overview'!$H$6=\"Eilean Siar Local Authority\",0,new_ci(5,B268,C268,D268,$C$1,H268,1,F268,F268,SIMDrateratios,RateRatios!$B$3)*1000))","v":3687.9917444770103},{"$f":"IF('III Tool Overview'!$H$6=\"Western Isles Health Board\",0,IF('III Tool Overview'!$H$6=\"Eilean Siar Local Authority\",0,new_ci(10,B268,C268,D268,$C$1,G268,1,F268,F268,SIMDrateratios,RateRatios!$B$3)*10))","v":99.219949628839274},{"$f":"IF('III Tool Overview'!$H$6=\"Western Isles Health Board\",0,IF('III Tool Overview'!$H$6=\"Eilean Siar Local Authority\",0,new_ci(10,B268,C268,D268,$C$1,G268+H268,1,F268,F268,SIMDrateratios,RateRatios!$B$3)*10))","v":99.218841158937067},{"$f":"IF('III Tool Overview'!$H$6=\"Western Isles Health Board\",0,IF('III Tool Overview'!$H$6=\"Eilean Siar Local Authority\",0,new_ci(20,B268,C268,D268,$C$1,G268,1,F268,F268,SIMDrateratios,RateRatios!$B$3)*10))","v":306.48863693371015},{"$f":"IF('III Tool Overview'!$H$6=\"Western Isles Health Board\",0,IF('III Tool Overview'!$H$6=\"Eilean Siar Local Authority\",0,new_ci(20,B268,C268,D268,$C$1,G268+H268,1,F268,F268,SIMDrateratios,RateRatios!$B$3)*10))","v":306.48525413070524},{"$f":"IF('III Tool Overview'!$H$6=\"Western Isles Health Board\",0,IF('III Tool Overview'!$H$6=\"Eilean Siar Local Authority\",0,new_yll(2,B268,C268,D268,$C$1,G268,1,F268,F268,SIMDrateratios,RateRatios!$B$3)*10))","v":474.0313524724599},{"$f":"IF('III Tool Overview'!$H$6=\"Western Isles Health Board\",0,IF('III Tool Overview'!$H$6=\"Eilean Siar Local Authority\",0,new_yll(2,B268,C268,D268,$C$1,G268+H268,1,F268,F268,SIMDrateratios,RateRatios!$B$3)*10))","v":474.02602901202675},5.3234604331464652E-3,{"$f":"IF('III Tool Overview'!$H$6=\"Western Isles Health Board\",0,IF('III Tool Overview'!$H$6=\"Eilean Siar Local Authority\",0,new_yll(5,B268,C268,D268,$C$1,G268,1,F268,F268,SIMDrateratios,RateRatios!$B$3)*1000))","v":204377.87926984837},{"$f":"IF('III Tool Overview'!$H$6=\"Western Isles Health Board\",0,IF('III Tool Overview'!$H$6=\"Eilean Siar Local Authority\",0,new_yll(5,B268,C268,D268,$C$1,G268+H268,1,F268,F268,SIMDrateratios,RateRatios!$B$3)*1000))","v":204375.58775166838},2.2915181799908169,{"$f":"IF('III Tool Overview'!$H$6=\"Western Isles Health Board\",0,IF('III Tool Overview'!$H$6=\"Eilean Siar Local Authority\",0,new_yll(10,B268,C268,D268,$C$1,G268,1,F268,F268,SIMDrateratios,RateRatios!$B$3)*10))","v":5214.8232201307192},{"$f":"IF('III Tool Overview'!$H$6=\"Western Isles Health Board\",0,IF('III Tool Overview'!$H$6=\"Eilean Siar Local Authority\",0,new_yll(10,B268,C268,D268,$C$1,G268+H268,1,F268,F268,SIMDrateratios,RateRatios!$B$3)*10))","v":5214.7649516767779},5.8268453941309417E-2,{"$f":"IF('III Tool Overview'!$H$6=\"Western Isles Health Board\",0,IF('III Tool Overview'!$H$6=\"Eilean Siar Local Authority\",0,new_yll(20,B268,C268,D268,$C$1,G268,1,F268,F268,SIMDrateratios,RateRatios!$B$3)*10))","v":14119.795433410871},{"$f":"IF('III Tool Overview'!$H$6=\"Western Isles Health Board\",0,IF('III Tool Overview'!$H$6=\"Eilean Siar Local Authority\",0,new_yll(20,B268,C268,D268,$C$1,G268+H268,1,F268,F268,SIMDrateratios,RateRatios!$B$3)*10))","v":14119.639406144333},0.15602726653742138,{"$f":"IF('III Tool Overview'!$H$6=\"Western Isles Health Board\",0,IF('III Tool Overview'!$H$6=\"Eilean Siar Local Authority\",0,hosp_count(2,B268,C268,D268,$C$1,G268,1,F268,F268,SIMDRateRatios_hosp,SIMDrateratios,RateRatios!$B$3)*10))","v":1244.780522267476},{"$f":"IF('III Tool Overview'!$H$6=\"Western Isles Health Board\",0,IF('III Tool Overview'!$H$6=\"Eilean Siar Local Authority\",0,hosp_count(2,B268,C268,D268,$C$1,G268+H268,1,F268,F268,SIMDRateRatios_hosp,SIMDrateratios,RateRatios!$B$3)*10))","v":1244.7696494575978},1.0872809878264889E-2,{"$f":"IF('III Tool Overview'!$H$6=\"Western Isles Health Board\",0,IF('III Tool Overview'!$H$6=\"Eilean Siar Local Authority\",0,hosp_count(5,B268,C268,D268,$C$1,G268,1,F268,F268,SIMDRateRatios_hosp,SIMDrateratios,RateRatios!$B$3)*1000))","v":517373.38911188534},{"$f":"IF('III Tool Overview'!$H$6=\"Western Isles Health Board\",0,IF('III Tool Overview'!$H$6=\"Eilean Siar Local Authority\",0,hosp_count(5,B268,C268,D268,$C$1,G268+H268,1,F268,F268,SIMDRateRatios_hosp,SIMDrateratios,RateRatios!$B$3)*1000))","v":517368.87883428606},4.5102775992709212,{"$f":"IF('III Tool Overview'!$H$6=\"Western Isles Health Board\",0,IF('III Tool Overview'!$H$6=\"Eilean Siar Local Authority\",0,hosp_count(10,B268,C268,D268,$C$1,G268,1,F268,F268,SIMDRateRatios_hosp,SIMDrateratios,RateRatios!$B$3)*10))","v":12415.503557108203},{"$f":"IF('III Tool Overview'!$H$6=\"Western Isles Health Board\",0,IF('III Tool Overview'!$H$6=\"Eilean Siar Local Authority\",0,hosp_count(10,B268,C268,D268,$C$1,G268+H268,1,F268,F268,SIMDRateRatios_hosp,SIMDrateratios,RateRatios!$B$3)*10))","v":12415.395764098668},0.10779300953436177,{"$f":"IF('III Tool Overview'!$H$6=\"Western Isles Health Board\",0,IF('III Tool Overview'!$H$6=\"Eilean Siar Local Authority\",0,hosp_count(20,B268,C268,D268,$C$1,G268,1,F268,F268,SIMDRateRatios_hosp,SIMDrateratios,RateRatios!$B$3)*10))","v":29840.49358250108},{"$f":"IF('III Tool Overview'!$H$6=\"Western Isles Health Board\",0,IF('III Tool Overview'!$H$6=\"Eilean Siar Local Authority\",0,hosp_count(20,B268,C268,D268,$C$1,G268+H268,1,F268,F268,SIMDRateRatios_hosp,SIMDrateratios,RateRatios!$B$3)*10))","v":29840.237763412209},0.25581908887033933]
["Female 45-49",47.5,"female",5,1,{"$f":"HLOOKUP('III Tool Overview'!$H$6,LookUpData_Pop!$B$1:$AV$269,LookUpData_Pop!BB261,FALSE)/50","v":942.46},{"$f":"'III Tool Overview'!$H$9/110","v":0},942.46,{"$f":"IF('III Tool Overview'!$H$6=\"Western Isles Health Board\",0,IF('III Tool Overview'!$H$6=\"Eilean Siar Local Authority\",0,new_ci(2,B269,C269,D269,$C$1,G269,1,F269,E269*F269,SIMDrateratios,RateRatios!$B$3)*10))","v":14.575022533973172},{"$f":"IF('III Tool Overview'!$H$6=\"Western Isles Health Board\",0,IF('III Tool Overview'!$H$6=\"Eilean Siar Local Authority\",0,new_ci(2,B269,C269,D269,$C$1,G269+H269,1,H269,H269,SIMDrateratios,RateRatios!$B$3)*10))","v":14.574859001413659},{"$f":"IF('III Tool Overview'!$H$6=\"Western Isles Health Board\",0,IF('III Tool Overview'!$H$6=\"Eilean Siar Local Authority\",0,new_ci(5,B269,C269,D269,$C$1,G269,1,F269,F269,SIMDrateratios,RateRatios!$B$3)*1000))","v":6456.8863443315404},{"$f":"IF('III Tool Overview'!$H$6=\"Western Isles Health Board\",0,IF('III Tool Overview'!$H$6=\"Eilean Siar Local Authority\",0,new_ci(5,B269,C269,D269,$C$1,H269,1,F269,F269,SIMDrateratios,RateRatios!$B$3)*1000))","v":6456.8140905469263},{"$f":"IF('III Tool Overview'!$H$6=\"Western Isles Health Board\",0,IF('III Tool Overview'!$H$6=\"Eilean Siar Local Authority\",0,new_ci(10,B269,C269,D269,$C$1,G269,1,F269,F269,SIMDrateratios,RateRatios!$B$3)*10))","v":173.31862346401431},{"$f":"IF('III Tool Overview'!$H$6=\"Western Isles Health Board\",0,IF('III Tool Overview'!$H$6=\"Eilean Siar Local Authority\",0,new_ci(10,B269,C269,D269,$C$1,G269+H269,1,F269,F269,SIMDrateratios,RateRatios!$B$3)*10))","v":173.31669531925112},{"$f":"IF('III Tool Overview'!$H$6=\"Western Isles Health Board\",0,IF('III Tool Overview'!$H$6=\"Eilean Siar Local Authority\",0,new_ci(20,B269,C269,D269,$C$1,G269,1,F269,F269,SIMDrateratios,RateRatios!$B$3)*10))","v":531.33292546624023},{"$f":"IF('III Tool Overview'!$H$6=\"Western Isles Health Board\",0,IF('III Tool Overview'!$H$6=\"Eilean Siar Local Authority\",0,new_ci(20,B269,C269,D269,$C$1,G269+H269,1,F269,F269,SIMDrateratios,RateRatios!$B$3)*10))","v":531.32713069554029},{"$f":"IF('III Tool Overview'!$H$6=\"Western Isles Health Board\",0,IF('III Tool Overview'!$H$6=\"Eilean Siar Local Authority\",0,new_yll(2,B269,C269,D269,$C$1,G269,1,F269,F269,SIMDrateratios,RateRatios!$B$3)*10))","v":743.32614923263179},{"$f":"IF('III Tool Overview'!$H$6=\"Western Isles Health Board\",0,IF('III Tool Overview'!$H$6=\"Eilean Siar Local Authority\",0,new_yll(2,B269,C269,D269,$C$1,G269+H269,1,F269,F269,SIMDrateratios,RateRatios!$B$3)*10))","v":743.31780907209668},8.3401605351127728E-3,{"$f":"IF('III Tool Overview'!$H$6=\"Western Isles Health Board\",0,IF('III Tool Overview'!$H$6=\"Eilean Siar Local Authority\",0,new_yll(5,B269,C269,D269,$C$1,G269,1,F269,F269,SIMDrateratios,RateRatios!$B$3)*1000))","v":319082.08330966759},{"$f":"IF('III Tool Overview'!$H$6=\"Western Isles Health Board\",0,IF('III Tool Overview'!$H$6=\"Eilean Siar Local Authority\",0,new_yll(5,B269,C269,D269,$C$1,G269+H269,1,F269,F269,SIMDrateratios,RateRatios!$B$3)*1000))","v":319078.51256524358},3.570744424010627,{"$f":"IF('III Tool Overview'!$H$6=\"Western Isles Health Board\",0,IF('III Tool Overview'!$H$6=\"Eilean Siar Local Authority\",0,new_yll(10,B269,C269,D269,$C$1,G269,1,F269,F269,SIMDrateratios,RateRatios!$B$3)*10))","v":8070.3191359544826},{"$f":"IF('III Tool Overview'!$H$6=\"Western Isles Health Board\",0,IF('III Tool Overview'!$H$6=\"Eilean Siar Local Authority\",0,new_yll(10,B269,C269,D269,$C$1,G269+H269,1,F269,F269,SIMDrateratios,RateRatios!$B$3)*10))","v":8070.2293283903164},8.9807564166221709E-2,{"$f":"IF('III Tool Overview'!$H$6=\"Western Isles Health Board\",0,IF('III Tool Overview'!$H$6=\"Eilean Siar Local Authority\",0,new_yll(20,B269,C269,D269,$C$1,G269,1,F269,F269,SIMDrateratios,RateRatios!$B$3)*10))","v":21308.212167666679},{"$f":"IF('III Tool Overview'!$H$6=\"Western Isles Health Board\",0,IF('III Tool Overview'!$H$6=\"Eilean Siar Local Authority\",0,new_yll(20,B269,C269,D269,$C$1,G269+H269,1,F269,F269,SIMDrateratios,RateRatios!$B$3)*10))","v":21307.979259260614},0.23290840606568963,{"$f":"IF('III Tool Overview'!$H$6=\"Western Isles Health Board\",0,IF('III Tool Overview'!$H$6=\"Eilean Siar Local Authority\",0,hosp_count(2,B269,C269,D269,$C$1,G269,1,F269,F269,SIMDRateRatios_hosp,SIMDrateratios,RateRatios!$B$3)*10))","v":1547.5245264844252},{"$f":"IF('III Tool Overview'!$H$6=\"Western Isles Health Board\",0,IF('III Tool Overview'!$H$6=\"Eilean Siar Local Authority\",0,hosp_count(2,B269,C269,D269,$C$1,G269+H269,1,F269,F269,SIMDRateRatios_hosp,SIMDrateratios,RateRatios!$B$3)*10))","v":1547.5110174248764},1.3509059548823643E-2,{"$f":"IF('III Tool Overview'!$H$6=\"Western Isles Health Board\",0,IF('III Tool Overview'!$H$6=\"Eilean Siar Local Authority\",0,hosp_count(5,B269,C269,D269,$C$1,G269,1,F269,F269,SIMDRateRatios_hosp,SIMDrateratios,RateRatios!$B$3)*1000))","v":642584.01912682899},{"$f":"IF('III Tool Overview'!$H$6=\"Western Isles Health Board\",0,IF('III Tool Overview'!$H$6=\"Eilean Siar Local Authority\",0,hosp_count(5,B269,C269,D269,$C$1,G269+H269,1,F269,F269,SIMDRateRatios_hosp,SIMDrateratios,RateRatios!$B$3)*1000))","v":642578.42763072974},5.5914960992522538,{"$f":"IF('III Tool Overview'!$H$6=\"Western Isles Health Board\",0,IF('III Tool Overview'!$H$6=\"Eilean Siar Local Authority\",0,hosp_count(10,B269,C269,D269,$C$1,G269,1,F269,F269,SIMDRateRatios_hosp,SIMDrateratios,RateRatios!$B$3)*10))","v":15389.317378993179},{"$f":"IF('III Tool Overview'!$H$6=\"Western Isles Health Board\",0,IF('III Tool Overview'!$H$6=\"Eilean Siar Local Authority\",0,hosp_count(10,B269,C269,D269,$C$1,G269+H269,1,F269,F269,SIMDRateRatios_hosp,SIMDrateratios,RateRatios!$B$3)*10))","v":15389.184359096733},0.13301989644605783,{"$f":"IF('III Tool Overview'!$H$6=\"Western Isles Health Board\",0,IF('III Tool Overview'!$H$6=\"Eilean Siar Local Authority\",0,hosp_count(20,B269,C269,D269,$C$1,G269,1,F269,F269,SIMDRateRatios_hosp,SIMDrateratios,RateRatios!$B$3)*10))","v":36761.037839536941},{"$f":"IF('III Tool Overview'!$H$6=\"Western Isles Health Board\",0,IF('III Tool Overview'!$H$6=\"Eilean Siar Local Authority\",0,hosp_count(20,B269,C269,D269,$C$1,G269+H269,1,F269,F269,SIMDRateRatios_hosp,SIMDrateratios,RateRatios!$B$3)*10))","v":36760.726614032166},0.31122550477448385]
["Female 50-54",52.5,"female",5,1,{"$f":"HLOOKUP('III Tool Overview'!$H$6,LookUpData_Pop!$B$1:$AV$269,LookUpData_Pop!BB262,FALSE)/50","v":848.88},{"$f":"'III Tool Overview'!$H$9/110","v":0},848.88,{"$f":"IF('III Tool Overview'!$H$6=\"Western Isles Health Board\",0,IF('III Tool Overview'!$H$6=\"Eilean Siar Local Authority\",0,new_ci(2,B270,C270,D270,$C$1,G270,1,F270,E270*F270,SIMDrateratios,RateRatios!$B$3)*10))","v":18.213148111772831},{"$f":"IF('III Tool Overview'!$H$6=\"Western Isles Health Board\",0,IF('III Tool Overview'!$H$6=\"Eilean Siar Local Authority\",0,new_ci(2,B270,C270,D270,$C$1,G270+H270,1,H270,H270,SIMDrateratios,RateRatios!$B$3)*10))","v":18.212943691923094},{"$f":"IF('III Tool Overview'!$H$6=\"Western Isles Health Board\",0,IF('III Tool Overview'!$H$6=\"Eilean Siar Local Authority\",0,new_ci(5,B270,C270,D270,$C$1,G270,1,F270,F270,SIMDrateratios,RateRatios!$B$3)*1000))","v":8060.298199778922},{"$f":"IF('III Tool Overview'!$H$6=\"Western Isles Health Board\",0,IF('III Tool Overview'!$H$6=\"Eilean Siar Local Authority\",0,new_ci(5,B270,C270,D270,$C$1,H270,1,F270,F270,SIMDrateratios,RateRatios!$B$3)*1000))","v":8060.2080670956211},{"$f":"IF('III Tool Overview'!$H$6=\"Western Isles Health Board\",0,IF('III Tool Overview'!$H$6=\"Eilean Siar Local Authority\",0,new_ci(10,B270,C270,D270,$C$1,G270,1,F270,F270,SIMDrateratios,RateRatios!$B$3)*10))","v":215.87089518095408},{"$f":"IF('III Tool Overview'!$H$6=\"Western Isles Health Board\",0,IF('III Tool Overview'!$H$6=\"Eilean Siar Local Authority\",0,new_ci(10,B270,C270,D270,$C$1,G270+H270,1,F270,F270,SIMDrateratios,RateRatios!$B$3)*10))","v":215.86850080040887},{"$f":"IF('III Tool Overview'!$H$6=\"Western Isles Health Board\",0,IF('III Tool Overview'!$H$6=\"Eilean Siar Local Authority\",0,new_ci(20,B270,C270,D270,$C$1,G270,1,F270,F270,SIMDrateratios,RateRatios!$B$3)*10))","v":656.81459731127188},{"$f":"IF('III Tool Overview'!$H$6=\"Western Isles Health Board\",0,IF('III Tool Overview'!$H$6=\"Eilean Siar Local Authority\",0,new_ci(20,B270,C270,D270,$C$1,G270+H270,1,F270,F270,SIMDrateratios,RateRatios!$B$3)*10))","v":656.80751062914419},{"$f":"IF('III Tool Overview'!$H$6=\"Western Isles Health Board\",0,IF('III Tool Overview'!$H$6=\"Eilean Siar Local Authority\",0,new_yll(2,B270,C270,D270,$C$1,G270,1,F270,F270,SIMDrateratios,RateRatios!$B$3)*10))","v":856.01796125332294},{"$f":"IF('III Tool Overview'!$H$6=\"Western Isles Health Board\",0,IF('III Tool Overview'!$H$6=\"Eilean Siar Local Authority\",0,new_yll(2,B270,C270,D270,$C$1,G270+H270,1,F270,F270,SIMDrateratios,RateRatios!$B$3)*10))","v":856.00835352038541},9.6077329375248155E-3,{"$f":"IF('III Tool Overview'!$H$6=\"Western Isles Health Board\",0,IF('III Tool Overview'!$H$6=\"Eilean Siar Local Authority\",0,new_yll(5,B270,C270,D270,$C$1,G270,1,F270,F270,SIMDrateratios,RateRatios!$B$3)*1000))","v":366083.91887835198},{"$f":"IF('III Tool Overview'!$H$6=\"Western Isles Health Board\",0,IF('III Tool Overview'!$H$6=\"Eilean Siar Local Authority\",0,new_yll(5,B270,C270,D270,$C$1,G270+H270,1,F270,F270,SIMDrateratios,RateRatios!$B$3)*1000))","v":366079.82494842802},4.0939299239544198,{"$f":"IF('III Tool Overview'!$H$6=\"Western Isles Health Board\",0,IF('III Tool Overview'!$H$6=\"Eilean Siar Local Authority\",0,new_yll(10,B270,C270,D270,$C$1,G270,1,F270,F270,SIMDrateratios,RateRatios!$B$3)*10))","v":9189.3543324205657},{"$f":"IF('III Tool Overview'!$H$6=\"Western Isles Health Board\",0,IF('III Tool Overview'!$H$6=\"Eilean Siar Local Authority\",0,new_yll(10,B270,C270,D270,$C$1,G270+H270,1,F270,F270,SIMDrateratios,RateRatios!$B$3)*10))","v":9189.2523609221626},0.10197149840314523,{"$f":"IF('III Tool Overview'!$H$6=\"Western Isles Health Board\",0,IF('III Tool Overview'!$H$6=\"Eilean Siar Local Authority\",0,new_yll(20,B270,C270,D270,$C$1,G270,1,F270,F270,SIMDrateratios,RateRatios!$B$3)*10))","v":23735.34582336817},{"$f":"IF('III Tool Overview'!$H$6=\"Western Isles Health Board\",0,IF('III Tool Overview'!$H$6=\"Eilean Siar Local Authority\",0,new_yll(20,B270,C270,D270,$C$1,G270+H270,1,F270,F270,SIMDrateratios,RateRatios!$B$3)*10))","v":23735.088840110417},0.25698325775374542,{"$f":"IF('III Tool Overview'!$H$6=\"Western Isles Health Board\",0,IF('III Tool Overview'!$H$6=\"Eilean Siar Local Authority\",0,hosp_count(2,B270,C270,D270,$C$1,G270,1,F270,F270,SIMDRateRatios_hosp,SIMDrateratios,RateRatios!$B$3)*10))","v":1538.2790014574589},{"$f":"IF('III Tool Overview'!$H$6=\"Western Isles Health Board\",0,IF('III Tool Overview'!$H$6=\"Eilean Siar Local Authority\",0,hosp_count(2,B270,C270,D270,$C$1,G270+H270,1,F270,F270,SIMDRateRatios_hosp,SIMDrateratios,RateRatios!$B$3)*10))","v":1538.2655646498233},1.3436807635571313E-2,{"$f":"IF('III Tool Overview'!$H$6=\"Western Isles Health Board\",0,IF('III Tool Overview'!$H$6=\"Eilean Siar Local Authority\",0,hosp_count(5,B270,C270,D270,$C$1,G270,1,F270,F270,SIMDRateRatios_hosp,SIMDrateratios,RateRatios!$B$3)*1000))","v":638130.3217297527},{"$f":"IF('III Tool Overview'!$H$6=\"Western Isles Health Board\",0,IF('III Tool Overview'!$H$6=\"Eilean Siar Local Authority\",0,hosp_count(5,B270,C270,D270,$C$1,G270+H270,1,F270,F270,SIMDRateRatios_hosp,SIMDrateratios,RateRatios!$B$3)*1000))","v":638124.77238221734},5.5493475353578106,{"$f":"IF('III Tool Overview'!$H$6=\"Western Isles Health Board\",0,IF('III Tool Overview'!$H$6=\"Eilean Siar Local Authority\",0,hosp_count(10,B270,C270,D270,$C$1,G270,1,F270,F270,SIMDRateRatios_hosp,SIMDrateratios,RateRatios!$B$3)*10))","v":15252.138052748647},{"$f":"IF('III Tool Overview'!$H$6=\"Western Isles Health Board\",0,IF('III Tool Overview'!$H$6=\"Eilean Siar Local Authority\",0,hosp_count(10,B270,C270,D270,$C$1,G270+H270,1,F270,F270,SIMDRateRatios_hosp,SIMDrateratios,RateRatios!$B$3)*10))","v":15252.006640983398},0.13141176524914044,{"$f":"IF('III Tool Overview'!$H$6=\"Western Isles Health Board\",0,IF('III Tool Overview'!$H$6=\"Eilean Siar Local Authority\",0,hosp_count(20,B270,C270,D270,$C$1,G270,1,F270,F270,SIMDRateRatios_hosp,SIMDrateratios,RateRatios!$B$3)*10))","v":36211.368217078045},{"$f":"IF('III Tool Overview'!$H$6=\"Western Isles Health Board\",0,IF('III Tool Overview'!$H$6=\"Eilean Siar Local Authority\",0,hosp_count(20,B270,C270,D270,$C$1,G270+H270,1,F270,F270,SIMDRateRatios_hosp,SIMDrateratios,RateRatios!$B$3)*10))","v":36211.065094555859},0.30312252218573121]
["Female 55-59",57.5,"female",5,1,{"$f":"HLOOKUP('III Tool Overview'!$H$6,LookUpData_Pop!$B$1:$AV$269,LookUpData_Pop!BB263,FALSE)/50","v":734.1},{"$f":"'III Tool Overview'!$H$9/110","v":0},734.1,{"$f":"IF('III Tool Overview'!$H$6=\"Western Isles Health Board\",0,IF('III Tool Overview'!$H$6=\"Eilean Siar Local Authority\",0,new_ci(2,B271,C271,D271,$C$1,G271,1,F271,E271*F271,SIMDrateratios,RateRatios!$B$3)*10))","v":25.73250222570557},{"$f":"IF('III Tool Overview'!$H$6=\"Western Isles Health Board\",0,IF('III Tool Overview'!$H$6=\"Eilean Siar Local Authority\",0,new_ci(2,B271,C271,D271,$C$1,G271+H271,1,H271,H271,SIMDrateratios,RateRatios!$B$3)*10))","v":25.732213687537101},{"$f":"IF('III Tool Overview'!$H$6=\"Western Isles Health Board\",0,IF('III Tool Overview'!$H$6=\"Eilean Siar Local Authority\",0,new_ci(5,B271,C271,D271,$C$1,G271,1,F271,F271,SIMDrateratios,RateRatios!$B$3)*1000))","v":11361.392311616351},{"$f":"IF('III Tool Overview'!$H$6=\"Western Isles Health Board\",0,IF('III Tool Overview'!$H$6=\"Eilean Siar Local Authority\",0,new_ci(5,B271,C271,D271,$C$1,H271,1,F271,F271,SIMDrateratios,RateRatios!$B$3)*1000))","v":11361.265685239434},{"$f":"IF('III Tool Overview'!$H$6=\"Western Isles Health Board\",0,IF('III Tool Overview'!$H$6=\"Eilean Siar Local Authority\",0,new_ci(10,B271,C271,D271,$C$1,G271,1,F271,F271,SIMDrateratios,RateRatios!$B$3)*10))","v":302.73036221003395},{"$f":"IF('III Tool Overview'!$H$6=\"Western Isles Health Board\",0,IF('III Tool Overview'!$H$6=\"Eilean Siar Local Authority\",0,new_ci(10,B271,C271,D271,$C$1,G271+H271,1,F271,F271,SIMDrateratios,RateRatios!$B$3)*10))","v":302.72703283051789},{"$f":"IF('III Tool Overview'!$H$6=\"Western Isles Health Board\",0,IF('III Tool Overview'!$H$6=\"Eilean Siar Local Authority\",0,new_ci(20,B271,C271,D271,$C$1,G271,1,F271,F271,SIMDrateratios,RateRatios!$B$3)*10))","v":905.58636379262919},{"$f":"IF('III Tool Overview'!$H$6=\"Western Isles Health Board\",0,IF('III Tool Overview'!$H$6=\"Eilean Siar Local Authority\",0,new_ci(20,B271,C271,D271,$C$1,G271+H271,1,F271,F271,SIMDrateratios,RateRatios!$B$3)*10))","v":905.57684654948525},{"$f":"IF('III Tool Overview'!$H$6=\"Western Isles Health Board\",0,IF('III Tool Overview'!$H$6=\"Eilean Siar Local Authority\",0,new_yll(2,B271,C271,D271,$C$1,G271,1,F271,F271,SIMDrateratios,RateRatios!$B$3)*10))","v":1055.0325912539283},{"$f":"IF('III Tool Overview'!$H$6=\"Western Isles Health Board\",0,IF('III Tool Overview'!$H$6=\"Eilean Siar Local Authority\",0,new_yll(2,B271,C271,D271,$C$1,G271+H271,1,F271,F271,SIMDrateratios,RateRatios!$B$3)*10))","v":1055.0207611890212},1.1830064907144333E-2,{"$f":"IF('III Tool Overview'!$H$6=\"Western Isles Health Board\",0,IF('III Tool Overview'!$H$6=\"Eilean Siar Local Authority\",0,new_yll(5,B271,C271,D271,$C$1,G271,1,F271,F271,SIMDrateratios,RateRatios!$B$3)*1000))","v":447866.63185523689},{"$f":"IF('III Tool Overview'!$H$6=\"Western Isles Health Board\",0,IF('III Tool Overview'!$H$6=\"Eilean Siar Local Authority\",0,new_yll(5,B271,C271,D271,$C$1,G271+H271,1,F271,F271,SIMDrateratios,RateRatios!$B$3)*1000))","v":447861.63961707038},4.9922381665091962,{"$f":"IF('III Tool Overview'!$H$6=\"Western Isles Health Board\",0,IF('III Tool Overview'!$H$6=\"Eilean Siar Local Authority\",0,new_yll(10,B271,C271,D271,$C$1,G271,1,F271,F271,SIMDrateratios,RateRatios!$B$3)*10))","v":11074.093791279984},{"$f":"IF('III Tool Overview'!$H$6=\"Western Isles Health Board\",0,IF('III Tool Overview'!$H$6=\"Eilean Siar Local Authority\",0,new_yll(10,B271,C271,D271,$C$1,G271+H271,1,F271,F271,SIMDrateratios,RateRatios!$B$3)*10))","v":11073.971895388502},0.12189589148147206,{"$f":"IF('III Tool Overview'!$H$6=\"Western Isles Health Board\",0,IF('III Tool Overview'!$H$6=\"Eilean Siar Local Authority\",0,new_yll(20,B271,C271,D271,$C$1,G271,1,F271,F271,SIMDrateratios,RateRatios!$B$3)*10))","v":27361.212398565931},{"$f":"IF('III Tool Overview'!$H$6=\"Western Isles Health Board\",0,IF('III Tool Overview'!$H$6=\"Eilean Siar Local Authority\",0,new_yll(20,B271,C271,D271,$C$1,G271+H271,1,F271,F271,SIMDrateratios,RateRatios!$B$3)*10))","v":27360.922834377408},0.28956418852249044,{"$f":"IF('III Tool Overview'!$H$6=\"Western Isles Health Board\",0,IF('III Tool Overview'!$H$6=\"Eilean Siar Local Authority\",0,hosp_count(2,B271,C271,D271,$C$1,G271,1,F271,F271,SIMDRateRatios_hosp,SIMDrateratios,RateRatios!$B$3)*10))","v":1542.287463902363},{"$f":"IF('III Tool Overview'!$H$6=\"Western Isles Health Board\",0,IF('III Tool Overview'!$H$6=\"Eilean Siar Local Authority\",0,hosp_count(2,B271,C271,D271,$C$1,G271+H271,1,F271,F271,SIMDRateRatios_hosp,SIMDrateratios,RateRatios!$B$3)*10))","v":1542.2739958199954},1.3468082367580791E-2,{"$f":"IF('III Tool Overview'!$H$6=\"Western Isles Health Board\",0,IF('III Tool Overview'!$H$6=\"Eilean Siar Local Authority\",0,hosp_count(5,B271,C271,D271,$C$1,G271,1,F271,F271,SIMDRateRatios_hosp,SIMDrateratios,RateRatios!$B$3)*1000))","v":638396.45937816985},{"$f":"IF('III Tool Overview'!$H$6=\"Western Isles Health Board\",0,IF('III Tool Overview'!$H$6=\"Eilean Siar Local Authority\",0,hosp_count(5,B271,C271,D271,$C$1,G271+H271,1,F271,F271,SIMDRateRatios_hosp,SIMDrateratios,RateRatios!$B$3)*1000))","v":638390.92488880001},5.5344893698347732,{"$f":"IF('III Tool Overview'!$H$6=\"Western Isles Health Board\",0,IF('III Tool Overview'!$H$6=\"Eilean Siar Local Authority\",0,hosp_count(10,B271,C271,D271,$C$1,G271,1,F271,F271,SIMDRateRatios_hosp,SIMDrateratios,RateRatios!$B$3)*10))","v":15189.555401199046},{"$f":"IF('III Tool Overview'!$H$6=\"Western Isles Health Board\",0,IF('III Tool Overview'!$H$6=\"Eilean Siar Local Authority\",0,hosp_count(10,B271,C271,D271,$C$1,G271+H271,1,F271,F271,SIMDRateRatios_hosp,SIMDrateratios,RateRatios!$B$3)*10))","v":15189.425703240875},0.12969795817116392,{"$f":"IF('III Tool Overview'!$H$6=\"Western Isles Health Board\",0,IF('III Tool Overview'!$H$6=\"Eilean Siar Local Authority\",0,hosp_count(20,B271,C271,D271,$C$1,G271,1,F271,F271,SIMDRateRatios_hosp,SIMDrateratios,RateRatios!$B$3)*10))","v":35570.133308939505},{"$f":"IF('III Tool Overview'!$H$6=\"Western Isles Health Board\",0,IF('III Tool Overview'!$H$6=\"Eilean Siar Local Authority\",0,hosp_count(20,B271,C271,D271,$C$1,G271+H271,1,F271,F271,SIMDRateRatios_hosp,SIMDrateratios,RateRatios!$B$3)*10))","v":35569.843648093381},0.28966084612329723]
["Female 60-64",62.5,"female",5,1,{"$f":"HLOOKUP('III Tool Overview'!$H$6,LookUpData_Pop!$B$1:$AV$269,LookUpData_Pop!BB264,FALSE)/50","v":672.58},{"$f":"'III Tool Overview'!$H$9/110","v":0},672.58,{"$f":"IF('III Tool Overview'!$H$6=\"Western Isles Health Board\",0,IF('III Tool Overview'!$H$6=\"Eilean Siar Local Authority\",0,new_ci(2,B272,C272,D272,$C$1,G272,1,F272,E272*F272,SIMDrateratios,RateRatios!$B$3)*10))","v":32.696250794139516},{"$f":"IF('III Tool Overview'!$H$6=\"Western Isles Health Board\",0,IF('III Tool Overview'!$H$6=\"Eilean Siar Local Authority\",0,new_ci(2,B272,C272,D272,$C$1,G272+H272,1,H272,H272,SIMDrateratios,RateRatios!$B$3)*10))","v":32.695884142530126},{"$f":"IF('III Tool Overview'!$H$6=\"Western Isles Health Board\",0,IF('III Tool Overview'!$H$6=\"Eilean Siar Local Authority\",0,new_ci(5,B272,C272,D272,$C$1,G272,1,F272,F272,SIMDrateratios,RateRatios!$B$3)*1000))","v":14402.358779449143},{"$f":"IF('III Tool Overview'!$H$6=\"Western Isles Health Board\",0,IF('III Tool Overview'!$H$6=\"Eilean Siar Local Authority\",0,new_ci(5,B272,C272,D272,$C$1,H272,1,F272,F272,SIMDrateratios,RateRatios!$B$3)*1000))","v":14402.198624988099},{"$f":"IF('III Tool Overview'!$H$6=\"Western Isles Health Board\",0,IF('III Tool Overview'!$H$6=\"Eilean Siar Local Authority\",0,new_ci(10,B272,C272,D272,$C$1,G272,1,F272,F272,SIMDrateratios,RateRatios!$B$3)*10))","v":381.81319912149633},{"$f":"IF('III Tool Overview'!$H$6=\"Western Isles Health Board\",0,IF('III Tool Overview'!$H$6=\"Eilean Siar Local Authority\",0,new_ci(10,B272,C272,D272,$C$1,G272+H272,1,F272,F272,SIMDrateratios,RateRatios!$B$3)*10))","v":381.80903126566773},{"$f":"IF('III Tool Overview'!$H$6=\"Western Isles Health Board\",0,IF('III Tool Overview'!$H$6=\"Eilean Siar Local Authority\",0,new_ci(20,B272,C272,D272,$C$1,G272,1,F272,F272,SIMDrateratios,RateRatios!$B$3)*10))","v":1123.1688159481937},{"$f":"IF('III Tool Overview'!$H$6=\"Western Isles Health Board\",0,IF('III Tool Overview'!$H$6=\"Eilean Siar Local Authority\",0,new_ci(20,B272,C272,D272,$C$1,G272+H272,1,F272,F272,SIMDrateratios,RateRatios!$B$3)*10))","v":1123.1573084787124},{"$f":"IF('III Tool Overview'!$H$6=\"Western Isles Health Board\",0,IF('III Tool Overview'!$H$6=\"Eilean Siar Local Authority\",0,new_yll(2,B272,C272,D272,$C$1,G272,1,F272,F272,SIMDrateratios,RateRatios!$B$3)*10))","v":1209.761279383162},{"$f":"IF('III Tool Overview'!$H$6=\"Western Isles Health Board\",0,IF('III Tool Overview'!$H$6=\"Eilean Siar Local Authority\",0,new_yll(2,B272,C272,D272,$C$1,G272+H272,1,F272,F272,SIMDrateratios,RateRatios!$B$3)*10))","v":1209.7477132736146},1.3566109547355154E-2,{"$f":"IF('III Tool Overview'!$H$6=\"Western Isles Health Board\",0,IF('III Tool Overview'!$H$6=\"Eilean Siar Local Authority\",0,new_yll(5,B272,C272,D272,$C$1,G272,1,F272,F272,SIMDrateratios,RateRatios!$B$3)*1000))","v":510159.38857241976},{"$f":"IF('III Tool Overview'!$H$6=\"Western Isles Health Board\",0,IF('III Tool Overview'!$H$6=\"Eilean Siar Local Authority\",0,new_yll(5,B272,C272,D272,$C$1,G272+H272,1,F272,F272,SIMDrateratios,RateRatios!$B$3)*1000))","v":510153.7144996791},5.6740727406577207,{"$f":"IF('III Tool Overview'!$H$6=\"Western Isles Health Board\",0,IF('III Tool Overview'!$H$6=\"Eilean Siar Local Authority\",0,new_yll(10,B272,C272,D272,$C$1,G272,1,F272,F272,SIMDrateratios,RateRatios!$B$3)*10))","v":12444.31175730882},{"$f":"IF('III Tool Overview'!$H$6=\"Western Isles Health Board\",0,IF('III Tool Overview'!$H$6=\"Eilean Siar Local Authority\",0,new_yll(10,B272,C272,D272,$C$1,G272+H272,1,F272,F272,SIMDrateratios,RateRatios!$B$3)*10))","v":12444.175732133217},0.13602517560320848,{"$f":"IF('III Tool Overview'!$H$6=\"Western Isles Health Board\",0,IF('III Tool Overview'!$H$6=\"Eilean Siar Local Authority\",0,new_yll(20,B272,C272,D272,$C$1,G272,1,F272,F272,SIMDrateratios,RateRatios!$B$3)*10))","v":29528.742960320305},{"$f":"IF('III Tool Overview'!$H$6=\"Western Isles Health Board\",0,IF('III Tool Overview'!$H$6=\"Eilean Siar Local Authority\",0,new_yll(20,B272,C272,D272,$C$1,G272+H272,1,F272,F272,SIMDrateratios,RateRatios!$B$3)*10))","v":29528.436951985805},0.30600833450080245,{"$f":"IF('III Tool Overview'!$H$6=\"Western Isles Health Board\",0,IF('III Tool Overview'!$H$6=\"Eilean Siar Local Authority\",0,hosp_count(2,B272,C272,D272,$C$1,G272,1,F272,F272,SIMDRateRatios_hosp,SIMDrateratios,RateRatios!$B$3)*10))","v":1559.4384911691222},{"$f":"IF('III Tool Overview'!$H$6=\"Western Isles Health Board\",0,IF('III Tool Overview'!$H$6=\"Eilean Siar Local Authority\",0,hosp_count(2,B272,C272,D272,$C$1,G272+H272,1,F272,F272,SIMDRateRatios_hosp,SIMDrateratios,RateRatios!$B$3)*10))","v":1559.4248629545027},1.3628214619529899E-2,{"$f":"IF('III Tool Overview'!$H$6=\"Western Isles Health Board\",0,IF('III Tool Overview'!$H$6=\"Eilean Siar Local Authority\",0,hosp_count(5,B272,C272,D272,$C$1,G272,1,F272,F272,SIMDRateRatios_hosp,SIMDrateratios,RateRatios!$B$3)*1000))","v":644090.29234597052},{"$f":"IF('III Tool Overview'!$H$6=\"Western Isles Health Board\",0,IF('III Tool Overview'!$H$6=\"Eilean Siar Local Authority\",0,hosp_count(5,B272,C272,D272,$C$1,G272+H272,1,F272,F272,SIMDRateRatios_hosp,SIMDrateratios,RateRatios!$B$3)*1000))","v":644084.71996894758},5.5723770229378715,{"$f":"IF('III Tool Overview'!$H$6=\"Western Isles Health Board\",0,IF('III Tool Overview'!$H$6=\"Eilean Siar Local Authority\",0,hosp_count(10,B272,C272,D272,$C$1,G272,1,F272,F272,SIMDRateRatios_hosp,SIMDrateratios,RateRatios!$B$3)*10))","v":15256.154819396606},{"$f":"IF('III Tool Overview'!$H$6=\"Western Isles Health Board\",0,IF('III Tool Overview'!$H$6=\"Eilean Siar Local Authority\",0,hosp_count(10,B272,C272,D272,$C$1,G272+H272,1,F272,F272,SIMDRateRatios_hosp,SIMDrateratios,RateRatios!$B$3)*10))","v":15256.025589176999},0.12923021960705228,{"$f":"IF('III Tool Overview'!$H$6=\"Western Isles Health Board\",0,IF('III Tool Overview'!$H$6=\"Eilean Siar Local Authority\",0,hosp_count(20,B272,C272,D272,$C$1,G272,1,F272,F272,SIMDRateRatios_hosp,SIMDrateratios,RateRatios!$B$3)*10))","v":35245.070719170661},{"$f":"IF('III Tool Overview'!$H$6=\"Western Isles Health Board\",0,IF('III Tool Overview'!$H$6=\"Eilean Siar Local Authority\",0,hosp_count(20,B272,C272,D272,$C$1,G272+H272,1,F272,F272,SIMDRateRatios_hosp,SIMDrateratios,RateRatios!$B$3)*10))","v":35244.791261935854},0.279457234806614]
["Female 65-69",67.5,"female",5,1,{"$f":"HLOOKUP('III Tool Overview'!$H$6,LookUpData_Pop!$B$1:$AV$269,LookUpData_Pop!BB265,FALSE)/50","v":519.12},{"$f":"'III Tool Overview'!$H$9/110","v":0},519.12,{"$f":"IF('III Tool Overview'!$H$6=\"Western Isles Health Board\",0,IF('III Tool Overview'!$H$6=\"Eilean Siar Local Authority\",0,new_ci(2,B273,C273,D273,$C$1,G273,1,F273,E273*F273,SIMDrateratios,RateRatios!$B$3)*10))","v":41.194070676645097},{"$f":"IF('III Tool Overview'!$H$6=\"Western Isles Health Board\",0,IF('III Tool Overview'!$H$6=\"Eilean Siar Local Authority\",0,new_ci(2,B273,C273,D273,$C$1,G273+H273,1,H273,H273,SIMDrateratios,RateRatios!$B$3)*10))","v":41.193609840750618},{"$f":"IF('III Tool Overview'!$H$6=\"Western Isles Health Board\",0,IF('III Tool Overview'!$H$6=\"Eilean Siar Local Authority\",0,new_ci(5,B273,C273,D273,$C$1,G273,1,F273,F273,SIMDrateratios,RateRatios!$B$3)*1000))","v":18049.762792161633},{"$f":"IF('III Tool Overview'!$H$6=\"Western Isles Health Board\",0,IF('III Tool Overview'!$H$6=\"Eilean Siar Local Authority\",0,new_ci(5,B273,C273,D273,$C$1,H273,1,F273,F273,SIMDrateratios,RateRatios!$B$3)*1000))","v":18049.563629885837},{"$f":"IF('III Tool Overview'!$H$6=\"Western Isles Health Board\",0,IF('III Tool Overview'!$H$6=\"Eilean Siar Local Authority\",0,new_ci(10,B273,C273,D273,$C$1,G273,1,F273,F273,SIMDrateratios,RateRatios!$B$3)*10))","v":473.04788274901938},{"$f":"IF('III Tool Overview'!$H$6=\"Western Isles Health Board\",0,IF('III Tool Overview'!$H$6=\"Eilean Siar Local Authority\",0,new_ci(10,B273,C273,D273,$C$1,G273+H273,1,F273,F273,SIMDrateratios,RateRatios!$B$3)*10))","v":473.04281943374099},{"$f":"IF('III Tool Overview'!$H$6=\"Western Isles Health Board\",0,IF('III Tool Overview'!$H$6=\"Eilean Siar Local Authority\",0,new_ci(20,B273,C273,D273,$C$1,G273,1,F273,F273,SIMDrateratios,RateRatios!$B$3)*10))","v":1340.5197988636749},{"$f":"IF('III Tool Overview'!$H$6=\"Western Isles Health Board\",0,IF('III Tool Overview'!$H$6=\"Eilean Siar Local Authority\",0,new_ci(20,B273,C273,D273,$C$1,G273+H273,1,F273,F273,SIMDrateratios,RateRatios!$B$3)*10))","v":1340.5068795912339},{"$f":"IF('III Tool Overview'!$H$6=\"Western Isles Health Board\",0,IF('III Tool Overview'!$H$6=\"Eilean Siar Local Authority\",0,new_yll(2,B273,C273,D273,$C$1,G273,1,F273,F273,SIMDrateratios,RateRatios!$B$3)*10))","v":1277.0161909759979},{"$f":"IF('III Tool Overview'!$H$6=\"Western Isles Health Board\",0,IF('III Tool Overview'!$H$6=\"Eilean Siar Local Authority\",0,new_yll(2,B273,C273,D273,$C$1,G273+H273,1,F273,F273,SIMDrateratios,RateRatios!$B$3)*10))","v":1277.0019050632691},1.4285912728837502E-2,{"$f":"IF('III Tool Overview'!$H$6=\"Western Isles Health Board\",0,IF('III Tool Overview'!$H$6=\"Eilean Siar Local Authority\",0,new_yll(5,B273,C273,D273,$C$1,G273,1,F273,F273,SIMDrateratios,RateRatios!$B$3)*1000))","v":531136.22041965032},{"$f":"IF('III Tool Overview'!$H$6=\"Western Isles Health Board\",0,IF('III Tool Overview'!$H$6=\"Eilean Siar Local Authority\",0,new_yll(5,B273,C273,D273,$C$1,G273+H273,1,F273,F273,SIMDrateratios,RateRatios!$B$3)*1000))","v":531130.35759141191},5.862828238401562,{"$f":"IF('III Tool Overview'!$H$6=\"Western Isles Health Board\",0,IF('III Tool Overview'!$H$6=\"Eilean Siar Local Authority\",0,new_yll(10,B273,C273,D273,$C$1,G273,1,F273,F273,SIMDrateratios,RateRatios!$B$3)*10))","v":12592.458675751317},{"$f":"IF('III Tool Overview'!$H$6=\"Western Isles Health Board\",0,IF('III Tool Overview'!$H$6=\"Eilean Siar Local Authority\",0,new_yll(10,B273,C273,D273,$C$1,G273+H273,1,F273,F273,SIMDrateratios,RateRatios!$B$3)*10))","v":12592.323519301533},0.13515644978360797,{"$f":"IF('III Tool Overview'!$H$6=\"Western Isles Health Board\",0,IF('III Tool Overview'!$H$6=\"Eilean Siar Local Authority\",0,new_yll(20,B273,C273,D273,$C$1,G273,1,F273,F273,SIMDrateratios,RateRatios!$B$3)*10))","v":27434.108341201278},{"$f":"IF('III Tool Overview'!$H$6=\"Western Isles Health Board\",0,IF('III Tool Overview'!$H$6=\"Eilean Siar Local Authority\",0,new_yll(20,B273,C273,D273,$C$1,G273+H273,1,F273,F273,SIMDrateratios,RateRatios!$B$3)*10))","v":27433.837164630309},0.27117657096823677,{"$f":"IF('III Tool Overview'!$H$6=\"Western Isles Health Board\",0,IF('III Tool Overview'!$H$6=\"Eilean Siar Local Authority\",0,hosp_count(2,B273,C273,D273,$C$1,G273,1,F273,F273,SIMDRateRatios_hosp,SIMDrateratios,RateRatios!$B$3)*10))","v":1395.4470315896776},{"$f":"IF('III Tool Overview'!$H$6=\"Western Isles Health Board\",0,IF('III Tool Overview'!$H$6=\"Eilean Siar Local Authority\",0,hosp_count(2,B273,C273,D273,$C$1,G273+H273,1,F273,F273,SIMDRateRatios_hosp,SIMDrateratios,RateRatios!$B$3)*10))","v":1395.4348469538877},1.2184635789935783E-2,{"$f":"IF('III Tool Overview'!$H$6=\"Western Isles Health Board\",0,IF('III Tool Overview'!$H$6=\"Eilean Siar Local Authority\",0,hosp_count(5,B273,C273,D273,$C$1,G273,1,F273,F273,SIMDRateRatios_hosp,SIMDrateratios,RateRatios!$B$3)*1000))","v":573515.76869470603},{"$f":"IF('III Tool Overview'!$H$6=\"Western Isles Health Board\",0,IF('III Tool Overview'!$H$6=\"Eilean Siar Local Authority\",0,hosp_count(5,B273,C273,D273,$C$1,G273+H273,1,F273,F273,SIMDRateRatios_hosp,SIMDrateratios,RateRatios!$B$3)*1000))","v":573510.84279210144},4.9259026045911014,{"$f":"IF('III Tool Overview'!$H$6=\"Western Isles Health Board\",0,IF('III Tool Overview'!$H$6=\"Eilean Siar Local Authority\",0,hosp_count(10,B273,C273,D273,$C$1,G273,1,F273,F273,SIMDRateRatios_hosp,SIMDrateratios,RateRatios!$B$3)*10))","v":13447.07076162691},{"$f":"IF('III Tool Overview'!$H$6=\"Western Isles Health Board\",0,IF('III Tool Overview'!$H$6=\"Eilean Siar Local Authority\",0,hosp_count(10,B273,C273,D273,$C$1,G273+H273,1,F273,F273,SIMDRateRatios_hosp,SIMDrateratios,RateRatios!$B$3)*10))","v":13446.959202136075},0.11155949083513406,{"$f":"IF('III Tool Overview'!$H$6=\"Western Isles Health Board\",0,IF('III Tool Overview'!$H$6=\"Eilean Siar Local Authority\",0,hosp_count(20,B273,C273,D273,$C$1,G273,1,F273,F273,SIMDRateRatios_hosp,SIMDrateratios,RateRatios!$B$3)*10))","v":30143.509493081889},{"$f":"IF('III Tool Overview'!$H$6=\"Western Isles Health Board\",0,IF('III Tool Overview'!$H$6=\"Eilean Siar Local Authority\",0,hosp_count(20,B273,C273,D273,$C$1,G273+H273,1,F273,F273,SIMDRateRatios_hosp,SIMDrateratios,RateRatios!$B$3)*10))","v":30143.285288590418},0.22420449147102772]
["Female 70-74",72.5,"female",5,1,{"$f":"HLOOKUP('III Tool Overview'!$H$6,LookUpData_Pop!$B$1:$AV$269,LookUpData_Pop!BB266,FALSE)/50","v":449.94},{"$f":"'III Tool Overview'!$H$9/110","v":0},449.94,{"$f":"IF('III Tool Overview'!$H$6=\"Western Isles Health Board\",0,IF('III Tool Overview'!$H$6=\"Eilean Siar Local Authority\",0,new_ci(2,B274,C274,D274,$C$1,G274,1,F274,E274*F274,SIMDrateratios,RateRatios!$B$3)*10))","v":49.473704903365402},{"$f":"IF('III Tool Overview'!$H$6=\"Western Isles Health Board\",0,IF('III Tool Overview'!$H$6=\"Eilean Siar Local Authority\",0,new_ci(2,B274,C274,D274,$C$1,G274+H274,1,H274,H274,SIMDrateratios,RateRatios!$B$3)*10))","v":49.473152097804075},{"$f":"IF('III Tool Overview'!$H$6=\"Western Isles Health Board\",0,IF('III Tool Overview'!$H$6=\"Eilean Siar Local Authority\",0,new_ci(5,B274,C274,D274,$C$1,G274,1,F274,F274,SIMDrateratios,RateRatios!$B$3)*1000))","v":21563.638587628862},{"$f":"IF('III Tool Overview'!$H$6=\"Western Isles Health Board\",0,IF('III Tool Overview'!$H$6=\"Eilean Siar Local Authority\",0,new_ci(5,B274,C274,D274,$C$1,H274,1,F274,F274,SIMDrateratios,RateRatios!$B$3)*1000))","v":21563.402205296956},{"$f":"IF('III Tool Overview'!$H$6=\"Western Isles Health Board\",0,IF('III Tool Overview'!$H$6=\"Eilean Siar Local Authority\",0,new_ci(10,B274,C274,D274,$C$1,G274,1,F274,F274,SIMDrateratios,RateRatios!$B$3)*10))","v":558.75550260028365},{"$f":"IF('III Tool Overview'!$H$6=\"Western Isles Health Board\",0,IF('III Tool Overview'!$H$6=\"Eilean Siar Local Authority\",0,new_ci(10,B274,C274,D274,$C$1,G274+H274,1,F274,F274,SIMDrateratios,RateRatios!$B$3)*10))","v":558.74963160965103},{"$f":"IF('III Tool Overview'!$H$6=\"Western Isles Health Board\",0,IF('III Tool Overview'!$H$6=\"Eilean Siar Local Authority\",0,new_ci(20,B274,C274,D274,$C$1,G274,1,F274,F274,SIMDrateratios,RateRatios!$B$3)*10))","v":1526.9359073843684},{"$f":"IF('III Tool Overview'!$H$6=\"Western Isles Health Board\",0,IF('III Tool Overview'!$H$6=\"Eilean Siar Local Authority\",0,new_ci(20,B274,C274,D274,$C$1,G274+H274,1,F274,F274,SIMDrateratios,RateRatios!$B$3)*10))","v":1526.9220622073553},{"$f":"IF('III Tool Overview'!$H$6=\"Western Isles Health Board\",0,IF('III Tool Overview'!$H$6=\"Eilean Siar Local Authority\",0,new_yll(2,B274,C274,D274,$C$1,G274,1,F274,F274,SIMDrateratios,RateRatios!$B$3)*10))","v":1335.7900323908661},{"$f":"IF('III Tool Overview'!$H$6=\"Western Isles Health Board\",0,IF('III Tool Overview'!$H$6=\"Eilean Siar Local Authority\",0,new_yll(2,B274,C274,D274,$C$1,G274+H274,1,F274,F274,SIMDrateratios,RateRatios!$B$3)*10))","v":1335.7751066407102},1.492575015595321E-2,{"$f":"IF('III Tool Overview'!$H$6=\"Western Isles Health Board\",0,IF('III Tool Overview'!$H$6=\"Eilean Siar Local Authority\",0,new_yll(5,B274,C274,D274,$C$1,G274,1,F274,F274,SIMDrateratios,RateRatios!$B$3)*1000))","v":548373.97380814061},{"$f":"IF('III Tool Overview'!$H$6=\"Western Isles Health Board\",0,IF('III Tool Overview'!$H$6=\"Eilean Siar Local Authority\",0,new_yll(5,B274,C274,D274,$C$1,G274+H274,1,F274,F274,SIMDrateratios,RateRatios!$B$3)*1000))","v":548367.95877968543},6.0150284551782534,{"$f":"IF('III Tool Overview'!$H$6=\"Western Isles Health Board\",0,IF('III Tool Overview'!$H$6=\"Eilean Siar Local Authority\",0,new_yll(10,B274,C274,D274,$C$1,G274,1,F274,F274,SIMDrateratios,RateRatios!$B$3)*10))","v":12654.126041021009},{"$f":"IF('III Tool Overview'!$H$6=\"Western Isles Health Board\",0,IF('III Tool Overview'!$H$6=\"Eilean Siar Local Authority\",0,new_yll(10,B274,C274,D274,$C$1,G274+H274,1,F274,F274,SIMDrateratios,RateRatios!$B$3)*10))","v":12653.99247086544},0.13357015556903207,{"$f":"IF('III Tool Overview'!$H$6=\"Western Isles Health Board\",0,IF('III Tool Overview'!$H$6=\"Eilean Siar Local Authority\",0,new_yll(20,B274,C274,D274,$C$1,G274,1,F274,F274,SIMDrateratios,RateRatios!$B$3)*10))","v":25408.19982974754},{"$f":"IF('III Tool Overview'!$H$6=\"Western Isles Health Board\",0,IF('III Tool Overview'!$H$6=\"Eilean Siar Local Authority\",0,new_yll(20,B274,C274,D274,$C$1,G274+H274,1,F274,F274,SIMDrateratios,RateRatios!$B$3)*10))","v":25407.958716272136},0.24111347540383576,{"$f":"IF('III Tool Overview'!$H$6=\"Western Isles Health Board\",0,IF('III Tool Overview'!$H$6=\"Eilean Siar Local Authority\",0,hosp_count(2,B274,C274,D274,$C$1,G274,1,F274,F274,SIMDRateRatios_hosp,SIMDrateratios,RateRatios!$B$3)*10))","v":1334.7944592714668},{"$f":"IF('III Tool Overview'!$H$6=\"Western Isles Health Board\",0,IF('III Tool Overview'!$H$6=\"Eilean Siar Local Authority\",0,hosp_count(2,B274,C274,D274,$C$1,G274+H274,1,F274,F274,SIMDRateRatios_hosp,SIMDrateratios,RateRatios!$B$3)*10))","v":1334.7827999868414},1.1659284625466171E-2,{"$f":"IF('III Tool Overview'!$H$6=\"Western Isles Health Board\",0,IF('III Tool Overview'!$H$6=\"Eilean Siar Local Authority\",0,hosp_count(5,B274,C274,D274,$C$1,G274,1,F274,F274,SIMDRateRatios_hosp,SIMDrateratios,RateRatios!$B$3)*1000))","v":545894.70668385096},{"$f":"IF('III Tool Overview'!$H$6=\"Western Isles Health Board\",0,IF('III Tool Overview'!$H$6=\"Eilean Siar Local Authority\",0,hosp_count(5,B274,C274,D274,$C$1,G274+H274,1,F274,F274,SIMDRateRatios_hosp,SIMDrateratios,RateRatios!$B$3)*1000))","v":545890.0462365984},4.6604472525650635,{"$f":"IF('III Tool Overview'!$H$6=\"Western Isles Health Board\",0,IF('III Tool Overview'!$H$6=\"Eilean Siar Local Authority\",0,hosp_count(10,B274,C274,D274,$C$1,G274,1,F274,F274,SIMDRateRatios_hosp,SIMDrateratios,RateRatios!$B$3)*10))","v":12671.298470298909},{"$f":"IF('III Tool Overview'!$H$6=\"Western Isles Health Board\",0,IF('III Tool Overview'!$H$6=\"Eilean Siar Local Authority\",0,hosp_count(10,B274,C274,D274,$C$1,G274+H274,1,F274,F274,SIMDRateRatios_hosp,SIMDrateratios,RateRatios!$B$3)*10))","v":12671.195395719813},0.10307457909584627,{"$f":"IF('III Tool Overview'!$H$6=\"Western Isles Health Board\",0,IF('III Tool Overview'!$H$6=\"Eilean Siar Local Authority\",0,hosp_count(20,B274,C274,D274,$C$1,G274,1,F274,F274,SIMDRateRatios_hosp,SIMDrateratios,RateRatios!$B$3)*10))","v":27587.636582810621},{"$f":"IF('III Tool Overview'!$H$6=\"Western Isles Health Board\",0,IF('III Tool Overview'!$H$6=\"Eilean Siar Local Authority\",0,hosp_count(20,B274,C274,D274,$C$1,G274+H274,1,F274,F274,SIMDRateRatios_hosp,SIMDrateratios,RateRatios!$B$3)*10))","v":27587.444039307244},0.19254350337723736]
["Female 75-79",77.5,"female",5,1,{"$f":"HLOOKUP('III Tool Overview'!$H$6,LookUpData_Pop!$B$1:$AV$269,LookUpData_Pop!BB267,FALSE)/50","v":374.86},{"$f":"'III Tool Overview'!$H$9/110","v":0},374.86,{"$f":"IF('III Tool Overview'!$H$6=\"Western Isles Health Board\",0,IF('III Tool Overview'!$H$6=\"Eilean Siar Local Authority\",0,new_ci(2,B275,C275,D275,$C$1,G275,1,F275,E275*F275,SIMDrateratios,RateRatios!$B$3)*10))","v":67.150988797372861},{"$f":"IF('III Tool Overview'!$H$6=\"Western Isles Health Board\",0,IF('III Tool Overview'!$H$6=\"Eilean Siar Local Authority\",0,new_ci(2,B275,C275,D275,$C$1,G275+H275,1,H275,H275,SIMDrateratios,RateRatios!$B$3)*10))","v":67.150240926373982},{"$f":"IF('III Tool Overview'!$H$6=\"Western Isles Health Board\",0,IF('III Tool Overview'!$H$6=\"Eilean Siar Local Authority\",0,new_ci(5,B275,C275,D275,$C$1,G275,1,F275,F275,SIMDrateratios,RateRatios!$B$3)*1000))","v":28921.642484407104},{"$f":"IF('III Tool Overview'!$H$6=\"Western Isles Health Board\",0,IF('III Tool Overview'!$H$6=\"Eilean Siar Local Authority\",0,new_ci(5,B275,C275,D275,$C$1,H275,1,F275,F275,SIMDrateratios,RateRatios!$B$3)*1000))","v":28921.330324868595},{"$f":"IF('III Tool Overview'!$H$6=\"Western Isles Health Board\",0,IF('III Tool Overview'!$H$6=\"Eilean Siar Local Authority\",0,new_ci(10,B275,C275,D275,$C$1,G275,1,F275,F275,SIMDrateratios,RateRatios!$B$3)*10))","v":730.58705961036367},{"$f":"IF('III Tool Overview'!$H$6=\"Western Isles Health Board\",0,IF('III Tool Overview'!$H$6=\"Eilean Siar Local Authority\",0,new_ci(10,B275,C275,D275,$C$1,G275+H275,1,F275,F275,SIMDrateratios,RateRatios!$B$3)*10))","v":730.57970679376899},{"$f":"IF('III Tool Overview'!$H$6=\"Western Isles Health Board\",0,IF('III Tool Overview'!$H$6=\"Eilean Siar Local Authority\",0,new_ci(20,B275,C275,D275,$C$1,G275,1,F275,F275,SIMDrateratios,RateRatios!$B$3)*10))","v":1845.2009747611951},{"$f":"IF('III Tool Overview'!$H$6=\"Western Isles Health Board\",0,IF('III Tool Overview'!$H$6=\"Eilean Siar Local Authority\",0,new_ci(20,B275,C275,D275,$C$1,G275+H275,1,F275,F275,SIMDrateratios,RateRatios!$B$3)*10))","v":1845.1864770087359},{"$f":"IF('III Tool Overview'!$H$6=\"Western Isles Health Board\",0,IF('III Tool Overview'!$H$6=\"Eilean Siar Local Authority\",0,new_yll(2,B275,C275,D275,$C$1,G275,1,F275,F275,SIMDrateratios,RateRatios!$B$3)*10))","v":1410.17076474483},{"$f":"IF('III Tool Overview'!$H$6=\"Western Isles Health Board\",0,IF('III Tool Overview'!$H$6=\"Eilean Siar Local Authority\",0,new_yll(2,B275,C275,D275,$C$1,G275+H275,1,F275,F275,SIMDrateratios,RateRatios!$B$3)*10))","v":1410.1550594538535},1.5705290976484321E-2,{"$f":"IF('III Tool Overview'!$H$6=\"Western Isles Health Board\",0,IF('III Tool Overview'!$H$6=\"Eilean Siar Local Authority\",0,new_yll(5,B275,C275,D275,$C$1,G275,1,F275,F275,SIMDrateratios,RateRatios!$B$3)*1000))","v":562242.91410523804},{"$f":"IF('III Tool Overview'!$H$6=\"Western Isles Health Board\",0,IF('III Tool Overview'!$H$6=\"Eilean Siar Local Authority\",0,new_yll(5,B275,C275,D275,$C$1,G275+H275,1,F275,F275,SIMDrateratios,RateRatios!$B$3)*1000))","v":562236.83752071252},6.0765845255227759,{"$f":"IF('III Tool Overview'!$H$6=\"Western Isles Health Board\",0,IF('III Tool Overview'!$H$6=\"Eilean Siar Local Authority\",0,new_yll(10,B275,C275,D275,$C$1,G275,1,F275,F275,SIMDrateratios,RateRatios!$B$3)*10))","v":12207.143658657498},{"$f":"IF('III Tool Overview'!$H$6=\"Western Isles Health Board\",0,IF('III Tool Overview'!$H$6=\"Eilean Siar Local Authority\",0,new_yll(10,B275,C275,D275,$C$1,G275+H275,1,F275,F275,SIMDrateratios,RateRatios!$B$3)*10))","v":12207.019498238033},0.12416041946562473,{"$f":"IF('III Tool Overview'!$H$6=\"Western Isles Health Board\",0,IF('III Tool Overview'!$H$6=\"Eilean Siar Local Authority\",0,new_yll(20,B275,C275,D275,$C$1,G275,1,F275,F275,SIMDrateratios,RateRatios!$B$3)*10))","v":20364.846550580605},{"$f":"IF('III Tool Overview'!$H$6=\"Western Isles Health Board\",0,IF('III Tool Overview'!$H$6=\"Eilean Siar Local Authority\",0,new_yll(20,B275,C275,D275,$C$1,G275+H275,1,F275,F275,SIMDrateratios,RateRatios!$B$3)*10))","v":20364.665407093678},0.18114348692688509,{"$f":"IF('III Tool Overview'!$H$6=\"Western Isles Health Board\",0,IF('III Tool Overview'!$H$6=\"Eilean Siar Local Authority\",0,hosp_count(2,B275,C275,D275,$C$1,G275,1,F275,F275,SIMDRateRatios_hosp,SIMDrateratios,RateRatios!$B$3)*10))","v":1289.2887300715138},{"$f":"IF('III Tool Overview'!$H$6=\"Western Isles Health Board\",0,IF('III Tool Overview'!$H$6=\"Eilean Siar Local Authority\",0,hosp_count(2,B275,C275,D275,$C$1,G275+H275,1,F275,F275,SIMDRateRatios_hosp,SIMDrateratios,RateRatios!$B$3)*10))","v":1289.2774655706494},1.1264500864399452E-2,{"$f":"IF('III Tool Overview'!$H$6=\"Western Isles Health Board\",0,IF('III Tool Overview'!$H$6=\"Eilean Siar Local Authority\",0,hosp_count(5,B275,C275,D275,$C$1,G275,1,F275,F275,SIMDRateRatios_hosp,SIMDrateratios,RateRatios!$B$3)*1000))","v":521447.13589343155},{"$f":"IF('III Tool Overview'!$H$6=\"Western Isles Health Board\",0,IF('III Tool Overview'!$H$6=\"Eilean Siar Local Authority\",0,hosp_count(5,B275,C275,D275,$C$1,G275+H275,1,F275,F275,SIMDRateRatios_hosp,SIMDrateratios,RateRatios!$B$3)*1000))","v":521442.74746480345},4.3884286280954257,{"$f":"IF('III Tool Overview'!$H$6=\"Western Isles Health Board\",0,IF('III Tool Overview'!$H$6=\"Eilean Siar Local Authority\",0,hosp_count(10,B275,C275,D275,$C$1,G275,1,F275,F275,SIMDRateRatios_hosp,SIMDrateratios,RateRatios!$B$3)*10))","v":11834.246993088755},{"$f":"IF('III Tool Overview'!$H$6=\"Western Isles Health Board\",0,IF('III Tool Overview'!$H$6=\"Eilean Siar Local Authority\",0,hosp_count(10,B275,C275,D275,$C$1,G275+H275,1,F275,F275,SIMDRateRatios_hosp,SIMDrateratios,RateRatios!$B$3)*10))","v":11834.155031247807},9.1961840947988094E-2,{"$f":"IF('III Tool Overview'!$H$6=\"Western Isles Health Board\",0,IF('III Tool Overview'!$H$6=\"Eilean Siar Local Authority\",0,hosp_count(20,B275,C275,D275,$C$1,G275,1,F275,F275,SIMDRateRatios_hosp,SIMDrateratios,RateRatios!$B$3)*10))","v":24192.652254622277},{"$f":"IF('III Tool Overview'!$H$6=\"Western Isles Health Board\",0,IF('III Tool Overview'!$H$6=\"Eilean Siar Local Authority\",0,hosp_count(20,B275,C275,D275,$C$1,G275+H275,1,F275,F275,SIMDRateRatios_hosp,SIMDrateratios,RateRatios!$B$3)*10))","v":24192.506762115612},0.14549250666459557]
["Female 80-84",82.5,"female",5,1,{"$f":"HLOOKUP('III Tool Overview'!$H$6,LookUpData_Pop!$B$1:$AV$269,LookUpData_Pop!BB268,FALSE)/50","v":283.02},{"$f":"'III Tool Overview'!$H$9/110","v":0},283.02,{"$f":"IF('III Tool Overview'!$H$6=\"Western Isles Health Board\",0,IF('III Tool Overview'!$H$6=\"Eilean Siar Local Authority\",0,new_ci(2,B276,C276,D276,$C$1,G276,1,F276,E276*F276,SIMDrateratios,RateRatios!$B$3)*10))","v":70.114281022776723},{"$f":"IF('III Tool Overview'!$H$6=\"Western Isles Health Board\",0,IF('III Tool Overview'!$H$6=\"Eilean Siar Local Authority\",0,new_ci(2,B276,C276,D276,$C$1,G276+H276,1,H276,H276,SIMDrateratios,RateRatios!$B$3)*10))","v":70.113503236409201},{"$f":"IF('III Tool Overview'!$H$6=\"Western Isles Health Board\",0,IF('III Tool Overview'!$H$6=\"Eilean Siar Local Authority\",0,new_ci(5,B276,C276,D276,$C$1,G276,1,F276,F276,SIMDrateratios,RateRatios!$B$3)*1000))","v":29842.867047243704},{"$f":"IF('III Tool Overview'!$H$6=\"Western Isles Health Board\",0,IF('III Tool Overview'!$H$6=\"Eilean Siar Local Authority\",0,new_ci(5,B276,C276,D276,$C$1,H276,1,F276,F276,SIMDrateratios,RateRatios!$B$3)*1000))","v":29842.550139915773},{"$f":"IF('III Tool Overview'!$H$6=\"Western Isles Health Board\",0,IF('III Tool Overview'!$H$6=\"Eilean Siar Local Authority\",0,new_ci(10,B276,C276,D276,$C$1,G276,1,F276,F276,SIMDrateratios,RateRatios!$B$3)*10))","v":735.3169268587543},{"$f":"IF('III Tool Overview'!$H$6=\"Western Isles Health Board\",0,IF('III Tool Overview'!$H$6=\"Eilean Siar Local Authority\",0,new_ci(10,B276,C276,D276,$C$1,G276+H276,1,F276,F276,SIMDrateratios,RateRatios!$B$3)*10))","v":735.30984703468744},{"$f":"IF('III Tool Overview'!$H$6=\"Western Isles Health Board\",0,IF('III Tool Overview'!$H$6=\"Eilean Siar Local Authority\",0,new_ci(20,B276,C276,D276,$C$1,G276,1,F276,F276,SIMDrateratios,RateRatios!$B$3)*10))","v":1725.2642049999645},{"$f":"IF('III Tool Overview'!$H$6=\"Western Isles Health Board\",0,IF('III Tool Overview'!$H$6=\"Eilean Siar Local Authority\",0,new_ci(20,B276,C276,D276,$C$1,G276+H276,1,F276,F276,SIMDrateratios,RateRatios!$B$3)*10))","v":1725.2525304980973},{"$f":"IF('III Tool Overview'!$H$6=\"Western Isles Health Board\",0,IF('III Tool Overview'!$H$6=\"Eilean Siar Local Authority\",0,new_yll(2,B276,C276,D276,$C$1,G276,1,F276,F276,SIMDrateratios,RateRatios!$B$3)*10))","v":1191.9427773872044},{"$f":"IF('III Tool Overview'!$H$6=\"Western Isles Health Board\",0,IF('III Tool Overview'!$H$6=\"Eilean Siar Local Authority\",0,new_yll(2,B276,C276,D276,$C$1,G276+H276,1,F276,F276,SIMDrateratios,RateRatios!$B$3)*10))","v":1191.9295550189565},1.3222368247852501E-2,{"$f":"IF('III Tool Overview'!$H$6=\"Western Isles Health Board\",0,IF('III Tool Overview'!$H$6=\"Eilean Siar Local Authority\",0,new_yll(5,B276,C276,D276,$C$1,G276,1,F276,F276,SIMDrateratios,RateRatios!$B$3)*1000))","v":461069.95497793303},{"$f":"IF('III Tool Overview'!$H$6=\"Western Isles Health Board\",0,IF('III Tool Overview'!$H$6=\"Eilean Siar Local Authority\",0,new_yll(5,B276,C276,D276,$C$1,G276+H276,1,F276,F276,SIMDrateratios,RateRatios!$B$3)*1000))","v":461065.04713774822},4.9078401848091744,{"$f":"IF('III Tool Overview'!$H$6=\"Western Isles Health Board\",0,IF('III Tool Overview'!$H$6=\"Eilean Siar Local Authority\",0,new_yll(10,B276,C276,D276,$C$1,G276,1,F276,F276,SIMDrateratios,RateRatios!$B$3)*10))","v":9390.2069504536885},{"$f":"IF('III Tool Overview'!$H$6=\"Western Isles Health Board\",0,IF('III Tool Overview'!$H$6=\"Eilean Siar Local Authority\",0,new_yll(10,B276,C276,D276,$C$1,G276+H276,1,F276,F276,SIMDrateratios,RateRatios!$B$3)*10))","v":9390.1147183681478},9.2232085540672415E-2,{"$f":"IF('III Tool Overview'!$H$6=\"Western Isles Health Board\",0,IF('III Tool Overview'!$H$6=\"Eilean Siar Local Authority\",0,new_yll(20,B276,C276,D276,$C$1,G276,1,F276,F276,SIMDrateratios,RateRatios!$B$3)*10))","v":12819.079847142155},{"$f":"IF('III Tool Overview'!$H$6=\"Western Isles Health Board\",0,IF('III Tool Overview'!$H$6=\"Eilean Siar Local Authority\",0,new_yll(20,B276,C276,D276,$C$1,G276+H276,1,F276,F276,SIMDrateratios,RateRatios!$B$3)*10))","v":12818.965954145642},0.11389299651273177,{"$f":"IF('III Tool Overview'!$H$6=\"Western Isles Health Board\",0,IF('III Tool Overview'!$H$6=\"Eilean Siar Local Authority\",0,hosp_count(2,B276,C276,D276,$C$1,G276,1,F276,F276,SIMDRateRatios_hosp,SIMDrateratios,RateRatios!$B$3)*10))","v":1074.2674289677061},{"$f":"IF('III Tool Overview'!$H$6=\"Western Isles Health Board\",0,IF('III Tool Overview'!$H$6=\"Eilean Siar Local Authority\",0,hosp_count(2,B276,C276,D276,$C$1,G276+H276,1,F276,F276,SIMDRateRatios_hosp,SIMDrateratios,RateRatios!$B$3)*10))","v":1074.2580472725585},9.3816951475673704E-3,{"$f":"IF('III Tool Overview'!$H$6=\"Western Isles Health Board\",0,IF('III Tool Overview'!$H$6=\"Eilean Siar Local Authority\",0,hosp_count(5,B276,C276,D276,$C$1,G276,1,F276,F276,SIMDRateRatios_hosp,SIMDrateratios,RateRatios!$B$3)*1000))","v":429710.1289874271},{"$f":"IF('III Tool Overview'!$H$6=\"Western Isles Health Board\",0,IF('III Tool Overview'!$H$6=\"Eilean Siar Local Authority\",0,hosp_count(5,B276,C276,D276,$C$1,G276+H276,1,F276,F276,SIMDRateRatios_hosp,SIMDrateratios,RateRatios!$B$3)*1000))","v":429706.56647826609},3.5625091610127129,{"$f":"IF('III Tool Overview'!$H$6=\"Western Isles Health Board\",0,IF('III Tool Overview'!$H$6=\"Eilean Siar Local Authority\",0,hosp_count(10,B276,C276,D276,$C$1,G276,1,F276,F276,SIMDRateRatios_hosp,SIMDrateratios,RateRatios!$B$3)*10))","v":9539.8356212876388},{"$f":"IF('III Tool Overview'!$H$6=\"Western Isles Health Board\",0,IF('III Tool Overview'!$H$6=\"Eilean Siar Local Authority\",0,hosp_count(10,B276,C276,D276,$C$1,G276+H276,1,F276,F276,SIMDRateRatios_hosp,SIMDrateratios,RateRatios!$B$3)*10))","v":9539.7648886426814},7.0732644957388402E-2,{"$f":"IF('III Tool Overview'!$H$6=\"Western Isles Health Board\",0,IF('III Tool Overview'!$H$6=\"Eilean Siar Local Authority\",0,hosp_count(20,B276,C276,D276,$C$1,G276,1,F276,F276,SIMDRateRatios_hosp,SIMDrateratios,RateRatios!$B$3)*10))","v":18395.551608271238},{"$f":"IF('III Tool Overview'!$H$6=\"Western Isles Health Board\",0,IF('III Tool Overview'!$H$6=\"Eilean Siar Local Authority\",0,hosp_count(20,B276,C276,D276,$C$1,G276+H276,1,F276,F276,SIMDRateRatios_hosp,SIMDrateratios,RateRatios!$B$3)*10))","v":18395.456809686519},9.4798584719683276E-2]
["Female 85-89",87.5,"female",5,1,{"$f":"HLOOKUP('III Tool Overview'!$H$6,LookUpData_Pop!$B$1:$AV$269,LookUpData_Pop!BB269,FALSE)/50","v":171.58},{"$f":"'III Tool Overview'!$H$9/110","v":0},171.58,{"$f":"IF('III Tool Overview'!$H$6=\"Western Isles Health Board\",0,IF('III Tool Overview'!$H$6=\"Eilean Siar Local Authority\",0,new_ci(2,B277,C277,D277,$C$1,G277,1,F277,E277*F277,SIMDrateratios,RateRatios!$B$3)*10))","v":68.944683595662141},{"$f":"IF('III Tool Overview'!$H$6=\"Western Isles Health Board\",0,IF('III Tool Overview'!$H$6=\"Eilean Siar Local Authority\",0,new_ci(2,B277,C277,D277,$C$1,G277+H277,1,H277,H277,SIMDrateratios,RateRatios!$B$3)*10))","v":68.943922972126785},{"$f":"IF('III Tool Overview'!$H$6=\"Western Isles Health Board\",0,IF('III Tool Overview'!$H$6=\"Eilean Siar Local Authority\",0,new_ci(5,B277,C277,D277,$C$1,G277,1,F277,F277,SIMDrateratios,RateRatios!$B$3)*1000))","v":28575.131119121081},{"$f":"IF('III Tool Overview'!$H$6=\"Western Isles Health Board\",0,IF('III Tool Overview'!$H$6=\"Eilean Siar Local Authority\",0,new_ci(5,B277,C277,D277,$C$1,H277,1,F277,F277,SIMDrateratios,RateRatios!$B$3)*1000))","v":28574.837735869096},{"$f":"IF('III Tool Overview'!$H$6=\"Western Isles Health Board\",0,IF('III Tool Overview'!$H$6=\"Eilean Siar Local Authority\",0,new_ci(10,B277,C277,D277,$C$1,G277,1,F277,F277,SIMDrateratios,RateRatios!$B$3)*10))","v":666.59947985408849},{"$f":"IF('III Tool Overview'!$H$6=\"Western Isles Health Board\",0,IF('III Tool Overview'!$H$6=\"Eilean Siar Local Authority\",0,new_ci(10,B277,C277,D277,$C$1,G277+H277,1,F277,F277,SIMDrateratios,RateRatios!$B$3)*10))","v":666.59366822139123},{"$f":"IF('III Tool Overview'!$H$6=\"Western Isles Health Board\",0,IF('III Tool Overview'!$H$6=\"Eilean Siar Local Authority\",0,new_ci(20,B277,C277,D277,$C$1,G277,1,F277,F277,SIMDrateratios,RateRatios!$B$3)*10))","v":1347.1166110020808},{"$f":"IF('III Tool Overview'!$H$6=\"Western Isles Health Board\",0,IF('III Tool Overview'!$H$6=\"Eilean Siar Local Authority\",0,new_ci(20,B277,C277,D277,$C$1,G277+H277,1,F277,F277,SIMDrateratios,RateRatios!$B$3)*10))","v":1347.1102264143212},{"$f":"IF('III Tool Overview'!$H$6=\"Western Isles Health Board\",0,IF('III Tool Overview'!$H$6=\"Eilean Siar Local Authority\",0,new_yll(2,B277,C277,D277,$C$1,G277,1,F277,F277,SIMDrateratios,RateRatios!$B$3)*10))","v":758.39151955228363},{"$f":"IF('III Tool Overview'!$H$6=\"Western Isles Health Board\",0,IF('III Tool Overview'!$H$6=\"Eilean Siar Local Authority\",0,new_yll(2,B277,C277,D277,$C$1,G277+H277,1,F277,F277,SIMDrateratios,RateRatios!$B$3)*10))","v":758.38315269339455},8.3668588890759565E-3,{"$f":"IF('III Tool Overview'!$H$6=\"Western Isles Health Board\",0,IF('III Tool Overview'!$H$6=\"Eilean Siar Local Authority\",0,new_yll(5,B277,C277,D277,$C$1,G277,1,F277,F277,SIMDrateratios,RateRatios!$B$3)*1000))","v":270662.98660620366},{"$f":"IF('III Tool Overview'!$H$6=\"Western Isles Health Board\",0,IF('III Tool Overview'!$H$6=\"Eilean Siar Local Authority\",0,new_yll(5,B277,C277,D277,$C$1,G277+H277,1,F277,F277,SIMDrateratios,RateRatios!$B$3)*1000))","v":270660.18941269704},2.7971935066161677,{"$f":"IF('III Tool Overview'!$H$6=\"Western Isles Health Board\",0,IF('III Tool Overview'!$H$6=\"Eilean Siar Local Authority\",0,new_yll(10,B277,C277,D277,$C$1,G277,1,F277,F277,SIMDrateratios,RateRatios!$B$3)*10))","v":4606.219860632762},{"$f":"IF('III Tool Overview'!$H$6=\"Western Isles Health Board\",0,IF('III Tool Overview'!$H$6=\"Eilean Siar Local Authority\",0,new_yll(10,B277,C277,D277,$C$1,G277+H277,1,F277,F277,SIMDrateratios,RateRatios!$B$3)*10))","v":4606.1770062146215},4.2854418140450434E-2,{"$f":"IF('III Tool Overview'!$H$6=\"Western Isles Health Board\",0,IF('III Tool Overview'!$H$6=\"Eilean Siar Local Authority\",0,new_yll(20,B277,C277,D277,$C$1,G277,1,F277,F277,SIMDrateratios,RateRatios!$B$3)*10))","v":3101.0894931656148},{"$f":"IF('III Tool Overview'!$H$6=\"Western Isles Health Board\",0,IF('III Tool Overview'!$H$6=\"Eilean Siar Local Authority\",0,new_yll(20,B277,C277,D277,$C$1,G277+H277,1,F277,F277,SIMDrateratios,RateRatios!$B$3)*10))","v":3101.0415857670214},4.7907398593451944E-2,{"$f":"IF('III Tool Overview'!$H$6=\"Western Isles Health Board\",0,IF('III Tool Overview'!$H$6=\"Eilean Siar Local Authority\",0,hosp_count(2,B277,C277,D277,$C$1,G277,1,F277,F277,SIMDRateRatios_hosp,SIMDrateratios,RateRatios!$B$3)*10))","v":755.06308755642419},{"$f":"IF('III Tool Overview'!$H$6=\"Western Isles Health Board\",0,IF('III Tool Overview'!$H$6=\"Eilean Siar Local Authority\",0,hosp_count(2,B277,C277,D277,$C$1,G277+H277,1,F277,F277,SIMDRateRatios_hosp,SIMDrateratios,RateRatios!$B$3)*10))","v":755.05647689944806},6.6106569761359424E-3,{"$f":"IF('III Tool Overview'!$H$6=\"Western Isles Health Board\",0,IF('III Tool Overview'!$H$6=\"Eilean Siar Local Authority\",0,hosp_count(5,B277,C277,D277,$C$1,G277,1,F277,F277,SIMDRateRatios_hosp,SIMDrateratios,RateRatios!$B$3)*1000))","v":294619.5028379765},{"$f":"IF('III Tool Overview'!$H$6=\"Western Isles Health Board\",0,IF('III Tool Overview'!$H$6=\"Eilean Siar Local Authority\",0,hosp_count(5,B277,C277,D277,$C$1,G277+H277,1,F277,F277,SIMDRateRatios_hosp,SIMDrateratios,RateRatios!$B$3)*1000))","v":294617.13403308752},2.3688048889744096,{"$f":"IF('III Tool Overview'!$H$6=\"Western Isles Health Board\",0,IF('III Tool Overview'!$H$6=\"Eilean Siar Local Authority\",0,hosp_count(10,B277,C277,D277,$C$1,G277,1,F277,F277,SIMDRateRatios_hosp,SIMDrateratios,RateRatios!$B$3)*10))","v":6232.223642813804},{"$f":"IF('III Tool Overview'!$H$6=\"Western Isles Health Board\",0,IF('III Tool Overview'!$H$6=\"Eilean Siar Local Authority\",0,hosp_count(10,B277,C277,D277,$C$1,G277+H277,1,F277,F277,SIMDRateRatios_hosp,SIMDrateratios,RateRatios!$B$3)*10))","v":6232.1820521755108},4.1590638293200755E-2,{"$f":"IF('III Tool Overview'!$H$6=\"Western Isles Health Board\",0,IF('III Tool Overview'!$H$6=\"Eilean Siar Local Authority\",0,hosp_count(20,B277,C277,D277,$C$1,G277,1,F277,F277,SIMDRateRatios_hosp,SIMDrateratios,RateRatios!$B$3)*10))","v":10689.305218651305},{"$f":"IF('III Tool Overview'!$H$6=\"Western Isles Health Board\",0,IF('III Tool Overview'!$H$6=\"Eilean Siar Local Authority\",0,hosp_count(20,B277,C277,D277,$C$1,G277+H277,1,F277,F277,SIMDRateRatios_hosp,SIMDrateratios,RateRatios!$B$3)*10))","v":10689.267010077117},3.8208574187592603E-2]
["Female 90+",95,"female",5,1,{"$f":"HLOOKUP('III Tool Overview'!$H$6,LookUpData_Pop!$B$1:$AV$269,LookUpData_Pop!BB270,FALSE)/50","v":92.18},{"$f":"'III Tool Overview'!$H$9/110","v":0},92.18,{"$f":"IF('III Tool Overview'!$H$6=\"Western Isles Health Board\",0,IF('III Tool Overview'!$H$6=\"Eilean Siar Local Authority\",0,new_ci(2,B278,C278,D278,$C$1,G278,1,F278,E278*F278,SIMDrateratios,RateRatios!$B$3)*10))","v":64.699950857851718},{"$f":"IF('III Tool Overview'!$H$6=\"Western Isles Health Board\",0,IF('III Tool Overview'!$H$6=\"Eilean Siar Local Authority\",0,new_ci(2,B278,C278,D278,$C$1,G278+H278,1,H278,H278,SIMDrateratios,RateRatios!$B$3)*10))","v":64.699251499174949},{"$f":"IF('III Tool Overview'!$H$6=\"Western Isles Health Board\",0,IF('III Tool Overview'!$H$6=\"Eilean Siar Local Authority\",0,new_ci(5,B278,C278,D278,$C$1,G278,1,F278,F278,SIMDrateratios,RateRatios!$B$3)*1000))","v":25461.035780819977},{"$f":"IF('III Tool Overview'!$H$6=\"Western Isles Health Board\",0,IF('III Tool Overview'!$H$6=\"Eilean Siar Local Authority\",0,new_ci(5,B278,C278,D278,$C$1,H278,1,F278,F278,SIMDrateratios,RateRatios!$B$3)*1000))","v":25460.793963061904},{"$f":"IF('III Tool Overview'!$H$6=\"Western Isles Health Board\",0,IF('III Tool Overview'!$H$6=\"Eilean Siar Local Authority\",0,new_ci(10,B278,C278,D278,$C$1,G278,1,F278,F278,SIMDrateratios,RateRatios!$B$3)*10))","v":536.67752509586853},{"$f":"IF('III Tool Overview'!$H$6=\"Western Isles Health Board\",0,IF('III Tool Overview'!$H$6=\"Eilean Siar Local Authority\",0,new_ci(10,B278,C278,D278,$C$1,G278+H278,1,F278,F278,SIMDrateratios,RateRatios!$B$3)*10))","v":536.67375637900329},{"$f":"IF('III Tool Overview'!$H$6=\"Western Isles Health Board\",0,IF('III Tool Overview'!$H$6=\"Eilean Siar Local Authority\",0,new_ci(20,B278,C278,D278,$C$1,G278,1,F278,F278,SIMDrateratios,RateRatios!$B$3)*10))","v":861.59491567919031},{"$f":"IF('III Tool Overview'!$H$6=\"Western Isles Health Board\",0,IF('III Tool Overview'!$H$6=\"Eilean Siar Local Authority\",0,new_ci(20,B278,C278,D278,$C$1,G278+H278,1,F278,F278,SIMDrateratios,RateRatios!$B$3)*10))","v":861.59307376488482},{"$f":"IF('III Tool Overview'!$H$6=\"Western Isles Health Board\",0,IF('III Tool Overview'!$H$6=\"Eilean Siar Local Authority\",0,new_yll(2,B278,C278,D278,$C$1,G278,1,F278,F278,SIMDrateratios,RateRatios!$B$3)*10))","v":258.79980343140687},{"$f":"IF('III Tool Overview'!$H$6=\"Western Isles Health Board\",0,IF('III Tool Overview'!$H$6=\"Eilean Siar Local Authority\",0,new_yll(2,B278,C278,D278,$C$1,G278+H278,1,F278,F278,SIMDrateratios,RateRatios!$B$3)*10))","v":258.7970059966998},2.797434707076718E-3,{"$f":"IF('III Tool Overview'!$H$6=\"Western Isles Health Board\",0,IF('III Tool Overview'!$H$6=\"Eilean Siar Local Authority\",0,new_yll(5,B278,C278,D278,$C$1,G278,1,F278,F278,SIMDrateratios,RateRatios!$B$3)*1000))","v":64057.902209450956},{"$f":"IF('III Tool Overview'!$H$6=\"Western Isles Health Board\",0,IF('III Tool Overview'!$H$6=\"Eilean Siar Local Authority\",0,new_yll(5,B278,C278,D278,$C$1,G278+H278,1,F278,F278,SIMDrateratios,RateRatios!$B$3)*1000))","v":64057.265107896783},0.63710155417356873,{"$f":"IF('III Tool Overview'!$H$6=\"Western Isles Health Board\",0,IF('III Tool Overview'!$H$6=\"Eilean Siar Local Authority\",0,new_yll(10,B278,C278,D278,$C$1,G278,1,F278,F278,SIMDrateratios,RateRatios!$B$3)*10))","v":99.83957336631498},{"$f":"IF('III Tool Overview'!$H$6=\"Western Isles Health Board\",0,IF('III Tool Overview'!$H$6=\"Eilean Siar Local Authority\",0,new_yll(10,B278,C278,D278,$C$1,G278+H278,1,F278,F278,SIMDrateratios,RateRatios!$B$3)*10))","v":99.835104760366704},4.4686059482756946E-3,{"$f":"IF('III Tool Overview'!$H$6=\"Western Isles Health Board\",0,IF('III Tool Overview'!$H$6=\"Eilean Siar Local Authority\",0,new_yll(20,B278,C278,D278,$C$1,G278,1,F278,F278,SIMDrateratios,RateRatios!$B$3)*10))","v":-2694.0200410855223},{"$f":"IF('III Tool Overview'!$H$6=\"Western Isles Health Board\",0,IF('III Tool Overview'!$H$6=\"Eilean Siar Local Authority\",0,new_yll(20,B278,C278,D278,$C$1,G278+H278,1,F278,F278,SIMDrateratios,RateRatios!$B$3)*10))","v":-2694.0459418768123},2.5900791290041525E-2,{"$f":"IF('III Tool Overview'!$H$6=\"Western Isles Health Board\",0,IF('III Tool Overview'!$H$6=\"Eilean Siar Local Authority\",0,hosp_count(2,B278,C278,D278,$C$1,G278,1,F278,F278,SIMDRateRatios_hosp,SIMDrateratios,RateRatios!$B$3)*10))","v":482.03450087047327},{"$f":"IF('III Tool Overview'!$H$6=\"Western Isles Health Board\",0,IF('III Tool Overview'!$H$6=\"Eilean Siar Local Authority\",0,hosp_count(2,B278,C278,D278,$C$1,G278+H278,1,F278,F278,SIMDRateRatios_hosp,SIMDrateratios,RateRatios!$B$3)*10))","v":482.03029913365549},4.2017368177766912E-3,{"$f":"IF('III Tool Overview'!$H$6=\"Western Isles Health Board\",0,IF('III Tool Overview'!$H$6=\"Eilean Siar Local Authority\",0,hosp_count(5,B278,C278,D278,$C$1,G278,1,F278,F278,SIMDRateRatios_hosp,SIMDrateratios,RateRatios!$B$3)*1000))","v":179192.19537679834},{"$f":"IF('III Tool Overview'!$H$6=\"Western Isles Health Board\",0,IF('III Tool Overview'!$H$6=\"Eilean Siar Local Authority\",0,hosp_count(5,B278,C278,D278,$C$1,G278+H278,1,F278,F278,SIMDRateRatios_hosp,SIMDrateratios,RateRatios!$B$3)*1000))","v":179190.85308761551},1.3422891828231514,{"$f":"IF('III Tool Overview'!$H$6=\"Western Isles Health Board\",0,IF('III Tool Overview'!$H$6=\"Eilean Siar Local Authority\",0,hosp_count(10,B278,C278,D278,$C$1,G278,1,F278,F278,SIMDRateRatios_hosp,SIMDrateratios,RateRatios!$B$3)*10))","v":3466.5531789836596},{"$f":"IF('III Tool Overview'!$H$6=\"Western Isles Health Board\",0,IF('III Tool Overview'!$H$6=\"Eilean Siar Local Authority\",0,hosp_count(10,B278,C278,D278,$C$1,G278+H278,1,F278,F278,SIMDRateRatios_hosp,SIMDrateratios,RateRatios!$B$3)*10))","v":3466.534760782547},1.8418201112581301E-2,{"$f":"IF('III Tool Overview'!$H$6=\"Western Isles Health Board\",0,IF('III Tool Overview'!$H$6=\"Eilean Siar Local Authority\",0,hosp_count(20,B278,C278,D278,$C$1,G278,1,F278,F278,SIMDRateRatios_hosp,SIMDrateratios,RateRatios!$B$3)*10))","v":4978.9486118412324},{"$f":"IF('III Tool Overview'!$H$6=\"Western Isles Health Board\",0,IF('III Tool Overview'!$H$6=\"Eilean Siar Local Authority\",0,hosp_count(20,B278,C278,D278,$C$1,G278+H278,1,F278,F278,SIMDRateRatios_hosp,SIMDrateratios,RateRatios!$B$3)*10))","v":4978.9407386286912},7.8732125411988818E-3]
["TOTAL",null,null,null,null,{"$f":"SUM(F259:F278)","v":10633.240000000003},{"$f":"SUM(G259:G278)","v":0},{"$f":"SUM(H259:H278)","v":10633.240000000003},{"$f":"SUM(I259:I278)","v":472.43675707604024},{"$f":"SUM(J259:J278)","v":472.43151403772754},{"$f":"SUM(K259:K278)","v":201410.12716293472},{"$f":"SUM(L259:L278)","v":201407.98040695835},{"$f":"SUM(M259:M278)","v":5009.4442869007999},{"$f":"SUM(N259:N278)","v":5009.3948928632253},{"$f":"SUM(O259:O278)","v":12591.342105202721},{"$f":"SUM(P259:P278)","v":12591.238957605836},{"$f":"SUM(Q259:Q278)","v":11354.434821016552},{"$f":"SUM(R259:R278)","v":11354.308041621405},{"$f":"SUM(S259:S278)","v":0.12677939514361469},{"$f":"SUM(T259:T278)","v":4625222.4699844494},{"$f":"SUM(U259:U278)","v":4625171.7331468891},{"$f":"SUM(V259:V278)","v":50.73683756075684},{"$f":"SUM(W259:W278)","v":106323.85593737758},{"$f":"SUM(X259:X278)","v":106322.71710356163},{"$f":"SUM(Y259:Y278)","v":1.138833815945091},{"$f":"SUM(Z259:Z278)","v":227055.1643295206},{"$f":"SUM(AA259:AA278)","v":227052.76760930667},{"$f":"SUM(AB259:AB278)","v":2.3967202139969856},{"$f":"SUM(AC259:AC278)","v":17795.820530936384},{"$f":"SUM(AD259:AD278)","v":17795.665091550203},{"$f":"SUM(AE259:AE278)","v":0.15543938618280606},{"$f":"SUM(AF259:AF278)","v":7302784.6166112628},{"$f":"SUM(AG259:AG278)","v":7302721.9647603277},{"$f":"SUM(AH259:AH278)","v":62.651850935268158},{"$f":"SUM(AI259:AI278)","v":171044.06248075902},{"$f":"SUM(AJ259:AJ278)","v":171042.64223763408},{"$f":"SUM(AK259:AK278)","v":1.4202431250113818},{"$f":"SUM(AL259:AL278)","v":387244.41928407113},{"$f":"SUM(AM259:AM278)","v":387241.42919823161},{"$f":"SUM(AN259:AN278)","v":2.9900858395690193}]

{"sheet":"LookUpData_Pop","index":3,"n_rows":294,"n_cols":56,"rows_kept":294,"cut":false,"hidden":false,"merged":[]}
["POPULATION","Scotland","Ayrshire & Arran Health Board","Borders Health Board","Dumfries & Galloway Health Board","Fife Health Board","Forth Valley Health Board","Grampian Health Board","Greater Glasgow & Clyde Health Board","Highland Health Board","Lanarkshire Health Board","Lothian Health Board","Orkney Health Board","Shetland Health Board","Tayside Health Board","Western Isles Health Board","Aberdeen City Local Authority","Aberdeenshire Local Authority","Angus Local Authority","Argyll & Bute Local Authority","Clackmannanshire Local Authority","Dumfries & Galloway Local Authority","Dundee City Local Authority","East Ayrshire Local Authority","East Dunbartonshire Local Authority","East Lothian Local Authority","East Renfrewshire Local Authority","Edinburgh, City of Local Authority","Eilean Siar Local Authority","Falkirk Local Authority","Fife Local Authority","Glasgow City Local Authority","Highland Local Authority","Inverclyde Local Authority","Midlothian Local Authority","Moray Local Authority","North Ayrshire Local Authority","North Lanarkshire Local Authority","Orkney Islands Local Authority","Perth & Kinross Local Authority","Renfrewshire Local Authority","Scottish Borders Local Authority","Shetland Islands Local Authority","South Ayrshire Local Authority","South Lanarkshire Local Authority","Stirling Local Authority","West Dunbartonshire Local Authority","West Lothian Local Authority","Death Rate (Scotland)",null,"Life expectancy, Scotland",null,null,"Population LookUp Reference"]
[]
["All, by SIMD",null,null,null,null,null,null,null,null,null,null,null,null,null,null,null,null,null,null,null,null,null,null,null,null,null,null,null,null,null,null,null,null,null,null,null,null,null,null,null,null,null,null,null,null,null,null,null,null,null,"National LE"]
["Total",{"$f":"B11+B18","v":26028700},1842310,563290,744990,1816170,1462810,2740100,5623880,1561710,3196900,4127400,101240,111780,2003560,132560,1073050,1223560,557200,450020,253050,744990,719500,602630,523830,484790,448070,2381440,132560,764300,1816170,2940530,1111690,403060,405470,443490,680460,1640600,101240,726860,854260,563290,111780,559220,1556300,445460,454130,855700,1.0669987246485007E-2,"Based on average deaths for 2005-2009 inclusive, supplied by ISD Scotland",null,null,null,3,null,"Scotland"]
["Q 1",{"$f":"B12+B19","v":5252913},517418,31103,57195,337361,226030,165297,2077406,133916,840054,513447,0,0,353686,0,138557,21399,48445,38987,66589,57195,264551,178759,20668,24104,31965,312418,0,113376,337361,1440003,94929,175340,42770,5341,248383,534582,0,40690,239460,31103,0,90276,305472,46065,169970,134155,1.3274686939749862E-2,null,null,null,null,4,null,"Ayrshire & Arran Health Board"]
["Q 2",{"$f":"B13+B20","v":5226592},512891,86790,171875,403234,345510,354054,992686,300723,832227,803580,21780,6985,335883,58374,195837,102868,95352,75798,45819,171875,151204,191788,87017,99564,40509,332546,58374,210535,403234,543394,224925,60443,130423,55349,150283,466570,21780,89327,134521,86790,6985,170820,365657,89156,126802,241047,1.2350565421834908E-2,null,null,null,null,5,null,"Borders Health Board"]
["Q 3",{"$f":"B14+B21","v":5199490},285226,172634,286916,361361,273321,599274,762939,525596,679083,761694,20767,45086,351407,74186,176873,253919,125199,176950,60904,286916,88915,76172,39685,123150,36343,360804,74186,147202,361361,367308,348646,52877,84227,168482,100046,300385,20767,137293,175756,172634,45086,109008,378698,65215,90970,193513,1.0812425014975131E-2,null,null,null,null,6,null,"Dumfries & Galloway Health Board"]
["Q 4",5176374,280310,235385,174280,337393,320273,720264,758168,457561,453856,732850,55582,52135,598317,0,124011,438626,207869,109451,43903,174280,93869,81268,104396,148200,71641,363963,0,147402,337393,331938,348110,66049,81692,157627,118478,196730,55582,296579,142333,235385,52135,80564,257126,128968,41811,138995,9.3648469224185404E-3,null,null,null,null,7,null,"Fife Health Board"]
["Q 5",{"$f":"B16+B23","v":5173331},246465,37378,54724,376821,297676,901211,1032681,143914,391680,1315829,3111,7574,364267,0,437772,406748,80335,48834,35835,54724,120961,74643,272064,89772,267612,1011709,0,145785,376821,257887,95080,48351,66358,56691,63270,142333,3111,162971,162190,{"$f":"AP16+AP23","v":37378},7574,108552,249347,116056,24577,147990,7.5394980282599859E-3,null,null,null,null,8,null,"Forth Valley Health Board"]
["Males, by SIMD",null,null,null,null,null,null,null,null,null,null,null,null,null,null,null,null,null,null,null,null,null,null,null,null,null,null,null,null,null,null,null,null,null,null,null,null,null,null,null,null,null,null,null,null,null,null,null,null,null,null,null,null,9,null,"Grampian Health Board"]
["Males",{"$f":"SUM(B25:B44)","v":12601707},{"$f":"SUM(C25:C44)","v":881719},272816,360664,877215,707304,1359925,2703249,768233,1535610,1995974,49915,56486,967406,65191,530543,606876,269930,223465,123571,360664,342436,291443,252488,232415,214048,1153351,65191,370889,877215,1419490,544768,192577,193129,222506,322835,790075,49915,355040,408975,272816,56486,267441,745535,212844,215671,417079,1.5074592828583706E-2,null,75.47334646653772,null,null,10,null,"Greater Glasgow & Clyde Health Board"]
["Q 1",{"$f":"SUM(B66:B85)","v":2489967},{"$f":"SUM(C66:C85)","v":243769},14990,27388,161229,107930,81121,980921,64398,395397,244770,0,0,168054,0,67739,10712,23176,18860,31854,27388,125102,84633,9531,11475,15056,149231,0,54297,161229,682938,45538,82655,20062,2670,116302,252535,0,19776,111860,14990,0,42834,142862,21779,78881,64002,1.4024652873725566E-2,null,69.397490798675804,null,null,11,null,"Highland Health Board"]
["Q 2",{"$f":"SUM(B107:B126)","v":2515468},{"$f":"SUM(C107:C126)","v":243384},42187,82024,193054,164859,172125,483558,145741,396840,386866,10659,3421,162117,28633,95907,49848,44921,36440,21998,82024,72585,91481,41368,47086,18816,162356,28633,100709,193054,270693,109301,29182,61547,26370,70322,222777,10659,44611,63521,42187,3421,81581,174063,42152,59978,115877,1.2355683314045119E-2,null,73.483643760491603,null,null,12,null,"Lanarkshire Health Board"]
["Q 3",{"$f":"SUM(B148:B167)","v":2536055},{"$f":"SUM(C148:C167)","v":140231},84479,139327,175017,133170,295453,369979,258965,329437,370346,10154,22979,169960,36558,86858,124753,61249,86543,31114,139327,42215,39036,18792,58215,17182,177090,36558,71099,175017,179870,172422,25376,39735,83842,48191,146785,10154,66496,84772,84479,22979,53004,182652,30957,43987,95306,1.0514159718652391E-2,null,76.091259232499397,null,null,13,null,"Lothian Health Board"]
["Q 4",{"$f":"SUM(B189:B208)","v":2527989},{"$f":"SUM(C189:C208)","v":135325},113175,85417,163742,154937,359507,367772,225348,221768,355392,27587,26243,291776,0,61731,218453,101536,53830,21251,85417,44727,39835,50647,71747,34112,176414,0,71864,163742,161551,171518,31705,39436,79323,57394,96942,27587,145513,69293,113175,26243,38096,124826,61822,20464,67795,8.836763619667419E-3,null,78.197975247128667,null,null,14,null,"Orkney Health Board"]
["Q 5",{"$f":"SUM(B230:B249)","v":2532228},{"$f":"SUM(C230:C249)","v":119010},17985,26508,184173,146408,451719,501019,73781,192168,638600,1515,3843,175499,0,218308,203110,39048,27792,17354,26508,57807,36458,132150,43892,128882,488260,0,72920,184173,124438,45989,23659,32349,30301,30626,71036,1515,78644,79529,17985,3843,51926,121132,56134,12361,74099,7.052410019778489E-3,null,80.400122020022721,null,null,15,null,"Shetland Health Board"]
["Females, by SIMD",null,null,null,null,null,null,null,null,null,null,null,null,null,null,null,null,null,null,null,null,null,null,null,null,null,null,null,null,null,null,null,null,null,null,null,null,null,null,null,null,null,null,null,null,null,null,null,null,null,null,null,null,16,null,"Tayside Health Board"]
["Females",{"$f":"SUM(B45:B64)","v":13426993},{"$f":"SUM(C45:C64)","v":960591},290474,384326,938955,755506,1380175,2920631,793477,1661290,2131426,51325,55294,1036154,67369,542507,616684,287270,226555,129479,384326,377064,311187,271342,252375,234022,1228089,67369,393411,938955,1521040,566922,210483,212341,220984,357625,850525,51325,371820,445285,290474,55294,291779,810765,232616,238459,438621,1.4821357832814819E-2,null,80.153860442430641,null,null,17,null,"Western Isles Health Board"]
["Q 1",{"$f":"SUM(B86:B105)","v":2762946},{"$f":"SUM(C86:C105)","v":273649},16113,29807,176132,118100,84176,1096485,69518,444657,268677,0,0,185632,0,70818,10687,25269,20127,34735,29807,139449,94126,11137,12629,16909,163187,0,59079,176132,757065,49391,92685,22708,2671,132081,282047,0,20914,127600,16113,0,47442,162610,24286,91089,70153,1.2601400802765186E-2,null,76.387523110784798,null,null,18,null,"Aberdeen City Local Authority"]
["Q 2",{"$f":"SUM(B127:B146)","v":2711124},{"$f":"SUM(C127:C146)","v":269507},{"$f":"SUM(D127:D146)","v":44603},89851,210180,180651,181929,509128,154982,435387,416714,11121,3564,173766,29741,99930,53020,50431,39358,23821,89851,78619,100307,45649,52478,21693,170190,29741,109826,210180,272701,115624,31261,68876,28979,79961,243793,11121,44716,71000,44603,3564,89239,191594,47004,66824,125170,1.2345867551879089E-2,null,78.909902133926195,null,null,19,null,"Aberdeenshire Local Authority"]
["Q 3",{"$f":"SUM(B168:B187)","v":2663435},{"$f":"SUM(C168:C187)","v":144995},88155,147589,186344,140151,303821,392960,266631,349646,391348,10613,22107,181447,37628,90015,129166,63950,90407,29790,147589,46700,37136,20893,64935,19161,183714,37628,76103,186344,187438,176224,27501,44492,84640,51855,153600,10613,70797,90984,88155,22107,56004,196046,34258,46983,98207,1.1094864097283233E-2,null,80.300411181728805,null,null,20,null,"Angus Local Authority"]
["Q 4",{"$f":"SUM(B209:B228)","v":2648385},{"$f":"SUM(C209:C228)","v":144985},122210,88863,173651,165336,360757,390396,232213,232088,377458,27995,25892,306541,0,62280,220173,106333,55621,22652,88863,49142,41433,53749,76453,37529,187549,0,75538,173651,170387,176592,34344,42256,78304,61084,99788,27995,151066,73040,122210,25892,42468,132300,67146,21347,71200,9.8672552757737737E-3,null,81.727055289388218,null,null,21,null,"Argyll & Bute Local Authority"]
["Q 5",{"$f":"SUM(B250:B269)","v":2641103},{"$f":"SUM(C250:C269)","v":127455},19393,28216,192648,151268,449492,531662,70133,199512,677229,1596,3731,188768,0,219464,203638,41287,21042,18481,28216,63154,38185,139914,45880,138730,523449,0,72865,192648,133449,49091,24692,34009,26390,32644,71297,1596,84327,82661,19393,3731,56626,128215,59922,12216,73891,8.0081230210156448E-3,null,83.577579806016075,null,null,22,null,"Clackmannanshire Local Authority"]
["age/sex breakdown: All",null,null,null,null,null,null,null,null,null,null,null,null,null,null,null,null,null,null,null,null,null,null,null,null,null,null,null,null,null,null,null,null,null,null,null,null,null,null,null,null,null,null,null,null,null,null,null,null,null,null,null,null,23,null,"Dumfries & Galloway Local Authority"]
["Male <1",{"$f":"B66+B107+B148+B189+B230","v":151126},{"$f":"C66+C107+C148+C189+C230","v":10078},2888,3807,10867,8505,16288,33179,8283,19350,24961,539,709,11005,667,6458,7287,2893,2034,1542,3807,4390,3522,2476,2927,2330,13714,667,4716,10867,18451,6249,2253,2446,2543,3785,10404,539,3722,4899,2888,709,2771,8946,2247,2770,5874,null,null,null,"LE calculated within spreadsheet using the Chiang method",null,24,null,"Dundee City Local Authority"]
["Male 1-4",{"$f":"B67+B108+B149+B190+B231","v":582809},39813,11966,15224,41408,33902,61770,125685,32770,76641,93513,2077,2678,42672,2690,22314,29599,12041,8246,5993,15224,15931,13653,10669,12020,10161,48856,2690,18337,41408,65881,24524,8950,9734,9857,15300,41252,2077,14700,19364,11966,2678,10860,35389,9572,10660,22903,null,null,null,"LE calculated within spreadsheet using the Chiang method",null,25,null,"East Ayrshire Local Authority"]
["Male 5-9",691028,48419,15358,18658,49425,41396,72534,145777,41394,91320,105585,2441,3345,52019,3357,24843,35963,15249,11012,7209,18658,17665,15991,14986,13976,14196,53543,3357,21563,49425,71160,30382,10620,11739,11728,18304,48905,2441,19105,22928,15358,3345,14124,42415,12624,11887,26327,null,null,null,"LE calculated within spreadsheet using the Chiang method",null,26,null,"East Dunbartonshire Local Authority"]
["Male 10-14",754433,54401,16733,21625,52714,44892,79652,158759,47337,98584,111712,3240,3570,57350,3864,26117,39498,16865,13518,7783,21625,18929,18095,17506,15486,15944,55920,3864,22774,52714,74744,33819,11872,12577,14037,20655,51626,3240,21556,25278,16733,3570,15651,46958,14335,13415,27729,null,null,null,"LE calculated within spreadsheet using the Chiang method",null,27,null,"East Lothian Local Authority"]
["Male 15-19",836097,60263,16823,22638,59075,50460,86055,183987,48465,105021,127785,3169,3840,64440,4076,31608,39114,17626,14373,8267,22638,23798,20187,18676,15969,16003,69745,4076,25447,59075,93412,34092,13263,13655,15333,22998,54489,3169,23016,27353,16823,3840,17078,50532,16746,15280,28416,null,null,null,"LE calculated within spreadsheet using the Chiang method",null,28,null,"East Renfrewshire Local Authority"]
["Male 20-24",903866,55996,13335,19296,62809,47724,94502,222196,43732,102100,161018,2588,3129,72198,3243,46664,33858,15083,14029,8113,19296,33555,19050,16599,13385,13957,108561,3243,22322,62809,134258,29703,13597,12335,13980,20582,53324,2588,23560,27825,13335,{"$f":"AQ71+AQ112+AQ153+AQ194+AQ235","v":3129},16364,48776,17289,15960,26737,null,null,null,"LE calculated within spreadsheet using the Chiang method",null,29,null,"Edinburgh, City of Local Authority"]
["Male 25-29",855992,46857,11626,15987,51583,40455,93778,219213,40430,97892,166136,2405,3099,63726,2805,51962,{"$f":"R72+R113+R154+R195+R236","v":29730},13275,11650,7219,15987,29051,15989,13359,10170,10227,121000,2805,22056,51583,143102,28780,11837,9998,12086,17190,52205,2405,21400,26534,11626,3099,13678,45687,11180,14154,24968,null,null,null,"LE calculated within spreadsheet using the Chiang method",null,30,null,"Eilean Siar Local Authority"]
["Male 30-34",762431,43723,12252,15365,47357,38973,86364,183098,39122,90237,145919,2355,3347,51082,3237,43294,31209,12991,10135,6915,15365,20219,15523,10111,10721,8583,99670,3237,23024,47357,119940,28987,9982,9671,11861,15892,48266,2355,17872,22589,12252,3347,12308,41971,9034,11893,25857,null,null,null,"LE calculated within spreadsheet using the Chiang method",null,31,null,"Falkirk Local Authority"]
["Male 35-39",847252,55445,17284,20672,58124,48361,95314,183200,46703,106939,147767,2956,3806,56504,4177,38177,41750,16706,13483,8488,20672,19329,19733,13620,15952,11969,87503,4177,26972,58124,106137,33220,11581,12712,15387,19768,56153,2956,20469,26310,17284,3806,15944,50786,12901,13583,31600,null,null,null,"LE calculated within spreadsheet using the Chiang method",null,32,null,"Fife Local Authority"]
["Male 40-44",956360,66008,21921,26241,67135,56498,105267,200493,57299,121764,153053,4052,4249,67396,4984,37977,49381,19630,16534,10154,26241,21717,23103,18172,18878,16031,83774,4984,30382,67135,103079,40765,14184,14717,17909,23706,63294,4052,26049,32520,21921,4249,19199,58470,15962,16507,35684,null,null,null,"LE calculated within spreadsheet using the Chiang method",null,33,null,"Glasgow City Local Authority"]
["Male 45-49",960786,67168,22027,28025,66358,55252,104289,205891,60323,119628,146422,4097,4477,71717,5112,37445,49404,21353,17245,9851,28025,23087,22250,20819,18943,18189,79191,5112,28889,66358,100599,43078,15938,14766,17440,24309,60364,4097,27277,33338,22027,4477,20609,59264,16512,17008,33522,null,null,null,"LE calculated within spreadsheet using the Chiang method",null,34,null,"Highland Local Authority"]
["Male 50-54",875149,62887,20231,26009,60969,48220,97647,184308,57578,108519,130276,3772,3931,65852,4950,35755,46445,19140,16382,8515,26009,22068,20332,19646,17247,16865,70889,4950,25140,60969,88689,41196,14248,13752,15447,22808,53727,3772,24644,29219,20231,{"$f":"AQ77+AQ118+AQ159+AQ200+AQ241","v":3931},19747,54792,14565,15641,28388,null,null,null,"LE calculated within spreadsheet using the Chiang method",null,35,null,"Inverclyde Local Authority"]
["Male 55-59",800746,60660,19620,26661,56147,44977,89976,158294,56308,96998,115456,3702,4032,62964,4951,32149,{"$f":"R78+R119+R160+R201+R242","v":43365},19181,15787,8090,26661,19581,19531,17285,14779,13944,62681,4951,23074,56147,74191,40521,12843,12969,14462,21937,47969,3702,24202,25991,19620,4032,19192,49029,13813,14040,25027,null,null,null,"LE calculated within spreadsheet using the Chiang method",null,36,null,"Midlothian Local Authority"]
["Male 60-64",778002,61807,20706,28413,58308,45165,84479,145722,56446,90559,108918,3720,3992,64671,5096,28506,41550,19823,16931,8252,28413,19810,19596,16780,14767,13130,57046,5096,23106,58308,65137,39515,12296,13091,14423,22641,45299,3720,25038,25132,20706,3992,19570,45260,13807,13247,24014,null,null,null,"LE calculated within spreadsheet using the Chiang method",null,37,null,"Moray Local Authority"]
["Male 65-69",595909,48643,16063,23061,44573,34091,61325,111907,44642,70596,80634,3121,2932,50443,3878,20209,29521,15337,14206,5919,23061,15806,14917,12829,11831,9882,41164,3878,17585,44573,50401,30436,9580,9679,11595,17914,35254,3121,19300,19518,16063,2932,15812,35342,10587,9697,17960,null,null,null,"LE calculated within spreadsheet using the Chiang method",null,38,null,"North Ayrshire Local Authority"]
["Male 70-74",492020,40236,13203,19243,35674,28147,50929,94967,34272,57305,67547,2345,2139,42750,3263,17626,23495,12632,11161,4734,19243,13843,12242,11335,9568,8757,35929,3263,14595,35674,43110,23111,7833,7818,9808,14615,28248,2345,16275,15902,13203,2139,13379,29057,8818,8030,14232,null,null,null,"LE calculated within spreadsheet using the Chiang method",null,39,null,"North Lanarkshire Local Authority"]
["Male 75-79",369617,29280,9948,14615,26277,20116,38519,72617,25794,41794,51850,1585,1525,33347,2350,14263,17050,9643,8111,3391,14615,10933,8872,8864,7583,6741,29317,2350,10408,26277,33149,17683,5907,5719,7206,10385,20408,1585,12771,11874,9948,1525,10023,21386,6317,6082,9231,null,null,null,"LE calculated within spreadsheet using the Chiang method",null,40,null,"Orkney Islands Local Authority"]
["Male 80-84",{"$f":"B83+B124+B165+B206+B247","v":232112},17877,6555,9212,17081,12190,24357,44763,16401,24924,33529,1061,962,21670,1530,8997,10928,6155,5162,1981,9212,7295,5408,5318,4971,4327,19544,1530,6357,17081,20593,11239,3530,3535,4432,6033,11855,1061,8220,7497,6555,{"$f":"AQ83+AQ124+AQ165+AQ206+AQ247","v":962},6436,13069,3852,3498,5479,null,null,null,"LE calculated within spreadsheet using the Chiang method",null,41,null,"Perth & Kinross Local Authority"]
["Male 85-89",114610,8973,3280,4374,8318,5905,12312,21569,8060,11323,17477,528,521,11228,742,4511,{"$f":"R84+R125+R166+R207+R248","v":5690},3031,2477,872,4374,4025,2551,2512,2397,2187,11022,742,3124,8318,10030,5583,1644,1685,2111,2951,5257,528,4172,3555,3280,521,3471,6066,1909,1641,2373,null,null,null,"LE calculated within spreadsheet using the Chiang method",null,42,null,"Renfrewshire Local Authority"]
["Male 90+",41362,3185,997,1538,3013,2075,4568,7624,2874,4116,6416,162,203,4372,219,1668,2039,1276,989,283,1538,1404,898,926,845,625,4282,219,1018,3013,3427,1885,619,531,861,1062,1776,162,1692,1349,997,203,1225,2340,774,678,758,null,null,null,null,null,43,null,"Scottish Borders Local Authority"]
["Female <1",144841,9551,2903,3705,10158,8349,15426,31881,7753,18679,24119,501,619,10618,579,6144,6928,2929,1954,1517,3705,4157,3273,2318,2776,2176,13468,579,4701,10158,18022,5799,1936,2370,2354,3645,9950,501,3532,4770,2903,619,2633,8729,2131,2659,5505,null,null,null,"LE calculated within spreadsheet using the Chiang method",null,44,null,"Shetland Islands Local Authority"]
["Female 1-4",555491,37792,11617,14693,39837,32681,58490,119844,30875,73343,88464,2011,2448,40827,2569,21824,27561,11679,7812,5736,14693,15136,12669,9920,11311,9810,46106,2569,17949,39837,63378,23063,8086,9272,9105,14469,38870,2011,14012,18587,11617,2448,10654,34473,8996,10063,21775,null,null,null,"LE calculated within spreadsheet using the Chiang method",null,45,null,"South Ayrshire Local Authority"]
["Female 5-9",660895,46883,14830,17449,46839,39007,68022,140168,39268,88693,101271,2459,3131,49470,3405,23564,33746,14554,10710,6701,17449,16752,15689,13868,13635,13368,50077,3405,20433,46839,68594,28558,9989,11444,10712,17921,46862,2459,18164,22673,14830,3131,13273,41831,11873,11676,26115,null,null,null,"LE calculated within spreadsheet using the Chiang method",null,46,null,"South Lanarkshire Local Authority"]
["Female 10-14",717767,51980,16183,20817,50950,42892,73548,150050,44406,94570,107084,2908,3595,54863,3921,23712,36760,16023,12699,7628,20817,17848,16631,16057,15233,14997,52108,3921,21578,50950,71193,31707,11403,12543,13076,20018,49347,2908,20992,23798,16183,{"$f":"AQ89+AQ130+AQ171+AQ212+AQ253","v":3595},15331,45223,13686,12602,27200,null,null,null,"LE calculated within spreadsheet using the Chiang method",null,47,null,"Stirling Local Authority"]
["Female 15-19",797443,57079,16381,21201,57680,48249,83738,175113,43957,98344,123449,3141,3388,62107,3616,33374,{"$f":"R90+R131+R172+R213+R254","v":36909},15934,12953,8091,21201,25676,19394,16569,15577,14627,68210,3616,22770,57680,91001,31004,12467,12922,13455,21323,50877,3141,20497,26184,16381,3388,16362,47467,17388,14265,26740,null,null,null,"LE calculated within spreadsheet using the Chiang method",null,48,null,"West Dunbartonshire Local Authority"]
["Female 20-24",882758,53556,13065,17635,62826,45921,92063,218316,35029,98375,168992,2252,2519,69756,2453,51974,29413,13451,9796,6991,17635,35823,18198,14354,12623,12112,118795,2453,21547,62826,137048,25233,12668,11869,10676,19959,52508,2252,20482,26856,13065,2519,15399,45867,17383,15278,25705,null,null,null,"LE calculated within spreadsheet using the Chiang method",null,49,null,"West Lothian Local Authority"]
["Female 25-29",841950,48543,11874,16676,51044,41686,84325,213184,36958,98731,171903,2340,2720,59153,2813,45694,28637,12747,8462,6850,16676,27686,16675,11446,10774,9330,124620,2813,23257,51044,140111,28496,11465,10785,9994,18335,52621,2340,18720,26133,11874,2720,13533,46110,11579,14699,25724,null,null,null,"LE calculated within spreadsheet using the Chiang method",null,50]
["Female 30-34",779499,48166,13139,17027,50942,43055,80222,181746,38937,97175,147502,2593,3439,52120,3436,35552,33713,14044,9556,7400,17027,20734,16620,11329,12681,10131,96654,3436,24268,50942,112305,29381,10543,11353,10957,18209,51635,2593,17342,24258,13139,3439,13337,45540,11387,13180,26814,null,null,null,"LE calculated within spreadsheet using the Chiang method",null,51]
["Female 35-39",910501,62054,18914,22780,62195,54059,96258,196649,50627,118100,153593,3290,3851,63943,4188,35993,45340,18572,13718,9032,22780,21928,21220,16307,17855,14500,86593,4188,29319,62195,106703,36909,13248,14498,14925,23203,61981,3290,23443,30431,18914,3851,17631,56119,15708,15460,34647,null,null,null,"LE calculated within spreadsheet using the Chiang method",null,52]
["Female 40-44",1033085,74151,22915,28510,71617,60811,105983,224723,61005,133016,162123,3978,4098,75153,5002,37406,51361,21637,16958,10669,28510,25105,25297,21454,21008,19290,85926,5002,31929,71617,111900,44047,16658,17115,17216,27716,68680,3978,28411,36583,22915,{"$f":"AQ95+AQ136+AQ177+AQ218+AQ259","v":4098},21138,64336,18213,18838,38074,null,null,null,"LE calculated within spreadsheet using the Chiang method",null,53]
["Female 45-49",1027033,74265,23109,30223,70237,57710,105216,227120,62646,130225,155619,3954,4297,77431,4981,38488,{"$f":"R96+R137+R178+R219+R260","v":49805},22356,17596,10046,30223,26874,24181,23481,20067,19988,83541,4981,30163,70237,111192,45050,17190,17023,16923,27460,65674,3954,28201,36462,23109,4297,22624,64551,17501,18807,34988,null,null,null,"LE calculated within spreadsheet using the Chiang method",null,54]
["Female 50-54",920769,68111,21209,27865,63529,50333,96666,197960,58943,117851,135792,3828,3890,70082,4710,35051,45986,20446,16529,9144,27865,23515,21513,21536,17857,17507,73104,4710,26227,63529,95267,42414,15149,15237,15629,25201,58542,3828,26121,31248,21209,3890,21397,59309,14962,17253,29594,null,null,null,"LE calculated within spreadsheet using the Chiang method",null,55]
["Female 55-59",834550,64241,20034,27511,59721,47629,88676,166368,57741,103428,121018,3624,3736,66112,4711,30910,42847,19878,16667,8602,27511,20761,20095,18662,16101,14971,64556,4711,24877,59721,76001,41074,13537,13964,14919,23893,51644,3624,25473,28164,20034,3736,20253,51784,14150,15033,26397,null,null,null,"LE calculated within spreadsheet using the Chiang method",null,56]
["Female 60-64",{"$f":"B99+B140+B181+B222+B263","v":819517},66240,21455,28884,62142,47153,84850,156286,57555,98217,116928,3622,3415,68077,4693,29083,40424,21005,18097,8685,28884,21126,20643,18249,15794,14448,61420,4693,24099,62142,68692,39458,13261,14190,15343,24626,49035,3622,25946,27281,21455,3415,20971,49182,14369,14355,25524,null,null,null,"LE calculated within spreadsheet using the Chiang method",null,57]
["Female 65-69",667449,54738,17461,24916,48839,38336,65782,131245,46679,82090,91597,3277,2951,55359,4179,22838,30352,16409,14478,6755,24916,17396,16628,15102,13133,11829,47518,4179,19734,48839,59316,32201,11056,10699,12592,20447,40986,3277,21554,22304,17461,2951,17663,41104,11847,11638,20247,null,null,null,"LE calculated within spreadsheet using the Chiang method",null,58]
["Female 70-74",593990,47248,15018,21050,41856,33173,57399,125294,39534,72794,82052,2526,2244,50088,3714,21605,24881,14427,12632,5607,21050,17245,14431,13673,11482,10832,45298,3714,17247,41856,59789,26902,10085,9232,10913,17184,36446,2526,18416,20475,15018,{"$f":"AQ101+AQ142+AQ183+AQ224+AQ265","v":2244},15633,36348,10319,10440,16040,null,null,null,"LE calculated within spreadsheet using the Chiang method",null,59]
["Female 75-79",504598,39644,12329,17721,34447,26680,49824,110374,32702,59278,71100,1974,1818,43567,3140,20034,{"$f":"R102+R143+R184+R225+R266","v":20435},12423,10381,4129,17721,15696,11968,11162,9722,9675,41630,3140,13972,34447,54510,22321,8974,7584,9355,14318,28422,1974,15448,16758,12329,1818,13358,30856,8579,9295,12164,null,null,null,"LE calculated within spreadsheet using the Chiang method",null,60]
["Female 80-84",374911,28274,9160,13303,26770,19382,37559,79645,24636,41882,54542,1461,1512,34292,2493,15276,15578,9595,7715,3039,13303,12089,8158,8458,7472,7406,33719,2493,10107,26770,38982,16921,6399,5212,6705,9944,19651,1461,12608,11684,9160,1512,10172,22231,6236,6716,8139,null,null,null,"LE calculated within spreadsheet using the Chiang method",null,61]
["Female 85-89",236401,18194,5980,8041,17369,12481,23909,49153,15603,24421,35461,971,1052,21933,1833,9491,10339,6049,4983,2066,8041,7810,5210,5001,4747,4644,22617,1833,6244,17369,24305,10620,4138,3329,4079,6408,11163,971,8074,6987,5980,1052,6576,13258,4171,4078,4768,null,null,null,"LE calculated within spreadsheet using the Chiang method",null,62]
["Female 90+",123545,9881,2898,4319,9957,5919,12219,25512,8623,12078,18817,615,571,11203,933,4494,5669,3112,2859,791,4319,3707,2694,2396,2527,2381,12129,933,2990,9957,12731,5764,2231,1700,2056,3346,5631,615,4384,3649,2898,571,3841,6447,2138,2124,2461,null,null,null,null,null,63]
["age/sex breakdown: Q1",null,null,null,null,null,null,null,null,null,null,null,null,null,null,null,null,null,null,null,null,null,null,null,null,null,null,null,null,null,null,null,null,null,null,null,null,null,null,null,null,null,null,null,null,null,null,null,null,null,null,null,null,64]
["Male <1",38398,3577,241,482,2678,1686,1515,14419,1036,5753,4162,0,0,2849,0,1300,179,388,274,515,482,2115,1276,174,200,226,2584,0,878,2678,9899,762,1125,330,36,1703,3662,0,346,1705,241,0,598,2091,293,1290,1048,5.8204368047433839E-3,"National death rate calcuated from population size and average number of deaths for 2005-2009 inclusive (supplied by ISD Scotland)",null,"LE calculated within spreadsheet using the Chiang method",null,65]
["Male 1-4",140243,13236,953,1739,9221,6347,4983,53195,3787,21781,14769,0,0,10232,0,4244,619,1519,867,1896,1739,7572,4684,645,774,884,8933,0,3266,9221,36387,2920,4403,1164,120,6463,13996,0,1141,6201,953,0,2089,7785,1185,4675,3898,2.1695706494497517E-4,"National death rate calcuated from population size and average number of deaths for 2005-2009 inclusive (supplied by ISD Scotland)",null,"LE calculated within spreadsheet using the Chiang method",null,66]
["Male 5-9",151263,14526,1058,1789,9971,7173,4940,56487,4131,24860,15839,0,0,10489,0,4212,597,1487,993,2198,1789,7804,4884,733,828,956,9331,0,3514,9971,38943,3138,4595,1365,131,7335,16265,0,1198,6386,1058,0,2307,8595,1461,4874,4315,1.5186530207989435E-4,"National death rate calcuated from population size and average number of deaths for 2005-2009 inclusive (supplied by ISD Scotland)",null,"LE calculated within spreadsheet using the Chiang method",null,67]
["Male 10-14",156100,15630,1105,1663,10285,7327,4887,59111,4202,25789,15710,0,0,10391,0,4181,580,1546,1366,2141,1663,7742,5528,773,914,1200,9146,0,3553,10285,40504,2836,5023,1450,126,7747,17039,0,1103,6389,1105,0,2355,8750,1633,5222,4200,2.0066092692806934E-4,"National death rate calcuated from population size and average number of deaths for 2005-2009 inclusive (supplied by ISD Scotland)",null,"LE calculated within spreadsheet using the Chiang method",null,68]
["Male 15-19",176384,18227,1129,2047,11680,7890,4947,68740,4527,28358,17205,0,0,11634,0,4157,601,1592,1477,2376,2047,8764,6496,809,999,1190,10048,0,3691,11680,47745,3050,5831,1621,189,8897,18332,0,1278,7340,1129,0,2834,10026,1823,5825,4537,9.4683861108188787E-4,"National death rate calcuated from population size and average number of deaths for 2005-2009 inclusive (supplied by ISD Scotland)",null,"LE calculated within spreadsheet using the Chiang method",null,69]
["Male 20-24",197596,17853,973,2138,12015,8169,6558,83094,4633,29412,19450,0,0,13301,0,5525,837,1589,1401,2409,2138,10062,5898,781,839,1161,12114,0,3937,12015,60060,3232,6314,1595,196,8620,18774,0,1650,8337,973,0,3335,10638,1823,6441,4902,1.5218274268263216E-3,"National death rate calcuated from population size and average number of deaths for 2005-2009 inclusive (supplied by ISD Scotland)",null,"LE calculated within spreadsheet using the Chiang method",null,70]
["Male 25-29",192409,15617,768,1758,11141,6831,7248,82361,4673,28212,19774,0,0,14026,0,6086,981,1592,1167,2038,1758,10354,5051,616,681,1072,13259,0,3557,11141,60713,3506,5747,1328,181,7370,17905,0,2080,8672,768,0,3196,10307,1236,5541,4506,1.9681656142062748E-3,"National death rate calcuated from population size and average number of deaths for 2005-2009 inclusive (supplied by ISD Scotland)",null,"LE calculated within spreadsheet using the Chiang method",null,71]
["Male 30-34",161537,13373,803,1476,9541,5971,6282,68674,3922,23799,17105,0,0,10591,0,5359,805,1437,886,1834,1476,7620,4501,544,570,827,11385,0,3200,9541,50836,3036,4542,1037,118,6385,14889,0,1534,7367,803,0,2487,8910,937,4558,4113,3.3705444823173129E-3,"National death rate calcuated from population size and average number of deaths for 2005-2009 inclusive (supplied by ISD Scotland)",null,"LE calculated within spreadsheet using the Chiang method",null,72]
["Male 35-39",161448,15106,1060,1759,10280,6657,5695,64841,4059,25098,17060,0,0,9833,0,4691,787,1493,1112,1983,1759,7044,5533,533,831,867,10511,0,3517,10280,46683,2947,4649,1343,217,6829,15777,0,1296,7225,1060,0,2744,9321,1157,4884,4375,4.2163384619085999E-3,"National death rate calcuated from population size and average number of deaths for 2005-2009 inclusive (supplied by ISD Scotland)",null,"LE calculated within spreadsheet using the Chiang method",null,73]
["Male 40-44",173363,16580,1144,1858,11425,8065,5579,68111,4501,28108,17372,0,0,10620,0,4722,692,1583,1324,2436,1858,7749,6111,571,788,1043,10640,0,4040,11425,46741,3177,5670,1312,165,7634,18467,0,1288,8397,1144,0,2835,9641,1589,5689,4632,5.9535993543444309E-3,"National death rate calcuated from population size and average number of deaths for 2005-2009 inclusive (supplied by ISD Scotland)",null,"LE calculated within spreadsheet using the Chiang method",null,74]
["Male 45-49",172304,17178,1017,1768,11547,7620,5437,68544,4515,26958,16783,0,0,10937,0,4460,765,1626,1373,2298,1768,8055,5993,603,799,1156,10426,0,3724,11547,46756,3142,6030,1323,212,8286,17411,0,1256,8184,1017,0,2899,9547,1598,5815,4235,7.875079027001148E-3,"National death rate calcuated from population size and average number of deaths for 2005-2009 inclusive (supplied by ISD Scotland)",null,"LE calculated within spreadsheet using the Chiang method",null,75]
["Male 50-54",156483,16110,956,1578,10254,6545,4937,61652,4186,25761,14418,0,0,10086,0,4071,660,1369,1255,2141,1578,7596,5533,650,709,952,8789,0,2960,10254,42029,2931,5712,1266,206,7758,16097,0,1121,7074,956,0,2819,9664,1444,5235,3654,1.1476247233100629E-2,"National death rate calcuated from population size and average number of deaths for 2005-2009 inclusive (supplied by ISD Scotland)",null,"LE calculated within spreadsheet using the Chiang method",null,76]
["Male 55-59",140292,14873,860,1772,9137,6317,4460,53132,3905,23346,12910,0,0,9580,0,3639,634,1331,1182,1894,1772,7065,4933,529,632,734,7687,0,3063,9137,35611,2723,5292,1103,187,7171,14584,0,1184,6261,860,0,2769,8762,1360,4705,3488,1.6383516757488337E-2,"National death rate calcuated from population size and average number of deaths for 2005-2009 inclusive (supplied by ISD Scotland)",null,"LE calculated within spreadsheet using the Chiang method",null,77]
["Male 60-64",133950,14523,962,1714,9400,6255,4059,49136,3614,22877,12171,0,0,9239,0,3302,603,1293,1151,1841,1714,7078,4962,493,609,827,7046,0,3064,9400,32664,2463,5046,1071,154,6948,14365,0,868,5971,962,0,2613,8512,1350,4135,3445,2.4822296744380083E-2,"National death rate calcuated from population size and average number of deaths for 2005-2009 inclusive (supplied by ISD Scotland)",null,"LE calculated within spreadsheet using the Chiang method",null,78]
["Male 65-69",107896,11925,692,1273,7327,4845,2891,40611,2949,18355,9443,0,0,7585,0,2363,415,1010,981,1370,1273,5792,4133,383,430,646,5249,0,2465,7327,27503,1968,4150,892,113,5771,11401,0,783,4843,692,0,2021,6954,1010,3086,2872,3.6323533517603375E-2,"National death rate calcuated from population size and average number of deaths for 2005-2009 inclusive (supplied by ISD Scotland)",null,"LE calculated within spreadsheet using the Chiang method",null,79]
["Male 70-74",92303,10408,533,1046,5792,4238,2443,35411,2219,15581,8115,0,0,6517,0,1910,401,913,759,1027,1046,4923,3642,274,396,602,4555,0,2412,5792,23914,1460,3374,652,132,4849,9799,0,681,4599,533,0,1917,5782,799,2648,2512,5.1368843511913287E-2,"National death rate calcuated from population size and average number of deaths for 2005-2009 inclusive (supplied by ISD Scotland)",null,"LE calculated within spreadsheet using the Chiang method",null,80]
["Male 75-79",68682,7534,324,760,4534,2938,2101,26976,1661,11087,5953,0,0,4814,0,1690,310,704,607,701,760,3613,2736,199,223,364,3575,0,1745,4534,18192,1054,2761,553,101,3280,7161,0,497,3423,324,0,1518,3926,492,2037,1602,7.6359212227207054E-2,"National death rate calcuated from population size and average number of deaths for 2005-2009 inclusive (supplied by ISD Scotland)",null,"LE calculated within spreadsheet using the Chiang method",null,81]
["Male 80-84",41736,4419,235,483,3042,1853,1270,16037,1137,6304,3843,0,0,3113,0,1049,165,435,411,458,483,2380,1656,121,150,213,2268,0,1084,3042,10814,726,1472,361,56,1929,4064,0,298,2162,235,0,834,2240,311,1255,1064,0.11266540642722117,"National death rate calcuated from population size and average number of deaths for 2005-2009 inclusive (supplied by ISD Scotland)",null,"LE calculated within spreadsheet using the Chiang method",null,82]
["Male 85-89",20215,2308,133,190,1449,891,652,7518,534,2906,2003,0,0,1631,0,557,73,199,186,219,190,1299,808,71,80,101,1229,0,472,1449,5074,348,670,243,22,995,1888,0,133,966,133,0,505,1018,200,636,451,0.17326673801878942,"National death rate calcuated from population size and average number of deaths for 2005-2009 inclusive (supplied by ISD Scotland)",null,"LE calculated within spreadsheet using the Chiang method",null,83]
["Male 90+",7365,766,44,95,510,312,237,2871,207,1052,685,0,0,586,0,221,8,70,88,79,95,475,275,29,23,35,456,0,155,510,1870,119,249,53,8,332,659,0,41,358,44,0,159,393,78,330,153,null,null,null,null,null,84]
["Female <1",36506,3389,245,461,2356,1631,1362,13984,975,5369,4042,0,0,2692,0,1157,178,401,253,518,461,1958,1101,172,181,196,2602,0,829,2356,9782,722,899,295,27,1634,3409,0,333,1697,245,0,654,1960,284,1238,964,4.8490760931940774E-3,"National death rate calcuated from population size and average number of deaths for 2005-2009 inclusive (supplied by ISD Scotland)",null,"LE calculated within spreadsheet using the Chiang method",null,85]
["Female 1-4",133201,12749,900,1718,8938,5933,4659,50579,3623,20574,13911,0,0,9617,0,4044,534,1272,863,1846,1718,7213,4283,563,657,792,8511,0,2968,8938,34852,2760,3869,1105,81,6187,13086,0,1132,5984,900,0,2279,7488,1119,4519,3638,2.7637833825549992E-4,"National death rate calcuated from population size and average number of deaths for 2005-2009 inclusive (supplied by ISD Scotland)",null,"LE calculated within spreadsheet using the Chiang method",null,86]
["Female 5-9",145745,14503,1003,1778,9940,6522,4355,54561,3883,24376,14913,0,0,9911,0,3759,442,1478,1048,1912,1778,7236,5018,637,847,1096,8632,0,3242,9940,36932,2835,4440,1196,154,7177,15849,0,1197,6597,1003,0,2308,8527,1368,4859,4238,6.8724271350913E-5,"National death rate calcuated from population size and average number of deaths for 2005-2009 inclusive (supplied by ISD Scotland)",null,"LE calculated within spreadsheet using the Chiang method",null,87]
["Female 10-14",150444,15248,1027,1806,10158,6798,4478,56554,3896,25385,15231,0,0,9863,0,3786,519,1400,1202,2178,1806,7418,5089,674,918,1136,8577,0,3120,10158,38476,2694,4888,1425,173,7652,16684,0,1045,6346,1027,0,2507,8701,1500,5034,4311,1.4849823093411843E-4,"National death rate calcuated from population size and average number of deaths for 2005-2009 inclusive (supplied by ISD Scotland)",null,"LE calculated within spreadsheet using the Chiang method",null,88]
["Female 15-19",172731,18184,1122,2081,11722,8168,5240,65111,4581,27683,17077,0,0,11762,0,4358,695,1614,1439,2445,2081,8913,6349,705,990,1114,9952,0,3743,11722,44416,3142,5543,1626,187,8751,18067,0,1235,7410,1122,0,3084,9616,1980,5923,4509,4.1819671285926242E-4,"National death rate calcuated from population size and average number of deaths for 2005-2009 inclusive (supplied by ISD Scotland)",null,"LE calculated within spreadsheet using the Chiang method",null,89]
["Female 20-24",204286,19142,1103,2063,12671,8264,7448,82959,4473,30662,20853,0,0,14648,0,6197,1099,1770,1231,2448,2063,11128,6508,825,878,1178,13130,0,3961,12671,58517,3242,6333,1795,152,8983,19675,0,1750,9353,1103,0,3651,10987,1855,6753,5050,5.083808071292931E-4,"National death rate calcuated from population size and average number of deaths for 2005-2009 inclusive (supplied by ISD Scotland)",null,"LE calculated within spreadsheet using the Chiang method",null,90]
["Female 25-29",203207,16807,976,2071,11488,7959,7153,85378,4685,30044,22357,0,0,14289,0,6115,893,1733,931,2268,2071,10625,5663,751,809,1031,14912,0,4152,11488,61554,3754,6051,1461,145,7884,18688,0,1931,9454,976,0,3260,11356,1539,6537,5175,7.1807977021447341E-4,"National death rate calcuated from population size and average number of deaths for 2005-2009 inclusive (supplied by ISD Scotland)",null,"LE calculated within spreadsheet using the Chiang method",null,91]
["Female 30-34",170841,14839,840,1661,10095,7345,5743,70058,4161,26305,18575,0,0,11219,0,4900,723,1494,1035,2179,1661,8365,5149,666,747,937,12117,0,3876,10095,50430,3126,4788,1366,120,7107,16288,0,1360,7833,840,0,2583,10017,1290,5404,4345,1.3012171924050929E-3,"National death rate calcuated from population size and average number of deaths for 2005-2009 inclusive (supplied by ISD Scotland)",null,"LE calculated within spreadsheet using the Chiang method",null,92]
["Female 35-39",184293,17844,1126,1868,11523,7866,5914,72881,4773,29912,19090,0,0,11496,0,4994,758,1580,1378,2440,1868,8501,6315,724,909,1148,11772,0,3773,11523,50935,3395,5746,1514,162,8548,19116,0,1415,8483,1126,0,2981,10796,1653,5845,4895,1.8920600317742689E-3,"National death rate calcuated from population size and average number of deaths for 2005-2009 inclusive (supplied by ISD Scotland)",null,"LE calculated within spreadsheet using the Chiang method",null,93]
["Female 40-44",202466,20386,1245,2140,13003,8667,5781,81434,5062,32476,19495,0,0,12777,0,4842,772,1897,1407,2563,2140,9508,7263,895,945,1390,11643,0,4200,13003,55891,3655,7009,1693,167,9823,20957,0,1372,9342,1245,0,3300,11519,1904,6907,5214,2.5314072841120753E-3,"National death rate calcuated from population size and average number of deaths for 2005-2009 inclusive (supplied by ISD Scotland)",null,"LE calculated within spreadsheet using the Chiang method",null,94]
["Female 45-49",196805,19906,992,2024,12107,8155,5559,80166,4678,31734,18498,0,0,12986,0,4588,773,1798,1355,2457,2024,9930,6824,880,952,1344,10960,0,3969,12107,55354,3323,6854,1697,198,9824,20230,0,1258,9213,992,0,3258,11504,1729,6521,4889,4.0045090987170535E-3,"National death rate calcuated from population size and average number of deaths for 2005-2009 inclusive (supplied by ISD Scotland)",null,"LE calculated within spreadsheet using the Chiang method",null,95]
["Female 50-54",172244,17742,942,1807,10471,7074,5068,68340,4359,29121,16121,0,0,11199,0,4188,705,1572,1283,2159,1807,8378,5938,838,881,1032,9508,0,3326,10471,46903,3076,6135,1453,175,8708,18242,0,1249,7598,942,0,3096,10879,1589,5834,4279,5.9880616959451368E-3,"National death rate calcuated from population size and average number of deaths for 2005-2009 inclusive (supplied by ISD Scotland)",null,"LE calculated within spreadsheet using the Chiang method",null,96]
["Female 55-59",148521,15815,973,1614,9399,6602,4326,56557,3915,25913,13376,0,0,10031,0,3628,527,1396,1189,2029,1614,7419,5282,586,744,938,7702,0,3211,9399,38059,2726,5446,1223,171,7830,16191,0,1216,6557,973,0,2703,9722,1362,4971,3707,9.6664369959064567E-3,"National death rate calcuated from population size and average number of deaths for 2005-2009 inclusive (supplied by ISD Scotland)",null,"LE calculated within spreadsheet using the Chiang method",null,97]
["Female 60-64",144406,15707,970,1635,9829,6187,3840,54072,3835,25191,13260,0,0,9880,0,3193,488,1354,1214,1916,1635,7487,5406,537,581,848,7678,0,3059,9829,36056,2621,5414,1214,159,7802,15536,0,1039,6608,970,0,2499,9655,1212,4609,3787,1.4360888993414865E-2,"National death rate calcuated from population size and average number of deaths for 2005-2009 inclusive (supplied by ISD Scotland)",null,"LE calculated within spreadsheet using the Chiang method",null,98]
["Female 65-69",126534,13882,770,1479,8455,5481,3097,49742,3087,21940,10706,0,0,7895,0,2557,345,1107,993,1557,1479,5928,4750,427,398,739,6143,0,2935,8455,33618,2094,4866,910,195,6763,13569,0,860,6133,770,0,2369,8371,989,3959,3255,2.1763388502625807E-2,"National death rate calcuated from population size and average number of deaths for 2005-2009 inclusive (supplied by ISD Scotland)",null,"LE calculated within spreadsheet using the Chiang method",null,99]
["Female 70-74",121724,12673,587,1272,7460,5295,3111,49833,2969,20295,10336,0,0,7893,0,2590,378,1108,961,1269,1272,6025,4486,326,435,709,6052,0,3029,7460,33982,2008,4817,858,143,6040,12798,0,760,6365,587,0,2147,7497,997,3634,2991,3.2162780364988729E-2,"National death rate calcuated from population size and average number of deaths for 2005-2009 inclusive (supplied by ISD Scotland)",null,"LE calculated within spreadsheet using the Chiang method",null,100]
["Female 75-79",105266,10515,555,1070,6432,4227,3064,44649,2609,16387,8769,0,0,6989,0,2545,401,995,888,992,1070,5322,3726,314,332,534,5437,0,2465,6432,30680,1721,4342,737,118,4872,10291,0,672,5369,555,0,1917,6096,770,3410,2263,4.9069240618536389E-2,"National death rate calcuated from population size and average number of deaths for 2005-2009 inclusive (supplied by ISD Scotland)",null,"LE calculated within spreadsheet using the Chiang method",null,101]
["Female 80-84",74638,7338,429,725,5031,3090,2058,30940,2051,11500,6157,0,0,5319,0,1716,271,696,784,778,725,4082,2552,322,237,390,3855,0,1743,5031,21108,1267,2841,594,71,3407,7198,0,541,3700,429,0,1379,4302,569,2579,1471,8.1111647472588103E-2,"National death rate calcuated from population size and average number of deaths for 2005-2009 inclusive (supplied by ISD Scotland)",null,"LE calculated within spreadsheet using the Chiang method",null,102]
["Female 85-89",45718,4607,227,368,3330,1849,1299,18996,1226,6441,3976,0,0,3399,0,1118,126,412,443,499,368,2653,1611,219,116,250,2670,0,978,3330,12850,783,1612,366,55,2142,4006,0,334,2335,227,0,854,2435,372,1730,824,0.15014568410829185,"National death rate calcuated from population size and average number of deaths for 2005-2009 inclusive (supplied by ISD Scotland)",null,"LE calculated within spreadsheet using the Chiang method",null,103]
["Female 90+",23370,2373,81,166,1724,987,621,9691,677,3349,1934,0,0,1767,0,543,60,192,230,282,166,1360,813,76,72,107,1334,0,500,1724,6670,447,792,180,18,947,2167,0,215,1223,81,0,613,1182,205,823,348,null,null,null,null,null,104]
["age/sex breakdown: Q2",null,null,null,null,null,null,null,null,null,null,null,null,null,null,null,null,null,null,null,null,null,null,null,null,null,null,null,null,null,null,null,null,null,null,null,null,null,null,null,null,null,null,null,null,null,null,null,null,null,null,null,null,105]
["Male <1",31272,2777,500,1000,2511,2052,2241,5802,1921,4925,5066,119,65,2009,284,1217,666,594,436,288,1000,841,1020,517,613,229,1921,284,1193,2511,3306,1485,337,863,358,839,2969,119,574,726,500,65,918,1956,571,687,1669,6.0561448121256743E-3,"National death rate calcuated from population size and average number of deaths for 2005-2009 inclusive (supplied by ISD Scotland)",null,"LE calculated within spreadsheet using the Chiang method",null,106]
["Male 1-4",116436,10794,1869,3838,9445,7780,7897,20833,7180,19626,18425,471,214,7013,1051,4044,2530,2199,1616,1128,3838,2775,4027,1966,2428,918,6485,1051,4543,9445,11023,5564,1269,3274,1323,3294,11700,471,2039,2847,1869,214,3473,7926,2109,2810,6238,2.3672949103159429E-4,"National death rate calcuated from population size and average number of deaths for 2005-2009 inclusive (supplied by ISD Scotland)",null,"LE calculated within spreadsheet using the Chiang method",null,107]
["Male 5-9",132379,13150,2166,4495,10596,9391,8234,23671,8268,22406,20067,452,208,7948,1327,4063,2719,2439,1982,1330,4495,3122,4900,2429,2613,1164,6654,1327,5504,10596,12042,6286,1489,3732,1452,3848,12984,452,2387,3422,2166,208,4402,9422,2557,3125,7068,8.9337561977933619E-5,"National death rate calcuated from population size and average number of deaths for 2005-2009 inclusive (supplied by ISD Scotland)",null,"LE calculated within spreadsheet using the Chiang method",null,108]
["Male 10-14",144032,14711,2175,5100,11569,10014,8985,25639,8854,24088,21760,729,182,8543,1683,4430,2969,2559,2212,1296,5100,3542,5499,2698,2928,1277,7058,1683,6137,11569,12498,6642,1841,4094,1586,4400,13800,729,2442,3651,2175,182,4812,10288,2581,3674,7680,1.0116269659284038E-4,"National death rate calcuated from population size and average number of deaths for 2005-2009 inclusive (supplied by ISD Scotland)",null,"LE calculated within spreadsheet using the Chiang method",null,109]
["Male 15-19",164145,16514,2507,5204,12971,11191,10395,31616,9488,26137,25112,673,257,10318,1762,5526,3235,2875,2207,1347,5204,4403,6178,3116,3210,1256,9526,1762,6850,12971,16698,7281,2037,4475,1634,5197,14705,673,3040,4209,2507,257,5139,11432,2994,4300,7901,7.5952289809633178E-4,"National death rate calcuated from population size and average number of deaths for 2005-2009 inclusive (supplied by ISD Scotland)",null,"LE calculated within spreadsheet using the Chiang method",null,110]
["Male 20-24",186609,15952,2515,4678,12777,11370,14115,41604,8918,26610,31204,534,236,14696,1400,9131,3138,2779,2152,1362,4678,7847,5987,2879,3023,1288,15807,1400,6370,12777,26037,6766,2310,4251,1846,4727,15131,534,4070,4648,2515,236,5238,11479,3638,4442,8123,1.142844337878567E-3,"National death rate calcuated from population size and average number of deaths for 2005-2009 inclusive (supplied by ISD Scotland)",null,"LE calculated within spreadsheet using the Chiang method",null,111]
["Male 25-29",188045,14119,2517,4050,12568,10570,15560,44598,8441,26271,32137,579,242,15120,1273,10634,3236,2879,2078,1197,4050,8167,5461,2769,2416,1046,18530,1273,6495,12568,30215,6363,2076,3417,1690,4030,15388,579,4074,4468,2517,242,4628,10883,2878,4024,7774,1.3542260316098927E-3,"National death rate calcuated from population size and average number of deaths for 2005-2009 inclusive (supplied by ISD Scotland)",null,"LE calculated within spreadsheet using the Chiang method",null,112]
["Male 30-34",165793,12599,2420,3997,11213,10119,12343,39165,8321,23723,28274,580,236,11414,1389,8015,2800,2651,2037,1229,3997,5211,4964,2301,2367,959,15423,1389,6497,11213,26967,6284,1841,3200,1528,3464,13914,580,3552,3743,2420,236,4171,9809,2393,3354,7284,1.8834825962515003E-3,"National death rate calcuated from population size and average number of deaths for 2005-2009 inclusive (supplied by ISD Scotland)",null,"LE calculated within spreadsheet using the Chiang method",null,113]
["Male 35-39",171182,15672,2622,4878,12277,11399,11062,35860,8883,27371,28567,625,173,9992,1801,6298,3106,3106,2399,1627,4878,4003,6066,2562,3102,1132,13346,1801,6850,12277,22357,6484,1818,3776,1658,4477,15645,625,2883,4342,2622,173,5129,11726,2922,3649,8343,2.3115702853008999E-3,"National death rate calcuated from population size and average number of deaths for 2005-2009 inclusive (supplied by ISD Scotland)",null,"LE calculated within spreadsheet using the Chiang method",null,114]
["Male 40-44",185043,18335,3353,5871,14753,12717,11622,35999,10243,29590,28612,786,257,10673,2232,6123,3467,3175,2664,1853,5871,4338,6927,2919,3591,1388,11692,2232,7588,14753,20270,7579,2167,4326,2032,5293,16468,786,3160,4796,3353,257,6115,13122,3276,4459,9003,3.3468609031673917E-3,"National death rate calcuated from population size and average number of deaths for 2005-2009 inclusive (supplied by ISD Scotland)",null,"LE calculated within spreadsheet using the Chiang method",null,115]
["Male 45-49",182687,18103,3094,6106,13986,12313,11548,35450,10969,29629,27257,733,283,10918,2298,6341,3292,3280,2715,1597,6106,4463,6837,3361,3545,1584,10698,2298,7385,13986,19085,8254,2244,4560,1915,5235,16250,733,3175,4694,3094,283,6031,13379,3331,4482,8454,4.4750763898390115E-3,"National death rate calcuated from population size and average number of deaths for 2005-2009 inclusive (supplied by ISD Scotland)",null,"LE calculated within spreadsheet using the Chiang method",null,116]
["Male 50-54",165669,16364,3057,5621,13042,10724,11353,30791,10588,27038,24089,762,199,9895,2146,6238,3279,2967,2670,1368,5621,4133,5978,2848,3210,1487,9329,2146,6682,13042,16282,7918,1975,4225,1836,4872,14688,762,2795,3972,3057,199,5514,12350,2674,4227,7325,7.2939973150930124E-3,"National death rate calcuated from population size and average number of deaths for 2005-2009 inclusive (supplied by ISD Scotland)",null,"LE calculated within spreadsheet using the Chiang method",null,117]
["Male 55-59",152444,16031,2793,5671,12308,10170,10531,25841,10144,24882,21652,781,235,9166,2239,5585,3227,2968,2416,1418,5671,3719,6130,2294,2728,1240,8275,2239,6484,12308,12795,7728,1963,3867,1719,4598,13404,781,2479,3619,2793,235,5303,11478,2268,3930,6782,1.100690921077294E-2,"National death rate calcuated from population size and average number of deaths for 2005-2009 inclusive (supplied by ISD Scotland)",null,"LE calculated within spreadsheet using the Chiang method",null,118]
["Male 60-64",150760,16763,2897,6049,12418,10205,9924,24269,10114,24176,21225,835,212,9382,2291,4880,3495,2857,2485,1551,6049,4148,6232,2280,2868,1088,7511,2291,6408,12418,11322,7629,1834,3868,1549,4859,13242,835,2377,3765,2897,212,5672,10934,2246,3980,6978,1.6729692721377538E-2,"National death rate calcuated from population size and average number of deaths for 2005-2009 inclusive (supplied by ISD Scotland)",null,"LE calculated within spreadsheet using the Chiang method",null,119]
["Male 65-69",120137,13216,2144,5130,9751,8142,7696,19511,8099,19964,16508,694,168,7415,1699,3678,2634,2237,2164,1101,5130,3474,4798,1865,2386,831,5660,1699,5244,9751,8835,5935,1339,3198,1384,3655,11179,694,1704,3480,2144,168,4763,8785,1797,3161,5264,2.6436067443463756E-2,"National death rate calcuated from population size and average number of deaths for 2005-2009 inclusive (supplied by ISD Scotland)",null,"LE calculated within spreadsheet using the Chiang method",null,120]
["Male 70-74",101827,11211,1992,4238,8207,6684,7091,16887,6184,16107,14520,579,96,6547,1484,3592,2364,1928,1600,969,4238,3189,4156,1788,2290,775,5323,1484,4136,8207,7863,4584,1096,2617,1135,3181,8730,579,1430,2969,1992,96,3874,7377,1579,2396,4290,4.1069856765623754E-2,"National death rate calcuated from population size and average number of deaths for 2005-2009 inclusive (supplied by ISD Scotland)",null,"LE calculated within spreadsheet using the Chiang method",null,121]
["Male 75-79",76621,8542,1645,3066,6082,5003,5724,12722,4449,11975,10941,291,71,4960,1150,3007,1849,1476,1266,714,3066,2445,3186,1256,1904,593,4169,1150,3080,6082,6255,3183,795,1819,868,2340,6398,291,1039,2161,1645,71,3016,5577,1209,1662,3049,6.6036602458852262E-2,"National death rate calcuated from population size and average number of deaths for 2005-2009 inclusive (supplied by ISD Scotland)",null,"LE calculated within spreadsheet using the Chiang method",null,122]
["Male 80-84",48275,5055,1178,1780,3998,2997,3420,8163,2813,7616,6867,247,54,3414,673,1800,1109,1063,788,416,1780,1584,1941,884,1130,344,2838,673,1894,3998,4172,2025,489,1236,511,1183,3979,247,767,1260,1178,54,1931,3637,687,1014,1663,0.1025071405902888,"National death rate calcuated from population size and average number of deaths for 2005-2009 inclusive (supplied by ISD Scotland)",null,"LE calculated within spreadsheet using the Chiang method",null,123]
["Male 85-89",23980,2579,606,939,1861,1533,1791,3958,1390,3444,3408,154,22,1967,328,993,547,660,383,172,939,851,904,476,573,179,1546,328,1054,1861,2077,1007,199,557,251,635,1652,154,456,573,606,22,1040,1792,307,454,732,0.17940501888828925,"National death rate calcuated from population size and average number of deaths for 2005-2009 inclusive (supplied by ISD Scotland)",null,"LE calculated within spreadsheet using the Chiang method",null,124]
["Male 90+",8132,897,137,313,721,485,593,1179,474,1262,1175,35,11,727,123,312,186,229,170,35,313,330,290,160,161,38,565,123,315,721,594,304,63,192,95,195,551,35,168,176,137,11,412,711,135,148,257,null,null,null,null,null,125]
["Female <1",30074,2731,496,981,2301,2077,2204,5434,1713,4794,4877,114,39,2064,249,1220,628,669,419,271,981,809,1071,438,569,214,1955,249,1270,2301,3019,1294,322,800,356,786,2850,114,586,771,496,39,874,1944,536,670,1553,4.3626640396861698E-3,"National death rate calcuated from population size and average number of deaths for 2005-2009 inclusive (supplied by ISD Scotland)",null,"LE calculated within spreadsheet using the Chiang method",null,126]
["Female 1-4",110650,10427,1856,3689,8710,7630,7577,19728,6687,18527,17205,415,135,6968,1096,4094,2170,2315,1642,931,3689,2705,3896,1690,2184,847,6220,1096,4691,8710,10619,5045,1179,2907,1313,3257,11090,415,1948,2826,1856,135,3274,7437,2008,2567,5894,2.0952979608941208E-4,"National death rate calcuated from population size and average number of deaths for 2005-2009 inclusive (supplied by ISD Scotland)",null,"LE calculated within spreadsheet using the Chiang method",null,127]
["Female 5-9",126577,12668,1836,4157,10289,8714,8011,22516,7760,21447,19236,585,169,7828,1361,4114,2583,2581,1846,1169,4157,3052,4885,2102,2563,1010,5989,1361,5194,10289,11483,5914,1412,3555,1314,3988,12506,585,2195,3473,1836,169,3795,8941,2351,3036,7129,1.4806156243911943E-4,"National death rate calcuated from population size and average number of deaths for 2005-2009 inclusive (supplied by ISD Scotland)",null,"LE calculated within spreadsheet using the Chiang method",null,128]
["Female 10-14",137431,14255,2136,4888,11289,9776,7935,24021,8466,23454,20620,589,179,8119,1704,3827,2734,2684,2155,1367,4888,3072,5190,2369,2865,1372,6243,1704,5854,11289,11904,6311,1638,3996,1374,4507,13360,589,2363,3370,2136,179,4558,10094,2555,3368,7516,1.4037057832678272E-4,"National death rate calcuated from population size and average number of deaths for 2005-2009 inclusive (supplied by ISD Scotland)",null,"LE calculated within spreadsheet using the Chiang method",null,129]
["Female 15-19",158191,15696,2458,5077,12593,11107,10418,29953,8847,24267,24740,683,203,10590,1559,5322,3356,3085,2304,1410,5077,4971,6047,2688,3260,1355,9867,1559,6634,12593,16480,6543,1837,4283,1740,4610,13373,683,2534,3823,2458,203,5039,10894,3063,3770,7330,3.1382985400635192E-4,"National death rate calcuated from population size and average number of deaths for 2005-2009 inclusive (supplied by ISD Scotland)",null,"LE calculated within spreadsheet using the Chiang method",null,130]
["Female 20-24",185087,15585,2763,4593,13369,11733,15145,38697,7979,25784,32404,491,242,15215,1087,10311,3149,3036,2162,1360,4593,8777,5889,2782,3024,1298,17280,1087,6618,13369,24050,5817,2011,4097,1685,4589,14874,491,3402,4415,2763,242,5107,10910,3755,4141,8003,3.7582349560065438E-4,"National death rate calcuated from population size and average number of deaths for 2005-2009 inclusive (supplied by ISD Scotland)",null,"LE calculated within spreadsheet using the Chiang method",null,131]
["Female 25-29",186058,14818,2361,4543,12518,11073,13910,41532,8306,26849,34292,555,217,13892,1192,9370,3037,3132,1944,1376,4543,7266,5717,2611,2768,1130,19915,1192,6557,12518,27438,6362,1861,3821,1503,4361,15549,555,3494,4494,2361,217,4740,11300,3140,3998,7788,3.6025488032783196E-4,"National death rate calcuated from population size and average number of deaths for 2005-2009 inclusive (supplied by ISD Scotland)",null,"LE calculated within spreadsheet using the Chiang method",null,132]
["Female 30-34",163784,14239,2210,4421,11588,11058,10418,35400,8347,25321,28381,583,331,10039,1448,5989,2871,2675,1983,1328,4421,4676,5325,2456,2829,1054,14135,1448,6626,11588,22656,6364,1670,3874,1558,4275,14971,583,2688,3991,2210,331,4639,10350,3104,3573,7543,7.2237229489786631E-4,"National death rate calcuated from population size and average number of deaths for 2005-2009 inclusive (supplied by ISD Scotland)",null,"LE calculated within spreadsheet using the Chiang method",null,133]
["Female 35-39",180460,17585,2819,5577,13438,12584,11578,34501,10007,29901,29304,727,245,10454,1740,6344,3348,3255,2455,1661,5577,4214,6646,3165,3332,1347,12112,1740,7315,13438,19101,7552,2006,4498,1886,5396,17156,727,2985,4707,2819,245,5543,12745,3608,4175,9362,1.02781929258764E-3,"National death rate calcuated from population size and average number of deaths for 2005-2009 inclusive (supplied by ISD Scotland)",null,"LE calculated within spreadsheet using the Chiang method",null,134]
["Female 40-44",199405,20857,3157,6606,15695,14069,12135,37599,11575,33040,30518,724,228,11141,2061,6278,3774,3257,2714,1985,6606,4773,7979,3613,3979,1750,11326,2061,8274,15695,19170,8861,2336,5272,2083,6339,18494,724,3111,5563,3157,228,6539,14546,3810,5167,9941,1.6632618913235667E-3,"National death rate calcuated from population size and average number of deaths for 2005-2009 inclusive (supplied by ISD Scotland)",null,"LE calculated within spreadsheet using the Chiang method",null,135]
["Female 45-49",195652,20081,3068,6555,15331,13373,12287,37869,11712,32015,28648,788,237,11487,2201,6864,3568,3358,2860,1744,6555,4971,7387,3666,3898,1818,10469,2201,8170,15331,18967,8852,2675,5179,1855,6001,17704,788,3158,5439,3068,237,6693,14311,3459,5304,9102,2.6937322622540769E-3,"National death rate calcuated from population size and average number of deaths for 2005-2009 inclusive (supplied by ISD Scotland)",null,"LE calculated within spreadsheet using the Chiang method",null,136]
["Female 50-54",176250,18002,3003,6190,14121,11326,11440,32911,10722,29629,25504,803,236,10371,1992,6046,3358,3223,2635,1478,6190,4415,6567,3228,3426,1468,9059,1992,7102,14121,16637,8087,2210,4727,2036,5368,16167,803,2733,4476,3003,236,6067,13462,2746,4892,8292,4.4989456532157574E-3,"National death rate calcuated from population size and average number of deaths for 2005-2009 inclusive (supplied by ISD Scotland)",null,"LE calculated within spreadsheet using the Chiang method",null,137]
["Female 55-59",161590,16969,2761,5985,13349,10770,10974,27100,10699,27071,23262,735,254,9601,2060,5408,3576,2865,2596,1449,5985,4076,6042,2514,3119,1310,8083,2060,6953,13349,12630,8103,2082,4439,1990,5207,14880,735,2660,4174,2761,254,5720,12191,2368,4390,7621,6.4236693609882566E-3,"National death rate calcuated from population size and average number of deaths for 2005-2009 inclusive (supplied by ISD Scotland)",null,"LE calculated within spreadsheet using the Chiang method",null,138]
["Female 60-64",162769,18034,3122,6245,13462,11209,10996,26495,10340,26542,23480,820,211,9679,2134,5401,3778,2918,2730,1780,6245,4281,6589,2694,3084,1210,8228,2134,6962,13462,11736,7610,2019,4449,1817,5382,14848,820,2480,4401,3122,211,6063,11694,2467,4435,7719,1.0521629248426994E-2,"National death rate calcuated from population size and average number of deaths for 2005-2009 inclusive (supplied by ISD Scotland)",null,"LE calculated within spreadsheet using the Chiang method",null,139]
["Female 65-69",138177,15319,2685,5488,10947,9589,8792,22853,8772,23498,19055,737,163,8424,1855,4235,2970,2555,2335,1299,5488,3930,5572,2428,2803,1108,6623,1855,6043,10947,10185,6437,1610,3406,1587,4525,13281,737,1939,4001,2685,163,5222,10217,2247,3521,6223,1.6824723702746271E-2,"National death rate calcuated from population size and average number of deaths for 2005-2009 inclusive (supplied by ISD Scotland)",null,"LE calculated within spreadsheet using the Chiang method",null,140]
["Female 70-74",127643,13719,2350,4694,9638,8357,8598,23114,7761,20963,17746,588,118,8205,1792,4513,2626,2444,2288,1201,4694,3966,5171,2251,2825,1161,6750,1792,5165,9638,10979,5473,1486,3072,1459,3903,11617,588,1795,4012,2350,118,4645,9346,1991,3225,5099,2.5172437764063426E-2,"National death rate calcuated from population size and average number of deaths for 2005-2009 inclusive (supplied by ISD Scotland)",null,"LE calculated within spreadsheet using the Chiang method",null,141]
["Female 75-79",111446,11905,2227,4156,8591,6775,7999,21038,6163,17722,15431,480,107,7302,1550,4460,2125,2337,1694,828,4156,3385,4437,2023,2406,1032,6233,1550,4236,8591,10519,4469,1180,2837,1414,3190,9210,480,1580,3396,2227,107,4278,8512,1711,2888,3955,4.4394997039137227E-2,"National death rate calcuated from population size and average number of deaths for 2005-2009 inclusive (supplied by ISD Scotland)",null,"LE calculated within spreadsheet using the Chiang method",null,142]
["Female 80-84",82955,8282,1703,3006,6555,4817,6083,15064,4732,13275,11512,344,98,6276,1208,3340,1644,2040,1266,601,3006,2714,2981,1551,1893,654,5163,1208,3140,6555,7812,3466,867,1801,1099,2093,6506,344,1522,2174,1703,98,3208,6769,1076,2006,2655,7.3692721090053023E-2,"National death rate calcuated from population size and average number of deaths for 2005-2009 inclusive (supplied by ISD Scotland)",null,"LE calculated within spreadsheet using the Chiang method",null,143]
["Female 85-89",52017,5574,1122,1915,4181,3240,3666,8938,2926,7737,7170,210,95,4284,959,1978,1073,1367,845,446,1915,1822,1993,947,1152,373,3248,959,2103,4181,4895,2081,582,1193,615,1489,3668,210,1095,1076,1122,95,2092,4069,691,1065,1577,0.15636309216075753,"National death rate calcuated from population size and average number of deaths for 2005-2009 inclusive (supplied by ISD Scotland)",null,"LE calculated within spreadsheet using the Chiang method",null,144]
["Female 90+",24908,2761,470,1085,2215,1374,1763,4365,1468,3551,3329,150,57,1827,493,816,652,635,485,137,1085,744,923,433,499,182,1292,493,919,2215,2421,983,278,670,295,695,1689,150,448,418,470,57,1143,1862,318,633,868,null,null,null,null,null,145]
["age/sex breakdown: Q3",null,null,null,null,null,null,null,null,null,null,null,null,null,null,null,null,null,null,null,null,null,null,null,null,null,null,null,null,null,null,null,null,null,null,null,null,null,null,null,null,null,null,null,null,null,null,null,null,null,null,null,null,146]
["Male <1",28766,1369,863,1398,2039,1545,3400,4219,2422,4103,4863,89,269,1804,383,941,1414,643,718,342,1398,476,345,234,788,184,2176,383,873,2039,2043,1704,238,441,1045,480,1886,89,685,1055,863,269,544,2217,330,465,1458,4.4682097861119246E-3,"National death rate calcuated from population size and average number of deaths for 2005-2009 inclusive (supplied by ISD Scotland)",null,"LE calculated within spreadsheet using the Chiang method",null,147]
["Male 1-4",109815,5570,3554,5530,7985,6335,12829,15275,9794,15843,16953,372,1011,7125,1639,3037,5692,2664,3109,1349,5530,1788,1435,884,2813,717,6859,1639,3566,7985,6926,6685,1001,1811,4100,2037,7497,372,2673,3942,3554,1011,2098,8346,1420,1805,5470,2.4109398808031324E-4,"National death rate calcuated from population size and average number of deaths for 2005-2009 inclusive (supplied by ISD Scotland)",null,"LE calculated within spreadsheet using the Chiang method",null,148]
["Male 5-9",131075,7316,4530,6934,9774,7254,15127,17466,13113,19469,17663,420,1315,8664,2030,3660,6746,3402,4232,1608,6934,1756,2008,1154,3106,967,6579,2030,4005,9774,7209,8881,1327,2194,4721,2426,9154,420,3506,4716,4530,1315,2882,10315,1641,2093,5784,1.7882822803579542E-4,"National death rate calcuated from population size and average number of deaths for 2005-2009 inclusive (supplied by ISD Scotland)",null,"LE calculated within spreadsheet using the Chiang method",null,149]
["Male 10-14",146678,8709,5152,8578,10116,7733,16717,19332,15980,21050,19106,559,1451,10014,2181,3479,7664,3845,5361,1875,8578,2001,2371,1264,3840,1127,6839,2181,4090,10116,7483,10619,1670,2360,5574,3070,9300,559,4168,5229,5152,1451,3268,11750,1768,2559,6067,1.5170403202933823E-4,"National death rate calcuated from population size and average number of deaths for 2005-2009 inclusive (supplied by ISD Scotland)",null,"LE calculated within spreadsheet using the Chiang method",null,150]
["Male 15-19",159461,9336,5394,8705,10690,8339,18610,23527,15851,21984,21081,562,1500,11568,2314,4916,7978,4136,5309,1901,8705,3015,2663,1286,4202,1261,7877,2314,4449,10690,10530,10542,1930,2687,5716,3195,9531,562,4417,5545,5394,1500,3478,12453,1989,2975,6315,6.7441730963179293E-4,"National death rate calcuated from population size and average number of deaths for 2005-2009 inclusive (supplied by ISD Scotland)",null,"LE calculated within spreadsheet using the Chiang method",null,151]
["Male 20-24",172572,8367,4135,6860,10627,9102,21033,31883,12751,20773,29829,605,1253,13511,1843,8951,7252,3706,4182,2261,6860,5816,2770,1234,4051,1178,17376,1843,3941,10627,19291,8569,1812,2303,4830,2547,9117,605,3989,5490,4135,1253,3050,11656,2900,2878,6099,8.8048622405928608E-4,"National death rate calcuated from population size and average number of deaths for 2005-2009 inclusive (supplied by ISD Scotland)",null,"LE calculated within spreadsheet using the Chiang method",null,152]
["Male 25-29",173497,6674,3777,5475,10231,9114,20290,35350,11999,20984,35693,482,1154,10742,1532,9764,6333,3094,3584,2342,5475,3910,2084,1200,2964,839,24804,1532,4533,10231,23468,8415,1465,2057,4193,2049,9505,482,3738,5563,3777,1154,2541,11479,2239,2815,5868,9.9650295546684E-4,"National death rate calcuated from population size and average number of deaths for 2005-2009 inclusive (supplied by ISD Scotland)",null,"LE calculated within spreadsheet using the Chiang method",null,153]
["Male 30-34",160910,6641,3947,5608,9882,8211,18299,29485,12046,20640,33887,499,1247,8670,1848,7580,6264,3070,3556,2112,5608,2624,2152,1009,3011,763,22153,1848,4518,9882,19145,8490,1154,2059,4455,2051,9945,499,2976,4961,3947,1247,2438,10695,1581,2453,6664,1.1979843438024911E-3,"National death rate calcuated from population size and average number of deaths for 2005-2009 inclusive (supplied by ISD Scotland)",null,"LE calculated within spreadsheet using the Chiang method",null,154]
["Male 35-39",176562,9076,5296,7814,12412,9666,19857,28245,14758,23822,31065,586,1416,10173,2376,6054,8138,3908,4797,2307,7814,2601,2695,1351,4084,987,16384,2376,5191,12412,15446,9961,1483,2517,5665,3107,11408,586,3664,6012,5296,1416,3274,12414,2168,2966,8080,1.6348014386252658E-3,"National death rate calcuated from population size and average number of deaths for 2005-2009 inclusive (supplied by ISD Scotland)",null,"LE calculated within spreadsheet using the Chiang method",null,155]
["Male 40-44",197583,11220,6635,9980,13900,10723,22524,29065,19346,27886,29078,768,1611,12095,2752,6000,9662,4464,6314,2724,9980,2656,3427,1669,4536,1238,13136,2752,5731,13900,13374,13032,2176,2991,6862,3764,12885,768,4975,7068,6635,1611,4029,15001,2268,3540,8415,2.0985150126461823E-3,"National death rate calcuated from population size and average number of deaths for 2005-2009 inclusive (supplied by ISD Scotland)",null,"LE calculated within spreadsheet using the Chiang method",null,156]
["Male 45-49",194828,11355,6857,10934,13609,10513,21420,28669,20458,26583,26211,911,1810,12684,2814,5477,9214,4768,6701,2795,10934,2756,3077,1494,4495,1400,11095,2814,5489,13609,12777,13757,2460,3009,6729,3886,11725,911,5160,6785,6857,1810,4392,14858,2229,3753,7612,3.1664640270656023E-3,"National death rate calcuated from population size and average number of deaths for 2005-2009 inclusive (supplied by ISD Scotland)",null,"LE calculated within spreadsheet using the Chiang method",null,157]
["Male 50-54",175613,10443,6060,10177,12405,9094,19731,24294,19887,23155,23158,854,1683,11868,2804,4930,9061,4444,6468,2085,10177,2623,2864,1324,4248,1337,9813,2804,5018,12405,10665,13419,2052,2909,5740,3641,9847,854,4801,5547,6060,1683,3938,13308,1991,3369,6188,5.1463833996749659E-3,"National death rate calcuated from population size and average number of deaths for 2005-2009 inclusive (supplied by ISD Scotland)",null,"LE calculated within spreadsheet using the Chiang method",null,158]
["Male 55-59",162440,9904,6059,10495,11247,8346,19124,20797,20256,20110,20041,782,1747,10820,2712,4943,8969,4234,6540,1895,10495,2102,2590,1222,3650,1139,8031,2712,4549,11247,8858,13716,1550,2955,5212,3447,8661,782,4484,5042,6059,1747,3867,11449,1902,2986,5405,7.7142010080047431E-3,"National death rate calcuated from population size and average number of deaths for 2005-2009 inclusive (supplied by ISD Scotland)",null,"LE calculated within spreadsheet using the Chiang method",null,159]
["Male 60-64",161710,10384,6603,11478,11972,8335,19480,18839,20878,18519,18638,794,1753,11232,2805,4874,9197,4474,7284,1847,11478,2085,2677,1114,3360,997,7284,2805,4536,11972,7278,13594,1524,2921,5409,3796,8279,794,4673,5098,6603,1753,3911,10240,1952,2828,5073,1.3107909011026765E-2,"National death rate calcuated from population size and average number of deaths for 2005-2009 inclusive (supplied by ISD Scotland)",null,"LE calculated within spreadsheet using the Chiang method",null,160]
["Male 65-69",125415,8336,5189,9425,9343,6334,14906,13580,16924,14570,13743,720,1315,8851,2179,3519,6950,3438,6273,1286,9425,1610,2176,742,2790,866,4963,2179,3577,9343,5146,10651,1118,2057,4437,2976,6088,720,3803,3723,5189,1315,3184,8482,1471,1985,3933,2.0239849544481259E-2,"National death rate calcuated from population size and average number of deaths for 2005-2009 inclusive (supplied by ISD Scotland)",null,"LE calculated within spreadsheet using the Chiang method",null,161]
["Male 70-74",102564,6660,4053,7896,7471,5242,12586,11442,13122,12029,11462,476,1021,7325,1779,3374,5478,2691,5057,982,7896,1428,1708,642,2251,859,4262,1779,3039,7471,4047,8065,980,1739,3734,2412,4859,476,3206,3124,4053,1021,2540,7170,1221,1790,3210,3.3849414257961966E-2,"National death rate calcuated from population size and average number of deaths for 2005-2009 inclusive (supplied by ISD Scotland)",null,"LE calculated within spreadsheet using the Chiang method",null,162]
["Male 75-79",76406,4475,3105,5935,5461,3600,9457,9039,9654,8842,8616,328,681,6013,1200,2691,4062,2011,3434,727,5935,1248,1011,537,1851,678,3394,1200,1965,5461,3117,6220,699,1400,2704,1747,3694,328,2754,2530,3105,681,1717,5148,908,1478,1971,5.7181139021221308E-2,"National death rate calcuated from population size and average number of deaths for 2005-2009 inclusive (supplied by ISD Scotland)",null,"LE calculated within spreadsheet using the Chiang method",null,163]
["Male 80-84",47593,2697,1957,3621,3458,2183,5964,5549,5938,5560,5361,198,441,3809,857,1633,2736,1311,2186,404,3621,899,609,244,1241,409,2234,857,1208,3458,1820,3752,472,811,1595,939,2140,198,1599,1827,1957,441,1149,3420,571,777,1075,9.7975221694973483E-2,"National death rate calcuated from population size and average number of deaths for 2005-2009 inclusive (supplied by ISD Scotland)",null,"LE calculated within spreadsheet using the Chiang method",null,164]
["Male 85-89",23854,1251,982,1797,1675,1096,3003,2848,2809,2636,2888,114,227,2114,414,796,1423,665,1030,205,1797,613,267,130,657,190,1398,414,600,1675,924,1779,192,364,784,443,964,114,836,1067,982,227,541,1672,291,345,469,0.17718641347954001,"National death rate calcuated from population size and average number of deaths for 2005-2009 inclusive (supplied by ISD Scotland)",null,"LE calculated within spreadsheet using the Chiang method",null,165]
["Male 90+",8713,448,331,687,720,405,1096,1075,979,879,1010,35,74,878,96,239,520,281,408,67,687,208,107,58,277,46,433,96,221,720,323,571,73,150,337,178,300,35,389,448,331,74,163,579,117,127,150,null,null,null,null,null,166]
["Female <1",27728,1269,874,1325,2019,1499,3254,4173,2313,4041,4614,92,238,1687,330,931,1368,602,717,350,1325,448,324,244,674,173,2125,330,840,2019,2089,1596,252,441,955,484,1873,92,637,941,874,238,461,2168,309,474,1374,3.2833199709846137E-3,"National death rate calcuated from population size and average number of deaths for 2005-2009 inclusive (supplied by ISD Scotland)",null,"LE calculated within spreadsheet using the Chiang method",null,167]
["Female 1-4",104708,5086,3177,5588,7735,5995,12138,14772,9367,15450,16092,406,938,6491,1473,3131,5350,2521,2948,1341,5588,1509,1309,894,2540,732,6526,1473,3317,7735,6668,6419,1028,1856,3657,1792,7258,406,2461,3676,3177,938,1985,8192,1337,1774,5170,1.9078029139179241E-4,"National death rate calcuated from population size and average number of deaths for 2005-2009 inclusive (supplied by ISD Scotland)",null,"LE calculated within spreadsheet using the Chiang method",null,168]
["Female 5-9",126132,6997,4477,6784,9039,7039,14092,17347,12538,18512,17362,411,1200,8290,2044,3184,6524,3095,4148,1529,6784,1862,1773,1173,3051,919,6325,2044,3827,9039,7261,8390,1449,2253,4384,2494,8479,411,3333,4447,4477,1200,2730,10033,1683,2098,5733,6.9984447900466566E-5,"National death rate calcuated from population size and average number of deaths for 2005-2009 inclusive (supplied by ISD Scotland)",null,"LE calculated within spreadsheet using the Chiang method",null,169]
["Female 10-14",139583,7902,5016,7929,10024,7359,16003,18470,15017,19637,18658,550,1435,9366,2217,3247,7490,3539,5059,1775,7929,1939,1988,1282,3811,1049,6250,2217,3974,10024,7386,9958,1584,2586,5266,2731,8774,550,3888,4886,5016,1435,3183,10863,1610,2283,6011,1.2437295302848142E-4,"National death rate calcuated from population size and average number of deaths for 2005-2009 inclusive (supplied by ISD Scotland)",null,"LE calculated within spreadsheet using the Chiang method",null,170]
["Female 15-19",151944,8357,4922,7846,10307,8410,18338,23117,14346,19959,21425,618,1386,10856,2057,5411,7660,3532,4763,1941,7846,3639,2229,1248,4698,1048,7960,2057,4150,10307,11401,9583,1657,2549,5267,2939,8723,618,3685,5220,4922,1386,3189,11236,2319,2543,6218,3.3697842677326634E-4,"National death rate calcuated from population size and average number of deaths for 2005-2009 inclusive (supplied by ISD Scotland)",null,"LE calculated within spreadsheet using the Chiang method",null,171]
["Female 20-24",167413,6810,3817,6318,10019,8837,20372,33544,10352,19218,32880,504,1016,12360,1366,10023,6278,2994,3352,1478,6318,5895,1839,1307,4163,974,20789,1366,4013,10019,22038,7000,1581,2181,4071,2341,8438,504,3471,5064,3817,1016,2630,10780,3346,2580,5747,3.3007699680713982E-4,"National death rate calcuated from population size and average number of deaths for 2005-2009 inclusive (supplied by ISD Scotland)",null,"LE calculated within spreadsheet using the Chiang method",null,172]
["Female 25-29",169727,5970,3804,5920,10171,8308,18697,34182,11155,20265,38151,485,984,10014,1621,8637,6041,3029,3230,1547,5920,3700,1530,1009,3058,833,26969,1621,4696,10171,22841,7925,1298,2247,4019,2151,9320,485,3285,5596,3804,984,2289,10945,2065,2605,5877,3.9815710141630168E-4,"National death rate calcuated from population size and average number of deaths for 2005-2009 inclusive (supplied by ISD Scotland)",null,"LE calculated within spreadsheet using the Chiang method",null,173]
["Female 30-34",159870,6918,4069,6295,10720,8453,16727,28106,12020,21093,32340,495,1355,9291,1988,5718,6622,3458,3625,1781,6295,2559,1890,1150,3356,912,20146,1988,4689,10720,16667,8395,1386,2264,4387,2409,9994,495,3274,5356,4069,1355,2619,11099,1983,2635,6574,5.0221034553311796E-4,"National death rate calcuated from population size and average number of deaths for 2005-2009 inclusive (supplied by ISD Scotland)",null,"LE calculated within spreadsheet using the Chiang method",null,174]
["Female 35-39",182846,9575,5677,8581,12887,10186,20104,28573,16118,25226,30047,586,1503,11335,2448,5314,8788,4210,5227,2211,8581,2762,2566,1608,4545,1154,14477,2448,5715,12887,14215,10891,1730,2894,6002,3349,11507,586,4363,6746,5677,1503,3660,13719,2260,3120,8131,9.0306575252884348E-4,"National death rate calcuated from population size and average number of deaths for 2005-2009 inclusive (supplied by ISD Scotland)",null,"LE calculated within spreadsheet using the Chiang method",null,175]
["Female 40-44",204996,11538,6829,10795,14410,11347,22209,30647,20494,28998,29208,810,1580,13190,2941,5743,9909,4896,6799,2785,10795,2832,3168,1747,5184,1462,12128,2941,6120,14410,13543,13695,2413,3467,6557,4046,12852,810,5462,7694,6829,1580,4324,16146,2442,3788,8429,1.3737190672206531E-3,"National death rate calcuated from population size and average number of deaths for 2005-2009 inclusive (supplied by ISD Scotland)",null,"LE calculated within spreadsheet using the Chiang method",null,176]
["Female 45-49",202729,12101,7100,11785,14240,10528,21798,29721,21194,27828,27298,810,1660,13886,2780,5595,9704,5260,7012,2440,11785,3018,3145,1660,4707,1539,11327,2780,5718,14240,13170,14182,2510,3541,6499,4222,12147,810,5608,6951,7100,1660,4734,15681,2370,3891,7723,2.1359715880263828E-3,"National death rate calcuated from population size and average number of deaths for 2005-2009 inclusive (supplied by ISD Scotland)",null,"LE calculated within spreadsheet using the Chiang method",null,177]
["Female 50-54",181789,11022,6426,10618,13033,9269,20042,25633,20753,24940,22893,762,1566,12114,2718,5289,9004,4578,6630,2102,10618,2646,2759,1538,4240,1387,9233,2718,5202,13033,11086,14123,2126,3223,5749,4006,10571,762,4890,5902,6426,1566,4257,14369,1965,3594,6197,3.4926512346380133E-3,"National death rate calcuated from population size and average number of deaths for 2005-2009 inclusive (supplied by ISD Scotland)",null,"LE calculated within spreadsheet using the Chiang method",null,178]
["Female 55-59",168767,10481,6196,10861,12124,8937,19754,21612,20408,21341,20730,788,1496,11388,2651,5168,9253,4445,6986,1923,10861,2355,2702,1404,3887,1238,8017,2651,4992,12124,8356,13422,1857,3095,5333,3662,9284,788,4588,5549,6196,1496,4117,12057,2022,3208,5731,5.3473473358237747E-3,"National death rate calcuated from population size and average number of deaths for 2005-2009 inclusive (supplied by ISD Scotland)",null,"LE calculated within spreadsheet using the Chiang method",null,179]
["Female 60-64",168891,10955,6744,11709,12823,8656,19658,20037,20902,20415,19951,793,1469,12220,2559,5033,8866,4694,7664,1830,11709,2349,2921,1299,3867,1239,7328,2559,4771,12823,7291,13238,1667,3171,5759,3917,8947,793,5177,5545,6744,1469,4117,11468,2055,2996,5585,8.3389986964467252E-3,"National death rate calcuated from population size and average number of deaths for 2005-2009 inclusive (supplied by ISD Scotland)",null,"LE calculated within spreadsheet using the Chiang method",null,180]
["Female 65-69",138124,9053,5322,10074,9943,7260,16016,15889,17181,17145,15929,762,1328,9898,2324,4061,7080,3690,6195,1412,10074,1858,2288,971,3229,1020,5813,2324,4077,9943,5619,10986,1391,2381,4875,3345,7165,762,4350,4497,5322,1328,3420,9980,1771,2391,4506,1.3253003260370091E-2,"National death rate calcuated from population size and average number of deaths for 2005-2009 inclusive (supplied by ISD Scotland)",null,"LE calculated within spreadsheet using the Chiang method",null,181]
["Female 70-74",120141,7261,4563,8371,8564,6202,14305,14967,14153,15233,14098,560,1054,8888,1922,4111,5998,3039,5263,1168,8371,2035,1783,734,2994,1059,5413,1922,3510,8564,5595,8890,1206,2116,4196,2627,6299,560,3814,4118,4563,1054,2851,8934,1524,2255,3575,2.236666029439878E-2,"National death rate calcuated from population size and average number of deaths for 2005-2009 inclusive (supplied by ISD Scotland)",null,"LE calculated within spreadsheet using the Chiang method",null,182]
["Female 75-79",100381,5851,3682,6671,6754,5018,12403,13075,11724,12777,11874,424,769,7769,1590,3853,5101,2455,4457,847,6671,1946,1343,648,2688,1009,4877,1590,2818,6754,4985,7267,1058,1797,3449,2175,5163,424,3368,3311,3682,769,2333,7614,1353,2064,2512,3.9151295866598497E-2,"National death rate calcuated from population size and average number of deaths for 2005-2009 inclusive (supplied by ISD Scotland)",null,"LE calculated within spreadsheet using the Chiang method",null,183]
["Female 80-84",75560,3997,2770,5125,5702,3713,9353,9675,8531,9108,9004,349,545,6403,1285,3028,4017,2044,3179,704,5125,1658,781,496,2061,742,3877,1285,2047,5702,3680,5352,704,1297,2308,1558,3594,349,2701,2589,2770,545,1658,5514,962,1464,1769,6.9160279691357227E-2,"National death rate calcuated from population size and average number of deaths for 2005-2009 inclusive (supplied by ISD Scotland)",null,"LE calculated within spreadsheet using the Chiang method",null,184]
["Female 85-89",47917,2528,1860,3246,3653,2226,5613,6303,5293,5639,5880,260,411,4131,874,1711,2614,1305,2034,456,3246,1191,510,349,1363,489,2751,874,1163,3653,2353,3259,391,801,1288,1038,2149,260,1635,1852,1860,411,980,3490,607,869,965,0.16079817203843261,"National death rate calcuated from population size and average number of deaths for 2005-2009 inclusive (supplied by ISD Scotland)",null,"LE calculated within spreadsheet using the Chiang method",null,185]
["Female 90+",24189,1324,830,1748,2177,909,2945,3117,2772,2821,2914,148,174,1870,440,827,1499,564,1119,170,1748,499,288,132,819,183,1383,440,464,2177,1194,1653,213,332,619,569,1063,148,807,1044,830,174,467,1758,275,351,380,null,null,null,null,null,186]
["age/sex breakdown: Q4",null,null,null,null,null,null,null,null,null,null,null,null,null,null,null,null,null,null,null,null,null,null,null,null,null,null,null,null,null,null,null,null,null,null,null,null,null,null,null,null,null,null,null,null,null,null,null,null,null,null,null,null,187]
["Male <1",27546,1353,1127,695,1724,1789,4082,3969,2312,2734,4266,311,323,2861,0,630,2684,996,416,263,695,433,488,423,915,404,2020,0,935,1724,1833,1896,325,443,768,541,1180,311,1432,767,1127,323,324,1554,591,217,888,4.2772537837245002E-3,"National death rate calcuated from population size and average number of deaths for 2005-2009 inclusive (supplied by ISD Scotland)",null,"LE calculated within spreadsheet using the Chiang method",null,188]
["Male 1-4",110551,5755,4719,3096,6754,7278,16153,15561,9477,11175,16235,1171,1212,11965,0,2006,11000,4357,1850,1052,3096,1656,1935,1919,3984,1709,6908,0,3661,6754,6527,7627,1237,1853,3147,2505,4778,1171,5952,3307,4719,1212,1315,6397,2565,862,3490,1.7636193181290783E-4,"National death rate calcuated from population size and average number of deaths for 2005-2009 inclusive (supplied by ISD Scotland)",null,"LE calculated within spreadsheet using the Chiang method",null,189]
["Male 5-9",137119,7257,6342,4149,9180,8789,19645,18653,12354,13170,18522,1506,1446,16106,0,2016,13568,5943,2728,1114,4149,2215,2119,2950,4711,2256,7427,0,4330,9180,6998,9626,1652,2358,4061,3296,5874,1506,7948,3776,6342,1446,1842,7296,3345,1021,4026,1.3597068758229805E-4,"National death rate calcuated from population size and average number of deaths for 2005-2009 inclusive (supplied by ISD Scotland)",null,"LE calculated within spreadsheet using the Chiang method",null,190]
["Male 10-14",150805,7854,7035,4745,9929,10134,21596,20831,13973,14344,18932,1856,1653,17923,0,2184,14558,6434,3297,1233,4745,2391,2227,3403,4608,2513,7701,0,4408,9929,7666,10676,1783,2414,4854,3670,6507,1856,9098,4329,7035,1653,1957,7837,4493,1137,4209,1.1661807580174928E-4,"National death rate calcuated from population size and average number of deaths for 2005-2009 inclusive (supplied by ISD Scotland)",null,"LE calculated within spreadsheet using the Chiang method",null,191]
["Male 15-19",157477,8407,6633,4976,10137,9967,22538,24451,13542,14542,20684,1812,1803,17985,0,3581,13924,6368,3270,1353,4976,2824,2555,3706,4532,2508,9264,0,4168,10137,10689,10272,1952,2748,5033,3735,6520,1812,8793,4393,6633,1803,2117,8022,4446,1203,4140,5.4037215748351864E-4,"National death rate calcuated from population size and average number of deaths for 2005-2009 inclusive (supplied by ISD Scotland)",null,"LE calculated within spreadsheet using the Chiang method",null,192]
["Male 20-24",158119,7301,4960,4268,9552,8857,22194,30498,11344,13122,25289,1368,1483,17883,0,6513,11405,5044,2589,1098,4268,4504,2242,3287,3367,2194,16069,0,3554,9552,17275,8755,1975,2338,4276,3088,5641,1368,8335,4387,4960,1483,1971,7481,4205,1380,3515,8.8087730272816639E-4,"National death rate calcuated from population size and average number of deaths for 2005-2009 inclusive (supplied by ISD Scotland)",null,"LE calculated within spreadsheet using the Chiang method",null,193]
["Male 25-29",149252,6101,3990,3629,7870,8055,21500,28776,10640,12778,28259,1300,1538,14816,0,7584,9935,4226,2054,1012,3629,3195,1883,2611,2776,1717,20011,0,3936,7870,17583,8586,1713,1841,3981,2642,5844,1300,7395,3949,3990,1538,1576,6934,3107,1203,3631,8.0050904164699599E-4,"National death rate calcuated from population size and average number of deaths for 2005-2009 inclusive (supplied by ISD Scotland)",null,"LE calculated within spreadsheet using the Chiang method",null,194]
["Male 30-34",141579,6514,4360,3262,7790,8404,21358,22605,11371,13533,26152,1234,1693,13303,0,6074,11204,4399,2257,1189,3262,2270,2185,1858,3232,1506,16934,0,4686,7790,13185,9114,1579,1945,4080,2829,6112,1234,6634,3461,4360,1693,1500,7421,2529,1016,4041,9.519961098288462E-4,"National death rate calcuated from population size and average number of deaths for 2005-2009 inclusive (supplied by ISD Scotland)",null,"LE calculated within spreadsheet using the Chiang method",null,195]
["Male 35-39",173907,8817,7155,4678,10688,11201,25733,24744,14176,18105,27827,1655,1892,17236,0,4752,15204,6258,3069,1671,4678,2456,2869,2765,5263,2090,14455,0,5754,10688,12198,11107,2104,2744,5777,3810,8137,1655,8522,4362,7155,1892,2138,9968,3776,1225,5365,1.2247594797995262E-3,"National death rate calcuated from population size and average number of deaths for 2005-2009 inclusive (supplied by ISD Scotland)",null,"LE calculated within spreadsheet using the Chiang method",null,196]
["Male 40-44",203052,10855,9301,6512,13254,12771,29247,28605,17581,20100,28490,2396,1971,21969,0,4137,18488,7778,4153,1797,6512,3140,3315,3695,6156,2561,12665,0,6409,13254,12725,13428,2363,3208,6622,4870,9096,2396,11051,5702,9301,1971,2670,11004,4565,1559,6461,1.5718403590567023E-3,"National death rate calcuated from population size and average number of deaths for 2005-2009 inclusive (supplied by ISD Scotland)",null,"LE calculated within spreadsheet using the Chiang method",null,197]
["Male 45-49",204991,10872,9635,6842,13565,12789,28687,30241,18482,18820,27384,2326,2077,23271,0,4093,18231,8441,4458,1752,6842,3320,3224,4343,6124,2909,12055,0,5883,13565,12292,14024,2786,3176,6363,4599,8149,2326,11510,6160,9635,2077,3049,10671,5154,1751,6029,2.2931281587086068E-3,"National death rate calcuated from population size and average number of deaths for 2005-2009 inclusive (supplied by ISD Scotland)",null,"LE calculated within spreadsheet using the Chiang method",null,198]
["Male 50-54",186249,10590,8856,6528,12587,11054,26667,27150,17472,16377,24032,2003,1810,21123,0,3974,16881,7373,4349,1530,6528,3429,3090,4232,5453,2676,10596,0,4960,12587,10486,13123,2509,2936,5812,4271,7221,2003,10321,5511,8856,1810,3229,9156,4564,1736,5047,3.4603611197373675E-3,"National death rate calcuated from population size and average number of deaths for 2005-2009 inclusive (supplied by ISD Scotland)",null,"LE calculated within spreadsheet using the Chiang method",null,199]
["Male 55-59",172680,10064,8453,6506,11542,10233,24854,23576,16965,14353,21271,1973,1872,21018,0,3561,15691,7443,4203,1394,6506,3024,3031,3659,4675,2242,9558,0,4510,11542,9005,12762,2328,2650,5602,4025,6227,1973,10551,4821,8453,1872,3008,8126,4329,1521,4388,5.6190913158982907E-3,"National death rate calcuated from population size and average number of deaths for 2005-2009 inclusive (supplied by ISD Scotland)",null,"LE calculated within spreadsheet using the Chiang method",null,200]
["Male 60-64",169605,10415,8902,7115,12196,10448,23840,21624,16729,12624,20385,1988,1780,21559,0,3220,14970,7655,4402,1549,7115,2799,3152,3637,4876,2021,8473,0,4787,12196,7393,12327,2238,2808,5650,4201,5225,1988,11105,4809,8902,1780,3062,7399,4112,1526,4228,9.5723001163590549E-3,"National death rate calcuated from population size and average number of deaths for 2005-2009 inclusive (supplied by ISD Scotland)",null,"LE calculated within spreadsheet using the Chiang method",null,201]
["Male 65-69",127123,7893,7193,5724,9325,7722,16858,15137,12933,9174,15499,1633,1243,16789,0,2396,10153,6208,3548,1107,5724,2084,2054,2591,3777,1450,6477,0,3379,9325,4924,9385,1655,2121,4309,3329,3953,1633,8497,3491,7193,1243,2510,5221,3236,1026,3124,1.6677171100643536E-2,"National death rate calcuated from population size and average number of deaths for 2005-2009 inclusive (supplied by ISD Scotland)",null,"LE calculated within spreadsheet using the Chiang method",null,202]
["Male 70-74",100958,6169,5793,4661,7129,6246,13614,12188,9918,7001,12260,1234,928,13817,0,1844,8207,4986,2861,967,4661,1721,1434,2210,2834,1211,5565,0,2621,7129,4055,7057,1323,1546,3563,2480,2907,1234,7110,2543,5793,928,2255,4094,2658,846,2315,2.8047565682978459E-2,"National death rate calcuated from population size and average number of deaths for 2005-2009 inclusive (supplied by ISD Scotland)",null,"LE calculated within spreadsheet using the Chiang method",null,203]
["Male 75-79",76200,4471,4239,3827,5107,4594,9790,9381,7642,5185,9645,916,714,10689,0,1445,5735,3761,2127,581,3827,1478,1007,1666,2216,984,4776,0,1927,5107,3212,5515,971,1162,2610,1751,1914,916,5450,1856,4239,714,1713,3271,2086,692,1491,4.8154071158130696E-2,"National death rate calcuated from population size and average number of deaths for 2005-2009 inclusive (supplied by ISD Scotland)",null,"LE calculated within spreadsheet using the Chiang method",null,204]
["Male 80-84",48612,2850,2754,2671,3307,2778,6527,5798,4973,2841,6221,583,447,6862,0,978,3873,2308,1309,365,2671,1078,611,1027,1448,643,3149,0,1213,3307,2060,3664,675,727,1676,1099,1027,583,3476,1060,2754,447,1140,1814,1200,333,897,8.5749321187702551E-2,"National death rate calcuated from population size and average number of deaths for 2005-2009 inclusive (supplied by ISD Scotland)",null,"LE calculated within spreadsheet using the Chiang method",null,205]
["Male 85-89",23607,1283,1297,1169,1593,1345,3378,2947,2544,1264,2983,233,253,3318,0,534,2032,1067,658,160,1169,565,290,491,585,407,1685,0,574,1593,1064,1886,391,315,812,466,470,233,1686,435,1297,253,527,794,611,159,398,0.17755831772518305,"National death rate calcuated from population size and average number of deaths for 2005-2009 inclusive (supplied by ISD Scotland)",null,"LE calculated within spreadsheet using the Chiang method",null,206]
["Male 90+",8557,504,431,364,513,483,1246,1037,920,526,1056,89,105,1283,0,209,710,491,232,64,364,145,124,174,215,111,626,0,169,513,381,688,146,103,327,187,160,89,647,174,431,105,193,366,250,51,112,null,null,null,null,null,207]
["Female <1",26555,1240,1104,704,1676,1755,3938,3738,2173,2631,4210,281,288,2817,0,581,2611,988,419,262,704,455,425,427,937,362,1927,0,939,1676,1765,1754,282,495,746,544,1147,281,1374,726,1104,288,271,1484,554,176,851,3.5551433650204802E-3,"National death rate calcuated from population size and average number of deaths for 2005-2009 inclusive (supplied by ISD Scotland)",null,"LE calculated within spreadsheet using the Chiang method",null,208]
["Female 1-4",106001,5462,4860,2757,6799,7056,15319,14635,8741,10580,15773,1144,1129,11746,0,1966,10334,4306,1694,1056,2757,1703,1766,1944,4047,1605,6371,0,3572,6799,6170,7047,1112,1819,3019,2361,4433,1144,5737,3069,4860,1129,1335,6147,2428,735,3536,2.2378329992800016E-4,"National death rate calcuated from population size and average number of deaths for 2005-2009 inclusive (supplied by ISD Scotland)",null,"LE calculated within spreadsheet using the Chiang method",null,209]
["Female 5-9",131633,6856,6474,3513,8502,8658,18688,17918,11671,13342,18146,1390,1465,15010,0,2098,12779,5577,2527,1193,3513,1951,2007,2707,4521,2121,7214,0,4124,8502,6896,9144,1524,2369,3811,2993,5727,1390,7482,3693,6474,1465,1856,7615,3341,977,4042,6.7693094552210182E-5,"National death rate calcuated from population size and average number of deaths for 2005-2009 inclusive (supplied by ISD Scotland)",null,"LE calculated within spreadsheet using the Chiang method",null,210]
["Female 10-14",142831,7601,6829,4572,9537,9586,19673,19636,13030,13423,18245,1678,1684,17337,0,1936,13139,6116,3009,1151,4572,2356,2149,3130,4744,2331,6961,0,4097,9537,7419,10021,1726,2412,4598,3440,5701,1678,8865,3937,6829,1684,2012,7722,4338,1093,4128,8.1994096425057393E-5,"National death rate calcuated from population size and average number of deaths for 2005-2009 inclusive (supplied by ISD Scotland)",null,"LE calculated within spreadsheet using the Chiang method",null,211]
["Female 15-19",148112,7680,6861,4570,9440,9491,21404,24077,12275,13528,19238,1707,1599,16242,0,4429,12715,5357,3051,1205,4570,2932,2314,3513,4043,2211,8805,0,3979,9440,11001,9224,1942,2432,4260,3388,5975,1707,7953,4213,6861,1599,1978,7553,4307,1197,3958,2.5251686214572882E-4,"National death rate calcuated from population size and average number of deaths for 2005-2009 inclusive (supplied by ISD Scotland)",null,"LE calculated within spreadsheet using the Chiang method",null,212]
["Female 20-24",148606,6593,4723,3577,8814,8488,20503,31408,9509,12297,24895,1203,1147,15449,0,7461,9855,4031,2164,1019,3577,4626,2028,2764,2933,1904,16257,0,3495,8814,20163,7345,1702,2132,3187,2821,5668,1203,6792,3721,4723,1147,1744,6629,3974,1154,3573,2.9236386382643103E-4,"National death rate calcuated from population size and average number of deaths for 2005-2009 inclusive (supplied by ISD Scotland)",null,"LE calculated within spreadsheet using the Chiang method",null,213]
["Female 25-29",143589,6365,4098,3204,7686,8263,18952,26506,10360,12793,29397,1221,1356,13388,0,6123,9732,3846,1702,1008,3204,2939,2045,2193,2820,1582,20788,0,4211,7686,16816,8658,1466,1894,3097,2806,5712,1221,6603,3376,4098,1356,1514,7081,3044,1073,3895,2.7883034246085648E-4,"National death rate calcuated from population size and average number of deaths for 2005-2009 inclusive (supplied by ISD Scotland)",null,"LE calculated within spreadsheet using the Chiang method",null,214]
["Female 30-34",148727,7246,5219,3555,8730,9189,20961,22959,11579,15059,27239,1426,1476,14089,0,4568,12714,5021,2249,1398,3555,2336,2375,2033,3997,1639,16509,0,4772,8730,12842,9330,1631,2239,3679,3262,6636,1426,6732,3795,5219,1476,1609,8423,3019,1019,4494,3.5388208648878193E-4,"National death rate calcuated from population size and average number of deaths for 2005-2009 inclusive (supplied by ISD Scotland)",null,"LE calculated within spreadsheet using the Chiang method",null,215]
["Female 35-39",187192,9771,7968,5112,11661,12531,26451,26662,15356,19234,28798,1894,1766,19988,0,4050,17193,7220,3372,1735,5112,2855,3085,3191,6062,2415,13499,0,6367,11661,12114,11984,2227,3039,5208,4241,8614,1894,9913,5332,7968,1766,2445,10620,4429,1383,6198,6.4912519058617506E-4,"National death rate calcuated from population size and average number of deaths for 2005-2009 inclusive (supplied by ISD Scotland)",null,"LE calculated within spreadsheet using the Chiang method",null,216]
["Female 40-44",214110,11506,10099,6672,14036,13617,29350,31098,18474,20673,30280,2297,1954,24054,0,4014,19014,8514,4452,1921,6672,3465,3480,4349,6836,3054,13114,0,6357,14036,12815,14022,2697,3745,6322,5100,9244,2297,12075,6481,10099,1954,2926,11429,5339,1702,6585,9.9207716155701002E-4,"National death rate calcuated from population size and average number of deaths for 2005-2009 inclusive (supplied by ISD Scotland)",null,"LE calculated within spreadsheet using the Chiang method",null,217]
["Female 45-49",213171,11465,10336,7252,14334,13040,28405,32241,19035,19734,28944,2213,2088,24084,0,4127,17919,8652,4624,1774,7252,3875,3432,4936,6232,3129,13195,0,5882,14334,12892,14411,2893,3545,6359,4805,8501,2213,11557,6521,10336,2088,3228,11233,5384,1870,5972,1.473167989610289E-3,"National death rate calcuated from population size and average number of deaths for 2005-2009 inclusive (supplied by ISD Scotland)",null,"LE calculated within spreadsheet using the Chiang method",null,218]
["Female 50-54",193072,11039,9307,6803,12916,11651,26334,28632,17402,17246,25182,2131,1848,22581,0,3803,16682,7837,4315,1782,6803,3653,3289,4565,5715,2758,11262,0,5264,12916,10865,13087,2767,3152,5849,4438,7507,2131,11091,5832,9307,1848,3312,9739,4605,1845,5053,2.6288146093139762E-3,"National death rate calcuated from population size and average number of deaths for 2005-2009 inclusive (supplied by ISD Scotland)",null,"LE calculated within spreadsheet using the Chiang method",null,219]
["Female 55-59",177948,10813,8612,6940,12361,11025,24109,24394,17382,14869,22117,1990,1766,21570,0,3448,14974,7674,4427,1576,6940,2998,3221,3922,5180,2380,9749,0,5035,12361,8839,12955,2368,2762,5687,4373,6447,1990,10898,5350,8612,1766,3219,8422,4414,1535,4426,3.8901058881304867E-3,"National death rate calcuated from population size and average number of deaths for 2005-2009 inclusive (supplied by ISD Scotland)",null,"LE calculated within spreadsheet using the Chiang method",null,220]
["Female 60-64",174063,11158,9228,7260,13004,10825,23145,22053,17079,13285,21415,1872,1565,22174,0,3239,14038,8234,4700,1599,7260,2937,3020,3726,5049,2118,9150,0,4882,13004,7453,12379,2384,2955,5868,4568,5662,1872,11003,4847,9228,1565,3570,7623,4344,1525,4261,6.819231835402101E-3,"National death rate calcuated from population size and average number of deaths for 2005-2009 inclusive (supplied by ISD Scotland)",null,"LE calculated within spreadsheet using the Chiang method",null,221]
["Female 65-69",136352,8707,7618,6056,9884,8325,17505,16805,13524,10038,16997,1700,1287,17906,0,2552,10447,6340,3716,1259,6056,2321,2142,2890,4023,1623,7400,0,3499,9884,5587,9808,1779,2300,4506,3523,4188,1700,9245,3707,7618,1287,3042,5850,3567,1219,3274,1.1184768365065906E-2,"National death rate calcuated from population size and average number of deaths for 2005-2009 inclusive (supplied by ISD Scotland)",null,"LE calculated within spreadsheet using the Chiang method",null,222]
["Female 70-74",115107,7086,6452,5189,8146,7197,14283,14883,11182,8664,14489,1312,957,15267,0,2212,8314,5432,3094,1018,5189,2146,1577,2696,3047,1593,7074,0,3006,8146,5249,8088,1432,1847,3757,2714,3512,1312,7689,2948,6452,957,2795,5152,3173,965,2521,1.8843057633397449E-2,"National death rate calcuated from population size and average number of deaths for 2005-2009 inclusive (supplied by ISD Scotland)",null,"LE calculated within spreadsheet using the Chiang method",null,223]
["Female 75-79",96370,5864,4984,4508,6504,5869,12325,12869,9290,6545,12585,1024,852,13151,0,2113,6841,4669,2528,760,4508,2172,1227,2012,2511,1657,6799,0,2453,6504,4690,6762,1441,1351,3371,2379,2336,1024,6310,2338,4984,852,2258,4209,2656,731,1924,3.5393844823768804E-2,"National death rate calcuated from population size and average number of deaths for 2005-2009 inclusive (supplied by ISD Scotland)",null,"LE calculated within spreadsheet using the Chiang method",null,224]
["Female 80-84",72368,4213,3613,3456,4556,4338,9673,9815,6938,4417,9940,736,836,9837,0,1792,5375,3378,1771,517,3456,1674,861,1543,1905,1401,5870,0,1780,4556,3381,5167,1273,946,2506,1695,1559,736,4785,1677,3613,836,1657,2858,2041,540,1219,6.4578740867057643E-2,"National death rate calcuated from population size and average number of deaths for 2005-2009 inclusive (supplied by ISD Scotland)",null,"LE calculated within spreadsheet using the Chiang method",null,225]
["Female 85-89",46705,2680,2459,2039,3070,2938,6477,6337,4604,2522,6316,484,520,6259,0,1213,3636,1993,1181,309,2039,1060,593,849,1225,1027,3717,0,1159,3070,2185,3423,1003,582,1628,1006,810,484,3206,920,2459,520,1081,1712,1470,353,792,0.15722515602496401,"National death rate calcuated from population size and average number of deaths for 2005-2009 inclusive (supplied by ISD Scotland)",null,"LE calculated within spreadsheet using the Chiang method",null,226]
["Female 90+",25873,1640,1366,1124,1995,1494,3262,3730,2609,1208,3252,292,309,3592,0,555,1861,1148,626,110,1124,688,397,359,626,619,1888,0,665,1995,1245,1983,695,240,846,627,409,292,1756,557,1366,309,616,799,719,255,498,null,null,null,null,null,227]
["age/sex breakdown: Q5",null,null,null,null,null,null,null,null,null,null,null,null,null,null,null,null,null,null,null,null,null,null,null,null,null,null,null,null,null,null,null,null,null,null,null,null,null,null,null,null,null,null,null,null,null,null,null,null,null,null,null,null,228]
["Male <1",25144,1002,157,232,1915,1433,5050,4770,592,1835,6604,20,52,1482,0,2370,2344,272,190,134,232,525,393,1128,411,1287,5013,0,837,1915,1370,402,228,369,336,222,707,20,685,646,157,52,387,1128,462,111,811,3.4642032332563508E-3,"National death rate calcuated from population size and average number of deaths for 2005-2009 inclusive (supplied by ISD Scotland)",null,"LE calculated within spreadsheet using the Chiang method",null,229]
["Male 1-4",105764,4458,871,1021,8003,6162,19908,20821,2532,8216,27131,63,241,6337,0,8983,9758,1302,804,568,1021,2140,1572,5255,2021,5933,19671,0,3301,8003,5018,1728,1040,1632,1167,1001,3281,63,2895,3067,871,241,1885,4935,2293,508,3807,1.7940607147915583E-4,"National death rate calcuated from population size and average number of deaths for 2005-2009 inclusive (supplied by ISD Scotland)",null,"LE calculated within spreadsheet using the Chiang method",null,230]
["Male 5-9",139192,6170,1262,1291,9904,8789,24588,29500,3528,11415,33494,63,376,8812,0,10892,12333,1978,1077,959,1291,2768,2080,7720,2718,8853,23552,0,4210,9904,5968,2451,1557,2090,1363,1399,4628,63,4066,4628,1262,376,2691,6787,3620,774,5134,3.4653156556030687E-5,"National death rate calcuated from population size and average number of deaths for 2005-2009 inclusive (supplied by ISD Scotland)",null,"LE calculated within spreadsheet using the Chiang method",null,231]
["Male 10-14",156818,7497,1266,1539,10815,9684,27467,33846,4328,13313,36204,96,284,10479,0,11843,13727,2481,1282,1238,1539,3253,2470,9368,3196,9827,25176,0,4586,10815,6593,3046,1555,2259,1897,1768,4980,96,4745,5680,1266,284,3259,8333,3860,823,5573,1.23205056335512E-4,"National death rate calcuated from population size and average number of deaths for 2005-2009 inclusive (supplied by ISD Scotland)",null,"LE calculated within spreadsheet using the Chiang method",null,232]
["Male 15-19",178630,7779,1160,1706,13597,13073,29565,35653,5057,14000,43703,122,280,12935,0,13428,13376,2655,2110,1290,1706,4792,2295,9759,3026,9788,33030,0,6289,13597,7750,2947,1513,2124,2761,1974,5401,122,5488,5866,1160,280,3510,8599,5494,977,5523,3.2224144364166753E-4,"National death rate calcuated from population size and average number of deaths for 2005-2009 inclusive (supplied by ISD Scotland)",null,"LE calculated within spreadsheet using the Chiang method",null,233]
["Male 20-24",188970,6523,752,1352,17838,10226,30602,35117,6086,12183,55246,81,157,12807,0,16544,11226,1965,3705,983,1352,5326,2153,8418,2105,8136,47195,0,4520,17838,11595,2381,1186,1848,2832,1600,4661,81,5516,4963,752,157,2770,7522,4723,819,4098,4.0470994875496999E-4,"National death rate calcuated from population size and average number of deaths for 2005-2009 inclusive (supplied by ISD Scotland)",null,"LE calculated within spreadsheet using the Chiang method",null,234]
["Male 25-29",152789,4346,574,1075,9773,5885,29180,28128,4677,9647,50273,44,165,9022,0,17894,9245,1484,2767,630,1075,3425,1510,6163,1333,5553,44396,0,3535,9773,11123,1910,836,1355,2041,1099,3563,44,4113,3882,574,165,1737,6084,1720,571,3189,4.9970625375623785E-4,"National death rate calcuated from population size and average number of deaths for 2005-2009 inclusive (supplied by ISD Scotland)",null,"LE calculated within spreadsheet using the Chiang method",null,235]
["Male 30-34",132612,4596,722,1022,8931,6268,28082,23169,3462,8542,40501,42,171,7104,0,16266,10136,1434,1399,551,1022,2494,1721,4399,1541,4528,33775,0,4123,8931,9807,2063,866,1430,1680,1163,3406,42,3176,3057,722,171,1712,5136,1594,512,3755,5.7469147172591636E-4,"National death rate calcuated from population size and average number of deaths for 2005-2009 inclusive (supplied by ISD Scotland)",null,"LE calculated within spreadsheet using the Chiang method",null,236]
["Male 35-39",164153,6774,1151,1543,12467,9438,32967,29510,4827,12543,43248,90,325,9270,0,16382,14515,1941,2106,900,1543,3225,2570,6409,2672,6893,32807,0,5660,12467,9453,2721,1527,2332,2070,1545,5186,90,4104,4369,1151,325,2659,7357,2878,859,5437,8.3160083160083165E-4,"National death rate calcuated from population size and average number of deaths for 2005-2009 inclusive (supplied by ISD Scotland)",null,"LE calculated within spreadsheet using the Chiang method",null,237]
["Male 40-44",197319,9018,1488,2020,13803,12222,36295,38713,5628,16080,49501,102,410,12039,0,16995,17072,2630,2079,1344,2020,3834,3323,9318,3807,9801,35641,0,6614,13803,9969,3549,1808,2880,2228,2145,6378,102,5575,6557,1488,410,3550,9702,4264,1260,7173,1.0352017185320547E-3,"National death rate calcuated from population size and average number of deaths for 2005-2009 inclusive (supplied by ISD Scotland)",null,"LE calculated within spreadsheet using the Chiang method",null,238]
["Male 45-49",205976,9660,1424,2375,13651,12017,37197,42987,5899,17638,48787,127,307,13907,0,17074,17902,3238,1998,1409,2375,4493,3119,11018,3980,11140,34917,0,6408,13651,9689,3901,2418,2698,2221,2303,6829,127,6176,7515,1424,307,4238,10809,4200,1207,7192,1.516777214202107E-3,"National death rate calcuated from population size and average number of deaths for 2005-2009 inclusive (supplied by ISD Scotland)",null,"LE calculated within spreadsheet using the Chiang method",null,239]
["Male 50-54",191135,9380,1302,2105,12681,10803,34959,40421,5445,16188,44579,153,239,12880,0,16542,16564,2987,1640,1391,2105,4287,2867,10592,3627,10413,32362,0,5520,12681,9227,3805,2000,2416,1853,2266,5874,153,5606,7115,1302,239,4247,10314,3892,1074,6174,2.5946292242806043E-3,"National death rate calcuated from population size and average number of deaths for 2005-2009 inclusive (supplied by ISD Scotland)",null,"LE calculated within spreadsheet using the Chiang method",null,240]
["Male 55-59",172890,9788,1455,2217,11913,9911,31007,34948,5038,14307,39582,166,178,12380,0,14421,14844,3205,1446,1489,2217,3671,2847,9581,3094,8589,29130,0,4468,11913,7922,3592,1710,2394,1742,2696,5093,166,5504,6248,1455,178,4245,9214,3954,898,4964,4.4584435669814577E-3,"National death rate calcuated from population size and average number of deaths for 2005-2009 inclusive (supplied by ISD Scotland)",null,"LE calculated within spreadsheet using the Chiang method",null,241]
["Male 60-64",161977,9722,1342,2057,12322,9922,27176,31854,5111,12363,36499,103,247,13259,0,12230,13285,3544,1609,1464,2057,3700,2573,9256,3054,8197,26732,0,4311,12322,6480,3502,1654,2423,1661,2837,4188,103,6015,5489,1342,247,4312,8175,4147,778,4290,8.0806573082116036E-3,"National death rate calcuated from population size and average number of deaths for 2005-2009 inclusive (supplied by ISD Scotland)",null,"LE calculated within spreadsheet using the Chiang method",null,242]
["Male 65-69",115338,7273,845,1509,8827,7048,18974,23068,3737,8533,25441,74,206,9803,0,8253,9369,2444,1240,1055,1509,2846,1756,7248,2448,6089,18815,0,2920,8827,3993,2497,1318,1411,1352,2183,2633,74,4513,3981,845,206,3334,5900,3073,439,2767,1.3626805505817104E-2,"National death rate calcuated from population size and average number of deaths for 2005-2009 inclusive (supplied by ISD Scotland)",null,"LE calculated within spreadsheet using the Chiang method",null,243]
["Male 70-74",94368,5788,832,1402,7075,5737,15195,19039,2829,6587,21190,56,94,8544,0,6906,7045,2114,884,789,1402,2582,1302,6421,1797,5310,16224,0,2387,7075,3231,1945,1060,1264,1244,1693,1953,56,3848,2667,832,94,2793,4634,2561,350,1905,2.3273438186451105E-2,"National death rate calcuated from population size and average number of deaths for 2005-2009 inclusive (supplied by ISD Scotland)",null,"LE calculated within spreadsheet using the Chiang method",null,244]
["Male 75-79",71708,4258,635,1027,5093,3981,11447,14499,2388,4705,16695,50,59,6871,0,5430,5094,1691,677,668,1027,2149,932,5206,1389,4122,13403,0,1691,5093,2373,1711,681,785,923,1267,1241,50,3031,1904,635,59,2059,3464,1622,213,1118,4.2219842445758216E-2,"National death rate calcuated from population size and average number of deaths for 2005-2009 inclusive (supplied by ISD Scotland)",null,"LE calculated within spreadsheet using the Chiang method",null,245]
["Male 80-84",45896,2856,431,657,3276,2379,7176,9216,1540,2603,11237,33,20,4472,0,3537,3045,1038,468,338,657,1354,591,3042,1002,2718,9055,0,958,3276,1727,1072,422,400,594,883,645,33,2080,1188,431,20,1382,1958,1083,119,780,7.6608974061528473E-2,"National death rate calcuated from population size and average number of deaths for 2005-2009 inclusive (supplied by ISD Scotland)",null,"LE calculated within spreadsheet using the Chiang method",null,246]
["Male 85-89",22954,1552,262,279,1740,1040,3488,4298,783,1073,6195,27,19,2198,0,1631,1615,440,220,116,279,697,282,1344,502,1310,5164,0,424,1740,891,563,192,206,242,412,283,27,1061,514,262,19,858,790,500,47,323,0.15848437277008703,"National death rate calcuated from population size and average number of deaths for 2005-2009 inclusive (supplied by ISD Scotland)",null,"LE calculated within spreadsheet using the Chiang method",null,247]
["Male 90+",8595,570,54,79,549,390,1396,1462,294,397,2490,3,13,898,0,687,615,205,91,38,79,246,102,505,169,395,2202,0,158,549,259,203,88,33,94,170,106,3,447,193,54,13,298,291,194,22,86,null,null,null,null,null,248]
["Female <1",23978,922,184,234,1806,1387,4668,4552,579,1844,6376,14,54,1358,0,2255,2143,269,146,116,234,487,352,1037,415,1231,4859,0,823,1806,1367,433,181,339,270,197,671,14,602,635,184,54,373,1173,448,101,763,3.0316873624319945E-3,"National death rate calcuated from population size and average number of deaths for 2005-2009 inclusive (supplied by ISD Scotland)",null,"LE calculated within spreadsheet using the Chiang method",null,249]
["Female 1-4",100931,4068,824,941,7655,6067,18797,20130,2457,8212,25483,46,246,6005,0,8589,9173,1265,665,562,941,2006,1415,4829,1883,5834,18478,0,3401,7655,5069,1792,898,1585,1035,872,3003,46,2734,3032,824,246,1781,5209,2104,468,3537,1.198394151836539E-4,"National death rate calcuated from population size and average number of deaths for 2005-2009 inclusive (supplied by ISD Scotland)",null,"LE calculated within spreadsheet using the Chiang method",null,250]
["Female 5-9",130808,5859,1040,1217,9069,8074,22876,27826,3416,11016,31614,73,297,8431,0,10409,11418,1823,1141,898,1217,2651,2006,7249,2653,8222,21917,0,4046,9069,6022,2275,1164,2071,1049,1269,4301,73,3957,4463,1040,297,2584,6715,3130,706,4973,5.8919707169055379E-5,"National death rate calcuated from population size and average number of deaths for 2005-2009 inclusive (supplied by ISD Scotland)",null,"LE calculated within spreadsheet using the Chiang method",null,251]
["Female 10-14",147478,6974,1175,1622,9942,9373,25459,31369,3997,12671,34330,91,297,10178,0,10916,12878,2284,1274,1157,1622,3063,2215,8602,2895,9109,24077,0,4533,9942,6008,2723,1567,2124,1665,1688,4828,91,4831,5259,1175,297,3071,7843,3683,824,5234,8.5121428992358727E-5,"National death rate calcuated from population size and average number of deaths for 2005-2009 inclusive (supplied by ISD Scotland)",null,"LE calculated within spreadsheet using the Chiang method",null,252]
["Female 15-19",166465,7162,1018,1627,13618,11073,28338,32855,3908,12907,40969,133,200,12657,0,13854,12483,2346,1396,1090,1627,5221,2455,8415,2586,8899,31626,0,4264,13618,7703,2512,1488,2032,2001,1635,4739,133,5090,5518,1018,200,3072,8168,5719,832,4725,1.9095489768513384E-4,"National death rate calcuated from population size and average number of deaths for 2005-2009 inclusive (supplied by ISD Scotland)",null,"LE calculated within spreadsheet using the Chiang method",null,253]
["Female 20-24",177366,5426,659,1084,17953,8599,28595,31708,2716,10414,57960,54,114,12084,0,17982,9032,1620,887,686,1084,5397,1934,6676,1625,6758,51339,0,3460,17953,12280,1829,1041,1664,1581,1225,3853,54,5067,4303,659,114,2267,6561,4453,650,3332,1.3680460139302772E-4,"National death rate calcuated from population size and average number of deaths for 2005-2009 inclusive (supplied by ISD Scotland)",null,"LE calculated within spreadsheet using the Chiang method",null,254]
["Female 25-29",139369,4583,635,938,9181,6083,25613,25586,2452,8780,47706,79,163,7570,0,15449,8934,1007,655,651,938,3156,1720,4882,1319,4754,42036,0,3641,9181,11462,1797,789,1362,1230,1133,3352,79,3407,3213,635,163,1730,5428,1791,486,2989,1.6736019718074143E-4,"National death rate calcuated from population size and average number of deaths for 2005-2009 inclusive (supplied by ISD Scotland)",null,"LE calculated within spreadsheet using the Chiang method",null,255]
["Female 30-34",136277,4924,801,1095,9809,7010,26373,25223,2830,9397,40967,89,277,7482,0,14377,10783,1396,664,714,1095,2798,1881,5024,1752,5589,33747,0,4305,9809,9710,2166,1068,1610,1213,1156,3746,89,3288,3283,801,277,1887,5651,1991,549,3858,2.7406886858749119E-4,"National death rate calcuated from population size and average number of deaths for 2005-2009 inclusive (supplied by ISD Scotland)",null,"LE calculated within spreadsheet using the Chiang method",null,256]
["Female 35-39",175710,7279,1324,1642,12686,10892,32211,34032,4373,13827,46354,83,337,10670,0,15291,15253,2307,1286,985,1642,3596,2608,7619,3007,8436,34733,0,6149,12686,10338,3087,1539,2553,1667,1669,5588,83,4767,5163,1324,337,3002,8239,3758,937,6061,4.6829288826215983E-4,"National death rate calcuated from population size and average number of deaths for 2005-2009 inclusive (supplied by ISD Scotland)",null,"LE calculated within spreadsheet using the Chiang method",null,257]
["Female 40-44",212108,9864,1585,2297,14473,13111,36508,43945,5400,17829,52622,147,336,13991,0,16529,17892,3073,1586,1415,2297,4527,3407,10850,4064,11634,37715,0,6978,14473,10481,3814,2203,2938,2087,2408,7133,147,6391,7503,1585,336,4049,10696,4718,1274,7905,7.3722484902818291E-4,"National death rate calcuated from population size and average number of deaths for 2005-2009 inclusive (supplied by ISD Scotland)",null,"LE calculated within spreadsheet using the Chiang method",null,258]
["Female 45-49",218676,10712,1613,2607,14225,12614,37167,47123,6027,18914,52231,143,312,14988,0,17314,17841,3288,1745,1631,2607,5080,3393,12339,4278,12158,37590,0,6424,14225,10809,4282,2258,3061,2012,2608,7092,143,6620,8338,1613,312,4711,11822,4559,1221,7302,1.3387254218379585E-3,"National death rate calcuated from population size and average number of deaths for 2005-2009 inclusive (supplied by ISD Scotland)",null,"LE calculated within spreadsheet using the Chiang method",null,259]
["Female 50-54",197414,10306,1531,2447,12988,11013,33782,42444,5707,16915,46092,132,240,13817,0,15725,16237,3236,1666,1623,2447,4423,2960,11367,3595,10862,34042,0,5333,12988,9776,4041,1911,2682,1820,2681,6055,132,6158,7440,1531,240,4665,10860,4057,1088,5773,1.954158480681074E-3,"National death rate calcuated from population size and average number of deaths for 2005-2009 inclusive (supplied by ISD Scotland)",null,"LE calculated within spreadsheet using the Chiang method",null,260]
["Female 55-59",177724,10163,1492,2111,12488,10295,29513,36705,5337,14234,41533,111,220,13522,0,13258,14517,3498,1469,1625,2111,3913,2848,10236,3171,9105,31005,0,4686,12488,8117,3868,1784,2445,1738,2821,4842,111,6111,6534,1492,220,4494,9392,3984,929,4912,2.9644542030540515E-3,"National death rate calcuated from population size and average number of deaths for 2005-2009 inclusive (supplied by ISD Scotland)",null,"LE calculated within spreadsheet using the Chiang method",null,261]
["Female 60-64",169388,10386,1391,2035,13024,10276,27211,33629,5399,12784,38822,137,170,14124,0,12217,13254,3805,1789,1560,2035,4072,2707,9993,3213,9033,29036,0,4425,13024,6156,3610,1777,2401,1740,2957,4042,137,6247,5880,1391,170,4722,8742,4291,790,4172,5.1582710096119665E-3,"National death rate calcuated from population size and average number of deaths for 2005-2009 inclusive (supplied by ISD Scotland)",null,"LE calculated within spreadsheet using the Chiang method",null,262]
["Female 65-69",128262,7777,1066,1819,9610,7681,20372,25956,4115,9469,28910,78,173,11236,0,9433,9510,2717,1239,1228,1819,3359,1876,8386,2680,7339,21539,0,3180,9610,4307,2876,1410,1702,1429,2291,2783,78,5160,3966,1066,173,3610,6686,3273,548,2989,8.9234873997429513E-3,"National death rate calcuated from population size and average number of deaths for 2005-2009 inclusive (supplied by ISD Scotland)",null,"LE calculated within spreadsheet using the Chiang method",null,263]
["Female 70-74",109375,6509,1066,1524,8048,6122,17102,22497,3469,7639,25383,66,115,9835,0,8179,7565,2404,1026,951,1524,3073,1414,7666,2181,6310,20009,0,2537,8048,3984,2443,1144,1339,1358,1900,2220,66,4358,3032,1066,115,3195,5419,2634,361,1854,1.5629541427191838E-2,"National death rate calcuated from population size and average number of deaths for 2005-2009 inclusive (supplied by ISD Scotland)",null,"LE calculated within spreadsheet using the Chiang method",null,264]
["Female 75-79",91135,5509,881,1316,6166,4791,14033,18743,2916,5847,22441,46,90,8356,0,7063,5967,1967,814,702,1316,2871,1235,6165,1785,5443,18284,0,2000,6166,3636,2102,953,862,1003,1702,1422,46,3518,2344,881,90,2572,4425,2089,202,1510,2.8866371404285777E-2,"National death rate calcuated from population size and average number of deaths for 2005-2009 inclusive (supplied by ISD Scotland)",null,"LE calculated within spreadsheet using the Chiang method",null,265]
["Female 80-84",69390,4444,645,991,4926,3424,10392,14151,2384,3582,17929,32,33,6457,0,5400,4271,1437,715,439,991,1961,983,4546,1376,4219,14954,0,1397,4926,3001,1669,714,574,721,1191,794,32,3059,1544,645,33,2270,2788,1588,127,1025,5.5945720747530056E-2,"National death rate calcuated from population size and average number of deaths for 2005-2009 inclusive (supplied by ISD Scotland)",null,"LE calculated within spreadsheet using the Chiang method",null,266]
["Female 85-89",44044,2805,312,473,3135,2228,6854,8579,1554,2082,12119,17,26,3860,0,3471,2890,972,480,356,473,1084,503,2637,891,2505,10231,0,841,3135,2022,1074,550,387,493,733,530,17,1804,804,312,26,1569,1552,1031,61,610,null,null,null,null,null,267]
["Female 90+",25205,1783,151,196,1846,1155,3628,4609,1097,1149,7388,25,31,2147,0,1753,1597,573,399,92,196,416,273,1396,511,1290,6232,0,442,1846,1201,698,253,278,278,508,303,25,1158,407,151,31,1002,846,621,62,367,0.14414649095923998,"National death rate calcuated from population size and average number of deaths for 2005-2009 inclusive (supplied by ISD Scotland)",null,"LE calculated within spreadsheet using the Chiang method",null,268]
[null,null,null,null,null,null,null,null,null,null,null,null,null,null,null,null,null,null,null,null,null,null,null,null,null,null,null,null,null,null,null,null,null,null,null,null,null,null,null,null,null,null,null,null,null,null,null,null,null,null,null,null,null,269]
[null,null,null,null,null,null,null,null,null,null,null,null,null,null,null,null,null,null,null,null,null,null,null,null,null,null,null,null,null,null,null,null,null,null,null,null,null,null,null,null,null,null,null,null,null,null,null,null,null,null,null,null,null,270]
[null,null,null,null,null,null,null,null,null,null,null,null,null,null,null,null,null,null,null,null,null,null,null,null,null,null,null,null,null,null,null,null,null,null,null,null,null,null,null,null,null,null,null,null,null,null,null,null,null,null,null,null,null,271]
[null,null,null,null,null,null,null,null,null,null,null,null,null,null,null,null,null,null,null,null,null,null,null,null,null,null,null,null,null,null,null,null,null,null,null,null,null,null,null,null,null,null,null,null,null,null,null,null,null,null,null,null,null,272]
[null,null,null,null,null,null,null,null,null,null,null,null,null,null,null,null,null,null,null,null,null,null,null,null,null,null,null,null,null,null,null,null,null,null,null,null,null,null,null,null,null,null,null,null,null,null,null,null,null,null,null,null,null,273]
[null,null,null,null,null,null,null,null,null,null,null,null,null,null,null,null,null,null,null,null,null,null,null,null,null,null,null,null,null,null,null,null,null,null,null,null,null,null,null,null,null,null,null,null,null,null,null,null,null,null,null,null,null,274]
["Age","European Standard Population",null,null,null,null,null,null,null,null,null,null,null,null,null,null,null,null,null,null,null,null,null,null,null,null,null,null,null,null,null,null,null,null,null,null,null,null,null,null,null,null,null,null,null,null,null,null,null,null,null,null,null,275]
["0-4",8000]
["5-9",7000]
["10-14",7000]
["15-19",7000]
["20-24",7000]
["25-29",7000]
["30-34",7000]
["35-39",7000]
["40-44",7000]
["45-49",7000]
["50-54",7000]
["55-59",6000]
["60-64",5000]
["65-69",4000]
["70-74",3000]
["75-79",2000]
["80-84",1000]
["85+",1000]

{"sheet":"RII","index":4,"n_rows":115,"n_cols":20,"rows_kept":115,"cut":false,"hidden":false,"merged":[]}
["This sheet calculates the Relative Index of Inequality for the III Tool Overview page."]
["For more information on measuring inequalities in health, please see: "]
["http://www.scotpho.org.uk/downloads/scotphoreports/scotpho071009_measuringinequalities_rep.pdf"]
["THESE TABLES CALCULATE THE RII FOR YEARS OF LIFE LOST, BEFORE AND AFTER THE POLICY"]
["YEARS OF LIFE LOST: Both sexes combined - 2 YEARS, baseline",null,null,null,null,null,null,null,null,null,null,"YEARS OF LIFE LOST: Both sexes combined - 2 YEARS, policy"]
[null,"Y",null,"a",null,"b",null,null,null,null,null,null,"Y",null,"a",null,"b"]
["SIMD_Q","years of life lost","Pop","proportion of total  population","Cumulative proportion","Relative rank","Y*√a","√a","b*√a",null,null,"SIMD_Q","years of life lost","Pop","proportion of total  population","Cumulative proportion","Relative rank","Y*√a","√a","b*√a"]
[null,null,null,null,0," ",null,null,null,null,null,null,null,null,null,0," "]
[1,{"$f":"Calculations!Q5","v":149989.75168914947},{"$f":"Calculations!F5","v":41548.119999999995},{"$f":"C9/$C$14","v":0.36939017190978463},{"$f":"E8+D9","v":0.36939017190978463},{"$f":"E8+(0.5*D9)","v":0.18469508595489231},{"$f":"SQRT(D9)*B9","v":91159.986941499519},{"$f":"SQRT(D9)","v":0.60777477070851227},{"$f":"F9*SQRT(D9)","v":0.11225301351722364},null,null,1,{"$f":"Calculations!R5","v":148752.90080895129},{"$f":"C9","v":41548.119999999995},{"$f":"N9/$C$14","v":0.36939017190978463},{"$f":"P8+O9","v":0.36939017190978463},{"$f":"P8+(0.5*O9)","v":0.18469508595489231},{"$f":"SQRT(O9)*M9","v":90408.260181386446},{"$f":"SQRT(O9)","v":0.60777477070851227},{"$f":"Q9*SQRT(O9)","v":0.11225301351722364}]
[2,{"$f":"Calculations!Q6","v":50243.492947578001},{"$f":"Calculations!F6","v":19853.719999999998},{"$f":"C10/$C$14","v":0.17651265674232022},{"$f":"E9+D10","v":0.54590282865210482},{"$f":"E9+(0.5*D10)","v":0.45764650028094472},21109.004377034089,0.42013409376331295,0.19227289765948646,null,null,2,{"$f":"Calculations!R6","v":50197.641578769864},{"$f":"C10","v":19853.719999999998},{"$f":"N10/$C$14","v":0.17651265674232022},{"$f":"P9+O10","v":0.54590282865210482},{"$f":"P9+(0.5*O10)","v":0.45764650028094472},21089.740653752076,0.42013409376331295,0.19227289765948646]
[3,{"$f":"Calculations!Q7","v":30220.791204070487},{"$f":"Calculations!F7","v":15258.779999999999},{"$f":"C11/$C$14","v":0.13566061153509676},{"$f":"E10+D11","v":0.68156344018720161},{"$f":"E10+(0.5*D11)","v":0.61373313441965316},11130.962395658165,0.36832134276348522,0.22605101216788923,null,null,3,{"$f":"Calculations!R7","v":30216.109789828399},15258.779999999999,{"$f":"N11/$C$14","v":0.13566061153509676},{"$f":"P10+O11","v":0.68156344018720161},{"$f":"P10+(0.5*O11)","v":0.61373313441965316},11129.238130878486,0.36832134276348522,0.22605101216788923]
[4,{"$f":"Calculations!Q8","v":25100.030371578716},{"$f":"Calculations!F8","v":15163.36},{"$f":"C12/$C$14","v":0.13481226484206632},{"$f":"E11+D12","v":0.81637570502926793},{"$f":"E11+(0.5*D12)","v":0.74896957260823482},9215.9253748732408,0.36716789734679461,0.27499758315129302,null,null,4,{"$f":"Calculations!R8","v":25099.328305035662},15163.36,{"$f":"N12/$C$14","v":0.13481226484206632},{"$f":"P11+O12","v":0.81637570502926793},{"$f":"P11+(0.5*O12)","v":0.74896957260823482},9215.6675985768306,0.36716789734679461,0.27499758315129302]
[5,{"$f":"Calculations!Q9","v":26513.109815380107},{"$f":"Calculations!F9","v":20653.620000000003},{"$f":"C13/$C$14","v":0.18362429497073196},{"$f":"E12+D13","v":0.99999999999999989},{"$f":"E12+(0.5*D13)","v":0.90818785251463385},{"$f":"SQRT(D13)*B13","v":11361.240186455807},0.42851405457783059,0.3891712589993786,null,null,5,{"$f":"Calculations!R9","v":26512.813826811311},20653.620000000003,{"$f":"N13/$C$14","v":0.18362429497073196},{"$f":"P12+O13","v":0.99999999999999989},{"$f":"P12+(0.5*O13)","v":0.90818785251463385},11361.113351194084,0.42851405457783059,0.3891712589993786]
["Total",{"$f":"AVERAGE(B9:B13)","v":56413.435205551366},{"$f":"SUM(C9:C13)","v":112477.6},null,null,null,0,0,0,null,null,"Total",{"$f":"AVERAGE(M9:M13)","v":56155.758861879309},{"$f":"SUM(N9:N13)","v":112477.6},null,null,null,0,0,0]
[null,{"$f":"B9-B13","v":123476.64187376937},null,null,null,null,null,null,null,null,null,null,{"$f":"M9-M13","v":122240.08698213998}]
["Regression =",{"$f":"LINEST(G9:G13,H9:I13,0)","v":-187133.82791799071},null,null,null,null,null,null,null,null,null,"Regression =",{"$f":"LINEST(R9:R13,S9:T13,0)","v":-185278.03645568996}]
[]
["Slope Index Inequality =",{"$f":"B16","v":-187133.82791799071},"Years of life lost difference between the top and bottom positions ",null,null,null,null,null,null,null,null,"Slope Index Inequality =",{"$f":"M16","v":-185278.03645568996},"Years of life lost difference between the top and bottom positions "]
["Relative Index Inequality =",{"$f":"-B18/B14","v":3.3171854760508506},null,null,null,null,null,null,null,null,null,"Relative Index Inequality =",{"$f":"-M18/M14","v":3.2993594995555089}]
["According to the regresion equation the YOLL among those at the bottom is ",null,null,null,null,null,null,{"$f":"B19","v":3.3171854760508506},"times higher than the average",null,null,"According to the regresion equation the YOLL among those at the bottom is ",null,null,null,null,null,null,{"$f":"M19","v":3.2993594995555089},"times higher than the average"]
[]
[]
[]
["YEARS OF LIFE LOST: Both sexes combined - 10 YEARS, baseline",null,null,null,null,null,null,null,null,null,null,"YEARS OF LIFE LOST: Both sexes combined - 10 YEARS, policy"]
[null,"Y",null,"a",null,"b",null,null,null,null,null,null,"Y",null,"a",null,"b"]
["SIMD_Q","years of life lost","Pop","proportion of total  population","Cumulative proportion","Relative rank","Y*√a","√a","b*√a",null,null,"SIMD_Q","years of life lost","Pop","proportion of total  population","Cumulative proportion","Relative rank","Y*√a","√a","b*√a"]
[null,null,null,null,0," ",null,null,null,null,null,null,null,null,null,0," "]
[1,{"$f":"Calculations!W5","v":1281964.407199505},{"$f":"C9","v":41548.119999999995},{"$f":"C28/$C$14","v":0.36939017190978463},{"$f":"E27+D28","v":0.36939017190978463},{"$f":"E27+(0.5*D28)","v":0.18469508595489231},{"$f":"SQRT(D28)*B28","v":779145.62364215299},{"$f":"SQRT(D28)","v":0.60777477070851227},{"$f":"F28*SQRT(D28)","v":0.11225301351722364},null,null,1,{"$f":"Calculations!X5","v":1272638.9045664857},{"$f":"C28","v":41548.119999999995},{"$f":"N28/$C$14","v":0.36939017190978463},{"$f":"P27+O28","v":0.36939017190978463},{"$f":"P27+(0.5*O28)","v":0.18469508595489231},{"$f":"SQRT(O28)*M28","v":773477.81841762806},{"$f":"SQRT(O28)","v":0.60777477070851227},{"$f":"Q28*SQRT(O28)","v":0.11225301351722364}]
[2,{"$f":"Calculations!W6","v":447676.00063831173},{"$f":"C10","v":19853.719999999998},{"$f":"C29/$C$14","v":0.17651265674232022},{"$f":"E28+D29","v":0.54590282865210482},{"$f":"E28+(0.5*D29)","v":0.45764650028094472},188083.95082776141,0.42013409376331295,0.19227289765948646,null,null,2,{"$f":"Calculations!X6","v":447302.80070163816},{"$f":"C29","v":19853.719999999998},{"$f":"N29/$C$14","v":0.17651265674232022},{"$f":"P28+O29","v":0.54590282865210482},{"$f":"P28+(0.5*O29)","v":0.45764650028094472},187927.15681057452,0.42013409376331295,0.19227289765948646]
[3,{"$f":"Calculations!W7","v":276033.08740087959},15258.779999999999,{"$f":"C30/$C$14","v":0.13566061153509676},{"$f":"E29+D30","v":0.68156344018720161},{"$f":"E29+(0.5*D30)","v":0.61373313441965316},101668.87739864245,0.36832134276348522,0.22605101216788923,null,null,3,{"$f":"Calculations!X7","v":275993.26111221116},15258.779999999999,{"$f":"N30/$C$14","v":0.13566061153509676},{"$f":"P29+O30","v":0.68156344018720161},{"$f":"P29+(0.5*O30)","v":0.61373313441965316},101654.20852652279,0.36832134276348522,0.22605101216788923]
[4,{"$f":"Calculations!W8","v":232056.85511751665},15163.36,{"$f":"C31/$C$14","v":0.13481226484206632},{"$f":"E30+D31","v":0.81637570502926793},{"$f":"E30+(0.5*D31)","v":0.74896957260823482},85203.827558408346,0.36716789734679461,0.27499758315129302,null,null,4,{"$f":"Calculations!X8","v":232050.72986385808},15163.36,{"$f":"N31/$C$14","v":0.13481226484206632},{"$f":"P30+O31","v":0.81637570502926793},{"$f":"P30+(0.5*O31)","v":0.74896957260823482},85201.578561901813,0.36716789734679461,0.27499758315129302]
[5,{"$f":"Calculations!W9","v":248452.33831745383},20653.620000000003,{"$f":"C32/$C$14","v":0.18362429497073196},{"$f":"E31+D32","v":0.99999999999999989},{"$f":"E31+(0.5*D32)","v":0.90818785251463385},106465.31886175505,0.42851405457783059,0.3891712589993786,null,null,5,{"$f":"Calculations!X9","v":248449.68567749771},20653.620000000003,{"$f":"N32/$C$14","v":0.18362429497073196},{"$f":"P31+O32","v":0.99999999999999989},{"$f":"P31+(0.5*O32)","v":0.90818785251463385},106464.18216825211,0.42851405457783059,0.3891712589993786]
["Total",{"$f":"AVERAGE(B28:B32)","v":497236.53773473331},{"$f":"SUM(C28:C32)","v":112477.6},null,null,null,0,0,0,null,null,"Total",{"$f":"AVERAGE(M28:M32)","v":495287.0763843382},{"$f":"SUM(N28:N32)","v":112477.6},null,null,null,0,0,0]
[null,{"$f":"B28-B32","v":1033512.0688820512},null,null,null,null,null,null,null,null,null,null,{"$f":"M28-M32","v":1024189.218888988}]
["Regression =",{"$f":"LINEST(G28:G32,H28:I32,0)","v":-1569043.9437687686},null,null,null,null,null,null,null,null,null,"Regression =",{"$f":"LINEST(R28:R32,S28:T32,0)","v":-1555050.8259894343}]
[]
["Slope Index Inequality =",{"$f":"B35","v":-1569043.9437687686},"Years of life lost difference between the top and bottom positions ",null,null,null,null,null,null,null,null,"Slope Index Inequality =",{"$f":"M35","v":-1555050.8259894343},"Years of life lost difference between the top and bottom positions "]
["Relative Index Inequality =",{"$f":"-B37/B33","v":3.1555282540516463},null,null,null,null,null,null,null,null,null,"Relative Index Inequality =",{"$f":"-M37/M33","v":3.1396959463217029}]
["According to the regresion equation the YOLL among those at the bottom is ",null,null,null,null,null,null,{"$f":"B38","v":3.1555282540516463},"times higher than the average",null,null,"According to the regresion equation the YOLL among those at the bottom is ",null,null,null,null,null,null,{"$f":"M38","v":3.1396959463217029},"times higher than the average"]
[]
[]
[]
["YEARS OF LIFE LOST: Both sexes combined - 20 YEARS, baseline",null,null,null,null,null,null,null,null,null,null,"YEARS OF LIFE LOST: Both sexes combined - 20 YEARS, policy"]
[null,"Y",null,"a",null,"b",null,null,null,null,null,null,"Y",null,"a",null,"b"]
["SIMD_Q","years of life lost","Pop","proportion of total  population","Cumulative proportion","Relative rank","Y*√a","√a","b*√a",null,null,"SIMD_Q","years of life lost","Pop","proportion of total  population","Cumulative proportion","Relative rank","Y*√a","√a","b*√a"]
[null,null,null,null,0," ",null,null,null,null,null,null,null,null,null,0," "]
[1,{"$f":"Calculations!Z5","v":2559760.9173997538},{"$f":"C28","v":41548.119999999995},{"$f":"C47/$C$14","v":0.36939017190978463},{"$f":"E46+D47","v":0.36939017190978463},{"$f":"E46+(0.5*D47)","v":0.18469508595489231},{"$f":"SQRT(D47)*B47","v":1555758.1046412464},{"$f":"SQRT(D47)","v":0.60777477070851227},{"$f":"F47*SQRT(D47)","v":0.11225301351722364},null,null,1,{"$f":"Calculations!AA5","v":2542988.4817879451},{"$f":"C47","v":41548.119999999995},{"$f":"N47/$C$14","v":0.36939017190978463},{"$f":"P46+O47","v":0.36939017190978463},{"$f":"P46+(0.5*O47)","v":0.18469508595489231},{"$f":"SQRT(O47)*M47","v":1545564.2414330561},{"$f":"SQRT(O47)","v":0.60777477070851227},{"$f":"Q47*SQRT(O47)","v":0.11225301351722364}]
[2,{"$f":"Calculations!Z6","v":923112.82608786691},{"$f":"C29","v":19853.719999999998},{"$f":"C48/$C$14","v":0.17651265674232022},{"$f":"E47+D48","v":0.54590282865210482},{"$f":"E47+(0.5*D48)","v":0.45764650028094472},387831.17062971665,0.42013409376331295,0.19227289765948646,null,null,2,{"$f":"Calculations!AA6","v":922399.21861216775},{"$f":"C48","v":19853.719999999998},{"$f":"N48/$C$14","v":0.17651265674232022},{"$f":"P47+O48","v":0.54590282865210482},{"$f":"P47+(0.5*O48)","v":0.45764650028094472},387531.35979961109,0.42013409376331295,0.19227289765948646]
[3,{"$f":"Calculations!Z7","v":584904.82809671748},15258.779999999999,{"$f":"C49/$C$14","v":0.13566061153509676},{"$f":"E48+D49","v":0.68156344018720161},{"$f":"E48+(0.5*D49)","v":0.61373313441965316},215432.93167342848,0.36832134276348522,0.22605101216788923,null,null,3,{"$f":"Calculations!AA7","v":584825.20971800841},15258.779999999999,{"$f":"N49/$C$14","v":0.13566061153509676},{"$f":"P48+O49","v":0.68156344018720161},{"$f":"P48+(0.5*O49)","v":0.61373313441965316},215403.6065252737,0.36832134276348522,0.22605101216788923]
[4,{"$f":"Calculations!Z8","v":495284.80633618933},15163.36,{"$f":"C50/$C$14","v":0.13481226484206632},{"$f":"E49+D50","v":0.81637570502926793},{"$f":"E49+(0.5*D50)","v":0.74896957260823482},181852.68093027303,0.36716789734679461,0.27499758315129302,null,null,4,{"$f":"Calculations!AA8","v":495272.31126722507},15163.36,{"$f":"N50/$C$14","v":0.13481226484206632},{"$f":"P49+O50","v":0.81637570502926793},{"$f":"P49+(0.5*O50)","v":0.74896957260823482},181848.09314207421,0.36716789734679461,0.27499758315129302]
[5,{"$f":"Calculations!Z9","v":532386.56673007098},20653.620000000003,{"$f":"C51/$C$14","v":0.18362429497073196},{"$f":"E50+D51","v":0.99999999999999989},{"$f":"E50+(0.5*D51)","v":0.90818785251463385},228135.1263122735,0.42851405457783059,0.3891712589993786,null,null,5,{"$f":"Calculations!AA9","v":532381.05798181531},20653.620000000003,{"$f":"N51/$C$14","v":0.18362429497073196},{"$f":"P50+O51","v":0.99999999999999989},{"$f":"P50+(0.5*O51)","v":0.90818785251463385},228132.76573622279,0.42851405457783059,0.3891712589993786]
["Total",{"$f":"AVERAGE(B47:B51)","v":1019089.9889301198},{"$f":"SUM(C47:C51)","v":112477.6},null,null,null,0,0,0,null,null,"Total",{"$f":"AVERAGE(M47:M51)","v":1015573.2558734324},{"$f":"SUM(N47:N51)","v":112477.6},null,null,null,0,0,0]
[null,{"$f":"B47-B51","v":2027374.350669683},null,null,null,null,null,null,null,null,null,null,{"$f":"M47-M51","v":2010607.42380613}]
["Regression =",{"$f":"LINEST(G47:G51,H47:I51,0)","v":-3080332.5279720519},null,null,null,null,null,null,null,null,null,"Regression =",{"$f":"LINEST(R47:R51,S47:T51,0)","v":-3055163.985840295}]
[]
["Slope Index Inequality =",{"$f":"B54","v":-3080332.5279720519},"Years of life lost difference between the top and bottom positions ",null,null,null,null,null,null,null,null,"Slope Index Inequality =",{"$f":"M54","v":-3055163.985840295},"Years of life lost difference between the top and bottom positions "]
["Relative Index Inequality =",{"$f":"-B56/B52","v":3.0226305443407453},null,null,null,null,null,null,null,null,null,"Relative Index Inequality =",{"$f":"-M56/M52","v":3.0083147307898881}]
["According to the regresion equation the YOLL among those at the bottom is ",null,null,null,null,null,null,{"$f":"B57","v":3.0226305443407453},"times higher than the average",null,null,"According to the regresion equation the YOLL among those at the bottom is ",null,null,null,null,null,null,{"$f":"M57","v":3.0083147307898881},"times higher than the average"]
[]
[]
[]
["Hospital admissions: Both sexes combined - 2 YEARS, baseline",null,null,null,null,null,null,null,null,null,null,"Hospital admissions: Both sexes combined - 2 YEARS, policy"]
[null,"Y",null,"a",null,"b",null,null,null,null,null,null,"Y",null,"a",null,"b"]
["SIMD_Q","hospital admissions","Pop","proportion of total  population","Cumulative proportion","Relative rank","Y*√a","√a","b*√a",null,null,"SIMD_Q","hospital admissions","Pop","proportion of total  population","Cumulative proportion","Relative rank","Y*√a","√a","b*√a"]
[null,null,null,null,0," ",null,null,null,null,null,null,null,null,null,0," "]
[1,{"$f":"Calculations!AC5","v":117693.4877015505},{"$f":"C9","v":41548.119999999995},{"$f":"C66/$C$14","v":0.36939017190978463},{"$f":"E65+D66","v":0.36939017190978463},{"$f":"E65+(0.5*D66)","v":0.18469508595489231},{"$f":"SQRT(D66)*B66","v":71531.13250169497},{"$f":"SQRT(D66)","v":0.60777477070851227},{"$f":"F66*SQRT(D66)","v":0.11225301351722364},null,null,1,{"$f":"Calculations!AD5","v":116923.28644807683},{"$f":"C66","v":41548.119999999995},{"$f":"N66/$C$14","v":0.36939017190978463},{"$f":"P65+O66","v":0.36939017190978463},{"$f":"P65+(0.5*O66)","v":0.18469508595489231},{"$f":"SQRT(O66)*M66","v":71063.0236114656},{"$f":"SQRT(O66)","v":0.60777477070851227},{"$f":"Q66*SQRT(O66)","v":0.11225301351722364}]
[2,{"$f":"Calculations!AC6","v":46028.133540234812},{"$f":"C10","v":19853.719999999998},{"$f":"C67/$C$14","v":0.17651265674232022},{"$f":"E66+D67","v":0.54590282865210482},{"$f":"E66+(0.5*D67)","v":0.45764650028094472},19337.988172543304,0.42013409376331295,0.19227289765948646,null,null,2,{"$f":"Calculations!AD6","v":45995.034535799823},{"$f":"C67","v":19853.719999999998},{"$f":"N67/$C$14","v":0.17651265674232022},{"$f":"P66+O67","v":0.54590282865210482},{"$f":"P66+(0.5*O67)","v":0.45764650028094472},19324.082152310541,0.42013409376331295,0.19227289765948646]
[3,{"$f":"Calculations!AC7","v":29861.194490648217},15258.779999999999,{"$f":"C68/$C$14","v":0.13566061153509676},{"$f":"E67+D68","v":0.68156344018720161},{"$f":"E67+(0.5*D68)","v":0.61373313441965316},10998.515251317138,0.36832134276348522,0.22605101216788923,null,null,3,{"$f":"Calculations!AD7","v":29857.560930524771},15258.779999999999,{"$f":"N68/$C$14","v":0.13566061153509676},{"$f":"P67+O68","v":0.68156344018720161},{"$f":"P67+(0.5*O68)","v":0.61373313441965316},10997.176933573459,0.36832134276348522,0.22605101216788923]
[4,{"$f":"Calculations!AC8","v":26835.592564831521},15163.36,{"$f":"C69/$C$14","v":0.13481226484206632},{"$f":"E68+D69","v":0.81637570502926793},{"$f":"E68+(0.5*D69)","v":0.74896957260823482},9853.1680960844642,0.36716789734679461,0.27499758315129302,null,null,4,{"$f":"Calculations!AD8","v":26835.004076548837},15163.36,{"$f":"N69/$C$14","v":0.13481226484206632},{"$f":"P68+O69","v":0.81637570502926793},{"$f":"P68+(0.5*O69)","v":0.74896957260823482},9852.9520220790982,0.36716789734679461,0.27499758315129302]
[5,{"$f":"Calculations!AC9","v":33467.411876334059},20653.620000000003,{"$f":"C70/$C$14","v":0.18362429497073196},{"$f":"E69+D70","v":0.99999999999999989},{"$f":"E69+(0.5*D70)","v":0.90818785251463385},14341.256359354149,0.42851405457783059,0.3891712589993786,null,null,5,{"$f":"Calculations!AD9","v":33467.119609166773},20653.620000000003,{"$f":"N70/$C$14","v":0.18362429497073196},{"$f":"P69+O70","v":0.99999999999999989},{"$f":"P69+(0.5*O70)","v":0.90818785251463385},14341.131118765275,0.42851405457783059,0.3891712589993786]
["Total",{"$f":"AVERAGE(B66:B70)","v":50777.164034719826},{"$f":"SUM(C66:C70)","v":112477.6},null,null,null,0,0,0,null,null,"Total",{"$f":"AVERAGE(M66:M70)","v":50615.601120023413},{"$f":"SUM(N66:N70)","v":112477.6},null,null,null,0,0,0]
[null,{"$f":"B66-B70","v":84226.075825216452},null,null,null,null,null,null,null,null,null,null,{"$f":"M66-M70","v":83456.166838910052}]
["Regression =",{"$f":"LINEST(G66:G70,H66:I70,0)","v":-130963.80578518295},null,null,null,null,null,null,null,null,null,"Regression =",{"$f":"LINEST(R66:R70,S66:T70,0)","v":-129808.05786741138}]
[]
["Slope Index Inequality =",{"$f":"B73","v":-130963.80578518295},"Years of life lost difference between the top and bottom positions ",null,null,null,null,null,null,null,null,"Slope Index Inequality =",{"$f":"M73","v":-129808.05786741138},"Years of life lost difference between the top and bottom positions "]
["Relative Index Inequality =",{"$f":"-B75/B71","v":2.5791870868493958},null,null,null,null,null,null,null,null,null,"Relative Index Inequality =",{"$f":"-M75/M71","v":2.564585918076939}]
["According to the regresion equation the YOLL among those at the bottom is ",null,null,null,null,null,null,{"$f":"B76","v":2.5791870868493958},"times higher than the average",null,null,"According to the regresion equation the YOLL among those at the bottom is ",null,null,null,null,null,null,{"$f":"M76","v":2.564585918076939},"times higher than the average"]
[]
[]
[]
["Hospital admissions:  Both sexes combined - 10 YEARS, baseline",null,null,null,null,null,null,null,null,null,null,"Hospital admissions: Both sexes combined - 10 YEARS, policy"]
[null,"Y",null,"a",null,"b",null,null,null,null,null,null,"Y",null,"a",null,"b"]
["SIMD_Q","hospital admissions","Pop","proportion of total  population","Cumulative proportion","Relative rank","Y*√a","√a","b*√a",null,null,"SIMD_Q","hospital admissions","Pop","proportion of total  population","Cumulative proportion","Relative rank","Y*√a","√a","b*√a"]
[null,null,null,null,0," ",null,null,null,null,null,null,null,null,null,0," "]
[1,{"$f":"Calculations!AI5","v":1052850.6771466041},{"$f":"C66","v":41548.119999999995},{"$f":"C85/$C$14","v":0.36939017190978463},{"$f":"E84+D85","v":0.36939017190978463},{"$f":"E84+(0.5*D85)","v":0.18469508595489231},{"$f":"SQRT(D85)*B85","v":639896.07889307919},{"$f":"SQRT(D85)","v":0.60777477070851227},{"$f":"F85*SQRT(D85)","v":0.11225301351722364},null,null,1,{"$f":"Calculations!AJ5","v":1046897.3980211264},{"$f":"C85","v":41548.119999999995},{"$f":"N85/$C$14","v":0.36939017190978463},{"$f":"P84+O85","v":0.36939017190978463},{"$f":"P84+(0.5*O85)","v":0.18469508595489231},{"$f":"SQRT(O85)*M85","v":636277.82603762823},{"$f":"SQRT(O85)","v":0.60777477070851227},{"$f":"Q85*SQRT(O85)","v":0.11225301351722364}]
[2,{"$f":"Calculations!AI6","v":429034.64659863396},{"$f":"C67","v":19853.719999999998},{"$f":"C86/$C$14","v":0.17651265674232022},{"$f":"E85+D86","v":0.54590282865210482},{"$f":"E85+(0.5*D86)","v":0.45764650028094472},180252.08244178031,0.42013409376331295,0.19227289765948646,null,null,2,{"$f":"Calculations!AJ6","v":428757.63333586417},{"$f":"C86","v":19853.719999999998},{"$f":"N86/$C$14","v":0.17651265674232022},{"$f":"P85+O86","v":0.54590282865210482},{"$f":"P85+(0.5*O86)","v":0.45764650028094472},180135.69972566611,0.42013409376331295,0.19227289765948646]
[3,{"$f":"Calculations!AI7","v":283774.57718290249},15258.779999999999,{"$f":"C87/$C$14","v":0.13566061153509676},{"$f":"E86+D87","v":0.68156344018720161},{"$f":"E86+(0.5*D87)","v":0.61373313441965316},104520.23331014691,0.36832134276348522,0.22605101216788923,null,null,3,{"$f":"Calculations!AJ7","v":283742.89894627238},15258.779999999999,{"$f":"N87/$C$14","v":0.13566061153509676},{"$f":"P86+O87","v":0.68156344018720161},{"$f":"P86+(0.5*O87)","v":0.61373313441965316},104508.56553949494,0.36832134276348522,0.22605101216788923]
[4,{"$f":"Calculations!AI8","v":258060.42829423692},15163.36,{"$f":"C88/$C$14","v":0.13481226484206632},{"$f":"E87+D88","v":0.81637570502926793},{"$f":"E87+(0.5*D88)","v":0.74896957260823482},94751.504845208226,0.36716789734679461,0.27499758315129302,null,null,4,{"$f":"Calculations!AJ8","v":258055.17147255031},15163.36,{"$f":"N88/$C$14","v":0.13481226484206632},{"$f":"P87+O88","v":0.81637570502926793},{"$f":"P87+(0.5*O88)","v":0.74896957260823482},94749.574709042834,0.36716789734679461,0.27499758315129302]
[5,{"$f":"Calculations!AI9","v":326437.31280279951},20653.620000000003,{"$f":"C89/$C$14","v":0.18362429497073196},{"$f":"E88+D89","v":0.99999999999999989},{"$f":"E88+(0.5*D89)","v":0.90818785251463385},139882.97647461918,0.42851405457783059,0.3891712589993786,null,null,5,{"$f":"Calculations!AJ9","v":326434.62296215171},20653.620000000003,{"$f":"N89/$C$14","v":0.18362429497073196},{"$f":"P88+O89","v":0.99999999999999989},{"$f":"P88+(0.5*O89)","v":0.90818785251463385},139881.82384009703,0.42851405457783059,0.3891712589993786]
["Total",{"$f":"AVERAGE(B85:B89)","v":470031.5284050355},{"$f":"SUM(C85:C89)","v":112477.6},null,null,null,0,0,0,null,null,"Total",{"$f":"AVERAGE(M85:M89)","v":468777.54494759301},{"$f":"SUM(N85:N89)","v":112477.6},null,null,null,0,0,0]
[null,{"$f":"B85-B89","v":726413.36434380454},null,null,null,null,null,null,null,null,null,null,{"$f":"M85-M89","v":720462.77505897474}]
["Regression =",{"$f":"LINEST(G85:G89,H85:I89,0)","v":-1136075.6341535735},null,null,null,null,null,null,null,null,null,"Regression =",{"$f":"LINEST(R85:R89,S85:T89,0)","v":-1127141.6656962784}]
[]
["Slope Index Inequality =",{"$f":"B92","v":-1136075.6341535735},"Years of life lost difference between the top and bottom positions ",null,null,null,null,null,null,null,null,"Slope Index Inequality =",{"$f":"M92","v":-1127141.6656962784},"Years of life lost difference between the top and bottom positions "]
["Relative Index Inequality =",{"$f":"-B94/B90","v":2.4170200624809888},null,null,null,null,null,null,null,null,null,"Relative Index Inequality =",{"$f":"-M94/M90","v":2.4044275965101685}]
["According to the regresion equation the YOLL among those at the bottom is ",null,null,null,null,null,null,{"$f":"B95","v":2.4170200624809888},"times higher than the average",null,null,"According to the regresion equation the YOLL among those at the bottom is ",null,null,null,null,null,null,{"$f":"M95","v":2.4044275965101685},"times higher than the average"]
[]
[]
[]
["Hospital admissions: Both sexes combined - 20 YEARS, baseline",null,null,null,null,null,null,null,null,null,null,"Hospital admissions: Both sexes combined - 20 YEARS, policy"]
[null,"Y",null,"a",null,"b",null,null,null,null,null,null,"Y",null,"a",null,"b"]
["SIMD_Q","hospital admissions","Pop","proportion of total  population","Cumulative proportion","Relative rank","Y*√a","√a","b*√a",null,null,"SIMD_Q","hospital admissions","Pop","proportion of total  population","Cumulative proportion","Relative rank","Y*√a","√a","b*√a"]
[null,null,null,null,0," ",null,null,null,null,null,null,null,null,null,0," "]
[1,{"$f":"Calculations!AL5","v":2221468.1172579494},{"$f":"C85","v":41548.119999999995},{"$f":"C104/$C$14","v":0.36939017190978463},{"$f":"E103+D104","v":0.36939017190978463},{"$f":"E103+(0.5*D104)","v":0.18469508595489231},{"$f":"SQRT(D104)*B104","v":1350152.2756027207},{"$f":"SQRT(D104)","v":0.60777477070851227},{"$f":"F104*SQRT(D104)","v":0.11225301351722364},null,null,1,{"$f":"Calculations!AM5","v":2210555.4318499365},{"$f":"C104","v":41548.119999999995},{"$f":"N104/$C$14","v":0.36939017190978463},{"$f":"P103+O104","v":0.36939017190978463},{"$f":"P103+(0.5*O104)","v":0.18469508595489231},{"$f":"SQRT(O104)*M104","v":1343519.8207310515},{"$f":"SQRT(O104)","v":0.60777477070851227},{"$f":"Q104*SQRT(O104)","v":0.11225301351722364}]
[2,{"$f":"Calculations!AL6","v":938130.47399909352},{"$f":"C86","v":19853.719999999998},{"$f":"C105/$C$14","v":0.17651265674232022},{"$f":"E104+D105","v":0.54590282865210482},{"$f":"E104+(0.5*D105)","v":0.45764650028094472},394140.59652535641,0.42013409376331295,0.19227289765948646,null,null,2,{"$f":"Calculations!AM6","v":937595.65709111001},{"$f":"C105","v":19853.719999999998},{"$f":"N105/$C$14","v":0.17651265674232022},{"$f":"P104+O105","v":0.54590282865210482},{"$f":"P104+(0.5*O105)","v":0.45764650028094472},393915.90170839144,0.42013409376331295,0.19227289765948646]
[3,{"$f":"Calculations!AL7","v":635199.57101489021},15258.779999999999,{"$f":"C106/$C$14","v":0.13566061153509676},{"$f":"E105+D106","v":0.68156344018720161},{"$f":"E105+(0.5*D106)","v":0.61373313441965316},233957.55891899415,0.36832134276348522,0.22605101216788923,null,null,3,{"$f":"Calculations!AM7","v":635135.76074633258},15258.779999999999,{"$f":"N106/$C$14","v":0.13566061153509676},{"$f":"P105+O106","v":0.68156344018720161},{"$f":"P105+(0.5*O106)","v":0.61373313441965316},233934.05623519691,0.36832134276348522,0.22605101216788923]
[4,{"$f":"Calculations!AL8","v":585157.33162259706},15163.36,{"$f":"C107/$C$14","v":0.13481226484206632},{"$f":"E106+D107","v":0.81637570502926793},{"$f":"E106+(0.5*D107)","v":0.74896957260823482},214850.98706892997,0.36716789734679461,0.27499758315129302,null,null,4,{"$f":"Calculations!AM8","v":585146.5249448336},15163.36,{"$f":"N107/$C$14","v":0.13481226484206632},{"$f":"P106+O107","v":0.81637570502926793},{"$f":"P106+(0.5*O107)","v":0.74896957260823482},214847.01920377827,0.36716789734679461,0.27499758315129302]
[5,{"$f":"Calculations!AL9","v":752825.07116328436},20653.620000000003,{"$f":"C108/$C$14","v":0.18362429497073196},{"$f":"E107+D108","v":0.99999999999999989},{"$f":"E107+(0.5*D108)","v":0.90818785251463385},322596.12363202282,0.42851405457783059,0.3891712589993786,null,null,5,{"$f":"Calculations!AM9","v":752819.38261412177},20653.620000000003,{"$f":"N108/$C$14","v":0.18362429497073196},{"$f":"P107+O108","v":0.99999999999999989},{"$f":"P107+(0.5*O108)","v":0.90818785251463385},322593.68600875651,0.42851405457783059,0.3891712589993786]
["Total",{"$f":"AVERAGE(B104:B108)","v":1026556.113011563},{"$f":"SUM(C104:C108)","v":112477.6},null,null,null,0,0,0,null,null,"Total",{"$f":"AVERAGE(M104:M108)","v":1024250.5514492668},{"$f":"SUM(N104:N108)","v":112477.6},null,null,null,0,0,0]
[null,{"$f":"B104-B108","v":1468643.0460946651},null,null,null,null,null,null,null,null,null,null,{"$f":"M104-M108","v":1457736.0492358147}]
["Regression =",{"$f":"LINEST(G104:G108,H104:I108,0)","v":-2313688.8505780795},null,null,null,null,null,null,null,null,null,"Regression =",{"$f":"LINEST(R104:R108,S104:T108,0)","v":-2297312.1749125486}]
[]
["Slope Index Inequality =",{"$f":"B111","v":-2313688.8505780795},"Years of life lost difference between the top and bottom positions ",null,null,null,null,null,null,null,null,"Slope Index Inequality =",{"$f":"M111","v":-2297312.1749125486},"Years of life lost difference between the top and bottom positions "]
["Relative Index Inequality =",{"$f":"-B113/B109","v":2.2538357341134634},null,null,null,null,null,null,null,null,null,"Relative Index Inequality =",{"$f":"-M113/M109","v":2.2429201250240567}]
["According to the regresion equation the YOLL among those at the bottom is ",null,null,null,null,null,null,{"$f":"B114","v":2.2538357341134634},"times higher than the average",null,null,"According to the regresion equation the YOLL among those at the bottom is ",null,null,null,null,null,null,{"$f":"M114","v":2.2429201250240567},"times higher than the average"]

{"sheet":"RateRatios","index":5,"n_rows":28,"n_cols":8,"rows_kept":28,"cut":false,"hidden":false,"merged":[]}
["Intervention Rate Ratios by SIMD and Income Intervention"]
[]
["Income intervention selected",{"$f":"C3","v":4},{"$f":"IF('III Tool Overview'!$H$10=\"Introduction of a Living Wage\",1,IF('III Tool Overview'!$H$10=\"10% rise in Working Tax Credit \",2,IF('III Tool Overview'!$H$10=\"10% rise in council tax\",3,IF('III Tool Overview'!$H$10=\"10% rise in JSA/IS \",4,IF('III Tool Overview'!$H$10=\"1p on standard rate of income tax \",5)))))","v":4}]
[]
[null,null,"SIMD1","SIMD2","SIMD3","SIMD4","SIMD5"]
["Mortality","Introduction of a Living Wage",0.99258036594780574,0.99016821624307849,0.98894943585683148,0.99369215454483428,0.99774850542501492,"(Living Wage)"]
[null,"10% rise in Working Tax Credit ",0.99893713148731689,0.99863606571080754,0.99907305599294993,0.99984513535651387,0.99996109138473055,"(10% increase WTC (basic and 30-hour amounts))"]
[null,"10% rise in council tax",1.0017553523622162,1.0015779963788314,1.0019531618118256,1.0015875664080145,1.0010880873205628,"(10% rise council tax)"]
[null,"10% rise in JSA/IS ",0.99159028806020866,0.99907499519866461,0.99984353716713137,0.99997180275026509,0.99998876577448781,"(10% increase JSA/IS)"]
[null,"1p on standard rate of income tax ",1.0006919815567346,1.0012650644130396,1.0026129313434551,1.0037837223106947,1.0051572175196872,"(1p on SRIT)"]
[]
[]
[null,null,"SIMD1","SIMD2","SIMD3","SIMD4","SIMD5"]
["Hospitalisation","Introduction of a Living Wage",0.99422704789521965,0.99234817402014464,0.99139845314042552,0.99509270104188663,0.99824920325497413,"(Living Wage)"]
[null,"10% rise in Working Tax Credit ",0.99917360657991883,0.99893948865063031,0.99927930047467173,0.99987960299560119,0.99996975151872869,"(10% increase WTC (basic and 30-hour amounts))"]
[null,"10% rise in council tax",1.0013643802953487,1.0012265512371579,1.0015180979953255,1.0012339885543198,1.0008457988658876,"(10% rise council tax)"]
[null,"10% rise in JSA/IS ",0.99345597861446755,0.99928080836359889,0.99987836048755896,0.99997807881473455,0.99999126627326529,"(10% increase JSA/IS)"]
[null,"1p on standard rate of income tax ",1.000537919144689,1.0009833484583368,1.0020307559935846,1.002940306071709,1.0040070296670887,"(1p on SRIT)"]
[]
[]
[]
[]
[]
[null,"Introduction of a Living Wage"]
[null,"10% rise in Working Tax Credit "]
[null,"10% rise in council tax"]
[null,"10% rise in JSA/IS "]
[null,"1p on standard rate of income tax "]

{"sheet":"Income","index":6,"n_rows":25,"n_cols":16,"rows_kept":25,"cut":false,"hidden":false,"merged":[]}
["Age","Sex","SIMDquintile","N","Mortality policy 5 years","Mortality baseline 5 years","Difference in mortality","Same as E to G for 20 years",null,null,"Same as E to G for YLL",null,null,"Same as E to G for hospitalisation count"]
[45,"Female",2,1000,{"$f":"new_ci(5,A2,B2,C2,2010,D2,1,D2,D2,SIMDrateratios,3)","v":11.613784037358354},{"$f":"new_ci(5,A2,B2,C2,2010,0,1,D2,D2,SIMDrateratios,3)","v":11.59559290053458},{"$f":"F2-E2","v":-1.8191136823773491E-2},{"$f":"new_ci(20,A2,B2,C2,2010,D2,1,D2,D2,SIMDrateratios,3)","v":93.8995533766156},{"$f":"new_ci(20,A2,B2,C2,2010,0,1,D2,D2,SIMDrateratios,3)","v":93.758776692218987},{"$f":"new_ci(20,A2,B2,C2,2010,0,1,D2,D2,SIMDrateratios,3)","v":93.758776692218987},{"$f":"new_yll(5,A2,B2,C2,2010,D2,1,D2,D2,SIMDrateratios,3)","v":608.78094661604223},{"$f":"new_yll(5,A2,B2,C2,2010,0,1,D2,D2,SIMDrateratios,3)","v":607.82732204438173},{"$f":"L2-K2","v":-0.95362457166049808},{"$f":"hosp_count(5,A2,B2,C2,2010,D2,1,D2,D2,SIMDRateRatios_hosp,SIMDrateratios,3)","v":938.83212906017093},{"$f":"hosp_count(5,A2,B2,C2,2010,0,1,D2,D2,SIMDRateRatios_hosp,SIMDrateratios,3)","v":937.68824195611182},{"$f":"O2-N2","v":-1.1438871040591039}]
[{"$f":"A2+10","v":55},"Female",2,1000,{"$f":"new_ci(5,A3,B3,C3,2010,D3,1,D3,D3,SIMDrateratios,3)","v":26.156044799642952},{"$f":"new_ci(5,A3,B3,C3,2010,0,1,D3,D3,SIMDrateratios,3)","v":26.115378529411039},{"$f":"F3-E3","v":-4.066627023191316E-2},{"$f":"new_ci(20,A3,B3,C3,2010,D3,1,D3,D3,SIMDrateratios,3)","v":200.46158333115926},200.17971695768168,200.17971695768168,1109.6295815369463,1107.9040383092213,{"$f":"L3-K3","v":-1.7255432277249838},1194.823756115542,1193.3779683379385,{"$f":"O3-N3","v":-1.4457877776035275}]
[{"$f":"A3+10","v":65},"Female",2,1000,58.361826424146223,58.272609495296003,-8.9216928850220256E-2,398.05537198843064,397.57379653851842,397.57379653851842,1892.9033649241994,1890.0079882780747,-2.8953766461247596,1510.4359822643464,1508.6366999657039,-1.7992822986425381]
[75,"Female",2,1000,127.53761706948575,127.35005597133676,-0.18756109814898991,683.88451941544156,683.31042847952972,683.31042847952972,2864.2039240605991,2859.9831946569961,-4.2207294036029452,1880.9984741728051,1878.8362332532915,-2.1622409195135788]
[45,"Male",2,1000,11.613784037358354,11.59559290053458,{"$f":"F6-E6","v":-1.8191136823773491E-2},93.8995533766156,93.758776692218987,93.758776692218987,608.78094661604223,607.82732204438173,-0.95362457166049808,938.83212906017093,937.68824195611182,-1.1438871040591039]
[{"$f":"A6+10","v":55},"Male",2,1000,26.156044799642952,26.115378529411039,{"$f":"F7-E7","v":-4.066627023191316E-2},200.46158333115926,200.17971695768168,200.17971695768168,1109.6295815369463,1107.9040383092213,-1.7255432277249838,1194.823756115542,1193.3779683379385,-1.4457877776035275]
[{"$f":"A7+10","v":65},"Male",2,1000,58.361826424146223,58.272609495296003,-8.9216928850220256E-2,398.05537198843064,397.57379653851842,397.57379653851842,1892.9033649241994,1890.0079882780747,-2.8953766461247596,1510.4359822643464,1508.6366999657039,-1.7992822986425381]
[75,"Male",2,1000,127.53761706948575,127.35005597133676,-0.18756109814898991,683.88451941544156,683.31042847952972,683.31042847952972,2864.2039240605991,2859.9831946569961,-4.2207294036029452,1880.9984741728051,1878.8362332532915,-2.1622409195135788]
[45,"Female",3,1000,9.5273289824377994,9.5088454229936836,{"$f":"F10-E10","v":-1.8483559444115727E-2},77.62672231766588,77.481420359896916,77.481420359896916,499.40515783769047,498.43622816949221,-0.96892966819825688,813.58537977296749,812.35762262741946,-1.2277571455480256]
[{"$f":"A10+10","v":55},"Female",3,1000,21.485583068815206,21.444152373688574,{"$f":"F11-E11","v":-4.1430695126631889E-2},167.51116120620622,167.21358834982692,167.21358834982692,911.46045922322833,909.70260514831864,-1.7578540749096874,1036.4215593882977,1034.8663347232939,-1.5552246650038342]
[{"$f":"A11+10","v":65},"Female",3,1000,48.084475018321804,47.993027525089047,-9.1447493232756472E-2,340.29438479539323,339.75924124901502,339.75924124901502,1559.4057625426371,1556.4386333305113,-2.967129212125883,1313.026403193038,1311.0812269708531,-1.9451762221849549]
[75,"Female",3,1000,105.7830543225845,105.58813742179962,-0.19491690078488944,610.83680754119314,610.1201988509797,610.1201988509797,2374.8337612830246,2370.4506938604222,-4.3830674226023802,1643.0298483667416,1640.6657821845733,-2.3640661821682443]
[45,"Male",3,1000,9.5273289824377994,9.5088454229936836,{"$f":"F14-E14","v":-1.8483559444115727E-2},77.62672231766588,77.481420359896916,77.481420359896916,499.40515783769047,498.43622816949221,-0.96892966819825688,813.58537977296749,812.35762262741946,-1.2277571455480256]
[{"$f":"A14+10","v":55},"Male",3,1000,21.485583068815206,21.444152373688574,{"$f":"F15-E15","v":-4.1430695126631889E-2},167.51116120620622,167.21358834982692,167.21358834982692,911.46045922322833,909.70260514831864,-1.7578540749096874,1036.4215593882977,1034.8663347232939,-1.5552246650038342]
[{"$f":"A15+10","v":65},"Male",3,1000,48.084475018321804,47.993027525089047,-9.1447493232756472E-2,340.29438479539323,339.75924124901502,339.75924124901502,1559.4057625426371,1556.4386333305113,-2.967129212125883,1313.026403193038,1311.0812269708531,-1.9451762221849549]
[75,"Male",3,1000,105.7830543225845,105.58813742179962,-0.19491690078488944,610.83680754119314,610.1201988509797,610.1201988509797,2374.8337612830246,2370.4506938604222,-4.3830674226023802,1643.0298483667416,1640.6657821845733,-2.3640661821682443]
[45,"Female",4,1000,7.583467911684072,7.5714933563166831,{"$f":"F18-E18","v":-1.1974555367388895E-2},62.234767697440738,62.13925293086875,62.13925293086875,397.50688327254909,396.8791778332793,-0.62770543926978917,715.11851156030366,714.24026366914154,-0.87824789116211832]
[{"$f":"A18+10","v":55},"Female",4,1000,17.123065476483902,17.096157898221385,{"$f":"F19-E19","v":-2.6907578262516552E-2},135.65799045527882,135.45823584389893,135.45823584389893,726.37019270808446,725.22861205984486,-1.1415806482395965,911.8007143790328,910.6859362108255,-1.1147781682072946]
[{"$f":"A19+10","v":65},"Female",4,1000,38.428363882985096,38.368636787736612,-5.9727095248483408E-2,281.62889254626214,281.25216232536877,281.25216232536877,1246.1319155757278,1244.1943783757461,-1.9375371999817617,1157.4767346750464,1156.0759510113826,-1.4007836636637876]
[75,"Female",4,1000,85.070103734701036,84.941159650969269,-0.12894408373176702,527.85392001132766,527.29195509169926,527.29195509169926,1909.2198323984876,1906.3222211682714,-2.897611230216171,1454.9145598481659,1453.1941748120123,-1.7203850361536297]
[45,"Male",4,1000,7.583467911684072,7.5714933563166831,{"$f":"F22-E22","v":-1.1974555367388895E-2},62.234767697440738,62.13925293086875,62.13925293086875,397.50688327254909,396.8791778332793,-0.62770543926978917,715.11851156030366,714.24026366914154,-0.87824789116211832]
[{"$f":"A22+10","v":55},"Male",4,1000,17.123065476483902,17.096157898221385,{"$f":"F23-E23","v":-2.6907578262516552E-2},135.65799045527882,135.45823584389893,135.45823584389893,726.37019270808446,725.22861205984486,-1.1415806482395965,911.8007143790328,910.6859362108255,-1.1147781682072946]
[{"$f":"A23+10","v":65},"Male",4,1000,38.428363882985096,38.368636787736612,-5.9727095248483408E-2,281.62889254626214,281.25216232536877,281.25216232536877,1246.1319155757278,1244.1943783757461,-1.9375371999817617,1157.4767346750464,1156.0759510113826,-1.4007836636637876]
[75,"Male",4,1000,85.070103734701036,84.941159650969269,-0.12894408373176702,527.85392001132766,527.29195509169926,527.29195509169926,1909.2198323984876,1906.3222211682714,-2.897611230216171,1454.9145598481659,1453.1941748120123,-1.7203850361536297]